Workbook
Name Chart1Realization: OFFSET(Calc!$AB$12,0,0,Calc!$AB$10,1)
Name Chart1SalesRepNames: OFFSET(Calc!$AA$12,0,0,Calc!$AB$10,1)
Name Chart2SalesRepNames: OFFSET(Calc!$AJ$12,0,0,Calc!$AK$10,1)
Name Chart2Share: OFFSET(Calc!$AK$12,0,0,Calc!$AK$10,1)
Name SalesRepNames: OFFSET(Calc!$S$12,0,0,Calc!$AA$10,1)

Sheet Dashboard
D2: SALES TARGET EXCEL TEMPLATE
D3: DASHBOARD
C7: SALES REP SUMMARY | K7: Rich Abrams
C9: =$K$7&" - Year Total" -> Rich Abrams - Year Total | H9: =$K$7&" - Monthly Performance" -> Rich Abrams - Monthly Performance
D11: Target: | E11: =IFERROR(INDEX(Calc!$Q$12:$Q$23,MATCH($K$7,Calc!$D$12:$D$23,0),1),"-") -> 150000
D13: Actual: | E13: =IFERROR(INDEX(Calc!$Q$27:$Q$38,MATCH($K$7,Calc!$D$27:$D$38,0),1),"-") -> 139950
D15: REALIZATION
D16: =IFERROR($E$13/$E$11,"-") -> 0.933
C21: TEAM SUMMARY
C23: Team Year Total | H23: Team Monthly Performance
D25: Target: | E25: =IF(SUM(Calc!$Q$12:$Q$23)=0,"-",SUM(Calc!$Q$12:$Q$23)) -> 1291000
D27: Actual: | E27: =IF(SUM(Calc!$Q$27:$Q$38)=0,"-",SUM(Calc!$Q$27:$Q$38)) -> 1285775
D29: REALIZATION
D30: =IFERROR($E$27/$E$25,"-") -> 0.99595275
C35: Sales Realization - Top 5 | J35: Actual Sales Shares - Top 5

Sheet Database
B2: SALES TARGET EXCEL TEMPLATE
B3: DATABASE
B6: SALES - TARGETS
B7: Sales Reps | C7: Jan | D7: Feb | E7: Mar | F7: Apr | G7: May | H7: Jun | I7: Jul | J7: Aug | K7: Sep | L7: Oct | M7: Nov | N7: Dec | O7: Total
B8: Rich Abrams | C8: 12000 | D8: 13000 | E8: 12500 | F8: 12000 | G8: 13000 | H8: 12500 | I8: 12000 | J8: 13000 | K8: 12500 | L8: 12000 | M8: 13000 | N8: 12500 | O8: =IF(OR(LEN(B8)=0,SUM(C8:N8)=0),"",SUM(C8:N8)) -> 150000
B9: Corby May | C9: 12500 | D9: 14000 | E9: 24000 | F9: 12500 | G9: 14000 | H9: 24000 | I9: 12500 | J9: 14000 | K9: 24000 | L9: 12500 | M9: 14000 | N9: 23000 | O9: =IF(OR(LEN(B9)=0,SUM(C9:N9)=0),"",SUM(C9:N9)) -> 201000
B10: Nicole Andres | C10: 20250 | D10: 12000 | E10: 21000 | F10: 20250 | G10: 12000 | H10: 21000 | I10: 20250 | J10: 12000 | K10: 21000 | L10: 20250 | M10: 12000 | N10: 21000 | O10: =IF(OR(LEN(B10)=0,SUM(C10:N10)=0),"",SUM(C10:N10)) -> 213000
B11: Geri Pell | C11: 20000 | D11: 15000 | E11: 15500 | F11: 20000 | G11: 15000 | H11: 15500 | I11: 20000 | J11: 15000 | K11: 15500 | L11: 20000 | M11: 15000 | N11: 15500 | O11: =IF(OR(LEN(B11)=0,SUM(C11:N11)=0),"",SUM(C11:N11)) -> 202000
B12: Frank Sabia | C12: 17500 | D12: 14000 | E12: 16000 | F12: 17500 | G12: 14000 | H12: 16000 | I12: 17500 | J12: 14000 | K12: 16000 | L12: 17500 | M12: 14000 | N12: 16000 | O12: =IF(OR(LEN(B12)=0,SUM(C12:N12)=0),"",SUM(C12:N12)) -> 190000
B13: Michael Bapis | C13: 12500 | D13: 22000 | E13: 7500 | F13: 12500 | G13: 22000 | H13: 7500 | I13: 12500 | J13: 22000 | K13: 7500 | L13: 12500 | M13: 22000 | N13: 7500 | O13: =IF(OR(LEN(B13)=0,SUM(C13:N13)=0),"",SUM(C13:N13)) -> 168000
B14: Peter Rohr | C14: 18000 | D14: 14750 | E14: 9000 | F14: 18000 | G14: 14750 | H14: 9000 | I14: 18000 | J14: 14750 | K14: 9000 | L14: 18000 | M14: 14750 | N14: 9000 | O14: =IF(OR(LEN(B14)=0,SUM(C14:N14)=0),"",SUM(C14:N14)) -> 167000
O15: =IF(OR(LEN(B15)=0,SUM(C15:N15)=0),"",SUM(C15:N15))
O16: =IF(OR(LEN(B16)=0,SUM(C16:N16)=0),"",SUM(C16:N16))
O17: =IF(OR(LEN(B17)=0,SUM(C17:N17)=0),"",SUM(C17:N17))
O18: =IF(OR(LEN(B18)=0,SUM(C18:N18)=0),"",SUM(C18:N18))
O19: =IF(OR(LEN(B19)=0,SUM(C19:N19)=0),"",SUM(C19:N19))
B109: SALES - ACTUAL
B110: Sales Reps | C110: Jan | D110: Feb | E110: Mar | F110: Apr | G110: May | H110: Jun | I110: Jul | J110: Aug | K110: Sep | L110: Oct | M110: Nov | N110: Dec | O110: Total
B111: =IF(LEN($B8)=0,"",$B8) -> Rich Abrams | C111: 13200 | D111: 9100 | E111: 8750 | F111: 8400 | G111: 11700 | H111: 10000 | I111: 13200 | J111: 13000 | K111: 13750 | L111: 13200 | M111: 16900 | N111: 8750 | O111: =IF(OR(LEN(B111)=0,SUM(C111:N111)=0),"",SUM(C111:N111)) -> 139950
B112: =IF(LEN($B9)=0,"",$B9) -> Corby May | C112: 15000 | D112: 18200 | E112: 24000 | F112: 16250 | G112: 15400 | H112: 31200 | I112: 13750 | J112: 11200 | K112: 31200 | L112: 11250 | M112: 16800 | N112: 19200 | O112: =IF(OR(LEN(B112)=0,SUM(C112:N112)=0),"",SUM(C112:N112)) -> 223450
B113: =IF(LEN($B10)=0,"",$B10) -> Nicole Andres | C113: 14175 | D113: 9600 | E113: 16800 | F113: 14175 | G113: 15600 | H113: 21000 | I113: 16200 | J113: 10800 | K113: 25200 | L113: 18225 | M113: 14400 | N113: 25200 | O113: =IF(OR(LEN(B113)=0,SUM(C113:N113)=0),"",SUM(C113:N113)) -> 201375
B114: =IF(LEN($B11)=0,"",$B11) -> Geri Pell | C114: 20000 | D114: 16500 | E114: 17050 | F114: 20000 | G114: 13500 | H114: 18600 | I114: 14000 | J114: 13500 | K114: 13950 | L114: 16000 | M114: 18000 | N114: 18600 | O114: =IF(OR(LEN(B114)=0,SUM(C114:N114)=0),"",SUM(C114:N114)) -> 199700
B115: =IF(LEN($B12)=0,"",$B12) -> Frank Sabia | C115: 19250 | D115: 9800 | E115: 11200 | F115: 15750 | G115: 9800 | H115: 17600 | I115: 19250 | J115: 15400 | K115: 20800 | L115: 12250 | M115: 9800 | N115: 20800 | O115: =IF(OR(LEN(B115)=0,SUM(C115:N115)=0),"",SUM(C115:N115)) -> 181700
B116: =IF(LEN($B13)=0,"",$B13) -> Michael Bapis | C116: 8750 | D116: 24200 | E116: 5250 | F116: 12500 | G116: 26400 | H116: 7500 | I116: 13750 | J116: 26400 | K116: 5250 | L116: 11250 | M116: 19800 | N116: 9750 | O116: =IF(OR(LEN(B116)=0,SUM(C116:N116)=0),"",SUM(C116:N116)) -> 170800
B117: =IF(LEN($B14)=0,"",$B14) -> Peter Rohr | C117: 16200 | D117: 17700 | E117: 6300 | F117: 18000 | G117: 10325 | H117: 7200 | I117: 23400 | J117: 13275 | K117: 6300 | L117: 23400 | M117: 17700 | N117: 9000 | O117: =IF(OR(LEN(B117)=0,SUM(C117:N117)=0),"",SUM(C117:N117)) -> 168800
B118: =IF(LEN($B15)=0,"",$B15) | O118: =IF(OR(LEN(B118)=0,SUM(C118:N118)=0),"",SUM(C118:N118))
B119: =IF(LEN($B16)=0,"",$B16) | O119: =IF(OR(LEN(B119)=0,SUM(C119:N119)=0),"",SUM(C119:N119))
B120: =IF(LEN($B17)=0,"",$B17) | O120: =IF(OR(LEN(B120)=0,SUM(C120:N120)=0),"",SUM(C120:N120))
B121: =IF(LEN($B18)=0,"",$B18) | O121: =IF(OR(LEN(B121)=0,SUM(C121:N121)=0),"",SUM(C121:N121))
B122: =IF(LEN($B19)=0,"",$B19) | O122: =IF(OR(LEN(B122)=0,SUM(C122:N122)=0),"",SUM(C122:N122))

Sheet Calc
Z2: Jan | AA2: Feb | AB2: Mar | AC2: Apr | AD2: May | AE2: Jun | AF2: Jul | AG2: Aug | AH2: Sep | AI2: Oct | AJ2: Nov | AK2: Dec
Y3: Target | Z3: =IFERROR(INDEX($E$12:$P$23,MATCH(Dashboard!$K$7,$D$12:$D$23,0),MATCH(Z$2,$E$11:$P$11,0)),"") -> 12000 | AA3: =IFERROR(INDEX($E$12:$P$23,MATCH(Dashboard!$K$7,$D$12:$D$23,0),MATCH(AA$2,$E$11:$P$11,0)),"") -> 13000 | AB3: =IFERROR(INDEX($E$12:$P$23,MATCH(Dashboard!$K$7,$D$12:$D$23,0),MATCH(AB$2,$E$11:$P$11,0)),"") -> 12500 | AC3: =IFERROR(INDEX($E$12:$P$23,MATCH(Dashboard!$K$7,$D$12:$D$23,0),MATCH(AC$2,$E$11:$P$11,0)),"") -> 12000 | AD3: =IFERROR(INDEX($E$12:$P$23,MATCH(Dashboard!$K$7,$D$12:$D$23,0),MATCH(AD$2,$E$11:$P$11,0)),"") -> 13000 | AE3: =IFERROR(INDEX($E$12:$P$23,MATCH(Dashboard!$K$7,$D$12:$D$23,0),MATCH(AE$2,$E$11:$P$11,0)),"") -> 12500 | AF3: =IFERROR(INDEX($E$12:$P$23,MATCH(Dashboard!$K$7,$D$12:$D$23,0),MATCH(AF$2,$E$11:$P$11,0)),"") -> 12000 | AG3: =IFERROR(INDEX($E$12:$P$23,MATCH(Dashboard!$K$7,$D$12:$D$23,0),MATCH(AG$2,$E$11:$P$11,0)),"") -> 13000 | ... AK3: =IFERROR(INDEX($E$12:$P$23,MATCH(Dashboard!$K$7,$D$12:$D$23,0),MATCH(AK$2,$E$11:$P$11,0)),"") -> 12500
Y4: Actual | Z4: =IFERROR(INDEX($E$27:$P$38,MATCH(Dashboard!$K$7,$D$27:$D$38,0),MATCH(Z$2,$E$26:$P$26,0)),"") -> 13200 | AA4: =IFERROR(INDEX($E$27:$P$38,MATCH(Dashboard!$K$7,$D$27:$D$38,0),MATCH(AA$2,$E$26:$P$26,0)),"") -> 9100 | AB4: =IFERROR(INDEX($E$27:$P$38,MATCH(Dashboard!$K$7,$D$27:$D$38,0),MATCH(AB$2,$E$26:$P$26,0)),"") -> 8750 | AC4: =IFERROR(INDEX($E$27:$P$38,MATCH(Dashboard!$K$7,$D$27:$D$38,0),MATCH(AC$2,$E$26:$P$26,0)),"") -> 8400 | AD4: =IFERROR(INDEX($E$27:$P$38,MATCH(Dashboard!$K$7,$D$27:$D$38,0),MATCH(AD$2,$E$26:$P$26,0)),"") -> 11700 | AE4: =IFERROR(INDEX($E$27:$P$38,MATCH(Dashboard!$K$7,$D$27:$D$38,0),MATCH(AE$2,$E$26:$P$26,0)),"") -> 10000 | AF4: =IFERROR(INDEX($E$27:$P$38,MATCH(Dashboard!$K$7,$D$27:$D$38,0),MATCH(AF$2,$E$26:$P$26,0)),"") -> 13200 | AG4: =IFERROR(INDEX($E$27:$P$38,MATCH(Dashboard!$K$7,$D$27:$D$38,0),MATCH(AG$2,$E$26:$P$26,0)),"") -> 13000 | ... AK4: =IFERROR(INDEX($E$27:$P$38,MATCH(Dashboard!$K$7,$D$27:$D$38,0),MATCH(AK$2,$E$26:$P$26,0)),"") -> 8750
Z6: Jan | AA6: Feb | AB6: Mar | AC6: Apr | AD6: May | AE6: Jun | AF6: Jul | AG6: Aug | AH6: Sep | AI6: Oct | AJ6: Nov | AK6: Dec
Y7: Target | Z7: =SUM(E$12:E$23) -> 112750 | AA7: =SUM(F$12:F$23) -> 104750 | AB7: =SUM(G$12:G$23) -> 105500 | AC7: =SUM(H$12:H$23) -> 112750 | AD7: =SUM(I$12:I$23) -> 104750 | AE7: =SUM(J$12:J$23) -> 105500 | AF7: =SUM(K$12:K$23) -> 112750 | AG7: =SUM(L$12:L$23) -> 104750 | ... AK7: =SUM(P$12:P$23) -> 104500
Y8: Actual | Z8: =SUM(E$27:E$38) -> 106575 | AA8: =SUM(F$27:F$38) -> 105100 | AB8: =SUM(G$27:G$38) -> 89350 | AC8: =SUM(H$27:H$38) -> 105075 | AD8: =SUM(I$27:I$38) -> 102725 | AE8: =SUM(J$27:J$38) -> 113100 | AF8: =SUM(K$27:K$38) -> 113550 | AG8: =SUM(L$27:L$38) -> 103575 | ... AK8: =SUM(P$27:P$38) -> 111300
B9: There is one more table in the below. Please be careful!
B10: SALES - TARGETS | AA10: =IF(COUNTIF($AA$12:$AA$23,"><0")=0,1,COUNTIF($AA$12:$AA$23,"><0")) -> 7 | AB10: =IFERROR(MAX(MIN($AA$10,INDEX(Calc!$AM$12:$AN$15,MATCH(Dashboard!$C$35,Calc!$AM$12:$AM$15,0),2)),1),3) -> 5 | AJ10: =IF(COUNTIF($AJ$12:$AJ$23,"><0")=0,1,COUNTIF($AJ$12:$AJ$23,"><0")) -> 7 | AK10: =IFERROR(MAX(MIN($AJ$10,INDEX($AM$17:$AN$20,MATCH(Dashboard!$J$35,Calc!$AM$17:$AM$20,0),2)),1),3) -> 5
B11: Index | C11: Status | D11: Sales Reps | E11: Jan | F11: Feb | G11: Mar | H11: Apr | I11: May | J11: Jun | K11: Jul | L11: Aug | M11: Sep | N11: Oct | O11: Nov | P11: Dec | Q11: Total | S11: Sales Rep without Duplicates | U11: Index | V11: Count of Same Values | W11: Rank | X11: Rank without Duplicates | Y11: Sales Rep | Z11: Realization | AA11: Sales Rep - Sort | AB11: Realization - Sort | AD11: Index | AE11: Count of Same Values | AF11: Rank | AG11: Rank without Duplicates | AH11: Sales Rep | AI11: Share | AJ11: Sales Rep - Sort | AK11: Share - Sort
B12: 1 | C12: =IF(LEN(INDEX(Database!B$8:B$19,$B12,1))>0,"Active","Passive") -> Active | D12: =IF($C12="Passive","",INDEX(Database!B$8:B$19,$B12,1)) -> Rich Abrams | E12: =IF($C12="Passive","",INDEX(Database!C$8:C$19,$B12,1)) -> 12000 | F12: =IF($C12="Passive","",INDEX(Database!D$8:D$19,$B12,1)) -> 13000 | G12: =IF($C12="Passive","",INDEX(Database!E$8:E$19,$B12,1)) -> 12500 | H12: =IF($C12="Passive","",INDEX(Database!F$8:F$19,$B12,1)) -> 12000 | I12: =IF($C12="Passive","",INDEX(Database!G$8:G$19,$B12,1)) -> 13000 | J12: =IF($C12="Passive","",INDEX(Database!H$8:H$19,$B12,1)) -> 12500 | K12: =IF($C12="Passive","",INDEX(Database!I$8:I$19,$B12,1)) -> 12000 | ... Q12: =IF($C12="Passive","",INDEX(Database!O$8:O$19,$B12,1)) -> 150000 | S12: =IFERROR(INDEX($D$12:$D$23, MATCH(0,INDEX((LEN($D$12:$D$23)=0)+COUNTIF($S$11:$S11,$D$12:$D$23),0),0)),"") -> Rich Abrams | U12: 1 | V12: =IF(LEN($Y12)=0,"",COUNTIF($Z$12:$Z12,$Z12)) -> 1 | W12: =IFERROR(RANK($Z12,$Z$12:$Z$23,0),"") -> 7 | X12: =IFERROR(IF($V12=1,$W12,$W12+$V12-1),"") -> 7 | Y12: =IF(LEN(INDEX($D$12:$D$23,$U12,1))=0,"",INDEX($D$12:$D$23,$U12,1)) -> Rich Abrams | Z12: =IFERROR(INDEX($D$27:$Q$38,MATCH($Y12,$D$27:$D$38,0),MATCH("Total",$D$26:$Q$26,0))/INDEX($D$12:$Q$23,MATCH($Y12,$D$12:$D$23,0),MATCH("Total",$D$11:$Q$11,0)),0) -> 0.933 | AA12: =IFERROR(INDEX($Y$12:$Y$23,MATCH($U12,$X$12:$X$23,0),1),"") -> Corby May | AB12: =IFERROR(INDEX($Z$12:$Z$23,MATCH($U12,$X$12:$X$23,0),1),"") -> 1.1116915 | AD12: 1 | AE12: =IF(LEN($AH12)=0,"",COUNTIF($AI$12:$AI12,$AI12)) -> 1 | AF12: =IFERROR(RANK($AI12,$AI$12:$AI$23,0),"") -> 7 | AG12: =IFERROR(IF($AE12=1,$AF12,$AF12+$AE12-1),"") -> 7 | AH12: =IF(LEN(INDEX($D$12:$D$23,$AD12,1))=0,"",INDEX($D$12:$D$23,$AD12,1)) -> Rich Abrams | AI12: =IFERROR(INDEX($D$27:$Q$38,MATCH($AH12,$D$27:$D$38,0),MATCH("Total",$D$26:$Q$26,0))/SUM($Q$27:$Q$38),0) -> 0.10884486 | AJ12: =IFERROR(INDEX($AH$12:$AH$23,MATCH($AD12,$AG$12:$AG$23,0),1),"") -> Corby May | AK12: =IFERROR(INDEX($AI$12:$AI$23,MATCH($AD12,$AG$12:$AG$23,0),1),"") -> 0.17378624 | AM12: Sales Realization - Top 3 | AN12: 3
B13: 2 | C13: =IF(LEN(INDEX(Database!B$8:B$19,$B13,1))>0,"Active","Passive") -> Active | D13: =IF($C13="Passive","",INDEX(Database!B$8:B$19,$B13,1)) -> Corby May | E13: =IF($C13="Passive","",INDEX(Database!C$8:C$19,$B13,1)) -> 12500 | F13: =IF($C13="Passive","",INDEX(Database!D$8:D$19,$B13,1)) -> 14000 | G13: =IF($C13="Passive","",INDEX(Database!E$8:E$19,$B13,1)) -> 24000 | H13: =IF($C13="Passive","",INDEX(Database!F$8:F$19,$B13,1)) -> 12500 | I13: =IF($C13="Passive","",INDEX(Database!G$8:G$19,$B13,1)) -> 14000 | J13: =IF($C13="Passive","",INDEX(Database!H$8:H$19,$B13,1)) -> 24000 | K13: =IF($C13="Passive","",INDEX(Database!I$8:I$19,$B13,1)) -> 12500 | ... Q13: =IF($C13="Passive","",INDEX(Database!O$8:O$19,$B13,1)) -> 201000 | S13: =IFERROR(INDEX($D$12:$D$23, MATCH(0,INDEX((LEN($D$12:$D$23)=0)+COUNTIF($S$11:$S12,$D$12:$D$23),0),0)),"") -> Corby May | U13: 2 | V13: =IF(LEN($Y13)=0,"",COUNTIF($Z$12:$Z13,$Z13)) -> 1 | W13: =IFERROR(RANK($Z13,$Z$12:$Z$23,0),"") -> 1 | X13: =IFERROR(IF($V13=1,$W13,$W13+$V13-1),"") -> 1 | Y13: =IF(LEN(INDEX($D$12:$D$23,$U13,1))=0,"",INDEX($D$12:$D$23,$U13,1)) -> Corby May | Z13: =IFERROR(INDEX($D$27:$Q$38,MATCH($Y13,$D$27:$D$38,0),MATCH("Total",$D$26:$Q$26,0))/INDEX($D$12:$Q$23,MATCH($Y13,$D$12:$D$23,0),MATCH("Total",$D$11:$Q$11,0)),0) -> 1.1116915 | AA13: =IFERROR(INDEX($Y$12:$Y$23,MATCH($U13,$X$12:$X$23,0),1),"") -> Michael Bapis | AB13: =IFERROR(INDEX($Z$12:$Z$23,MATCH($U13,$X$12:$X$23,0),1),"") -> 1.0166667 | AD13: 2 | AE13: =IF(LEN($AH13)=0,"",COUNTIF($AI$12:$AI13,$AI13)) -> 1 | AF13: =IFERROR(RANK($AI13,$AI$12:$AI$23,0),"") -> 1 | AG13: =IFERROR(IF($AE13=1,$AF13,$AF13+$AE13-1),"") -> 1 | AH13: =IF(LEN(INDEX($D$12:$D$23,$AD13,1))=0,"",INDEX($D$12:$D$23,$AD13,1)) -> Corby May | AI13: =IFERROR(INDEX($D$27:$Q$38,MATCH($AH13,$D$27:$D$38,0),MATCH("Total",$D$26:$Q$26,0))/SUM($Q$27:$Q$38),0) -> 0.17378624 | AJ13: =IFERROR(INDEX($AH$12:$AH$23,MATCH($AD13,$AG$12:$AG$23,0),1),"") -> Nicole Andres | AK13: =IFERROR(INDEX($AI$12:$AI$23,MATCH($AD13,$AG$12:$AG$23,0),1),"") -> 0.1566176 | AM13: Sales Realization - Top 5 | AN13: 5
B14: 3 | C14: =IF(LEN(INDEX(Database!B$8:B$19,$B14,1))>0,"Active","Passive") -> Active | D14: =IF($C14="Passive","",INDEX(Database!B$8:B$19,$B14,1)) -> Nicole Andres | E14: =IF($C14="Passive","",INDEX(Database!C$8:C$19,$B14,1)) -> 20250 | F14: =IF($C14="Passive","",INDEX(Database!D$8:D$19,$B14,1)) -> 12000 | G14: =IF($C14="Passive","",INDEX(Database!E$8:E$19,$B14,1)) -> 21000 | H14: =IF($C14="Passive","",INDEX(Database!F$8:F$19,$B14,1)) -> 20250 | I14: =IF($C14="Passive","",INDEX(Database!G$8:G$19,$B14,1)) -> 12000 | J14: =IF($C14="Passive","",INDEX(Database!H$8:H$19,$B14,1)) -> 21000 | K14: =IF($C14="Passive","",INDEX(Database!I$8:I$19,$B14,1)) -> 20250 | ... Q14: =IF($C14="Passive","",INDEX(Database!O$8:O$19,$B14,1)) -> 213000 | S14: =IFERROR(INDEX($D$12:$D$23, MATCH(0,INDEX((LEN($D$12:$D$23)=0)+COUNTIF($S$11:$S13,$D$12:$D$23),0),0)),"") -> Nicole Andres | U14: 3 | V14: =IF(LEN($Y14)=0,"",COUNTIF($Z$12:$Z14,$Z14)) -> 1 | W14: =IFERROR(RANK($Z14,$Z$12:$Z$23,0),"") -> 6 | X14: =IFERROR(IF($V14=1,$W14,$W14+$V14-1),"") -> 6 | Y14: =IF(LEN(INDEX($D$12:$D$23,$U14,1))=0,"",INDEX($D$12:$D$23,$U14,1)) -> Nicole Andres | Z14: =IFERROR(INDEX($D$27:$Q$38,MATCH($Y14,$D$27:$D$38,0),MATCH("Total",$D$26:$Q$26,0))/INDEX($D$12:$Q$23,MATCH($Y14,$D$12:$D$23,0),MATCH("Total",$D$11:$Q$11,0)),0) -> 0.94542254 | AA14: =IFERROR(INDEX($Y$12:$Y$23,MATCH($U14,$X$12:$X$23,0),1),"") -> Peter Rohr | AB14: =IFERROR(INDEX($Z$12:$Z$23,MATCH($U14,$X$12:$X$23,0),1),"") -> 1.0107784 | AD14: 3 | AE14: =IF(LEN($AH14)=0,"",COUNTIF($AI$12:$AI14,$AI14)) -> 1 | AF14: =IFERROR(RANK($AI14,$AI$12:$AI$23,0),"") -> 2 | AG14: =IFERROR(IF($AE14=1,$AF14,$AF14+$AE14-1),"") -> 2 | AH14: =IF(LEN(INDEX($D$12:$D$23,$AD14,1))=0,"",INDEX($D$12:$D$23,$AD14,1)) -> Nicole Andres | AI14: =IFERROR(INDEX($D$27:$Q$38,MATCH($AH14,$D$27:$D$38,0),MATCH("Total",$D$26:$Q$26,0))/SUM($Q$27:$Q$38),0) -> 0.1566176 | AJ14: =IFERROR(INDEX($AH$12:$AH$23,MATCH($AD14,$AG$12:$AG$23,0),1),"") -> Geri Pell | AK14: =IFERROR(INDEX($AI$12:$AI$23,MATCH($AD14,$AG$12:$AG$23,0),1),"") -> 0.15531489 | AM14: Sales Realization - Top 10 | AN14: 10
B15: 4 | C15: =IF(LEN(INDEX(Database!B$8:B$19,$B15,1))>0,"Active","Passive") -> Active | D15: =IF($C15="Passive","",INDEX(Database!B$8:B$19,$B15,1)) -> Geri Pell | E15: =IF($C15="Passive","",INDEX(Database!C$8:C$19,$B15,1)) -> 20000 | F15: =IF($C15="Passive","",INDEX(Database!D$8:D$19,$B15,1)) -> 15000 | G15: =IF($C15="Passive","",INDEX(Database!E$8:E$19,$B15,1)) -> 15500 | H15: =IF($C15="Passive","",INDEX(Database!F$8:F$19,$B15,1)) -> 20000 | I15: =IF($C15="Passive","",INDEX(Database!G$8:G$19,$B15,1)) -> 15000 | J15: =IF($C15="Passive","",INDEX(Database!H$8:H$19,$B15,1)) -> 15500 | K15: =IF($C15="Passive","",INDEX(Database!I$8:I$19,$B15,1)) -> 20000 | ... Q15: =IF($C15="Passive","",INDEX(Database!O$8:O$19,$B15,1)) -> 202000 | S15: =IFERROR(INDEX($D$12:$D$23, MATCH(0,INDEX((LEN($D$12:$D$23)=0)+COUNTIF($S$11:$S14,$D$12:$D$23),0),0)),"") -> Geri Pell | U15: 4 | V15: =IF(LEN($Y15)=0,"",COUNTIF($Z$12:$Z15,$Z15)) -> 1 | W15: =IFERROR(RANK($Z15,$Z$12:$Z$23,0),"") -> 4 | X15: =IFERROR(IF($V15=1,$W15,$W15+$V15-1),"") -> 4 | Y15: =IF(LEN(INDEX($D$12:$D$23,$U15,1))=0,"",INDEX($D$12:$D$23,$U15,1)) -> Geri Pell | Z15: =IFERROR(INDEX($D$27:$Q$38,MATCH($Y15,$D$27:$D$38,0),MATCH("Total",$D$26:$Q$26,0))/INDEX($D$12:$Q$23,MATCH($Y15,$D$12:$D$23,0),MATCH("Total",$D$11:$Q$11,0)),0) -> 0.98861386 | AA15: =IFERROR(INDEX($Y$12:$Y$23,MATCH($U15,$X$12:$X$23,0),1),"") -> Geri Pell | AB15: =IFERROR(INDEX($Z$12:$Z$23,MATCH($U15,$X$12:$X$23,0),1),"") -> 0.98861386 | AD15: 4 | AE15: =IF(LEN($AH15)=0,"",COUNTIF($AI$12:$AI15,$AI15)) -> 1 | AF15: =IFERROR(RANK($AI15,$AI$12:$AI$23,0),"") -> 3 | AG15: =IFERROR(IF($AE15=1,$AF15,$AF15+$AE15-1),"") -> 3 | AH15: =IF(LEN(INDEX($D$12:$D$23,$AD15,1))=0,"",INDEX($D$12:$D$23,$AD15,1)) -> Geri Pell | AI15: =IFERROR(INDEX($D$27:$Q$38,MATCH($AH15,$D$27:$D$38,0),MATCH("Total",$D$26:$Q$26,0))/SUM($Q$27:$Q$38),0) -> 0.15531489 | AJ15: =IFERROR(INDEX($AH$12:$AH$23,MATCH($AD15,$AG$12:$AG$23,0),1),"") -> Frank Sabia | AK15: =IFERROR(INDEX($AI$12:$AI$23,MATCH($AD15,$AG$12:$AG$23,0),1),"") -> 0.14131555 | AM15: Sales Realization - Top 15 | AN15: 15
B16: 5 | C16: =IF(LEN(INDEX(Database!B$8:B$19,$B16,1))>0,"Active","Passive") -> Active | D16: =IF($C16="Passive","",INDEX(Database!B$8:B$19,$B16,1)) -> Frank Sabia | E16: =IF($C16="Passive","",INDEX(Database!C$8:C$19,$B16,1)) -> 17500 | F16: =IF($C16="Passive","",INDEX(Database!D$8:D$19,$B16,1)) -> 14000 | G16: =IF($C16="Passive","",INDEX(Database!E$8:E$19,$B16,1)) -> 16000 | H16: =IF($C16="Passive","",INDEX(Database!F$8:F$19,$B16,1)) -> 17500 | I16: =IF($C16="Passive","",INDEX(Database!G$8:G$19,$B16,1)) -> 14000 | J16: =IF($C16="Passive","",INDEX(Database!H$8:H$19,$B16,1)) -> 16000 | K16: =IF($C16="Passive","",INDEX(Database!I$8:I$19,$B16,1)) -> 17500 | ... Q16: =IF($C16="Passive","",INDEX(Database!O$8:O$19,$B16,1)) -> 190000 | S16: =IFERROR(INDEX($D$12:$D$23, MATCH(0,INDEX((LEN($D$12:$D$23)=0)+COUNTIF($S$11:$S15,$D$12:$D$23),0),0)),"") -> Frank Sabia | U16: 5 | V16: =IF(LEN($Y16)=0,"",COUNTIF($Z$12:$Z16,$Z16)) -> 1 | W16: =IFERROR(RANK($Z16,$Z$12:$Z$23,0),"") -> 5 | X16: =IFERROR(IF($V16=1,$W16,$W16+$V16-1),"") -> 5 | Y16: =IF(LEN(INDEX($D$12:$D$23,$U16,1))=0,"",INDEX($D$12:$D$23,$U16,1)) -> Frank Sabia | Z16: =IFERROR(INDEX($D$27:$Q$38,MATCH($Y16,$D$27:$D$38,0),MATCH("Total",$D$26:$Q$26,0))/INDEX($D$12:$Q$23,MATCH($Y16,$D$12:$D$23,0),MATCH("Total",$D$11:$Q$11,0)),0) -> 0.95631579 | AA16: =IFERROR(INDEX($Y$12:$Y$23,MATCH($U16,$X$12:$X$23,0),1),"") -> Frank Sabia | AB16: =IFERROR(INDEX($Z$12:$Z$23,MATCH($U16,$X$12:$X$23,0),1),"") -> 0.95631579 | AD16: 5 | AE16: =IF(LEN($AH16)=0,"",COUNTIF($AI$12:$AI16,$AI16)) -> 1 | AF16: =IFERROR(RANK($AI16,$AI$12:$AI$23,0),"") -> 4 | AG16: =IFERROR(IF($AE16=1,$AF16,$AF16+$AE16-1),"") -> 4 | AH16: =IF(LEN(INDEX($D$12:$D$23,$AD16,1))=0,"",INDEX($D$12:$D$23,$AD16,1)) -> Frank Sabia | AI16: =IFERROR(INDEX($D$27:$Q$38,MATCH($AH16,$D$27:$D$38,0),MATCH("Total",$D$26:$Q$26,0))/SUM($Q$27:$Q$38),0) -> 0.14131555 | AJ16: =IFERROR(INDEX($AH$12:$AH$23,MATCH($AD16,$AG$12:$AG$23,0),1),"") -> Michael Bapis | AK16: =IFERROR(INDEX($AI$12:$AI$23,MATCH($AD16,$AG$12:$AG$23,0),1),"") -> 0.13283817
B17: 6 | C17: =IF(LEN(INDEX(Database!B$8:B$19,$B17,1))>0,"Active","Passive") -> Active | D17: =IF($C17="Passive","",INDEX(Database!B$8:B$19,$B17,1)) -> Michael Bapis | E17: =IF($C17="Passive","",INDEX(Database!C$8:C$19,$B17,1)) -> 12500 | F17: =IF($C17="Passive","",INDEX(Database!D$8:D$19,$B17,1)) -> 22000 | G17: =IF($C17="Passive","",INDEX(Database!E$8:E$19,$B17,1)) -> 7500 | H17: =IF($C17="Passive","",INDEX(Database!F$8:F$19,$B17,1)) -> 12500 | I17: =IF($C17="Passive","",INDEX(Database!G$8:G$19,$B17,1)) -> 22000 | J17: =IF($C17="Passive","",INDEX(Database!H$8:H$19,$B17,1)) -> 7500 | K17: =IF($C17="Passive","",INDEX(Database!I$8:I$19,$B17,1)) -> 12500 | ... Q17: =IF($C17="Passive","",INDEX(Database!O$8:O$19,$B17,1)) -> 168000 | S17: =IFERROR(INDEX($D$12:$D$23, MATCH(0,INDEX((LEN($D$12:$D$23)=0)+COUNTIF($S$11:$S16,$D$12:$D$23),0),0)),"") -> Michael Bapis | U17: 6 | V17: =IF(LEN($Y17)=0,"",COUNTIF($Z$12:$Z17,$Z17)) -> 1 | W17: =IFERROR(RANK($Z17,$Z$12:$Z$23,0),"") -> 2 | X17: =IFERROR(IF($V17=1,$W17,$W17+$V17-1),"") -> 2 | Y17: =IF(LEN(INDEX($D$12:$D$23,$U17,1))=0,"",INDEX($D$12:$D$23,$U17,1)) -> Michael Bapis | Z17: =IFERROR(INDEX($D$27:$Q$38,MATCH($Y17,$D$27:$D$38,0),MATCH("Total",$D$26:$Q$26,0))/INDEX($D$12:$Q$23,MATCH($Y17,$D$12:$D$23,0),MATCH("Total",$D$11:$Q$11,0)),0) -> 1.0166667 | AA17: =IFERROR(INDEX($Y$12:$Y$23,MATCH($U17,$X$12:$X$23,0),1),"") -> Nicole Andres | AB17: =IFERROR(INDEX($Z$12:$Z$23,MATCH($U17,$X$12:$X$23,0),1),"") -> 0.94542254 | AD17: 6 | AE17: =IF(LEN($AH17)=0,"",COUNTIF($AI$12:$AI17,$AI17)) -> 1 | AF17: =IFERROR(RANK($AI17,$AI$12:$AI$23,0),"") -> 5 | AG17: =IFERROR(IF($AE17=1,$AF17,$AF17+$AE17-1),"") -> 5 | AH17: =IF(LEN(INDEX($D$12:$D$23,$AD17,1))=0,"",INDEX($D$12:$D$23,$AD17,1)) -> Michael Bapis | AI17: =IFERROR(INDEX($D$27:$Q$38,MATCH($AH17,$D$27:$D$38,0),MATCH("Total",$D$26:$Q$26,0))/SUM($Q$27:$Q$38),0) -> 0.13283817 | AJ17: =IFERROR(INDEX($AH$12:$AH$23,MATCH($AD17,$AG$12:$AG$23,0),1),"") -> Peter Rohr | AK17: =IFERROR(INDEX($AI$12:$AI$23,MATCH($AD17,$AG$12:$AG$23,0),1),"") -> 0.13128269 | AM17: Actual Sales Shares - Top 3 | AN17: 3
B18: 7 | C18: =IF(LEN(INDEX(Database!B$8:B$19,$B18,1))>0,"Active","Passive") -> Active | D18: =IF($C18="Passive","",INDEX(Database!B$8:B$19,$B18,1)) -> Peter Rohr | E18: =IF($C18="Passive","",INDEX(Database!C$8:C$19,$B18,1)) -> 18000 | F18: =IF($C18="Passive","",INDEX(Database!D$8:D$19,$B18,1)) -> 14750 | G18: =IF($C18="Passive","",INDEX(Database!E$8:E$19,$B18,1)) -> 9000 | H18: =IF($C18="Passive","",INDEX(Database!F$8:F$19,$B18,1)) -> 18000 | I18: =IF($C18="Passive","",INDEX(Database!G$8:G$19,$B18,1)) -> 14750 | J18: =IF($C18="Passive","",INDEX(Database!H$8:H$19,$B18,1)) -> 9000 | K18: =IF($C18="Passive","",INDEX(Database!I$8:I$19,$B18,1)) -> 18000 | ... Q18: =IF($C18="Passive","",INDEX(Database!O$8:O$19,$B18,1)) -> 167000 | S18: =IFERROR(INDEX($D$12:$D$23, MATCH(0,INDEX((LEN($D$12:$D$23)=0)+COUNTIF($S$11:$S17,$D$12:$D$23),0),0)),"") -> Peter Rohr | U18: 7 | V18: =IF(LEN($Y18)=0,"",COUNTIF($Z$12:$Z18,$Z18)) -> 1 | W18: =IFERROR(RANK($Z18,$Z$12:$Z$23,0),"") -> 3 | X18: =IFERROR(IF($V18=1,$W18,$W18+$V18-1),"") -> 3 | Y18: =IF(LEN(INDEX($D$12:$D$23,$U18,1))=0,"",INDEX($D$12:$D$23,$U18,1)) -> Peter Rohr | Z18: =IFERROR(INDEX($D$27:$Q$38,MATCH($Y18,$D$27:$D$38,0),MATCH("Total",$D$26:$Q$26,0))/INDEX($D$12:$Q$23,MATCH($Y18,$D$12:$D$23,0),MATCH("Total",$D$11:$Q$11,0)),0) -> 1.0107784 | AA18: =IFERROR(INDEX($Y$12:$Y$23,MATCH($U18,$X$12:$X$23,0),1),"") -> Rich Abrams | AB18: =IFERROR(INDEX($Z$12:$Z$23,MATCH($U18,$X$12:$X$23,0),1),"") -> 0.933 | AD18: 7 | AE18: =IF(LEN($AH18)=0,"",COUNTIF($AI$12:$AI18,$AI18)) -> 1 | AF18: =IFERROR(RANK($AI18,$AI$12:$AI$23,0),"") -> 6 | AG18: =IFERROR(IF($AE18=1,$AF18,$AF18+$AE18-1),"") -> 6 | AH18: =IF(LEN(INDEX($D$12:$D$23,$AD18,1))=0,"",INDEX($D$12:$D$23,$AD18,1)) -> Peter Rohr | AI18: =IFERROR(INDEX($D$27:$Q$38,MATCH($AH18,$D$27:$D$38,0),MATCH("Total",$D$26:$Q$26,0))/SUM($Q$27:$Q$38),0) -> 0.13128269 | AJ18: =IFERROR(INDEX($AH$12:$AH$23,MATCH($AD18,$AG$12:$AG$23,0),1),"") -> Rich Abrams | AK18: =IFERROR(INDEX($AI$12:$AI$23,MATCH($AD18,$AG$12:$AG$23,0),1),"") -> 0.10884486 | AM18: Actual Sales Shares - Top 5 | AN18: 5
B19: 8 | C19: =IF(LEN(INDEX(Database!B$8:B$19,$B19,1))>0,"Active","Passive") -> Passive | D19: =IF($C19="Passive","",INDEX(Database!B$8:B$19,$B19,1)) | E19: =IF($C19="Passive","",INDEX(Database!C$8:C$19,$B19,1)) | F19: =IF($C19="Passive","",INDEX(Database!D$8:D$19,$B19,1)) | G19: =IF($C19="Passive","",INDEX(Database!E$8:E$19,$B19,1)) | H19: =IF($C19="Passive","",INDEX(Database!F$8:F$19,$B19,1)) | I19: =IF($C19="Passive","",INDEX(Database!G$8:G$19,$B19,1)) | J19: =IF($C19="Passive","",INDEX(Database!H$8:H$19,$B19,1)) | K19: =IF($C19="Passive","",INDEX(Database!I$8:I$19,$B19,1)) | ... Q19: =IF($C19="Passive","",INDEX(Database!O$8:O$19,$B19,1)) | S19: =IFERROR(INDEX($D$12:$D$23, MATCH(0,INDEX((LEN($D$12:$D$23)=0)+COUNTIF($S$11:$S18,$D$12:$D$23),0),0)),"") | U19: 8 | V19: =IF(LEN($Y19)=0,"",COUNTIF($Z$12:$Z19,$Z19)) | W19: =IFERROR(RANK($Z19,$Z$12:$Z$23,0),"") -> 8 | X19: =IFERROR(IF($V19=1,$W19,$W19+$V19-1),"") | Y19: =IF(LEN(INDEX($D$12:$D$23,$U19,1))=0,"",INDEX($D$12:$D$23,$U19,1)) | Z19: =IFERROR(INDEX($D$27:$Q$38,MATCH($Y19,$D$27:$D$38,0),MATCH("Total",$D$26:$Q$26,0))/INDEX($D$12:$Q$23,MATCH($Y19,$D$12:$D$23,0),MATCH("Total",$D$11:$Q$11,0)),0) -> 0 | AA19: =IFERROR(INDEX($Y$12:$Y$23,MATCH($U19,$X$12:$X$23,0),1),"") | AB19: =IFERROR(INDEX($Z$12:$Z$23,MATCH($U19,$X$12:$X$23,0),1),"") | AD19: 8 | AE19: =IF(LEN($AH19)=0,"",COUNTIF($AI$12:$AI19,$AI19)) | AF19: =IFERROR(RANK($AI19,$AI$12:$AI$23,0),"") -> 8 | AG19: =IFERROR(IF($AE19=1,$AF19,$AF19+$AE19-1),"") | AH19: =IF(LEN(INDEX($D$12:$D$23,$AD19,1))=0,"",INDEX($D$12:$D$23,$AD19,1)) | AI19: =IFERROR(INDEX($D$27:$Q$38,MATCH($AH19,$D$27:$D$38,0),MATCH("Total",$D$26:$Q$26,0))/SUM($Q$27:$Q$38),0) -> 0 | AJ19: =IFERROR(INDEX($AH$12:$AH$23,MATCH($AD19,$AG$12:$AG$23,0),1),"") | AK19: =IFERROR(INDEX($AI$12:$AI$23,MATCH($AD19,$AG$12:$AG$23,0),1),"") | AM19: Actual Sales Shares - Top 10 | AN19: 10
B20: 9 | C20: =IF(LEN(INDEX(Database!B$8:B$19,$B20,1))>0,"Active","Passive") -> Passive | D20: =IF($C20="Passive","",INDEX(Database!B$8:B$19,$B20,1)) | E20: =IF($C20="Passive","",INDEX(Database!C$8:C$19,$B20,1)) | F20: =IF($C20="Passive","",INDEX(Database!D$8:D$19,$B20,1)) | G20: =IF($C20="Passive","",INDEX(Database!E$8:E$19,$B20,1)) | H20: =IF($C20="Passive","",INDEX(Database!F$8:F$19,$B20,1)) | I20: =IF($C20="Passive","",INDEX(Database!G$8:G$19,$B20,1)) | J20: =IF($C20="Passive","",INDEX(Database!H$8:H$19,$B20,1)) | K20: =IF($C20="Passive","",INDEX(Database!I$8:I$19,$B20,1)) | ... Q20: =IF($C20="Passive","",INDEX(Database!O$8:O$19,$B20,1)) | S20: =IFERROR(INDEX($D$12:$D$23, MATCH(0,INDEX((LEN($D$12:$D$23)=0)+COUNTIF($S$11:$S19,$D$12:$D$23),0),0)),"") | U20: 9 | V20: =IF(LEN($Y20)=0,"",COUNTIF($Z$12:$Z20,$Z20)) | W20: =IFERROR(RANK($Z20,$Z$12:$Z$23,0),"") -> 8 | X20: =IFERROR(IF($V20=1,$W20,$W20+$V20-1),"") | Y20: =IF(LEN(INDEX($D$12:$D$23,$U20,1))=0,"",INDEX($D$12:$D$23,$U20,1)) | Z20: =IFERROR(INDEX($D$27:$Q$38,MATCH($Y20,$D$27:$D$38,0),MATCH("Total",$D$26:$Q$26,0))/INDEX($D$12:$Q$23,MATCH($Y20,$D$12:$D$23,0),MATCH("Total",$D$11:$Q$11,0)),0) -> 0 | AA20: =IFERROR(INDEX($Y$12:$Y$23,MATCH($U20,$X$12:$X$23,0),1),"") | AB20: =IFERROR(INDEX($Z$12:$Z$23,MATCH($U20,$X$12:$X$23,0),1),"") | AD20: 9 | AE20: =IF(LEN($AH20)=0,"",COUNTIF($AI$12:$AI20,$AI20)) | AF20: =IFERROR(RANK($AI20,$AI$12:$AI$23,0),"") -> 8 | AG20: =IFERROR(IF($AE20=1,$AF20,$AF20+$AE20-1),"") | AH20: =IF(LEN(INDEX($D$12:$D$23,$AD20,1))=0,"",INDEX($D$12:$D$23,$AD20,1)) | AI20: =IFERROR(INDEX($D$27:$Q$38,MATCH($AH20,$D$27:$D$38,0),MATCH("Total",$D$26:$Q$26,0))/SUM($Q$27:$Q$38),0) -> 0 | AJ20: =IFERROR(INDEX($AH$12:$AH$23,MATCH($AD20,$AG$12:$AG$23,0),1),"") | AK20: =IFERROR(INDEX($AI$12:$AI$23,MATCH($AD20,$AG$12:$AG$23,0),1),"") | AM20: Actual Sales Shares - Top 15 | AN20: 15
B21: 10 | C21: =IF(LEN(INDEX(Database!B$8:B$19,$B21,1))>0,"Active","Passive") -> Passive | D21: =IF($C21="Passive","",INDEX(Database!B$8:B$19,$B21,1)) | E21: =IF($C21="Passive","",INDEX(Database!C$8:C$19,$B21,1)) | F21: =IF($C21="Passive","",INDEX(Database!D$8:D$19,$B21,1)) | G21: =IF($C21="Passive","",INDEX(Database!E$8:E$19,$B21,1)) | H21: =IF($C21="Passive","",INDEX(Database!F$8:F$19,$B21,1)) | I21: =IF($C21="Passive","",INDEX(Database!G$8:G$19,$B21,1)) | J21: =IF($C21="Passive","",INDEX(Database!H$8:H$19,$B21,1)) | K21: =IF($C21="Passive","",INDEX(Database!I$8:I$19,$B21,1)) | ... Q21: =IF($C21="Passive","",INDEX(Database!O$8:O$19,$B21,1)) | S21: =IFERROR(INDEX($D$12:$D$23, MATCH(0,INDEX((LEN($D$12:$D$23)=0)+COUNTIF($S$11:$S20,$D$12:$D$23),0),0)),"") | U21: 10 | V21: =IF(LEN($Y21)=0,"",COUNTIF($Z$12:$Z21,$Z21)) | W21: =IFERROR(RANK($Z21,$Z$12:$Z$23,0),"") -> 8 | X21: =IFERROR(IF($V21=1,$W21,$W21+$V21-1),"") | Y21: =IF(LEN(INDEX($D$12:$D$23,$U21,1))=0,"",INDEX($D$12:$D$23,$U21,1)) | Z21: =IFERROR(INDEX($D$27:$Q$38,MATCH($Y21,$D$27:$D$38,0),MATCH("Total",$D$26:$Q$26,0))/INDEX($D$12:$Q$23,MATCH($Y21,$D$12:$D$23,0),MATCH("Total",$D$11:$Q$11,0)),0) -> 0 | AA21: =IFERROR(INDEX($Y$12:$Y$23,MATCH($U21,$X$12:$X$23,0),1),"") | AB21: =IFERROR(INDEX($Z$12:$Z$23,MATCH($U21,$X$12:$X$23,0),1),"") | AD21: 10 | AE21: =IF(LEN($AH21)=0,"",COUNTIF($AI$12:$AI21,$AI21)) | AF21: =IFERROR(RANK($AI21,$AI$12:$AI$23,0),"") -> 8 | AG21: =IFERROR(IF($AE21=1,$AF21,$AF21+$AE21-1),"") | AH21: =IF(LEN(INDEX($D$12:$D$23,$AD21,1))=0,"",INDEX($D$12:$D$23,$AD21,1)) | AI21: =IFERROR(INDEX($D$27:$Q$38,MATCH($AH21,$D$27:$D$38,0),MATCH("Total",$D$26:$Q$26,0))/SUM($Q$27:$Q$38),0) -> 0 | AJ21: =IFERROR(INDEX($AH$12:$AH$23,MATCH($AD21,$AG$12:$AG$23,0),1),"") | AK21: =IFERROR(INDEX($AI$12:$AI$23,MATCH($AD21,$AG$12:$AG$23,0),1),"")
B22: 11 | C22: =IF(LEN(INDEX(Database!B$8:B$19,$B22,1))>0,"Active","Passive") -> Passive | D22: =IF($C22="Passive","",INDEX(Database!B$8:B$19,$B22,1)) | E22: =IF($C22="Passive","",INDEX(Database!C$8:C$19,$B22,1)) | F22: =IF($C22="Passive","",INDEX(Database!D$8:D$19,$B22,1)) | G22: =IF($C22="Passive","",INDEX(Database!E$8:E$19,$B22,1)) | H22: =IF($C22="Passive","",INDEX(Database!F$8:F$19,$B22,1)) | I22: =IF($C22="Passive","",INDEX(Database!G$8:G$19,$B22,1)) | J22: =IF($C22="Passive","",INDEX(Database!H$8:H$19,$B22,1)) | K22: =IF($C22="Passive","",INDEX(Database!I$8:I$19,$B22,1)) | ... Q22: =IF($C22="Passive","",INDEX(Database!O$8:O$19,$B22,1)) | S22: =IFERROR(INDEX($D$12:$D$23, MATCH(0,INDEX((LEN($D$12:$D$23)=0)+COUNTIF($S$11:$S21,$D$12:$D$23),0),0)),"") | U22: 11 | V22: =IF(LEN($Y22)=0,"",COUNTIF($Z$12:$Z22,$Z22)) | W22: =IFERROR(RANK($Z22,$Z$12:$Z$23,0),"") -> 8 | X22: =IFERROR(IF($V22=1,$W22,$W22+$V22-1),"") | Y22: =IF(LEN(INDEX($D$12:$D$23,$U22,1))=0,"",INDEX($D$12:$D$23,$U22,1)) | Z22: =IFERROR(INDEX($D$27:$Q$38,MATCH($Y22,$D$27:$D$38,0),MATCH("Total",$D$26:$Q$26,0))/INDEX($D$12:$Q$23,MATCH($Y22,$D$12:$D$23,0),MATCH("Total",$D$11:$Q$11,0)),0) -> 0 | AA22: =IFERROR(INDEX($Y$12:$Y$23,MATCH($U22,$X$12:$X$23,0),1),"") | AB22: =IFERROR(INDEX($Z$12:$Z$23,MATCH($U22,$X$12:$X$23,0),1),"") | AD22: 11 | AE22: =IF(LEN($AH22)=0,"",COUNTIF($AI$12:$AI22,$AI22)) | AF22: =IFERROR(RANK($AI22,$AI$12:$AI$23,0),"") -> 8 | AG22: =IFERROR(IF($AE22=1,$AF22,$AF22+$AE22-1),"") | AH22: =IF(LEN(INDEX($D$12:$D$23,$AD22,1))=0,"",INDEX($D$12:$D$23,$AD22,1)) | AI22: =IFERROR(INDEX($D$27:$Q$38,MATCH($AH22,$D$27:$D$38,0),MATCH("Total",$D$26:$Q$26,0))/SUM($Q$27:$Q$38),0) -> 0 | AJ22: =IFERROR(INDEX($AH$12:$AH$23,MATCH($AD22,$AG$12:$AG$23,0),1),"") | AK22: =IFERROR(INDEX($AI$12:$AI$23,MATCH($AD22,$AG$12:$AG$23,0),1),"")
B23: 12 | C23: =IF(LEN(INDEX(Database!B$8:B$19,$B23,1))>0,"Active","Passive") -> Passive | D23: =IF($C23="Passive","",INDEX(Database!B$8:B$19,$B23,1)) | E23: =IF($C23="Passive","",INDEX(Database!C$8:C$19,$B23,1)) | F23: =IF($C23="Passive","",INDEX(Database!D$8:D$19,$B23,1)) | G23: =IF($C23="Passive","",INDEX(Database!E$8:E$19,$B23,1)) | H23: =IF($C23="Passive","",INDEX(Database!F$8:F$19,$B23,1)) | I23: =IF($C23="Passive","",INDEX(Database!G$8:G$19,$B23,1)) | J23: =IF($C23="Passive","",INDEX(Database!H$8:H$19,$B23,1)) | K23: =IF($C23="Passive","",INDEX(Database!I$8:I$19,$B23,1)) | ... Q23: =IF($C23="Passive","",INDEX(Database!O$8:O$19,$B23,1)) | S23: =IFERROR(INDEX($D$12:$D$23, MATCH(0,INDEX((LEN($D$12:$D$23)=0)+COUNTIF($S$11:$S22,$D$12:$D$23),0),0)),"") | U23: 12 | V23: =IF(LEN($Y23)=0,"",COUNTIF($Z$12:$Z23,$Z23)) | W23: =IFERROR(RANK($Z23,$Z$12:$Z$23,0),"") -> 8 | X23: =IFERROR(IF($V23=1,$W23,$W23+$V23-1),"") | Y23: =IF(LEN(INDEX($D$12:$D$23,$U23,1))=0,"",INDEX($D$12:$D$23,$U23,1)) | Z23: =IFERROR(INDEX($D$27:$Q$38,MATCH($Y23,$D$27:$D$38,0),MATCH("Total",$D$26:$Q$26,0))/INDEX($D$12:$Q$23,MATCH($Y23,$D$12:$D$23,0),MATCH("Total",$D$11:$Q$11,0)),0) -> 0 | AA23: =IFERROR(INDEX($Y$12:$Y$23,MATCH($U23,$X$12:$X$23,0),1),"") | AB23: =IFERROR(INDEX($Z$12:$Z$23,MATCH($U23,$X$12:$X$23,0),1),"") | AD23: 12 | AE23: =IF(LEN($AH23)=0,"",COUNTIF($AI$12:$AI23,$AI23)) | AF23: =IFERROR(RANK($AI23,$AI$12:$AI$23,0),"") -> 8 | AG23: =IFERROR(IF($AE23=1,$AF23,$AF23+$AE23-1),"") | AH23: =IF(LEN(INDEX($D$12:$D$23,$AD23,1))=0,"",INDEX($D$12:$D$23,$AD23,1)) | AI23: =IFERROR(INDEX($D$27:$Q$38,MATCH($AH23,$D$27:$D$38,0),MATCH("Total",$D$26:$Q$26,0))/SUM($Q$27:$Q$38),0) -> 0 | AJ23: =IFERROR(INDEX($AH$12:$AH$23,MATCH($AD23,$AG$12:$AG$23,0),1),"") | AK23: =IFERROR(INDEX($AI$12:$AI$23,MATCH($AD23,$AG$12:$AG$23,0),1),"")
B25: SALES - ACTUALS
B26: Index | C26: Status | D26: Sales Reps | E26: Jan | F26: Feb | G26: Mar | H26: Apr | I26: May | J26: Jun | K26: Jul | L26: Aug | M26: Sep | N26: Oct | O26: Nov | P26: Dec | Q26: Total
B27: 1 | C27: =IF(LEN(INDEX(Database!B$111:B$122,$B12,1))>0,"Active","Passive") -> Active | D27: =IF($C27="Passive","",INDEX(Database!B$111:B$122,$B27,1)) -> Rich Abrams | E27: =IF($C27="Passive","",INDEX(Database!C$111:C$122,$B27,1)) -> 13200 | F27: =IF($C27="Passive","",INDEX(Database!D$111:D$122,$B27,1)) -> 9100 | G27: =IF($C27="Passive","",INDEX(Database!E$111:E$122,$B27,1)) -> 8750 | H27: =IF($C27="Passive","",INDEX(Database!F$111:F$122,$B27,1)) -> 8400 | I27: =IF($C27="Passive","",INDEX(Database!G$111:G$122,$B27,1)) -> 11700 | J27: =IF($C27="Passive","",INDEX(Database!H$111:H$122,$B27,1)) -> 10000 | K27: =IF($C27="Passive","",INDEX(Database!I$111:I$122,$B27,1)) -> 13200 | ... Q27: =IF($C27="Passive","",INDEX(Database!O$111:O$122,$B27,1)) -> 139950
B28: 2 | C28: =IF(LEN(INDEX(Database!B$111:B$122,$B13,1))>0,"Active","Passive") -> Active | D28: =IF($C28="Passive","",INDEX(Database!B$111:B$122,$B28,1)) -> Corby May | E28: =IF($C28="Passive","",INDEX(Database!C$111:C$122,$B28,1)) -> 15000 | F28: =IF($C28="Passive","",INDEX(Database!D$111:D$122,$B28,1)) -> 18200 | G28: =IF($C28="Passive","",INDEX(Database!E$111:E$122,$B28,1)) -> 24000 | H28: =IF($C28="Passive","",INDEX(Database!F$111:F$122,$B28,1)) -> 16250 | I28: =IF($C28="Passive","",INDEX(Database!G$111:G$122,$B28,1)) -> 15400 | J28: =IF($C28="Passive","",INDEX(Database!H$111:H$122,$B28,1)) -> 31200 | K28: =IF($C28="Passive","",INDEX(Database!I$111:I$122,$B28,1)) -> 13750 | ... Q28: =IF($C28="Passive","",INDEX(Database!O$111:O$122,$B28,1)) -> 223450
B29: 3 | C29: =IF(LEN(INDEX(Database!B$111:B$122,$B14,1))>0,"Active","Passive") -> Active | D29: =IF($C29="Passive","",INDEX(Database!B$111:B$122,$B29,1)) -> Nicole Andres | E29: =IF($C29="Passive","",INDEX(Database!C$111:C$122,$B29,1)) -> 14175 | F29: =IF($C29="Passive","",INDEX(Database!D$111:D$122,$B29,1)) -> 9600 | G29: =IF($C29="Passive","",INDEX(Database!E$111:E$122,$B29,1)) -> 16800 | H29: =IF($C29="Passive","",INDEX(Database!F$111:F$122,$B29,1)) -> 14175 | I29: =IF($C29="Passive","",INDEX(Database!G$111:G$122,$B29,1)) -> 15600 | J29: =IF($C29="Passive","",INDEX(Database!H$111:H$122,$B29,1)) -> 21000 | K29: =IF($C29="Passive","",INDEX(Database!I$111:I$122,$B29,1)) -> 16200 | ... Q29: =IF($C29="Passive","",INDEX(Database!O$111:O$122,$B29,1)) -> 201375
B30: 4 | C30: =IF(LEN(INDEX(Database!B$111:B$122,$B15,1))>0,"Active","Passive") -> Active | D30: =IF($C30="Passive","",INDEX(Database!B$111:B$122,$B30,1)) -> Geri Pell | E30: =IF($C30="Passive","",INDEX(Database!C$111:C$122,$B30,1)) -> 20000 | F30: =IF($C30="Passive","",INDEX(Database!D$111:D$122,$B30,1)) -> 16500 | G30: =IF($C30="Passive","",INDEX(Database!E$111:E$122,$B30,1)) -> 17050 | H30: =IF($C30="Passive","",INDEX(Database!F$111:F$122,$B30,1)) -> 20000 | I30: =IF($C30="Passive","",INDEX(Database!G$111:G$122,$B30,1)) -> 13500 | J30: =IF($C30="Passive","",INDEX(Database!H$111:H$122,$B30,1)) -> 18600 | K30: =IF($C30="Passive","",INDEX(Database!I$111:I$122,$B30,1)) -> 14000 | ... Q30: =IF($C30="Passive","",INDEX(Database!O$111:O$122,$B30,1)) -> 199700
B31: 5 | C31: =IF(LEN(INDEX(Database!B$111:B$122,$B16,1))>0,"Active","Passive") -> Active | D31: =IF($C31="Passive","",INDEX(Database!B$111:B$122,$B31,1)) -> Frank Sabia | E31: =IF($C31="Passive","",INDEX(Database!C$111:C$122,$B31,1)) -> 19250 | F31: =IF($C31="Passive","",INDEX(Database!D$111:D$122,$B31,1)) -> 9800 | G31: =IF($C31="Passive","",INDEX(Database!E$111:E$122,$B31,1)) -> 11200 | H31: =IF($C31="Passive","",INDEX(Database!F$111:F$122,$B31,1)) -> 15750 | I31: =IF($C31="Passive","",INDEX(Database!G$111:G$122,$B31,1)) -> 9800 | J31: =IF($C31="Passive","",INDEX(Database!H$111:H$122,$B31,1)) -> 17600 | K31: =IF($C31="Passive","",INDEX(Database!I$111:I$122,$B31,1)) -> 19250 | ... Q31: =IF($C31="Passive","",INDEX(Database!O$111:O$122,$B31,1)) -> 181700
B32: 6 | C32: =IF(LEN(INDEX(Database!B$111:B$122,$B17,1))>0,"Active","Passive") -> Active | D32: =IF($C32="Passive","",INDEX(Database!B$111:B$122,$B32,1)) -> Michael Bapis | E32: =IF($C32="Passive","",INDEX(Database!C$111:C$122,$B32,1)) -> 8750 | F32: =IF($C32="Passive","",INDEX(Database!D$111:D$122,$B32,1)) -> 24200 | G32: =IF($C32="Passive","",INDEX(Database!E$111:E$122,$B32,1)) -> 5250 | H32: =IF($C32="Passive","",INDEX(Database!F$111:F$122,$B32,1)) -> 12500 | I32: =IF($C32="Passive","",INDEX(Database!G$111:G$122,$B32,1)) -> 26400 | J32: =IF($C32="Passive","",INDEX(Database!H$111:H$122,$B32,1)) -> 7500 | K32: =IF($C32="Passive","",INDEX(Database!I$111:I$122,$B32,1)) -> 13750 | ... Q32: =IF($C32="Passive","",INDEX(Database!O$111:O$122,$B32,1)) -> 170800
B33: 7 | C33: =IF(LEN(INDEX(Database!B$111:B$122,$B18,1))>0,"Active","Passive") -> Active | D33: =IF($C33="Passive","",INDEX(Database!B$111:B$122,$B33,1)) -> Peter Rohr | E33: =IF($C33="Passive","",INDEX(Database!C$111:C$122,$B33,1)) -> 16200 | F33: =IF($C33="Passive","",INDEX(Database!D$111:D$122,$B33,1)) -> 17700 | G33: =IF($C33="Passive","",INDEX(Database!E$111:E$122,$B33,1)) -> 6300 | H33: =IF($C33="Passive","",INDEX(Database!F$111:F$122,$B33,1)) -> 18000 | I33: =IF($C33="Passive","",INDEX(Database!G$111:G$122,$B33,1)) -> 10325 | J33: =IF($C33="Passive","",INDEX(Database!H$111:H$122,$B33,1)) -> 7200 | K33: =IF($C33="Passive","",INDEX(Database!I$111:I$122,$B33,1)) -> 23400 | ... Q33: =IF($C33="Passive","",INDEX(Database!O$111:O$122,$B33,1)) -> 168800
B34: 8 | C34: =IF(LEN(INDEX(Database!B$111:B$122,$B19,1))>0,"Active","Passive") -> Passive | D34: =IF($C34="Passive","",INDEX(Database!B$111:B$122,$B34,1)) | E34: =IF($C34="Passive","",INDEX(Database!C$111:C$122,$B34,1)) | F34: =IF($C34="Passive","",INDEX(Database!D$111:D$122,$B34,1)) | G34: =IF($C34="Passive","",INDEX(Database!E$111:E$122,$B34,1)) | H34: =IF($C34="Passive","",INDEX(Database!F$111:F$122,$B34,1)) | I34: =IF($C34="Passive","",INDEX(Database!G$111:G$122,$B34,1)) | J34: =IF($C34="Passive","",INDEX(Database!H$111:H$122,$B34,1)) | K34: =IF($C34="Passive","",INDEX(Database!I$111:I$122,$B34,1)) | ... Q34: =IF($C34="Passive","",INDEX(Database!O$111:O$122,$B34,1))
B35: 9 | C35: =IF(LEN(INDEX(Database!B$111:B$122,$B20,1))>0,"Active","Passive") -> Passive | D35: =IF($C35="Passive","",INDEX(Database!B$111:B$122,$B35,1)) | E35: =IF($C35="Passive","",INDEX(Database!C$111:C$122,$B35,1)) | F35: =IF($C35="Passive","",INDEX(Database!D$111:D$122,$B35,1)) | G35: =IF($C35="Passive","",INDEX(Database!E$111:E$122,$B35,1)) | H35: =IF($C35="Passive","",INDEX(Database!F$111:F$122,$B35,1)) | I35: =IF($C35="Passive","",INDEX(Database!G$111:G$122,$B35,1)) | J35: =IF($C35="Passive","",INDEX(Database!H$111:H$122,$B35,1)) | K35: =IF($C35="Passive","",INDEX(Database!I$111:I$122,$B35,1)) | ... Q35: =IF($C35="Passive","",INDEX(Database!O$111:O$122,$B35,1))
B36: 10 | C36: =IF(LEN(INDEX(Database!B$111:B$122,$B21,1))>0,"Active","Passive") -> Passive | D36: =IF($C36="Passive","",INDEX(Database!B$111:B$122,$B36,1)) | E36: =IF($C36="Passive","",INDEX(Database!C$111:C$122,$B36,1)) | F36: =IF($C36="Passive","",INDEX(Database!D$111:D$122,$B36,1)) | G36: =IF($C36="Passive","",INDEX(Database!E$111:E$122,$B36,1)) | H36: =IF($C36="Passive","",INDEX(Database!F$111:F$122,$B36,1)) | I36: =IF($C36="Passive","",INDEX(Database!G$111:G$122,$B36,1)) | J36: =IF($C36="Passive","",INDEX(Database!H$111:H$122,$B36,1)) | K36: =IF($C36="Passive","",INDEX(Database!I$111:I$122,$B36,1)) | ... Q36: =IF($C36="Passive","",INDEX(Database!O$111:O$122,$B36,1))
B37: 11 | C37: =IF(LEN(INDEX(Database!B$111:B$122,$B22,1))>0,"Active","Passive") -> Passive | D37: =IF($C37="Passive","",INDEX(Database!B$111:B$122,$B37,1)) | E37: =IF($C37="Passive","",INDEX(Database!C$111:C$122,$B37,1)) | F37: =IF($C37="Passive","",INDEX(Database!D$111:D$122,$B37,1)) | G37: =IF($C37="Passive","",INDEX(Database!E$111:E$122,$B37,1)) | H37: =IF($C37="Passive","",INDEX(Database!F$111:F$122,$B37,1)) | I37: =IF($C37="Passive","",INDEX(Database!G$111:G$122,$B37,1)) | J37: =IF($C37="Passive","",INDEX(Database!H$111:H$122,$B37,1)) | K37: =IF($C37="Passive","",INDEX(Database!I$111:I$122,$B37,1)) | ... Q37: =IF($C37="Passive","",INDEX(Database!O$111:O$122,$B37,1))
B38: 12 | C38: =IF(LEN(INDEX(Database!B$111:B$122,$B23,1))>0,"Active","Passive") -> Passive | D38: =IF($C38="Passive","",INDEX(Database!B$111:B$122,$B38,1)) | E38: =IF($C38="Passive","",INDEX(Database!C$111:C$122,$B38,1)) | F38: =IF($C38="Passive","",INDEX(Database!D$111:D$122,$B38,1)) | G38: =IF($C38="Passive","",INDEX(Database!E$111:E$122,$B38,1)) | H38: =IF($C38="Passive","",INDEX(Database!F$111:F$122,$B38,1)) | I38: =IF($C38="Passive","",INDEX(Database!G$111:G$122,$B38,1)) | J38: =IF($C38="Passive","",INDEX(Database!H$111:H$122,$B38,1)) | K38: =IF($C38="Passive","",INDEX(Database!I$111:I$122,$B38,1)) | ... Q38: =IF($C38="Passive","",INDEX(Database!O$111:O$122,$B38,1))
