Workbook
Name arrow1: IF(Pipeline!$D$9="",Calc!$BM$8,Calc!$BL$8)
Name arrow10: IF(Pipeline!$V$9="",Calc!$BM$8,Calc!$BL$8)
Name arrow11: IF(Pipeline!$X$9="",Calc!$BM$8,Calc!$BL$8)
Name arrow12: IF(Pipeline!$Z$9="",Calc!$BM$8,Calc!$BL$8)
Name arrow13: IF(Pipeline!$AB$9="",Calc!$BM$8,Calc!$BL$8)
Name arrow14: IF(Pipeline!$AD$9="",Calc!$BM$8,Calc!$BL$8)
Name arrow15: IF(Pipeline!$AF$9="",Calc!$BM$8,Calc!$BL$8)
Name arrow2: IF(Pipeline!$F$9="",Calc!$BM$8,Calc!$BL$8)
Name arrow3: IF(Pipeline!$H$9="",Calc!$BM$8,Calc!$BL$8)
Name arrow4: IF(Pipeline!$J$9="",Calc!$BM$8,Calc!$BL$8)
Name arrow5: IF(Pipeline!$L$9="",Calc!$BM$8,Calc!$BL$8)
Name arrow6: IF(Pipeline!$N$9="",Calc!$BM$8,Calc!$BL$8)
Name arrow7: IF(Pipeline!$P$9="",Calc!$BM$8,Calc!$BL$8)
Name arrow8: IF(Pipeline!$R$9="",Calc!$BM$8,Calc!$BL$8)
Name arrow9: IF(Pipeline!$T$9="",Calc!$BM$8,Calc!$BL$8)
Name connector: Calc!$AX$24
Name countItems: Calc!$AT$3
Name currency: Settings!$D$15
Name FunnelA: OFFSET(Calc!$AX$6,1,0,Calc!$AX$5,1)
Name FunnelB: OFFSET(Calc!$AX$6,1,2,Calc!$AX$5,1)
Name FunnelY: OFFSET(Calc!$AX$6,1,-1,Calc!$AX$5,1)
Name Salesman: OFFSET(Calc!$BB$24,0,0,Calc!$BB$22,1)
Name status1: OFFSET(Calc!$BB$24,0,1,Calc!$BB$22,1)
Name status2: OFFSET(Calc!$BB$24,0,2,Calc!$BB$22,1)
Name status3: OFFSET(Calc!$BB$24,0,3,Calc!$BB$22,1)
Name status4: OFFSET(Calc!$BB$24,0,4,Calc!$BB$22,1)
Name status5: OFFSET(Calc!$BB$24,0,5,Calc!$BB$22,1)

Sheet Dashboard
B2: SALES PIPELINE TEMPLATE
B3: DASHBOARD
C6: SALES PERSON | F6: =Settings!I13 & " FROM" -> OPEN DATE FROM | I6: VALUE MIN
C7: STATUS | F7: =Settings!I13 & " TILL" -> OPEN DATE TILL | I7: VALUE MAX

Sheet Input
B2: SALES PIPELINE TEMPLATE
B3: SALES INPUT
B5: SALE TITLE | C5: CONTACT NAME | D5: COMPANY | E5: CONTACT INFORMATION | F5: SALES REPRESENTATIVE | G5: CURRENT STAGE | H5: STATUS | I5: OPEN DATE | J5: CLOSE DATE | K5: DEAL VALUE | L5: PROBABILITY OF WINNING % | M5: NOTES | N5: AVG. EARNING FORECAST | O5: ACTUAL INCOME
B6: SALE TITLE1 | C6: Jemima Begum | D6: Monahan Ltd | E6: jemima@mail.com | F6: Sales Kate | G6: Lead | I6: 44197 | J6: 44201 | K6: 820 | L6: 0.8 | M6: notes1 | N6: =IF(OR(B6="",K6="",L6=""),"",TEXT(K6*L6,"#.#0,00") & " " &currency) -> 656,00 $ | O6: =IF(H6=Settings!$D$6,TEXT(K6,"#.#0,00") & " " &currency,"")
B7: SALE TITLE2 | C7: Mercedes Banks | D7: Farrell and Sons | E7: mercedes@mail.com | F7: Sales John | G7: Initial Contact | I7: 44200 | J7: 44210 | K7: 696 | L7: 0.6 | M7: notes2 | N7: =IF(OR(B7="",K7="",L7=""),"",TEXT(K7*L7,"#.#0,00") & " " &currency) -> 417,60 $ | O7: =IF(H7=Settings!$D$6,TEXT(K7,"#.#0,00") & " " &currency,"")
B8: SALE TITLE3 | C8: Macauley Peck | D8: Nikolaus Ltd | E8: macauley@mail.com | F8: Sales Mia | G8: Qualified Lead | H8: Won | I8: 44203 | J8: 44219 | K8: 1272 | L8: 0.7 | M8: notes3 | N8: =IF(OR(B8="",K8="",L8=""),"",TEXT(K8*L8,"#.#0,00") & " " &currency) -> 890,40 $ | O8: =IF(H8=Settings!$D$6,TEXT(K8,"#.#0,00") & " " &currency,"") -> 1.272,00 $
B9: SALE TITLE4 | C9: Hannah Shaw | D9: Walker-Johnson | E9: hannah@mail.com | F9: Sales Carl | G9: Opportunity | H9: Won | I9: 44206 | J9: 44228 | K9: 1468 | L9: 0.8 | M9: notes4 | N9: =IF(OR(B9="",K9="",L9=""),"",TEXT(K9*L9,"#.#0,00") & " " &currency) -> 1.174,40 $ | O9: =IF(H9=Settings!$D$6,TEXT(K9,"#.#0,00") & " " &currency,"") -> 1.468,00 $
B10: SALE TITLE5 | C10: Carmel Beltran | D10: Dach Ltd | E10: carmel@mail.com | F10: Sales Paul | G10: Solution | H10: Lost | I10: 44209 | J10: 44237 | K10: 823 | L10: 0.8 | M10: notes5 | N10: =IF(OR(B10="",K10="",L10=""),"",TEXT(K10*L10,"#.#0,00") & " " &currency) -> 658,40 $ | O10: =IF(H10=Settings!$D$6,TEXT(K10,"#.#0,00") & " " &currency,"")
B11: SALE TITLE6 | C11: Sarah-Jayne Morrison | D11: Hahn-Wuckert | E11: sarah-jayne@mail.com | F11: Sales Arnie | G11: Proposal Discussed | H11: Won | I11: 44212 | J11: 44246 | K11: 574 | L11: 0.8 | M11: notes6 | N11: =IF(OR(B11="",K11="",L11=""),"",TEXT(K11*L11,"#.#0,00") & " " &currency) -> 459,20 $ | O11: =IF(H11=Settings!$D$6,TEXT(K11,"#.#0,00") & " " &currency,"") -> 574,00 $
B12: SALE TITLE7 | C12: Alyce Milner | D12: Mitchell PLC | E12: alyce@mail.com | F12: Sales Ann | G12: Written Proposal | H12: Won | I12: 44215 | J12: 44255 | K12: 468 | L12: 0.8 | M12: notes7 | N12: =IF(OR(B12="",K12="",L12=""),"",TEXT(K12*L12,"#.#0,00") & " " &currency) -> 374,40 $ | O12: =IF(H12=Settings!$D$6,TEXT(K12,"#.#0,00") & " " &currency,"") -> 468,00 $
N13: =IF(OR(B13="",K13="",L13=""),"",TEXT(K13*L13,"#.#0,00") & " " &currency) | O13: =IF(H13=Settings!$D$6,TEXT(K13,"#.#0,00") & " " &currency,"")
N14: =IF(OR(B14="",K14="",L14=""),"",TEXT(K14*L14,"#.#0,00") & " " &currency) | O14: =IF(H14=Settings!$D$6,TEXT(K14,"#.#0,00") & " " &currency,"")
N15: =IF(OR(B15="",K15="",L15=""),"",TEXT(K15*L15,"#.#0,00") & " " &currency) | O15: =IF(H15=Settings!$D$6,TEXT(K15,"#.#0,00") & " " &currency,"")

Sheet Pipeline
D2: SALES PIPELINE TEMPLATE
D3: PIPELINE
D5: SALES PERSON | H5: =Settings!I13 & " FROM" -> OPEN DATE FROM | L5: VALUE MIN
D6: STATUS | H6: =Settings!I13 & " TILL" -> OPEN DATE TILL | L6: VALUE MAX
D9: Lead | F9: Initial Contact | H9: Qualified Lead | J9: Opportunity | L9: Solution | N9: Proposal Discussed | P9: Written Proposal
D10: {=IFERROR(IF(D$9="","",INDEX(INDEX(Calc!$D$6:$X$1005,,MATCH(INDEX(Calc!$AT$7:$AT$20,COUNTIF(Calc!$BO$6:$BO6,Calc!$BO6),1),Calc!$D$4:$W$4,0)),MATCH(Calc!$BO6&D$9,Calc!$C$6:$C$1005&Calc!$I$6:$I$1005,0),1)),"")} -> SALE TITLE1 | F10: {=IFERROR(IF(F$9="","",INDEX(INDEX(Calc!$D$6:$X$1005,,MATCH(INDEX(Calc!$AT$7:$AT$20,COUNTIF(Calc!$BO$6:$BO6,Calc!$BO6),1),Calc!$D$4:$W$4,0)),MATCH(Calc!$BO6&F$9,Calc!$C$6:$C$1005&Calc!$I$6:$I$1005,0),1)),"")} -> SALE TITLE2 | H10: {=IFERROR(IF(H$9="","",INDEX(INDEX(Calc!$D$6:$X$1005,,MATCH(INDEX(Calc!$AT$7:$AT$20,COUNTIF(Calc!$BO$6:$BO6,Calc!$BO6),1),Calc!$D$4:$W$4,0)),MATCH(Calc!$BO6&H$9,Calc!$C$6:$C$1005&Calc!$I$6:$I$1005,0),1)),"")} -> SALE TITLE3 | J10: {=IFERROR(IF(J$9="","",INDEX(INDEX(Calc!$D$6:$X$1005,,MATCH(INDEX(Calc!$AT$7:$AT$20,COUNTIF(Calc!$BO$6:$BO6,Calc!$BO6),1),Calc!$D$4:$W$4,0)),MATCH(Calc!$BO6&J$9,Calc!$C$6:$C$1005&Calc!$I$6:$I$1005,0),1)),"")} -> SALE TITLE4 | L10: {=IFERROR(IF(L$9="","",INDEX(INDEX(Calc!$D$6:$X$1005,,MATCH(INDEX(Calc!$AT$7:$AT$20,COUNTIF(Calc!$BO$6:$BO6,Calc!$BO6),1),Calc!$D$4:$W$4,0)),MATCH(Calc!$BO6&L$9,Calc!$C$6:$C$1005&Calc!$I$6:$I$1005,0),1)),"")} -> SALE TITLE5 | N10: {=IFERROR(IF(N$9="","",INDEX(INDEX(Calc!$D$6:$X$1005,,MATCH(INDEX(Calc!$AT$7:$AT$20,COUNTIF(Calc!$BO$6:$BO6,Calc!$BO6),1),Calc!$D$4:$W$4,0)),MATCH(Calc!$BO6&N$9,Calc!$C$6:$C$1005&Calc!$I$6:$I$1005,0),1)),"")} -> SALE TITLE6 | P10: {=IFERROR(IF(P$9="","",INDEX(INDEX(Calc!$D$6:$X$1005,,MATCH(INDEX(Calc!$AT$7:$AT$20,COUNTIF(Calc!$BO$6:$BO6,Calc!$BO6),1),Calc!$D$4:$W$4,0)),MATCH(Calc!$BO6&P$9,Calc!$C$6:$C$1005&Calc!$I$6:$I$1005,0),1)),"")} -> SALE TITLE7 | R10: {=IFERROR(IF(R$9="","",INDEX(INDEX(Calc!$D$6:$X$1005,,MATCH(INDEX(Calc!$AT$7:$AT$20,COUNTIF(Calc!$BO$6:$BO6,Calc!$BO6),1),Calc!$D$4:$W$4,0)),MATCH(Calc!$BO6&R$9,Calc!$C$6:$C$1005&Calc!$I$6:$I$1005,0),1)),"")} | T10: {=IFERROR(IF(T$9="","",INDEX(INDEX(Calc!$D$6:$X$1005,,MATCH(INDEX(Calc!$AT$7:$AT$20,COUNTIF(Calc!$BO$6:$BO6,Calc!$BO6),1),Calc!$D$4:$W$4,0)),MATCH(Calc!$BO6&T$9,Calc!$C$6:$C$1005&Calc!$I$6:$I$1005,0),1)),"")} | V10: {=IFERROR(IF(V$9="","",INDEX(INDEX(Calc!$D$6:$X$1005,,MATCH(INDEX(Calc!$AT$7:$AT$20,COUNTIF(Calc!$BO$6:$BO6,Calc!$BO6),1),Calc!$D$4:$W$4,0)),MATCH(Calc!$BO6&V$9,Calc!$C$6:$C$1005&Calc!$I$6:$I$1005,0),1)),"")} | X10: {=IFERROR(IF(X$9="","",INDEX(INDEX(Calc!$D$6:$X$1005,,MATCH(INDEX(Calc!$AT$7:$AT$20,COUNTIF(Calc!$BO$6:$BO6,Calc!$BO6),1),Calc!$D$4:$W$4,0)),MATCH(Calc!$BO6&X$9,Calc!$C$6:$C$1005&Calc!$I$6:$I$1005,0),1)),"")} | Z10: {=IFERROR(IF(Z$9="","",INDEX(INDEX(Calc!$D$6:$X$1005,,MATCH(INDEX(Calc!$AT$7:$AT$20,COUNTIF(Calc!$BO$6:$BO6,Calc!$BO6),1),Calc!$D$4:$W$4,0)),MATCH(Calc!$BO6&Z$9,Calc!$C$6:$C$1005&Calc!$I$6:$I$1005,0),1)),"")} | AB10: {=IFERROR(IF(AB$9="","",INDEX(INDEX(Calc!$D$6:$X$1005,,MATCH(INDEX(Calc!$AT$7:$AT$20,COUNTIF(Calc!$BO$6:$BO6,Calc!$BO6),1),Calc!$D$4:$W$4,0)),MATCH(Calc!$BO6&AB$9,Calc!$C$6:$C$1005&Calc!$I$6:$I$1005,0),1)),"")} | AD10: {=IFERROR(IF(AD$9="","",INDEX(INDEX(Calc!$D$6:$X$1005,,MATCH(INDEX(Calc!$AT$7:$AT$20,COUNTIF(Calc!$BO$6:$BO6,Calc!$BO6),1),Calc!$D$4:$W$4,0)),MATCH(Calc!$BO6&AD$9,Calc!$C$6:$C$1005&Calc!$I$6:$I$1005,0),1)),"")} | AF10: {=IFERROR(IF(AF$9="","",INDEX(INDEX(Calc!$D$6:$X$1005,,MATCH(INDEX(Calc!$AT$7:$AT$20,COUNTIF(Calc!$BO$6:$BO6,Calc!$BO6),1),Calc!$D$4:$W$4,0)),MATCH(Calc!$BO6&AF$9,Calc!$C$6:$C$1005&Calc!$I$6:$I$1005,0),1)),"")}
D11: {=IFERROR(IF(D$9="","",INDEX(INDEX(Calc!$D$6:$X$1005,,MATCH(INDEX(Calc!$AT$7:$AT$20,COUNTIF(Calc!$BO$6:$BO7,Calc!$BO7),1),Calc!$D$4:$W$4,0)),MATCH(Calc!$BO7&D$9,Calc!$C$6:$C$1005&Calc!$I$6:$I$1005,0),1)),"")} -> Jemima Begum | F11: {=IFERROR(IF(F$9="","",INDEX(INDEX(Calc!$D$6:$X$1005,,MATCH(INDEX(Calc!$AT$7:$AT$20,COUNTIF(Calc!$BO$6:$BO7,Calc!$BO7),1),Calc!$D$4:$W$4,0)),MATCH(Calc!$BO7&F$9,Calc!$C$6:$C$1005&Calc!$I$6:$I$1005,0),1)),"")} -> Mercedes Banks | H11: {=IFERROR(IF(H$9="","",INDEX(INDEX(Calc!$D$6:$X$1005,,MATCH(INDEX(Calc!$AT$7:$AT$20,COUNTIF(Calc!$BO$6:$BO7,Calc!$BO7),1),Calc!$D$4:$W$4,0)),MATCH(Calc!$BO7&H$9,Calc!$C$6:$C$1005&Calc!$I$6:$I$1005,0),1)),"")} -> Macauley Peck | J11: {=IFERROR(IF(J$9="","",INDEX(INDEX(Calc!$D$6:$X$1005,,MATCH(INDEX(Calc!$AT$7:$AT$20,COUNTIF(Calc!$BO$6:$BO7,Calc!$BO7),1),Calc!$D$4:$W$4,0)),MATCH(Calc!$BO7&J$9,Calc!$C$6:$C$1005&Calc!$I$6:$I$1005,0),1)),"")} -> Hannah Shaw | L11: {=IFERROR(IF(L$9="","",INDEX(INDEX(Calc!$D$6:$X$1005,,MATCH(INDEX(Calc!$AT$7:$AT$20,COUNTIF(Calc!$BO$6:$BO7,Calc!$BO7),1),Calc!$D$4:$W$4,0)),MATCH(Calc!$BO7&L$9,Calc!$C$6:$C$1005&Calc!$I$6:$I$1005,0),1)),"")} -> Carmel Beltran | N11: {=IFERROR(IF(N$9="","",INDEX(INDEX(Calc!$D$6:$X$1005,,MATCH(INDEX(Calc!$AT$7:$AT$20,COUNTIF(Calc!$BO$6:$BO7,Calc!$BO7),1),Calc!$D$4:$W$4,0)),MATCH(Calc!$BO7&N$9,Calc!$C$6:$C$1005&Calc!$I$6:$I$1005,0),1)),"")} -> Sarah-Jayne Morrison | P11: {=IFERROR(IF(P$9="","",INDEX(INDEX(Calc!$D$6:$X$1005,,MATCH(INDEX(Calc!$AT$7:$AT$20,COUNTIF(Calc!$BO$6:$BO7,Calc!$BO7),1),Calc!$D$4:$W$4,0)),MATCH(Calc!$BO7&P$9,Calc!$C$6:$C$1005&Calc!$I$6:$I$1005,0),1)),"")} -> Alyce Milner | R11: {=IFERROR(IF(R$9="","",INDEX(INDEX(Calc!$D$6:$X$1005,,MATCH(INDEX(Calc!$AT$7:$AT$20,COUNTIF(Calc!$BO$6:$BO7,Calc!$BO7),1),Calc!$D$4:$W$4,0)),MATCH(Calc!$BO7&R$9,Calc!$C$6:$C$1005&Calc!$I$6:$I$1005,0),1)),"")} | T11: {=IFERROR(IF(T$9="","",INDEX(INDEX(Calc!$D$6:$X$1005,,MATCH(INDEX(Calc!$AT$7:$AT$20,COUNTIF(Calc!$BO$6:$BO7,Calc!$BO7),1),Calc!$D$4:$W$4,0)),MATCH(Calc!$BO7&T$9,Calc!$C$6:$C$1005&Calc!$I$6:$I$1005,0),1)),"")} | V11: {=IFERROR(IF(V$9="","",INDEX(INDEX(Calc!$D$6:$X$1005,,MATCH(INDEX(Calc!$AT$7:$AT$20,COUNTIF(Calc!$BO$6:$BO7,Calc!$BO7),1),Calc!$D$4:$W$4,0)),MATCH(Calc!$BO7&V$9,Calc!$C$6:$C$1005&Calc!$I$6:$I$1005,0),1)),"")} | X11: {=IFERROR(IF(X$9="","",INDEX(INDEX(Calc!$D$6:$X$1005,,MATCH(INDEX(Calc!$AT$7:$AT$20,COUNTIF(Calc!$BO$6:$BO7,Calc!$BO7),1),Calc!$D$4:$W$4,0)),MATCH(Calc!$BO7&X$9,Calc!$C$6:$C$1005&Calc!$I$6:$I$1005,0),1)),"")} | Z11: {=IFERROR(IF(Z$9="","",INDEX(INDEX(Calc!$D$6:$X$1005,,MATCH(INDEX(Calc!$AT$7:$AT$20,COUNTIF(Calc!$BO$6:$BO7,Calc!$BO7),1),Calc!$D$4:$W$4,0)),MATCH(Calc!$BO7&Z$9,Calc!$C$6:$C$1005&Calc!$I$6:$I$1005,0),1)),"")} | AB11: {=IFERROR(IF(AB$9="","",INDEX(INDEX(Calc!$D$6:$X$1005,,MATCH(INDEX(Calc!$AT$7:$AT$20,COUNTIF(Calc!$BO$6:$BO7,Calc!$BO7),1),Calc!$D$4:$W$4,0)),MATCH(Calc!$BO7&AB$9,Calc!$C$6:$C$1005&Calc!$I$6:$I$1005,0),1)),"")} | AD11: {=IFERROR(IF(AD$9="","",INDEX(INDEX(Calc!$D$6:$X$1005,,MATCH(INDEX(Calc!$AT$7:$AT$20,COUNTIF(Calc!$BO$6:$BO7,Calc!$BO7),1),Calc!$D$4:$W$4,0)),MATCH(Calc!$BO7&AD$9,Calc!$C$6:$C$1005&Calc!$I$6:$I$1005,0),1)),"")} | AF11: {=IFERROR(IF(AF$9="","",INDEX(INDEX(Calc!$D$6:$X$1005,,MATCH(INDEX(Calc!$AT$7:$AT$20,COUNTIF(Calc!$BO$6:$BO7,Calc!$BO7),1),Calc!$D$4:$W$4,0)),MATCH(Calc!$BO7&AF$9,Calc!$C$6:$C$1005&Calc!$I$6:$I$1005,0),1)),"")}
D12: {=IFERROR(IF(D$9="","",INDEX(INDEX(Calc!$D$6:$X$1005,,MATCH(INDEX(Calc!$AT$7:$AT$20,COUNTIF(Calc!$BO$6:$BO8,Calc!$BO8),1),Calc!$D$4:$W$4,0)),MATCH(Calc!$BO8&D$9,Calc!$C$6:$C$1005&Calc!$I$6:$I$1005,0),1)),"")} -> 5 Jan 2021 | F12: {=IFERROR(IF(F$9="","",INDEX(INDEX(Calc!$D$6:$X$1005,,MATCH(INDEX(Calc!$AT$7:$AT$20,COUNTIF(Calc!$BO$6:$BO8,Calc!$BO8),1),Calc!$D$4:$W$4,0)),MATCH(Calc!$BO8&F$9,Calc!$C$6:$C$1005&Calc!$I$6:$I$1005,0),1)),"")} -> 14 Jan 2021 | H12: {=IFERROR(IF(H$9="","",INDEX(INDEX(Calc!$D$6:$X$1005,,MATCH(INDEX(Calc!$AT$7:$AT$20,COUNTIF(Calc!$BO$6:$BO8,Calc!$BO8),1),Calc!$D$4:$W$4,0)),MATCH(Calc!$BO8&H$9,Calc!$C$6:$C$1005&Calc!$I$6:$I$1005,0),1)),"")} -> 23 Jan 2021 | J12: {=IFERROR(IF(J$9="","",INDEX(INDEX(Calc!$D$6:$X$1005,,MATCH(INDEX(Calc!$AT$7:$AT$20,COUNTIF(Calc!$BO$6:$BO8,Calc!$BO8),1),Calc!$D$4:$W$4,0)),MATCH(Calc!$BO8&J$9,Calc!$C$6:$C$1005&Calc!$I$6:$I$1005,0),1)),"")} -> 1 Feb 2021 | L12: {=IFERROR(IF(L$9="","",INDEX(INDEX(Calc!$D$6:$X$1005,,MATCH(INDEX(Calc!$AT$7:$AT$20,COUNTIF(Calc!$BO$6:$BO8,Calc!$BO8),1),Calc!$D$4:$W$4,0)),MATCH(Calc!$BO8&L$9,Calc!$C$6:$C$1005&Calc!$I$6:$I$1005,0),1)),"")} -> 10 Feb 2021 | N12: {=IFERROR(IF(N$9="","",INDEX(INDEX(Calc!$D$6:$X$1005,,MATCH(INDEX(Calc!$AT$7:$AT$20,COUNTIF(Calc!$BO$6:$BO8,Calc!$BO8),1),Calc!$D$4:$W$4,0)),MATCH(Calc!$BO8&N$9,Calc!$C$6:$C$1005&Calc!$I$6:$I$1005,0),1)),"")} -> 19 Feb 2021 | P12: {=IFERROR(IF(P$9="","",INDEX(INDEX(Calc!$D$6:$X$1005,,MATCH(INDEX(Calc!$AT$7:$AT$20,COUNTIF(Calc!$BO$6:$BO8,Calc!$BO8),1),Calc!$D$4:$W$4,0)),MATCH(Calc!$BO8&P$9,Calc!$C$6:$C$1005&Calc!$I$6:$I$1005,0),1)),"")} -> 28 Feb 2021 | R12: {=IFERROR(IF(R$9="","",INDEX(INDEX(Calc!$D$6:$X$1005,,MATCH(INDEX(Calc!$AT$7:$AT$20,COUNTIF(Calc!$BO$6:$BO8,Calc!$BO8),1),Calc!$D$4:$W$4,0)),MATCH(Calc!$BO8&R$9,Calc!$C$6:$C$1005&Calc!$I$6:$I$1005,0),1)),"")} | T12: {=IFERROR(IF(T$9="","",INDEX(INDEX(Calc!$D$6:$X$1005,,MATCH(INDEX(Calc!$AT$7:$AT$20,COUNTIF(Calc!$BO$6:$BO8,Calc!$BO8),1),Calc!$D$4:$W$4,0)),MATCH(Calc!$BO8&T$9,Calc!$C$6:$C$1005&Calc!$I$6:$I$1005,0),1)),"")} | V12: {=IFERROR(IF(V$9="","",INDEX(INDEX(Calc!$D$6:$X$1005,,MATCH(INDEX(Calc!$AT$7:$AT$20,COUNTIF(Calc!$BO$6:$BO8,Calc!$BO8),1),Calc!$D$4:$W$4,0)),MATCH(Calc!$BO8&V$9,Calc!$C$6:$C$1005&Calc!$I$6:$I$1005,0),1)),"")} | X12: {=IFERROR(IF(X$9="","",INDEX(INDEX(Calc!$D$6:$X$1005,,MATCH(INDEX(Calc!$AT$7:$AT$20,COUNTIF(Calc!$BO$6:$BO8,Calc!$BO8),1),Calc!$D$4:$W$4,0)),MATCH(Calc!$BO8&X$9,Calc!$C$6:$C$1005&Calc!$I$6:$I$1005,0),1)),"")} | Z12: {=IFERROR(IF(Z$9="","",INDEX(INDEX(Calc!$D$6:$X$1005,,MATCH(INDEX(Calc!$AT$7:$AT$20,COUNTIF(Calc!$BO$6:$BO8,Calc!$BO8),1),Calc!$D$4:$W$4,0)),MATCH(Calc!$BO8&Z$9,Calc!$C$6:$C$1005&Calc!$I$6:$I$1005,0),1)),"")} | AB12: {=IFERROR(IF(AB$9="","",INDEX(INDEX(Calc!$D$6:$X$1005,,MATCH(INDEX(Calc!$AT$7:$AT$20,COUNTIF(Calc!$BO$6:$BO8,Calc!$BO8),1),Calc!$D$4:$W$4,0)),MATCH(Calc!$BO8&AB$9,Calc!$C$6:$C$1005&Calc!$I$6:$I$1005,0),1)),"")} | AD12: {=IFERROR(IF(AD$9="","",INDEX(INDEX(Calc!$D$6:$X$1005,,MATCH(INDEX(Calc!$AT$7:$AT$20,COUNTIF(Calc!$BO$6:$BO8,Calc!$BO8),1),Calc!$D$4:$W$4,0)),MATCH(Calc!$BO8&AD$9,Calc!$C$6:$C$1005&Calc!$I$6:$I$1005,0),1)),"")} | AF12: {=IFERROR(IF(AF$9="","",INDEX(INDEX(Calc!$D$6:$X$1005,,MATCH(INDEX(Calc!$AT$7:$AT$20,COUNTIF(Calc!$BO$6:$BO8,Calc!$BO8),1),Calc!$D$4:$W$4,0)),MATCH(Calc!$BO8&AF$9,Calc!$C$6:$C$1005&Calc!$I$6:$I$1005,0),1)),"")}
D13: {=IFERROR(IF(D$9="","",INDEX(INDEX(Calc!$D$6:$X$1005,,MATCH(INDEX(Calc!$AT$7:$AT$20,COUNTIF(Calc!$BO$6:$BO9,Calc!$BO9),1),Calc!$D$4:$W$4,0)),MATCH(Calc!$BO9&D$9,Calc!$C$6:$C$1005&Calc!$I$6:$I$1005,0),1)),"")} -> Forecast: 656 $ | F13: {=IFERROR(IF(F$9="","",INDEX(INDEX(Calc!$D$6:$X$1005,,MATCH(INDEX(Calc!$AT$7:$AT$20,COUNTIF(Calc!$BO$6:$BO9,Calc!$BO9),1),Calc!$D$4:$W$4,0)),MATCH(Calc!$BO9&F$9,Calc!$C$6:$C$1005&Calc!$I$6:$I$1005,0),1)),"")} -> Forecast: 417,6 $ | H13: {=IFERROR(IF(H$9="","",INDEX(INDEX(Calc!$D$6:$X$1005,,MATCH(INDEX(Calc!$AT$7:$AT$20,COUNTIF(Calc!$BO$6:$BO9,Calc!$BO9),1),Calc!$D$4:$W$4,0)),MATCH(Calc!$BO9&H$9,Calc!$C$6:$C$1005&Calc!$I$6:$I$1005,0),1)),"")} -> Forecast: 890,4 $ | J13: {=IFERROR(IF(J$9="","",INDEX(INDEX(Calc!$D$6:$X$1005,,MATCH(INDEX(Calc!$AT$7:$AT$20,COUNTIF(Calc!$BO$6:$BO9,Calc!$BO9),1),Calc!$D$4:$W$4,0)),MATCH(Calc!$BO9&J$9,Calc!$C$6:$C$1005&Calc!$I$6:$I$1005,0),1)),"")} -> Forecast: 1174,4 $ | L13: {=IFERROR(IF(L$9="","",INDEX(INDEX(Calc!$D$6:$X$1005,,MATCH(INDEX(Calc!$AT$7:$AT$20,COUNTIF(Calc!$BO$6:$BO9,Calc!$BO9),1),Calc!$D$4:$W$4,0)),MATCH(Calc!$BO9&L$9,Calc!$C$6:$C$1005&Calc!$I$6:$I$1005,0),1)),"")} -> Forecast: 658,4 $ | N13: {=IFERROR(IF(N$9="","",INDEX(INDEX(Calc!$D$6:$X$1005,,MATCH(INDEX(Calc!$AT$7:$AT$20,COUNTIF(Calc!$BO$6:$BO9,Calc!$BO9),1),Calc!$D$4:$W$4,0)),MATCH(Calc!$BO9&N$9,Calc!$C$6:$C$1005&Calc!$I$6:$I$1005,0),1)),"")} -> Forecast: 459,2 $ | P13: {=IFERROR(IF(P$9="","",INDEX(INDEX(Calc!$D$6:$X$1005,,MATCH(INDEX(Calc!$AT$7:$AT$20,COUNTIF(Calc!$BO$6:$BO9,Calc!$BO9),1),Calc!$D$4:$W$4,0)),MATCH(Calc!$BO9&P$9,Calc!$C$6:$C$1005&Calc!$I$6:$I$1005,0),1)),"")} -> Forecast: 374,4 $ | R13: {=IFERROR(IF(R$9="","",INDEX(INDEX(Calc!$D$6:$X$1005,,MATCH(INDEX(Calc!$AT$7:$AT$20,COUNTIF(Calc!$BO$6:$BO9,Calc!$BO9),1),Calc!$D$4:$W$4,0)),MATCH(Calc!$BO9&R$9,Calc!$C$6:$C$1005&Calc!$I$6:$I$1005,0),1)),"")} | T13: {=IFERROR(IF(T$9="","",INDEX(INDEX(Calc!$D$6:$X$1005,,MATCH(INDEX(Calc!$AT$7:$AT$20,COUNTIF(Calc!$BO$6:$BO9,Calc!$BO9),1),Calc!$D$4:$W$4,0)),MATCH(Calc!$BO9&T$9,Calc!$C$6:$C$1005&Calc!$I$6:$I$1005,0),1)),"")} | V13: {=IFERROR(IF(V$9="","",INDEX(INDEX(Calc!$D$6:$X$1005,,MATCH(INDEX(Calc!$AT$7:$AT$20,COUNTIF(Calc!$BO$6:$BO9,Calc!$BO9),1),Calc!$D$4:$W$4,0)),MATCH(Calc!$BO9&V$9,Calc!$C$6:$C$1005&Calc!$I$6:$I$1005,0),1)),"")} | X13: {=IFERROR(IF(X$9="","",INDEX(INDEX(Calc!$D$6:$X$1005,,MATCH(INDEX(Calc!$AT$7:$AT$20,COUNTIF(Calc!$BO$6:$BO9,Calc!$BO9),1),Calc!$D$4:$W$4,0)),MATCH(Calc!$BO9&X$9,Calc!$C$6:$C$1005&Calc!$I$6:$I$1005,0),1)),"")} | Z13: {=IFERROR(IF(Z$9="","",INDEX(INDEX(Calc!$D$6:$X$1005,,MATCH(INDEX(Calc!$AT$7:$AT$20,COUNTIF(Calc!$BO$6:$BO9,Calc!$BO9),1),Calc!$D$4:$W$4,0)),MATCH(Calc!$BO9&Z$9,Calc!$C$6:$C$1005&Calc!$I$6:$I$1005,0),1)),"")} | AB13: {=IFERROR(IF(AB$9="","",INDEX(INDEX(Calc!$D$6:$X$1005,,MATCH(INDEX(Calc!$AT$7:$AT$20,COUNTIF(Calc!$BO$6:$BO9,Calc!$BO9),1),Calc!$D$4:$W$4,0)),MATCH(Calc!$BO9&AB$9,Calc!$C$6:$C$1005&Calc!$I$6:$I$1005,0),1)),"")} | AD13: {=IFERROR(IF(AD$9="","",INDEX(INDEX(Calc!$D$6:$X$1005,,MATCH(INDEX(Calc!$AT$7:$AT$20,COUNTIF(Calc!$BO$6:$BO9,Calc!$BO9),1),Calc!$D$4:$W$4,0)),MATCH(Calc!$BO9&AD$9,Calc!$C$6:$C$1005&Calc!$I$6:$I$1005,0),1)),"")} | AF13: {=IFERROR(IF(AF$9="","",INDEX(INDEX(Calc!$D$6:$X$1005,,MATCH(INDEX(Calc!$AT$7:$AT$20,COUNTIF(Calc!$BO$6:$BO9,Calc!$BO9),1),Calc!$D$4:$W$4,0)),MATCH(Calc!$BO9&AF$9,Calc!$C$6:$C$1005&Calc!$I$6:$I$1005,0),1)),"")}
D14: {=IFERROR(IF(D$9="","",INDEX(INDEX(Calc!$D$6:$X$1005,,MATCH(INDEX(Calc!$AT$7:$AT$20,COUNTIF(Calc!$BO$6:$BO10,Calc!$BO10),1),Calc!$D$4:$W$4,0)),MATCH(Calc!$BO10&D$9,Calc!$C$6:$C$1005&Calc!$I$6:$I$1005,0),1)),"")} | F14: {=IFERROR(IF(F$9="","",INDEX(INDEX(Calc!$D$6:$X$1005,,MATCH(INDEX(Calc!$AT$7:$AT$20,COUNTIF(Calc!$BO$6:$BO10,Calc!$BO10),1),Calc!$D$4:$W$4,0)),MATCH(Calc!$BO10&F$9,Calc!$C$6:$C$1005&Calc!$I$6:$I$1005,0),1)),"")} | H14: {=IFERROR(IF(H$9="","",INDEX(INDEX(Calc!$D$6:$X$1005,,MATCH(INDEX(Calc!$AT$7:$AT$20,COUNTIF(Calc!$BO$6:$BO10,Calc!$BO10),1),Calc!$D$4:$W$4,0)),MATCH(Calc!$BO10&H$9,Calc!$C$6:$C$1005&Calc!$I$6:$I$1005,0),1)),"")} | J14: {=IFERROR(IF(J$9="","",INDEX(INDEX(Calc!$D$6:$X$1005,,MATCH(INDEX(Calc!$AT$7:$AT$20,COUNTIF(Calc!$BO$6:$BO10,Calc!$BO10),1),Calc!$D$4:$W$4,0)),MATCH(Calc!$BO10&J$9,Calc!$C$6:$C$1005&Calc!$I$6:$I$1005,0),1)),"")} | L14: {=IFERROR(IF(L$9="","",INDEX(INDEX(Calc!$D$6:$X$1005,,MATCH(INDEX(Calc!$AT$7:$AT$20,COUNTIF(Calc!$BO$6:$BO10,Calc!$BO10),1),Calc!$D$4:$W$4,0)),MATCH(Calc!$BO10&L$9,Calc!$C$6:$C$1005&Calc!$I$6:$I$1005,0),1)),"")} | N14: {=IFERROR(IF(N$9="","",INDEX(INDEX(Calc!$D$6:$X$1005,,MATCH(INDEX(Calc!$AT$7:$AT$20,COUNTIF(Calc!$BO$6:$BO10,Calc!$BO10),1),Calc!$D$4:$W$4,0)),MATCH(Calc!$BO10&N$9,Calc!$C$6:$C$1005&Calc!$I$6:$I$1005,0),1)),"")} | P14: {=IFERROR(IF(P$9="","",INDEX(INDEX(Calc!$D$6:$X$1005,,MATCH(INDEX(Calc!$AT$7:$AT$20,COUNTIF(Calc!$BO$6:$BO10,Calc!$BO10),1),Calc!$D$4:$W$4,0)),MATCH(Calc!$BO10&P$9,Calc!$C$6:$C$1005&Calc!$I$6:$I$1005,0),1)),"")} | R14: {=IFERROR(IF(R$9="","",INDEX(INDEX(Calc!$D$6:$X$1005,,MATCH(INDEX(Calc!$AT$7:$AT$20,COUNTIF(Calc!$BO$6:$BO10,Calc!$BO10),1),Calc!$D$4:$W$4,0)),MATCH(Calc!$BO10&R$9,Calc!$C$6:$C$1005&Calc!$I$6:$I$1005,0),1)),"")} | T14: {=IFERROR(IF(T$9="","",INDEX(INDEX(Calc!$D$6:$X$1005,,MATCH(INDEX(Calc!$AT$7:$AT$20,COUNTIF(Calc!$BO$6:$BO10,Calc!$BO10),1),Calc!$D$4:$W$4,0)),MATCH(Calc!$BO10&T$9,Calc!$C$6:$C$1005&Calc!$I$6:$I$1005,0),1)),"")} | V14: {=IFERROR(IF(V$9="","",INDEX(INDEX(Calc!$D$6:$X$1005,,MATCH(INDEX(Calc!$AT$7:$AT$20,COUNTIF(Calc!$BO$6:$BO10,Calc!$BO10),1),Calc!$D$4:$W$4,0)),MATCH(Calc!$BO10&V$9,Calc!$C$6:$C$1005&Calc!$I$6:$I$1005,0),1)),"")} | X14: {=IFERROR(IF(X$9="","",INDEX(INDEX(Calc!$D$6:$X$1005,,MATCH(INDEX(Calc!$AT$7:$AT$20,COUNTIF(Calc!$BO$6:$BO10,Calc!$BO10),1),Calc!$D$4:$W$4,0)),MATCH(Calc!$BO10&X$9,Calc!$C$6:$C$1005&Calc!$I$6:$I$1005,0),1)),"")} | Z14: {=IFERROR(IF(Z$9="","",INDEX(INDEX(Calc!$D$6:$X$1005,,MATCH(INDEX(Calc!$AT$7:$AT$20,COUNTIF(Calc!$BO$6:$BO10,Calc!$BO10),1),Calc!$D$4:$W$4,0)),MATCH(Calc!$BO10&Z$9,Calc!$C$6:$C$1005&Calc!$I$6:$I$1005,0),1)),"")} | AB14: {=IFERROR(IF(AB$9="","",INDEX(INDEX(Calc!$D$6:$X$1005,,MATCH(INDEX(Calc!$AT$7:$AT$20,COUNTIF(Calc!$BO$6:$BO10,Calc!$BO10),1),Calc!$D$4:$W$4,0)),MATCH(Calc!$BO10&AB$9,Calc!$C$6:$C$1005&Calc!$I$6:$I$1005,0),1)),"")} | AD14: {=IFERROR(IF(AD$9="","",INDEX(INDEX(Calc!$D$6:$X$1005,,MATCH(INDEX(Calc!$AT$7:$AT$20,COUNTIF(Calc!$BO$6:$BO10,Calc!$BO10),1),Calc!$D$4:$W$4,0)),MATCH(Calc!$BO10&AD$9,Calc!$C$6:$C$1005&Calc!$I$6:$I$1005,0),1)),"")} | AF14: {=IFERROR(IF(AF$9="","",INDEX(INDEX(Calc!$D$6:$X$1005,,MATCH(INDEX(Calc!$AT$7:$AT$20,COUNTIF(Calc!$BO$6:$BO10,Calc!$BO10),1),Calc!$D$4:$W$4,0)),MATCH(Calc!$BO10&AF$9,Calc!$C$6:$C$1005&Calc!$I$6:$I$1005,0),1)),"")}
D15: {=IFERROR(IF(D$9="","",INDEX(INDEX(Calc!$D$6:$X$1005,,MATCH(INDEX(Calc!$AT$7:$AT$20,COUNTIF(Calc!$BO$6:$BO11,Calc!$BO11),1),Calc!$D$4:$W$4,0)),MATCH(Calc!$BO11&D$9,Calc!$C$6:$C$1005&Calc!$I$6:$I$1005,0),1)),"")} | F15: {=IFERROR(IF(F$9="","",INDEX(INDEX(Calc!$D$6:$X$1005,,MATCH(INDEX(Calc!$AT$7:$AT$20,COUNTIF(Calc!$BO$6:$BO11,Calc!$BO11),1),Calc!$D$4:$W$4,0)),MATCH(Calc!$BO11&F$9,Calc!$C$6:$C$1005&Calc!$I$6:$I$1005,0),1)),"")} | H15: {=IFERROR(IF(H$9="","",INDEX(INDEX(Calc!$D$6:$X$1005,,MATCH(INDEX(Calc!$AT$7:$AT$20,COUNTIF(Calc!$BO$6:$BO11,Calc!$BO11),1),Calc!$D$4:$W$4,0)),MATCH(Calc!$BO11&H$9,Calc!$C$6:$C$1005&Calc!$I$6:$I$1005,0),1)),"")} | J15: {=IFERROR(IF(J$9="","",INDEX(INDEX(Calc!$D$6:$X$1005,,MATCH(INDEX(Calc!$AT$7:$AT$20,COUNTIF(Calc!$BO$6:$BO11,Calc!$BO11),1),Calc!$D$4:$W$4,0)),MATCH(Calc!$BO11&J$9,Calc!$C$6:$C$1005&Calc!$I$6:$I$1005,0),1)),"")} | L15: {=IFERROR(IF(L$9="","",INDEX(INDEX(Calc!$D$6:$X$1005,,MATCH(INDEX(Calc!$AT$7:$AT$20,COUNTIF(Calc!$BO$6:$BO11,Calc!$BO11),1),Calc!$D$4:$W$4,0)),MATCH(Calc!$BO11&L$9,Calc!$C$6:$C$1005&Calc!$I$6:$I$1005,0),1)),"")} | N15: {=IFERROR(IF(N$9="","",INDEX(INDEX(Calc!$D$6:$X$1005,,MATCH(INDEX(Calc!$AT$7:$AT$20,COUNTIF(Calc!$BO$6:$BO11,Calc!$BO11),1),Calc!$D$4:$W$4,0)),MATCH(Calc!$BO11&N$9,Calc!$C$6:$C$1005&Calc!$I$6:$I$1005,0),1)),"")} | P15: {=IFERROR(IF(P$9="","",INDEX(INDEX(Calc!$D$6:$X$1005,,MATCH(INDEX(Calc!$AT$7:$AT$20,COUNTIF(Calc!$BO$6:$BO11,Calc!$BO11),1),Calc!$D$4:$W$4,0)),MATCH(Calc!$BO11&P$9,Calc!$C$6:$C$1005&Calc!$I$6:$I$1005,0),1)),"")} | R15: {=IFERROR(IF(R$9="","",INDEX(INDEX(Calc!$D$6:$X$1005,,MATCH(INDEX(Calc!$AT$7:$AT$20,COUNTIF(Calc!$BO$6:$BO11,Calc!$BO11),1),Calc!$D$4:$W$4,0)),MATCH(Calc!$BO11&R$9,Calc!$C$6:$C$1005&Calc!$I$6:$I$1005,0),1)),"")} | T15: {=IFERROR(IF(T$9="","",INDEX(INDEX(Calc!$D$6:$X$1005,,MATCH(INDEX(Calc!$AT$7:$AT$20,COUNTIF(Calc!$BO$6:$BO11,Calc!$BO11),1),Calc!$D$4:$W$4,0)),MATCH(Calc!$BO11&T$9,Calc!$C$6:$C$1005&Calc!$I$6:$I$1005,0),1)),"")} | V15: {=IFERROR(IF(V$9="","",INDEX(INDEX(Calc!$D$6:$X$1005,,MATCH(INDEX(Calc!$AT$7:$AT$20,COUNTIF(Calc!$BO$6:$BO11,Calc!$BO11),1),Calc!$D$4:$W$4,0)),MATCH(Calc!$BO11&V$9,Calc!$C$6:$C$1005&Calc!$I$6:$I$1005,0),1)),"")} | X15: {=IFERROR(IF(X$9="","",INDEX(INDEX(Calc!$D$6:$X$1005,,MATCH(INDEX(Calc!$AT$7:$AT$20,COUNTIF(Calc!$BO$6:$BO11,Calc!$BO11),1),Calc!$D$4:$W$4,0)),MATCH(Calc!$BO11&X$9,Calc!$C$6:$C$1005&Calc!$I$6:$I$1005,0),1)),"")} | Z15: {=IFERROR(IF(Z$9="","",INDEX(INDEX(Calc!$D$6:$X$1005,,MATCH(INDEX(Calc!$AT$7:$AT$20,COUNTIF(Calc!$BO$6:$BO11,Calc!$BO11),1),Calc!$D$4:$W$4,0)),MATCH(Calc!$BO11&Z$9,Calc!$C$6:$C$1005&Calc!$I$6:$I$1005,0),1)),"")} | AB15: {=IFERROR(IF(AB$9="","",INDEX(INDEX(Calc!$D$6:$X$1005,,MATCH(INDEX(Calc!$AT$7:$AT$20,COUNTIF(Calc!$BO$6:$BO11,Calc!$BO11),1),Calc!$D$4:$W$4,0)),MATCH(Calc!$BO11&AB$9,Calc!$C$6:$C$1005&Calc!$I$6:$I$1005,0),1)),"")} | AD15: {=IFERROR(IF(AD$9="","",INDEX(INDEX(Calc!$D$6:$X$1005,,MATCH(INDEX(Calc!$AT$7:$AT$20,COUNTIF(Calc!$BO$6:$BO11,Calc!$BO11),1),Calc!$D$4:$W$4,0)),MATCH(Calc!$BO11&AD$9,Calc!$C$6:$C$1005&Calc!$I$6:$I$1005,0),1)),"")} | AF15: {=IFERROR(IF(AF$9="","",INDEX(INDEX(Calc!$D$6:$X$1005,,MATCH(INDEX(Calc!$AT$7:$AT$20,COUNTIF(Calc!$BO$6:$BO11,Calc!$BO11),1),Calc!$D$4:$W$4,0)),MATCH(Calc!$BO11&AF$9,Calc!$C$6:$C$1005&Calc!$I$6:$I$1005,0),1)),"")}
D16: {=IFERROR(IF(D$9="","",INDEX(INDEX(Calc!$D$6:$X$1005,,MATCH(INDEX(Calc!$AT$7:$AT$20,COUNTIF(Calc!$BO$6:$BO12,Calc!$BO12),1),Calc!$D$4:$W$4,0)),MATCH(Calc!$BO12&D$9,Calc!$C$6:$C$1005&Calc!$I$6:$I$1005,0),1)),"")} | F16: {=IFERROR(IF(F$9="","",INDEX(INDEX(Calc!$D$6:$X$1005,,MATCH(INDEX(Calc!$AT$7:$AT$20,COUNTIF(Calc!$BO$6:$BO12,Calc!$BO12),1),Calc!$D$4:$W$4,0)),MATCH(Calc!$BO12&F$9,Calc!$C$6:$C$1005&Calc!$I$6:$I$1005,0),1)),"")} | H16: {=IFERROR(IF(H$9="","",INDEX(INDEX(Calc!$D$6:$X$1005,,MATCH(INDEX(Calc!$AT$7:$AT$20,COUNTIF(Calc!$BO$6:$BO12,Calc!$BO12),1),Calc!$D$4:$W$4,0)),MATCH(Calc!$BO12&H$9,Calc!$C$6:$C$1005&Calc!$I$6:$I$1005,0),1)),"")} | J16: {=IFERROR(IF(J$9="","",INDEX(INDEX(Calc!$D$6:$X$1005,,MATCH(INDEX(Calc!$AT$7:$AT$20,COUNTIF(Calc!$BO$6:$BO12,Calc!$BO12),1),Calc!$D$4:$W$4,0)),MATCH(Calc!$BO12&J$9,Calc!$C$6:$C$1005&Calc!$I$6:$I$1005,0),1)),"")} | L16: {=IFERROR(IF(L$9="","",INDEX(INDEX(Calc!$D$6:$X$1005,,MATCH(INDEX(Calc!$AT$7:$AT$20,COUNTIF(Calc!$BO$6:$BO12,Calc!$BO12),1),Calc!$D$4:$W$4,0)),MATCH(Calc!$BO12&L$9,Calc!$C$6:$C$1005&Calc!$I$6:$I$1005,0),1)),"")} | N16: {=IFERROR(IF(N$9="","",INDEX(INDEX(Calc!$D$6:$X$1005,,MATCH(INDEX(Calc!$AT$7:$AT$20,COUNTIF(Calc!$BO$6:$BO12,Calc!$BO12),1),Calc!$D$4:$W$4,0)),MATCH(Calc!$BO12&N$9,Calc!$C$6:$C$1005&Calc!$I$6:$I$1005,0),1)),"")} | P16: {=IFERROR(IF(P$9="","",INDEX(INDEX(Calc!$D$6:$X$1005,,MATCH(INDEX(Calc!$AT$7:$AT$20,COUNTIF(Calc!$BO$6:$BO12,Calc!$BO12),1),Calc!$D$4:$W$4,0)),MATCH(Calc!$BO12&P$9,Calc!$C$6:$C$1005&Calc!$I$6:$I$1005,0),1)),"")} | R16: {=IFERROR(IF(R$9="","",INDEX(INDEX(Calc!$D$6:$X$1005,,MATCH(INDEX(Calc!$AT$7:$AT$20,COUNTIF(Calc!$BO$6:$BO12,Calc!$BO12),1),Calc!$D$4:$W$4,0)),MATCH(Calc!$BO12&R$9,Calc!$C$6:$C$1005&Calc!$I$6:$I$1005,0),1)),"")} | T16: {=IFERROR(IF(T$9="","",INDEX(INDEX(Calc!$D$6:$X$1005,,MATCH(INDEX(Calc!$AT$7:$AT$20,COUNTIF(Calc!$BO$6:$BO12,Calc!$BO12),1),Calc!$D$4:$W$4,0)),MATCH(Calc!$BO12&T$9,Calc!$C$6:$C$1005&Calc!$I$6:$I$1005,0),1)),"")} | V16: {=IFERROR(IF(V$9="","",INDEX(INDEX(Calc!$D$6:$X$1005,,MATCH(INDEX(Calc!$AT$7:$AT$20,COUNTIF(Calc!$BO$6:$BO12,Calc!$BO12),1),Calc!$D$4:$W$4,0)),MATCH(Calc!$BO12&V$9,Calc!$C$6:$C$1005&Calc!$I$6:$I$1005,0),1)),"")} | X16: {=IFERROR(IF(X$9="","",INDEX(INDEX(Calc!$D$6:$X$1005,,MATCH(INDEX(Calc!$AT$7:$AT$20,COUNTIF(Calc!$BO$6:$BO12,Calc!$BO12),1),Calc!$D$4:$W$4,0)),MATCH(Calc!$BO12&X$9,Calc!$C$6:$C$1005&Calc!$I$6:$I$1005,0),1)),"")} | Z16: {=IFERROR(IF(Z$9="","",INDEX(INDEX(Calc!$D$6:$X$1005,,MATCH(INDEX(Calc!$AT$7:$AT$20,COUNTIF(Calc!$BO$6:$BO12,Calc!$BO12),1),Calc!$D$4:$W$4,0)),MATCH(Calc!$BO12&Z$9,Calc!$C$6:$C$1005&Calc!$I$6:$I$1005,0),1)),"")} | AB16: {=IFERROR(IF(AB$9="","",INDEX(INDEX(Calc!$D$6:$X$1005,,MATCH(INDEX(Calc!$AT$7:$AT$20,COUNTIF(Calc!$BO$6:$BO12,Calc!$BO12),1),Calc!$D$4:$W$4,0)),MATCH(Calc!$BO12&AB$9,Calc!$C$6:$C$1005&Calc!$I$6:$I$1005,0),1)),"")} | AD16: {=IFERROR(IF(AD$9="","",INDEX(INDEX(Calc!$D$6:$X$1005,,MATCH(INDEX(Calc!$AT$7:$AT$20,COUNTIF(Calc!$BO$6:$BO12,Calc!$BO12),1),Calc!$D$4:$W$4,0)),MATCH(Calc!$BO12&AD$9,Calc!$C$6:$C$1005&Calc!$I$6:$I$1005,0),1)),"")} | AF16: {=IFERROR(IF(AF$9="","",INDEX(INDEX(Calc!$D$6:$X$1005,,MATCH(INDEX(Calc!$AT$7:$AT$20,COUNTIF(Calc!$BO$6:$BO12,Calc!$BO12),1),Calc!$D$4:$W$4,0)),MATCH(Calc!$BO12&AF$9,Calc!$C$6:$C$1005&Calc!$I$6:$I$1005,0),1)),"")}
D17: {=IFERROR(IF(D$9="","",INDEX(INDEX(Calc!$D$6:$X$1005,,MATCH(INDEX(Calc!$AT$7:$AT$20,COUNTIF(Calc!$BO$6:$BO13,Calc!$BO13),1),Calc!$D$4:$W$4,0)),MATCH(Calc!$BO13&D$9,Calc!$C$6:$C$1005&Calc!$I$6:$I$1005,0),1)),"")} | F17: {=IFERROR(IF(F$9="","",INDEX(INDEX(Calc!$D$6:$X$1005,,MATCH(INDEX(Calc!$AT$7:$AT$20,COUNTIF(Calc!$BO$6:$BO13,Calc!$BO13),1),Calc!$D$4:$W$4,0)),MATCH(Calc!$BO13&F$9,Calc!$C$6:$C$1005&Calc!$I$6:$I$1005,0),1)),"")} | H17: {=IFERROR(IF(H$9="","",INDEX(INDEX(Calc!$D$6:$X$1005,,MATCH(INDEX(Calc!$AT$7:$AT$20,COUNTIF(Calc!$BO$6:$BO13,Calc!$BO13),1),Calc!$D$4:$W$4,0)),MATCH(Calc!$BO13&H$9,Calc!$C$6:$C$1005&Calc!$I$6:$I$1005,0),1)),"")} | J17: {=IFERROR(IF(J$9="","",INDEX(INDEX(Calc!$D$6:$X$1005,,MATCH(INDEX(Calc!$AT$7:$AT$20,COUNTIF(Calc!$BO$6:$BO13,Calc!$BO13),1),Calc!$D$4:$W$4,0)),MATCH(Calc!$BO13&J$9,Calc!$C$6:$C$1005&Calc!$I$6:$I$1005,0),1)),"")} | L17: {=IFERROR(IF(L$9="","",INDEX(INDEX(Calc!$D$6:$X$1005,,MATCH(INDEX(Calc!$AT$7:$AT$20,COUNTIF(Calc!$BO$6:$BO13,Calc!$BO13),1),Calc!$D$4:$W$4,0)),MATCH(Calc!$BO13&L$9,Calc!$C$6:$C$1005&Calc!$I$6:$I$1005,0),1)),"")} | N17: {=IFERROR(IF(N$9="","",INDEX(INDEX(Calc!$D$6:$X$1005,,MATCH(INDEX(Calc!$AT$7:$AT$20,COUNTIF(Calc!$BO$6:$BO13,Calc!$BO13),1),Calc!$D$4:$W$4,0)),MATCH(Calc!$BO13&N$9,Calc!$C$6:$C$1005&Calc!$I$6:$I$1005,0),1)),"")} | P17: {=IFERROR(IF(P$9="","",INDEX(INDEX(Calc!$D$6:$X$1005,,MATCH(INDEX(Calc!$AT$7:$AT$20,COUNTIF(Calc!$BO$6:$BO13,Calc!$BO13),1),Calc!$D$4:$W$4,0)),MATCH(Calc!$BO13&P$9,Calc!$C$6:$C$1005&Calc!$I$6:$I$1005,0),1)),"")} | R17: {=IFERROR(IF(R$9="","",INDEX(INDEX(Calc!$D$6:$X$1005,,MATCH(INDEX(Calc!$AT$7:$AT$20,COUNTIF(Calc!$BO$6:$BO13,Calc!$BO13),1),Calc!$D$4:$W$4,0)),MATCH(Calc!$BO13&R$9,Calc!$C$6:$C$1005&Calc!$I$6:$I$1005,0),1)),"")} | T17: {=IFERROR(IF(T$9="","",INDEX(INDEX(Calc!$D$6:$X$1005,,MATCH(INDEX(Calc!$AT$7:$AT$20,COUNTIF(Calc!$BO$6:$BO13,Calc!$BO13),1),Calc!$D$4:$W$4,0)),MATCH(Calc!$BO13&T$9,Calc!$C$6:$C$1005&Calc!$I$6:$I$1005,0),1)),"")} | V17: {=IFERROR(IF(V$9="","",INDEX(INDEX(Calc!$D$6:$X$1005,,MATCH(INDEX(Calc!$AT$7:$AT$20,COUNTIF(Calc!$BO$6:$BO13,Calc!$BO13),1),Calc!$D$4:$W$4,0)),MATCH(Calc!$BO13&V$9,Calc!$C$6:$C$1005&Calc!$I$6:$I$1005,0),1)),"")} | X17: {=IFERROR(IF(X$9="","",INDEX(INDEX(Calc!$D$6:$X$1005,,MATCH(INDEX(Calc!$AT$7:$AT$20,COUNTIF(Calc!$BO$6:$BO13,Calc!$BO13),1),Calc!$D$4:$W$4,0)),MATCH(Calc!$BO13&X$9,Calc!$C$6:$C$1005&Calc!$I$6:$I$1005,0),1)),"")} | Z17: {=IFERROR(IF(Z$9="","",INDEX(INDEX(Calc!$D$6:$X$1005,,MATCH(INDEX(Calc!$AT$7:$AT$20,COUNTIF(Calc!$BO$6:$BO13,Calc!$BO13),1),Calc!$D$4:$W$4,0)),MATCH(Calc!$BO13&Z$9,Calc!$C$6:$C$1005&Calc!$I$6:$I$1005,0),1)),"")} | AB17: {=IFERROR(IF(AB$9="","",INDEX(INDEX(Calc!$D$6:$X$1005,,MATCH(INDEX(Calc!$AT$7:$AT$20,COUNTIF(Calc!$BO$6:$BO13,Calc!$BO13),1),Calc!$D$4:$W$4,0)),MATCH(Calc!$BO13&AB$9,Calc!$C$6:$C$1005&Calc!$I$6:$I$1005,0),1)),"")} | AD17: {=IFERROR(IF(AD$9="","",INDEX(INDEX(Calc!$D$6:$X$1005,,MATCH(INDEX(Calc!$AT$7:$AT$20,COUNTIF(Calc!$BO$6:$BO13,Calc!$BO13),1),Calc!$D$4:$W$4,0)),MATCH(Calc!$BO13&AD$9,Calc!$C$6:$C$1005&Calc!$I$6:$I$1005,0),1)),"")} | AF17: {=IFERROR(IF(AF$9="","",INDEX(INDEX(Calc!$D$6:$X$1005,,MATCH(INDEX(Calc!$AT$7:$AT$20,COUNTIF(Calc!$BO$6:$BO13,Calc!$BO13),1),Calc!$D$4:$W$4,0)),MATCH(Calc!$BO13&AF$9,Calc!$C$6:$C$1005&Calc!$I$6:$I$1005,0),1)),"")}
D18: {=IFERROR(IF(D$9="","",INDEX(INDEX(Calc!$D$6:$X$1005,,MATCH(INDEX(Calc!$AT$7:$AT$20,COUNTIF(Calc!$BO$6:$BO14,Calc!$BO14),1),Calc!$D$4:$W$4,0)),MATCH(Calc!$BO14&D$9,Calc!$C$6:$C$1005&Calc!$I$6:$I$1005,0),1)),"")} | F18: {=IFERROR(IF(F$9="","",INDEX(INDEX(Calc!$D$6:$X$1005,,MATCH(INDEX(Calc!$AT$7:$AT$20,COUNTIF(Calc!$BO$6:$BO14,Calc!$BO14),1),Calc!$D$4:$W$4,0)),MATCH(Calc!$BO14&F$9,Calc!$C$6:$C$1005&Calc!$I$6:$I$1005,0),1)),"")} | H18: {=IFERROR(IF(H$9="","",INDEX(INDEX(Calc!$D$6:$X$1005,,MATCH(INDEX(Calc!$AT$7:$AT$20,COUNTIF(Calc!$BO$6:$BO14,Calc!$BO14),1),Calc!$D$4:$W$4,0)),MATCH(Calc!$BO14&H$9,Calc!$C$6:$C$1005&Calc!$I$6:$I$1005,0),1)),"")} | J18: {=IFERROR(IF(J$9="","",INDEX(INDEX(Calc!$D$6:$X$1005,,MATCH(INDEX(Calc!$AT$7:$AT$20,COUNTIF(Calc!$BO$6:$BO14,Calc!$BO14),1),Calc!$D$4:$W$4,0)),MATCH(Calc!$BO14&J$9,Calc!$C$6:$C$1005&Calc!$I$6:$I$1005,0),1)),"")} | L18: {=IFERROR(IF(L$9="","",INDEX(INDEX(Calc!$D$6:$X$1005,,MATCH(INDEX(Calc!$AT$7:$AT$20,COUNTIF(Calc!$BO$6:$BO14,Calc!$BO14),1),Calc!$D$4:$W$4,0)),MATCH(Calc!$BO14&L$9,Calc!$C$6:$C$1005&Calc!$I$6:$I$1005,0),1)),"")} | N18: {=IFERROR(IF(N$9="","",INDEX(INDEX(Calc!$D$6:$X$1005,,MATCH(INDEX(Calc!$AT$7:$AT$20,COUNTIF(Calc!$BO$6:$BO14,Calc!$BO14),1),Calc!$D$4:$W$4,0)),MATCH(Calc!$BO14&N$9,Calc!$C$6:$C$1005&Calc!$I$6:$I$1005,0),1)),"")} | P18: {=IFERROR(IF(P$9="","",INDEX(INDEX(Calc!$D$6:$X$1005,,MATCH(INDEX(Calc!$AT$7:$AT$20,COUNTIF(Calc!$BO$6:$BO14,Calc!$BO14),1),Calc!$D$4:$W$4,0)),MATCH(Calc!$BO14&P$9,Calc!$C$6:$C$1005&Calc!$I$6:$I$1005,0),1)),"")} | R18: {=IFERROR(IF(R$9="","",INDEX(INDEX(Calc!$D$6:$X$1005,,MATCH(INDEX(Calc!$AT$7:$AT$20,COUNTIF(Calc!$BO$6:$BO14,Calc!$BO14),1),Calc!$D$4:$W$4,0)),MATCH(Calc!$BO14&R$9,Calc!$C$6:$C$1005&Calc!$I$6:$I$1005,0),1)),"")} | T18: {=IFERROR(IF(T$9="","",INDEX(INDEX(Calc!$D$6:$X$1005,,MATCH(INDEX(Calc!$AT$7:$AT$20,COUNTIF(Calc!$BO$6:$BO14,Calc!$BO14),1),Calc!$D$4:$W$4,0)),MATCH(Calc!$BO14&T$9,Calc!$C$6:$C$1005&Calc!$I$6:$I$1005,0),1)),"")} | V18: {=IFERROR(IF(V$9="","",INDEX(INDEX(Calc!$D$6:$X$1005,,MATCH(INDEX(Calc!$AT$7:$AT$20,COUNTIF(Calc!$BO$6:$BO14,Calc!$BO14),1),Calc!$D$4:$W$4,0)),MATCH(Calc!$BO14&V$9,Calc!$C$6:$C$1005&Calc!$I$6:$I$1005,0),1)),"")} | X18: {=IFERROR(IF(X$9="","",INDEX(INDEX(Calc!$D$6:$X$1005,,MATCH(INDEX(Calc!$AT$7:$AT$20,COUNTIF(Calc!$BO$6:$BO14,Calc!$BO14),1),Calc!$D$4:$W$4,0)),MATCH(Calc!$BO14&X$9,Calc!$C$6:$C$1005&Calc!$I$6:$I$1005,0),1)),"")} | Z18: {=IFERROR(IF(Z$9="","",INDEX(INDEX(Calc!$D$6:$X$1005,,MATCH(INDEX(Calc!$AT$7:$AT$20,COUNTIF(Calc!$BO$6:$BO14,Calc!$BO14),1),Calc!$D$4:$W$4,0)),MATCH(Calc!$BO14&Z$9,Calc!$C$6:$C$1005&Calc!$I$6:$I$1005,0),1)),"")} | AB18: {=IFERROR(IF(AB$9="","",INDEX(INDEX(Calc!$D$6:$X$1005,,MATCH(INDEX(Calc!$AT$7:$AT$20,COUNTIF(Calc!$BO$6:$BO14,Calc!$BO14),1),Calc!$D$4:$W$4,0)),MATCH(Calc!$BO14&AB$9,Calc!$C$6:$C$1005&Calc!$I$6:$I$1005,0),1)),"")} | AD18: {=IFERROR(IF(AD$9="","",INDEX(INDEX(Calc!$D$6:$X$1005,,MATCH(INDEX(Calc!$AT$7:$AT$20,COUNTIF(Calc!$BO$6:$BO14,Calc!$BO14),1),Calc!$D$4:$W$4,0)),MATCH(Calc!$BO14&AD$9,Calc!$C$6:$C$1005&Calc!$I$6:$I$1005,0),1)),"")} | AF18: {=IFERROR(IF(AF$9="","",INDEX(INDEX(Calc!$D$6:$X$1005,,MATCH(INDEX(Calc!$AT$7:$AT$20,COUNTIF(Calc!$BO$6:$BO14,Calc!$BO14),1),Calc!$D$4:$W$4,0)),MATCH(Calc!$BO14&AF$9,Calc!$C$6:$C$1005&Calc!$I$6:$I$1005,0),1)),"")}
D19: {=IFERROR(IF(D$9="","",INDEX(INDEX(Calc!$D$6:$X$1005,,MATCH(INDEX(Calc!$AT$7:$AT$20,COUNTIF(Calc!$BO$6:$BO15,Calc!$BO15),1),Calc!$D$4:$W$4,0)),MATCH(Calc!$BO15&D$9,Calc!$C$6:$C$1005&Calc!$I$6:$I$1005,0),1)),"")} | F19: {=IFERROR(IF(F$9="","",INDEX(INDEX(Calc!$D$6:$X$1005,,MATCH(INDEX(Calc!$AT$7:$AT$20,COUNTIF(Calc!$BO$6:$BO15,Calc!$BO15),1),Calc!$D$4:$W$4,0)),MATCH(Calc!$BO15&F$9,Calc!$C$6:$C$1005&Calc!$I$6:$I$1005,0),1)),"")} | H19: {=IFERROR(IF(H$9="","",INDEX(INDEX(Calc!$D$6:$X$1005,,MATCH(INDEX(Calc!$AT$7:$AT$20,COUNTIF(Calc!$BO$6:$BO15,Calc!$BO15),1),Calc!$D$4:$W$4,0)),MATCH(Calc!$BO15&H$9,Calc!$C$6:$C$1005&Calc!$I$6:$I$1005,0),1)),"")} | J19: {=IFERROR(IF(J$9="","",INDEX(INDEX(Calc!$D$6:$X$1005,,MATCH(INDEX(Calc!$AT$7:$AT$20,COUNTIF(Calc!$BO$6:$BO15,Calc!$BO15),1),Calc!$D$4:$W$4,0)),MATCH(Calc!$BO15&J$9,Calc!$C$6:$C$1005&Calc!$I$6:$I$1005,0),1)),"")} | L19: {=IFERROR(IF(L$9="","",INDEX(INDEX(Calc!$D$6:$X$1005,,MATCH(INDEX(Calc!$AT$7:$AT$20,COUNTIF(Calc!$BO$6:$BO15,Calc!$BO15),1),Calc!$D$4:$W$4,0)),MATCH(Calc!$BO15&L$9,Calc!$C$6:$C$1005&Calc!$I$6:$I$1005,0),1)),"")} | N19: {=IFERROR(IF(N$9="","",INDEX(INDEX(Calc!$D$6:$X$1005,,MATCH(INDEX(Calc!$AT$7:$AT$20,COUNTIF(Calc!$BO$6:$BO15,Calc!$BO15),1),Calc!$D$4:$W$4,0)),MATCH(Calc!$BO15&N$9,Calc!$C$6:$C$1005&Calc!$I$6:$I$1005,0),1)),"")} | P19: {=IFERROR(IF(P$9="","",INDEX(INDEX(Calc!$D$6:$X$1005,,MATCH(INDEX(Calc!$AT$7:$AT$20,COUNTIF(Calc!$BO$6:$BO15,Calc!$BO15),1),Calc!$D$4:$W$4,0)),MATCH(Calc!$BO15&P$9,Calc!$C$6:$C$1005&Calc!$I$6:$I$1005,0),1)),"")} | R19: {=IFERROR(IF(R$9="","",INDEX(INDEX(Calc!$D$6:$X$1005,,MATCH(INDEX(Calc!$AT$7:$AT$20,COUNTIF(Calc!$BO$6:$BO15,Calc!$BO15),1),Calc!$D$4:$W$4,0)),MATCH(Calc!$BO15&R$9,Calc!$C$6:$C$1005&Calc!$I$6:$I$1005,0),1)),"")} | T19: {=IFERROR(IF(T$9="","",INDEX(INDEX(Calc!$D$6:$X$1005,,MATCH(INDEX(Calc!$AT$7:$AT$20,COUNTIF(Calc!$BO$6:$BO15,Calc!$BO15),1),Calc!$D$4:$W$4,0)),MATCH(Calc!$BO15&T$9,Calc!$C$6:$C$1005&Calc!$I$6:$I$1005,0),1)),"")} | V19: {=IFERROR(IF(V$9="","",INDEX(INDEX(Calc!$D$6:$X$1005,,MATCH(INDEX(Calc!$AT$7:$AT$20,COUNTIF(Calc!$BO$6:$BO15,Calc!$BO15),1),Calc!$D$4:$W$4,0)),MATCH(Calc!$BO15&V$9,Calc!$C$6:$C$1005&Calc!$I$6:$I$1005,0),1)),"")} | X19: {=IFERROR(IF(X$9="","",INDEX(INDEX(Calc!$D$6:$X$1005,,MATCH(INDEX(Calc!$AT$7:$AT$20,COUNTIF(Calc!$BO$6:$BO15,Calc!$BO15),1),Calc!$D$4:$W$4,0)),MATCH(Calc!$BO15&X$9,Calc!$C$6:$C$1005&Calc!$I$6:$I$1005,0),1)),"")} | Z19: {=IFERROR(IF(Z$9="","",INDEX(INDEX(Calc!$D$6:$X$1005,,MATCH(INDEX(Calc!$AT$7:$AT$20,COUNTIF(Calc!$BO$6:$BO15,Calc!$BO15),1),Calc!$D$4:$W$4,0)),MATCH(Calc!$BO15&Z$9,Calc!$C$6:$C$1005&Calc!$I$6:$I$1005,0),1)),"")} | AB19: {=IFERROR(IF(AB$9="","",INDEX(INDEX(Calc!$D$6:$X$1005,,MATCH(INDEX(Calc!$AT$7:$AT$20,COUNTIF(Calc!$BO$6:$BO15,Calc!$BO15),1),Calc!$D$4:$W$4,0)),MATCH(Calc!$BO15&AB$9,Calc!$C$6:$C$1005&Calc!$I$6:$I$1005,0),1)),"")} | AD19: {=IFERROR(IF(AD$9="","",INDEX(INDEX(Calc!$D$6:$X$1005,,MATCH(INDEX(Calc!$AT$7:$AT$20,COUNTIF(Calc!$BO$6:$BO15,Calc!$BO15),1),Calc!$D$4:$W$4,0)),MATCH(Calc!$BO15&AD$9,Calc!$C$6:$C$1005&Calc!$I$6:$I$1005,0),1)),"")} | AF19: {=IFERROR(IF(AF$9="","",INDEX(INDEX(Calc!$D$6:$X$1005,,MATCH(INDEX(Calc!$AT$7:$AT$20,COUNTIF(Calc!$BO$6:$BO15,Calc!$BO15),1),Calc!$D$4:$W$4,0)),MATCH(Calc!$BO15&AF$9,Calc!$C$6:$C$1005&Calc!$I$6:$I$1005,0),1)),"")}
D20: {=IFERROR(IF(D$9="","",INDEX(INDEX(Calc!$D$6:$X$1005,,MATCH(INDEX(Calc!$AT$7:$AT$20,COUNTIF(Calc!$BO$6:$BO16,Calc!$BO16),1),Calc!$D$4:$W$4,0)),MATCH(Calc!$BO16&D$9,Calc!$C$6:$C$1005&Calc!$I$6:$I$1005,0),1)),"")} | F20: {=IFERROR(IF(F$9="","",INDEX(INDEX(Calc!$D$6:$X$1005,,MATCH(INDEX(Calc!$AT$7:$AT$20,COUNTIF(Calc!$BO$6:$BO16,Calc!$BO16),1),Calc!$D$4:$W$4,0)),MATCH(Calc!$BO16&F$9,Calc!$C$6:$C$1005&Calc!$I$6:$I$1005,0),1)),"")} | H20: {=IFERROR(IF(H$9="","",INDEX(INDEX(Calc!$D$6:$X$1005,,MATCH(INDEX(Calc!$AT$7:$AT$20,COUNTIF(Calc!$BO$6:$BO16,Calc!$BO16),1),Calc!$D$4:$W$4,0)),MATCH(Calc!$BO16&H$9,Calc!$C$6:$C$1005&Calc!$I$6:$I$1005,0),1)),"")} | J20: {=IFERROR(IF(J$9="","",INDEX(INDEX(Calc!$D$6:$X$1005,,MATCH(INDEX(Calc!$AT$7:$AT$20,COUNTIF(Calc!$BO$6:$BO16,Calc!$BO16),1),Calc!$D$4:$W$4,0)),MATCH(Calc!$BO16&J$9,Calc!$C$6:$C$1005&Calc!$I$6:$I$1005,0),1)),"")} | L20: {=IFERROR(IF(L$9="","",INDEX(INDEX(Calc!$D$6:$X$1005,,MATCH(INDEX(Calc!$AT$7:$AT$20,COUNTIF(Calc!$BO$6:$BO16,Calc!$BO16),1),Calc!$D$4:$W$4,0)),MATCH(Calc!$BO16&L$9,Calc!$C$6:$C$1005&Calc!$I$6:$I$1005,0),1)),"")} | N20: {=IFERROR(IF(N$9="","",INDEX(INDEX(Calc!$D$6:$X$1005,,MATCH(INDEX(Calc!$AT$7:$AT$20,COUNTIF(Calc!$BO$6:$BO16,Calc!$BO16),1),Calc!$D$4:$W$4,0)),MATCH(Calc!$BO16&N$9,Calc!$C$6:$C$1005&Calc!$I$6:$I$1005,0),1)),"")} | P20: {=IFERROR(IF(P$9="","",INDEX(INDEX(Calc!$D$6:$X$1005,,MATCH(INDEX(Calc!$AT$7:$AT$20,COUNTIF(Calc!$BO$6:$BO16,Calc!$BO16),1),Calc!$D$4:$W$4,0)),MATCH(Calc!$BO16&P$9,Calc!$C$6:$C$1005&Calc!$I$6:$I$1005,0),1)),"")} | R20: {=IFERROR(IF(R$9="","",INDEX(INDEX(Calc!$D$6:$X$1005,,MATCH(INDEX(Calc!$AT$7:$AT$20,COUNTIF(Calc!$BO$6:$BO16,Calc!$BO16),1),Calc!$D$4:$W$4,0)),MATCH(Calc!$BO16&R$9,Calc!$C$6:$C$1005&Calc!$I$6:$I$1005,0),1)),"")} | T20: {=IFERROR(IF(T$9="","",INDEX(INDEX(Calc!$D$6:$X$1005,,MATCH(INDEX(Calc!$AT$7:$AT$20,COUNTIF(Calc!$BO$6:$BO16,Calc!$BO16),1),Calc!$D$4:$W$4,0)),MATCH(Calc!$BO16&T$9,Calc!$C$6:$C$1005&Calc!$I$6:$I$1005,0),1)),"")} | V20: {=IFERROR(IF(V$9="","",INDEX(INDEX(Calc!$D$6:$X$1005,,MATCH(INDEX(Calc!$AT$7:$AT$20,COUNTIF(Calc!$BO$6:$BO16,Calc!$BO16),1),Calc!$D$4:$W$4,0)),MATCH(Calc!$BO16&V$9,Calc!$C$6:$C$1005&Calc!$I$6:$I$1005,0),1)),"")} | X20: {=IFERROR(IF(X$9="","",INDEX(INDEX(Calc!$D$6:$X$1005,,MATCH(INDEX(Calc!$AT$7:$AT$20,COUNTIF(Calc!$BO$6:$BO16,Calc!$BO16),1),Calc!$D$4:$W$4,0)),MATCH(Calc!$BO16&X$9,Calc!$C$6:$C$1005&Calc!$I$6:$I$1005,0),1)),"")} | Z20: {=IFERROR(IF(Z$9="","",INDEX(INDEX(Calc!$D$6:$X$1005,,MATCH(INDEX(Calc!$AT$7:$AT$20,COUNTIF(Calc!$BO$6:$BO16,Calc!$BO16),1),Calc!$D$4:$W$4,0)),MATCH(Calc!$BO16&Z$9,Calc!$C$6:$C$1005&Calc!$I$6:$I$1005,0),1)),"")} | AB20: {=IFERROR(IF(AB$9="","",INDEX(INDEX(Calc!$D$6:$X$1005,,MATCH(INDEX(Calc!$AT$7:$AT$20,COUNTIF(Calc!$BO$6:$BO16,Calc!$BO16),1),Calc!$D$4:$W$4,0)),MATCH(Calc!$BO16&AB$9,Calc!$C$6:$C$1005&Calc!$I$6:$I$1005,0),1)),"")} | AD20: {=IFERROR(IF(AD$9="","",INDEX(INDEX(Calc!$D$6:$X$1005,,MATCH(INDEX(Calc!$AT$7:$AT$20,COUNTIF(Calc!$BO$6:$BO16,Calc!$BO16),1),Calc!$D$4:$W$4,0)),MATCH(Calc!$BO16&AD$9,Calc!$C$6:$C$1005&Calc!$I$6:$I$1005,0),1)),"")} | AF20: {=IFERROR(IF(AF$9="","",INDEX(INDEX(Calc!$D$6:$X$1005,,MATCH(INDEX(Calc!$AT$7:$AT$20,COUNTIF(Calc!$BO$6:$BO16,Calc!$BO16),1),Calc!$D$4:$W$4,0)),MATCH(Calc!$BO16&AF$9,Calc!$C$6:$C$1005&Calc!$I$6:$I$1005,0),1)),"")}
D21: {=IFERROR(IF(D$9="","",INDEX(INDEX(Calc!$D$6:$X$1005,,MATCH(INDEX(Calc!$AT$7:$AT$20,COUNTIF(Calc!$BO$6:$BO17,Calc!$BO17),1),Calc!$D$4:$W$4,0)),MATCH(Calc!$BO17&D$9,Calc!$C$6:$C$1005&Calc!$I$6:$I$1005,0),1)),"")} | F21: {=IFERROR(IF(F$9="","",INDEX(INDEX(Calc!$D$6:$X$1005,,MATCH(INDEX(Calc!$AT$7:$AT$20,COUNTIF(Calc!$BO$6:$BO17,Calc!$BO17),1),Calc!$D$4:$W$4,0)),MATCH(Calc!$BO17&F$9,Calc!$C$6:$C$1005&Calc!$I$6:$I$1005,0),1)),"")} | H21: {=IFERROR(IF(H$9="","",INDEX(INDEX(Calc!$D$6:$X$1005,,MATCH(INDEX(Calc!$AT$7:$AT$20,COUNTIF(Calc!$BO$6:$BO17,Calc!$BO17),1),Calc!$D$4:$W$4,0)),MATCH(Calc!$BO17&H$9,Calc!$C$6:$C$1005&Calc!$I$6:$I$1005,0),1)),"")} | J21: {=IFERROR(IF(J$9="","",INDEX(INDEX(Calc!$D$6:$X$1005,,MATCH(INDEX(Calc!$AT$7:$AT$20,COUNTIF(Calc!$BO$6:$BO17,Calc!$BO17),1),Calc!$D$4:$W$4,0)),MATCH(Calc!$BO17&J$9,Calc!$C$6:$C$1005&Calc!$I$6:$I$1005,0),1)),"")} | L21: {=IFERROR(IF(L$9="","",INDEX(INDEX(Calc!$D$6:$X$1005,,MATCH(INDEX(Calc!$AT$7:$AT$20,COUNTIF(Calc!$BO$6:$BO17,Calc!$BO17),1),Calc!$D$4:$W$4,0)),MATCH(Calc!$BO17&L$9,Calc!$C$6:$C$1005&Calc!$I$6:$I$1005,0),1)),"")} | N21: {=IFERROR(IF(N$9="","",INDEX(INDEX(Calc!$D$6:$X$1005,,MATCH(INDEX(Calc!$AT$7:$AT$20,COUNTIF(Calc!$BO$6:$BO17,Calc!$BO17),1),Calc!$D$4:$W$4,0)),MATCH(Calc!$BO17&N$9,Calc!$C$6:$C$1005&Calc!$I$6:$I$1005,0),1)),"")} | P21: {=IFERROR(IF(P$9="","",INDEX(INDEX(Calc!$D$6:$X$1005,,MATCH(INDEX(Calc!$AT$7:$AT$20,COUNTIF(Calc!$BO$6:$BO17,Calc!$BO17),1),Calc!$D$4:$W$4,0)),MATCH(Calc!$BO17&P$9,Calc!$C$6:$C$1005&Calc!$I$6:$I$1005,0),1)),"")} | R21: {=IFERROR(IF(R$9="","",INDEX(INDEX(Calc!$D$6:$X$1005,,MATCH(INDEX(Calc!$AT$7:$AT$20,COUNTIF(Calc!$BO$6:$BO17,Calc!$BO17),1),Calc!$D$4:$W$4,0)),MATCH(Calc!$BO17&R$9,Calc!$C$6:$C$1005&Calc!$I$6:$I$1005,0),1)),"")} | T21: {=IFERROR(IF(T$9="","",INDEX(INDEX(Calc!$D$6:$X$1005,,MATCH(INDEX(Calc!$AT$7:$AT$20,COUNTIF(Calc!$BO$6:$BO17,Calc!$BO17),1),Calc!$D$4:$W$4,0)),MATCH(Calc!$BO17&T$9,Calc!$C$6:$C$1005&Calc!$I$6:$I$1005,0),1)),"")} | V21: {=IFERROR(IF(V$9="","",INDEX(INDEX(Calc!$D$6:$X$1005,,MATCH(INDEX(Calc!$AT$7:$AT$20,COUNTIF(Calc!$BO$6:$BO17,Calc!$BO17),1),Calc!$D$4:$W$4,0)),MATCH(Calc!$BO17&V$9,Calc!$C$6:$C$1005&Calc!$I$6:$I$1005,0),1)),"")} | X21: {=IFERROR(IF(X$9="","",INDEX(INDEX(Calc!$D$6:$X$1005,,MATCH(INDEX(Calc!$AT$7:$AT$20,COUNTIF(Calc!$BO$6:$BO17,Calc!$BO17),1),Calc!$D$4:$W$4,0)),MATCH(Calc!$BO17&X$9,Calc!$C$6:$C$1005&Calc!$I$6:$I$1005,0),1)),"")} | Z21: {=IFERROR(IF(Z$9="","",INDEX(INDEX(Calc!$D$6:$X$1005,,MATCH(INDEX(Calc!$AT$7:$AT$20,COUNTIF(Calc!$BO$6:$BO17,Calc!$BO17),1),Calc!$D$4:$W$4,0)),MATCH(Calc!$BO17&Z$9,Calc!$C$6:$C$1005&Calc!$I$6:$I$1005,0),1)),"")} | AB21: {=IFERROR(IF(AB$9="","",INDEX(INDEX(Calc!$D$6:$X$1005,,MATCH(INDEX(Calc!$AT$7:$AT$20,COUNTIF(Calc!$BO$6:$BO17,Calc!$BO17),1),Calc!$D$4:$W$4,0)),MATCH(Calc!$BO17&AB$9,Calc!$C$6:$C$1005&Calc!$I$6:$I$1005,0),1)),"")} | AD21: {=IFERROR(IF(AD$9="","",INDEX(INDEX(Calc!$D$6:$X$1005,,MATCH(INDEX(Calc!$AT$7:$AT$20,COUNTIF(Calc!$BO$6:$BO17,Calc!$BO17),1),Calc!$D$4:$W$4,0)),MATCH(Calc!$BO17&AD$9,Calc!$C$6:$C$1005&Calc!$I$6:$I$1005,0),1)),"")} | AF21: {=IFERROR(IF(AF$9="","",INDEX(INDEX(Calc!$D$6:$X$1005,,MATCH(INDEX(Calc!$AT$7:$AT$20,COUNTIF(Calc!$BO$6:$BO17,Calc!$BO17),1),Calc!$D$4:$W$4,0)),MATCH(Calc!$BO17&AF$9,Calc!$C$6:$C$1005&Calc!$I$6:$I$1005,0),1)),"")}
... D169: {=IFERROR(IF(D$9="","",INDEX(INDEX(Calc!$D$6:$X$1005,,MATCH(INDEX(Calc!$AT$7:$AT$20,COUNTIF(Calc!$BO$6:$BO165,Calc!$BO165),1),Calc!$D$4:$W$4,0)),MATCH(Calc!$BO165&D$9,Calc!$C$6:$C$1005&Calc!$I$6:$I$1005,0),1)),"")} | F169: {=IFERROR(IF(F$9="","",INDEX(INDEX(Calc!$D$6:$X$1005,,MATCH(INDEX(Calc!$AT$7:$AT$20,COUNTIF(Calc!$BO$6:$BO165,Calc!$BO165),1),Calc!$D$4:$W$4,0)),MATCH(Calc!$BO165&F$9,Calc!$C$6:$C$1005&Calc!$I$6:$I$1005,0),1)),"")} | H169: {=IFERROR(IF(H$9="","",INDEX(INDEX(Calc!$D$6:$X$1005,,MATCH(INDEX(Calc!$AT$7:$AT$20,COUNTIF(Calc!$BO$6:$BO165,Calc!$BO165),1),Calc!$D$4:$W$4,0)),MATCH(Calc!$BO165&H$9,Calc!$C$6:$C$1005&Calc!$I$6:$I$1005,0),1)),"")} | J169: {=IFERROR(IF(J$9="","",INDEX(INDEX(Calc!$D$6:$X$1005,,MATCH(INDEX(Calc!$AT$7:$AT$20,COUNTIF(Calc!$BO$6:$BO165,Calc!$BO165),1),Calc!$D$4:$W$4,0)),MATCH(Calc!$BO165&J$9,Calc!$C$6:$C$1005&Calc!$I$6:$I$1005,0),1)),"")} | L169: {=IFERROR(IF(L$9="","",INDEX(INDEX(Calc!$D$6:$X$1005,,MATCH(INDEX(Calc!$AT$7:$AT$20,COUNTIF(Calc!$BO$6:$BO165,Calc!$BO165),1),Calc!$D$4:$W$4,0)),MATCH(Calc!$BO165&L$9,Calc!$C$6:$C$1005&Calc!$I$6:$I$1005,0),1)),"")} | N169: {=IFERROR(IF(N$9="","",INDEX(INDEX(Calc!$D$6:$X$1005,,MATCH(INDEX(Calc!$AT$7:$AT$20,COUNTIF(Calc!$BO$6:$BO165,Calc!$BO165),1),Calc!$D$4:$W$4,0)),MATCH(Calc!$BO165&N$9,Calc!$C$6:$C$1005&Calc!$I$6:$I$1005,0),1)),"")} | P169: {=IFERROR(IF(P$9="","",INDEX(INDEX(Calc!$D$6:$X$1005,,MATCH(INDEX(Calc!$AT$7:$AT$20,COUNTIF(Calc!$BO$6:$BO165,Calc!$BO165),1),Calc!$D$4:$W$4,0)),MATCH(Calc!$BO165&P$9,Calc!$C$6:$C$1005&Calc!$I$6:$I$1005,0),1)),"")} | R169: {=IFERROR(IF(R$9="","",INDEX(INDEX(Calc!$D$6:$X$1005,,MATCH(INDEX(Calc!$AT$7:$AT$20,COUNTIF(Calc!$BO$6:$BO165,Calc!$BO165),1),Calc!$D$4:$W$4,0)),MATCH(Calc!$BO165&R$9,Calc!$C$6:$C$1005&Calc!$I$6:$I$1005,0),1)),"")} | T169: {=IFERROR(IF(T$9="","",INDEX(INDEX(Calc!$D$6:$X$1005,,MATCH(INDEX(Calc!$AT$7:$AT$20,COUNTIF(Calc!$BO$6:$BO165,Calc!$BO165),1),Calc!$D$4:$W$4,0)),MATCH(Calc!$BO165&T$9,Calc!$C$6:$C$1005&Calc!$I$6:$I$1005,0),1)),"")} | V169: {=IFERROR(IF(V$9="","",INDEX(INDEX(Calc!$D$6:$X$1005,,MATCH(INDEX(Calc!$AT$7:$AT$20,COUNTIF(Calc!$BO$6:$BO165,Calc!$BO165),1),Calc!$D$4:$W$4,0)),MATCH(Calc!$BO165&V$9,Calc!$C$6:$C$1005&Calc!$I$6:$I$1005,0),1)),"")} | X169: {=IFERROR(IF(X$9="","",INDEX(INDEX(Calc!$D$6:$X$1005,,MATCH(INDEX(Calc!$AT$7:$AT$20,COUNTIF(Calc!$BO$6:$BO165,Calc!$BO165),1),Calc!$D$4:$W$4,0)),MATCH(Calc!$BO165&X$9,Calc!$C$6:$C$1005&Calc!$I$6:$I$1005,0),1)),"")} | Z169: {=IFERROR(IF(Z$9="","",INDEX(INDEX(Calc!$D$6:$X$1005,,MATCH(INDEX(Calc!$AT$7:$AT$20,COUNTIF(Calc!$BO$6:$BO165,Calc!$BO165),1),Calc!$D$4:$W$4,0)),MATCH(Calc!$BO165&Z$9,Calc!$C$6:$C$1005&Calc!$I$6:$I$1005,0),1)),"")} | AB169: {=IFERROR(IF(AB$9="","",INDEX(INDEX(Calc!$D$6:$X$1005,,MATCH(INDEX(Calc!$AT$7:$AT$20,COUNTIF(Calc!$BO$6:$BO165,Calc!$BO165),1),Calc!$D$4:$W$4,0)),MATCH(Calc!$BO165&AB$9,Calc!$C$6:$C$1005&Calc!$I$6:$I$1005,0),1)),"")} | AD169: {=IFERROR(IF(AD$9="","",INDEX(INDEX(Calc!$D$6:$X$1005,,MATCH(INDEX(Calc!$AT$7:$AT$20,COUNTIF(Calc!$BO$6:$BO165,Calc!$BO165),1),Calc!$D$4:$W$4,0)),MATCH(Calc!$BO165&AD$9,Calc!$C$6:$C$1005&Calc!$I$6:$I$1005,0),1)),"")} | AF169: {=IFERROR(IF(AF$9="","",INDEX(INDEX(Calc!$D$6:$X$1005,,MATCH(INDEX(Calc!$AT$7:$AT$20,COUNTIF(Calc!$BO$6:$BO165,Calc!$BO165),1),Calc!$D$4:$W$4,0)),MATCH(Calc!$BO165&AF$9,Calc!$C$6:$C$1005&Calc!$I$6:$I$1005,0),1)),"")}

Sheet Settings
B2: SALES PIPELINE TEMPLATE
B3: SETTINGS
B5: STAGE | D5: =I12 -> STATUS | F5: =I10 -> SALES REPRESENTATIVE | H5: SHOW ON THE PIPELINE | I5: SALES DATA INPUT
B6: Lead | D6: Won | F6: Sales Kate | H6: X | I6: SALE TITLE
B7: Initial Contact | D7: Lost | F7: Sales John | H7: X | I7: CONTACT NAME
B8: Qualified Lead | D8: Open | F8: Sales Mia | I8: COMPANY
B9: Opportunity | D9: On Hold | F9: Sales Carl | I9: CONTACT INFORMATION
B10: Solution | F10: Sales Paul | I10: SALES REPRESENTATIVE
B11: Proposal Discussed | D11: PIPELINE DATE FORMAT | F11: Sales Arnie | I11: CURRENT STAGE
B12: Written Proposal | D12: 31 Jan 2021 | F12: Sales Ann | I12: STATUS
B13: Contract | F13: Sales Peter | I13: OPEN DATE
B14: Purchase Order | D14: CURRENCY | H14: X | I14: CLOSE DATE
B15: Invoice | D15: $ | I15: DEAL VALUE
B16: Payment | I16: PROBABILITY OF WINNING %
B17: Refund | I17: NOTES
H18: X | I18: AVG. EARNING FORECAST
I19: ACTUAL INCOME

Sheet Calc
AB2: Count Value Cumulative: | AC2: =SUMIF(AC6:AC1005,"x",$O$6:$O$1005)+SUMIF(AC6:AC1005,"c",$O$6:$O$1005) -> 6121 | AD2: =SUMIF(AD6:AD1005,"x",$O$6:$O$1005)+SUMIF(AD6:AD1005,"c",$O$6:$O$1005) -> 5301 | AE2: =SUMIF(AE6:AE1005,"x",$O$6:$O$1005)+SUMIF(AE6:AE1005,"c",$O$6:$O$1005) -> 4605 | AF2: =SUMIF(AF6:AF1005,"x",$O$6:$O$1005)+SUMIF(AF6:AF1005,"c",$O$6:$O$1005) -> 3333 | AG2: =SUMIF(AG6:AG1005,"x",$O$6:$O$1005)+SUMIF(AG6:AG1005,"c",$O$6:$O$1005) -> 1865 | AH2: =SUMIF(AH6:AH1005,"x",$O$6:$O$1005)+SUMIF(AH6:AH1005,"c",$O$6:$O$1005) -> 1042 | AI2: =SUMIF(AI6:AI1005,"x",$O$6:$O$1005)+SUMIF(AI6:AI1005,"c",$O$6:$O$1005) -> 468 | AJ2: =SUMIF(AJ6:AJ1005,"x",$O$6:$O$1005)+SUMIF(AJ6:AJ1005,"c",$O$6:$O$1005) -> 0 | ... AQ2: =SUMIF(AQ6:AQ1005,"x",$O$6:$O$1005)+SUMIF(AQ6:AQ1005,"c",$O$6:$O$1005) -> 0 | AT2: Max Number for Input Section
C3: Match column: | AB3: Value current stage: | AC3: =SUMIF(AC6:AC1005,"c",$O$6:$O$1005) -> 820 | AD3: =SUMIF(AD6:AD1005,"c",$O$6:$O$1005) -> 696 | AE3: =SUMIF(AE6:AE1005,"c",$O$6:$O$1005) -> 1272 | AF3: =SUMIF(AF6:AF1005,"c",$O$6:$O$1005) -> 1468 | AG3: =SUMIF(AG6:AG1005,"c",$O$6:$O$1005) -> 823 | AH3: =SUMIF(AH6:AH1005,"c",$O$6:$O$1005) -> 574 | AI3: =SUMIF(AI6:AI1005,"c",$O$6:$O$1005) -> 468 | AJ3: =SUMIF(AJ6:AJ1005,"c",$O$6:$O$1005) -> 0 | ... AQ3: =SUMIF(AQ6:AQ1005,"c",$O$6:$O$1005) -> 0 | AT3: =COUNTA(Input!B6:B1005)+6 -> 13
B4: Pipeline Filter | C4: Pipelie counter | D4: =Settings!I6 -> SALE TITLE | E4: =Settings!I7 -> CONTACT NAME | F4: =Settings!I8 -> COMPANY | G4: =Settings!I9 -> CONTACT INFORMATION | H4: =Settings!I10 -> SALES REPRESENTATIVE | I4: =Settings!I11 -> CURRENT STAGE | J4: =Settings!I12 -> STATUS | L4: =Settings!I13 -> OPEN DATE | N4: =Settings!I14 -> CLOSE DATE | P4: =Settings!I15 -> DEAL VALUE | R4: =Settings!I16 -> PROBABILITY OF WINNING % | S4: =Settings!I17 -> NOTES | U4: =Input!N5 -> AVG. EARNING FORECAST | W4: =Input!O5 -> ACTUAL INCOME | X4: Open Month | Y4: Close Month | Z4: Dashboard filter (no salesman) | AA4: Dashboard filter (all) | AB4: Funnel filter | AC4: =IF(Settings!B6<>"",Settings!B6,"") -> Lead | AD4: =IF(Settings!B7<>"",Settings!B7,"") -> Initial Contact | AE4: =IF(Settings!B8<>"",Settings!B8,"") -> Qualified Lead | AF4: =IF(Settings!B9<>"",Settings!B9,"") -> Opportunity | AG4: =IF(Settings!B10<>"",Settings!B10,"") -> Solution | AH4: =IF(Settings!B11<>"",Settings!B11,"") -> Proposal Discussed | AI4: =IF(Settings!B12<>"",Settings!B12,"") -> Written Proposal | AJ4: =IF(Settings!B13<>"",Settings!B13,"") -> Contract | AK4: =IF(Settings!B14<>"",Settings!B14,"") -> Purchase Order | AL4: =IF(Settings!B15<>"",Settings!B15,"") -> Invoice | AM4: =IF(Settings!B16<>"",Settings!B16,"") -> Payment | AN4: =IF(Settings!B17<>"",Settings!B17,"") -> Refund | AO4: =IF(Settings!B18<>"",Settings!B18,"") | AP4: =IF(Settings!B19<>"",Settings!B19,"") | AQ4: =IF(Settings!B20<>"",Settings!B20,"") | BO4: Pipeline Settings | CV4: Settings Section
D5: Column1 | E5: Column2 | F5: Column3 | G5: Column4 | H5: Column5 | I5: Column6 | J5: Column7 | K5: Column8 | L5: Column15 | M5: Column9 | N5: Column92 | O5: Column10 | P5: Column102 | Q5: Column11 | R5: Column112 | S5: Column12 | T5: Column13 | U5: Column132 | V5: Column14 | W5: Column142 | X5: Column16 | Y5: Column17 | Z5: Column18 | AA5: Column19 | AX5: =COUNTA(AW7:AW21)-COUNTBLANK(AW7:AW21) -> 12 | BB5: Based on the close date | BO5: =MAX(BP6:BP165) -> 9 | BP5: 1 | BQ5: 1 | BR5: 1 | BS5: 1 | BT5: 1 | BU5: 1 | BV5: 1 | BW5: 1 | BX5: 1 | BY5: 1 | BZ5: 1 | CA5: 1 | CB5: 1 | CC5: 1 | CD5: 1 | CE5: 1 | CF5: 1 | CG5: 1 | CH5: 1 | CI5: 1 | CJ5: 1 | CK5: 1 | CL5: 1 | CM5: 1 | CN5: 1 | CO5: 1 | CP5: 1 | CQ5: 1 | CR5: 1 | CV5: PP inputs | CW5: All | CX5: All
B6: =IF(AND(OR(Pipeline!$F$5=H6,Pipeline!$F$5="",Pipeline!$F$5="All"), OR(Pipeline!$F$6=J6,Pipeline!$F$6="",Pipeline!$F$6="All"), OR(Pipeline!$J$5<=K6,Pipeline!$J$5=""), OR(Pipeline!$J$6>=K6,Pipeline!$J$6=""), OR(Pipeline!$N$5<=O6,Pipeline!$N$5=""), OR(Pipeline!$N$6>=O6,Pipeline!$N$6="")),1,0) -> 1 | C6: =IF(B6<>1,"",COUNTIF($I$6:I6,I6)) -> 1 | D6: =IF(LEN(INDEX(Input!B$6:B$1005,ROW($C6)-ROW($C$5),1))=0,"-",INDEX(Input!B$6:B$1005,ROW($C6)-ROW($C$5),1)) -> SALE TITLE1 | E6: =IF(LEN(INDEX(Input!C$6:C$1005,ROW($C6)-ROW($C$5),1))=0,"-",INDEX(Input!C$6:C$1005,ROW($C6)-ROW($C$5),1)) -> Jemima Begum | F6: =IF(LEN(INDEX(Input!D$6:D$1005,ROW($C6)-ROW($C$5),1))=0,"-",INDEX(Input!D$6:D$1005,ROW($C6)-ROW($C$5),1)) -> Monahan Ltd | G6: =IF(LEN(INDEX(Input!E$6:E$1005,ROW($C6)-ROW($C$5),1))=0,"-",INDEX(Input!E$6:E$1005,ROW($C6)-ROW($C$5),1)) -> jemima@mail.com | H6: =IF(LEN(INDEX(Input!F$6:F$1005,ROW($C6)-ROW($C$5),1))=0,"-",INDEX(Input!F$6:F$1005,ROW($C6)-ROW($C$5),1)) -> Sales Kate | I6: =IF(LEN(INDEX(Input!G$6:G$1005,ROW($C6)-ROW($C$5),1))=0,"",INDEX(Input!G$6:G$1005,ROW($C6)-ROW($C$5),1)) -> Lead | J6: =IF(LEN(INDEX(Input!B$6:B$1005,ROW($C6)-ROW($C$5),1))=0,"-",IF(INDEX(Input!H$6:H$1005,ROW($C6)-ROW($C$5),1)="","Not set",INDEX(Input!H$6:H$1005,ROW($C6)-ROW($C$5),1)) ) -> Not set | K6: =IF(LEN(INDEX(Input!I$6:I$1005,ROW($C6)-ROW($C$5),1))=0,"",INDEX(Input!I$6:I$1005,ROW($C6)-ROW($C$5),1)) -> 44197 | L6: {=IFERROR(IF($AY$24=123,DAY(K6)&connector&IF($AZ$24="Extended",INDEX($AT$24:$AT$35,MONTH(K6),1),MONTH(K6))&connector&IF($AZ$24="Short", RIGHT(YEAR(K6),2),YEAR(K6)),IF($AY$24=213, MONTH(K6)&connector&DAY(K6)&connector&IF($AZ$24="Short", RIGHT(YEAR(K6),2),YEAR(K6)),IF($AZ$24="Short", RIGHT(YEAR(K6),2),YEAR(K6))&connector&MONTH(K6)&connector&DAY(K6))),"-")} -> 1 Jan 2021 | M6: =IF(LEN(INDEX(Input!J$6:J$1005,ROW($C6)-ROW($C$5),1))=0,"",INDEX(Input!J$6:J$1005,ROW($C6)-ROW($C$5),1)) -> 44201 | N6: {=IFERROR(IF($AY$24=123,DAY(M6)&connector&IF($AZ$24="Extended",INDEX($AT$24:$AT$35,MONTH(M6),1),MONTH(M6))&connector&IF($AZ$24="Short", RIGHT(YEAR(M6),2),YEAR(M6)),IF($AY$24=213, MONTH(M6)&connector&DAY(M6)&connector&IF($AZ$24="Short", RIGHT(YEAR(M6),2),YEAR(M6)),IF($AZ$24="Short", RIGHT(YEAR(M6),2),YEAR(M6))&connector&MONTH(M6)&connector&DAY(M6))),"-")} -> 5 Jan 2021 | O6: =IF(LEN(INDEX(Input!K$6:K$1005,ROW($C6)-ROW($C$5),1))=0,"",INDEX(Input!K$6:K$1005,ROW($C6)-ROW($C$5),1)) -> 820 | P6: =IF(O6="","-","Value: " &O6&"$") -> Value: 820$ | Q6: =IF(LEN(INDEX(Input!L$6:L$1005,ROW($C6)-ROW($C$5),1))=0,"",INDEX(Input!L$6:L$1005,ROW($C6)-ROW($C$5),1)) -> 0.8 | R6: =IFERROR("Win Probability: "&Q6*100&"%","-") -> Win Probability: 80% | S6: =IF(LEN(INDEX(Input!M$6:M$1005,ROW($C6)-ROW($C$5),1))=0,"-",INDEX(Input!M$6:M$1005,ROW($C6)-ROW($C$5),1)) -> notes1 | T6: =IFERROR(O6*Q6,"") -> 656 | U6: =IF(T6="","-","Forecast: "&T6& " " &currency) -> Forecast: 656 $ | V6: =IF(LEN(INDEX(Input!O$6:O$1005,ROW($C6)-ROW($C$5),1))=0,"",INDEX(Input!O$6:O$1005,ROW($C6)-ROW($C$5),1)) | W6: =IF(V6="","-","Earned: " &V6) -> - | X6: =IFERROR(IF(K6<>"",MONTH(K6),""),"") -> 1 | Y6: =IFERROR(MONTH(IF(M6<>"",M6,K6)),"") -> 1 | Z6: =IF(AND(OR(Dashboard!$D$7=J6,Dashboard!$D$7=""), OR(Dashboard!$G$6<=K6,Dashboard!$G$6=""), OR(Dashboard!$G$7>=K6,Dashboard!$G$7=""), OR(Dashboard!$J$6<=O6,Dashboard!$J$6=""), OR(Dashboard!$J$7>=O6,Dashboard!$J$7=""),D6<>""),"x","") -> x | AA6: =IF(AND(OR(Dashboard!$D$6=H6,Dashboard!$D$6="",Dashboard!$D$6="All"), Z6="x"),"x","") -> x | AB6: =IF(AND(OR(Dashboard!$D$6=H6,Dashboard!$D$6="",Dashboard!$D$6="All"), OR(Dashboard!$D$7=J6,Dashboard!$D$7=""), OR(Dashboard!$G$6<=K6,Dashboard!$G$6=""), OR(Dashboard!$G$7>=K6,Dashboard!$G$7=""), OR(Dashboard!$J$6<=O6,Dashboard!$J$6=""), OR(Dashboard!$J$7>=O6,Dashboard!$J$7=""),I6<>""),"x","") -> x | AC6: =IF($AB6<>"x","",IF(AND($I6<>AC$4, IFERROR(MATCH("c",$AB6:AB6,0),0)=0),"x", IF(IFERROR(MATCH("c",$AB6:AB6,0),0)=0,"c",""))) -> c | AD6: =IF($AB6<>"x","",IF(AND($I6<>AD$4, IFERROR(MATCH("c",$AB6:AC6,0),0)=0),"x", IF(IFERROR(MATCH("c",$AB6:AC6,0),0)=0,"c",""))) | AE6: =IF($AB6<>"x","",IF(AND($I6<>AE$4, IFERROR(MATCH("c",$AB6:AD6,0),0)=0),"x", IF(IFERROR(MATCH("c",$AB6:AD6,0),0)=0,"c",""))) | AF6: =IF($AB6<>"x","",IF(AND($I6<>AF$4, IFERROR(MATCH("c",$AB6:AE6,0),0)=0),"x", IF(IFERROR(MATCH("c",$AB6:AE6,0),0)=0,"c",""))) | AG6: =IF($AB6<>"x","",IF(AND($I6<>AG$4, IFERROR(MATCH("c",$AB6:AF6,0),0)=0),"x", IF(IFERROR(MATCH("c",$AB6:AF6,0),0)=0,"c",""))) | AH6: =IF($AB6<>"x","",IF(AND($I6<>AH$4, IFERROR(MATCH("c",$AB6:AG6,0),0)=0),"x", IF(IFERROR(MATCH("c",$AB6:AG6,0),0)=0,"c",""))) | AI6: =IF($AB6<>"x","",IF(AND($I6<>AI$4, IFERROR(MATCH("c",$AB6:AH6,0),0)=0),"x", IF(IFERROR(MATCH("c",$AB6:AH6,0),0)=0,"c",""))) | AJ6: =IF($AB6<>"x","",IF(AND($I6<>AJ$4, IFERROR(MATCH("c",$AB6:AI6,0),0)=0),"x", IF(IFERROR(MATCH("c",$AB6:AI6,0),0)=0,"c",""))) | ... AQ6: =IF($AB6<>"x","",IF(AND($I6<>AQ$4, IFERROR(MATCH("c",$AB6:AP6,0),0)=0),"x", IF(IFERROR(MATCH("c",$AB6:AP6,0),0)=0,"c",""))) | AS6: Show on pipeline | AW6: General stage | AX6: Count Number: | AY6: Potential value | AZ6: complementary (hidden) | BC6: Won | BD6: Lost | BE6: Won deals | BF6: Total deals | BG6: Cumulative | BH6: Forecast Earnings | BL6: Do not delete the arrow! | BO6: 1 | BP6: =IF(29-SUMIF(Pipeline!D10:AF10,"",$BP$5:$CR$5)>0,ROW(BO6),"") -> 6 | CV6: =IF(Settings!H6=$CU$7,COUNTIF(Settings!$H$6:H6,$CU$7),"") -> 1 | CW6: =IF(Settings!F6="","",Settings!F6) -> Sales Kate | CX6: Not set
