Workbook
Name ChartChannels: OFFSET(Calc!$J$5,0,0,MAX(Calc!$J$14,1),1)
Name ChartClick: OFFSET(Calc!$M$5,0,0,MAX(Calc!$J$14,1),1)
Name ChartCost: OFFSET(Calc!$L$5,0,0,MAX(Calc!$J$14,1),1)
Name ChartCPC: OFFSET(Calc!$N$5,0,0,MAX(Calc!$J$14,1),1)
Name ChartRoi: OFFSET(Calc!$K$5,0,0,MAX(Calc!$J$14,1),1)
Name currency: Dashboard!$K$5
Name EmailCost: Email!$F$7:$F$9
Name EmailROI: Email!$L$33
Name FbCost: Facebook!$F$7:$F$9
Name FbROI: Facebook!$L$34
Name GoogleCost: GoogleAds!$F$7:$F$9
Name GoogleROI: GoogleAds!$L$24
Name googleroi: GoogleAds!$L$16
Name InflueancerCost: Influencer!$F$7:$F$8
Name InfluencerROI: Influencer!$L$25
Name InstagramCost: Instagram!$F$7:$F$10
Name InstagramROI: Instagram!$L$39
Name LInCost: LinkedIn!$F$7:$F$9
Name LinkedInROI: LinkedIn!$L$29
Name TemplateCost: Basic!$F$7:$F$10
Name TemplateROI: Basic!$L$30
Name TwitterCost: Twitter!$F$7:$F$10
Name TwitterROI: Twitter!$L$32

Sheet Dashboard
C2: MARKETING CAMPAIGN ROI CALCULATOR
C3: DASHBOARD
D5: COMPARISON | J5: CURRENCY: | K5: $
D8: NAME | E8: ROI (%) | F8: ="COST (" & currency & ")" -> COST ($) | G8: CLICK # | H8: ="CPC (" & currency & ")" -> CPC ($)
D9: Google Ads | E9: =IFERROR(INDEX(Calc!$D$5:$D$12,MATCH(D9,Calc!$C$5:$C$12,0),1),"") -> -0.13043478 | F9: =IFERROR(INDEX(Calc!$E$5:$E$12,MATCH($D9,Calc!$C$5:$C$12,0),1),"") -> 2300 | G9: =IFERROR(INDEX(Calc!$F$5:$F$12,MATCH($D9,Calc!$C$5:$C$12,0),1),"") -> 800 | H9: =IFERROR(INDEX(Calc!$G$5:$G$12,MATCH($D9,Calc!$C$5:$C$12,0),1),"") -> 2.875
D10: Facebook | E10: =IFERROR(INDEX(Calc!$D$5:$D$12,MATCH(D10,Calc!$C$5:$C$12,0),1),"") -> 0.83333333 | F10: =IFERROR(INDEX(Calc!$E$5:$E$12,MATCH($D10,Calc!$C$5:$C$12,0),1),"") -> 1200 | G10: =IFERROR(INDEX(Calc!$F$5:$F$12,MATCH($D10,Calc!$C$5:$C$12,0),1),"") -> 500 | H10: =IFERROR(INDEX(Calc!$G$5:$G$12,MATCH($D10,Calc!$C$5:$C$12,0),1),"") -> 2.4
D11: Email Marketing | E11: =IFERROR(INDEX(Calc!$D$5:$D$12,MATCH(D11,Calc!$C$5:$C$12,0),1),"") -> 1.1428571 | F11: =IFERROR(INDEX(Calc!$E$5:$E$12,MATCH($D11,Calc!$C$5:$C$12,0),1),"") -> 1400 | G11: =IFERROR(INDEX(Calc!$F$5:$F$12,MATCH($D11,Calc!$C$5:$C$12,0),1),"") -> 1000 | H11: =IFERROR(INDEX(Calc!$G$5:$G$12,MATCH($D11,Calc!$C$5:$C$12,0),1),"") -> 1.4
D12: Instagram Ads | E12: =IFERROR(INDEX(Calc!$D$5:$D$12,MATCH(D12,Calc!$C$5:$C$12,0),1),"") -> 1.07328 | F12: =IFERROR(INDEX(Calc!$E$5:$E$12,MATCH($D12,Calc!$C$5:$C$12,0),1),"") -> 1500 | G12: =IFERROR(INDEX(Calc!$F$5:$F$12,MATCH($D12,Calc!$C$5:$C$12,0),1),"") -> 5890 | H12: =IFERROR(INDEX(Calc!$G$5:$G$12,MATCH($D12,Calc!$C$5:$C$12,0),1),"") -> 0.25466893
D13: Influencer Marketing | E13: =IFERROR(INDEX(Calc!$D$5:$D$12,MATCH(D13,Calc!$C$5:$C$12,0),1),"") -> 2.125 | F13: =IFERROR(INDEX(Calc!$E$5:$E$12,MATCH($D13,Calc!$C$5:$C$12,0),1),"") -> 1920 | G13: =IFERROR(INDEX(Calc!$F$5:$F$12,MATCH($D13,Calc!$C$5:$C$12,0),1),"") -> 4300 | H13: =IFERROR(INDEX(Calc!$G$5:$G$12,MATCH($D13,Calc!$C$5:$C$12,0),1),"") -> 0.44651163
D14: LinkedIn | E14: =IFERROR(INDEX(Calc!$D$5:$D$12,MATCH(D14,Calc!$C$5:$C$12,0),1),"") -> 0.2075 | F14: =IFERROR(INDEX(Calc!$E$5:$E$12,MATCH($D14,Calc!$C$5:$C$12,0),1),"") -> 1300 | G14: =IFERROR(INDEX(Calc!$F$5:$F$12,MATCH($D14,Calc!$C$5:$C$12,0),1),"") -> 1495 | H14: =IFERROR(INDEX(Calc!$G$5:$G$12,MATCH($D14,Calc!$C$5:$C$12,0),1),"") -> 0.86956522
D15: Twitter | E15: =IFERROR(INDEX(Calc!$D$5:$D$12,MATCH(D15,Calc!$C$5:$C$12,0),1),"") -> 0.551 | F15: =IFERROR(INDEX(Calc!$E$5:$E$12,MATCH($D15,Calc!$C$5:$C$12,0),1),"") -> 1750 | G15: =IFERROR(INDEX(Calc!$F$5:$F$12,MATCH($D15,Calc!$C$5:$C$12,0),1),"") -> 3525 | H15: =IFERROR(INDEX(Calc!$G$5:$G$12,MATCH($D15,Calc!$C$5:$C$12,0),1),"") -> 0.4964539
D16: Template | E16: =IFERROR(INDEX(Calc!$D$5:$D$12,MATCH(D16,Calc!$C$5:$C$12,0),1),"") -> 2.6571429 | F16: =IFERROR(INDEX(Calc!$E$5:$E$12,MATCH($D16,Calc!$C$5:$C$12,0),1),"") -> 630 | G16: =IFERROR(INDEX(Calc!$F$5:$F$12,MATCH($D16,Calc!$C$5:$C$12,0),1),"") -> 3600 | H16: =IFERROR(INDEX(Calc!$G$5:$G$12,MATCH($D16,Calc!$C$5:$C$12,0),1),"") -> 0.175

Sheet GoogleAds
C2: MARKETING CAMPAIGN ROI CALCULATOR
C3: GOOGLE ADS METRICS
E5: CAMPAIGN INPUTS | H5: Additional Information | K5: CALCULATIONS | N5: Additional Information
E7: ="Ad spend; monthly (" & currency & ")" -> Ad spend; monthly ($) | F7: 2000 | H7: =IF(ISNUMBER(F7),"","← Don't leave it empty.") | K7: ="Cost per 1000 impressions (CPM) (" & currency & ")" -> Cost per 1000 impressions (CPM) ($) | L7: =IFERROR(SUM(GoogleCost)/(F11/1000),"") -> 57.5
E8: ="PPC Management Tools; monthly (" & currency & ")" -> PPC Management Tools; monthly ($) | F8: 300 | K8: Clicks (#) | L8: =IFERROR(IF(OR(ISNUMBER(F12),ISNUMBER(F13)),F12+F13,F14*F11),"") -> 800 | N8: =IF(L8<L14,"Clics # cannot be lower than Conversion #","")
E9: ="Other Google Ads tools; monthly (" & currency & ")" -> Other Google Ads tools; monthly ($) | K9: Clickthrough Rate (CTR) (%) | L9: =IFERROR(IF(ISNUMBER(F14),F14,(F12+F13)/F11),"") -> 0.02 | N9: =IF(L9>5.5%,"Your CTR seems too high","")
K10: • GSN CTR (%) | L10: =IFERROR(IF(ISNUMBER(F12),F12/F11,""),"") | N10: =IF(AND(ISNUMBER(L10),L10>4.2%),"Your CTR seems too high","")
E11: Impressions (#) | F11: 40000 | H11: =IF(ISNUMBER(F11),"","← Don't leave it empty.") | K11: • GDN CTR (%) | L11: =IFERROR(IF(ISNUMBER(F13),F13/F11,""),"") | N11: =IF(AND(ISNUMBER(L11),L11>4.2%),"Your CTR seems too high","")
E12: Clicks from search network (#) | H12: =IF(OR(AND(ISNUMBER(F12),ISNUMBER(F13),ISNUMBER(F14)),AND(ISNUMBER(F12),ISNUMBER(F14)),AND(ISNUMBER(F13),ISNUMBER(F14)),AND(ISNUMBER(F12)=FALSE,ISNUMBER(F13)=FALSE,ISNUMBER(F14)=FALSE)),"← Fill out only Clicks (#) or CTR.","") | K12: ="Cost per click (CPC) (" & currency & ")" -> Cost per click (CPC) ($) | L12: =IFERROR(SUM(GoogleCost)/L8,"") -> 2.875
E13: Clicks from display network (#) | H13: =IF(OR(AND(ISNUMBER(F12),ISNUMBER(F13),ISNUMBER(F14)),AND(ISNUMBER(F12),ISNUMBER(F14)),AND(ISNUMBER(F13),ISNUMBER(F14)),AND(ISNUMBER(F12)=FALSE,ISNUMBER(F13)=FALSE,ISNUMBER(F14)=FALSE)),"← Fill out only Clicks (#) or CTR.","")
E14: Clickthrough Rate (CTR) (%) | F14: 0.02 | H14: =IF(OR(AND(ISNUMBER(F12),ISNUMBER(F13),ISNUMBER(F14)),AND(ISNUMBER(F12),ISNUMBER(F14)),AND(ISNUMBER(F13),ISNUMBER(F14)),AND(ISNUMBER(F12)=FALSE,ISNUMBER(F13)=FALSE,ISNUMBER(F14)=FALSE)),"← Fill out only Clicks (#) or CTR.","") | K14: Conversions (#) | L14: =IFERROR(IF(ISNUMBER(F16),F16,F17*L8),"") -> 40
K15: Conversion rate (%) | L15: =IFERROR(IF(ISNUMBER(F17),F17,(F16/L8)),"") -> 0.05 | N15: =IF(L15>13%,"Conversion rate looks too high.","")
E16: Conversions (#) | H16: =IF(OR(AND(ISNUMBER(F16),ISNUMBER(F17)=FALSE),AND(ISNUMBER(F16)=FALSE,ISNUMBER(F17))),"","← Fill out only one: Conversions (#) or CR.") | K16: ="Cost per conversion (CPA) (" & currency & ")" -> Cost per conversion (CPA) ($) | L16: =IFERROR(SUM(GoogleCost)/L14,"") -> 57.5
E17: Conversion rate (%) | F17: 0.05 | H17: =IF(OR(AND(ISNUMBER(F16),ISNUMBER(F17)=FALSE),AND(ISNUMBER(F16)=FALSE,ISNUMBER(F17))),"","← Fill out only one: Conversions (#) or CR.")
K18: Sales (Buyers) (#) | L18: =IFERROR(IF(ISNUMBER(F19),F19,F20*L8),"") -> 40
E19: Sales (Campaign Buyers) (#) | H19: =IF(OR(AND(ISNUMBER(F19),ISNUMBER(F20)=FALSE),AND(ISNUMBER(F19)=FALSE,ISNUMBER(F20))),"","← Fill out only one: Sales (#) or Sales Rate.") | K19: Close (sale) rate (%) | L19: =IFERROR(IF(ISNUMBER(F20),F20,(F19/L8)),"") -> 0.05 | N19: =IF(L19>13%,"Close rate looks too high.","")
E20: Close (sale) rate (%) | F20: 0.05 | H20: =IF(OR(AND(ISNUMBER(F19),ISNUMBER(F20)=FALSE),AND(ISNUMBER(F19)=FALSE,ISNUMBER(F20))),"","← Fill out only one: Sales (#) or Sales Rate.") | K20: ="Cost per sale (" & currency & ")" -> Cost per sale ($) | L20: =IFERROR(SUM(GoogleCost)/L18,"") -> 57.5
K21: ="Projected Sales (" & currency & ")" -> Projected Sales ($) | L21: =IFERROR(L18*F22,"") -> 2000
E22: ="Average Order Value (" & currency & ")" -> Average Order Value ($) | F22: 50 | H22: =IF(ISNUMBER(F22),"","← Don't leave it empty.") | K22: ="Total LTV of gained customers (" & currency & ")" -> Total LTV of gained customers ($) | L22: =IFERROR(L18*F23,"") -> 16000 | N22: =IF(ISNUMBER(L22),"Not included in ROI results.","") -> Not included in ROI results.
E23: ="Average Lifetime value (LTV) (" & currency & ")" -> Average Lifetime value (LTV) ($) | F23: 400
E24: Quality Score (1-10) | F24: 7 | H24: =IF(ISNUMBER(F24),IF(AND(F24>=5,F24<8),"←Your campaign results are good!",IF(F24<5,"← Think about optimizing your campaign!","← Your campaign results are great!")),"") -> ←Your campaign results are good! | K24: ROI (Return on investment) (%) | L24: =IFERROR((L21-SUM(GoogleCost))/SUM(GoogleCost),"") -> -0.13043478
K25: ROAS (Return on ads spend) | L25: =IFERROR(L21/SUM(GoogleCost),"") -> 0.86956522 | N25: =IF(LEN(L25)>0,IF(L21/SUM(GoogleCost)>1,"Per each 1" & currency & " spend, you earn " & ROUND(L21/SUM(GoogleCost),2) & currency,"Your results are below investment."),"") -> Your results are below investment.
E26: Input … | K26: ="Break even sale value (" & currency & ")" -> Break even sale value ($) | L26: =IFERROR(SUM(GoogleCost)/L19,"") -> 46000 | N26: =IF(ISNUMBER(L26),"Minimum sale value for positive ROI","") -> Minimum sale value for positive ROI
E27: Input … | K27: Break even sales number (#) | L27: =IFERROR(SUM(GoogleCost)/F22,"") -> 46 | N27: =IF(ISNUMBER(L27),"Minimum buyers # for positive ROI","") -> Minimum buyers # for positive ROI
E28: Input …
E29: Input … | K29: Output …
E30: Input … | K30: Output …
E31: Input …
E32: Input … | K32: Output …
E33: Input … | K33: Output …
E34: Input … | K34: Your new calculation | N34: My alternative CPC calculation
E35: Input … | K35: Output …
E36: Input … | K36: Output …
E37: Input … | K37: Output …
E38: Input … | K38: Output …
E39: Input … | K39: Output …
E40: Input … | K40: Output …
E41: Input … | K41: Output …
E42: Input … | K42: Output …
E43: Input … | K43: Output …
E44: Input … | K44: Output …
E45: Input … | K45: Output …
E46: Input … | K46: Output …

Sheet Facebook
C2: MARKETING CAMPAIGN ROI CALCULATOR
C3: FACEBOOK METRICS
E5: CAMPAIGN INPUTS | H5: Additional Information | K5: CALCULATIONS | N5: Additional Information
E7: ="Ad spend; monthly (" & currency & ")" -> Ad spend; monthly ($) | F7: 1200 | H7: =IF(ISNUMBER(F7),"","← Don't leave it empty.") | K7: ="Cost per 1000 impressions (CPM) (" & currency & ")" -> Cost per 1000 impressions (CPM) ($) | L7: =IFERROR(SUM(FbCost)/(F11/1000),"") -> 48
E8: ="PPC Management Tools; monthly (" & currency & ")" -> PPC Management Tools; monthly ($) | K8: Clicks (#) | L8: =IFERROR(IF(ISNUMBER(F12),F12,F11*F13),"") -> 500
E9: ="Other Facebook Ads tools; monthly (" & currency & ")" -> Other Facebook Ads tools; monthly ($) | K9: Clickthrough Rate (CTR) (%) | L9: =IFERROR(IF(ISNUMBER(F13),F13,F12/F11),"") -> 0.02 | N9: =IF(L9>2.5%,"Your CTR seems too high.","")
K10: ="Cost per click (CPC) (" & currency & ")" -> Cost per click (CPC) ($) | L10: =IFERROR(SUM(FbCost)/L8,"") -> 2.4 | N10: =IF(L10>4,"Your CPC seems too high.","")
E11: Impressions (#) | F11: 25000 | H11: =IF(ISNUMBER(F11),"","← Don't leave it empty.")
E12: Clicks (#) | F12: 500 | H12: =IF(OR(AND(ISNUMBER(F12),ISNUMBER(F13)=FALSE),AND(ISNUMBER(F12)=FALSE,ISNUMBER(F13))),"","← Fill out only Clicks (#) or CTR.") | K12: Total number of engagements (#) | L12: =IFERROR(SUM(F15:F19),"") -> 3380
E13: Clickthrough Rate (CTR) (%) | H13: =IF(OR(AND(ISNUMBER(F12),ISNUMBER(F13)=FALSE),AND(ISNUMBER(F12)=FALSE,ISNUMBER(F13))),"","← Fill out only Clicks (#) or CTR.") | K13: Engagement Rate (%) | L13: =IFERROR(L12/F11,"") -> 0.1352
K14: ="CPE (Cost per Engagement) (" & currency & ")" -> CPE (Cost per Engagement) ($) | L14: =IFERROR(SUM(FbCost)/L12,"") -> 0.35502959
E15: Reactions (👍 ❤️ 😂 ☺️ 😯 😢 😡 ) (#) | F15: 3000 | K15: ="Cost per reaction (" & currency & ")" -> Cost per reaction ($) | L15: =IFERROR(SUM(FbCost)/F15,"") -> 0.4
E16: Shared post (#) | F16: 300 | K16: ="Cost per follow (" & currency & ")" -> Cost per follow ($) | L16: =IFERROR(SUM(FbCost)/#REF!,"")
E17: Comments (#) | F17: 80 | K17: ="Cost per video watched (" & currency & ")" -> Cost per video watched ($) | L17: =IFERROR(SUM(FbCost)/F18,"")
E18: Watched (if video) (#) | K18: ="Cost per share (" & currency & ")" -> Cost per share ($) | L18: =IFERROR(SUM(FbCost)/F16,"") -> 4
E19: Other not listed above interactions (#)
K20: New followers (#) | L20: =IFERROR(IF(ISNUMBER(F22),F22,F21*F23/(1+F23)),"") -> 25
E21: Total current Followers (#) | F21: 2500 | K21: Followers growth rate (%) | L21: =IFERROR(IF(ISNUMBER(F23),F23,L20/(F21-L20)),"") -> 0.01010101
E22: New followers (#) | F22: 25 | H22: =IF(OR(AND(ISNUMBER(F22),ISNUMBER(F23)=FALSE),AND(ISNUMBER(F22)=FALSE,ISNUMBER(F23))),"","← Fill out only one: New Followers (#) or FGR.") | K22: ="Cost per follower (" & currency & ")" -> Cost per follower ($) | L22: =IFERROR(IFERROR(SUM(FbCost)/L20,""),"") -> 48
E23: Followers growth rate (%) | H23: =IF(OR(AND(ISNUMBER(F22),ISNUMBER(F23)=FALSE),AND(ISNUMBER(F22)=FALSE,ISNUMBER(F23))),"","← Fill out only one: New Followers (#) or FGR.")
K24: Conversions (#) | L24: =IFERROR(IF(ISNUMBER(F25),F25,F26*L8),"") -> 50
E25: Conversions (#) | F25: 50 | H25: =IF(OR(AND(ISNUMBER(F25),ISNUMBER(F26)=FALSE),AND(ISNUMBER(F25)=FALSE,ISNUMBER(F26))),"","← Fill out only one: Conversion (#) or CR.") | K25: Conversion rate (%) | L25: =IFERROR(IF(ISNUMBER(F26),F26,L24/L8),"") -> 0.1
E26: Conversion rate (%) | H26: =IF(OR(AND(ISNUMBER(F25),ISNUMBER(F26)=FALSE),AND(ISNUMBER(F25)=FALSE,ISNUMBER(F26))),"","← Fill out only one: Conversion (#) or CR.") | K26: ="Cost per conversion (" & currency & ")" -> Cost per conversion ($) | L26: =IFERROR(SUM(FbCost)/L24,"") -> 24
E28: Sales (Campaign Buyers) (#) | F28: 40 | H28: =IF(OR(AND(ISNUMBER(F28),ISNUMBER(F29)=FALSE),AND(ISNUMBER(F28)=FALSE,ISNUMBER(F29))),"","← Fill out only one: Sales (#) or CloseRate.") | K28: Sales (Buyers) (#) | L28: =IFERROR(IF(ISNUMBER(F28),F28,IF(ISNUMBER(F29),F29*L8,"")),"") -> 40 | N28: =IF(AND(ISNUMBER(F28)=FALSE,ISNUMBER(F29)=FALSE),"If Sales info empty left Close # = Conversion #.","")
E29: Close (sale) rate (%) | H29: =IF(OR(AND(ISNUMBER(F28),ISNUMBER(F29)=FALSE),AND(ISNUMBER(F28)=FALSE,ISNUMBER(F29))),"","← Fill out only one: Sales (#) or CloseRate.") | K29: Close (sale) rate (%) | L29: =IFERROR(IF(ISNUMBER(F29),F29, IF(ISNUMBER(F28), F28/L8,"")),"") -> 0.08
K30: ="Cost per sale (" & currency & ")" -> Cost per sale ($) | L30: =IFERROR(SUM(FbCost)/L28,"") -> 30
E31: ="Average Order Value (" & currency & ")" -> Average Order Value ($) | F31: 55 | H31: =IF(ISNUMBER(F31),"","← Don't leave it empty.") | K31: ="Projected Sales (" & currency & ")" -> Projected Sales ($) | L31: =IFERROR(L28*F31,"") -> 2200
E32: ="Average Lifetime value (LTV) (" & currency & ")" -> Average Lifetime value (LTV) ($) | K32: ="Total LTV of gained customers (" & currency & ")" -> Total LTV of gained customers ($) | L32: =IFERROR(L28*F32,"") -> 0 | N32: =IF(ISNUMBER(L32),"Not included in ROI results.","") -> Not included in ROI results.
E33: Relevance Score (1-10) | H33: =IF(ISNUMBER(F33),IF(AND(F33>=5,F33<8)," Your campaign result seems pretty well!",IF(F33<5," Think about optimizing your campaign!"," Your campaign result seems great!")),"")
K34: ROI (Return on investment) (%) | L34: =IFERROR((L31-SUM(FbCost))/SUM(FbCost),"") -> 0.83333333
E35: Input … | K35: ROAS (Return on ads spend) | L35: =IFERROR(L31/SUM(FbCost),"") -> 1.8333333 | N35: =IF(LEN(L35)>0,IF(L31/SUM(FbCost)>1,"Per each 1" & currency & " spend, you earn " & ROUND(L31/SUM(FbCost),2) & currency,"Your results are below investment."),"") -> Per each 1$ spend, you earn 1,83$
E36: Input … | K36: ="Break even sale value (" & currency & ")" -> Break even sale value ($) | L36: =IFERROR(SUM(FbCost)/L28,"") -> 30 | N36: =IF(ISNUMBER(L36),"Minimum sale value for positive ROI","") -> Minimum sale value for positive ROI
E37: Input … | K37: Break even sales number (#) | L37: =IFERROR(SUM(FbCost)/F31,"") -> 21.818182 | N37: =IF(ISNUMBER(L37),"Minimum buyers # for positive ROI","") -> Minimum buyers # for positive ROI
E38: Input …
E39: Input … | K39: Output …
E40: Input … | K40: Output …
E41: Input … | K41: Output …
E42: Input … | K42: Output …
E43: Input … | K43: Output …
E44: Input … | K44: Output …
E45: Input … | K45: Output …
E46: Input … | K46: Output …

Sheet Email
C2: MARKETING CAMPAIGN ROI CALCULATOR
C3: EMAIL METRICS
E5: CAMPAIGN INPUTS | H5: Additional Information | K5: CALCULATIONS | N5: Additional Information
E7: ="Main Campaign cost (" & currency & ")" -> Main Campaign cost ($) | F7: 1200 | H7: =IF(ISNUMBER(F7),"","← Don't leave it empty.") | K7: ="Cost per 1000 emails (CPM) (" & currency & ")" -> Cost per 1000 emails (CPM) ($) | L7: =IFERROR(SUM(EmailCost)/(F11/1000),"") -> 70
E8: ="Email management tools costs (" & currency & ")" -> Email management tools costs ($) | F8: 200 | K8: Clicks (#) | L8: =IFERROR(IF(ISNUMBER(F13),F13*F11,0),"") -> 1000
E9: ="Other costs (" & currency & ")" -> Other costs ($) | K9: ="Cost per click (CPC) (" & currency & ")" -> Cost per click (CPC) ($) | L9: =IFERROR(SUM(EmailCost)/L8,"") -> 1.4
E11: Sent emails volume (#) | F11: 20000 | H11: =IF(ISNUMBER(F11),"","← Don't leave it empty.") | K11: Not delivered emails (#) | L11: =IFERROR(IF(ISNUMBER(F21),F21*F11,IF(ISNUMBER(F22+F23),(F22+F23)*F11,"")),"") -> 300
E12: Total Open rate (%) | F12: 0.24 | H12: =IF(ISNUMBER(F12),"","← Don't leave it empty.") | K12: Delivered emails (#) | L12: =IFERROR(IF(ISNUMBER(F11),F11-L11,""),"") -> 19700
E13: Total Click through Rate (CTR) | F13: 0.05 | H13: =IF(ISNUMBER(F13),"","← Don't leave it empty.") | K13: Opened emails (#) | L13: =IFERROR(IF(AND(ISNUMBER(F12), ISNUMBER(F11)),F11*F12,""),"") -> 4800
E14: Mobile open rate (%) | F14: 0.22 | H14: =IF(LEN(F14)>0,IF(F14>F12*1.2,"This value is "& ROUND( (F14/F12-1)*100,1) & "% higher than average",IF(F14<F12*0.8,"This value is "& ROUND( (1- F14/F12)*100,1) &"% lower than average","")),"") | K14: Spam complaints (#) | L14: =IFERROR(IF(AND(ISNUMBER(F24),ISNUMBER(F11)), F24*F11,""),"") -> 10
E15: Mobile click rate (%) | F15: 0.06 | H15: =IF(LEN(F15)>0,IF(F15>F13*1.2,"This value is "& ROUND( (F15/F13-1)*100,1) & "% higher than average",IF(F15<F13*0.8,"This value is "& ROUND( (1- F15/F13)*100,1) &"% lower than average","")),"") | K15: Email forwarded (#) | L15: =IFERROR(IF(AND(ISNUMBER(F25),ISNUMBER(F11)),F25*F11,""),"") -> 100
E16: Domain "A" open rate (%) | F16: 0.26 | H16: =IF(LEN(F16)>0,IF(F16>F12*1.2,"This value is "& ROUND((F16/F12-1)*100,1) & "% higher than average",IF(F16<F12*0.8,"This value is "& ROUND( (1- F16/F12)*100,1) &"% lower than average","")),"") | K16: ="Cost per forward (" & currency & ")" -> Cost per forward ($) | L16: =IFERROR(SUM(EmailCost)/L15,"") -> 14
E17: Domain "B" open rate (%) | F17: 0.2 | H17: =IF(LEN(F17)>0,IF(F17>F12*1.2,"This value is "& ROUND( (F17/F12-1)*100,1) & "% higher than average",IF(F17<F12*0.8,"This value is "& ROUND( (1- F17/F12)*100,1) &"% lower than average","")),"") | K17: Email share (#) | L17: =IFERROR(IF(AND(ISNUMBER(F26),ISNUMBER(F11)),F26*F11,""),"") -> 200
E18: Domain "A" click rate (%) | F18: 0.063 | H18: =IF(LEN(F18)>0,IF(F18>F13*1.2,"This value is "& ROUND((F18/F13-1)*100,1) & "% higher than average",IF(F18<F13*0.8,"This value is "& ROUND( (1- F18/F13)*100,1) &"% lower than average","")),"") -> This value is 26% higher than average | K18: ="Cost per share (" & currency & ")" -> Cost per share ($) | L18: =IFERROR(SUM(EmailCost)/L17,"") -> 7
E19: Domain "B" click rate (%) | F19: 0.0365 | H19: =IF(LEN(F19)>0,IF(F19>F13*1.2,"This value is "& ROUND( (F19/F13-1)*100,1) & "% higher than average",IF(F19<F13*0.8,"This value is "& ROUND( (1- F19/F13)*100,1) &"% lower than average","")),"") -> This value is 27% lower than average
K20: Unsubscribed (#) | L20: =IFERROR(IF(ISNUMBER(F28),F28*F11,""),"") -> 40
E21: Bounce rate (total) (%) | F21: 0.015 | K21: List growth rate (%) | L21: =IFERROR(IF(ISNUMBER(F30),F30, IF(ISNUMBER(F29),(F29-L20)/F11,"")),"") -> 0.01
E22: • Soft bounce rate (%) | K22: New subscribers (#) | L22: =IFERROR(IF(ISNUMBER(F29),F29,(L21*F11)+L20),"") -> 240
E23: • Hard bounce rate (%) | K23: ="Cost per subscrypton (" & currency & ")" -> Cost per subscrypton ($) | L23: =IFERROR(SUM(EmailCost)/L22,"") -> 5.8333333
E24: Spam complaints (%) | F24: 0.0005 | H24: =IF(F24>1%,"High rate can be harmful for your campaign.","")
E25: Forward rate (%) | F25: 0.005 | K25: Conversions (#) | L25: =IFERROR(IF(ISNUMBER(F31),F31*F11,""),"") -> 600
E26: Email sharing rate (%) | F26: 0.01 | K26: ="Cost per conversion (CPA) (" & currency & ")" -> Cost per conversion (CPA) ($) | L26: =IFERROR(SUM(EmailCost)/L25,"") -> 2.3333333
E28: Unsubscribe rate (%) | F28: 0.002 | H28: =IF(ISNUMBER(F28),"","← Important to calculate growgth rate.") | K28: Sales (Buyers) (#) | L28: =IFERROR(F32*F11,"") -> 200
E29: New subscribers (#) | H29: =IF(OR(AND(ISNUMBER(F30),ISNUMBER(F29)=FALSE),AND(ISNUMBER(F30)=FALSE,ISNUMBER(F29))),"","← Fill out only one: GR or Subscribers (#).") | K29: ="Cost per sale (" & currency & ")" -> Cost per sale ($) | L29: =IFERROR(SUM(EmailCost)/L28,"") -> 7
E30: List growth rate (%) | F30: 0.01 | H30: =IF(OR(AND(ISNUMBER(F30),ISNUMBER(F29)=FALSE),AND(ISNUMBER(F30)=FALSE,ISNUMBER(F29))),"","← Fill out only one: GR or Subscribers (#).") | K30: ="Projected Sales (" & currency & ")" -> Projected Sales ($) | L30: =IFERROR(L28*F34,"") -> 3000
E31: Conversion rate (%) | F31: 0.03 | K31: ="Total LTV of gained customers (" & currency & ")" -> Total LTV of gained customers ($) | L31: =IFERROR(L28*F35,"") -> 16000 | N31: =IF(ISNUMBER(L31),"Not included in ROI results.","") -> Not included in ROI results.
E32: Sale rate (%) | F32: 0.01 | H32: =IF(ISNUMBER(F32),"","← Don't leave it empty.")
K33: ROI (Return on investment) (%) | L33: =IFERROR((L30-SUM(EmailCost))/SUM(EmailCost),"") -> 1.1428571
E34: ="Average Order Value (" & currency & ")" -> Average Order Value ($) | F34: 15 | H34: =IF(ISNUMBER(F34),"","← Don't leave it empty.") | K34: ROAS (Return on ads spend) | L34: =IFERROR((L30)/SUM(EmailCost),"") -> 2.1428571 | N34: =IF(LEN(L34)>0,IF((L30)/SUM(EmailCost)>1,"Per each 1" & currency & " spend, you earn " & ROUND((L30)/SUM(EmailCost),2) & currency,"Your results are below investment."),"") -> Per each 1$ spend, you earn 2,14$
E35: ="Average Lifetime value (LTV) (" & currency & ")" -> Average Lifetime value (LTV) ($) | F35: 80 | K35: ="Break even sale value (" & currency & ")" -> Break even sale value ($) | L35: =IFERROR(SUM(EmailCost)/L28,"") -> 7 | N35: =IF(ISNUMBER(L35),"Minimum sale value for positive ROI","") -> Minimum sale value for positive ROI
K36: Break even sales number (#) | L36: =IFERROR(SUM(EmailCost)/F34,"") -> 93.333333 | N36: =IF(ISNUMBER(L36),"Minimum buyers # for positive ROI","") -> Minimum buyers # for positive ROI
E37: Input …
E38: Input … | K38: Output …
E39: Input … | K39: Output …
E40: Input … | K40: Output …
E41: Input … | K41: Output …
E42: Input … | K42: Output …
E43: Input … | K43: Output …
E44: Input … | K44: Output …
E45: Input … | K45: Output …
E46: Input … | K46: Output …

Sheet Instagram
C2: MARKETING CAMPAIGN ROI CALCULATOR
C3: INSTAGRAM METRICS
E5: CAMPAIGN INPUTS | H5: Additional Information | K5: CALCULATIONS | N5: Additional Information
E7: ="Ad spend; monthly (" & currency & ")" -> Ad spend; monthly ($) | F7: 1100 | H7: =IF(ISNUMBER(F7),"","← Don't leave it empty.") | K7: ="Cost per 1000 impressions (CPM) (" & currency & ")" -> Cost per 1000 impressions (CPM) ($) | L7: =IFERROR(SUM(InstagramCost)*1000/F12,"") -> 15
E8: ="Ad creation cost (" & currency & ")" -> Ad creation cost ($) | K8: Reach rate (%) | L8: =IFERROR(F13/F35,"") -> 0.44207317
E9: ="Other Instagram Ads tools; monthly (" & currency & ")" -> Other Instagram Ads tools; monthly ($) | F9: 150 | K9: Clickthrough Rate (CTR) (%) | L9: =IFERROR(F15/F12,"") -> 0.0589
E10: ="Content cration cost (" & currency & ")" -> Content cration cost ($) | F10: 250 | K10: ="Cost per click (CPC) (" & currency & ")" -> Cost per click (CPC) ($) | L10: =IFERROR(SUM(InstagramCost)/F15,"") -> 0.25466893
E12: Impressions (#) | F12: 100000 | H12: =IF(ISNUMBER(F12),"","← Don't leave it empty.") | K12: Profile visits rate (%) | L12: =IFERROR(F16/F35,"") -> 0.038109756
E13: Reach (#) | F13: 29000 | K13: Email click rate (%) | L13: =IFERROR(F17/F35,"") -> 0.001402439
E14: Story Reach (#) | F14: 1300 | K14: Get direction rate (%) | L14: =IFERROR(F18/F35,"") -> 0.00068597561
E15: Ad clicks (#) | F15: 5890 | H15: =IF(ISNUMBER(F15),"","← Don't leave it empty.") | K15: Website clicks rate (%) | L15: =IFERROR(F19/F35,"") -> 0.0096036585
E16: Profile clicks (visits) (#) | F16: 2500
E17: Email clicks (#) | F17: 92 | K17: Engagements (#) | L17: =IFERROR(SUM(F24:F28),"") -> 4185
E18: Get direction clicks (#) | F18: 45 | K18: Engagement Rate (%) | L18: =IFERROR(L17/F35,"") -> 0.063795732
E19: Website clicks (#) | F19: 630 | K19: ="CPE (Cost per Engagement) (" & currency & ")" -> CPE (Cost per Engagement) ($) | L19: =IFERROR(SUM(InstagramCost)/L17,"") -> 0.35842294
K20: ="Cost per follow (" & currency & ")" -> Cost per follow ($) | L20: =IFERROR(SUM(InstagramCost)/F36,"") -> 1
E21: Mentions (#) | F21: 234 | K21: Engagements per follower (#) | L21: =IFERROR(L17/F35,"") -> 0.063795732
E22: Tags on branded hashtag (#) | F22: 321 | K22: Video view rate (%) | L22: =IFERROR(IF(ISNUMBER(F23),F23/F35,""),"")
E23: Video views (#) | K23: ="Cost per video watched (" & currency & ")" -> Cost per video watched ($) | L23: =IFERROR(SUM(InstagramCost)/F23,"")
E24: Likes (#) | F24: 2500
E25: Comments (#) | F25: 1300 | K25: Story Exit rate (%) | L25: =IFERROR(F33/F14,"") -> 0.065384615
E26: Saves (#) | F26: 120 | K26: Story performance (%) | L26: =IFERROR(100%-L25,"") -> 0.93461538
E27: Post replies (#) | F27: 250 | K27: Completion rate (%) | L27: =IFERROR(SUM(F28:F31)/F14,"") -> 0.40923077 | N27: =IF(SUM(F28:F33)>F14,"Warning: Story reaction # > Story Reach #","")
E28: Story replies (#) | F28: 15 | K28: Shortcuts (#) | L28: =IFERROR(SUM(F31:F33),"") -> 220
E29: Story Link Clicks (#) | F29: 387
E30: Story Taps Back (#) | F30: 30 | K30: Followers growth rate (%) | L30: =IFERROR(F36/(F35-F36),"") -> 0.023400936
E31: Story Taps Forward (#) | F31: 100 | K31: Conversions (#) | L31: =IFERROR(F38*F15,"") -> 200.26
E32: Swipes away (#) | F32: 35 | K32: ="Cost per conversion (" & currency & ")" -> Cost per conversion ($) | L32: =IFERROR(SUM(InstagramCost)/L31,"") -> 7.4902627
E33: Story Exits (#) | F33: 85
K34: Sales (Buyers) (#) | L34: =IFERROR(IF(ISNUMBER(F39),F39*F15,""),"") -> 141.36
E35: Total current Followers (#) | F35: 65600 | K35: ="Cost per sale (" & currency & ")" -> Cost per sale ($) | L35: =IFERROR(SUM(InstagramCost)/L34,"") -> 10.611205
E36: Net Follower growth (#) | F36: 1500 | K36: ="Projected Sales (" & currency & ")" -> Projected Sales ($) | L36: =IFERROR(F41*L34,"") -> 3109.92
K37: ="Total LTV of gained customers (" & currency & ")" -> Total LTV of gained customers ($) | L37: =IFERROR(L34*F42,"") -> 16963.2 | N37: =IF(ISNUMBER(L37),"Not included in ROI results.","") -> Not included in ROI results.
E38: Conversion rate (%) | F38: 0.034
E39: Sale rate (%) | F39: 0.024 | K39: ROI (Return on investment) (%) | L39: =IFERROR((L36-SUM(InstagramCost))/SUM(InstagramCost),"") -> 1.07328
K40: ROAS (Return on ads spend) | L40: =IFERROR((L36)/SUM(InstagramCost),"") -> 2.07328 | N40: =IF(LEN(L40)>0,IF((L36)/SUM(InstagramCost)>1,"Per each 1" & currency & " spend, you earn " & ROUND((L36)/SUM(InstagramCost),2) & currency,"Your results are below investment."),"") -> Per each 1$ spend, you earn 2,07$
E41: ="Average Order Value (" & currency & ")" -> Average Order Value ($) | F41: 22 | H41: =IF(ISNUMBER(F41),"","← Don't leave it empty.") | K41: ="Break even sale value (" & currency & ")" -> Break even sale value ($) | L41: =IFERROR(SUM(InstagramCost)/L34,"") -> 10.611205 | N41: =IF(ISNUMBER(L41),"Minimum sale value for positive ROI","") -> Minimum sale value for positive ROI
E42: ="Average Lifetime value (LTV) (" & currency & ")" -> Average Lifetime value (LTV) ($) | F42: 120 | K42: Break even sales number (#) | L42: =IFERROR(SUM(InstagramCost)/F41,"") -> 68.181818 | N42: =IF(ISNUMBER(L42),"Minimum buyers # for positive ROI","") -> Minimum buyers # for positive ROI
E44: Input … | K44: Output …
E45: Input … | K45: Output …
E46: Input … | K46: Output …

Sheet Influencer
C2: MARKETING CAMPAIGN ROI CALCULATOR
C3: INFLUENCER MARKETING METRICS
E5: CAMPAIGN INPUTS | H5: Additional Information | K5: CALCULATIONS | N5: Additional Information
E7: ="Influencer cost (" & currency & ")" -> Influencer cost ($) | F7: 1700 | H7: =IF(ISNUMBER(F7),"","← Don't leave it empty.") | K7: ="Cost per 1000 impressions (CPM) (" & currency & ")" -> Cost per 1000 impressions (CPM) ($) | L7: =IFERROR(SUM(InflueancerCost)*1000/F10,"") -> 48
E8: ="Additional costs (" & currency & ")" -> Additional costs ($) | F8: 220 | K8: Click through rate (CTR) (%) | L8: =IFERROR(F12/F10,"") -> 0.1075
K9: ="Cost per click (CPC) (" & currency & ")" -> Cost per click (CPC) ($) | L9: =IFERROR(SUM(InflueancerCost)/F12,"") -> 0.44651163
E10: Followers (#) | F10: 40000 | H10: =IF(ISNUMBER(F10),"","← Don't leave it empty.")
E11: Active Audience Type (%) | F11: 0.85 | K11: Comments/likes ratio (%) | L11: =IFERROR(F17/F14,"") -> 0.12820513
E12: Clicks (#) | F12: 4300 | H12: =IF(ISNUMBER(F12),"","← Don't leave it empty.") | K12: Engagements (#) | L12: =IFERROR(SUM(F14:F17),"") -> 4820
K13: Engagement rate (%) | L13: =IFERROR(L12/F10,"") -> 0.1205
E14: Likes (#) | F14: 3900 | K14: ="Cost per engagement (CPE) (" & currency & ")" -> Cost per engagement (CPE) ($) | L14: =IFERROR(SUM(InflueancerCost)/L12,"") -> 0.39834025
E15: Replies (#) | F15: 100 | K15: ="Cost per mention (" & currency & ")" -> Cost per mention ($) | L15: =IFERROR(SUM(InflueancerCost)/F18,"") -> 192
E16: Shares (#) | F16: 320
E17: Comments (#) | F17: 500 | K17: Conversions (#) | L17: =IFERROR(IF(ISNUMBER(F26),F26*F10,""),"") -> 2000
E18: Brand mentions (#) | F18: 10 | K18: ="Cost per conversion (" & currency & ")" -> Cost per conversion ($) | L18: =IFERROR(SUM(InflueancerCost)/L17,"") -> 0.96
E20: Followers/following ratio | F20: 15 | K20: Sales (Buyers) (#) | L20: =IFERROR(IF(ISNUMBER(F27),F27*F10,""),"") -> 400
E21: Post frequency (#/day) | F21: 1.2 | K21: ="Cost per sale (" & currency & ")" -> Cost per sale ($) | L21: =IFERROR(SUM(InflueancerCost)/L20,"") -> 4.8
K22: ="Projected Sales (" & currency & ")" -> Projected Sales ($) | L22: =IFERROR(IF(ISNUMBER(F29),F29*L20,""),"") -> 6000
E23: Follower growth (%) | F23: 0.03 | K23: ="Total LTV of gained customers (" & currency & ")" -> Total LTV of gained customers ($) | L23: =IFERROR(L20*F30,"") -> 22000 | N23: =IF(ISNUMBER(L23),"Not included in ROI results.","") -> Not included in ROI results.
E24: Audience Quality Score | F24: 85
K25: ROI (Return on investment) (%) | L25: =IFERROR((L22-SUM(InflueancerCost))/SUM(InflueancerCost),"") -> 2.125
E26: Conversion rate (%) | F26: 0.05 | K26: ROAS (Return on ads spend) | L26: =IFERROR((L22)/SUM(InflueancerCost),"") -> 3.125 | N26: =IF(LEN(L26)>0,IF((L22)/SUM(InflueancerCost)>1,"Per each 1" & currency & " spend, you earn " & ROUND((L22)/SUM(InflueancerCost),2) & currency,"Your results are below investment."),"") -> Per each 1$ spend, you earn 3,13$
E27: Sales rate (%) | F27: 0.01 | K27: ="Break even sale value (" & currency & ")" -> Break even sale value ($) | L27: =IFERROR(SUM(InflueancerCost)/L20,"") -> 4.8 | N27: =IF(ISNUMBER(L27),"Minimum sale value for positive ROI","") -> Minimum sale value for positive ROI
K28: Break even sales number (#) | L28: =IFERROR(SUM(InflueancerCost)/F29,"") -> 128 | N28: =IF(ISNUMBER(L28),"Minimum buyers # for positive ROI","") -> Minimum buyers # for positive ROI
E29: ="Average Order Value (" & currency & ")" -> Average Order Value ($) | F29: 15 | H29: =IF(ISNUMBER(F29),"","← Don't leave it empty.")
E30: ="Average Lifetime value (LTV) (" & currency & ")" -> Average Lifetime value (LTV) ($) | F30: 55 | K30: Output …
K31: Output …
E32: Input … | K32: Output …
E33: Input … | K33: Output …
E34: Input … | K34: Output …
E35: Input … | K35: Output …
E36: Input … | K36: Output …
E37: Input … | K37: Output …
E38: Input … | K38: Output …
E39: Input … | K39: Output …
E40: Input … | K40: Output …
E41: Input … | K41: Output …
E42: Input … | K42: Output …
E43: Input … | K43: Output …
... E46: Input … | K46: Output …

Sheet LinkedIn
C2: MARKETING CAMPAIGN ROI CALCULATOR
C3: LINKEDIN METRICS
E5: CAMPAIGN INPUTS | H5: Additional Information | K5: CALCULATIONS | N5: Additional Information
E7: ="Ad spend; monthly (" & currency & ")" -> Ad spend; monthly ($) | F7: 1000 | H7: =IF(ISNUMBER(F7),"","← Don't leave it empty.") | K7: ="Cost per 1000 impressions (CPM) (" & currency & ")" -> Cost per 1000 impressions (CPM) ($) | L7: =IFERROR(SUM(LInCost)*1000/F11,"") -> 10.833333
E8: ="Content cration cost (" & currency & ")" -> Content cration cost ($) | K8: Clicks (#) | L8: =IFERROR(SUM(F19:F21),"") -> 1495
E9: ="Other costs (" & currency & ")" -> Other costs ($) | F9: 300 | K9: Clickthrough Rate (CTR) (%) | L9: =IFERROR(L8/F11,"") -> 0.012458333
K10: ="Cost per click (CPC) (" & currency & ")" -> Cost per click (CPC) ($) | L10: =IFERROR(SUM(LInCost)/L8,"") -> 0.86956522
E11: Impressions (#) | F11: 120000 | H11: =IF(ISNUMBER(F11),"","← Don't leave it empty.")
E12: Profile Views (#) | F12: 430 | K12: Engagement rate (%) | L12: =IFERROR(L13/F11,"") -> 0.016125
E13: Search appearance (#) | F13: 600 | K13: Engagements (#) | L13: =IFERROR(SUM(F16:F22),"") -> 1935
E14: Followers (#) | F14: 600 | K14: ="Cost per engagement (" & currency & ")" -> Cost per engagement ($) | L14: =IFERROR(SUM(LInCost)/L13,"") -> 0.67183463
E16: Reactions (Likes f.ex.) (#) | F16: 340 | K16: New Followers (#) | L16: =IFERROR(IF(ISNUMBER(F25),F25,IF(ISNUMBER(F26),F26*F14/(1+F26),"")),"") -> 20.009667
E17: Comments (#) | F17: 50 | K17: Followers Growth Rate (%) | L17: =IFERROR(IF(ISNUMBER(F26),F26,IF(ISNUMBER(F25),F25/(F14-F25),"")),"") -> 0.0345
E18: Shares (#) | F18: 10
E19: Clicks on the update (#) | F19: 85 | K19: Conversions (#) | L19: =IFERROR(IF(ISNUMBER(F28),F28,F29*L8),"") -> 89.7
E20: Clicks on the image or gif (#) | F20: 210 | K20: Conversion rate (%) | L20: =IFERROR(IF(ISNUMBER(F29),F29,L19/L8),"") -> 0.06
E21: Link Clicks (#) | F21: 1200 | K21: ="Cost per conversion (" & currency & ")" -> Cost per conversion ($) | L21: =IFERROR(SUM(LInCost)/L19,"") -> 14.492754
E22: Video Views (#) | F22: 40
E23: Mentions (#) | F23: 20 | K23: Sales (Buyers) (#) | L23: =IFERROR(IF(ISNUMBER(F31),F31,IF(ISNUMBER(F32),F32*L8,"")),"") -> 44.85
K24: Close (sale) rate (%) | L24: =IFERROR(IF(ISNUMBER(F32),F32, IF(ISNUMBER(F31), F31/L8,L20)),"") -> 0.03
E25: New Followers (#) | H25: =IF(OR(AND(ISNUMBER(F25),ISNUMBER(F26)=FALSE),AND(ISNUMBER(F25)=FALSE,ISNUMBER(F26))),"","← Fill out only one: New Followers(#) or FGR.") | K25: ="Cost per sale (" & currency & ")" -> Cost per sale ($) | L25: =IFERROR(SUM(LInCost)/L23,"") -> 28.985507
E26: Followers Growth Rate (%) | F26: 0.0345 | H26: =IF(OR(AND(ISNUMBER(F25),ISNUMBER(F26)=FALSE),AND(ISNUMBER(F25)=FALSE,ISNUMBER(F26))),"","← Fill out only one: New Followers(#) or FGR.") | K26: ="Projected Sales (" & currency & ")" -> Projected Sales ($) | L26: =IFERROR(F34*L23,"") -> 1569.75
K27: ="Total LTV of gained customers (" & currency & ")" -> Total LTV of gained customers ($) | L27: =IFERROR(IF(ISNUMBER(F35),L23*F35,""),"") | N27: =IF(ISNUMBER(L27),"Not included in ROI results.","")
E28: Conversions (#) | H28: =IF(OR(AND(ISNUMBER(F28),ISNUMBER(F29)=FALSE),AND(ISNUMBER(F28)=FALSE,ISNUMBER(F29))),"","← Fill out only one: Conversion (#) or CR.")
E29: Conversion rate (%) | F29: 0.06 | H29: =IF(OR(AND(ISNUMBER(F28),ISNUMBER(F29)=FALSE),AND(ISNUMBER(F28)=FALSE,ISNUMBER(F29))),"","← Fill out only one: Conversion (#) or CR.") | K29: ROI (Return on investment) (%) | L29: =IFERROR((L26-SUM(LInCost))/SUM(LInCost),"") -> 0.2075
K30: ROAS (Return on ads spend) | L30: =IFERROR((L26)/SUM(LInCost),"") -> 1.2075 | N30: =IF(LEN(L30)>0,IF((L26)/SUM(LInCost)>1,"Per each 1" & currency & " spend, you earn " & ROUND((L26)/SUM(LInCost),2) & currency,"Your results are below investment."),"") -> Per each 1$ spend, you earn 1,21$
E31: Sales (Buyers) (#) | H31: =IF(OR(AND(ISNUMBER(F31),ISNUMBER(F32)=FALSE),AND(ISNUMBER(F31)=FALSE,ISNUMBER(F32))),"","← Fill out only one: Sales (#) or SR.") | K31: ="Break even sale value (" & currency & ")" -> Break even sale value ($) | L31: =IFERROR(SUM(LInCost)/L23,"") -> 28.985507 | N31: =IF(ISNUMBER(L31),"Minimum sale value for positive ROI","") -> Minimum sale value for positive ROI
E32: Sales rate (%) | F32: 0.03 | H32: =IF(OR(AND(ISNUMBER(F31),ISNUMBER(F32)=FALSE),AND(ISNUMBER(F31)=FALSE,ISNUMBER(F32))),"","← Fill out only one: Sales (#) or SR.") | K32: Break even sales number (#) | L32: =IFERROR(SUM(LInCost)/F34,"") -> 37.142857 | N32: =IF(ISNUMBER(L32),"Minimum buyers # for positive ROI","") -> Minimum buyers # for positive ROI
E34: ="Average Order Value (" & currency & ")" -> Average Order Value ($) | F34: 35 | H34: =IF(ISNUMBER(F34),"","← Don't leave it empty.") | K34: Output …
E35: ="Average Lifetime value (LTV) (" & currency & ")" -> Average Lifetime value (LTV) ($) | K35: Output …
K36: Output …
E37: Input … | K37: Output …
E38: Input … | K38: Output …
E39: Input … | K39: Output …
E40: Input … | K40: Output …
E41: Input … | K41: Output …
E42: Input … | K42: Output …
E43: Input … | K43: Output …
E44: Input … | K44: Output …
E45: Input … | K45: Output …
E46: Input … | K46: Output …

Sheet Twitter
C2: MARKETING CAMPAIGN ROI CALCULATOR
C3: TWITTER METRICS
E5: CAMPAIGN INPUTS | H5: Additional Information | K5: CALCULATIONS | N5: Additional Information
E7: ="Ad spend; monthly (" & currency & ")" -> Ad spend; monthly ($) | F7: 1500 | H7: =IF(ISNUMBER(F7),"","← Don't leave it empty.") | K7: ="Cost per 1000 impressions (CPM) (" & currency & ")" -> Cost per 1000 impressions (CPM) ($) | L7: =IFERROR(SUM(TwitterCost)*1000/F12,"") -> 50
E8: ="Ad creation cost (" & currency & ")" -> Ad creation cost ($) | K8: Clicks (#) | L8: =IFERROR(SUM(F15:F17),"") -> 3525
E9: ="Content cration cost (" & currency & ")" -> Content cration cost ($) | K9: Clickthrough Rate (CTR) (%) | L9: =IFERROR(L8/F12,"") -> 0.10071429
E10: ="Other costs (" & currency & ")" -> Other costs ($) | F10: 250 | H10: =IF(ISNUMBER(F10),"","← Don't leave it empty.") | K10: ="Cost per click (CPC) (" & currency & ")" -> Cost per click (CPC) ($) | L10: =IFERROR(SUM(TwitterCost)/L8,"") -> 0.4964539
K11: Profile visits rate (%) | L11: =IFERROR(F15/F12,"") -> 0.013971429
E12: Total Impressions (#) | F12: 35000
E13: Tweets (#) | F13: 50 | K13: Engagement Rate (%) | L13: =IFERROR(F19/F12,"") -> 0.069457143
K14: ="CPE (Cost per Engagement) (" & currency & ")" -> CPE (Cost per Engagement) ($) | L14: =IFERROR(SUM(TwitterCost)/F19,"") -> 0.71986837
E15: Profile clicks (visits) (#) | F15: 489 | K15: Engagement Rate (for specific Tweet) (%) | L15: =IFERROR(F21/F20,"") -> 0.12
E16: Link clicks (#) | F16: 2943
E17: Permalink clicks (#) | F17: 93 | K17: ="Cost per viewed video (" & currency & ")" -> Cost per viewed video ($) | L17: =IFERROR(SUM(TwitterCost)/F23,"") -> 14.583333
K18: ="Cost per completed video (" & currency & ")" -> Cost per completed video ($) | L18: =IFERROR(SUM(TwitterCost)/(F23*F24),"") -> 58.333333
E19: Total Engagements (#) | F19: 2431 | K19: Followers growth rate (%) | L19: =IFERROR(F28/(F27-F28),"") -> 0.016949153
E20: Impressions (for a specific Tweet) (#) | F20: 500 | K20: ="Cost per follow (" & currency & ")" -> Cost per follow ($) | L20: =IFERROR(SUM(TwitterCost)/F28,"") -> 11.666667
E21: Engagements (for a specific Tweet) (#) | F21: 60
K22: Conversion (#) | L22: =IFERROR(IF(ISNUMBER(F31),F31,F32*L8),"") -> 105.75
E23: Number of video views (#) | F23: 120 | K23: Conversion Rate (%) | L23: =IFERROR(IF(ISNUMBER(F32),F32,F31/L8),"") -> 0.03
E24: Video completion rate (%) | F24: 0.25 | K24: ="Cost per conversion (" & currency & ")" -> Cost per conversion ($) | L24: =IFERROR(SUM(TwitterCost)/L22,"") -> 16.548463
E25: Video retention (%) | F25: 0.75
K26: Sales (Buyers) (#) | L26: =IFERROR(IF(ISNUMBER(F34),F34,F35*L8),"") -> 77.55
E27: Total followers (#) | F27: 9000 | K27: Sales rate (%) | L27: =IFERROR(IF(ISNUMBER(F35),F35,F34/L8),"") -> 0.022
E28: New followers (#) | F28: 150 | K28: ="Cost per sale (" & currency & ")" -> Cost per sale ($) | L28: =IFERROR(SUM(TwitterCost)/L26,"") -> 22.566086
E29: Mentions (#) | F29: 55 | K29: ="Projected Sales (" & currency & ")" -> Projected Sales ($) | L29: =IFERROR(L26*F37,"") -> 2714.25
K30: ="Total LTV of gained customers (" & currency & ")" -> Total LTV of gained customers ($) | L30: =IFERROR(L26*F38,"") -> 5040.75 | N30: =IF(ISNUMBER(L30),"Not included in ROI results.","") -> Not included in ROI results.
E31: Conversion (#)
E32: Conversion Rate (%) | F32: 0.03 | K32: ROI (Return on investment) (%) | L32: =IFERROR((L29-SUM(TwitterCost))/SUM(TwitterCost),"") -> 0.551
K33: ROAS (Return on ads spend) | L33: =IFERROR((L29)/SUM(TwitterCost),"") -> 1.551 | N33: =IF(LEN(L33)>0,IF((L29)/SUM(TwitterCost)>1,"Per each 1" & currency & " spend, you earn " & ROUND((L29)/SUM(TwitterCost),2) & currency,"Your results are below investment."),"") -> Per each 1$ spend, you earn 1,55$
E34: Sales (Buyers) (#) | K34: ="Break even sale value (" & currency & ")" -> Break even sale value ($) | L34: =IFERROR(SUM(TwitterCost)/L26,"") -> 22.566086 | N34: =IF(ISNUMBER(L34),"Minimum sale value for positive ROI","") -> Minimum sale value for positive ROI
E35: Sales rate (%) | F35: 0.022 | K35: Break even sales number (#) | L35: =IFERROR(SUM(TwitterCost)/F37,"") -> 50 | N35: =IF(ISNUMBER(L35),"Minimum buyers # for positive ROI","") -> Minimum buyers # for positive ROI
E37: ="Average Order Value (" & currency & ")" -> Average Order Value ($) | F37: 35 | H37: =IF(ISNUMBER(F37),"","← Don't leave it empty.") | K37: Output …
E38: ="Average Lifetime value (LTV) (" & currency & ")" -> Average Lifetime value (LTV) ($) | F38: 65 | K38: Output …
K39: Output …
E40: Input … | K40: Output …
E41: Input … | K41: Output …
E42: Input … | K42: Output …
E43: Input … | K43: Output …
E44: Input … | K44: Output …
E45: Input … | K45: Output …
E46: Input … | K46: Output …

Sheet Basic
C2: MARKETING CAMPAIGN ROI CALCULATOR
C3: MARKETING METRICS TEMPLATE
E5: CAMPAIGN INPUTS | H5: Additional Information | K5: CALCULATIONS | N5: Additional Information
E7: ="Ad spend (" & currency & ")" -> Ad spend ($) | F7: 550 | H7: =IF(OR(ISNUMBER(F7), ISNUMBER(F8),ISNUMBER(F9),ISNUMBER(F10)),"","Input at least one type of costs.") | K7: ="Cost per 1000 impressions (CPM) (" & currency & ")" -> Cost per 1000 impressions (CPM) ($) | L7: =IFERROR(SUM(TemplateCost)*1000/F12,"") -> 21
E8: ="Ad creation cost (" & currency & ")" -> Ad creation cost ($) | K8: Clicks (#) | L8: =IFERROR(IF(ISNUMBER(F15),F15,F16*F12),"") -> 3600
E9: ="Content cration cost (" & currency & ")" -> Content cration cost ($) | K9: Clickthrough Rate (CTR) (%) | L9: =IFERROR(IF(ISNUMBER(F16),F16,F15/F12),"") -> 0.12
E10: ="Other costs (" & currency & ")" -> Other costs ($) | F10: 80 | K10: ="Cost per click (CPC) (" & currency & ")" -> Cost per click (CPC) ($) | L10: =IFERROR(SUM(TemplateCost)/L8,"") -> 0.175
E12: Impressions (#) | F12: 30000 | K12: Engagements (#) | L12: =IFERROR(IF(ISNUMBER(F18),F18,F19*F12),"") -> 1240
E13: Reach (#) | F13: 13000 | K13: Engagement Rate (%) | L13: =IFERROR(IF(ISNUMBER(F19),F19,F18/F12),"") -> 0.041333333
K14: ="CPE (Cost per Engagement) (" & currency & ")" -> CPE (Cost per Engagement) ($) | L14: =IFERROR(SUM(TemplateCost)/L12,"") -> 0.50806452
E15: Clicks (#) | H15: =IF(OR(AND(ISNUMBER(F15),ISNUMBER(F16)=FALSE),AND(ISNUMBER(F15)=FALSE,ISNUMBER(F16))),"","← Fill out only one: Clicks (#) or CTR (%).")
E16: Clickthrough Rate (CTR) (%) | F16: 0.12 | H16: =IF(OR(AND(ISNUMBER(F15),ISNUMBER(F16)=FALSE),AND(ISNUMBER(F15)=FALSE,ISNUMBER(F16))),"","← Fill out only one: Clicks (#) or CTR (%).") | K16: New subscribers (#) | L16: =IFERROR(IF(ISNUMBER(F22),F22,F23*F21/(1+L17)),"") -> 87
K17: Subscription growth rate (%) | L17: =IFERROR(IF(ISNUMBER(F23),F23,F22/(F21-F22)),"") -> 0.045478306
E18: Engagements (#) | F18: 1240 | H18: =IF(OR(AND(ISNUMBER(F18),ISNUMBER(F19)=FALSE),AND(ISNUMBER(F18)=FALSE,ISNUMBER(F19))),"","← Fill out only one: Engagements (#) or ER (%).") | K18: Cost per Subscription | L18: =IFERROR(SUM(TemplateCost)/L16,"") -> 7.2413793
E19: Engagement rate (%) | H19: =IF(OR(AND(ISNUMBER(F18),ISNUMBER(F19)=FALSE),AND(ISNUMBER(F18)=FALSE,ISNUMBER(F19))),"","← Fill out only one: Engagements (#) or ER (%).")
K20: Conversions (#) | L20: =IFERROR(IF(ISNUMBER(F25),F25,F26*L8),"") -> 60
E21: Total Subscribers (#) | F21: 2000 | K21: Conversion rate (%) | L21: =IFERROR(IF(ISNUMBER(F26),F26,F25/L8),"") -> 0.016666667
E22: New subscribers (#) | F22: 87 | H22: =IF(OR(AND(ISNUMBER(F22),ISNUMBER(F23)=FALSE),AND(ISNUMBER(F22)=FALSE,ISNUMBER(F23))),"","← Fill out only one: New subscribers (#) or SR (%).") | K22: ="Cost per conversion (CPA) (" & currency & ")" -> Cost per conversion (CPA) ($) | L22: =IFERROR(SUM(TemplateCost)/L20,"") -> 10.5
E23: Subscription growth rate (%) | H23: =IF(OR(AND(ISNUMBER(F22),ISNUMBER(F23)=FALSE),AND(ISNUMBER(F22)=FALSE,ISNUMBER(F23))),"","← Fill out only one: New subscribers (#) or SR (%).")
K24: Sales (Buyers) (#) | L24: =IFERROR(IF(ISNUMBER(F28),F28,IF(ISNUMBER(F29),F29*L8,"")),"") -> 72
E25: Conversions (#) | F25: 60 | H25: =IF(OR(AND(ISNUMBER(F25),ISNUMBER(F26)=FALSE),AND(ISNUMBER(F25)=FALSE,ISNUMBER(F26))),"","← Fill out only one: Conversions (#) or CR (%).") | K25: Sales rate (%) | L25: =IFERROR(IF(ISNUMBER(F29),F29, IF(ISNUMBER(F28), F28/L8,"")),"") -> 0.02
E26: Conversion rate (%) | H26: =IF(OR(AND(ISNUMBER(F25),ISNUMBER(F26)=FALSE),AND(ISNUMBER(F25)=FALSE,ISNUMBER(F26))),"","← Fill out only one: Conversion (#) or CR (%).") | K26: ="Cost per sale (" & currency & ")" -> Cost per sale ($) | L26: =IFERROR(SUM(TemplateCost)/L24,"") -> 8.75
K27: ="Projected Sales (" & currency & ")" -> Projected Sales ($) | L27: =IFERROR(L24*F31,"") -> 2304
E28: Sales (Buyers) (#) | H28: =IF(OR(AND(ISNUMBER(F28),ISNUMBER(F29)=FALSE),AND(ISNUMBER(F28)=FALSE,ISNUMBER(F29))),"","← Fill out only one: Sales (#) or Sales Rate.") | K28: ="Total LTV of gained customers (" & currency & ")" -> Total LTV of gained customers ($) | L28: =IFERROR(L24*F32,"") -> 21600 | N28: =IF(ISNUMBER(L28),"Not included in ROI results.","") -> Not included in ROI results.
E29: Close (sales) rate (%) | F29: 0.02 | H29: =IF(OR(AND(ISNUMBER(F28),ISNUMBER(F29)=FALSE),AND(ISNUMBER(F28)=FALSE,ISNUMBER(F29))),"","← Fill out only one: Sales (#) or Sales Rate.")
K30: ROI (Return on investment) (%) | L30: =IFERROR((L27-SUM(TemplateCost))/SUM(TemplateCost),"") -> 2.6571429
E31: ="Average Order Value (" & currency & ")" -> Average Order Value ($) | F31: 32 | H31: =IF(ISNUMBER(F31),"","← Don't leave it empty.") | K31: ROAS (Return on ads spend) | L31: =IFERROR((L27)/SUM(TemplateCost),"") -> 3.6571429 | N31: =IF(LEN(L31)>0,IF((L27)/SUM(TemplateCost)>1,"Per each 1" & currency & " spend, you earn " & ROUND((L27)/SUM(TemplateCost),2) & currency,"Your results are below investment."),"") -> Per each 1$ spend, you earn 3,66$
E32: ="Average Lifetime value (LTV) (" & currency & ")" -> Average Lifetime value (LTV) ($) | F32: 300 | K32: ="Break even sale value (" & currency & ")" -> Break even sale value ($) | L32: =IFERROR(SUM(TemplateCost)/L24,"") -> 8.75 | N32: =IF(ISNUMBER(L32),"Minimum sale value for positive ROI","") -> Minimum sale value for positive ROI
K33: Break even sales number (#) | L33: =IFERROR(SUM(TemplateCost)/F31,"") -> 19.6875 | N33: =IF(ISNUMBER(L33),"Minimum buyers # for positive ROI","") -> Minimum buyers # for positive ROI
E34: Input …
E35: Input … | K35: Output …
E36: Input … | K36: Output …
E37: Input … | K37: Output …
E38: Input … | K38: Output …
E39: Input … | K39: Output …
E40: Input … | K40: Output …
E41: Input … | K41: Output …
E42: Input … | K42: Output …
E43: Input … | K43: Output …
E44: Input … | K44: Output …
E45: Input … | K45: Output …
E46: Input … | K46: Output …

Sheet Calc
C2: Main Data Source | I2: Chart Sources
C4: NAME | D4: ROI (%) | E4: ="COST (" & currency & ")" -> COST ($) | F4: CLICK # | G4: ="CPC (" & currency & ")" -> CPC ($) | I4: With Blanks | J4: Without blanks | K4: ROI (%) | L4: ="COST (" & currency & ")" -> COST ($) | M4: CLICK # | N4: ="CPC (" & currency & ")" -> CPC ($)
C5: Google Ads | D5: =GoogleROI -> -0.13043478 | E5: =SUM(GoogleCost) -> 2300 | F5: =GoogleAds!L8 -> 800 | G5: =GoogleAds!L12 -> 2.875 | I5: =IFERROR(IF(LEN(Dashboard!D9)=0,"",Dashboard!D9),"") -> Google Ads | J5: {=IFERROR(INDEX($I$5:$I$12,SMALL(IF(LEN($I$5:$I$12)>0,ROW($I$5:$I$12)-ROW(INDEX($I$5:$I$12,1,1))+1),ROW($H5)-ROW($H$4))),"")} -> Google Ads | K5: =IFERROR(IF(LEN(J5)=0,"",INDEX($D$5:$G$12,MATCH($J5,$C$5:$C$12,0),MATCH(K$4,$D$4:$G$4,0))),"") -> -0.13043478 | L5: =IFERROR(IF(LEN(K5)=0,"",INDEX($D$5:$G$12,MATCH($J5,$C$5:$C$12,0),MATCH(L$4,$D$4:$G$4,0))),"") -> 2300 | M5: =IFERROR(IF(LEN(L5)=0,"",INDEX($D$5:$G$12,MATCH($J5,$C$5:$C$12,0),MATCH(M$4,$D$4:$G$4,0))),"") -> 800 | N5: =IFERROR(IF(LEN(M5)=0,"",INDEX($D$5:$G$12,MATCH($J5,$C$5:$C$12,0),MATCH(N$4,$D$4:$G$4,0))),"") -> 2.875
C6: Email Marketing | D6: =EmailROI -> 1.1428571 | E6: =SUM(EmailCost) -> 1400 | F6: =Email!L8 -> 1000 | G6: =Email!L9 -> 1.4 | I6: =IFERROR(IF(LEN(Dashboard!D10)=0,"",Dashboard!D10),"") -> Facebook | J6: {=IFERROR(INDEX($I$5:$I$12,SMALL(IF(LEN($I$5:$I$12)>0,ROW($I$5:$I$12)-ROW(INDEX($I$5:$I$12,1,1))+1),ROW($H6)-ROW($H$4))),"")} -> Facebook | K6: =IFERROR(IF(LEN(J6)=0,"",INDEX($D$5:$G$12,MATCH($J6,$C$5:$C$12,0),MATCH(K$4,$D$4:$G$4,0))),"") -> 0.83333333 | L6: =IFERROR(IF(LEN(K6)=0,"",INDEX($D$5:$G$12,MATCH($J6,$C$5:$C$12,0),MATCH(L$4,$D$4:$G$4,0))),"") -> 1200 | M6: =IFERROR(IF(LEN(L6)=0,"",INDEX($D$5:$G$12,MATCH($J6,$C$5:$C$12,0),MATCH(M$4,$D$4:$G$4,0))),"") -> 500 | N6: =IFERROR(IF(LEN(M6)=0,"",INDEX($D$5:$G$12,MATCH($J6,$C$5:$C$12,0),MATCH(N$4,$D$4:$G$4,0))),"") -> 2.4
C7: Facebook | D7: =FbROI -> 0.83333333 | E7: =SUM(FbCost) -> 1200 | F7: =Facebook!L8 -> 500 | G7: =Facebook!L10 -> 2.4 | I7: =IFERROR(IF(LEN(Dashboard!D11)=0,"",Dashboard!D11),"") -> Email Marketing | J7: {=IFERROR(INDEX($I$5:$I$12,SMALL(IF(LEN($I$5:$I$12)>0,ROW($I$5:$I$12)-ROW(INDEX($I$5:$I$12,1,1))+1),ROW($H7)-ROW($H$4))),"")} -> Email Marketing | K7: =IFERROR(IF(LEN(J7)=0,"",INDEX($D$5:$G$12,MATCH($J7,$C$5:$C$12,0),MATCH(K$4,$D$4:$G$4,0))),"") -> 1.1428571 | L7: =IFERROR(IF(LEN(K7)=0,"",INDEX($D$5:$G$12,MATCH($J7,$C$5:$C$12,0),MATCH(L$4,$D$4:$G$4,0))),"") -> 1400 | M7: =IFERROR(IF(LEN(L7)=0,"",INDEX($D$5:$G$12,MATCH($J7,$C$5:$C$12,0),MATCH(M$4,$D$4:$G$4,0))),"") -> 1000 | N7: =IFERROR(IF(LEN(M7)=0,"",INDEX($D$5:$G$12,MATCH($J7,$C$5:$C$12,0),MATCH(N$4,$D$4:$G$4,0))),"") -> 1.4
C8: Instagram Ads | D8: =InstagramROI -> 1.07328 | E8: =SUM(InstagramCost) -> 1500 | F8: =Instagram!F15 -> 5890 | G8: =Instagram!L10 -> 0.25466893 | I8: =IFERROR(IF(LEN(Dashboard!D12)=0,"",Dashboard!D12),"") -> Instagram Ads | J8: {=IFERROR(INDEX($I$5:$I$12,SMALL(IF(LEN($I$5:$I$12)>0,ROW($I$5:$I$12)-ROW(INDEX($I$5:$I$12,1,1))+1),ROW($H8)-ROW($H$4))),"")} -> Instagram Ads | K8: =IFERROR(IF(LEN(J8)=0,"",INDEX($D$5:$G$12,MATCH($J8,$C$5:$C$12,0),MATCH(K$4,$D$4:$G$4,0))),"") -> 1.07328 | L8: =IFERROR(IF(LEN(K8)=0,"",INDEX($D$5:$G$12,MATCH($J8,$C$5:$C$12,0),MATCH(L$4,$D$4:$G$4,0))),"") -> 1500 | M8: =IFERROR(IF(LEN(L8)=0,"",INDEX($D$5:$G$12,MATCH($J8,$C$5:$C$12,0),MATCH(M$4,$D$4:$G$4,0))),"") -> 5890 | N8: =IFERROR(IF(LEN(M8)=0,"",INDEX($D$5:$G$12,MATCH($J8,$C$5:$C$12,0),MATCH(N$4,$D$4:$G$4,0))),"") -> 0.25466893
C9: Influencer Marketing | D9: =InfluencerROI -> 2.125 | E9: =SUM(InflueancerCost) -> 1920 | F9: =Influencer!F12 -> 4300 | G9: =Influencer!L9 -> 0.44651163 | I9: =IFERROR(IF(LEN(Dashboard!D13)=0,"",Dashboard!D13),"") -> Influencer Marketing | J9: {=IFERROR(INDEX($I$5:$I$12,SMALL(IF(LEN($I$5:$I$12)>0,ROW($I$5:$I$12)-ROW(INDEX($I$5:$I$12,1,1))+1),ROW($H9)-ROW($H$4))),"")} -> Influencer Marketing | K9: =IFERROR(IF(LEN(J9)=0,"",INDEX($D$5:$G$12,MATCH($J9,$C$5:$C$12,0),MATCH(K$4,$D$4:$G$4,0))),"") -> 2.125 | L9: =IFERROR(IF(LEN(K9)=0,"",INDEX($D$5:$G$12,MATCH($J9,$C$5:$C$12,0),MATCH(L$4,$D$4:$G$4,0))),"") -> 1920 | M9: =IFERROR(IF(LEN(L9)=0,"",INDEX($D$5:$G$12,MATCH($J9,$C$5:$C$12,0),MATCH(M$4,$D$4:$G$4,0))),"") -> 4300 | N9: =IFERROR(IF(LEN(M9)=0,"",INDEX($D$5:$G$12,MATCH($J9,$C$5:$C$12,0),MATCH(N$4,$D$4:$G$4,0))),"") -> 0.44651163
C10: LinkedIn | D10: =LinkedInROI -> 0.2075 | E10: =SUM(LInCost) -> 1300 | F10: =LinkedIn!L8 -> 1495 | G10: =LinkedIn!L10 -> 0.86956522 | I10: =IFERROR(IF(LEN(Dashboard!D14)=0,"",Dashboard!D14),"") -> LinkedIn | J10: {=IFERROR(INDEX($I$5:$I$12,SMALL(IF(LEN($I$5:$I$12)>0,ROW($I$5:$I$12)-ROW(INDEX($I$5:$I$12,1,1))+1),ROW($H10)-ROW($H$4))),"")} -> LinkedIn | K10: =IFERROR(IF(LEN(J10)=0,"",INDEX($D$5:$G$12,MATCH($J10,$C$5:$C$12,0),MATCH(K$4,$D$4:$G$4,0))),"") -> 0.2075 | L10: =IFERROR(IF(LEN(K10)=0,"",INDEX($D$5:$G$12,MATCH($J10,$C$5:$C$12,0),MATCH(L$4,$D$4:$G$4,0))),"") -> 1300 | M10: =IFERROR(IF(LEN(L10)=0,"",INDEX($D$5:$G$12,MATCH($J10,$C$5:$C$12,0),MATCH(M$4,$D$4:$G$4,0))),"") -> 1495 | N10: =IFERROR(IF(LEN(M10)=0,"",INDEX($D$5:$G$12,MATCH($J10,$C$5:$C$12,0),MATCH(N$4,$D$4:$G$4,0))),"") -> 0.86956522
C11: Twitter | D11: =TwitterROI -> 0.551 | E11: =SUM(TwitterCost) -> 1750 | F11: =Twitter!L8 -> 3525 | G11: =Twitter!L10 -> 0.4964539 | I11: =IFERROR(IF(LEN(Dashboard!D15)=0,"",Dashboard!D15),"") -> Twitter | J11: {=IFERROR(INDEX($I$5:$I$12,SMALL(IF(LEN($I$5:$I$12)>0,ROW($I$5:$I$12)-ROW(INDEX($I$5:$I$12,1,1))+1),ROW($H11)-ROW($H$4))),"")} -> Twitter | K11: =IFERROR(IF(LEN(J11)=0,"",INDEX($D$5:$G$12,MATCH($J11,$C$5:$C$12,0),MATCH(K$4,$D$4:$G$4,0))),"") -> 0.551 | L11: =IFERROR(IF(LEN(K11)=0,"",INDEX($D$5:$G$12,MATCH($J11,$C$5:$C$12,0),MATCH(L$4,$D$4:$G$4,0))),"") -> 1750 | M11: =IFERROR(IF(LEN(L11)=0,"",INDEX($D$5:$G$12,MATCH($J11,$C$5:$C$12,0),MATCH(M$4,$D$4:$G$4,0))),"") -> 3525 | N11: =IFERROR(IF(LEN(M11)=0,"",INDEX($D$5:$G$12,MATCH($J11,$C$5:$C$12,0),MATCH(N$4,$D$4:$G$4,0))),"") -> 0.4964539
C12: Template | D12: =TemplateROI -> 2.6571429 | E12: =SUM(TemplateCost) -> 630 | F12: =Basic!L8 -> 3600 | G12: =Basic!L10 -> 0.175 | I12: =IFERROR(IF(LEN(Dashboard!D16)=0,"",Dashboard!D16),"") -> Template | J12: {=IFERROR(INDEX($I$5:$I$12,SMALL(IF(LEN($I$5:$I$12)>0,ROW($I$5:$I$12)-ROW(INDEX($I$5:$I$12,1,1))+1),ROW($H12)-ROW($H$4))),"")} -> Template | K12: =IFERROR(IF(LEN(J12)=0,"",INDEX($D$5:$G$12,MATCH($J12,$C$5:$C$12,0),MATCH(K$4,$D$4:$G$4,0))),"") -> 2.6571429 | L12: =IFERROR(IF(LEN(K12)=0,"",INDEX($D$5:$G$12,MATCH($J12,$C$5:$C$12,0),MATCH(L$4,$D$4:$G$4,0))),"") -> 630 | M12: =IFERROR(IF(LEN(L12)=0,"",INDEX($D$5:$G$12,MATCH($J12,$C$5:$C$12,0),MATCH(M$4,$D$4:$G$4,0))),"") -> 3600 | N12: =IFERROR(IF(LEN(M12)=0,"",INDEX($D$5:$G$12,MATCH($J12,$C$5:$C$12,0),MATCH(N$4,$D$4:$G$4,0))),"") -> 0.175
I14: Chart Source # | J14: =IFERROR(COUNTIF(J5:J12,"?*"),8) -> 8
