Workbook
Name Data_Validation: Calc!$AL$7:$AL$10
Name MarketSizeChartData: OFFSET(Calc!$X$6,1,1,Calc!$X$6,1)
Name MarketSizeChartLabel: OFFSET(Calc!$X$6,1,0,Calc!$X$6,1)

Sheet Dashboard
B2: MARKET ANALYSIS TEMPLATE
B3: DASHBOARD
B19: =Calc!$C$6 -> Market 1 | E19: =Calc!$D$6 -> Market 2 | H19: =Calc!$E$6 -> Market 3 | K19: =Calc!$F$6 -> Market 4 | N19: =Calc!$G$6 -> Market 5
B20: =Calc!$AJ$7 -> Fair Compatibility | E20: =Calc!$AJ$8 -> Compatible | H20: - | K20: - | N20: -
B32: Customer Demographics
B33: =Calc!$Q$18 -> Middle Age | E33: =Calc!$R$18 -> Mixed | H33: - | K33: - | N33: -

Sheet Data_Input
B2: MARKET ANALYSIS TEMPLATE
B3: DATA INPUT
C6: Market 1 | D6: Market 2 | E6: Market 3 | F6: Market 4 | G6: Market 5
B7: Market Size | C7: 11200000 | D7: 35000000
B8: Growth Rate | C8: 0.1 | D8: 0.05
B9: Barriers to Entry | C9: =Calc!$J$12 -> Medium | D9: =Calc!$K$12 -> Medium
B10: Economies of Scale | C10: Medium | D10: Medium
B11: Product Differentiation | C11: Medium | D11: Low
B12: Capital Requirements | C12: Medium | D12: Low
B13: Switching Costs | C13: Medium | D13: Low
B14: Access to distribution channels | C14: Medium | D14: Medium
B15: Cost disadvantages | C15: Low | D15: Medium
B16: Government policy | C16: Medium | D16: Medium
B17: Strategical Alignment | C17: Low | D17: Medium
B18: Ability to Compete | C18: Medium | D18: High
B19: Market Economics | C19: Medium | D19: High
B20: Total Addressable Market | C20: 1200000 | D20: 2100000
B21: Serviceable Available Market | C21: 670000 | D21: 1100000
B22: Serviceable Obtainable Market | C22: 230000 | D22: 420000
B23: Customer Demographics | C23: =Calc!Q18 -> Middle Age | D23: =Calc!R18 -> Mixed
B24: 18-24 | C24: 0.1 | D24: 0.2
B25: 25-34 | C25: 0.2 | D25: 0.3
B26: 35-44 | C26: 0.3 | D26: 0.1
B27: 45-54 | C27: 0.4 | D27: 0.1
B28: 54-65 | C28: 0 | D28: 0.1
B29: 65+ | C29: 0 | D29: 0.2

Sheet Calc
J5: Barriers to Entry | Q5: Customer Demographics | Y5: Growth over Year
B6: =IFERROR(IF(INDEX(Data_Input!$B$5:$B$29,ROW(A2))=0,null(),INDEX(Data_Input!$B$5:$B$29,ROW(A2))),"") | C6: =IFERROR(IF(INDEX(Data_Input!$C$5:$C$29,ROW(A2))=0,null(),INDEX(Data_Input!$C$5:$C$29,ROW(A2))),"") -> Market 1 | D6: =IFERROR(IF(INDEX(Data_Input!$D$5:$D$29,ROW(A2))=0,null(),INDEX(Data_Input!$D$5:$D$29,ROW(A2))),"") -> Market 2 | E6: =IFERROR(IF(INDEX(Data_Input!$E$5:$E$29,ROW(A2))=0,null(),INDEX(Data_Input!$E$5:$E$29,ROW(A2))),"") -> Market 3 | F6: =IFERROR(IF(INDEX(Data_Input!$F$5:$F$29,ROW(A2))=0,null(),INDEX(Data_Input!$F$5:$F$29,ROW(A2))),"") -> Market 4 | G6: =IFERROR(IF(INDEX(Data_Input!$G$5:$G$29,ROW(A2))=0,null(),INDEX(Data_Input!$G$5:$G$29,ROW(A2))),"") -> Market 5 | J6: =IFERROR(IF(INDEX(Data_Input!$C$5:$C$29,ROW(A2))=0,null(),INDEX(Data_Input!$C$5:$C$29,ROW(A2))),"") -> Market 1 | K6: =IFERROR(IF(INDEX(Data_Input!$D$5:$D$29,ROW(A2))=0,null(),INDEX(Data_Input!$D$5:$D$29,ROW(A2))),"") -> Market 2 | L6: =IFERROR(IF(INDEX(Data_Input!$E$5:$E$29,ROW(A2))=0,null(),INDEX(Data_Input!$E$5:$E$29,ROW(A2))),"") -> Market 3 | M6: =IFERROR(IF(INDEX(Data_Input!$F$5:$F$29,ROW(A2))=0,null(),INDEX(Data_Input!$F$5:$F$29,ROW(A2))),"") -> Market 4 | N6: =IFERROR(IF(INDEX(Data_Input!$G$5:$G$29,ROW(A2))=0,null(),INDEX(Data_Input!$G$5:$G$29,ROW(A2))),"") -> Market 5 | Q6: =IFERROR(IF(INDEX(Data_Input!$C$5:$C$29,ROW(#REF!))=0,null(),INDEX(Data_Input!$C$5:$C$29,ROW(#REF!))),"") | R6: =IFERROR(IF(INDEX(Data_Input!$D$5:$D$29,ROW(#REF!))=0,null(),INDEX(Data_Input!$D$5:$D$29,ROW(#REF!))),"") | S6: =IFERROR(IF(INDEX(Data_Input!$E$5:$E$29,ROW(#REF!))=0,null(),INDEX(Data_Input!$E$5:$E$29,ROW(#REF!))),"") | T6: =IFERROR(IF(INDEX(Data_Input!$F$5:$F$29,ROW(#REF!))=0,null(),INDEX(Data_Input!$F$5:$F$29,ROW(#REF!))),"") | U6: =IFERROR(IF(INDEX(Data_Input!$G$5:$G$29,ROW(#REF!))=0,null(),INDEX(Data_Input!$G$5:$G$29,ROW(#REF!))),"") | W6: NonBlankColumn | X6: =MAX(COUNTA(X7:X11)-COUNTBLANK(X7:X11),1) -> 2 | Y6: Year 1 | Z6: Year 2 | AA6: Year 3 | AB6: Year 4 | AC6: Year 5 | AF6: Barriers to Entry | AG6: Ability to Compete | AH6: Market Economics | AI6: Filled Rows | AJ6: Overall | AL6: Data Validation
B7: =IFERROR(IF(INDEX(Data_Input!$B$5:$B$29,ROW(A3))=0,null(),INDEX(Data_Input!$B$5:$B$29,ROW(A3))),"") -> Market Size | C7: =IFERROR(IF(INDEX(Data_Input!$C$5:$C$29,ROW(A3))=0,null(),INDEX(Data_Input!$C$5:$C$29,ROW(A3))),"") -> 11200000 | D7: =IFERROR(IF(INDEX(Data_Input!$D$5:$D$29,ROW(A3))=0,null(),INDEX(Data_Input!$D$5:$D$29,ROW(A3))),"") -> 35000000 | I7: Low | J7: =COUNTIF($C$10:$C$17,"Low") -> 2 | K7: =COUNTIF($D$10:$D$17,"Low") -> 3 | P7: 18-24 | Q7: =IFERROR(IF(INDEX(Data_Input!$C$24:$C$29,ROW(A1))=0,null(),INDEX(Data_Input!$C$24:$C$29,ROW(A1))),0) -> 0.1 | R7: =IFERROR(IF(INDEX(Data_Input!$D$24:$D$29,ROW(B1))=0,null(),INDEX(Data_Input!$D$24:$D$29,ROW(B1))),0) -> 0.2 | W7: =IFERROR(IF(INDEX(Data_Input!$C$5:$C$29,ROW(A2))=0,null(),INDEX(Data_Input!$C$5:$C$29,ROW(A2))),"") -> Market 1 | X7: =IF(LEN(Y7)=0,"",W7) -> Market 1 | Y7: =INDEX($C$7:$G$7,1,MATCH(W7,$C$6:$G$6)) -> 11200000 | Z7: =IFERROR((Y7*(INDEX($C$8:$G$8,1,MATCH(W7,$C$6:$G$6,0))))+Y7,"") -> 12320000 | AA7: =IFERROR((Z7*(INDEX($C$8:$G$8,1,MATCH(W7,$C$6:$G$6,0))))+Z7,"") -> 13552000 | AB7: =IFERROR((AA7*(INDEX($C$8:$G$8,1,MATCH(W7,$C$6:$G$6,0))))+AA7,"") -> 14907200 | AC7: =IFERROR((AB7*(INDEX($C$8:$G$8,1,MATCH(W7,$C$6:$G$6,0))))+AB7,"") -> 16397920 | AE7: =IFERROR(IF(INDEX(Data_Input!$C$5:$C$29,ROW(A2))=0,null(),INDEX(Data_Input!$C$5:$C$29,ROW(A2))),"") -> Market 1 | AF7: =IFERROR(IF(INDEX($C$9:$G$9,MATCH(AE7,$C$6:$G$6,0))="",0,IF(INDEX($C$9:$G$9,MATCH(AE7,$C$6:$G$6,0))="Low",1,IF(INDEX($C$9:$G$9,MATCH(AE7,$C$6:$G$6,0))="Medium",2,IF(INDEX($C$9:$G$9,MATCH(AE7,$C$6:$G$6,0))="High",3,0)))),0) -> 2 | AG7: =IFERROR(IF(INDEX($C$18:$G$18,MATCH(AE7,$C$6:$G$6,0))="",0,IF(INDEX($C$18:$G$18,MATCH(AE7,$C$6:$G$6,0))="Low",1,IF(INDEX($C$18:$G$18,MATCH(AE7,$C$6:$G$6,0))="Medium",2,IF(INDEX($C$18:$G$18,MATCH(AE7,$C$6:$G$6,0))="High",3,0)))),0) -> 2 | AH7: =IFERROR(IF(INDEX($C$19:$G$19,MATCH(AE7,$C$6:$G$6,0))="",0,IF(INDEX($C$19:$G$19,MATCH(AE7,$C$6:$G$6,0))="Low",1,IF(INDEX($C$19:$G$19,MATCH(AE7,$C$6:$G$6,0))="Medium",2,IF(INDEX($C$19:$G$19,MATCH(AE7,$C$6:$G$6,0))="High",3,0)))),0) -> 2 | AI7: =COUNTIF(AF7:AH7,"<>0") -> 3 | AJ7: =IFERROR(IF((AF7+AG7+AH7)=0,"No Data",IF((AF7+AG7+AH7)/AI7<=1.5,"Low Compatibility",IF((AF7+AG7+AH7)/AI7<=2.5,"Fair Compatibility",IF((AF7+AG7+AH7)/AI7>2.5,"Compatible","Check Your Data")))),"Check Your Data") -> Fair Compatibility
B8: =IFERROR(IF(INDEX(Data_Input!$B$5:$B$29,ROW(A4))=0,null(),INDEX(Data_Input!$B$5:$B$29,ROW(A4))),"") -> Growth Rate | C8: =IFERROR(IF(INDEX(Data_Input!$C$5:$C$29,ROW(A4))=0,null(),INDEX(Data_Input!$C$5:$C$29,ROW(A4))),"") -> 0.1 | D8: =IFERROR(IF(INDEX(Data_Input!$D$5:$D$29,ROW(A4))=0,null(),INDEX(Data_Input!$D$5:$D$29,ROW(A4))),"") -> 0.05 | I8: Medium | J8: =COUNTIF($C$10:$C$17,"Medium") -> 6 | K8: =COUNTIF($D$10:$D$17,"Medium") -> 5 | P8: 25-34 | Q8: =IFERROR(IF(INDEX(Data_Input!$C$24:$C$29,ROW(A2))=0,null(),INDEX(Data_Input!$C$24:$C$29,ROW(A2))),0) -> 0.2 | R8: =IFERROR(IF(INDEX(Data_Input!$D$24:$D$29,ROW(B2))=0,null(),INDEX(Data_Input!$D$24:$D$29,ROW(B2))),0) -> 0.3 | W8: =IFERROR(IF(INDEX(Data_Input!$D$5:$D$29,ROW(A2))=0,null(),INDEX(Data_Input!$D$5:$D$29,ROW(A2))),"") -> Market 2 | X8: =IF(LEN(Y8)=0,"",W8) -> Market 2 | Y8: =INDEX($C$7:$G$7,1,MATCH(W8,$C$6:$G$6)) -> 35000000 | Z8: =IFERROR((Y8*(INDEX($C$8:$G$8,1,MATCH(W8,$C$6:$G$6,0))))+Y8,"") -> 36750000 | AA8: =IFERROR((Z8*(INDEX($C$8:$G$8,1,MATCH(W8,$C$6:$G$6,0))))+Z8,"") -> 38587500 | AB8: =IFERROR((AA8*(INDEX($C$8:$G$8,1,MATCH(W8,$C$6:$G$6,0))))+AA8,"") -> 40516875 | AC8: =IFERROR((AB8*(INDEX($C$8:$G$8,1,MATCH(W8,$C$6:$G$6,0))))+AB8,"") -> 42542719 | AE8: =IFERROR(IF(INDEX(Data_Input!$D$5:$D$29,ROW(A2))=0,null(),INDEX(Data_Input!$D$5:$D$29,ROW(A2))),"") -> Market 2 | AF8: =IFERROR(IF(INDEX($C$9:$G$9,MATCH(AE8,$C$6:$G$6,0))="",0,IF(INDEX($C$9:$G$9,MATCH(AE8,$C$6:$G$6,0))="Low",1,IF(INDEX($C$9:$G$9,MATCH(AE8,$C$6:$G$6,0))="Medium",2,IF(INDEX($C$9:$G$9,MATCH(AE8,$C$6:$G$6,0))="High",3,0)))),0) -> 2 | AG8: =IFERROR(IF(INDEX($C$18:$G$18,MATCH(AE8,$C$6:$G$6,0))="",0,IF(INDEX($C$18:$G$18,MATCH(AE8,$C$6:$G$6,0))="Low",1,IF(INDEX($C$18:$G$18,MATCH(AE8,$C$6:$G$6,0))="Medium",2,IF(INDEX($C$18:$G$18,MATCH(AE8,$C$6:$G$6,0))="High",3,0)))),0) -> 3 | AH8: =IFERROR(IF(INDEX($C$19:$G$19,MATCH(AE8,$C$6:$G$6,0))="",0,IF(INDEX($C$19:$G$19,MATCH(AE8,$C$6:$G$6,0))="Low",1,IF(INDEX($C$19:$G$19,MATCH(AE8,$C$6:$G$6,0))="Medium",2,IF(INDEX($C$19:$G$19,MATCH(AE8,$C$6:$G$6,0))="High",3,0)))),0) -> 3 | AI8: =COUNTIF(AF8:AH8,"<>0") -> 3 | AJ8: =IFERROR(IF((AF8+AG8+AH8)=0,"No Data",IF((AF8+AG8+AH8)/AI8<=1.5,"Low Compatibility",IF((AF8+AG8+AH8)/AI8<=2.5,"Fair Compatibility",IF((AF8+AG8+AH8)/AI8>2.5,"Compatible","Check Your Data")))),"Check Your Data") -> Compatible | AL8: Low
B9: =IFERROR(IF(INDEX(Data_Input!$B$5:$B$29,ROW(A5))=0,null(),INDEX(Data_Input!$B$5:$B$29,ROW(A5))),"") -> Barriers to Entry | C9: =IFERROR(IF(INDEX(Data_Input!$C$5:$C$29,ROW(A5))=0,null(),INDEX(Data_Input!$C$5:$C$29,ROW(A5))),"") -> Medium | D9: =IFERROR(IF(INDEX(Data_Input!$D$5:$D$29,ROW(A5))=0,null(),INDEX(Data_Input!$D$5:$D$29,ROW(A5))),"") -> Medium | I9: High | J9: =COUNTIF($C$10:$C$17,"High") -> 0 | K9: =COUNTIF($D$10:$D$17,"High") -> 0 | P9: 35-44 | Q9: =IFERROR(IF(INDEX(Data_Input!$C$24:$C$29,ROW(A3))=0,null(),INDEX(Data_Input!$C$24:$C$29,ROW(A3))),0) -> 0.3 | R9: =IFERROR(IF(INDEX(Data_Input!$D$24:$D$29,ROW(B3))=0,null(),INDEX(Data_Input!$D$24:$D$29,ROW(B3))),0) -> 0.1 | W9: =IFERROR(IF(INDEX(Data_Input!$E$5:$E$29,ROW(A2))=0,null(),INDEX(Data_Input!$E$5:$E$29,ROW(A2))),"") -> Market 3 | X9: =IF(LEN(Y9)=0,"",W9) | AE9: =IFERROR(IF(INDEX(Data_Input!$E$5:$E$29,ROW(A2))=0,null(),INDEX(Data_Input!$E$5:$E$29,ROW(A2))),"") -> Market 3 | AL9: Medium
B10: =IFERROR(IF(INDEX(Data_Input!$B$5:$B$29,ROW(A6))=0,null(),INDEX(Data_Input!$B$5:$B$29,ROW(A6))),"") -> Economies of Scale | C10: =IFERROR(IF(INDEX(Data_Input!$C$5:$C$29,ROW(A6))=0,null(),INDEX(Data_Input!$C$5:$C$29,ROW(A6))),"") -> Medium | D10: =IFERROR(IF(INDEX(Data_Input!$D$5:$D$29,ROW(A6))=0,null(),INDEX(Data_Input!$D$5:$D$29,ROW(A6))),"") -> Medium | I10: None | J10: =IF(COUNTIF($C$10:$C$17,"")=8,"Empty","Not Empty") -> Not Empty | K10: =IF(COUNTIF($D$10:$D$17,"")=8,"Empty","Not Empty") -> Not Empty | P10: 45-54 | Q10: =IFERROR(IF(INDEX(Data_Input!$C$24:$C$29,ROW(A4))=0,null(),INDEX(Data_Input!$C$24:$C$29,ROW(A4))),0) -> 0.4 | R10: =IFERROR(IF(INDEX(Data_Input!$D$24:$D$29,ROW(B4))=0,null(),INDEX(Data_Input!$D$24:$D$29,ROW(B4))),0) -> 0.1 | W10: =IFERROR(IF(INDEX(Data_Input!$F$5:$F$29,ROW(A2))=0,null(),INDEX(Data_Input!$F$5:$F$29,ROW(A2))),"") -> Market 4 | X10: =IF(LEN(Y10)=0,"",W10) | AE10: =IFERROR(IF(INDEX(Data_Input!$F$5:$F$29,ROW(A2))=0,null(),INDEX(Data_Input!$F$5:$F$29,ROW(A2))),"") -> Market 4 | AL10: High
B11: =IFERROR(IF(INDEX(Data_Input!$B$5:$B$29,ROW(A7))=0,null(),INDEX(Data_Input!$B$5:$B$29,ROW(A7))),"") -> Product Differentiation | C11: =IFERROR(IF(INDEX(Data_Input!$C$5:$C$29,ROW(A7))=0,null(),INDEX(Data_Input!$C$5:$C$29,ROW(A7))),"") -> Medium | D11: =IFERROR(IF(INDEX(Data_Input!$D$5:$D$29,ROW(A7))=0,null(),INDEX(Data_Input!$D$5:$D$29,ROW(A7))),"") -> Low | I11: Average | J11: =IF(J10<>"Empty",(J7+(J8*2)+(J9*3))/(J7+J8+J9),0) -> 1.75 | K11: =IF(K10<>"Empty",(K7+(K8*2)+(K9*3))/(K7+K8+K9),0) -> 1.625 | P11: 54-65 | Q11: =IFERROR(IF(INDEX(Data_Input!$C$24:$C$29,ROW(A5))=0,null(),INDEX(Data_Input!$C$24:$C$29,ROW(A5))),0) -> 0 | R11: =IFERROR(IF(INDEX(Data_Input!$D$24:$D$29,ROW(B5))=0,null(),INDEX(Data_Input!$D$24:$D$29,ROW(B5))),0) -> 0.1 | W11: =IFERROR(IF(INDEX(Data_Input!$G$5:$G$29,ROW(A2))=0,null(),INDEX(Data_Input!$G$5:$G$29,ROW(A2))),"") -> Market 5 | X11: =IF(LEN(Y11)=0,"",W11) | AE11: =IFERROR(IF(INDEX(Data_Input!$G$5:$G$29,ROW(A2))=0,null(),INDEX(Data_Input!$G$5:$G$29,ROW(A2))),"") -> Market 5
B12: =IFERROR(IF(INDEX(Data_Input!$B$5:$B$29,ROW(A8))=0,null(),INDEX(Data_Input!$B$5:$B$29,ROW(A8))),"") -> Capital Requirements | C12: =IFERROR(IF(INDEX(Data_Input!$C$5:$C$29,ROW(A8))=0,null(),INDEX(Data_Input!$C$5:$C$29,ROW(A8))),"") -> Medium | D12: =IFERROR(IF(INDEX(Data_Input!$D$5:$D$29,ROW(A8))=0,null(),INDEX(Data_Input!$D$5:$D$29,ROW(A8))),"") -> Low | I12: Value | J12: =IFERROR(IF(J11=0,"",IF(J11<=1.5,"Low",IF(J11<=2.5,"Medium",IF(J11>2.5,"High","")))),"") -> Medium | K12: =IFERROR(IF(K11=0,"",IF(K11<=1.5,"Low",IF(K11<=2.5,"Medium",IF(K11>2.5,"High","")))),"") -> Medium | P12: 65+ | Q12: =IFERROR(IF(INDEX(Data_Input!$C$24:$C$29,ROW(A6))=0,null(),INDEX(Data_Input!$C$24:$C$29,ROW(A6))),0) -> 0 | R12: =IFERROR(IF(INDEX(Data_Input!$D$24:$D$29,ROW(B6))=0,null(),INDEX(Data_Input!$D$24:$D$29,ROW(B6))),0) -> 0.2
B13: =IFERROR(IF(INDEX(Data_Input!$B$5:$B$29,ROW(A9))=0,null(),INDEX(Data_Input!$B$5:$B$29,ROW(A9))),"") -> Switching Costs | C13: =IFERROR(IF(INDEX(Data_Input!$C$5:$C$29,ROW(A9))=0,null(),INDEX(Data_Input!$C$5:$C$29,ROW(A9))),"") -> Medium | D13: =IFERROR(IF(INDEX(Data_Input!$D$5:$D$29,ROW(A9))=0,null(),INDEX(Data_Input!$D$5:$D$29,ROW(A9))),"") -> Low | P13: Total | Q13: =SUM(Q8:Q12) -> 0.9 | R13: =SUM(R8:R12) -> 0.8
B14: =IFERROR(IF(INDEX(Data_Input!$B$5:$B$29,ROW(A10))=0,null(),INDEX(Data_Input!$B$5:$B$29,ROW(A10))),"") -> Access to distribution channels | C14: =IFERROR(IF(INDEX(Data_Input!$C$5:$C$29,ROW(A10))=0,null(),INDEX(Data_Input!$C$5:$C$29,ROW(A10))),"") -> Medium | D14: =IFERROR(IF(INDEX(Data_Input!$D$5:$D$29,ROW(A10))=0,null(),INDEX(Data_Input!$D$5:$D$29,ROW(A10))),"") -> Medium | P14: Young | Q14: =SUM(Q7+Q8) -> 0.3 | R14: =SUM(R7+R8) -> 0.5
B15: =IFERROR(IF(INDEX(Data_Input!$B$5:$B$29,ROW(A11))=0,null(),INDEX(Data_Input!$B$5:$B$29,ROW(A11))),"") -> Cost disadvantages | C15: =IFERROR(IF(INDEX(Data_Input!$C$5:$C$29,ROW(A11))=0,null(),INDEX(Data_Input!$C$5:$C$29,ROW(A11))),"") -> Low | D15: =IFERROR(IF(INDEX(Data_Input!$D$5:$D$29,ROW(A11))=0,null(),INDEX(Data_Input!$D$5:$D$29,ROW(A11))),"") -> Medium | P15: Middle Age | Q15: =SUM(Q9+Q10) -> 0.7 | R15: =SUM(R9+R10) -> 0.2
B16: =IFERROR(IF(INDEX(Data_Input!$B$5:$B$29,ROW(A12))=0,null(),INDEX(Data_Input!$B$5:$B$29,ROW(A12))),"") -> Government policy | C16: =IFERROR(IF(INDEX(Data_Input!$C$5:$C$29,ROW(A12))=0,null(),INDEX(Data_Input!$C$5:$C$29,ROW(A12))),"") -> Medium | D16: =IFERROR(IF(INDEX(Data_Input!$D$5:$D$29,ROW(A12))=0,null(),INDEX(Data_Input!$D$5:$D$29,ROW(A12))),"") -> Medium | P16: Old | Q16: =SUM(Q11+Q12) -> 0 | R16: =SUM(R11+R12) -> 0.3
B17: =IFERROR(IF(INDEX(Data_Input!$B$5:$B$29,ROW(A13))=0,null(),INDEX(Data_Input!$B$5:$B$29,ROW(A13))),"") -> Strategical Alignment | C17: =IFERROR(IF(INDEX(Data_Input!$C$5:$C$29,ROW(A13))=0,null(),INDEX(Data_Input!$C$5:$C$29,ROW(A13))),"") -> Low | D17: =IFERROR(IF(INDEX(Data_Input!$D$5:$D$29,ROW(A13))=0,null(),INDEX(Data_Input!$D$5:$D$29,ROW(A13))),"") -> Medium | P17: isError | Q17: =IF(SUM(Q7:Q12)=100%,"No Error",IF(SUM(Q7:Q12)=0%,"","Error")) -> No Error | R17: =IF(SUM(R7:R12)=100%,"No Error",IF(SUM(R7:R12)=0%,"","Error")) -> No Error
B18: =IFERROR(IF(INDEX(Data_Input!$B$5:$B$29,ROW(A14))=0,null(),INDEX(Data_Input!$B$5:$B$29,ROW(A14))),"") -> Ability to Compete | C18: =IFERROR(IF(INDEX(Data_Input!$C$5:$C$29,ROW(A14))=0,null(),INDEX(Data_Input!$C$5:$C$29,ROW(A14))),"") -> Medium | D18: =IFERROR(IF(INDEX(Data_Input!$D$5:$D$29,ROW(A14))=0,null(),INDEX(Data_Input!$D$5:$D$29,ROW(A14))),"") -> High | P18: Value | Q18: =IF(Q17="Error","The sum of age groups must be 100%",IF(AND(Q14=0%,Q15=0%,Q16=0%),"",IF(Q14>50%,"Young",IF(Q15>50%,"Middle Age",IF(Q16>50%,"Old","Mixed"))))) -> Middle Age | R18: =IF(R17="Error","The sum of age groups must be 100%",IF(AND(R14=0%,R15=0%,R16=0%),"",IF(R14>50%,"Young",IF(R15>50%,"Middle Age",IF(R16>50%,"Old","Mixed"))))) -> Mixed
B19: =IFERROR(IF(INDEX(Data_Input!$B$5:$B$29,ROW(A15))=0,null(),INDEX(Data_Input!$B$5:$B$29,ROW(A15))),"") -> Market Economics | C19: =IFERROR(IF(INDEX(Data_Input!$C$5:$C$29,ROW(A15))=0,null(),INDEX(Data_Input!$C$5:$C$29,ROW(A15))),"") -> Medium | D19: =IFERROR(IF(INDEX(Data_Input!$D$5:$D$29,ROW(A15))=0,null(),INDEX(Data_Input!$D$5:$D$29,ROW(A15))),"") -> High
B20: =IFERROR(IF(INDEX(Data_Input!$B$5:$B$29,ROW(A16))=0,null(),INDEX(Data_Input!$B$5:$B$29,ROW(A16))),"") -> Total Addressable Market | C20: =IFERROR(IF(INDEX(Data_Input!$C$5:$C$29,ROW(A16))=0,null(),INDEX(Data_Input!$C$5:$C$29,ROW(A16))),"") -> 1200000 | D20: =IFERROR(IF(INDEX(Data_Input!$D$5:$D$29,ROW(A16))=0,null(),INDEX(Data_Input!$D$5:$D$29,ROW(A16))),"") -> 2100000
B21: =IFERROR(IF(INDEX(Data_Input!$B$5:$B$29,ROW(A17))=0,null(),INDEX(Data_Input!$B$5:$B$29,ROW(A17))),"") -> Serviceable Available Market | C21: =IFERROR(IF(INDEX(Data_Input!$C$5:$C$29,ROW(A17))=0,null(),INDEX(Data_Input!$C$5:$C$29,ROW(A17))),"") -> 670000 | D21: =IFERROR(IF(INDEX(Data_Input!$D$5:$D$29,ROW(A17))=0,null(),INDEX(Data_Input!$D$5:$D$29,ROW(A17))),"") -> 1100000
B22: =IFERROR(IF(INDEX(Data_Input!$B$5:$B$29,ROW(A18))=0,null(),INDEX(Data_Input!$B$5:$B$29,ROW(A18))),"") -> Serviceable Obtainable Market | C22: =IFERROR(IF(INDEX(Data_Input!$C$5:$C$29,ROW(A18))=0,null(),INDEX(Data_Input!$C$5:$C$29,ROW(A18))),"") -> 230000 | D22: =IFERROR(IF(INDEX(Data_Input!$D$5:$D$29,ROW(A18))=0,null(),INDEX(Data_Input!$D$5:$D$29,ROW(A18))),"") -> 420000
B23: =IFERROR(IF(INDEX(Data_Input!$B$5:$B$29,ROW(A19))=0,null(),INDEX(Data_Input!$B$5:$B$29,ROW(A19))),"") -> Customer Demographics | C23: =IFERROR(IF(INDEX(Data_Input!$C$5:$C$29,ROW(A19))=0,null(),INDEX(Data_Input!$C$5:$C$29,ROW(A19))),"") -> Middle Age | D23: =IFERROR(IF(INDEX(Data_Input!$D$5:$D$29,ROW(A19))=0,null(),INDEX(Data_Input!$D$5:$D$29,ROW(A19))),"") -> Mixed
B24: =IFERROR(IF(INDEX(Data_Input!$B$5:$B$29,ROW(A20))=0,null(),INDEX(Data_Input!$B$5:$B$29,ROW(A20))),"") -> 18-24 | C24: =IFERROR(IF(INDEX(Data_Input!$C$5:$C$29,ROW(A20))=0,null(),INDEX(Data_Input!$C$5:$C$29,ROW(A20))),"") -> 0.1 | D24: =IFERROR(IF(INDEX(Data_Input!$D$5:$D$29,ROW(A20))=0,null(),INDEX(Data_Input!$D$5:$D$29,ROW(A20))),"") -> 0.2
B25: =IFERROR(IF(INDEX(Data_Input!$B$5:$B$29,ROW(A21))=0,null(),INDEX(Data_Input!$B$5:$B$29,ROW(A21))),"") -> 25-34 | C25: =IFERROR(IF(INDEX(Data_Input!$C$5:$C$29,ROW(A21))=0,null(),INDEX(Data_Input!$C$5:$C$29,ROW(A21))),"") -> 0.2 | D25: =IFERROR(IF(INDEX(Data_Input!$D$5:$D$29,ROW(A21))=0,null(),INDEX(Data_Input!$D$5:$D$29,ROW(A21))),"") -> 0.3
B26: =IFERROR(IF(INDEX(Data_Input!$B$5:$B$29,ROW(A22))=0,null(),INDEX(Data_Input!$B$5:$B$29,ROW(A22))),"") -> 35-44 | C26: =IFERROR(IF(INDEX(Data_Input!$C$5:$C$29,ROW(A22))=0,null(),INDEX(Data_Input!$C$5:$C$29,ROW(A22))),"") -> 0.3 | D26: =IFERROR(IF(INDEX(Data_Input!$D$5:$D$29,ROW(A22))=0,null(),INDEX(Data_Input!$D$5:$D$29,ROW(A22))),"") -> 0.1
B27: =IFERROR(IF(INDEX(Data_Input!$B$5:$B$29,ROW(A23))=0,null(),INDEX(Data_Input!$B$5:$B$29,ROW(A23))),"") -> 45-54 | C27: =IFERROR(IF(INDEX(Data_Input!$C$5:$C$29,ROW(A23))=0,null(),INDEX(Data_Input!$C$5:$C$29,ROW(A23))),"") -> 0.4 | D27: =IFERROR(IF(INDEX(Data_Input!$D$5:$D$29,ROW(A23))=0,null(),INDEX(Data_Input!$D$5:$D$29,ROW(A23))),"") -> 0.1
B28: =IFERROR(IF(INDEX(Data_Input!$B$5:$B$29,ROW(A24))=0,null(),INDEX(Data_Input!$B$5:$B$29,ROW(A24))),"") -> 54-65 | C28: =IFERROR(IF(INDEX(Data_Input!$C$5:$C$29,ROW(A24))=0,null(),INDEX(Data_Input!$C$5:$C$29,ROW(A24))),"") | D28: =IFERROR(IF(INDEX(Data_Input!$D$5:$D$29,ROW(A24))=0,null(),INDEX(Data_Input!$D$5:$D$29,ROW(A24))),"") -> 0.1
