Workbook
Name AGENTSTOTAL: Calculations!$BM$6
Name ALLAGENTS: OFFSET(Calculations!$BI$6,0,0,AGENTSTOTAL,1)
Name calendarSalesmen: Calendar!$K$7
Name calendarStage: Calendar!$I$7
Name calendarView: Calendar!$M$7
Name chosenDate: Calculations!$AZ$32
Name closedTasks: Calculations!$AW$6
Name COUNTFUNNEL: Calculations!$AK$27
Name COUNTSOURCE: Calculations!$AG$27
Name COUNTSS: Calculations!$AZ$27
Name COUNTSTAGES: Calculations!$AN$27
Name COUNTSTAGESTART: Calculations!$AZ$28
Name COUNTSTAGESTART2: Calculations!$BD$28
Name COUNTSTAGETIME: Calculations!$BD$27
Name COUNTTASK: Calculations!$AV$9
Name COUNTTASKMIN: Calculations!$AW$9
Name DATARANGE2: Performance!$G$6
Name DATERANGE: ConversionRate!$D$6
Name FunelAxis: OFFSET(Calculations!$AI$6,STARTFUNNEL,0,COUNTFUNNEL,1)
Name FunnelM: OFFSET(Calculations!$AJ$6,STARTFUNNEL,0,COUNTFUNNEL,1)
Name FunnelV: OFFSET(Calculations!$AK$6,STARTFUNNEL,0,COUNTFUNNEL,1)
Name importance: Settings!$G$6
Name importance1: Settings!$G$7
Name importance2: Settings!$G$8
Name importance3: Settings!$G$9
Name LABELPERSALESMAN: OFFSET(Calculations!$AY$6,COUNTSTAGESTART,0,COUNTSS,1)
Name openTasks: Calculations!$AV$6
Name SALESMAN: Performance!$D$6
Name selectTask: ConversionRate!$G$6
Name Slicer_CLOSED: #N/A
Name Slicer_CUSTOMER: #N/A
Name Slicer_IMPORTANCE: #N/A
Name Slicer_LEAD_SOURCE: #N/A
Name Slicer_SALES_AGENT: #N/A
Name SOURCELABEL: OFFSET(Calculations!$AF$6,STARTSOURCE,0,COUNTSOURCE,1)
Name SOURCENUMBER: OFFSET(Calculations!$AG$6,STARTSOURCE,0,COUNTSOURCE,1)
Name StageAxis: OFFSET(Calculations!$AI$6,STARTSTAGES,0,COUNTSTAGES,1)
Name STAGESPERAGENT: OFFSET(Calculations!$BK$6,0,0,AGENTSTOTAL,1)
Name STAGESPERSALESMAN: OFFSET(Calculations!$AZ$6,COUNTSTAGESTART,0,COUNTSS,1)
Name StagesV: OFFSET(Calculations!$AN$6,STARTSTAGES,0,COUNTSTAGES,1)
Name startCell: ProcessPipeline!$D$10
Name STARTFUNNEL: Calculations!$AK$28
Name STARTSOURCE: Calculations!$AG$28
Name STARTSTAGES: Calculations!$AN$28
Name startTaskTable: TasksList!$B$5
Name TASKCUSTOMER: OFFSET(Calculations!$AR$6,0,0,COUNTTASKMIN,1)
Name TASKLABEL: OFFSET(Calculations!$AT$6,0,0,COUNTTASKMIN,1)
Name taskRange: Calendar!$O$7
Name TASKSPERAGENT: OFFSET(Calculations!$BL$6,0,0,AGENTSTOTAL,1)
Name TIMELABELPERSALESMAN: OFFSET(Calculations!$AY$6,COUNTSTAGESTART2,0,COUNTSTAGETIME,1)
Name TIMEPERSALESMAN: OFFSET(Calculations!$BC$6,COUNTSTAGESTART2,0,COUNTSTAGETIME,1)

Sheet Dashboard
C2: CUSTOMER RELATIONSHIP MANAGEMENT TOOL
C3: DASHBOARD

Sheet Settings
C2: CUSTOMER RELATIONSHIP MANAGEMENT TOOL
C3: SETTINGS
C6: PROCESS STAGES | E6: SALESMEN | G6: TASK IMPORTANCE | H6: COLOR REPRESENTATION | J6: LEAD STATUS
C7: NEW OPPORTUNITY | E7: Francesca Cooley | G7: High | J7: Customer
C8: LEAD QUALIFICATION | E8: Sylvia Mcclain | G8: Medium | J8: Lead
C9: CONTACT / MEETING | E9: Audrey Workman | G9: Low | J9: Prospect
C10: OFFER | E10: James Blair | G10: IF NOT SET
C11: NEGOTIATION | E11: Mohammad Riggs
C12: WON / LOST | E12: Charles Guy
C13: POST PURCHASE | E13: Carl Wooten

Sheet AdressBook
B2: CUSTOMER RELATIONSHIP MANAGEMENT TOOL
B3: ADDRESS BOOK
B5: CUSTOMER NAME | C5: STATUS | D5: LEAD SOURCE | E5: CONTACT PERSON | F5: E-MAIL | G5: PHONE | H5: CONTACT PERSON 2 | I5: E-MAIL 2 | J5: PHONE 2 | K5: CONTACT PERSON 3 | L5: E-MAIL 3 | M5: PHONE 3 | N5: ADDRESS
B6: Rutrum Inc. | C6: Customer | D6: Google Adds | E6: Leonard Gilmore | F6: Financer@gmail.com | G6: 1-100-881-3824 | N6: Ap 586-3617 Hendrerit Road
B7: Luctus Et Ultrices Ltd | C7: Customer | D7: Facebook | E7: Oleg Thompson | F7: Mercantil@gmail.com | G7: 1-766-716-2127 | N7: 304-4343 Litora Av.
B8: Enim Mauris Corporation | C8: Lead | D8: LinkedIn | E8: Nevada Johns | F8: Subsidy@gmail.com | G8: 1-577-233-2727 | N8: 8766 Magnis St.
B9: Maecenas Incorporated | C9: Lead | D9: Advertisement | E9: Flavia Bernard | F9: Shareholding@gmail.com | G9: 1-309-234-0619 | N9: P.O. Box 978, 8112 Porttitor St.
B10: Pede Consulting | C10: Prospect | D10: Customer Event | E10: Ian Guerrero | F10: Inflationary@gmail.com | G10: 1-986-504-4507 | N10: 549-2208 Magna. Road
B11: Consectetuer Adipiscing Elit LLP | C11: Prospect | D11: Employee Referral | E11: Evan Morin | F11: Incomes inc@gmail.com | G11: 1-381-947-0242 | N11: Ap 4992 Consequat Rd.
B12: Erat Semper PC | C12: Customer | D12: Google Adwords | E12: Chandler Cardenas | F12: FinanceLock@gmail.com | G12: 1-631-377-1134 | N12: 218-9537 Ipsum Av.

Sheet TasksList
C2: CUSTOMER RELATIONSHIP MANAGEMENT TOOL
C3: DEFINE TASKS
B5: TASK ID | C5: CUSTOMER | D5: SHORT DESCRIPTION (max 25 characters) | E5: LONG DESCRIPTION | F5: IMPORTANCE | G5: ACTIVE?
B6: =IF(LEN(C6)>0,100,"") -> 100 | C6: Rutrum Inc. | D6: Sell Application | E6: Sell our X to their finance team. | F6: High | G6: Open
B7: =IFERROR(IF(LEN(C7)>0,MAX($B$6:B6)+1,""),"") -> 101 | C7: Luctus Et Ultrices Ltd | D7: Renew contract | E7: Renew contract for next year. | F7: Medium | G7: Open
B8: =IFERROR(IF(LEN(C8)>0,MAX($B$6:B7)+1,""),"") -> 102 | C8: Enim Mauris Corporation | D8: Outsourcing contract | E8: Offer our outsourcing services. | G8: Open
B9: =IFERROR(IF(LEN(C9)>0,MAX($B$6:B8)+1,""),"") -> 103 | C9: Rutrum Inc. | D9: Sell subscription | E9: Implement our financial app at Team A. | F9: Medium | G9: Open
B10: =IFERROR(IF(LEN(C10)>0,MAX($B$6:B9)+1,""),"") -> 104 | C10: Maecenas Incorporated | D10: Create DB | F10: High | G10: Open
B11: =IFERROR(IF(LEN(C11)>0,MAX($B$6:B10)+1,""),"") -> 105 | C11: Erat Semper PC | D11: Sell subscription | F11: Low | G11: Closed
B12: =IFERROR(IF(LEN(C12)>0,MAX($B$6:B11)+1,""),"") -> 106 | C12: Erat Semper PC | D12: Implement system | E12: Implement new application | F12: High | G12: Open
B13: =IFERROR(IF(LEN(C13)>0,MAX($B$6:B12)+1,""),"") -> 107 | C13: Consectetuer Adipiscing Elit LLP | D13: Renew old contract | F13: Low | G13: Open
B14: =IFERROR(IF(LEN(C14)>0,MAX($B$6:B13)+1,""),"") -> 108 | C14: Pede Consulting | D14: Perform QA test | F14: High | G14: Open
B15: =IFERROR(IF(LEN(C15)>0,MAX($B$6:B14)+1,""),"") -> 109 | C15: Maecenas Incorporated | D15: Implement system | E15: Implement new application | G15: Closed
B16: =IFERROR(IF(LEN(C16)>0,MAX($B$6:B15)+1,""),"") -> 110 | C16: Pede Consulting | D16: Implement CRM | F16: Medium | G16: Open
B17: =IFERROR(IF(LEN(C17)>0,MAX($B$6:B16)+1,""),"") -> 111 | C17: Rutrum Inc. | D17: Outsourcing contract | F17: Medium | G17: Open
B18: =IFERROR(IF(LEN(C18)>0,MAX($B$6:B17)+1,""),"") -> 112 | C18: Enim Mauris Corporation | D18: Renew contract | E18: Customer renew subscription under updated terms. | F18: High | G18: Closed
B19: =IFERROR(IF(LEN(C19)>0,MAX($B$6:B18)+1,""),"")
B20: =IFERROR(IF(LEN(C20)>0,MAX($B$6:B19)+1,""),"")
B21: =IFERROR(IF(LEN(C21)>0,MAX($B$6:B20)+1,""),"")
B22: =IFERROR(IF(LEN(C22)>0,MAX($B$6:B21)+1,""),"")
B23: =IFERROR(IF(LEN(C23)>0,MAX($B$6:B22)+1,""),"")
B24: =IFERROR(IF(LEN(C24)>0,MAX($B$6:B23)+1,""),"")
B25: =IFERROR(IF(LEN(C25)>0,MAX($B$6:B24)+1,""),"")

Sheet PlansAndNotes
B2: CUSTOMER RELATIONSHIP MANAGEMENT TOOL
B3: TASKS & PROCESS RECORDS
B5: TASK ID | C5: CUSTOMER | D5: DATE | E5: STAGE | F5: SALESMAN | G5: NOTES / RESULTS
B6: 100 - Sell Application | C6: =IFERROR(IF(LEN(B6)>0,IF(INDEX(TasksList!$C$6:$C$1005,MATCH(LEFT(B6,SEARCH(" - ",B6)-1)*1,TasksList!$B$6:$B$1005,0),1)=0,"",INDEX(TasksList!$C$6:$C$1005,MATCH(LEFT(B6,SEARCH(" - ",B6)-1)*1,TasksList!$B$6:$B$1005,0),1)),""),"Task not found!") -> Rutrum Inc. | D6: 44400 | E6: NEW OPPORTUNITY | I6: =IF(AND(LEN(D6)>0,LEN(B6)=0),"← Missing Task ID",IF(AND(LEN(D6)>0,LEN(E6)=0),"← Missing STAGE",IF(AND(LEN(B6)+LEN(E6)>0,LEN(D6)=0),"← Missing DATE","")))
B7: 103 - Sell subscription | C7: =IFERROR(IF(LEN(B7)>0,IF(INDEX(TasksList!$C$6:$C$1005,MATCH(LEFT(B7,SEARCH(" - ",B7)-1)*1,TasksList!$B$6:$B$1005,0),1)=0,"",INDEX(TasksList!$C$6:$C$1005,MATCH(LEFT(B7,SEARCH(" - ",B7)-1)*1,TasksList!$B$6:$B$1005,0),1)),""),"Task not found!") -> Rutrum Inc. | D7: 44406 | E7: NEW OPPORTUNITY | F7: James Blair | G7: check the opportunity | I7: =IF(AND(LEN(D7)>0,LEN(B7)=0),"← Missing Task ID",IF(AND(LEN(D7)>0,LEN(E7)=0),"← Missing STAGE",IF(AND(LEN(B7)+LEN(E7)>0,LEN(D7)=0),"← Missing DATE","")))
B8: 104 - Create DB | C8: =IFERROR(IF(LEN(B8)>0,IF(INDEX(TasksList!$C$6:$C$1005,MATCH(LEFT(B8,SEARCH(" - ",B8)-1)*1,TasksList!$B$6:$B$1005,0),1)=0,"",INDEX(TasksList!$C$6:$C$1005,MATCH(LEFT(B8,SEARCH(" - ",B8)-1)*1,TasksList!$B$6:$B$1005,0),1)),""),"Task not found!") -> Maecenas Incorporated | D8: 44412 | E8: NEW OPPORTUNITY | F8: Charles Guy | G8: Meeting sceduled on Monday 24.08.2020 10:30am, client address. | I8: =IF(AND(LEN(D8)>0,LEN(B8)=0),"← Missing Task ID",IF(AND(LEN(D8)>0,LEN(E8)=0),"← Missing STAGE",IF(AND(LEN(B8)+LEN(E8)>0,LEN(D8)=0),"← Missing DATE","")))
B9: 105 - Sell subscription | C9: =IFERROR(IF(LEN(B9)>0,IF(INDEX(TasksList!$C$6:$C$1005,MATCH(LEFT(B9,SEARCH(" - ",B9)-1)*1,TasksList!$B$6:$B$1005,0),1)=0,"",INDEX(TasksList!$C$6:$C$1005,MATCH(LEFT(B9,SEARCH(" - ",B9)-1)*1,TasksList!$B$6:$B$1005,0),1)),""),"Task not found!") -> Erat Semper PC | D9: 44418 | E9: LEAD QUALIFICATION | F9: Charles Guy | I9: =IF(AND(LEN(D9)>0,LEN(B9)=0),"← Missing Task ID",IF(AND(LEN(D9)>0,LEN(E9)=0),"← Missing STAGE",IF(AND(LEN(B9)+LEN(E9)>0,LEN(D9)=0),"← Missing DATE","")))
B10: 102 - Outsourcing contract | C10: =IFERROR(IF(LEN(B10)>0,IF(INDEX(TasksList!$C$6:$C$1005,MATCH(LEFT(B10,SEARCH(" - ",B10)-1)*1,TasksList!$B$6:$B$1005,0),1)=0,"",INDEX(TasksList!$C$6:$C$1005,MATCH(LEFT(B10,SEARCH(" - ",B10)-1)*1,TasksList!$B$6:$B$1005,0),1)),""),"Task not found!") -> Enim Mauris Corporation | D10: 44424 | E10: NEW OPPORTUNITY | F10: Audrey Workman | I10: =IF(AND(LEN(D10)>0,LEN(B10)=0),"← Missing Task ID",IF(AND(LEN(D10)>0,LEN(E10)=0),"← Missing STAGE",IF(AND(LEN(B10)+LEN(E10)>0,LEN(D10)=0),"← Missing DATE","")))
B11: 108 - Perform QA test | C11: =IFERROR(IF(LEN(B11)>0,IF(INDEX(TasksList!$C$6:$C$1005,MATCH(LEFT(B11,SEARCH(" - ",B11)-1)*1,TasksList!$B$6:$B$1005,0),1)=0,"",INDEX(TasksList!$C$6:$C$1005,MATCH(LEFT(B11,SEARCH(" - ",B11)-1)*1,TasksList!$B$6:$B$1005,0),1)),""),"Task not found!") -> Pede Consulting | D11: 44430 | E11: NEW OPPORTUNITY | F11: James Blair | I11: =IF(AND(LEN(D11)>0,LEN(B11)=0),"← Missing Task ID",IF(AND(LEN(D11)>0,LEN(E11)=0),"← Missing STAGE",IF(AND(LEN(B11)+LEN(E11)>0,LEN(D11)=0),"← Missing DATE","")))
B12: 104 - Create DB | C12: =IFERROR(IF(LEN(B12)>0,IF(INDEX(TasksList!$C$6:$C$1005,MATCH(LEFT(B12,SEARCH(" - ",B12)-1)*1,TasksList!$B$6:$B$1005,0),1)=0,"",INDEX(TasksList!$C$6:$C$1005,MATCH(LEFT(B12,SEARCH(" - ",B12)-1)*1,TasksList!$B$6:$B$1005,0),1)),""),"Task not found!") -> Maecenas Incorporated | D12: 44436 | E12: NEW OPPORTUNITY | F12: Mohammad Riggs | I12: =IF(AND(LEN(D12)>0,LEN(B12)=0),"← Missing Task ID",IF(AND(LEN(D12)>0,LEN(E12)=0),"← Missing STAGE",IF(AND(LEN(B12)+LEN(E12)>0,LEN(D12)=0),"← Missing DATE","")))
B13: 102 - Outsourcing contract | C13: =IFERROR(IF(LEN(B13)>0,IF(INDEX(TasksList!$C$6:$C$1005,MATCH(LEFT(B13,SEARCH(" - ",B13)-1)*1,TasksList!$B$6:$B$1005,0),1)=0,"",INDEX(TasksList!$C$6:$C$1005,MATCH(LEFT(B13,SEARCH(" - ",B13)-1)*1,TasksList!$B$6:$B$1005,0),1)),""),"Task not found!") -> Enim Mauris Corporation | D13: 44442 | E13: LEAD QUALIFICATION | F13: Audrey Workman | I13: =IF(AND(LEN(D13)>0,LEN(B13)=0),"← Missing Task ID",IF(AND(LEN(D13)>0,LEN(E13)=0),"← Missing STAGE",IF(AND(LEN(B13)+LEN(E13)>0,LEN(D13)=0),"← Missing DATE","")))
B14: 104 - Create DB | C14: =IFERROR(IF(LEN(B14)>0,IF(INDEX(TasksList!$C$6:$C$1005,MATCH(LEFT(B14,SEARCH(" - ",B14)-1)*1,TasksList!$B$6:$B$1005,0),1)=0,"",INDEX(TasksList!$C$6:$C$1005,MATCH(LEFT(B14,SEARCH(" - ",B14)-1)*1,TasksList!$B$6:$B$1005,0),1)),""),"Task not found!") -> Maecenas Incorporated | D14: 44448 | E14: LEAD QUALIFICATION | F14: Mohammad Riggs | I14: =IF(AND(LEN(D14)>0,LEN(B14)=0),"← Missing Task ID",IF(AND(LEN(D14)>0,LEN(E14)=0),"← Missing STAGE",IF(AND(LEN(B14)+LEN(E14)>0,LEN(D14)=0),"← Missing DATE","")))
B15: 112 - Renew contract | C15: =IFERROR(IF(LEN(B15)>0,IF(INDEX(TasksList!$C$6:$C$1005,MATCH(LEFT(B15,SEARCH(" - ",B15)-1)*1,TasksList!$B$6:$B$1005,0),1)=0,"",INDEX(TasksList!$C$6:$C$1005,MATCH(LEFT(B15,SEARCH(" - ",B15)-1)*1,TasksList!$B$6:$B$1005,0),1)),""),"Task not found!") -> Enim Mauris Corporation | D15: 44454 | E15: NEW OPPORTUNITY | F15: Mohammad Riggs | I15: =IF(AND(LEN(D15)>0,LEN(B15)=0),"← Missing Task ID",IF(AND(LEN(D15)>0,LEN(E15)=0),"← Missing STAGE",IF(AND(LEN(B15)+LEN(E15)>0,LEN(D15)=0),"← Missing DATE","")))
B16: 102 - Outsourcing contract | C16: =IFERROR(IF(LEN(B16)>0,IF(INDEX(TasksList!$C$6:$C$1005,MATCH(LEFT(B16,SEARCH(" - ",B16)-1)*1,TasksList!$B$6:$B$1005,0),1)=0,"",INDEX(TasksList!$C$6:$C$1005,MATCH(LEFT(B16,SEARCH(" - ",B16)-1)*1,TasksList!$B$6:$B$1005,0),1)),""),"Task not found!") -> Enim Mauris Corporation | D16: 44460 | E16: CONTACT / MEETING | F16: Audrey Workman | I16: =IF(AND(LEN(D16)>0,LEN(B16)=0),"← Missing Task ID",IF(AND(LEN(D16)>0,LEN(E16)=0),"← Missing STAGE",IF(AND(LEN(B16)+LEN(E16)>0,LEN(D16)=0),"← Missing DATE","")))
B17: 112 - Renew contract | C17: =IFERROR(IF(LEN(B17)>0,IF(INDEX(TasksList!$C$6:$C$1005,MATCH(LEFT(B17,SEARCH(" - ",B17)-1)*1,TasksList!$B$6:$B$1005,0),1)=0,"",INDEX(TasksList!$C$6:$C$1005,MATCH(LEFT(B17,SEARCH(" - ",B17)-1)*1,TasksList!$B$6:$B$1005,0),1)),""),"Task not found!") -> Enim Mauris Corporation | D17: 44466 | E17: LEAD QUALIFICATION | F17: Mohammad Riggs | I17: =IF(AND(LEN(D17)>0,LEN(B17)=0),"← Missing Task ID",IF(AND(LEN(D17)>0,LEN(E17)=0),"← Missing STAGE",IF(AND(LEN(B17)+LEN(E17)>0,LEN(D17)=0),"← Missing DATE","")))
B18: 108 - Perform QA test | C18: =IFERROR(IF(LEN(B18)>0,IF(INDEX(TasksList!$C$6:$C$1005,MATCH(LEFT(B18,SEARCH(" - ",B18)-1)*1,TasksList!$B$6:$B$1005,0),1)=0,"",INDEX(TasksList!$C$6:$C$1005,MATCH(LEFT(B18,SEARCH(" - ",B18)-1)*1,TasksList!$B$6:$B$1005,0),1)),""),"Task not found!") -> Pede Consulting | D18: 44472 | E18: LEAD QUALIFICATION | F18: James Blair | I18: =IF(AND(LEN(D18)>0,LEN(B18)=0),"← Missing Task ID",IF(AND(LEN(D18)>0,LEN(E18)=0),"← Missing STAGE",IF(AND(LEN(B18)+LEN(E18)>0,LEN(D18)=0),"← Missing DATE","")))
B19: 108 - Perform QA test | C19: =IFERROR(IF(LEN(B19)>0,IF(INDEX(TasksList!$C$6:$C$1005,MATCH(LEFT(B19,SEARCH(" - ",B19)-1)*1,TasksList!$B$6:$B$1005,0),1)=0,"",INDEX(TasksList!$C$6:$C$1005,MATCH(LEFT(B19,SEARCH(" - ",B19)-1)*1,TasksList!$B$6:$B$1005,0),1)),""),"Task not found!") -> Pede Consulting | D19: 44478 | E19: CONTACT / MEETING | F19: James Blair | I19: =IF(AND(LEN(D19)>0,LEN(B19)=0),"← Missing Task ID",IF(AND(LEN(D19)>0,LEN(E19)=0),"← Missing STAGE",IF(AND(LEN(B19)+LEN(E19)>0,LEN(D19)=0),"← Missing DATE","")))
B20: 106 - Implement system | C20: =IFERROR(IF(LEN(B20)>0,IF(INDEX(TasksList!$C$6:$C$1005,MATCH(LEFT(B20,SEARCH(" - ",B20)-1)*1,TasksList!$B$6:$B$1005,0),1)=0,"",INDEX(TasksList!$C$6:$C$1005,MATCH(LEFT(B20,SEARCH(" - ",B20)-1)*1,TasksList!$B$6:$B$1005,0),1)),""),"Task not found!") -> Erat Semper PC | D20: 44484 | E20: NEW OPPORTUNITY | F20: Carl Wooten | I20: =IF(AND(LEN(D20)>0,LEN(B20)=0),"← Missing Task ID",IF(AND(LEN(D20)>0,LEN(E20)=0),"← Missing STAGE",IF(AND(LEN(B20)+LEN(E20)>0,LEN(D20)=0),"← Missing DATE","")))
... B27: 101 - Renew contract | C27: =IFERROR(IF(LEN(B27)>0,IF(INDEX(TasksList!$C$6:$C$1005,MATCH(LEFT(B27,SEARCH(" - ",B27)-1)*1,TasksList!$B$6:$B$1005,0),1)=0,"",INDEX(TasksList!$C$6:$C$1005,MATCH(LEFT(B27,SEARCH(" - ",B27)-1)*1,TasksList!$B$6:$B$1005,0),1)),""),"Task not found!") -> Luctus Et Ultrices Ltd | D27: 44526 | E27: NEW OPPORTUNITY | F27: Francesca Cooley | I27: =IF(AND(LEN(D27)>0,LEN(B27)=0),"← Missing Task ID",IF(AND(LEN(D27)>0,LEN(E27)=0),"← Missing STAGE",IF(AND(LEN(B27)+LEN(E27)>0,LEN(D27)=0),"← Missing DATE","")))
B28: 101 - Renew contract | C28: =IFERROR(IF(LEN(B28)>0,IF(INDEX(TasksList!$C$6:$C$1005,MATCH(LEFT(B28,SEARCH(" - ",B28)-1)*1,TasksList!$B$6:$B$1005,0),1)=0,"",INDEX(TasksList!$C$6:$C$1005,MATCH(LEFT(B28,SEARCH(" - ",B28)-1)*1,TasksList!$B$6:$B$1005,0),1)),""),"Task not found!") -> Luctus Et Ultrices Ltd | D28: 44532 | E28: LEAD QUALIFICATION | F28: Francesca Cooley | G28: evaluation info | I28: =IF(AND(LEN(D28)>0,LEN(B28)=0),"← Missing Task ID",IF(AND(LEN(D28)>0,LEN(E28)=0),"← Missing STAGE",IF(AND(LEN(B28)+LEN(E28)>0,LEN(D28)=0),"← Missing DATE","")))
B29: 101 - Renew contract | C29: =IFERROR(IF(LEN(B29)>0,IF(INDEX(TasksList!$C$6:$C$1005,MATCH(LEFT(B29,SEARCH(" - ",B29)-1)*1,TasksList!$B$6:$B$1005,0),1)=0,"",INDEX(TasksList!$C$6:$C$1005,MATCH(LEFT(B29,SEARCH(" - ",B29)-1)*1,TasksList!$B$6:$B$1005,0),1)),""),"Task not found!") -> Luctus Et Ultrices Ltd | D29: 44538 | E29: CONTACT / MEETING | F29: Francesca Cooley | G29: offer notes | I29: =IF(AND(LEN(D29)>0,LEN(B29)=0),"← Missing Task ID",IF(AND(LEN(D29)>0,LEN(E29)=0),"← Missing STAGE",IF(AND(LEN(B29)+LEN(E29)>0,LEN(D29)=0),"← Missing DATE","")))
B30: 101 - Renew contract | C30: =IFERROR(IF(LEN(B30)>0,IF(INDEX(TasksList!$C$6:$C$1005,MATCH(LEFT(B30,SEARCH(" - ",B30)-1)*1,TasksList!$B$6:$B$1005,0),1)=0,"",INDEX(TasksList!$C$6:$C$1005,MATCH(LEFT(B30,SEARCH(" - ",B30)-1)*1,TasksList!$B$6:$B$1005,0),1)),""),"Task not found!") -> Luctus Et Ultrices Ltd | D30: 44544 | E30: OFFER | F30: Francesca Cooley | G30: meeting notes | I30: =IF(AND(LEN(D30)>0,LEN(B30)=0),"← Missing Task ID",IF(AND(LEN(D30)>0,LEN(E30)=0),"← Missing STAGE",IF(AND(LEN(B30)+LEN(E30)>0,LEN(D30)=0),"← Missing DATE","")))
B31: 104 - Create DB | C31: =IFERROR(IF(LEN(B31)>0,IF(INDEX(TasksList!$C$6:$C$1005,MATCH(LEFT(B31,SEARCH(" - ",B31)-1)*1,TasksList!$B$6:$B$1005,0),1)=0,"",INDEX(TasksList!$C$6:$C$1005,MATCH(LEFT(B31,SEARCH(" - ",B31)-1)*1,TasksList!$B$6:$B$1005,0),1)),""),"Task not found!") -> Maecenas Incorporated | D31: 44550 | E31: CONTACT / MEETING | F31: Mohammad Riggs | I31: =IF(AND(LEN(D31)>0,LEN(B31)=0),"← Missing Task ID",IF(AND(LEN(D31)>0,LEN(E31)=0),"← Missing STAGE",IF(AND(LEN(B31)+LEN(E31)>0,LEN(D31)=0),"← Missing DATE","")))
B32: 112 - Renew contract | C32: =IFERROR(IF(LEN(B32)>0,IF(INDEX(TasksList!$C$6:$C$1005,MATCH(LEFT(B32,SEARCH(" - ",B32)-1)*1,TasksList!$B$6:$B$1005,0),1)=0,"",INDEX(TasksList!$C$6:$C$1005,MATCH(LEFT(B32,SEARCH(" - ",B32)-1)*1,TasksList!$B$6:$B$1005,0),1)),""),"Task not found!") -> Enim Mauris Corporation | D32: 44556 | E32: CONTACT / MEETING | F32: Mohammad Riggs | I32: =IF(AND(LEN(D32)>0,LEN(B32)=0),"← Missing Task ID",IF(AND(LEN(D32)>0,LEN(E32)=0),"← Missing STAGE",IF(AND(LEN(B32)+LEN(E32)>0,LEN(D32)=0),"← Missing DATE","")))
B33: 112 - Renew contract | C33: =IFERROR(IF(LEN(B33)>0,IF(INDEX(TasksList!$C$6:$C$1005,MATCH(LEFT(B33,SEARCH(" - ",B33)-1)*1,TasksList!$B$6:$B$1005,0),1)=0,"",INDEX(TasksList!$C$6:$C$1005,MATCH(LEFT(B33,SEARCH(" - ",B33)-1)*1,TasksList!$B$6:$B$1005,0),1)),""),"Task not found!") -> Enim Mauris Corporation | D33: 44562 | E33: OFFER | F33: Mohammad Riggs | I33: =IF(AND(LEN(D33)>0,LEN(B33)=0),"← Missing Task ID",IF(AND(LEN(D33)>0,LEN(E33)=0),"← Missing STAGE",IF(AND(LEN(B33)+LEN(E33)>0,LEN(D33)=0),"← Missing DATE","")))
B34: 112 - Renew contract | C34: =IFERROR(IF(LEN(B34)>0,IF(INDEX(TasksList!$C$6:$C$1005,MATCH(LEFT(B34,SEARCH(" - ",B34)-1)*1,TasksList!$B$6:$B$1005,0),1)=0,"",INDEX(TasksList!$C$6:$C$1005,MATCH(LEFT(B34,SEARCH(" - ",B34)-1)*1,TasksList!$B$6:$B$1005,0),1)),""),"Task not found!") -> Enim Mauris Corporation | D34: 44568 | E34: NEGOTIATION | F34: Mohammad Riggs | I34: =IF(AND(LEN(D34)>0,LEN(B34)=0),"← Missing Task ID",IF(AND(LEN(D34)>0,LEN(E34)=0),"← Missing STAGE",IF(AND(LEN(B34)+LEN(E34)>0,LEN(D34)=0),"← Missing DATE","")))
B35: 112 - Renew contract | C35: =IFERROR(IF(LEN(B35)>0,IF(INDEX(TasksList!$C$6:$C$1005,MATCH(LEFT(B35,SEARCH(" - ",B35)-1)*1,TasksList!$B$6:$B$1005,0),1)=0,"",INDEX(TasksList!$C$6:$C$1005,MATCH(LEFT(B35,SEARCH(" - ",B35)-1)*1,TasksList!$B$6:$B$1005,0),1)),""),"Task not found!") -> Enim Mauris Corporation | D35: 44574 | E35: WON / LOST | F35: Mohammad Riggs | I35: =IF(AND(LEN(D35)>0,LEN(B35)=0),"← Missing Task ID",IF(AND(LEN(D35)>0,LEN(E35)=0),"← Missing STAGE",IF(AND(LEN(B35)+LEN(E35)>0,LEN(D35)=0),"← Missing DATE","")))
B36: 101 - Renew contract | C36: =IFERROR(IF(LEN(B36)>0,IF(INDEX(TasksList!$C$6:$C$1005,MATCH(LEFT(B36,SEARCH(" - ",B36)-1)*1,TasksList!$B$6:$B$1005,0),1)=0,"",INDEX(TasksList!$C$6:$C$1005,MATCH(LEFT(B36,SEARCH(" - ",B36)-1)*1,TasksList!$B$6:$B$1005,0),1)),""),"Task not found!") -> Luctus Et Ultrices Ltd | D36: 44580 | E36: NEGOTIATION | F36: Francesca Cooley | G36: contact notes | I36: =IF(AND(LEN(D36)>0,LEN(B36)=0),"← Missing Task ID",IF(AND(LEN(D36)>0,LEN(E36)=0),"← Missing STAGE",IF(AND(LEN(B36)+LEN(E36)>0,LEN(D36)=0),"← Missing DATE","")))
B37: 107 - Renew old contract | C37: =IFERROR(IF(LEN(B37)>0,IF(INDEX(TasksList!$C$6:$C$1005,MATCH(LEFT(B37,SEARCH(" - ",B37)-1)*1,TasksList!$B$6:$B$1005,0),1)=0,"",INDEX(TasksList!$C$6:$C$1005,MATCH(LEFT(B37,SEARCH(" - ",B37)-1)*1,TasksList!$B$6:$B$1005,0),1)),""),"Task not found!") -> Consectetuer Adipiscing Elit LLP | D37: 44586 | E37: LEAD QUALIFICATION | F37: Carl Wooten | I37: =IF(AND(LEN(D37)>0,LEN(B37)=0),"← Missing Task ID",IF(AND(LEN(D37)>0,LEN(E37)=0),"← Missing STAGE",IF(AND(LEN(B37)+LEN(E37)>0,LEN(D37)=0),"← Missing DATE","")))
B38: 107 - Renew old contract | C38: =IFERROR(IF(LEN(B38)>0,IF(INDEX(TasksList!$C$6:$C$1005,MATCH(LEFT(B38,SEARCH(" - ",B38)-1)*1,TasksList!$B$6:$B$1005,0),1)=0,"",INDEX(TasksList!$C$6:$C$1005,MATCH(LEFT(B38,SEARCH(" - ",B38)-1)*1,TasksList!$B$6:$B$1005,0),1)),""),"Task not found!") -> Consectetuer Adipiscing Elit LLP | D38: 44592 | E38: CONTACT / MEETING | F38: Carl Wooten | I38: =IF(AND(LEN(D38)>0,LEN(B38)=0),"← Missing Task ID",IF(AND(LEN(D38)>0,LEN(E38)=0),"← Missing STAGE",IF(AND(LEN(B38)+LEN(E38)>0,LEN(D38)=0),"← Missing DATE","")))
B39: 103 - Sell subscription | C39: =IFERROR(IF(LEN(B39)>0,IF(INDEX(TasksList!$C$6:$C$1005,MATCH(LEFT(B39,SEARCH(" - ",B39)-1)*1,TasksList!$B$6:$B$1005,0),1)=0,"",INDEX(TasksList!$C$6:$C$1005,MATCH(LEFT(B39,SEARCH(" - ",B39)-1)*1,TasksList!$B$6:$B$1005,0),1)),""),"Task not found!") -> Rutrum Inc. | D39: 44598 | E39: LEAD QUALIFICATION | F39: James Blair | I39: =IF(AND(LEN(D39)>0,LEN(B39)=0),"← Missing Task ID",IF(AND(LEN(D39)>0,LEN(E39)=0),"← Missing STAGE",IF(AND(LEN(B39)+LEN(E39)>0,LEN(D39)=0),"← Missing DATE","")))
B40: 106 - Implement system | C40: =IFERROR(IF(LEN(B40)>0,IF(INDEX(TasksList!$C$6:$C$1005,MATCH(LEFT(B40,SEARCH(" - ",B40)-1)*1,TasksList!$B$6:$B$1005,0),1)=0,"",INDEX(TasksList!$C$6:$C$1005,MATCH(LEFT(B40,SEARCH(" - ",B40)-1)*1,TasksList!$B$6:$B$1005,0),1)),""),"Task not found!") -> Erat Semper PC | D40: 44604 | E40: LEAD QUALIFICATION | F40: Carl Wooten | I40: =IF(AND(LEN(D40)>0,LEN(B40)=0),"← Missing Task ID",IF(AND(LEN(D40)>0,LEN(E40)=0),"← Missing STAGE",IF(AND(LEN(B40)+LEN(E40)>0,LEN(D40)=0),"← Missing DATE","")))
B41: 109 - Implement system | C41: =IFERROR(IF(LEN(B41)>0,IF(INDEX(TasksList!$C$6:$C$1005,MATCH(LEFT(B41,SEARCH(" - ",B41)-1)*1,TasksList!$B$6:$B$1005,0),1)=0,"",INDEX(TasksList!$C$6:$C$1005,MATCH(LEFT(B41,SEARCH(" - ",B41)-1)*1,TasksList!$B$6:$B$1005,0),1)),""),"Task not found!") -> Maecenas Incorporated | D41: 44610 | E41: NEW OPPORTUNITY | F41: Sylvia Mcclain | I41: =IF(AND(LEN(D41)>0,LEN(B41)=0),"← Missing Task ID",IF(AND(LEN(D41)>0,LEN(E41)=0),"← Missing STAGE",IF(AND(LEN(B41)+LEN(E41)>0,LEN(D41)=0),"← Missing DATE","")))
B42: 110 - Implement CRM | C42: =IFERROR(IF(LEN(B42)>0,IF(INDEX(TasksList!$C$6:$C$1005,MATCH(LEFT(B42,SEARCH(" - ",B42)-1)*1,TasksList!$B$6:$B$1005,0),1)=0,"",INDEX(TasksList!$C$6:$C$1005,MATCH(LEFT(B42,SEARCH(" - ",B42)-1)*1,TasksList!$B$6:$B$1005,0),1)),""),"Task not found!") -> Pede Consulting | D42: 44616 | E42: NEW OPPORTUNITY | F42: Audrey Workman | I42: =IF(AND(LEN(D42)>0,LEN(B42)=0),"← Missing Task ID",IF(AND(LEN(D42)>0,LEN(E42)=0),"← Missing STAGE",IF(AND(LEN(B42)+LEN(E42)>0,LEN(D42)=0),"← Missing DATE","")))
B43: 110 - Implement CRM | C43: =IFERROR(IF(LEN(B43)>0,IF(INDEX(TasksList!$C$6:$C$1005,MATCH(LEFT(B43,SEARCH(" - ",B43)-1)*1,TasksList!$B$6:$B$1005,0),1)=0,"",INDEX(TasksList!$C$6:$C$1005,MATCH(LEFT(B43,SEARCH(" - ",B43)-1)*1,TasksList!$B$6:$B$1005,0),1)),""),"Task not found!") -> Pede Consulting | D43: 44622 | E43: LEAD QUALIFICATION | F43: Audrey Workman | I43: =IF(AND(LEN(D43)>0,LEN(B43)=0),"← Missing Task ID",IF(AND(LEN(D43)>0,LEN(E43)=0),"← Missing STAGE",IF(AND(LEN(B43)+LEN(E43)>0,LEN(D43)=0),"← Missing DATE","")))
B44: 110 - Implement CRM | C44: =IFERROR(IF(LEN(B44)>0,IF(INDEX(TasksList!$C$6:$C$1005,MATCH(LEFT(B44,SEARCH(" - ",B44)-1)*1,TasksList!$B$6:$B$1005,0),1)=0,"",INDEX(TasksList!$C$6:$C$1005,MATCH(LEFT(B44,SEARCH(" - ",B44)-1)*1,TasksList!$B$6:$B$1005,0),1)),""),"Task not found!") -> Pede Consulting | D44: 44628 | E44: CONTACT / MEETING | F44: Audrey Workman | I44: =IF(AND(LEN(D44)>0,LEN(B44)=0),"← Missing Task ID",IF(AND(LEN(D44)>0,LEN(E44)=0),"← Missing STAGE",IF(AND(LEN(B44)+LEN(E44)>0,LEN(D44)=0),"← Missing DATE","")))
B45: 111 - Outsourcing contract | C45: =IFERROR(IF(LEN(B45)>0,IF(INDEX(TasksList!$C$6:$C$1005,MATCH(LEFT(B45,SEARCH(" - ",B45)-1)*1,TasksList!$B$6:$B$1005,0),1)=0,"",INDEX(TasksList!$C$6:$C$1005,MATCH(LEFT(B45,SEARCH(" - ",B45)-1)*1,TasksList!$B$6:$B$1005,0),1)),""),"Task not found!") -> Rutrum Inc. | D45: 44634 | E45: NEW OPPORTUNITY | F45: Audrey Workman | I45: =IF(AND(LEN(D45)>0,LEN(B45)=0),"← Missing Task ID",IF(AND(LEN(D45)>0,LEN(E45)=0),"← Missing STAGE",IF(AND(LEN(B45)+LEN(E45)>0,LEN(D45)=0),"← Missing DATE","")))
B46: 111 - Outsourcing contract | C46: =IFERROR(IF(LEN(B46)>0,IF(INDEX(TasksList!$C$6:$C$1005,MATCH(LEFT(B46,SEARCH(" - ",B46)-1)*1,TasksList!$B$6:$B$1005,0),1)=0,"",INDEX(TasksList!$C$6:$C$1005,MATCH(LEFT(B46,SEARCH(" - ",B46)-1)*1,TasksList!$B$6:$B$1005,0),1)),""),"Task not found!") -> Rutrum Inc. | D46: 44640 | E46: LEAD QUALIFICATION | F46: Audrey Workman | I46: =IF(AND(LEN(D46)>0,LEN(B46)=0),"← Missing Task ID",IF(AND(LEN(D46)>0,LEN(E46)=0),"← Missing STAGE",IF(AND(LEN(B46)+LEN(E46)>0,LEN(D46)=0),"← Missing DATE","")))
B47: 111 - Outsourcing contract | C47: =IFERROR(IF(LEN(B47)>0,IF(INDEX(TasksList!$C$6:$C$1005,MATCH(LEFT(B47,SEARCH(" - ",B47)-1)*1,TasksList!$B$6:$B$1005,0),1)=0,"",INDEX(TasksList!$C$6:$C$1005,MATCH(LEFT(B47,SEARCH(" - ",B47)-1)*1,TasksList!$B$6:$B$1005,0),1)),""),"Task not found!") -> Rutrum Inc. | D47: 44646 | E47: CONTACT / MEETING | F47: Audrey Workman | I47: =IF(AND(LEN(D47)>0,LEN(B47)=0),"← Missing Task ID",IF(AND(LEN(D47)>0,LEN(E47)=0),"← Missing STAGE",IF(AND(LEN(B47)+LEN(E47)>0,LEN(D47)=0),"← Missing DATE","")))
B48: 111 - Outsourcing contract | C48: =IFERROR(IF(LEN(B48)>0,IF(INDEX(TasksList!$C$6:$C$1005,MATCH(LEFT(B48,SEARCH(" - ",B48)-1)*1,TasksList!$B$6:$B$1005,0),1)=0,"",INDEX(TasksList!$C$6:$C$1005,MATCH(LEFT(B48,SEARCH(" - ",B48)-1)*1,TasksList!$B$6:$B$1005,0),1)),""),"Task not found!") -> Rutrum Inc. | D48: 44652 | E48: OFFER | F48: Audrey Workman | I48: =IF(AND(LEN(D48)>0,LEN(B48)=0),"← Missing Task ID",IF(AND(LEN(D48)>0,LEN(E48)=0),"← Missing STAGE",IF(AND(LEN(B48)+LEN(E48)>0,LEN(D48)=0),"← Missing DATE","")))
... B50: 108 - Perform QA test | C50: =IFERROR(IF(LEN(B50)>0,IF(INDEX(TasksList!$C$6:$C$1005,MATCH(LEFT(B50,SEARCH(" - ",B50)-1)*1,TasksList!$B$6:$B$1005,0),1)=0,"",INDEX(TasksList!$C$6:$C$1005,MATCH(LEFT(B50,SEARCH(" - ",B50)-1)*1,TasksList!$B$6:$B$1005,0),1)),""),"Task not found!") -> Pede Consulting | D50: 44652 | E50: POST PURCHASE | F50: Charles Guy | I50: =IF(AND(LEN(D50)>0,LEN(B50)=0),"← Missing Task ID",IF(AND(LEN(D50)>0,LEN(E50)=0),"← Missing STAGE",IF(AND(LEN(B50)+LEN(E50)>0,LEN(D50)=0),"← Missing DATE","")))
C51: =IFERROR(IF(LEN(B51)>0,IF(INDEX(TasksList!$C$6:$C$1005,MATCH(LEFT(B51,SEARCH(" - ",B51)-1)*1,TasksList!$B$6:$B$1005,0),1)=0,"",INDEX(TasksList!$C$6:$C$1005,MATCH(LEFT(B51,SEARCH(" - ",B51)-1)*1,TasksList!$B$6:$B$1005,0),1)),""),"Task not found!") | I51: =IF(AND(LEN(D51)>0,LEN(B51)=0),"← Missing Task ID",IF(AND(LEN(D51)>0,LEN(E51)=0),"← Missing STAGE",IF(AND(LEN(B51)+LEN(E51)>0,LEN(D51)=0),"← Missing DATE","")))
C52: =IFERROR(IF(LEN(B52)>0,IF(INDEX(TasksList!$C$6:$C$1005,MATCH(LEFT(B52,SEARCH(" - ",B52)-1)*1,TasksList!$B$6:$B$1005,0),1)=0,"",INDEX(TasksList!$C$6:$C$1005,MATCH(LEFT(B52,SEARCH(" - ",B52)-1)*1,TasksList!$B$6:$B$1005,0),1)),""),"Task not found!") | I52: =IF(AND(LEN(D52)>0,LEN(B52)=0),"← Missing Task ID",IF(AND(LEN(D52)>0,LEN(E52)=0),"← Missing STAGE",IF(AND(LEN(B52)+LEN(E52)>0,LEN(D52)=0),"← Missing DATE","")))
C53: =IFERROR(IF(LEN(B53)>0,IF(INDEX(TasksList!$C$6:$C$1005,MATCH(LEFT(B53,SEARCH(" - ",B53)-1)*1,TasksList!$B$6:$B$1005,0),1)=0,"",INDEX(TasksList!$C$6:$C$1005,MATCH(LEFT(B53,SEARCH(" - ",B53)-1)*1,TasksList!$B$6:$B$1005,0),1)),""),"Task not found!") | I53: =IF(AND(LEN(D53)>0,LEN(B53)=0),"← Missing Task ID",IF(AND(LEN(D53)>0,LEN(E53)=0),"← Missing STAGE",IF(AND(LEN(B53)+LEN(E53)>0,LEN(D53)=0),"← Missing DATE","")))
C54: =IFERROR(IF(LEN(B54)>0,IF(INDEX(TasksList!$C$6:$C$1005,MATCH(LEFT(B54,SEARCH(" - ",B54)-1)*1,TasksList!$B$6:$B$1005,0),1)=0,"",INDEX(TasksList!$C$6:$C$1005,MATCH(LEFT(B54,SEARCH(" - ",B54)-1)*1,TasksList!$B$6:$B$1005,0),1)),""),"Task not found!") | I54: =IF(AND(LEN(D54)>0,LEN(B54)=0),"← Missing Task ID",IF(AND(LEN(D54)>0,LEN(E54)=0),"← Missing STAGE",IF(AND(LEN(B54)+LEN(E54)>0,LEN(D54)=0),"← Missing DATE","")))
C55: =IFERROR(IF(LEN(B55)>0,IF(INDEX(TasksList!$C$6:$C$1005,MATCH(LEFT(B55,SEARCH(" - ",B55)-1)*1,TasksList!$B$6:$B$1005,0),1)=0,"",INDEX(TasksList!$C$6:$C$1005,MATCH(LEFT(B55,SEARCH(" - ",B55)-1)*1,TasksList!$B$6:$B$1005,0),1)),""),"Task not found!") | I55: =IF(AND(LEN(D55)>0,LEN(B55)=0),"← Missing Task ID",IF(AND(LEN(D55)>0,LEN(E55)=0),"← Missing STAGE",IF(AND(LEN(B55)+LEN(E55)>0,LEN(D55)=0),"← Missing DATE","")))
C56: =IFERROR(IF(LEN(B56)>0,IF(INDEX(TasksList!$C$6:$C$1005,MATCH(LEFT(B56,SEARCH(" - ",B56)-1)*1,TasksList!$B$6:$B$1005,0),1)=0,"",INDEX(TasksList!$C$6:$C$1005,MATCH(LEFT(B56,SEARCH(" - ",B56)-1)*1,TasksList!$B$6:$B$1005,0),1)),""),"Task not found!") | I56: =IF(AND(LEN(D56)>0,LEN(B56)=0),"← Missing Task ID",IF(AND(LEN(D56)>0,LEN(E56)=0),"← Missing STAGE",IF(AND(LEN(B56)+LEN(E56)>0,LEN(D56)=0),"← Missing DATE","")))
C57: =IFERROR(IF(LEN(B57)>0,IF(INDEX(TasksList!$C$6:$C$1005,MATCH(LEFT(B57,SEARCH(" - ",B57)-1)*1,TasksList!$B$6:$B$1005,0),1)=0,"",INDEX(TasksList!$C$6:$C$1005,MATCH(LEFT(B57,SEARCH(" - ",B57)-1)*1,TasksList!$B$6:$B$1005,0),1)),""),"Task not found!") | I57: =IF(AND(LEN(D57)>0,LEN(B57)=0),"← Missing Task ID",IF(AND(LEN(D57)>0,LEN(E57)=0),"← Missing STAGE",IF(AND(LEN(B57)+LEN(E57)>0,LEN(D57)=0),"← Missing DATE","")))
C58: =IFERROR(IF(LEN(B58)>0,IF(INDEX(TasksList!$C$6:$C$1005,MATCH(LEFT(B58,SEARCH(" - ",B58)-1)*1,TasksList!$B$6:$B$1005,0),1)=0,"",INDEX(TasksList!$C$6:$C$1005,MATCH(LEFT(B58,SEARCH(" - ",B58)-1)*1,TasksList!$B$6:$B$1005,0),1)),""),"Task not found!") | I58: =IF(AND(LEN(D58)>0,LEN(B58)=0),"← Missing Task ID",IF(AND(LEN(D58)>0,LEN(E58)=0),"← Missing STAGE",IF(AND(LEN(B58)+LEN(E58)>0,LEN(D58)=0),"← Missing DATE","")))
C59: =IFERROR(IF(LEN(B59)>0,IF(INDEX(TasksList!$C$6:$C$1005,MATCH(LEFT(B59,SEARCH(" - ",B59)-1)*1,TasksList!$B$6:$B$1005,0),1)=0,"",INDEX(TasksList!$C$6:$C$1005,MATCH(LEFT(B59,SEARCH(" - ",B59)-1)*1,TasksList!$B$6:$B$1005,0),1)),""),"Task not found!") | I59: =IF(AND(LEN(D59)>0,LEN(B59)=0),"← Missing Task ID",IF(AND(LEN(D59)>0,LEN(E59)=0),"← Missing STAGE",IF(AND(LEN(B59)+LEN(E59)>0,LEN(D59)=0),"← Missing DATE","")))
C60: =IFERROR(IF(LEN(B60)>0,IF(INDEX(TasksList!$C$6:$C$1005,MATCH(LEFT(B60,SEARCH(" - ",B60)-1)*1,TasksList!$B$6:$B$1005,0),1)=0,"",INDEX(TasksList!$C$6:$C$1005,MATCH(LEFT(B60,SEARCH(" - ",B60)-1)*1,TasksList!$B$6:$B$1005,0),1)),""),"Task not found!") | I60: =IF(AND(LEN(D60)>0,LEN(B60)=0),"← Missing Task ID",IF(AND(LEN(D60)>0,LEN(E60)=0),"← Missing STAGE",IF(AND(LEN(B60)+LEN(E60)>0,LEN(D60)=0),"← Missing DATE","")))
C61: =IFERROR(IF(LEN(B61)>0,IF(INDEX(TasksList!$C$6:$C$1005,MATCH(LEFT(B61,SEARCH(" - ",B61)-1)*1,TasksList!$B$6:$B$1005,0),1)=0,"",INDEX(TasksList!$C$6:$C$1005,MATCH(LEFT(B61,SEARCH(" - ",B61)-1)*1,TasksList!$B$6:$B$1005,0),1)),""),"Task not found!") | I61: =IF(AND(LEN(D61)>0,LEN(B61)=0),"← Missing Task ID",IF(AND(LEN(D61)>0,LEN(E61)=0),"← Missing STAGE",IF(AND(LEN(B61)+LEN(E61)>0,LEN(D61)=0),"← Missing DATE","")))
C62: =IFERROR(IF(LEN(B62)>0,IF(INDEX(TasksList!$C$6:$C$1005,MATCH(LEFT(B62,SEARCH(" - ",B62)-1)*1,TasksList!$B$6:$B$1005,0),1)=0,"",INDEX(TasksList!$C$6:$C$1005,MATCH(LEFT(B62,SEARCH(" - ",B62)-1)*1,TasksList!$B$6:$B$1005,0),1)),""),"Task not found!") | I62: =IF(AND(LEN(D62)>0,LEN(B62)=0),"← Missing Task ID",IF(AND(LEN(D62)>0,LEN(E62)=0),"← Missing STAGE",IF(AND(LEN(B62)+LEN(E62)>0,LEN(D62)=0),"← Missing DATE","")))
... C2005: =IFERROR(IF(LEN(B2005)>0,IF(INDEX(TasksList!$C$6:$C$1005,MATCH(LEFT(B2005,SEARCH(" - ",B2005)-1)*1,TasksList!$B$6:$B$1005,0),1)=0,"",INDEX(TasksList!$C$6:$C$1005,MATCH(LEFT(B2005,SEARCH(" - ",B2005)-1)*1,TasksList!$B$6:$B$1005,0),1)),""),"Task not found!") | I2005: =IF(AND(LEN(D2005)>0,LEN(B2005)=0),"← Missing Task ID",IF(AND(LEN(D2005)>0,LEN(E2005)=0),"← Missing STAGE",IF(AND(LEN(B2005)+LEN(E2005)>0,LEN(D2005)=0),"← Missing DATE","")))
C2006: =IFERROR(IF(LEN(B2006)>0,IF(INDEX(TasksList!$C$6:$C$25,MATCH(LEFT(B2006,SEARCH(" - ",B2006)-1)*1,TasksList!$B$6:$B$25,0),1)=0,"",INDEX(TasksList!$C$6:$C$25,MATCH(LEFT(B2006,SEARCH(" - ",B2006)-1)*1,TasksList!$B$6:$B$25,0),1)),""),"Task not found!")
C2007: =IFERROR(IF(LEN(B2007)>0,IF(INDEX(TasksList!$C$6:$C$25,MATCH(LEFT(B2007,SEARCH(" - ",B2007)-1)*1,TasksList!$B$6:$B$25,0),1)=0,"",INDEX(TasksList!$C$6:$C$25,MATCH(LEFT(B2007,SEARCH(" - ",B2007)-1)*1,TasksList!$B$6:$B$25,0),1)),""),"Task not found!")
C2008: =IFERROR(IF(LEN(B2008)>0,IF(INDEX(TasksList!$C$6:$C$25,MATCH(LEFT(B2008,SEARCH(" - ",B2008)-1)*1,TasksList!$B$6:$B$25,0),1)=0,"",INDEX(TasksList!$C$6:$C$25,MATCH(LEFT(B2008,SEARCH(" - ",B2008)-1)*1,TasksList!$B$6:$B$25,0),1)),""),"Task not found!")
C2009: =IFERROR(IF(LEN(B2009)>0,IF(INDEX(TasksList!$C$6:$C$25,MATCH(LEFT(B2009,SEARCH(" - ",B2009)-1)*1,TasksList!$B$6:$B$25,0),1)=0,"",INDEX(TasksList!$C$6:$C$25,MATCH(LEFT(B2009,SEARCH(" - ",B2009)-1)*1,TasksList!$B$6:$B$25,0),1)),""),"Task not found!")
C2010: =IFERROR(IF(LEN(B2010)>0,IF(INDEX(TasksList!$C$6:$C$25,MATCH(LEFT(B2010,SEARCH(" - ",B2010)-1)*1,TasksList!$B$6:$B$25,0),1)=0,"",INDEX(TasksList!$C$6:$C$25,MATCH(LEFT(B2010,SEARCH(" - ",B2010)-1)*1,TasksList!$B$6:$B$25,0),1)),""),"Task not found!")
C2011: =IFERROR(IF(LEN(B2011)>0,IF(INDEX(TasksList!$C$6:$C$25,MATCH(LEFT(B2011,SEARCH(" - ",B2011)-1)*1,TasksList!$B$6:$B$25,0),1)=0,"",INDEX(TasksList!$C$6:$C$25,MATCH(LEFT(B2011,SEARCH(" - ",B2011)-1)*1,TasksList!$B$6:$B$25,0),1)),""),"Task not found!")
C2012: =IFERROR(IF(LEN(B2012)>0,IF(INDEX(TasksList!$C$6:$C$25,MATCH(LEFT(B2012,SEARCH(" - ",B2012)-1)*1,TasksList!$B$6:$B$25,0),1)=0,"",INDEX(TasksList!$C$6:$C$25,MATCH(LEFT(B2012,SEARCH(" - ",B2012)-1)*1,TasksList!$B$6:$B$25,0),1)),""),"Task not found!")
C2013: =IFERROR(IF(LEN(B2013)>0,IF(INDEX(TasksList!$C$6:$C$25,MATCH(LEFT(B2013,SEARCH(" - ",B2013)-1)*1,TasksList!$B$6:$B$25,0),1)=0,"",INDEX(TasksList!$C$6:$C$25,MATCH(LEFT(B2013,SEARCH(" - ",B2013)-1)*1,TasksList!$B$6:$B$25,0),1)),""),"Task not found!")
C2014: =IFERROR(IF(LEN(B2014)>0,IF(INDEX(TasksList!$C$6:$C$25,MATCH(LEFT(B2014,SEARCH(" - ",B2014)-1)*1,TasksList!$B$6:$B$25,0),1)=0,"",INDEX(TasksList!$C$6:$C$25,MATCH(LEFT(B2014,SEARCH(" - ",B2014)-1)*1,TasksList!$B$6:$B$25,0),1)),""),"Task not found!")
C2015: =IFERROR(IF(LEN(B2015)>0,IF(INDEX(TasksList!$C$6:$C$25,MATCH(LEFT(B2015,SEARCH(" - ",B2015)-1)*1,TasksList!$B$6:$B$25,0),1)=0,"",INDEX(TasksList!$C$6:$C$25,MATCH(LEFT(B2015,SEARCH(" - ",B2015)-1)*1,TasksList!$B$6:$B$25,0),1)),""),"Task not found!")
C2016: =IFERROR(IF(LEN(B2016)>0,IF(INDEX(TasksList!$C$6:$C$25,MATCH(LEFT(B2016,SEARCH(" - ",B2016)-1)*1,TasksList!$B$6:$B$25,0),1)=0,"",INDEX(TasksList!$C$6:$C$25,MATCH(LEFT(B2016,SEARCH(" - ",B2016)-1)*1,TasksList!$B$6:$B$25,0),1)),""),"Task not found!")
C2017: =IFERROR(IF(LEN(B2017)>0,IF(INDEX(TasksList!$C$6:$C$25,MATCH(LEFT(B2017,SEARCH(" - ",B2017)-1)*1,TasksList!$B$6:$B$25,0),1)=0,"",INDEX(TasksList!$C$6:$C$25,MATCH(LEFT(B2017,SEARCH(" - ",B2017)-1)*1,TasksList!$B$6:$B$25,0),1)),""),"Task not found!")
... C4004: =IFERROR(IF(LEN(B4004)>0,IF(INDEX(TasksList!$C$6:$C$25,MATCH(LEFT(B4004,SEARCH(" - ",B4004)-1)*1,TasksList!$B$6:$B$25,0),1)=0,"",INDEX(TasksList!$C$6:$C$25,MATCH(LEFT(B4004,SEARCH(" - ",B4004)-1)*1,TasksList!$B$6:$B$25,0),1)),""),"Task not found!")
C4005: =IFERROR(IF(LEN(B4005)>0,IF(INDEX(TasksList!$C$6:$C$1005,MATCH(LEFT(B4005,SEARCH(" - ",B4005)-1)*1,TasksList!$B$6:$B$1005,0),1)=0,"",INDEX(TasksList!$C$6:$C$1005,MATCH(LEFT(B4005,SEARCH(" - ",B4005)-1)*1,TasksList!$B$6:$B$1005,0),1)),""),"Task not found!")

Sheet ProcessPipeline
D2: CUSTOMER RELATIONSHIP MANAGEMENT TOOL
D3: PROCESS PIPELINE
D10: NEW OPPORTUNITY | F10: LEAD QUALIFICATION | H10: CONTACT / MEETING | J10: OFFER | L10: NEGOTIATION | N10: WON / LOST
D11: {=IFERROR(IF(LEN(D$10)>0, INDEX(Calculations!$B$4:$B$4005,SMALL(IF((Calculations!$U$4:$U$4005=D$10)*(Calculations!$V$4:$V$4005>0),ROW(Calculations!$U$4:$U$4005)-ROW(INDEX(Calculations!$U$4:$U$4005,1,1))+1),ROUNDUP((ROW($A11)-ROW(startCell))/3,0)),1),""),"")} -> 109 - Implement system | F11: {=IFERROR(IF(LEN(F$10)>0, INDEX(Calculations!$B$4:$B$4005,SMALL(IF((Calculations!$U$4:$U$4005=F$10)*(Calculations!$V$4:$V$4005>0),ROW(Calculations!$U$4:$U$4005)-ROW(INDEX(Calculations!$U$4:$U$4005,1,1))+1),ROUNDUP((ROW($A11)-ROW(startCell))/3,0)),1),""),"")} -> 105 - Sell subscription | H11: {=IFERROR(IF(LEN(H$10)>0, INDEX(Calculations!$B$4:$B$4005,SMALL(IF((Calculations!$U$4:$U$4005=H$10)*(Calculations!$V$4:$V$4005>0),ROW(Calculations!$U$4:$U$4005)-ROW(INDEX(Calculations!$U$4:$U$4005,1,1))+1),ROUNDUP((ROW($A11)-ROW(startCell))/3,0)),1),""),"")} | J11: {=IFERROR(IF(LEN(J$10)>0, INDEX(Calculations!$B$4:$B$4005,SMALL(IF((Calculations!$U$4:$U$4005=J$10)*(Calculations!$V$4:$V$4005>0),ROW(Calculations!$U$4:$U$4005)-ROW(INDEX(Calculations!$U$4:$U$4005,1,1))+1),ROUNDUP((ROW($A11)-ROW(startCell))/3,0)),1),""),"")} | L11: {=IFERROR(IF(LEN(L$10)>0, INDEX(Calculations!$B$4:$B$4005,SMALL(IF((Calculations!$U$4:$U$4005=L$10)*(Calculations!$V$4:$V$4005>0),ROW(Calculations!$U$4:$U$4005)-ROW(INDEX(Calculations!$U$4:$U$4005,1,1))+1),ROUNDUP((ROW($A11)-ROW(startCell))/3,0)),1),""),"")} | N11: {=IFERROR(IF(LEN(N$10)>0, INDEX(Calculations!$B$4:$B$4005,SMALL(IF((Calculations!$U$4:$U$4005=N$10)*(Calculations!$V$4:$V$4005>0),ROW(Calculations!$U$4:$U$4005)-ROW(INDEX(Calculations!$U$4:$U$4005,1,1))+1),ROUNDUP((ROW($A11)-ROW(startCell))/3,0)),1),""),"")} -> 112 - Renew contract | P11: {=IFERROR(IF(LEN(P$10)>0, INDEX(Calculations!$B$4:$B$4005,SMALL(IF((Calculations!$U$4:$U$4005=P$10)*(Calculations!$V$4:$V$4005>0),ROW(Calculations!$U$4:$U$4005)-ROW(INDEX(Calculations!$U$4:$U$4005,1,1))+1),ROUNDUP((ROW($A11)-ROW(startCell))/3,0)),1),""),"")} | R11: {=IFERROR(IF(LEN(R$10)>0, INDEX(Calculations!$B$4:$B$4005,SMALL(IF((Calculations!$U$4:$U$4005=R$10)*(Calculations!$V$4:$V$4005>0),ROW(Calculations!$U$4:$U$4005)-ROW(INDEX(Calculations!$U$4:$U$4005,1,1))+1),ROUNDUP((ROW($A11)-ROW(startCell))/3,0)),1),""),"")} | T11: {=IFERROR(IF(LEN(T$10)>0, INDEX(Calculations!$B$4:$B$4005,SMALL(IF((Calculations!$U$4:$U$4005=T$10)*(Calculations!$V$4:$V$4005>0),ROW(Calculations!$U$4:$U$4005)-ROW(INDEX(Calculations!$U$4:$U$4005,1,1))+1),ROUNDUP((ROW($A11)-ROW(startCell))/3,0)),1),""),"")} | V11: {=IFERROR(IF(LEN(V$10)>0, INDEX(Calculations!$B$4:$B$4005,SMALL(IF((Calculations!$U$4:$U$4005=V$10)*(Calculations!$V$4:$V$4005>0),ROW(Calculations!$U$4:$U$4005)-ROW(INDEX(Calculations!$U$4:$U$4005,1,1))+1),ROUNDUP((ROW($A11)-ROW(startCell))/3,0)),1),""),"")}
D12: {=IFERROR( IF(LEN(D$10)>0, INDEX(Calculations!$D$4:$D$4005,SMALL(IF((Calculations!$U$4:$U$4005=D$10)*(Calculations!$V$4:$V$4005>0),ROW(Calculations!$U$4:$U$4005)-ROW(INDEX(Calculations!$U$4:$U$4005,1,1))+1),ROUNDUP((ROW($A12)-ROW(startCell))/3,0)),1),""),"")} -> Maecenas Incorporated | F12: {=IFERROR( IF(LEN(F$10)>0, INDEX(Calculations!$D$4:$D$4005,SMALL(IF((Calculations!$U$4:$U$4005=F$10)*(Calculations!$V$4:$V$4005>0),ROW(Calculations!$U$4:$U$4005)-ROW(INDEX(Calculations!$U$4:$U$4005,1,1))+1),ROUNDUP((ROW($A12)-ROW(startCell))/3,0)),1),""),"")} -> Erat Semper PC | H12: {=IFERROR( IF(LEN(H$10)>0, INDEX(Calculations!$D$4:$D$4005,SMALL(IF((Calculations!$U$4:$U$4005=H$10)*(Calculations!$V$4:$V$4005>0),ROW(Calculations!$U$4:$U$4005)-ROW(INDEX(Calculations!$U$4:$U$4005,1,1))+1),ROUNDUP((ROW($A12)-ROW(startCell))/3,0)),1),""),"")} | J12: {=IFERROR( IF(LEN(J$10)>0, INDEX(Calculations!$D$4:$D$4005,SMALL(IF((Calculations!$U$4:$U$4005=J$10)*(Calculations!$V$4:$V$4005>0),ROW(Calculations!$U$4:$U$4005)-ROW(INDEX(Calculations!$U$4:$U$4005,1,1))+1),ROUNDUP((ROW($A12)-ROW(startCell))/3,0)),1),""),"")} | L12: {=IFERROR( IF(LEN(L$10)>0, INDEX(Calculations!$D$4:$D$4005,SMALL(IF((Calculations!$U$4:$U$4005=L$10)*(Calculations!$V$4:$V$4005>0),ROW(Calculations!$U$4:$U$4005)-ROW(INDEX(Calculations!$U$4:$U$4005,1,1))+1),ROUNDUP((ROW($A12)-ROW(startCell))/3,0)),1),""),"")} | N12: {=IFERROR( IF(LEN(N$10)>0, INDEX(Calculations!$D$4:$D$4005,SMALL(IF((Calculations!$U$4:$U$4005=N$10)*(Calculations!$V$4:$V$4005>0),ROW(Calculations!$U$4:$U$4005)-ROW(INDEX(Calculations!$U$4:$U$4005,1,1))+1),ROUNDUP((ROW($A12)-ROW(startCell))/3,0)),1),""),"")} -> Enim Mauris Corporation | P12: {=IFERROR( IF(LEN(P$10)>0, INDEX(Calculations!$D$4:$D$4005,SMALL(IF((Calculations!$U$4:$U$4005=P$10)*(Calculations!$V$4:$V$4005>0),ROW(Calculations!$U$4:$U$4005)-ROW(INDEX(Calculations!$U$4:$U$4005,1,1))+1),ROUNDUP((ROW($A12)-ROW(startCell))/3,0)),1),""),"")} | R12: {=IFERROR( IF(LEN(R$10)>0, INDEX(Calculations!$D$4:$D$4005,SMALL(IF((Calculations!$U$4:$U$4005=R$10)*(Calculations!$V$4:$V$4005>0),ROW(Calculations!$U$4:$U$4005)-ROW(INDEX(Calculations!$U$4:$U$4005,1,1))+1),ROUNDUP((ROW($A12)-ROW(startCell))/3,0)),1),""),"")} | T12: {=IFERROR( IF(LEN(T$10)>0, INDEX(Calculations!$D$4:$D$4005,SMALL(IF((Calculations!$U$4:$U$4005=T$10)*(Calculations!$V$4:$V$4005>0),ROW(Calculations!$U$4:$U$4005)-ROW(INDEX(Calculations!$U$4:$U$4005,1,1))+1),ROUNDUP((ROW($A12)-ROW(startCell))/3,0)),1),""),"")} | V12: {=IFERROR( IF(LEN(V$10)>0, INDEX(Calculations!$D$4:$D$4005,SMALL(IF((Calculations!$U$4:$U$4005=V$10)*(Calculations!$V$4:$V$4005>0),ROW(Calculations!$U$4:$U$4005)-ROW(INDEX(Calculations!$U$4:$U$4005,1,1))+1),ROUNDUP((ROW($A12)-ROW(startCell))/3,0)),1),""),"")}
D13: {=IFERROR( IF(LEN(D$10)>0, INDEX(Calculations!$G$4:$G$4005,SMALL(IF((Calculations!$U$4:$U$4005=D$10)*(Calculations!$V$4:$V$4005>0),ROW(Calculations!$U$4:$U$4005)-ROW(INDEX(Calculations!$U$4:$U$4005,1,1))+1),ROUNDUP((ROW($A13)-ROW(startCell))/3,0)),1),""),"")} -> Sylvia Mcclain | F13: {=IFERROR( IF(LEN(F$10)>0, INDEX(Calculations!$G$4:$G$4005,SMALL(IF((Calculations!$U$4:$U$4005=F$10)*(Calculations!$V$4:$V$4005>0),ROW(Calculations!$U$4:$U$4005)-ROW(INDEX(Calculations!$U$4:$U$4005,1,1))+1),ROUNDUP((ROW($A13)-ROW(startCell))/3,0)),1),""),"")} -> Charles Guy | H13: {=IFERROR( IF(LEN(H$10)>0, INDEX(Calculations!$G$4:$G$4005,SMALL(IF((Calculations!$U$4:$U$4005=H$10)*(Calculations!$V$4:$V$4005>0),ROW(Calculations!$U$4:$U$4005)-ROW(INDEX(Calculations!$U$4:$U$4005,1,1))+1),ROUNDUP((ROW($A13)-ROW(startCell))/3,0)),1),""),"")} | J13: {=IFERROR( IF(LEN(J$10)>0, INDEX(Calculations!$G$4:$G$4005,SMALL(IF((Calculations!$U$4:$U$4005=J$10)*(Calculations!$V$4:$V$4005>0),ROW(Calculations!$U$4:$U$4005)-ROW(INDEX(Calculations!$U$4:$U$4005,1,1))+1),ROUNDUP((ROW($A13)-ROW(startCell))/3,0)),1),""),"")} | L13: {=IFERROR( IF(LEN(L$10)>0, INDEX(Calculations!$G$4:$G$4005,SMALL(IF((Calculations!$U$4:$U$4005=L$10)*(Calculations!$V$4:$V$4005>0),ROW(Calculations!$U$4:$U$4005)-ROW(INDEX(Calculations!$U$4:$U$4005,1,1))+1),ROUNDUP((ROW($A13)-ROW(startCell))/3,0)),1),""),"")} | N13: {=IFERROR( IF(LEN(N$10)>0, INDEX(Calculations!$G$4:$G$4005,SMALL(IF((Calculations!$U$4:$U$4005=N$10)*(Calculations!$V$4:$V$4005>0),ROW(Calculations!$U$4:$U$4005)-ROW(INDEX(Calculations!$U$4:$U$4005,1,1))+1),ROUNDUP((ROW($A13)-ROW(startCell))/3,0)),1),""),"")} -> Mohammad Riggs | P13: {=IFERROR( IF(LEN(P$10)>0, INDEX(Calculations!$G$4:$G$4005,SMALL(IF((Calculations!$U$4:$U$4005=P$10)*(Calculations!$V$4:$V$4005>0),ROW(Calculations!$U$4:$U$4005)-ROW(INDEX(Calculations!$U$4:$U$4005,1,1))+1),ROUNDUP((ROW($A13)-ROW(startCell))/3,0)),1),""),"")} | R13: {=IFERROR( IF(LEN(R$10)>0, INDEX(Calculations!$G$4:$G$4005,SMALL(IF((Calculations!$U$4:$U$4005=R$10)*(Calculations!$V$4:$V$4005>0),ROW(Calculations!$U$4:$U$4005)-ROW(INDEX(Calculations!$U$4:$U$4005,1,1))+1),ROUNDUP((ROW($A13)-ROW(startCell))/3,0)),1),""),"")} | T13: {=IFERROR( IF(LEN(T$10)>0, INDEX(Calculations!$G$4:$G$4005,SMALL(IF((Calculations!$U$4:$U$4005=T$10)*(Calculations!$V$4:$V$4005>0),ROW(Calculations!$U$4:$U$4005)-ROW(INDEX(Calculations!$U$4:$U$4005,1,1))+1),ROUNDUP((ROW($A13)-ROW(startCell))/3,0)),1),""),"")} | V13: {=IFERROR( IF(LEN(V$10)>0, INDEX(Calculations!$G$4:$G$4005,SMALL(IF((Calculations!$U$4:$U$4005=V$10)*(Calculations!$V$4:$V$4005>0),ROW(Calculations!$U$4:$U$4005)-ROW(INDEX(Calculations!$U$4:$U$4005,1,1))+1),ROUNDUP((ROW($A13)-ROW(startCell))/3,0)),1),""),"")}
D14: {=IFERROR(IF(LEN(D$10)>0, INDEX(Calculations!$B$4:$B$4005,SMALL(IF((Calculations!$U$4:$U$4005=D$10)*(Calculations!$V$4:$V$4005>0),ROW(Calculations!$U$4:$U$4005)-ROW(INDEX(Calculations!$U$4:$U$4005,1,1))+1),ROUNDUP((ROW($A14)-ROW(startCell))/3,0)),1),""),"")} | F14: {=IFERROR(IF(LEN(F$10)>0, INDEX(Calculations!$B$4:$B$4005,SMALL(IF((Calculations!$U$4:$U$4005=F$10)*(Calculations!$V$4:$V$4005>0),ROW(Calculations!$U$4:$U$4005)-ROW(INDEX(Calculations!$U$4:$U$4005,1,1))+1),ROUNDUP((ROW($A14)-ROW(startCell))/3,0)),1),""),"")} | H14: {=IFERROR(IF(LEN(H$10)>0, INDEX(Calculations!$B$4:$B$4005,SMALL(IF((Calculations!$U$4:$U$4005=H$10)*(Calculations!$V$4:$V$4005>0),ROW(Calculations!$U$4:$U$4005)-ROW(INDEX(Calculations!$U$4:$U$4005,1,1))+1),ROUNDUP((ROW($A14)-ROW(startCell))/3,0)),1),""),"")} | J14: {=IFERROR(IF(LEN(J$10)>0, INDEX(Calculations!$B$4:$B$4005,SMALL(IF((Calculations!$U$4:$U$4005=J$10)*(Calculations!$V$4:$V$4005>0),ROW(Calculations!$U$4:$U$4005)-ROW(INDEX(Calculations!$U$4:$U$4005,1,1))+1),ROUNDUP((ROW($A14)-ROW(startCell))/3,0)),1),""),"")} | L14: {=IFERROR(IF(LEN(L$10)>0, INDEX(Calculations!$B$4:$B$4005,SMALL(IF((Calculations!$U$4:$U$4005=L$10)*(Calculations!$V$4:$V$4005>0),ROW(Calculations!$U$4:$U$4005)-ROW(INDEX(Calculations!$U$4:$U$4005,1,1))+1),ROUNDUP((ROW($A14)-ROW(startCell))/3,0)),1),""),"")} | N14: {=IFERROR(IF(LEN(N$10)>0, INDEX(Calculations!$B$4:$B$4005,SMALL(IF((Calculations!$U$4:$U$4005=N$10)*(Calculations!$V$4:$V$4005>0),ROW(Calculations!$U$4:$U$4005)-ROW(INDEX(Calculations!$U$4:$U$4005,1,1))+1),ROUNDUP((ROW($A14)-ROW(startCell))/3,0)),1),""),"")} | P14: {=IFERROR(IF(LEN(P$10)>0, INDEX(Calculations!$B$4:$B$4005,SMALL(IF((Calculations!$U$4:$U$4005=P$10)*(Calculations!$V$4:$V$4005>0),ROW(Calculations!$U$4:$U$4005)-ROW(INDEX(Calculations!$U$4:$U$4005,1,1))+1),ROUNDUP((ROW($A14)-ROW(startCell))/3,0)),1),""),"")} | R14: {=IFERROR(IF(LEN(R$10)>0, INDEX(Calculations!$B$4:$B$4005,SMALL(IF((Calculations!$U$4:$U$4005=R$10)*(Calculations!$V$4:$V$4005>0),ROW(Calculations!$U$4:$U$4005)-ROW(INDEX(Calculations!$U$4:$U$4005,1,1))+1),ROUNDUP((ROW($A14)-ROW(startCell))/3,0)),1),""),"")} | T14: {=IFERROR(IF(LEN(T$10)>0, INDEX(Calculations!$B$4:$B$4005,SMALL(IF((Calculations!$U$4:$U$4005=T$10)*(Calculations!$V$4:$V$4005>0),ROW(Calculations!$U$4:$U$4005)-ROW(INDEX(Calculations!$U$4:$U$4005,1,1))+1),ROUNDUP((ROW($A14)-ROW(startCell))/3,0)),1),""),"")} | V14: {=IFERROR(IF(LEN(V$10)>0, INDEX(Calculations!$B$4:$B$4005,SMALL(IF((Calculations!$U$4:$U$4005=V$10)*(Calculations!$V$4:$V$4005>0),ROW(Calculations!$U$4:$U$4005)-ROW(INDEX(Calculations!$U$4:$U$4005,1,1))+1),ROUNDUP((ROW($A14)-ROW(startCell))/3,0)),1),""),"")}
D15: {=IFERROR( IF(LEN(D$10)>0, INDEX(Calculations!$D$4:$D$4005,SMALL(IF((Calculations!$U$4:$U$4005=D$10)*(Calculations!$V$4:$V$4005>0),ROW(Calculations!$U$4:$U$4005)-ROW(INDEX(Calculations!$U$4:$U$4005,1,1))+1),ROUNDUP((ROW($A15)-ROW(startCell))/3,0)),1),""),"")} | F15: {=IFERROR( IF(LEN(F$10)>0, INDEX(Calculations!$D$4:$D$4005,SMALL(IF((Calculations!$U$4:$U$4005=F$10)*(Calculations!$V$4:$V$4005>0),ROW(Calculations!$U$4:$U$4005)-ROW(INDEX(Calculations!$U$4:$U$4005,1,1))+1),ROUNDUP((ROW($A15)-ROW(startCell))/3,0)),1),""),"")} | H15: {=IFERROR( IF(LEN(H$10)>0, INDEX(Calculations!$D$4:$D$4005,SMALL(IF((Calculations!$U$4:$U$4005=H$10)*(Calculations!$V$4:$V$4005>0),ROW(Calculations!$U$4:$U$4005)-ROW(INDEX(Calculations!$U$4:$U$4005,1,1))+1),ROUNDUP((ROW($A15)-ROW(startCell))/3,0)),1),""),"")} | J15: {=IFERROR( IF(LEN(J$10)>0, INDEX(Calculations!$D$4:$D$4005,SMALL(IF((Calculations!$U$4:$U$4005=J$10)*(Calculations!$V$4:$V$4005>0),ROW(Calculations!$U$4:$U$4005)-ROW(INDEX(Calculations!$U$4:$U$4005,1,1))+1),ROUNDUP((ROW($A15)-ROW(startCell))/3,0)),1),""),"")} | L15: {=IFERROR( IF(LEN(L$10)>0, INDEX(Calculations!$D$4:$D$4005,SMALL(IF((Calculations!$U$4:$U$4005=L$10)*(Calculations!$V$4:$V$4005>0),ROW(Calculations!$U$4:$U$4005)-ROW(INDEX(Calculations!$U$4:$U$4005,1,1))+1),ROUNDUP((ROW($A15)-ROW(startCell))/3,0)),1),""),"")} | N15: {=IFERROR( IF(LEN(N$10)>0, INDEX(Calculations!$D$4:$D$4005,SMALL(IF((Calculations!$U$4:$U$4005=N$10)*(Calculations!$V$4:$V$4005>0),ROW(Calculations!$U$4:$U$4005)-ROW(INDEX(Calculations!$U$4:$U$4005,1,1))+1),ROUNDUP((ROW($A15)-ROW(startCell))/3,0)),1),""),"")} | P15: {=IFERROR( IF(LEN(P$10)>0, INDEX(Calculations!$D$4:$D$4005,SMALL(IF((Calculations!$U$4:$U$4005=P$10)*(Calculations!$V$4:$V$4005>0),ROW(Calculations!$U$4:$U$4005)-ROW(INDEX(Calculations!$U$4:$U$4005,1,1))+1),ROUNDUP((ROW($A15)-ROW(startCell))/3,0)),1),""),"")} | R15: {=IFERROR( IF(LEN(R$10)>0, INDEX(Calculations!$D$4:$D$4005,SMALL(IF((Calculations!$U$4:$U$4005=R$10)*(Calculations!$V$4:$V$4005>0),ROW(Calculations!$U$4:$U$4005)-ROW(INDEX(Calculations!$U$4:$U$4005,1,1))+1),ROUNDUP((ROW($A15)-ROW(startCell))/3,0)),1),""),"")} | T15: {=IFERROR( IF(LEN(T$10)>0, INDEX(Calculations!$D$4:$D$4005,SMALL(IF((Calculations!$U$4:$U$4005=T$10)*(Calculations!$V$4:$V$4005>0),ROW(Calculations!$U$4:$U$4005)-ROW(INDEX(Calculations!$U$4:$U$4005,1,1))+1),ROUNDUP((ROW($A15)-ROW(startCell))/3,0)),1),""),"")} | V15: {=IFERROR( IF(LEN(V$10)>0, INDEX(Calculations!$D$4:$D$4005,SMALL(IF((Calculations!$U$4:$U$4005=V$10)*(Calculations!$V$4:$V$4005>0),ROW(Calculations!$U$4:$U$4005)-ROW(INDEX(Calculations!$U$4:$U$4005,1,1))+1),ROUNDUP((ROW($A15)-ROW(startCell))/3,0)),1),""),"")}
D16: {=IFERROR( IF(LEN(D$10)>0, INDEX(Calculations!$G$4:$G$4005,SMALL(IF((Calculations!$U$4:$U$4005=D$10)*(Calculations!$V$4:$V$4005>0),ROW(Calculations!$U$4:$U$4005)-ROW(INDEX(Calculations!$U$4:$U$4005,1,1))+1),ROUNDUP((ROW($A16)-ROW(startCell))/3,0)),1),""),"")} | F16: {=IFERROR( IF(LEN(F$10)>0, INDEX(Calculations!$G$4:$G$4005,SMALL(IF((Calculations!$U$4:$U$4005=F$10)*(Calculations!$V$4:$V$4005>0),ROW(Calculations!$U$4:$U$4005)-ROW(INDEX(Calculations!$U$4:$U$4005,1,1))+1),ROUNDUP((ROW($A16)-ROW(startCell))/3,0)),1),""),"")} | H16: {=IFERROR( IF(LEN(H$10)>0, INDEX(Calculations!$G$4:$G$4005,SMALL(IF((Calculations!$U$4:$U$4005=H$10)*(Calculations!$V$4:$V$4005>0),ROW(Calculations!$U$4:$U$4005)-ROW(INDEX(Calculations!$U$4:$U$4005,1,1))+1),ROUNDUP((ROW($A16)-ROW(startCell))/3,0)),1),""),"")} | J16: {=IFERROR( IF(LEN(J$10)>0, INDEX(Calculations!$G$4:$G$4005,SMALL(IF((Calculations!$U$4:$U$4005=J$10)*(Calculations!$V$4:$V$4005>0),ROW(Calculations!$U$4:$U$4005)-ROW(INDEX(Calculations!$U$4:$U$4005,1,1))+1),ROUNDUP((ROW($A16)-ROW(startCell))/3,0)),1),""),"")} | L16: {=IFERROR( IF(LEN(L$10)>0, INDEX(Calculations!$G$4:$G$4005,SMALL(IF((Calculations!$U$4:$U$4005=L$10)*(Calculations!$V$4:$V$4005>0),ROW(Calculations!$U$4:$U$4005)-ROW(INDEX(Calculations!$U$4:$U$4005,1,1))+1),ROUNDUP((ROW($A16)-ROW(startCell))/3,0)),1),""),"")} | N16: {=IFERROR( IF(LEN(N$10)>0, INDEX(Calculations!$G$4:$G$4005,SMALL(IF((Calculations!$U$4:$U$4005=N$10)*(Calculations!$V$4:$V$4005>0),ROW(Calculations!$U$4:$U$4005)-ROW(INDEX(Calculations!$U$4:$U$4005,1,1))+1),ROUNDUP((ROW($A16)-ROW(startCell))/3,0)),1),""),"")} | P16: {=IFERROR( IF(LEN(P$10)>0, INDEX(Calculations!$G$4:$G$4005,SMALL(IF((Calculations!$U$4:$U$4005=P$10)*(Calculations!$V$4:$V$4005>0),ROW(Calculations!$U$4:$U$4005)-ROW(INDEX(Calculations!$U$4:$U$4005,1,1))+1),ROUNDUP((ROW($A16)-ROW(startCell))/3,0)),1),""),"")} | R16: {=IFERROR( IF(LEN(R$10)>0, INDEX(Calculations!$G$4:$G$4005,SMALL(IF((Calculations!$U$4:$U$4005=R$10)*(Calculations!$V$4:$V$4005>0),ROW(Calculations!$U$4:$U$4005)-ROW(INDEX(Calculations!$U$4:$U$4005,1,1))+1),ROUNDUP((ROW($A16)-ROW(startCell))/3,0)),1),""),"")} | T16: {=IFERROR( IF(LEN(T$10)>0, INDEX(Calculations!$G$4:$G$4005,SMALL(IF((Calculations!$U$4:$U$4005=T$10)*(Calculations!$V$4:$V$4005>0),ROW(Calculations!$U$4:$U$4005)-ROW(INDEX(Calculations!$U$4:$U$4005,1,1))+1),ROUNDUP((ROW($A16)-ROW(startCell))/3,0)),1),""),"")} | V16: {=IFERROR( IF(LEN(V$10)>0, INDEX(Calculations!$G$4:$G$4005,SMALL(IF((Calculations!$U$4:$U$4005=V$10)*(Calculations!$V$4:$V$4005>0),ROW(Calculations!$U$4:$U$4005)-ROW(INDEX(Calculations!$U$4:$U$4005,1,1))+1),ROUNDUP((ROW($A16)-ROW(startCell))/3,0)),1),""),"")}
D17: {=IFERROR(IF(LEN(D$10)>0, INDEX(Calculations!$B$4:$B$4005,SMALL(IF((Calculations!$U$4:$U$4005=D$10)*(Calculations!$V$4:$V$4005>0),ROW(Calculations!$U$4:$U$4005)-ROW(INDEX(Calculations!$U$4:$U$4005,1,1))+1),ROUNDUP((ROW($A17)-ROW(startCell))/3,0)),1),""),"")} | F17: {=IFERROR(IF(LEN(F$10)>0, INDEX(Calculations!$B$4:$B$4005,SMALL(IF((Calculations!$U$4:$U$4005=F$10)*(Calculations!$V$4:$V$4005>0),ROW(Calculations!$U$4:$U$4005)-ROW(INDEX(Calculations!$U$4:$U$4005,1,1))+1),ROUNDUP((ROW($A17)-ROW(startCell))/3,0)),1),""),"")} | H17: {=IFERROR(IF(LEN(H$10)>0, INDEX(Calculations!$B$4:$B$4005,SMALL(IF((Calculations!$U$4:$U$4005=H$10)*(Calculations!$V$4:$V$4005>0),ROW(Calculations!$U$4:$U$4005)-ROW(INDEX(Calculations!$U$4:$U$4005,1,1))+1),ROUNDUP((ROW($A17)-ROW(startCell))/3,0)),1),""),"")} | J17: {=IFERROR(IF(LEN(J$10)>0, INDEX(Calculations!$B$4:$B$4005,SMALL(IF((Calculations!$U$4:$U$4005=J$10)*(Calculations!$V$4:$V$4005>0),ROW(Calculations!$U$4:$U$4005)-ROW(INDEX(Calculations!$U$4:$U$4005,1,1))+1),ROUNDUP((ROW($A17)-ROW(startCell))/3,0)),1),""),"")} | L17: {=IFERROR(IF(LEN(L$10)>0, INDEX(Calculations!$B$4:$B$4005,SMALL(IF((Calculations!$U$4:$U$4005=L$10)*(Calculations!$V$4:$V$4005>0),ROW(Calculations!$U$4:$U$4005)-ROW(INDEX(Calculations!$U$4:$U$4005,1,1))+1),ROUNDUP((ROW($A17)-ROW(startCell))/3,0)),1),""),"")} | N17: {=IFERROR(IF(LEN(N$10)>0, INDEX(Calculations!$B$4:$B$4005,SMALL(IF((Calculations!$U$4:$U$4005=N$10)*(Calculations!$V$4:$V$4005>0),ROW(Calculations!$U$4:$U$4005)-ROW(INDEX(Calculations!$U$4:$U$4005,1,1))+1),ROUNDUP((ROW($A17)-ROW(startCell))/3,0)),1),""),"")} | P17: {=IFERROR(IF(LEN(P$10)>0, INDEX(Calculations!$B$4:$B$4005,SMALL(IF((Calculations!$U$4:$U$4005=P$10)*(Calculations!$V$4:$V$4005>0),ROW(Calculations!$U$4:$U$4005)-ROW(INDEX(Calculations!$U$4:$U$4005,1,1))+1),ROUNDUP((ROW($A17)-ROW(startCell))/3,0)),1),""),"")} | R17: {=IFERROR(IF(LEN(R$10)>0, INDEX(Calculations!$B$4:$B$4005,SMALL(IF((Calculations!$U$4:$U$4005=R$10)*(Calculations!$V$4:$V$4005>0),ROW(Calculations!$U$4:$U$4005)-ROW(INDEX(Calculations!$U$4:$U$4005,1,1))+1),ROUNDUP((ROW($A17)-ROW(startCell))/3,0)),1),""),"")} | T17: {=IFERROR(IF(LEN(T$10)>0, INDEX(Calculations!$B$4:$B$4005,SMALL(IF((Calculations!$U$4:$U$4005=T$10)*(Calculations!$V$4:$V$4005>0),ROW(Calculations!$U$4:$U$4005)-ROW(INDEX(Calculations!$U$4:$U$4005,1,1))+1),ROUNDUP((ROW($A17)-ROW(startCell))/3,0)),1),""),"")} | V17: {=IFERROR(IF(LEN(V$10)>0, INDEX(Calculations!$B$4:$B$4005,SMALL(IF((Calculations!$U$4:$U$4005=V$10)*(Calculations!$V$4:$V$4005>0),ROW(Calculations!$U$4:$U$4005)-ROW(INDEX(Calculations!$U$4:$U$4005,1,1))+1),ROUNDUP((ROW($A17)-ROW(startCell))/3,0)),1),""),"")}
D18: {=IFERROR( IF(LEN(D$10)>0, INDEX(Calculations!$D$4:$D$4005,SMALL(IF((Calculations!$U$4:$U$4005=D$10)*(Calculations!$V$4:$V$4005>0),ROW(Calculations!$U$4:$U$4005)-ROW(INDEX(Calculations!$U$4:$U$4005,1,1))+1),ROUNDUP((ROW($A18)-ROW(startCell))/3,0)),1),""),"")} | F18: {=IFERROR( IF(LEN(F$10)>0, INDEX(Calculations!$D$4:$D$4005,SMALL(IF((Calculations!$U$4:$U$4005=F$10)*(Calculations!$V$4:$V$4005>0),ROW(Calculations!$U$4:$U$4005)-ROW(INDEX(Calculations!$U$4:$U$4005,1,1))+1),ROUNDUP((ROW($A18)-ROW(startCell))/3,0)),1),""),"")} | H18: {=IFERROR( IF(LEN(H$10)>0, INDEX(Calculations!$D$4:$D$4005,SMALL(IF((Calculations!$U$4:$U$4005=H$10)*(Calculations!$V$4:$V$4005>0),ROW(Calculations!$U$4:$U$4005)-ROW(INDEX(Calculations!$U$4:$U$4005,1,1))+1),ROUNDUP((ROW($A18)-ROW(startCell))/3,0)),1),""),"")} | J18: {=IFERROR( IF(LEN(J$10)>0, INDEX(Calculations!$D$4:$D$4005,SMALL(IF((Calculations!$U$4:$U$4005=J$10)*(Calculations!$V$4:$V$4005>0),ROW(Calculations!$U$4:$U$4005)-ROW(INDEX(Calculations!$U$4:$U$4005,1,1))+1),ROUNDUP((ROW($A18)-ROW(startCell))/3,0)),1),""),"")} | L18: {=IFERROR( IF(LEN(L$10)>0, INDEX(Calculations!$D$4:$D$4005,SMALL(IF((Calculations!$U$4:$U$4005=L$10)*(Calculations!$V$4:$V$4005>0),ROW(Calculations!$U$4:$U$4005)-ROW(INDEX(Calculations!$U$4:$U$4005,1,1))+1),ROUNDUP((ROW($A18)-ROW(startCell))/3,0)),1),""),"")} | N18: {=IFERROR( IF(LEN(N$10)>0, INDEX(Calculations!$D$4:$D$4005,SMALL(IF((Calculations!$U$4:$U$4005=N$10)*(Calculations!$V$4:$V$4005>0),ROW(Calculations!$U$4:$U$4005)-ROW(INDEX(Calculations!$U$4:$U$4005,1,1))+1),ROUNDUP((ROW($A18)-ROW(startCell))/3,0)),1),""),"")} | P18: {=IFERROR( IF(LEN(P$10)>0, INDEX(Calculations!$D$4:$D$4005,SMALL(IF((Calculations!$U$4:$U$4005=P$10)*(Calculations!$V$4:$V$4005>0),ROW(Calculations!$U$4:$U$4005)-ROW(INDEX(Calculations!$U$4:$U$4005,1,1))+1),ROUNDUP((ROW($A18)-ROW(startCell))/3,0)),1),""),"")} | R18: {=IFERROR( IF(LEN(R$10)>0, INDEX(Calculations!$D$4:$D$4005,SMALL(IF((Calculations!$U$4:$U$4005=R$10)*(Calculations!$V$4:$V$4005>0),ROW(Calculations!$U$4:$U$4005)-ROW(INDEX(Calculations!$U$4:$U$4005,1,1))+1),ROUNDUP((ROW($A18)-ROW(startCell))/3,0)),1),""),"")} | T18: {=IFERROR( IF(LEN(T$10)>0, INDEX(Calculations!$D$4:$D$4005,SMALL(IF((Calculations!$U$4:$U$4005=T$10)*(Calculations!$V$4:$V$4005>0),ROW(Calculations!$U$4:$U$4005)-ROW(INDEX(Calculations!$U$4:$U$4005,1,1))+1),ROUNDUP((ROW($A18)-ROW(startCell))/3,0)),1),""),"")} | V18: {=IFERROR( IF(LEN(V$10)>0, INDEX(Calculations!$D$4:$D$4005,SMALL(IF((Calculations!$U$4:$U$4005=V$10)*(Calculations!$V$4:$V$4005>0),ROW(Calculations!$U$4:$U$4005)-ROW(INDEX(Calculations!$U$4:$U$4005,1,1))+1),ROUNDUP((ROW($A18)-ROW(startCell))/3,0)),1),""),"")}
D19: {=IFERROR( IF(LEN(D$10)>0, INDEX(Calculations!$G$4:$G$4005,SMALL(IF((Calculations!$U$4:$U$4005=D$10)*(Calculations!$V$4:$V$4005>0),ROW(Calculations!$U$4:$U$4005)-ROW(INDEX(Calculations!$U$4:$U$4005,1,1))+1),ROUNDUP((ROW($A19)-ROW(startCell))/3,0)),1),""),"")} | F19: {=IFERROR( IF(LEN(F$10)>0, INDEX(Calculations!$G$4:$G$4005,SMALL(IF((Calculations!$U$4:$U$4005=F$10)*(Calculations!$V$4:$V$4005>0),ROW(Calculations!$U$4:$U$4005)-ROW(INDEX(Calculations!$U$4:$U$4005,1,1))+1),ROUNDUP((ROW($A19)-ROW(startCell))/3,0)),1),""),"")} | H19: {=IFERROR( IF(LEN(H$10)>0, INDEX(Calculations!$G$4:$G$4005,SMALL(IF((Calculations!$U$4:$U$4005=H$10)*(Calculations!$V$4:$V$4005>0),ROW(Calculations!$U$4:$U$4005)-ROW(INDEX(Calculations!$U$4:$U$4005,1,1))+1),ROUNDUP((ROW($A19)-ROW(startCell))/3,0)),1),""),"")} | J19: {=IFERROR( IF(LEN(J$10)>0, INDEX(Calculations!$G$4:$G$4005,SMALL(IF((Calculations!$U$4:$U$4005=J$10)*(Calculations!$V$4:$V$4005>0),ROW(Calculations!$U$4:$U$4005)-ROW(INDEX(Calculations!$U$4:$U$4005,1,1))+1),ROUNDUP((ROW($A19)-ROW(startCell))/3,0)),1),""),"")} | L19: {=IFERROR( IF(LEN(L$10)>0, INDEX(Calculations!$G$4:$G$4005,SMALL(IF((Calculations!$U$4:$U$4005=L$10)*(Calculations!$V$4:$V$4005>0),ROW(Calculations!$U$4:$U$4005)-ROW(INDEX(Calculations!$U$4:$U$4005,1,1))+1),ROUNDUP((ROW($A19)-ROW(startCell))/3,0)),1),""),"")} | N19: {=IFERROR( IF(LEN(N$10)>0, INDEX(Calculations!$G$4:$G$4005,SMALL(IF((Calculations!$U$4:$U$4005=N$10)*(Calculations!$V$4:$V$4005>0),ROW(Calculations!$U$4:$U$4005)-ROW(INDEX(Calculations!$U$4:$U$4005,1,1))+1),ROUNDUP((ROW($A19)-ROW(startCell))/3,0)),1),""),"")} | P19: {=IFERROR( IF(LEN(P$10)>0, INDEX(Calculations!$G$4:$G$4005,SMALL(IF((Calculations!$U$4:$U$4005=P$10)*(Calculations!$V$4:$V$4005>0),ROW(Calculations!$U$4:$U$4005)-ROW(INDEX(Calculations!$U$4:$U$4005,1,1))+1),ROUNDUP((ROW($A19)-ROW(startCell))/3,0)),1),""),"")} | R19: {=IFERROR( IF(LEN(R$10)>0, INDEX(Calculations!$G$4:$G$4005,SMALL(IF((Calculations!$U$4:$U$4005=R$10)*(Calculations!$V$4:$V$4005>0),ROW(Calculations!$U$4:$U$4005)-ROW(INDEX(Calculations!$U$4:$U$4005,1,1))+1),ROUNDUP((ROW($A19)-ROW(startCell))/3,0)),1),""),"")} | T19: {=IFERROR( IF(LEN(T$10)>0, INDEX(Calculations!$G$4:$G$4005,SMALL(IF((Calculations!$U$4:$U$4005=T$10)*(Calculations!$V$4:$V$4005>0),ROW(Calculations!$U$4:$U$4005)-ROW(INDEX(Calculations!$U$4:$U$4005,1,1))+1),ROUNDUP((ROW($A19)-ROW(startCell))/3,0)),1),""),"")} | V19: {=IFERROR( IF(LEN(V$10)>0, INDEX(Calculations!$G$4:$G$4005,SMALL(IF((Calculations!$U$4:$U$4005=V$10)*(Calculations!$V$4:$V$4005>0),ROW(Calculations!$U$4:$U$4005)-ROW(INDEX(Calculations!$U$4:$U$4005,1,1))+1),ROUNDUP((ROW($A19)-ROW(startCell))/3,0)),1),""),"")}
D20: {=IFERROR(IF(LEN(D$10)>0, INDEX(Calculations!$B$4:$B$4005,SMALL(IF((Calculations!$U$4:$U$4005=D$10)*(Calculations!$V$4:$V$4005>0),ROW(Calculations!$U$4:$U$4005)-ROW(INDEX(Calculations!$U$4:$U$4005,1,1))+1),ROUNDUP((ROW($A20)-ROW(startCell))/3,0)),1),""),"")} | F20: {=IFERROR(IF(LEN(F$10)>0, INDEX(Calculations!$B$4:$B$4005,SMALL(IF((Calculations!$U$4:$U$4005=F$10)*(Calculations!$V$4:$V$4005>0),ROW(Calculations!$U$4:$U$4005)-ROW(INDEX(Calculations!$U$4:$U$4005,1,1))+1),ROUNDUP((ROW($A20)-ROW(startCell))/3,0)),1),""),"")} | H20: {=IFERROR(IF(LEN(H$10)>0, INDEX(Calculations!$B$4:$B$4005,SMALL(IF((Calculations!$U$4:$U$4005=H$10)*(Calculations!$V$4:$V$4005>0),ROW(Calculations!$U$4:$U$4005)-ROW(INDEX(Calculations!$U$4:$U$4005,1,1))+1),ROUNDUP((ROW($A20)-ROW(startCell))/3,0)),1),""),"")} | J20: {=IFERROR(IF(LEN(J$10)>0, INDEX(Calculations!$B$4:$B$4005,SMALL(IF((Calculations!$U$4:$U$4005=J$10)*(Calculations!$V$4:$V$4005>0),ROW(Calculations!$U$4:$U$4005)-ROW(INDEX(Calculations!$U$4:$U$4005,1,1))+1),ROUNDUP((ROW($A20)-ROW(startCell))/3,0)),1),""),"")} | L20: {=IFERROR(IF(LEN(L$10)>0, INDEX(Calculations!$B$4:$B$4005,SMALL(IF((Calculations!$U$4:$U$4005=L$10)*(Calculations!$V$4:$V$4005>0),ROW(Calculations!$U$4:$U$4005)-ROW(INDEX(Calculations!$U$4:$U$4005,1,1))+1),ROUNDUP((ROW($A20)-ROW(startCell))/3,0)),1),""),"")} | N20: {=IFERROR(IF(LEN(N$10)>0, INDEX(Calculations!$B$4:$B$4005,SMALL(IF((Calculations!$U$4:$U$4005=N$10)*(Calculations!$V$4:$V$4005>0),ROW(Calculations!$U$4:$U$4005)-ROW(INDEX(Calculations!$U$4:$U$4005,1,1))+1),ROUNDUP((ROW($A20)-ROW(startCell))/3,0)),1),""),"")} | P20: {=IFERROR(IF(LEN(P$10)>0, INDEX(Calculations!$B$4:$B$4005,SMALL(IF((Calculations!$U$4:$U$4005=P$10)*(Calculations!$V$4:$V$4005>0),ROW(Calculations!$U$4:$U$4005)-ROW(INDEX(Calculations!$U$4:$U$4005,1,1))+1),ROUNDUP((ROW($A20)-ROW(startCell))/3,0)),1),""),"")} | R20: {=IFERROR(IF(LEN(R$10)>0, INDEX(Calculations!$B$4:$B$4005,SMALL(IF((Calculations!$U$4:$U$4005=R$10)*(Calculations!$V$4:$V$4005>0),ROW(Calculations!$U$4:$U$4005)-ROW(INDEX(Calculations!$U$4:$U$4005,1,1))+1),ROUNDUP((ROW($A20)-ROW(startCell))/3,0)),1),""),"")} | T20: {=IFERROR(IF(LEN(T$10)>0, INDEX(Calculations!$B$4:$B$4005,SMALL(IF((Calculations!$U$4:$U$4005=T$10)*(Calculations!$V$4:$V$4005>0),ROW(Calculations!$U$4:$U$4005)-ROW(INDEX(Calculations!$U$4:$U$4005,1,1))+1),ROUNDUP((ROW($A20)-ROW(startCell))/3,0)),1),""),"")} | V20: {=IFERROR(IF(LEN(V$10)>0, INDEX(Calculations!$B$4:$B$4005,SMALL(IF((Calculations!$U$4:$U$4005=V$10)*(Calculations!$V$4:$V$4005>0),ROW(Calculations!$U$4:$U$4005)-ROW(INDEX(Calculations!$U$4:$U$4005,1,1))+1),ROUNDUP((ROW($A20)-ROW(startCell))/3,0)),1),""),"")}
D21: {=IFERROR( IF(LEN(D$10)>0, INDEX(Calculations!$D$4:$D$4005,SMALL(IF((Calculations!$U$4:$U$4005=D$10)*(Calculations!$V$4:$V$4005>0),ROW(Calculations!$U$4:$U$4005)-ROW(INDEX(Calculations!$U$4:$U$4005,1,1))+1),ROUNDUP((ROW($A21)-ROW(startCell))/3,0)),1),""),"")} | F21: {=IFERROR( IF(LEN(F$10)>0, INDEX(Calculations!$D$4:$D$4005,SMALL(IF((Calculations!$U$4:$U$4005=F$10)*(Calculations!$V$4:$V$4005>0),ROW(Calculations!$U$4:$U$4005)-ROW(INDEX(Calculations!$U$4:$U$4005,1,1))+1),ROUNDUP((ROW($A21)-ROW(startCell))/3,0)),1),""),"")} | H21: {=IFERROR( IF(LEN(H$10)>0, INDEX(Calculations!$D$4:$D$4005,SMALL(IF((Calculations!$U$4:$U$4005=H$10)*(Calculations!$V$4:$V$4005>0),ROW(Calculations!$U$4:$U$4005)-ROW(INDEX(Calculations!$U$4:$U$4005,1,1))+1),ROUNDUP((ROW($A21)-ROW(startCell))/3,0)),1),""),"")} | J21: {=IFERROR( IF(LEN(J$10)>0, INDEX(Calculations!$D$4:$D$4005,SMALL(IF((Calculations!$U$4:$U$4005=J$10)*(Calculations!$V$4:$V$4005>0),ROW(Calculations!$U$4:$U$4005)-ROW(INDEX(Calculations!$U$4:$U$4005,1,1))+1),ROUNDUP((ROW($A21)-ROW(startCell))/3,0)),1),""),"")} | L21: {=IFERROR( IF(LEN(L$10)>0, INDEX(Calculations!$D$4:$D$4005,SMALL(IF((Calculations!$U$4:$U$4005=L$10)*(Calculations!$V$4:$V$4005>0),ROW(Calculations!$U$4:$U$4005)-ROW(INDEX(Calculations!$U$4:$U$4005,1,1))+1),ROUNDUP((ROW($A21)-ROW(startCell))/3,0)),1),""),"")} | N21: {=IFERROR( IF(LEN(N$10)>0, INDEX(Calculations!$D$4:$D$4005,SMALL(IF((Calculations!$U$4:$U$4005=N$10)*(Calculations!$V$4:$V$4005>0),ROW(Calculations!$U$4:$U$4005)-ROW(INDEX(Calculations!$U$4:$U$4005,1,1))+1),ROUNDUP((ROW($A21)-ROW(startCell))/3,0)),1),""),"")} | P21: {=IFERROR( IF(LEN(P$10)>0, INDEX(Calculations!$D$4:$D$4005,SMALL(IF((Calculations!$U$4:$U$4005=P$10)*(Calculations!$V$4:$V$4005>0),ROW(Calculations!$U$4:$U$4005)-ROW(INDEX(Calculations!$U$4:$U$4005,1,1))+1),ROUNDUP((ROW($A21)-ROW(startCell))/3,0)),1),""),"")} | R21: {=IFERROR( IF(LEN(R$10)>0, INDEX(Calculations!$D$4:$D$4005,SMALL(IF((Calculations!$U$4:$U$4005=R$10)*(Calculations!$V$4:$V$4005>0),ROW(Calculations!$U$4:$U$4005)-ROW(INDEX(Calculations!$U$4:$U$4005,1,1))+1),ROUNDUP((ROW($A21)-ROW(startCell))/3,0)),1),""),"")} | T21: {=IFERROR( IF(LEN(T$10)>0, INDEX(Calculations!$D$4:$D$4005,SMALL(IF((Calculations!$U$4:$U$4005=T$10)*(Calculations!$V$4:$V$4005>0),ROW(Calculations!$U$4:$U$4005)-ROW(INDEX(Calculations!$U$4:$U$4005,1,1))+1),ROUNDUP((ROW($A21)-ROW(startCell))/3,0)),1),""),"")} | V21: {=IFERROR( IF(LEN(V$10)>0, INDEX(Calculations!$D$4:$D$4005,SMALL(IF((Calculations!$U$4:$U$4005=V$10)*(Calculations!$V$4:$V$4005>0),ROW(Calculations!$U$4:$U$4005)-ROW(INDEX(Calculations!$U$4:$U$4005,1,1))+1),ROUNDUP((ROW($A21)-ROW(startCell))/3,0)),1),""),"")}
D22: {=IFERROR( IF(LEN(D$10)>0, INDEX(Calculations!$G$4:$G$4005,SMALL(IF((Calculations!$U$4:$U$4005=D$10)*(Calculations!$V$4:$V$4005>0),ROW(Calculations!$U$4:$U$4005)-ROW(INDEX(Calculations!$U$4:$U$4005,1,1))+1),ROUNDUP((ROW($A22)-ROW(startCell))/3,0)),1),""),"")} | F22: {=IFERROR( IF(LEN(F$10)>0, INDEX(Calculations!$G$4:$G$4005,SMALL(IF((Calculations!$U$4:$U$4005=F$10)*(Calculations!$V$4:$V$4005>0),ROW(Calculations!$U$4:$U$4005)-ROW(INDEX(Calculations!$U$4:$U$4005,1,1))+1),ROUNDUP((ROW($A22)-ROW(startCell))/3,0)),1),""),"")} | H22: {=IFERROR( IF(LEN(H$10)>0, INDEX(Calculations!$G$4:$G$4005,SMALL(IF((Calculations!$U$4:$U$4005=H$10)*(Calculations!$V$4:$V$4005>0),ROW(Calculations!$U$4:$U$4005)-ROW(INDEX(Calculations!$U$4:$U$4005,1,1))+1),ROUNDUP((ROW($A22)-ROW(startCell))/3,0)),1),""),"")} | J22: {=IFERROR( IF(LEN(J$10)>0, INDEX(Calculations!$G$4:$G$4005,SMALL(IF((Calculations!$U$4:$U$4005=J$10)*(Calculations!$V$4:$V$4005>0),ROW(Calculations!$U$4:$U$4005)-ROW(INDEX(Calculations!$U$4:$U$4005,1,1))+1),ROUNDUP((ROW($A22)-ROW(startCell))/3,0)),1),""),"")} | L22: {=IFERROR( IF(LEN(L$10)>0, INDEX(Calculations!$G$4:$G$4005,SMALL(IF((Calculations!$U$4:$U$4005=L$10)*(Calculations!$V$4:$V$4005>0),ROW(Calculations!$U$4:$U$4005)-ROW(INDEX(Calculations!$U$4:$U$4005,1,1))+1),ROUNDUP((ROW($A22)-ROW(startCell))/3,0)),1),""),"")} | N22: {=IFERROR( IF(LEN(N$10)>0, INDEX(Calculations!$G$4:$G$4005,SMALL(IF((Calculations!$U$4:$U$4005=N$10)*(Calculations!$V$4:$V$4005>0),ROW(Calculations!$U$4:$U$4005)-ROW(INDEX(Calculations!$U$4:$U$4005,1,1))+1),ROUNDUP((ROW($A22)-ROW(startCell))/3,0)),1),""),"")} | P22: {=IFERROR( IF(LEN(P$10)>0, INDEX(Calculations!$G$4:$G$4005,SMALL(IF((Calculations!$U$4:$U$4005=P$10)*(Calculations!$V$4:$V$4005>0),ROW(Calculations!$U$4:$U$4005)-ROW(INDEX(Calculations!$U$4:$U$4005,1,1))+1),ROUNDUP((ROW($A22)-ROW(startCell))/3,0)),1),""),"")} | R22: {=IFERROR( IF(LEN(R$10)>0, INDEX(Calculations!$G$4:$G$4005,SMALL(IF((Calculations!$U$4:$U$4005=R$10)*(Calculations!$V$4:$V$4005>0),ROW(Calculations!$U$4:$U$4005)-ROW(INDEX(Calculations!$U$4:$U$4005,1,1))+1),ROUNDUP((ROW($A22)-ROW(startCell))/3,0)),1),""),"")} | T22: {=IFERROR( IF(LEN(T$10)>0, INDEX(Calculations!$G$4:$G$4005,SMALL(IF((Calculations!$U$4:$U$4005=T$10)*(Calculations!$V$4:$V$4005>0),ROW(Calculations!$U$4:$U$4005)-ROW(INDEX(Calculations!$U$4:$U$4005,1,1))+1),ROUNDUP((ROW($A22)-ROW(startCell))/3,0)),1),""),"")} | V22: {=IFERROR( IF(LEN(V$10)>0, INDEX(Calculations!$G$4:$G$4005,SMALL(IF((Calculations!$U$4:$U$4005=V$10)*(Calculations!$V$4:$V$4005>0),ROW(Calculations!$U$4:$U$4005)-ROW(INDEX(Calculations!$U$4:$U$4005,1,1))+1),ROUNDUP((ROW($A22)-ROW(startCell))/3,0)),1),""),"")}
D23: {=IFERROR(IF(LEN(D$10)>0, INDEX(Calculations!$B$4:$B$4005,SMALL(IF((Calculations!$U$4:$U$4005=D$10)*(Calculations!$V$4:$V$4005>0),ROW(Calculations!$U$4:$U$4005)-ROW(INDEX(Calculations!$U$4:$U$4005,1,1))+1),ROUNDUP((ROW($A23)-ROW(startCell))/3,0)),1),""),"")} | F23: {=IFERROR(IF(LEN(F$10)>0, INDEX(Calculations!$B$4:$B$4005,SMALL(IF((Calculations!$U$4:$U$4005=F$10)*(Calculations!$V$4:$V$4005>0),ROW(Calculations!$U$4:$U$4005)-ROW(INDEX(Calculations!$U$4:$U$4005,1,1))+1),ROUNDUP((ROW($A23)-ROW(startCell))/3,0)),1),""),"")} | H23: {=IFERROR(IF(LEN(H$10)>0, INDEX(Calculations!$B$4:$B$4005,SMALL(IF((Calculations!$U$4:$U$4005=H$10)*(Calculations!$V$4:$V$4005>0),ROW(Calculations!$U$4:$U$4005)-ROW(INDEX(Calculations!$U$4:$U$4005,1,1))+1),ROUNDUP((ROW($A23)-ROW(startCell))/3,0)),1),""),"")} | J23: {=IFERROR(IF(LEN(J$10)>0, INDEX(Calculations!$B$4:$B$4005,SMALL(IF((Calculations!$U$4:$U$4005=J$10)*(Calculations!$V$4:$V$4005>0),ROW(Calculations!$U$4:$U$4005)-ROW(INDEX(Calculations!$U$4:$U$4005,1,1))+1),ROUNDUP((ROW($A23)-ROW(startCell))/3,0)),1),""),"")} | L23: {=IFERROR(IF(LEN(L$10)>0, INDEX(Calculations!$B$4:$B$4005,SMALL(IF((Calculations!$U$4:$U$4005=L$10)*(Calculations!$V$4:$V$4005>0),ROW(Calculations!$U$4:$U$4005)-ROW(INDEX(Calculations!$U$4:$U$4005,1,1))+1),ROUNDUP((ROW($A23)-ROW(startCell))/3,0)),1),""),"")} | N23: {=IFERROR(IF(LEN(N$10)>0, INDEX(Calculations!$B$4:$B$4005,SMALL(IF((Calculations!$U$4:$U$4005=N$10)*(Calculations!$V$4:$V$4005>0),ROW(Calculations!$U$4:$U$4005)-ROW(INDEX(Calculations!$U$4:$U$4005,1,1))+1),ROUNDUP((ROW($A23)-ROW(startCell))/3,0)),1),""),"")} | P23: {=IFERROR(IF(LEN(P$10)>0, INDEX(Calculations!$B$4:$B$4005,SMALL(IF((Calculations!$U$4:$U$4005=P$10)*(Calculations!$V$4:$V$4005>0),ROW(Calculations!$U$4:$U$4005)-ROW(INDEX(Calculations!$U$4:$U$4005,1,1))+1),ROUNDUP((ROW($A23)-ROW(startCell))/3,0)),1),""),"")} | R23: {=IFERROR(IF(LEN(R$10)>0, INDEX(Calculations!$B$4:$B$4005,SMALL(IF((Calculations!$U$4:$U$4005=R$10)*(Calculations!$V$4:$V$4005>0),ROW(Calculations!$U$4:$U$4005)-ROW(INDEX(Calculations!$U$4:$U$4005,1,1))+1),ROUNDUP((ROW($A23)-ROW(startCell))/3,0)),1),""),"")} | T23: {=IFERROR(IF(LEN(T$10)>0, INDEX(Calculations!$B$4:$B$4005,SMALL(IF((Calculations!$U$4:$U$4005=T$10)*(Calculations!$V$4:$V$4005>0),ROW(Calculations!$U$4:$U$4005)-ROW(INDEX(Calculations!$U$4:$U$4005,1,1))+1),ROUNDUP((ROW($A23)-ROW(startCell))/3,0)),1),""),"")} | V23: {=IFERROR(IF(LEN(V$10)>0, INDEX(Calculations!$B$4:$B$4005,SMALL(IF((Calculations!$U$4:$U$4005=V$10)*(Calculations!$V$4:$V$4005>0),ROW(Calculations!$U$4:$U$4005)-ROW(INDEX(Calculations!$U$4:$U$4005,1,1))+1),ROUNDUP((ROW($A23)-ROW(startCell))/3,0)),1),""),"")}
D24: {=IFERROR( IF(LEN(D$10)>0, INDEX(Calculations!$D$4:$D$4005,SMALL(IF((Calculations!$U$4:$U$4005=D$10)*(Calculations!$V$4:$V$4005>0),ROW(Calculations!$U$4:$U$4005)-ROW(INDEX(Calculations!$U$4:$U$4005,1,1))+1),ROUNDUP((ROW($A24)-ROW(startCell))/3,0)),1),""),"")} | F24: {=IFERROR( IF(LEN(F$10)>0, INDEX(Calculations!$D$4:$D$4005,SMALL(IF((Calculations!$U$4:$U$4005=F$10)*(Calculations!$V$4:$V$4005>0),ROW(Calculations!$U$4:$U$4005)-ROW(INDEX(Calculations!$U$4:$U$4005,1,1))+1),ROUNDUP((ROW($A24)-ROW(startCell))/3,0)),1),""),"")} | H24: {=IFERROR( IF(LEN(H$10)>0, INDEX(Calculations!$D$4:$D$4005,SMALL(IF((Calculations!$U$4:$U$4005=H$10)*(Calculations!$V$4:$V$4005>0),ROW(Calculations!$U$4:$U$4005)-ROW(INDEX(Calculations!$U$4:$U$4005,1,1))+1),ROUNDUP((ROW($A24)-ROW(startCell))/3,0)),1),""),"")} | J24: {=IFERROR( IF(LEN(J$10)>0, INDEX(Calculations!$D$4:$D$4005,SMALL(IF((Calculations!$U$4:$U$4005=J$10)*(Calculations!$V$4:$V$4005>0),ROW(Calculations!$U$4:$U$4005)-ROW(INDEX(Calculations!$U$4:$U$4005,1,1))+1),ROUNDUP((ROW($A24)-ROW(startCell))/3,0)),1),""),"")} | L24: {=IFERROR( IF(LEN(L$10)>0, INDEX(Calculations!$D$4:$D$4005,SMALL(IF((Calculations!$U$4:$U$4005=L$10)*(Calculations!$V$4:$V$4005>0),ROW(Calculations!$U$4:$U$4005)-ROW(INDEX(Calculations!$U$4:$U$4005,1,1))+1),ROUNDUP((ROW($A24)-ROW(startCell))/3,0)),1),""),"")} | N24: {=IFERROR( IF(LEN(N$10)>0, INDEX(Calculations!$D$4:$D$4005,SMALL(IF((Calculations!$U$4:$U$4005=N$10)*(Calculations!$V$4:$V$4005>0),ROW(Calculations!$U$4:$U$4005)-ROW(INDEX(Calculations!$U$4:$U$4005,1,1))+1),ROUNDUP((ROW($A24)-ROW(startCell))/3,0)),1),""),"")} | P24: {=IFERROR( IF(LEN(P$10)>0, INDEX(Calculations!$D$4:$D$4005,SMALL(IF((Calculations!$U$4:$U$4005=P$10)*(Calculations!$V$4:$V$4005>0),ROW(Calculations!$U$4:$U$4005)-ROW(INDEX(Calculations!$U$4:$U$4005,1,1))+1),ROUNDUP((ROW($A24)-ROW(startCell))/3,0)),1),""),"")} | R24: {=IFERROR( IF(LEN(R$10)>0, INDEX(Calculations!$D$4:$D$4005,SMALL(IF((Calculations!$U$4:$U$4005=R$10)*(Calculations!$V$4:$V$4005>0),ROW(Calculations!$U$4:$U$4005)-ROW(INDEX(Calculations!$U$4:$U$4005,1,1))+1),ROUNDUP((ROW($A24)-ROW(startCell))/3,0)),1),""),"")} | T24: {=IFERROR( IF(LEN(T$10)>0, INDEX(Calculations!$D$4:$D$4005,SMALL(IF((Calculations!$U$4:$U$4005=T$10)*(Calculations!$V$4:$V$4005>0),ROW(Calculations!$U$4:$U$4005)-ROW(INDEX(Calculations!$U$4:$U$4005,1,1))+1),ROUNDUP((ROW($A24)-ROW(startCell))/3,0)),1),""),"")} | V24: {=IFERROR( IF(LEN(V$10)>0, INDEX(Calculations!$D$4:$D$4005,SMALL(IF((Calculations!$U$4:$U$4005=V$10)*(Calculations!$V$4:$V$4005>0),ROW(Calculations!$U$4:$U$4005)-ROW(INDEX(Calculations!$U$4:$U$4005,1,1))+1),ROUNDUP((ROW($A24)-ROW(startCell))/3,0)),1),""),"")}
D25: {=IFERROR( IF(LEN(D$10)>0, INDEX(Calculations!$G$4:$G$4005,SMALL(IF((Calculations!$U$4:$U$4005=D$10)*(Calculations!$V$4:$V$4005>0),ROW(Calculations!$U$4:$U$4005)-ROW(INDEX(Calculations!$U$4:$U$4005,1,1))+1),ROUNDUP((ROW($A25)-ROW(startCell))/3,0)),1),""),"")} | F25: {=IFERROR( IF(LEN(F$10)>0, INDEX(Calculations!$G$4:$G$4005,SMALL(IF((Calculations!$U$4:$U$4005=F$10)*(Calculations!$V$4:$V$4005>0),ROW(Calculations!$U$4:$U$4005)-ROW(INDEX(Calculations!$U$4:$U$4005,1,1))+1),ROUNDUP((ROW($A25)-ROW(startCell))/3,0)),1),""),"")} | H25: {=IFERROR( IF(LEN(H$10)>0, INDEX(Calculations!$G$4:$G$4005,SMALL(IF((Calculations!$U$4:$U$4005=H$10)*(Calculations!$V$4:$V$4005>0),ROW(Calculations!$U$4:$U$4005)-ROW(INDEX(Calculations!$U$4:$U$4005,1,1))+1),ROUNDUP((ROW($A25)-ROW(startCell))/3,0)),1),""),"")} | J25: {=IFERROR( IF(LEN(J$10)>0, INDEX(Calculations!$G$4:$G$4005,SMALL(IF((Calculations!$U$4:$U$4005=J$10)*(Calculations!$V$4:$V$4005>0),ROW(Calculations!$U$4:$U$4005)-ROW(INDEX(Calculations!$U$4:$U$4005,1,1))+1),ROUNDUP((ROW($A25)-ROW(startCell))/3,0)),1),""),"")} | L25: {=IFERROR( IF(LEN(L$10)>0, INDEX(Calculations!$G$4:$G$4005,SMALL(IF((Calculations!$U$4:$U$4005=L$10)*(Calculations!$V$4:$V$4005>0),ROW(Calculations!$U$4:$U$4005)-ROW(INDEX(Calculations!$U$4:$U$4005,1,1))+1),ROUNDUP((ROW($A25)-ROW(startCell))/3,0)),1),""),"")} | N25: {=IFERROR( IF(LEN(N$10)>0, INDEX(Calculations!$G$4:$G$4005,SMALL(IF((Calculations!$U$4:$U$4005=N$10)*(Calculations!$V$4:$V$4005>0),ROW(Calculations!$U$4:$U$4005)-ROW(INDEX(Calculations!$U$4:$U$4005,1,1))+1),ROUNDUP((ROW($A25)-ROW(startCell))/3,0)),1),""),"")} | P25: {=IFERROR( IF(LEN(P$10)>0, INDEX(Calculations!$G$4:$G$4005,SMALL(IF((Calculations!$U$4:$U$4005=P$10)*(Calculations!$V$4:$V$4005>0),ROW(Calculations!$U$4:$U$4005)-ROW(INDEX(Calculations!$U$4:$U$4005,1,1))+1),ROUNDUP((ROW($A25)-ROW(startCell))/3,0)),1),""),"")} | R25: {=IFERROR( IF(LEN(R$10)>0, INDEX(Calculations!$G$4:$G$4005,SMALL(IF((Calculations!$U$4:$U$4005=R$10)*(Calculations!$V$4:$V$4005>0),ROW(Calculations!$U$4:$U$4005)-ROW(INDEX(Calculations!$U$4:$U$4005,1,1))+1),ROUNDUP((ROW($A25)-ROW(startCell))/3,0)),1),""),"")} | T25: {=IFERROR( IF(LEN(T$10)>0, INDEX(Calculations!$G$4:$G$4005,SMALL(IF((Calculations!$U$4:$U$4005=T$10)*(Calculations!$V$4:$V$4005>0),ROW(Calculations!$U$4:$U$4005)-ROW(INDEX(Calculations!$U$4:$U$4005,1,1))+1),ROUNDUP((ROW($A25)-ROW(startCell))/3,0)),1),""),"")} | V25: {=IFERROR( IF(LEN(V$10)>0, INDEX(Calculations!$G$4:$G$4005,SMALL(IF((Calculations!$U$4:$U$4005=V$10)*(Calculations!$V$4:$V$4005>0),ROW(Calculations!$U$4:$U$4005)-ROW(INDEX(Calculations!$U$4:$U$4005,1,1))+1),ROUNDUP((ROW($A25)-ROW(startCell))/3,0)),1),""),"")}
D26: {=IFERROR(IF(LEN(D$10)>0, INDEX(Calculations!$B$4:$B$4005,SMALL(IF((Calculations!$U$4:$U$4005=D$10)*(Calculations!$V$4:$V$4005>0),ROW(Calculations!$U$4:$U$4005)-ROW(INDEX(Calculations!$U$4:$U$4005,1,1))+1),ROUNDUP((ROW($A26)-ROW(startCell))/3,0)),1),""),"")} | F26: {=IFERROR(IF(LEN(F$10)>0, INDEX(Calculations!$B$4:$B$4005,SMALL(IF((Calculations!$U$4:$U$4005=F$10)*(Calculations!$V$4:$V$4005>0),ROW(Calculations!$U$4:$U$4005)-ROW(INDEX(Calculations!$U$4:$U$4005,1,1))+1),ROUNDUP((ROW($A26)-ROW(startCell))/3,0)),1),""),"")} | H26: {=IFERROR(IF(LEN(H$10)>0, INDEX(Calculations!$B$4:$B$4005,SMALL(IF((Calculations!$U$4:$U$4005=H$10)*(Calculations!$V$4:$V$4005>0),ROW(Calculations!$U$4:$U$4005)-ROW(INDEX(Calculations!$U$4:$U$4005,1,1))+1),ROUNDUP((ROW($A26)-ROW(startCell))/3,0)),1),""),"")} | J26: {=IFERROR(IF(LEN(J$10)>0, INDEX(Calculations!$B$4:$B$4005,SMALL(IF((Calculations!$U$4:$U$4005=J$10)*(Calculations!$V$4:$V$4005>0),ROW(Calculations!$U$4:$U$4005)-ROW(INDEX(Calculations!$U$4:$U$4005,1,1))+1),ROUNDUP((ROW($A26)-ROW(startCell))/3,0)),1),""),"")} | L26: {=IFERROR(IF(LEN(L$10)>0, INDEX(Calculations!$B$4:$B$4005,SMALL(IF((Calculations!$U$4:$U$4005=L$10)*(Calculations!$V$4:$V$4005>0),ROW(Calculations!$U$4:$U$4005)-ROW(INDEX(Calculations!$U$4:$U$4005,1,1))+1),ROUNDUP((ROW($A26)-ROW(startCell))/3,0)),1),""),"")} | N26: {=IFERROR(IF(LEN(N$10)>0, INDEX(Calculations!$B$4:$B$4005,SMALL(IF((Calculations!$U$4:$U$4005=N$10)*(Calculations!$V$4:$V$4005>0),ROW(Calculations!$U$4:$U$4005)-ROW(INDEX(Calculations!$U$4:$U$4005,1,1))+1),ROUNDUP((ROW($A26)-ROW(startCell))/3,0)),1),""),"")} | P26: {=IFERROR(IF(LEN(P$10)>0, INDEX(Calculations!$B$4:$B$4005,SMALL(IF((Calculations!$U$4:$U$4005=P$10)*(Calculations!$V$4:$V$4005>0),ROW(Calculations!$U$4:$U$4005)-ROW(INDEX(Calculations!$U$4:$U$4005,1,1))+1),ROUNDUP((ROW($A26)-ROW(startCell))/3,0)),1),""),"")} | R26: {=IFERROR(IF(LEN(R$10)>0, INDEX(Calculations!$B$4:$B$4005,SMALL(IF((Calculations!$U$4:$U$4005=R$10)*(Calculations!$V$4:$V$4005>0),ROW(Calculations!$U$4:$U$4005)-ROW(INDEX(Calculations!$U$4:$U$4005,1,1))+1),ROUNDUP((ROW($A26)-ROW(startCell))/3,0)),1),""),"")} | T26: {=IFERROR(IF(LEN(T$10)>0, INDEX(Calculations!$B$4:$B$4005,SMALL(IF((Calculations!$U$4:$U$4005=T$10)*(Calculations!$V$4:$V$4005>0),ROW(Calculations!$U$4:$U$4005)-ROW(INDEX(Calculations!$U$4:$U$4005,1,1))+1),ROUNDUP((ROW($A26)-ROW(startCell))/3,0)),1),""),"")} | V26: {=IFERROR(IF(LEN(V$10)>0, INDEX(Calculations!$B$4:$B$4005,SMALL(IF((Calculations!$U$4:$U$4005=V$10)*(Calculations!$V$4:$V$4005>0),ROW(Calculations!$U$4:$U$4005)-ROW(INDEX(Calculations!$U$4:$U$4005,1,1))+1),ROUNDUP((ROW($A26)-ROW(startCell))/3,0)),1),""),"")}
D27: {=IFERROR( IF(LEN(D$10)>0, INDEX(Calculations!$D$4:$D$4005,SMALL(IF((Calculations!$U$4:$U$4005=D$10)*(Calculations!$V$4:$V$4005>0),ROW(Calculations!$U$4:$U$4005)-ROW(INDEX(Calculations!$U$4:$U$4005,1,1))+1),ROUNDUP((ROW($A27)-ROW(startCell))/3,0)),1),""),"")} | F27: {=IFERROR( IF(LEN(F$10)>0, INDEX(Calculations!$D$4:$D$4005,SMALL(IF((Calculations!$U$4:$U$4005=F$10)*(Calculations!$V$4:$V$4005>0),ROW(Calculations!$U$4:$U$4005)-ROW(INDEX(Calculations!$U$4:$U$4005,1,1))+1),ROUNDUP((ROW($A27)-ROW(startCell))/3,0)),1),""),"")} | H27: {=IFERROR( IF(LEN(H$10)>0, INDEX(Calculations!$D$4:$D$4005,SMALL(IF((Calculations!$U$4:$U$4005=H$10)*(Calculations!$V$4:$V$4005>0),ROW(Calculations!$U$4:$U$4005)-ROW(INDEX(Calculations!$U$4:$U$4005,1,1))+1),ROUNDUP((ROW($A27)-ROW(startCell))/3,0)),1),""),"")} | J27: {=IFERROR( IF(LEN(J$10)>0, INDEX(Calculations!$D$4:$D$4005,SMALL(IF((Calculations!$U$4:$U$4005=J$10)*(Calculations!$V$4:$V$4005>0),ROW(Calculations!$U$4:$U$4005)-ROW(INDEX(Calculations!$U$4:$U$4005,1,1))+1),ROUNDUP((ROW($A27)-ROW(startCell))/3,0)),1),""),"")} | L27: {=IFERROR( IF(LEN(L$10)>0, INDEX(Calculations!$D$4:$D$4005,SMALL(IF((Calculations!$U$4:$U$4005=L$10)*(Calculations!$V$4:$V$4005>0),ROW(Calculations!$U$4:$U$4005)-ROW(INDEX(Calculations!$U$4:$U$4005,1,1))+1),ROUNDUP((ROW($A27)-ROW(startCell))/3,0)),1),""),"")} | N27: {=IFERROR( IF(LEN(N$10)>0, INDEX(Calculations!$D$4:$D$4005,SMALL(IF((Calculations!$U$4:$U$4005=N$10)*(Calculations!$V$4:$V$4005>0),ROW(Calculations!$U$4:$U$4005)-ROW(INDEX(Calculations!$U$4:$U$4005,1,1))+1),ROUNDUP((ROW($A27)-ROW(startCell))/3,0)),1),""),"")} | P27: {=IFERROR( IF(LEN(P$10)>0, INDEX(Calculations!$D$4:$D$4005,SMALL(IF((Calculations!$U$4:$U$4005=P$10)*(Calculations!$V$4:$V$4005>0),ROW(Calculations!$U$4:$U$4005)-ROW(INDEX(Calculations!$U$4:$U$4005,1,1))+1),ROUNDUP((ROW($A27)-ROW(startCell))/3,0)),1),""),"")} | R27: {=IFERROR( IF(LEN(R$10)>0, INDEX(Calculations!$D$4:$D$4005,SMALL(IF((Calculations!$U$4:$U$4005=R$10)*(Calculations!$V$4:$V$4005>0),ROW(Calculations!$U$4:$U$4005)-ROW(INDEX(Calculations!$U$4:$U$4005,1,1))+1),ROUNDUP((ROW($A27)-ROW(startCell))/3,0)),1),""),"")} | T27: {=IFERROR( IF(LEN(T$10)>0, INDEX(Calculations!$D$4:$D$4005,SMALL(IF((Calculations!$U$4:$U$4005=T$10)*(Calculations!$V$4:$V$4005>0),ROW(Calculations!$U$4:$U$4005)-ROW(INDEX(Calculations!$U$4:$U$4005,1,1))+1),ROUNDUP((ROW($A27)-ROW(startCell))/3,0)),1),""),"")} | V27: {=IFERROR( IF(LEN(V$10)>0, INDEX(Calculations!$D$4:$D$4005,SMALL(IF((Calculations!$U$4:$U$4005=V$10)*(Calculations!$V$4:$V$4005>0),ROW(Calculations!$U$4:$U$4005)-ROW(INDEX(Calculations!$U$4:$U$4005,1,1))+1),ROUNDUP((ROW($A27)-ROW(startCell))/3,0)),1),""),"")}
D28: {=IFERROR( IF(LEN(D$10)>0, INDEX(Calculations!$G$4:$G$4005,SMALL(IF((Calculations!$U$4:$U$4005=D$10)*(Calculations!$V$4:$V$4005>0),ROW(Calculations!$U$4:$U$4005)-ROW(INDEX(Calculations!$U$4:$U$4005,1,1))+1),ROUNDUP((ROW($A28)-ROW(startCell))/3,0)),1),""),"")} | F28: {=IFERROR( IF(LEN(F$10)>0, INDEX(Calculations!$G$4:$G$4005,SMALL(IF((Calculations!$U$4:$U$4005=F$10)*(Calculations!$V$4:$V$4005>0),ROW(Calculations!$U$4:$U$4005)-ROW(INDEX(Calculations!$U$4:$U$4005,1,1))+1),ROUNDUP((ROW($A28)-ROW(startCell))/3,0)),1),""),"")} | H28: {=IFERROR( IF(LEN(H$10)>0, INDEX(Calculations!$G$4:$G$4005,SMALL(IF((Calculations!$U$4:$U$4005=H$10)*(Calculations!$V$4:$V$4005>0),ROW(Calculations!$U$4:$U$4005)-ROW(INDEX(Calculations!$U$4:$U$4005,1,1))+1),ROUNDUP((ROW($A28)-ROW(startCell))/3,0)),1),""),"")} | J28: {=IFERROR( IF(LEN(J$10)>0, INDEX(Calculations!$G$4:$G$4005,SMALL(IF((Calculations!$U$4:$U$4005=J$10)*(Calculations!$V$4:$V$4005>0),ROW(Calculations!$U$4:$U$4005)-ROW(INDEX(Calculations!$U$4:$U$4005,1,1))+1),ROUNDUP((ROW($A28)-ROW(startCell))/3,0)),1),""),"")} | L28: {=IFERROR( IF(LEN(L$10)>0, INDEX(Calculations!$G$4:$G$4005,SMALL(IF((Calculations!$U$4:$U$4005=L$10)*(Calculations!$V$4:$V$4005>0),ROW(Calculations!$U$4:$U$4005)-ROW(INDEX(Calculations!$U$4:$U$4005,1,1))+1),ROUNDUP((ROW($A28)-ROW(startCell))/3,0)),1),""),"")} | N28: {=IFERROR( IF(LEN(N$10)>0, INDEX(Calculations!$G$4:$G$4005,SMALL(IF((Calculations!$U$4:$U$4005=N$10)*(Calculations!$V$4:$V$4005>0),ROW(Calculations!$U$4:$U$4005)-ROW(INDEX(Calculations!$U$4:$U$4005,1,1))+1),ROUNDUP((ROW($A28)-ROW(startCell))/3,0)),1),""),"")} | P28: {=IFERROR( IF(LEN(P$10)>0, INDEX(Calculations!$G$4:$G$4005,SMALL(IF((Calculations!$U$4:$U$4005=P$10)*(Calculations!$V$4:$V$4005>0),ROW(Calculations!$U$4:$U$4005)-ROW(INDEX(Calculations!$U$4:$U$4005,1,1))+1),ROUNDUP((ROW($A28)-ROW(startCell))/3,0)),1),""),"")} | R28: {=IFERROR( IF(LEN(R$10)>0, INDEX(Calculations!$G$4:$G$4005,SMALL(IF((Calculations!$U$4:$U$4005=R$10)*(Calculations!$V$4:$V$4005>0),ROW(Calculations!$U$4:$U$4005)-ROW(INDEX(Calculations!$U$4:$U$4005,1,1))+1),ROUNDUP((ROW($A28)-ROW(startCell))/3,0)),1),""),"")} | T28: {=IFERROR( IF(LEN(T$10)>0, INDEX(Calculations!$G$4:$G$4005,SMALL(IF((Calculations!$U$4:$U$4005=T$10)*(Calculations!$V$4:$V$4005>0),ROW(Calculations!$U$4:$U$4005)-ROW(INDEX(Calculations!$U$4:$U$4005,1,1))+1),ROUNDUP((ROW($A28)-ROW(startCell))/3,0)),1),""),"")} | V28: {=IFERROR( IF(LEN(V$10)>0, INDEX(Calculations!$G$4:$G$4005,SMALL(IF((Calculations!$U$4:$U$4005=V$10)*(Calculations!$V$4:$V$4005>0),ROW(Calculations!$U$4:$U$4005)-ROW(INDEX(Calculations!$U$4:$U$4005,1,1))+1),ROUNDUP((ROW($A28)-ROW(startCell))/3,0)),1),""),"")}
D29: {=IFERROR(IF(LEN(D$10)>0, INDEX(Calculations!$B$4:$B$4005,SMALL(IF((Calculations!$U$4:$U$4005=D$10)*(Calculations!$V$4:$V$4005>0),ROW(Calculations!$U$4:$U$4005)-ROW(INDEX(Calculations!$U$4:$U$4005,1,1))+1),ROUNDUP((ROW($A29)-ROW(startCell))/3,0)),1),""),"")} | F29: {=IFERROR(IF(LEN(F$10)>0, INDEX(Calculations!$B$4:$B$4005,SMALL(IF((Calculations!$U$4:$U$4005=F$10)*(Calculations!$V$4:$V$4005>0),ROW(Calculations!$U$4:$U$4005)-ROW(INDEX(Calculations!$U$4:$U$4005,1,1))+1),ROUNDUP((ROW($A29)-ROW(startCell))/3,0)),1),""),"")} | H29: {=IFERROR(IF(LEN(H$10)>0, INDEX(Calculations!$B$4:$B$4005,SMALL(IF((Calculations!$U$4:$U$4005=H$10)*(Calculations!$V$4:$V$4005>0),ROW(Calculations!$U$4:$U$4005)-ROW(INDEX(Calculations!$U$4:$U$4005,1,1))+1),ROUNDUP((ROW($A29)-ROW(startCell))/3,0)),1),""),"")} | J29: {=IFERROR(IF(LEN(J$10)>0, INDEX(Calculations!$B$4:$B$4005,SMALL(IF((Calculations!$U$4:$U$4005=J$10)*(Calculations!$V$4:$V$4005>0),ROW(Calculations!$U$4:$U$4005)-ROW(INDEX(Calculations!$U$4:$U$4005,1,1))+1),ROUNDUP((ROW($A29)-ROW(startCell))/3,0)),1),""),"")} | L29: {=IFERROR(IF(LEN(L$10)>0, INDEX(Calculations!$B$4:$B$4005,SMALL(IF((Calculations!$U$4:$U$4005=L$10)*(Calculations!$V$4:$V$4005>0),ROW(Calculations!$U$4:$U$4005)-ROW(INDEX(Calculations!$U$4:$U$4005,1,1))+1),ROUNDUP((ROW($A29)-ROW(startCell))/3,0)),1),""),"")} | N29: {=IFERROR(IF(LEN(N$10)>0, INDEX(Calculations!$B$4:$B$4005,SMALL(IF((Calculations!$U$4:$U$4005=N$10)*(Calculations!$V$4:$V$4005>0),ROW(Calculations!$U$4:$U$4005)-ROW(INDEX(Calculations!$U$4:$U$4005,1,1))+1),ROUNDUP((ROW($A29)-ROW(startCell))/3,0)),1),""),"")} | P29: {=IFERROR(IF(LEN(P$10)>0, INDEX(Calculations!$B$4:$B$4005,SMALL(IF((Calculations!$U$4:$U$4005=P$10)*(Calculations!$V$4:$V$4005>0),ROW(Calculations!$U$4:$U$4005)-ROW(INDEX(Calculations!$U$4:$U$4005,1,1))+1),ROUNDUP((ROW($A29)-ROW(startCell))/3,0)),1),""),"")} | R29: {=IFERROR(IF(LEN(R$10)>0, INDEX(Calculations!$B$4:$B$4005,SMALL(IF((Calculations!$U$4:$U$4005=R$10)*(Calculations!$V$4:$V$4005>0),ROW(Calculations!$U$4:$U$4005)-ROW(INDEX(Calculations!$U$4:$U$4005,1,1))+1),ROUNDUP((ROW($A29)-ROW(startCell))/3,0)),1),""),"")} | T29: {=IFERROR(IF(LEN(T$10)>0, INDEX(Calculations!$B$4:$B$4005,SMALL(IF((Calculations!$U$4:$U$4005=T$10)*(Calculations!$V$4:$V$4005>0),ROW(Calculations!$U$4:$U$4005)-ROW(INDEX(Calculations!$U$4:$U$4005,1,1))+1),ROUNDUP((ROW($A29)-ROW(startCell))/3,0)),1),""),"")} | V29: {=IFERROR(IF(LEN(V$10)>0, INDEX(Calculations!$B$4:$B$4005,SMALL(IF((Calculations!$U$4:$U$4005=V$10)*(Calculations!$V$4:$V$4005>0),ROW(Calculations!$U$4:$U$4005)-ROW(INDEX(Calculations!$U$4:$U$4005,1,1))+1),ROUNDUP((ROW($A29)-ROW(startCell))/3,0)),1),""),"")}
D30: {=IFERROR( IF(LEN(D$10)>0, INDEX(Calculations!$D$4:$D$4005,SMALL(IF((Calculations!$U$4:$U$4005=D$10)*(Calculations!$V$4:$V$4005>0),ROW(Calculations!$U$4:$U$4005)-ROW(INDEX(Calculations!$U$4:$U$4005,1,1))+1),ROUNDUP((ROW($A30)-ROW(startCell))/3,0)),1),""),"")} | F30: {=IFERROR( IF(LEN(F$10)>0, INDEX(Calculations!$D$4:$D$4005,SMALL(IF((Calculations!$U$4:$U$4005=F$10)*(Calculations!$V$4:$V$4005>0),ROW(Calculations!$U$4:$U$4005)-ROW(INDEX(Calculations!$U$4:$U$4005,1,1))+1),ROUNDUP((ROW($A30)-ROW(startCell))/3,0)),1),""),"")} | H30: {=IFERROR( IF(LEN(H$10)>0, INDEX(Calculations!$D$4:$D$4005,SMALL(IF((Calculations!$U$4:$U$4005=H$10)*(Calculations!$V$4:$V$4005>0),ROW(Calculations!$U$4:$U$4005)-ROW(INDEX(Calculations!$U$4:$U$4005,1,1))+1),ROUNDUP((ROW($A30)-ROW(startCell))/3,0)),1),""),"")} | J30: {=IFERROR( IF(LEN(J$10)>0, INDEX(Calculations!$D$4:$D$4005,SMALL(IF((Calculations!$U$4:$U$4005=J$10)*(Calculations!$V$4:$V$4005>0),ROW(Calculations!$U$4:$U$4005)-ROW(INDEX(Calculations!$U$4:$U$4005,1,1))+1),ROUNDUP((ROW($A30)-ROW(startCell))/3,0)),1),""),"")} | L30: {=IFERROR( IF(LEN(L$10)>0, INDEX(Calculations!$D$4:$D$4005,SMALL(IF((Calculations!$U$4:$U$4005=L$10)*(Calculations!$V$4:$V$4005>0),ROW(Calculations!$U$4:$U$4005)-ROW(INDEX(Calculations!$U$4:$U$4005,1,1))+1),ROUNDUP((ROW($A30)-ROW(startCell))/3,0)),1),""),"")} | N30: {=IFERROR( IF(LEN(N$10)>0, INDEX(Calculations!$D$4:$D$4005,SMALL(IF((Calculations!$U$4:$U$4005=N$10)*(Calculations!$V$4:$V$4005>0),ROW(Calculations!$U$4:$U$4005)-ROW(INDEX(Calculations!$U$4:$U$4005,1,1))+1),ROUNDUP((ROW($A30)-ROW(startCell))/3,0)),1),""),"")} | P30: {=IFERROR( IF(LEN(P$10)>0, INDEX(Calculations!$D$4:$D$4005,SMALL(IF((Calculations!$U$4:$U$4005=P$10)*(Calculations!$V$4:$V$4005>0),ROW(Calculations!$U$4:$U$4005)-ROW(INDEX(Calculations!$U$4:$U$4005,1,1))+1),ROUNDUP((ROW($A30)-ROW(startCell))/3,0)),1),""),"")} | R30: {=IFERROR( IF(LEN(R$10)>0, INDEX(Calculations!$D$4:$D$4005,SMALL(IF((Calculations!$U$4:$U$4005=R$10)*(Calculations!$V$4:$V$4005>0),ROW(Calculations!$U$4:$U$4005)-ROW(INDEX(Calculations!$U$4:$U$4005,1,1))+1),ROUNDUP((ROW($A30)-ROW(startCell))/3,0)),1),""),"")} | T30: {=IFERROR( IF(LEN(T$10)>0, INDEX(Calculations!$D$4:$D$4005,SMALL(IF((Calculations!$U$4:$U$4005=T$10)*(Calculations!$V$4:$V$4005>0),ROW(Calculations!$U$4:$U$4005)-ROW(INDEX(Calculations!$U$4:$U$4005,1,1))+1),ROUNDUP((ROW($A30)-ROW(startCell))/3,0)),1),""),"")} | V30: {=IFERROR( IF(LEN(V$10)>0, INDEX(Calculations!$D$4:$D$4005,SMALL(IF((Calculations!$U$4:$U$4005=V$10)*(Calculations!$V$4:$V$4005>0),ROW(Calculations!$U$4:$U$4005)-ROW(INDEX(Calculations!$U$4:$U$4005,1,1))+1),ROUNDUP((ROW($A30)-ROW(startCell))/3,0)),1),""),"")}
D31: {=IFERROR( IF(LEN(D$10)>0, INDEX(Calculations!$G$4:$G$4005,SMALL(IF((Calculations!$U$4:$U$4005=D$10)*(Calculations!$V$4:$V$4005>0),ROW(Calculations!$U$4:$U$4005)-ROW(INDEX(Calculations!$U$4:$U$4005,1,1))+1),ROUNDUP((ROW($A31)-ROW(startCell))/3,0)),1),""),"")} | F31: {=IFERROR( IF(LEN(F$10)>0, INDEX(Calculations!$G$4:$G$4005,SMALL(IF((Calculations!$U$4:$U$4005=F$10)*(Calculations!$V$4:$V$4005>0),ROW(Calculations!$U$4:$U$4005)-ROW(INDEX(Calculations!$U$4:$U$4005,1,1))+1),ROUNDUP((ROW($A31)-ROW(startCell))/3,0)),1),""),"")} | H31: {=IFERROR( IF(LEN(H$10)>0, INDEX(Calculations!$G$4:$G$4005,SMALL(IF((Calculations!$U$4:$U$4005=H$10)*(Calculations!$V$4:$V$4005>0),ROW(Calculations!$U$4:$U$4005)-ROW(INDEX(Calculations!$U$4:$U$4005,1,1))+1),ROUNDUP((ROW($A31)-ROW(startCell))/3,0)),1),""),"")} | J31: {=IFERROR( IF(LEN(J$10)>0, INDEX(Calculations!$G$4:$G$4005,SMALL(IF((Calculations!$U$4:$U$4005=J$10)*(Calculations!$V$4:$V$4005>0),ROW(Calculations!$U$4:$U$4005)-ROW(INDEX(Calculations!$U$4:$U$4005,1,1))+1),ROUNDUP((ROW($A31)-ROW(startCell))/3,0)),1),""),"")} | L31: {=IFERROR( IF(LEN(L$10)>0, INDEX(Calculations!$G$4:$G$4005,SMALL(IF((Calculations!$U$4:$U$4005=L$10)*(Calculations!$V$4:$V$4005>0),ROW(Calculations!$U$4:$U$4005)-ROW(INDEX(Calculations!$U$4:$U$4005,1,1))+1),ROUNDUP((ROW($A31)-ROW(startCell))/3,0)),1),""),"")} | N31: {=IFERROR( IF(LEN(N$10)>0, INDEX(Calculations!$G$4:$G$4005,SMALL(IF((Calculations!$U$4:$U$4005=N$10)*(Calculations!$V$4:$V$4005>0),ROW(Calculations!$U$4:$U$4005)-ROW(INDEX(Calculations!$U$4:$U$4005,1,1))+1),ROUNDUP((ROW($A31)-ROW(startCell))/3,0)),1),""),"")} | P31: {=IFERROR( IF(LEN(P$10)>0, INDEX(Calculations!$G$4:$G$4005,SMALL(IF((Calculations!$U$4:$U$4005=P$10)*(Calculations!$V$4:$V$4005>0),ROW(Calculations!$U$4:$U$4005)-ROW(INDEX(Calculations!$U$4:$U$4005,1,1))+1),ROUNDUP((ROW($A31)-ROW(startCell))/3,0)),1),""),"")} | R31: {=IFERROR( IF(LEN(R$10)>0, INDEX(Calculations!$G$4:$G$4005,SMALL(IF((Calculations!$U$4:$U$4005=R$10)*(Calculations!$V$4:$V$4005>0),ROW(Calculations!$U$4:$U$4005)-ROW(INDEX(Calculations!$U$4:$U$4005,1,1))+1),ROUNDUP((ROW($A31)-ROW(startCell))/3,0)),1),""),"")} | T31: {=IFERROR( IF(LEN(T$10)>0, INDEX(Calculations!$G$4:$G$4005,SMALL(IF((Calculations!$U$4:$U$4005=T$10)*(Calculations!$V$4:$V$4005>0),ROW(Calculations!$U$4:$U$4005)-ROW(INDEX(Calculations!$U$4:$U$4005,1,1))+1),ROUNDUP((ROW($A31)-ROW(startCell))/3,0)),1),""),"")} | V31: {=IFERROR( IF(LEN(V$10)>0, INDEX(Calculations!$G$4:$G$4005,SMALL(IF((Calculations!$U$4:$U$4005=V$10)*(Calculations!$V$4:$V$4005>0),ROW(Calculations!$U$4:$U$4005)-ROW(INDEX(Calculations!$U$4:$U$4005,1,1))+1),ROUNDUP((ROW($A31)-ROW(startCell))/3,0)),1),""),"")}
D32: {=IFERROR(IF(LEN(D$10)>0, INDEX(Calculations!$B$4:$B$4005,SMALL(IF((Calculations!$U$4:$U$4005=D$10)*(Calculations!$V$4:$V$4005>0),ROW(Calculations!$U$4:$U$4005)-ROW(INDEX(Calculations!$U$4:$U$4005,1,1))+1),ROUNDUP((ROW($A32)-ROW(startCell))/3,0)),1),""),"")} | F32: {=IFERROR(IF(LEN(F$10)>0, INDEX(Calculations!$B$4:$B$4005,SMALL(IF((Calculations!$U$4:$U$4005=F$10)*(Calculations!$V$4:$V$4005>0),ROW(Calculations!$U$4:$U$4005)-ROW(INDEX(Calculations!$U$4:$U$4005,1,1))+1),ROUNDUP((ROW($A32)-ROW(startCell))/3,0)),1),""),"")} | H32: {=IFERROR(IF(LEN(H$10)>0, INDEX(Calculations!$B$4:$B$4005,SMALL(IF((Calculations!$U$4:$U$4005=H$10)*(Calculations!$V$4:$V$4005>0),ROW(Calculations!$U$4:$U$4005)-ROW(INDEX(Calculations!$U$4:$U$4005,1,1))+1),ROUNDUP((ROW($A32)-ROW(startCell))/3,0)),1),""),"")} | J32: {=IFERROR(IF(LEN(J$10)>0, INDEX(Calculations!$B$4:$B$4005,SMALL(IF((Calculations!$U$4:$U$4005=J$10)*(Calculations!$V$4:$V$4005>0),ROW(Calculations!$U$4:$U$4005)-ROW(INDEX(Calculations!$U$4:$U$4005,1,1))+1),ROUNDUP((ROW($A32)-ROW(startCell))/3,0)),1),""),"")} | L32: {=IFERROR(IF(LEN(L$10)>0, INDEX(Calculations!$B$4:$B$4005,SMALL(IF((Calculations!$U$4:$U$4005=L$10)*(Calculations!$V$4:$V$4005>0),ROW(Calculations!$U$4:$U$4005)-ROW(INDEX(Calculations!$U$4:$U$4005,1,1))+1),ROUNDUP((ROW($A32)-ROW(startCell))/3,0)),1),""),"")} | N32: {=IFERROR(IF(LEN(N$10)>0, INDEX(Calculations!$B$4:$B$4005,SMALL(IF((Calculations!$U$4:$U$4005=N$10)*(Calculations!$V$4:$V$4005>0),ROW(Calculations!$U$4:$U$4005)-ROW(INDEX(Calculations!$U$4:$U$4005,1,1))+1),ROUNDUP((ROW($A32)-ROW(startCell))/3,0)),1),""),"")} | P32: {=IFERROR(IF(LEN(P$10)>0, INDEX(Calculations!$B$4:$B$4005,SMALL(IF((Calculations!$U$4:$U$4005=P$10)*(Calculations!$V$4:$V$4005>0),ROW(Calculations!$U$4:$U$4005)-ROW(INDEX(Calculations!$U$4:$U$4005,1,1))+1),ROUNDUP((ROW($A32)-ROW(startCell))/3,0)),1),""),"")} | R32: {=IFERROR(IF(LEN(R$10)>0, INDEX(Calculations!$B$4:$B$4005,SMALL(IF((Calculations!$U$4:$U$4005=R$10)*(Calculations!$V$4:$V$4005>0),ROW(Calculations!$U$4:$U$4005)-ROW(INDEX(Calculations!$U$4:$U$4005,1,1))+1),ROUNDUP((ROW($A32)-ROW(startCell))/3,0)),1),""),"")} | T32: {=IFERROR(IF(LEN(T$10)>0, INDEX(Calculations!$B$4:$B$4005,SMALL(IF((Calculations!$U$4:$U$4005=T$10)*(Calculations!$V$4:$V$4005>0),ROW(Calculations!$U$4:$U$4005)-ROW(INDEX(Calculations!$U$4:$U$4005,1,1))+1),ROUNDUP((ROW($A32)-ROW(startCell))/3,0)),1),""),"")} | V32: {=IFERROR(IF(LEN(V$10)>0, INDEX(Calculations!$B$4:$B$4005,SMALL(IF((Calculations!$U$4:$U$4005=V$10)*(Calculations!$V$4:$V$4005>0),ROW(Calculations!$U$4:$U$4005)-ROW(INDEX(Calculations!$U$4:$U$4005,1,1))+1),ROUNDUP((ROW($A32)-ROW(startCell))/3,0)),1),""),"")}
D33: {=IFERROR( IF(LEN(D$10)>0, INDEX(Calculations!$D$4:$D$4005,SMALL(IF((Calculations!$U$4:$U$4005=D$10)*(Calculations!$V$4:$V$4005>0),ROW(Calculations!$U$4:$U$4005)-ROW(INDEX(Calculations!$U$4:$U$4005,1,1))+1),ROUNDUP((ROW($A33)-ROW(startCell))/3,0)),1),""),"")} | F33: {=IFERROR( IF(LEN(F$10)>0, INDEX(Calculations!$D$4:$D$4005,SMALL(IF((Calculations!$U$4:$U$4005=F$10)*(Calculations!$V$4:$V$4005>0),ROW(Calculations!$U$4:$U$4005)-ROW(INDEX(Calculations!$U$4:$U$4005,1,1))+1),ROUNDUP((ROW($A33)-ROW(startCell))/3,0)),1),""),"")} | H33: {=IFERROR( IF(LEN(H$10)>0, INDEX(Calculations!$D$4:$D$4005,SMALL(IF((Calculations!$U$4:$U$4005=H$10)*(Calculations!$V$4:$V$4005>0),ROW(Calculations!$U$4:$U$4005)-ROW(INDEX(Calculations!$U$4:$U$4005,1,1))+1),ROUNDUP((ROW($A33)-ROW(startCell))/3,0)),1),""),"")} | J33: {=IFERROR( IF(LEN(J$10)>0, INDEX(Calculations!$D$4:$D$4005,SMALL(IF((Calculations!$U$4:$U$4005=J$10)*(Calculations!$V$4:$V$4005>0),ROW(Calculations!$U$4:$U$4005)-ROW(INDEX(Calculations!$U$4:$U$4005,1,1))+1),ROUNDUP((ROW($A33)-ROW(startCell))/3,0)),1),""),"")} | L33: {=IFERROR( IF(LEN(L$10)>0, INDEX(Calculations!$D$4:$D$4005,SMALL(IF((Calculations!$U$4:$U$4005=L$10)*(Calculations!$V$4:$V$4005>0),ROW(Calculations!$U$4:$U$4005)-ROW(INDEX(Calculations!$U$4:$U$4005,1,1))+1),ROUNDUP((ROW($A33)-ROW(startCell))/3,0)),1),""),"")} | N33: {=IFERROR( IF(LEN(N$10)>0, INDEX(Calculations!$D$4:$D$4005,SMALL(IF((Calculations!$U$4:$U$4005=N$10)*(Calculations!$V$4:$V$4005>0),ROW(Calculations!$U$4:$U$4005)-ROW(INDEX(Calculations!$U$4:$U$4005,1,1))+1),ROUNDUP((ROW($A33)-ROW(startCell))/3,0)),1),""),"")} | P33: {=IFERROR( IF(LEN(P$10)>0, INDEX(Calculations!$D$4:$D$4005,SMALL(IF((Calculations!$U$4:$U$4005=P$10)*(Calculations!$V$4:$V$4005>0),ROW(Calculations!$U$4:$U$4005)-ROW(INDEX(Calculations!$U$4:$U$4005,1,1))+1),ROUNDUP((ROW($A33)-ROW(startCell))/3,0)),1),""),"")} | R33: {=IFERROR( IF(LEN(R$10)>0, INDEX(Calculations!$D$4:$D$4005,SMALL(IF((Calculations!$U$4:$U$4005=R$10)*(Calculations!$V$4:$V$4005>0),ROW(Calculations!$U$4:$U$4005)-ROW(INDEX(Calculations!$U$4:$U$4005,1,1))+1),ROUNDUP((ROW($A33)-ROW(startCell))/3,0)),1),""),"")} | T33: {=IFERROR( IF(LEN(T$10)>0, INDEX(Calculations!$D$4:$D$4005,SMALL(IF((Calculations!$U$4:$U$4005=T$10)*(Calculations!$V$4:$V$4005>0),ROW(Calculations!$U$4:$U$4005)-ROW(INDEX(Calculations!$U$4:$U$4005,1,1))+1),ROUNDUP((ROW($A33)-ROW(startCell))/3,0)),1),""),"")} | V33: {=IFERROR( IF(LEN(V$10)>0, INDEX(Calculations!$D$4:$D$4005,SMALL(IF((Calculations!$U$4:$U$4005=V$10)*(Calculations!$V$4:$V$4005>0),ROW(Calculations!$U$4:$U$4005)-ROW(INDEX(Calculations!$U$4:$U$4005,1,1))+1),ROUNDUP((ROW($A33)-ROW(startCell))/3,0)),1),""),"")}
D34: {=IFERROR( IF(LEN(D$10)>0, INDEX(Calculations!$G$4:$G$4005,SMALL(IF((Calculations!$U$4:$U$4005=D$10)*(Calculations!$V$4:$V$4005>0),ROW(Calculations!$U$4:$U$4005)-ROW(INDEX(Calculations!$U$4:$U$4005,1,1))+1),ROUNDUP((ROW($A34)-ROW(startCell))/3,0)),1),""),"")} | F34: {=IFERROR( IF(LEN(F$10)>0, INDEX(Calculations!$G$4:$G$4005,SMALL(IF((Calculations!$U$4:$U$4005=F$10)*(Calculations!$V$4:$V$4005>0),ROW(Calculations!$U$4:$U$4005)-ROW(INDEX(Calculations!$U$4:$U$4005,1,1))+1),ROUNDUP((ROW($A34)-ROW(startCell))/3,0)),1),""),"")} | H34: {=IFERROR( IF(LEN(H$10)>0, INDEX(Calculations!$G$4:$G$4005,SMALL(IF((Calculations!$U$4:$U$4005=H$10)*(Calculations!$V$4:$V$4005>0),ROW(Calculations!$U$4:$U$4005)-ROW(INDEX(Calculations!$U$4:$U$4005,1,1))+1),ROUNDUP((ROW($A34)-ROW(startCell))/3,0)),1),""),"")} | J34: {=IFERROR( IF(LEN(J$10)>0, INDEX(Calculations!$G$4:$G$4005,SMALL(IF((Calculations!$U$4:$U$4005=J$10)*(Calculations!$V$4:$V$4005>0),ROW(Calculations!$U$4:$U$4005)-ROW(INDEX(Calculations!$U$4:$U$4005,1,1))+1),ROUNDUP((ROW($A34)-ROW(startCell))/3,0)),1),""),"")} | L34: {=IFERROR( IF(LEN(L$10)>0, INDEX(Calculations!$G$4:$G$4005,SMALL(IF((Calculations!$U$4:$U$4005=L$10)*(Calculations!$V$4:$V$4005>0),ROW(Calculations!$U$4:$U$4005)-ROW(INDEX(Calculations!$U$4:$U$4005,1,1))+1),ROUNDUP((ROW($A34)-ROW(startCell))/3,0)),1),""),"")} | N34: {=IFERROR( IF(LEN(N$10)>0, INDEX(Calculations!$G$4:$G$4005,SMALL(IF((Calculations!$U$4:$U$4005=N$10)*(Calculations!$V$4:$V$4005>0),ROW(Calculations!$U$4:$U$4005)-ROW(INDEX(Calculations!$U$4:$U$4005,1,1))+1),ROUNDUP((ROW($A34)-ROW(startCell))/3,0)),1),""),"")} | P34: {=IFERROR( IF(LEN(P$10)>0, INDEX(Calculations!$G$4:$G$4005,SMALL(IF((Calculations!$U$4:$U$4005=P$10)*(Calculations!$V$4:$V$4005>0),ROW(Calculations!$U$4:$U$4005)-ROW(INDEX(Calculations!$U$4:$U$4005,1,1))+1),ROUNDUP((ROW($A34)-ROW(startCell))/3,0)),1),""),"")} | R34: {=IFERROR( IF(LEN(R$10)>0, INDEX(Calculations!$G$4:$G$4005,SMALL(IF((Calculations!$U$4:$U$4005=R$10)*(Calculations!$V$4:$V$4005>0),ROW(Calculations!$U$4:$U$4005)-ROW(INDEX(Calculations!$U$4:$U$4005,1,1))+1),ROUNDUP((ROW($A34)-ROW(startCell))/3,0)),1),""),"")} | T34: {=IFERROR( IF(LEN(T$10)>0, INDEX(Calculations!$G$4:$G$4005,SMALL(IF((Calculations!$U$4:$U$4005=T$10)*(Calculations!$V$4:$V$4005>0),ROW(Calculations!$U$4:$U$4005)-ROW(INDEX(Calculations!$U$4:$U$4005,1,1))+1),ROUNDUP((ROW($A34)-ROW(startCell))/3,0)),1),""),"")} | V34: {=IFERROR( IF(LEN(V$10)>0, INDEX(Calculations!$G$4:$G$4005,SMALL(IF((Calculations!$U$4:$U$4005=V$10)*(Calculations!$V$4:$V$4005>0),ROW(Calculations!$U$4:$U$4005)-ROW(INDEX(Calculations!$U$4:$U$4005,1,1))+1),ROUNDUP((ROW($A34)-ROW(startCell))/3,0)),1),""),"")}
D35: {=IFERROR(IF(LEN(D$10)>0, INDEX(Calculations!$B$4:$B$4005,SMALL(IF((Calculations!$U$4:$U$4005=D$10)*(Calculations!$V$4:$V$4005>0),ROW(Calculations!$U$4:$U$4005)-ROW(INDEX(Calculations!$U$4:$U$4005,1,1))+1),ROUNDUP((ROW($A35)-ROW(startCell))/3,0)),1),""),"")} | F35: {=IFERROR(IF(LEN(F$10)>0, INDEX(Calculations!$B$4:$B$4005,SMALL(IF((Calculations!$U$4:$U$4005=F$10)*(Calculations!$V$4:$V$4005>0),ROW(Calculations!$U$4:$U$4005)-ROW(INDEX(Calculations!$U$4:$U$4005,1,1))+1),ROUNDUP((ROW($A35)-ROW(startCell))/3,0)),1),""),"")} | H35: {=IFERROR(IF(LEN(H$10)>0, INDEX(Calculations!$B$4:$B$4005,SMALL(IF((Calculations!$U$4:$U$4005=H$10)*(Calculations!$V$4:$V$4005>0),ROW(Calculations!$U$4:$U$4005)-ROW(INDEX(Calculations!$U$4:$U$4005,1,1))+1),ROUNDUP((ROW($A35)-ROW(startCell))/3,0)),1),""),"")} | J35: {=IFERROR(IF(LEN(J$10)>0, INDEX(Calculations!$B$4:$B$4005,SMALL(IF((Calculations!$U$4:$U$4005=J$10)*(Calculations!$V$4:$V$4005>0),ROW(Calculations!$U$4:$U$4005)-ROW(INDEX(Calculations!$U$4:$U$4005,1,1))+1),ROUNDUP((ROW($A35)-ROW(startCell))/3,0)),1),""),"")} | L35: {=IFERROR(IF(LEN(L$10)>0, INDEX(Calculations!$B$4:$B$4005,SMALL(IF((Calculations!$U$4:$U$4005=L$10)*(Calculations!$V$4:$V$4005>0),ROW(Calculations!$U$4:$U$4005)-ROW(INDEX(Calculations!$U$4:$U$4005,1,1))+1),ROUNDUP((ROW($A35)-ROW(startCell))/3,0)),1),""),"")} | N35: {=IFERROR(IF(LEN(N$10)>0, INDEX(Calculations!$B$4:$B$4005,SMALL(IF((Calculations!$U$4:$U$4005=N$10)*(Calculations!$V$4:$V$4005>0),ROW(Calculations!$U$4:$U$4005)-ROW(INDEX(Calculations!$U$4:$U$4005,1,1))+1),ROUNDUP((ROW($A35)-ROW(startCell))/3,0)),1),""),"")} | P35: {=IFERROR(IF(LEN(P$10)>0, INDEX(Calculations!$B$4:$B$4005,SMALL(IF((Calculations!$U$4:$U$4005=P$10)*(Calculations!$V$4:$V$4005>0),ROW(Calculations!$U$4:$U$4005)-ROW(INDEX(Calculations!$U$4:$U$4005,1,1))+1),ROUNDUP((ROW($A35)-ROW(startCell))/3,0)),1),""),"")} | R35: {=IFERROR(IF(LEN(R$10)>0, INDEX(Calculations!$B$4:$B$4005,SMALL(IF((Calculations!$U$4:$U$4005=R$10)*(Calculations!$V$4:$V$4005>0),ROW(Calculations!$U$4:$U$4005)-ROW(INDEX(Calculations!$U$4:$U$4005,1,1))+1),ROUNDUP((ROW($A35)-ROW(startCell))/3,0)),1),""),"")} | T35: {=IFERROR(IF(LEN(T$10)>0, INDEX(Calculations!$B$4:$B$4005,SMALL(IF((Calculations!$U$4:$U$4005=T$10)*(Calculations!$V$4:$V$4005>0),ROW(Calculations!$U$4:$U$4005)-ROW(INDEX(Calculations!$U$4:$U$4005,1,1))+1),ROUNDUP((ROW($A35)-ROW(startCell))/3,0)),1),""),"")} | V35: {=IFERROR(IF(LEN(V$10)>0, INDEX(Calculations!$B$4:$B$4005,SMALL(IF((Calculations!$U$4:$U$4005=V$10)*(Calculations!$V$4:$V$4005>0),ROW(Calculations!$U$4:$U$4005)-ROW(INDEX(Calculations!$U$4:$U$4005,1,1))+1),ROUNDUP((ROW($A35)-ROW(startCell))/3,0)),1),""),"")}
D36: {=IFERROR( IF(LEN(D$10)>0, INDEX(Calculations!$D$4:$D$4005,SMALL(IF((Calculations!$U$4:$U$4005=D$10)*(Calculations!$V$4:$V$4005>0),ROW(Calculations!$U$4:$U$4005)-ROW(INDEX(Calculations!$U$4:$U$4005,1,1))+1),ROUNDUP((ROW($A36)-ROW(startCell))/3,0)),1),""),"")} | F36: {=IFERROR( IF(LEN(F$10)>0, INDEX(Calculations!$D$4:$D$4005,SMALL(IF((Calculations!$U$4:$U$4005=F$10)*(Calculations!$V$4:$V$4005>0),ROW(Calculations!$U$4:$U$4005)-ROW(INDEX(Calculations!$U$4:$U$4005,1,1))+1),ROUNDUP((ROW($A36)-ROW(startCell))/3,0)),1),""),"")} | H36: {=IFERROR( IF(LEN(H$10)>0, INDEX(Calculations!$D$4:$D$4005,SMALL(IF((Calculations!$U$4:$U$4005=H$10)*(Calculations!$V$4:$V$4005>0),ROW(Calculations!$U$4:$U$4005)-ROW(INDEX(Calculations!$U$4:$U$4005,1,1))+1),ROUNDUP((ROW($A36)-ROW(startCell))/3,0)),1),""),"")} | J36: {=IFERROR( IF(LEN(J$10)>0, INDEX(Calculations!$D$4:$D$4005,SMALL(IF((Calculations!$U$4:$U$4005=J$10)*(Calculations!$V$4:$V$4005>0),ROW(Calculations!$U$4:$U$4005)-ROW(INDEX(Calculations!$U$4:$U$4005,1,1))+1),ROUNDUP((ROW($A36)-ROW(startCell))/3,0)),1),""),"")} | L36: {=IFERROR( IF(LEN(L$10)>0, INDEX(Calculations!$D$4:$D$4005,SMALL(IF((Calculations!$U$4:$U$4005=L$10)*(Calculations!$V$4:$V$4005>0),ROW(Calculations!$U$4:$U$4005)-ROW(INDEX(Calculations!$U$4:$U$4005,1,1))+1),ROUNDUP((ROW($A36)-ROW(startCell))/3,0)),1),""),"")} | N36: {=IFERROR( IF(LEN(N$10)>0, INDEX(Calculations!$D$4:$D$4005,SMALL(IF((Calculations!$U$4:$U$4005=N$10)*(Calculations!$V$4:$V$4005>0),ROW(Calculations!$U$4:$U$4005)-ROW(INDEX(Calculations!$U$4:$U$4005,1,1))+1),ROUNDUP((ROW($A36)-ROW(startCell))/3,0)),1),""),"")} | P36: {=IFERROR( IF(LEN(P$10)>0, INDEX(Calculations!$D$4:$D$4005,SMALL(IF((Calculations!$U$4:$U$4005=P$10)*(Calculations!$V$4:$V$4005>0),ROW(Calculations!$U$4:$U$4005)-ROW(INDEX(Calculations!$U$4:$U$4005,1,1))+1),ROUNDUP((ROW($A36)-ROW(startCell))/3,0)),1),""),"")} | R36: {=IFERROR( IF(LEN(R$10)>0, INDEX(Calculations!$D$4:$D$4005,SMALL(IF((Calculations!$U$4:$U$4005=R$10)*(Calculations!$V$4:$V$4005>0),ROW(Calculations!$U$4:$U$4005)-ROW(INDEX(Calculations!$U$4:$U$4005,1,1))+1),ROUNDUP((ROW($A36)-ROW(startCell))/3,0)),1),""),"")} | T36: {=IFERROR( IF(LEN(T$10)>0, INDEX(Calculations!$D$4:$D$4005,SMALL(IF((Calculations!$U$4:$U$4005=T$10)*(Calculations!$V$4:$V$4005>0),ROW(Calculations!$U$4:$U$4005)-ROW(INDEX(Calculations!$U$4:$U$4005,1,1))+1),ROUNDUP((ROW($A36)-ROW(startCell))/3,0)),1),""),"")} | V36: {=IFERROR( IF(LEN(V$10)>0, INDEX(Calculations!$D$4:$D$4005,SMALL(IF((Calculations!$U$4:$U$4005=V$10)*(Calculations!$V$4:$V$4005>0),ROW(Calculations!$U$4:$U$4005)-ROW(INDEX(Calculations!$U$4:$U$4005,1,1))+1),ROUNDUP((ROW($A36)-ROW(startCell))/3,0)),1),""),"")}
D37: {=IFERROR( IF(LEN(D$10)>0, INDEX(Calculations!$G$4:$G$4005,SMALL(IF((Calculations!$U$4:$U$4005=D$10)*(Calculations!$V$4:$V$4005>0),ROW(Calculations!$U$4:$U$4005)-ROW(INDEX(Calculations!$U$4:$U$4005,1,1))+1),ROUNDUP((ROW($A37)-ROW(startCell))/3,0)),1),""),"")} | F37: {=IFERROR( IF(LEN(F$10)>0, INDEX(Calculations!$G$4:$G$4005,SMALL(IF((Calculations!$U$4:$U$4005=F$10)*(Calculations!$V$4:$V$4005>0),ROW(Calculations!$U$4:$U$4005)-ROW(INDEX(Calculations!$U$4:$U$4005,1,1))+1),ROUNDUP((ROW($A37)-ROW(startCell))/3,0)),1),""),"")} | H37: {=IFERROR( IF(LEN(H$10)>0, INDEX(Calculations!$G$4:$G$4005,SMALL(IF((Calculations!$U$4:$U$4005=H$10)*(Calculations!$V$4:$V$4005>0),ROW(Calculations!$U$4:$U$4005)-ROW(INDEX(Calculations!$U$4:$U$4005,1,1))+1),ROUNDUP((ROW($A37)-ROW(startCell))/3,0)),1),""),"")} | J37: {=IFERROR( IF(LEN(J$10)>0, INDEX(Calculations!$G$4:$G$4005,SMALL(IF((Calculations!$U$4:$U$4005=J$10)*(Calculations!$V$4:$V$4005>0),ROW(Calculations!$U$4:$U$4005)-ROW(INDEX(Calculations!$U$4:$U$4005,1,1))+1),ROUNDUP((ROW($A37)-ROW(startCell))/3,0)),1),""),"")} | L37: {=IFERROR( IF(LEN(L$10)>0, INDEX(Calculations!$G$4:$G$4005,SMALL(IF((Calculations!$U$4:$U$4005=L$10)*(Calculations!$V$4:$V$4005>0),ROW(Calculations!$U$4:$U$4005)-ROW(INDEX(Calculations!$U$4:$U$4005,1,1))+1),ROUNDUP((ROW($A37)-ROW(startCell))/3,0)),1),""),"")} | N37: {=IFERROR( IF(LEN(N$10)>0, INDEX(Calculations!$G$4:$G$4005,SMALL(IF((Calculations!$U$4:$U$4005=N$10)*(Calculations!$V$4:$V$4005>0),ROW(Calculations!$U$4:$U$4005)-ROW(INDEX(Calculations!$U$4:$U$4005,1,1))+1),ROUNDUP((ROW($A37)-ROW(startCell))/3,0)),1),""),"")} | P37: {=IFERROR( IF(LEN(P$10)>0, INDEX(Calculations!$G$4:$G$4005,SMALL(IF((Calculations!$U$4:$U$4005=P$10)*(Calculations!$V$4:$V$4005>0),ROW(Calculations!$U$4:$U$4005)-ROW(INDEX(Calculations!$U$4:$U$4005,1,1))+1),ROUNDUP((ROW($A37)-ROW(startCell))/3,0)),1),""),"")} | R37: {=IFERROR( IF(LEN(R$10)>0, INDEX(Calculations!$G$4:$G$4005,SMALL(IF((Calculations!$U$4:$U$4005=R$10)*(Calculations!$V$4:$V$4005>0),ROW(Calculations!$U$4:$U$4005)-ROW(INDEX(Calculations!$U$4:$U$4005,1,1))+1),ROUNDUP((ROW($A37)-ROW(startCell))/3,0)),1),""),"")} | T37: {=IFERROR( IF(LEN(T$10)>0, INDEX(Calculations!$G$4:$G$4005,SMALL(IF((Calculations!$U$4:$U$4005=T$10)*(Calculations!$V$4:$V$4005>0),ROW(Calculations!$U$4:$U$4005)-ROW(INDEX(Calculations!$U$4:$U$4005,1,1))+1),ROUNDUP((ROW($A37)-ROW(startCell))/3,0)),1),""),"")} | V37: {=IFERROR( IF(LEN(V$10)>0, INDEX(Calculations!$G$4:$G$4005,SMALL(IF((Calculations!$U$4:$U$4005=V$10)*(Calculations!$V$4:$V$4005>0),ROW(Calculations!$U$4:$U$4005)-ROW(INDEX(Calculations!$U$4:$U$4005,1,1))+1),ROUNDUP((ROW($A37)-ROW(startCell))/3,0)),1),""),"")}
D38: {=IFERROR(IF(LEN(D$10)>0, INDEX(Calculations!$B$4:$B$4005,SMALL(IF((Calculations!$U$4:$U$4005=D$10)*(Calculations!$V$4:$V$4005>0),ROW(Calculations!$U$4:$U$4005)-ROW(INDEX(Calculations!$U$4:$U$4005,1,1))+1),ROUNDUP((ROW($A38)-ROW(startCell))/3,0)),1),""),"")} | F38: {=IFERROR(IF(LEN(F$10)>0, INDEX(Calculations!$B$4:$B$4005,SMALL(IF((Calculations!$U$4:$U$4005=F$10)*(Calculations!$V$4:$V$4005>0),ROW(Calculations!$U$4:$U$4005)-ROW(INDEX(Calculations!$U$4:$U$4005,1,1))+1),ROUNDUP((ROW($A38)-ROW(startCell))/3,0)),1),""),"")} | H38: {=IFERROR(IF(LEN(H$10)>0, INDEX(Calculations!$B$4:$B$4005,SMALL(IF((Calculations!$U$4:$U$4005=H$10)*(Calculations!$V$4:$V$4005>0),ROW(Calculations!$U$4:$U$4005)-ROW(INDEX(Calculations!$U$4:$U$4005,1,1))+1),ROUNDUP((ROW($A38)-ROW(startCell))/3,0)),1),""),"")} | J38: {=IFERROR(IF(LEN(J$10)>0, INDEX(Calculations!$B$4:$B$4005,SMALL(IF((Calculations!$U$4:$U$4005=J$10)*(Calculations!$V$4:$V$4005>0),ROW(Calculations!$U$4:$U$4005)-ROW(INDEX(Calculations!$U$4:$U$4005,1,1))+1),ROUNDUP((ROW($A38)-ROW(startCell))/3,0)),1),""),"")} | L38: {=IFERROR(IF(LEN(L$10)>0, INDEX(Calculations!$B$4:$B$4005,SMALL(IF((Calculations!$U$4:$U$4005=L$10)*(Calculations!$V$4:$V$4005>0),ROW(Calculations!$U$4:$U$4005)-ROW(INDEX(Calculations!$U$4:$U$4005,1,1))+1),ROUNDUP((ROW($A38)-ROW(startCell))/3,0)),1),""),"")} | N38: {=IFERROR(IF(LEN(N$10)>0, INDEX(Calculations!$B$4:$B$4005,SMALL(IF((Calculations!$U$4:$U$4005=N$10)*(Calculations!$V$4:$V$4005>0),ROW(Calculations!$U$4:$U$4005)-ROW(INDEX(Calculations!$U$4:$U$4005,1,1))+1),ROUNDUP((ROW($A38)-ROW(startCell))/3,0)),1),""),"")} | P38: {=IFERROR(IF(LEN(P$10)>0, INDEX(Calculations!$B$4:$B$4005,SMALL(IF((Calculations!$U$4:$U$4005=P$10)*(Calculations!$V$4:$V$4005>0),ROW(Calculations!$U$4:$U$4005)-ROW(INDEX(Calculations!$U$4:$U$4005,1,1))+1),ROUNDUP((ROW($A38)-ROW(startCell))/3,0)),1),""),"")} | R38: {=IFERROR(IF(LEN(R$10)>0, INDEX(Calculations!$B$4:$B$4005,SMALL(IF((Calculations!$U$4:$U$4005=R$10)*(Calculations!$V$4:$V$4005>0),ROW(Calculations!$U$4:$U$4005)-ROW(INDEX(Calculations!$U$4:$U$4005,1,1))+1),ROUNDUP((ROW($A38)-ROW(startCell))/3,0)),1),""),"")} | T38: {=IFERROR(IF(LEN(T$10)>0, INDEX(Calculations!$B$4:$B$4005,SMALL(IF((Calculations!$U$4:$U$4005=T$10)*(Calculations!$V$4:$V$4005>0),ROW(Calculations!$U$4:$U$4005)-ROW(INDEX(Calculations!$U$4:$U$4005,1,1))+1),ROUNDUP((ROW($A38)-ROW(startCell))/3,0)),1),""),"")} | V38: {=IFERROR(IF(LEN(V$10)>0, INDEX(Calculations!$B$4:$B$4005,SMALL(IF((Calculations!$U$4:$U$4005=V$10)*(Calculations!$V$4:$V$4005>0),ROW(Calculations!$U$4:$U$4005)-ROW(INDEX(Calculations!$U$4:$U$4005,1,1))+1),ROUNDUP((ROW($A38)-ROW(startCell))/3,0)),1),""),"")}
D39: {=IFERROR( IF(LEN(D$10)>0, INDEX(Calculations!$D$4:$D$4005,SMALL(IF((Calculations!$U$4:$U$4005=D$10)*(Calculations!$V$4:$V$4005>0),ROW(Calculations!$U$4:$U$4005)-ROW(INDEX(Calculations!$U$4:$U$4005,1,1))+1),ROUNDUP((ROW($A39)-ROW(startCell))/3,0)),1),""),"")} | F39: {=IFERROR( IF(LEN(F$10)>0, INDEX(Calculations!$D$4:$D$4005,SMALL(IF((Calculations!$U$4:$U$4005=F$10)*(Calculations!$V$4:$V$4005>0),ROW(Calculations!$U$4:$U$4005)-ROW(INDEX(Calculations!$U$4:$U$4005,1,1))+1),ROUNDUP((ROW($A39)-ROW(startCell))/3,0)),1),""),"")} | H39: {=IFERROR( IF(LEN(H$10)>0, INDEX(Calculations!$D$4:$D$4005,SMALL(IF((Calculations!$U$4:$U$4005=H$10)*(Calculations!$V$4:$V$4005>0),ROW(Calculations!$U$4:$U$4005)-ROW(INDEX(Calculations!$U$4:$U$4005,1,1))+1),ROUNDUP((ROW($A39)-ROW(startCell))/3,0)),1),""),"")} | J39: {=IFERROR( IF(LEN(J$10)>0, INDEX(Calculations!$D$4:$D$4005,SMALL(IF((Calculations!$U$4:$U$4005=J$10)*(Calculations!$V$4:$V$4005>0),ROW(Calculations!$U$4:$U$4005)-ROW(INDEX(Calculations!$U$4:$U$4005,1,1))+1),ROUNDUP((ROW($A39)-ROW(startCell))/3,0)),1),""),"")} | L39: {=IFERROR( IF(LEN(L$10)>0, INDEX(Calculations!$D$4:$D$4005,SMALL(IF((Calculations!$U$4:$U$4005=L$10)*(Calculations!$V$4:$V$4005>0),ROW(Calculations!$U$4:$U$4005)-ROW(INDEX(Calculations!$U$4:$U$4005,1,1))+1),ROUNDUP((ROW($A39)-ROW(startCell))/3,0)),1),""),"")} | N39: {=IFERROR( IF(LEN(N$10)>0, INDEX(Calculations!$D$4:$D$4005,SMALL(IF((Calculations!$U$4:$U$4005=N$10)*(Calculations!$V$4:$V$4005>0),ROW(Calculations!$U$4:$U$4005)-ROW(INDEX(Calculations!$U$4:$U$4005,1,1))+1),ROUNDUP((ROW($A39)-ROW(startCell))/3,0)),1),""),"")} | P39: {=IFERROR( IF(LEN(P$10)>0, INDEX(Calculations!$D$4:$D$4005,SMALL(IF((Calculations!$U$4:$U$4005=P$10)*(Calculations!$V$4:$V$4005>0),ROW(Calculations!$U$4:$U$4005)-ROW(INDEX(Calculations!$U$4:$U$4005,1,1))+1),ROUNDUP((ROW($A39)-ROW(startCell))/3,0)),1),""),"")} | R39: {=IFERROR( IF(LEN(R$10)>0, INDEX(Calculations!$D$4:$D$4005,SMALL(IF((Calculations!$U$4:$U$4005=R$10)*(Calculations!$V$4:$V$4005>0),ROW(Calculations!$U$4:$U$4005)-ROW(INDEX(Calculations!$U$4:$U$4005,1,1))+1),ROUNDUP((ROW($A39)-ROW(startCell))/3,0)),1),""),"")} | T39: {=IFERROR( IF(LEN(T$10)>0, INDEX(Calculations!$D$4:$D$4005,SMALL(IF((Calculations!$U$4:$U$4005=T$10)*(Calculations!$V$4:$V$4005>0),ROW(Calculations!$U$4:$U$4005)-ROW(INDEX(Calculations!$U$4:$U$4005,1,1))+1),ROUNDUP((ROW($A39)-ROW(startCell))/3,0)),1),""),"")} | V39: {=IFERROR( IF(LEN(V$10)>0, INDEX(Calculations!$D$4:$D$4005,SMALL(IF((Calculations!$U$4:$U$4005=V$10)*(Calculations!$V$4:$V$4005>0),ROW(Calculations!$U$4:$U$4005)-ROW(INDEX(Calculations!$U$4:$U$4005,1,1))+1),ROUNDUP((ROW($A39)-ROW(startCell))/3,0)),1),""),"")}
D40: {=IFERROR( IF(LEN(D$10)>0, INDEX(Calculations!$G$4:$G$4005,SMALL(IF((Calculations!$U$4:$U$4005=D$10)*(Calculations!$V$4:$V$4005>0),ROW(Calculations!$U$4:$U$4005)-ROW(INDEX(Calculations!$U$4:$U$4005,1,1))+1),ROUNDUP((ROW($A40)-ROW(startCell))/3,0)),1),""),"")} | F40: {=IFERROR( IF(LEN(F$10)>0, INDEX(Calculations!$G$4:$G$4005,SMALL(IF((Calculations!$U$4:$U$4005=F$10)*(Calculations!$V$4:$V$4005>0),ROW(Calculations!$U$4:$U$4005)-ROW(INDEX(Calculations!$U$4:$U$4005,1,1))+1),ROUNDUP((ROW($A40)-ROW(startCell))/3,0)),1),""),"")} | H40: {=IFERROR( IF(LEN(H$10)>0, INDEX(Calculations!$G$4:$G$4005,SMALL(IF((Calculations!$U$4:$U$4005=H$10)*(Calculations!$V$4:$V$4005>0),ROW(Calculations!$U$4:$U$4005)-ROW(INDEX(Calculations!$U$4:$U$4005,1,1))+1),ROUNDUP((ROW($A40)-ROW(startCell))/3,0)),1),""),"")} | J40: {=IFERROR( IF(LEN(J$10)>0, INDEX(Calculations!$G$4:$G$4005,SMALL(IF((Calculations!$U$4:$U$4005=J$10)*(Calculations!$V$4:$V$4005>0),ROW(Calculations!$U$4:$U$4005)-ROW(INDEX(Calculations!$U$4:$U$4005,1,1))+1),ROUNDUP((ROW($A40)-ROW(startCell))/3,0)),1),""),"")} | L40: {=IFERROR( IF(LEN(L$10)>0, INDEX(Calculations!$G$4:$G$4005,SMALL(IF((Calculations!$U$4:$U$4005=L$10)*(Calculations!$V$4:$V$4005>0),ROW(Calculations!$U$4:$U$4005)-ROW(INDEX(Calculations!$U$4:$U$4005,1,1))+1),ROUNDUP((ROW($A40)-ROW(startCell))/3,0)),1),""),"")} | N40: {=IFERROR( IF(LEN(N$10)>0, INDEX(Calculations!$G$4:$G$4005,SMALL(IF((Calculations!$U$4:$U$4005=N$10)*(Calculations!$V$4:$V$4005>0),ROW(Calculations!$U$4:$U$4005)-ROW(INDEX(Calculations!$U$4:$U$4005,1,1))+1),ROUNDUP((ROW($A40)-ROW(startCell))/3,0)),1),""),"")} | P40: {=IFERROR( IF(LEN(P$10)>0, INDEX(Calculations!$G$4:$G$4005,SMALL(IF((Calculations!$U$4:$U$4005=P$10)*(Calculations!$V$4:$V$4005>0),ROW(Calculations!$U$4:$U$4005)-ROW(INDEX(Calculations!$U$4:$U$4005,1,1))+1),ROUNDUP((ROW($A40)-ROW(startCell))/3,0)),1),""),"")} | R40: {=IFERROR( IF(LEN(R$10)>0, INDEX(Calculations!$G$4:$G$4005,SMALL(IF((Calculations!$U$4:$U$4005=R$10)*(Calculations!$V$4:$V$4005>0),ROW(Calculations!$U$4:$U$4005)-ROW(INDEX(Calculations!$U$4:$U$4005,1,1))+1),ROUNDUP((ROW($A40)-ROW(startCell))/3,0)),1),""),"")} | T40: {=IFERROR( IF(LEN(T$10)>0, INDEX(Calculations!$G$4:$G$4005,SMALL(IF((Calculations!$U$4:$U$4005=T$10)*(Calculations!$V$4:$V$4005>0),ROW(Calculations!$U$4:$U$4005)-ROW(INDEX(Calculations!$U$4:$U$4005,1,1))+1),ROUNDUP((ROW($A40)-ROW(startCell))/3,0)),1),""),"")} | V40: {=IFERROR( IF(LEN(V$10)>0, INDEX(Calculations!$G$4:$G$4005,SMALL(IF((Calculations!$U$4:$U$4005=V$10)*(Calculations!$V$4:$V$4005>0),ROW(Calculations!$U$4:$U$4005)-ROW(INDEX(Calculations!$U$4:$U$4005,1,1))+1),ROUNDUP((ROW($A40)-ROW(startCell))/3,0)),1),""),"")}
D41: {=IFERROR(IF(LEN(D$10)>0, INDEX(Calculations!$B$4:$B$4005,SMALL(IF((Calculations!$U$4:$U$4005=D$10)*(Calculations!$V$4:$V$4005>0),ROW(Calculations!$U$4:$U$4005)-ROW(INDEX(Calculations!$U$4:$U$4005,1,1))+1),ROUNDUP((ROW($A41)-ROW(startCell))/3,0)),1),""),"")} | F41: {=IFERROR(IF(LEN(F$10)>0, INDEX(Calculations!$B$4:$B$4005,SMALL(IF((Calculations!$U$4:$U$4005=F$10)*(Calculations!$V$4:$V$4005>0),ROW(Calculations!$U$4:$U$4005)-ROW(INDEX(Calculations!$U$4:$U$4005,1,1))+1),ROUNDUP((ROW($A41)-ROW(startCell))/3,0)),1),""),"")} | H41: {=IFERROR(IF(LEN(H$10)>0, INDEX(Calculations!$B$4:$B$4005,SMALL(IF((Calculations!$U$4:$U$4005=H$10)*(Calculations!$V$4:$V$4005>0),ROW(Calculations!$U$4:$U$4005)-ROW(INDEX(Calculations!$U$4:$U$4005,1,1))+1),ROUNDUP((ROW($A41)-ROW(startCell))/3,0)),1),""),"")} | J41: {=IFERROR(IF(LEN(J$10)>0, INDEX(Calculations!$B$4:$B$4005,SMALL(IF((Calculations!$U$4:$U$4005=J$10)*(Calculations!$V$4:$V$4005>0),ROW(Calculations!$U$4:$U$4005)-ROW(INDEX(Calculations!$U$4:$U$4005,1,1))+1),ROUNDUP((ROW($A41)-ROW(startCell))/3,0)),1),""),"")} | L41: {=IFERROR(IF(LEN(L$10)>0, INDEX(Calculations!$B$4:$B$4005,SMALL(IF((Calculations!$U$4:$U$4005=L$10)*(Calculations!$V$4:$V$4005>0),ROW(Calculations!$U$4:$U$4005)-ROW(INDEX(Calculations!$U$4:$U$4005,1,1))+1),ROUNDUP((ROW($A41)-ROW(startCell))/3,0)),1),""),"")} | N41: {=IFERROR(IF(LEN(N$10)>0, INDEX(Calculations!$B$4:$B$4005,SMALL(IF((Calculations!$U$4:$U$4005=N$10)*(Calculations!$V$4:$V$4005>0),ROW(Calculations!$U$4:$U$4005)-ROW(INDEX(Calculations!$U$4:$U$4005,1,1))+1),ROUNDUP((ROW($A41)-ROW(startCell))/3,0)),1),""),"")} | P41: {=IFERROR(IF(LEN(P$10)>0, INDEX(Calculations!$B$4:$B$4005,SMALL(IF((Calculations!$U$4:$U$4005=P$10)*(Calculations!$V$4:$V$4005>0),ROW(Calculations!$U$4:$U$4005)-ROW(INDEX(Calculations!$U$4:$U$4005,1,1))+1),ROUNDUP((ROW($A41)-ROW(startCell))/3,0)),1),""),"")} | R41: {=IFERROR(IF(LEN(R$10)>0, INDEX(Calculations!$B$4:$B$4005,SMALL(IF((Calculations!$U$4:$U$4005=R$10)*(Calculations!$V$4:$V$4005>0),ROW(Calculations!$U$4:$U$4005)-ROW(INDEX(Calculations!$U$4:$U$4005,1,1))+1),ROUNDUP((ROW($A41)-ROW(startCell))/3,0)),1),""),"")} | T41: {=IFERROR(IF(LEN(T$10)>0, INDEX(Calculations!$B$4:$B$4005,SMALL(IF((Calculations!$U$4:$U$4005=T$10)*(Calculations!$V$4:$V$4005>0),ROW(Calculations!$U$4:$U$4005)-ROW(INDEX(Calculations!$U$4:$U$4005,1,1))+1),ROUNDUP((ROW($A41)-ROW(startCell))/3,0)),1),""),"")} | V41: {=IFERROR(IF(LEN(V$10)>0, INDEX(Calculations!$B$4:$B$4005,SMALL(IF((Calculations!$U$4:$U$4005=V$10)*(Calculations!$V$4:$V$4005>0),ROW(Calculations!$U$4:$U$4005)-ROW(INDEX(Calculations!$U$4:$U$4005,1,1))+1),ROUNDUP((ROW($A41)-ROW(startCell))/3,0)),1),""),"")}
D42: {=IFERROR( IF(LEN(D$10)>0, INDEX(Calculations!$D$4:$D$4005,SMALL(IF((Calculations!$U$4:$U$4005=D$10)*(Calculations!$V$4:$V$4005>0),ROW(Calculations!$U$4:$U$4005)-ROW(INDEX(Calculations!$U$4:$U$4005,1,1))+1),ROUNDUP((ROW($A42)-ROW(startCell))/3,0)),1),""),"")} | F42: {=IFERROR( IF(LEN(F$10)>0, INDEX(Calculations!$D$4:$D$4005,SMALL(IF((Calculations!$U$4:$U$4005=F$10)*(Calculations!$V$4:$V$4005>0),ROW(Calculations!$U$4:$U$4005)-ROW(INDEX(Calculations!$U$4:$U$4005,1,1))+1),ROUNDUP((ROW($A42)-ROW(startCell))/3,0)),1),""),"")} | H42: {=IFERROR( IF(LEN(H$10)>0, INDEX(Calculations!$D$4:$D$4005,SMALL(IF((Calculations!$U$4:$U$4005=H$10)*(Calculations!$V$4:$V$4005>0),ROW(Calculations!$U$4:$U$4005)-ROW(INDEX(Calculations!$U$4:$U$4005,1,1))+1),ROUNDUP((ROW($A42)-ROW(startCell))/3,0)),1),""),"")} | J42: {=IFERROR( IF(LEN(J$10)>0, INDEX(Calculations!$D$4:$D$4005,SMALL(IF((Calculations!$U$4:$U$4005=J$10)*(Calculations!$V$4:$V$4005>0),ROW(Calculations!$U$4:$U$4005)-ROW(INDEX(Calculations!$U$4:$U$4005,1,1))+1),ROUNDUP((ROW($A42)-ROW(startCell))/3,0)),1),""),"")} | L42: {=IFERROR( IF(LEN(L$10)>0, INDEX(Calculations!$D$4:$D$4005,SMALL(IF((Calculations!$U$4:$U$4005=L$10)*(Calculations!$V$4:$V$4005>0),ROW(Calculations!$U$4:$U$4005)-ROW(INDEX(Calculations!$U$4:$U$4005,1,1))+1),ROUNDUP((ROW($A42)-ROW(startCell))/3,0)),1),""),"")} | N42: {=IFERROR( IF(LEN(N$10)>0, INDEX(Calculations!$D$4:$D$4005,SMALL(IF((Calculations!$U$4:$U$4005=N$10)*(Calculations!$V$4:$V$4005>0),ROW(Calculations!$U$4:$U$4005)-ROW(INDEX(Calculations!$U$4:$U$4005,1,1))+1),ROUNDUP((ROW($A42)-ROW(startCell))/3,0)),1),""),"")} | P42: {=IFERROR( IF(LEN(P$10)>0, INDEX(Calculations!$D$4:$D$4005,SMALL(IF((Calculations!$U$4:$U$4005=P$10)*(Calculations!$V$4:$V$4005>0),ROW(Calculations!$U$4:$U$4005)-ROW(INDEX(Calculations!$U$4:$U$4005,1,1))+1),ROUNDUP((ROW($A42)-ROW(startCell))/3,0)),1),""),"")} | R42: {=IFERROR( IF(LEN(R$10)>0, INDEX(Calculations!$D$4:$D$4005,SMALL(IF((Calculations!$U$4:$U$4005=R$10)*(Calculations!$V$4:$V$4005>0),ROW(Calculations!$U$4:$U$4005)-ROW(INDEX(Calculations!$U$4:$U$4005,1,1))+1),ROUNDUP((ROW($A42)-ROW(startCell))/3,0)),1),""),"")} | T42: {=IFERROR( IF(LEN(T$10)>0, INDEX(Calculations!$D$4:$D$4005,SMALL(IF((Calculations!$U$4:$U$4005=T$10)*(Calculations!$V$4:$V$4005>0),ROW(Calculations!$U$4:$U$4005)-ROW(INDEX(Calculations!$U$4:$U$4005,1,1))+1),ROUNDUP((ROW($A42)-ROW(startCell))/3,0)),1),""),"")} | V42: {=IFERROR( IF(LEN(V$10)>0, INDEX(Calculations!$D$4:$D$4005,SMALL(IF((Calculations!$U$4:$U$4005=V$10)*(Calculations!$V$4:$V$4005>0),ROW(Calculations!$U$4:$U$4005)-ROW(INDEX(Calculations!$U$4:$U$4005,1,1))+1),ROUNDUP((ROW($A42)-ROW(startCell))/3,0)),1),""),"")}
D43: {=IFERROR( IF(LEN(D$10)>0, INDEX(Calculations!$G$4:$G$4005,SMALL(IF((Calculations!$U$4:$U$4005=D$10)*(Calculations!$V$4:$V$4005>0),ROW(Calculations!$U$4:$U$4005)-ROW(INDEX(Calculations!$U$4:$U$4005,1,1))+1),ROUNDUP((ROW($A43)-ROW(startCell))/3,0)),1),""),"")} | F43: {=IFERROR( IF(LEN(F$10)>0, INDEX(Calculations!$G$4:$G$4005,SMALL(IF((Calculations!$U$4:$U$4005=F$10)*(Calculations!$V$4:$V$4005>0),ROW(Calculations!$U$4:$U$4005)-ROW(INDEX(Calculations!$U$4:$U$4005,1,1))+1),ROUNDUP((ROW($A43)-ROW(startCell))/3,0)),1),""),"")} | H43: {=IFERROR( IF(LEN(H$10)>0, INDEX(Calculations!$G$4:$G$4005,SMALL(IF((Calculations!$U$4:$U$4005=H$10)*(Calculations!$V$4:$V$4005>0),ROW(Calculations!$U$4:$U$4005)-ROW(INDEX(Calculations!$U$4:$U$4005,1,1))+1),ROUNDUP((ROW($A43)-ROW(startCell))/3,0)),1),""),"")} | J43: {=IFERROR( IF(LEN(J$10)>0, INDEX(Calculations!$G$4:$G$4005,SMALL(IF((Calculations!$U$4:$U$4005=J$10)*(Calculations!$V$4:$V$4005>0),ROW(Calculations!$U$4:$U$4005)-ROW(INDEX(Calculations!$U$4:$U$4005,1,1))+1),ROUNDUP((ROW($A43)-ROW(startCell))/3,0)),1),""),"")} | L43: {=IFERROR( IF(LEN(L$10)>0, INDEX(Calculations!$G$4:$G$4005,SMALL(IF((Calculations!$U$4:$U$4005=L$10)*(Calculations!$V$4:$V$4005>0),ROW(Calculations!$U$4:$U$4005)-ROW(INDEX(Calculations!$U$4:$U$4005,1,1))+1),ROUNDUP((ROW($A43)-ROW(startCell))/3,0)),1),""),"")} | N43: {=IFERROR( IF(LEN(N$10)>0, INDEX(Calculations!$G$4:$G$4005,SMALL(IF((Calculations!$U$4:$U$4005=N$10)*(Calculations!$V$4:$V$4005>0),ROW(Calculations!$U$4:$U$4005)-ROW(INDEX(Calculations!$U$4:$U$4005,1,1))+1),ROUNDUP((ROW($A43)-ROW(startCell))/3,0)),1),""),"")} | P43: {=IFERROR( IF(LEN(P$10)>0, INDEX(Calculations!$G$4:$G$4005,SMALL(IF((Calculations!$U$4:$U$4005=P$10)*(Calculations!$V$4:$V$4005>0),ROW(Calculations!$U$4:$U$4005)-ROW(INDEX(Calculations!$U$4:$U$4005,1,1))+1),ROUNDUP((ROW($A43)-ROW(startCell))/3,0)),1),""),"")} | R43: {=IFERROR( IF(LEN(R$10)>0, INDEX(Calculations!$G$4:$G$4005,SMALL(IF((Calculations!$U$4:$U$4005=R$10)*(Calculations!$V$4:$V$4005>0),ROW(Calculations!$U$4:$U$4005)-ROW(INDEX(Calculations!$U$4:$U$4005,1,1))+1),ROUNDUP((ROW($A43)-ROW(startCell))/3,0)),1),""),"")} | T43: {=IFERROR( IF(LEN(T$10)>0, INDEX(Calculations!$G$4:$G$4005,SMALL(IF((Calculations!$U$4:$U$4005=T$10)*(Calculations!$V$4:$V$4005>0),ROW(Calculations!$U$4:$U$4005)-ROW(INDEX(Calculations!$U$4:$U$4005,1,1))+1),ROUNDUP((ROW($A43)-ROW(startCell))/3,0)),1),""),"")} | V43: {=IFERROR( IF(LEN(V$10)>0, INDEX(Calculations!$G$4:$G$4005,SMALL(IF((Calculations!$U$4:$U$4005=V$10)*(Calculations!$V$4:$V$4005>0),ROW(Calculations!$U$4:$U$4005)-ROW(INDEX(Calculations!$U$4:$U$4005,1,1))+1),ROUNDUP((ROW($A43)-ROW(startCell))/3,0)),1),""),"")}
D44: {=IFERROR(IF(LEN(D$10)>0, INDEX(Calculations!$B$4:$B$4005,SMALL(IF((Calculations!$U$4:$U$4005=D$10)*(Calculations!$V$4:$V$4005>0),ROW(Calculations!$U$4:$U$4005)-ROW(INDEX(Calculations!$U$4:$U$4005,1,1))+1),ROUNDUP((ROW($A44)-ROW(startCell))/3,0)),1),""),"")} | F44: {=IFERROR(IF(LEN(F$10)>0, INDEX(Calculations!$B$4:$B$4005,SMALL(IF((Calculations!$U$4:$U$4005=F$10)*(Calculations!$V$4:$V$4005>0),ROW(Calculations!$U$4:$U$4005)-ROW(INDEX(Calculations!$U$4:$U$4005,1,1))+1),ROUNDUP((ROW($A44)-ROW(startCell))/3,0)),1),""),"")} | H44: {=IFERROR(IF(LEN(H$10)>0, INDEX(Calculations!$B$4:$B$4005,SMALL(IF((Calculations!$U$4:$U$4005=H$10)*(Calculations!$V$4:$V$4005>0),ROW(Calculations!$U$4:$U$4005)-ROW(INDEX(Calculations!$U$4:$U$4005,1,1))+1),ROUNDUP((ROW($A44)-ROW(startCell))/3,0)),1),""),"")} | J44: {=IFERROR(IF(LEN(J$10)>0, INDEX(Calculations!$B$4:$B$4005,SMALL(IF((Calculations!$U$4:$U$4005=J$10)*(Calculations!$V$4:$V$4005>0),ROW(Calculations!$U$4:$U$4005)-ROW(INDEX(Calculations!$U$4:$U$4005,1,1))+1),ROUNDUP((ROW($A44)-ROW(startCell))/3,0)),1),""),"")} | L44: {=IFERROR(IF(LEN(L$10)>0, INDEX(Calculations!$B$4:$B$4005,SMALL(IF((Calculations!$U$4:$U$4005=L$10)*(Calculations!$V$4:$V$4005>0),ROW(Calculations!$U$4:$U$4005)-ROW(INDEX(Calculations!$U$4:$U$4005,1,1))+1),ROUNDUP((ROW($A44)-ROW(startCell))/3,0)),1),""),"")} | N44: {=IFERROR(IF(LEN(N$10)>0, INDEX(Calculations!$B$4:$B$4005,SMALL(IF((Calculations!$U$4:$U$4005=N$10)*(Calculations!$V$4:$V$4005>0),ROW(Calculations!$U$4:$U$4005)-ROW(INDEX(Calculations!$U$4:$U$4005,1,1))+1),ROUNDUP((ROW($A44)-ROW(startCell))/3,0)),1),""),"")} | P44: {=IFERROR(IF(LEN(P$10)>0, INDEX(Calculations!$B$4:$B$4005,SMALL(IF((Calculations!$U$4:$U$4005=P$10)*(Calculations!$V$4:$V$4005>0),ROW(Calculations!$U$4:$U$4005)-ROW(INDEX(Calculations!$U$4:$U$4005,1,1))+1),ROUNDUP((ROW($A44)-ROW(startCell))/3,0)),1),""),"")} | R44: {=IFERROR(IF(LEN(R$10)>0, INDEX(Calculations!$B$4:$B$4005,SMALL(IF((Calculations!$U$4:$U$4005=R$10)*(Calculations!$V$4:$V$4005>0),ROW(Calculations!$U$4:$U$4005)-ROW(INDEX(Calculations!$U$4:$U$4005,1,1))+1),ROUNDUP((ROW($A44)-ROW(startCell))/3,0)),1),""),"")} | T44: {=IFERROR(IF(LEN(T$10)>0, INDEX(Calculations!$B$4:$B$4005,SMALL(IF((Calculations!$U$4:$U$4005=T$10)*(Calculations!$V$4:$V$4005>0),ROW(Calculations!$U$4:$U$4005)-ROW(INDEX(Calculations!$U$4:$U$4005,1,1))+1),ROUNDUP((ROW($A44)-ROW(startCell))/3,0)),1),""),"")} | V44: {=IFERROR(IF(LEN(V$10)>0, INDEX(Calculations!$B$4:$B$4005,SMALL(IF((Calculations!$U$4:$U$4005=V$10)*(Calculations!$V$4:$V$4005>0),ROW(Calculations!$U$4:$U$4005)-ROW(INDEX(Calculations!$U$4:$U$4005,1,1))+1),ROUNDUP((ROW($A44)-ROW(startCell))/3,0)),1),""),"")}
D45: {=IFERROR( IF(LEN(D$10)>0, INDEX(Calculations!$D$4:$D$4005,SMALL(IF((Calculations!$U$4:$U$4005=D$10)*(Calculations!$V$4:$V$4005>0),ROW(Calculations!$U$4:$U$4005)-ROW(INDEX(Calculations!$U$4:$U$4005,1,1))+1),ROUNDUP((ROW($A45)-ROW(startCell))/3,0)),1),""),"")} | F45: {=IFERROR( IF(LEN(F$10)>0, INDEX(Calculations!$D$4:$D$4005,SMALL(IF((Calculations!$U$4:$U$4005=F$10)*(Calculations!$V$4:$V$4005>0),ROW(Calculations!$U$4:$U$4005)-ROW(INDEX(Calculations!$U$4:$U$4005,1,1))+1),ROUNDUP((ROW($A45)-ROW(startCell))/3,0)),1),""),"")} | H45: {=IFERROR( IF(LEN(H$10)>0, INDEX(Calculations!$D$4:$D$4005,SMALL(IF((Calculations!$U$4:$U$4005=H$10)*(Calculations!$V$4:$V$4005>0),ROW(Calculations!$U$4:$U$4005)-ROW(INDEX(Calculations!$U$4:$U$4005,1,1))+1),ROUNDUP((ROW($A45)-ROW(startCell))/3,0)),1),""),"")} | J45: {=IFERROR( IF(LEN(J$10)>0, INDEX(Calculations!$D$4:$D$4005,SMALL(IF((Calculations!$U$4:$U$4005=J$10)*(Calculations!$V$4:$V$4005>0),ROW(Calculations!$U$4:$U$4005)-ROW(INDEX(Calculations!$U$4:$U$4005,1,1))+1),ROUNDUP((ROW($A45)-ROW(startCell))/3,0)),1),""),"")} | L45: {=IFERROR( IF(LEN(L$10)>0, INDEX(Calculations!$D$4:$D$4005,SMALL(IF((Calculations!$U$4:$U$4005=L$10)*(Calculations!$V$4:$V$4005>0),ROW(Calculations!$U$4:$U$4005)-ROW(INDEX(Calculations!$U$4:$U$4005,1,1))+1),ROUNDUP((ROW($A45)-ROW(startCell))/3,0)),1),""),"")} | N45: {=IFERROR( IF(LEN(N$10)>0, INDEX(Calculations!$D$4:$D$4005,SMALL(IF((Calculations!$U$4:$U$4005=N$10)*(Calculations!$V$4:$V$4005>0),ROW(Calculations!$U$4:$U$4005)-ROW(INDEX(Calculations!$U$4:$U$4005,1,1))+1),ROUNDUP((ROW($A45)-ROW(startCell))/3,0)),1),""),"")} | P45: {=IFERROR( IF(LEN(P$10)>0, INDEX(Calculations!$D$4:$D$4005,SMALL(IF((Calculations!$U$4:$U$4005=P$10)*(Calculations!$V$4:$V$4005>0),ROW(Calculations!$U$4:$U$4005)-ROW(INDEX(Calculations!$U$4:$U$4005,1,1))+1),ROUNDUP((ROW($A45)-ROW(startCell))/3,0)),1),""),"")} | R45: {=IFERROR( IF(LEN(R$10)>0, INDEX(Calculations!$D$4:$D$4005,SMALL(IF((Calculations!$U$4:$U$4005=R$10)*(Calculations!$V$4:$V$4005>0),ROW(Calculations!$U$4:$U$4005)-ROW(INDEX(Calculations!$U$4:$U$4005,1,1))+1),ROUNDUP((ROW($A45)-ROW(startCell))/3,0)),1),""),"")} | T45: {=IFERROR( IF(LEN(T$10)>0, INDEX(Calculations!$D$4:$D$4005,SMALL(IF((Calculations!$U$4:$U$4005=T$10)*(Calculations!$V$4:$V$4005>0),ROW(Calculations!$U$4:$U$4005)-ROW(INDEX(Calculations!$U$4:$U$4005,1,1))+1),ROUNDUP((ROW($A45)-ROW(startCell))/3,0)),1),""),"")} | V45: {=IFERROR( IF(LEN(V$10)>0, INDEX(Calculations!$D$4:$D$4005,SMALL(IF((Calculations!$U$4:$U$4005=V$10)*(Calculations!$V$4:$V$4005>0),ROW(Calculations!$U$4:$U$4005)-ROW(INDEX(Calculations!$U$4:$U$4005,1,1))+1),ROUNDUP((ROW($A45)-ROW(startCell))/3,0)),1),""),"")}
D46: {=IFERROR( IF(LEN(D$10)>0, INDEX(Calculations!$G$4:$G$4005,SMALL(IF((Calculations!$U$4:$U$4005=D$10)*(Calculations!$V$4:$V$4005>0),ROW(Calculations!$U$4:$U$4005)-ROW(INDEX(Calculations!$U$4:$U$4005,1,1))+1),ROUNDUP((ROW($A46)-ROW(startCell))/3,0)),1),""),"")} | F46: {=IFERROR( IF(LEN(F$10)>0, INDEX(Calculations!$G$4:$G$4005,SMALL(IF((Calculations!$U$4:$U$4005=F$10)*(Calculations!$V$4:$V$4005>0),ROW(Calculations!$U$4:$U$4005)-ROW(INDEX(Calculations!$U$4:$U$4005,1,1))+1),ROUNDUP((ROW($A46)-ROW(startCell))/3,0)),1),""),"")} | H46: {=IFERROR( IF(LEN(H$10)>0, INDEX(Calculations!$G$4:$G$4005,SMALL(IF((Calculations!$U$4:$U$4005=H$10)*(Calculations!$V$4:$V$4005>0),ROW(Calculations!$U$4:$U$4005)-ROW(INDEX(Calculations!$U$4:$U$4005,1,1))+1),ROUNDUP((ROW($A46)-ROW(startCell))/3,0)),1),""),"")} | J46: {=IFERROR( IF(LEN(J$10)>0, INDEX(Calculations!$G$4:$G$4005,SMALL(IF((Calculations!$U$4:$U$4005=J$10)*(Calculations!$V$4:$V$4005>0),ROW(Calculations!$U$4:$U$4005)-ROW(INDEX(Calculations!$U$4:$U$4005,1,1))+1),ROUNDUP((ROW($A46)-ROW(startCell))/3,0)),1),""),"")} | L46: {=IFERROR( IF(LEN(L$10)>0, INDEX(Calculations!$G$4:$G$4005,SMALL(IF((Calculations!$U$4:$U$4005=L$10)*(Calculations!$V$4:$V$4005>0),ROW(Calculations!$U$4:$U$4005)-ROW(INDEX(Calculations!$U$4:$U$4005,1,1))+1),ROUNDUP((ROW($A46)-ROW(startCell))/3,0)),1),""),"")} | N46: {=IFERROR( IF(LEN(N$10)>0, INDEX(Calculations!$G$4:$G$4005,SMALL(IF((Calculations!$U$4:$U$4005=N$10)*(Calculations!$V$4:$V$4005>0),ROW(Calculations!$U$4:$U$4005)-ROW(INDEX(Calculations!$U$4:$U$4005,1,1))+1),ROUNDUP((ROW($A46)-ROW(startCell))/3,0)),1),""),"")} | P46: {=IFERROR( IF(LEN(P$10)>0, INDEX(Calculations!$G$4:$G$4005,SMALL(IF((Calculations!$U$4:$U$4005=P$10)*(Calculations!$V$4:$V$4005>0),ROW(Calculations!$U$4:$U$4005)-ROW(INDEX(Calculations!$U$4:$U$4005,1,1))+1),ROUNDUP((ROW($A46)-ROW(startCell))/3,0)),1),""),"")} | R46: {=IFERROR( IF(LEN(R$10)>0, INDEX(Calculations!$G$4:$G$4005,SMALL(IF((Calculations!$U$4:$U$4005=R$10)*(Calculations!$V$4:$V$4005>0),ROW(Calculations!$U$4:$U$4005)-ROW(INDEX(Calculations!$U$4:$U$4005,1,1))+1),ROUNDUP((ROW($A46)-ROW(startCell))/3,0)),1),""),"")} | T46: {=IFERROR( IF(LEN(T$10)>0, INDEX(Calculations!$G$4:$G$4005,SMALL(IF((Calculations!$U$4:$U$4005=T$10)*(Calculations!$V$4:$V$4005>0),ROW(Calculations!$U$4:$U$4005)-ROW(INDEX(Calculations!$U$4:$U$4005,1,1))+1),ROUNDUP((ROW($A46)-ROW(startCell))/3,0)),1),""),"")} | V46: {=IFERROR( IF(LEN(V$10)>0, INDEX(Calculations!$G$4:$G$4005,SMALL(IF((Calculations!$U$4:$U$4005=V$10)*(Calculations!$V$4:$V$4005>0),ROW(Calculations!$U$4:$U$4005)-ROW(INDEX(Calculations!$U$4:$U$4005,1,1))+1),ROUNDUP((ROW($A46)-ROW(startCell))/3,0)),1),""),"")}
D47: {=IFERROR(IF(LEN(D$10)>0, INDEX(Calculations!$B$4:$B$4005,SMALL(IF((Calculations!$U$4:$U$4005=D$10)*(Calculations!$V$4:$V$4005>0),ROW(Calculations!$U$4:$U$4005)-ROW(INDEX(Calculations!$U$4:$U$4005,1,1))+1),ROUNDUP((ROW($A47)-ROW(startCell))/3,0)),1),""),"")} | F47: {=IFERROR(IF(LEN(F$10)>0, INDEX(Calculations!$B$4:$B$4005,SMALL(IF((Calculations!$U$4:$U$4005=F$10)*(Calculations!$V$4:$V$4005>0),ROW(Calculations!$U$4:$U$4005)-ROW(INDEX(Calculations!$U$4:$U$4005,1,1))+1),ROUNDUP((ROW($A47)-ROW(startCell))/3,0)),1),""),"")} | H47: {=IFERROR(IF(LEN(H$10)>0, INDEX(Calculations!$B$4:$B$4005,SMALL(IF((Calculations!$U$4:$U$4005=H$10)*(Calculations!$V$4:$V$4005>0),ROW(Calculations!$U$4:$U$4005)-ROW(INDEX(Calculations!$U$4:$U$4005,1,1))+1),ROUNDUP((ROW($A47)-ROW(startCell))/3,0)),1),""),"")} | J47: {=IFERROR(IF(LEN(J$10)>0, INDEX(Calculations!$B$4:$B$4005,SMALL(IF((Calculations!$U$4:$U$4005=J$10)*(Calculations!$V$4:$V$4005>0),ROW(Calculations!$U$4:$U$4005)-ROW(INDEX(Calculations!$U$4:$U$4005,1,1))+1),ROUNDUP((ROW($A47)-ROW(startCell))/3,0)),1),""),"")} | L47: {=IFERROR(IF(LEN(L$10)>0, INDEX(Calculations!$B$4:$B$4005,SMALL(IF((Calculations!$U$4:$U$4005=L$10)*(Calculations!$V$4:$V$4005>0),ROW(Calculations!$U$4:$U$4005)-ROW(INDEX(Calculations!$U$4:$U$4005,1,1))+1),ROUNDUP((ROW($A47)-ROW(startCell))/3,0)),1),""),"")} | N47: {=IFERROR(IF(LEN(N$10)>0, INDEX(Calculations!$B$4:$B$4005,SMALL(IF((Calculations!$U$4:$U$4005=N$10)*(Calculations!$V$4:$V$4005>0),ROW(Calculations!$U$4:$U$4005)-ROW(INDEX(Calculations!$U$4:$U$4005,1,1))+1),ROUNDUP((ROW($A47)-ROW(startCell))/3,0)),1),""),"")} | P47: {=IFERROR(IF(LEN(P$10)>0, INDEX(Calculations!$B$4:$B$4005,SMALL(IF((Calculations!$U$4:$U$4005=P$10)*(Calculations!$V$4:$V$4005>0),ROW(Calculations!$U$4:$U$4005)-ROW(INDEX(Calculations!$U$4:$U$4005,1,1))+1),ROUNDUP((ROW($A47)-ROW(startCell))/3,0)),1),""),"")} | R47: {=IFERROR(IF(LEN(R$10)>0, INDEX(Calculations!$B$4:$B$4005,SMALL(IF((Calculations!$U$4:$U$4005=R$10)*(Calculations!$V$4:$V$4005>0),ROW(Calculations!$U$4:$U$4005)-ROW(INDEX(Calculations!$U$4:$U$4005,1,1))+1),ROUNDUP((ROW($A47)-ROW(startCell))/3,0)),1),""),"")} | T47: {=IFERROR(IF(LEN(T$10)>0, INDEX(Calculations!$B$4:$B$4005,SMALL(IF((Calculations!$U$4:$U$4005=T$10)*(Calculations!$V$4:$V$4005>0),ROW(Calculations!$U$4:$U$4005)-ROW(INDEX(Calculations!$U$4:$U$4005,1,1))+1),ROUNDUP((ROW($A47)-ROW(startCell))/3,0)),1),""),"")} | V47: {=IFERROR(IF(LEN(V$10)>0, INDEX(Calculations!$B$4:$B$4005,SMALL(IF((Calculations!$U$4:$U$4005=V$10)*(Calculations!$V$4:$V$4005>0),ROW(Calculations!$U$4:$U$4005)-ROW(INDEX(Calculations!$U$4:$U$4005,1,1))+1),ROUNDUP((ROW($A47)-ROW(startCell))/3,0)),1),""),"")}
D48: {=IFERROR( IF(LEN(D$10)>0, INDEX(Calculations!$D$4:$D$4005,SMALL(IF((Calculations!$U$4:$U$4005=D$10)*(Calculations!$V$4:$V$4005>0),ROW(Calculations!$U$4:$U$4005)-ROW(INDEX(Calculations!$U$4:$U$4005,1,1))+1),ROUNDUP((ROW($A48)-ROW(startCell))/3,0)),1),""),"")} | F48: {=IFERROR( IF(LEN(F$10)>0, INDEX(Calculations!$D$4:$D$4005,SMALL(IF((Calculations!$U$4:$U$4005=F$10)*(Calculations!$V$4:$V$4005>0),ROW(Calculations!$U$4:$U$4005)-ROW(INDEX(Calculations!$U$4:$U$4005,1,1))+1),ROUNDUP((ROW($A48)-ROW(startCell))/3,0)),1),""),"")} | H48: {=IFERROR( IF(LEN(H$10)>0, INDEX(Calculations!$D$4:$D$4005,SMALL(IF((Calculations!$U$4:$U$4005=H$10)*(Calculations!$V$4:$V$4005>0),ROW(Calculations!$U$4:$U$4005)-ROW(INDEX(Calculations!$U$4:$U$4005,1,1))+1),ROUNDUP((ROW($A48)-ROW(startCell))/3,0)),1),""),"")} | J48: {=IFERROR( IF(LEN(J$10)>0, INDEX(Calculations!$D$4:$D$4005,SMALL(IF((Calculations!$U$4:$U$4005=J$10)*(Calculations!$V$4:$V$4005>0),ROW(Calculations!$U$4:$U$4005)-ROW(INDEX(Calculations!$U$4:$U$4005,1,1))+1),ROUNDUP((ROW($A48)-ROW(startCell))/3,0)),1),""),"")} | L48: {=IFERROR( IF(LEN(L$10)>0, INDEX(Calculations!$D$4:$D$4005,SMALL(IF((Calculations!$U$4:$U$4005=L$10)*(Calculations!$V$4:$V$4005>0),ROW(Calculations!$U$4:$U$4005)-ROW(INDEX(Calculations!$U$4:$U$4005,1,1))+1),ROUNDUP((ROW($A48)-ROW(startCell))/3,0)),1),""),"")} | N48: {=IFERROR( IF(LEN(N$10)>0, INDEX(Calculations!$D$4:$D$4005,SMALL(IF((Calculations!$U$4:$U$4005=N$10)*(Calculations!$V$4:$V$4005>0),ROW(Calculations!$U$4:$U$4005)-ROW(INDEX(Calculations!$U$4:$U$4005,1,1))+1),ROUNDUP((ROW($A48)-ROW(startCell))/3,0)),1),""),"")} | P48: {=IFERROR( IF(LEN(P$10)>0, INDEX(Calculations!$D$4:$D$4005,SMALL(IF((Calculations!$U$4:$U$4005=P$10)*(Calculations!$V$4:$V$4005>0),ROW(Calculations!$U$4:$U$4005)-ROW(INDEX(Calculations!$U$4:$U$4005,1,1))+1),ROUNDUP((ROW($A48)-ROW(startCell))/3,0)),1),""),"")} | R48: {=IFERROR( IF(LEN(R$10)>0, INDEX(Calculations!$D$4:$D$4005,SMALL(IF((Calculations!$U$4:$U$4005=R$10)*(Calculations!$V$4:$V$4005>0),ROW(Calculations!$U$4:$U$4005)-ROW(INDEX(Calculations!$U$4:$U$4005,1,1))+1),ROUNDUP((ROW($A48)-ROW(startCell))/3,0)),1),""),"")} | T48: {=IFERROR( IF(LEN(T$10)>0, INDEX(Calculations!$D$4:$D$4005,SMALL(IF((Calculations!$U$4:$U$4005=T$10)*(Calculations!$V$4:$V$4005>0),ROW(Calculations!$U$4:$U$4005)-ROW(INDEX(Calculations!$U$4:$U$4005,1,1))+1),ROUNDUP((ROW($A48)-ROW(startCell))/3,0)),1),""),"")} | V48: {=IFERROR( IF(LEN(V$10)>0, INDEX(Calculations!$D$4:$D$4005,SMALL(IF((Calculations!$U$4:$U$4005=V$10)*(Calculations!$V$4:$V$4005>0),ROW(Calculations!$U$4:$U$4005)-ROW(INDEX(Calculations!$U$4:$U$4005,1,1))+1),ROUNDUP((ROW($A48)-ROW(startCell))/3,0)),1),""),"")}
D49: {=IFERROR( IF(LEN(D$10)>0, INDEX(Calculations!$G$4:$G$4005,SMALL(IF((Calculations!$U$4:$U$4005=D$10)*(Calculations!$V$4:$V$4005>0),ROW(Calculations!$U$4:$U$4005)-ROW(INDEX(Calculations!$U$4:$U$4005,1,1))+1),ROUNDUP((ROW($A49)-ROW(startCell))/3,0)),1),""),"")} | F49: {=IFERROR( IF(LEN(F$10)>0, INDEX(Calculations!$G$4:$G$4005,SMALL(IF((Calculations!$U$4:$U$4005=F$10)*(Calculations!$V$4:$V$4005>0),ROW(Calculations!$U$4:$U$4005)-ROW(INDEX(Calculations!$U$4:$U$4005,1,1))+1),ROUNDUP((ROW($A49)-ROW(startCell))/3,0)),1),""),"")} | H49: {=IFERROR( IF(LEN(H$10)>0, INDEX(Calculations!$G$4:$G$4005,SMALL(IF((Calculations!$U$4:$U$4005=H$10)*(Calculations!$V$4:$V$4005>0),ROW(Calculations!$U$4:$U$4005)-ROW(INDEX(Calculations!$U$4:$U$4005,1,1))+1),ROUNDUP((ROW($A49)-ROW(startCell))/3,0)),1),""),"")} | J49: {=IFERROR( IF(LEN(J$10)>0, INDEX(Calculations!$G$4:$G$4005,SMALL(IF((Calculations!$U$4:$U$4005=J$10)*(Calculations!$V$4:$V$4005>0),ROW(Calculations!$U$4:$U$4005)-ROW(INDEX(Calculations!$U$4:$U$4005,1,1))+1),ROUNDUP((ROW($A49)-ROW(startCell))/3,0)),1),""),"")} | L49: {=IFERROR( IF(LEN(L$10)>0, INDEX(Calculations!$G$4:$G$4005,SMALL(IF((Calculations!$U$4:$U$4005=L$10)*(Calculations!$V$4:$V$4005>0),ROW(Calculations!$U$4:$U$4005)-ROW(INDEX(Calculations!$U$4:$U$4005,1,1))+1),ROUNDUP((ROW($A49)-ROW(startCell))/3,0)),1),""),"")} | N49: {=IFERROR( IF(LEN(N$10)>0, INDEX(Calculations!$G$4:$G$4005,SMALL(IF((Calculations!$U$4:$U$4005=N$10)*(Calculations!$V$4:$V$4005>0),ROW(Calculations!$U$4:$U$4005)-ROW(INDEX(Calculations!$U$4:$U$4005,1,1))+1),ROUNDUP((ROW($A49)-ROW(startCell))/3,0)),1),""),"")} | P49: {=IFERROR( IF(LEN(P$10)>0, INDEX(Calculations!$G$4:$G$4005,SMALL(IF((Calculations!$U$4:$U$4005=P$10)*(Calculations!$V$4:$V$4005>0),ROW(Calculations!$U$4:$U$4005)-ROW(INDEX(Calculations!$U$4:$U$4005,1,1))+1),ROUNDUP((ROW($A49)-ROW(startCell))/3,0)),1),""),"")} | R49: {=IFERROR( IF(LEN(R$10)>0, INDEX(Calculations!$G$4:$G$4005,SMALL(IF((Calculations!$U$4:$U$4005=R$10)*(Calculations!$V$4:$V$4005>0),ROW(Calculations!$U$4:$U$4005)-ROW(INDEX(Calculations!$U$4:$U$4005,1,1))+1),ROUNDUP((ROW($A49)-ROW(startCell))/3,0)),1),""),"")} | T49: {=IFERROR( IF(LEN(T$10)>0, INDEX(Calculations!$G$4:$G$4005,SMALL(IF((Calculations!$U$4:$U$4005=T$10)*(Calculations!$V$4:$V$4005>0),ROW(Calculations!$U$4:$U$4005)-ROW(INDEX(Calculations!$U$4:$U$4005,1,1))+1),ROUNDUP((ROW($A49)-ROW(startCell))/3,0)),1),""),"")} | V49: {=IFERROR( IF(LEN(V$10)>0, INDEX(Calculations!$G$4:$G$4005,SMALL(IF((Calculations!$U$4:$U$4005=V$10)*(Calculations!$V$4:$V$4005>0),ROW(Calculations!$U$4:$U$4005)-ROW(INDEX(Calculations!$U$4:$U$4005,1,1))+1),ROUNDUP((ROW($A49)-ROW(startCell))/3,0)),1),""),"")}
D50: {=IFERROR(IF(LEN(D$10)>0, INDEX(Calculations!$B$4:$B$4005,SMALL(IF((Calculations!$U$4:$U$4005=D$10)*(Calculations!$V$4:$V$4005>0),ROW(Calculations!$U$4:$U$4005)-ROW(INDEX(Calculations!$U$4:$U$4005,1,1))+1),ROUNDUP((ROW($A50)-ROW(startCell))/3,0)),1),""),"")} | F50: {=IFERROR(IF(LEN(F$10)>0, INDEX(Calculations!$B$4:$B$4005,SMALL(IF((Calculations!$U$4:$U$4005=F$10)*(Calculations!$V$4:$V$4005>0),ROW(Calculations!$U$4:$U$4005)-ROW(INDEX(Calculations!$U$4:$U$4005,1,1))+1),ROUNDUP((ROW($A50)-ROW(startCell))/3,0)),1),""),"")} | H50: {=IFERROR(IF(LEN(H$10)>0, INDEX(Calculations!$B$4:$B$4005,SMALL(IF((Calculations!$U$4:$U$4005=H$10)*(Calculations!$V$4:$V$4005>0),ROW(Calculations!$U$4:$U$4005)-ROW(INDEX(Calculations!$U$4:$U$4005,1,1))+1),ROUNDUP((ROW($A50)-ROW(startCell))/3,0)),1),""),"")} | J50: {=IFERROR(IF(LEN(J$10)>0, INDEX(Calculations!$B$4:$B$4005,SMALL(IF((Calculations!$U$4:$U$4005=J$10)*(Calculations!$V$4:$V$4005>0),ROW(Calculations!$U$4:$U$4005)-ROW(INDEX(Calculations!$U$4:$U$4005,1,1))+1),ROUNDUP((ROW($A50)-ROW(startCell))/3,0)),1),""),"")} | L50: {=IFERROR(IF(LEN(L$10)>0, INDEX(Calculations!$B$4:$B$4005,SMALL(IF((Calculations!$U$4:$U$4005=L$10)*(Calculations!$V$4:$V$4005>0),ROW(Calculations!$U$4:$U$4005)-ROW(INDEX(Calculations!$U$4:$U$4005,1,1))+1),ROUNDUP((ROW($A50)-ROW(startCell))/3,0)),1),""),"")} | N50: {=IFERROR(IF(LEN(N$10)>0, INDEX(Calculations!$B$4:$B$4005,SMALL(IF((Calculations!$U$4:$U$4005=N$10)*(Calculations!$V$4:$V$4005>0),ROW(Calculations!$U$4:$U$4005)-ROW(INDEX(Calculations!$U$4:$U$4005,1,1))+1),ROUNDUP((ROW($A50)-ROW(startCell))/3,0)),1),""),"")} | P50: {=IFERROR(IF(LEN(P$10)>0, INDEX(Calculations!$B$4:$B$4005,SMALL(IF((Calculations!$U$4:$U$4005=P$10)*(Calculations!$V$4:$V$4005>0),ROW(Calculations!$U$4:$U$4005)-ROW(INDEX(Calculations!$U$4:$U$4005,1,1))+1),ROUNDUP((ROW($A50)-ROW(startCell))/3,0)),1),""),"")} | R50: {=IFERROR(IF(LEN(R$10)>0, INDEX(Calculations!$B$4:$B$4005,SMALL(IF((Calculations!$U$4:$U$4005=R$10)*(Calculations!$V$4:$V$4005>0),ROW(Calculations!$U$4:$U$4005)-ROW(INDEX(Calculations!$U$4:$U$4005,1,1))+1),ROUNDUP((ROW($A50)-ROW(startCell))/3,0)),1),""),"")} | T50: {=IFERROR(IF(LEN(T$10)>0, INDEX(Calculations!$B$4:$B$4005,SMALL(IF((Calculations!$U$4:$U$4005=T$10)*(Calculations!$V$4:$V$4005>0),ROW(Calculations!$U$4:$U$4005)-ROW(INDEX(Calculations!$U$4:$U$4005,1,1))+1),ROUNDUP((ROW($A50)-ROW(startCell))/3,0)),1),""),"")} | V50: {=IFERROR(IF(LEN(V$10)>0, INDEX(Calculations!$B$4:$B$4005,SMALL(IF((Calculations!$U$4:$U$4005=V$10)*(Calculations!$V$4:$V$4005>0),ROW(Calculations!$U$4:$U$4005)-ROW(INDEX(Calculations!$U$4:$U$4005,1,1))+1),ROUNDUP((ROW($A50)-ROW(startCell))/3,0)),1),""),"")}
D51: {=IFERROR( IF(LEN(D$10)>0, INDEX(Calculations!$D$4:$D$4005,SMALL(IF((Calculations!$U$4:$U$4005=D$10)*(Calculations!$V$4:$V$4005>0),ROW(Calculations!$U$4:$U$4005)-ROW(INDEX(Calculations!$U$4:$U$4005,1,1))+1),ROUNDUP((ROW($A51)-ROW(startCell))/3,0)),1),""),"")} | F51: {=IFERROR( IF(LEN(F$10)>0, INDEX(Calculations!$D$4:$D$4005,SMALL(IF((Calculations!$U$4:$U$4005=F$10)*(Calculations!$V$4:$V$4005>0),ROW(Calculations!$U$4:$U$4005)-ROW(INDEX(Calculations!$U$4:$U$4005,1,1))+1),ROUNDUP((ROW($A51)-ROW(startCell))/3,0)),1),""),"")} | H51: {=IFERROR( IF(LEN(H$10)>0, INDEX(Calculations!$D$4:$D$4005,SMALL(IF((Calculations!$U$4:$U$4005=H$10)*(Calculations!$V$4:$V$4005>0),ROW(Calculations!$U$4:$U$4005)-ROW(INDEX(Calculations!$U$4:$U$4005,1,1))+1),ROUNDUP((ROW($A51)-ROW(startCell))/3,0)),1),""),"")} | J51: {=IFERROR( IF(LEN(J$10)>0, INDEX(Calculations!$D$4:$D$4005,SMALL(IF((Calculations!$U$4:$U$4005=J$10)*(Calculations!$V$4:$V$4005>0),ROW(Calculations!$U$4:$U$4005)-ROW(INDEX(Calculations!$U$4:$U$4005,1,1))+1),ROUNDUP((ROW($A51)-ROW(startCell))/3,0)),1),""),"")} | L51: {=IFERROR( IF(LEN(L$10)>0, INDEX(Calculations!$D$4:$D$4005,SMALL(IF((Calculations!$U$4:$U$4005=L$10)*(Calculations!$V$4:$V$4005>0),ROW(Calculations!$U$4:$U$4005)-ROW(INDEX(Calculations!$U$4:$U$4005,1,1))+1),ROUNDUP((ROW($A51)-ROW(startCell))/3,0)),1),""),"")} | N51: {=IFERROR( IF(LEN(N$10)>0, INDEX(Calculations!$D$4:$D$4005,SMALL(IF((Calculations!$U$4:$U$4005=N$10)*(Calculations!$V$4:$V$4005>0),ROW(Calculations!$U$4:$U$4005)-ROW(INDEX(Calculations!$U$4:$U$4005,1,1))+1),ROUNDUP((ROW($A51)-ROW(startCell))/3,0)),1),""),"")} | P51: {=IFERROR( IF(LEN(P$10)>0, INDEX(Calculations!$D$4:$D$4005,SMALL(IF((Calculations!$U$4:$U$4005=P$10)*(Calculations!$V$4:$V$4005>0),ROW(Calculations!$U$4:$U$4005)-ROW(INDEX(Calculations!$U$4:$U$4005,1,1))+1),ROUNDUP((ROW($A51)-ROW(startCell))/3,0)),1),""),"")} | R51: {=IFERROR( IF(LEN(R$10)>0, INDEX(Calculations!$D$4:$D$4005,SMALL(IF((Calculations!$U$4:$U$4005=R$10)*(Calculations!$V$4:$V$4005>0),ROW(Calculations!$U$4:$U$4005)-ROW(INDEX(Calculations!$U$4:$U$4005,1,1))+1),ROUNDUP((ROW($A51)-ROW(startCell))/3,0)),1),""),"")} | T51: {=IFERROR( IF(LEN(T$10)>0, INDEX(Calculations!$D$4:$D$4005,SMALL(IF((Calculations!$U$4:$U$4005=T$10)*(Calculations!$V$4:$V$4005>0),ROW(Calculations!$U$4:$U$4005)-ROW(INDEX(Calculations!$U$4:$U$4005,1,1))+1),ROUNDUP((ROW($A51)-ROW(startCell))/3,0)),1),""),"")} | V51: {=IFERROR( IF(LEN(V$10)>0, INDEX(Calculations!$D$4:$D$4005,SMALL(IF((Calculations!$U$4:$U$4005=V$10)*(Calculations!$V$4:$V$4005>0),ROW(Calculations!$U$4:$U$4005)-ROW(INDEX(Calculations!$U$4:$U$4005,1,1))+1),ROUNDUP((ROW($A51)-ROW(startCell))/3,0)),1),""),"")}
D52: {=IFERROR( IF(LEN(D$10)>0, INDEX(Calculations!$G$4:$G$4005,SMALL(IF((Calculations!$U$4:$U$4005=D$10)*(Calculations!$V$4:$V$4005>0),ROW(Calculations!$U$4:$U$4005)-ROW(INDEX(Calculations!$U$4:$U$4005,1,1))+1),ROUNDUP((ROW($A52)-ROW(startCell))/3,0)),1),""),"")} | F52: {=IFERROR( IF(LEN(F$10)>0, INDEX(Calculations!$G$4:$G$4005,SMALL(IF((Calculations!$U$4:$U$4005=F$10)*(Calculations!$V$4:$V$4005>0),ROW(Calculations!$U$4:$U$4005)-ROW(INDEX(Calculations!$U$4:$U$4005,1,1))+1),ROUNDUP((ROW($A52)-ROW(startCell))/3,0)),1),""),"")} | H52: {=IFERROR( IF(LEN(H$10)>0, INDEX(Calculations!$G$4:$G$4005,SMALL(IF((Calculations!$U$4:$U$4005=H$10)*(Calculations!$V$4:$V$4005>0),ROW(Calculations!$U$4:$U$4005)-ROW(INDEX(Calculations!$U$4:$U$4005,1,1))+1),ROUNDUP((ROW($A52)-ROW(startCell))/3,0)),1),""),"")} | J52: {=IFERROR( IF(LEN(J$10)>0, INDEX(Calculations!$G$4:$G$4005,SMALL(IF((Calculations!$U$4:$U$4005=J$10)*(Calculations!$V$4:$V$4005>0),ROW(Calculations!$U$4:$U$4005)-ROW(INDEX(Calculations!$U$4:$U$4005,1,1))+1),ROUNDUP((ROW($A52)-ROW(startCell))/3,0)),1),""),"")} | L52: {=IFERROR( IF(LEN(L$10)>0, INDEX(Calculations!$G$4:$G$4005,SMALL(IF((Calculations!$U$4:$U$4005=L$10)*(Calculations!$V$4:$V$4005>0),ROW(Calculations!$U$4:$U$4005)-ROW(INDEX(Calculations!$U$4:$U$4005,1,1))+1),ROUNDUP((ROW($A52)-ROW(startCell))/3,0)),1),""),"")} | N52: {=IFERROR( IF(LEN(N$10)>0, INDEX(Calculations!$G$4:$G$4005,SMALL(IF((Calculations!$U$4:$U$4005=N$10)*(Calculations!$V$4:$V$4005>0),ROW(Calculations!$U$4:$U$4005)-ROW(INDEX(Calculations!$U$4:$U$4005,1,1))+1),ROUNDUP((ROW($A52)-ROW(startCell))/3,0)),1),""),"")} | P52: {=IFERROR( IF(LEN(P$10)>0, INDEX(Calculations!$G$4:$G$4005,SMALL(IF((Calculations!$U$4:$U$4005=P$10)*(Calculations!$V$4:$V$4005>0),ROW(Calculations!$U$4:$U$4005)-ROW(INDEX(Calculations!$U$4:$U$4005,1,1))+1),ROUNDUP((ROW($A52)-ROW(startCell))/3,0)),1),""),"")} | R52: {=IFERROR( IF(LEN(R$10)>0, INDEX(Calculations!$G$4:$G$4005,SMALL(IF((Calculations!$U$4:$U$4005=R$10)*(Calculations!$V$4:$V$4005>0),ROW(Calculations!$U$4:$U$4005)-ROW(INDEX(Calculations!$U$4:$U$4005,1,1))+1),ROUNDUP((ROW($A52)-ROW(startCell))/3,0)),1),""),"")} | T52: {=IFERROR( IF(LEN(T$10)>0, INDEX(Calculations!$G$4:$G$4005,SMALL(IF((Calculations!$U$4:$U$4005=T$10)*(Calculations!$V$4:$V$4005>0),ROW(Calculations!$U$4:$U$4005)-ROW(INDEX(Calculations!$U$4:$U$4005,1,1))+1),ROUNDUP((ROW($A52)-ROW(startCell))/3,0)),1),""),"")} | V52: {=IFERROR( IF(LEN(V$10)>0, INDEX(Calculations!$G$4:$G$4005,SMALL(IF((Calculations!$U$4:$U$4005=V$10)*(Calculations!$V$4:$V$4005>0),ROW(Calculations!$U$4:$U$4005)-ROW(INDEX(Calculations!$U$4:$U$4005,1,1))+1),ROUNDUP((ROW($A52)-ROW(startCell))/3,0)),1),""),"")}
D53: {=IFERROR(IF(LEN(D$10)>0, INDEX(Calculations!$B$4:$B$4005,SMALL(IF((Calculations!$U$4:$U$4005=D$10)*(Calculations!$V$4:$V$4005>0),ROW(Calculations!$U$4:$U$4005)-ROW(INDEX(Calculations!$U$4:$U$4005,1,1))+1),ROUNDUP((ROW($A53)-ROW(startCell))/3,0)),1),""),"")} | F53: {=IFERROR(IF(LEN(F$10)>0, INDEX(Calculations!$B$4:$B$4005,SMALL(IF((Calculations!$U$4:$U$4005=F$10)*(Calculations!$V$4:$V$4005>0),ROW(Calculations!$U$4:$U$4005)-ROW(INDEX(Calculations!$U$4:$U$4005,1,1))+1),ROUNDUP((ROW($A53)-ROW(startCell))/3,0)),1),""),"")} | H53: {=IFERROR(IF(LEN(H$10)>0, INDEX(Calculations!$B$4:$B$4005,SMALL(IF((Calculations!$U$4:$U$4005=H$10)*(Calculations!$V$4:$V$4005>0),ROW(Calculations!$U$4:$U$4005)-ROW(INDEX(Calculations!$U$4:$U$4005,1,1))+1),ROUNDUP((ROW($A53)-ROW(startCell))/3,0)),1),""),"")} | J53: {=IFERROR(IF(LEN(J$10)>0, INDEX(Calculations!$B$4:$B$4005,SMALL(IF((Calculations!$U$4:$U$4005=J$10)*(Calculations!$V$4:$V$4005>0),ROW(Calculations!$U$4:$U$4005)-ROW(INDEX(Calculations!$U$4:$U$4005,1,1))+1),ROUNDUP((ROW($A53)-ROW(startCell))/3,0)),1),""),"")} | L53: {=IFERROR(IF(LEN(L$10)>0, INDEX(Calculations!$B$4:$B$4005,SMALL(IF((Calculations!$U$4:$U$4005=L$10)*(Calculations!$V$4:$V$4005>0),ROW(Calculations!$U$4:$U$4005)-ROW(INDEX(Calculations!$U$4:$U$4005,1,1))+1),ROUNDUP((ROW($A53)-ROW(startCell))/3,0)),1),""),"")} | N53: {=IFERROR(IF(LEN(N$10)>0, INDEX(Calculations!$B$4:$B$4005,SMALL(IF((Calculations!$U$4:$U$4005=N$10)*(Calculations!$V$4:$V$4005>0),ROW(Calculations!$U$4:$U$4005)-ROW(INDEX(Calculations!$U$4:$U$4005,1,1))+1),ROUNDUP((ROW($A53)-ROW(startCell))/3,0)),1),""),"")} | P53: {=IFERROR(IF(LEN(P$10)>0, INDEX(Calculations!$B$4:$B$4005,SMALL(IF((Calculations!$U$4:$U$4005=P$10)*(Calculations!$V$4:$V$4005>0),ROW(Calculations!$U$4:$U$4005)-ROW(INDEX(Calculations!$U$4:$U$4005,1,1))+1),ROUNDUP((ROW($A53)-ROW(startCell))/3,0)),1),""),"")} | R53: {=IFERROR(IF(LEN(R$10)>0, INDEX(Calculations!$B$4:$B$4005,SMALL(IF((Calculations!$U$4:$U$4005=R$10)*(Calculations!$V$4:$V$4005>0),ROW(Calculations!$U$4:$U$4005)-ROW(INDEX(Calculations!$U$4:$U$4005,1,1))+1),ROUNDUP((ROW($A53)-ROW(startCell))/3,0)),1),""),"")} | T53: {=IFERROR(IF(LEN(T$10)>0, INDEX(Calculations!$B$4:$B$4005,SMALL(IF((Calculations!$U$4:$U$4005=T$10)*(Calculations!$V$4:$V$4005>0),ROW(Calculations!$U$4:$U$4005)-ROW(INDEX(Calculations!$U$4:$U$4005,1,1))+1),ROUNDUP((ROW($A53)-ROW(startCell))/3,0)),1),""),"")} | V53: {=IFERROR(IF(LEN(V$10)>0, INDEX(Calculations!$B$4:$B$4005,SMALL(IF((Calculations!$U$4:$U$4005=V$10)*(Calculations!$V$4:$V$4005>0),ROW(Calculations!$U$4:$U$4005)-ROW(INDEX(Calculations!$U$4:$U$4005,1,1))+1),ROUNDUP((ROW($A53)-ROW(startCell))/3,0)),1),""),"")}
D54: {=IFERROR( IF(LEN(D$10)>0, INDEX(Calculations!$D$4:$D$4005,SMALL(IF((Calculations!$U$4:$U$4005=D$10)*(Calculations!$V$4:$V$4005>0),ROW(Calculations!$U$4:$U$4005)-ROW(INDEX(Calculations!$U$4:$U$4005,1,1))+1),ROUNDUP((ROW($A54)-ROW(startCell))/3,0)),1),""),"")} | F54: {=IFERROR( IF(LEN(F$10)>0, INDEX(Calculations!$D$4:$D$4005,SMALL(IF((Calculations!$U$4:$U$4005=F$10)*(Calculations!$V$4:$V$4005>0),ROW(Calculations!$U$4:$U$4005)-ROW(INDEX(Calculations!$U$4:$U$4005,1,1))+1),ROUNDUP((ROW($A54)-ROW(startCell))/3,0)),1),""),"")} | H54: {=IFERROR( IF(LEN(H$10)>0, INDEX(Calculations!$D$4:$D$4005,SMALL(IF((Calculations!$U$4:$U$4005=H$10)*(Calculations!$V$4:$V$4005>0),ROW(Calculations!$U$4:$U$4005)-ROW(INDEX(Calculations!$U$4:$U$4005,1,1))+1),ROUNDUP((ROW($A54)-ROW(startCell))/3,0)),1),""),"")} | J54: {=IFERROR( IF(LEN(J$10)>0, INDEX(Calculations!$D$4:$D$4005,SMALL(IF((Calculations!$U$4:$U$4005=J$10)*(Calculations!$V$4:$V$4005>0),ROW(Calculations!$U$4:$U$4005)-ROW(INDEX(Calculations!$U$4:$U$4005,1,1))+1),ROUNDUP((ROW($A54)-ROW(startCell))/3,0)),1),""),"")} | L54: {=IFERROR( IF(LEN(L$10)>0, INDEX(Calculations!$D$4:$D$4005,SMALL(IF((Calculations!$U$4:$U$4005=L$10)*(Calculations!$V$4:$V$4005>0),ROW(Calculations!$U$4:$U$4005)-ROW(INDEX(Calculations!$U$4:$U$4005,1,1))+1),ROUNDUP((ROW($A54)-ROW(startCell))/3,0)),1),""),"")} | N54: {=IFERROR( IF(LEN(N$10)>0, INDEX(Calculations!$D$4:$D$4005,SMALL(IF((Calculations!$U$4:$U$4005=N$10)*(Calculations!$V$4:$V$4005>0),ROW(Calculations!$U$4:$U$4005)-ROW(INDEX(Calculations!$U$4:$U$4005,1,1))+1),ROUNDUP((ROW($A54)-ROW(startCell))/3,0)),1),""),"")} | P54: {=IFERROR( IF(LEN(P$10)>0, INDEX(Calculations!$D$4:$D$4005,SMALL(IF((Calculations!$U$4:$U$4005=P$10)*(Calculations!$V$4:$V$4005>0),ROW(Calculations!$U$4:$U$4005)-ROW(INDEX(Calculations!$U$4:$U$4005,1,1))+1),ROUNDUP((ROW($A54)-ROW(startCell))/3,0)),1),""),"")} | R54: {=IFERROR( IF(LEN(R$10)>0, INDEX(Calculations!$D$4:$D$4005,SMALL(IF((Calculations!$U$4:$U$4005=R$10)*(Calculations!$V$4:$V$4005>0),ROW(Calculations!$U$4:$U$4005)-ROW(INDEX(Calculations!$U$4:$U$4005,1,1))+1),ROUNDUP((ROW($A54)-ROW(startCell))/3,0)),1),""),"")} | T54: {=IFERROR( IF(LEN(T$10)>0, INDEX(Calculations!$D$4:$D$4005,SMALL(IF((Calculations!$U$4:$U$4005=T$10)*(Calculations!$V$4:$V$4005>0),ROW(Calculations!$U$4:$U$4005)-ROW(INDEX(Calculations!$U$4:$U$4005,1,1))+1),ROUNDUP((ROW($A54)-ROW(startCell))/3,0)),1),""),"")} | V54: {=IFERROR( IF(LEN(V$10)>0, INDEX(Calculations!$D$4:$D$4005,SMALL(IF((Calculations!$U$4:$U$4005=V$10)*(Calculations!$V$4:$V$4005>0),ROW(Calculations!$U$4:$U$4005)-ROW(INDEX(Calculations!$U$4:$U$4005,1,1))+1),ROUNDUP((ROW($A54)-ROW(startCell))/3,0)),1),""),"")}
D55: {=IFERROR( IF(LEN(D$10)>0, INDEX(Calculations!$G$4:$G$4005,SMALL(IF((Calculations!$U$4:$U$4005=D$10)*(Calculations!$V$4:$V$4005>0),ROW(Calculations!$U$4:$U$4005)-ROW(INDEX(Calculations!$U$4:$U$4005,1,1))+1),ROUNDUP((ROW($A55)-ROW(startCell))/3,0)),1),""),"")} | F55: {=IFERROR( IF(LEN(F$10)>0, INDEX(Calculations!$G$4:$G$4005,SMALL(IF((Calculations!$U$4:$U$4005=F$10)*(Calculations!$V$4:$V$4005>0),ROW(Calculations!$U$4:$U$4005)-ROW(INDEX(Calculations!$U$4:$U$4005,1,1))+1),ROUNDUP((ROW($A55)-ROW(startCell))/3,0)),1),""),"")} | H55: {=IFERROR( IF(LEN(H$10)>0, INDEX(Calculations!$G$4:$G$4005,SMALL(IF((Calculations!$U$4:$U$4005=H$10)*(Calculations!$V$4:$V$4005>0),ROW(Calculations!$U$4:$U$4005)-ROW(INDEX(Calculations!$U$4:$U$4005,1,1))+1),ROUNDUP((ROW($A55)-ROW(startCell))/3,0)),1),""),"")} | J55: {=IFERROR( IF(LEN(J$10)>0, INDEX(Calculations!$G$4:$G$4005,SMALL(IF((Calculations!$U$4:$U$4005=J$10)*(Calculations!$V$4:$V$4005>0),ROW(Calculations!$U$4:$U$4005)-ROW(INDEX(Calculations!$U$4:$U$4005,1,1))+1),ROUNDUP((ROW($A55)-ROW(startCell))/3,0)),1),""),"")} | L55: {=IFERROR( IF(LEN(L$10)>0, INDEX(Calculations!$G$4:$G$4005,SMALL(IF((Calculations!$U$4:$U$4005=L$10)*(Calculations!$V$4:$V$4005>0),ROW(Calculations!$U$4:$U$4005)-ROW(INDEX(Calculations!$U$4:$U$4005,1,1))+1),ROUNDUP((ROW($A55)-ROW(startCell))/3,0)),1),""),"")} | N55: {=IFERROR( IF(LEN(N$10)>0, INDEX(Calculations!$G$4:$G$4005,SMALL(IF((Calculations!$U$4:$U$4005=N$10)*(Calculations!$V$4:$V$4005>0),ROW(Calculations!$U$4:$U$4005)-ROW(INDEX(Calculations!$U$4:$U$4005,1,1))+1),ROUNDUP((ROW($A55)-ROW(startCell))/3,0)),1),""),"")} | P55: {=IFERROR( IF(LEN(P$10)>0, INDEX(Calculations!$G$4:$G$4005,SMALL(IF((Calculations!$U$4:$U$4005=P$10)*(Calculations!$V$4:$V$4005>0),ROW(Calculations!$U$4:$U$4005)-ROW(INDEX(Calculations!$U$4:$U$4005,1,1))+1),ROUNDUP((ROW($A55)-ROW(startCell))/3,0)),1),""),"")} | R55: {=IFERROR( IF(LEN(R$10)>0, INDEX(Calculations!$G$4:$G$4005,SMALL(IF((Calculations!$U$4:$U$4005=R$10)*(Calculations!$V$4:$V$4005>0),ROW(Calculations!$U$4:$U$4005)-ROW(INDEX(Calculations!$U$4:$U$4005,1,1))+1),ROUNDUP((ROW($A55)-ROW(startCell))/3,0)),1),""),"")} | T55: {=IFERROR( IF(LEN(T$10)>0, INDEX(Calculations!$G$4:$G$4005,SMALL(IF((Calculations!$U$4:$U$4005=T$10)*(Calculations!$V$4:$V$4005>0),ROW(Calculations!$U$4:$U$4005)-ROW(INDEX(Calculations!$U$4:$U$4005,1,1))+1),ROUNDUP((ROW($A55)-ROW(startCell))/3,0)),1),""),"")} | V55: {=IFERROR( IF(LEN(V$10)>0, INDEX(Calculations!$G$4:$G$4005,SMALL(IF((Calculations!$U$4:$U$4005=V$10)*(Calculations!$V$4:$V$4005>0),ROW(Calculations!$U$4:$U$4005)-ROW(INDEX(Calculations!$U$4:$U$4005,1,1))+1),ROUNDUP((ROW($A55)-ROW(startCell))/3,0)),1),""),"")}
D56: {=IFERROR(IF(LEN(D$10)>0, INDEX(Calculations!$B$4:$B$4005,SMALL(IF((Calculations!$U$4:$U$4005=D$10)*(Calculations!$V$4:$V$4005>0),ROW(Calculations!$U$4:$U$4005)-ROW(INDEX(Calculations!$U$4:$U$4005,1,1))+1),ROUNDUP((ROW($A56)-ROW(startCell))/3,0)),1),""),"")} | F56: {=IFERROR(IF(LEN(F$10)>0, INDEX(Calculations!$B$4:$B$4005,SMALL(IF((Calculations!$U$4:$U$4005=F$10)*(Calculations!$V$4:$V$4005>0),ROW(Calculations!$U$4:$U$4005)-ROW(INDEX(Calculations!$U$4:$U$4005,1,1))+1),ROUNDUP((ROW($A56)-ROW(startCell))/3,0)),1),""),"")} | H56: {=IFERROR(IF(LEN(H$10)>0, INDEX(Calculations!$B$4:$B$4005,SMALL(IF((Calculations!$U$4:$U$4005=H$10)*(Calculations!$V$4:$V$4005>0),ROW(Calculations!$U$4:$U$4005)-ROW(INDEX(Calculations!$U$4:$U$4005,1,1))+1),ROUNDUP((ROW($A56)-ROW(startCell))/3,0)),1),""),"")} | J56: {=IFERROR(IF(LEN(J$10)>0, INDEX(Calculations!$B$4:$B$4005,SMALL(IF((Calculations!$U$4:$U$4005=J$10)*(Calculations!$V$4:$V$4005>0),ROW(Calculations!$U$4:$U$4005)-ROW(INDEX(Calculations!$U$4:$U$4005,1,1))+1),ROUNDUP((ROW($A56)-ROW(startCell))/3,0)),1),""),"")} | L56: {=IFERROR(IF(LEN(L$10)>0, INDEX(Calculations!$B$4:$B$4005,SMALL(IF((Calculations!$U$4:$U$4005=L$10)*(Calculations!$V$4:$V$4005>0),ROW(Calculations!$U$4:$U$4005)-ROW(INDEX(Calculations!$U$4:$U$4005,1,1))+1),ROUNDUP((ROW($A56)-ROW(startCell))/3,0)),1),""),"")} | N56: {=IFERROR(IF(LEN(N$10)>0, INDEX(Calculations!$B$4:$B$4005,SMALL(IF((Calculations!$U$4:$U$4005=N$10)*(Calculations!$V$4:$V$4005>0),ROW(Calculations!$U$4:$U$4005)-ROW(INDEX(Calculations!$U$4:$U$4005,1,1))+1),ROUNDUP((ROW($A56)-ROW(startCell))/3,0)),1),""),"")} | P56: {=IFERROR(IF(LEN(P$10)>0, INDEX(Calculations!$B$4:$B$4005,SMALL(IF((Calculations!$U$4:$U$4005=P$10)*(Calculations!$V$4:$V$4005>0),ROW(Calculations!$U$4:$U$4005)-ROW(INDEX(Calculations!$U$4:$U$4005,1,1))+1),ROUNDUP((ROW($A56)-ROW(startCell))/3,0)),1),""),"")} | R56: {=IFERROR(IF(LEN(R$10)>0, INDEX(Calculations!$B$4:$B$4005,SMALL(IF((Calculations!$U$4:$U$4005=R$10)*(Calculations!$V$4:$V$4005>0),ROW(Calculations!$U$4:$U$4005)-ROW(INDEX(Calculations!$U$4:$U$4005,1,1))+1),ROUNDUP((ROW($A56)-ROW(startCell))/3,0)),1),""),"")} | T56: {=IFERROR(IF(LEN(T$10)>0, INDEX(Calculations!$B$4:$B$4005,SMALL(IF((Calculations!$U$4:$U$4005=T$10)*(Calculations!$V$4:$V$4005>0),ROW(Calculations!$U$4:$U$4005)-ROW(INDEX(Calculations!$U$4:$U$4005,1,1))+1),ROUNDUP((ROW($A56)-ROW(startCell))/3,0)),1),""),"")} | V56: {=IFERROR(IF(LEN(V$10)>0, INDEX(Calculations!$B$4:$B$4005,SMALL(IF((Calculations!$U$4:$U$4005=V$10)*(Calculations!$V$4:$V$4005>0),ROW(Calculations!$U$4:$U$4005)-ROW(INDEX(Calculations!$U$4:$U$4005,1,1))+1),ROUNDUP((ROW($A56)-ROW(startCell))/3,0)),1),""),"")}
D57: {=IFERROR( IF(LEN(D$10)>0, INDEX(Calculations!$D$4:$D$4005,SMALL(IF((Calculations!$U$4:$U$4005=D$10)*(Calculations!$V$4:$V$4005>0),ROW(Calculations!$U$4:$U$4005)-ROW(INDEX(Calculations!$U$4:$U$4005,1,1))+1),ROUNDUP((ROW($A57)-ROW(startCell))/3,0)),1),""),"")} | F57: {=IFERROR( IF(LEN(F$10)>0, INDEX(Calculations!$D$4:$D$4005,SMALL(IF((Calculations!$U$4:$U$4005=F$10)*(Calculations!$V$4:$V$4005>0),ROW(Calculations!$U$4:$U$4005)-ROW(INDEX(Calculations!$U$4:$U$4005,1,1))+1),ROUNDUP((ROW($A57)-ROW(startCell))/3,0)),1),""),"")} | H57: {=IFERROR( IF(LEN(H$10)>0, INDEX(Calculations!$D$4:$D$4005,SMALL(IF((Calculations!$U$4:$U$4005=H$10)*(Calculations!$V$4:$V$4005>0),ROW(Calculations!$U$4:$U$4005)-ROW(INDEX(Calculations!$U$4:$U$4005,1,1))+1),ROUNDUP((ROW($A57)-ROW(startCell))/3,0)),1),""),"")} | J57: {=IFERROR( IF(LEN(J$10)>0, INDEX(Calculations!$D$4:$D$4005,SMALL(IF((Calculations!$U$4:$U$4005=J$10)*(Calculations!$V$4:$V$4005>0),ROW(Calculations!$U$4:$U$4005)-ROW(INDEX(Calculations!$U$4:$U$4005,1,1))+1),ROUNDUP((ROW($A57)-ROW(startCell))/3,0)),1),""),"")} | L57: {=IFERROR( IF(LEN(L$10)>0, INDEX(Calculations!$D$4:$D$4005,SMALL(IF((Calculations!$U$4:$U$4005=L$10)*(Calculations!$V$4:$V$4005>0),ROW(Calculations!$U$4:$U$4005)-ROW(INDEX(Calculations!$U$4:$U$4005,1,1))+1),ROUNDUP((ROW($A57)-ROW(startCell))/3,0)),1),""),"")} | N57: {=IFERROR( IF(LEN(N$10)>0, INDEX(Calculations!$D$4:$D$4005,SMALL(IF((Calculations!$U$4:$U$4005=N$10)*(Calculations!$V$4:$V$4005>0),ROW(Calculations!$U$4:$U$4005)-ROW(INDEX(Calculations!$U$4:$U$4005,1,1))+1),ROUNDUP((ROW($A57)-ROW(startCell))/3,0)),1),""),"")} | P57: {=IFERROR( IF(LEN(P$10)>0, INDEX(Calculations!$D$4:$D$4005,SMALL(IF((Calculations!$U$4:$U$4005=P$10)*(Calculations!$V$4:$V$4005>0),ROW(Calculations!$U$4:$U$4005)-ROW(INDEX(Calculations!$U$4:$U$4005,1,1))+1),ROUNDUP((ROW($A57)-ROW(startCell))/3,0)),1),""),"")} | R57: {=IFERROR( IF(LEN(R$10)>0, INDEX(Calculations!$D$4:$D$4005,SMALL(IF((Calculations!$U$4:$U$4005=R$10)*(Calculations!$V$4:$V$4005>0),ROW(Calculations!$U$4:$U$4005)-ROW(INDEX(Calculations!$U$4:$U$4005,1,1))+1),ROUNDUP((ROW($A57)-ROW(startCell))/3,0)),1),""),"")} | T57: {=IFERROR( IF(LEN(T$10)>0, INDEX(Calculations!$D$4:$D$4005,SMALL(IF((Calculations!$U$4:$U$4005=T$10)*(Calculations!$V$4:$V$4005>0),ROW(Calculations!$U$4:$U$4005)-ROW(INDEX(Calculations!$U$4:$U$4005,1,1))+1),ROUNDUP((ROW($A57)-ROW(startCell))/3,0)),1),""),"")} | V57: {=IFERROR( IF(LEN(V$10)>0, INDEX(Calculations!$D$4:$D$4005,SMALL(IF((Calculations!$U$4:$U$4005=V$10)*(Calculations!$V$4:$V$4005>0),ROW(Calculations!$U$4:$U$4005)-ROW(INDEX(Calculations!$U$4:$U$4005,1,1))+1),ROUNDUP((ROW($A57)-ROW(startCell))/3,0)),1),""),"")}
D58: {=IFERROR( IF(LEN(D$10)>0, INDEX(Calculations!$G$4:$G$4005,SMALL(IF((Calculations!$U$4:$U$4005=D$10)*(Calculations!$V$4:$V$4005>0),ROW(Calculations!$U$4:$U$4005)-ROW(INDEX(Calculations!$U$4:$U$4005,1,1))+1),ROUNDUP((ROW($A58)-ROW(startCell))/3,0)),1),""),"")} | F58: {=IFERROR( IF(LEN(F$10)>0, INDEX(Calculations!$G$4:$G$4005,SMALL(IF((Calculations!$U$4:$U$4005=F$10)*(Calculations!$V$4:$V$4005>0),ROW(Calculations!$U$4:$U$4005)-ROW(INDEX(Calculations!$U$4:$U$4005,1,1))+1),ROUNDUP((ROW($A58)-ROW(startCell))/3,0)),1),""),"")} | H58: {=IFERROR( IF(LEN(H$10)>0, INDEX(Calculations!$G$4:$G$4005,SMALL(IF((Calculations!$U$4:$U$4005=H$10)*(Calculations!$V$4:$V$4005>0),ROW(Calculations!$U$4:$U$4005)-ROW(INDEX(Calculations!$U$4:$U$4005,1,1))+1),ROUNDUP((ROW($A58)-ROW(startCell))/3,0)),1),""),"")} | J58: {=IFERROR( IF(LEN(J$10)>0, INDEX(Calculations!$G$4:$G$4005,SMALL(IF((Calculations!$U$4:$U$4005=J$10)*(Calculations!$V$4:$V$4005>0),ROW(Calculations!$U$4:$U$4005)-ROW(INDEX(Calculations!$U$4:$U$4005,1,1))+1),ROUNDUP((ROW($A58)-ROW(startCell))/3,0)),1),""),"")} | L58: {=IFERROR( IF(LEN(L$10)>0, INDEX(Calculations!$G$4:$G$4005,SMALL(IF((Calculations!$U$4:$U$4005=L$10)*(Calculations!$V$4:$V$4005>0),ROW(Calculations!$U$4:$U$4005)-ROW(INDEX(Calculations!$U$4:$U$4005,1,1))+1),ROUNDUP((ROW($A58)-ROW(startCell))/3,0)),1),""),"")} | N58: {=IFERROR( IF(LEN(N$10)>0, INDEX(Calculations!$G$4:$G$4005,SMALL(IF((Calculations!$U$4:$U$4005=N$10)*(Calculations!$V$4:$V$4005>0),ROW(Calculations!$U$4:$U$4005)-ROW(INDEX(Calculations!$U$4:$U$4005,1,1))+1),ROUNDUP((ROW($A58)-ROW(startCell))/3,0)),1),""),"")} | P58: {=IFERROR( IF(LEN(P$10)>0, INDEX(Calculations!$G$4:$G$4005,SMALL(IF((Calculations!$U$4:$U$4005=P$10)*(Calculations!$V$4:$V$4005>0),ROW(Calculations!$U$4:$U$4005)-ROW(INDEX(Calculations!$U$4:$U$4005,1,1))+1),ROUNDUP((ROW($A58)-ROW(startCell))/3,0)),1),""),"")} | R58: {=IFERROR( IF(LEN(R$10)>0, INDEX(Calculations!$G$4:$G$4005,SMALL(IF((Calculations!$U$4:$U$4005=R$10)*(Calculations!$V$4:$V$4005>0),ROW(Calculations!$U$4:$U$4005)-ROW(INDEX(Calculations!$U$4:$U$4005,1,1))+1),ROUNDUP((ROW($A58)-ROW(startCell))/3,0)),1),""),"")} | T58: {=IFERROR( IF(LEN(T$10)>0, INDEX(Calculations!$G$4:$G$4005,SMALL(IF((Calculations!$U$4:$U$4005=T$10)*(Calculations!$V$4:$V$4005>0),ROW(Calculations!$U$4:$U$4005)-ROW(INDEX(Calculations!$U$4:$U$4005,1,1))+1),ROUNDUP((ROW($A58)-ROW(startCell))/3,0)),1),""),"")} | V58: {=IFERROR( IF(LEN(V$10)>0, INDEX(Calculations!$G$4:$G$4005,SMALL(IF((Calculations!$U$4:$U$4005=V$10)*(Calculations!$V$4:$V$4005>0),ROW(Calculations!$U$4:$U$4005)-ROW(INDEX(Calculations!$U$4:$U$4005,1,1))+1),ROUNDUP((ROW($A58)-ROW(startCell))/3,0)),1),""),"")}
D59: {=IFERROR(IF(LEN(D$10)>0, INDEX(Calculations!$B$4:$B$4005,SMALL(IF((Calculations!$U$4:$U$4005=D$10)*(Calculations!$V$4:$V$4005>0),ROW(Calculations!$U$4:$U$4005)-ROW(INDEX(Calculations!$U$4:$U$4005,1,1))+1),ROUNDUP((ROW($A59)-ROW(startCell))/3,0)),1),""),"")} | F59: {=IFERROR(IF(LEN(F$10)>0, INDEX(Calculations!$B$4:$B$4005,SMALL(IF((Calculations!$U$4:$U$4005=F$10)*(Calculations!$V$4:$V$4005>0),ROW(Calculations!$U$4:$U$4005)-ROW(INDEX(Calculations!$U$4:$U$4005,1,1))+1),ROUNDUP((ROW($A59)-ROW(startCell))/3,0)),1),""),"")} | H59: {=IFERROR(IF(LEN(H$10)>0, INDEX(Calculations!$B$4:$B$4005,SMALL(IF((Calculations!$U$4:$U$4005=H$10)*(Calculations!$V$4:$V$4005>0),ROW(Calculations!$U$4:$U$4005)-ROW(INDEX(Calculations!$U$4:$U$4005,1,1))+1),ROUNDUP((ROW($A59)-ROW(startCell))/3,0)),1),""),"")} | J59: {=IFERROR(IF(LEN(J$10)>0, INDEX(Calculations!$B$4:$B$4005,SMALL(IF((Calculations!$U$4:$U$4005=J$10)*(Calculations!$V$4:$V$4005>0),ROW(Calculations!$U$4:$U$4005)-ROW(INDEX(Calculations!$U$4:$U$4005,1,1))+1),ROUNDUP((ROW($A59)-ROW(startCell))/3,0)),1),""),"")} | L59: {=IFERROR(IF(LEN(L$10)>0, INDEX(Calculations!$B$4:$B$4005,SMALL(IF((Calculations!$U$4:$U$4005=L$10)*(Calculations!$V$4:$V$4005>0),ROW(Calculations!$U$4:$U$4005)-ROW(INDEX(Calculations!$U$4:$U$4005,1,1))+1),ROUNDUP((ROW($A59)-ROW(startCell))/3,0)),1),""),"")} | N59: {=IFERROR(IF(LEN(N$10)>0, INDEX(Calculations!$B$4:$B$4005,SMALL(IF((Calculations!$U$4:$U$4005=N$10)*(Calculations!$V$4:$V$4005>0),ROW(Calculations!$U$4:$U$4005)-ROW(INDEX(Calculations!$U$4:$U$4005,1,1))+1),ROUNDUP((ROW($A59)-ROW(startCell))/3,0)),1),""),"")} | P59: {=IFERROR(IF(LEN(P$10)>0, INDEX(Calculations!$B$4:$B$4005,SMALL(IF((Calculations!$U$4:$U$4005=P$10)*(Calculations!$V$4:$V$4005>0),ROW(Calculations!$U$4:$U$4005)-ROW(INDEX(Calculations!$U$4:$U$4005,1,1))+1),ROUNDUP((ROW($A59)-ROW(startCell))/3,0)),1),""),"")} | R59: {=IFERROR(IF(LEN(R$10)>0, INDEX(Calculations!$B$4:$B$4005,SMALL(IF((Calculations!$U$4:$U$4005=R$10)*(Calculations!$V$4:$V$4005>0),ROW(Calculations!$U$4:$U$4005)-ROW(INDEX(Calculations!$U$4:$U$4005,1,1))+1),ROUNDUP((ROW($A59)-ROW(startCell))/3,0)),1),""),"")} | T59: {=IFERROR(IF(LEN(T$10)>0, INDEX(Calculations!$B$4:$B$4005,SMALL(IF((Calculations!$U$4:$U$4005=T$10)*(Calculations!$V$4:$V$4005>0),ROW(Calculations!$U$4:$U$4005)-ROW(INDEX(Calculations!$U$4:$U$4005,1,1))+1),ROUNDUP((ROW($A59)-ROW(startCell))/3,0)),1),""),"")} | V59: {=IFERROR(IF(LEN(V$10)>0, INDEX(Calculations!$B$4:$B$4005,SMALL(IF((Calculations!$U$4:$U$4005=V$10)*(Calculations!$V$4:$V$4005>0),ROW(Calculations!$U$4:$U$4005)-ROW(INDEX(Calculations!$U$4:$U$4005,1,1))+1),ROUNDUP((ROW($A59)-ROW(startCell))/3,0)),1),""),"")}
D60: {=IFERROR( IF(LEN(D$10)>0, INDEX(Calculations!$D$4:$D$4005,SMALL(IF((Calculations!$U$4:$U$4005=D$10)*(Calculations!$V$4:$V$4005>0),ROW(Calculations!$U$4:$U$4005)-ROW(INDEX(Calculations!$U$4:$U$4005,1,1))+1),ROUNDUP((ROW($A60)-ROW(startCell))/3,0)),1),""),"")} | F60: {=IFERROR( IF(LEN(F$10)>0, INDEX(Calculations!$D$4:$D$4005,SMALL(IF((Calculations!$U$4:$U$4005=F$10)*(Calculations!$V$4:$V$4005>0),ROW(Calculations!$U$4:$U$4005)-ROW(INDEX(Calculations!$U$4:$U$4005,1,1))+1),ROUNDUP((ROW($A60)-ROW(startCell))/3,0)),1),""),"")} | H60: {=IFERROR( IF(LEN(H$10)>0, INDEX(Calculations!$D$4:$D$4005,SMALL(IF((Calculations!$U$4:$U$4005=H$10)*(Calculations!$V$4:$V$4005>0),ROW(Calculations!$U$4:$U$4005)-ROW(INDEX(Calculations!$U$4:$U$4005,1,1))+1),ROUNDUP((ROW($A60)-ROW(startCell))/3,0)),1),""),"")} | J60: {=IFERROR( IF(LEN(J$10)>0, INDEX(Calculations!$D$4:$D$4005,SMALL(IF((Calculations!$U$4:$U$4005=J$10)*(Calculations!$V$4:$V$4005>0),ROW(Calculations!$U$4:$U$4005)-ROW(INDEX(Calculations!$U$4:$U$4005,1,1))+1),ROUNDUP((ROW($A60)-ROW(startCell))/3,0)),1),""),"")} | L60: {=IFERROR( IF(LEN(L$10)>0, INDEX(Calculations!$D$4:$D$4005,SMALL(IF((Calculations!$U$4:$U$4005=L$10)*(Calculations!$V$4:$V$4005>0),ROW(Calculations!$U$4:$U$4005)-ROW(INDEX(Calculations!$U$4:$U$4005,1,1))+1),ROUNDUP((ROW($A60)-ROW(startCell))/3,0)),1),""),"")} | N60: {=IFERROR( IF(LEN(N$10)>0, INDEX(Calculations!$D$4:$D$4005,SMALL(IF((Calculations!$U$4:$U$4005=N$10)*(Calculations!$V$4:$V$4005>0),ROW(Calculations!$U$4:$U$4005)-ROW(INDEX(Calculations!$U$4:$U$4005,1,1))+1),ROUNDUP((ROW($A60)-ROW(startCell))/3,0)),1),""),"")} | P60: {=IFERROR( IF(LEN(P$10)>0, INDEX(Calculations!$D$4:$D$4005,SMALL(IF((Calculations!$U$4:$U$4005=P$10)*(Calculations!$V$4:$V$4005>0),ROW(Calculations!$U$4:$U$4005)-ROW(INDEX(Calculations!$U$4:$U$4005,1,1))+1),ROUNDUP((ROW($A60)-ROW(startCell))/3,0)),1),""),"")} | R60: {=IFERROR( IF(LEN(R$10)>0, INDEX(Calculations!$D$4:$D$4005,SMALL(IF((Calculations!$U$4:$U$4005=R$10)*(Calculations!$V$4:$V$4005>0),ROW(Calculations!$U$4:$U$4005)-ROW(INDEX(Calculations!$U$4:$U$4005,1,1))+1),ROUNDUP((ROW($A60)-ROW(startCell))/3,0)),1),""),"")} | T60: {=IFERROR( IF(LEN(T$10)>0, INDEX(Calculations!$D$4:$D$4005,SMALL(IF((Calculations!$U$4:$U$4005=T$10)*(Calculations!$V$4:$V$4005>0),ROW(Calculations!$U$4:$U$4005)-ROW(INDEX(Calculations!$U$4:$U$4005,1,1))+1),ROUNDUP((ROW($A60)-ROW(startCell))/3,0)),1),""),"")} | V60: {=IFERROR( IF(LEN(V$10)>0, INDEX(Calculations!$D$4:$D$4005,SMALL(IF((Calculations!$U$4:$U$4005=V$10)*(Calculations!$V$4:$V$4005>0),ROW(Calculations!$U$4:$U$4005)-ROW(INDEX(Calculations!$U$4:$U$4005,1,1))+1),ROUNDUP((ROW($A60)-ROW(startCell))/3,0)),1),""),"")}
D61: {=IFERROR( IF(LEN(D$10)>0, INDEX(Calculations!$G$4:$G$4005,SMALL(IF((Calculations!$U$4:$U$4005=D$10)*(Calculations!$V$4:$V$4005>0),ROW(Calculations!$U$4:$U$4005)-ROW(INDEX(Calculations!$U$4:$U$4005,1,1))+1),ROUNDUP((ROW($A61)-ROW(startCell))/3,0)),1),""),"")} | F61: {=IFERROR( IF(LEN(F$10)>0, INDEX(Calculations!$G$4:$G$4005,SMALL(IF((Calculations!$U$4:$U$4005=F$10)*(Calculations!$V$4:$V$4005>0),ROW(Calculations!$U$4:$U$4005)-ROW(INDEX(Calculations!$U$4:$U$4005,1,1))+1),ROUNDUP((ROW($A61)-ROW(startCell))/3,0)),1),""),"")} | H61: {=IFERROR( IF(LEN(H$10)>0, INDEX(Calculations!$G$4:$G$4005,SMALL(IF((Calculations!$U$4:$U$4005=H$10)*(Calculations!$V$4:$V$4005>0),ROW(Calculations!$U$4:$U$4005)-ROW(INDEX(Calculations!$U$4:$U$4005,1,1))+1),ROUNDUP((ROW($A61)-ROW(startCell))/3,0)),1),""),"")} | J61: {=IFERROR( IF(LEN(J$10)>0, INDEX(Calculations!$G$4:$G$4005,SMALL(IF((Calculations!$U$4:$U$4005=J$10)*(Calculations!$V$4:$V$4005>0),ROW(Calculations!$U$4:$U$4005)-ROW(INDEX(Calculations!$U$4:$U$4005,1,1))+1),ROUNDUP((ROW($A61)-ROW(startCell))/3,0)),1),""),"")} | L61: {=IFERROR( IF(LEN(L$10)>0, INDEX(Calculations!$G$4:$G$4005,SMALL(IF((Calculations!$U$4:$U$4005=L$10)*(Calculations!$V$4:$V$4005>0),ROW(Calculations!$U$4:$U$4005)-ROW(INDEX(Calculations!$U$4:$U$4005,1,1))+1),ROUNDUP((ROW($A61)-ROW(startCell))/3,0)),1),""),"")} | N61: {=IFERROR( IF(LEN(N$10)>0, INDEX(Calculations!$G$4:$G$4005,SMALL(IF((Calculations!$U$4:$U$4005=N$10)*(Calculations!$V$4:$V$4005>0),ROW(Calculations!$U$4:$U$4005)-ROW(INDEX(Calculations!$U$4:$U$4005,1,1))+1),ROUNDUP((ROW($A61)-ROW(startCell))/3,0)),1),""),"")} | P61: {=IFERROR( IF(LEN(P$10)>0, INDEX(Calculations!$G$4:$G$4005,SMALL(IF((Calculations!$U$4:$U$4005=P$10)*(Calculations!$V$4:$V$4005>0),ROW(Calculations!$U$4:$U$4005)-ROW(INDEX(Calculations!$U$4:$U$4005,1,1))+1),ROUNDUP((ROW($A61)-ROW(startCell))/3,0)),1),""),"")} | R61: {=IFERROR( IF(LEN(R$10)>0, INDEX(Calculations!$G$4:$G$4005,SMALL(IF((Calculations!$U$4:$U$4005=R$10)*(Calculations!$V$4:$V$4005>0),ROW(Calculations!$U$4:$U$4005)-ROW(INDEX(Calculations!$U$4:$U$4005,1,1))+1),ROUNDUP((ROW($A61)-ROW(startCell))/3,0)),1),""),"")} | T61: {=IFERROR( IF(LEN(T$10)>0, INDEX(Calculations!$G$4:$G$4005,SMALL(IF((Calculations!$U$4:$U$4005=T$10)*(Calculations!$V$4:$V$4005>0),ROW(Calculations!$U$4:$U$4005)-ROW(INDEX(Calculations!$U$4:$U$4005,1,1))+1),ROUNDUP((ROW($A61)-ROW(startCell))/3,0)),1),""),"")} | V61: {=IFERROR( IF(LEN(V$10)>0, INDEX(Calculations!$G$4:$G$4005,SMALL(IF((Calculations!$U$4:$U$4005=V$10)*(Calculations!$V$4:$V$4005>0),ROW(Calculations!$U$4:$U$4005)-ROW(INDEX(Calculations!$U$4:$U$4005,1,1))+1),ROUNDUP((ROW($A61)-ROW(startCell))/3,0)),1),""),"")}
D62: {=IFERROR(IF(LEN(D$10)>0, INDEX(Calculations!$B$4:$B$4005,SMALL(IF((Calculations!$U$4:$U$4005=D$10)*(Calculations!$V$4:$V$4005>0),ROW(Calculations!$U$4:$U$4005)-ROW(INDEX(Calculations!$U$4:$U$4005,1,1))+1),ROUNDUP((ROW($A62)-ROW(startCell))/3,0)),1),""),"")} | F62: {=IFERROR(IF(LEN(F$10)>0, INDEX(Calculations!$B$4:$B$4005,SMALL(IF((Calculations!$U$4:$U$4005=F$10)*(Calculations!$V$4:$V$4005>0),ROW(Calculations!$U$4:$U$4005)-ROW(INDEX(Calculations!$U$4:$U$4005,1,1))+1),ROUNDUP((ROW($A62)-ROW(startCell))/3,0)),1),""),"")} | H62: {=IFERROR(IF(LEN(H$10)>0, INDEX(Calculations!$B$4:$B$4005,SMALL(IF((Calculations!$U$4:$U$4005=H$10)*(Calculations!$V$4:$V$4005>0),ROW(Calculations!$U$4:$U$4005)-ROW(INDEX(Calculations!$U$4:$U$4005,1,1))+1),ROUNDUP((ROW($A62)-ROW(startCell))/3,0)),1),""),"")} | J62: {=IFERROR(IF(LEN(J$10)>0, INDEX(Calculations!$B$4:$B$4005,SMALL(IF((Calculations!$U$4:$U$4005=J$10)*(Calculations!$V$4:$V$4005>0),ROW(Calculations!$U$4:$U$4005)-ROW(INDEX(Calculations!$U$4:$U$4005,1,1))+1),ROUNDUP((ROW($A62)-ROW(startCell))/3,0)),1),""),"")} | L62: {=IFERROR(IF(LEN(L$10)>0, INDEX(Calculations!$B$4:$B$4005,SMALL(IF((Calculations!$U$4:$U$4005=L$10)*(Calculations!$V$4:$V$4005>0),ROW(Calculations!$U$4:$U$4005)-ROW(INDEX(Calculations!$U$4:$U$4005,1,1))+1),ROUNDUP((ROW($A62)-ROW(startCell))/3,0)),1),""),"")} | N62: {=IFERROR(IF(LEN(N$10)>0, INDEX(Calculations!$B$4:$B$4005,SMALL(IF((Calculations!$U$4:$U$4005=N$10)*(Calculations!$V$4:$V$4005>0),ROW(Calculations!$U$4:$U$4005)-ROW(INDEX(Calculations!$U$4:$U$4005,1,1))+1),ROUNDUP((ROW($A62)-ROW(startCell))/3,0)),1),""),"")} | P62: {=IFERROR(IF(LEN(P$10)>0, INDEX(Calculations!$B$4:$B$4005,SMALL(IF((Calculations!$U$4:$U$4005=P$10)*(Calculations!$V$4:$V$4005>0),ROW(Calculations!$U$4:$U$4005)-ROW(INDEX(Calculations!$U$4:$U$4005,1,1))+1),ROUNDUP((ROW($A62)-ROW(startCell))/3,0)),1),""),"")} | R62: {=IFERROR(IF(LEN(R$10)>0, INDEX(Calculations!$B$4:$B$4005,SMALL(IF((Calculations!$U$4:$U$4005=R$10)*(Calculations!$V$4:$V$4005>0),ROW(Calculations!$U$4:$U$4005)-ROW(INDEX(Calculations!$U$4:$U$4005,1,1))+1),ROUNDUP((ROW($A62)-ROW(startCell))/3,0)),1),""),"")} | T62: {=IFERROR(IF(LEN(T$10)>0, INDEX(Calculations!$B$4:$B$4005,SMALL(IF((Calculations!$U$4:$U$4005=T$10)*(Calculations!$V$4:$V$4005>0),ROW(Calculations!$U$4:$U$4005)-ROW(INDEX(Calculations!$U$4:$U$4005,1,1))+1),ROUNDUP((ROW($A62)-ROW(startCell))/3,0)),1),""),"")} | V62: {=IFERROR(IF(LEN(V$10)>0, INDEX(Calculations!$B$4:$B$4005,SMALL(IF((Calculations!$U$4:$U$4005=V$10)*(Calculations!$V$4:$V$4005>0),ROW(Calculations!$U$4:$U$4005)-ROW(INDEX(Calculations!$U$4:$U$4005,1,1))+1),ROUNDUP((ROW($A62)-ROW(startCell))/3,0)),1),""),"")}
D63: {=IFERROR( IF(LEN(D$10)>0, INDEX(Calculations!$D$4:$D$4005,SMALL(IF((Calculations!$U$4:$U$4005=D$10)*(Calculations!$V$4:$V$4005>0),ROW(Calculations!$U$4:$U$4005)-ROW(INDEX(Calculations!$U$4:$U$4005,1,1))+1),ROUNDUP((ROW($A63)-ROW(startCell))/3,0)),1),""),"")} | F63: {=IFERROR( IF(LEN(F$10)>0, INDEX(Calculations!$D$4:$D$4005,SMALL(IF((Calculations!$U$4:$U$4005=F$10)*(Calculations!$V$4:$V$4005>0),ROW(Calculations!$U$4:$U$4005)-ROW(INDEX(Calculations!$U$4:$U$4005,1,1))+1),ROUNDUP((ROW($A63)-ROW(startCell))/3,0)),1),""),"")} | H63: {=IFERROR( IF(LEN(H$10)>0, INDEX(Calculations!$D$4:$D$4005,SMALL(IF((Calculations!$U$4:$U$4005=H$10)*(Calculations!$V$4:$V$4005>0),ROW(Calculations!$U$4:$U$4005)-ROW(INDEX(Calculations!$U$4:$U$4005,1,1))+1),ROUNDUP((ROW($A63)-ROW(startCell))/3,0)),1),""),"")} | J63: {=IFERROR( IF(LEN(J$10)>0, INDEX(Calculations!$D$4:$D$4005,SMALL(IF((Calculations!$U$4:$U$4005=J$10)*(Calculations!$V$4:$V$4005>0),ROW(Calculations!$U$4:$U$4005)-ROW(INDEX(Calculations!$U$4:$U$4005,1,1))+1),ROUNDUP((ROW($A63)-ROW(startCell))/3,0)),1),""),"")} | L63: {=IFERROR( IF(LEN(L$10)>0, INDEX(Calculations!$D$4:$D$4005,SMALL(IF((Calculations!$U$4:$U$4005=L$10)*(Calculations!$V$4:$V$4005>0),ROW(Calculations!$U$4:$U$4005)-ROW(INDEX(Calculations!$U$4:$U$4005,1,1))+1),ROUNDUP((ROW($A63)-ROW(startCell))/3,0)),1),""),"")} | N63: {=IFERROR( IF(LEN(N$10)>0, INDEX(Calculations!$D$4:$D$4005,SMALL(IF((Calculations!$U$4:$U$4005=N$10)*(Calculations!$V$4:$V$4005>0),ROW(Calculations!$U$4:$U$4005)-ROW(INDEX(Calculations!$U$4:$U$4005,1,1))+1),ROUNDUP((ROW($A63)-ROW(startCell))/3,0)),1),""),"")} | P63: {=IFERROR( IF(LEN(P$10)>0, INDEX(Calculations!$D$4:$D$4005,SMALL(IF((Calculations!$U$4:$U$4005=P$10)*(Calculations!$V$4:$V$4005>0),ROW(Calculations!$U$4:$U$4005)-ROW(INDEX(Calculations!$U$4:$U$4005,1,1))+1),ROUNDUP((ROW($A63)-ROW(startCell))/3,0)),1),""),"")} | R63: {=IFERROR( IF(LEN(R$10)>0, INDEX(Calculations!$D$4:$D$4005,SMALL(IF((Calculations!$U$4:$U$4005=R$10)*(Calculations!$V$4:$V$4005>0),ROW(Calculations!$U$4:$U$4005)-ROW(INDEX(Calculations!$U$4:$U$4005,1,1))+1),ROUNDUP((ROW($A63)-ROW(startCell))/3,0)),1),""),"")} | T63: {=IFERROR( IF(LEN(T$10)>0, INDEX(Calculations!$D$4:$D$4005,SMALL(IF((Calculations!$U$4:$U$4005=T$10)*(Calculations!$V$4:$V$4005>0),ROW(Calculations!$U$4:$U$4005)-ROW(INDEX(Calculations!$U$4:$U$4005,1,1))+1),ROUNDUP((ROW($A63)-ROW(startCell))/3,0)),1),""),"")} | V63: {=IFERROR( IF(LEN(V$10)>0, INDEX(Calculations!$D$4:$D$4005,SMALL(IF((Calculations!$U$4:$U$4005=V$10)*(Calculations!$V$4:$V$4005>0),ROW(Calculations!$U$4:$U$4005)-ROW(INDEX(Calculations!$U$4:$U$4005,1,1))+1),ROUNDUP((ROW($A63)-ROW(startCell))/3,0)),1),""),"")}
D64: {=IFERROR( IF(LEN(D$10)>0, INDEX(Calculations!$G$4:$G$4005,SMALL(IF((Calculations!$U$4:$U$4005=D$10)*(Calculations!$V$4:$V$4005>0),ROW(Calculations!$U$4:$U$4005)-ROW(INDEX(Calculations!$U$4:$U$4005,1,1))+1),ROUNDUP((ROW($A64)-ROW(startCell))/3,0)),1),""),"")} | F64: {=IFERROR( IF(LEN(F$10)>0, INDEX(Calculations!$G$4:$G$4005,SMALL(IF((Calculations!$U$4:$U$4005=F$10)*(Calculations!$V$4:$V$4005>0),ROW(Calculations!$U$4:$U$4005)-ROW(INDEX(Calculations!$U$4:$U$4005,1,1))+1),ROUNDUP((ROW($A64)-ROW(startCell))/3,0)),1),""),"")} | H64: {=IFERROR( IF(LEN(H$10)>0, INDEX(Calculations!$G$4:$G$4005,SMALL(IF((Calculations!$U$4:$U$4005=H$10)*(Calculations!$V$4:$V$4005>0),ROW(Calculations!$U$4:$U$4005)-ROW(INDEX(Calculations!$U$4:$U$4005,1,1))+1),ROUNDUP((ROW($A64)-ROW(startCell))/3,0)),1),""),"")} | J64: {=IFERROR( IF(LEN(J$10)>0, INDEX(Calculations!$G$4:$G$4005,SMALL(IF((Calculations!$U$4:$U$4005=J$10)*(Calculations!$V$4:$V$4005>0),ROW(Calculations!$U$4:$U$4005)-ROW(INDEX(Calculations!$U$4:$U$4005,1,1))+1),ROUNDUP((ROW($A64)-ROW(startCell))/3,0)),1),""),"")} | L64: {=IFERROR( IF(LEN(L$10)>0, INDEX(Calculations!$G$4:$G$4005,SMALL(IF((Calculations!$U$4:$U$4005=L$10)*(Calculations!$V$4:$V$4005>0),ROW(Calculations!$U$4:$U$4005)-ROW(INDEX(Calculations!$U$4:$U$4005,1,1))+1),ROUNDUP((ROW($A64)-ROW(startCell))/3,0)),1),""),"")} | N64: {=IFERROR( IF(LEN(N$10)>0, INDEX(Calculations!$G$4:$G$4005,SMALL(IF((Calculations!$U$4:$U$4005=N$10)*(Calculations!$V$4:$V$4005>0),ROW(Calculations!$U$4:$U$4005)-ROW(INDEX(Calculations!$U$4:$U$4005,1,1))+1),ROUNDUP((ROW($A64)-ROW(startCell))/3,0)),1),""),"")} | P64: {=IFERROR( IF(LEN(P$10)>0, INDEX(Calculations!$G$4:$G$4005,SMALL(IF((Calculations!$U$4:$U$4005=P$10)*(Calculations!$V$4:$V$4005>0),ROW(Calculations!$U$4:$U$4005)-ROW(INDEX(Calculations!$U$4:$U$4005,1,1))+1),ROUNDUP((ROW($A64)-ROW(startCell))/3,0)),1),""),"")} | R64: {=IFERROR( IF(LEN(R$10)>0, INDEX(Calculations!$G$4:$G$4005,SMALL(IF((Calculations!$U$4:$U$4005=R$10)*(Calculations!$V$4:$V$4005>0),ROW(Calculations!$U$4:$U$4005)-ROW(INDEX(Calculations!$U$4:$U$4005,1,1))+1),ROUNDUP((ROW($A64)-ROW(startCell))/3,0)),1),""),"")} | T64: {=IFERROR( IF(LEN(T$10)>0, INDEX(Calculations!$G$4:$G$4005,SMALL(IF((Calculations!$U$4:$U$4005=T$10)*(Calculations!$V$4:$V$4005>0),ROW(Calculations!$U$4:$U$4005)-ROW(INDEX(Calculations!$U$4:$U$4005,1,1))+1),ROUNDUP((ROW($A64)-ROW(startCell))/3,0)),1),""),"")} | V64: {=IFERROR( IF(LEN(V$10)>0, INDEX(Calculations!$G$4:$G$4005,SMALL(IF((Calculations!$U$4:$U$4005=V$10)*(Calculations!$V$4:$V$4005>0),ROW(Calculations!$U$4:$U$4005)-ROW(INDEX(Calculations!$U$4:$U$4005,1,1))+1),ROUNDUP((ROW($A64)-ROW(startCell))/3,0)),1),""),"")}
D65: {=IFERROR(IF(LEN(D$10)>0, INDEX(Calculations!$B$4:$B$4005,SMALL(IF((Calculations!$U$4:$U$4005=D$10)*(Calculations!$V$4:$V$4005>0),ROW(Calculations!$U$4:$U$4005)-ROW(INDEX(Calculations!$U$4:$U$4005,1,1))+1),ROUNDUP((ROW($A65)-ROW(startCell))/3,0)),1),""),"")} | F65: {=IFERROR(IF(LEN(F$10)>0, INDEX(Calculations!$B$4:$B$4005,SMALL(IF((Calculations!$U$4:$U$4005=F$10)*(Calculations!$V$4:$V$4005>0),ROW(Calculations!$U$4:$U$4005)-ROW(INDEX(Calculations!$U$4:$U$4005,1,1))+1),ROUNDUP((ROW($A65)-ROW(startCell))/3,0)),1),""),"")} | H65: {=IFERROR(IF(LEN(H$10)>0, INDEX(Calculations!$B$4:$B$4005,SMALL(IF((Calculations!$U$4:$U$4005=H$10)*(Calculations!$V$4:$V$4005>0),ROW(Calculations!$U$4:$U$4005)-ROW(INDEX(Calculations!$U$4:$U$4005,1,1))+1),ROUNDUP((ROW($A65)-ROW(startCell))/3,0)),1),""),"")} | J65: {=IFERROR(IF(LEN(J$10)>0, INDEX(Calculations!$B$4:$B$4005,SMALL(IF((Calculations!$U$4:$U$4005=J$10)*(Calculations!$V$4:$V$4005>0),ROW(Calculations!$U$4:$U$4005)-ROW(INDEX(Calculations!$U$4:$U$4005,1,1))+1),ROUNDUP((ROW($A65)-ROW(startCell))/3,0)),1),""),"")} | L65: {=IFERROR(IF(LEN(L$10)>0, INDEX(Calculations!$B$4:$B$4005,SMALL(IF((Calculations!$U$4:$U$4005=L$10)*(Calculations!$V$4:$V$4005>0),ROW(Calculations!$U$4:$U$4005)-ROW(INDEX(Calculations!$U$4:$U$4005,1,1))+1),ROUNDUP((ROW($A65)-ROW(startCell))/3,0)),1),""),"")} | N65: {=IFERROR(IF(LEN(N$10)>0, INDEX(Calculations!$B$4:$B$4005,SMALL(IF((Calculations!$U$4:$U$4005=N$10)*(Calculations!$V$4:$V$4005>0),ROW(Calculations!$U$4:$U$4005)-ROW(INDEX(Calculations!$U$4:$U$4005,1,1))+1),ROUNDUP((ROW($A65)-ROW(startCell))/3,0)),1),""),"")} | P65: {=IFERROR(IF(LEN(P$10)>0, INDEX(Calculations!$B$4:$B$4005,SMALL(IF((Calculations!$U$4:$U$4005=P$10)*(Calculations!$V$4:$V$4005>0),ROW(Calculations!$U$4:$U$4005)-ROW(INDEX(Calculations!$U$4:$U$4005,1,1))+1),ROUNDUP((ROW($A65)-ROW(startCell))/3,0)),1),""),"")} | R65: {=IFERROR(IF(LEN(R$10)>0, INDEX(Calculations!$B$4:$B$4005,SMALL(IF((Calculations!$U$4:$U$4005=R$10)*(Calculations!$V$4:$V$4005>0),ROW(Calculations!$U$4:$U$4005)-ROW(INDEX(Calculations!$U$4:$U$4005,1,1))+1),ROUNDUP((ROW($A65)-ROW(startCell))/3,0)),1),""),"")} | T65: {=IFERROR(IF(LEN(T$10)>0, INDEX(Calculations!$B$4:$B$4005,SMALL(IF((Calculations!$U$4:$U$4005=T$10)*(Calculations!$V$4:$V$4005>0),ROW(Calculations!$U$4:$U$4005)-ROW(INDEX(Calculations!$U$4:$U$4005,1,1))+1),ROUNDUP((ROW($A65)-ROW(startCell))/3,0)),1),""),"")} | V65: {=IFERROR(IF(LEN(V$10)>0, INDEX(Calculations!$B$4:$B$4005,SMALL(IF((Calculations!$U$4:$U$4005=V$10)*(Calculations!$V$4:$V$4005>0),ROW(Calculations!$U$4:$U$4005)-ROW(INDEX(Calculations!$U$4:$U$4005,1,1))+1),ROUNDUP((ROW($A65)-ROW(startCell))/3,0)),1),""),"")}
D66: {=IFERROR( IF(LEN(D$10)>0, INDEX(Calculations!$D$4:$D$4005,SMALL(IF((Calculations!$U$4:$U$4005=D$10)*(Calculations!$V$4:$V$4005>0),ROW(Calculations!$U$4:$U$4005)-ROW(INDEX(Calculations!$U$4:$U$4005,1,1))+1),ROUNDUP((ROW($A66)-ROW(startCell))/3,0)),1),""),"")} | F66: {=IFERROR( IF(LEN(F$10)>0, INDEX(Calculations!$D$4:$D$4005,SMALL(IF((Calculations!$U$4:$U$4005=F$10)*(Calculations!$V$4:$V$4005>0),ROW(Calculations!$U$4:$U$4005)-ROW(INDEX(Calculations!$U$4:$U$4005,1,1))+1),ROUNDUP((ROW($A66)-ROW(startCell))/3,0)),1),""),"")} | H66: {=IFERROR( IF(LEN(H$10)>0, INDEX(Calculations!$D$4:$D$4005,SMALL(IF((Calculations!$U$4:$U$4005=H$10)*(Calculations!$V$4:$V$4005>0),ROW(Calculations!$U$4:$U$4005)-ROW(INDEX(Calculations!$U$4:$U$4005,1,1))+1),ROUNDUP((ROW($A66)-ROW(startCell))/3,0)),1),""),"")} | J66: {=IFERROR( IF(LEN(J$10)>0, INDEX(Calculations!$D$4:$D$4005,SMALL(IF((Calculations!$U$4:$U$4005=J$10)*(Calculations!$V$4:$V$4005>0),ROW(Calculations!$U$4:$U$4005)-ROW(INDEX(Calculations!$U$4:$U$4005,1,1))+1),ROUNDUP((ROW($A66)-ROW(startCell))/3,0)),1),""),"")} | L66: {=IFERROR( IF(LEN(L$10)>0, INDEX(Calculations!$D$4:$D$4005,SMALL(IF((Calculations!$U$4:$U$4005=L$10)*(Calculations!$V$4:$V$4005>0),ROW(Calculations!$U$4:$U$4005)-ROW(INDEX(Calculations!$U$4:$U$4005,1,1))+1),ROUNDUP((ROW($A66)-ROW(startCell))/3,0)),1),""),"")} | N66: {=IFERROR( IF(LEN(N$10)>0, INDEX(Calculations!$D$4:$D$4005,SMALL(IF((Calculations!$U$4:$U$4005=N$10)*(Calculations!$V$4:$V$4005>0),ROW(Calculations!$U$4:$U$4005)-ROW(INDEX(Calculations!$U$4:$U$4005,1,1))+1),ROUNDUP((ROW($A66)-ROW(startCell))/3,0)),1),""),"")} | P66: {=IFERROR( IF(LEN(P$10)>0, INDEX(Calculations!$D$4:$D$4005,SMALL(IF((Calculations!$U$4:$U$4005=P$10)*(Calculations!$V$4:$V$4005>0),ROW(Calculations!$U$4:$U$4005)-ROW(INDEX(Calculations!$U$4:$U$4005,1,1))+1),ROUNDUP((ROW($A66)-ROW(startCell))/3,0)),1),""),"")} | R66: {=IFERROR( IF(LEN(R$10)>0, INDEX(Calculations!$D$4:$D$4005,SMALL(IF((Calculations!$U$4:$U$4005=R$10)*(Calculations!$V$4:$V$4005>0),ROW(Calculations!$U$4:$U$4005)-ROW(INDEX(Calculations!$U$4:$U$4005,1,1))+1),ROUNDUP((ROW($A66)-ROW(startCell))/3,0)),1),""),"")} | T66: {=IFERROR( IF(LEN(T$10)>0, INDEX(Calculations!$D$4:$D$4005,SMALL(IF((Calculations!$U$4:$U$4005=T$10)*(Calculations!$V$4:$V$4005>0),ROW(Calculations!$U$4:$U$4005)-ROW(INDEX(Calculations!$U$4:$U$4005,1,1))+1),ROUNDUP((ROW($A66)-ROW(startCell))/3,0)),1),""),"")} | V66: {=IFERROR( IF(LEN(V$10)>0, INDEX(Calculations!$D$4:$D$4005,SMALL(IF((Calculations!$U$4:$U$4005=V$10)*(Calculations!$V$4:$V$4005>0),ROW(Calculations!$U$4:$U$4005)-ROW(INDEX(Calculations!$U$4:$U$4005,1,1))+1),ROUNDUP((ROW($A66)-ROW(startCell))/3,0)),1),""),"")}
D67: {=IFERROR( IF(LEN(D$10)>0, INDEX(Calculations!$G$4:$G$4005,SMALL(IF((Calculations!$U$4:$U$4005=D$10)*(Calculations!$V$4:$V$4005>0),ROW(Calculations!$U$4:$U$4005)-ROW(INDEX(Calculations!$U$4:$U$4005,1,1))+1),ROUNDUP((ROW($A67)-ROW(startCell))/3,0)),1),""),"")} | F67: {=IFERROR( IF(LEN(F$10)>0, INDEX(Calculations!$G$4:$G$4005,SMALL(IF((Calculations!$U$4:$U$4005=F$10)*(Calculations!$V$4:$V$4005>0),ROW(Calculations!$U$4:$U$4005)-ROW(INDEX(Calculations!$U$4:$U$4005,1,1))+1),ROUNDUP((ROW($A67)-ROW(startCell))/3,0)),1),""),"")} | H67: {=IFERROR( IF(LEN(H$10)>0, INDEX(Calculations!$G$4:$G$4005,SMALL(IF((Calculations!$U$4:$U$4005=H$10)*(Calculations!$V$4:$V$4005>0),ROW(Calculations!$U$4:$U$4005)-ROW(INDEX(Calculations!$U$4:$U$4005,1,1))+1),ROUNDUP((ROW($A67)-ROW(startCell))/3,0)),1),""),"")} | J67: {=IFERROR( IF(LEN(J$10)>0, INDEX(Calculations!$G$4:$G$4005,SMALL(IF((Calculations!$U$4:$U$4005=J$10)*(Calculations!$V$4:$V$4005>0),ROW(Calculations!$U$4:$U$4005)-ROW(INDEX(Calculations!$U$4:$U$4005,1,1))+1),ROUNDUP((ROW($A67)-ROW(startCell))/3,0)),1),""),"")} | L67: {=IFERROR( IF(LEN(L$10)>0, INDEX(Calculations!$G$4:$G$4005,SMALL(IF((Calculations!$U$4:$U$4005=L$10)*(Calculations!$V$4:$V$4005>0),ROW(Calculations!$U$4:$U$4005)-ROW(INDEX(Calculations!$U$4:$U$4005,1,1))+1),ROUNDUP((ROW($A67)-ROW(startCell))/3,0)),1),""),"")} | N67: {=IFERROR( IF(LEN(N$10)>0, INDEX(Calculations!$G$4:$G$4005,SMALL(IF((Calculations!$U$4:$U$4005=N$10)*(Calculations!$V$4:$V$4005>0),ROW(Calculations!$U$4:$U$4005)-ROW(INDEX(Calculations!$U$4:$U$4005,1,1))+1),ROUNDUP((ROW($A67)-ROW(startCell))/3,0)),1),""),"")} | P67: {=IFERROR( IF(LEN(P$10)>0, INDEX(Calculations!$G$4:$G$4005,SMALL(IF((Calculations!$U$4:$U$4005=P$10)*(Calculations!$V$4:$V$4005>0),ROW(Calculations!$U$4:$U$4005)-ROW(INDEX(Calculations!$U$4:$U$4005,1,1))+1),ROUNDUP((ROW($A67)-ROW(startCell))/3,0)),1),""),"")} | R67: {=IFERROR( IF(LEN(R$10)>0, INDEX(Calculations!$G$4:$G$4005,SMALL(IF((Calculations!$U$4:$U$4005=R$10)*(Calculations!$V$4:$V$4005>0),ROW(Calculations!$U$4:$U$4005)-ROW(INDEX(Calculations!$U$4:$U$4005,1,1))+1),ROUNDUP((ROW($A67)-ROW(startCell))/3,0)),1),""),"")} | T67: {=IFERROR( IF(LEN(T$10)>0, INDEX(Calculations!$G$4:$G$4005,SMALL(IF((Calculations!$U$4:$U$4005=T$10)*(Calculations!$V$4:$V$4005>0),ROW(Calculations!$U$4:$U$4005)-ROW(INDEX(Calculations!$U$4:$U$4005,1,1))+1),ROUNDUP((ROW($A67)-ROW(startCell))/3,0)),1),""),"")} | V67: {=IFERROR( IF(LEN(V$10)>0, INDEX(Calculations!$G$4:$G$4005,SMALL(IF((Calculations!$U$4:$U$4005=V$10)*(Calculations!$V$4:$V$4005>0),ROW(Calculations!$U$4:$U$4005)-ROW(INDEX(Calculations!$U$4:$U$4005,1,1))+1),ROUNDUP((ROW($A67)-ROW(startCell))/3,0)),1),""),"")}
D68: {=IFERROR(IF(LEN(D$10)>0, INDEX(Calculations!$B$4:$B$4005,SMALL(IF((Calculations!$U$4:$U$4005=D$10)*(Calculations!$V$4:$V$4005>0),ROW(Calculations!$U$4:$U$4005)-ROW(INDEX(Calculations!$U$4:$U$4005,1,1))+1),ROUNDUP((ROW($A68)-ROW(startCell))/3,0)),1),""),"")} | F68: {=IFERROR(IF(LEN(F$10)>0, INDEX(Calculations!$B$4:$B$4005,SMALL(IF((Calculations!$U$4:$U$4005=F$10)*(Calculations!$V$4:$V$4005>0),ROW(Calculations!$U$4:$U$4005)-ROW(INDEX(Calculations!$U$4:$U$4005,1,1))+1),ROUNDUP((ROW($A68)-ROW(startCell))/3,0)),1),""),"")} | H68: {=IFERROR(IF(LEN(H$10)>0, INDEX(Calculations!$B$4:$B$4005,SMALL(IF((Calculations!$U$4:$U$4005=H$10)*(Calculations!$V$4:$V$4005>0),ROW(Calculations!$U$4:$U$4005)-ROW(INDEX(Calculations!$U$4:$U$4005,1,1))+1),ROUNDUP((ROW($A68)-ROW(startCell))/3,0)),1),""),"")} | J68: {=IFERROR(IF(LEN(J$10)>0, INDEX(Calculations!$B$4:$B$4005,SMALL(IF((Calculations!$U$4:$U$4005=J$10)*(Calculations!$V$4:$V$4005>0),ROW(Calculations!$U$4:$U$4005)-ROW(INDEX(Calculations!$U$4:$U$4005,1,1))+1),ROUNDUP((ROW($A68)-ROW(startCell))/3,0)),1),""),"")} | L68: {=IFERROR(IF(LEN(L$10)>0, INDEX(Calculations!$B$4:$B$4005,SMALL(IF((Calculations!$U$4:$U$4005=L$10)*(Calculations!$V$4:$V$4005>0),ROW(Calculations!$U$4:$U$4005)-ROW(INDEX(Calculations!$U$4:$U$4005,1,1))+1),ROUNDUP((ROW($A68)-ROW(startCell))/3,0)),1),""),"")} | N68: {=IFERROR(IF(LEN(N$10)>0, INDEX(Calculations!$B$4:$B$4005,SMALL(IF((Calculations!$U$4:$U$4005=N$10)*(Calculations!$V$4:$V$4005>0),ROW(Calculations!$U$4:$U$4005)-ROW(INDEX(Calculations!$U$4:$U$4005,1,1))+1),ROUNDUP((ROW($A68)-ROW(startCell))/3,0)),1),""),"")} | P68: {=IFERROR(IF(LEN(P$10)>0, INDEX(Calculations!$B$4:$B$4005,SMALL(IF((Calculations!$U$4:$U$4005=P$10)*(Calculations!$V$4:$V$4005>0),ROW(Calculations!$U$4:$U$4005)-ROW(INDEX(Calculations!$U$4:$U$4005,1,1))+1),ROUNDUP((ROW($A68)-ROW(startCell))/3,0)),1),""),"")} | R68: {=IFERROR(IF(LEN(R$10)>0, INDEX(Calculations!$B$4:$B$4005,SMALL(IF((Calculations!$U$4:$U$4005=R$10)*(Calculations!$V$4:$V$4005>0),ROW(Calculations!$U$4:$U$4005)-ROW(INDEX(Calculations!$U$4:$U$4005,1,1))+1),ROUNDUP((ROW($A68)-ROW(startCell))/3,0)),1),""),"")} | T68: {=IFERROR(IF(LEN(T$10)>0, INDEX(Calculations!$B$4:$B$4005,SMALL(IF((Calculations!$U$4:$U$4005=T$10)*(Calculations!$V$4:$V$4005>0),ROW(Calculations!$U$4:$U$4005)-ROW(INDEX(Calculations!$U$4:$U$4005,1,1))+1),ROUNDUP((ROW($A68)-ROW(startCell))/3,0)),1),""),"")} | V68: {=IFERROR(IF(LEN(V$10)>0, INDEX(Calculations!$B$4:$B$4005,SMALL(IF((Calculations!$U$4:$U$4005=V$10)*(Calculations!$V$4:$V$4005>0),ROW(Calculations!$U$4:$U$4005)-ROW(INDEX(Calculations!$U$4:$U$4005,1,1))+1),ROUNDUP((ROW($A68)-ROW(startCell))/3,0)),1),""),"")}
D69: {=IFERROR( IF(LEN(D$10)>0, INDEX(Calculations!$D$4:$D$4005,SMALL(IF((Calculations!$U$4:$U$4005=D$10)*(Calculations!$V$4:$V$4005>0),ROW(Calculations!$U$4:$U$4005)-ROW(INDEX(Calculations!$U$4:$U$4005,1,1))+1),ROUNDUP((ROW($A69)-ROW(startCell))/3,0)),1),""),"")} | F69: {=IFERROR( IF(LEN(F$10)>0, INDEX(Calculations!$D$4:$D$4005,SMALL(IF((Calculations!$U$4:$U$4005=F$10)*(Calculations!$V$4:$V$4005>0),ROW(Calculations!$U$4:$U$4005)-ROW(INDEX(Calculations!$U$4:$U$4005,1,1))+1),ROUNDUP((ROW($A69)-ROW(startCell))/3,0)),1),""),"")} | H69: {=IFERROR( IF(LEN(H$10)>0, INDEX(Calculations!$D$4:$D$4005,SMALL(IF((Calculations!$U$4:$U$4005=H$10)*(Calculations!$V$4:$V$4005>0),ROW(Calculations!$U$4:$U$4005)-ROW(INDEX(Calculations!$U$4:$U$4005,1,1))+1),ROUNDUP((ROW($A69)-ROW(startCell))/3,0)),1),""),"")} | J69: {=IFERROR( IF(LEN(J$10)>0, INDEX(Calculations!$D$4:$D$4005,SMALL(IF((Calculations!$U$4:$U$4005=J$10)*(Calculations!$V$4:$V$4005>0),ROW(Calculations!$U$4:$U$4005)-ROW(INDEX(Calculations!$U$4:$U$4005,1,1))+1),ROUNDUP((ROW($A69)-ROW(startCell))/3,0)),1),""),"")} | L69: {=IFERROR( IF(LEN(L$10)>0, INDEX(Calculations!$D$4:$D$4005,SMALL(IF((Calculations!$U$4:$U$4005=L$10)*(Calculations!$V$4:$V$4005>0),ROW(Calculations!$U$4:$U$4005)-ROW(INDEX(Calculations!$U$4:$U$4005,1,1))+1),ROUNDUP((ROW($A69)-ROW(startCell))/3,0)),1),""),"")} | N69: {=IFERROR( IF(LEN(N$10)>0, INDEX(Calculations!$D$4:$D$4005,SMALL(IF((Calculations!$U$4:$U$4005=N$10)*(Calculations!$V$4:$V$4005>0),ROW(Calculations!$U$4:$U$4005)-ROW(INDEX(Calculations!$U$4:$U$4005,1,1))+1),ROUNDUP((ROW($A69)-ROW(startCell))/3,0)),1),""),"")} | P69: {=IFERROR( IF(LEN(P$10)>0, INDEX(Calculations!$D$4:$D$4005,SMALL(IF((Calculations!$U$4:$U$4005=P$10)*(Calculations!$V$4:$V$4005>0),ROW(Calculations!$U$4:$U$4005)-ROW(INDEX(Calculations!$U$4:$U$4005,1,1))+1),ROUNDUP((ROW($A69)-ROW(startCell))/3,0)),1),""),"")} | R69: {=IFERROR( IF(LEN(R$10)>0, INDEX(Calculations!$D$4:$D$4005,SMALL(IF((Calculations!$U$4:$U$4005=R$10)*(Calculations!$V$4:$V$4005>0),ROW(Calculations!$U$4:$U$4005)-ROW(INDEX(Calculations!$U$4:$U$4005,1,1))+1),ROUNDUP((ROW($A69)-ROW(startCell))/3,0)),1),""),"")} | T69: {=IFERROR( IF(LEN(T$10)>0, INDEX(Calculations!$D$4:$D$4005,SMALL(IF((Calculations!$U$4:$U$4005=T$10)*(Calculations!$V$4:$V$4005>0),ROW(Calculations!$U$4:$U$4005)-ROW(INDEX(Calculations!$U$4:$U$4005,1,1))+1),ROUNDUP((ROW($A69)-ROW(startCell))/3,0)),1),""),"")} | V69: {=IFERROR( IF(LEN(V$10)>0, INDEX(Calculations!$D$4:$D$4005,SMALL(IF((Calculations!$U$4:$U$4005=V$10)*(Calculations!$V$4:$V$4005>0),ROW(Calculations!$U$4:$U$4005)-ROW(INDEX(Calculations!$U$4:$U$4005,1,1))+1),ROUNDUP((ROW($A69)-ROW(startCell))/3,0)),1),""),"")}
D70: {=IFERROR( IF(LEN(D$10)>0, INDEX(Calculations!$G$4:$G$4005,SMALL(IF((Calculations!$U$4:$U$4005=D$10)*(Calculations!$V$4:$V$4005>0),ROW(Calculations!$U$4:$U$4005)-ROW(INDEX(Calculations!$U$4:$U$4005,1,1))+1),ROUNDUP((ROW($A70)-ROW(startCell))/3,0)),1),""),"")} | F70: {=IFERROR( IF(LEN(F$10)>0, INDEX(Calculations!$G$4:$G$4005,SMALL(IF((Calculations!$U$4:$U$4005=F$10)*(Calculations!$V$4:$V$4005>0),ROW(Calculations!$U$4:$U$4005)-ROW(INDEX(Calculations!$U$4:$U$4005,1,1))+1),ROUNDUP((ROW($A70)-ROW(startCell))/3,0)),1),""),"")} | H70: {=IFERROR( IF(LEN(H$10)>0, INDEX(Calculations!$G$4:$G$4005,SMALL(IF((Calculations!$U$4:$U$4005=H$10)*(Calculations!$V$4:$V$4005>0),ROW(Calculations!$U$4:$U$4005)-ROW(INDEX(Calculations!$U$4:$U$4005,1,1))+1),ROUNDUP((ROW($A70)-ROW(startCell))/3,0)),1),""),"")} | J70: {=IFERROR( IF(LEN(J$10)>0, INDEX(Calculations!$G$4:$G$4005,SMALL(IF((Calculations!$U$4:$U$4005=J$10)*(Calculations!$V$4:$V$4005>0),ROW(Calculations!$U$4:$U$4005)-ROW(INDEX(Calculations!$U$4:$U$4005,1,1))+1),ROUNDUP((ROW($A70)-ROW(startCell))/3,0)),1),""),"")} | L70: {=IFERROR( IF(LEN(L$10)>0, INDEX(Calculations!$G$4:$G$4005,SMALL(IF((Calculations!$U$4:$U$4005=L$10)*(Calculations!$V$4:$V$4005>0),ROW(Calculations!$U$4:$U$4005)-ROW(INDEX(Calculations!$U$4:$U$4005,1,1))+1),ROUNDUP((ROW($A70)-ROW(startCell))/3,0)),1),""),"")} | N70: {=IFERROR( IF(LEN(N$10)>0, INDEX(Calculations!$G$4:$G$4005,SMALL(IF((Calculations!$U$4:$U$4005=N$10)*(Calculations!$V$4:$V$4005>0),ROW(Calculations!$U$4:$U$4005)-ROW(INDEX(Calculations!$U$4:$U$4005,1,1))+1),ROUNDUP((ROW($A70)-ROW(startCell))/3,0)),1),""),"")} | P70: {=IFERROR( IF(LEN(P$10)>0, INDEX(Calculations!$G$4:$G$4005,SMALL(IF((Calculations!$U$4:$U$4005=P$10)*(Calculations!$V$4:$V$4005>0),ROW(Calculations!$U$4:$U$4005)-ROW(INDEX(Calculations!$U$4:$U$4005,1,1))+1),ROUNDUP((ROW($A70)-ROW(startCell))/3,0)),1),""),"")} | R70: {=IFERROR( IF(LEN(R$10)>0, INDEX(Calculations!$G$4:$G$4005,SMALL(IF((Calculations!$U$4:$U$4005=R$10)*(Calculations!$V$4:$V$4005>0),ROW(Calculations!$U$4:$U$4005)-ROW(INDEX(Calculations!$U$4:$U$4005,1,1))+1),ROUNDUP((ROW($A70)-ROW(startCell))/3,0)),1),""),"")} | T70: {=IFERROR( IF(LEN(T$10)>0, INDEX(Calculations!$G$4:$G$4005,SMALL(IF((Calculations!$U$4:$U$4005=T$10)*(Calculations!$V$4:$V$4005>0),ROW(Calculations!$U$4:$U$4005)-ROW(INDEX(Calculations!$U$4:$U$4005,1,1))+1),ROUNDUP((ROW($A70)-ROW(startCell))/3,0)),1),""),"")} | V70: {=IFERROR( IF(LEN(V$10)>0, INDEX(Calculations!$G$4:$G$4005,SMALL(IF((Calculations!$U$4:$U$4005=V$10)*(Calculations!$V$4:$V$4005>0),ROW(Calculations!$U$4:$U$4005)-ROW(INDEX(Calculations!$U$4:$U$4005,1,1))+1),ROUNDUP((ROW($A70)-ROW(startCell))/3,0)),1),""),"")}
D71: {=IFERROR(IF(LEN(D$10)>0, INDEX(Calculations!$B$4:$B$4005,SMALL(IF((Calculations!$U$4:$U$4005=D$10)*(Calculations!$V$4:$V$4005>0),ROW(Calculations!$U$4:$U$4005)-ROW(INDEX(Calculations!$U$4:$U$4005,1,1))+1),ROUNDUP((ROW($A71)-ROW(startCell))/3,0)),1),""),"")} | F71: {=IFERROR(IF(LEN(F$10)>0, INDEX(Calculations!$B$4:$B$4005,SMALL(IF((Calculations!$U$4:$U$4005=F$10)*(Calculations!$V$4:$V$4005>0),ROW(Calculations!$U$4:$U$4005)-ROW(INDEX(Calculations!$U$4:$U$4005,1,1))+1),ROUNDUP((ROW($A71)-ROW(startCell))/3,0)),1),""),"")} | H71: {=IFERROR(IF(LEN(H$10)>0, INDEX(Calculations!$B$4:$B$4005,SMALL(IF((Calculations!$U$4:$U$4005=H$10)*(Calculations!$V$4:$V$4005>0),ROW(Calculations!$U$4:$U$4005)-ROW(INDEX(Calculations!$U$4:$U$4005,1,1))+1),ROUNDUP((ROW($A71)-ROW(startCell))/3,0)),1),""),"")} | J71: {=IFERROR(IF(LEN(J$10)>0, INDEX(Calculations!$B$4:$B$4005,SMALL(IF((Calculations!$U$4:$U$4005=J$10)*(Calculations!$V$4:$V$4005>0),ROW(Calculations!$U$4:$U$4005)-ROW(INDEX(Calculations!$U$4:$U$4005,1,1))+1),ROUNDUP((ROW($A71)-ROW(startCell))/3,0)),1),""),"")} | L71: {=IFERROR(IF(LEN(L$10)>0, INDEX(Calculations!$B$4:$B$4005,SMALL(IF((Calculations!$U$4:$U$4005=L$10)*(Calculations!$V$4:$V$4005>0),ROW(Calculations!$U$4:$U$4005)-ROW(INDEX(Calculations!$U$4:$U$4005,1,1))+1),ROUNDUP((ROW($A71)-ROW(startCell))/3,0)),1),""),"")} | N71: {=IFERROR(IF(LEN(N$10)>0, INDEX(Calculations!$B$4:$B$4005,SMALL(IF((Calculations!$U$4:$U$4005=N$10)*(Calculations!$V$4:$V$4005>0),ROW(Calculations!$U$4:$U$4005)-ROW(INDEX(Calculations!$U$4:$U$4005,1,1))+1),ROUNDUP((ROW($A71)-ROW(startCell))/3,0)),1),""),"")} | P71: {=IFERROR(IF(LEN(P$10)>0, INDEX(Calculations!$B$4:$B$4005,SMALL(IF((Calculations!$U$4:$U$4005=P$10)*(Calculations!$V$4:$V$4005>0),ROW(Calculations!$U$4:$U$4005)-ROW(INDEX(Calculations!$U$4:$U$4005,1,1))+1),ROUNDUP((ROW($A71)-ROW(startCell))/3,0)),1),""),"")} | R71: {=IFERROR(IF(LEN(R$10)>0, INDEX(Calculations!$B$4:$B$4005,SMALL(IF((Calculations!$U$4:$U$4005=R$10)*(Calculations!$V$4:$V$4005>0),ROW(Calculations!$U$4:$U$4005)-ROW(INDEX(Calculations!$U$4:$U$4005,1,1))+1),ROUNDUP((ROW($A71)-ROW(startCell))/3,0)),1),""),"")} | T71: {=IFERROR(IF(LEN(T$10)>0, INDEX(Calculations!$B$4:$B$4005,SMALL(IF((Calculations!$U$4:$U$4005=T$10)*(Calculations!$V$4:$V$4005>0),ROW(Calculations!$U$4:$U$4005)-ROW(INDEX(Calculations!$U$4:$U$4005,1,1))+1),ROUNDUP((ROW($A71)-ROW(startCell))/3,0)),1),""),"")} | V71: {=IFERROR(IF(LEN(V$10)>0, INDEX(Calculations!$B$4:$B$4005,SMALL(IF((Calculations!$U$4:$U$4005=V$10)*(Calculations!$V$4:$V$4005>0),ROW(Calculations!$U$4:$U$4005)-ROW(INDEX(Calculations!$U$4:$U$4005,1,1))+1),ROUNDUP((ROW($A71)-ROW(startCell))/3,0)),1),""),"")}
