Workbook
Name chart1: ChartDashboard!$E$7
Name chart1X: OFFSET(Calc!$CP$7,0,0,MAX(Calc!$CN$5,1),1)
Name chart1Y: OFFSET(Calc!$CP$7,0,1,MAX(Calc!$CN$5,1),1)
Name chart2: ChartDashboard!$K$7
Name chart2X: OFFSET(Calc!$CT$7,0,0,MAX(Calc!$CU$5,1),1)
Name chart2Y: OFFSET(Calc!$CT$7,0,1,MAX(Calc!$CU$5,1),1)
Name chart3: ChartDashboard!$E$19
Name chart3X: OFFSET(Calc!$DA$7,0,0,MAX(Calc!$CY$5,1),1)
Name chart3Y: OFFSET(Calc!$DA$7,0,1,MAX(Calc!$CY$5,1),1)
Name chart4a: ChartDashboard!$I$19
Name chart4b: ChartDashboard!$K$19
Name chart4X: OFFSET(Calc!$DH$7,0,0,MAX(Calc!$DG$5,1),1)
Name chart4Y: OFFSET(Calc!$DH$7,0,1,MAX(Calc!$DG$5,1),1)
Name chart5a: ChartDashboard!$E$31
Name chart5b: ChartDashboard!$G$31
Name chart5X: OFFSET(Calc!$DM$7,0,0,MAX(Calc!$DN$5,1),1)
Name chart5Y: OFFSET(Calc!$DM$7,0,1,MAX(Calc!$DN$5,1),1)
Name chart6: ChartDashboard!$K$31
Name chart6Values: OFFSET(Calc!$DO$7,0,0,MAX(Calc!$DP$5,1),1)
Name CityDD: OFFSET(Settings!$D$41,0,0,Calc!$AS$4,1)
Name connector: Calc!$DW$6
Name CountryDD: OFFSET(Settings!$L$9,0,0,Calc!$AQ$4,1)
Name dateFormat: Settings!$B$8
Name filter1: Output!$C$10
Name filter2: Output!$C$13
Name filter3: Output!$C$16
Name filter4: Output!$C$19
Name filterA: Output!$B$9
Name filterB: Output!$B$12
Name filterC: Output!$B$15
Name filterD: Output!$B$18
Name FilterList: OFFSET(Calc!$E$7,0,0,Calc!$E$6,1)
Name FilterList2: OFFSET(Calc!$E$59,0,0,Calc!$F$59,1)
Name IndustryDD: OFFSET(Settings!$J$9,0,0,Calc!$AH$4,1)
Name months: Calc!$DY$7:$DY$18
Name order: Calc!$DX$6
Name order1: Calc!$DX$3
Name order2: Calc!$DX$4
Name order3: Calc!$DX$5
Name SectionList: OFFSET(Settings!$D$9,0,0,Calc!$F$3,1)
Name showID: Form!$G$5
Name SkillsDD: OFFSET(Settings!$L$41,0,0,Calc!$BD$4,1)
Name StateDD: OFFSET(Settings!$F$41,0,0,Calc!$AR$4,1)
Name StatusDD: OFFSET(Settings!$H$9,0,0,Calc!$AD$4,1)
Name SystemsDD: OFFSET(Settings!$H$41,0,0,Calc!$BB$4,1)
Name TechnologyDD: OFFSET(Settings!$J$41,0,0,Calc!$BC$4,1)
Name type1: Output!$B$10
Name type2: Output!$B$13
Name type3: Output!$B$16
Name type4: Output!$B$19
Name TypeDD: OFFSET(Settings!$F$9,0,0,Calc!$AC$4,1)

Sheet Dashboard
C2: CUSTOMER DATABASE TEMPLATE
C3: DASHBOARD

Sheet Settings
B2: CUSTOMER DATABASE TEMPLATE
B3: SETTINGS
B5: ERROR CHECK | C5: =Calc!DU3
B7: DATE FORMAT | D7: DEFINE DROPDOWNS LISTS
B8: 1.31.2021 | D8: FORM SECTIONS | F8: =IFERROR(IF(Input!D6="","",Input!D6),"Referenced Column was deleted!") -> TYPE | H8: =IFERROR(IF(Input!E6="","",Input!E6),"Referenced Column was deleted!") -> STATUS | J8: =IFERROR(IF(Input!I6="","",Input!I6),"Referenced Column was deleted!") -> INDUSTRY | L8: =IFERROR(IF(Input!R6="","",Input!R6),"Referenced Column was deleted!") -> COUNTRY
D9: Basic information | F9: Limited Liability Company | H9: Partner | J9: Agriculture | L9: USA
B10: WHICH ARE DATE INPUTS | D10: Location | F10: Joint Stock Company | H10: Contractor | J10: Manufacturing | L10: India
B11: FOUNDATION DATE | D11: Value | F11: Collective Company | H11: Corporation | J11: Automotive | L11: Spain
D12: Employees | F12: Commandite Company | H12: Startup | J12: Chemical | L12: Brazil
D13: Contact | F13: Cooperative Company | J13: Electronics | L13: Chile
J14: Food industry | L14: Turkey
J15: Petroleum | L15: Sweden
J16: Textile | L16: Poland
J17: Financial | L17: Germany
J18: Healthcare | L18: France
D40: =IFERROR(IF(Input!T6="","",Input!T6),"Referenced Column was deleted!") -> CITY | F40: =IFERROR(IF(Input!S6="","",Input!S6),"Referenced Column was deleted!") -> STATE / REGION | H40: =IFERROR(IF(Input!AC6="","",Input!AC6),"Referenced Column was deleted!") -> COMPUTER SYSTEMS | J40: =IFERROR(IF(Input!AD6="","",Input!AD6),"Referenced Column was deleted!") -> TECHNOLOGY USED | L40: =IFERROR(IF(Input!AE6="","",Input!AE6),"Referenced Column was deleted!") -> SKILLS
D41: NY | F41: New York | H41: SAP | J41: Nanomaterials | L41: IT
D42: London | F42: Mumbai | H42: -NA- | J42: AI | L42: Languages
D43: Berlin | F43: Silesia | H43: Linux | J43: Handmade | L43: Manufacturing
D44: Paris | F44: Catalonia | H44: Windows | J44: Cloud computing | L44: Robotics
D45: Istanbul | H45: Oracle | J45: Microservices
D46: Madrid | H46: Salesforce
D47: Barcelona
D48: Wroclaw
D49: Wuppertal

Sheet Input
B2: CUSTOMER DATABASE TEMPLATE
B3: INPUT DATA
B5: Basic information | J5: Contact | Q5: Location | W5: Company Size | AB5: Employees | AG5: Other
B6: UNIQUE ID | C6: NAME | D6: TYPE | E6: STATUS | F6: ALTERNATIVE NAMES | G6: FOUNDATION DATE | H6: CEO | I6: INDUSTRY | J6: HR CONTACT | K6: CONTACT PERSON | L6: PHONE NUMBER | M6: FAX | N6: EMAIL | O6: WEBSITE | P6: LINKED IN | Q6: STREET ADDRESS | R6: COUNTRY | S6: STATE / REGION | T6: CITY | U6: ZIPCODE | V6: OTHER LOCATIONS | W6: COMPANY REVENUE | X6: COMPANY VALUE | Y6: COMPANY SALES | Z6: FUNDING | AA6: VAT NO | AB6: NUMBER OF EMPLOYEE | AC6: COMPUTER SYSTEMS | AD6: TECHNOLOGY USED | AE6: SKILLS | AF6: JOB OPPENINGS | AG6: EVENTS | AH6: ASOCIATED COMPANIES | AI6: SUMMARY DESCRIPTION
B7: B-00001 | C7: Marketingoryx | D7: Limited Liability Company | E7: Partner | F7: - | G7: 44525 | H7: Joseph Manning | I7: Financial | J7: Russell Becker | K7: Caleb Mullins | L7: 1-783-277-9499 | M7: 1-874-109-6713 | N7: vivamus.nisi@protonmail.net | O7: Marketingoryx.com | P7: linkedin.com/company/Marketingoryx | R7: USA | T7: NY | U7: L7 8QR | V7: Firenze | W7: 88800 | X7: 9321000 | Y7: 238100 | AB7: 25 | AD7: SAP | AE7: Databases
B8: B-00002 | C8: Linear Marketing | D8: Collective Company | E8: Contractor | F8: - | G8: 44529 | H8: Abra Greene | I8: Financial | J8: Ruby Peters | K8: Laura Hartman | L8: (557) 683-7717 | M8: 1-681-640-2807 | N8: neque.morbi@outlook.edu | O8: Linear Marketing.com | P8: linkedin.com/company/Linear Marketing | R8: India | T8: Paris | U8: 521371 | V8: Tarragona | W8: 24600 | X8: 8692000 | Y8: 220000 | AB8: 540 | AD8: SAP | AE8: databases, finances
B9: B-00003 | C9: Edge Finance | D9: Commandite Company | E9: Partner | F9: Edge Finance - xyz | G9: 44525 | H9: Macaulay Hart | I9: Food industry | J9: Rebekah Lawrence | K9: Dustin Santana | L9: 1-541-307-5357 | M9: 1-814-471-2376 | N9: massa.lobortis.ultrices@aol.edu | O9: Edge Finance.com | P9: linkedin.com/company/Edge Finance | R9: Spain | T9: Barcelona | U9: 784357 | V9: Spijkenisse | W9: 75000 | X9: 1106000 | Y9: 889300 | AB9: 400 | AD9: ORACLE | AE9: finances
B10: B-00004 | C10: Overdrive Logistics | D10: Collective Company | E10: Corporation | F10: Overdrive Logistics - xyz | G10: 44525 | H10: Brenda Fuller | I10: Textile | J10: Nerea Leon | K10: Aidan Yates | L10: 1-868-596-7615 | M10: 1-776-132-4431 | N10: sociis.natoque@icloud.net | O10: Overdrive Logistics.com | P10: linkedin.com/company/Overdrive Logistics | R10: Turkey | T10: Barcelona | U10: 7483 XO | V10: Bida | W10: 74000 | X10: 6058000 | Y10: 438000 | AB10: 670 | AD10: SAP | AE10: database
B11: B-00005 | C11: Pixel Logistics | D11: Cooperative Company | E11: Startup | F11: Pixel Logistics - xyz | G11: 44525 | H11: Murphy Todd | I11: Financial | J11: Lysandra Wiley | K11: Deanna Holcomb | L11: (490) 135-2832 | M11: 1-582-392-0196 | N11: fermentum.arcu@aol.couk | O11: Pixel Logistics.com | P11: linkedin.com/company/Pixel Logistics | R11: Poland | T11: Wroclaw | U11: 45607 | V11: New Quay | W11: 31900 | X11: 5804000 | Y11: 935800 | AB11: 1000 | AD11: Salesforce | AE11: automation, agile
B12: B-00007 | C12: Fusion Finance | D12: Collective Company | E12: Partner | F12: Fusion Finance - xyz | G12: 43794 | H12: Cameran Stokes | I12: Automotive | J12: Aidan Delaney | K12: Gage Boyd | L12: (513) 726-3612 | M12: 1-265-665-2537 | N12: pede.cum@aol.edu | O12: Fusion Finance.com | P12: linkedin.com/company/Fusion Finance | R12: Brazil | T12: Madrid | U12: 903758 | V12: Lunel | W12: 7800 | X12: 6272000 | Y12: 94300 | AB12: 240 | AD12: Office | AE12: Databases
B13: B-00008 | C13: Marketingology | D13: Limited Liability Company | E13: Contractor | F13: Marketingology - xyz | G13: 29550 | H13: Emerald Vincent | I13: Food industry | J13: Lacota Acosta | K13: Nash Goodwin | L13: (921) 223-4744 | M13: (800) 211-0587 | N13: quis.pede.praesent@icloud.com | O13: Marketingology.com | P13: linkedin.com/company/Marketingology | R13: Turkey | T13: Istanbul | U13: 23582 | V13: Quirihue | W13: 28400 | X13: 4548000 | Y13: 937400 | AB13: 665 | AD13: Office | AE13: databases, finances
B14: B-00009 | C14: Marketingsy | D14: Cooperative Company | E14: Partner | F14: Marketingsy - xyz | G14: 42333 | H14: Gwendolyn Carson | I14: Healthcare | J14: Luke Nielsen | K14: Hayley Leblanc | L14: 1-783-372-8799 | M14: (502) 321-1575 | N14: lacus.varius@icloud.org | O14: Marketingsy.com | P14: linkedin.com/company/Marketingsy | R14: Sweden | T14: Kiev | U14: 63585 | V14: Sobral | W14: 42900 | X14: 2225000 | Y14: 187400 | AB14: 815 | AD14: Chrome OS | AE14: finances
B15: B-00010 | C15: Electric Logistics | D15: Cooperative Company | E15: Corporation | F15: Electric Logistics - xyz | G15: 31192 | H15: Marsden Melendez | I15: Financial | J15: Anthony Hull | K15: Barbara Nash | L15: 1-766-527-2028 | M15: 1-653-416-6530 | N15: malesuada.id.erat@hotmail.ca | O15: Electric Logistics.com | P15: linkedin.com/company/Electric Logistics | R15: UK | T15: London | U15: 37445-15774 | V15: Puno | W15: 93000 | X15: 8034000 | Y15: 805300 | AB15: 905 | AD15: Tablets | AE15: economics
B16: B-00011 | C16: Financenest | D16: Cooperative Company | E16: Startup | F16: Financenest - xyz | G16: 32629 | H16: Lani Robertson | I16: Textile | J16: Ethan Copeland | K16: Leroy Gates | L16: 1-202-234-2866 | M16: (835) 324-3219 | N16: imperdiet@yahoo.edu | O16: Financenest.com | P16: linkedin.com/company/Financenest | R16: Poland | T16: Hong Kong | U16: 226925 | V16: Jilin | W16: 41800 | X16: 2214000 | Y16: 145100 | AB16: 525 | AD16: Tablets | AE16: database
B17: B-00013 | C17: Logisticsoont | D17: Joint Stock Company | E17: Partner | F17: Logisticsoont - xyz | G17: 35463 | H17: Kirestin Garrett | I17: Petroleum | J17: Imelda Rowe | K17: Ray Hampton | L17: (344) 767-8905 | M17: (409) 537-1037 | N17: luctus@outlook.net | O17: Logisticsoont.com | P17: linkedin.com/company/Logisticsoont | R17: Spain | T17: Madrid | U17: 47147-788 | V17: Frasnes-lez-Gosselies | W17: 67700 | X17: 5838000 | Y17: 926300 | AB17: 550 | AD17: Office | AE17: databases, finances
B18: B-00014 | C18: Operationswind | D18: Commandite Company | E18: Contractor | F18: Operationswind - xyz | G18: 36220 | H18: Fitzgerald Merrill | I18: Food industry | J18: Garth Gallagher | K18: Benjamin White | L18: 1-122-457-8739 | M18: 1-396-713-9885 | N18: sit.amet@google.edu | O18: Operationswind.com | P18: linkedin.com/company/Operationswind | R18: Chile | T18: LA | U18: 12487 | V18: Dublin | W18: 86900 | X18: 1387000 | Y18: 737800 | AB18: 540 | AD18: RPA | AE18: finances
... B31: B-00027 | C31: SAASWizard Logo Domainify | D31: Collective Company | E31: Startup | F31: SAASWizard Logo Domainify - xyz | G31: 36220 | H31: Wyoming Velasquez | I31: Healthcare | J31: Michael Valdez | K31: Dale Bruce | L31: 1-534-246-2842 | M31: (237) 868-1405 | N31: suspendisse.tristique@outlook.com | O31: SAASWizard Logo Domainify.com | P31: linkedin.com/company/SAASWizard Logo Domainify | R31: Germany | T31: LA | U31: 15231 | V31: Detroit | W31: 18400 | X31: 2393000 | Y31: 242000 | AB31: 565 | AD31: SAP | AE31: databases, finances

Sheet Output
C2: CUSTOMER DATABASE TEMPLATE
C3: CUSTOMER OUTPUT LIST
E4: =IF(E6="","",IF(ISNUMBER(MATCH(E6,Calc!$AA$6:$BX$6,0)),"","x")) | F4: =IF(F6="","",IF(ISNUMBER(MATCH(F6,Calc!$AA$6:$BX$6,0)),"","x")) | G4: =IF(G6="","",IF(ISNUMBER(MATCH(G6,Calc!$AA$6:$BX$6,0)),"","x")) | H4: =IF(H6="","",IF(ISNUMBER(MATCH(H6,Calc!$AA$6:$BX$6,0)),"","x")) | I4: =IF(I6="","",IF(ISNUMBER(MATCH(I6,Calc!$AA$6:$BX$6,0)),"","x")) | J4: =IF(J6="","",IF(ISNUMBER(MATCH(J6,Calc!$AA$6:$BX$6,0)),"","x")) | K4: =IF(K6="","",IF(ISNUMBER(MATCH(K6,Calc!$AA$6:$BX$6,0)),"","x")) | L4: =IF(L6="","",IF(ISNUMBER(MATCH(L6,Calc!$AA$6:$BX$6,0)),"","x")) | ... N4: =IF(N6="","",IF(ISNUMBER(MATCH(N6,Calc!$AA$6:$BX$6,0)),"","x"))
E5: =IFERROR(IF(INDEX(Calc!$AA$5:$BX$5,1,MATCH(Output!E$6,Calc!$AA$6:$BX$6,0))="","",INDEX(Calc!$AA$5:$BX$5,1,MATCH(Output!E$6,Calc!$AA$6:$BX$6,0))),"") -> 2 | F5: =IFERROR(IF(INDEX(Calc!$AA$5:$BX$5,1,MATCH(Output!F$6,Calc!$AA$6:$BX$6,0))="","",INDEX(Calc!$AA$5:$BX$5,1,MATCH(Output!F$6,Calc!$AA$6:$BX$6,0))),"") -> 23 | G5: =IFERROR(IF(INDEX(Calc!$AA$5:$BX$5,1,MATCH(Output!G$6,Calc!$AA$6:$BX$6,0))="","",INDEX(Calc!$AA$5:$BX$5,1,MATCH(Output!G$6,Calc!$AA$6:$BX$6,0))),"") -> 10 | H5: =IFERROR(IF(INDEX(Calc!$AA$5:$BX$5,1,MATCH(Output!H$6,Calc!$AA$6:$BX$6,0))="","",INDEX(Calc!$AA$5:$BX$5,1,MATCH(Output!H$6,Calc!$AA$6:$BX$6,0))),"") -> 11 | I5: =IFERROR(IF(INDEX(Calc!$AA$5:$BX$5,1,MATCH(Output!I$6,Calc!$AA$6:$BX$6,0))="","",INDEX(Calc!$AA$5:$BX$5,1,MATCH(Output!I$6,Calc!$AA$6:$BX$6,0))),"") -> 27 | J5: =IFERROR(IF(INDEX(Calc!$AA$5:$BX$5,1,MATCH(Output!J$6,Calc!$AA$6:$BX$6,0))="","",INDEX(Calc!$AA$5:$BX$5,1,MATCH(Output!J$6,Calc!$AA$6:$BX$6,0))),"") -> 8 | K5: =IFERROR(IF(INDEX(Calc!$AA$5:$BX$5,1,MATCH(Output!K$6,Calc!$AA$6:$BX$6,0))="","",INDEX(Calc!$AA$5:$BX$5,1,MATCH(Output!K$6,Calc!$AA$6:$BX$6,0))),"") | L5: =IFERROR(IF(INDEX(Calc!$AA$5:$BX$5,1,MATCH(Output!L$6,Calc!$AA$6:$BX$6,0))="","",INDEX(Calc!$AA$5:$BX$5,1,MATCH(Output!L$6,Calc!$AA$6:$BX$6,0))),"") | ... N5: =IFERROR(IF(INDEX(Calc!$AA$5:$BX$5,1,MATCH(Output!N$6,Calc!$AA$6:$BX$6,0))="","",INDEX(Calc!$AA$5:$BX$5,1,MATCH(Output!N$6,Calc!$AA$6:$BX$6,0))),"")
B6: SET OF FILTERS | E6: NAME | F6: COMPANY VALUE | G6: CONTACT PERSON | H6: PHONE NUMBER | I6: NUMBER OF EMPLOYEE | J6: INDUSTRY
E7: Column1 | F7: Column2 | G7: Column3 | H7: Column4 | I7: Column5 | J7: Column6 | K7: Column7 | L7: Column8 | M7: Column9 | N7: Column10 | O7: ROW
E8: =IFERROR(INDEX(Calc!$AA$7:$CC$1006,$O8,E$5),"") -> Marketingoryx | F8: =IFERROR(INDEX(Calc!$AA$7:$CC$1006,$O8,F$5),"") -> 9321000 | G8: =IFERROR(INDEX(Calc!$AA$7:$CC$1006,$O8,G$5),"") -> Caleb Mullins | H8: =IFERROR(INDEX(Calc!$AA$7:$CC$1006,$O8,H$5),"") -> 1-783-277-9499 | I8: =IFERROR(INDEX(Calc!$AA$7:$CC$1006,$O8,I$5),"") -> 25 | J8: =IFERROR(INDEX(Calc!$AA$7:$CC$1006,$O8,J$5),"") -> Financial | K8: =IFERROR(INDEX(Calc!$AA$7:$CC$1006,$O8,K$5),"") | L8: =IFERROR(INDEX(Calc!$AA$7:$CC$1006,$O8,L$5),"") | ... N8: =IFERROR(INDEX(Calc!$AA$7:$CC$1006,$O8,N$5),"") | O8: =IFERROR(SMALL(Calc!$CD$7:$CD$1006,ROW(O7)-ROW(O$6)),"") -> 1
A9: =IF(Calc!CE5=0,">>","") | B9: INDUSTRY | E9: =IFERROR(INDEX(Calc!$AA$7:$CC$1006,$O9,E$5),"") -> Linear Marketing | F9: =IFERROR(INDEX(Calc!$AA$7:$CC$1006,$O9,F$5),"") -> 8692000 | G9: =IFERROR(INDEX(Calc!$AA$7:$CC$1006,$O9,G$5),"") -> Laura Hartman | H9: =IFERROR(INDEX(Calc!$AA$7:$CC$1006,$O9,H$5),"") -> (557) 683-7717 | I9: =IFERROR(INDEX(Calc!$AA$7:$CC$1006,$O9,I$5),"") -> 540 | J9: =IFERROR(INDEX(Calc!$AA$7:$CC$1006,$O9,J$5),"") -> Financial | K9: =IFERROR(INDEX(Calc!$AA$7:$CC$1006,$O9,K$5),"") | L9: =IFERROR(INDEX(Calc!$AA$7:$CC$1006,$O9,L$5),"") | ... N9: =IFERROR(INDEX(Calc!$AA$7:$CC$1006,$O9,N$5),"") | O9: =IFERROR(SMALL(Calc!$CD$7:$CD$1006,ROW(O8)-ROW(O$6)),"") -> 2
B10: Equals | C10: Financial | E10: =IFERROR(INDEX(Calc!$AA$7:$CC$1006,$O10,E$5),"") -> Pixel Logistics | F10: =IFERROR(INDEX(Calc!$AA$7:$CC$1006,$O10,F$5),"") -> 5804000 | G10: =IFERROR(INDEX(Calc!$AA$7:$CC$1006,$O10,G$5),"") -> Deanna Holcomb | H10: =IFERROR(INDEX(Calc!$AA$7:$CC$1006,$O10,H$5),"") -> (490) 135-2832 | I10: =IFERROR(INDEX(Calc!$AA$7:$CC$1006,$O10,I$5),"") -> 1000 | J10: =IFERROR(INDEX(Calc!$AA$7:$CC$1006,$O10,J$5),"") -> Financial | K10: =IFERROR(INDEX(Calc!$AA$7:$CC$1006,$O10,K$5),"") | L10: =IFERROR(INDEX(Calc!$AA$7:$CC$1006,$O10,L$5),"") | ... N10: =IFERROR(INDEX(Calc!$AA$7:$CC$1006,$O10,N$5),"") | O10: =IFERROR(SMALL(Calc!$CD$7:$CD$1006,ROW(O9)-ROW(O$6)),"") -> 5
E11: =IFERROR(INDEX(Calc!$AA$7:$CC$1006,$O11,E$5),"") -> Electric Logistics | F11: =IFERROR(INDEX(Calc!$AA$7:$CC$1006,$O11,F$5),"") -> 8034000 | G11: =IFERROR(INDEX(Calc!$AA$7:$CC$1006,$O11,G$5),"") -> Barbara Nash | H11: =IFERROR(INDEX(Calc!$AA$7:$CC$1006,$O11,H$5),"") -> 1-766-527-2028 | I11: =IFERROR(INDEX(Calc!$AA$7:$CC$1006,$O11,I$5),"") -> 905 | J11: =IFERROR(INDEX(Calc!$AA$7:$CC$1006,$O11,J$5),"") -> Financial | K11: =IFERROR(INDEX(Calc!$AA$7:$CC$1006,$O11,K$5),"") | L11: =IFERROR(INDEX(Calc!$AA$7:$CC$1006,$O11,L$5),"") | ... N11: =IFERROR(INDEX(Calc!$AA$7:$CC$1006,$O11,N$5),"") | O11: =IFERROR(SMALL(Calc!$CD$7:$CD$1006,ROW(O10)-ROW(O$6)),"") -> 9
A12: =IF(Calc!CF5=0,">>","") | B12: COUNTRY | E12: =IFERROR(INDEX(Calc!$AA$7:$CC$1006,$O12,E$5),"") -> Macro Finance | F12: =IFERROR(INDEX(Calc!$AA$7:$CC$1006,$O12,F$5),"") -> 2946000 | G12: =IFERROR(INDEX(Calc!$AA$7:$CC$1006,$O12,G$5),"") -> Ross Porter | H12: =IFERROR(INDEX(Calc!$AA$7:$CC$1006,$O12,H$5),"") -> 1-771-531-6786 | I12: =IFERROR(INDEX(Calc!$AA$7:$CC$1006,$O12,I$5),"") -> 415 | J12: =IFERROR(INDEX(Calc!$AA$7:$CC$1006,$O12,J$5),"") -> Financial | K12: =IFERROR(INDEX(Calc!$AA$7:$CC$1006,$O12,K$5),"") | L12: =IFERROR(INDEX(Calc!$AA$7:$CC$1006,$O12,L$5),"") | ... N12: =IFERROR(INDEX(Calc!$AA$7:$CC$1006,$O12,N$5),"") | O12: =IFERROR(SMALL(Calc!$CD$7:$CD$1006,ROW(O11)-ROW(O$6)),"") -> 18
B13: Equals | E13: =IFERROR(INDEX(Calc!$AA$7:$CC$1006,$O13,E$5),"") -> Financefluent | F13: =IFERROR(INDEX(Calc!$AA$7:$CC$1006,$O13,F$5),"") -> 9844000 | G13: =IFERROR(INDEX(Calc!$AA$7:$CC$1006,$O13,G$5),"") -> Norman Dillon | H13: =IFERROR(INDEX(Calc!$AA$7:$CC$1006,$O13,H$5),"") -> (803) 712-9679 | I13: =IFERROR(INDEX(Calc!$AA$7:$CC$1006,$O13,I$5),"") -> 185 | J13: =IFERROR(INDEX(Calc!$AA$7:$CC$1006,$O13,J$5),"") -> Financial | K13: =IFERROR(INDEX(Calc!$AA$7:$CC$1006,$O13,K$5),"") | L13: =IFERROR(INDEX(Calc!$AA$7:$CC$1006,$O13,L$5),"") | ... N13: =IFERROR(INDEX(Calc!$AA$7:$CC$1006,$O13,N$5),"") | O13: =IFERROR(SMALL(Calc!$CD$7:$CD$1006,ROW(O12)-ROW(O$6)),"") -> 19
E14: =IFERROR(INDEX(Calc!$AA$7:$CC$1006,$O14,E$5),"") -> Spire Operations | F14: =IFERROR(INDEX(Calc!$AA$7:$CC$1006,$O14,F$5),"") -> 5975000 | G14: =IFERROR(INDEX(Calc!$AA$7:$CC$1006,$O14,G$5),"") -> Ahmed Munoz | H14: =IFERROR(INDEX(Calc!$AA$7:$CC$1006,$O14,H$5),"") -> (676) 613-1898 | I14: =IFERROR(INDEX(Calc!$AA$7:$CC$1006,$O14,I$5),"") -> 645 | J14: =IFERROR(INDEX(Calc!$AA$7:$CC$1006,$O14,J$5),"") -> Financial | K14: =IFERROR(INDEX(Calc!$AA$7:$CC$1006,$O14,K$5),"") | L14: =IFERROR(INDEX(Calc!$AA$7:$CC$1006,$O14,L$5),"") | ... N14: =IFERROR(INDEX(Calc!$AA$7:$CC$1006,$O14,N$5),"") | O14: =IFERROR(SMALL(Calc!$CD$7:$CD$1006,ROW(O13)-ROW(O$6)),"") -> 22
A15: =IF(Calc!CG5=0,">>","") | B15: FOUNDATION DATE | E15: =IFERROR(INDEX(Calc!$AA$7:$CC$1006,$O15,E$5),"") | F15: =IFERROR(INDEX(Calc!$AA$7:$CC$1006,$O15,F$5),"") | G15: =IFERROR(INDEX(Calc!$AA$7:$CC$1006,$O15,G$5),"") | H15: =IFERROR(INDEX(Calc!$AA$7:$CC$1006,$O15,H$5),"") | I15: =IFERROR(INDEX(Calc!$AA$7:$CC$1006,$O15,I$5),"") | J15: =IFERROR(INDEX(Calc!$AA$7:$CC$1006,$O15,J$5),"") | K15: =IFERROR(INDEX(Calc!$AA$7:$CC$1006,$O15,K$5),"") | L15: =IFERROR(INDEX(Calc!$AA$7:$CC$1006,$O15,L$5),"") | ... N15: =IFERROR(INDEX(Calc!$AA$7:$CC$1006,$O15,N$5),"") | O15: =IFERROR(SMALL(Calc!$CD$7:$CD$1006,ROW(O14)-ROW(O$6)),"")
B16: Above | C16: 1.11.1950 | E16: =IFERROR(INDEX(Calc!$AA$7:$CC$1006,$O16,E$5),"") | F16: =IFERROR(INDEX(Calc!$AA$7:$CC$1006,$O16,F$5),"") | G16: =IFERROR(INDEX(Calc!$AA$7:$CC$1006,$O16,G$5),"") | H16: =IFERROR(INDEX(Calc!$AA$7:$CC$1006,$O16,H$5),"") | I16: =IFERROR(INDEX(Calc!$AA$7:$CC$1006,$O16,I$5),"") | J16: =IFERROR(INDEX(Calc!$AA$7:$CC$1006,$O16,J$5),"") | K16: =IFERROR(INDEX(Calc!$AA$7:$CC$1006,$O16,K$5),"") | L16: =IFERROR(INDEX(Calc!$AA$7:$CC$1006,$O16,L$5),"") | ... N16: =IFERROR(INDEX(Calc!$AA$7:$CC$1006,$O16,N$5),"") | O16: =IFERROR(SMALL(Calc!$CD$7:$CD$1006,ROW(O15)-ROW(O$6)),"")
E17: =IFERROR(INDEX(Calc!$AA$7:$CC$1006,$O17,E$5),"") | F17: =IFERROR(INDEX(Calc!$AA$7:$CC$1006,$O17,F$5),"") | G17: =IFERROR(INDEX(Calc!$AA$7:$CC$1006,$O17,G$5),"") | H17: =IFERROR(INDEX(Calc!$AA$7:$CC$1006,$O17,H$5),"") | I17: =IFERROR(INDEX(Calc!$AA$7:$CC$1006,$O17,I$5),"") | J17: =IFERROR(INDEX(Calc!$AA$7:$CC$1006,$O17,J$5),"") | K17: =IFERROR(INDEX(Calc!$AA$7:$CC$1006,$O17,K$5),"") | L17: =IFERROR(INDEX(Calc!$AA$7:$CC$1006,$O17,L$5),"") | ... N17: =IFERROR(INDEX(Calc!$AA$7:$CC$1006,$O17,N$5),"") | O17: =IFERROR(SMALL(Calc!$CD$7:$CD$1006,ROW(O16)-ROW(O$6)),"")
A18: =IF(Calc!CH5=0,">>","") | B18: COMPANY REVENUE | E18: =IFERROR(INDEX(Calc!$AA$7:$CC$1006,$O18,E$5),"") | F18: =IFERROR(INDEX(Calc!$AA$7:$CC$1006,$O18,F$5),"") | G18: =IFERROR(INDEX(Calc!$AA$7:$CC$1006,$O18,G$5),"") | H18: =IFERROR(INDEX(Calc!$AA$7:$CC$1006,$O18,H$5),"") | I18: =IFERROR(INDEX(Calc!$AA$7:$CC$1006,$O18,I$5),"") | J18: =IFERROR(INDEX(Calc!$AA$7:$CC$1006,$O18,J$5),"") | K18: =IFERROR(INDEX(Calc!$AA$7:$CC$1006,$O18,K$5),"") | L18: =IFERROR(INDEX(Calc!$AA$7:$CC$1006,$O18,L$5),"") | ... N18: =IFERROR(INDEX(Calc!$AA$7:$CC$1006,$O18,N$5),"") | O18: =IFERROR(SMALL(Calc!$CD$7:$CD$1006,ROW(O17)-ROW(O$6)),"")
B19: Below | E19: =IFERROR(INDEX(Calc!$AA$7:$CC$1006,$O19,E$5),"") | F19: =IFERROR(INDEX(Calc!$AA$7:$CC$1006,$O19,F$5),"") | G19: =IFERROR(INDEX(Calc!$AA$7:$CC$1006,$O19,G$5),"") | H19: =IFERROR(INDEX(Calc!$AA$7:$CC$1006,$O19,H$5),"") | I19: =IFERROR(INDEX(Calc!$AA$7:$CC$1006,$O19,I$5),"") | J19: =IFERROR(INDEX(Calc!$AA$7:$CC$1006,$O19,J$5),"") | K19: =IFERROR(INDEX(Calc!$AA$7:$CC$1006,$O19,K$5),"") | L19: =IFERROR(INDEX(Calc!$AA$7:$CC$1006,$O19,L$5),"") | ... N19: =IFERROR(INDEX(Calc!$AA$7:$CC$1006,$O19,N$5),"") | O19: =IFERROR(SMALL(Calc!$CD$7:$CD$1006,ROW(O18)-ROW(O$6)),"")
E20: =IFERROR(INDEX(Calc!$AA$7:$CC$1006,$O20,E$5),"") | F20: =IFERROR(INDEX(Calc!$AA$7:$CC$1006,$O20,F$5),"") | G20: =IFERROR(INDEX(Calc!$AA$7:$CC$1006,$O20,G$5),"") | H20: =IFERROR(INDEX(Calc!$AA$7:$CC$1006,$O20,H$5),"") | I20: =IFERROR(INDEX(Calc!$AA$7:$CC$1006,$O20,I$5),"") | J20: =IFERROR(INDEX(Calc!$AA$7:$CC$1006,$O20,J$5),"") | K20: =IFERROR(INDEX(Calc!$AA$7:$CC$1006,$O20,K$5),"") | L20: =IFERROR(INDEX(Calc!$AA$7:$CC$1006,$O20,L$5),"") | ... N20: =IFERROR(INDEX(Calc!$AA$7:$CC$1006,$O20,N$5),"") | O20: =IFERROR(SMALL(Calc!$CD$7:$CD$1006,ROW(O19)-ROW(O$6)),"")
E21: =IFERROR(INDEX(Calc!$AA$7:$CC$1006,$O21,E$5),"") | F21: =IFERROR(INDEX(Calc!$AA$7:$CC$1006,$O21,F$5),"") | G21: =IFERROR(INDEX(Calc!$AA$7:$CC$1006,$O21,G$5),"") | H21: =IFERROR(INDEX(Calc!$AA$7:$CC$1006,$O21,H$5),"") | I21: =IFERROR(INDEX(Calc!$AA$7:$CC$1006,$O21,I$5),"") | J21: =IFERROR(INDEX(Calc!$AA$7:$CC$1006,$O21,J$5),"") | K21: =IFERROR(INDEX(Calc!$AA$7:$CC$1006,$O21,K$5),"") | L21: =IFERROR(INDEX(Calc!$AA$7:$CC$1006,$O21,L$5),"") | ... N21: =IFERROR(INDEX(Calc!$AA$7:$CC$1006,$O21,N$5),"") | O21: =IFERROR(SMALL(Calc!$CD$7:$CD$1006,ROW(O20)-ROW(O$6)),"")
E22: =IFERROR(INDEX(Calc!$AA$7:$CC$1006,$O22,E$5),"") | F22: =IFERROR(INDEX(Calc!$AA$7:$CC$1006,$O22,F$5),"") | G22: =IFERROR(INDEX(Calc!$AA$7:$CC$1006,$O22,G$5),"") | H22: =IFERROR(INDEX(Calc!$AA$7:$CC$1006,$O22,H$5),"") | I22: =IFERROR(INDEX(Calc!$AA$7:$CC$1006,$O22,I$5),"") | J22: =IFERROR(INDEX(Calc!$AA$7:$CC$1006,$O22,J$5),"") | K22: =IFERROR(INDEX(Calc!$AA$7:$CC$1006,$O22,K$5),"") | L22: =IFERROR(INDEX(Calc!$AA$7:$CC$1006,$O22,L$5),"") | ... N22: =IFERROR(INDEX(Calc!$AA$7:$CC$1006,$O22,N$5),"") | O22: =IFERROR(SMALL(Calc!$CD$7:$CD$1006,ROW(O21)-ROW(O$6)),"")
E23: =IFERROR(INDEX(Calc!$AA$7:$CC$1006,$O23,E$5),"") | F23: =IFERROR(INDEX(Calc!$AA$7:$CC$1006,$O23,F$5),"") | G23: =IFERROR(INDEX(Calc!$AA$7:$CC$1006,$O23,G$5),"") | H23: =IFERROR(INDEX(Calc!$AA$7:$CC$1006,$O23,H$5),"") | I23: =IFERROR(INDEX(Calc!$AA$7:$CC$1006,$O23,I$5),"") | J23: =IFERROR(INDEX(Calc!$AA$7:$CC$1006,$O23,J$5),"") | K23: =IFERROR(INDEX(Calc!$AA$7:$CC$1006,$O23,K$5),"") | L23: =IFERROR(INDEX(Calc!$AA$7:$CC$1006,$O23,L$5),"") | ... N23: =IFERROR(INDEX(Calc!$AA$7:$CC$1006,$O23,N$5),"") | O23: =IFERROR(SMALL(Calc!$CD$7:$CD$1006,ROW(O22)-ROW(O$6)),"")
E24: =IFERROR(INDEX(Calc!$AA$7:$CC$1006,$O24,E$5),"") | F24: =IFERROR(INDEX(Calc!$AA$7:$CC$1006,$O24,F$5),"") | G24: =IFERROR(INDEX(Calc!$AA$7:$CC$1006,$O24,G$5),"") | H24: =IFERROR(INDEX(Calc!$AA$7:$CC$1006,$O24,H$5),"") | I24: =IFERROR(INDEX(Calc!$AA$7:$CC$1006,$O24,I$5),"") | J24: =IFERROR(INDEX(Calc!$AA$7:$CC$1006,$O24,J$5),"") | K24: =IFERROR(INDEX(Calc!$AA$7:$CC$1006,$O24,K$5),"") | L24: =IFERROR(INDEX(Calc!$AA$7:$CC$1006,$O24,L$5),"") | ... N24: =IFERROR(INDEX(Calc!$AA$7:$CC$1006,$O24,N$5),"") | O24: =IFERROR(SMALL(Calc!$CD$7:$CD$1006,ROW(O23)-ROW(O$6)),"")
E25: =IFERROR(INDEX(Calc!$AA$7:$CC$1006,$O25,E$5),"") | F25: =IFERROR(INDEX(Calc!$AA$7:$CC$1006,$O25,F$5),"") | G25: =IFERROR(INDEX(Calc!$AA$7:$CC$1006,$O25,G$5),"") | H25: =IFERROR(INDEX(Calc!$AA$7:$CC$1006,$O25,H$5),"") | I25: =IFERROR(INDEX(Calc!$AA$7:$CC$1006,$O25,I$5),"") | J25: =IFERROR(INDEX(Calc!$AA$7:$CC$1006,$O25,J$5),"") | K25: =IFERROR(INDEX(Calc!$AA$7:$CC$1006,$O25,K$5),"") | L25: =IFERROR(INDEX(Calc!$AA$7:$CC$1006,$O25,L$5),"") | ... N25: =IFERROR(INDEX(Calc!$AA$7:$CC$1006,$O25,N$5),"") | O25: =IFERROR(SMALL(Calc!$CD$7:$CD$1006,ROW(O24)-ROW(O$6)),"")
E26: =IFERROR(INDEX(Calc!$AA$7:$CC$1006,$O26,E$5),"") | F26: =IFERROR(INDEX(Calc!$AA$7:$CC$1006,$O26,F$5),"") | G26: =IFERROR(INDEX(Calc!$AA$7:$CC$1006,$O26,G$5),"") | H26: =IFERROR(INDEX(Calc!$AA$7:$CC$1006,$O26,H$5),"") | I26: =IFERROR(INDEX(Calc!$AA$7:$CC$1006,$O26,I$5),"") | J26: =IFERROR(INDEX(Calc!$AA$7:$CC$1006,$O26,J$5),"") | K26: =IFERROR(INDEX(Calc!$AA$7:$CC$1006,$O26,K$5),"") | L26: =IFERROR(INDEX(Calc!$AA$7:$CC$1006,$O26,L$5),"") | ... N26: =IFERROR(INDEX(Calc!$AA$7:$CC$1006,$O26,N$5),"") | O26: =IFERROR(SMALL(Calc!$CD$7:$CD$1006,ROW(O25)-ROW(O$6)),"")
E27: =IFERROR(INDEX(Calc!$AA$7:$CC$1006,$O27,E$5),"") | F27: =IFERROR(INDEX(Calc!$AA$7:$CC$1006,$O27,F$5),"") | G27: =IFERROR(INDEX(Calc!$AA$7:$CC$1006,$O27,G$5),"") | H27: =IFERROR(INDEX(Calc!$AA$7:$CC$1006,$O27,H$5),"") | I27: =IFERROR(INDEX(Calc!$AA$7:$CC$1006,$O27,I$5),"") | J27: =IFERROR(INDEX(Calc!$AA$7:$CC$1006,$O27,J$5),"") | K27: =IFERROR(INDEX(Calc!$AA$7:$CC$1006,$O27,K$5),"") | L27: =IFERROR(INDEX(Calc!$AA$7:$CC$1006,$O27,L$5),"") | ... N27: =IFERROR(INDEX(Calc!$AA$7:$CC$1006,$O27,N$5),"") | O27: =IFERROR(SMALL(Calc!$CD$7:$CD$1006,ROW(O26)-ROW(O$6)),"")
E28: =IFERROR(INDEX(Calc!$AA$7:$CC$1006,$O28,E$5),"") | F28: =IFERROR(INDEX(Calc!$AA$7:$CC$1006,$O28,F$5),"") | G28: =IFERROR(INDEX(Calc!$AA$7:$CC$1006,$O28,G$5),"") | H28: =IFERROR(INDEX(Calc!$AA$7:$CC$1006,$O28,H$5),"") | I28: =IFERROR(INDEX(Calc!$AA$7:$CC$1006,$O28,I$5),"") | J28: =IFERROR(INDEX(Calc!$AA$7:$CC$1006,$O28,J$5),"") | K28: =IFERROR(INDEX(Calc!$AA$7:$CC$1006,$O28,K$5),"") | L28: =IFERROR(INDEX(Calc!$AA$7:$CC$1006,$O28,L$5),"") | ... N28: =IFERROR(INDEX(Calc!$AA$7:$CC$1006,$O28,N$5),"") | O28: =IFERROR(SMALL(Calc!$CD$7:$CD$1006,ROW(O27)-ROW(O$6)),"")
E29: =IFERROR(INDEX(Calc!$AA$7:$CC$1006,$O29,E$5),"") | F29: =IFERROR(INDEX(Calc!$AA$7:$CC$1006,$O29,F$5),"") | G29: =IFERROR(INDEX(Calc!$AA$7:$CC$1006,$O29,G$5),"") | H29: =IFERROR(INDEX(Calc!$AA$7:$CC$1006,$O29,H$5),"") | I29: =IFERROR(INDEX(Calc!$AA$7:$CC$1006,$O29,I$5),"") | J29: =IFERROR(INDEX(Calc!$AA$7:$CC$1006,$O29,J$5),"") | K29: =IFERROR(INDEX(Calc!$AA$7:$CC$1006,$O29,K$5),"") | L29: =IFERROR(INDEX(Calc!$AA$7:$CC$1006,$O29,L$5),"") | ... N29: =IFERROR(INDEX(Calc!$AA$7:$CC$1006,$O29,N$5),"") | O29: =IFERROR(SMALL(Calc!$CD$7:$CD$1006,ROW(O28)-ROW(O$6)),"")
E30: =IFERROR(INDEX(Calc!$AA$7:$CC$1006,$O30,E$5),"") | F30: =IFERROR(INDEX(Calc!$AA$7:$CC$1006,$O30,F$5),"") | G30: =IFERROR(INDEX(Calc!$AA$7:$CC$1006,$O30,G$5),"") | H30: =IFERROR(INDEX(Calc!$AA$7:$CC$1006,$O30,H$5),"") | I30: =IFERROR(INDEX(Calc!$AA$7:$CC$1006,$O30,I$5),"") | J30: =IFERROR(INDEX(Calc!$AA$7:$CC$1006,$O30,J$5),"") | K30: =IFERROR(INDEX(Calc!$AA$7:$CC$1006,$O30,K$5),"") | L30: =IFERROR(INDEX(Calc!$AA$7:$CC$1006,$O30,L$5),"") | ... N30: =IFERROR(INDEX(Calc!$AA$7:$CC$1006,$O30,N$5),"") | O30: =IFERROR(SMALL(Calc!$CD$7:$CD$1006,ROW(O29)-ROW(O$6)),"")
E31: =IFERROR(INDEX(Calc!$AA$7:$CC$1006,$O31,E$5),"") | F31: =IFERROR(INDEX(Calc!$AA$7:$CC$1006,$O31,F$5),"") | G31: =IFERROR(INDEX(Calc!$AA$7:$CC$1006,$O31,G$5),"") | H31: =IFERROR(INDEX(Calc!$AA$7:$CC$1006,$O31,H$5),"") | I31: =IFERROR(INDEX(Calc!$AA$7:$CC$1006,$O31,I$5),"") | J31: =IFERROR(INDEX(Calc!$AA$7:$CC$1006,$O31,J$5),"") | K31: =IFERROR(INDEX(Calc!$AA$7:$CC$1006,$O31,K$5),"") | L31: =IFERROR(INDEX(Calc!$AA$7:$CC$1006,$O31,L$5),"") | ... N31: =IFERROR(INDEX(Calc!$AA$7:$CC$1006,$O31,N$5),"") | O31: =IFERROR(SMALL(Calc!$CD$7:$CD$1006,ROW(O30)-ROW(O$6)),"")
... E37: =IFERROR(INDEX(Calc!$AA$7:$CC$1006,$O37,E$5),"") | F37: =IFERROR(INDEX(Calc!$AA$7:$CC$1006,$O37,F$5),"") | G37: =IFERROR(INDEX(Calc!$AA$7:$CC$1006,$O37,G$5),"") | H37: =IFERROR(INDEX(Calc!$AA$7:$CC$1006,$O37,H$5),"") | I37: =IFERROR(INDEX(Calc!$AA$7:$CC$1006,$O37,I$5),"") | J37: =IFERROR(INDEX(Calc!$AA$7:$CC$1006,$O37,J$5),"") | K37: =IFERROR(INDEX(Calc!$AA$7:$CC$1006,$O37,K$5),"") | L37: =IFERROR(INDEX(Calc!$AA$7:$CC$1006,$O37,L$5),"") | ... N37: =IFERROR(INDEX(Calc!$AA$7:$CC$1006,$O37,N$5),"") | O37: =IFERROR(SMALL(Calc!$CD$7:$CD$1006,ROW(O36)-ROW(O$6)),"")

Sheet Form
C2: CUSTOMER DATABASE TEMPLATE
C3: CUSTOMER FORM
C5: SELECT ID | G5: B-00008
C9: Basic information | G9: {=IFERROR(IF(E9="","",INDEX(Calc!$AA$3:$CC$3,1,INDEX(Calc!$AA$5:$BX$5,1,MATCH(E9,Calc!$AA$6:$BX$6,0)))),"")} | K9: {=IFERROR(IF(I9="","",INDEX(Calc!$AA$3:$CC$3,1,INDEX(Calc!$AA$5:$BX$5,1,MATCH(I9,Calc!$AA$6:$BX$6,0)))),"")}
G10: {=IFERROR(IF(E10="","",INDEX(Calc!$AA$3:$CC$3,1,INDEX(Calc!$AA$5:$BX$5,1,MATCH(E10,Calc!$AA$6:$BX$6,0)))),"")} | K10: {=IFERROR(IF(I10="","",INDEX(Calc!$AA$3:$CC$3,1,INDEX(Calc!$AA$5:$BX$5,1,MATCH(I10,Calc!$AA$6:$BX$6,0)))),"")}
E11: NAME | G11: {=IFERROR(IF(E11="","",INDEX(Calc!$AA$3:$CC$3,1,INDEX(Calc!$AA$5:$BX$5,1,MATCH(E11,Calc!$AA$6:$BX$6,0)))),"")} -> Marketingology | K11: {=IFERROR(IF(I11="","",INDEX(Calc!$AA$3:$CC$3,1,INDEX(Calc!$AA$5:$BX$5,1,MATCH(I11,Calc!$AA$6:$BX$6,0)))),"")}
G12: {=IFERROR(IF(E12="","",INDEX(Calc!$AA$3:$CC$3,1,INDEX(Calc!$AA$5:$BX$5,1,MATCH(E12,Calc!$AA$6:$BX$6,0)))),"")} | K12: {=IFERROR(IF(I12="","",INDEX(Calc!$AA$3:$CC$3,1,INDEX(Calc!$AA$5:$BX$5,1,MATCH(I12,Calc!$AA$6:$BX$6,0)))),"")}
E13: STATUS | G13: {=IFERROR(IF(E13="","",INDEX(Calc!$AA$3:$CC$3,1,INDEX(Calc!$AA$5:$BX$5,1,MATCH(E13,Calc!$AA$6:$BX$6,0)))),"")} -> Contractor | K13: {=IFERROR(IF(I13="","",INDEX(Calc!$AA$3:$CC$3,1,INDEX(Calc!$AA$5:$BX$5,1,MATCH(I13,Calc!$AA$6:$BX$6,0)))),"")}
G14: {=IFERROR(IF(E14="","",INDEX(Calc!$AA$3:$CC$3,1,INDEX(Calc!$AA$5:$BX$5,1,MATCH(E14,Calc!$AA$6:$BX$6,0)))),"")} | K14: {=IFERROR(IF(I14="","",INDEX(Calc!$AA$3:$CC$3,1,INDEX(Calc!$AA$5:$BX$5,1,MATCH(I14,Calc!$AA$6:$BX$6,0)))),"")}
E15: TYPE | G15: {=IFERROR(IF(E15="","",INDEX(Calc!$AA$3:$CC$3,1,INDEX(Calc!$AA$5:$BX$5,1,MATCH(E15,Calc!$AA$6:$BX$6,0)))),"")} -> Limited Liability Company | I15: INDUSTRY | K15: {=IFERROR(IF(I15="","",INDEX(Calc!$AA$3:$CC$3,1,INDEX(Calc!$AA$5:$BX$5,1,MATCH(I15,Calc!$AA$6:$BX$6,0)))),"")} -> Food industry
G16: {=IFERROR(IF(E16="","",INDEX(Calc!$AA$3:$CC$3,1,INDEX(Calc!$AA$5:$BX$5,1,MATCH(E16,Calc!$AA$6:$BX$6,0)))),"")} | K16: {=IFERROR(IF(I16="","",INDEX(Calc!$AA$3:$CC$3,1,INDEX(Calc!$AA$5:$BX$5,1,MATCH(I16,Calc!$AA$6:$BX$6,0)))),"")}
E17: FOUNDATION DATE | G17: {=IFERROR(IF(E17="","",INDEX(Calc!$AA$3:$CC$3,1,INDEX(Calc!$AA$5:$BX$5,1,MATCH(E17,Calc!$AA$6:$BX$6,0)))),"")} -> 11.25.1980 | I17: CEO | K17: {=IFERROR(IF(I17="","",INDEX(Calc!$AA$3:$CC$3,1,INDEX(Calc!$AA$5:$BX$5,1,MATCH(I17,Calc!$AA$6:$BX$6,0)))),"")} -> Emerald Vincent
G18: {=IFERROR(IF(E18="","",INDEX(Calc!$AA$3:$CC$3,1,INDEX(Calc!$AA$5:$BX$5,1,MATCH(E18,Calc!$AA$6:$BX$6,0)))),"")} | K18: {=IFERROR(IF(I18="","",INDEX(Calc!$AA$3:$CC$3,1,INDEX(Calc!$AA$5:$BX$5,1,MATCH(I18,Calc!$AA$6:$BX$6,0)))),"")}
C19: Location | G19: {=IFERROR(IF(E19="","",INDEX(Calc!$AA$3:$CC$3,1,INDEX(Calc!$AA$5:$BX$5,1,MATCH(E19,Calc!$AA$6:$BX$6,0)))),"")} | K19: {=IFERROR(IF(I19="","",INDEX(Calc!$AA$3:$CC$3,1,INDEX(Calc!$AA$5:$BX$5,1,MATCH(I19,Calc!$AA$6:$BX$6,0)))),"")}
G20: {=IFERROR(IF(E20="","",INDEX(Calc!$AA$3:$CC$3,1,INDEX(Calc!$AA$5:$BX$5,1,MATCH(E20,Calc!$AA$6:$BX$6,0)))),"")} | K20: {=IFERROR(IF(I20="","",INDEX(Calc!$AA$3:$CC$3,1,INDEX(Calc!$AA$5:$BX$5,1,MATCH(I20,Calc!$AA$6:$BX$6,0)))),"")}
E21: CITY | G21: {=IFERROR(IF(E21="","",INDEX(Calc!$AA$3:$CC$3,1,INDEX(Calc!$AA$5:$BX$5,1,MATCH(E21,Calc!$AA$6:$BX$6,0)))),"")} -> Istanbul | I21: COUNTRY | K21: {=IFERROR(IF(I21="","",INDEX(Calc!$AA$3:$CC$3,1,INDEX(Calc!$AA$5:$BX$5,1,MATCH(I21,Calc!$AA$6:$BX$6,0)))),"")} -> Turkey
G22: {=IFERROR(IF(E22="","",INDEX(Calc!$AA$3:$CC$3,1,INDEX(Calc!$AA$5:$BX$5,1,MATCH(E22,Calc!$AA$6:$BX$6,0)))),"")} | K22: {=IFERROR(IF(I22="","",INDEX(Calc!$AA$3:$CC$3,1,INDEX(Calc!$AA$5:$BX$5,1,MATCH(I22,Calc!$AA$6:$BX$6,0)))),"")}
E23: ZIPCODE | G23: {=IFERROR(IF(E23="","",INDEX(Calc!$AA$3:$CC$3,1,INDEX(Calc!$AA$5:$BX$5,1,MATCH(E23,Calc!$AA$6:$BX$6,0)))),"")} -> 23582 | I23: OTHER LOCATIONS | K23: {=IFERROR(IF(I23="","",INDEX(Calc!$AA$3:$CC$3,1,INDEX(Calc!$AA$5:$BX$5,1,MATCH(I23,Calc!$AA$6:$BX$6,0)))),"")} -> Quirihue
G24: {=IFERROR(IF(E24="","",INDEX(Calc!$AA$3:$CC$3,1,INDEX(Calc!$AA$5:$BX$5,1,MATCH(E24,Calc!$AA$6:$BX$6,0)))),"")} | K24: {=IFERROR(IF(I24="","",INDEX(Calc!$AA$3:$CC$3,1,INDEX(Calc!$AA$5:$BX$5,1,MATCH(I24,Calc!$AA$6:$BX$6,0)))),"")}
C25: Contact | G25: {=IFERROR(IF(E25="","",INDEX(Calc!$AA$3:$CC$3,1,INDEX(Calc!$AA$5:$BX$5,1,MATCH(E25,Calc!$AA$6:$BX$6,0)))),"")} | K25: {=IFERROR(IF(I25="","",INDEX(Calc!$AA$3:$CC$3,1,INDEX(Calc!$AA$5:$BX$5,1,MATCH(I25,Calc!$AA$6:$BX$6,0)))),"")}
G26: {=IFERROR(IF(E26="","",INDEX(Calc!$AA$3:$CC$3,1,INDEX(Calc!$AA$5:$BX$5,1,MATCH(E26,Calc!$AA$6:$BX$6,0)))),"")} | K26: {=IFERROR(IF(I26="","",INDEX(Calc!$AA$3:$CC$3,1,INDEX(Calc!$AA$5:$BX$5,1,MATCH(I26,Calc!$AA$6:$BX$6,0)))),"")}
E27: CONTACT PERSON | G27: {=IFERROR(IF(E27="","",INDEX(Calc!$AA$3:$CC$3,1,INDEX(Calc!$AA$5:$BX$5,1,MATCH(E27,Calc!$AA$6:$BX$6,0)))),"")} -> Nash Goodwin | I27: EMAIL | K27: {=IFERROR(IF(I27="","",INDEX(Calc!$AA$3:$CC$3,1,INDEX(Calc!$AA$5:$BX$5,1,MATCH(I27,Calc!$AA$6:$BX$6,0)))),"")} -> quis.pede.praesent@icloud.com
G28: {=IFERROR(IF(E28="","",INDEX(Calc!$AA$3:$CC$3,1,INDEX(Calc!$AA$5:$BX$5,1,MATCH(E28,Calc!$AA$6:$BX$6,0)))),"")} | K28: {=IFERROR(IF(I28="","",INDEX(Calc!$AA$3:$CC$3,1,INDEX(Calc!$AA$5:$BX$5,1,MATCH(I28,Calc!$AA$6:$BX$6,0)))),"")}
E29: PHONE NUMBER | G29: {=IFERROR(IF(E29="","",INDEX(Calc!$AA$3:$CC$3,1,INDEX(Calc!$AA$5:$BX$5,1,MATCH(E29,Calc!$AA$6:$BX$6,0)))),"")} -> (921) 223-4744 | I29: LINKED IN | K29: {=IFERROR(IF(I29="","",INDEX(Calc!$AA$3:$CC$3,1,INDEX(Calc!$AA$5:$BX$5,1,MATCH(I29,Calc!$AA$6:$BX$6,0)))),"")} -> linkedin.com/company/Marketingology
G30: {=IFERROR(IF(E30="","",INDEX(Calc!$AA$3:$CC$3,1,INDEX(Calc!$AA$5:$BX$5,1,MATCH(E30,Calc!$AA$6:$BX$6,0)))),"")} | K30: {=IFERROR(IF(I30="","",INDEX(Calc!$AA$3:$CC$3,1,INDEX(Calc!$AA$5:$BX$5,1,MATCH(I30,Calc!$AA$6:$BX$6,0)))),"")}
E31: EMAIL | G31: {=IFERROR(IF(E31="","",INDEX(Calc!$AA$3:$CC$3,1,INDEX(Calc!$AA$5:$BX$5,1,MATCH(E31,Calc!$AA$6:$BX$6,0)))),"")} -> quis.pede.praesent@icloud.com | I31: WEBSITE | K31: {=IFERROR(IF(I31="","",INDEX(Calc!$AA$3:$CC$3,1,INDEX(Calc!$AA$5:$BX$5,1,MATCH(I31,Calc!$AA$6:$BX$6,0)))),"")} -> Marketingology.com
G32: {=IFERROR(IF(E32="","",INDEX(Calc!$AA$3:$CC$3,1,INDEX(Calc!$AA$5:$BX$5,1,MATCH(E32,Calc!$AA$6:$BX$6,0)))),"")} | K32: {=IFERROR(IF(I32="","",INDEX(Calc!$AA$3:$CC$3,1,INDEX(Calc!$AA$5:$BX$5,1,MATCH(I32,Calc!$AA$6:$BX$6,0)))),"")}
C33: Employees | G33: {=IFERROR(IF(E33="","",INDEX(Calc!$AA$3:$CC$3,1,INDEX(Calc!$AA$5:$BX$5,1,MATCH(E33,Calc!$AA$6:$BX$6,0)))),"")} | K33: {=IFERROR(IF(I33="","",INDEX(Calc!$AA$3:$CC$3,1,INDEX(Calc!$AA$5:$BX$5,1,MATCH(I33,Calc!$AA$6:$BX$6,0)))),"")}
G34: {=IFERROR(IF(E34="","",INDEX(Calc!$AA$3:$CC$3,1,INDEX(Calc!$AA$5:$BX$5,1,MATCH(E34,Calc!$AA$6:$BX$6,0)))),"")} | K34: {=IFERROR(IF(I34="","",INDEX(Calc!$AA$3:$CC$3,1,INDEX(Calc!$AA$5:$BX$5,1,MATCH(I34,Calc!$AA$6:$BX$6,0)))),"")}
E35: SKILLS | G35: {=IFERROR(IF(E35="","",INDEX(Calc!$AA$3:$CC$3,1,INDEX(Calc!$AA$5:$BX$5,1,MATCH(E35,Calc!$AA$6:$BX$6,0)))),"")} -> databases, finances | I35: TECHNOLOGY USED | K35: {=IFERROR(IF(I35="","",INDEX(Calc!$AA$3:$CC$3,1,INDEX(Calc!$AA$5:$BX$5,1,MATCH(I35,Calc!$AA$6:$BX$6,0)))),"")} -> Office
G36: {=IFERROR(IF(E36="","",INDEX(Calc!$AA$3:$CC$3,1,INDEX(Calc!$AA$5:$BX$5,1,MATCH(E36,Calc!$AA$6:$BX$6,0)))),"")} | K36: {=IFERROR(IF(I36="","",INDEX(Calc!$AA$3:$CC$3,1,INDEX(Calc!$AA$5:$BX$5,1,MATCH(I36,Calc!$AA$6:$BX$6,0)))),"")}
E37: HR CONTACT | G37: {=IFERROR(IF(E37="","",INDEX(Calc!$AA$3:$CC$3,1,INDEX(Calc!$AA$5:$BX$5,1,MATCH(E37,Calc!$AA$6:$BX$6,0)))),"")} -> Lacota Acosta | I37: NUMBER OF EMPLOYEE | K37: {=IFERROR(IF(I37="","",INDEX(Calc!$AA$3:$CC$3,1,INDEX(Calc!$AA$5:$BX$5,1,MATCH(I37,Calc!$AA$6:$BX$6,0)))),"")} -> 665
G38: {=IFERROR(IF(E38="","",INDEX(Calc!$AA$3:$CC$3,1,INDEX(Calc!$AA$5:$BX$5,1,MATCH(E38,Calc!$AA$6:$BX$6,0)))),"")} | K38: {=IFERROR(IF(I38="","",INDEX(Calc!$AA$3:$CC$3,1,INDEX(Calc!$AA$5:$BX$5,1,MATCH(I38,Calc!$AA$6:$BX$6,0)))),"")}
C39: Value | G39: {=IFERROR(IF(E39="","",INDEX(Calc!$AA$3:$CC$3,1,INDEX(Calc!$AA$5:$BX$5,1,MATCH(E39,Calc!$AA$6:$BX$6,0)))),"")} | K39: {=IFERROR(IF(I39="","",INDEX(Calc!$AA$3:$CC$3,1,INDEX(Calc!$AA$5:$BX$5,1,MATCH(I39,Calc!$AA$6:$BX$6,0)))),"")}
G40: {=IFERROR(IF(E40="","",INDEX(Calc!$AA$3:$CC$3,1,INDEX(Calc!$AA$5:$BX$5,1,MATCH(E40,Calc!$AA$6:$BX$6,0)))),"")} | K40: {=IFERROR(IF(I40="","",INDEX(Calc!$AA$3:$CC$3,1,INDEX(Calc!$AA$5:$BX$5,1,MATCH(I40,Calc!$AA$6:$BX$6,0)))),"")}
E41: COMPANY REVENUE | G41: {=IFERROR(IF(E41="","",INDEX(Calc!$AA$3:$CC$3,1,INDEX(Calc!$AA$5:$BX$5,1,MATCH(E41,Calc!$AA$6:$BX$6,0)))),"")} -> 28400 | I41: COMPANY SALES | K41: {=IFERROR(IF(I41="","",INDEX(Calc!$AA$3:$CC$3,1,INDEX(Calc!$AA$5:$BX$5,1,MATCH(I41,Calc!$AA$6:$BX$6,0)))),"")} -> 937400
G42: {=IFERROR(IF(E42="","",INDEX(Calc!$AA$3:$CC$3,1,INDEX(Calc!$AA$5:$BX$5,1,MATCH(E42,Calc!$AA$6:$BX$6,0)))),"")} | K42: {=IFERROR(IF(I42="","",INDEX(Calc!$AA$3:$CC$3,1,INDEX(Calc!$AA$5:$BX$5,1,MATCH(I42,Calc!$AA$6:$BX$6,0)))),"")}
E43: COMPANY VALUE | G43: {=IFERROR(IF(E43="","",INDEX(Calc!$AA$3:$CC$3,1,INDEX(Calc!$AA$5:$BX$5,1,MATCH(E43,Calc!$AA$6:$BX$6,0)))),"")} -> 4548000 | K43: {=IFERROR(IF(I43="","",INDEX(Calc!$AA$3:$CC$3,1,INDEX(Calc!$AA$5:$BX$5,1,MATCH(I43,Calc!$AA$6:$BX$6,0)))),"")}
G44: {=IFERROR(IF(E44="","",INDEX(Calc!$AA$3:$CC$3,1,INDEX(Calc!$AA$5:$BX$5,1,MATCH(E44,Calc!$AA$6:$BX$6,0)))),"")} | K44: {=IFERROR(IF(I44="","",INDEX(Calc!$AA$3:$CC$3,1,INDEX(Calc!$AA$5:$BX$5,1,MATCH(I44,Calc!$AA$6:$BX$6,0)))),"")}
G45: {=IFERROR(IF(E45="","",INDEX(Calc!$AA$3:$CC$3,1,INDEX(Calc!$AA$5:$BX$5,1,MATCH(E45,Calc!$AA$6:$BX$6,0)))),"")} | K45: {=IFERROR(IF(I45="","",INDEX(Calc!$AA$3:$CC$3,1,INDEX(Calc!$AA$5:$BX$5,1,MATCH(I45,Calc!$AA$6:$BX$6,0)))),"")}
...

Sheet ChartDashboard
C2: CUSTOMER DATABASE TEMPLATE
C3: CHART ANALYSIS
C7: TOP 5 COUNT BY | E7: TYPE | I7: TOTAL COUNT BY | K7: COUNTRY
C19: TOP 4 COUNT BY | E19: STATUS | G19: TOP 15 SUM OF | I19: COMPANY VALUE | J19: BY | K19: COUNTRY
C31: AVERAGE | E31: COMPANY VALUE | F31: BY | G31: INDUSTRY | I31: CUSTOMERS GROUPPED BY | K31: NUMBER OF EMPLOYEE

Sheet Calc
AA1: 1 | AB1: 2 | AC1: 3 | AD1: 4 | AE1: 5 | AF1: 6 | AG1: 7 | AH1: 8 | AI1: 9 | AJ1: 10 | AK1: 11 | AL1: 12 | AM1: 13 | AN1: 14 | AO1: 15 | AP1: 16 | AQ1: 17 | AR1: 18 | AS1: 19 | AT1: 20 | AU1: 21 | AV1: 22 | AW1: 23 | AX1: 24 | AY1: 25 | AZ1: 26 | BA1: 27 | BB1: 28 | BC1: 29 | BD1: 30 | BE1: 31 | BF1: 32 | BG1: 33 | BH1: 34 | BI1: 35 | BJ1: 36 | BK1: 37 | BL1: 38 | BM1: 39 | BN1: 40 | BO1: 41 | BP1: 42 | BQ1: 43 | BR1: 44 | BS1: 45 | BT1: 46 | BU1: 47 | BV1: 48 | BW1: 49 | BX1: 50
Y2: Number: | Z2: Number? | AA2: =ISNUMBER(AA7) -> FALSE | AB2: =ISNUMBER(AB7) -> FALSE | AC2: =ISNUMBER(AC7) -> FALSE | AD2: =ISNUMBER(AD7) -> FALSE | AE2: =ISNUMBER(AE7) -> FALSE | AF2: =ISNUMBER(AF7) -> TRUE | AG2: =ISNUMBER(AG7) -> FALSE | AH2: =ISNUMBER(AH7) -> FALSE | ... BX2: =ISNUMBER(BX7) -> FALSE | CE2: =IFERROR(IF(filter1="","", filter1*1),filter1) -> Financial | CF2: =IFERROR(IF(filter2="","", filter2*1),filter2) | CG2: =IFERROR(IF(filter3="","", filter3*1),filter3) -> 18568 | CH2: =IFERROR(IF(filter4="","", filter4*1),filter4) | DX2: ORDER
E3: Count sections: | F3: =COUNTA(Settings!D9:D18)+1 -> 6 | P3: A | Q3: B | R3: C | S3: D | Y3: Chosen customer: | Z3: =MATCH(showID,$AA$7:$AA$1006,0) -> 7 | AA3: =INDEX(AA$7:AA$1006,$Z$3,1) -> B-00008 | AB3: =INDEX(AB$7:AB$1006,$Z$3,1) -> Marketingology | AC3: =INDEX(AC$7:AC$1006,$Z$3,1) -> Limited Liability Company | AD3: =INDEX(AD$7:AD$1006,$Z$3,1) -> Contractor | AE3: =INDEX(AE$7:AE$1006,$Z$3,1) -> Marketingology - xyz | AF3: =INDEX(AF$7:AF$1006,$Z$3,1) -> 29550 | AG3: =INDEX(AG$7:AG$1006,$Z$3,1) -> Emerald Vincent | AH3: =INDEX(AH$7:AH$1006,$Z$3,1) -> Food industry | ... CC3: =INDEX(CC$7:CC$1006,$Z$3,1) | CD3: OUTPUT TABLE FILTERS | CL3: CHART 1 | CS3: CHART 2 | CW3: CHART 3 | DD3: CHART 4 | DK3: CHART 5 | DO3: CHART 6 | DP3: Histogram | DT3: Error check: | DU3: {=IF(MAX(COLUMN(Input!$B$6:$AJ$6))>51,"Maximum input columns cannot be higher than 50, Make sure your input table is not too large.",IF(I6>1,"Not all ID's are unique! Please check your input data.",""))} | DX3: =LEFT(order,1)*1 -> 2
P4: FILTERS CALCULATION | Y4: Count dropdowns: | AC4: =COUNTA(Settings!F9:F38)+1 -> 6 | AD4: =COUNTA(Settings!H9:H38)+1 -> 5 | AH4: =COUNTA(Settings!J9:J38)+1 -> 11 | AQ4: =COUNTA(Settings!L9:L38)+1 -> 11 | AR4: =COUNTA(Settings!F41:F70)+1 -> 5 | AS4: =COUNTA(Settings!D41:D70)+1 -> 10 | BB4: =COUNTA(Settings!H41:H70)+1 -> 7 | BC4: =COUNTA(Settings!J41:J70)+1 -> 6 | BD4: =COUNTA(Settings!L41:L70)+1 -> 5 | BY4: Fnal Format 1 | BZ4: Fnal Format 2 | CA4: Fnal Format 3 | CB4: Fnal Format 4 | CC4: Fnal Format 5 | CE4: =IFERROR(MATCH(type1,$DT$7:$DT$10,0),1) -> 1 | CF4: =IFERROR(MATCH(type2,$DT$7:$DT$10,0),1) -> 1 | CG4: =IFERROR(MATCH(type3,$DT$7:$DT$10,0),1) -> 3 | CH4: =IFERROR(MATCH(type4,$DT$7:$DT$10,0),1) -> 4 | CL4: 1st Chart | CP4: Final Output chart 1 TOP6 | CS4: 2nd Chart | CW4: 3rd Chart | DD4: 4th Chart | DE4: ="TOP " & DG5 & " SUM OF " & chart4a & " BY " & chart4b -> TOP 13 SUM OF COMPANY VALUE BY COUNTRY | DK4: 5th Chart | DL4: ="AVERAGE " & chart5a & " BY " & chart5b -> AVERAGE COMPANY VALUE BY INDUSTRY | DO4: ="CUSTOMERS GROUPPED BY " & DO5 -> CUSTOMERS GROUPPED BY NUMBER OF EMPLOYEE | DX4: =IFERROR(MID(order,2,1)*1,"x") -> 1
B5: FORM HELPER | E5: HEADINGS | I5: All ID unique? | P5: =IFERROR(INDEX($AA$5:$BX$5,1,CE5),0) -> 8 | Q5: =IFERROR(INDEX($AA$5:$BX$5,1,CF5),0) -> 17 | R5: =IFERROR(INDEX($AA$5:$BX$5,1,CG5),0) -> 51 | S5: =IFERROR(INDEX($AA$5:$BX$5,1,CH5),0) -> 22 | T5: =COUNT(L7:L1006)+1 -> 11 | U5: =COUNT(M7:M1006)+1 -> 14 | V5: =COUNT(N7:N1006)+1 -> 1 | W5: =COUNT(O7:O1006)+1 -> 25 | Y5: Special format: | AA5: =IFERROR(IF(AA6="","",50+MATCH(AA6,Settings!$B$11:$B$15,0)),AA1) -> 1 | AB5: =IFERROR(IF(AB6="","",50+MATCH(AB6,Settings!$B$11:$B$15,0)),AB1) -> 2 | AC5: =IFERROR(IF(AC6="","",50+MATCH(AC6,Settings!$B$11:$B$15,0)),AC1) -> 3 | AD5: =IFERROR(IF(AD6="","",50+MATCH(AD6,Settings!$B$11:$B$15,0)),AD1) -> 4 | AE5: =IFERROR(IF(AE6="","",50+MATCH(AE6,Settings!$B$11:$B$15,0)),AE1) -> 5 | AF5: =IFERROR(IF(AF6="","",50+MATCH(AF6,Settings!$B$11:$B$15,0)),AF1) -> 51 | AG5: =IFERROR(IF(AG6="","",50+MATCH(AG6,Settings!$B$11:$B$15,0)),AG1) -> 7 | AH5: =IFERROR(IF(AH6="","",50+MATCH(AH6,Settings!$B$11:$B$15,0)),AH1) -> 8 | ... BX5: =IFERROR(IF(BX6="","",50+MATCH(BX6,Settings!$B$11:$B$15,0)),BX1) | BY5: DATE FORMAT | CD5: ROW NO | CE5: =IFERROR(MATCH(filterA,$AA$6:$BX$6,0),0) -> 8 | CF5: =IFERROR(MATCH(filterB,$AA$6:$BX$6,0),0) -> 17 | CG5: =IFERROR(MATCH(filterC,$AA$6:$BX$6,0),0) -> 6 | CH5: =IFERROR(MATCH(filterD,$AA$6:$BX$6,0),0) -> 22 | CM5: Size: | CN5: =IF(COUNT(CN7:CN1006)>6,6,COUNT(CN7:CN1006)) -> 5 | CP5: ="TOP " & CN5 & " COUNT BY - " & chart1 -> TOP 5 COUNT BY - TYPE | CS5: ="TOTAL COUNT BY - " & chart2 -> TOTAL COUNT BY - COUNTRY | CT5: Size: | CU5: =COUNT(CU7:CU1006) -> 13 | CX5: Size: | CY5: =IF(COUNT(CY7:CY1006)>6,6,COUNT(CY7:CY1006)) -> 4 | DA5: ="TOP "& CY5 & " COUNT BY - " & chart3 -> TOP 4 COUNT BY - STATUS | DD5: =chart4a -> COMPANY VALUE | DE5: =chart4b -> COUNTRY | DF5: Size: | DG5: =IF(COUNT(DG7:DG1006)>15,15,COUNT(DG7:DG1006)) -> 13 | DK5: =chart5a -> COMPANY VALUE | DL5: =chart5b -> INDUSTRY | DN5: =COUNT(DN7:DN1006) -> 10 | DO5: =chart6 -> NUMBER OF EMPLOYEE | DP5: =COUNT(DO7:DO1006) -> 25 | DX5: =RIGHT(order,1)*1 -> 3 | EA5: =MATCH(Settings!B11,$AA$6:$BX$6,0) -> 6 | EE5: =IFERROR(MATCH(Settings!B12,$AA$6:$BX$6,0),"") | EI5: =IFERROR(MATCH(Settings!B13,$AA$6:$BX$6,0),"") | EM5: =IFERROR(MATCH(Settings!B14,$AA$6:$BX$6,0),"") | EQ5: =IFERROR(MATCH(Settings!B15,$AA$6:$BX$6,0),"")
B6: Max Row | C6: =IF(MAX(B7:B81)=0,7,MAX(B7:B81)+1) -> 44 | E6: =IF(COUNT(F7:F56)=0,1,COUNT(F7:F56)) -> 25 | F6: ROW | G6: ROW Numerical | I6: =MAX(I7:I1006) -> 1 | J6: ID | L6: Unique A | M6: Unique B | N6: Unique C | O6: Unique D | Y6: Data name: | Z6: =51-COUNTIF(AA6:BX6,"") -> 35 | AA6: =IFERROR(IF(INDEX(Input!$B$6:$AJ$6,1,COLUMN(AA6)-COLUMN($Z$6))="","",INDEX(Input!$B$6:$AJ$6,1,COLUMN(AA6)-COLUMN($Z$6))),"") -> UNIQUE ID | AB6: =IFERROR(IF(INDEX(Input!$B$6:$AJ$6,1,COLUMN(AB6)-COLUMN($Z$6))="","",INDEX(Input!$B$6:$AJ$6,1,COLUMN(AB6)-COLUMN($Z$6))),"") -> NAME | AC6: =IFERROR(IF(INDEX(Input!$B$6:$AJ$6,1,COLUMN(AC6)-COLUMN($Z$6))="","",INDEX(Input!$B$6:$AJ$6,1,COLUMN(AC6)-COLUMN($Z$6))),"") -> TYPE | AD6: =IFERROR(IF(INDEX(Input!$B$6:$AJ$6,1,COLUMN(AD6)-COLUMN($Z$6))="","",INDEX(Input!$B$6:$AJ$6,1,COLUMN(AD6)-COLUMN($Z$6))),"") -> STATUS | AE6: =IFERROR(IF(INDEX(Input!$B$6:$AJ$6,1,COLUMN(AE6)-COLUMN($Z$6))="","",INDEX(Input!$B$6:$AJ$6,1,COLUMN(AE6)-COLUMN($Z$6))),"") -> ALTERNATIVE NAMES | AF6: =IFERROR(IF(INDEX(Input!$B$6:$AJ$6,1,COLUMN(AF6)-COLUMN($Z$6))="","",INDEX(Input!$B$6:$AJ$6,1,COLUMN(AF6)-COLUMN($Z$6))),"") -> FOUNDATION DATE | AG6: =IFERROR(IF(INDEX(Input!$B$6:$AJ$6,1,COLUMN(AG6)-COLUMN($Z$6))="","",INDEX(Input!$B$6:$AJ$6,1,COLUMN(AG6)-COLUMN($Z$6))),"") -> CEO | AH6: =IFERROR(IF(INDEX(Input!$B$6:$AJ$6,1,COLUMN(AH6)-COLUMN($Z$6))="","",INDEX(Input!$B$6:$AJ$6,1,COLUMN(AH6)-COLUMN($Z$6))),"") -> INDUSTRY | ... BX6: =IFERROR(IF(INDEX(Input!$B$6:$AJ$6,1,COLUMN(BX6)-COLUMN($Z$6))="","",INDEX(Input!$B$6:$AJ$6,1,COLUMN(BX6)-COLUMN($Z$6))),"") | CD6: Row NO | CE6: F1 | CF6: F2 | CG6: F3 | CH6: F4 | CJ6: Offest values | CK6: Unique # | CL6: =IF(chart1="","",MATCH(chart1,$AA$6:$BX$6,0)) -> 3 | CM6: Remove Duplicates | CN6: Total Amount | CO6: helper | CP6: =chart1 -> TYPE | CQ6: COUNT | CR6: Unique # | CS6: =IF(chart2="","",MATCH(chart2,$AA$6:$BW$6,0)) -> 17 | CT6: Remove Duplicates | CU6: Total Amount | CV6: Unique # | CW6: =IF(chart3="","",MATCH(chart3,$AA$6:$BW$6,0)) -> 4 | CX6: ="Remove Duplicates"&" "&CI6 -> Remove Duplicates | CY6: Total Amount | DA6: =chart3 -> STATUS | DB6: COUNT | DC6: Unique # | DD6: =IF(chart4a="","",MATCH(chart4a,$AA$6:$BW$6,0)) -> 23 | DE6: =IF(chart4b="","",MATCH(chart4b,$AA$6:$BW$6,0)) -> 17 | DF6: ="Remove Duplicates"&" "&DU5 -> Remove Duplicates | DG6: Total Amount | DJ6: Unique # | DK6: =IF(chart5a="","",MATCH(chart5a,$AA$6:$BW$6,0)) -> 23 | DL6: =IF(chart5b="","",MATCH(chart5b,$AA$6:$BW$6,0)) -> 8 | DM6: ="Remove Duplicates"&" "&DZ5 -> Remove Duplicates | DN6: Average Amount | DO6: =IF(chart6="","",MATCH(chart6,$AA$6:$BW$6,0)) -> 27 | DQ6: =ROUND((DP15-DP7)/8,0) -> 122 | DT6: Fiter Options | DV6: Date format | DW6: =INDEX(DW7:DW11,MATCH(dateFormat,$DV$7:$DV$11,0),1) -> . | DX6: =INDEX(DX7:DX11,MATCH(dateFormat,$DV$7:$DV$11,0),1) -> 213 | DY6: Months | EA6: Day1 | EB6: Month1 | EC6: Year1 | EE6: Day1 | EF6: Month1 | EG6: Year1 | EI6: Day1 | EJ6: Month1 | EK6: Year1 | EM6: Day1 | EN6: Month1 | EO6: Year1 | EQ6: Day1 | ER6: Month1 | ES6: Year1
B7: =IF(COUNTIF(INDEX(Form!$B$9:$K$83,ROW(Calc!B1),),"")<10,ROW(B9),0) -> 9 | E7: =IFERROR(INDEX($AA$6:$BX$6,1,SMALL($F$7:$F$56,ROW(E7)-ROW($E$6))),"") -> UNIQUE ID | F7: =IFERROR(IF(ROWS(AllInput[])-COUNTIF(INDEX(Input!$B$7:$AJ$1006,,ROW(F7)-ROW($F$6)),"")>0,ROW(F7)-ROW($F$6),""),"") -> 1 | G7: =IF(AND(COUNT(INDEX($AA$7:$BX$21,,ROW(G7)-ROW($G$6)))>0,SUM(INDEX($AA$7:$BX$21,,ROW(G7)-ROW($G$6)))>0 ),F7,"") | I7: =IF(AA7="","",COUNTIF($AA$7:$AA$1006,AA7)) -> 1 | J7: =IFERROR(INDEX($AA$7:$AA$1006,SMALL($Z$7:$Z$1006,Y7),1),"") -> B-00001 | L7: =IF(P7="","",IF(ISNUMBER(MATCH(P7,$P$6:P6,0)),"",Y7)) -> 1 | M7: =IF(Q7="","",IF(ISNUMBER(MATCH(Q7,$Q$6:Q6,0)),"",Y7)) -> 1 | N7: =IF(R7="","",IF(ISNUMBER(MATCH(R7,$R$6:R6,0)),"",Y7)) | O7: =IF(S7="","",IF(ISNUMBER(MATCH(S7,$S$6:S6,0)),"",Y7)) -> 1 | P7: =IFERROR(IF(OR(P$5>50, Z7=""),"",INDEX($AA$7:$BX$1007,Z7,CE$5)),"") -> Financial | Q7: =IFERROR(IF(OR(Q$5>50, Z7=""),"",INDEX($AA$7:$BX$1007,Z7,CF$5)),"") -> USA | R7: =IFERROR(IF(OR(R$5>50, Z7=""),"",INDEX($AA$7:$BX$1007,Z7,CG$5)),"") | S7: =IFERROR(IF(OR(S$5>50, Z7=""),"",INDEX($AA$7:$BX$1007,Z7,CH$5)),"") -> 88800 | T7: =IFERROR(IF(P7="","",INDEX(P$7:P$1006,SMALL($L$7:$L$1006,Y7),1)),"") -> Financial | U7: =IFERROR(IF(Q7="","",INDEX(Q$7:Q$1006,SMALL($M$7:$M$1006,Y7),1)),"") -> USA | V7: =IFERROR(IF(R7="","",INDEX(R$7:R$1006,SMALL($N$7:$N$1006,Y7),1)),"") | W7: =IFERROR(IF(S7="","",INDEX(S$7:S$1006,SMALL($O$7:$O$1006,Y7),1)),"") -> 88800 | Y7: 1 | Z7: =IF(OR(AA7="",AB7=""),"",Y7) -> 1 | AA7: =IFERROR(IF(LEN(INDEX(Input!$B$7:$AJ$1007,$Y7,AA$1))=0,"",INDEX(Input!$B$7:$AJ$1007,$Y7,AA$1)),"") -> B-00001 | AB7: =IFERROR(IF(LEN(INDEX(Input!$B$7:$AJ$1007,$Y7,AB$1))=0,"",INDEX(Input!$B$7:$AJ$1007,$Y7,AB$1)),"") -> Marketingoryx | AC7: =IF(OR($Z7="",AC$5=""),"",IFERROR(IF(INDEX(Input!$B$7:$AJ$1007,$Y7,AC$1)="","",INDEX(Input!$B$7:$AJ$1007,$Y7,AC$1)),"")) -> Limited Liability Company | AD7: =IF(OR($Z7="",AD$5=""),"",IFERROR(IF(INDEX(Input!$B$7:$AJ$1007,$Y7,AD$1)="","",INDEX(Input!$B$7:$AJ$1007,$Y7,AD$1)),"")) -> Partner | AE7: =IF(OR($Z7="",AE$5=""),"",IFERROR(IF(INDEX(Input!$B$7:$AJ$1007,$Y7,AE$1)="","",INDEX(Input!$B$7:$AJ$1007,$Y7,AE$1)),"")) -> - | AF7: =IF(OR($Z7="",AF$5=""),"",IFERROR(IF(INDEX(Input!$B$7:$AJ$1007,$Y7,AF$1)="","",INDEX(Input!$B$7:$AJ$1007,$Y7,AF$1)),"")) -> 44525 | AG7: =IF(OR($Z7="",AG$5=""),"",IFERROR(IF(INDEX(Input!$B$7:$AJ$1007,$Y7,AG$1)="","",INDEX(Input!$B$7:$AJ$1007,$Y7,AG$1)),"")) -> Joseph Manning | AH7: =IF(OR($Z7="",AH$5=""),"",IFERROR(IF(INDEX(Input!$B$7:$AJ$1007,$Y7,AH$1)="","",INDEX(Input!$B$7:$AJ$1007,$Y7,AH$1)),"")) -> Financial | AI7: =IF(OR($Z7="",AI$5=""),"",IFERROR(IF(INDEX(Input!$B$7:$AJ$1007,$Y7,AI$1)="","",INDEX(Input!$B$7:$AJ$1007,$Y7,AI$1)),"")) -> Russell Becker | AJ7: =IF(OR($Z7="",AJ$5=""),"",IFERROR(IF(INDEX(Input!$B$7:$AJ$1007,$Y7,AJ$1)="","",INDEX(Input!$B$7:$AJ$1007,$Y7,AJ$1)),"")) -> Caleb Mullins | ... BX7: =IF(OR($Z7="",BX$5=""),"",IFERROR(IF(INDEX(Input!$B$7:$AJ$1007,$Y7,BX$1)="","",INDEX(Input!$B$7:$AJ$1007,$Y7,BX$1)),"")) | BY7: =IF(EA7="",EC7,INDEX(EA7:EC7,1,order1)&connector&INDEX(EA7:EC7,1,order2)&connector&INDEX(EA7:EC7,1,order3)) -> 11.25.2021 | BZ7: =IF(EE7="",EG7,INDEX(EE7:EG7,1,order1)&connector&INDEX(EE7:EG7,1,order2)&connector&INDEX(EE7:EG7,1,order3)) | CA7: =IF(EI7="",EK7,INDEX(EI7:EK7,1,order1)&connector&INDEX(EI7:EK7,1,order2)&connector&INDEX(EI7:EK7,1,order3)) | CB7: =IF(EM7="",EO7,INDEX(EM7:EO7,1,order1)&connector&INDEX(EM7:EO7,1,order2)&connector&INDEX(EM7:EO7,1,order3)) | CC7: =IF(EQ7="",ES7,INDEX(EQ7:ES7,1,order1)&connector&INDEX(EQ7:ES7,1,order2)&connector&INDEX(EQ7:ES7,1,order3)) | CD7: =IF(OR(AND(AA7="",AB7=""), CE7*CF7*CG7*CH7=0),"",ROW(CD7)-ROW($CD$6)) -> 1 | CE7: =IF(CE$5>0,IF(OR( IF(CE$4=1,INDEX($AA7:$BX7,1,CE$5)=CE$2, IF(CE$4=2,ISNUMBER(SEARCH(CE$2,INDEX($AA7:$BX7,1,CE$5),1)), IF(CE$4=3,IF(NOT(ISNUMBER(INDEX($AA7:$BX7,1,CE$5))),TRUE,INDEX($AA7:$BX7,1,CE$5)>CE$2), IF(CE$4=4,INDEX($AA7:$BX7,1,CE$5)<CE$2,FALSE)))),CE$2=""),1,0),1) -> 1 | CF7: =IF(CF$5>0,IF(OR( IF(CF$4=1,INDEX($AA7:$BX7,1,CF$5)=CF$2, IF(CF$4=2,ISNUMBER(SEARCH(CF$2,INDEX($AA7:$BX7,1,CF$5),1)), IF(CF$4=3,IF(NOT(ISNUMBER(INDEX($AA7:$BX7,1,CF$5))),TRUE,INDEX($AA7:$BX7,1,CF$5)>CF$2), IF(CF$4=4,INDEX($AA7:$BX7,1,CF$5)<CF$2,FALSE)))),CF$2=""),1,0),1) -> 1 | CG7: =IF(CG$5>0,IF(OR( IF(CG$4=1,INDEX($AA7:$BX7,1,CG$5)=CG$2, IF(CG$4=2,ISNUMBER(SEARCH(CG$2,INDEX($AA7:$BX7,1,CG$5),1)), IF(CG$4=3,IF(NOT(ISNUMBER(INDEX($AA7:$BX7,1,CG$5))),TRUE,INDEX($AA7:$BX7,1,CG$5)>CG$2), IF(CG$4=4,INDEX($AA7:$BX7,1,CG$5)<CG$2,FALSE)))),CG$2=""),1,0),1) -> 1 | CH7: =IF(CH$5>0,IF(OR( IF(CH$4=1,INDEX($AA7:$BX7,1,CH$5)=CH$2, IF(CH$4=2,ISNUMBER(SEARCH(CH$2,INDEX($AA7:$BX7,1,CH$5),1)), IF(CH$4=3,IF(NOT(ISNUMBER(INDEX($AA7:$BX7,1,CH$5))),TRUE,INDEX($AA7:$BX7,1,CH$5)>CH$2), IF(CH$4=4,INDEX($AA7:$BX7,1,CH$5)<CH$2,FALSE)))),CH$2=""),1,0),1) -> 1 | CJ7: =IFERROR(SMALL($Z$7:$Z$1006,Y7),"") -> 1 | CK7: =IF(CL7="","",IF(ISNUMBER(MATCH(CL7,$CL$6:CL6,0)),"",CJ7)) -> 1 | CL7: =IFERROR(INDEX($AA$7:$BX$1006,$CJ7,CL$6),"") -> Limited Liability Company | CM7: =IFERROR(IF(LEN(CL7)=0,"",INDEX(CL$7:CL$1006,SMALL($CK$7:$CK$1006,Y7),1)),"") -> Limited Liability Company | CN7: =IFERROR(IF(LEN(CM7)=0,"",COUNTIF(CL$7:CL$1006,CM7)),"") -> 5 | CO7: =IFERROR(CN7+CJ7/10,"") -> 5.1 | CP7: =IFERROR(INDEX($CM$7:$CM$1006,MATCH(LARGE($CO$7:$CO$1006,ROW(CQ7)-ROW($CQ$6)),$CO$7:$CO$1006,0),1),"") -> Cooperative Company | CQ7: =IFERROR(LARGE($CN$7:$CN$1006,ROW(CQ7)-ROW($CQ$6)),"") -> 7 | CR7: =IF(CS7="","",IF(ISNUMBER(MATCH(CS7,$CS$6:CS6,0)),"",CJ7)) -> 1 | CS7: =IFERROR(INDEX($AA$7:$BX$1006,$CJ7,CS$6),"") -> USA | CT7: =IFERROR(IF(LEN(CS7)=0,"",INDEX(CS$7:CS$1006,SMALL($CR$7:$CR$1006,Y7),1)),"") -> USA | CU7: =IFERROR(IF(LEN(CT7)=0,"",COUNTIF(CS$7:CS$1006,CT7)),"") -> 1 | CV7: =IF(CW7="","",IF(ISNUMBER(MATCH(CW7,$CW$6:CW6,0)),"",CJ7)) -> 1 | CW7: =IFERROR(INDEX($AA$7:$BX$1006,$CJ7,CW$6),"") -> Partner | CX7: =IFERROR(IF(LEN(CW7)=0,"",INDEX(CW$7:CW$1006,SMALL($CV$7:$CV$1006,Y7),1)),"") -> Partner | CY7: =IFERROR(IF(LEN(CX7)=0,"",COUNTIF(CW$7:CW$1006,CX7)),"") -> 10 | CZ7: =IFERROR(CY7+CJ7/10,"") -> 10.1 | DA7: =IFERROR(INDEX($CX$7:$CX$1006,MATCH(LARGE($CZ$7:$CZ$1006,ROW(DB7)-ROW($DA$6)),$CZ$7:$CZ$1006,0),1),"") -> Partner | DB7: =IFERROR(LARGE($CY$7:$CY$1006,ROW(DB7)-ROW($DB$6)),"") -> 10 | DC7: =IF(DE7="","",IF(ISNUMBER(MATCH(DE7,$DE$6:DE6,0)),"",CJ7)) -> 1 | DD7: =IFERROR(INDEX($AA$7:$BX$1006,$CJ7,DD$6),"") -> 9321000 | DE7: =IFERROR(INDEX($AA$7:$BX$1006,$CJ7,DE$6),"") -> USA | DF7: =IFERROR(IF(LEN(DE7)=0,"",INDEX(DE$7:DE$1006,SMALL($DC$7:$DC$1006,Y7),1)),"") -> USA | DG7: =IFERROR(IF(LEN(DF7)=0,"",SUMIF(DE$7:DE$1006,DF7,$DD$7:$DD$1006)),"") -> 9321000 | DH7: =IFERROR(INDEX($DF$7:$DF$1006,MATCH(LARGE($DG$7:$DG$1006,ROW(DI7)-ROW($DI$6)),$DG$7:$DG$1006,0),1),"") -> Turkey | DI7: =IFERROR(LARGE($DG$7:$DG$1006,ROW(DI7)-ROW($DI$6)),"") -> 20450000 | DJ7: =IF(DL7="","",IF(ISNUMBER(MATCH(DL7,$DL$6:DL6,0)),"",CJ7)) -> 1 | DK7: =IFERROR(INDEX($AA$7:$BX$1006,$CJ7,DK$6),"") -> 9321000 | DL7: =IFERROR(INDEX($AA$7:$BX$1006,$CJ7,DL$6),"") -> Financial | DM7: =IFERROR(IF(LEN(DL7)=0,"",INDEX(DL$7:DL$1006,SMALL($DJ$7:$DJ$1006,Y7),1)),"") -> Financial | DN7: =IFERROR(IF(LEN(DM7)=0,"", ROUND(AVERAGEIF(DL$7:DL$1006,DM7,$DK$7:$DK$1006),1)),"") -> 7230857.1 | DO7: =IFERROR(INDEX($AA$7:$BX$1006,$CJ7,DO$6),"") -> 25 | DP7: =MIN(DO7:DO1006) -> 25 | DQ7: ="["&DP7&"-"&DP8&")" -> [25-147) | DR7: =COUNTIFS($DO$7:$DO$1006,">="&DP7,$DO$7:$DO$1006,"<"&DP8) -> 4 | DT7: Equals | DV7: 31.1.2021 | DW7: . | DX7: 123 | DY7: Jan | EA7: =IFERROR(IF(ISNUMBER(EA$5),DAY(INDEX($AA7:$BX7,1,EA$5)),""),"") -> 25 | EB7: =IFERROR(IF(ISNUMBER(EA$5),IF(order2="x",INDEX(months,MONTH(INDEX($AA7:$BX7,1,EA$5)),1),MONTH(INDEX($AA7:$BX7,1,EA$5))),""),"") -> 11 | EC7: =IFERROR(IF(ISNUMBER(EA$5),YEAR(INDEX($AA7:$BX7,1,EA$5)),""),"") -> 2021 | EE7: =IFERROR(IF(ISNUMBER(EE$5),DAY(INDEX($AA7:$BX7,1,EE$5)),""),"") | EF7: =IFERROR(IF(ISNUMBER(EE$5),IF(order2="x", INDEX(months,MONTH(INDEX($AA7:$BX7,1,EE$5)),1),MONTH(INDEX($AA7:$BX7,1,EE$5))),""),"") | EG7: =IFERROR(IF(ISNUMBER(EE$5),YEAR(INDEX($AA7:$BX7,1,EE$5)),""),"") | EI7: =IFERROR(IF(ISNUMBER(EI$5),DAY(INDEX($AA7:$BX7,1,EI$5)),""),"") | EJ7: =IFERROR(IF(ISNUMBER(EI$5),IF(order2="x", INDEX(months,MONTH(INDEX($AA7:$BX7,1,EI$5)),1),MONTH(INDEX($AA7:$BX7,1,EI$5))),""),"") | EK7: =IFERROR(IF(ISNUMBER(EI$5),YEAR(INDEX($AA7:$BX7,1,EI$5)),""),"") | EM7: =IFERROR(IF(ISNUMBER(EM$5),DAY(INDEX($AA7:$BX7,1,EM$5)),""),"") | EN7: =IFERROR(IF(ISNUMBER(EM$5),IF(order2="x", INDEX(months,MONTH(INDEX($AA7:$BX7,1,EM$5)),1),MONTH(INDEX($AA7:$BX7,1,EM$5))),""),"") | EO7: =IFERROR(IF(ISNUMBER(EM$5),YEAR(INDEX($AA7:$BX7,1,EM$5)),""),"") | EQ7: =IFERROR(IF(ISNUMBER(EQ$5),DAY(INDEX($AA7:$BX7,1,EQ$5)),""),"") | ER7: =IFERROR(IF(ISNUMBER(EQ$5),IF(order2="x", INDEX(months,MONTH(INDEX($AA7:$BX7,1,EQ$5)),1),MONTH(INDEX($AA7:$BX7,1,EQ$5))),""),"") | ES7: =IFERROR(IF(ISNUMBER(EQ$5),YEAR(INDEX($AA7:$BX7,1,EQ$5)),""),"")
