Workbook
Name Category_List: OFFSET(Calc!$AB$9,0,0,Calc!$AB$7,1)
Name Name_Surname_List: OFFSET(Calc!$AF$9,0,0,Calc!$AF$7,1)

Sheet Database
B2: CONTACT LIST TEMPLATE
B3: DATABASE
B5: Category | C5: First Name | D5: Last Name | E5: Status | F5: Company | G5: Work Phone | H5: Work Email | I5: Personal Phone | J5: Personal Email | K5: Home Phone | L5: Social Network ID
B6: Work | C6: Stephen | D6: Ruvituso | E6: My Boss | G6: 585-288-3018 | I6: 347-840-4245 | J6: stephen.ruvituso@ml.com | K6: 201-333-2004 | L6: Stephen_R
B7: Work | C7: Rich | D7: Abrams | E7: Friend | G7: 585-473-3757 | I7: 646-427-2065 | J7: richardabrams@ubs.com | K7: 201-395-0400
B8: Family | C8: Corby | D8: May | E8: Uncle | G8: 585-225-2200 | I8: 212-486-7090 | J8: wcorby_may@ml.com | K8: 201-536-1500 | L8: Corby11
B9: Services | C9: Nicole | D9: Andres | E9: Plumber | F9: XYZ Plumber | G9: 585-563-6648 | H9: andresxyz@plumber.com | I9: 646-233-6736 | J9: nicole.primack@credit-suisse.com | K9: 201-434-3392
B10: Services | C10: Leonard | D10: Boccia | E10: Electrician | F10: ABC Electrician | G10: 585-266-5770 | H10: bocciaabc@mail.com | I10: 917-668-2222 | J10: Leonard.Boc@wellsfargoadvisors.com | K10: 201-432-8111
B11: Services | C11: William | D11: Einstein | E11: Cable Tv | F11: QWE Cable Tv | G11: 585-209-9097 | H11: einstein@mail.com | I11: 347-308-9002 | J11: william.einstein@ubs.com | K11: 201-222-1055
B12: Health | C12: Craig | D12: Pastolove | E12: Family Doctor | G12: 585-723-3360 | I12: 646-218-9857 | J12: Craig.Pastolove@morganstanley.com | K12: 201-839-5914
B13: Work | C13: Geri | D13: Pell | E13: Veterinary | G13: 585-743-7047 | I13: 212-686-5566 | J13: geri.e.pell@ampf.com | K13: 646-714-1779
B14: Family | C14: Richard | D14: Salvino | E14: Husband | G14: 585-563-4776 | I14: 917-338-0645 | J14: richard_salvino@ml.com | K14: 201-435-2874 | L14: R_Salvino
B15: Family | C15: Frank | D15: Sabia | E15: Sister | G15: 914-255-0575 | I15: 347-469-0378 | J15: Frank.J.Sabia@ubs.com | K15: 732-349-0111 | L15: Sabia
B16: Family | C16: Michael | D16: Bapis | E16: Brother | G16: 212-673-8400 | I16: 212-704-4343 | J16: mbapis@hightoweradvisors.com | K16: 732-662-2299 | L16: MBapis

Sheet Form
C2: CONTACT LIST TEMPLATE
C3: CONTACT FORM
C7: CATEGORY | D7: Family | G7: =IF(LEN($D$7)=0,"Please select the category!","")
C9: Name - Surname | D9: Richard Salvino | G9: =IFERROR(IF(LEN($D$7)=0,"",IF(MATCH($D9,Calc!$AF$9:$AF$22,0)>0,"",IF(LEN($D$7)=0,"",""))),"Please check the 'Name-Surname' section!")
C11: Status | D11: =IFERROR(INDEX(Calc!$AF$9:$AU$23,MATCH(Form!$D$9,Calc!$AF$9:$AF$23,0),MATCH(Form!$C11,Calc!$AF$8:$AU$8,0)),"") -> Husband
C13: Company | D13: =IFERROR(INDEX(Calc!$AF$9:$AU$23,MATCH(Form!$D$9,Calc!$AF$9:$AF$23,0),MATCH(Form!$C13,Calc!$AF$8:$AU$8,0)),"") -> -
C14: Work Phone | D14: =IFERROR(INDEX(Calc!$AF$9:$AU$23,MATCH(Form!$D$9,Calc!$AF$9:$AF$23,0),MATCH(Form!$C14,Calc!$AF$8:$AU$8,0)),"") -> 585-563-4776
C15: Work Email | D15: =IFERROR(INDEX(Calc!$AF$9:$AU$23,MATCH(Form!$D$9,Calc!$AF$9:$AF$23,0),MATCH(Form!$C15,Calc!$AF$8:$AU$8,0)),"") -> -
C17: Personal Phone | D17: =IFERROR(INDEX(Calc!$AF$9:$AU$23,MATCH(Form!$D$9,Calc!$AF$9:$AF$23,0),MATCH(Form!$C17,Calc!$AF$8:$AU$8,0)),"") -> 917-338-0645
C18: Personal Email | D18: =IFERROR(INDEX(Calc!$AF$9:$AU$23,MATCH(Form!$D$9,Calc!$AF$9:$AF$23,0),MATCH(Form!$C18,Calc!$AF$8:$AU$8,0)),"") -> richard_salvino@ml.com
C19: Home Phone | D19: =IFERROR(INDEX(Calc!$AF$9:$AU$23,MATCH(Form!$D$9,Calc!$AF$9:$AF$23,0),MATCH(Form!$C19,Calc!$AF$8:$AU$8,0)),"") -> 201-435-2874
C21: Social Network ID | D21: =IFERROR(INDEX(Calc!$AF$9:$AU$23,MATCH(Form!$D$9,Calc!$AF$9:$AF$23,0),MATCH(Form!$C21,Calc!$AF$8:$AU$8,0)),"") -> R_Salvino
D22: =IFERROR(INDEX(Calc!$AF$9:$AU$23,MATCH(Form!$D$9,Calc!$AF$9:$AF$23,0),MATCH(Form!$C22,Calc!$AF$8:$AU$8,0)),"")
D23: =IFERROR(INDEX(Calc!$AF$9:$AU$23,MATCH(Form!$D$9,Calc!$AF$9:$AF$23,0),MATCH(Form!$C23,Calc!$AF$8:$AU$8,0)),"")
D24: =IFERROR(INDEX(Calc!$AF$9:$AU$23,MATCH(Form!$D$9,Calc!$AF$9:$AF$23,0),MATCH(Form!$C24,Calc!$AF$8:$AU$8,0)),"")
D25: =IFERROR(INDEX(Calc!$AF$9:$AU$23,MATCH(Form!$D$9,Calc!$AF$9:$AF$23,0),MATCH(Form!$C25,Calc!$AF$8:$AU$8,0)),"")
D26: =IFERROR(INDEX(Calc!$AF$9:$AU$23,MATCH(Form!$D$9,Calc!$AF$9:$AF$23,0),MATCH(Form!$C26,Calc!$AF$8:$AU$8,0)),"")

Sheet Calc
D2: =13-COUNTBLANK(F2:$R$2) -> 8 | E2: Dropdown List for Dropdowns | F2: =IFERROR(INDEX($C$8:$R$8,1,F$4),"") -> Status | G2: =IFERROR(INDEX($C$8:$R$8,1,G$4),"") -> Company | H2: =IFERROR(INDEX($C$8:$R$8,1,H$4),"") -> Work Phone | I2: =IFERROR(INDEX($C$8:$R$8,1,I$4),"") -> Work Email | J2: =IFERROR(INDEX($C$8:$R$8,1,J$4),"") -> Personal Phone | K2: =IFERROR(INDEX($C$8:$R$8,1,K$4),"") -> Personal Email | L2: =IFERROR(INDEX($C$8:$R$8,1,L$4),"") -> Home Phone | M2: =IFERROR(INDEX($C$8:$R$8,1,M$4),"") -> Social Network ID | ... R2: =IFERROR(INDEX($C$8:$R$8,1,R$4),"")
E4: Column Index without Blanks | F4: =IFERROR(SMALL($F$5:$R$5,COLUMN(F$5)-COLUMN($E$5)),"") -> 4 | G4: =IFERROR(SMALL($F$5:$R$5,COLUMN(G$5)-COLUMN($E$5)),"") -> 5 | H4: =IFERROR(SMALL($F$5:$R$5,COLUMN(H$5)-COLUMN($E$5)),"") -> 6 | I4: =IFERROR(SMALL($F$5:$R$5,COLUMN(I$5)-COLUMN($E$5)),"") -> 7 | J4: =IFERROR(SMALL($F$5:$R$5,COLUMN(J$5)-COLUMN($E$5)),"") -> 8 | K4: =IFERROR(SMALL($F$5:$R$5,COLUMN(K$5)-COLUMN($E$5)),"") -> 9 | L4: =IFERROR(SMALL($F$5:$R$5,COLUMN(L$5)-COLUMN($E$5)),"") -> 10 | M4: =IFERROR(SMALL($F$5:$R$5,COLUMN(M$5)-COLUMN($E$5)),"") -> 11 | ... R4: =IFERROR(SMALL($F$5:$R$5,COLUMN(R$5)-COLUMN($E$5)),"")
E5: Dynamic Column Index | F5: =IF(LEN(F$8)>0,F$7,"") -> 4 | G5: =IF(LEN(G$8)>0,G$7,"") -> 5 | H5: =IF(LEN(H$8)>0,H$7,"") -> 6 | I5: =IF(LEN(I$8)>0,I$7,"") -> 7 | J5: =IF(LEN(J$8)>0,J$7,"") -> 8 | K5: =IF(LEN(K$8)>0,K$7,"") -> 9 | L5: =IF(LEN(L$8)>0,L$7,"") -> 10 | M5: =IF(LEN(M$8)>0,M$7,"") -> 11 | ... R5: =IF(LEN(R$8)>0,R$7,"")
B7: COLUMN INDEX / ROW INDEX | C7: 1 | D7: 2 | E7: 3 | F7: 4 | G7: 5 | H7: 6 | I7: 7 | J7: 8 | K7: 9 | L7: 10 | M7: 11 | N7: 12 | O7: 13 | P7: 14 | Q7: 15 | R7: 16 | AB7: =15-COUNTBLANK($AB$9:$AB$23) -> 4 | AF7: =15-COUNTBLANK($AF$9:$AF$23) -> 4 | AG7: 2 | AH7: 3 | AI7: 4 | AJ7: 5 | AK7: 6 | AL7: 7 | AM7: 8 | AN7: 9 | AO7: 10 | AP7: 11 | AQ7: 12 | AR7: 13 | AS7: 14 | AT7: 15 | AU7: 16 | AW7: =MAX($AW$9:$AW$29) -> 15
C8: =IF(LEN(Database!B$5)>0,Database!B$5,"") -> Category | D8: =IF(LEN(Database!C$5)>0,Database!C$5,"") -> First Name | E8: =IF(LEN(Database!D$5)>0,Database!D$5,"") -> Last Name | F8: =IF(LEN(Database!E$5)>0,Database!E$5,"") -> Status | G8: =IF(LEN(Database!F$5)>0,Database!F$5,"") -> Company | H8: =IF(LEN(Database!G$5)>0,Database!G$5,"") -> Work Phone | I8: =IF(LEN(Database!H$5)>0,Database!H$5,"") -> Work Email | J8: =IF(LEN(Database!I$5)>0,Database!I$5,"") -> Personal Phone | ... R8: =IF(LEN(Database!Q$5)>0,Database!Q$5,"") | T8: Category | V8: Category List | X8: Category List without Duplicates | Z8: Filter Index | AA8: Index Without Blanks | AB8: Category List without Blanks | AD8: Filter Index | AE8: Index Without Blanks | AF8: First Name & Last Name | AG8: =IF(LEN(D$8)>0,D$8,"") -> First Name | AH8: =IF(LEN(E$8)>0,E$8,"") -> Last Name | AI8: =IF(LEN(F$8)>0,F$8,"") -> Status | AJ8: =IF(LEN(G$8)>0,G$8,"") -> Company | AK8: =IF(LEN(H$8)>0,H$8,"") -> Work Phone | AL8: =IF(LEN(I$8)>0,I$8,"") -> Work Email | AM8: =IF(LEN(J$8)>0,J$8,"") -> Personal Phone | AN8: =IF(LEN(K$8)>0,K$8,"") -> Personal Email | ... AU8: =IF(LEN(R$8)>0,R$8,"") | AW8: Form List
B9: 1 | C9: =IFERROR(IF(INDEX(Database!$B$6:$Q$305,Calc!$B9,Calc!C$7)="","",INDEX(Database!$B$6:$Q$305,Calc!$B9,Calc!C$7)),"") -> Work | D9: =IFERROR(IF(INDEX(Database!$B$6:$Q$305,Calc!$B9,Calc!D$7)="","",INDEX(Database!$B$6:$Q$305,Calc!$B9,Calc!D$7)),"") -> Stephen | E9: =IFERROR(IF(INDEX(Database!$B$6:$Q$305,Calc!$B9,Calc!E$7)="","",INDEX(Database!$B$6:$Q$305,Calc!$B9,Calc!E$7)),"") -> Ruvituso | F9: =IFERROR(IF(INDEX(Database!$B$6:$Q$305,Calc!$B9,Calc!F$7)="","",INDEX(Database!$B$6:$Q$305,Calc!$B9,Calc!F$7)),"") -> My Boss | G9: =IFERROR(IF(INDEX(Database!$B$6:$Q$305,Calc!$B9,Calc!G$7)="","",INDEX(Database!$B$6:$Q$305,Calc!$B9,Calc!G$7)),"") | H9: =IFERROR(IF(INDEX(Database!$B$6:$Q$305,Calc!$B9,Calc!H$7)="","",INDEX(Database!$B$6:$Q$305,Calc!$B9,Calc!H$7)),"") -> 585-288-3018 | I9: =IFERROR(IF(INDEX(Database!$B$6:$Q$305,Calc!$B9,Calc!I$7)="","",INDEX(Database!$B$6:$Q$305,Calc!$B9,Calc!I$7)),"") | J9: =IFERROR(IF(INDEX(Database!$B$6:$Q$305,Calc!$B9,Calc!J$7)="","",INDEX(Database!$B$6:$Q$305,Calc!$B9,Calc!J$7)),"") -> 347-840-4245 | ... R9: =IFERROR(IF(INDEX(Database!$B$6:$Q$305,Calc!$B9,Calc!R$7)="","",INDEX(Database!$B$6:$Q$305,Calc!$B9,Calc!R$7)),"") | T9: =Form!$D$7 -> Family | V9: =INDEX($C$9:$C$23,$B9,$C$7) -> Work | X9: =IFERROR(IF(COUNTIF($V$9:$V9,$V9)>1,"",$V9),"") -> Work | Z9: =IF(LEN($X9)>0,$B9,"") -> 1 | AA9: =IFERROR(SMALL($Z$9:$Z$23,ROW($AA9)-ROW($AA$8)),"") -> 1 | AB9: =IF(LEN($AA9)>0,INDEX($X$9:$X$23,$AA9),"") -> Work | AD9: =IF($C9=$T$9,$B9,"") | AE9: =IFERROR(SMALL($AD$9:$AD$23,ROW($AE9)-ROW($AE$8)),"") -> 3 | AF9: =IF(AND(LEN($AG9)>0,LEN($AH9)>0),AG9 & " " & $AH9,"") -> Corby May | AG9: =IFERROR(IF(LEN($AE9)=0,"",IF(LEN(INDEX($C$9:$R$23,$AE9,AG$7))>0,INDEX($C$9:$R$23,$AE9,AG$7),"-")),"") -> Corby | AH9: =IFERROR(IF(LEN($AE9)=0,"",IF(LEN(INDEX($C$9:$R$23,$AE9,AH$7))>0,INDEX($C$9:$R$23,$AE9,AH$7),"-")),"") -> May | AI9: =IFERROR(IF(LEN($AE9)=0,"",IF(LEN(INDEX($C$9:$R$23,$AE9,AI$7))>0,INDEX($C$9:$R$23,$AE9,AI$7),"-")),"") -> Uncle | AJ9: =IFERROR(IF(LEN($AE9)=0,"",IF(LEN(INDEX($C$9:$R$23,$AE9,AJ$7))>0,INDEX($C$9:$R$23,$AE9,AJ$7),"-")),"") -> - | AK9: =IFERROR(IF(LEN($AE9)=0,"",IF(LEN(INDEX($C$9:$R$23,$AE9,AK$7))>0,INDEX($C$9:$R$23,$AE9,AK$7),"-")),"") -> 585-225-2200 | AL9: =IFERROR(IF(LEN($AE9)=0,"",IF(LEN(INDEX($C$9:$R$23,$AE9,AL$7))>0,INDEX($C$9:$R$23,$AE9,AL$7),"-")),"") -> - | AM9: =IFERROR(IF(LEN($AE9)=0,"",IF(LEN(INDEX($C$9:$R$23,$AE9,AM$7))>0,INDEX($C$9:$R$23,$AE9,AM$7),"-")),"") -> 212-486-7090 | AN9: =IFERROR(IF(LEN($AE9)=0,"",IF(LEN(INDEX($C$9:$R$23,$AE9,AN$7))>0,INDEX($C$9:$R$23,$AE9,AN$7),"-")),"") -> wcorby_may@ml.com | ... AU9: =IFERROR(IF(LEN($AE9)=0,"",IF(LEN(INDEX($C$9:$R$23,$AE9,AU$7))>0,INDEX($C$9:$R$23,$AE9,AU$7),"-")),"") -> - | AW9: =IF(LEN(Form!$C6)>0,ROW(Form!$C6)-ROW(Form!$C$6),"")
B10: 2 | C10: =IFERROR(IF(INDEX(Database!$B$6:$Q$305,Calc!$B10,Calc!C$7)="","",INDEX(Database!$B$6:$Q$305,Calc!$B10,Calc!C$7)),"") -> Work | D10: =IFERROR(IF(INDEX(Database!$B$6:$Q$305,Calc!$B10,Calc!D$7)="","",INDEX(Database!$B$6:$Q$305,Calc!$B10,Calc!D$7)),"") -> Rich | E10: =IFERROR(IF(INDEX(Database!$B$6:$Q$305,Calc!$B10,Calc!E$7)="","",INDEX(Database!$B$6:$Q$305,Calc!$B10,Calc!E$7)),"") -> Abrams | F10: =IFERROR(IF(INDEX(Database!$B$6:$Q$305,Calc!$B10,Calc!F$7)="","",INDEX(Database!$B$6:$Q$305,Calc!$B10,Calc!F$7)),"") -> Friend | G10: =IFERROR(IF(INDEX(Database!$B$6:$Q$305,Calc!$B10,Calc!G$7)="","",INDEX(Database!$B$6:$Q$305,Calc!$B10,Calc!G$7)),"") | H10: =IFERROR(IF(INDEX(Database!$B$6:$Q$305,Calc!$B10,Calc!H$7)="","",INDEX(Database!$B$6:$Q$305,Calc!$B10,Calc!H$7)),"") -> 585-473-3757 | I10: =IFERROR(IF(INDEX(Database!$B$6:$Q$305,Calc!$B10,Calc!I$7)="","",INDEX(Database!$B$6:$Q$305,Calc!$B10,Calc!I$7)),"") | J10: =IFERROR(IF(INDEX(Database!$B$6:$Q$305,Calc!$B10,Calc!J$7)="","",INDEX(Database!$B$6:$Q$305,Calc!$B10,Calc!J$7)),"") -> 646-427-2065 | ... R10: =IFERROR(IF(INDEX(Database!$B$6:$Q$305,Calc!$B10,Calc!R$7)="","",INDEX(Database!$B$6:$Q$305,Calc!$B10,Calc!R$7)),"") | V10: =INDEX($C$9:$C$23,$B10,$C$7) -> Work | X10: =IFERROR(IF(COUNTIF($V$9:$V10,$V10)>1,"",$V10),"") | Z10: =IF(LEN($X10)>0,$B10,"") | AA10: =IFERROR(SMALL($Z$9:$Z$23,ROW($AA10)-ROW($AA$8)),"") -> 3 | AB10: =IF(LEN($AA10)>0,INDEX($X$9:$X$23,$AA10),"") -> Family | AD10: =IF($C10=$T$9,$B10,"") | AE10: =IFERROR(SMALL($AD$9:$AD$23,ROW($AE10)-ROW($AE$8)),"") -> 9 | AF10: =IF(AND(LEN($AG10)>0,LEN($AH10)>0),AG10 & " " & $AH10,"") -> Richard Salvino | AG10: =IFERROR(IF(LEN($AE10)=0,"",IF(LEN(INDEX($C$9:$R$23,$AE10,AG$7))>0,INDEX($C$9:$R$23,$AE10,AG$7),"-")),"") -> Richard | AH10: =IFERROR(IF(LEN($AE10)=0,"",IF(LEN(INDEX($C$9:$R$23,$AE10,AH$7))>0,INDEX($C$9:$R$23,$AE10,AH$7),"-")),"") -> Salvino | AI10: =IFERROR(IF(LEN($AE10)=0,"",IF(LEN(INDEX($C$9:$R$23,$AE10,AI$7))>0,INDEX($C$9:$R$23,$AE10,AI$7),"-")),"") -> Husband | AJ10: =IFERROR(IF(LEN($AE10)=0,"",IF(LEN(INDEX($C$9:$R$23,$AE10,AJ$7))>0,INDEX($C$9:$R$23,$AE10,AJ$7),"-")),"") -> - | AK10: =IFERROR(IF(LEN($AE10)=0,"",IF(LEN(INDEX($C$9:$R$23,$AE10,AK$7))>0,INDEX($C$9:$R$23,$AE10,AK$7),"-")),"") -> 585-563-4776 | AL10: =IFERROR(IF(LEN($AE10)=0,"",IF(LEN(INDEX($C$9:$R$23,$AE10,AL$7))>0,INDEX($C$9:$R$23,$AE10,AL$7),"-")),"") -> - | AM10: =IFERROR(IF(LEN($AE10)=0,"",IF(LEN(INDEX($C$9:$R$23,$AE10,AM$7))>0,INDEX($C$9:$R$23,$AE10,AM$7),"-")),"") -> 917-338-0645 | AN10: =IFERROR(IF(LEN($AE10)=0,"",IF(LEN(INDEX($C$9:$R$23,$AE10,AN$7))>0,INDEX($C$9:$R$23,$AE10,AN$7),"-")),"") -> richard_salvino@ml.com | ... AU10: =IFERROR(IF(LEN($AE10)=0,"",IF(LEN(INDEX($C$9:$R$23,$AE10,AU$7))>0,INDEX($C$9:$R$23,$AE10,AU$7),"-")),"") -> - | AW10: =IF(LEN(Form!$C7)>0,ROW(Form!$C7)-ROW(Form!$C$6),"") -> 1
B11: 3 | C11: =IFERROR(IF(INDEX(Database!$B$6:$Q$305,Calc!$B11,Calc!C$7)="","",INDEX(Database!$B$6:$Q$305,Calc!$B11,Calc!C$7)),"") -> Family | D11: =IFERROR(IF(INDEX(Database!$B$6:$Q$305,Calc!$B11,Calc!D$7)="","",INDEX(Database!$B$6:$Q$305,Calc!$B11,Calc!D$7)),"") -> Corby | E11: =IFERROR(IF(INDEX(Database!$B$6:$Q$305,Calc!$B11,Calc!E$7)="","",INDEX(Database!$B$6:$Q$305,Calc!$B11,Calc!E$7)),"") -> May | F11: =IFERROR(IF(INDEX(Database!$B$6:$Q$305,Calc!$B11,Calc!F$7)="","",INDEX(Database!$B$6:$Q$305,Calc!$B11,Calc!F$7)),"") -> Uncle | G11: =IFERROR(IF(INDEX(Database!$B$6:$Q$305,Calc!$B11,Calc!G$7)="","",INDEX(Database!$B$6:$Q$305,Calc!$B11,Calc!G$7)),"") | H11: =IFERROR(IF(INDEX(Database!$B$6:$Q$305,Calc!$B11,Calc!H$7)="","",INDEX(Database!$B$6:$Q$305,Calc!$B11,Calc!H$7)),"") -> 585-225-2200 | I11: =IFERROR(IF(INDEX(Database!$B$6:$Q$305,Calc!$B11,Calc!I$7)="","",INDEX(Database!$B$6:$Q$305,Calc!$B11,Calc!I$7)),"") | J11: =IFERROR(IF(INDEX(Database!$B$6:$Q$305,Calc!$B11,Calc!J$7)="","",INDEX(Database!$B$6:$Q$305,Calc!$B11,Calc!J$7)),"") -> 212-486-7090 | ... R11: =IFERROR(IF(INDEX(Database!$B$6:$Q$305,Calc!$B11,Calc!R$7)="","",INDEX(Database!$B$6:$Q$305,Calc!$B11,Calc!R$7)),"") | V11: =INDEX($C$9:$C$23,$B11,$C$7) -> Family | X11: =IFERROR(IF(COUNTIF($V$9:$V11,$V11)>1,"",$V11),"") -> Family | Z11: =IF(LEN($X11)>0,$B11,"") -> 3 | AA11: =IFERROR(SMALL($Z$9:$Z$23,ROW($AA11)-ROW($AA$8)),"") -> 4 | AB11: =IF(LEN($AA11)>0,INDEX($X$9:$X$23,$AA11),"") -> Services | AD11: =IF($C11=$T$9,$B11,"") -> 3 | AE11: =IFERROR(SMALL($AD$9:$AD$23,ROW($AE11)-ROW($AE$8)),"") -> 10 | AF11: =IF(AND(LEN($AG11)>0,LEN($AH11)>0),AG11 & " " & $AH11,"") -> Frank Sabia | AG11: =IFERROR(IF(LEN($AE11)=0,"",IF(LEN(INDEX($C$9:$R$23,$AE11,AG$7))>0,INDEX($C$9:$R$23,$AE11,AG$7),"-")),"") -> Frank | AH11: =IFERROR(IF(LEN($AE11)=0,"",IF(LEN(INDEX($C$9:$R$23,$AE11,AH$7))>0,INDEX($C$9:$R$23,$AE11,AH$7),"-")),"") -> Sabia | AI11: =IFERROR(IF(LEN($AE11)=0,"",IF(LEN(INDEX($C$9:$R$23,$AE11,AI$7))>0,INDEX($C$9:$R$23,$AE11,AI$7),"-")),"") -> Sister | AJ11: =IFERROR(IF(LEN($AE11)=0,"",IF(LEN(INDEX($C$9:$R$23,$AE11,AJ$7))>0,INDEX($C$9:$R$23,$AE11,AJ$7),"-")),"") -> - | AK11: =IFERROR(IF(LEN($AE11)=0,"",IF(LEN(INDEX($C$9:$R$23,$AE11,AK$7))>0,INDEX($C$9:$R$23,$AE11,AK$7),"-")),"") -> 914-255-0575 | AL11: =IFERROR(IF(LEN($AE11)=0,"",IF(LEN(INDEX($C$9:$R$23,$AE11,AL$7))>0,INDEX($C$9:$R$23,$AE11,AL$7),"-")),"") -> - | AM11: =IFERROR(IF(LEN($AE11)=0,"",IF(LEN(INDEX($C$9:$R$23,$AE11,AM$7))>0,INDEX($C$9:$R$23,$AE11,AM$7),"-")),"") -> 347-469-0378 | AN11: =IFERROR(IF(LEN($AE11)=0,"",IF(LEN(INDEX($C$9:$R$23,$AE11,AN$7))>0,INDEX($C$9:$R$23,$AE11,AN$7),"-")),"") -> Frank.J.Sabia@ubs.com | ... AU11: =IFERROR(IF(LEN($AE11)=0,"",IF(LEN(INDEX($C$9:$R$23,$AE11,AU$7))>0,INDEX($C$9:$R$23,$AE11,AU$7),"-")),"") -> - | AW11: =IF(LEN(Form!$C8)>0,ROW(Form!$C8)-ROW(Form!$C$6),"")
B12: 4 | C12: =IFERROR(IF(INDEX(Database!$B$6:$Q$305,Calc!$B12,Calc!C$7)="","",INDEX(Database!$B$6:$Q$305,Calc!$B12,Calc!C$7)),"") -> Services | D12: =IFERROR(IF(INDEX(Database!$B$6:$Q$305,Calc!$B12,Calc!D$7)="","",INDEX(Database!$B$6:$Q$305,Calc!$B12,Calc!D$7)),"") -> Nicole | E12: =IFERROR(IF(INDEX(Database!$B$6:$Q$305,Calc!$B12,Calc!E$7)="","",INDEX(Database!$B$6:$Q$305,Calc!$B12,Calc!E$7)),"") -> Andres | F12: =IFERROR(IF(INDEX(Database!$B$6:$Q$305,Calc!$B12,Calc!F$7)="","",INDEX(Database!$B$6:$Q$305,Calc!$B12,Calc!F$7)),"") -> Plumber | G12: =IFERROR(IF(INDEX(Database!$B$6:$Q$305,Calc!$B12,Calc!G$7)="","",INDEX(Database!$B$6:$Q$305,Calc!$B12,Calc!G$7)),"") -> XYZ Plumber | H12: =IFERROR(IF(INDEX(Database!$B$6:$Q$305,Calc!$B12,Calc!H$7)="","",INDEX(Database!$B$6:$Q$305,Calc!$B12,Calc!H$7)),"") -> 585-563-6648 | I12: =IFERROR(IF(INDEX(Database!$B$6:$Q$305,Calc!$B12,Calc!I$7)="","",INDEX(Database!$B$6:$Q$305,Calc!$B12,Calc!I$7)),"") -> andresxyz@plumber.com | J12: =IFERROR(IF(INDEX(Database!$B$6:$Q$305,Calc!$B12,Calc!J$7)="","",INDEX(Database!$B$6:$Q$305,Calc!$B12,Calc!J$7)),"") -> 646-233-6736 | ... R12: =IFERROR(IF(INDEX(Database!$B$6:$Q$305,Calc!$B12,Calc!R$7)="","",INDEX(Database!$B$6:$Q$305,Calc!$B12,Calc!R$7)),"") | V12: =INDEX($C$9:$C$23,$B12,$C$7) -> Services | X12: =IFERROR(IF(COUNTIF($V$9:$V12,$V12)>1,"",$V12),"") -> Services | Z12: =IF(LEN($X12)>0,$B12,"") -> 4 | AA12: =IFERROR(SMALL($Z$9:$Z$23,ROW($AA12)-ROW($AA$8)),"") -> 7 | AB12: =IF(LEN($AA12)>0,INDEX($X$9:$X$23,$AA12),"") -> Health | AD12: =IF($C12=$T$9,$B12,"") | AE12: =IFERROR(SMALL($AD$9:$AD$23,ROW($AE12)-ROW($AE$8)),"") -> 11 | AF12: =IF(AND(LEN($AG12)>0,LEN($AH12)>0),AG12 & " " & $AH12,"") -> Michael Bapis | AG12: =IFERROR(IF(LEN($AE12)=0,"",IF(LEN(INDEX($C$9:$R$23,$AE12,AG$7))>0,INDEX($C$9:$R$23,$AE12,AG$7),"-")),"") -> Michael | AH12: =IFERROR(IF(LEN($AE12)=0,"",IF(LEN(INDEX($C$9:$R$23,$AE12,AH$7))>0,INDEX($C$9:$R$23,$AE12,AH$7),"-")),"") -> Bapis | AI12: =IFERROR(IF(LEN($AE12)=0,"",IF(LEN(INDEX($C$9:$R$23,$AE12,AI$7))>0,INDEX($C$9:$R$23,$AE12,AI$7),"-")),"") -> Brother | AJ12: =IFERROR(IF(LEN($AE12)=0,"",IF(LEN(INDEX($C$9:$R$23,$AE12,AJ$7))>0,INDEX($C$9:$R$23,$AE12,AJ$7),"-")),"") -> - | AK12: =IFERROR(IF(LEN($AE12)=0,"",IF(LEN(INDEX($C$9:$R$23,$AE12,AK$7))>0,INDEX($C$9:$R$23,$AE12,AK$7),"-")),"") -> 212-673-8400 | AL12: =IFERROR(IF(LEN($AE12)=0,"",IF(LEN(INDEX($C$9:$R$23,$AE12,AL$7))>0,INDEX($C$9:$R$23,$AE12,AL$7),"-")),"") -> - | AM12: =IFERROR(IF(LEN($AE12)=0,"",IF(LEN(INDEX($C$9:$R$23,$AE12,AM$7))>0,INDEX($C$9:$R$23,$AE12,AM$7),"-")),"") -> 212-704-4343 | AN12: =IFERROR(IF(LEN($AE12)=0,"",IF(LEN(INDEX($C$9:$R$23,$AE12,AN$7))>0,INDEX($C$9:$R$23,$AE12,AN$7),"-")),"") -> mbapis@hightoweradvisors.com | ... AU12: =IFERROR(IF(LEN($AE12)=0,"",IF(LEN(INDEX($C$9:$R$23,$AE12,AU$7))>0,INDEX($C$9:$R$23,$AE12,AU$7),"-")),"") -> - | AW12: =IF(LEN(Form!$C9)>0,ROW(Form!$C9)-ROW(Form!$C$6),"") -> 3
B13: 5 | C13: =IFERROR(IF(INDEX(Database!$B$6:$Q$305,Calc!$B13,Calc!C$7)="","",INDEX(Database!$B$6:$Q$305,Calc!$B13,Calc!C$7)),"") -> Services | D13: =IFERROR(IF(INDEX(Database!$B$6:$Q$305,Calc!$B13,Calc!D$7)="","",INDEX(Database!$B$6:$Q$305,Calc!$B13,Calc!D$7)),"") -> Leonard | E13: =IFERROR(IF(INDEX(Database!$B$6:$Q$305,Calc!$B13,Calc!E$7)="","",INDEX(Database!$B$6:$Q$305,Calc!$B13,Calc!E$7)),"") -> Boccia | F13: =IFERROR(IF(INDEX(Database!$B$6:$Q$305,Calc!$B13,Calc!F$7)="","",INDEX(Database!$B$6:$Q$305,Calc!$B13,Calc!F$7)),"") -> Electrician | G13: =IFERROR(IF(INDEX(Database!$B$6:$Q$305,Calc!$B13,Calc!G$7)="","",INDEX(Database!$B$6:$Q$305,Calc!$B13,Calc!G$7)),"") -> ABC Electrician | H13: =IFERROR(IF(INDEX(Database!$B$6:$Q$305,Calc!$B13,Calc!H$7)="","",INDEX(Database!$B$6:$Q$305,Calc!$B13,Calc!H$7)),"") -> 585-266-5770 | I13: =IFERROR(IF(INDEX(Database!$B$6:$Q$305,Calc!$B13,Calc!I$7)="","",INDEX(Database!$B$6:$Q$305,Calc!$B13,Calc!I$7)),"") -> bocciaabc@mail.com | J13: =IFERROR(IF(INDEX(Database!$B$6:$Q$305,Calc!$B13,Calc!J$7)="","",INDEX(Database!$B$6:$Q$305,Calc!$B13,Calc!J$7)),"") -> 917-668-2222 | ... R13: =IFERROR(IF(INDEX(Database!$B$6:$Q$305,Calc!$B13,Calc!R$7)="","",INDEX(Database!$B$6:$Q$305,Calc!$B13,Calc!R$7)),"") | V13: =INDEX($C$9:$C$23,$B13,$C$7) -> Services | X13: =IFERROR(IF(COUNTIF($V$9:$V13,$V13)>1,"",$V13),"") | Z13: =IF(LEN($X13)>0,$B13,"") | AA13: =IFERROR(SMALL($Z$9:$Z$23,ROW($AA13)-ROW($AA$8)),"") | AB13: =IF(LEN($AA13)>0,INDEX($X$9:$X$23,$AA13),"") | AD13: =IF($C13=$T$9,$B13,"") | AE13: =IFERROR(SMALL($AD$9:$AD$23,ROW($AE13)-ROW($AE$8)),"") | AF13: =IF(AND(LEN($AG13)>0,LEN($AH13)>0),AG13 & " " & $AH13,"") | AG13: =IFERROR(IF(LEN($AE13)=0,"",IF(LEN(INDEX($C$9:$R$23,$AE13,AG$7))>0,INDEX($C$9:$R$23,$AE13,AG$7),"-")),"") | AH13: =IFERROR(IF(LEN($AE13)=0,"",IF(LEN(INDEX($C$9:$R$23,$AE13,AH$7))>0,INDEX($C$9:$R$23,$AE13,AH$7),"-")),"") | AI13: =IFERROR(IF(LEN($AE13)=0,"",IF(LEN(INDEX($C$9:$R$23,$AE13,AI$7))>0,INDEX($C$9:$R$23,$AE13,AI$7),"-")),"") | AJ13: =IFERROR(IF(LEN($AE13)=0,"",IF(LEN(INDEX($C$9:$R$23,$AE13,AJ$7))>0,INDEX($C$9:$R$23,$AE13,AJ$7),"-")),"") | AK13: =IFERROR(IF(LEN($AE13)=0,"",IF(LEN(INDEX($C$9:$R$23,$AE13,AK$7))>0,INDEX($C$9:$R$23,$AE13,AK$7),"-")),"") | AL13: =IFERROR(IF(LEN($AE13)=0,"",IF(LEN(INDEX($C$9:$R$23,$AE13,AL$7))>0,INDEX($C$9:$R$23,$AE13,AL$7),"-")),"") | AM13: =IFERROR(IF(LEN($AE13)=0,"",IF(LEN(INDEX($C$9:$R$23,$AE13,AM$7))>0,INDEX($C$9:$R$23,$AE13,AM$7),"-")),"") | AN13: =IFERROR(IF(LEN($AE13)=0,"",IF(LEN(INDEX($C$9:$R$23,$AE13,AN$7))>0,INDEX($C$9:$R$23,$AE13,AN$7),"-")),"") | ... AU13: =IFERROR(IF(LEN($AE13)=0,"",IF(LEN(INDEX($C$9:$R$23,$AE13,AU$7))>0,INDEX($C$9:$R$23,$AE13,AU$7),"-")),"") | AW13: =IF(LEN(Form!$C10)>0,ROW(Form!$C10)-ROW(Form!$C$6),"")
B14: 6 | C14: =IFERROR(IF(INDEX(Database!$B$6:$Q$305,Calc!$B14,Calc!C$7)="","",INDEX(Database!$B$6:$Q$305,Calc!$B14,Calc!C$7)),"") -> Services | D14: =IFERROR(IF(INDEX(Database!$B$6:$Q$305,Calc!$B14,Calc!D$7)="","",INDEX(Database!$B$6:$Q$305,Calc!$B14,Calc!D$7)),"") -> William | E14: =IFERROR(IF(INDEX(Database!$B$6:$Q$305,Calc!$B14,Calc!E$7)="","",INDEX(Database!$B$6:$Q$305,Calc!$B14,Calc!E$7)),"") -> Einstein | F14: =IFERROR(IF(INDEX(Database!$B$6:$Q$305,Calc!$B14,Calc!F$7)="","",INDEX(Database!$B$6:$Q$305,Calc!$B14,Calc!F$7)),"") -> Cable Tv | G14: =IFERROR(IF(INDEX(Database!$B$6:$Q$305,Calc!$B14,Calc!G$7)="","",INDEX(Database!$B$6:$Q$305,Calc!$B14,Calc!G$7)),"") -> QWE Cable Tv | H14: =IFERROR(IF(INDEX(Database!$B$6:$Q$305,Calc!$B14,Calc!H$7)="","",INDEX(Database!$B$6:$Q$305,Calc!$B14,Calc!H$7)),"") -> 585-209-9097 | I14: =IFERROR(IF(INDEX(Database!$B$6:$Q$305,Calc!$B14,Calc!I$7)="","",INDEX(Database!$B$6:$Q$305,Calc!$B14,Calc!I$7)),"") -> einstein@mail.com | J14: =IFERROR(IF(INDEX(Database!$B$6:$Q$305,Calc!$B14,Calc!J$7)="","",INDEX(Database!$B$6:$Q$305,Calc!$B14,Calc!J$7)),"") -> 347-308-9002 | ... R14: =IFERROR(IF(INDEX(Database!$B$6:$Q$305,Calc!$B14,Calc!R$7)="","",INDEX(Database!$B$6:$Q$305,Calc!$B14,Calc!R$7)),"") | V14: =INDEX($C$9:$C$23,$B14,$C$7) -> Services | X14: =IFERROR(IF(COUNTIF($V$9:$V14,$V14)>1,"",$V14),"") | Z14: =IF(LEN($X14)>0,$B14,"") | AA14: =IFERROR(SMALL($Z$9:$Z$23,ROW($AA14)-ROW($AA$8)),"") | AB14: =IF(LEN($AA14)>0,INDEX($X$9:$X$23,$AA14),"") | AD14: =IF($C14=$T$9,$B14,"") | AE14: =IFERROR(SMALL($AD$9:$AD$23,ROW($AE14)-ROW($AE$8)),"") | AF14: =IF(AND(LEN($AG14)>0,LEN($AH14)>0),AG14 & " " & $AH14,"") | AG14: =IFERROR(IF(LEN($AE14)=0,"",IF(LEN(INDEX($C$9:$R$23,$AE14,AG$7))>0,INDEX($C$9:$R$23,$AE14,AG$7),"-")),"") | AH14: =IFERROR(IF(LEN($AE14)=0,"",IF(LEN(INDEX($C$9:$R$23,$AE14,AH$7))>0,INDEX($C$9:$R$23,$AE14,AH$7),"-")),"") | AI14: =IFERROR(IF(LEN($AE14)=0,"",IF(LEN(INDEX($C$9:$R$23,$AE14,AI$7))>0,INDEX($C$9:$R$23,$AE14,AI$7),"-")),"") | AJ14: =IFERROR(IF(LEN($AE14)=0,"",IF(LEN(INDEX($C$9:$R$23,$AE14,AJ$7))>0,INDEX($C$9:$R$23,$AE14,AJ$7),"-")),"") | AK14: =IFERROR(IF(LEN($AE14)=0,"",IF(LEN(INDEX($C$9:$R$23,$AE14,AK$7))>0,INDEX($C$9:$R$23,$AE14,AK$7),"-")),"") | AL14: =IFERROR(IF(LEN($AE14)=0,"",IF(LEN(INDEX($C$9:$R$23,$AE14,AL$7))>0,INDEX($C$9:$R$23,$AE14,AL$7),"-")),"") | AM14: =IFERROR(IF(LEN($AE14)=0,"",IF(LEN(INDEX($C$9:$R$23,$AE14,AM$7))>0,INDEX($C$9:$R$23,$AE14,AM$7),"-")),"") | AN14: =IFERROR(IF(LEN($AE14)=0,"",IF(LEN(INDEX($C$9:$R$23,$AE14,AN$7))>0,INDEX($C$9:$R$23,$AE14,AN$7),"-")),"") | ... AU14: =IFERROR(IF(LEN($AE14)=0,"",IF(LEN(INDEX($C$9:$R$23,$AE14,AU$7))>0,INDEX($C$9:$R$23,$AE14,AU$7),"-")),"") | AW14: =IF(LEN(Form!$C11)>0,ROW(Form!$C11)-ROW(Form!$C$6),"") -> 5
B15: 7 | C15: =IFERROR(IF(INDEX(Database!$B$6:$Q$305,Calc!$B15,Calc!C$7)="","",INDEX(Database!$B$6:$Q$305,Calc!$B15,Calc!C$7)),"") -> Health | D15: =IFERROR(IF(INDEX(Database!$B$6:$Q$305,Calc!$B15,Calc!D$7)="","",INDEX(Database!$B$6:$Q$305,Calc!$B15,Calc!D$7)),"") -> Craig | E15: =IFERROR(IF(INDEX(Database!$B$6:$Q$305,Calc!$B15,Calc!E$7)="","",INDEX(Database!$B$6:$Q$305,Calc!$B15,Calc!E$7)),"") -> Pastolove | F15: =IFERROR(IF(INDEX(Database!$B$6:$Q$305,Calc!$B15,Calc!F$7)="","",INDEX(Database!$B$6:$Q$305,Calc!$B15,Calc!F$7)),"") -> Family Doctor | G15: =IFERROR(IF(INDEX(Database!$B$6:$Q$305,Calc!$B15,Calc!G$7)="","",INDEX(Database!$B$6:$Q$305,Calc!$B15,Calc!G$7)),"") | H15: =IFERROR(IF(INDEX(Database!$B$6:$Q$305,Calc!$B15,Calc!H$7)="","",INDEX(Database!$B$6:$Q$305,Calc!$B15,Calc!H$7)),"") -> 585-723-3360 | I15: =IFERROR(IF(INDEX(Database!$B$6:$Q$305,Calc!$B15,Calc!I$7)="","",INDEX(Database!$B$6:$Q$305,Calc!$B15,Calc!I$7)),"") | J15: =IFERROR(IF(INDEX(Database!$B$6:$Q$305,Calc!$B15,Calc!J$7)="","",INDEX(Database!$B$6:$Q$305,Calc!$B15,Calc!J$7)),"") -> 646-218-9857 | ... R15: =IFERROR(IF(INDEX(Database!$B$6:$Q$305,Calc!$B15,Calc!R$7)="","",INDEX(Database!$B$6:$Q$305,Calc!$B15,Calc!R$7)),"") | V15: =INDEX($C$9:$C$23,$B15,$C$7) -> Health | X15: =IFERROR(IF(COUNTIF($V$9:$V15,$V15)>1,"",$V15),"") -> Health | Z15: =IF(LEN($X15)>0,$B15,"") -> 7 | AA15: =IFERROR(SMALL($Z$9:$Z$23,ROW($AA15)-ROW($AA$8)),"") | AB15: =IF(LEN($AA15)>0,INDEX($X$9:$X$23,$AA15),"") | AD15: =IF($C15=$T$9,$B15,"") | AE15: =IFERROR(SMALL($AD$9:$AD$23,ROW($AE15)-ROW($AE$8)),"") | AF15: =IF(AND(LEN($AG15)>0,LEN($AH15)>0),AG15 & " " & $AH15,"") | AG15: =IFERROR(IF(LEN($AE15)=0,"",IF(LEN(INDEX($C$9:$R$23,$AE15,AG$7))>0,INDEX($C$9:$R$23,$AE15,AG$7),"-")),"") | AH15: =IFERROR(IF(LEN($AE15)=0,"",IF(LEN(INDEX($C$9:$R$23,$AE15,AH$7))>0,INDEX($C$9:$R$23,$AE15,AH$7),"-")),"") | AI15: =IFERROR(IF(LEN($AE15)=0,"",IF(LEN(INDEX($C$9:$R$23,$AE15,AI$7))>0,INDEX($C$9:$R$23,$AE15,AI$7),"-")),"") | AJ15: =IFERROR(IF(LEN($AE15)=0,"",IF(LEN(INDEX($C$9:$R$23,$AE15,AJ$7))>0,INDEX($C$9:$R$23,$AE15,AJ$7),"-")),"") | AK15: =IFERROR(IF(LEN($AE15)=0,"",IF(LEN(INDEX($C$9:$R$23,$AE15,AK$7))>0,INDEX($C$9:$R$23,$AE15,AK$7),"-")),"") | AL15: =IFERROR(IF(LEN($AE15)=0,"",IF(LEN(INDEX($C$9:$R$23,$AE15,AL$7))>0,INDEX($C$9:$R$23,$AE15,AL$7),"-")),"") | AM15: =IFERROR(IF(LEN($AE15)=0,"",IF(LEN(INDEX($C$9:$R$23,$AE15,AM$7))>0,INDEX($C$9:$R$23,$AE15,AM$7),"-")),"") | AN15: =IFERROR(IF(LEN($AE15)=0,"",IF(LEN(INDEX($C$9:$R$23,$AE15,AN$7))>0,INDEX($C$9:$R$23,$AE15,AN$7),"-")),"") | ... AU15: =IFERROR(IF(LEN($AE15)=0,"",IF(LEN(INDEX($C$9:$R$23,$AE15,AU$7))>0,INDEX($C$9:$R$23,$AE15,AU$7),"-")),"") | AW15: =IF(LEN(Form!$C12)>0,ROW(Form!$C12)-ROW(Form!$C$6),"")
B16: 8 | C16: =IFERROR(IF(INDEX(Database!$B$6:$Q$305,Calc!$B16,Calc!C$7)="","",INDEX(Database!$B$6:$Q$305,Calc!$B16,Calc!C$7)),"") -> Work | D16: =IFERROR(IF(INDEX(Database!$B$6:$Q$305,Calc!$B16,Calc!D$7)="","",INDEX(Database!$B$6:$Q$305,Calc!$B16,Calc!D$7)),"") -> Geri | E16: =IFERROR(IF(INDEX(Database!$B$6:$Q$305,Calc!$B16,Calc!E$7)="","",INDEX(Database!$B$6:$Q$305,Calc!$B16,Calc!E$7)),"") -> Pell | F16: =IFERROR(IF(INDEX(Database!$B$6:$Q$305,Calc!$B16,Calc!F$7)="","",INDEX(Database!$B$6:$Q$305,Calc!$B16,Calc!F$7)),"") -> Veterinary | G16: =IFERROR(IF(INDEX(Database!$B$6:$Q$305,Calc!$B16,Calc!G$7)="","",INDEX(Database!$B$6:$Q$305,Calc!$B16,Calc!G$7)),"") | H16: =IFERROR(IF(INDEX(Database!$B$6:$Q$305,Calc!$B16,Calc!H$7)="","",INDEX(Database!$B$6:$Q$305,Calc!$B16,Calc!H$7)),"") -> 585-743-7047 | I16: =IFERROR(IF(INDEX(Database!$B$6:$Q$305,Calc!$B16,Calc!I$7)="","",INDEX(Database!$B$6:$Q$305,Calc!$B16,Calc!I$7)),"") | J16: =IFERROR(IF(INDEX(Database!$B$6:$Q$305,Calc!$B16,Calc!J$7)="","",INDEX(Database!$B$6:$Q$305,Calc!$B16,Calc!J$7)),"") -> 212-686-5566 | ... R16: =IFERROR(IF(INDEX(Database!$B$6:$Q$305,Calc!$B16,Calc!R$7)="","",INDEX(Database!$B$6:$Q$305,Calc!$B16,Calc!R$7)),"") | V16: =INDEX($C$9:$C$23,$B16,$C$7) -> Work | X16: =IFERROR(IF(COUNTIF($V$9:$V16,$V16)>1,"",$V16),"") | Z16: =IF(LEN($X16)>0,$B16,"") | AA16: =IFERROR(SMALL($Z$9:$Z$23,ROW($AA16)-ROW($AA$8)),"") | AB16: =IF(LEN($AA16)>0,INDEX($X$9:$X$23,$AA16),"") | AD16: =IF($C16=$T$9,$B16,"") | AE16: =IFERROR(SMALL($AD$9:$AD$23,ROW($AE16)-ROW($AE$8)),"") | AF16: =IF(AND(LEN($AG16)>0,LEN($AH16)>0),AG16 & " " & $AH16,"") | AG16: =IFERROR(IF(LEN($AE16)=0,"",IF(LEN(INDEX($C$9:$R$23,$AE16,AG$7))>0,INDEX($C$9:$R$23,$AE16,AG$7),"-")),"") | AH16: =IFERROR(IF(LEN($AE16)=0,"",IF(LEN(INDEX($C$9:$R$23,$AE16,AH$7))>0,INDEX($C$9:$R$23,$AE16,AH$7),"-")),"") | AI16: =IFERROR(IF(LEN($AE16)=0,"",IF(LEN(INDEX($C$9:$R$23,$AE16,AI$7))>0,INDEX($C$9:$R$23,$AE16,AI$7),"-")),"") | AJ16: =IFERROR(IF(LEN($AE16)=0,"",IF(LEN(INDEX($C$9:$R$23,$AE16,AJ$7))>0,INDEX($C$9:$R$23,$AE16,AJ$7),"-")),"") | AK16: =IFERROR(IF(LEN($AE16)=0,"",IF(LEN(INDEX($C$9:$R$23,$AE16,AK$7))>0,INDEX($C$9:$R$23,$AE16,AK$7),"-")),"") | AL16: =IFERROR(IF(LEN($AE16)=0,"",IF(LEN(INDEX($C$9:$R$23,$AE16,AL$7))>0,INDEX($C$9:$R$23,$AE16,AL$7),"-")),"") | AM16: =IFERROR(IF(LEN($AE16)=0,"",IF(LEN(INDEX($C$9:$R$23,$AE16,AM$7))>0,INDEX($C$9:$R$23,$AE16,AM$7),"-")),"") | AN16: =IFERROR(IF(LEN($AE16)=0,"",IF(LEN(INDEX($C$9:$R$23,$AE16,AN$7))>0,INDEX($C$9:$R$23,$AE16,AN$7),"-")),"") | ... AU16: =IFERROR(IF(LEN($AE16)=0,"",IF(LEN(INDEX($C$9:$R$23,$AE16,AU$7))>0,INDEX($C$9:$R$23,$AE16,AU$7),"-")),"") | AW16: =IF(LEN(Form!$C13)>0,ROW(Form!$C13)-ROW(Form!$C$6),"") -> 7
B17: 9 | C17: =IFERROR(IF(INDEX(Database!$B$6:$Q$305,Calc!$B17,Calc!C$7)="","",INDEX(Database!$B$6:$Q$305,Calc!$B17,Calc!C$7)),"") -> Family | D17: =IFERROR(IF(INDEX(Database!$B$6:$Q$305,Calc!$B17,Calc!D$7)="","",INDEX(Database!$B$6:$Q$305,Calc!$B17,Calc!D$7)),"") -> Richard | E17: =IFERROR(IF(INDEX(Database!$B$6:$Q$305,Calc!$B17,Calc!E$7)="","",INDEX(Database!$B$6:$Q$305,Calc!$B17,Calc!E$7)),"") -> Salvino | F17: =IFERROR(IF(INDEX(Database!$B$6:$Q$305,Calc!$B17,Calc!F$7)="","",INDEX(Database!$B$6:$Q$305,Calc!$B17,Calc!F$7)),"") -> Husband | G17: =IFERROR(IF(INDEX(Database!$B$6:$Q$305,Calc!$B17,Calc!G$7)="","",INDEX(Database!$B$6:$Q$305,Calc!$B17,Calc!G$7)),"") | H17: =IFERROR(IF(INDEX(Database!$B$6:$Q$305,Calc!$B17,Calc!H$7)="","",INDEX(Database!$B$6:$Q$305,Calc!$B17,Calc!H$7)),"") -> 585-563-4776 | I17: =IFERROR(IF(INDEX(Database!$B$6:$Q$305,Calc!$B17,Calc!I$7)="","",INDEX(Database!$B$6:$Q$305,Calc!$B17,Calc!I$7)),"") | J17: =IFERROR(IF(INDEX(Database!$B$6:$Q$305,Calc!$B17,Calc!J$7)="","",INDEX(Database!$B$6:$Q$305,Calc!$B17,Calc!J$7)),"") -> 917-338-0645 | ... R17: =IFERROR(IF(INDEX(Database!$B$6:$Q$305,Calc!$B17,Calc!R$7)="","",INDEX(Database!$B$6:$Q$305,Calc!$B17,Calc!R$7)),"") | V17: =INDEX($C$9:$C$23,$B17,$C$7) -> Family | X17: =IFERROR(IF(COUNTIF($V$9:$V17,$V17)>1,"",$V17),"") | Z17: =IF(LEN($X17)>0,$B17,"") | AA17: =IFERROR(SMALL($Z$9:$Z$23,ROW($AA17)-ROW($AA$8)),"") | AB17: =IF(LEN($AA17)>0,INDEX($X$9:$X$23,$AA17),"") | AD17: =IF($C17=$T$9,$B17,"") -> 9 | AE17: =IFERROR(SMALL($AD$9:$AD$23,ROW($AE17)-ROW($AE$8)),"") | AF17: =IF(AND(LEN($AG17)>0,LEN($AH17)>0),AG17 & " " & $AH17,"") | AG17: =IFERROR(IF(LEN($AE17)=0,"",IF(LEN(INDEX($C$9:$R$23,$AE17,AG$7))>0,INDEX($C$9:$R$23,$AE17,AG$7),"-")),"") | AH17: =IFERROR(IF(LEN($AE17)=0,"",IF(LEN(INDEX($C$9:$R$23,$AE17,AH$7))>0,INDEX($C$9:$R$23,$AE17,AH$7),"-")),"") | AI17: =IFERROR(IF(LEN($AE17)=0,"",IF(LEN(INDEX($C$9:$R$23,$AE17,AI$7))>0,INDEX($C$9:$R$23,$AE17,AI$7),"-")),"") | AJ17: =IFERROR(IF(LEN($AE17)=0,"",IF(LEN(INDEX($C$9:$R$23,$AE17,AJ$7))>0,INDEX($C$9:$R$23,$AE17,AJ$7),"-")),"") | AK17: =IFERROR(IF(LEN($AE17)=0,"",IF(LEN(INDEX($C$9:$R$23,$AE17,AK$7))>0,INDEX($C$9:$R$23,$AE17,AK$7),"-")),"") | AL17: =IFERROR(IF(LEN($AE17)=0,"",IF(LEN(INDEX($C$9:$R$23,$AE17,AL$7))>0,INDEX($C$9:$R$23,$AE17,AL$7),"-")),"") | AM17: =IFERROR(IF(LEN($AE17)=0,"",IF(LEN(INDEX($C$9:$R$23,$AE17,AM$7))>0,INDEX($C$9:$R$23,$AE17,AM$7),"-")),"") | AN17: =IFERROR(IF(LEN($AE17)=0,"",IF(LEN(INDEX($C$9:$R$23,$AE17,AN$7))>0,INDEX($C$9:$R$23,$AE17,AN$7),"-")),"") | ... AU17: =IFERROR(IF(LEN($AE17)=0,"",IF(LEN(INDEX($C$9:$R$23,$AE17,AU$7))>0,INDEX($C$9:$R$23,$AE17,AU$7),"-")),"") | AW17: =IF(LEN(Form!$C14)>0,ROW(Form!$C14)-ROW(Form!$C$6),"") -> 8
B18: 10 | C18: =IFERROR(IF(INDEX(Database!$B$6:$Q$305,Calc!$B18,Calc!C$7)="","",INDEX(Database!$B$6:$Q$305,Calc!$B18,Calc!C$7)),"") -> Family | D18: =IFERROR(IF(INDEX(Database!$B$6:$Q$305,Calc!$B18,Calc!D$7)="","",INDEX(Database!$B$6:$Q$305,Calc!$B18,Calc!D$7)),"") -> Frank | E18: =IFERROR(IF(INDEX(Database!$B$6:$Q$305,Calc!$B18,Calc!E$7)="","",INDEX(Database!$B$6:$Q$305,Calc!$B18,Calc!E$7)),"") -> Sabia | F18: =IFERROR(IF(INDEX(Database!$B$6:$Q$305,Calc!$B18,Calc!F$7)="","",INDEX(Database!$B$6:$Q$305,Calc!$B18,Calc!F$7)),"") -> Sister | G18: =IFERROR(IF(INDEX(Database!$B$6:$Q$305,Calc!$B18,Calc!G$7)="","",INDEX(Database!$B$6:$Q$305,Calc!$B18,Calc!G$7)),"") | H18: =IFERROR(IF(INDEX(Database!$B$6:$Q$305,Calc!$B18,Calc!H$7)="","",INDEX(Database!$B$6:$Q$305,Calc!$B18,Calc!H$7)),"") -> 914-255-0575 | I18: =IFERROR(IF(INDEX(Database!$B$6:$Q$305,Calc!$B18,Calc!I$7)="","",INDEX(Database!$B$6:$Q$305,Calc!$B18,Calc!I$7)),"") | J18: =IFERROR(IF(INDEX(Database!$B$6:$Q$305,Calc!$B18,Calc!J$7)="","",INDEX(Database!$B$6:$Q$305,Calc!$B18,Calc!J$7)),"") -> 347-469-0378 | ... R18: =IFERROR(IF(INDEX(Database!$B$6:$Q$305,Calc!$B18,Calc!R$7)="","",INDEX(Database!$B$6:$Q$305,Calc!$B18,Calc!R$7)),"") | V18: =INDEX($C$9:$C$23,$B18,$C$7) -> Family | X18: =IFERROR(IF(COUNTIF($V$9:$V18,$V18)>1,"",$V18),"") | Z18: =IF(LEN($X18)>0,$B18,"") | AA18: =IFERROR(SMALL($Z$9:$Z$23,ROW($AA18)-ROW($AA$8)),"") | AB18: =IF(LEN($AA18)>0,INDEX($X$9:$X$23,$AA18),"") | AD18: =IF($C18=$T$9,$B18,"") -> 10 | AE18: =IFERROR(SMALL($AD$9:$AD$23,ROW($AE18)-ROW($AE$8)),"") | AF18: =IF(AND(LEN($AG18)>0,LEN($AH18)>0),AG18 & " " & $AH18,"") | AG18: =IFERROR(IF(LEN($AE18)=0,"",IF(LEN(INDEX($C$9:$R$23,$AE18,AG$7))>0,INDEX($C$9:$R$23,$AE18,AG$7),"-")),"") | AH18: =IFERROR(IF(LEN($AE18)=0,"",IF(LEN(INDEX($C$9:$R$23,$AE18,AH$7))>0,INDEX($C$9:$R$23,$AE18,AH$7),"-")),"") | AI18: =IFERROR(IF(LEN($AE18)=0,"",IF(LEN(INDEX($C$9:$R$23,$AE18,AI$7))>0,INDEX($C$9:$R$23,$AE18,AI$7),"-")),"") | AJ18: =IFERROR(IF(LEN($AE18)=0,"",IF(LEN(INDEX($C$9:$R$23,$AE18,AJ$7))>0,INDEX($C$9:$R$23,$AE18,AJ$7),"-")),"") | AK18: =IFERROR(IF(LEN($AE18)=0,"",IF(LEN(INDEX($C$9:$R$23,$AE18,AK$7))>0,INDEX($C$9:$R$23,$AE18,AK$7),"-")),"") | AL18: =IFERROR(IF(LEN($AE18)=0,"",IF(LEN(INDEX($C$9:$R$23,$AE18,AL$7))>0,INDEX($C$9:$R$23,$AE18,AL$7),"-")),"") | AM18: =IFERROR(IF(LEN($AE18)=0,"",IF(LEN(INDEX($C$9:$R$23,$AE18,AM$7))>0,INDEX($C$9:$R$23,$AE18,AM$7),"-")),"") | AN18: =IFERROR(IF(LEN($AE18)=0,"",IF(LEN(INDEX($C$9:$R$23,$AE18,AN$7))>0,INDEX($C$9:$R$23,$AE18,AN$7),"-")),"") | ... AU18: =IFERROR(IF(LEN($AE18)=0,"",IF(LEN(INDEX($C$9:$R$23,$AE18,AU$7))>0,INDEX($C$9:$R$23,$AE18,AU$7),"-")),"") | AW18: =IF(LEN(Form!$C15)>0,ROW(Form!$C15)-ROW(Form!$C$6),"") -> 9
B19: 11 | C19: =IFERROR(IF(INDEX(Database!$B$6:$Q$305,Calc!$B19,Calc!C$7)="","",INDEX(Database!$B$6:$Q$305,Calc!$B19,Calc!C$7)),"") -> Family | D19: =IFERROR(IF(INDEX(Database!$B$6:$Q$305,Calc!$B19,Calc!D$7)="","",INDEX(Database!$B$6:$Q$305,Calc!$B19,Calc!D$7)),"") -> Michael | E19: =IFERROR(IF(INDEX(Database!$B$6:$Q$305,Calc!$B19,Calc!E$7)="","",INDEX(Database!$B$6:$Q$305,Calc!$B19,Calc!E$7)),"") -> Bapis | F19: =IFERROR(IF(INDEX(Database!$B$6:$Q$305,Calc!$B19,Calc!F$7)="","",INDEX(Database!$B$6:$Q$305,Calc!$B19,Calc!F$7)),"") -> Brother | G19: =IFERROR(IF(INDEX(Database!$B$6:$Q$305,Calc!$B19,Calc!G$7)="","",INDEX(Database!$B$6:$Q$305,Calc!$B19,Calc!G$7)),"") | H19: =IFERROR(IF(INDEX(Database!$B$6:$Q$305,Calc!$B19,Calc!H$7)="","",INDEX(Database!$B$6:$Q$305,Calc!$B19,Calc!H$7)),"") -> 212-673-8400 | I19: =IFERROR(IF(INDEX(Database!$B$6:$Q$305,Calc!$B19,Calc!I$7)="","",INDEX(Database!$B$6:$Q$305,Calc!$B19,Calc!I$7)),"") | J19: =IFERROR(IF(INDEX(Database!$B$6:$Q$305,Calc!$B19,Calc!J$7)="","",INDEX(Database!$B$6:$Q$305,Calc!$B19,Calc!J$7)),"") -> 212-704-4343 | ... R19: =IFERROR(IF(INDEX(Database!$B$6:$Q$305,Calc!$B19,Calc!R$7)="","",INDEX(Database!$B$6:$Q$305,Calc!$B19,Calc!R$7)),"") | V19: =INDEX($C$9:$C$23,$B19,$C$7) -> Family | X19: =IFERROR(IF(COUNTIF($V$9:$V19,$V19)>1,"",$V19),"") | Z19: =IF(LEN($X19)>0,$B19,"") | AA19: =IFERROR(SMALL($Z$9:$Z$23,ROW($AA19)-ROW($AA$8)),"") | AB19: =IF(LEN($AA19)>0,INDEX($X$9:$X$23,$AA19),"") | AD19: =IF($C19=$T$9,$B19,"") -> 11 | AE19: =IFERROR(SMALL($AD$9:$AD$23,ROW($AE19)-ROW($AE$8)),"") | AF19: =IF(AND(LEN($AG19)>0,LEN($AH19)>0),AG19 & " " & $AH19,"") | AG19: =IFERROR(IF(LEN($AE19)=0,"",IF(LEN(INDEX($C$9:$R$23,$AE19,AG$7))>0,INDEX($C$9:$R$23,$AE19,AG$7),"-")),"") | AH19: =IFERROR(IF(LEN($AE19)=0,"",IF(LEN(INDEX($C$9:$R$23,$AE19,AH$7))>0,INDEX($C$9:$R$23,$AE19,AH$7),"-")),"") | AI19: =IFERROR(IF(LEN($AE19)=0,"",IF(LEN(INDEX($C$9:$R$23,$AE19,AI$7))>0,INDEX($C$9:$R$23,$AE19,AI$7),"-")),"") | AJ19: =IFERROR(IF(LEN($AE19)=0,"",IF(LEN(INDEX($C$9:$R$23,$AE19,AJ$7))>0,INDEX($C$9:$R$23,$AE19,AJ$7),"-")),"") | AK19: =IFERROR(IF(LEN($AE19)=0,"",IF(LEN(INDEX($C$9:$R$23,$AE19,AK$7))>0,INDEX($C$9:$R$23,$AE19,AK$7),"-")),"") | AL19: =IFERROR(IF(LEN($AE19)=0,"",IF(LEN(INDEX($C$9:$R$23,$AE19,AL$7))>0,INDEX($C$9:$R$23,$AE19,AL$7),"-")),"") | AM19: =IFERROR(IF(LEN($AE19)=0,"",IF(LEN(INDEX($C$9:$R$23,$AE19,AM$7))>0,INDEX($C$9:$R$23,$AE19,AM$7),"-")),"") | AN19: =IFERROR(IF(LEN($AE19)=0,"",IF(LEN(INDEX($C$9:$R$23,$AE19,AN$7))>0,INDEX($C$9:$R$23,$AE19,AN$7),"-")),"") | ... AU19: =IFERROR(IF(LEN($AE19)=0,"",IF(LEN(INDEX($C$9:$R$23,$AE19,AU$7))>0,INDEX($C$9:$R$23,$AE19,AU$7),"-")),"") | AW19: =IF(LEN(Form!$C16)>0,ROW(Form!$C16)-ROW(Form!$C$6),"")
B20: 12 | C20: =IFERROR(IF(INDEX(Database!$B$6:$Q$305,Calc!$B20,Calc!C$7)="","",INDEX(Database!$B$6:$Q$305,Calc!$B20,Calc!C$7)),"") | D20: =IFERROR(IF(INDEX(Database!$B$6:$Q$305,Calc!$B20,Calc!D$7)="","",INDEX(Database!$B$6:$Q$305,Calc!$B20,Calc!D$7)),"") | E20: =IFERROR(IF(INDEX(Database!$B$6:$Q$305,Calc!$B20,Calc!E$7)="","",INDEX(Database!$B$6:$Q$305,Calc!$B20,Calc!E$7)),"") | F20: =IFERROR(IF(INDEX(Database!$B$6:$Q$305,Calc!$B20,Calc!F$7)="","",INDEX(Database!$B$6:$Q$305,Calc!$B20,Calc!F$7)),"") | G20: =IFERROR(IF(INDEX(Database!$B$6:$Q$305,Calc!$B20,Calc!G$7)="","",INDEX(Database!$B$6:$Q$305,Calc!$B20,Calc!G$7)),"") | H20: =IFERROR(IF(INDEX(Database!$B$6:$Q$305,Calc!$B20,Calc!H$7)="","",INDEX(Database!$B$6:$Q$305,Calc!$B20,Calc!H$7)),"") | I20: =IFERROR(IF(INDEX(Database!$B$6:$Q$305,Calc!$B20,Calc!I$7)="","",INDEX(Database!$B$6:$Q$305,Calc!$B20,Calc!I$7)),"") | J20: =IFERROR(IF(INDEX(Database!$B$6:$Q$305,Calc!$B20,Calc!J$7)="","",INDEX(Database!$B$6:$Q$305,Calc!$B20,Calc!J$7)),"") | ... R20: =IFERROR(IF(INDEX(Database!$B$6:$Q$305,Calc!$B20,Calc!R$7)="","",INDEX(Database!$B$6:$Q$305,Calc!$B20,Calc!R$7)),"") | V20: =INDEX($C$9:$C$23,$B20,$C$7) | X20: =IFERROR(IF(COUNTIF($V$9:$V20,$V20)>1,"",$V20),"") | Z20: =IF(LEN($X20)>0,$B20,"") | AA20: =IFERROR(SMALL($Z$9:$Z$23,ROW($AA20)-ROW($AA$8)),"") | AB20: =IF(LEN($AA20)>0,INDEX($X$9:$X$23,$AA20),"") | AD20: =IF($C20=$T$9,$B20,"") | AE20: =IFERROR(SMALL($AD$9:$AD$23,ROW($AE20)-ROW($AE$8)),"") | AF20: =IF(AND(LEN($AG20)>0,LEN($AH20)>0),AG20 & " " & $AH20,"") | AG20: =IFERROR(IF(LEN($AE20)=0,"",IF(LEN(INDEX($C$9:$R$23,$AE20,AG$7))>0,INDEX($C$9:$R$23,$AE20,AG$7),"-")),"") | AH20: =IFERROR(IF(LEN($AE20)=0,"",IF(LEN(INDEX($C$9:$R$23,$AE20,AH$7))>0,INDEX($C$9:$R$23,$AE20,AH$7),"-")),"") | AI20: =IFERROR(IF(LEN($AE20)=0,"",IF(LEN(INDEX($C$9:$R$23,$AE20,AI$7))>0,INDEX($C$9:$R$23,$AE20,AI$7),"-")),"") | AJ20: =IFERROR(IF(LEN($AE20)=0,"",IF(LEN(INDEX($C$9:$R$23,$AE20,AJ$7))>0,INDEX($C$9:$R$23,$AE20,AJ$7),"-")),"") | AK20: =IFERROR(IF(LEN($AE20)=0,"",IF(LEN(INDEX($C$9:$R$23,$AE20,AK$7))>0,INDEX($C$9:$R$23,$AE20,AK$7),"-")),"") | AL20: =IFERROR(IF(LEN($AE20)=0,"",IF(LEN(INDEX($C$9:$R$23,$AE20,AL$7))>0,INDEX($C$9:$R$23,$AE20,AL$7),"-")),"") | AM20: =IFERROR(IF(LEN($AE20)=0,"",IF(LEN(INDEX($C$9:$R$23,$AE20,AM$7))>0,INDEX($C$9:$R$23,$AE20,AM$7),"-")),"") | AN20: =IFERROR(IF(LEN($AE20)=0,"",IF(LEN(INDEX($C$9:$R$23,$AE20,AN$7))>0,INDEX($C$9:$R$23,$AE20,AN$7),"-")),"") | ... AU20: =IFERROR(IF(LEN($AE20)=0,"",IF(LEN(INDEX($C$9:$R$23,$AE20,AU$7))>0,INDEX($C$9:$R$23,$AE20,AU$7),"-")),"") | AW20: =IF(LEN(Form!$C17)>0,ROW(Form!$C17)-ROW(Form!$C$6),"") -> 11
B21: 13 | C21: =IFERROR(IF(INDEX(Database!$B$6:$Q$305,Calc!$B21,Calc!C$7)="","",INDEX(Database!$B$6:$Q$305,Calc!$B21,Calc!C$7)),"") | D21: =IFERROR(IF(INDEX(Database!$B$6:$Q$305,Calc!$B21,Calc!D$7)="","",INDEX(Database!$B$6:$Q$305,Calc!$B21,Calc!D$7)),"") | E21: =IFERROR(IF(INDEX(Database!$B$6:$Q$305,Calc!$B21,Calc!E$7)="","",INDEX(Database!$B$6:$Q$305,Calc!$B21,Calc!E$7)),"") | F21: =IFERROR(IF(INDEX(Database!$B$6:$Q$305,Calc!$B21,Calc!F$7)="","",INDEX(Database!$B$6:$Q$305,Calc!$B21,Calc!F$7)),"") | G21: =IFERROR(IF(INDEX(Database!$B$6:$Q$305,Calc!$B21,Calc!G$7)="","",INDEX(Database!$B$6:$Q$305,Calc!$B21,Calc!G$7)),"") | H21: =IFERROR(IF(INDEX(Database!$B$6:$Q$305,Calc!$B21,Calc!H$7)="","",INDEX(Database!$B$6:$Q$305,Calc!$B21,Calc!H$7)),"") | I21: =IFERROR(IF(INDEX(Database!$B$6:$Q$305,Calc!$B21,Calc!I$7)="","",INDEX(Database!$B$6:$Q$305,Calc!$B21,Calc!I$7)),"") | J21: =IFERROR(IF(INDEX(Database!$B$6:$Q$305,Calc!$B21,Calc!J$7)="","",INDEX(Database!$B$6:$Q$305,Calc!$B21,Calc!J$7)),"") | ... R21: =IFERROR(IF(INDEX(Database!$B$6:$Q$305,Calc!$B21,Calc!R$7)="","",INDEX(Database!$B$6:$Q$305,Calc!$B21,Calc!R$7)),"") | V21: =INDEX($C$9:$C$23,$B21,$C$7) | X21: =IFERROR(IF(COUNTIF($V$9:$V21,$V21)>1,"",$V21),"") | Z21: =IF(LEN($X21)>0,$B21,"") | AA21: =IFERROR(SMALL($Z$9:$Z$23,ROW($AA21)-ROW($AA$8)),"") | AB21: =IF(LEN($AA21)>0,INDEX($X$9:$X$23,$AA21),"") | AD21: =IF($C21=$T$9,$B21,"") | AE21: =IFERROR(SMALL($AD$9:$AD$23,ROW($AE21)-ROW($AE$8)),"") | AF21: =IF(AND(LEN($AG21)>0,LEN($AH21)>0),AG21 & " " & $AH21,"") | AG21: =IFERROR(IF(LEN($AE21)=0,"",IF(LEN(INDEX($C$9:$R$23,$AE21,AG$7))>0,INDEX($C$9:$R$23,$AE21,AG$7),"-")),"") | AH21: =IFERROR(IF(LEN($AE21)=0,"",IF(LEN(INDEX($C$9:$R$23,$AE21,AH$7))>0,INDEX($C$9:$R$23,$AE21,AH$7),"-")),"") | AI21: =IFERROR(IF(LEN($AE21)=0,"",IF(LEN(INDEX($C$9:$R$23,$AE21,AI$7))>0,INDEX($C$9:$R$23,$AE21,AI$7),"-")),"") | AJ21: =IFERROR(IF(LEN($AE21)=0,"",IF(LEN(INDEX($C$9:$R$23,$AE21,AJ$7))>0,INDEX($C$9:$R$23,$AE21,AJ$7),"-")),"") | AK21: =IFERROR(IF(LEN($AE21)=0,"",IF(LEN(INDEX($C$9:$R$23,$AE21,AK$7))>0,INDEX($C$9:$R$23,$AE21,AK$7),"-")),"") | AL21: =IFERROR(IF(LEN($AE21)=0,"",IF(LEN(INDEX($C$9:$R$23,$AE21,AL$7))>0,INDEX($C$9:$R$23,$AE21,AL$7),"-")),"") | AM21: =IFERROR(IF(LEN($AE21)=0,"",IF(LEN(INDEX($C$9:$R$23,$AE21,AM$7))>0,INDEX($C$9:$R$23,$AE21,AM$7),"-")),"") | AN21: =IFERROR(IF(LEN($AE21)=0,"",IF(LEN(INDEX($C$9:$R$23,$AE21,AN$7))>0,INDEX($C$9:$R$23,$AE21,AN$7),"-")),"") | ... AU21: =IFERROR(IF(LEN($AE21)=0,"",IF(LEN(INDEX($C$9:$R$23,$AE21,AU$7))>0,INDEX($C$9:$R$23,$AE21,AU$7),"-")),"") | AW21: =IF(LEN(Form!$C18)>0,ROW(Form!$C18)-ROW(Form!$C$6),"") -> 12
... B23: 15 | C23: =IFERROR(IF(INDEX(Database!$B$6:$Q$305,Calc!$B23,Calc!C$7)="","",INDEX(Database!$B$6:$Q$305,Calc!$B23,Calc!C$7)),"") | D23: =IFERROR(IF(INDEX(Database!$B$6:$Q$305,Calc!$B23,Calc!D$7)="","",INDEX(Database!$B$6:$Q$305,Calc!$B23,Calc!D$7)),"") | E23: =IFERROR(IF(INDEX(Database!$B$6:$Q$305,Calc!$B23,Calc!E$7)="","",INDEX(Database!$B$6:$Q$305,Calc!$B23,Calc!E$7)),"") | F23: =IFERROR(IF(INDEX(Database!$B$6:$Q$305,Calc!$B23,Calc!F$7)="","",INDEX(Database!$B$6:$Q$305,Calc!$B23,Calc!F$7)),"") | G23: =IFERROR(IF(INDEX(Database!$B$6:$Q$305,Calc!$B23,Calc!G$7)="","",INDEX(Database!$B$6:$Q$305,Calc!$B23,Calc!G$7)),"") | H23: =IFERROR(IF(INDEX(Database!$B$6:$Q$305,Calc!$B23,Calc!H$7)="","",INDEX(Database!$B$6:$Q$305,Calc!$B23,Calc!H$7)),"") | I23: =IFERROR(IF(INDEX(Database!$B$6:$Q$305,Calc!$B23,Calc!I$7)="","",INDEX(Database!$B$6:$Q$305,Calc!$B23,Calc!I$7)),"") | J23: =IFERROR(IF(INDEX(Database!$B$6:$Q$305,Calc!$B23,Calc!J$7)="","",INDEX(Database!$B$6:$Q$305,Calc!$B23,Calc!J$7)),"") | ... R23: =IFERROR(IF(INDEX(Database!$B$6:$Q$305,Calc!$B23,Calc!R$7)="","",INDEX(Database!$B$6:$Q$305,Calc!$B23,Calc!R$7)),"") | V23: =INDEX($C$9:$C$23,$B23,$C$7) | X23: =IFERROR(IF(COUNTIF($V$9:$V23,$V23)>1,"",$V23),"") | Z23: =IF(LEN($X23)>0,$B23,"") | AA23: =IFERROR(SMALL($Z$9:$Z$23,ROW($AA23)-ROW($AA$8)),"") | AB23: =IF(LEN($AA23)>0,INDEX($X$9:$X$23,$AA23),"") | AD23: =IF($C23=$T$9,$B23,"") | AE23: =IFERROR(SMALL($AD$9:$AD$23,ROW($AE23)-ROW($AE$8)),"") | AF23: =IF(AND(LEN($AG23)>0,LEN($AH23)>0),AG23 & " " & $AH23,"") | AG23: =IFERROR(IF(LEN($AE23)=0,"",IF(LEN(INDEX($C$9:$R$23,$AE23,AG$7))>0,INDEX($C$9:$R$23,$AE23,AG$7),"-")),"") | AH23: =IFERROR(IF(LEN($AE23)=0,"",IF(LEN(INDEX($C$9:$R$23,$AE23,AH$7))>0,INDEX($C$9:$R$23,$AE23,AH$7),"-")),"") | AI23: =IFERROR(IF(LEN($AE23)=0,"",IF(LEN(INDEX($C$9:$R$23,$AE23,AI$7))>0,INDEX($C$9:$R$23,$AE23,AI$7),"-")),"") | AJ23: =IFERROR(IF(LEN($AE23)=0,"",IF(LEN(INDEX($C$9:$R$23,$AE23,AJ$7))>0,INDEX($C$9:$R$23,$AE23,AJ$7),"-")),"") | AK23: =IFERROR(IF(LEN($AE23)=0,"",IF(LEN(INDEX($C$9:$R$23,$AE23,AK$7))>0,INDEX($C$9:$R$23,$AE23,AK$7),"-")),"") | AL23: =IFERROR(IF(LEN($AE23)=0,"",IF(LEN(INDEX($C$9:$R$23,$AE23,AL$7))>0,INDEX($C$9:$R$23,$AE23,AL$7),"-")),"") | AM23: =IFERROR(IF(LEN($AE23)=0,"",IF(LEN(INDEX($C$9:$R$23,$AE23,AM$7))>0,INDEX($C$9:$R$23,$AE23,AM$7),"-")),"") | AN23: =IFERROR(IF(LEN($AE23)=0,"",IF(LEN(INDEX($C$9:$R$23,$AE23,AN$7))>0,INDEX($C$9:$R$23,$AE23,AN$7),"-")),"") | ... AU23: =IFERROR(IF(LEN($AE23)=0,"",IF(LEN(INDEX($C$9:$R$23,$AE23,AU$7))>0,INDEX($C$9:$R$23,$AE23,AU$7),"-")),"") | AW23: =IF(LEN(Form!$C20)>0,ROW(Form!$C20)-ROW(Form!$C$6),"")
AW24: =IF(LEN(Form!$C21)>0,ROW(Form!$C21)-ROW(Form!$C$6),"") -> 15
AW25: =IF(LEN(Form!$C22)>0,ROW(Form!$C22)-ROW(Form!$C$6),"")
AW26: =IF(LEN(Form!$C23)>0,ROW(Form!$C23)-ROW(Form!$C$6),"")
AW27: =IF(LEN(Form!$C24)>0,ROW(Form!$C24)-ROW(Form!$C$6),"")
AW28: =IF(LEN(Form!$C25)>0,ROW(Form!$C25)-ROW(Form!$C$6),"")
AW29: =IF(LEN(Form!$C26)>0,ROW(Form!$C26)-ROW(Form!$C$6),"")
