Workbook
Name dashboardmonthlist: Calc!$U$4:$U$16
Name dashboardpropertylist: OFFSET(Calc!$E$4,0,0,Calc!$E$2+1,1)
Name dashboardyearlist: Calc!$S$4:$S$14
Name expensecategorylist: OFFSET(Calc!$K$5,0,0,Calc!$K$2,1)
Name ExpenseChartLabel: OFFSET(Calc!$Y$34,0,0,Calc!$Y$32,1)
Name ExpenseChartSource: OFFSET(Calc!$Z$34,0,0,Calc!$Y$32,1)
Name incomecategorylist: OFFSET(Calc!$H$5,0,0,Calc!$H$2,1)
Name month: Calc!$AC$20
Name monthlist: Calc!$U$5:$U$16
Name paymenttypelist: OFFSET(Calc!$Q$5,0,0,Calc!$Q$2,1)
Name property: Calc!$AA$20
Name propertylist: OFFSET(Calc!$E$5,0,0,Calc!$E$2,1)
Name propertytypelist: OFFSET(Calc!$N$5,0,0,Calc!$N$2,1)
Name startingmonth: Menu!$I$21
Name startingyear: Menu!$I$18
Name year: Calc!$AB$20
Name yearlist: Calc!$W$4:$W$19

Sheet Menu
C2: RENTAL INCOME AND EXPENSES TEMPLATE
C3: MENU
C15: SETTINGS
C17: Income Categories | E17: Expense Categories | G17: Property Types | I17: Starting Year
C18: Deposit | E18: Advertising | G18: Tiny Home | I18: 2021
C19: Rent | E19: Cleaning & Maintenance | G19: Apartment
E20: Commissions | G20: Townhome | I20: Starting Month
E21: Insurance | I21: February
E22: Management Fees
E23: Repairs
E24: Supplies
E25: Taxes
E26: Utilities
E27: Bills
G29: Rent Payment Type
G30: Monthly
G31: Quarterly
G32: 6 Month
G33: Yearly

Sheet PropertyDatabase
B2: RENTAL INCOME AND EXPENSES TEMPLATE
B3: PROPERTY DATABASE
B5: Property Name | C5: City | D5: State | E5: Address | F5: Property Type | G5: Current Rent Price | H5: Current Contract Date | I5: Payment Day of Month | J5: Payment Type | K5: Bank Account | L5: Tenant Name | M5: Contact Info | N5: Deposit | O5: Notes
B6: House 1 | C6: New York | D6: USA | E6: 8724 Smith Drive Buffalo 14221 | F6: Tiny Home | G6: 1000 | H6: 44562 | I6: 1 | J6: Monthly | K6: 8402-3068-5092-3035 | L6: Jemima Begum | M6: jemima@mail.com | N6: 500
B7: House 2 | C7: New York | D7: USA | E7: 320 Wentworth Lane Hempstead 11550 | F7: Apartment | G7: 1500 | H7: 44562 | I7: 2 | J7: Quarterly | K7: 4779-7997-3743-4306 | L7: Mercedes Banks | M7: mercedes@mail.com | N7: 500
B8: House 3 | C8: New York | D8: USA | E8: 369 Cambridge St. Ridgewood 1138 | F8: Townhome | G8: 2500 | H8: 44562 | I8: 3 | J8: Yearly | K8: 7487-5412-8393-8358 | L8: Macauley Peck | M8: macauley@mail.com | N8: 500
B9: House 4 | C9: New York | D9: USA | E9: 975 Edgewood St. Brooklyn 11214 | F9: Apartment | G9: 2500 | H9: 44563 | I9: 4 | J9: Yearly | K9: 4640-8342-5599-9590 | L9: Hannah Shaw | M9: hannah@mail.com | N9: 500
B10: House 5 | C10: New York | D10: USA | E10: 74 Trusel Rd. Troy 12180 | F10: Townhome | G10: 3000 | H10: 44564 | I10: 5 | J10: Yearly | K10: 7819-6226-3002-6706 | L10: Carmel Beltran | M10: carmel@mail.com | N10: 500
B11: House 6 | C11: New York | D11: USA | E11: 56 La Sierra Dr. Bronx10467 | F11: Apartment | G11: 2750 | H11: 44565 | I11: 6 | J11: Yearly | K11: 1384-8485-1588-8944 | L11: Sarah-Jayne Morrison | M11: sarah-jayne@mail.com | N11: 500
B12: House 7 | C12: New York | D12: USA | E12: 75 Windsor Dr. Brooklyn 11219 | F12: Townhome | G12: 2750 | H12: 44566 | I12: 7 | J12: Yearly | K12: 1437-7990-1458-7620 | L12: Alyce Milner | M12: alyce@mail.com | N12: 500
B13: House 8 | C13: New York | D13: USA | E13: 151 Euclid Dr. Bronx 10472 | F13: Apartment | G13: 3000 | H13: 44567 | I13: 8 | J13: Yearly | K13: 7444-7202-8840-4463 | L13: Aviana Kenny | M13: 202-555-8915 | N13: 500

Sheet TenantRecords
B2: RENTAL INCOME AND EXPENSES TEMPLATE
B3: TENANT RECORDS
B5: Property Name | C5: Tenant Name | D5: Contact Info | E5: Initial Rent Price | F5: Last Rent Price | G5: Contract Starting Date | H5: Contract End Date | I5: Bank Account | J5: Deposit | K5: Notes
B6: House 1 | C6: Harris Montes | D6: 202-555-3086 | E6: 1000 | F6: 1200 | G6: 44242 | H6: 44607 | I6: Account 1 | J6: 500
B7: House 2 | C7: Doris Power | D7: 202-555-3023 | E7: 1250 | F7: 1600 | G7: 43913 | H7: 44643 | I7: Account 2 | J7: 750

Sheet Income
B2: RENTAL INCOME AND EXPENSES TEMPLATE
B3: INCOME
B8: Property Name | C8: Income Category | D8: Notes | E8: =INDEX(Calc!$AA$7:$AL$7,1,COLUMN(R8)-COLUMN($Q8)) -> 44228 | F8: =INDEX(Calc!$AA$7:$AL$7,1,COLUMN(S8)-COLUMN($Q8)) -> 44256 | G8: =INDEX(Calc!$AA$7:$AL$7,1,COLUMN(T8)-COLUMN($Q8)) -> 44287 | H8: =INDEX(Calc!$AA$7:$AL$7,1,COLUMN(U8)-COLUMN($Q8)) -> 44317 | I8: =INDEX(Calc!$AA$7:$AL$7,1,COLUMN(V8)-COLUMN($Q8)) -> 44348 | J8: =INDEX(Calc!$AA$7:$AL$7,1,COLUMN(W8)-COLUMN($Q8)) -> 44378 | K8: =INDEX(Calc!$AA$7:$AL$7,1,COLUMN(X8)-COLUMN($Q8)) -> 44409 | L8: =INDEX(Calc!$AA$7:$AL$7,1,COLUMN(Y8)-COLUMN($Q8)) -> 44440 | ... P8: =INDEX(Calc!$AA$7:$AL$7,1,COLUMN(AC8)-COLUMN($Q8)) -> 44562
B9: House 1 | C9: Deposit | E9: 1800 | U9: 1
B10: House 1 | C10: Rent | E10: 900 | F10: 900 | G10: 900 | H10: 900 | I10: 900 | J10: 900 | K10: 900 | L10: 900 | M10: 900 | N10: 900 | O10: 900 | P10: 900 | U10: 2
B11: House 2 | C11: Deposit | E11: 2500 | U11: 3
B12: House 2 | C12: Rent | E12: 1250 | F12: 1250 | G12: 1250 | H12: 1250 | I12: 1250 | J12: 1250 | K12: 1250 | L12: 1250 | M12: 1250 | N12: 1250 | O12: 1250 | P12: 1250 | U12: 4
B13: House 3 | C13: Deposit | E13: 3200 | U13: 5
B14: House 3 | C14: Rent | E14: 1600 | F14: 1600 | G14: 1600 | H14: 1600 | I14: 1600 | J14: 1600 | K14: 1600 | L14: 1600 | M14: 1600 | N14: 1600 | O14: 1600 | P14: 1600 | U14: 6
B15: House 4 | C15: Deposit | E15: 1400 | U15: 7
B16: House 4 | C16: Rent | E16: 700 | F16: 700 | G16: 700 | H16: 700 | I16: 700 | J16: 700 | K16: 700 | L16: 700 | M16: 700 | N16: 700 | O16: 700 | P16: 700 | U16: 8
U17: 9
U18: 10
U19: 11
U20: 12
U21: 13
U22: 14
U23: 15
U24: 16
U25: 17
U26: 18
U27: 19
U28: 20
B110: Property Name | C110: Income Category | D110: Notes | E110: =INDEX(Calc!$AA$8:$AL$8,1,COLUMN(R110)-COLUMN($Q110)) -> 44593 | F110: =INDEX(Calc!$AA$8:$AL$8,1,COLUMN(S110)-COLUMN($Q110)) -> 44621 | G110: =INDEX(Calc!$AA$8:$AL$8,1,COLUMN(T110)-COLUMN($Q110)) -> 44652 | H110: =INDEX(Calc!$AA$8:$AL$8,1,COLUMN(U110)-COLUMN($Q110)) -> 44682 | I110: =INDEX(Calc!$AA$8:$AL$8,1,COLUMN(V110)-COLUMN($Q110)) -> 44713 | J110: =INDEX(Calc!$AA$8:$AL$8,1,COLUMN(W110)-COLUMN($Q110)) -> 44743 | K110: =INDEX(Calc!$AA$8:$AL$8,1,COLUMN(X110)-COLUMN($Q110)) -> 44774 | L110: =INDEX(Calc!$AA$8:$AL$8,1,COLUMN(Y110)-COLUMN($Q110)) -> 44805 | ... P110: =INDEX(Calc!$AA$8:$AL$8,1,COLUMN(AC110)-COLUMN($Q110)) -> 44927
B111: House 1 | C111: Rent | E111: 1200 | F111: 1200 | G111: 1200 | H111: 1200 | J111: 1200 | K111: 1200 | L111: 1200 | U111: 101
B112: House 2 | C112: Rent | E112: 1600 | F112: 1600 | G112: 1600 | H112: 1600 | I112: 1600 | J112: 1600 | U112: 102
B113: House 3 | C113: Deposit | E113: 4000 | U113: 103
B114: House 3 | C114: Rent | E114: 2000 | F114: 2000 | G114: 2000 | H114: 2000 | I114: 2000 | J114: 2000 | K114: 2000 | L114: 2000 | U114: 104
B115: House 4 | C115: Rent | E115: 850 | F115: 850 | G115: 850 | H115: 850 | I115: 850 | J115: 850 | K115: 850 | L115: 850 | U115: 105
U116: 106
U117: 107
U118: 108
U119: 109
U120: 110
U121: 111
U122: 112
U123: 113
U124: 114
U125: 115
U126: 116
...

Sheet Expenses
B2: RENTAL INCOME AND EXPENSES TEMPLATE
B3: EXPENSES
B8: Property Name | C8: Expense Category | D8: Notes | E8: =INDEX(Calc!$AA$7:$AL$7,1,COLUMN(R8)-COLUMN($Q8)) -> 44228 | F8: =INDEX(Calc!$AA$7:$AL$7,1,COLUMN(S8)-COLUMN($Q8)) -> 44256 | G8: =INDEX(Calc!$AA$7:$AL$7,1,COLUMN(T8)-COLUMN($Q8)) -> 44287 | H8: =INDEX(Calc!$AA$7:$AL$7,1,COLUMN(U8)-COLUMN($Q8)) -> 44317 | I8: =INDEX(Calc!$AA$7:$AL$7,1,COLUMN(V8)-COLUMN($Q8)) -> 44348 | J8: =INDEX(Calc!$AA$7:$AL$7,1,COLUMN(W8)-COLUMN($Q8)) -> 44378 | K8: =INDEX(Calc!$AA$7:$AL$7,1,COLUMN(X8)-COLUMN($Q8)) -> 44409 | L8: =INDEX(Calc!$AA$7:$AL$7,1,COLUMN(Y8)-COLUMN($Q8)) -> 44440 | ... P8: =INDEX(Calc!$AA$7:$AL$7,1,COLUMN(AC8)-COLUMN($Q8)) -> 44562
B9: House 1 | C9: Advertising | F9: 250 | U9: 1
B10: House 1 | C10: Cleaning & Maintenance | G10: 350 | U10: 2
B11: House 1 | C11: Commissions | I11: 600 | U11: 3
B12: House 1 | C12: Insurance | K12: 700 | U12: 4
B13: House 1 | C13: Repairs | J13: 1400 | U13: 5
B14: House 1 | C14: Taxes | K14: 450 | U14: 6
B15: House 2 | C15: Advertising | H15: 350 | U15: 7
B16: House 2 | C16: Cleaning & Maintenance | I16: 250 | U16: 8
B17: House 2 | C17: Commissions | G17: 500 | U17: 9
B18: House 2 | C18: Insurance | J18: 600 | U18: 10
B19: House 3 | C19: Advertising | F19: 350 | U19: 11
B20: House 3 | C20: Cleaning & Maintenance | G20: 500 | U20: 12
B21: House 3 | C21: Commissions | I21: 600 | U21: 13
B22: House 3 | C22: Insurance | J22: 500 | U22: 14
B23: House 4 | C23: Cleaning & Maintenance | N23: 700 | U23: 15
U24: 16
U25: 17
U26: 18
U27: 19
U28: 20
B110: Property Name | C110: Expense Category | D110: Notes | E110: =INDEX(Calc!$AA$8:$AL$8,1,COLUMN(R110)-COLUMN($Q110)) -> 44593 | F110: =INDEX(Calc!$AA$8:$AL$8,1,COLUMN(S110)-COLUMN($Q110)) -> 44621 | G110: =INDEX(Calc!$AA$8:$AL$8,1,COLUMN(T110)-COLUMN($Q110)) -> 44652 | H110: =INDEX(Calc!$AA$8:$AL$8,1,COLUMN(U110)-COLUMN($Q110)) -> 44682 | I110: =INDEX(Calc!$AA$8:$AL$8,1,COLUMN(V110)-COLUMN($Q110)) -> 44713 | J110: =INDEX(Calc!$AA$8:$AL$8,1,COLUMN(W110)-COLUMN($Q110)) -> 44743 | K110: =INDEX(Calc!$AA$8:$AL$8,1,COLUMN(X110)-COLUMN($Q110)) -> 44774 | L110: =INDEX(Calc!$AA$8:$AL$8,1,COLUMN(Y110)-COLUMN($Q110)) -> 44805 | ... P110: =INDEX(Calc!$AA$8:$AL$8,1,COLUMN(AC110)-COLUMN($Q110)) -> 44927
B111: House 1 | C111: Cleaning & Maintenance | G111: 300 | U111: 101
B112: House 1 | C112: Insurance | H112: 500 | U112: 102
B113: House 2 | C113: Taxes | J113: 600 | U113: 103
B114: House 2 | C114: Insurance | I114: 400 | U114: 104
B115: House 3 | C115: Advertising | G115: 250 | U115: 105
B116: House 3 | C116: Repairs | J116: 750 | U116: 106
B117: House 3 | C117: Insurance | I117: 400 | U117: 107
B118: House 3 | C118: Commissions | I118: 500 | U118: 108
B119: House 4 | C119: Cleaning & Maintenance | G119: 250 | U119: 109
U120: 110
U121: 111
U122: 112
U123: 113
U124: 114
U125: 115
U126: 116
...

Sheet Dashboard
B2: RENTAL INCOME AND EXPENSES TEMPLATE
B3: DASHBOARD
G6: Property | H6: All
G7: Year | H7: All
G8: Month | H8: All

Sheet Calc
E2: =MAX(COUNTA($E$5:$E$54)-COUNTIF($E$5:$E$54,""),1) -> 8 | H2: =MAX(COUNTA($H$5:$H$24)-COUNTIF($H$5:$H$24,""),1) -> 2 | K2: =MAX(COUNTA($K$5:$K$24)-COUNTIF($K$5:$K$24,""),1) -> 10 | N2: =MAX(COUNTA($N$5:$N$14)-COUNTIF($N$5:$N$14,""),1) -> 3 | Q2: =MAX(COUNTA($Q$5:$Q$12)-COUNTIF($Q$5:$Q$12,""),1) -> 4 | AT2: =$AA$4 -> 2021 | BK2: =$AA$4 -> 2021
B3: Index | D3: Property List | E3: Property List w/o Blanks | G3: Income Category List | H3: Income Category List w/o Blanks | J3: Expense Category List | K3: Expense Category List w/o Blanks | M3: Property Type List | N3: Property Type List w/o Blanks | P3: Payment Type List | Q3: Payment Type List w/o Blanks | S3: Year | T3: Month Code | U3: Month Name | W3: Year List | AA3: Starting Year | AB3: Starting Month Code | AN3: Year Increasing | AO3: Index | AQ3: Status | AR3: =IF(LEN(Income!B$8)>0,Income!B$8,"") -> Property Name | AS3: =IF(LEN(Income!C$8)>0,Income!C$8,"") -> Income Category | AT3: Year | AU3: =INDEX($T$5:$U$16,MATCH(MONTH(AA$7),$T$5:$T$16,0),2) -> February | AV3: =INDEX($T$5:$U$16,MATCH(MONTH(AB$7),$T$5:$T$16,0),2) -> March | AW3: =INDEX($T$5:$U$16,MATCH(MONTH(AC$7),$T$5:$T$16,0),2) -> April | AX3: =INDEX($T$5:$U$16,MATCH(MONTH(AD$7),$T$5:$T$16,0),2) -> May | AY3: =INDEX($T$5:$U$16,MATCH(MONTH(AE$7),$T$5:$T$16,0),2) -> June | AZ3: =INDEX($T$5:$U$16,MATCH(MONTH(AF$7),$T$5:$T$16,0),2) -> July | BA3: =INDEX($T$5:$U$16,MATCH(MONTH(AG$7),$T$5:$T$16,0),2) -> August | BB3: =INDEX($T$5:$U$16,MATCH(MONTH(AH$7),$T$5:$T$16,0),2) -> September | ... BF3: =INDEX($T$5:$U$16,MATCH(MONTH(AL$7),$T$5:$T$16,0),2) -> January | BH3: Status | BI3: =IF(LEN(Income!B$8)>0,Income!B$8,"") -> Property Name | BJ3: =IF(LEN(Income!C$8)>0,Income!C$8,"") -> Income Category | BK3: Year | BL3: =INDEX($T$5:$U$16,MATCH(MONTH(AA$7),$T$5:$T$16,0),2) -> February | BM3: =INDEX($T$5:$U$16,MATCH(MONTH(AB$7),$T$5:$T$16,0),2) -> March | BN3: =INDEX($T$5:$U$16,MATCH(MONTH(AC$7),$T$5:$T$16,0),2) -> April | BO3: =INDEX($T$5:$U$16,MATCH(MONTH(AD$7),$T$5:$T$16,0),2) -> May | BP3: =INDEX($T$5:$U$16,MATCH(MONTH(AE$7),$T$5:$T$16,0),2) -> June | BQ3: =INDEX($T$5:$U$16,MATCH(MONTH(AF$7),$T$5:$T$16,0),2) -> July | BR3: =INDEX($T$5:$U$16,MATCH(MONTH(AG$7),$T$5:$T$16,0),2) -> August | BS3: =INDEX($T$5:$U$16,MATCH(MONTH(AH$7),$T$5:$T$16,0),2) -> September | ... BW3: =INDEX($T$5:$U$16,MATCH(MONTH(AL$7),$T$5:$T$16,0),2) -> January
B4: - | D4: All | E4: =IFERROR(INDEX($D$4:$D$54, MATCH(0,INDEX((LEN($D$4:$D$54)=0)+COUNTIF($E$3:$E3,$D$4:$D$54),0),0)),"") -> All | G4: All | H4: =IFERROR(INDEX($G$4:$G$24, MATCH(0,INDEX((LEN($G$4:$G$24)=0)+COUNTIF($H$3:$H3,$G$4:$G$24),0),0)),"") -> All | J4: All | K4: =IFERROR(INDEX($J$4:$J$24, MATCH(0,INDEX((LEN($J$4:$J$24)=0)+COUNTIF($K$3:$K3,$J$4:$J$24),0),0)),"") -> All | M4: All | N4: =IFERROR(INDEX($M$4:$M$14, MATCH(0,INDEX((LEN($M$4:$M$14)=0)+COUNTIF($N$3:$N3,$M$4:$M$14),0),0)),"") -> All | P4: All | Q4: =IFERROR(INDEX($P$4:$P$12, MATCH(0,INDEX((LEN($P$4:$P$12)=0)+COUNTIF($Q$3:$Q3,$P$4:$P$12),0),0)),"") -> All | S4: All | T4: - | U4: All | W4: 2015 | AA4: =IF(LEN(Menu!$I$18)>0,Menu!$I$18,YEAR(TODAY())) -> 2021 | AB4: =IF(LEN(startingmonth)>0,INDEX($T$5:$U$16,MATCH(startingmonth,$U$5:$U$16,0),1),MONTH(1)) -> 2 | AN4: =IF($AO4<=100,0,IF(AND($AO4>100,$AO4<=200),1,IF(AND($AO4>200,$AO4<=300),2,IF(AND($AO4>300,$AO4<=400),3,IF(AND($AO4>400,$AO4<=500),4,IF(AND($AO4>500,$AO4<=600),5,IF(AND($AO4>600,$AO4<=700),6,IF(AND($AO4>700,$AO4<=800),7,IF(AND($AO4>800,$AO4<=900),8,IF(AND($AO4>900,$AO4<=1000),9)))))))))) -> 0 | AO4: 1 | AQ4: =IF(AND(ISNUMBER(MATCH($AR4,$E$5:$E$54,0)),ISNUMBER(MATCH($AS4,$H$5:$H$24,0))),"Active","Passive") -> Active | AR4: =IFERROR(INDEX(Income!B$9:B$1026,MATCH(Calc!$AO4,Income!$U$9:$U$1026,0),1),0) -> House 1 | AS4: =IFERROR(INDEX(Income!C$9:C$1026,MATCH(Calc!$AO4,Income!$U$9:$U$1026,0),1),0) -> Deposit | AT4: =$AT$2+$AN4 -> 2021 | AU4: =IFERROR(IF($AQ4="Passive","",INDEX(Income!E$9:E$1026,MATCH(Calc!$AO4,Income!$U$9:$U$1026,0),1)),"") -> 1800 | AV4: =IFERROR(IF($AQ4="Passive","",INDEX(Income!F$9:F$1026,MATCH(Calc!$AO4,Income!$U$9:$U$1026,0),1)),"") -> 0 | AW4: =IFERROR(IF($AQ4="Passive","",INDEX(Income!G$9:G$1026,MATCH(Calc!$AO4,Income!$U$9:$U$1026,0),1)),"") -> 0 | AX4: =IFERROR(IF($AQ4="Passive","",INDEX(Income!H$9:H$1026,MATCH(Calc!$AO4,Income!$U$9:$U$1026,0),1)),"") -> 0 | AY4: =IFERROR(IF($AQ4="Passive","",INDEX(Income!I$9:I$1026,MATCH(Calc!$AO4,Income!$U$9:$U$1026,0),1)),"") -> 0 | AZ4: =IFERROR(IF($AQ4="Passive","",INDEX(Income!J$9:J$1026,MATCH(Calc!$AO4,Income!$U$9:$U$1026,0),1)),"") -> 0 | BA4: =IFERROR(IF($AQ4="Passive","",INDEX(Income!K$9:K$1026,MATCH(Calc!$AO4,Income!$U$9:$U$1026,0),1)),"") -> 0 | BB4: =IFERROR(IF($AQ4="Passive","",INDEX(Income!L$9:L$1026,MATCH(Calc!$AO4,Income!$U$9:$U$1026,0),1)),"") -> 0 | ... BF4: =IFERROR(IF($AQ4="Passive","",INDEX(Income!P$9:P$1026,MATCH(Calc!$AO4,Income!$U$9:$U$1026,0),1)),"") -> 0 | BH4: =IF(AND(ISNUMBER(MATCH($BI4,$E$5:$E$54,0)),ISNUMBER(MATCH($BJ4,$K$5:$K$24,0))),"Active","Passive") -> Active | BI4: =IFERROR(INDEX(Expenses!B$9:B$1026,MATCH(Calc!$AO4,Expenses!$U$9:$U$1026,0),1),0) -> House 1 | BJ4: =IFERROR(INDEX(Expenses!C$9:C$1026,MATCH(Calc!$AO4,Expenses!$U$9:$U$1026,0),1),0) -> Advertising | BK4: =$BK$2+$AN4 -> 2021 | BL4: =IFERROR(IF($BH4="Passive","",INDEX(Expenses!E$9:E$1026,MATCH(Calc!$AO4,Expenses!$U$9:$U$1026,0),1)),"") -> 0 | BM4: =IFERROR(IF($BH4="Passive","",INDEX(Expenses!F$9:F$1026,MATCH(Calc!$AO4,Expenses!$U$9:$U$1026,0),1)),"") -> 250 | BN4: =IFERROR(IF($BH4="Passive","",INDEX(Expenses!G$9:G$1026,MATCH(Calc!$AO4,Expenses!$U$9:$U$1026,0),1)),"") -> 0 | BO4: =IFERROR(IF($BH4="Passive","",INDEX(Expenses!H$9:H$1026,MATCH(Calc!$AO4,Expenses!$U$9:$U$1026,0),1)),"") -> 0 | BP4: =IFERROR(IF($BH4="Passive","",INDEX(Expenses!I$9:I$1026,MATCH(Calc!$AO4,Expenses!$U$9:$U$1026,0),1)),"") -> 0 | BQ4: =IFERROR(IF($BH4="Passive","",INDEX(Expenses!J$9:J$1026,MATCH(Calc!$AO4,Expenses!$U$9:$U$1026,0),1)),"") -> 0 | BR4: =IFERROR(IF($BH4="Passive","",INDEX(Expenses!K$9:K$1026,MATCH(Calc!$AO4,Expenses!$U$9:$U$1026,0),1)),"") -> 0 | BS4: =IFERROR(IF($BH4="Passive","",INDEX(Expenses!L$9:L$1026,MATCH(Calc!$AO4,Expenses!$U$9:$U$1026,0),1)),"") -> 0 | ... BW4: =IFERROR(IF($BH4="Passive","",INDEX(Expenses!P$9:P$1026,MATCH(Calc!$AO4,Expenses!$U$9:$U$1026,0),1)),"") -> 0
B5: 1 | D5: =IFERROR(IF(INDEX(PropertyDatabase!$B$6:$B$55,$B5,1)=0,"",INDEX(PropertyDatabase!$B$6:$B$55,$B5,1)),"") -> House 1 | E5: =IFERROR(INDEX($D$4:$D$54, MATCH(0,INDEX((LEN($D$4:$D$54)=0)+COUNTIF($E$3:$E4,$D$4:$D$54),0),0)),"") -> House 1 | G5: =IFERROR(IF(INDEX(Menu!$C$18:$C$37,$B5,1)=0,"",INDEX(Menu!$C$18:$C$37,$B5,1)),"") -> Deposit | H5: =IFERROR(INDEX($G$4:$G$24, MATCH(0,INDEX((LEN($G$4:$G$24)=0)+COUNTIF($H$3:$H4,$G$4:$G$24),0),0)),"") -> Deposit | J5: =IFERROR(IF(INDEX(Menu!$E$18:$E$37,$B5,1)=0,"",INDEX(Menu!$E$18:$E$37,$B5,1)),"") -> Advertising | K5: =IFERROR(INDEX($J$4:$J$24, MATCH(0,INDEX((LEN($J$4:$J$24)=0)+COUNTIF($K$3:$K4,$J$4:$J$24),0),0)),"") -> Advertising | M5: =IFERROR(IF(INDEX(Menu!$G$18:$G$27,$B5,1)=0,"",INDEX(Menu!$G$18:$G$27,$B5,1)),"") -> Tiny Home | N5: =IFERROR(INDEX($M$4:$M$14, MATCH(0,INDEX((LEN($M$4:$M$14)=0)+COUNTIF($N$3:$N4,$M$4:$M$14),0),0)),"") -> Tiny Home | P5: =IFERROR(IF(INDEX(Menu!$G$30:$G$37,$B5,1)=0,"",INDEX(Menu!$G$30:$G$37,$B5,1)),"") -> Monthly | Q5: =IFERROR(INDEX($P$4:$P$12, MATCH(0,INDEX((LEN($P$4:$P$12)=0)+COUNTIF($Q$3:$Q4,$P$4:$P$12),0),0)),"") -> Monthly | S5: =$Y7 -> 2021 | T5: 1 | U5: January | W5: 2016 | AN5: =IF($AO5<=100,0,IF(AND($AO5>100,$AO5<=200),1,IF(AND($AO5>200,$AO5<=300),2,IF(AND($AO5>300,$AO5<=400),3,IF(AND($AO5>400,$AO5<=500),4,IF(AND($AO5>500,$AO5<=600),5,IF(AND($AO5>600,$AO5<=700),6,IF(AND($AO5>700,$AO5<=800),7,IF(AND($AO5>800,$AO5<=900),8,IF(AND($AO5>900,$AO5<=1000),9)))))))))) -> 0 | AO5: 2 | AQ5: =IF(AND(ISNUMBER(MATCH($AR5,$E$5:$E$54,0)),ISNUMBER(MATCH($AS5,$H$5:$H$24,0))),"Active","Passive") -> Active | AR5: =IFERROR(INDEX(Income!B$9:B$1026,MATCH(Calc!$AO5,Income!$U$9:$U$1026,0),1),0) -> House 1 | AS5: =IFERROR(INDEX(Income!C$9:C$1026,MATCH(Calc!$AO5,Income!$U$9:$U$1026,0),1),0) -> Rent | AT5: =$AT$2+$AN5 -> 2021 | AU5: =IFERROR(IF($AQ5="Passive","",INDEX(Income!E$9:E$1026,MATCH(Calc!$AO5,Income!$U$9:$U$1026,0),1)),"") -> 900 | AV5: =IFERROR(IF($AQ5="Passive","",INDEX(Income!F$9:F$1026,MATCH(Calc!$AO5,Income!$U$9:$U$1026,0),1)),"") -> 900 | AW5: =IFERROR(IF($AQ5="Passive","",INDEX(Income!G$9:G$1026,MATCH(Calc!$AO5,Income!$U$9:$U$1026,0),1)),"") -> 900 | AX5: =IFERROR(IF($AQ5="Passive","",INDEX(Income!H$9:H$1026,MATCH(Calc!$AO5,Income!$U$9:$U$1026,0),1)),"") -> 900 | AY5: =IFERROR(IF($AQ5="Passive","",INDEX(Income!I$9:I$1026,MATCH(Calc!$AO5,Income!$U$9:$U$1026,0),1)),"") -> 900 | AZ5: =IFERROR(IF($AQ5="Passive","",INDEX(Income!J$9:J$1026,MATCH(Calc!$AO5,Income!$U$9:$U$1026,0),1)),"") -> 900 | BA5: =IFERROR(IF($AQ5="Passive","",INDEX(Income!K$9:K$1026,MATCH(Calc!$AO5,Income!$U$9:$U$1026,0),1)),"") -> 900 | BB5: =IFERROR(IF($AQ5="Passive","",INDEX(Income!L$9:L$1026,MATCH(Calc!$AO5,Income!$U$9:$U$1026,0),1)),"") -> 900 | ... BF5: =IFERROR(IF($AQ5="Passive","",INDEX(Income!P$9:P$1026,MATCH(Calc!$AO5,Income!$U$9:$U$1026,0),1)),"") -> 900 | BH5: =IF(AND(ISNUMBER(MATCH($BI5,$E$5:$E$54,0)),ISNUMBER(MATCH($BJ5,$K$5:$K$24,0))),"Active","Passive") -> Active | BI5: =IFERROR(INDEX(Expenses!B$9:B$1026,MATCH(Calc!$AO5,Expenses!$U$9:$U$1026,0),1),0) -> House 1 | BJ5: =IFERROR(INDEX(Expenses!C$9:C$1026,MATCH(Calc!$AO5,Expenses!$U$9:$U$1026,0),1),0) -> Cleaning & Maintenance | BK5: =$BK$2+$AN5 -> 2021 | BL5: =IFERROR(IF($BH5="Passive","",INDEX(Expenses!E$9:E$1026,MATCH(Calc!$AO5,Expenses!$U$9:$U$1026,0),1)),"") -> 0 | BM5: =IFERROR(IF($BH5="Passive","",INDEX(Expenses!F$9:F$1026,MATCH(Calc!$AO5,Expenses!$U$9:$U$1026,0),1)),"") -> 0 | BN5: =IFERROR(IF($BH5="Passive","",INDEX(Expenses!G$9:G$1026,MATCH(Calc!$AO5,Expenses!$U$9:$U$1026,0),1)),"") -> 350 | BO5: =IFERROR(IF($BH5="Passive","",INDEX(Expenses!H$9:H$1026,MATCH(Calc!$AO5,Expenses!$U$9:$U$1026,0),1)),"") -> 0 | BP5: =IFERROR(IF($BH5="Passive","",INDEX(Expenses!I$9:I$1026,MATCH(Calc!$AO5,Expenses!$U$9:$U$1026,0),1)),"") -> 0 | BQ5: =IFERROR(IF($BH5="Passive","",INDEX(Expenses!J$9:J$1026,MATCH(Calc!$AO5,Expenses!$U$9:$U$1026,0),1)),"") -> 0 | BR5: =IFERROR(IF($BH5="Passive","",INDEX(Expenses!K$9:K$1026,MATCH(Calc!$AO5,Expenses!$U$9:$U$1026,0),1)),"") -> 0 | BS5: =IFERROR(IF($BH5="Passive","",INDEX(Expenses!L$9:L$1026,MATCH(Calc!$AO5,Expenses!$U$9:$U$1026,0),1)),"") -> 0 | ... BW5: =IFERROR(IF($BH5="Passive","",INDEX(Expenses!P$9:P$1026,MATCH(Calc!$AO5,Expenses!$U$9:$U$1026,0),1)),"") -> 0
B6: 2 | D6: =IFERROR(IF(INDEX(PropertyDatabase!$B$6:$B$55,$B6,1)=0,"",INDEX(PropertyDatabase!$B$6:$B$55,$B6,1)),"") -> House 2 | E6: =IFERROR(INDEX($D$4:$D$54, MATCH(0,INDEX((LEN($D$4:$D$54)=0)+COUNTIF($E$3:$E5,$D$4:$D$54),0),0)),"") -> House 2 | G6: =IFERROR(IF(INDEX(Menu!$C$18:$C$37,$B6,1)=0,"",INDEX(Menu!$C$18:$C$37,$B6,1)),"") -> Rent | H6: =IFERROR(INDEX($G$4:$G$24, MATCH(0,INDEX((LEN($G$4:$G$24)=0)+COUNTIF($H$3:$H5,$G$4:$G$24),0),0)),"") -> Rent | J6: =IFERROR(IF(INDEX(Menu!$E$18:$E$37,$B6,1)=0,"",INDEX(Menu!$E$18:$E$37,$B6,1)),"") -> Cleaning & Maintenance | K6: =IFERROR(INDEX($J$4:$J$24, MATCH(0,INDEX((LEN($J$4:$J$24)=0)+COUNTIF($K$3:$K5,$J$4:$J$24),0),0)),"") -> Cleaning & Maintenance | M6: =IFERROR(IF(INDEX(Menu!$G$18:$G$27,$B6,1)=0,"",INDEX(Menu!$G$18:$G$27,$B6,1)),"") -> Apartment | N6: =IFERROR(INDEX($M$4:$M$14, MATCH(0,INDEX((LEN($M$4:$M$14)=0)+COUNTIF($N$3:$N5,$M$4:$M$14),0),0)),"") -> Apartment | P6: =IFERROR(IF(INDEX(Menu!$G$30:$G$37,$B6,1)=0,"",INDEX(Menu!$G$30:$G$37,$B6,1)),"") -> Quarterly | Q6: =IFERROR(INDEX($P$4:$P$12, MATCH(0,INDEX((LEN($P$4:$P$12)=0)+COUNTIF($Q$3:$Q5,$P$4:$P$12),0),0)),"") -> Quarterly | S6: =$Y8 -> 2022 | T6: 2 | U6: February | W6: 2017 | AA6: 0 | AB6: 1 | AC6: 2 | AD6: 3 | AE6: 4 | AF6: 5 | AG6: 6 | AH6: 7 | AI6: 8 | AJ6: 9 | AK6: 10 | AL6: 11 | AN6: =IF($AO6<=100,0,IF(AND($AO6>100,$AO6<=200),1,IF(AND($AO6>200,$AO6<=300),2,IF(AND($AO6>300,$AO6<=400),3,IF(AND($AO6>400,$AO6<=500),4,IF(AND($AO6>500,$AO6<=600),5,IF(AND($AO6>600,$AO6<=700),6,IF(AND($AO6>700,$AO6<=800),7,IF(AND($AO6>800,$AO6<=900),8,IF(AND($AO6>900,$AO6<=1000),9)))))))))) -> 0 | AO6: 3 | AQ6: =IF(AND(ISNUMBER(MATCH($AR6,$E$5:$E$54,0)),ISNUMBER(MATCH($AS6,$H$5:$H$24,0))),"Active","Passive") -> Active | AR6: =IFERROR(INDEX(Income!B$9:B$1026,MATCH(Calc!$AO6,Income!$U$9:$U$1026,0),1),0) -> House 2 | AS6: =IFERROR(INDEX(Income!C$9:C$1026,MATCH(Calc!$AO6,Income!$U$9:$U$1026,0),1),0) -> Deposit | AT6: =$AT$2+$AN6 -> 2021 | AU6: =IFERROR(IF($AQ6="Passive","",INDEX(Income!E$9:E$1026,MATCH(Calc!$AO6,Income!$U$9:$U$1026,0),1)),"") -> 2500 | AV6: =IFERROR(IF($AQ6="Passive","",INDEX(Income!F$9:F$1026,MATCH(Calc!$AO6,Income!$U$9:$U$1026,0),1)),"") -> 0 | AW6: =IFERROR(IF($AQ6="Passive","",INDEX(Income!G$9:G$1026,MATCH(Calc!$AO6,Income!$U$9:$U$1026,0),1)),"") -> 0 | AX6: =IFERROR(IF($AQ6="Passive","",INDEX(Income!H$9:H$1026,MATCH(Calc!$AO6,Income!$U$9:$U$1026,0),1)),"") -> 0 | AY6: =IFERROR(IF($AQ6="Passive","",INDEX(Income!I$9:I$1026,MATCH(Calc!$AO6,Income!$U$9:$U$1026,0),1)),"") -> 0 | AZ6: =IFERROR(IF($AQ6="Passive","",INDEX(Income!J$9:J$1026,MATCH(Calc!$AO6,Income!$U$9:$U$1026,0),1)),"") -> 0 | BA6: =IFERROR(IF($AQ6="Passive","",INDEX(Income!K$9:K$1026,MATCH(Calc!$AO6,Income!$U$9:$U$1026,0),1)),"") -> 0 | BB6: =IFERROR(IF($AQ6="Passive","",INDEX(Income!L$9:L$1026,MATCH(Calc!$AO6,Income!$U$9:$U$1026,0),1)),"") -> 0 | ... BF6: =IFERROR(IF($AQ6="Passive","",INDEX(Income!P$9:P$1026,MATCH(Calc!$AO6,Income!$U$9:$U$1026,0),1)),"") -> 0 | BH6: =IF(AND(ISNUMBER(MATCH($BI6,$E$5:$E$54,0)),ISNUMBER(MATCH($BJ6,$K$5:$K$24,0))),"Active","Passive") -> Active | BI6: =IFERROR(INDEX(Expenses!B$9:B$1026,MATCH(Calc!$AO6,Expenses!$U$9:$U$1026,0),1),0) -> House 1 | BJ6: =IFERROR(INDEX(Expenses!C$9:C$1026,MATCH(Calc!$AO6,Expenses!$U$9:$U$1026,0),1),0) -> Commissions | BK6: =$BK$2+$AN6 -> 2021 | BL6: =IFERROR(IF($BH6="Passive","",INDEX(Expenses!E$9:E$1026,MATCH(Calc!$AO6,Expenses!$U$9:$U$1026,0),1)),"") -> 0 | BM6: =IFERROR(IF($BH6="Passive","",INDEX(Expenses!F$9:F$1026,MATCH(Calc!$AO6,Expenses!$U$9:$U$1026,0),1)),"") -> 0 | BN6: =IFERROR(IF($BH6="Passive","",INDEX(Expenses!G$9:G$1026,MATCH(Calc!$AO6,Expenses!$U$9:$U$1026,0),1)),"") -> 0 | BO6: =IFERROR(IF($BH6="Passive","",INDEX(Expenses!H$9:H$1026,MATCH(Calc!$AO6,Expenses!$U$9:$U$1026,0),1)),"") -> 0 | BP6: =IFERROR(IF($BH6="Passive","",INDEX(Expenses!I$9:I$1026,MATCH(Calc!$AO6,Expenses!$U$9:$U$1026,0),1)),"") -> 600 | BQ6: =IFERROR(IF($BH6="Passive","",INDEX(Expenses!J$9:J$1026,MATCH(Calc!$AO6,Expenses!$U$9:$U$1026,0),1)),"") -> 0 | BR6: =IFERROR(IF($BH6="Passive","",INDEX(Expenses!K$9:K$1026,MATCH(Calc!$AO6,Expenses!$U$9:$U$1026,0),1)),"") -> 0 | BS6: =IFERROR(IF($BH6="Passive","",INDEX(Expenses!L$9:L$1026,MATCH(Calc!$AO6,Expenses!$U$9:$U$1026,0),1)),"") -> 0 | ... BW6: =IFERROR(IF($BH6="Passive","",INDEX(Expenses!P$9:P$1026,MATCH(Calc!$AO6,Expenses!$U$9:$U$1026,0),1)),"") -> 0
B7: 3 | D7: =IFERROR(IF(INDEX(PropertyDatabase!$B$6:$B$55,$B7,1)=0,"",INDEX(PropertyDatabase!$B$6:$B$55,$B7,1)),"") -> House 3 | E7: =IFERROR(INDEX($D$4:$D$54, MATCH(0,INDEX((LEN($D$4:$D$54)=0)+COUNTIF($E$3:$E6,$D$4:$D$54),0),0)),"") -> House 3 | G7: =IFERROR(IF(INDEX(Menu!$C$18:$C$37,$B7,1)=0,"",INDEX(Menu!$C$18:$C$37,$B7,1)),"") | H7: =IFERROR(INDEX($G$4:$G$24, MATCH(0,INDEX((LEN($G$4:$G$24)=0)+COUNTIF($H$3:$H6,$G$4:$G$24),0),0)),"") | J7: =IFERROR(IF(INDEX(Menu!$E$18:$E$37,$B7,1)=0,"",INDEX(Menu!$E$18:$E$37,$B7,1)),"") -> Commissions | K7: =IFERROR(INDEX($J$4:$J$24, MATCH(0,INDEX((LEN($J$4:$J$24)=0)+COUNTIF($K$3:$K6,$J$4:$J$24),0),0)),"") -> Commissions | M7: =IFERROR(IF(INDEX(Menu!$G$18:$G$27,$B7,1)=0,"",INDEX(Menu!$G$18:$G$27,$B7,1)),"") -> Townhome | N7: =IFERROR(INDEX($M$4:$M$14, MATCH(0,INDEX((LEN($M$4:$M$14)=0)+COUNTIF($N$3:$N6,$M$4:$M$14),0),0)),"") -> Townhome | P7: =IFERROR(IF(INDEX(Menu!$G$30:$G$37,$B7,1)=0,"",INDEX(Menu!$G$30:$G$37,$B7,1)),"") -> 6 Month | Q7: =IFERROR(INDEX($P$4:$P$12, MATCH(0,INDEX((LEN($P$4:$P$12)=0)+COUNTIF($Q$3:$Q6,$P$4:$P$12),0),0)),"") -> 6 Month | S7: =$Y9 -> 2023 | T7: 3 | U7: March | W7: 2018 | Y7: =YEAR($AA7) -> 2021 | Z7: 0 | AA7: =DATE($AA$4+$Z7,MOD($AB$4,12)+AA$6,1) -> 44228 | AB7: =DATE($AA$4+$Z7,MOD($AB$4,12)+AB$6,1) -> 44256 | AC7: =DATE($AA$4+$Z7,MOD($AB$4,12)+AC$6,1) -> 44287 | AD7: =DATE($AA$4+$Z7,MOD($AB$4,12)+AD$6,1) -> 44317 | AE7: =DATE($AA$4+$Z7,MOD($AB$4,12)+AE$6,1) -> 44348 | AF7: =DATE($AA$4+$Z7,MOD($AB$4,12)+AF$6,1) -> 44378 | AG7: =DATE($AA$4+$Z7,MOD($AB$4,12)+AG$6,1) -> 44409 | AH7: =DATE($AA$4+$Z7,MOD($AB$4,12)+AH$6,1) -> 44440 | ... AL7: =DATE($AA$4+$Z7,MOD($AB$4,12)+AL$6,1) -> 44562 | AN7: =IF($AO7<=100,0,IF(AND($AO7>100,$AO7<=200),1,IF(AND($AO7>200,$AO7<=300),2,IF(AND($AO7>300,$AO7<=400),3,IF(AND($AO7>400,$AO7<=500),4,IF(AND($AO7>500,$AO7<=600),5,IF(AND($AO7>600,$AO7<=700),6,IF(AND($AO7>700,$AO7<=800),7,IF(AND($AO7>800,$AO7<=900),8,IF(AND($AO7>900,$AO7<=1000),9)))))))))) -> 0 | AO7: 4 | AQ7: =IF(AND(ISNUMBER(MATCH($AR7,$E$5:$E$54,0)),ISNUMBER(MATCH($AS7,$H$5:$H$24,0))),"Active","Passive") -> Active | AR7: =IFERROR(INDEX(Income!B$9:B$1026,MATCH(Calc!$AO7,Income!$U$9:$U$1026,0),1),0) -> House 2 | AS7: =IFERROR(INDEX(Income!C$9:C$1026,MATCH(Calc!$AO7,Income!$U$9:$U$1026,0),1),0) -> Rent | AT7: =$AT$2+$AN7 -> 2021 | AU7: =IFERROR(IF($AQ7="Passive","",INDEX(Income!E$9:E$1026,MATCH(Calc!$AO7,Income!$U$9:$U$1026,0),1)),"") -> 1250 | AV7: =IFERROR(IF($AQ7="Passive","",INDEX(Income!F$9:F$1026,MATCH(Calc!$AO7,Income!$U$9:$U$1026,0),1)),"") -> 1250 | AW7: =IFERROR(IF($AQ7="Passive","",INDEX(Income!G$9:G$1026,MATCH(Calc!$AO7,Income!$U$9:$U$1026,0),1)),"") -> 1250 | AX7: =IFERROR(IF($AQ7="Passive","",INDEX(Income!H$9:H$1026,MATCH(Calc!$AO7,Income!$U$9:$U$1026,0),1)),"") -> 1250 | AY7: =IFERROR(IF($AQ7="Passive","",INDEX(Income!I$9:I$1026,MATCH(Calc!$AO7,Income!$U$9:$U$1026,0),1)),"") -> 1250 | AZ7: =IFERROR(IF($AQ7="Passive","",INDEX(Income!J$9:J$1026,MATCH(Calc!$AO7,Income!$U$9:$U$1026,0),1)),"") -> 1250 | BA7: =IFERROR(IF($AQ7="Passive","",INDEX(Income!K$9:K$1026,MATCH(Calc!$AO7,Income!$U$9:$U$1026,0),1)),"") -> 1250 | BB7: =IFERROR(IF($AQ7="Passive","",INDEX(Income!L$9:L$1026,MATCH(Calc!$AO7,Income!$U$9:$U$1026,0),1)),"") -> 1250 | ... BF7: =IFERROR(IF($AQ7="Passive","",INDEX(Income!P$9:P$1026,MATCH(Calc!$AO7,Income!$U$9:$U$1026,0),1)),"") -> 1250 | BH7: =IF(AND(ISNUMBER(MATCH($BI7,$E$5:$E$54,0)),ISNUMBER(MATCH($BJ7,$K$5:$K$24,0))),"Active","Passive") -> Active | BI7: =IFERROR(INDEX(Expenses!B$9:B$1026,MATCH(Calc!$AO7,Expenses!$U$9:$U$1026,0),1),0) -> House 1 | BJ7: =IFERROR(INDEX(Expenses!C$9:C$1026,MATCH(Calc!$AO7,Expenses!$U$9:$U$1026,0),1),0) -> Insurance | BK7: =$BK$2+$AN7 -> 2021 | BL7: =IFERROR(IF($BH7="Passive","",INDEX(Expenses!E$9:E$1026,MATCH(Calc!$AO7,Expenses!$U$9:$U$1026,0),1)),"") -> 0 | BM7: =IFERROR(IF($BH7="Passive","",INDEX(Expenses!F$9:F$1026,MATCH(Calc!$AO7,Expenses!$U$9:$U$1026,0),1)),"") -> 0 | BN7: =IFERROR(IF($BH7="Passive","",INDEX(Expenses!G$9:G$1026,MATCH(Calc!$AO7,Expenses!$U$9:$U$1026,0),1)),"") -> 0 | BO7: =IFERROR(IF($BH7="Passive","",INDEX(Expenses!H$9:H$1026,MATCH(Calc!$AO7,Expenses!$U$9:$U$1026,0),1)),"") -> 0 | BP7: =IFERROR(IF($BH7="Passive","",INDEX(Expenses!I$9:I$1026,MATCH(Calc!$AO7,Expenses!$U$9:$U$1026,0),1)),"") -> 0 | BQ7: =IFERROR(IF($BH7="Passive","",INDEX(Expenses!J$9:J$1026,MATCH(Calc!$AO7,Expenses!$U$9:$U$1026,0),1)),"") -> 0 | BR7: =IFERROR(IF($BH7="Passive","",INDEX(Expenses!K$9:K$1026,MATCH(Calc!$AO7,Expenses!$U$9:$U$1026,0),1)),"") -> 700 | BS7: =IFERROR(IF($BH7="Passive","",INDEX(Expenses!L$9:L$1026,MATCH(Calc!$AO7,Expenses!$U$9:$U$1026,0),1)),"") -> 0 | ... BW7: =IFERROR(IF($BH7="Passive","",INDEX(Expenses!P$9:P$1026,MATCH(Calc!$AO7,Expenses!$U$9:$U$1026,0),1)),"") -> 0
B8: 4 | D8: =IFERROR(IF(INDEX(PropertyDatabase!$B$6:$B$55,$B8,1)=0,"",INDEX(PropertyDatabase!$B$6:$B$55,$B8,1)),"") -> House 4 | E8: =IFERROR(INDEX($D$4:$D$54, MATCH(0,INDEX((LEN($D$4:$D$54)=0)+COUNTIF($E$3:$E7,$D$4:$D$54),0),0)),"") -> House 4 | G8: =IFERROR(IF(INDEX(Menu!$C$18:$C$37,$B8,1)=0,"",INDEX(Menu!$C$18:$C$37,$B8,1)),"") | H8: =IFERROR(INDEX($G$4:$G$24, MATCH(0,INDEX((LEN($G$4:$G$24)=0)+COUNTIF($H$3:$H7,$G$4:$G$24),0),0)),"") | J8: =IFERROR(IF(INDEX(Menu!$E$18:$E$37,$B8,1)=0,"",INDEX(Menu!$E$18:$E$37,$B8,1)),"") -> Insurance | K8: =IFERROR(INDEX($J$4:$J$24, MATCH(0,INDEX((LEN($J$4:$J$24)=0)+COUNTIF($K$3:$K7,$J$4:$J$24),0),0)),"") -> Insurance | M8: =IFERROR(IF(INDEX(Menu!$G$18:$G$27,$B8,1)=0,"",INDEX(Menu!$G$18:$G$27,$B8,1)),"") | N8: =IFERROR(INDEX($M$4:$M$14, MATCH(0,INDEX((LEN($M$4:$M$14)=0)+COUNTIF($N$3:$N7,$M$4:$M$14),0),0)),"") | P8: =IFERROR(IF(INDEX(Menu!$G$30:$G$37,$B8,1)=0,"",INDEX(Menu!$G$30:$G$37,$B8,1)),"") -> Yearly | Q8: =IFERROR(INDEX($P$4:$P$12, MATCH(0,INDEX((LEN($P$4:$P$12)=0)+COUNTIF($Q$3:$Q7,$P$4:$P$12),0),0)),"") -> Yearly | S8: =$Y10 -> 2024 | T8: 4 | U8: April | W8: 2019 | Y8: =YEAR($AA8) -> 2022 | Z8: 1 | AA8: =DATE($AA$4+$Z8,MOD($AB$4,12)+AA$6,1) -> 44593 | AB8: =DATE($AA$4+$Z8,MOD($AB$4,12)+AB$6,1) -> 44621 | AC8: =DATE($AA$4+$Z8,MOD($AB$4,12)+AC$6,1) -> 44652 | AD8: =DATE($AA$4+$Z8,MOD($AB$4,12)+AD$6,1) -> 44682 | AE8: =DATE($AA$4+$Z8,MOD($AB$4,12)+AE$6,1) -> 44713 | AF8: =DATE($AA$4+$Z8,MOD($AB$4,12)+AF$6,1) -> 44743 | AG8: =DATE($AA$4+$Z8,MOD($AB$4,12)+AG$6,1) -> 44774 | AH8: =DATE($AA$4+$Z8,MOD($AB$4,12)+AH$6,1) -> 44805 | ... AL8: =DATE($AA$4+$Z8,MOD($AB$4,12)+AL$6,1) -> 44927 | AN8: =IF($AO8<=100,0,IF(AND($AO8>100,$AO8<=200),1,IF(AND($AO8>200,$AO8<=300),2,IF(AND($AO8>300,$AO8<=400),3,IF(AND($AO8>400,$AO8<=500),4,IF(AND($AO8>500,$AO8<=600),5,IF(AND($AO8>600,$AO8<=700),6,IF(AND($AO8>700,$AO8<=800),7,IF(AND($AO8>800,$AO8<=900),8,IF(AND($AO8>900,$AO8<=1000),9)))))))))) -> 0 | AO8: 5 | AQ8: =IF(AND(ISNUMBER(MATCH($AR8,$E$5:$E$54,0)),ISNUMBER(MATCH($AS8,$H$5:$H$24,0))),"Active","Passive") -> Active | AR8: =IFERROR(INDEX(Income!B$9:B$1026,MATCH(Calc!$AO8,Income!$U$9:$U$1026,0),1),0) -> House 3 | AS8: =IFERROR(INDEX(Income!C$9:C$1026,MATCH(Calc!$AO8,Income!$U$9:$U$1026,0),1),0) -> Deposit | AT8: =$AT$2+$AN8 -> 2021 | AU8: =IFERROR(IF($AQ8="Passive","",INDEX(Income!E$9:E$1026,MATCH(Calc!$AO8,Income!$U$9:$U$1026,0),1)),"") -> 3200 | AV8: =IFERROR(IF($AQ8="Passive","",INDEX(Income!F$9:F$1026,MATCH(Calc!$AO8,Income!$U$9:$U$1026,0),1)),"") -> 0 | AW8: =IFERROR(IF($AQ8="Passive","",INDEX(Income!G$9:G$1026,MATCH(Calc!$AO8,Income!$U$9:$U$1026,0),1)),"") -> 0 | AX8: =IFERROR(IF($AQ8="Passive","",INDEX(Income!H$9:H$1026,MATCH(Calc!$AO8,Income!$U$9:$U$1026,0),1)),"") -> 0 | AY8: =IFERROR(IF($AQ8="Passive","",INDEX(Income!I$9:I$1026,MATCH(Calc!$AO8,Income!$U$9:$U$1026,0),1)),"") -> 0 | AZ8: =IFERROR(IF($AQ8="Passive","",INDEX(Income!J$9:J$1026,MATCH(Calc!$AO8,Income!$U$9:$U$1026,0),1)),"") -> 0 | BA8: =IFERROR(IF($AQ8="Passive","",INDEX(Income!K$9:K$1026,MATCH(Calc!$AO8,Income!$U$9:$U$1026,0),1)),"") -> 0 | BB8: =IFERROR(IF($AQ8="Passive","",INDEX(Income!L$9:L$1026,MATCH(Calc!$AO8,Income!$U$9:$U$1026,0),1)),"") -> 0 | ... BF8: =IFERROR(IF($AQ8="Passive","",INDEX(Income!P$9:P$1026,MATCH(Calc!$AO8,Income!$U$9:$U$1026,0),1)),"") -> 0 | BH8: =IF(AND(ISNUMBER(MATCH($BI8,$E$5:$E$54,0)),ISNUMBER(MATCH($BJ8,$K$5:$K$24,0))),"Active","Passive") -> Active | BI8: =IFERROR(INDEX(Expenses!B$9:B$1026,MATCH(Calc!$AO8,Expenses!$U$9:$U$1026,0),1),0) -> House 1 | BJ8: =IFERROR(INDEX(Expenses!C$9:C$1026,MATCH(Calc!$AO8,Expenses!$U$9:$U$1026,0),1),0) -> Repairs | BK8: =$BK$2+$AN8 -> 2021 | BL8: =IFERROR(IF($BH8="Passive","",INDEX(Expenses!E$9:E$1026,MATCH(Calc!$AO8,Expenses!$U$9:$U$1026,0),1)),"") -> 0 | BM8: =IFERROR(IF($BH8="Passive","",INDEX(Expenses!F$9:F$1026,MATCH(Calc!$AO8,Expenses!$U$9:$U$1026,0),1)),"") -> 0 | BN8: =IFERROR(IF($BH8="Passive","",INDEX(Expenses!G$9:G$1026,MATCH(Calc!$AO8,Expenses!$U$9:$U$1026,0),1)),"") -> 0 | BO8: =IFERROR(IF($BH8="Passive","",INDEX(Expenses!H$9:H$1026,MATCH(Calc!$AO8,Expenses!$U$9:$U$1026,0),1)),"") -> 0 | BP8: =IFERROR(IF($BH8="Passive","",INDEX(Expenses!I$9:I$1026,MATCH(Calc!$AO8,Expenses!$U$9:$U$1026,0),1)),"") -> 0 | BQ8: =IFERROR(IF($BH8="Passive","",INDEX(Expenses!J$9:J$1026,MATCH(Calc!$AO8,Expenses!$U$9:$U$1026,0),1)),"") -> 1400 | BR8: =IFERROR(IF($BH8="Passive","",INDEX(Expenses!K$9:K$1026,MATCH(Calc!$AO8,Expenses!$U$9:$U$1026,0),1)),"") -> 0 | BS8: =IFERROR(IF($BH8="Passive","",INDEX(Expenses!L$9:L$1026,MATCH(Calc!$AO8,Expenses!$U$9:$U$1026,0),1)),"") -> 0 | ... BW8: =IFERROR(IF($BH8="Passive","",INDEX(Expenses!P$9:P$1026,MATCH(Calc!$AO8,Expenses!$U$9:$U$1026,0),1)),"") -> 0
B9: 5 | D9: =IFERROR(IF(INDEX(PropertyDatabase!$B$6:$B$55,$B9,1)=0,"",INDEX(PropertyDatabase!$B$6:$B$55,$B9,1)),"") -> House 5 | E9: =IFERROR(INDEX($D$4:$D$54, MATCH(0,INDEX((LEN($D$4:$D$54)=0)+COUNTIF($E$3:$E8,$D$4:$D$54),0),0)),"") -> House 5 | G9: =IFERROR(IF(INDEX(Menu!$C$18:$C$37,$B9,1)=0,"",INDEX(Menu!$C$18:$C$37,$B9,1)),"") | H9: =IFERROR(INDEX($G$4:$G$24, MATCH(0,INDEX((LEN($G$4:$G$24)=0)+COUNTIF($H$3:$H8,$G$4:$G$24),0),0)),"") | J9: =IFERROR(IF(INDEX(Menu!$E$18:$E$37,$B9,1)=0,"",INDEX(Menu!$E$18:$E$37,$B9,1)),"") -> Management Fees | K9: =IFERROR(INDEX($J$4:$J$24, MATCH(0,INDEX((LEN($J$4:$J$24)=0)+COUNTIF($K$3:$K8,$J$4:$J$24),0),0)),"") -> Management Fees | M9: =IFERROR(IF(INDEX(Menu!$G$18:$G$27,$B9,1)=0,"",INDEX(Menu!$G$18:$G$27,$B9,1)),"") | N9: =IFERROR(INDEX($M$4:$M$14, MATCH(0,INDEX((LEN($M$4:$M$14)=0)+COUNTIF($N$3:$N8,$M$4:$M$14),0),0)),"") | P9: =IFERROR(IF(INDEX(Menu!$G$30:$G$37,$B9,1)=0,"",INDEX(Menu!$G$30:$G$37,$B9,1)),"") | Q9: =IFERROR(INDEX($P$4:$P$12, MATCH(0,INDEX((LEN($P$4:$P$12)=0)+COUNTIF($Q$3:$Q8,$P$4:$P$12),0),0)),"") | S9: =$Y11 -> 2025 | T9: 5 | U9: May | W9: 2020 | Y9: =YEAR($AA9) -> 2023 | Z9: 2 | AA9: =DATE($AA$4+$Z9,MOD($AB$4,12)+AA$6,1) -> 44958 | AB9: =DATE($AA$4+$Z9,MOD($AB$4,12)+AB$6,1) -> 44986 | AC9: =DATE($AA$4+$Z9,MOD($AB$4,12)+AC$6,1) -> 45017 | AD9: =DATE($AA$4+$Z9,MOD($AB$4,12)+AD$6,1) -> 45047 | AE9: =DATE($AA$4+$Z9,MOD($AB$4,12)+AE$6,1) -> 45078 | AF9: =DATE($AA$4+$Z9,MOD($AB$4,12)+AF$6,1) -> 45108 | AG9: =DATE($AA$4+$Z9,MOD($AB$4,12)+AG$6,1) -> 45139 | AH9: =DATE($AA$4+$Z9,MOD($AB$4,12)+AH$6,1) -> 45170 | ... AL9: =DATE($AA$4+$Z9,MOD($AB$4,12)+AL$6,1) -> 45292 | AN9: =IF($AO9<=100,0,IF(AND($AO9>100,$AO9<=200),1,IF(AND($AO9>200,$AO9<=300),2,IF(AND($AO9>300,$AO9<=400),3,IF(AND($AO9>400,$AO9<=500),4,IF(AND($AO9>500,$AO9<=600),5,IF(AND($AO9>600,$AO9<=700),6,IF(AND($AO9>700,$AO9<=800),7,IF(AND($AO9>800,$AO9<=900),8,IF(AND($AO9>900,$AO9<=1000),9)))))))))) -> 0 | AO9: 6 | AQ9: =IF(AND(ISNUMBER(MATCH($AR9,$E$5:$E$54,0)),ISNUMBER(MATCH($AS9,$H$5:$H$24,0))),"Active","Passive") -> Active | AR9: =IFERROR(INDEX(Income!B$9:B$1026,MATCH(Calc!$AO9,Income!$U$9:$U$1026,0),1),0) -> House 3 | AS9: =IFERROR(INDEX(Income!C$9:C$1026,MATCH(Calc!$AO9,Income!$U$9:$U$1026,0),1),0) -> Rent | AT9: =$AT$2+$AN9 -> 2021 | AU9: =IFERROR(IF($AQ9="Passive","",INDEX(Income!E$9:E$1026,MATCH(Calc!$AO9,Income!$U$9:$U$1026,0),1)),"") -> 1600 | AV9: =IFERROR(IF($AQ9="Passive","",INDEX(Income!F$9:F$1026,MATCH(Calc!$AO9,Income!$U$9:$U$1026,0),1)),"") -> 1600 | AW9: =IFERROR(IF($AQ9="Passive","",INDEX(Income!G$9:G$1026,MATCH(Calc!$AO9,Income!$U$9:$U$1026,0),1)),"") -> 1600 | AX9: =IFERROR(IF($AQ9="Passive","",INDEX(Income!H$9:H$1026,MATCH(Calc!$AO9,Income!$U$9:$U$1026,0),1)),"") -> 1600 | AY9: =IFERROR(IF($AQ9="Passive","",INDEX(Income!I$9:I$1026,MATCH(Calc!$AO9,Income!$U$9:$U$1026,0),1)),"") -> 1600 | AZ9: =IFERROR(IF($AQ9="Passive","",INDEX(Income!J$9:J$1026,MATCH(Calc!$AO9,Income!$U$9:$U$1026,0),1)),"") -> 1600 | BA9: =IFERROR(IF($AQ9="Passive","",INDEX(Income!K$9:K$1026,MATCH(Calc!$AO9,Income!$U$9:$U$1026,0),1)),"") -> 1600 | BB9: =IFERROR(IF($AQ9="Passive","",INDEX(Income!L$9:L$1026,MATCH(Calc!$AO9,Income!$U$9:$U$1026,0),1)),"") -> 1600 | ... BF9: =IFERROR(IF($AQ9="Passive","",INDEX(Income!P$9:P$1026,MATCH(Calc!$AO9,Income!$U$9:$U$1026,0),1)),"") -> 1600 | BH9: =IF(AND(ISNUMBER(MATCH($BI9,$E$5:$E$54,0)),ISNUMBER(MATCH($BJ9,$K$5:$K$24,0))),"Active","Passive") -> Active | BI9: =IFERROR(INDEX(Expenses!B$9:B$1026,MATCH(Calc!$AO9,Expenses!$U$9:$U$1026,0),1),0) -> House 1 | BJ9: =IFERROR(INDEX(Expenses!C$9:C$1026,MATCH(Calc!$AO9,Expenses!$U$9:$U$1026,0),1),0) -> Taxes | BK9: =$BK$2+$AN9 -> 2021 | BL9: =IFERROR(IF($BH9="Passive","",INDEX(Expenses!E$9:E$1026,MATCH(Calc!$AO9,Expenses!$U$9:$U$1026,0),1)),"") -> 0 | BM9: =IFERROR(IF($BH9="Passive","",INDEX(Expenses!F$9:F$1026,MATCH(Calc!$AO9,Expenses!$U$9:$U$1026,0),1)),"") -> 0 | BN9: =IFERROR(IF($BH9="Passive","",INDEX(Expenses!G$9:G$1026,MATCH(Calc!$AO9,Expenses!$U$9:$U$1026,0),1)),"") -> 0 | BO9: =IFERROR(IF($BH9="Passive","",INDEX(Expenses!H$9:H$1026,MATCH(Calc!$AO9,Expenses!$U$9:$U$1026,0),1)),"") -> 0 | BP9: =IFERROR(IF($BH9="Passive","",INDEX(Expenses!I$9:I$1026,MATCH(Calc!$AO9,Expenses!$U$9:$U$1026,0),1)),"") -> 0 | BQ9: =IFERROR(IF($BH9="Passive","",INDEX(Expenses!J$9:J$1026,MATCH(Calc!$AO9,Expenses!$U$9:$U$1026,0),1)),"") -> 0 | BR9: =IFERROR(IF($BH9="Passive","",INDEX(Expenses!K$9:K$1026,MATCH(Calc!$AO9,Expenses!$U$9:$U$1026,0),1)),"") -> 450 | BS9: =IFERROR(IF($BH9="Passive","",INDEX(Expenses!L$9:L$1026,MATCH(Calc!$AO9,Expenses!$U$9:$U$1026,0),1)),"") -> 0 | ... BW9: =IFERROR(IF($BH9="Passive","",INDEX(Expenses!P$9:P$1026,MATCH(Calc!$AO9,Expenses!$U$9:$U$1026,0),1)),"") -> 0
B10: 6 | D10: =IFERROR(IF(INDEX(PropertyDatabase!$B$6:$B$55,$B10,1)=0,"",INDEX(PropertyDatabase!$B$6:$B$55,$B10,1)),"") -> House 6 | E10: =IFERROR(INDEX($D$4:$D$54, MATCH(0,INDEX((LEN($D$4:$D$54)=0)+COUNTIF($E$3:$E9,$D$4:$D$54),0),0)),"") -> House 6 | G10: =IFERROR(IF(INDEX(Menu!$C$18:$C$37,$B10,1)=0,"",INDEX(Menu!$C$18:$C$37,$B10,1)),"") | H10: =IFERROR(INDEX($G$4:$G$24, MATCH(0,INDEX((LEN($G$4:$G$24)=0)+COUNTIF($H$3:$H9,$G$4:$G$24),0),0)),"") | J10: =IFERROR(IF(INDEX(Menu!$E$18:$E$37,$B10,1)=0,"",INDEX(Menu!$E$18:$E$37,$B10,1)),"") -> Repairs | K10: =IFERROR(INDEX($J$4:$J$24, MATCH(0,INDEX((LEN($J$4:$J$24)=0)+COUNTIF($K$3:$K9,$J$4:$J$24),0),0)),"") -> Repairs | M10: =IFERROR(IF(INDEX(Menu!$G$18:$G$27,$B10,1)=0,"",INDEX(Menu!$G$18:$G$27,$B10,1)),"") | N10: =IFERROR(INDEX($M$4:$M$14, MATCH(0,INDEX((LEN($M$4:$M$14)=0)+COUNTIF($N$3:$N9,$M$4:$M$14),0),0)),"") | P10: =IFERROR(IF(INDEX(Menu!$G$30:$G$37,$B10,1)=0,"",INDEX(Menu!$G$30:$G$37,$B10,1)),"") | Q10: =IFERROR(INDEX($P$4:$P$12, MATCH(0,INDEX((LEN($P$4:$P$12)=0)+COUNTIF($Q$3:$Q9,$P$4:$P$12),0),0)),"") | S10: =$Y12 -> 2026 | T10: 6 | U10: June | W10: 2021 | Y10: =YEAR($AA10) -> 2024 | Z10: 3 | AA10: =DATE($AA$4+$Z10,MOD($AB$4,12)+AA$6,1) -> 45323 | AB10: =DATE($AA$4+$Z10,MOD($AB$4,12)+AB$6,1) -> 45352 | AC10: =DATE($AA$4+$Z10,MOD($AB$4,12)+AC$6,1) -> 45383 | AD10: =DATE($AA$4+$Z10,MOD($AB$4,12)+AD$6,1) -> 45413 | AE10: =DATE($AA$4+$Z10,MOD($AB$4,12)+AE$6,1) -> 45444 | AF10: =DATE($AA$4+$Z10,MOD($AB$4,12)+AF$6,1) -> 45474 | AG10: =DATE($AA$4+$Z10,MOD($AB$4,12)+AG$6,1) -> 45505 | AH10: =DATE($AA$4+$Z10,MOD($AB$4,12)+AH$6,1) -> 45536 | ... AL10: =DATE($AA$4+$Z10,MOD($AB$4,12)+AL$6,1) -> 45658 | AN10: =IF($AO10<=100,0,IF(AND($AO10>100,$AO10<=200),1,IF(AND($AO10>200,$AO10<=300),2,IF(AND($AO10>300,$AO10<=400),3,IF(AND($AO10>400,$AO10<=500),4,IF(AND($AO10>500,$AO10<=600),5,IF(AND($AO10>600,$AO10<=700),6,IF(AND($AO10>700,$AO10<=800),7,IF(AND($AO10>800,$AO10<=900),8,IF(AND($AO10>900,$AO10<=1000),9)))))))))) -> 0 | AO10: 7 | AQ10: =IF(AND(ISNUMBER(MATCH($AR10,$E$5:$E$54,0)),ISNUMBER(MATCH($AS10,$H$5:$H$24,0))),"Active","Passive") -> Active | AR10: =IFERROR(INDEX(Income!B$9:B$1026,MATCH(Calc!$AO10,Income!$U$9:$U$1026,0),1),0) -> House 4 | AS10: =IFERROR(INDEX(Income!C$9:C$1026,MATCH(Calc!$AO10,Income!$U$9:$U$1026,0),1),0) -> Deposit | AT10: =$AT$2+$AN10 -> 2021 | AU10: =IFERROR(IF($AQ10="Passive","",INDEX(Income!E$9:E$1026,MATCH(Calc!$AO10,Income!$U$9:$U$1026,0),1)),"") -> 1400 | AV10: =IFERROR(IF($AQ10="Passive","",INDEX(Income!F$9:F$1026,MATCH(Calc!$AO10,Income!$U$9:$U$1026,0),1)),"") -> 0 | AW10: =IFERROR(IF($AQ10="Passive","",INDEX(Income!G$9:G$1026,MATCH(Calc!$AO10,Income!$U$9:$U$1026,0),1)),"") -> 0 | AX10: =IFERROR(IF($AQ10="Passive","",INDEX(Income!H$9:H$1026,MATCH(Calc!$AO10,Income!$U$9:$U$1026,0),1)),"") -> 0 | AY10: =IFERROR(IF($AQ10="Passive","",INDEX(Income!I$9:I$1026,MATCH(Calc!$AO10,Income!$U$9:$U$1026,0),1)),"") -> 0 | AZ10: =IFERROR(IF($AQ10="Passive","",INDEX(Income!J$9:J$1026,MATCH(Calc!$AO10,Income!$U$9:$U$1026,0),1)),"") -> 0 | BA10: =IFERROR(IF($AQ10="Passive","",INDEX(Income!K$9:K$1026,MATCH(Calc!$AO10,Income!$U$9:$U$1026,0),1)),"") -> 0 | BB10: =IFERROR(IF($AQ10="Passive","",INDEX(Income!L$9:L$1026,MATCH(Calc!$AO10,Income!$U$9:$U$1026,0),1)),"") -> 0 | ... BF10: =IFERROR(IF($AQ10="Passive","",INDEX(Income!P$9:P$1026,MATCH(Calc!$AO10,Income!$U$9:$U$1026,0),1)),"") -> 0 | BH10: =IF(AND(ISNUMBER(MATCH($BI10,$E$5:$E$54,0)),ISNUMBER(MATCH($BJ10,$K$5:$K$24,0))),"Active","Passive") -> Active | BI10: =IFERROR(INDEX(Expenses!B$9:B$1026,MATCH(Calc!$AO10,Expenses!$U$9:$U$1026,0),1),0) -> House 2 | BJ10: =IFERROR(INDEX(Expenses!C$9:C$1026,MATCH(Calc!$AO10,Expenses!$U$9:$U$1026,0),1),0) -> Advertising | BK10: =$BK$2+$AN10 -> 2021 | BL10: =IFERROR(IF($BH10="Passive","",INDEX(Expenses!E$9:E$1026,MATCH(Calc!$AO10,Expenses!$U$9:$U$1026,0),1)),"") -> 0 | BM10: =IFERROR(IF($BH10="Passive","",INDEX(Expenses!F$9:F$1026,MATCH(Calc!$AO10,Expenses!$U$9:$U$1026,0),1)),"") -> 0 | BN10: =IFERROR(IF($BH10="Passive","",INDEX(Expenses!G$9:G$1026,MATCH(Calc!$AO10,Expenses!$U$9:$U$1026,0),1)),"") -> 0 | BO10: =IFERROR(IF($BH10="Passive","",INDEX(Expenses!H$9:H$1026,MATCH(Calc!$AO10,Expenses!$U$9:$U$1026,0),1)),"") -> 350 | BP10: =IFERROR(IF($BH10="Passive","",INDEX(Expenses!I$9:I$1026,MATCH(Calc!$AO10,Expenses!$U$9:$U$1026,0),1)),"") -> 0 | BQ10: =IFERROR(IF($BH10="Passive","",INDEX(Expenses!J$9:J$1026,MATCH(Calc!$AO10,Expenses!$U$9:$U$1026,0),1)),"") -> 0 | BR10: =IFERROR(IF($BH10="Passive","",INDEX(Expenses!K$9:K$1026,MATCH(Calc!$AO10,Expenses!$U$9:$U$1026,0),1)),"") -> 0 | BS10: =IFERROR(IF($BH10="Passive","",INDEX(Expenses!L$9:L$1026,MATCH(Calc!$AO10,Expenses!$U$9:$U$1026,0),1)),"") -> 0 | ... BW10: =IFERROR(IF($BH10="Passive","",INDEX(Expenses!P$9:P$1026,MATCH(Calc!$AO10,Expenses!$U$9:$U$1026,0),1)),"") -> 0
B11: 7 | D11: =IFERROR(IF(INDEX(PropertyDatabase!$B$6:$B$55,$B11,1)=0,"",INDEX(PropertyDatabase!$B$6:$B$55,$B11,1)),"") -> House 7 | E11: =IFERROR(INDEX($D$4:$D$54, MATCH(0,INDEX((LEN($D$4:$D$54)=0)+COUNTIF($E$3:$E10,$D$4:$D$54),0),0)),"") -> House 7 | G11: =IFERROR(IF(INDEX(Menu!$C$18:$C$37,$B11,1)=0,"",INDEX(Menu!$C$18:$C$37,$B11,1)),"") | H11: =IFERROR(INDEX($G$4:$G$24, MATCH(0,INDEX((LEN($G$4:$G$24)=0)+COUNTIF($H$3:$H10,$G$4:$G$24),0),0)),"") | J11: =IFERROR(IF(INDEX(Menu!$E$18:$E$37,$B11,1)=0,"",INDEX(Menu!$E$18:$E$37,$B11,1)),"") -> Supplies | K11: =IFERROR(INDEX($J$4:$J$24, MATCH(0,INDEX((LEN($J$4:$J$24)=0)+COUNTIF($K$3:$K10,$J$4:$J$24),0),0)),"") -> Supplies | M11: =IFERROR(IF(INDEX(Menu!$G$18:$G$27,$B11,1)=0,"",INDEX(Menu!$G$18:$G$27,$B11,1)),"") | N11: =IFERROR(INDEX($M$4:$M$14, MATCH(0,INDEX((LEN($M$4:$M$14)=0)+COUNTIF($N$3:$N10,$M$4:$M$14),0),0)),"") | P11: =IFERROR(IF(INDEX(Menu!$G$30:$G$37,$B11,1)=0,"",INDEX(Menu!$G$30:$G$37,$B11,1)),"") | Q11: =IFERROR(INDEX($P$4:$P$12, MATCH(0,INDEX((LEN($P$4:$P$12)=0)+COUNTIF($Q$3:$Q10,$P$4:$P$12),0),0)),"") | S11: =$Y13 -> 2027 | T11: 7 | U11: July | W11: 2022 | Y11: =YEAR($AA11) -> 2025 | Z11: 4 | AA11: =DATE($AA$4+$Z11,MOD($AB$4,12)+AA$6,1) -> 45689 | AB11: =DATE($AA$4+$Z11,MOD($AB$4,12)+AB$6,1) -> 45717 | AC11: =DATE($AA$4+$Z11,MOD($AB$4,12)+AC$6,1) -> 45748 | AD11: =DATE($AA$4+$Z11,MOD($AB$4,12)+AD$6,1) -> 45778 | AE11: =DATE($AA$4+$Z11,MOD($AB$4,12)+AE$6,1) -> 45809 | AF11: =DATE($AA$4+$Z11,MOD($AB$4,12)+AF$6,1) -> 45839 | AG11: =DATE($AA$4+$Z11,MOD($AB$4,12)+AG$6,1) -> 45870 | AH11: =DATE($AA$4+$Z11,MOD($AB$4,12)+AH$6,1) -> 45901 | ... AL11: =DATE($AA$4+$Z11,MOD($AB$4,12)+AL$6,1) -> 46023 | AN11: =IF($AO11<=100,0,IF(AND($AO11>100,$AO11<=200),1,IF(AND($AO11>200,$AO11<=300),2,IF(AND($AO11>300,$AO11<=400),3,IF(AND($AO11>400,$AO11<=500),4,IF(AND($AO11>500,$AO11<=600),5,IF(AND($AO11>600,$AO11<=700),6,IF(AND($AO11>700,$AO11<=800),7,IF(AND($AO11>800,$AO11<=900),8,IF(AND($AO11>900,$AO11<=1000),9)))))))))) -> 0 | AO11: 8 | AQ11: =IF(AND(ISNUMBER(MATCH($AR11,$E$5:$E$54,0)),ISNUMBER(MATCH($AS11,$H$5:$H$24,0))),"Active","Passive") -> Active | AR11: =IFERROR(INDEX(Income!B$9:B$1026,MATCH(Calc!$AO11,Income!$U$9:$U$1026,0),1),0) -> House 4 | AS11: =IFERROR(INDEX(Income!C$9:C$1026,MATCH(Calc!$AO11,Income!$U$9:$U$1026,0),1),0) -> Rent | AT11: =$AT$2+$AN11 -> 2021 | AU11: =IFERROR(IF($AQ11="Passive","",INDEX(Income!E$9:E$1026,MATCH(Calc!$AO11,Income!$U$9:$U$1026,0),1)),"") -> 700 | AV11: =IFERROR(IF($AQ11="Passive","",INDEX(Income!F$9:F$1026,MATCH(Calc!$AO11,Income!$U$9:$U$1026,0),1)),"") -> 700 | AW11: =IFERROR(IF($AQ11="Passive","",INDEX(Income!G$9:G$1026,MATCH(Calc!$AO11,Income!$U$9:$U$1026,0),1)),"") -> 700 | AX11: =IFERROR(IF($AQ11="Passive","",INDEX(Income!H$9:H$1026,MATCH(Calc!$AO11,Income!$U$9:$U$1026,0),1)),"") -> 700 | AY11: =IFERROR(IF($AQ11="Passive","",INDEX(Income!I$9:I$1026,MATCH(Calc!$AO11,Income!$U$9:$U$1026,0),1)),"") -> 700 | AZ11: =IFERROR(IF($AQ11="Passive","",INDEX(Income!J$9:J$1026,MATCH(Calc!$AO11,Income!$U$9:$U$1026,0),1)),"") -> 700 | BA11: =IFERROR(IF($AQ11="Passive","",INDEX(Income!K$9:K$1026,MATCH(Calc!$AO11,Income!$U$9:$U$1026,0),1)),"") -> 700 | BB11: =IFERROR(IF($AQ11="Passive","",INDEX(Income!L$9:L$1026,MATCH(Calc!$AO11,Income!$U$9:$U$1026,0),1)),"") -> 700 | ... BF11: =IFERROR(IF($AQ11="Passive","",INDEX(Income!P$9:P$1026,MATCH(Calc!$AO11,Income!$U$9:$U$1026,0),1)),"") -> 700 | BH11: =IF(AND(ISNUMBER(MATCH($BI11,$E$5:$E$54,0)),ISNUMBER(MATCH($BJ11,$K$5:$K$24,0))),"Active","Passive") -> Active | BI11: =IFERROR(INDEX(Expenses!B$9:B$1026,MATCH(Calc!$AO11,Expenses!$U$9:$U$1026,0),1),0) -> House 2 | BJ11: =IFERROR(INDEX(Expenses!C$9:C$1026,MATCH(Calc!$AO11,Expenses!$U$9:$U$1026,0),1),0) -> Cleaning & Maintenance | BK11: =$BK$2+$AN11 -> 2021 | BL11: =IFERROR(IF($BH11="Passive","",INDEX(Expenses!E$9:E$1026,MATCH(Calc!$AO11,Expenses!$U$9:$U$1026,0),1)),"") -> 0 | BM11: =IFERROR(IF($BH11="Passive","",INDEX(Expenses!F$9:F$1026,MATCH(Calc!$AO11,Expenses!$U$9:$U$1026,0),1)),"") -> 0 | BN11: =IFERROR(IF($BH11="Passive","",INDEX(Expenses!G$9:G$1026,MATCH(Calc!$AO11,Expenses!$U$9:$U$1026,0),1)),"") -> 0 | BO11: =IFERROR(IF($BH11="Passive","",INDEX(Expenses!H$9:H$1026,MATCH(Calc!$AO11,Expenses!$U$9:$U$1026,0),1)),"") -> 0 | BP11: =IFERROR(IF($BH11="Passive","",INDEX(Expenses!I$9:I$1026,MATCH(Calc!$AO11,Expenses!$U$9:$U$1026,0),1)),"") -> 250 | BQ11: =IFERROR(IF($BH11="Passive","",INDEX(Expenses!J$9:J$1026,MATCH(Calc!$AO11,Expenses!$U$9:$U$1026,0),1)),"") -> 0 | BR11: =IFERROR(IF($BH11="Passive","",INDEX(Expenses!K$9:K$1026,MATCH(Calc!$AO11,Expenses!$U$9:$U$1026,0),1)),"") -> 0 | BS11: =IFERROR(IF($BH11="Passive","",INDEX(Expenses!L$9:L$1026,MATCH(Calc!$AO11,Expenses!$U$9:$U$1026,0),1)),"") -> 0 | ... BW11: =IFERROR(IF($BH11="Passive","",INDEX(Expenses!P$9:P$1026,MATCH(Calc!$AO11,Expenses!$U$9:$U$1026,0),1)),"") -> 0
B12: 8 | D12: =IFERROR(IF(INDEX(PropertyDatabase!$B$6:$B$55,$B12,1)=0,"",INDEX(PropertyDatabase!$B$6:$B$55,$B12,1)),"") -> House 8 | E12: =IFERROR(INDEX($D$4:$D$54, MATCH(0,INDEX((LEN($D$4:$D$54)=0)+COUNTIF($E$3:$E11,$D$4:$D$54),0),0)),"") -> House 8 | G12: =IFERROR(IF(INDEX(Menu!$C$18:$C$37,$B12,1)=0,"",INDEX(Menu!$C$18:$C$37,$B12,1)),"") | H12: =IFERROR(INDEX($G$4:$G$24, MATCH(0,INDEX((LEN($G$4:$G$24)=0)+COUNTIF($H$3:$H11,$G$4:$G$24),0),0)),"") | J12: =IFERROR(IF(INDEX(Menu!$E$18:$E$37,$B12,1)=0,"",INDEX(Menu!$E$18:$E$37,$B12,1)),"") -> Taxes | K12: =IFERROR(INDEX($J$4:$J$24, MATCH(0,INDEX((LEN($J$4:$J$24)=0)+COUNTIF($K$3:$K11,$J$4:$J$24),0),0)),"") -> Taxes | M12: =IFERROR(IF(INDEX(Menu!$G$18:$G$27,$B12,1)=0,"",INDEX(Menu!$G$18:$G$27,$B12,1)),"") | N12: =IFERROR(INDEX($M$4:$M$14, MATCH(0,INDEX((LEN($M$4:$M$14)=0)+COUNTIF($N$3:$N11,$M$4:$M$14),0),0)),"") | P12: =IFERROR(IF(INDEX(Menu!$G$30:$G$37,$B12,1)=0,"",INDEX(Menu!$G$30:$G$37,$B12,1)),"") | Q12: =IFERROR(INDEX($P$4:$P$12, MATCH(0,INDEX((LEN($P$4:$P$12)=0)+COUNTIF($Q$3:$Q11,$P$4:$P$12),0),0)),"") | S12: =$Y14 -> 2028 | T12: 8 | U12: August | W12: 2023 | Y12: =YEAR($AA12) -> 2026 | Z12: 5 | AA12: =DATE($AA$4+$Z12,MOD($AB$4,12)+AA$6,1) -> 46054 | AB12: =DATE($AA$4+$Z12,MOD($AB$4,12)+AB$6,1) -> 46082 | AC12: =DATE($AA$4+$Z12,MOD($AB$4,12)+AC$6,1) -> 46113 | AD12: =DATE($AA$4+$Z12,MOD($AB$4,12)+AD$6,1) -> 46143 | AE12: =DATE($AA$4+$Z12,MOD($AB$4,12)+AE$6,1) -> 46174 | AF12: =DATE($AA$4+$Z12,MOD($AB$4,12)+AF$6,1) -> 46204 | AG12: =DATE($AA$4+$Z12,MOD($AB$4,12)+AG$6,1) -> 46235 | AH12: =DATE($AA$4+$Z12,MOD($AB$4,12)+AH$6,1) -> 46266 | ... AL12: =DATE($AA$4+$Z12,MOD($AB$4,12)+AL$6,1) -> 46388 | AN12: =IF($AO12<=100,0,IF(AND($AO12>100,$AO12<=200),1,IF(AND($AO12>200,$AO12<=300),2,IF(AND($AO12>300,$AO12<=400),3,IF(AND($AO12>400,$AO12<=500),4,IF(AND($AO12>500,$AO12<=600),5,IF(AND($AO12>600,$AO12<=700),6,IF(AND($AO12>700,$AO12<=800),7,IF(AND($AO12>800,$AO12<=900),8,IF(AND($AO12>900,$AO12<=1000),9)))))))))) -> 0 | AO12: 9 | AQ12: =IF(AND(ISNUMBER(MATCH($AR12,$E$5:$E$54,0)),ISNUMBER(MATCH($AS12,$H$5:$H$24,0))),"Active","Passive") -> Passive | AR12: =IFERROR(INDEX(Income!B$9:B$1026,MATCH(Calc!$AO12,Income!$U$9:$U$1026,0),1),0) -> 0 | AS12: =IFERROR(INDEX(Income!C$9:C$1026,MATCH(Calc!$AO12,Income!$U$9:$U$1026,0),1),0) -> 0 | AT12: =$AT$2+$AN12 -> 2021 | AU12: =IFERROR(IF($AQ12="Passive","",INDEX(Income!E$9:E$1026,MATCH(Calc!$AO12,Income!$U$9:$U$1026,0),1)),"") | AV12: =IFERROR(IF($AQ12="Passive","",INDEX(Income!F$9:F$1026,MATCH(Calc!$AO12,Income!$U$9:$U$1026,0),1)),"") | AW12: =IFERROR(IF($AQ12="Passive","",INDEX(Income!G$9:G$1026,MATCH(Calc!$AO12,Income!$U$9:$U$1026,0),1)),"") | AX12: =IFERROR(IF($AQ12="Passive","",INDEX(Income!H$9:H$1026,MATCH(Calc!$AO12,Income!$U$9:$U$1026,0),1)),"") | AY12: =IFERROR(IF($AQ12="Passive","",INDEX(Income!I$9:I$1026,MATCH(Calc!$AO12,Income!$U$9:$U$1026,0),1)),"") | AZ12: =IFERROR(IF($AQ12="Passive","",INDEX(Income!J$9:J$1026,MATCH(Calc!$AO12,Income!$U$9:$U$1026,0),1)),"") | BA12: =IFERROR(IF($AQ12="Passive","",INDEX(Income!K$9:K$1026,MATCH(Calc!$AO12,Income!$U$9:$U$1026,0),1)),"") | BB12: =IFERROR(IF($AQ12="Passive","",INDEX(Income!L$9:L$1026,MATCH(Calc!$AO12,Income!$U$9:$U$1026,0),1)),"") | ... BF12: =IFERROR(IF($AQ12="Passive","",INDEX(Income!P$9:P$1026,MATCH(Calc!$AO12,Income!$U$9:$U$1026,0),1)),"") | BH12: =IF(AND(ISNUMBER(MATCH($BI12,$E$5:$E$54,0)),ISNUMBER(MATCH($BJ12,$K$5:$K$24,0))),"Active","Passive") -> Active | BI12: =IFERROR(INDEX(Expenses!B$9:B$1026,MATCH(Calc!$AO12,Expenses!$U$9:$U$1026,0),1),0) -> House 2 | BJ12: =IFERROR(INDEX(Expenses!C$9:C$1026,MATCH(Calc!$AO12,Expenses!$U$9:$U$1026,0),1),0) -> Commissions | BK12: =$BK$2+$AN12 -> 2021 | BL12: =IFERROR(IF($BH12="Passive","",INDEX(Expenses!E$9:E$1026,MATCH(Calc!$AO12,Expenses!$U$9:$U$1026,0),1)),"") -> 0 | BM12: =IFERROR(IF($BH12="Passive","",INDEX(Expenses!F$9:F$1026,MATCH(Calc!$AO12,Expenses!$U$9:$U$1026,0),1)),"") -> 0 | BN12: =IFERROR(IF($BH12="Passive","",INDEX(Expenses!G$9:G$1026,MATCH(Calc!$AO12,Expenses!$U$9:$U$1026,0),1)),"") -> 500 | BO12: =IFERROR(IF($BH12="Passive","",INDEX(Expenses!H$9:H$1026,MATCH(Calc!$AO12,Expenses!$U$9:$U$1026,0),1)),"") -> 0 | BP12: =IFERROR(IF($BH12="Passive","",INDEX(Expenses!I$9:I$1026,MATCH(Calc!$AO12,Expenses!$U$9:$U$1026,0),1)),"") -> 0 | BQ12: =IFERROR(IF($BH12="Passive","",INDEX(Expenses!J$9:J$1026,MATCH(Calc!$AO12,Expenses!$U$9:$U$1026,0),1)),"") -> 0 | BR12: =IFERROR(IF($BH12="Passive","",INDEX(Expenses!K$9:K$1026,MATCH(Calc!$AO12,Expenses!$U$9:$U$1026,0),1)),"") -> 0 | BS12: =IFERROR(IF($BH12="Passive","",INDEX(Expenses!L$9:L$1026,MATCH(Calc!$AO12,Expenses!$U$9:$U$1026,0),1)),"") -> 0 | ... BW12: =IFERROR(IF($BH12="Passive","",INDEX(Expenses!P$9:P$1026,MATCH(Calc!$AO12,Expenses!$U$9:$U$1026,0),1)),"") -> 0
B13: 9 | D13: =IFERROR(IF(INDEX(PropertyDatabase!$B$6:$B$55,$B13,1)=0,"",INDEX(PropertyDatabase!$B$6:$B$55,$B13,1)),"") | E13: =IFERROR(INDEX($D$4:$D$54, MATCH(0,INDEX((LEN($D$4:$D$54)=0)+COUNTIF($E$3:$E12,$D$4:$D$54),0),0)),"") | G13: =IFERROR(IF(INDEX(Menu!$C$18:$C$37,$B13,1)=0,"",INDEX(Menu!$C$18:$C$37,$B13,1)),"") | H13: =IFERROR(INDEX($G$4:$G$24, MATCH(0,INDEX((LEN($G$4:$G$24)=0)+COUNTIF($H$3:$H12,$G$4:$G$24),0),0)),"") | J13: =IFERROR(IF(INDEX(Menu!$E$18:$E$37,$B13,1)=0,"",INDEX(Menu!$E$18:$E$37,$B13,1)),"") -> Utilities | K13: =IFERROR(INDEX($J$4:$J$24, MATCH(0,INDEX((LEN($J$4:$J$24)=0)+COUNTIF($K$3:$K12,$J$4:$J$24),0),0)),"") -> Utilities | M13: =IFERROR(IF(INDEX(Menu!$G$18:$G$27,$B13,1)=0,"",INDEX(Menu!$G$18:$G$27,$B13,1)),"") | N13: =IFERROR(INDEX($M$4:$M$14, MATCH(0,INDEX((LEN($M$4:$M$14)=0)+COUNTIF($N$3:$N12,$M$4:$M$14),0),0)),"") | S13: =$Y15 -> 2029 | T13: 9 | U13: September | W13: 2024 | Y13: =YEAR($AA13) -> 2027 | Z13: 6 | AA13: =DATE($AA$4+$Z13,MOD($AB$4,12)+AA$6,1) -> 46419 | AB13: =DATE($AA$4+$Z13,MOD($AB$4,12)+AB$6,1) -> 46447 | AC13: =DATE($AA$4+$Z13,MOD($AB$4,12)+AC$6,1) -> 46478 | AD13: =DATE($AA$4+$Z13,MOD($AB$4,12)+AD$6,1) -> 46508 | AE13: =DATE($AA$4+$Z13,MOD($AB$4,12)+AE$6,1) -> 46539 | AF13: =DATE($AA$4+$Z13,MOD($AB$4,12)+AF$6,1) -> 46569 | AG13: =DATE($AA$4+$Z13,MOD($AB$4,12)+AG$6,1) -> 46600 | AH13: =DATE($AA$4+$Z13,MOD($AB$4,12)+AH$6,1) -> 46631 | ... AL13: =DATE($AA$4+$Z13,MOD($AB$4,12)+AL$6,1) -> 46753 | AN13: =IF($AO13<=100,0,IF(AND($AO13>100,$AO13<=200),1,IF(AND($AO13>200,$AO13<=300),2,IF(AND($AO13>300,$AO13<=400),3,IF(AND($AO13>400,$AO13<=500),4,IF(AND($AO13>500,$AO13<=600),5,IF(AND($AO13>600,$AO13<=700),6,IF(AND($AO13>700,$AO13<=800),7,IF(AND($AO13>800,$AO13<=900),8,IF(AND($AO13>900,$AO13<=1000),9)))))))))) -> 0 | AO13: 10 | AQ13: =IF(AND(ISNUMBER(MATCH($AR13,$E$5:$E$54,0)),ISNUMBER(MATCH($AS13,$H$5:$H$24,0))),"Active","Passive") -> Passive | AR13: =IFERROR(INDEX(Income!B$9:B$1026,MATCH(Calc!$AO13,Income!$U$9:$U$1026,0),1),0) -> 0 | AS13: =IFERROR(INDEX(Income!C$9:C$1026,MATCH(Calc!$AO13,Income!$U$9:$U$1026,0),1),0) -> 0 | AT13: =$AT$2+$AN13 -> 2021 | AU13: =IFERROR(IF($AQ13="Passive","",INDEX(Income!E$9:E$1026,MATCH(Calc!$AO13,Income!$U$9:$U$1026,0),1)),"") | AV13: =IFERROR(IF($AQ13="Passive","",INDEX(Income!F$9:F$1026,MATCH(Calc!$AO13,Income!$U$9:$U$1026,0),1)),"") | AW13: =IFERROR(IF($AQ13="Passive","",INDEX(Income!G$9:G$1026,MATCH(Calc!$AO13,Income!$U$9:$U$1026,0),1)),"") | AX13: =IFERROR(IF($AQ13="Passive","",INDEX(Income!H$9:H$1026,MATCH(Calc!$AO13,Income!$U$9:$U$1026,0),1)),"") | AY13: =IFERROR(IF($AQ13="Passive","",INDEX(Income!I$9:I$1026,MATCH(Calc!$AO13,Income!$U$9:$U$1026,0),1)),"") | AZ13: =IFERROR(IF($AQ13="Passive","",INDEX(Income!J$9:J$1026,MATCH(Calc!$AO13,Income!$U$9:$U$1026,0),1)),"") | BA13: =IFERROR(IF($AQ13="Passive","",INDEX(Income!K$9:K$1026,MATCH(Calc!$AO13,Income!$U$9:$U$1026,0),1)),"") | BB13: =IFERROR(IF($AQ13="Passive","",INDEX(Income!L$9:L$1026,MATCH(Calc!$AO13,Income!$U$9:$U$1026,0),1)),"") | ... BF13: =IFERROR(IF($AQ13="Passive","",INDEX(Income!P$9:P$1026,MATCH(Calc!$AO13,Income!$U$9:$U$1026,0),1)),"") | BH13: =IF(AND(ISNUMBER(MATCH($BI13,$E$5:$E$54,0)),ISNUMBER(MATCH($BJ13,$K$5:$K$24,0))),"Active","Passive") -> Active | BI13: =IFERROR(INDEX(Expenses!B$9:B$1026,MATCH(Calc!$AO13,Expenses!$U$9:$U$1026,0),1),0) -> House 2 | BJ13: =IFERROR(INDEX(Expenses!C$9:C$1026,MATCH(Calc!$AO13,Expenses!$U$9:$U$1026,0),1),0) -> Insurance | BK13: =$BK$2+$AN13 -> 2021 | BL13: =IFERROR(IF($BH13="Passive","",INDEX(Expenses!E$9:E$1026,MATCH(Calc!$AO13,Expenses!$U$9:$U$1026,0),1)),"") -> 0 | BM13: =IFERROR(IF($BH13="Passive","",INDEX(Expenses!F$9:F$1026,MATCH(Calc!$AO13,Expenses!$U$9:$U$1026,0),1)),"") -> 0 | BN13: =IFERROR(IF($BH13="Passive","",INDEX(Expenses!G$9:G$1026,MATCH(Calc!$AO13,Expenses!$U$9:$U$1026,0),1)),"") -> 0 | BO13: =IFERROR(IF($BH13="Passive","",INDEX(Expenses!H$9:H$1026,MATCH(Calc!$AO13,Expenses!$U$9:$U$1026,0),1)),"") -> 0 | BP13: =IFERROR(IF($BH13="Passive","",INDEX(Expenses!I$9:I$1026,MATCH(Calc!$AO13,Expenses!$U$9:$U$1026,0),1)),"") -> 0 | BQ13: =IFERROR(IF($BH13="Passive","",INDEX(Expenses!J$9:J$1026,MATCH(Calc!$AO13,Expenses!$U$9:$U$1026,0),1)),"") -> 600 | BR13: =IFERROR(IF($BH13="Passive","",INDEX(Expenses!K$9:K$1026,MATCH(Calc!$AO13,Expenses!$U$9:$U$1026,0),1)),"") -> 0 | BS13: =IFERROR(IF($BH13="Passive","",INDEX(Expenses!L$9:L$1026,MATCH(Calc!$AO13,Expenses!$U$9:$U$1026,0),1)),"") -> 0 | ... BW13: =IFERROR(IF($BH13="Passive","",INDEX(Expenses!P$9:P$1026,MATCH(Calc!$AO13,Expenses!$U$9:$U$1026,0),1)),"") -> 0
