Workbook

Sheet Dashboard
C2: RENT LEDGER TEMPLATE
C3: RENTAL LEDGER
C7: RENTAL LEDGER
C9: TENANT'S NAME: | E9: Jack Sparrow | G9: PROPERTY ADDRESS: | I9: 221B Baker Street
C10: TENANT'S PHONE: | E10: +123 45 678
C11: TENANT'S EMAIL: | E11: jacksparrow@cpt
C12: YEAR: | E12: 2024
C13: START MONTH: | E13: JANUARY
C15: MONTH | D15: DUE DATE | E15: RENT AMOUNT | F15: AMOUNT PAID | G15: OTHER FEES | H15: BALANCE | I15: COMMENTS
C16: =Calc!F3 -> JANUARY | D16: 45292 | E16: 1500 | F16: 1000 | G16: 300 | H16: =IF(E16="","",E16-F16) -> 500
C17: =Calc!F4 -> FEBRUARY | D17: 45323 | E17: 1500 | F17: 1000 | G17: 200 | H17: =IF(E17="","",E17-F17) -> 500
C18: =Calc!F5 -> MARCH | D18: 45352 | E18: 1500 | F18: 300 | H18: =IF(E18="","",E18-F18) -> 1200
C19: =Calc!F6 -> APRIL | D19: 45383 | E19: 1500 | F19: 200 | H19: =IF(E19="","",E19-F19) -> 1300
C20: =Calc!F7 -> MAY | D20: 45413 | H20: =IF(E20="","",E20-F20)
C21: =Calc!F8 -> JUNE | D21: 45444 | H21: =IF(E21="","",E21-F21)
C22: =Calc!F9 -> JULY
C23: =Calc!F10 -> AUGUST
C24: =Calc!F11 -> SEPTEMBER
C25: =Calc!F12 -> OCTOBER
C26: =Calc!F13 -> NOVEMBER
C27: =Calc!F14 -> DECEMBER
C29: TOTAL: | E29: RENT AMOUNT | F29: AMOUNT PAID | G29: OTHER FEES | H29: BALANCE | I29: BALANCE DUE
E30: =SUM(E16:E21) -> 6000 | F30: =SUM(F16:F21) -> 2500 | G30: =SUM(G16:G21) -> 500 | H30: =SUM(H16:H21) -> 3500 | I30: =G30+H30 -> 4000

Sheet Calc
B3: 1 | C3: JANUARY | E3: =INDEX($B$3:$C$14,MATCH(Dashboard!$E$13,Calc!$C$3:$C$14,0),1) -> 1 | F3: =INDEX($B$3:$C$14,MATCH(E3,$B$3:$B$14,0),2) -> JANUARY
B4: 2 | C4: FEBRUARY | E4: =MOD(E3,12)+1 -> 2 | F4: =INDEX($B$3:$C$14,MATCH(E4,$B$3:$B$14,0),2) -> FEBRUARY
B5: 3 | C5: MARCH | E5: =MOD(E4,12)+1 -> 3 | F5: =INDEX($B$3:$C$14,MATCH(E5,$B$3:$B$14,0),2) -> MARCH
B6: 4 | C6: APRIL | E6: =MOD(E5,12)+1 -> 4 | F6: =INDEX($B$3:$C$14,MATCH(E6,$B$3:$B$14,0),2) -> APRIL
B7: 5 | C7: MAY | E7: =MOD(E6,12)+1 -> 5 | F7: =INDEX($B$3:$C$14,MATCH(E7,$B$3:$B$14,0),2) -> MAY
B8: 6 | C8: JUNE | E8: =MOD(E7,12)+1 -> 6 | F8: =INDEX($B$3:$C$14,MATCH(E8,$B$3:$B$14,0),2) -> JUNE
B9: 7 | C9: JULY | E9: =MOD(E8,12)+1 -> 7 | F9: =INDEX($B$3:$C$14,MATCH(E9,$B$3:$B$14,0),2) -> JULY
B10: 8 | C10: AUGUST | E10: =MOD(E9,12)+1 -> 8 | F10: =INDEX($B$3:$C$14,MATCH(E10,$B$3:$B$14,0),2) -> AUGUST
B11: 9 | C11: SEPTEMBER | E11: =MOD(E10,12)+1 -> 9 | F11: =INDEX($B$3:$C$14,MATCH(E11,$B$3:$B$14,0),2) -> SEPTEMBER
B12: 10 | C12: OCTOBER | E12: =MOD(E11,12)+1 -> 10 | F12: =INDEX($B$3:$C$14,MATCH(E12,$B$3:$B$14,0),2) -> OCTOBER
B13: 11 | C13: NOVEMBER | E13: =MOD(E12,12)+1 -> 11 | F13: =INDEX($B$3:$C$14,MATCH(E13,$B$3:$B$14,0),2) -> NOVEMBER
B14: 12 | C14: DECEMBER | E14: =MOD(E13,12)+1 -> 12 | F14: =INDEX($B$3:$C$14,MATCH(E14,$B$3:$B$14,0),2) -> DECEMBER
