Workbook
Name brokerfilter: Dashboard!$J$7
Name brokerheaderlist: Calc!$Z$4:$Z$9
Name brokerlist: OFFSET(Calc!$E$5,0,0,Calc!$E$2,1)
Name brokerlistdashboard: OFFSET(Calc!$E$4,0,0,Calc!$E$2+1,1)
Name comissionchartlabel: OFFSET(Calc!$EO$50,0,0,Calc!$EP$48,1)
Name comissionchartsource: OFFSET(Calc!$EP$50,0,0,Calc!$EP$48,1)
Name currency: Menu!$J$21
Name expensecategorylist: OFFSET(Calc!$H$5,0,0,Calc!$H$2,1)
Name headerwarning: BrokerTargetTracking!$P$6
Name monthfilter: Dashboard!$G$7
Name monthlist: Calc!$V$5:$V$16
Name monthlistdashboard: Calc!$V$4:$V$16
Name propertyidnamelist: OFFSET(Calc!$CA$4,0,0,Calc!$CA$2,1)
Name propertytypelist: OFFSET(Calc!$K$5,0,0,Calc!$K$2,1)
Name ratelist: Calc!$X$4:$X$103
Name saleschartlabel: OFFSET(Calc!$EO$27,0,0,Calc!$EP$25,1)
Name saleschartsource: OFFSET(Calc!$EP$27,0,0,Calc!$EP$25,1)
Name servicetypelist: OFFSET(Calc!$Q$5,0,0,Calc!$Q$2,1)
Name statuschartlabel: OFFSET(Calc!$EK$15,0,0,Calc!$EL$13,1)
Name statuschartsource: OFFSET(Calc!$EL$15,0,0,Calc!$EL$13,1)
Name statuslist: OFFSET(Calc!$N$5,0,0,Calc!$N$2,1)
Name yearfilter: Dashboard!$D$7
Name yearlist: Calc!$S$5:$S$15
Name yearlistdashboard: Calc!$S$4:$S$15

Sheet Menu
C2: REAL ESTATE AGENCY TEMPLATE
C3: MENU
C8: BROKER NAME | D8: CONTACT INFO | F8: EXPENSE CATEGORY | H8: PROPERTY TYPE | J8: STATUS
C9: Caleb Mullins | D9: 1-824-434-6871 | F9: Advertising | H9: Tiny Home | J9: Paid
C10: Laura Hartman | D10: 1-771-531-6786 | F10: Cleaning & Maintenance | H10: Flat | J10: Property Inspection
C11: Dustin Santana | D11: (803) 712-9679 | F11: Commissions | H11: Townhome | J11: Financing
C12: Aidan Yates | D12: (463) 249-6131 | F12: Insurance | H12: Office | J12: Agreement
C13: Deanna Holcomb | D13: (686) 470-4277 | F13: Management Fees | H13: Apartment | J13: Cancelled
C14: Gage Boyd | D14: (676) 613-1898 | F14: Repairs
C15: Nash Goodwin | D15: 1-691-744-0296 | F15: Supplies
C16: Hayley Leblanc | D16: (183) 563-1344 | F16: Taxes
C17: Barbara Nash | D17: 1-534-246-2842 | F17: Utilities
C18: Leroy Gates | D18: 1-592-654-1367 | F18: Bills
C19: Ray Hampton | D19: 1-956-113-0518
C20: Benjamin White | D20: 1-321-262-7833 | H20: SERVICE TYPE | J20: Currency
H21: Sale | J21: USD
H22: Rent

Sheet BrokerTargetTracking
B2: REAL ESTATE AGENCY TEMPLATE
B3: BROKER TARGET TRACKING
B6: TOTAL SALES TARGET (USD) | P6: =IFERROR(IF(ISNUMBER(MATCH($B$6,brokerheaderlist,0)),"","!"),"")
B7: BROKER | C7: YEAR | D7: JANUARY | E7: FEBRUARY | F7: MARCH | G7: APRIL | H7: MAY | I7: JUNE | J7: JULY | K7: AUGUST | L7: SEPTEMBER | M7: OCTOBER | N7: NOVEMBER | O7: DECEMBER
B8: Caleb Mullins | C8: 2022 | D8: 150000 | E8: 150000 | F8: 150000 | G8: 150000 | H8: 150000 | I8: 150000 | J8: 175000 | K8: 175000 | L8: 175000 | M8: 175000 | N8: 175000 | O8: 175000
B9: Laura Hartman | C9: 2022 | D9: 150000 | E9: 150000 | F9: 150000 | G9: 150000 | H9: 150000 | I9: 150000 | J9: 175000 | K9: 175000 | L9: 175000 | M9: 175000 | N9: 175000 | O9: 175000
B10: Dustin Santana | C10: 2022 | D10: 150000 | E10: 150000 | F10: 150000 | G10: 150000 | H10: 150000 | I10: 150000 | J10: 175000 | K10: 175000 | L10: 175000 | M10: 175000 | N10: 175000 | O10: 175000
B11: Aidan Yates | C11: 2022 | D11: 200000 | E11: 200000 | F11: 200000 | G11: 200000 | H11: 200000 | I11: 200000 | J11: 250000 | K11: 250000 | L11: 250000 | M11: 250000 | N11: 250000 | O11: 250000
B12: Deanna Holcomb | C12: 2022 | D12: 200000 | E12: 200000 | F12: 200000 | G12: 200000 | H12: 200000 | I12: 200000 | J12: 250000 | K12: 250000 | L12: 250000 | M12: 250000 | N12: 250000 | O12: 250000
B13: Gage Boyd | C13: 2022 | D13: 200000 | E13: 200000 | F13: 200000 | G13: 200000 | H13: 200000 | I13: 200000 | J13: 250000 | K13: 250000 | L13: 250000 | M13: 250000 | N13: 250000 | O13: 250000
B409: =Calc!$AA$12 -> TOTAL SALES ACTUAL (USD)
B410: BROKER | C410: YEAR | D410: JANUARY | E410: FEBRUARY | F410: MARCH | G410: APRIL | H410: MAY | I410: JUNE | J410: JULY | K410: AUGUST | L410: SEPTEMBER | M410: OCTOBER | N410: NOVEMBER | O410: DECEMBER
B411: =IFERROR(INDEX(Calc!$AV$4:$AV$403,Calc!$AC4,1),"") -> Caleb Mullins | C411: =IFERROR(INDEX(Calc!$AW$4:$AW$403,Calc!$AC4,1),"") -> 2022 | D411: 180000 | E411: 170000 | F411: 95000 | G411: 150000 | H411: 140000 | I411: 180000 | J411: 185000 | K411: 150000 | L411: 170000 | M411: 130000 | N411: 145000 | O411: 145000
B412: =IFERROR(INDEX(Calc!$AV$4:$AV$403,Calc!$AC5,1),"") -> Laura Hartman | C412: =IFERROR(INDEX(Calc!$AW$4:$AW$403,Calc!$AC5,1),"") -> 2022 | D412: 135000 | E412: 145000 | F412: 175000 | G412: 140000 | H412: 200000 | I412: 185000 | J412: 145000 | K412: 110000 | L412: 95000 | M412: 195000 | N412: 170000 | O412: 95000
B413: =IFERROR(INDEX(Calc!$AV$4:$AV$403,Calc!$AC6,1),"") -> Dustin Santana | C413: =IFERROR(INDEX(Calc!$AW$4:$AW$403,Calc!$AC6,1),"") -> 2022 | D413: 135000 | E413: 185000 | F413: 150000 | G413: 120000 | H413: 125000 | I413: 135000 | J413: 180000 | K413: 95000 | L413: 145000 | M413: 160000 | N413: 120000 | O413: 15000
B414: =IFERROR(INDEX(Calc!$AV$4:$AV$403,Calc!$AC7,1),"") -> Aidan Yates | C414: =IFERROR(INDEX(Calc!$AW$4:$AW$403,Calc!$AC7,1),"") -> 2022 | D414: 115000 | E414: 125000 | F414: 95000 | G414: 160000 | H414: 95000 | I414: 190000 | J414: 125000 | K414: 185000 | L414: 185000 | M414: 100000 | N414: 130000 | O414: 95000
B415: =IFERROR(INDEX(Calc!$AV$4:$AV$403,Calc!$AC8,1),"") -> Deanna Holcomb | C415: =IFERROR(INDEX(Calc!$AW$4:$AW$403,Calc!$AC8,1),"") -> 2022 | D415: 150000 | E415: 170000 | F415: 190000 | G415: 140000 | H415: 135000 | I415: 125000 | J415: 140000 | K415: 120000 | L415: 95000 | M415: 100000 | N415: 95000 | O415: 195000
B416: =IFERROR(INDEX(Calc!$AV$4:$AV$403,Calc!$AC9,1),"") -> Gage Boyd | C416: =IFERROR(INDEX(Calc!$AW$4:$AW$403,Calc!$AC9,1),"") -> 2022 | D416: 135000 | E416: 160000 | F416: 100000 | G416: 100000 | H416: 185000 | I416: 170000 | J416: 95000 | K416: 160000 | L416: 120000 | M416: 130000 | N416: 190000 | O416: 170000
B417: =IFERROR(INDEX(Calc!$AV$4:$AV$403,Calc!$AC10,1),"") | C417: =IFERROR(INDEX(Calc!$AW$4:$AW$403,Calc!$AC10,1),"")
B418: =IFERROR(INDEX(Calc!$AV$4:$AV$403,Calc!$AC11,1),"") | C418: =IFERROR(INDEX(Calc!$AW$4:$AW$403,Calc!$AC11,1),"")
B419: =IFERROR(INDEX(Calc!$AV$4:$AV$403,Calc!$AC12,1),"") | C419: =IFERROR(INDEX(Calc!$AW$4:$AW$403,Calc!$AC12,1),"")
B420: =IFERROR(INDEX(Calc!$AV$4:$AV$403,Calc!$AC13,1),"") | C420: =IFERROR(INDEX(Calc!$AW$4:$AW$403,Calc!$AC13,1),"")

Sheet PropertyDatabase
B2: REAL ESTATE AGENCY TEMPLATE
B3: PROPERTY DATABASE
B5: PROPERTY ID | C5: PROPERTY NAME | D5: OWNER NAME | E5: OWNER CONTACT INFO | F5: PROPERTY TYPE | G5: PROPERTY ADDRESS (Optional) | H5: =IF(LEN(currency)=0,"RENT PRICE","RENT PRICE "&"("&currency&")") -> RENT PRICE (USD) | I5: =IF(LEN(currency)=0,"SELLING PRICE","SELLING PRICE "&"("&currency&")") -> SELLING PRICE (USD)
B6: 101 | C6: Property 1 | D6: Jemima Begum | E6: jemima@mail.com | F6: Tiny Home | G6: 8724 Smith Drive Buffalo 14221 | H6: 500 | I6: 125000
B7: 102 | C7: Property 2 | D7: Mercedes Banks | E7: mercedes@mail.com | F7: Flat | G7: 320 Wentworth Lane Hempstead 11550 | H7: 1500 | I7: 375000
B8: 103 | C8: Property 3 | D8: Macauley Peck | E8: macauley@mail.com | F8: Townhome | G8: 369 Cambridge St. Ridgewood 1138 | H8: 1250 | I8: 500000
B9: 104 | C9: Property 4 | D9: Hannah Shaw | E9: hannah@mail.com | F9: Flat | G9: 975 Edgewood St. Brooklyn 11214 | H9: 750 | I9: 450000
B10: 105 | C10: Property 5 | D10: Carmel Beltran | E10: carmel@mail.com | F10: Townhome | G10: 74 Trusel Rd. Troy 12180
B11: 106 | C11: Property 6 | D11: Sarah-Jayne Morrison | E11: sarah-jayne@mail.com | F11: Flat | G11: 56 La Sierra Dr. Bronx10467
B12: 107 | C12: Property 7 | D12: Alyce Milner | E12: alyce@mail.com | F12: Townhome | G12: 75 Windsor Dr. Brooklyn 11219
B13: 108 | C13: Property 8 | D13: Aviana Kenny | E13: 202-555-8915 | F13: Office | G13: 151 Euclid Dr. Bronx 10472
B14: 109 | C14: Property 9 | D14: Harris Montes | E14: 202-555-3086 | F14: Townhome | G14: 60 rue Nationale 75003
B15: 110 | C15: Property 10 | D15: Doris Power | E15: 202-555-3023 | F15: Flat | G15: 216 Pine Street Auburn 13021
B16: 111 | C16: Property 11 | D16: Isobelle Hurley | E16: 202-555-4252 | F16: Townhome | G16: 147 Silver Spear Ave. Suite 454 10034
B17: 112 | C17: Property 12 | D17: Donell Merrill | E17: 202-555-3642 | F17: Office | G17: 79 Shadow Brook Drive Brooklyn 11228
B18: 113 | C18: Property 13 | D18: Jane Best | E18: 202-555-5342 | F18: Townhome | G18: 1 South Devonshire Ave. Forest Hills 11375
B19: 114 | C19: Property 14 | D19: Kristofer Dyer | E19: 202-555-6367 | F19: Office | G19: 7823 Wild Rose Court Poughkeepsie 12601
B20: 115 | C20: Property 15 | D20: Dominykas Xiong | E20: 202-555-7532 | F20: Townhome | G20: 8205 Sherman St. Brooklyn 11223

Sheet TaskDatabase
C2: REAL ESTATE AGENCY TEMPLATE
C3: TASK DATABASE
B5: TASK ID | C5: BROKER | D5: STARTING DATE | E5: PROPERTY ID - NAME | F5: PROPERTY TYPE | G5: PROPERTY ADDRESS | H5: =IF(LEN(currency)=0,"RENT PRICE","RENT PRICE "&"("&currency&")") -> RENT PRICE (USD) | I5: =IF(LEN(currency)=0,"SELLING PRICE","SELLING PRICE "&"("&currency&")") -> SELLING PRICE (USD) | J5: OWNER NAME | K5: OWNER CONTACT INFO | L5: CUSTOMER NAME | M5: CUSTOMER CONTACT INFO | N5: SERVICE TYPE | O5: =IF(LEN(currency)=0,"TOTAL PRICE","TOTAL PRICE "&"("&currency&")") -> TOTAL PRICE (USD) | P5: COMMISSON RATE (%) | Q5: =IF(LEN(currency)=0,"TOTAL COMMISSION","TOTAL COMMISSION "&"("&currency&")") -> TOTAL COMMISSION (USD) | R5: BROKERAGE COMMISSION RATE (%) | S5: =IF(LEN(currency)=0,"BROKERAGE COMMISSION","BROKERAGE COMMISSION "&"("&currency&")") -> BROKERAGE COMMISSION (USD) | T5: =IF(LEN(currency)=0,"COMMISSION ADJUSTMENT","COMMISSION ADJUSTMENT "&"("&currency&")") -> COMMISSION ADJUSTMENT (USD) | U5: =IF(LEN(currency)=0,"NET COMMISSION","NET COMMISSION "&"("&currency&")") -> NET COMMISSION (USD) | V5: =IF(LEN(currency)=0,"COMMISSION (Manual)","COMMISSION (Manual) "&"("&currency&")") -> COMMISSION (Manual) (USD) | W5: TASK STATUS | X5: CURRENT STAGE DATE
B6: 1001 | C6: Caleb Mullins | D6: 44927 | E6: 101 - Property 1 | F6: =IFERROR(IF(LEN($E6)=0,"",INDEX(Calc!$BS$4:$BS$1003,MATCH($E6,Calc!$BX$4:$BX$1003,0),1)),"-") -> Tiny Home | G6: =IFERROR(IF(LEN($E6)=0,"",INDEX(Calc!$BT$4:$BT$1003,MATCH($E6,Calc!$BX$4:$BX$1003,0),1)),"-") -> 8724 Smith Drive Buffalo 14221 | H6: =IFERROR(IF(LEN($E6)=0,"",INDEX(Calc!$BU$4:$BU$1003,MATCH($E6,Calc!$BX$4:$BX$1003,0),1)),"-") -> 500 | I6: =IFERROR(IF(LEN($E6)=0,"",INDEX(Calc!$BV$4:$BV$1003,MATCH($E6,Calc!$BX$4:$BX$1003,0),1)),"-") -> 125000 | J6: =IFERROR(IF(LEN($E6)=0,"",INDEX(Calc!$BQ$4:$BQ$1003,MATCH($E6,Calc!$BX$4:$BX$1003,0),1)),"-") -> Jemima Begum | K6: =IFERROR(IF(LEN($E6)=0,"",INDEX(Calc!$BR$4:$BR$1003,MATCH($E6,Calc!$BX$4:$BX$1003,0),1)),"-") -> jemima@mail.com | L6: Stephen Ruvituso | M6: 347-840-4245 | N6: Sale | O6: 175000 | P6: 0.05 | Q6: =IFERROR(IF(LEN($E6)=0,"",$O6*$P6),"") -> 8750 | R6: 0.1 | S6: =IFERROR(IF(LEN($E6)=0,"",$Q6*$R6),"") -> 875 | T6: 250 | U6: =IFERROR(IF(LEN($E6)=0,"",$Q6-$S6-$T6),"") -> 7625 | V6: 7250 | W6: Property Inspection | X6: 44941
B7: 1002 | C7: Laura Hartman | D7: 44941 | E7: 103 - Property 3 | F7: =IFERROR(IF(LEN($E7)=0,"",INDEX(Calc!$BS$4:$BS$1003,MATCH($E7,Calc!$BX$4:$BX$1003,0),1)),"-") -> Townhome | G7: =IFERROR(IF(LEN($E7)=0,"",INDEX(Calc!$BT$4:$BT$1003,MATCH($E7,Calc!$BX$4:$BX$1003,0),1)),"-") -> 369 Cambridge St. Ridgewood 1138 | H7: =IFERROR(IF(LEN($E7)=0,"",INDEX(Calc!$BU$4:$BU$1003,MATCH($E7,Calc!$BX$4:$BX$1003,0),1)),"-") -> 1250 | I7: =IFERROR(IF(LEN($E7)=0,"",INDEX(Calc!$BV$4:$BV$1003,MATCH($E7,Calc!$BX$4:$BX$1003,0),1)),"-") -> 500000 | J7: =IFERROR(IF(LEN($E7)=0,"",INDEX(Calc!$BQ$4:$BQ$1003,MATCH($E7,Calc!$BX$4:$BX$1003,0),1)),"-") -> Macauley Peck | K7: =IFERROR(IF(LEN($E7)=0,"",INDEX(Calc!$BR$4:$BR$1003,MATCH($E7,Calc!$BX$4:$BX$1003,0),1)),"-") -> macauley@mail.com | L7: Rich Abrams | M7: 646-427-2065 | N7: Sale | O7: 155000 | P7: 0.03 | Q7: =IFERROR(IF(LEN($E7)=0,"",$O7*$P7),"") -> 4650 | R7: 0.15 | S7: =IFERROR(IF(LEN($E7)=0,"",$Q7*$R7),"") -> 697.5 | U7: =IFERROR(IF(LEN($E7)=0,"",$Q7-$S7-$T7),"") -> 3952.5 | W7: Financing | X7: 44950
B8: 1003 | C8: Dustin Santana | D8: 44982 | E8: 107 - Property 7 | F8: =IFERROR(IF(LEN($E8)=0,"",INDEX(Calc!$BS$4:$BS$1003,MATCH($E8,Calc!$BX$4:$BX$1003,0),1)),"-") -> Townhome | G8: =IFERROR(IF(LEN($E8)=0,"",INDEX(Calc!$BT$4:$BT$1003,MATCH($E8,Calc!$BX$4:$BX$1003,0),1)),"-") -> 75 Windsor Dr. Brooklyn 11219 | H8: =IFERROR(IF(LEN($E8)=0,"",INDEX(Calc!$BU$4:$BU$1003,MATCH($E8,Calc!$BX$4:$BX$1003,0),1)),"-") -> - | I8: =IFERROR(IF(LEN($E8)=0,"",INDEX(Calc!$BV$4:$BV$1003,MATCH($E8,Calc!$BX$4:$BX$1003,0),1)),"-") -> - | J8: =IFERROR(IF(LEN($E8)=0,"",INDEX(Calc!$BQ$4:$BQ$1003,MATCH($E8,Calc!$BX$4:$BX$1003,0),1)),"-") -> Alyce Milner | K8: =IFERROR(IF(LEN($E8)=0,"",INDEX(Calc!$BR$4:$BR$1003,MATCH($E8,Calc!$BX$4:$BX$1003,0),1)),"-") -> alyce@mail.com | L8: Corby May | M8: 212-486-7090 | N8: Rent | O8: 1500 | P8: 1 | Q8: =IFERROR(IF(LEN($E8)=0,"",$O8*$P8),"") -> 1500 | R8: 0.12 | S8: =IFERROR(IF(LEN($E8)=0,"",$Q8*$R8),"") -> 180 | U8: =IFERROR(IF(LEN($E8)=0,"",$Q8-$S8-$T8),"") -> 1320 | W8: Agreement | X8: 45000
B9: 1004 | C9: Aidan Yates | D9: 44997 | E9: 105 - Property 5 | F9: =IFERROR(IF(LEN($E9)=0,"",INDEX(Calc!$BS$4:$BS$1003,MATCH($E9,Calc!$BX$4:$BX$1003,0),1)),"-") -> Townhome | G9: =IFERROR(IF(LEN($E9)=0,"",INDEX(Calc!$BT$4:$BT$1003,MATCH($E9,Calc!$BX$4:$BX$1003,0),1)),"-") -> 74 Trusel Rd. Troy 12180 | H9: =IFERROR(IF(LEN($E9)=0,"",INDEX(Calc!$BU$4:$BU$1003,MATCH($E9,Calc!$BX$4:$BX$1003,0),1)),"-") -> - | I9: =IFERROR(IF(LEN($E9)=0,"",INDEX(Calc!$BV$4:$BV$1003,MATCH($E9,Calc!$BX$4:$BX$1003,0),1)),"-") -> - | J9: =IFERROR(IF(LEN($E9)=0,"",INDEX(Calc!$BQ$4:$BQ$1003,MATCH($E9,Calc!$BX$4:$BX$1003,0),1)),"-") -> Carmel Beltran | K9: =IFERROR(IF(LEN($E9)=0,"",INDEX(Calc!$BR$4:$BR$1003,MATCH($E9,Calc!$BX$4:$BX$1003,0),1)),"-") -> carmel@mail.com | L9: Nicole Andres | M9: 646-233-6736 | N9: Rent | O9: 2000 | P9: 1 | Q9: =IFERROR(IF(LEN($E9)=0,"",$O9*$P9),"") -> 2000 | R9: 0.15 | S9: =IFERROR(IF(LEN($E9)=0,"",$Q9*$R9),"") -> 300 | T9: 500 | U9: =IFERROR(IF(LEN($E9)=0,"",$Q9-$S9-$T9),"") -> 1200 | W9: Cancelled | X9: 45012
B10: 1005 | C10: Deanna Holcomb | D10: 45030 | E10: 110 - Property 10 | F10: =IFERROR(IF(LEN($E10)=0,"",INDEX(Calc!$BS$4:$BS$1003,MATCH($E10,Calc!$BX$4:$BX$1003,0),1)),"-") -> Flat | G10: =IFERROR(IF(LEN($E10)=0,"",INDEX(Calc!$BT$4:$BT$1003,MATCH($E10,Calc!$BX$4:$BX$1003,0),1)),"-") -> 216 Pine Street Auburn 13021 | H10: =IFERROR(IF(LEN($E10)=0,"",INDEX(Calc!$BU$4:$BU$1003,MATCH($E10,Calc!$BX$4:$BX$1003,0),1)),"-") -> - | I10: =IFERROR(IF(LEN($E10)=0,"",INDEX(Calc!$BV$4:$BV$1003,MATCH($E10,Calc!$BX$4:$BX$1003,0),1)),"-") -> - | J10: =IFERROR(IF(LEN($E10)=0,"",INDEX(Calc!$BQ$4:$BQ$1003,MATCH($E10,Calc!$BX$4:$BX$1003,0),1)),"-") -> Doris Power | K10: =IFERROR(IF(LEN($E10)=0,"",INDEX(Calc!$BR$4:$BR$1003,MATCH($E10,Calc!$BX$4:$BX$1003,0),1)),"-") -> 202-555-3023 | L10: Leonard Boccia | M10: 917-668-2222 | N10: Rent | O10: 1750 | P10: 1 | Q10: =IFERROR(IF(LEN($E10)=0,"",$O10*$P10),"") -> 1750 | R10: 0.1 | S10: =IFERROR(IF(LEN($E10)=0,"",$Q10*$R10),"") -> 175 | U10: =IFERROR(IF(LEN($E10)=0,"",$Q10-$S10-$T10),"") -> 1575 | W10: Paid | X10: 45103
B11: 1006 | C11: Gage Boyd | D11: 45064 | E11: 107 - Property 7 | F11: =IFERROR(IF(LEN($E11)=0,"",INDEX(Calc!$BS$4:$BS$1003,MATCH($E11,Calc!$BX$4:$BX$1003,0),1)),"-") -> Townhome | G11: =IFERROR(IF(LEN($E11)=0,"",INDEX(Calc!$BT$4:$BT$1003,MATCH($E11,Calc!$BX$4:$BX$1003,0),1)),"-") -> 75 Windsor Dr. Brooklyn 11219 | H11: =IFERROR(IF(LEN($E11)=0,"",INDEX(Calc!$BU$4:$BU$1003,MATCH($E11,Calc!$BX$4:$BX$1003,0),1)),"-") -> - | I11: =IFERROR(IF(LEN($E11)=0,"",INDEX(Calc!$BV$4:$BV$1003,MATCH($E11,Calc!$BX$4:$BX$1003,0),1)),"-") -> - | J11: =IFERROR(IF(LEN($E11)=0,"",INDEX(Calc!$BQ$4:$BQ$1003,MATCH($E11,Calc!$BX$4:$BX$1003,0),1)),"-") -> Alyce Milner | K11: =IFERROR(IF(LEN($E11)=0,"",INDEX(Calc!$BR$4:$BR$1003,MATCH($E11,Calc!$BX$4:$BX$1003,0),1)),"-") -> alyce@mail.com | L11: William Einstein | M11: 347-308-9002 | N11: Sale | O11: 190000 | P11: 0.04 | Q11: =IFERROR(IF(LEN($E11)=0,"",$O11*$P11),"") -> 7600 | R11: 0.15 | S11: =IFERROR(IF(LEN($E11)=0,"",$Q11*$R11),"") -> 1140 | U11: =IFERROR(IF(LEN($E11)=0,"",$Q11-$S11-$T11),"") -> 6460 | W11: Paid | X11: 45096
B12: 1007 | C12: Nash Goodwin | D12: 45093 | E12: 112 - Property 12 | F12: =IFERROR(IF(LEN($E12)=0,"",INDEX(Calc!$BS$4:$BS$1003,MATCH($E12,Calc!$BX$4:$BX$1003,0),1)),"-") -> Office | G12: =IFERROR(IF(LEN($E12)=0,"",INDEX(Calc!$BT$4:$BT$1003,MATCH($E12,Calc!$BX$4:$BX$1003,0),1)),"-") -> 79 Shadow Brook Drive Brooklyn 11228 | H12: =IFERROR(IF(LEN($E12)=0,"",INDEX(Calc!$BU$4:$BU$1003,MATCH($E12,Calc!$BX$4:$BX$1003,0),1)),"-") -> - | I12: =IFERROR(IF(LEN($E12)=0,"",INDEX(Calc!$BV$4:$BV$1003,MATCH($E12,Calc!$BX$4:$BX$1003,0),1)),"-") -> - | J12: =IFERROR(IF(LEN($E12)=0,"",INDEX(Calc!$BQ$4:$BQ$1003,MATCH($E12,Calc!$BX$4:$BX$1003,0),1)),"-") -> Donell Merrill | K12: =IFERROR(IF(LEN($E12)=0,"",INDEX(Calc!$BR$4:$BR$1003,MATCH($E12,Calc!$BX$4:$BX$1003,0),1)),"-") -> 202-555-3642 | L12: Craig Pastolove | M12: 646-218-9857 | N12: Sale | O12: 210000 | P12: 0.05 | Q12: =IFERROR(IF(LEN($E12)=0,"",$O12*$P12),"") -> 10500 | R12: 0.1 | S12: =IFERROR(IF(LEN($E12)=0,"",$Q12*$R12),"") -> 1050 | T12: 750 | U12: =IFERROR(IF(LEN($E12)=0,"",$Q12-$S12-$T12),"") -> 8700 | W12: Paid | X12: 45131
B13: 1008 | C13: Hayley Leblanc | D13: 45157 | E13: 106 - Property 6 | F13: =IFERROR(IF(LEN($E13)=0,"",INDEX(Calc!$BS$4:$BS$1003,MATCH($E13,Calc!$BX$4:$BX$1003,0),1)),"-") -> Flat | G13: =IFERROR(IF(LEN($E13)=0,"",INDEX(Calc!$BT$4:$BT$1003,MATCH($E13,Calc!$BX$4:$BX$1003,0),1)),"-") -> 56 La Sierra Dr. Bronx10467 | H13: =IFERROR(IF(LEN($E13)=0,"",INDEX(Calc!$BU$4:$BU$1003,MATCH($E13,Calc!$BX$4:$BX$1003,0),1)),"-") -> - | I13: =IFERROR(IF(LEN($E13)=0,"",INDEX(Calc!$BV$4:$BV$1003,MATCH($E13,Calc!$BX$4:$BX$1003,0),1)),"-") -> - | J13: =IFERROR(IF(LEN($E13)=0,"",INDEX(Calc!$BQ$4:$BQ$1003,MATCH($E13,Calc!$BX$4:$BX$1003,0),1)),"-") -> Sarah-Jayne Morrison | K13: =IFERROR(IF(LEN($E13)=0,"",INDEX(Calc!$BR$4:$BR$1003,MATCH($E13,Calc!$BX$4:$BX$1003,0),1)),"-") -> sarah-jayne@mail.com | L13: Geri Pell | M13: 212-686-5566 | N13: Sale | O13: 240000 | P13: 0.03 | Q13: =IFERROR(IF(LEN($E13)=0,"",$O13*$P13),"") -> 7200 | R13: 0.15 | S13: =IFERROR(IF(LEN($E13)=0,"",$Q13*$R13),"") -> 1080 | U13: =IFERROR(IF(LEN($E13)=0,"",$Q13-$S13-$T13),"") -> 6120 | W13: Financing | X13: 45165
F14: =IFERROR(IF(LEN($E14)=0,"",INDEX(Calc!$BS$4:$BS$1003,MATCH($E14,Calc!$BX$4:$BX$1003,0),1)),"-") | G14: =IFERROR(IF(LEN($E14)=0,"",INDEX(Calc!$BT$4:$BT$1003,MATCH($E14,Calc!$BX$4:$BX$1003,0),1)),"-") | H14: =IFERROR(IF(LEN($E14)=0,"",INDEX(Calc!$BU$4:$BU$1003,MATCH($E14,Calc!$BX$4:$BX$1003,0),1)),"-") | I14: =IFERROR(IF(LEN($E14)=0,"",INDEX(Calc!$BV$4:$BV$1003,MATCH($E14,Calc!$BX$4:$BX$1003,0),1)),"-") | J14: =IFERROR(IF(LEN($E14)=0,"",INDEX(Calc!$BQ$4:$BQ$1003,MATCH($E14,Calc!$BX$4:$BX$1003,0),1)),"-") | K14: =IFERROR(IF(LEN($E14)=0,"",INDEX(Calc!$BR$4:$BR$1003,MATCH($E14,Calc!$BX$4:$BX$1003,0),1)),"-") | Q14: =IFERROR(IF(LEN($E14)=0,"",$O14*$P14),"") | S14: =IFERROR(IF(LEN($E14)=0,"",$Q14*$R14),"") | U14: =IFERROR(IF(LEN($E14)=0,"",$Q14-$S14-$T14),"")
F15: =IFERROR(IF(LEN($E15)=0,"",INDEX(Calc!$BS$4:$BS$1003,MATCH($E15,Calc!$BX$4:$BX$1003,0),1)),"-") | G15: =IFERROR(IF(LEN($E15)=0,"",INDEX(Calc!$BT$4:$BT$1003,MATCH($E15,Calc!$BX$4:$BX$1003,0),1)),"-") | H15: =IFERROR(IF(LEN($E15)=0,"",INDEX(Calc!$BU$4:$BU$1003,MATCH($E15,Calc!$BX$4:$BX$1003,0),1)),"-") | I15: =IFERROR(IF(LEN($E15)=0,"",INDEX(Calc!$BV$4:$BV$1003,MATCH($E15,Calc!$BX$4:$BX$1003,0),1)),"-") | J15: =IFERROR(IF(LEN($E15)=0,"",INDEX(Calc!$BQ$4:$BQ$1003,MATCH($E15,Calc!$BX$4:$BX$1003,0),1)),"-") | K15: =IFERROR(IF(LEN($E15)=0,"",INDEX(Calc!$BR$4:$BR$1003,MATCH($E15,Calc!$BX$4:$BX$1003,0),1)),"-") | Q15: =IFERROR(IF(LEN($E15)=0,"",$O15*$P15),"") | S15: =IFERROR(IF(LEN($E15)=0,"",$Q15*$R15),"") | U15: =IFERROR(IF(LEN($E15)=0,"",$Q15-$S15-$T15),"")
F16: =IFERROR(IF(LEN($E16)=0,"",INDEX(Calc!$BS$4:$BS$1003,MATCH($E16,Calc!$BX$4:$BX$1003,0),1)),"-") | G16: =IFERROR(IF(LEN($E16)=0,"",INDEX(Calc!$BT$4:$BT$1003,MATCH($E16,Calc!$BX$4:$BX$1003,0),1)),"-") | H16: =IFERROR(IF(LEN($E16)=0,"",INDEX(Calc!$BU$4:$BU$1003,MATCH($E16,Calc!$BX$4:$BX$1003,0),1)),"-") | I16: =IFERROR(IF(LEN($E16)=0,"",INDEX(Calc!$BV$4:$BV$1003,MATCH($E16,Calc!$BX$4:$BX$1003,0),1)),"-") | J16: =IFERROR(IF(LEN($E16)=0,"",INDEX(Calc!$BQ$4:$BQ$1003,MATCH($E16,Calc!$BX$4:$BX$1003,0),1)),"-") | K16: =IFERROR(IF(LEN($E16)=0,"",INDEX(Calc!$BR$4:$BR$1003,MATCH($E16,Calc!$BX$4:$BX$1003,0),1)),"-") | Q16: =IFERROR(IF(LEN($E16)=0,"",$O16*$P16),"") | S16: =IFERROR(IF(LEN($E16)=0,"",$Q16*$R16),"") | U16: =IFERROR(IF(LEN($E16)=0,"",$Q16-$S16-$T16),"")
F17: =IFERROR(IF(LEN($E17)=0,"",INDEX(Calc!$BS$4:$BS$1003,MATCH($E17,Calc!$BX$4:$BX$1003,0),1)),"-") | G17: =IFERROR(IF(LEN($E17)=0,"",INDEX(Calc!$BT$4:$BT$1003,MATCH($E17,Calc!$BX$4:$BX$1003,0),1)),"-") | H17: =IFERROR(IF(LEN($E17)=0,"",INDEX(Calc!$BU$4:$BU$1003,MATCH($E17,Calc!$BX$4:$BX$1003,0),1)),"-") | I17: =IFERROR(IF(LEN($E17)=0,"",INDEX(Calc!$BV$4:$BV$1003,MATCH($E17,Calc!$BX$4:$BX$1003,0),1)),"-") | J17: =IFERROR(IF(LEN($E17)=0,"",INDEX(Calc!$BQ$4:$BQ$1003,MATCH($E17,Calc!$BX$4:$BX$1003,0),1)),"-") | K17: =IFERROR(IF(LEN($E17)=0,"",INDEX(Calc!$BR$4:$BR$1003,MATCH($E17,Calc!$BX$4:$BX$1003,0),1)),"-") | Q17: =IFERROR(IF(LEN($E17)=0,"",$O17*$P17),"") | S17: =IFERROR(IF(LEN($E17)=0,"",$Q17*$R17),"") | U17: =IFERROR(IF(LEN($E17)=0,"",$Q17-$S17-$T17),"")
F18: =IFERROR(IF(LEN($E18)=0,"",INDEX(Calc!$BS$4:$BS$1003,MATCH($E18,Calc!$BX$4:$BX$1003,0),1)),"-") | G18: =IFERROR(IF(LEN($E18)=0,"",INDEX(Calc!$BT$4:$BT$1003,MATCH($E18,Calc!$BX$4:$BX$1003,0),1)),"-") | H18: =IFERROR(IF(LEN($E18)=0,"",INDEX(Calc!$BU$4:$BU$1003,MATCH($E18,Calc!$BX$4:$BX$1003,0),1)),"-") | I18: =IFERROR(IF(LEN($E18)=0,"",INDEX(Calc!$BV$4:$BV$1003,MATCH($E18,Calc!$BX$4:$BX$1003,0),1)),"-") | J18: =IFERROR(IF(LEN($E18)=0,"",INDEX(Calc!$BQ$4:$BQ$1003,MATCH($E18,Calc!$BX$4:$BX$1003,0),1)),"-") | K18: =IFERROR(IF(LEN($E18)=0,"",INDEX(Calc!$BR$4:$BR$1003,MATCH($E18,Calc!$BX$4:$BX$1003,0),1)),"-") | Q18: =IFERROR(IF(LEN($E18)=0,"",$O18*$P18),"") | S18: =IFERROR(IF(LEN($E18)=0,"",$Q18*$R18),"") | U18: =IFERROR(IF(LEN($E18)=0,"",$Q18-$S18-$T18),"")
F19: =IFERROR(IF(LEN($E19)=0,"",INDEX(Calc!$BS$4:$BS$1003,MATCH($E19,Calc!$BX$4:$BX$1003,0),1)),"-") | G19: =IFERROR(IF(LEN($E19)=0,"",INDEX(Calc!$BT$4:$BT$1003,MATCH($E19,Calc!$BX$4:$BX$1003,0),1)),"-") | H19: =IFERROR(IF(LEN($E19)=0,"",INDEX(Calc!$BU$4:$BU$1003,MATCH($E19,Calc!$BX$4:$BX$1003,0),1)),"-") | I19: =IFERROR(IF(LEN($E19)=0,"",INDEX(Calc!$BV$4:$BV$1003,MATCH($E19,Calc!$BX$4:$BX$1003,0),1)),"-") | J19: =IFERROR(IF(LEN($E19)=0,"",INDEX(Calc!$BQ$4:$BQ$1003,MATCH($E19,Calc!$BX$4:$BX$1003,0),1)),"-") | K19: =IFERROR(IF(LEN($E19)=0,"",INDEX(Calc!$BR$4:$BR$1003,MATCH($E19,Calc!$BX$4:$BX$1003,0),1)),"-") | Q19: =IFERROR(IF(LEN($E19)=0,"",$O19*$P19),"") | S19: =IFERROR(IF(LEN($E19)=0,"",$Q19*$R19),"") | U19: =IFERROR(IF(LEN($E19)=0,"",$Q19-$S19-$T19),"")
F20: =IFERROR(IF(LEN($E20)=0,"",INDEX(Calc!$BS$4:$BS$1003,MATCH($E20,Calc!$BX$4:$BX$1003,0),1)),"-") | G20: =IFERROR(IF(LEN($E20)=0,"",INDEX(Calc!$BT$4:$BT$1003,MATCH($E20,Calc!$BX$4:$BX$1003,0),1)),"-") | H20: =IFERROR(IF(LEN($E20)=0,"",INDEX(Calc!$BU$4:$BU$1003,MATCH($E20,Calc!$BX$4:$BX$1003,0),1)),"-") | I20: =IFERROR(IF(LEN($E20)=0,"",INDEX(Calc!$BV$4:$BV$1003,MATCH($E20,Calc!$BX$4:$BX$1003,0),1)),"-") | J20: =IFERROR(IF(LEN($E20)=0,"",INDEX(Calc!$BQ$4:$BQ$1003,MATCH($E20,Calc!$BX$4:$BX$1003,0),1)),"-") | K20: =IFERROR(IF(LEN($E20)=0,"",INDEX(Calc!$BR$4:$BR$1003,MATCH($E20,Calc!$BX$4:$BX$1003,0),1)),"-") | Q20: =IFERROR(IF(LEN($E20)=0,"",$O20*$P20),"") | S20: =IFERROR(IF(LEN($E20)=0,"",$Q20*$R20),"") | U20: =IFERROR(IF(LEN($E20)=0,"",$Q20-$S20-$T20),"")
F21: =IFERROR(IF(LEN($E21)=0,"",INDEX(Calc!$BS$4:$BS$1003,MATCH($E21,Calc!$BX$4:$BX$1003,0),1)),"-") | G21: =IFERROR(IF(LEN($E21)=0,"",INDEX(Calc!$BT$4:$BT$1003,MATCH($E21,Calc!$BX$4:$BX$1003,0),1)),"-") | H21: =IFERROR(IF(LEN($E21)=0,"",INDEX(Calc!$BU$4:$BU$1003,MATCH($E21,Calc!$BX$4:$BX$1003,0),1)),"-") | I21: =IFERROR(IF(LEN($E21)=0,"",INDEX(Calc!$BV$4:$BV$1003,MATCH($E21,Calc!$BX$4:$BX$1003,0),1)),"-") | J21: =IFERROR(IF(LEN($E21)=0,"",INDEX(Calc!$BQ$4:$BQ$1003,MATCH($E21,Calc!$BX$4:$BX$1003,0),1)),"-") | K21: =IFERROR(IF(LEN($E21)=0,"",INDEX(Calc!$BR$4:$BR$1003,MATCH($E21,Calc!$BX$4:$BX$1003,0),1)),"-") | Q21: =IFERROR(IF(LEN($E21)=0,"",$O21*$P21),"") | S21: =IFERROR(IF(LEN($E21)=0,"",$Q21*$R21),"") | U21: =IFERROR(IF(LEN($E21)=0,"",$Q21-$S21-$T21),"")
F22: =IFERROR(IF(LEN($E22)=0,"",INDEX(Calc!$BS$4:$BS$1003,MATCH($E22,Calc!$BX$4:$BX$1003,0),1)),"-") | G22: =IFERROR(IF(LEN($E22)=0,"",INDEX(Calc!$BT$4:$BT$1003,MATCH($E22,Calc!$BX$4:$BX$1003,0),1)),"-") | H22: =IFERROR(IF(LEN($E22)=0,"",INDEX(Calc!$BU$4:$BU$1003,MATCH($E22,Calc!$BX$4:$BX$1003,0),1)),"-") | I22: =IFERROR(IF(LEN($E22)=0,"",INDEX(Calc!$BV$4:$BV$1003,MATCH($E22,Calc!$BX$4:$BX$1003,0),1)),"-") | J22: =IFERROR(IF(LEN($E22)=0,"",INDEX(Calc!$BQ$4:$BQ$1003,MATCH($E22,Calc!$BX$4:$BX$1003,0),1)),"-") | K22: =IFERROR(IF(LEN($E22)=0,"",INDEX(Calc!$BR$4:$BR$1003,MATCH($E22,Calc!$BX$4:$BX$1003,0),1)),"-") | Q22: =IFERROR(IF(LEN($E22)=0,"",$O22*$P22),"") | S22: =IFERROR(IF(LEN($E22)=0,"",$Q22*$R22),"") | U22: =IFERROR(IF(LEN($E22)=0,"",$Q22-$S22-$T22),"")
F23: =IFERROR(IF(LEN($E23)=0,"",INDEX(Calc!$BS$4:$BS$1003,MATCH($E23,Calc!$BX$4:$BX$1003,0),1)),"-") | G23: =IFERROR(IF(LEN($E23)=0,"",INDEX(Calc!$BT$4:$BT$1003,MATCH($E23,Calc!$BX$4:$BX$1003,0),1)),"-") | H23: =IFERROR(IF(LEN($E23)=0,"",INDEX(Calc!$BU$4:$BU$1003,MATCH($E23,Calc!$BX$4:$BX$1003,0),1)),"-") | I23: =IFERROR(IF(LEN($E23)=0,"",INDEX(Calc!$BV$4:$BV$1003,MATCH($E23,Calc!$BX$4:$BX$1003,0),1)),"-") | J23: =IFERROR(IF(LEN($E23)=0,"",INDEX(Calc!$BQ$4:$BQ$1003,MATCH($E23,Calc!$BX$4:$BX$1003,0),1)),"-") | K23: =IFERROR(IF(LEN($E23)=0,"",INDEX(Calc!$BR$4:$BR$1003,MATCH($E23,Calc!$BX$4:$BX$1003,0),1)),"-") | Q23: =IFERROR(IF(LEN($E23)=0,"",$O23*$P23),"") | S23: =IFERROR(IF(LEN($E23)=0,"",$Q23*$R23),"") | U23: =IFERROR(IF(LEN($E23)=0,"",$Q23-$S23-$T23),"")
F24: =IFERROR(IF(LEN($E24)=0,"",INDEX(Calc!$BS$4:$BS$1003,MATCH($E24,Calc!$BX$4:$BX$1003,0),1)),"-") | G24: =IFERROR(IF(LEN($E24)=0,"",INDEX(Calc!$BT$4:$BT$1003,MATCH($E24,Calc!$BX$4:$BX$1003,0),1)),"-") | H24: =IFERROR(IF(LEN($E24)=0,"",INDEX(Calc!$BU$4:$BU$1003,MATCH($E24,Calc!$BX$4:$BX$1003,0),1)),"-") | I24: =IFERROR(IF(LEN($E24)=0,"",INDEX(Calc!$BV$4:$BV$1003,MATCH($E24,Calc!$BX$4:$BX$1003,0),1)),"-") | J24: =IFERROR(IF(LEN($E24)=0,"",INDEX(Calc!$BQ$4:$BQ$1003,MATCH($E24,Calc!$BX$4:$BX$1003,0),1)),"-") | K24: =IFERROR(IF(LEN($E24)=0,"",INDEX(Calc!$BR$4:$BR$1003,MATCH($E24,Calc!$BX$4:$BX$1003,0),1)),"-") | Q24: =IFERROR(IF(LEN($E24)=0,"",$O24*$P24),"") | S24: =IFERROR(IF(LEN($E24)=0,"",$Q24*$R24),"") | U24: =IFERROR(IF(LEN($E24)=0,"",$Q24-$S24-$T24),"")
F25: =IFERROR(IF(LEN($E25)=0,"",INDEX(Calc!$BS$4:$BS$1003,MATCH($E25,Calc!$BX$4:$BX$1003,0),1)),"-") | G25: =IFERROR(IF(LEN($E25)=0,"",INDEX(Calc!$BT$4:$BT$1003,MATCH($E25,Calc!$BX$4:$BX$1003,0),1)),"-") | H25: =IFERROR(IF(LEN($E25)=0,"",INDEX(Calc!$BU$4:$BU$1003,MATCH($E25,Calc!$BX$4:$BX$1003,0),1)),"-") | I25: =IFERROR(IF(LEN($E25)=0,"",INDEX(Calc!$BV$4:$BV$1003,MATCH($E25,Calc!$BX$4:$BX$1003,0),1)),"-") | J25: =IFERROR(IF(LEN($E25)=0,"",INDEX(Calc!$BQ$4:$BQ$1003,MATCH($E25,Calc!$BX$4:$BX$1003,0),1)),"-") | K25: =IFERROR(IF(LEN($E25)=0,"",INDEX(Calc!$BR$4:$BR$1003,MATCH($E25,Calc!$BX$4:$BX$1003,0),1)),"-") | Q25: =IFERROR(IF(LEN($E25)=0,"",$O25*$P25),"") | S25: =IFERROR(IF(LEN($E25)=0,"",$Q25*$R25),"") | U25: =IFERROR(IF(LEN($E25)=0,"",$Q25-$S25-$T25),"")

Sheet Expenses
B2: REAL ESTATE AGENCY TEMPLATE
B3: EXPENSES
B5: EXPENSE CATEGORY | C5: YEAR | D5: JANUARY | E5: FEBRUARY | F5: MARCH | G5: APRIL | H5: MAY | I5: JUNE | J5: JULY | K5: AUGUST | L5: SEPTEMBER | M5: OCTOBER | N5: NOVEMBER | O5: DECEMBER
B6: Insurance | C6: 2023 | D6: 500
B7: Management Fees | C7: 2023 | D7: 250 | E7: 250 | F7: 250 | G7: 250 | H7: 250 | I7: 250 | J7: 250 | K7: 250 | L7: 250 | M7: 250 | N7: 250 | O7: 250
B8: Repairs | C8: 2023 | F8: 500
B9: Taxes | C9: 2023 | J9: 750
B10: Salaries | C10: 2023 | D10: 15000 | E10: 15000 | F10: 15000 | G10: 15000
B11: Cleaning & Maintenance | C11: 2023 | D11: 750 | E11: 750 | F11: 750 | G11: 750 | H11: 750 | I11: 750 | J11: 750 | K11: 750

Sheet Invoice
C2: REAL ESTATE AGENCY TEMPLATE
C3: INVOICE
C7: Company Name | D7: D.P.M Estates
C8: Agent | D8: Caleb Mullins
C9: Street Address | D9: 64 Glasnevin Hill, Glasnevin
C10: City | D10: Orlando
C11: Zip Code | D11: -
C12: Tel | D12: +353 1 831 8311
C13: Email | D13: camllins@mail.com
C15: REAL ESTATE COMMISSION INVOICE
C17: Billed To | F17: Invoice No | G17: 1000012
C18: Name | D18: Johnny Craven | F18: Invoice Date | G18: 44947
C19: Company | D19: Dublin Property Management
C20: Street Address | D20: 8 Malahide Rd, Fairview
C21: City | D21: New Mexico
C22: Zip Code | D22: -
C23: Tel | D23: +353 1 849-1155
C24: Email | D24: johnnycra@mail.com
C26: Description | E26: Commission Rate | F26: =IF(LEN(currency)=0,"Total Price","Total Price "&"("&currency&")") -> Total Price (USD) | G26: =IF(LEN(currency)=0,"Subtotal","Subtotal "&"("&currency&")") -> Subtotal (USD)
C27: Property 1 | E27: 0.02 | F27: 1000000 | G27: =IFERROR(IF(LEN($F27)=0,"",$F27*$E27),"") -> 20000
C28: Property 2 | E28: 0.02 | F28: 1250000 | G28: =IFERROR(IF(LEN($F28)=0,"",$F28*$E28),"") -> 25000
G29: =IFERROR(IF(LEN($F29)=0,"",$F29*$E29),"")
G30: =IFERROR(IF(LEN($F30)=0,"",$F30*$E30),"")
G31: =IFERROR(IF(LEN($F31)=0,"",$F31*$E31),"")
G32: =IFERROR(IF(LEN($F32)=0,"",$F32*$E32),"")
G33: =IFERROR(IF(LEN($F33)=0,"",$F33*$E33),"")
G34: =IFERROR(IF(LEN($F34)=0,"",$F34*$E34),"")
G35: =IFERROR(IF(LEN($F35)=0,"",$F35*$E35),"")
G36: =IFERROR(IF(LEN($F36)=0,"",$F36*$E36),"")
G37: =IFERROR(IF(LEN($F37)=0,"",$F37*$E37),"")
G38: =IFERROR(IF(LEN($F38)=0,"",$F38*$E38),"")
G39: =IFERROR(IF(LEN($F39)=0,"",$F39*$E39),"")
G40: =IFERROR(IF(LEN($F40)=0,"",$F40*$E40),"")
... G46: =IFERROR(IF(LEN($F46)=0,"",$F46*$E46),"")
F47: =IF(LEN(currency)=0,"SUBTOTAL","SUBTOTAL "&"("&currency&")") -> SUBTOTAL (USD) | G47: =IFERROR(SUM($G$27:$G$46),"") -> 45000
C48: NOTES : | F48: DISCOUNT (%) | G48: 0.1
F49: OTHER FEES | G49: 2500
F50: VAT (%) | G50: 0.05
F51: =IF(LEN(currency)=0,"TOTAL","TOTAL "&"("&currency&")") -> TOTAL (USD) | G51: =IFERROR(IF(LEN($G$50)>0,(1+$G$50)*$G$47*(1-$G$48)+SUM($G$49:$G$49),$G$47*(1-$G$48)+SUM($G$49:$G$49)),"") -> 45025

Sheet Dashboard
C2: REAL ESTATE AGENCY TEMPLATE
C3: DASHBOARD
C7: YEAR | D7: ALL | F7: MONTH | G7: ALL | I7: BROKER | J7: ALL

Sheet Calc
E2: =MAX(COUNTA($E$5:$E$24)-COUNTBLANK($E$5:$E$24),1) -> 12 | H2: =MAX(COUNTA($H$5:$H$24)-COUNTBLANK($H$5:$H$24),1) -> 10 | K2: =MAX(COUNTA($K$5:$K$14)-COUNTBLANK($K$5:$K$14),1) -> 5 | N2: =MAX(COUNTA($N$5:$N$14)-COUNTBLANK($N$5:$N$14),1) -> 5 | Q2: =MAX(COUNTA($Q$5:$Q$12)-COUNTBLANK($Q$5:$Q$12),1) -> 2 | AG2: =$Z$12 -> TOTAL SALES TARGET (USD) | AV2: =$AA$12 -> TOTAL SALES ACTUAL (USD) | CA2: =COUNTA($CA$4:$CA$23)-COUNTBLANK($CA$4:$CA$23) -> 15
B3: INDEX | D3: BROKER LIST | E3: BROKER LIST w/o DUPLICATES | G3: EXPENSE CATEGORY | H3: EXPENSE CATEGORY w/o DUPLICATES | J3: PROPERTY TYPE | K3: PROPERTY TYPE w/o DUPLICATES | M3: STATUS | N3: STATUS w/o DUPLICATES | P3: SERVICE TYPE | Q3: SERVICE TYPE w/o DUPLICATES | S3: YEAR LIST | U3: MONTH CODE | V3: MONTH NAME | X3: DISCOUNT RATE | Z3: Broker Target Header Option | AA3: Broker Actual Header Option | AC3: INDEX | AE3: ACTIVE / PASSIVE | AG3: BROKER | AH3: YEAR | AI3: JANUARY | AJ3: FEBRUARY | AK3: MARCH | AL3: APRIL | AM3: MAY | AN3: JUNE | AO3: JULY | AP3: AUGUST | AQ3: SEPTEMBER | AR3: OCTOBER | AS3: NOVEMBER | AT3: DECEMBER | AV3: BROKER | AW3: YEAR | AX3: JANUARY | AY3: FEBRUARY | AZ3: MARCH | BA3: APRIL | BB3: MAY | BC3: JUNE | BD3: JULY | BE3: AUGUST | BF3: SEPTEMBER | BG3: OCTOBER | BH3: NOVEMBER | BI3: DECEMBER | BK3: INDEX | BM3: ACTIVE / PASSIVE | BO3: Property ID | BP3: Property Name | BQ3: Owner Name | BR3: Owner Contact Info | BS3: Property Type | BT3: Property Address | BU3: Rent Price | BV3: Selling Price | BX3: Property ID - Name | BY3: Filter Index | BZ3: Index w/o Blanks | CA3: Property ID - Name List | CC3: INDEX | CE3: ACTIVE / PASSIVE | CG3: Task ID | CH3: Broker | CI3: Starting Date | CJ3: Property ID - Name | CK3: Customer Name | CL3: Customer Contact Info | CM3: Service Type | CN3: Sales / Rent Price | CO3: Commission Rate (%) | CP3: Total Commission | CQ3: Brokerage Commission Rate (%) | CR3: Brokerage Commission | CS3: Commission Adjustment | CT3: Net Commission | CU3: Commission Manual | CV3: Commission (Included) | CW3: Status | CX3: Current Stage Date | CY3: Closing Month | CZ3: Closing Year | DB3: INDEX | DD3: ACTIVE / PASSIVE | DF3: Expense Item | DG3: Year | DH3: JANUARY | DI3: FEBRUARY | DJ3: MARCH | DK3: APRIL | DL3: MAY | DM3: JUNE | DN3: JULY | DO3: AUGUST | DP3: SEPTEMBER | DQ3: OCTOBER | DR3: NOVEMBER | DS3: DECEMBER
B4: - | D4: ALL | E4: ALL | G4: ALL | H4: ALL | J4: ALL | K4: ALL | M4: ALL | N4: ALL | P4: ALL | Q4: ALL | S4: ALL | U4: - | V4: ALL | X4: 0.01 | Z4: =IF(LEN(currency)=0,"TOTAL SALES TARGET","TOTAL SALES TARGET "&"("&currency&")") -> TOTAL SALES TARGET (USD) | AA4: =IF(LEN(currency)=0,"TOTAL SALES ACTUAL","TOTAL SALES ACTUAL "&"("&currency&")") -> TOTAL SALES ACTUAL (USD) | AC4: 1 | AE4: =IFERROR(IF(LEN(INDEX(BrokerTargetTracking!B$8:B$17,$AC4,1))=0,"Passive","Active"),"") -> Active | AG4: =IFERROR(IF($AE4="Passive","",INDEX(BrokerTargetTracking!B$8:B$407,$AC4,1)),"") -> Caleb Mullins | AH4: =IFERROR(IF($AE4="Passive","",IF(LEN(INDEX(BrokerTargetTracking!C$8:C$17,$AC4,1))=0,"-",INDEX(BrokerTargetTracking!C$8:C$17,$AC4,1))),"") -> 2022 | AI4: =IFERROR(IF($AE4="Passive","",INDEX(BrokerTargetTracking!D$8:D$17,$AC4,1)),"") -> 150000 | AJ4: =IFERROR(IF($AE4="Passive","",INDEX(BrokerTargetTracking!E$8:E$17,$AC4,1)),"") -> 150000 | AK4: =IFERROR(IF($AE4="Passive","",INDEX(BrokerTargetTracking!F$8:F$17,$AC4,1)),"") -> 150000 | AL4: =IFERROR(IF($AE4="Passive","",INDEX(BrokerTargetTracking!G$8:G$17,$AC4,1)),"") -> 150000 | AM4: =IFERROR(IF($AE4="Passive","",INDEX(BrokerTargetTracking!H$8:H$17,$AC4,1)),"") -> 150000 | AN4: =IFERROR(IF($AE4="Passive","",INDEX(BrokerTargetTracking!I$8:I$17,$AC4,1)),"") -> 150000 | AO4: =IFERROR(IF($AE4="Passive","",INDEX(BrokerTargetTracking!J$8:J$17,$AC4,1)),"") -> 175000 | AP4: =IFERROR(IF($AE4="Passive","",INDEX(BrokerTargetTracking!K$8:K$17,$AC4,1)),"") -> 175000 | ... AT4: =IFERROR(IF($AE4="Passive","",INDEX(BrokerTargetTracking!O$8:O$17,$AC4,1)),"") -> 175000 | AV4: =IFERROR(IF($AE4="Passive","",$AG4),"") -> Caleb Mullins | AW4: =IFERROR(IF($AE4="Passive","",$AH4),"") -> 2022 | AX4: =IFERROR(IF($AE4="Passive","",INDEX(BrokerTargetTracking!D$411:D$420,$AC4,1)),"") -> 180000 | AY4: =IFERROR(IF($AE4="Passive","",INDEX(BrokerTargetTracking!E$411:E$420,$AC4,1)),"") -> 170000 | AZ4: =IFERROR(IF($AE4="Passive","",INDEX(BrokerTargetTracking!F$411:F$420,$AC4,1)),"") -> 95000 | BA4: =IFERROR(IF($AE4="Passive","",INDEX(BrokerTargetTracking!G$411:G$420,$AC4,1)),"") -> 150000 | BB4: =IFERROR(IF($AE4="Passive","",INDEX(BrokerTargetTracking!H$411:H$420,$AC4,1)),"") -> 140000 | BC4: =IFERROR(IF($AE4="Passive","",INDEX(BrokerTargetTracking!I$411:I$420,$AC4,1)),"") -> 180000 | BD4: =IFERROR(IF($AE4="Passive","",INDEX(BrokerTargetTracking!J$411:J$420,$AC4,1)),"") -> 185000 | BE4: =IFERROR(IF($AE4="Passive","",INDEX(BrokerTargetTracking!K$411:K$420,$AC4,1)),"") -> 150000 | ... BI4: =IFERROR(IF($AE4="Passive","",INDEX(BrokerTargetTracking!O$411:O$420,$AC4,1)),"") -> 145000 | BK4: 1 | BM4: =IFERROR(IF(OR(LEN(INDEX(PropertyDatabase!B$6:B$25,$BK4,1))=0,LEN(INDEX(PropertyDatabase!C$6:C$25,$BK4,1))=0),"Passive","Active"),"") -> Active | BO4: =IFERROR(IF($BM4="Passive","",INDEX(PropertyDatabase!B$6:B$25,$BK4,1)),"") -> 101 | BP4: =IFERROR(IF($BM4="Passive","",INDEX(PropertyDatabase!C$6:C$25,$BK4,1)),"") -> Property 1 | BQ4: =IFERROR(IF($BM4="Passive","",INDEX(PropertyDatabase!D$6:D$25,$BK4,1)),"") -> Jemima Begum | BR4: =IFERROR(IF($BM4="Passive","",INDEX(PropertyDatabase!E$6:E$25,$BK4,1)),"") -> jemima@mail.com | BS4: =IFERROR(IF($BM4="Passive","",INDEX(PropertyDatabase!F$6:F$25,$BK4,1)),"") -> Tiny Home | BT4: =IFERROR(IF($BM4="Passive","",INDEX(PropertyDatabase!G$6:G$25,$BK4,1)),"") -> 8724 Smith Drive Buffalo 14221 | BU4: =IFERROR(IF($BM4="Passive","",IF(LEN(INDEX(PropertyDatabase!H$6:H$25,$BK4,1))=0,"-",INDEX(PropertyDatabase!H$6:H$25,$BK4,1))),"") -> 500 | BV4: =IFERROR(IF($BM4="Passive","",IF(LEN(INDEX(PropertyDatabase!I$6:I$25,$BK4,1))=0,"-",INDEX(PropertyDatabase!I$6:I$25,$BK4,1))),"") -> 125000 | BX4: =IFERROR(IF($BM4="Passive","",$BO4&" - "&$BP4),"") -> 101 - Property 1 | BY4: =IFERROR(IF($BM4="Passive","",$BK4),"") -> 1 | BZ4: =IFERROR(SMALL($BY$4:$BY$23,ROW($BZ4)-ROW($BZ$3)),"") -> 1 | CA4: =IFERROR(INDEX($BX$4:$BX$23,$BZ4,1),"") -> 101 - Property 1 | CC4: 1 | CE4: =IFERROR(IF(OR(LEN(INDEX(TaskDatabase!B$6:B$25,$CC4,1))=0,LEN(INDEX(TaskDatabase!C$6:C$25,$CC4,1))=0),"Passive","Active"),"") -> Active | CG4: =IFERROR(IF($CE4="Passive","",INDEX(TaskDatabase!B$6:B$25,$CC4,1)),"") -> 1001 | CH4: =IFERROR(IF($CE4="Passive","",INDEX(TaskDatabase!C$6:C$25,$CC4,1)),"") -> Caleb Mullins | CI4: =IFERROR(IF($CE4="Passive","",INDEX(TaskDatabase!D$6:D$25,$CC4,1)),"") -> 44927 | CJ4: =IFERROR(IF($CE4="Passive","",INDEX(TaskDatabase!E$6:E$25,$CC4,1)),"") -> 101 - Property 1 | CK4: =IFERROR(IF($CE4="Passive","",INDEX(TaskDatabase!L$6:L$25,$CC4,1)),"") -> Stephen Ruvituso | CL4: =IFERROR(IF($CE4="Passive","",INDEX(TaskDatabase!M$6:M$25,$CC4,1)),"") -> 347-840-4245 | CM4: =IFERROR(IF($CE4="Passive","",INDEX(TaskDatabase!N$6:N$25,$CC4,1)),"") -> Sale | CN4: =IFERROR(IF($CE4="Passive","",INDEX(TaskDatabase!O$6:O$25,$CC4,1)),"") -> 175000 | CO4: =IFERROR(IF($CE4="Passive","",INDEX(TaskDatabase!P$6:P$25,$CC4,1)),"") -> 0.05 | CP4: =IFERROR(IF($CE4="Passive","",INDEX(TaskDatabase!Q$6:Q$25,$CC4,1)),"") -> 8750 | CQ4: =IFERROR(IF($CE4="Passive","",INDEX(TaskDatabase!R$6:R$25,$CC4,1)),"") -> 0.1 | CR4: =IFERROR(IF($CE4="Passive","",INDEX(TaskDatabase!S$6:S$25,$CC4,1)),"") -> 875 | ... CU4: =IFERROR(IF($CE4="Passive","",INDEX(TaskDatabase!V$6:V$25,$CC4,1)),"") -> 7250 | CV4: =IFERROR(IF($CE4="Passive","",IF($CU4>0,$CU4,$CT4)),"") -> 7250 | CW4: =IFERROR(IF($CE4="Passive","",INDEX(TaskDatabase!W$6:W$25,$CC4,1)),"") -> Property Inspection | CX4: =IFERROR(IF($CE4="Passive","",INDEX(TaskDatabase!X$6:X$25,$CC4,1)),"") -> 44941 | CY4: =IFERROR(IF($CE4="Passive","",MONTH($CX4)),"") -> 1 | CZ4: =IFERROR(IF($CE4="Passive","",YEAR($CX4)),"") -> 2023 | DB4: 1 | DD4: =IFERROR(IF(OR(LEN(INDEX(Expenses!B$6:B$25,$DB4,1))=0,LEN(INDEX(Expenses!C$6:C$25,$DB4,1))=0),"Passive","Active"),"") -> Active | DF4: =IFERROR(IF($DD4="Passive","",INDEX(Expenses!B$6:B$25,$DB4,1)),"") -> Insurance | DG4: =IFERROR(IF($DD4="Passive","",INDEX(Expenses!C$6:C$25,$DB4,1)),"") -> 2023 | DH4: =IFERROR(IF($DD4="Passive","",INDEX(Expenses!D$6:D$25,$DB4,1)),"") -> 500 | DI4: =IFERROR(IF($DD4="Passive","",INDEX(Expenses!E$6:E$25,$DB4,1)),"") -> 0 | DJ4: =IFERROR(IF($DD4="Passive","",INDEX(Expenses!F$6:F$25,$DB4,1)),"") -> 0 | DK4: =IFERROR(IF($DD4="Passive","",INDEX(Expenses!G$6:G$25,$DB4,1)),"") -> 0 | DL4: =IFERROR(IF($DD4="Passive","",INDEX(Expenses!H$6:H$25,$DB4,1)),"") -> 0 | DM4: =IFERROR(IF($DD4="Passive","",INDEX(Expenses!I$6:I$25,$DB4,1)),"") -> 0 | ... DS4: =IFERROR(IF($DD4="Passive","",INDEX(Expenses!O$6:O$25,$DB4,1)),"") -> 0
B5: 1 | D5: =IFERROR(IF(LEN(INDEX(Menu!$C$9:$C$28,$B5,1))=0,"",INDEX(Menu!$C$9:$C$28,$B5,1)),"") -> Caleb Mullins | E5: =IFERROR(INDEX($D$5:$D$24, MATCH(0,INDEX((LEN($D$5:$D$24)=0)+COUNTIF($E$4:$E4,$D$5:$D$24),0),0)),"") -> Caleb Mullins | G5: =IFERROR(IF(LEN(INDEX(Menu!$F$9:$F$28,$B5,1))=0,"",INDEX(Menu!$F$9:$F$28,$B5,1)),"") -> Advertising | H5: =IFERROR(INDEX($G$5:$G$24,MATCH(0,INDEX((LEN($G$5:$G$24)=0)+COUNTIF($H$4:$H4,$G$5:$G$24),0),0)),"") -> Advertising | J5: =IFERROR(IF(LEN(INDEX(Menu!$H$9:$H$28,$B5,1))=0,"",INDEX(Menu!$H$9:$H$28,$B5,1)),"") -> Tiny Home | K5: =IFERROR(INDEX($J$5:$J$14, MATCH(0,INDEX((LEN($J$5:$J$14)=0)+COUNTIF($K$4:$K4,$J$5:$J$14),0),0)),"") -> Tiny Home | M5: =IFERROR(IF(LEN(INDEX(Menu!$J$9:$J$28,$B5,1))=0,"",INDEX(Menu!$J$9:$J$28,$B5,1)),"") -> Paid | N5: =IFERROR(INDEX($M$5:$M$14, MATCH(0,INDEX((LEN($M$5:$M$14)=0)+COUNTIF($N$4:$N4,$M$5:$M$14),0),0)),"") -> Paid | P5: =IFERROR(IF(LEN(INDEX(Menu!$H$21:$H$28,$B5,1))=0,"",INDEX(Menu!$H$21:$H$28,$B5,1)),"") -> Sale | Q5: =IFERROR(INDEX($P$5:$P$12, MATCH(0,INDEX((LEN($P$5:$P$12)=0)+COUNTIF($Q$4:$Q4,$P$5:$P$12),0),0)),"") -> Sale | S5: 2020 | U5: 1 | V5: JANUARY | X5: 0.02 | Z5: =IF(LEN(currency)=0,"TOTAL COMISSION TARGET","TOTAL COMISSION TARGET "&"("&currency&")") -> TOTAL COMISSION TARGET (USD) | AA5: =IF(LEN(currency)=0,"TOTAL COMISSION ACTUAL","TOTAL COMISSION ACTUAL "&"("&currency&")") -> TOTAL COMISSION ACTUAL (USD) | AC5: 2 | AE5: =IFERROR(IF(LEN(INDEX(BrokerTargetTracking!B$8:B$17,$AC5,1))=0,"Passive","Active"),"") -> Active | AG5: =IFERROR(IF($AE5="Passive","",INDEX(BrokerTargetTracking!B$8:B$407,$AC5,1)),"") -> Laura Hartman | AH5: =IFERROR(IF($AE5="Passive","",IF(LEN(INDEX(BrokerTargetTracking!C$8:C$17,$AC5,1))=0,"-",INDEX(BrokerTargetTracking!C$8:C$17,$AC5,1))),"") -> 2022 | AI5: =IFERROR(IF($AE5="Passive","",INDEX(BrokerTargetTracking!D$8:D$17,$AC5,1)),"") -> 150000 | AJ5: =IFERROR(IF($AE5="Passive","",INDEX(BrokerTargetTracking!E$8:E$17,$AC5,1)),"") -> 150000 | AK5: =IFERROR(IF($AE5="Passive","",INDEX(BrokerTargetTracking!F$8:F$17,$AC5,1)),"") -> 150000 | AL5: =IFERROR(IF($AE5="Passive","",INDEX(BrokerTargetTracking!G$8:G$17,$AC5,1)),"") -> 150000 | AM5: =IFERROR(IF($AE5="Passive","",INDEX(BrokerTargetTracking!H$8:H$17,$AC5,1)),"") -> 150000 | AN5: =IFERROR(IF($AE5="Passive","",INDEX(BrokerTargetTracking!I$8:I$17,$AC5,1)),"") -> 150000 | AO5: =IFERROR(IF($AE5="Passive","",INDEX(BrokerTargetTracking!J$8:J$17,$AC5,1)),"") -> 175000 | AP5: =IFERROR(IF($AE5="Passive","",INDEX(BrokerTargetTracking!K$8:K$17,$AC5,1)),"") -> 175000 | ... AT5: =IFERROR(IF($AE5="Passive","",INDEX(BrokerTargetTracking!O$8:O$17,$AC5,1)),"") -> 175000 | AV5: =IFERROR(IF($AE5="Passive","",$AG5),"") -> Laura Hartman | AW5: =IFERROR(IF($AE5="Passive","",$AH5),"") -> 2022 | AX5: =IFERROR(IF($AE5="Passive","",INDEX(BrokerTargetTracking!D$411:D$420,$AC5,1)),"") -> 135000 | AY5: =IFERROR(IF($AE5="Passive","",INDEX(BrokerTargetTracking!E$411:E$420,$AC5,1)),"") -> 145000 | AZ5: =IFERROR(IF($AE5="Passive","",INDEX(BrokerTargetTracking!F$411:F$420,$AC5,1)),"") -> 175000 | BA5: =IFERROR(IF($AE5="Passive","",INDEX(BrokerTargetTracking!G$411:G$420,$AC5,1)),"") -> 140000 | BB5: =IFERROR(IF($AE5="Passive","",INDEX(BrokerTargetTracking!H$411:H$420,$AC5,1)),"") -> 200000 | BC5: =IFERROR(IF($AE5="Passive","",INDEX(BrokerTargetTracking!I$411:I$420,$AC5,1)),"") -> 185000 | BD5: =IFERROR(IF($AE5="Passive","",INDEX(BrokerTargetTracking!J$411:J$420,$AC5,1)),"") -> 145000 | BE5: =IFERROR(IF($AE5="Passive","",INDEX(BrokerTargetTracking!K$411:K$420,$AC5,1)),"") -> 110000 | ... BI5: =IFERROR(IF($AE5="Passive","",INDEX(BrokerTargetTracking!O$411:O$420,$AC5,1)),"") -> 95000 | BK5: 2 | BM5: =IFERROR(IF(OR(LEN(INDEX(PropertyDatabase!B$6:B$25,$BK5,1))=0,LEN(INDEX(PropertyDatabase!C$6:C$25,$BK5,1))=0),"Passive","Active"),"") -> Active | BO5: =IFERROR(IF($BM5="Passive","",INDEX(PropertyDatabase!B$6:B$25,$BK5,1)),"") -> 102 | BP5: =IFERROR(IF($BM5="Passive","",INDEX(PropertyDatabase!C$6:C$25,$BK5,1)),"") -> Property 2 | BQ5: =IFERROR(IF($BM5="Passive","",INDEX(PropertyDatabase!D$6:D$25,$BK5,1)),"") -> Mercedes Banks | BR5: =IFERROR(IF($BM5="Passive","",INDEX(PropertyDatabase!E$6:E$25,$BK5,1)),"") -> mercedes@mail.com | BS5: =IFERROR(IF($BM5="Passive","",INDEX(PropertyDatabase!F$6:F$25,$BK5,1)),"") -> Flat | BT5: =IFERROR(IF($BM5="Passive","",INDEX(PropertyDatabase!G$6:G$25,$BK5,1)),"") -> 320 Wentworth Lane Hempstead 11550 | BU5: =IFERROR(IF($BM5="Passive","",IF(LEN(INDEX(PropertyDatabase!H$6:H$25,$BK5,1))=0,"-",INDEX(PropertyDatabase!H$6:H$25,$BK5,1))),"") -> 1500 | BV5: =IFERROR(IF($BM5="Passive","",IF(LEN(INDEX(PropertyDatabase!I$6:I$25,$BK5,1))=0,"-",INDEX(PropertyDatabase!I$6:I$25,$BK5,1))),"") -> 375000 | BX5: =IFERROR(IF($BM5="Passive","",$BO5&" - "&$BP5),"") -> 102 - Property 2 | BY5: =IFERROR(IF($BM5="Passive","",$BK5),"") -> 2 | BZ5: =IFERROR(SMALL($BY$4:$BY$23,ROW($BZ5)-ROW($BZ$3)),"") -> 2 | CA5: =IFERROR(INDEX($BX$4:$BX$23,$BZ5,1),"") -> 102 - Property 2 | CC5: 2 | CE5: =IFERROR(IF(OR(LEN(INDEX(TaskDatabase!B$6:B$25,$CC5,1))=0,LEN(INDEX(TaskDatabase!C$6:C$25,$CC5,1))=0),"Passive","Active"),"") -> Active | CG5: =IFERROR(IF($CE5="Passive","",INDEX(TaskDatabase!B$6:B$25,$CC5,1)),"") -> 1002 | CH5: =IFERROR(IF($CE5="Passive","",INDEX(TaskDatabase!C$6:C$25,$CC5,1)),"") -> Laura Hartman | CI5: =IFERROR(IF($CE5="Passive","",INDEX(TaskDatabase!D$6:D$25,$CC5,1)),"") -> 44941 | CJ5: =IFERROR(IF($CE5="Passive","",INDEX(TaskDatabase!E$6:E$25,$CC5,1)),"") -> 103 - Property 3 | CK5: =IFERROR(IF($CE5="Passive","",INDEX(TaskDatabase!L$6:L$25,$CC5,1)),"") -> Rich Abrams | CL5: =IFERROR(IF($CE5="Passive","",INDEX(TaskDatabase!M$6:M$25,$CC5,1)),"") -> 646-427-2065 | CM5: =IFERROR(IF($CE5="Passive","",INDEX(TaskDatabase!N$6:N$25,$CC5,1)),"") -> Sale | CN5: =IFERROR(IF($CE5="Passive","",INDEX(TaskDatabase!O$6:O$25,$CC5,1)),"") -> 155000 | CO5: =IFERROR(IF($CE5="Passive","",INDEX(TaskDatabase!P$6:P$25,$CC5,1)),"") -> 0.03 | CP5: =IFERROR(IF($CE5="Passive","",INDEX(TaskDatabase!Q$6:Q$25,$CC5,1)),"") -> 4650 | CQ5: =IFERROR(IF($CE5="Passive","",INDEX(TaskDatabase!R$6:R$25,$CC5,1)),"") -> 0.15 | CR5: =IFERROR(IF($CE5="Passive","",INDEX(TaskDatabase!S$6:S$25,$CC5,1)),"") -> 697.5 | ... CU5: =IFERROR(IF($CE5="Passive","",INDEX(TaskDatabase!V$6:V$25,$CC5,1)),"") -> 0 | CV5: =IFERROR(IF($CE5="Passive","",IF($CU5>0,$CU5,$CT5)),"") -> 3952.5 | CW5: =IFERROR(IF($CE5="Passive","",INDEX(TaskDatabase!W$6:W$25,$CC5,1)),"") -> Financing | CX5: =IFERROR(IF($CE5="Passive","",INDEX(TaskDatabase!X$6:X$25,$CC5,1)),"") -> 44950 | CY5: =IFERROR(IF($CE5="Passive","",MONTH($CX5)),"") -> 1 | CZ5: =IFERROR(IF($CE5="Passive","",YEAR($CX5)),"") -> 2023 | DB5: 2 | DD5: =IFERROR(IF(OR(LEN(INDEX(Expenses!B$6:B$25,$DB5,1))=0,LEN(INDEX(Expenses!C$6:C$25,$DB5,1))=0),"Passive","Active"),"") -> Active | DF5: =IFERROR(IF($DD5="Passive","",INDEX(Expenses!B$6:B$25,$DB5,1)),"") -> Management Fees | DG5: =IFERROR(IF($DD5="Passive","",INDEX(Expenses!C$6:C$25,$DB5,1)),"") -> 2023 | DH5: =IFERROR(IF($DD5="Passive","",INDEX(Expenses!D$6:D$25,$DB5,1)),"") -> 250 | DI5: =IFERROR(IF($DD5="Passive","",INDEX(Expenses!E$6:E$25,$DB5,1)),"") -> 250 | DJ5: =IFERROR(IF($DD5="Passive","",INDEX(Expenses!F$6:F$25,$DB5,1)),"") -> 250 | DK5: =IFERROR(IF($DD5="Passive","",INDEX(Expenses!G$6:G$25,$DB5,1)),"") -> 250 | DL5: =IFERROR(IF($DD5="Passive","",INDEX(Expenses!H$6:H$25,$DB5,1)),"") -> 250 | DM5: =IFERROR(IF($DD5="Passive","",INDEX(Expenses!I$6:I$25,$DB5,1)),"") -> 250 | ... DS5: =IFERROR(IF($DD5="Passive","",INDEX(Expenses!O$6:O$25,$DB5,1)),"") -> 250 | DU5: YEAR FILTER | DX5: 1 | DY5: 2 | DZ5: 3 | EA5: 4 | EB5: 5 | EC5: 6 | ED5: 7 | EE5: 8 | EF5: 9 | EG5: 10 | EH5: 11 | EI5: 12 | EK5: TOTAL SALES & COMMISSIONS by BROKERS | EL5: BROKER | EM5: JANUARY | EN5: FEBRUARY | EO5: MARCH | EP5: APRIL | EQ5: MAY | ER5: JUNE | ES5: JULY | ET5: AUGUST | EU5: SEPTEMBER | EV5: OCTOBER | EW5: NOVEMBER | EX5: DECEMBER
B6: 2 | D6: =IFERROR(IF(LEN(INDEX(Menu!$C$9:$C$28,$B6,1))=0,"",INDEX(Menu!$C$9:$C$28,$B6,1)),"") -> Laura Hartman | E6: =IFERROR(INDEX($D$5:$D$24, MATCH(0,INDEX((LEN($D$5:$D$24)=0)+COUNTIF($E$4:$E5,$D$5:$D$24),0),0)),"") -> Laura Hartman | G6: =IFERROR(IF(LEN(INDEX(Menu!$F$9:$F$28,$B6,1))=0,"",INDEX(Menu!$F$9:$F$28,$B6,1)),"") -> Cleaning & Maintenance | H6: =IFERROR(INDEX($G$5:$G$24,MATCH(0,INDEX((LEN($G$5:$G$24)=0)+COUNTIF($H$4:$H5,$G$5:$G$24),0),0)),"") -> Cleaning & Maintenance | J6: =IFERROR(IF(LEN(INDEX(Menu!$H$9:$H$28,$B6,1))=0,"",INDEX(Menu!$H$9:$H$28,$B6,1)),"") -> Flat | K6: =IFERROR(INDEX($J$5:$J$14, MATCH(0,INDEX((LEN($J$5:$J$14)=0)+COUNTIF($K$4:$K5,$J$5:$J$14),0),0)),"") -> Flat | M6: =IFERROR(IF(LEN(INDEX(Menu!$J$9:$J$28,$B6,1))=0,"",INDEX(Menu!$J$9:$J$28,$B6,1)),"") -> Property Inspection | N6: =IFERROR(INDEX($M$5:$M$14, MATCH(0,INDEX((LEN($M$5:$M$14)=0)+COUNTIF($N$4:$N5,$M$5:$M$14),0),0)),"") -> Property Inspection | P6: =IFERROR(IF(LEN(INDEX(Menu!$H$21:$H$28,$B6,1))=0,"",INDEX(Menu!$H$21:$H$28,$B6,1)),"") -> Rent | Q6: =IFERROR(INDEX($P$5:$P$12, MATCH(0,INDEX((LEN($P$5:$P$12)=0)+COUNTIF($Q$4:$Q5,$P$5:$P$12),0),0)),"") -> Rent | S6: 2021 | U6: 2 | V6: FEBRUARY | X6: 0.03 | Z6: =IF(LEN(currency)=0,"TOTAL NET COMISSION TARGET","TOTAL NET COMISSION TARGET "&"("&currency&")") -> TOTAL NET COMISSION TARGET (USD) | AA6: =IF(LEN(currency)=0,"TOTAL NET COMISSION ACTUAL","TOTAL NET COMISSION ACTUAL "&"("&currency&")") -> TOTAL NET COMISSION ACTUAL (USD) | AC6: 3 | AE6: =IFERROR(IF(LEN(INDEX(BrokerTargetTracking!B$8:B$17,$AC6,1))=0,"Passive","Active"),"") -> Active | AG6: =IFERROR(IF($AE6="Passive","",INDEX(BrokerTargetTracking!B$8:B$407,$AC6,1)),"") -> Dustin Santana | AH6: =IFERROR(IF($AE6="Passive","",IF(LEN(INDEX(BrokerTargetTracking!C$8:C$17,$AC6,1))=0,"-",INDEX(BrokerTargetTracking!C$8:C$17,$AC6,1))),"") -> 2022 | AI6: =IFERROR(IF($AE6="Passive","",INDEX(BrokerTargetTracking!D$8:D$17,$AC6,1)),"") -> 150000 | AJ6: =IFERROR(IF($AE6="Passive","",INDEX(BrokerTargetTracking!E$8:E$17,$AC6,1)),"") -> 150000 | AK6: =IFERROR(IF($AE6="Passive","",INDEX(BrokerTargetTracking!F$8:F$17,$AC6,1)),"") -> 150000 | AL6: =IFERROR(IF($AE6="Passive","",INDEX(BrokerTargetTracking!G$8:G$17,$AC6,1)),"") -> 150000 | AM6: =IFERROR(IF($AE6="Passive","",INDEX(BrokerTargetTracking!H$8:H$17,$AC6,1)),"") -> 150000 | AN6: =IFERROR(IF($AE6="Passive","",INDEX(BrokerTargetTracking!I$8:I$17,$AC6,1)),"") -> 150000 | AO6: =IFERROR(IF($AE6="Passive","",INDEX(BrokerTargetTracking!J$8:J$17,$AC6,1)),"") -> 175000 | AP6: =IFERROR(IF($AE6="Passive","",INDEX(BrokerTargetTracking!K$8:K$17,$AC6,1)),"") -> 175000 | ... AT6: =IFERROR(IF($AE6="Passive","",INDEX(BrokerTargetTracking!O$8:O$17,$AC6,1)),"") -> 175000 | AV6: =IFERROR(IF($AE6="Passive","",$AG6),"") -> Dustin Santana | AW6: =IFERROR(IF($AE6="Passive","",$AH6),"") -> 2022 | AX6: =IFERROR(IF($AE6="Passive","",INDEX(BrokerTargetTracking!D$411:D$420,$AC6,1)),"") -> 135000 | AY6: =IFERROR(IF($AE6="Passive","",INDEX(BrokerTargetTracking!E$411:E$420,$AC6,1)),"") -> 185000 | AZ6: =IFERROR(IF($AE6="Passive","",INDEX(BrokerTargetTracking!F$411:F$420,$AC6,1)),"") -> 150000 | BA6: =IFERROR(IF($AE6="Passive","",INDEX(BrokerTargetTracking!G$411:G$420,$AC6,1)),"") -> 120000 | BB6: =IFERROR(IF($AE6="Passive","",INDEX(BrokerTargetTracking!H$411:H$420,$AC6,1)),"") -> 125000 | BC6: =IFERROR(IF($AE6="Passive","",INDEX(BrokerTargetTracking!I$411:I$420,$AC6,1)),"") -> 135000 | BD6: =IFERROR(IF($AE6="Passive","",INDEX(BrokerTargetTracking!J$411:J$420,$AC6,1)),"") -> 180000 | BE6: =IFERROR(IF($AE6="Passive","",INDEX(BrokerTargetTracking!K$411:K$420,$AC6,1)),"") -> 95000 | ... BI6: =IFERROR(IF($AE6="Passive","",INDEX(BrokerTargetTracking!O$411:O$420,$AC6,1)),"") -> 15000 | BK6: 3 | BM6: =IFERROR(IF(OR(LEN(INDEX(PropertyDatabase!B$6:B$25,$BK6,1))=0,LEN(INDEX(PropertyDatabase!C$6:C$25,$BK6,1))=0),"Passive","Active"),"") -> Active | BO6: =IFERROR(IF($BM6="Passive","",INDEX(PropertyDatabase!B$6:B$25,$BK6,1)),"") -> 103 | BP6: =IFERROR(IF($BM6="Passive","",INDEX(PropertyDatabase!C$6:C$25,$BK6,1)),"") -> Property 3 | BQ6: =IFERROR(IF($BM6="Passive","",INDEX(PropertyDatabase!D$6:D$25,$BK6,1)),"") -> Macauley Peck | BR6: =IFERROR(IF($BM6="Passive","",INDEX(PropertyDatabase!E$6:E$25,$BK6,1)),"") -> macauley@mail.com | BS6: =IFERROR(IF($BM6="Passive","",INDEX(PropertyDatabase!F$6:F$25,$BK6,1)),"") -> Townhome | BT6: =IFERROR(IF($BM6="Passive","",INDEX(PropertyDatabase!G$6:G$25,$BK6,1)),"") -> 369 Cambridge St. Ridgewood 1138 | BU6: =IFERROR(IF($BM6="Passive","",IF(LEN(INDEX(PropertyDatabase!H$6:H$25,$BK6,1))=0,"-",INDEX(PropertyDatabase!H$6:H$25,$BK6,1))),"") -> 1250 | BV6: =IFERROR(IF($BM6="Passive","",IF(LEN(INDEX(PropertyDatabase!I$6:I$25,$BK6,1))=0,"-",INDEX(PropertyDatabase!I$6:I$25,$BK6,1))),"") -> 500000 | BX6: =IFERROR(IF($BM6="Passive","",$BO6&" - "&$BP6),"") -> 103 - Property 3 | BY6: =IFERROR(IF($BM6="Passive","",$BK6),"") -> 3 | BZ6: =IFERROR(SMALL($BY$4:$BY$23,ROW($BZ6)-ROW($BZ$3)),"") -> 3 | CA6: =IFERROR(INDEX($BX$4:$BX$23,$BZ6,1),"") -> 103 - Property 3 | CC6: 3 | CE6: =IFERROR(IF(OR(LEN(INDEX(TaskDatabase!B$6:B$25,$CC6,1))=0,LEN(INDEX(TaskDatabase!C$6:C$25,$CC6,1))=0),"Passive","Active"),"") -> Active | CG6: =IFERROR(IF($CE6="Passive","",INDEX(TaskDatabase!B$6:B$25,$CC6,1)),"") -> 1003 | CH6: =IFERROR(IF($CE6="Passive","",INDEX(TaskDatabase!C$6:C$25,$CC6,1)),"") -> Dustin Santana | CI6: =IFERROR(IF($CE6="Passive","",INDEX(TaskDatabase!D$6:D$25,$CC6,1)),"") -> 44982 | CJ6: =IFERROR(IF($CE6="Passive","",INDEX(TaskDatabase!E$6:E$25,$CC6,1)),"") -> 107 - Property 7 | CK6: =IFERROR(IF($CE6="Passive","",INDEX(TaskDatabase!L$6:L$25,$CC6,1)),"") -> Corby May | CL6: =IFERROR(IF($CE6="Passive","",INDEX(TaskDatabase!M$6:M$25,$CC6,1)),"") -> 212-486-7090 | CM6: =IFERROR(IF($CE6="Passive","",INDEX(TaskDatabase!N$6:N$25,$CC6,1)),"") -> Rent | CN6: =IFERROR(IF($CE6="Passive","",INDEX(TaskDatabase!O$6:O$25,$CC6,1)),"") -> 1500 | CO6: =IFERROR(IF($CE6="Passive","",INDEX(TaskDatabase!P$6:P$25,$CC6,1)),"") -> 1 | CP6: =IFERROR(IF($CE6="Passive","",INDEX(TaskDatabase!Q$6:Q$25,$CC6,1)),"") -> 1500 | CQ6: =IFERROR(IF($CE6="Passive","",INDEX(TaskDatabase!R$6:R$25,$CC6,1)),"") -> 0.12 | CR6: =IFERROR(IF($CE6="Passive","",INDEX(TaskDatabase!S$6:S$25,$CC6,1)),"") -> 180 | ... CU6: =IFERROR(IF($CE6="Passive","",INDEX(TaskDatabase!V$6:V$25,$CC6,1)),"") -> 0 | CV6: =IFERROR(IF($CE6="Passive","",IF($CU6>0,$CU6,$CT6)),"") -> 1320 | CW6: =IFERROR(IF($CE6="Passive","",INDEX(TaskDatabase!W$6:W$25,$CC6,1)),"") -> Agreement | CX6: =IFERROR(IF($CE6="Passive","",INDEX(TaskDatabase!X$6:X$25,$CC6,1)),"") -> 45000 | CY6: =IFERROR(IF($CE6="Passive","",MONTH($CX6)),"") -> 3 | CZ6: =IFERROR(IF($CE6="Passive","",YEAR($CX6)),"") -> 2023 | DB6: 3 | DD6: =IFERROR(IF(OR(LEN(INDEX(Expenses!B$6:B$25,$DB6,1))=0,LEN(INDEX(Expenses!C$6:C$25,$DB6,1))=0),"Passive","Active"),"") -> Active | DF6: =IFERROR(IF($DD6="Passive","",INDEX(Expenses!B$6:B$25,$DB6,1)),"") -> Repairs | DG6: =IFERROR(IF($DD6="Passive","",INDEX(Expenses!C$6:C$25,$DB6,1)),"") -> 2023 | DH6: =IFERROR(IF($DD6="Passive","",INDEX(Expenses!D$6:D$25,$DB6,1)),"") -> 0 | DI6: =IFERROR(IF($DD6="Passive","",INDEX(Expenses!E$6:E$25,$DB6,1)),"") -> 0 | DJ6: =IFERROR(IF($DD6="Passive","",INDEX(Expenses!F$6:F$25,$DB6,1)),"") -> 500 | DK6: =IFERROR(IF($DD6="Passive","",INDEX(Expenses!G$6:G$25,$DB6,1)),"") -> 0 | DL6: =IFERROR(IF($DD6="Passive","",INDEX(Expenses!H$6:H$25,$DB6,1)),"") -> 0 | DM6: =IFERROR(IF($DD6="Passive","",INDEX(Expenses!I$6:I$25,$DB6,1)),"") -> 0 | ... DS6: =IFERROR(IF($DD6="Passive","",INDEX(Expenses!O$6:O$25,$DB6,1)),"") -> 0 | DU6: =IFERROR(IF(LEN(yearfilter)=0,"ALL",yearfilter),"") -> ALL | DX6: JANUARY | DY6: FEBRUARY | DZ6: MARCH | EA6: APRIL | EB6: MAY | EC6: JUNE | ED6: JULY | EE6: AUGUST | EF6: SEPTEMBER | EG6: OCTOBER | EH6: NOVEMBER | EI6: DECEMBER | EK6: SALES | EL6: =IF($DU$12="ALL","TOTAL",$DU$12) -> TOTAL | EM6: =IFERROR(INDEX(DX$12:DX$33,MATCH($EL$6,$DW$12:$DW$33,0),1),"") -> 0 | EN6: =IFERROR(INDEX(DY$12:DY$33,MATCH($EL$6,$DW$12:$DW$33,0),1),"") -> 0 | EO6: =IFERROR(INDEX(DZ$12:DZ$33,MATCH($EL$6,$DW$12:$DW$33,0),1),"") -> 0 | EP6: =IFERROR(INDEX(EA$12:EA$33,MATCH($EL$6,$DW$12:$DW$33,0),1),"") -> 0 | EQ6: =IFERROR(INDEX(EB$12:EB$33,MATCH($EL$6,$DW$12:$DW$33,0),1),"") -> 0 | ER6: =IFERROR(INDEX(EC$12:EC$33,MATCH($EL$6,$DW$12:$DW$33,0),1),"") -> 191750 | ES6: =IFERROR(INDEX(ED$12:ED$33,MATCH($EL$6,$DW$12:$DW$33,0),1),"") -> 210000 | ET6: =IFERROR(INDEX(EE$12:EE$33,MATCH($EL$6,$DW$12:$DW$33,0),1),"") -> 0 | ... EX6: =IFERROR(INDEX(EI$12:EI$33,MATCH($EL$6,$DW$12:$DW$33,0),1),"") -> 0
