Workbook

Sheet Dashboard
C2: HOUSE FLIPPING CALCULATOR
C3: DASHBOARD
C7: PROPERTY INFO'S
C9: Property Address | D9: City / State | E9: ZIP / Postal Code | F9: Country / Region | G9: # of Bedrooms | H9: # of Baths | I9: Sqft | J9: Property Type | K9: Page Link
C10: Property Address 1 | D10: City / State 1 | E10: 10001 | F10: Country / Region 1 | G10: 3 | H10: 2 | I10: 600 | J10: Property Type 1 | K10: Go
C11: Property Address 2 | D11: City / State 2 | E11: 10002 | F11: Country / Region 2 | G11: 4 | H11: 3 | I11: 400 | J11: Property Type 2 | K11: Go
C12: Property Address 3 | D12: City / State 3 | E12: 10003 | F12: Country / Region 3 | G12: 3 | H12: 2 | I12: 650 | J12: Property Type 3 | K12: Go
C13: Property Address 4 | D13: City / State 4 | E13: 10004 | F13: Country / Region 4 | G13: 4 | H13: 3 | I13: 700 | J13: Property Type 4 | K13: Go
C14: Property Address 5 | D14: City / State 5 | E14: 10005 | F14: Country / Region 5 | G14: 5 | H14: 2 | I14: 1000 | J14: Property Type 5 | K14: Go
K15: Go
K16: Go

Sheet Property 1
C2: HOUSE FLIPPING CALCULATOR
C3: TRANSACTIONS
C7: Property & Purchase Infos | H7: Transactions (Rehab Costs) | N7: Summary
C9: Property Address | D9: : | H9: Date | I9: Cost Type | J9: Description | K9: Amount | N9: Purchases Costs | P9: : | Q9: =SUM(E27:E33) -> 376250 | AD9: Cost Type
C10: =IF(Dashboard!C10="","",Dashboard!C10) -> Property Address 1 | H10: 45930 | I10: Labor | J10: Description 1 | K10: 1000 | N10: Monthly Holding Costs | P10: : | Q10: =E36*(SUM(E37:E45)) -> 35200 | AD10: Labor | AE10: =SUMIF($I$10:$I$53,AD10,$K$10:$K$53) -> 1000
C11: City / State | D11: : | H11: 45807 | I11: Material | J11: Description 2 | K11: 2000 | N11: Rehab Costs | P11: : | Q11: =SUM(Q12:Q14) -> 6000 | AD11: Material | AE11: =SUMIF($I$10:$I$53,AD11,$K$10:$K$53) -> 2000
C12: =IF(Dashboard!D10="","",Dashboard!D10) -> City / State 1 | H12: 45808 | I12: Overhead | J12: Description 3 | K12: 3000 | O12: Labor Costs | P12: : | Q12: =AE10 -> 1000 | AD12: Overhead | AE12: =SUMIF($I$10:$I$53,AD12,$K$10:$K$53) -> 3000
C13: ZIP / Postal Code | D13: : | O13: Material Costs | P13: : | Q13: =AE11 -> 2000 | AD13: TOTAL | AE13: =SUM(AE10:AE12) -> 6000
C14: =IF(Dashboard!E10="","",Dashboard!E10) -> 10001 | O14: Overhead Costs | P14: : | Q14: =AE12 -> 3000
C15: Country / Region | D15: : | N15: Selling Costs | P15: : | Q15: =E49+E50+E51+E52+E53 -> 12250 | AD15: 1 | AE15: =N30 -> 0.16360251 | AF15: =IFERROR(AD15-AE15,"") -> 0.83639749
C16: =IF(Dashboard!F10="","",Dashboard!F10) -> Country / Region 1
C17: # of Bedrooms | D17: : | N17: Total Costs
C18: =IF(Dashboard!G10="","",Dashboard!G10) -> 3 | N18: =SUM(Q9,Q10,Q11,Q15) -> 429700
C19: # of Baths | D19: :
C20: =IF(Dashboard!H10="","",Dashboard!H10) -> 2
C21: Sqft | D21: : | N21: Sale Price
C22: =IF(Dashboard!I10="","",Dashboard!I10) -> 600 | N22: =E48 -> 500000
C23: Property Type | D23: :
C24: =IF(Dashboard!J10="","",Dashboard!J10) -> Property Type 1
N25: Total Profit
C26: Purchases Costs | N26: =N22-N18 -> 70300
C27: Purchases Price | D27: : | E27: 375000
C28: Inspections | D28: : | E28: 750
C29: Appraisals | D29: : | E29: 500 | N29: Profit Margin
C30: Surveys | D30: : | N30: =IFERROR(N26/N18,"") -> 0.16360251
C31: Lawyer Fees | D31: :
C32: Closing Cost | D32: :
C33: Other Cost | D33: :
C35: Monthly Holding Costs
C36: # of Months | D36: : | E36: 8
C37: Morgage Payments | D37: : | E37: 2000
C38: Property Taxes | D38: : | E38: 2000
C39: Insurance | D39: : | E39: 300
C40: Water | D40: : | E40: 100 | N40: Note About Property
C41: Electric | D41: : | N41: ●
C42: Gas | D42: : | N42: ●
C43: Other - 1 | D43: : | N43: ●
C44: Other - 2 | D44: : | N44: ●
C45: Other - 3 | D45: : | N45: ●
N46: ●
...

Sheet Property 2
C2: HOUSE FLIPPING CALCULATOR
C3: TRANSACTIONS
C7: Property & Purchase Infos | H7: Transactions (Rehab Costs) | N7: Summary
C9: Property Address | D9: : | H9: Date | I9: Cost Type | J9: Description | K9: Amount | N9: Purchases Costs | P9: : | Q9: =SUM(E27:E33) -> 0 | AD9: Cost Type
C10: =IF(Dashboard!C11="","",Dashboard!C11) -> Property Address 2 | N10: Monthly Holding Costs | P10: : | Q10: =E36*(SUM(E37:E45)) -> 0 | AD10: Labor | AE10: =SUMIF($I$10:$I$53,AD10,$K$10:$K$53) -> 0
C11: City / State | D11: : | N11: Rehab Costs | P11: : | Q11: =SUM(Q12:Q14) -> 0 | AD11: Material | AE11: =SUMIF($I$10:$I$53,AD11,$K$10:$K$53) -> 0
C12: =IF(Dashboard!D11="","",Dashboard!D11) -> City / State 2 | O12: Labor Costs | P12: : | Q12: =AE10 -> 0 | AD12: Overhead | AE12: =SUMIF($I$10:$I$53,AD12,$K$10:$K$53) -> 0
C13: ZIP / Postal Code | D13: : | O13: Material Costs | P13: : | Q13: =AE11 -> 0 | AD13: TOTAL | AE13: =SUM(AE10:AE12) -> 0
C14: =IF(Dashboard!E11="","",Dashboard!E11) -> 10002 | O14: Overhead Costs | P14: : | Q14: =AE12 -> 0
C15: Country / Region | D15: : | N15: Selling Costs | P15: : | Q15: =E49+E50+E51+E52+E53 -> 0 | AD15: 1 | AE15: =N30 | AF15: =IFERROR(AD15-AE15,"")
C16: =IF(Dashboard!F11="","",Dashboard!F11) -> Country / Region 2
C17: # of Bedrooms | D17: : | N17: Total Costs
C18: =IF(Dashboard!G11="","",Dashboard!G11) -> 4 | N18: =SUM(Q9,Q10,Q11,Q15) -> 0
C19: # of Baths | D19: :
C20: =IF(Dashboard!H11="","",Dashboard!H11) -> 3
C21: Sqft | D21: : | N21: Sale Price
C22: =IF(Dashboard!I11="","",Dashboard!I11) -> 400 | N22: =E48 -> 0
C23: Property Type | D23: :
C24: =IF(Dashboard!J11="","",Dashboard!J11) -> Property Type 2
N25: Total Profit
C26: Purchases Costs | N26: =N22-N18 -> 0
C27: Purchases Price | D27: :
C28: Inspections | D28: :
C29: Appraisals | D29: : | N29: Profit Margin
C30: Surveys | D30: : | N30: =IFERROR(N26/N18,"")
C31: Lawyer Fees | D31: :
C32: Closing Cost | D32: :
C33: Other Cost | D33: :
C35: Monthly Holding Costs
C36: # of Months | D36: :
C37: Morgage Payments | D37: :
C38: Property Taxes | D38: :
C39: Insurance | D39: :
C40: Water | D40: : | N40: Note About Property
C41: Electric | D41: : | N41: ●
C42: Gas | D42: : | N42: ●
C43: Other - 1 | D43: : | N43: ●
C44: Other - 2 | D44: : | N44: ●
C45: Other - 3 | D45: : | N45: ●
N46: ●
...

Sheet Property 3
C2: HOUSE FLIPPING CALCULATOR
C3: TRANSACTIONS
C7: Property & Purchase Infos | H7: Transactions (Rehab Costs) | N7: Summary
C9: Property Address | D9: : | H9: Date | I9: Cost Type | J9: Description | K9: Amount | N9: Purchases Costs | P9: : | Q9: =SUM(E27:E33) -> 0 | AD9: Cost Type
C10: =IF(Dashboard!C12="","",Dashboard!C12) -> Property Address 3 | N10: Monthly Holding Costs | P10: : | Q10: =E36*(SUM(E37:E45)) -> 0 | AD10: Labor | AE10: =SUMIF($I$10:$I$53,AD10,$K$10:$K$53) -> 0
C11: City / State | D11: : | N11: Rehab Costs | P11: : | Q11: =SUM(Q12:Q14) -> 0 | AD11: Material | AE11: =SUMIF($I$10:$I$53,AD11,$K$10:$K$53) -> 0
C12: =IF(Dashboard!D12="","",Dashboard!D12) -> City / State 3 | O12: Labor Costs | P12: : | Q12: =AE10 -> 0 | AD12: Overhead | AE12: =SUMIF($I$10:$I$53,AD12,$K$10:$K$53) -> 0
C13: ZIP / Postal Code | D13: : | O13: Material Costs | P13: : | Q13: =AE11 -> 0 | AD13: TOTAL | AE13: =SUM(AE10:AE12) -> 0
C14: =IF(Dashboard!E12="","",Dashboard!E12) -> 10003 | O14: Overhead Costs | P14: : | Q14: =AE12 -> 0
C15: Country / Region | D15: : | N15: Selling Costs | P15: : | Q15: =E49+E50+E51+E52+E53 -> 0 | AD15: 1 | AE15: =N30 | AF15: =IFERROR(AD15-AE15,"")
C16: =IF(Dashboard!F12="","",Dashboard!F12) -> Country / Region 3
C17: # of Bedrooms | D17: : | N17: Total Costs
C18: =IF(Dashboard!G12="","",Dashboard!G12) -> 3 | N18: =SUM(Q9,Q10,Q11,Q15) -> 0
C19: # of Baths | D19: :
C20: =IF(Dashboard!H12="","",Dashboard!H12) -> 2
C21: Sqft | D21: : | N21: Sale Price
C22: =IF(Dashboard!I12="","",Dashboard!I12) -> 650 | N22: =E48 -> 0
C23: Property Type | D23: :
C24: =IF(Dashboard!J12="","",Dashboard!J12) -> Property Type 3
N25: Total Profit
C26: Purchases Costs | N26: =N22-N18 -> 0
C27: Purchases Price | D27: :
C28: Inspections | D28: :
C29: Appraisals | D29: : | N29: Profit Margin
C30: Surveys | D30: : | N30: =IFERROR(N26/N18,"")
C31: Lawyer Fees | D31: :
C32: Closing Cost | D32: :
C33: Other Cost | D33: :
C35: Monthly Holding Costs
C36: # of Months | D36: :
C37: Morgage Payments | D37: :
C38: Property Taxes | D38: :
C39: Insurance | D39: :
C40: Water | D40: : | N40: Note About Property
C41: Electric | D41: : | N41: ●
C42: Gas | D42: : | N42: ●
C43: Other - 1 | D43: : | N43: ●
C44: Other - 2 | D44: : | N44: ●
C45: Other - 3 | D45: : | N45: ●
N46: ●
...

Sheet Property 4
C2: HOUSE FLIPPING CALCULATOR
C3: TRANSACTIONS
C7: Property & Purchase Infos | H7: Transactions (Rehab Costs) | N7: Summary
C9: Property Address | D9: : | H9: Date | I9: Cost Type | J9: Description | K9: Amount | N9: Purchases Costs | P9: : | Q9: =SUM(E27:E33) -> 0 | AD9: Cost Type
C10: =IF(Dashboard!C13="","",Dashboard!C13) -> Property Address 4 | N10: Monthly Holding Costs | P10: : | Q10: =E36*(SUM(E37:E45)) -> 0 | AD10: Labor | AE10: =SUMIF($I$10:$I$53,AD10,$K$10:$K$53) -> 0
C11: City / State | D11: : | N11: Rehab Costs | P11: : | Q11: =SUM(Q12:Q14) -> 0 | AD11: Material | AE11: =SUMIF($I$10:$I$53,AD11,$K$10:$K$53) -> 0
C12: =IF(Dashboard!D13="","",Dashboard!D13) -> City / State 4 | O12: Labor Costs | P12: : | Q12: =AE10 -> 0 | AD12: Overhead | AE12: =SUMIF($I$10:$I$53,AD12,$K$10:$K$53) -> 0
C13: ZIP / Postal Code | D13: : | O13: Material Costs | P13: : | Q13: =AE11 -> 0 | AD13: TOTAL | AE13: =SUM(AE10:AE12) -> 0
C14: =IF(Dashboard!E13="","",Dashboard!E13) -> 10004 | O14: Overhead Costs | P14: : | Q14: =AE12 -> 0
C15: Country / Region | D15: : | N15: Selling Costs | P15: : | Q15: =E49+E50+E51+E52+E53 -> 0 | AD15: 1 | AE15: =N30 | AF15: =IFERROR(AD15-AE15,"")
C16: =IF(Dashboard!F13="","",Dashboard!F13) -> Country / Region 4
C17: # of Bedrooms | D17: : | N17: Total Costs
C18: =IF(Dashboard!G13="","",Dashboard!G13) -> 4 | N18: =SUM(Q9,Q10,Q11,Q15) -> 0
C19: # of Baths | D19: :
C20: =IF(Dashboard!H13="","",Dashboard!H13) -> 3
C21: Sqft | D21: : | N21: Sale Price
C22: =IF(Dashboard!I13="","",Dashboard!I13) -> 700 | N22: =E48 -> 0
C23: Property Type | D23: :
C24: =IF(Dashboard!J13="","",Dashboard!J13) -> Property Type 4
N25: Total Profit
C26: Purchases Costs | N26: =N22-N18 -> 0
C27: Purchases Price | D27: :
C28: Inspections | D28: :
C29: Appraisals | D29: : | N29: Profit Margin
C30: Surveys | D30: : | N30: =IFERROR(N26/N18,"")
C31: Lawyer Fees | D31: :
C32: Closing Cost | D32: :
C33: Other Cost | D33: :
C35: Monthly Holding Costs
C36: # of Months | D36: :
C37: Morgage Payments | D37: :
C38: Property Taxes | D38: :
C39: Insurance | D39: :
C40: Water | D40: : | N40: Note About Property
C41: Electric | D41: : | N41: ●
C42: Gas | D42: : | N42: ●
C43: Other - 1 | D43: : | N43: ●
C44: Other - 2 | D44: : | N44: ●
C45: Other - 3 | D45: : | N45: ●
N46: ●
...

Sheet Property 5
C2: HOUSE FLIPPING CALCULATOR
C3: TRANSACTIONS
C7: Property & Purchase Infos | H7: Transactions (Rehab Costs) | N7: Summary
C9: Property Address | D9: : | H9: Date | I9: Cost Type | J9: Description | K9: Amount | N9: Purchases Costs | P9: : | Q9: =SUM(E27:E33) -> 0 | AD9: Cost Type
C10: =IF(Dashboard!C14="","",Dashboard!C14) -> Property Address 5 | N10: Monthly Holding Costs | P10: : | Q10: =E36*(SUM(E37:E45)) -> 0 | AD10: Labor | AE10: =SUMIF($I$10:$I$53,AD10,$K$10:$K$53) -> 0
C11: City / State | D11: : | N11: Rehab Costs | P11: : | Q11: =SUM(Q12:Q14) -> 0 | AD11: Material | AE11: =SUMIF($I$10:$I$53,AD11,$K$10:$K$53) -> 0
C12: =IF(Dashboard!D14="","",Dashboard!D14) -> City / State 5 | O12: Labor Costs | P12: : | Q12: =AE10 -> 0 | AD12: Overhead | AE12: =SUMIF($I$10:$I$53,AD12,$K$10:$K$53) -> 0
C13: ZIP / Postal Code | D13: : | O13: Material Costs | P13: : | Q13: =AE11 -> 0 | AD13: TOTAL | AE13: =SUM(AE10:AE12) -> 0
C14: =IF(Dashboard!E14="","",Dashboard!E14) -> 10005 | O14: Overhead Costs | P14: : | Q14: =AE12 -> 0
C15: Country / Region | D15: : | N15: Selling Costs | P15: : | Q15: =E49+E50+E51+E52+E53 -> 0 | AD15: 1 | AE15: =N30 | AF15: =IFERROR(AD15-AE15,"")
C16: =IF(Dashboard!F14="","",Dashboard!F14) -> Country / Region 5
C17: # of Bedrooms | D17: : | N17: Total Costs
C18: =IF(Dashboard!G14="","",Dashboard!G14) -> 5 | N18: =SUM(Q9,Q10,Q11,Q15) -> 0
C19: # of Baths | D19: :
C20: =IF(Dashboard!H14="","",Dashboard!H14) -> 2
C21: Sqft | D21: : | N21: Sale Price
C22: =IF(Dashboard!I14="","",Dashboard!I14) -> 1000 | N22: =E48 -> 0
C23: Property Type | D23: :
C24: =IF(Dashboard!J14="","",Dashboard!J14) -> Property Type 5
N25: Total Profit
C26: Purchases Costs | N26: =N22-N18 -> 0
C27: Purchases Price | D27: :
C28: Inspections | D28: :
C29: Appraisals | D29: : | N29: Profit Margin
C30: Surveys | D30: : | N30: =IFERROR(N26/N18,"")
C31: Lawyer Fees | D31: :
C32: Closing Cost | D32: :
C33: Other Cost | D33: :
C35: Monthly Holding Costs
C36: # of Months | D36: :
C37: Morgage Payments | D37: :
C38: Property Taxes | D38: :
C39: Insurance | D39: :
C40: Water | D40: : | N40: Note About Property
C41: Electric | D41: : | N41: ●
C42: Gas | D42: : | N42: ●
C43: Other - 1 | D43: : | N43: ●
C44: Other - 2 | D44: : | N44: ●
C45: Other - 3 | D45: : | N45: ●
N46: ●
...

Sheet Property 6
C2: HOUSE FLIPPING CALCULATOR
C3: TRANSACTIONS
C7: Property & Purchase Infos | H7: Transactions (Rehab Costs) | N7: Summary
C9: Property Address | D9: : | H9: Date | I9: Cost Type | J9: Description | K9: Amount | N9: Purchases Costs | P9: : | Q9: =SUM(E27:E33) -> 0 | AD9: Cost Type
C10: =IF(Dashboard!C15="","",Dashboard!C15) | N10: Monthly Holding Costs | P10: : | Q10: =E36*(SUM(E37:E45)) -> 0 | AD10: Labor | AE10: =SUMIF($I$10:$I$53,AD10,$K$10:$K$53) -> 0
C11: City / State | D11: : | N11: Rehab Costs | P11: : | Q11: =SUM(Q12:Q14) -> 0 | AD11: Material | AE11: =SUMIF($I$10:$I$53,AD11,$K$10:$K$53) -> 0
C12: =IF(Dashboard!D15="","",Dashboard!D15) | O12: Labor Costs | P12: : | Q12: =AE10 -> 0 | AD12: Overhead | AE12: =SUMIF($I$10:$I$53,AD12,$K$10:$K$53) -> 0
C13: ZIP / Postal Code | D13: : | O13: Material Costs | P13: : | Q13: =AE11 -> 0 | AD13: TOTAL | AE13: =SUM(AE10:AE12) -> 0
C14: =IF(Dashboard!E15="","",Dashboard!E15) | O14: Overhead Costs | P14: : | Q14: =AE12 -> 0
C15: Country / Region | D15: : | N15: Selling Costs | P15: : | Q15: =E49+E50+E51+E52+E53 -> 0 | AD15: 1 | AE15: =N30 | AF15: =IFERROR(AD15-AE15,"")
C16: =IF(Dashboard!F15="","",Dashboard!F15)
C17: # of Bedrooms | D17: : | N17: Total Costs
C18: =IF(Dashboard!G15="","",Dashboard!G15) | N18: =SUM(Q9,Q10,Q11,Q15) -> 0
C19: # of Baths | D19: :
C20: =IF(Dashboard!H15="","",Dashboard!H15)
C21: Sqft | D21: : | N21: Sale Price
C22: =IF(Dashboard!I15="","",Dashboard!I15) | N22: =E48 -> 0
C23: Property Type | D23: :
C24: =IF(Dashboard!J15="","",Dashboard!J15)
N25: Total Profit
C26: Purchases Costs | N26: =N22-N18 -> 0
C27: Purchases Price | D27: :
C28: Inspections | D28: :
C29: Appraisals | D29: : | N29: Profit Margin
C30: Surveys | D30: : | N30: =IFERROR(N26/N18,"")
C31: Lawyer Fees | D31: :
C32: Closing Cost | D32: :
C33: Other Cost | D33: :
C35: Monthly Holding Costs
C36: # of Months | D36: :
C37: Morgage Payments | D37: :
C38: Property Taxes | D38: :
C39: Insurance | D39: :
C40: Water | D40: : | N40: Note About Property
C41: Electric | D41: : | N41: ●
C42: Gas | D42: : | N42: ●
C43: Other - 1 | D43: : | N43: ●
C44: Other - 2 | D44: : | N44: ●
C45: Other - 3 | D45: : | N45: ●
N46: ●
...

Sheet Property 7
C2: HOUSE FLIPPING CALCULATOR
C3: TRANSACTIONS
C7: Property & Purchase Infos | H7: Transactions (Rehab Costs) | N7: Summary
C9: Property Address | D9: : | H9: Date | I9: Cost Type | J9: Description | K9: Amount | N9: Purchases Costs | P9: : | Q9: =SUM(E27:E33) -> 0 | AD9: Cost Type
C10: =IF(Dashboard!C16="","",Dashboard!C16) | N10: Monthly Holding Costs | P10: : | Q10: =E36*(SUM(E37:E45)) -> 0 | AD10: Labor | AE10: =SUMIF($I$10:$I$53,AD10,$K$10:$K$53) -> 0
C11: City / State | D11: : | N11: Rehab Costs | P11: : | Q11: =SUM(Q12:Q14) -> 0 | AD11: Material | AE11: =SUMIF($I$10:$I$53,AD11,$K$10:$K$53) -> 0
C12: =IF(Dashboard!D16="","",Dashboard!D16) | O12: Labor Costs | P12: : | Q12: =AE10 -> 0 | AD12: Overhead | AE12: =SUMIF($I$10:$I$53,AD12,$K$10:$K$53) -> 0
C13: ZIP / Postal Code | D13: : | O13: Material Costs | P13: : | Q13: =AE11 -> 0 | AD13: TOTAL | AE13: =SUM(AE10:AE12) -> 0
C14: =IF(Dashboard!E16="","",Dashboard!E16) | O14: Overhead Costs | P14: : | Q14: =AE12 -> 0
C15: Country / Region | D15: : | N15: Selling Costs | P15: : | Q15: =E49+E50+E51+E52+E53 -> 0 | AD15: 1 | AE15: =N30 | AF15: =IFERROR(AD15-AE15,"")
C16: =IF(Dashboard!F16="","",Dashboard!F16)
C17: # of Bedrooms | D17: : | N17: Total Costs
C18: =IF(Dashboard!G16="","",Dashboard!G16) | N18: =SUM(Q9,Q10,Q11,Q15) -> 0
C19: # of Baths | D19: :
C20: =IF(Dashboard!H16="","",Dashboard!H16)
C21: Sqft | D21: : | N21: Sale Price
C22: =IF(Dashboard!I16="","",Dashboard!I16) | N22: =E48 -> 0
C23: Property Type | D23: :
C24: =IF(Dashboard!J16="","",Dashboard!J16)
N25: Total Profit
C26: Purchases Costs | N26: =N22-N18 -> 0
C27: Purchases Price | D27: :
C28: Inspections | D28: :
C29: Appraisals | D29: : | N29: Profit Margin
C30: Surveys | D30: : | N30: =IFERROR(N26/N18,"")
C31: Lawyer Fees | D31: :
C32: Closing Cost | D32: :
C33: Other Cost | D33: :
C35: Monthly Holding Costs
C36: # of Months | D36: :
C37: Morgage Payments | D37: :
C38: Property Taxes | D38: :
C39: Insurance | D39: :
C40: Water | D40: : | N40: Note About Property
C41: Electric | D41: : | N41: ●
C42: Gas | D42: : | N42: ●
C43: Other - 1 | D43: : | N43: ●
C44: Other - 2 | D44: : | N44: ●
C45: Other - 3 | D45: : | N45: ●
N46: ●
...

Sheet Property 8
C2: HOUSE FLIPPING CALCULATOR
C3: TRANSACTIONS
C7: Property & Purchase Infos | H7: Transactions (Rehab Costs) | N7: Summary
C9: Property Address | D9: : | H9: Date | I9: Cost Type | J9: Description | K9: Amount | N9: Purchases Costs | P9: : | Q9: =SUM(E27:E33) -> 0 | AD9: Cost Type
C10: =IF(Dashboard!C17="","",Dashboard!C17) | N10: Monthly Holding Costs | P10: : | Q10: =E36*(SUM(E37:E45)) -> 0 | AD10: Labor | AE10: =SUMIF($I$10:$I$53,AD10,$K$10:$K$53) -> 0
C11: City / State | D11: : | N11: Rehab Costs | P11: : | Q11: =SUM(Q12:Q14) -> 0 | AD11: Material | AE11: =SUMIF($I$10:$I$53,AD11,$K$10:$K$53) -> 0
C12: =IF(Dashboard!D17="","",Dashboard!D17) | O12: Labor Costs | P12: : | Q12: =AE10 -> 0 | AD12: Overhead | AE12: =SUMIF($I$10:$I$53,AD12,$K$10:$K$53) -> 0
C13: ZIP / Postal Code | D13: : | O13: Material Costs | P13: : | Q13: =AE11 -> 0 | AD13: TOTAL | AE13: =SUM(AE10:AE12) -> 0
C14: =IF(Dashboard!E17="","",Dashboard!E17) | O14: Overhead Costs | P14: : | Q14: =AE12 -> 0
C15: Country / Region | D15: : | N15: Selling Costs | P15: : | Q15: =E49+E50+E51+E52+E53 -> 0 | AD15: 1 | AE15: =N30 | AF15: =IFERROR(AD15-AE15,"")
C16: =IF(Dashboard!F17="","",Dashboard!F17)
C17: # of Bedrooms | D17: : | N17: Total Costs
C18: =IF(Dashboard!G17="","",Dashboard!G17) | N18: =SUM(Q9,Q10,Q11,Q15) -> 0
C19: # of Baths | D19: :
C20: =IF(Dashboard!H17="","",Dashboard!H17)
C21: Sqft | D21: : | N21: Sale Price
C22: =IF(Dashboard!I17="","",Dashboard!I17) | N22: =E48 -> 0
C23: Property Type | D23: :
C24: =IF(Dashboard!J17="","",Dashboard!J17)
N25: Total Profit
C26: Purchases Costs | N26: =N22-N18 -> 0
C27: Purchases Price | D27: :
C28: Inspections | D28: :
C29: Appraisals | D29: : | N29: Profit Margin
C30: Surveys | D30: : | N30: =IFERROR(N26/N18,"")
C31: Lawyer Fees | D31: :
C32: Closing Cost | D32: :
C33: Other Cost | D33: :
C35: Monthly Holding Costs
C36: # of Months | D36: :
C37: Morgage Payments | D37: :
C38: Property Taxes | D38: :
C39: Insurance | D39: :
C40: Water | D40: : | N40: Note About Property
C41: Electric | D41: : | N41: ●
C42: Gas | D42: : | N42: ●
C43: Other - 1 | D43: : | N43: ●
C44: Other - 2 | D44: : | N44: ●
C45: Other - 3 | D45: : | N45: ●
N46: ●
...

Sheet Property 9
C2: HOUSE FLIPPING CALCULATOR
C3: TRANSACTIONS
C7: Property & Purchase Infos | H7: Transactions (Rehab Costs) | N7: Summary
C9: Property Address | D9: : | H9: Date | I9: Cost Type | J9: Description | K9: Amount | N9: Purchases Costs | P9: : | Q9: =SUM(E27:E33) -> 0 | AD9: Cost Type
C10: =IF(Dashboard!C18="","",Dashboard!C18) | N10: Monthly Holding Costs | P10: : | Q10: =E36*(SUM(E37:E45)) -> 0 | AD10: Labor | AE10: =SUMIF($I$10:$I$53,AD10,$K$10:$K$53) -> 0
C11: City / State | D11: : | N11: Rehab Costs | P11: : | Q11: =SUM(Q12:Q14) -> 0 | AD11: Material | AE11: =SUMIF($I$10:$I$53,AD11,$K$10:$K$53) -> 0
C12: =IF(Dashboard!D18="","",Dashboard!D18) | O12: Labor Costs | P12: : | Q12: =AE10 -> 0 | AD12: Overhead | AE12: =SUMIF($I$10:$I$53,AD12,$K$10:$K$53) -> 0
C13: ZIP / Postal Code | D13: : | O13: Material Costs | P13: : | Q13: =AE11 -> 0 | AD13: TOTAL | AE13: =SUM(AE10:AE12) -> 0
C14: =IF(Dashboard!E18="","",Dashboard!E18) | O14: Overhead Costs | P14: : | Q14: =AE12 -> 0
C15: Country / Region | D15: : | N15: Selling Costs | P15: : | Q15: =E49+E50+E51+E52+E53 -> 0 | AD15: 1 | AE15: =N30 | AF15: =IFERROR(AD15-AE15,"")
C16: =IF(Dashboard!F18="","",Dashboard!F18)
C17: # of Bedrooms | D17: : | N17: Total Costs
C18: =IF(Dashboard!G18="","",Dashboard!G18) | N18: =SUM(Q9,Q10,Q11,Q15) -> 0
C19: # of Baths | D19: :
C20: =IF(Dashboard!H18="","",Dashboard!H18)
C21: Sqft | D21: : | N21: Sale Price
C22: =IF(Dashboard!I18="","",Dashboard!I18) | N22: =E48 -> 0
C23: Property Type | D23: :
C24: =IF(Dashboard!J18="","",Dashboard!J18)
N25: Total Profit
C26: Purchases Costs | N26: =N22-N18 -> 0
C27: Purchases Price | D27: :
C28: Inspections | D28: :
C29: Appraisals | D29: : | N29: Profit Margin
C30: Surveys | D30: : | N30: =IFERROR(N26/N18,"")
C31: Lawyer Fees | D31: :
C32: Closing Cost | D32: :
C33: Other Cost | D33: :
C35: Monthly Holding Costs
C36: # of Months | D36: :
C37: Morgage Payments | D37: :
C38: Property Taxes | D38: :
C39: Insurance | D39: :
C40: Water | D40: : | N40: Note About Property
C41: Electric | D41: : | N41: ●
C42: Gas | D42: : | N42: ●
C43: Other - 1 | D43: : | N43: ●
C44: Other - 2 | D44: : | N44: ●
C45: Other - 3 | D45: : | N45: ●
N46: ●
...

Sheet Property 10
C2: HOUSE FLIPPING CALCULATOR
C3: TRANSACTIONS
C7: Property & Purchase Infos | H7: Transactions (Rehab Costs) | N7: Summary
C9: Property Address | D9: : | H9: Date | I9: Cost Type | J9: Description | K9: Amount | N9: Purchases Costs | P9: : | Q9: =SUM(E27:E33) -> 0 | AD9: Cost Type
C10: =IF(Dashboard!C19="","",Dashboard!C19) | N10: Monthly Holding Costs | P10: : | Q10: =E36*(SUM(E37:E45)) -> 0 | AD10: Labor | AE10: =SUMIF($I$10:$I$53,AD10,$K$10:$K$53) -> 0
C11: City / State | D11: : | N11: Rehab Costs | P11: : | Q11: =SUM(Q12:Q14) -> 0 | AD11: Material | AE11: =SUMIF($I$10:$I$53,AD11,$K$10:$K$53) -> 0
C12: =IF(Dashboard!D19="","",Dashboard!D19) | O12: Labor Costs | P12: : | Q12: =AE10 -> 0 | AD12: Overhead | AE12: =SUMIF($I$10:$I$53,AD12,$K$10:$K$53) -> 0
C13: ZIP / Postal Code | D13: : | O13: Material Costs | P13: : | Q13: =AE11 -> 0 | AD13: TOTAL | AE13: =SUM(AE10:AE12) -> 0
C14: =IF(Dashboard!E19="","",Dashboard!E19) | O14: Overhead Costs | P14: : | Q14: =AE12 -> 0
C15: Country / Region | D15: : | N15: Selling Costs | P15: : | Q15: =E49+E50+E51+E52+E53 -> 0 | AD15: 1 | AE15: =N30 | AF15: =IFERROR(AD15-AE15,"")
C16: =IF(Dashboard!F19="","",Dashboard!F19)
C17: # of Bedrooms | D17: : | N17: Total Costs
C18: =IF(Dashboard!G19="","",Dashboard!G19) | N18: =SUM(Q9,Q10,Q11,Q15) -> 0
C19: # of Baths | D19: :
C20: =IF(Dashboard!H19="","",Dashboard!H19)
C21: Sqft | D21: : | N21: Sale Price
C22: =IF(Dashboard!I19="","",Dashboard!I19) | N22: =E48 -> 0
C23: Property Type | D23: :
C24: =IF(Dashboard!J19="","",Dashboard!J19)
N25: Total Profit
C26: Purchases Costs | N26: =N22-N18 -> 0
C27: Purchases Price | D27: :
C28: Inspections | D28: :
C29: Appraisals | D29: : | N29: Profit Margin
C30: Surveys | D30: : | N30: =IFERROR(N26/N18,"")
C31: Lawyer Fees | D31: :
C32: Closing Cost | D32: :
C33: Other Cost | D33: :
C35: Monthly Holding Costs
C36: # of Months | D36: :
C37: Morgage Payments | D37: :
C38: Property Taxes | D38: :
C39: Insurance | D39: :
C40: Water | D40: : | N40: Note About Property
C41: Electric | D41: : | N41: ●
C42: Gas | D42: : | N42: ●
C43: Other - 1 | D43: : | N43: ●
C44: Other - 2 | D44: : | N44: ●
C45: Other - 3 | D45: : | N45: ●
N46: ●
...

Sheet Property 11
C2: HOUSE FLIPPING CALCULATOR
C3: TRANSACTIONS
C7: Property & Purchase Infos | H7: Transactions (Rehab Costs) | N7: Summary
C9: Property Address | D9: : | H9: Date | I9: Cost Type | J9: Description | K9: Amount | N9: Purchases Costs | P9: : | Q9: =SUM(E27:E33) -> 0 | AD9: Cost Type
C10: =IF(Dashboard!C20="","",Dashboard!C20) | N10: Monthly Holding Costs | P10: : | Q10: =E36*(SUM(E37:E45)) -> 0 | AD10: Labor | AE10: =SUMIF($I$10:$I$53,AD10,$K$10:$K$53) -> 0
C11: City / State | D11: : | N11: Rehab Costs | P11: : | Q11: =SUM(Q12:Q14) -> 0 | AD11: Material | AE11: =SUMIF($I$10:$I$53,AD11,$K$10:$K$53) -> 0
C12: =IF(Dashboard!D20="","",Dashboard!D20) | O12: Labor Costs | P12: : | Q12: =AE10 -> 0 | AD12: Overhead | AE12: =SUMIF($I$10:$I$53,AD12,$K$10:$K$53) -> 0
C13: ZIP / Postal Code | D13: : | O13: Material Costs | P13: : | Q13: =AE11 -> 0 | AD13: TOTAL | AE13: =SUM(AE10:AE12) -> 0
C14: =IF(Dashboard!E20="","",Dashboard!E20) | O14: Overhead Costs | P14: : | Q14: =AE12 -> 0
C15: Country / Region | D15: : | N15: Selling Costs | P15: : | Q15: =E49+E50+E51+E52+E53 -> 0 | AD15: 1 | AE15: =N30 | AF15: =IFERROR(AD15-AE15,"")
C16: =IF(Dashboard!F20="","",Dashboard!F20)
C17: # of Bedrooms | D17: : | N17: Total Costs
C18: =IF(Dashboard!G20="","",Dashboard!G20) | N18: =SUM(Q9,Q10,Q11,Q15) -> 0
C19: # of Baths | D19: :
C20: =IF(Dashboard!H20="","",Dashboard!H20)
C21: Sqft | D21: : | N21: Sale Price
C22: =IF(Dashboard!I20="","",Dashboard!I20) | N22: =E48 -> 0
C23: Property Type | D23: :
C24: =IF(Dashboard!J20="","",Dashboard!J20)
N25: Total Profit
C26: Purchases Costs | N26: =N22-N18 -> 0
C27: Purchases Price | D27: :
C28: Inspections | D28: :
C29: Appraisals | D29: : | N29: Profit Margin
C30: Surveys | D30: : | N30: =IFERROR(N26/N18,"")
C31: Lawyer Fees | D31: :
C32: Closing Cost | D32: :
C33: Other Cost | D33: :
C35: Monthly Holding Costs
C36: # of Months | D36: :
C37: Morgage Payments | D37: :
C38: Property Taxes | D38: :
C39: Insurance | D39: :
C40: Water | D40: : | N40: Note About Property
C41: Electric | D41: : | N41: ●
C42: Gas | D42: : | N42: ●
C43: Other - 1 | D43: : | N43: ●
C44: Other - 2 | D44: : | N44: ●
C45: Other - 3 | D45: : | N45: ●
N46: ●
...

Sheet Property 12
C2: HOUSE FLIPPING CALCULATOR
C3: TRANSACTIONS
C7: Property & Purchase Infos | H7: Transactions (Rehab Costs) | N7: Summary
C9: Property Address | D9: : | H9: Date | I9: Cost Type | J9: Description | K9: Amount | N9: Purchases Costs | P9: : | Q9: =SUM(E27:E33) -> 0 | AD9: Cost Type
C10: =IF(Dashboard!C21="","",Dashboard!C21) | N10: Monthly Holding Costs | P10: : | Q10: =E36*(SUM(E37:E45)) -> 0 | AD10: Labor | AE10: =SUMIF($I$10:$I$53,AD10,$K$10:$K$53) -> 0
C11: City / State | D11: : | N11: Rehab Costs | P11: : | Q11: =SUM(Q12:Q14) -> 0 | AD11: Material | AE11: =SUMIF($I$10:$I$53,AD11,$K$10:$K$53) -> 0
C12: =IF(Dashboard!D21="","",Dashboard!D21) | O12: Labor Costs | P12: : | Q12: =AE10 -> 0 | AD12: Overhead | AE12: =SUMIF($I$10:$I$53,AD12,$K$10:$K$53) -> 0
C13: ZIP / Postal Code | D13: : | O13: Material Costs | P13: : | Q13: =AE11 -> 0 | AD13: TOTAL | AE13: =SUM(AE10:AE12) -> 0
C14: =IF(Dashboard!E21="","",Dashboard!E21) | O14: Overhead Costs | P14: : | Q14: =AE12 -> 0
C15: Country / Region | D15: : | N15: Selling Costs | P15: : | Q15: =E49+E50+E51+E52+E53 -> 0 | AD15: 1 | AE15: =N30 | AF15: =IFERROR(AD15-AE15,"")
C16: =IF(Dashboard!F21="","",Dashboard!F21)
C17: # of Bedrooms | D17: : | N17: Total Costs
C18: =IF(Dashboard!G21="","",Dashboard!G21) | N18: =SUM(Q9,Q10,Q11,Q15) -> 0
C19: # of Baths | D19: :
C20: =IF(Dashboard!H21="","",Dashboard!H21)
C21: Sqft | D21: : | N21: Sale Price
C22: =IF(Dashboard!I21="","",Dashboard!I21) | N22: =E48 -> 0
C23: Property Type | D23: :
C24: =IF(Dashboard!J21="","",Dashboard!J21)
N25: Total Profit
C26: Purchases Costs | N26: =N22-N18 -> 0
C27: Purchases Price | D27: :
C28: Inspections | D28: :
C29: Appraisals | D29: : | N29: Profit Margin
C30: Surveys | D30: : | N30: =IFERROR(N26/N18,"")
C31: Lawyer Fees | D31: :
C32: Closing Cost | D32: :
C33: Other Cost | D33: :
C35: Monthly Holding Costs
C36: # of Months | D36: :
C37: Morgage Payments | D37: :
C38: Property Taxes | D38: :
C39: Insurance | D39: :
C40: Water | D40: : | N40: Note About Property
C41: Electric | D41: : | N41: ●
C42: Gas | D42: : | N42: ●
C43: Other - 1 | D43: : | N43: ●
C44: Other - 2 | D44: : | N44: ●
C45: Other - 3 | D45: : | N45: ●
N46: ●
...

Sheet Property 13
C2: HOUSE FLIPPING CALCULATOR
C3: TRANSACTIONS
C7: Property & Purchase Infos | H7: Transactions (Rehab Costs) | N7: Summary
C9: Property Address | D9: : | H9: Date | I9: Cost Type | J9: Description | K9: Amount | N9: Purchases Costs | P9: : | Q9: =SUM(E27:E33) -> 0 | AD9: Cost Type
C10: =IF(Dashboard!C22="","",Dashboard!C22) | N10: Monthly Holding Costs | P10: : | Q10: =E36*(SUM(E37:E45)) -> 0 | AD10: Labor | AE10: =SUMIF($I$10:$I$53,AD10,$K$10:$K$53) -> 0
C11: City / State | D11: : | N11: Rehab Costs | P11: : | Q11: =SUM(Q12:Q14) -> 0 | AD11: Material | AE11: =SUMIF($I$10:$I$53,AD11,$K$10:$K$53) -> 0
C12: =IF(Dashboard!D22="","",Dashboard!D22) | O12: Labor Costs | P12: : | Q12: =AE10 -> 0 | AD12: Overhead | AE12: =SUMIF($I$10:$I$53,AD12,$K$10:$K$53) -> 0
C13: ZIP / Postal Code | D13: : | O13: Material Costs | P13: : | Q13: =AE11 -> 0 | AD13: TOTAL | AE13: =SUM(AE10:AE12) -> 0
C14: =IF(Dashboard!E22="","",Dashboard!E22) | O14: Overhead Costs | P14: : | Q14: =AE12 -> 0
C15: Country / Region | D15: : | N15: Selling Costs | P15: : | Q15: =E49+E50+E51+E52+E53 -> 0 | AD15: 1 | AE15: =N30 | AF15: =IFERROR(AD15-AE15,"")
C16: =IF(Dashboard!F22="","",Dashboard!F22)
C17: # of Bedrooms | D17: : | N17: Total Costs
C18: =IF(Dashboard!G22="","",Dashboard!G22) | N18: =SUM(Q9,Q10,Q11,Q15) -> 0
C19: # of Baths | D19: :
C20: =IF(Dashboard!H22="","",Dashboard!H22)
C21: Sqft | D21: : | N21: Sale Price
C22: =IF(Dashboard!I22="","",Dashboard!I22) | N22: =E48 -> 0
C23: Property Type | D23: :
C24: =IF(Dashboard!J22="","",Dashboard!J22)
N25: Total Profit
C26: Purchases Costs | N26: =N22-N18 -> 0
C27: Purchases Price | D27: :
C28: Inspections | D28: :
C29: Appraisals | D29: : | N29: Profit Margin
C30: Surveys | D30: : | N30: =IFERROR(N26/N18,"")
C31: Lawyer Fees | D31: :
C32: Closing Cost | D32: :
C33: Other Cost | D33: :
C35: Monthly Holding Costs
C36: # of Months | D36: :
C37: Morgage Payments | D37: :
C38: Property Taxes | D38: :
C39: Insurance | D39: :
C40: Water | D40: : | N40: Note About Property
C41: Electric | D41: : | N41: ●
C42: Gas | D42: : | N42: ●
C43: Other - 1 | D43: : | N43: ●
C44: Other - 2 | D44: : | N44: ●
C45: Other - 3 | D45: : | N45: ●
N46: ●
...

Sheet Property 14
C2: HOUSE FLIPPING CALCULATOR
C3: TRANSACTIONS
C7: Property & Purchase Infos | H7: Transactions (Rehab Costs) | N7: Summary
C9: Property Address | D9: : | H9: Date | I9: Cost Type | J9: Description | K9: Amount | N9: Purchases Costs | P9: : | Q9: =SUM(E27:E33) -> 0 | AD9: Cost Type
C10: =IF(Dashboard!C23="","",Dashboard!C23) | N10: Monthly Holding Costs | P10: : | Q10: =E36*(SUM(E37:E45)) -> 0 | AD10: Labor | AE10: =SUMIF($I$10:$I$53,AD10,$K$10:$K$53) -> 0
C11: City / State | D11: : | N11: Rehab Costs | P11: : | Q11: =SUM(Q12:Q14) -> 0 | AD11: Material | AE11: =SUMIF($I$10:$I$53,AD11,$K$10:$K$53) -> 0
C12: =IF(Dashboard!D23="","",Dashboard!D23) | O12: Labor Costs | P12: : | Q12: =AE10 -> 0 | AD12: Overhead | AE12: =SUMIF($I$10:$I$53,AD12,$K$10:$K$53) -> 0
C13: ZIP / Postal Code | D13: : | O13: Material Costs | P13: : | Q13: =AE11 -> 0 | AD13: TOTAL | AE13: =SUM(AE10:AE12) -> 0
C14: =IF(Dashboard!E23="","",Dashboard!E23) | O14: Overhead Costs | P14: : | Q14: =AE12 -> 0
C15: Country / Region | D15: : | N15: Selling Costs | P15: : | Q15: =E49+E50+E51+E52+E53 -> 0 | AD15: 1 | AE15: =N30 | AF15: =IFERROR(AD15-AE15,"")
C16: =IF(Dashboard!F23="","",Dashboard!F23)
C17: # of Bedrooms | D17: : | N17: Total Costs
C18: =IF(Dashboard!G23="","",Dashboard!G23) | N18: =SUM(Q9,Q10,Q11,Q15) -> 0
C19: # of Baths | D19: :
C20: =IF(Dashboard!H23="","",Dashboard!H23)
C21: Sqft | D21: : | N21: Sale Price
C22: =IF(Dashboard!I23="","",Dashboard!I23) | N22: =E48 -> 0
C23: Property Type | D23: :
C24: =IF(Dashboard!J23="","",Dashboard!J23)
N25: Total Profit
C26: Purchases Costs | N26: =N22-N18 -> 0
C27: Purchases Price | D27: :
C28: Inspections | D28: :
C29: Appraisals | D29: : | N29: Profit Margin
C30: Surveys | D30: : | N30: =IFERROR(N26/N18,"")
C31: Lawyer Fees | D31: :
C32: Closing Cost | D32: :
C33: Other Cost | D33: :
C35: Monthly Holding Costs
C36: # of Months | D36: :
C37: Morgage Payments | D37: :
C38: Property Taxes | D38: :
C39: Insurance | D39: :
C40: Water | D40: : | N40: Note About Property
C41: Electric | D41: : | N41: ●
C42: Gas | D42: : | N42: ●
C43: Other - 1 | D43: : | N43: ●
C44: Other - 2 | D44: : | N44: ●
C45: Other - 3 | D45: : | N45: ●
N46: ●
...

Sheet Property 15
C2: HOUSE FLIPPING CALCULATOR
C3: TRANSACTIONS
C7: Property & Purchase Infos | H7: Transactions (Rehab Costs) | N7: Summary
C9: Property Address | D9: : | H9: Date | I9: Cost Type | J9: Description | K9: Amount | N9: Purchases Costs | P9: : | Q9: =SUM(E27:E33) -> 0 | AD9: Cost Type
C10: =IF(Dashboard!C24="","",Dashboard!C24) | N10: Monthly Holding Costs | P10: : | Q10: =E36*(SUM(E37:E45)) -> 0 | AD10: Labor | AE10: =SUMIF($I$10:$I$53,AD10,$K$10:$K$53) -> 0
C11: City / State | D11: : | N11: Rehab Costs | P11: : | Q11: =SUM(Q12:Q14) -> 0 | AD11: Material | AE11: =SUMIF($I$10:$I$53,AD11,$K$10:$K$53) -> 0
C12: =IF(Dashboard!D24="","",Dashboard!D24) | O12: Labor Costs | P12: : | Q12: =AE10 -> 0 | AD12: Overhead | AE12: =SUMIF($I$10:$I$53,AD12,$K$10:$K$53) -> 0
C13: ZIP / Postal Code | D13: : | O13: Material Costs | P13: : | Q13: =AE11 -> 0 | AD13: TOTAL | AE13: =SUM(AE10:AE12) -> 0
C14: =IF(Dashboard!E24="","",Dashboard!E24) | O14: Overhead Costs | P14: : | Q14: =AE12 -> 0
C15: Country / Region | D15: : | N15: Selling Costs | P15: : | Q15: =E49+E50+E51+E52+E53 -> 0 | AD15: 1 | AE15: =N30 | AF15: =IFERROR(AD15-AE15,"")
C16: =IF(Dashboard!F24="","",Dashboard!F24)
C17: # of Bedrooms | D17: : | N17: Total Costs
C18: =IF(Dashboard!G24="","",Dashboard!G24) | N18: =SUM(Q9,Q10,Q11,Q15) -> 0
C19: # of Baths | D19: :
C20: =IF(Dashboard!H24="","",Dashboard!H24)
C21: Sqft | D21: : | N21: Sale Price
C22: =IF(Dashboard!I24="","",Dashboard!I24) | N22: =E48 -> 0
C23: Property Type | D23: :
C24: =IF(Dashboard!J24="","",Dashboard!J24)
N25: Total Profit
C26: Purchases Costs | N26: =N22-N18 -> 0
C27: Purchases Price | D27: :
C28: Inspections | D28: :
C29: Appraisals | D29: : | N29: Profit Margin
C30: Surveys | D30: : | N30: =IFERROR(N26/N18,"")
C31: Lawyer Fees | D31: :
C32: Closing Cost | D32: :
C33: Other Cost | D33: :
C35: Monthly Holding Costs
C36: # of Months | D36: :
C37: Morgage Payments | D37: :
C38: Property Taxes | D38: :
C39: Insurance | D39: :
C40: Water | D40: : | N40: Note About Property
C41: Electric | D41: : | N41: ●
C42: Gas | D42: : | N42: ●
C43: Other - 1 | D43: : | N43: ●
C44: Other - 2 | D44: : | N44: ●
C45: Other - 3 | D45: : | N45: ●
N46: ●
...

Sheet Property 16
C2: HOUSE FLIPPING CALCULATOR
C3: TRANSACTIONS
C7: Property & Purchase Infos | H7: Transactions (Rehab Costs) | N7: Summary
C9: Property Address | D9: : | H9: Date | I9: Cost Type | J9: Description | K9: Amount | N9: Purchases Costs | P9: : | Q9: =SUM(E27:E33) -> 0 | AD9: Cost Type
C10: =IF(Dashboard!C25="","",Dashboard!C25) | N10: Monthly Holding Costs | P10: : | Q10: =E36*(SUM(E37:E45)) -> 0 | AD10: Labor | AE10: =SUMIF($I$10:$I$53,AD10,$K$10:$K$53) -> 0
C11: City / State | D11: : | N11: Rehab Costs | P11: : | Q11: =SUM(Q12:Q14) -> 0 | AD11: Material | AE11: =SUMIF($I$10:$I$53,AD11,$K$10:$K$53) -> 0
C12: =IF(Dashboard!D25="","",Dashboard!D25) | O12: Labor Costs | P12: : | Q12: =AE10 -> 0 | AD12: Overhead | AE12: =SUMIF($I$10:$I$53,AD12,$K$10:$K$53) -> 0
C13: ZIP / Postal Code | D13: : | O13: Material Costs | P13: : | Q13: =AE11 -> 0 | AD13: TOTAL | AE13: =SUM(AE10:AE12) -> 0
C14: =IF(Dashboard!E25="","",Dashboard!E25) | O14: Overhead Costs | P14: : | Q14: =AE12 -> 0
C15: Country / Region | D15: : | N15: Selling Costs | P15: : | Q15: =E49+E50+E51+E52+E53 -> 0 | AD15: 1 | AE15: =N30 | AF15: =IFERROR(AD15-AE15,"")
C16: =IF(Dashboard!F25="","",Dashboard!F25)
C17: # of Bedrooms | D17: : | N17: Total Costs
C18: =IF(Dashboard!G25="","",Dashboard!G25) | N18: =SUM(Q9,Q10,Q11,Q15) -> 0
C19: # of Baths | D19: :
C20: =IF(Dashboard!H25="","",Dashboard!H25)
C21: Sqft | D21: : | N21: Sale Price
C22: =IF(Dashboard!I25="","",Dashboard!I25) | N22: =E48 -> 0
C23: Property Type | D23: :
C24: =IF(Dashboard!J25="","",Dashboard!J25)
N25: Total Profit
C26: Purchases Costs | N26: =N22-N18 -> 0
C27: Purchases Price | D27: :
C28: Inspections | D28: :
C29: Appraisals | D29: : | N29: Profit Margin
C30: Surveys | D30: : | N30: =IFERROR(N26/N18,"")
C31: Lawyer Fees | D31: :
C32: Closing Cost | D32: :
C33: Other Cost | D33: :
C35: Monthly Holding Costs
C36: # of Months | D36: :
C37: Morgage Payments | D37: :
C38: Property Taxes | D38: :
C39: Insurance | D39: :
C40: Water | D40: : | N40: Note About Property
C41: Electric | D41: : | N41: ●
C42: Gas | D42: : | N42: ●
C43: Other - 1 | D43: : | N43: ●
C44: Other - 2 | D44: : | N44: ●
C45: Other - 3 | D45: : | N45: ●
N46: ●
...

Sheet Property 17
C2: HOUSE FLIPPING CALCULATOR
C3: TRANSACTIONS
C7: Property & Purchase Infos | H7: Transactions (Rehab Costs) | N7: Summary
C9: Property Address | D9: : | H9: Date | I9: Cost Type | J9: Description | K9: Amount | N9: Purchases Costs | P9: : | Q9: =SUM(E27:E33) -> 0 | AD9: Cost Type
C10: =IF(Dashboard!C26="","",Dashboard!C26) | N10: Monthly Holding Costs | P10: : | Q10: =E36*(SUM(E37:E45)) -> 0 | AD10: Labor | AE10: =SUMIF($I$10:$I$53,AD10,$K$10:$K$53) -> 0
C11: City / State | D11: : | N11: Rehab Costs | P11: : | Q11: =SUM(Q12:Q14) -> 0 | AD11: Material | AE11: =SUMIF($I$10:$I$53,AD11,$K$10:$K$53) -> 0
C12: =IF(Dashboard!D26="","",Dashboard!D26) | O12: Labor Costs | P12: : | Q12: =AE10 -> 0 | AD12: Overhead | AE12: =SUMIF($I$10:$I$53,AD12,$K$10:$K$53) -> 0
C13: ZIP / Postal Code | D13: : | O13: Material Costs | P13: : | Q13: =AE11 -> 0 | AD13: TOTAL | AE13: =SUM(AE10:AE12) -> 0
C14: =IF(Dashboard!E26="","",Dashboard!E26) | O14: Overhead Costs | P14: : | Q14: =AE12 -> 0
C15: Country / Region | D15: : | N15: Selling Costs | P15: : | Q15: =E49+E50+E51+E52+E53 -> 0 | AD15: 1 | AE15: =N30 | AF15: =IFERROR(AD15-AE15,"")
C16: =IF(Dashboard!F26="","",Dashboard!F26)
C17: # of Bedrooms | D17: : | N17: Total Costs
C18: =IF(Dashboard!G26="","",Dashboard!G26) | N18: =SUM(Q9,Q10,Q11,Q15) -> 0
C19: # of Baths | D19: :
C20: =IF(Dashboard!H26="","",Dashboard!H26)
C21: Sqft | D21: : | N21: Sale Price
C22: =IF(Dashboard!I26="","",Dashboard!I26) | N22: =E48 -> 0
C23: Property Type | D23: :
C24: =IF(Dashboard!J26="","",Dashboard!J26)
N25: Total Profit
C26: Purchases Costs | N26: =N22-N18 -> 0
C27: Purchases Price | D27: :
C28: Inspections | D28: :
C29: Appraisals | D29: : | N29: Profit Margin
C30: Surveys | D30: : | N30: =IFERROR(N26/N18,"")
C31: Lawyer Fees | D31: :
C32: Closing Cost | D32: :
C33: Other Cost | D33: :
C35: Monthly Holding Costs
C36: # of Months | D36: :
C37: Morgage Payments | D37: :
C38: Property Taxes | D38: :
C39: Insurance | D39: :
C40: Water | D40: : | N40: Note About Property
C41: Electric | D41: : | N41: ●
C42: Gas | D42: : | N42: ●
C43: Other - 1 | D43: : | N43: ●
C44: Other - 2 | D44: : | N44: ●
C45: Other - 3 | D45: : | N45: ●
N46: ●
...

Sheet Property 18
C2: HOUSE FLIPPING CALCULATOR
C3: TRANSACTIONS
C7: Property & Purchase Infos | H7: Transactions (Rehab Costs) | N7: Summary
C9: Property Address | D9: : | H9: Date | I9: Cost Type | J9: Description | K9: Amount | N9: Purchases Costs | P9: : | Q9: =SUM(E27:E33) -> 0 | AD9: Cost Type
C10: =IF(Dashboard!C27="","",Dashboard!C27) | N10: Monthly Holding Costs | P10: : | Q10: =E36*(SUM(E37:E45)) -> 0 | AD10: Labor | AE10: =SUMIF($I$10:$I$53,AD10,$K$10:$K$53) -> 0
C11: City / State | D11: : | N11: Rehab Costs | P11: : | Q11: =SUM(Q12:Q14) -> 0 | AD11: Material | AE11: =SUMIF($I$10:$I$53,AD11,$K$10:$K$53) -> 0
C12: =IF(Dashboard!D27="","",Dashboard!D27) | O12: Labor Costs | P12: : | Q12: =AE10 -> 0 | AD12: Overhead | AE12: =SUMIF($I$10:$I$53,AD12,$K$10:$K$53) -> 0
C13: ZIP / Postal Code | D13: : | O13: Material Costs | P13: : | Q13: =AE11 -> 0 | AD13: TOTAL | AE13: =SUM(AE10:AE12) -> 0
C14: =IF(Dashboard!E27="","",Dashboard!E27) | O14: Overhead Costs | P14: : | Q14: =AE12 -> 0
C15: Country / Region | D15: : | N15: Selling Costs | P15: : | Q15: =E49+E50+E51+E52+E53 -> 0 | AD15: 1 | AE15: =N30 | AF15: =IFERROR(AD15-AE15,"")
C16: =IF(Dashboard!F27="","",Dashboard!F27)
C17: # of Bedrooms | D17: : | N17: Total Costs
C18: =IF(Dashboard!G27="","",Dashboard!G27) | N18: =SUM(Q9,Q10,Q11,Q15) -> 0
C19: # of Baths | D19: :
C20: =IF(Dashboard!H27="","",Dashboard!H27)
C21: Sqft | D21: : | N21: Sale Price
C22: =IF(Dashboard!I27="","",Dashboard!I27) | N22: =E48 -> 0
C23: Property Type | D23: :
C24: =IF(Dashboard!J27="","",Dashboard!J27)
N25: Total Profit
C26: Purchases Costs | N26: =N22-N18 -> 0
C27: Purchases Price | D27: :
C28: Inspections | D28: :
C29: Appraisals | D29: : | N29: Profit Margin
C30: Surveys | D30: : | N30: =IFERROR(N26/N18,"")
C31: Lawyer Fees | D31: :
C32: Closing Cost | D32: :
C33: Other Cost | D33: :
C35: Monthly Holding Costs
C36: # of Months | D36: :
C37: Morgage Payments | D37: :
C38: Property Taxes | D38: :
C39: Insurance | D39: :
C40: Water | D40: : | N40: Note About Property
C41: Electric | D41: : | N41: ●
C42: Gas | D42: : | N42: ●
C43: Other - 1 | D43: : | N43: ●
C44: Other - 2 | D44: : | N44: ●
C45: Other - 3 | D45: : | N45: ●
N46: ●
...

Sheet Property 19
C2: HOUSE FLIPPING CALCULATOR
C3: TRANSACTIONS
C7: Property & Purchase Infos | H7: Transactions (Rehab Costs) | N7: Summary
C9: Property Address | D9: : | H9: Date | I9: Cost Type | J9: Description | K9: Amount | N9: Purchases Costs | P9: : | Q9: =SUM(E27:E33) -> 0 | AD9: Cost Type
C10: =IF(Dashboard!C28="","",Dashboard!C28) | N10: Monthly Holding Costs | P10: : | Q10: =E36*(SUM(E37:E45)) -> 0 | AD10: Labor | AE10: =SUMIF($I$10:$I$53,AD10,$K$10:$K$53) -> 0
C11: City / State | D11: : | N11: Rehab Costs | P11: : | Q11: =SUM(Q12:Q14) -> 0 | AD11: Material | AE11: =SUMIF($I$10:$I$53,AD11,$K$10:$K$53) -> 0
C12: =IF(Dashboard!D28="","",Dashboard!D28) | O12: Labor Costs | P12: : | Q12: =AE10 -> 0 | AD12: Overhead | AE12: =SUMIF($I$10:$I$53,AD12,$K$10:$K$53) -> 0
C13: ZIP / Postal Code | D13: : | O13: Material Costs | P13: : | Q13: =AE11 -> 0 | AD13: TOTAL | AE13: =SUM(AE10:AE12) -> 0
C14: =IF(Dashboard!E28="","",Dashboard!E28) | O14: Overhead Costs | P14: : | Q14: =AE12 -> 0
C15: Country / Region | D15: : | N15: Selling Costs | P15: : | Q15: =E49+E50+E51+E52+E53 -> 0 | AD15: 1 | AE15: =N30 | AF15: =IFERROR(AD15-AE15,"")
C16: =IF(Dashboard!F28="","",Dashboard!F28)
C17: # of Bedrooms | D17: : | N17: Total Costs
C18: =IF(Dashboard!G28="","",Dashboard!G28) | N18: =SUM(Q9,Q10,Q11,Q15) -> 0
C19: # of Baths | D19: :
C20: =IF(Dashboard!H28="","",Dashboard!H28)
C21: Sqft | D21: : | N21: Sale Price
C22: =IF(Dashboard!I28="","",Dashboard!I28) | N22: =E48 -> 0
C23: Property Type | D23: :
C24: =IF(Dashboard!J28="","",Dashboard!J28)
N25: Total Profit
C26: Purchases Costs | N26: =N22-N18 -> 0
C27: Purchases Price | D27: :
C28: Inspections | D28: :
C29: Appraisals | D29: : | N29: Profit Margin
C30: Surveys | D30: : | N30: =IFERROR(N26/N18,"")
C31: Lawyer Fees | D31: :
C32: Closing Cost | D32: :
C33: Other Cost | D33: :
C35: Monthly Holding Costs
C36: # of Months | D36: :
C37: Morgage Payments | D37: :
C38: Property Taxes | D38: :
C39: Insurance | D39: :
C40: Water | D40: : | N40: Note About Property
C41: Electric | D41: : | N41: ●
C42: Gas | D42: : | N42: ●
C43: Other - 1 | D43: : | N43: ●
C44: Other - 2 | D44: : | N44: ●
C45: Other - 3 | D45: : | N45: ●
N46: ●
...

Sheet Property 20
C2: HOUSE FLIPPING CALCULATOR
C3: TRANSACTIONS
C7: Property & Purchase Infos | H7: Transactions (Rehab Costs) | N7: Summary
C9: Property Address | D9: : | H9: Date | I9: Cost Type | J9: Description | K9: Amount | N9: Purchases Costs | P9: : | Q9: =SUM(E27:E33) -> 0 | AD9: Cost Type
C10: =IF(Dashboard!C29="","",Dashboard!C29) | N10: Monthly Holding Costs | P10: : | Q10: =E36*(SUM(E37:E45)) -> 0 | AD10: Labor | AE10: =SUMIF($I$10:$I$53,AD10,$K$10:$K$53) -> 0
C11: City / State | D11: : | N11: Rehab Costs | P11: : | Q11: =SUM(Q12:Q14) -> 0 | AD11: Material | AE11: =SUMIF($I$10:$I$53,AD11,$K$10:$K$53) -> 0
C12: =IF(Dashboard!D29="","",Dashboard!D29) | O12: Labor Costs | P12: : | Q12: =AE10 -> 0 | AD12: Overhead | AE12: =SUMIF($I$10:$I$53,AD12,$K$10:$K$53) -> 0
C13: ZIP / Postal Code | D13: : | O13: Material Costs | P13: : | Q13: =AE11 -> 0 | AD13: TOTAL | AE13: =SUM(AE10:AE12) -> 0
C14: =IF(Dashboard!E29="","",Dashboard!E29) | O14: Overhead Costs | P14: : | Q14: =AE12 -> 0
C15: Country / Region | D15: : | N15: Selling Costs | P15: : | Q15: =E49+E50+E51+E52+E53 -> 0 | AD15: 1 | AE15: =N30 | AF15: =IFERROR(AD15-AE15,"")
C16: =IF(Dashboard!F29="","",Dashboard!F29)
C17: # of Bedrooms | D17: : | N17: Total Costs
C18: =IF(Dashboard!G29="","",Dashboard!G29) | N18: =SUM(Q9,Q10,Q11,Q15) -> 0
C19: # of Baths | D19: :
C20: =IF(Dashboard!H29="","",Dashboard!H29)
C21: Sqft | D21: : | N21: Sale Price
C22: =IF(Dashboard!I29="","",Dashboard!I29) | N22: =E48 -> 0
C23: Property Type | D23: :
C24: =IF(Dashboard!J29="","",Dashboard!J29)
N25: Total Profit
C26: Purchases Costs | N26: =N22-N18 -> 0
C27: Purchases Price | D27: :
C28: Inspections | D28: :
C29: Appraisals | D29: : | N29: Profit Margin
C30: Surveys | D30: : | N30: =IFERROR(N26/N18,"")
C31: Lawyer Fees | D31: :
C32: Closing Cost | D32: :
C33: Other Cost | D33: :
C35: Monthly Holding Costs
C36: # of Months | D36: :
C37: Morgage Payments | D37: :
C38: Property Taxes | D38: :
C39: Insurance | D39: :
C40: Water | D40: : | N40: Note About Property
C41: Electric | D41: : | N41: ●
C42: Gas | D42: : | N42: ●
C43: Other - 1 | D43: : | N43: ●
C44: Other - 2 | D44: : | N44: ●
C45: Other - 3 | D45: : | N45: ●
N46: ●
...

Sheet Property 21
C2: HOUSE FLIPPING CALCULATOR
C3: TRANSACTIONS
C7: Property & Purchase Infos | H7: Transactions (Rehab Costs) | N7: Summary
C9: Property Address | D9: : | H9: Date | I9: Cost Type | J9: Description | K9: Amount | N9: Purchases Costs | P9: : | Q9: =SUM(E27:E33) -> 0 | AD9: Cost Type
C10: =IF(Dashboard!C30="","",Dashboard!C30) | N10: Monthly Holding Costs | P10: : | Q10: =E36*(SUM(E37:E45)) -> 0 | AD10: Labor | AE10: =SUMIF($I$10:$I$53,AD10,$K$10:$K$53) -> 0
C11: City / State | D11: : | N11: Rehab Costs | P11: : | Q11: =SUM(Q12:Q14) -> 0 | AD11: Material | AE11: =SUMIF($I$10:$I$53,AD11,$K$10:$K$53) -> 0
C12: =IF(Dashboard!D30="","",Dashboard!D30) | O12: Labor Costs | P12: : | Q12: =AE10 -> 0 | AD12: Overhead | AE12: =SUMIF($I$10:$I$53,AD12,$K$10:$K$53) -> 0
C13: ZIP / Postal Code | D13: : | O13: Material Costs | P13: : | Q13: =AE11 -> 0 | AD13: TOTAL | AE13: =SUM(AE10:AE12) -> 0
C14: =IF(Dashboard!E30="","",Dashboard!E30) | O14: Overhead Costs | P14: : | Q14: =AE12 -> 0
C15: Country / Region | D15: : | N15: Selling Costs | P15: : | Q15: =E49+E50+E51+E52+E53 -> 0 | AD15: 1 | AE15: =N30 | AF15: =IFERROR(AD15-AE15,"")
C16: =IF(Dashboard!F30="","",Dashboard!F30)
C17: # of Bedrooms | D17: : | N17: Total Costs
C18: =IF(Dashboard!G30="","",Dashboard!G30) | N18: =SUM(Q9,Q10,Q11,Q15) -> 0
C19: # of Baths | D19: :
C20: =IF(Dashboard!H30="","",Dashboard!H30)
C21: Sqft | D21: : | N21: Sale Price
C22: =IF(Dashboard!I30="","",Dashboard!I30) | N22: =E48 -> 0
C23: Property Type | D23: :
C24: =IF(Dashboard!J30="","",Dashboard!J30)
N25: Total Profit
C26: Purchases Costs | N26: =N22-N18 -> 0
C27: Purchases Price | D27: :
C28: Inspections | D28: :
C29: Appraisals | D29: : | N29: Profit Margin
C30: Surveys | D30: : | N30: =IFERROR(N26/N18,"")
C31: Lawyer Fees | D31: :
C32: Closing Cost | D32: :
C33: Other Cost | D33: :
C35: Monthly Holding Costs
C36: # of Months | D36: :
C37: Morgage Payments | D37: :
C38: Property Taxes | D38: :
C39: Insurance | D39: :
C40: Water | D40: : | N40: Note About Property
C41: Electric | D41: : | N41: ●
C42: Gas | D42: : | N42: ●
C43: Other - 1 | D43: : | N43: ●
C44: Other - 2 | D44: : | N44: ●
C45: Other - 3 | D45: : | N45: ●
N46: ●
...

Sheet Property 22
C2: HOUSE FLIPPING CALCULATOR
C3: TRANSACTIONS
C7: Property & Purchase Infos | H7: Transactions (Rehab Costs) | N7: Summary
C9: Property Address | D9: : | H9: Date | I9: Cost Type | J9: Description | K9: Amount | N9: Purchases Costs | P9: : | Q9: =SUM(E27:E33) -> 0 | AD9: Cost Type
C10: =IF(Dashboard!C31="","",Dashboard!C31) | N10: Monthly Holding Costs | P10: : | Q10: =E36*(SUM(E37:E45)) -> 0 | AD10: Labor | AE10: =SUMIF($I$10:$I$53,AD10,$K$10:$K$53) -> 0
C11: City / State | D11: : | N11: Rehab Costs | P11: : | Q11: =SUM(Q12:Q14) -> 0 | AD11: Material | AE11: =SUMIF($I$10:$I$53,AD11,$K$10:$K$53) -> 0
C12: =IF(Dashboard!D31="","",Dashboard!D31) | O12: Labor Costs | P12: : | Q12: =AE10 -> 0 | AD12: Overhead | AE12: =SUMIF($I$10:$I$53,AD12,$K$10:$K$53) -> 0
C13: ZIP / Postal Code | D13: : | O13: Material Costs | P13: : | Q13: =AE11 -> 0 | AD13: TOTAL | AE13: =SUM(AE10:AE12) -> 0
C14: =IF(Dashboard!E31="","",Dashboard!E31) | O14: Overhead Costs | P14: : | Q14: =AE12 -> 0
C15: Country / Region | D15: : | N15: Selling Costs | P15: : | Q15: =E49+E50+E51+E52+E53 -> 0 | AD15: 1 | AE15: =N30 | AF15: =IFERROR(AD15-AE15,"")
C16: =IF(Dashboard!F31="","",Dashboard!F31)
C17: # of Bedrooms | D17: : | N17: Total Costs
C18: =IF(Dashboard!G31="","",Dashboard!G31) | N18: =SUM(Q9,Q10,Q11,Q15) -> 0
C19: # of Baths | D19: :
C20: =IF(Dashboard!H31="","",Dashboard!H31)
C21: Sqft | D21: : | N21: Sale Price
C22: =IF(Dashboard!I31="","",Dashboard!I31) | N22: =E48 -> 0
C23: Property Type | D23: :
C24: =IF(Dashboard!J31="","",Dashboard!J31)
N25: Total Profit
C26: Purchases Costs | N26: =N22-N18 -> 0
C27: Purchases Price | D27: :
C28: Inspections | D28: :
C29: Appraisals | D29: : | N29: Profit Margin
C30: Surveys | D30: : | N30: =IFERROR(N26/N18,"")
C31: Lawyer Fees | D31: :
C32: Closing Cost | D32: :
C33: Other Cost | D33: :
C35: Monthly Holding Costs
C36: # of Months | D36: :
C37: Morgage Payments | D37: :
C38: Property Taxes | D38: :
C39: Insurance | D39: :
C40: Water | D40: : | N40: Note About Property
C41: Electric | D41: : | N41: ●
C42: Gas | D42: : | N42: ●
C43: Other - 1 | D43: : | N43: ●
C44: Other - 2 | D44: : | N44: ●
C45: Other - 3 | D45: : | N45: ●
N46: ●
...

Sheet Property 23
C2: HOUSE FLIPPING CALCULATOR
C3: TRANSACTIONS
C7: Property & Purchase Infos | H7: Transactions (Rehab Costs) | N7: Summary
C9: Property Address | D9: : | H9: Date | I9: Cost Type | J9: Description | K9: Amount | N9: Purchases Costs | P9: : | Q9: =SUM(E27:E33) -> 0 | AD9: Cost Type
C10: =IF(Dashboard!C32="","",Dashboard!C32) | N10: Monthly Holding Costs | P10: : | Q10: =E36*(SUM(E37:E45)) -> 0 | AD10: Labor | AE10: =SUMIF($I$10:$I$53,AD10,$K$10:$K$53) -> 0
C11: City / State | D11: : | N11: Rehab Costs | P11: : | Q11: =SUM(Q12:Q14) -> 0 | AD11: Material | AE11: =SUMIF($I$10:$I$53,AD11,$K$10:$K$53) -> 0
C12: =IF(Dashboard!D32="","",Dashboard!D32) | O12: Labor Costs | P12: : | Q12: =AE10 -> 0 | AD12: Overhead | AE12: =SUMIF($I$10:$I$53,AD12,$K$10:$K$53) -> 0
C13: ZIP / Postal Code | D13: : | O13: Material Costs | P13: : | Q13: =AE11 -> 0 | AD13: TOTAL | AE13: =SUM(AE10:AE12) -> 0
C14: =IF(Dashboard!E32="","",Dashboard!E32) | O14: Overhead Costs | P14: : | Q14: =AE12 -> 0
C15: Country / Region | D15: : | N15: Selling Costs | P15: : | Q15: =E49+E50+E51+E52+E53 -> 0 | AD15: 1 | AE15: =N30 | AF15: =IFERROR(AD15-AE15,"")
C16: =IF(Dashboard!F32="","",Dashboard!F32)
C17: # of Bedrooms | D17: : | N17: Total Costs
C18: =IF(Dashboard!G32="","",Dashboard!G32) | N18: =SUM(Q9,Q10,Q11,Q15) -> 0
C19: # of Baths | D19: :
C20: =IF(Dashboard!H32="","",Dashboard!H32)
C21: Sqft | D21: : | N21: Sale Price
C22: =IF(Dashboard!I32="","",Dashboard!I32) | N22: =E48 -> 0
C23: Property Type | D23: :
C24: =IF(Dashboard!J32="","",Dashboard!J32)
N25: Total Profit
C26: Purchases Costs | N26: =N22-N18 -> 0
C27: Purchases Price | D27: :
C28: Inspections | D28: :
C29: Appraisals | D29: : | N29: Profit Margin
C30: Surveys | D30: : | N30: =IFERROR(N26/N18,"")
C31: Lawyer Fees | D31: :
C32: Closing Cost | D32: :
C33: Other Cost | D33: :
C35: Monthly Holding Costs
C36: # of Months | D36: :
C37: Morgage Payments | D37: :
C38: Property Taxes | D38: :
C39: Insurance | D39: :
C40: Water | D40: : | N40: Note About Property
C41: Electric | D41: : | N41: ●
C42: Gas | D42: : | N42: ●
C43: Other - 1 | D43: : | N43: ●
C44: Other - 2 | D44: : | N44: ●
C45: Other - 3 | D45: : | N45: ●
N46: ●
...

Sheet Property 24
C2: HOUSE FLIPPING CALCULATOR
C3: TRANSACTIONS
C7: Property & Purchase Infos | H7: Transactions (Rehab Costs) | N7: Summary
C9: Property Address | D9: : | H9: Date | I9: Cost Type | J9: Description | K9: Amount | N9: Purchases Costs | P9: : | Q9: =SUM(E27:E33) -> 0 | AD9: Cost Type
C10: =IF(Dashboard!C33="","",Dashboard!C33) | N10: Monthly Holding Costs | P10: : | Q10: =E36*(SUM(E37:E45)) -> 0 | AD10: Labor | AE10: =SUMIF($I$10:$I$53,AD10,$K$10:$K$53) -> 0
C11: City / State | D11: : | N11: Rehab Costs | P11: : | Q11: =SUM(Q12:Q14) -> 0 | AD11: Material | AE11: =SUMIF($I$10:$I$53,AD11,$K$10:$K$53) -> 0
C12: =IF(Dashboard!D33="","",Dashboard!D33) | O12: Labor Costs | P12: : | Q12: =AE10 -> 0 | AD12: Overhead | AE12: =SUMIF($I$10:$I$53,AD12,$K$10:$K$53) -> 0
C13: ZIP / Postal Code | D13: : | O13: Material Costs | P13: : | Q13: =AE11 -> 0 | AD13: TOTAL | AE13: =SUM(AE10:AE12) -> 0
C14: =IF(Dashboard!E33="","",Dashboard!E33) | O14: Overhead Costs | P14: : | Q14: =AE12 -> 0
C15: Country / Region | D15: : | N15: Selling Costs | P15: : | Q15: =E49+E50+E51+E52+E53 -> 0 | AD15: 1 | AE15: =N30 | AF15: =IFERROR(AD15-AE15,"")
C16: =IF(Dashboard!F33="","",Dashboard!F33)
C17: # of Bedrooms | D17: : | N17: Total Costs
C18: =IF(Dashboard!G33="","",Dashboard!G33) | N18: =SUM(Q9,Q10,Q11,Q15) -> 0
C19: # of Baths | D19: :
C20: =IF(Dashboard!H33="","",Dashboard!H33)
C21: Sqft | D21: : | N21: Sale Price
C22: =IF(Dashboard!I33="","",Dashboard!I33) | N22: =E48 -> 0
C23: Property Type | D23: :
C24: =IF(Dashboard!J33="","",Dashboard!J33)
N25: Total Profit
C26: Purchases Costs | N26: =N22-N18 -> 0
C27: Purchases Price | D27: :
C28: Inspections | D28: :
C29: Appraisals | D29: : | N29: Profit Margin
C30: Surveys | D30: : | N30: =IFERROR(N26/N18,"")
C31: Lawyer Fees | D31: :
C32: Closing Cost | D32: :
C33: Other Cost | D33: :
C35: Monthly Holding Costs
C36: # of Months | D36: :
C37: Morgage Payments | D37: :
C38: Property Taxes | D38: :
C39: Insurance | D39: :
C40: Water | D40: : | N40: Note About Property
C41: Electric | D41: : | N41: ●
C42: Gas | D42: : | N42: ●
C43: Other - 1 | D43: : | N43: ●
C44: Other - 2 | D44: : | N44: ●
C45: Other - 3 | D45: : | N45: ●
N46: ●
...

Sheet Property 25
C2: HOUSE FLIPPING CALCULATOR
C3: TRANSACTIONS
C7: Property & Purchase Infos | H7: Transactions (Rehab Costs) | N7: Summary
C9: Property Address | D9: : | H9: Date | I9: Cost Type | J9: Description | K9: Amount | N9: Purchases Costs | P9: : | Q9: =SUM(E27:E33) -> 0 | AD9: Cost Type
C10: =IF(Dashboard!C34="","",Dashboard!C34) | N10: Monthly Holding Costs | P10: : | Q10: =E36*(SUM(E37:E45)) -> 0 | AD10: Labor | AE10: =SUMIF($I$10:$I$53,AD10,$K$10:$K$53) -> 0
C11: City / State | D11: : | N11: Rehab Costs | P11: : | Q11: =SUM(Q12:Q14) -> 0 | AD11: Material | AE11: =SUMIF($I$10:$I$53,AD11,$K$10:$K$53) -> 0
C12: =IF(Dashboard!D34="","",Dashboard!D34) | O12: Labor Costs | P12: : | Q12: =AE10 -> 0 | AD12: Overhead | AE12: =SUMIF($I$10:$I$53,AD12,$K$10:$K$53) -> 0
C13: ZIP / Postal Code | D13: : | O13: Material Costs | P13: : | Q13: =AE11 -> 0 | AD13: TOTAL | AE13: =SUM(AE10:AE12) -> 0
C14: =IF(Dashboard!E34="","",Dashboard!E34) | O14: Overhead Costs | P14: : | Q14: =AE12 -> 0
C15: Country / Region | D15: : | N15: Selling Costs | P15: : | Q15: =E49+E50+E51+E52+E53 -> 0 | AD15: 1 | AE15: =N30 | AF15: =IFERROR(AD15-AE15,"")
C16: =IF(Dashboard!F34="","",Dashboard!F34)
C17: # of Bedrooms | D17: : | N17: Total Costs
C18: =IF(Dashboard!G34="","",Dashboard!G34) | N18: =SUM(Q9,Q10,Q11,Q15) -> 0
C19: # of Baths | D19: :
C20: =IF(Dashboard!H34="","",Dashboard!H34)
C21: Sqft | D21: : | N21: Sale Price
C22: =IF(Dashboard!I34="","",Dashboard!I34) | N22: =E48 -> 0
C23: Property Type | D23: :
C24: =IF(Dashboard!J34="","",Dashboard!J34)
N25: Total Profit
C26: Purchases Costs | N26: =N22-N18 -> 0
C27: Purchases Price | D27: :
C28: Inspections | D28: :
C29: Appraisals | D29: : | N29: Profit Margin
C30: Surveys | D30: : | N30: =IFERROR(N26/N18,"")
C31: Lawyer Fees | D31: :
C32: Closing Cost | D32: :
C33: Other Cost | D33: :
C35: Monthly Holding Costs
C36: # of Months | D36: :
C37: Morgage Payments | D37: :
C38: Property Taxes | D38: :
C39: Insurance | D39: :
C40: Water | D40: : | N40: Note About Property
C41: Electric | D41: : | N41: ●
C42: Gas | D42: : | N42: ●
C43: Other - 1 | D43: : | N43: ●
C44: Other - 2 | D44: : | N44: ●
C45: Other - 3 | D45: : | N45: ●
N46: ●
...
