Workbook

Sheet Dashboard
C2: CONTRACTOR BID COMPARISON
C3: INFO PAGE
C7: Information for Comparison 1 | G7: Information for Comparison 2 | K7: Information for Comparison 3
C9: Project Name | D9: : | E9: Project Name 1 | G9: Project Name | H9: : | I9: Project Name 2 | K9: Project Name | L9: : | M9: Project Name 3
C10: Project No | D10: : | E10: 10001 | G10: Project No | H10: : | I10: 10002 | K10: Project No | L10: : | M10: 10003
C11: Location | D11: : | E11: Location 1 | G11: Location | H11: : | I11: Location 2 | K11: Location | L11: : | M11: Location 3
C12: Architect - Engineer | D12: : | E12: Alan Smith | G12: Architect - Engineer | H12: : | I12: Alan Smith | K12: Architect - Engineer | L12: : | M12: Alan Smith
C13: Bid Date | D13: : | E13: 45669 | G13: Bid Date | H13: : | I13: 45708 | K13: Bid Date | L13: : | M13: 45717
C14: Page Link | D14: : | E14: Go to Comparison Page | G14: Page Link | H14: : | I14: Go to Comparison Page | K14: Page Link | L14: : | M14: Go to Comparison Page

Sheet Comparison 1
D2: CONTRACTOR BID COMPARISON
D3: COMPARISON 1
C7: Project Name | E7: =IF(Dashboard!E9="","",Dashboard!E9) -> Project Name 1 | R7: You can add Firm Logo
C8: Project No | E8: =IF(Dashboard!E10="","",Dashboard!E10) -> 10001
C9: Location | E9: =IF(Dashboard!E11="","",Dashboard!E11) -> Location 1
C10: Architect - Engineer | E10: =IF(Dashboard!E12="","",Dashboard!E12) -> Alan Smith
C11: Bid Date | E11: =IF(Dashboard!E13="","",Dashboard!E13) -> 45669
C13: Phase 1 Bid Quantities | I13: Architect - Engineer Estimate | L13: Contractor 1 Bid | N13: Contractor 2 Bid | P13: Contractor 3 Bid | R13: Contractor 4 Bid | T13: Contractor 5 Bid
C15: # | D15: Item - Description | G15: Unit | H15: Qty | I15: Unit Price | J15: Amount | L15: Unit Price | M15: Bid Amount | N15: Unit Price | O15: Bid Amount | P15: Unit Price | Q15: Bid Amount | R15: Unit Price | S15: Bid Amount | T15: Unit Price | U15: Bid Amount
C16: 1 | D16: Item - Description 1 | G16: piece | H16: 15 | I16: 10 | J16: =IF(I16="","",H16*I16) -> 150 | L16: 10 | M16: =IF(L16="","",H16*L16) -> 150 | N16: 9.5 | O16: =IF(N16="","",H16*N16) -> 142.5 | P16: 9 | Q16: =IF(P16="","",H16*P16) -> 135 | R16: 10 | S16: =IF(R16="","",H16*R16) -> 150 | T16: 9.5 | U16: =IF(T16="","",H16*T16) -> 142.5
C17: 2 | D17: Item - Description 2 | G17: Box | H17: 3 | I17: 250 | J17: =IF(I17="","",H17*I17) -> 750 | L17: 250 | M17: =IF(L17="","",H17*L17) -> 750 | N17: 245 | O17: =IF(N17="","",H17*N17) -> 735 | P17: 260 | Q17: =IF(P17="","",H17*P17) -> 780 | R17: 255 | S17: =IF(R17="","",H17*R17) -> 765 | T17: 255 | U17: =IF(T17="","",H17*T17) -> 765
C18: 3 | D18: Item - Description 3 | G18: Box | H18: 4 | I18: 50 | J18: =IF(I18="","",H18*I18) -> 200 | L18: 50 | M18: =IF(L18="","",H18*L18) -> 200 | N18: 49.5 | O18: =IF(N18="","",H18*N18) -> 198 | P18: 50 | Q18: =IF(P18="","",H18*P18) -> 200 | R18: 50 | S18: =IF(R18="","",H18*R18) -> 200 | T18: 50 | U18: =IF(T18="","",H18*T18) -> 200
C19: 4 | D19: Item - Description 4 | G19: piece | H19: 5 | I19: 24 | J19: =IF(I19="","",H19*I19) -> 120 | L19: 25 | M19: =IF(L19="","",H19*L19) -> 125 | N19: 26 | O19: =IF(N19="","",H19*N19) -> 130 | P19: 23.5 | Q19: =IF(P19="","",H19*P19) -> 117.5 | R19: 24 | S19: =IF(R19="","",H19*R19) -> 120 | T19: 24 | U19: =IF(T19="","",H19*T19) -> 120
C20: 5 | D20: Item - Description 5 | G20: Box | H20: 6 | I20: 32 | J20: =IF(I20="","",H20*I20) -> 192 | L20: 34 | M20: =IF(L20="","",H20*L20) -> 204 | N20: 33 | O20: =IF(N20="","",H20*N20) -> 198 | P20: 31.5 | Q20: =IF(P20="","",H20*P20) -> 189 | R20: 32 | S20: =IF(R20="","",H20*R20) -> 192 | T20: 32 | U20: =IF(T20="","",H20*T20) -> 192
C21: 6 | D21: Item - Description 6 | G21: Box | H21: 7 | I21: 17 | J21: =IF(I21="","",H21*I21) -> 119 | L21: 19 | M21: =IF(L21="","",H21*L21) -> 133 | N21: 19 | O21: =IF(N21="","",H21*N21) -> 133 | P21: 18 | Q21: =IF(P21="","",H21*P21) -> 126 | R21: 17 | S21: =IF(R21="","",H21*R21) -> 119 | T21: 17 | U21: =IF(T21="","",H21*T21) -> 119
C22: 7 | D22: Item - Description 7 | G22: piece | H22: 5 | I22: 20 | J22: =IF(I22="","",H22*I22) -> 100 | L22: 21 | M22: =IF(L22="","",H22*L22) -> 105 | N22: 21 | O22: =IF(N22="","",H22*N22) -> 105 | P22: 22 | Q22: =IF(P22="","",H22*P22) -> 110 | R22: 22 | S22: =IF(R22="","",H22*R22) -> 110 | T22: 23 | U22: =IF(T22="","",H22*T22) -> 115
C23: 8 | D23: Item - Description 8 | G23: Box | H23: 4 | I23: 30 | J23: =IF(I23="","",H23*I23) -> 120 | L23: 30 | M23: =IF(L23="","",H23*L23) -> 120 | N23: 31 | O23: =IF(N23="","",H23*N23) -> 124 | P23: 29 | Q23: =IF(P23="","",H23*P23) -> 116 | R23: 30 | S23: =IF(R23="","",H23*R23) -> 120 | T23: 30 | U23: =IF(T23="","",H23*T23) -> 120
C24: 9 | D24: Item - Description 9 | G24: Box | H24: 10 | I24: 55 | J24: =IF(I24="","",H24*I24) -> 550 | L24: 56 | M24: =IF(L24="","",H24*L24) -> 560 | N24: 56 | O24: =IF(N24="","",H24*N24) -> 560 | P24: 54 | Q24: =IF(P24="","",H24*P24) -> 540 | R24: 55 | S24: =IF(R24="","",H24*R24) -> 550 | T24: 55 | U24: =IF(T24="","",H24*T24) -> 550
C25: 10 | D25: Item - Description 10 | G25: piece | H25: 11 | I25: 25 | J25: =IF(I25="","",H25*I25) -> 275 | L25: 27 | M25: =IF(L25="","",H25*L25) -> 297 | N25: 24 | O25: =IF(N25="","",H25*N25) -> 264 | P25: 27 | Q25: =IF(P25="","",H25*P25) -> 297 | R25: 25 | S25: =IF(R25="","",H25*R25) -> 275 | T25: 25 | U25: =IF(T25="","",H25*T25) -> 275
C26: 11 | D26: Item - Description 11 | G26: piece | H26: 12 | I26: 12 | J26: =IF(I26="","",H26*I26) -> 144 | L26: 13 | M26: =IF(L26="","",H26*L26) -> 156 | N26: 13 | O26: =IF(N26="","",H26*N26) -> 156 | P26: 14 | Q26: =IF(P26="","",H26*P26) -> 168 | R26: 12 | S26: =IF(R26="","",H26*R26) -> 144 | T26: 11.5 | U26: =IF(T26="","",H26*T26) -> 138
C27: 12 | J27: =IF(I27="","",H27*I27) | M27: =IF(L27="","",H27*L27) | O27: =IF(N27="","",H27*N27) | Q27: =IF(P27="","",H27*P27) | S27: =IF(R27="","",H27*R27) | U27: =IF(T27="","",H27*T27)
C28: 13 | J28: =IF(I28="","",H28*I28) | M28: =IF(L28="","",H28*L28) | O28: =IF(N28="","",H28*N28) | Q28: =IF(P28="","",H28*P28) | S28: =IF(R28="","",H28*R28) | U28: =IF(T28="","",H28*T28)
C29: 14 | J29: =IF(I29="","",H29*I29) | M29: =IF(L29="","",H29*L29) | O29: =IF(N29="","",H29*N29) | Q29: =IF(P29="","",H29*P29) | S29: =IF(R29="","",H29*R29) | U29: =IF(T29="","",H29*T29)
C30: 15 | J30: =IF(I30="","",H30*I30) | M30: =IF(L30="","",H30*L30) | O30: =IF(N30="","",H30*N30) | Q30: =IF(P30="","",H30*P30) | S30: =IF(R30="","",H30*R30) | U30: =IF(T30="","",H30*T30)
C31: 16 | J31: =IF(I31="","",H31*I31) | M31: =IF(L31="","",H31*L31) | O31: =IF(N31="","",H31*N31) | Q31: =IF(P31="","",H31*P31) | S31: =IF(R31="","",H31*R31) | U31: =IF(T31="","",H31*T31)
C32: 17 | J32: =IF(I32="","",H32*I32) | M32: =IF(L32="","",H32*L32) | O32: =IF(N32="","",H32*N32) | Q32: =IF(P32="","",H32*P32) | S32: =IF(R32="","",H32*R32) | U32: =IF(T32="","",H32*T32)
C33: 18 | J33: =IF(I33="","",H33*I33) | M33: =IF(L33="","",H33*L33) | O33: =IF(N33="","",H33*N33) | Q33: =IF(P33="","",H33*P33) | S33: =IF(R33="","",H33*R33) | U33: =IF(T33="","",H33*T33)
C34: 19 | J34: =IF(I34="","",H34*I34) | M34: =IF(L34="","",H34*L34) | O34: =IF(N34="","",H34*N34) | Q34: =IF(P34="","",H34*P34) | S34: =IF(R34="","",H34*R34) | U34: =IF(T34="","",H34*T34)
C35: 20 | J35: =IF(I35="","",H35*I35) | M35: =IF(L35="","",H35*L35) | O35: =IF(N35="","",H35*N35) | Q35: =IF(P35="","",H35*P35) | S35: =IF(R35="","",H35*R35) | U35: =IF(T35="","",H35*T35)
C36: Phase 1 Totals : | I36: =SUM(J16:J35) -> 2720 | L36: =SUM(M16:M35) -> 2800 | N36: =SUM(O16:O35) -> 2745.5 | P36: =SUM(Q16:Q35) -> 2778.5 | R36: =SUM(S16:S35) -> 2745 | T36: =SUM(U16:U35) -> 2736.5
C38: Phase 2 Bid Quantities | I38: Architect - Engineer Estimate | L38: =IF(L$13="","",L$13) -> Contractor 1 Bid | N38: =IF(N$13="","",N$13) -> Contractor 2 Bid | P38: =IF(P$13="","",P$13) -> Contractor 3 Bid | R38: =IF(R$13="","",R$13) -> Contractor 4 Bid | T38: =IF(T$13="","",T$13) -> Contractor 5 Bid
C40: # | D40: Item - Description | G40: Unit | H40: Qty | I40: Unit Price | J40: Amount | L40: Unit Price | M40: Bid Amount | N40: Unit Price | O40: Bid Amount | P40: Unit Price | Q40: Bid Amount | R40: Unit Price | S40: Bid Amount | T40: Unit Price | U40: Bid Amount
C41: 1 | D41: Item - Description 1 | G41: piece | H41: 15 | I41: 10 | J41: =IF(I41="","",H41*I41) -> 150 | L41: 10 | M41: =IF(L41="","",H41*L41) -> 150 | N41: 9.5 | O41: =IF(N41="","",H41*N41) -> 142.5 | P41: 9 | Q41: =IF(P41="","",H41*P41) -> 135 | R41: 10 | S41: =IF(R41="","",H41*R41) -> 150 | T41: 9.5 | U41: =IF(T41="","",H41*T41) -> 142.5
C42: 2 | D42: Item - Description 2 | G42: Box | H42: 3 | I42: 250 | J42: =IF(I42="","",H42*I42) -> 750 | L42: 250 | M42: =IF(L42="","",H42*L42) -> 750 | N42: 245 | O42: =IF(N42="","",H42*N42) -> 735 | P42: 260 | Q42: =IF(P42="","",H42*P42) -> 780 | R42: 255 | S42: =IF(R42="","",H42*R42) -> 765 | T42: 255 | U42: =IF(T42="","",H42*T42) -> 765
C43: 3 | D43: Item - Description 3 | G43: Box | H43: 4 | I43: 50 | J43: =IF(I43="","",H43*I43) -> 200 | L43: 50 | M43: =IF(L43="","",H43*L43) -> 200 | N43: 49.5 | O43: =IF(N43="","",H43*N43) -> 198 | P43: 50 | Q43: =IF(P43="","",H43*P43) -> 200 | R43: 50 | S43: =IF(R43="","",H43*R43) -> 200 | T43: 50 | U43: =IF(T43="","",H43*T43) -> 200
C44: 4 | D44: Item - Description 4 | G44: piece | H44: 5 | I44: 24 | J44: =IF(I44="","",H44*I44) -> 120 | L44: 25 | M44: =IF(L44="","",H44*L44) -> 125 | N44: 26 | O44: =IF(N44="","",H44*N44) -> 130 | P44: 23.5 | Q44: =IF(P44="","",H44*P44) -> 117.5 | R44: 24 | S44: =IF(R44="","",H44*R44) -> 120 | T44: 24 | U44: =IF(T44="","",H44*T44) -> 120
C45: 5 | D45: Item - Description 5 | G45: Box | H45: 6 | I45: 32 | J45: =IF(I45="","",H45*I45) -> 192 | L45: 34 | M45: =IF(L45="","",H45*L45) -> 204 | N45: 33 | O45: =IF(N45="","",H45*N45) -> 198 | P45: 31.5 | Q45: =IF(P45="","",H45*P45) -> 189 | R45: 32 | S45: =IF(R45="","",H45*R45) -> 192 | T45: 32 | U45: =IF(T45="","",H45*T45) -> 192
C46: 6 | D46: Item - Description 6 | G46: Box | H46: 7 | I46: 17 | J46: =IF(I46="","",H46*I46) -> 119 | L46: 19 | M46: =IF(L46="","",H46*L46) -> 133 | N46: 19 | O46: =IF(N46="","",H46*N46) -> 133 | P46: 18 | Q46: =IF(P46="","",H46*P46) -> 126 | R46: 17 | S46: =IF(R46="","",H46*R46) -> 119 | T46: 17 | U46: =IF(T46="","",H46*T46) -> 119
C47: 7 | D47: Item - Description 7 | G47: piece | H47: 5 | I47: 20 | J47: =IF(I47="","",H47*I47) -> 100 | L47: 21 | M47: =IF(L47="","",H47*L47) -> 105 | N47: 21 | O47: =IF(N47="","",H47*N47) -> 105 | P47: 22 | Q47: =IF(P47="","",H47*P47) -> 110 | R47: 22 | S47: =IF(R47="","",H47*R47) -> 110 | T47: 23 | U47: =IF(T47="","",H47*T47) -> 115
C48: 8 | D48: Item - Description 8 | G48: Box | H48: 4 | I48: 30 | J48: =IF(I48="","",H48*I48) -> 120 | L48: 27 | M48: =IF(L48="","",H48*L48) -> 108 | N48: 31 | O48: =IF(N48="","",H48*N48) -> 124 | P48: 29 | Q48: =IF(P48="","",H48*P48) -> 116 | R48: 30 | S48: =IF(R48="","",H48*R48) -> 120 | T48: 30 | U48: =IF(T48="","",H48*T48) -> 120
C49: 9 | D49: Item - Description 9 | G49: Box | H49: 10 | I49: 55 | J49: =IF(I49="","",H49*I49) -> 550 | L49: 56 | M49: =IF(L49="","",H49*L49) -> 560 | N49: 56 | O49: =IF(N49="","",H49*N49) -> 560 | P49: 54 | Q49: =IF(P49="","",H49*P49) -> 540 | R49: 55 | S49: =IF(R49="","",H49*R49) -> 550 | T49: 55 | U49: =IF(T49="","",H49*T49) -> 550
C50: 10 | D50: Item - Description 10 | G50: piece | H50: 11 | I50: 25 | J50: =IF(I50="","",H50*I50) -> 275 | L50: 27 | M50: =IF(L50="","",H50*L50) -> 297 | N50: 24 | O50: =IF(N50="","",H50*N50) -> 264 | P50: 27 | Q50: =IF(P50="","",H50*P50) -> 297 | R50: 25 | S50: =IF(R50="","",H50*R50) -> 275 | T50: 25 | U50: =IF(T50="","",H50*T50) -> 275
C51: 11 | D51: Item - Description 11 | G51: piece | H51: 12 | I51: 12 | J51: =IF(I51="","",H51*I51) -> 144 | L51: 13 | M51: =IF(L51="","",H51*L51) -> 156 | N51: 13 | O51: =IF(N51="","",H51*N51) -> 156 | P51: 14 | Q51: =IF(P51="","",H51*P51) -> 168 | R51: 12 | S51: =IF(R51="","",H51*R51) -> 144 | T51: 11.5 | U51: =IF(T51="","",H51*T51) -> 138
C52: 12 | D52: Item - Description 12 | G52: piece | H52: 3 | I52: 60 | J52: =IF(I52="","",H52*I52) -> 180 | L52: 63 | M52: =IF(L52="","",H52*L52) -> 189 | N52: 61 | O52: =IF(N52="","",H52*N52) -> 183 | P52: 63 | Q52: =IF(P52="","",H52*P52) -> 189 | R52: 60 | S52: =IF(R52="","",H52*R52) -> 180 | T52: 61 | U52: =IF(T52="","",H52*T52) -> 183
... C60: 20 | D60: Item - Description 20 | G60: piece | H60: 5 | I60: 12.5 | J60: =IF(I60="","",H60*I60) -> 62.5 | L60: 13 | M60: =IF(L60="","",H60*L60) -> 65 | N60: 13 | O60: =IF(N60="","",H60*N60) -> 65 | P60: 14 | Q60: =IF(P60="","",H60*P60) -> 70 | R60: 12.5 | S60: =IF(R60="","",H60*R60) -> 62.5 | T60: 12.5 | U60: =IF(T60="","",H60*T60) -> 62.5
C61: Phase 2 Totals : | I61: =SUM(J41:J60) -> 4897.5 | L61: =SUM(M41:M60) -> 4965 | N61: =SUM(O41:O60) -> 5007 | P61: =SUM(Q41:Q60) -> 5080.5 | R61: =SUM(S41:S60) -> 4969.5 | T61: =SUM(U41:U60) -> 4982
C63: Phase 3 Bid Quantities | I63: Architect - Engineer Estimate | L63: =IF(L$13="","",L$13) -> Contractor 1 Bid | N63: =IF(N$13="","",N$13) -> Contractor 2 Bid | P63: =IF(P$13="","",P$13) -> Contractor 3 Bid | R63: =IF(R$13="","",R$13) -> Contractor 4 Bid | T63: =IF(T$13="","",T$13) -> Contractor 5 Bid
C65: # | D65: Item - Description | G65: Unit | H65: Qty | I65: Unit Price | J65: Amount | L65: Unit Price | M65: Bid Amount | N65: Unit Price | O65: Bid Amount | P65: Unit Price | Q65: Bid Amount | R65: Unit Price | S65: Bid Amount | T65: Unit Price | U65: Bid Amount
C66: 1 | D66: Item - Description 1 | G66: piece | H66: 15 | I66: 10 | J66: =IF(I66="","",H66*I66) -> 150 | L66: 10 | M66: =IF(L66="","",H66*L66) -> 150 | N66: 9.5 | O66: =IF(N66="","",H66*N66) -> 142.5 | P66: 9 | Q66: =IF(P66="","",H66*P66) -> 135 | R66: 10 | S66: =IF(R66="","",H66*R66) -> 150 | T66: 9.5 | U66: =IF(T66="","",H66*T66) -> 142.5
C67: 2 | D67: Item - Description 2 | G67: Box | H67: 3 | I67: 250 | J67: =IF(I67="","",H67*I67) -> 750 | L67: 250 | M67: =IF(L67="","",H67*L67) -> 750 | N67: 245 | O67: =IF(N67="","",H67*N67) -> 735 | P67: 260 | Q67: =IF(P67="","",H67*P67) -> 780 | R67: 255 | S67: =IF(R67="","",H67*R67) -> 765 | T67: 255 | U67: =IF(T67="","",H67*T67) -> 765
C68: 3 | D68: Item - Description 3 | G68: Box | H68: 4 | I68: 50 | J68: =IF(I68="","",H68*I68) -> 200 | L68: 50 | M68: =IF(L68="","",H68*L68) -> 200 | N68: 49.5 | O68: =IF(N68="","",H68*N68) -> 198 | P68: 50 | Q68: =IF(P68="","",H68*P68) -> 200 | R68: 50 | S68: =IF(R68="","",H68*R68) -> 200 | T68: 50 | U68: =IF(T68="","",H68*T68) -> 200
C69: 4 | D69: Item - Description 4 | G69: piece | H69: 5 | I69: 24 | J69: =IF(I69="","",H69*I69) -> 120 | L69: 25 | M69: =IF(L69="","",H69*L69) -> 125 | N69: 26 | O69: =IF(N69="","",H69*N69) -> 130 | P69: 23.5 | Q69: =IF(P69="","",H69*P69) -> 117.5 | R69: 24 | S69: =IF(R69="","",H69*R69) -> 120 | T69: 24 | U69: =IF(T69="","",H69*T69) -> 120
C70: 5 | J70: =IF(I70="","",H70*I70) | M70: =IF(L70="","",H70*L70) | O70: =IF(N70="","",H70*N70) | Q70: =IF(P70="","",H70*P70) | S70: =IF(R70="","",H70*R70) | U70: =IF(T70="","",H70*T70)
C71: 6 | J71: =IF(I71="","",H71*I71) | M71: =IF(L71="","",H71*L71) | O71: =IF(N71="","",H71*N71) | Q71: =IF(P71="","",H71*P71) | S71: =IF(R71="","",H71*R71) | U71: =IF(T71="","",H71*T71)
C72: 7 | J72: =IF(I72="","",H72*I72) | M72: =IF(L72="","",H72*L72) | O72: =IF(N72="","",H72*N72) | Q72: =IF(P72="","",H72*P72) | S72: =IF(R72="","",H72*R72) | U72: =IF(T72="","",H72*T72)
C73: 8 | J73: =IF(I73="","",H73*I73) | M73: =IF(L73="","",H73*L73) | O73: =IF(N73="","",H73*N73) | Q73: =IF(P73="","",H73*P73) | S73: =IF(R73="","",H73*R73) | U73: =IF(T73="","",H73*T73)
C74: 9 | J74: =IF(I74="","",H74*I74) | M74: =IF(L74="","",H74*L74) | O74: =IF(N74="","",H74*N74) | Q74: =IF(P74="","",H74*P74) | S74: =IF(R74="","",H74*R74) | U74: =IF(T74="","",H74*T74)
C75: 10 | J75: =IF(I75="","",H75*I75) | M75: =IF(L75="","",H75*L75) | O75: =IF(N75="","",H75*N75) | Q75: =IF(P75="","",H75*P75) | S75: =IF(R75="","",H75*R75) | U75: =IF(T75="","",H75*T75)
C76: 11 | J76: =IF(I76="","",H76*I76) | M76: =IF(L76="","",H76*L76) | O76: =IF(N76="","",H76*N76) | Q76: =IF(P76="","",H76*P76) | S76: =IF(R76="","",H76*R76) | U76: =IF(T76="","",H76*T76)
C77: 12 | J77: =IF(I77="","",H77*I77) | M77: =IF(L77="","",H77*L77) | O77: =IF(N77="","",H77*N77) | Q77: =IF(P77="","",H77*P77) | S77: =IF(R77="","",H77*R77) | U77: =IF(T77="","",H77*T77)
C78: 13 | J78: =IF(I78="","",H78*I78) | M78: =IF(L78="","",H78*L78) | O78: =IF(N78="","",H78*N78) | Q78: =IF(P78="","",H78*P78) | S78: =IF(R78="","",H78*R78) | U78: =IF(T78="","",H78*T78)
C79: 14 | J79: =IF(I79="","",H79*I79) | M79: =IF(L79="","",H79*L79) | O79: =IF(N79="","",H79*N79) | Q79: =IF(P79="","",H79*P79) | S79: =IF(R79="","",H79*R79) | U79: =IF(T79="","",H79*T79)
C80: 15 | J80: =IF(I80="","",H80*I80) | M80: =IF(L80="","",H80*L80) | O80: =IF(N80="","",H80*N80) | Q80: =IF(P80="","",H80*P80) | S80: =IF(R80="","",H80*R80) | U80: =IF(T80="","",H80*T80)
C81: Phase 3 Totals : | I81: =SUM(J66:J80) -> 1220 | L81: =SUM(M66:M80) -> 1225 | N81: =SUM(O66:O80) -> 1205.5 | P81: =SUM(Q66:Q80) -> 1232.5 | R81: =SUM(S66:S80) -> 1235 | T81: =SUM(U66:U80) -> 1227.5
C83: Phase 4 Bid Quantities | I83: Architect - Engineer Estimate | L83: =IF(L$13="","",L$13) -> Contractor 1 Bid | N83: =IF(N$13="","",N$13) -> Contractor 2 Bid | P83: =IF(P$13="","",P$13) -> Contractor 3 Bid | R83: =IF(R$13="","",R$13) -> Contractor 4 Bid | T83: =IF(T$13="","",T$13) -> Contractor 5 Bid
C85: # | D85: Item - Description | G85: Unit | H85: Qty | I85: Unit Price | J85: Amount | L85: Unit Price | M85: Bid Amount | N85: Unit Price | O85: Bid Amount | P85: Unit Price | Q85: Bid Amount | R85: Unit Price | S85: Bid Amount | T85: Unit Price | U85: Bid Amount
C86: 1 | D86: Item - Description 1 | G86: piece | H86: 15 | I86: 10 | J86: =IF(I86="","",H86*I86) -> 150 | L86: 10 | M86: =IF(L86="","",H86*L86) -> 150 | N86: 9.5 | O86: =IF(N86="","",H86*N86) -> 142.5 | P86: 9 | Q86: =IF(P86="","",H86*P86) -> 135 | R86: 10 | S86: =IF(R86="","",H86*R86) -> 150 | T86: 9.5 | U86: =IF(T86="","",H86*T86) -> 142.5
C87: 2 | D87: Item - Description 2 | G87: Box | H87: 3 | I87: 250 | J87: =IF(I87="","",H87*I87) -> 750 | L87: 250 | M87: =IF(L87="","",H87*L87) -> 750 | N87: 245 | O87: =IF(N87="","",H87*N87) -> 735 | P87: 260 | Q87: =IF(P87="","",H87*P87) -> 780 | R87: 255 | S87: =IF(R87="","",H87*R87) -> 765 | T87: 255 | U87: =IF(T87="","",H87*T87) -> 765
C88: 3 | D88: Item - Description 3 | G88: Box | H88: 4 | I88: 50 | J88: =IF(I88="","",H88*I88) -> 200 | L88: 50 | M88: =IF(L88="","",H88*L88) -> 200 | N88: 49.5 | O88: =IF(N88="","",H88*N88) -> 198 | P88: 50 | Q88: =IF(P88="","",H88*P88) -> 200 | R88: 50 | S88: =IF(R88="","",H88*R88) -> 200 | T88: 50 | U88: =IF(T88="","",H88*T88) -> 200
C89: 4 | D89: Item - Description 4 | G89: piece | H89: 5 | I89: 24 | J89: =IF(I89="","",H89*I89) -> 120 | L89: 25 | M89: =IF(L89="","",H89*L89) -> 125 | N89: 26 | O89: =IF(N89="","",H89*N89) -> 130 | P89: 23.5 | Q89: =IF(P89="","",H89*P89) -> 117.5 | R89: 24 | S89: =IF(R89="","",H89*R89) -> 120 | T89: 24 | U89: =IF(T89="","",H89*T89) -> 120
C90: 5 | D90: Item - Description 5 | G90: Box | H90: 6 | I90: 32 | J90: =IF(I90="","",H90*I90) -> 192 | L90: 34 | M90: =IF(L90="","",H90*L90) -> 204 | N90: 33 | O90: =IF(N90="","",H90*N90) -> 198 | P90: 31.5 | Q90: =IF(P90="","",H90*P90) -> 189 | R90: 32 | S90: =IF(R90="","",H90*R90) -> 192 | T90: 32 | U90: =IF(T90="","",H90*T90) -> 192
C91: 6 | D91: Item - Description 6 | G91: Box | H91: 7 | I91: 17 | J91: =IF(I91="","",H91*I91) -> 119 | L91: 19 | M91: =IF(L91="","",H91*L91) -> 133 | N91: 19 | O91: =IF(N91="","",H91*N91) -> 133 | P91: 18 | Q91: =IF(P91="","",H91*P91) -> 126 | R91: 17 | S91: =IF(R91="","",H91*R91) -> 119 | T91: 17 | U91: =IF(T91="","",H91*T91) -> 119
C92: 7 | D92: Item - Description 7 | G92: piece | H92: 5 | I92: 20 | J92: =IF(I92="","",H92*I92) -> 100 | L92: 21 | M92: =IF(L92="","",H92*L92) -> 105 | N92: 21 | O92: =IF(N92="","",H92*N92) -> 105 | P92: 22 | Q92: =IF(P92="","",H92*P92) -> 110 | R92: 22 | S92: =IF(R92="","",H92*R92) -> 110 | T92: 23 | U92: =IF(T92="","",H92*T92) -> 115
C93: 8 | D93: Item - Description 8 | G93: Box | H93: 4 | I93: 30 | J93: =IF(I93="","",H93*I93) -> 120 | L93: 27 | M93: =IF(L93="","",H93*L93) -> 108 | N93: 31 | O93: =IF(N93="","",H93*N93) -> 124 | P93: 29 | Q93: =IF(P93="","",H93*P93) -> 116 | R93: 30 | S93: =IF(R93="","",H93*R93) -> 120 | T93: 30 | U93: =IF(T93="","",H93*T93) -> 120
C94: 9 | D94: Item - Description 9 | G94: Box | H94: 10 | I94: 55 | J94: =IF(I94="","",H94*I94) -> 550 | L94: 56 | M94: =IF(L94="","",H94*L94) -> 560 | N94: 56 | O94: =IF(N94="","",H94*N94) -> 560 | P94: 54 | Q94: =IF(P94="","",H94*P94) -> 540 | R94: 55 | S94: =IF(R94="","",H94*R94) -> 550 | T94: 55 | U94: =IF(T94="","",H94*T94) -> 550
C95: 10 | D95: Item - Description 10 | G95: piece | H95: 11 | I95: 25 | J95: =IF(I95="","",H95*I95) -> 275 | L95: 27 | M95: =IF(L95="","",H95*L95) -> 297 | N95: 24 | O95: =IF(N95="","",H95*N95) -> 264 | P95: 27 | Q95: =IF(P95="","",H95*P95) -> 297 | R95: 25 | S95: =IF(R95="","",H95*R95) -> 275 | T95: 25 | U95: =IF(T95="","",H95*T95) -> 275
C96: 11 | D96: Item - Description 11 | G96: piece | H96: 12 | I96: 12 | J96: =IF(I96="","",H96*I96) -> 144 | L96: 13 | M96: =IF(L96="","",H96*L96) -> 156 | N96: 13 | O96: =IF(N96="","",H96*N96) -> 156 | P96: 14 | Q96: =IF(P96="","",H96*P96) -> 168 | R96: 12 | S96: =IF(R96="","",H96*R96) -> 144 | T96: 11.5 | U96: =IF(T96="","",H96*T96) -> 138
C97: 12 | D97: Item - Description 12 | G97: piece | H97: 3 | I97: 125 | J97: =IF(I97="","",H97*I97) -> 375 | L97: 125 | M97: =IF(L97="","",H97*L97) -> 375 | N97: 130 | O97: =IF(N97="","",H97*N97) -> 390 | P97: 127 | Q97: =IF(P97="","",H97*P97) -> 381 | R97: 129 | S97: =IF(R97="","",H97*R97) -> 387 | T97: 130 | U97: =IF(T97="","",H97*T97) -> 390
... C100: 15 | D100: Item - Description 15 | G100: piece | H100: 5 | I100: 12.5 | J100: =IF(I100="","",H100*I100) -> 62.5 | L100: 13 | M100: =IF(L100="","",H100*L100) -> 65 | N100: 13 | O100: =IF(N100="","",H100*N100) -> 65 | P100: 14 | Q100: =IF(P100="","",H100*P100) -> 70 | R100: 12.5 | S100: =IF(R100="","",H100*R100) -> 62.5 | T100: 12.5 | U100: =IF(T100="","",H100*T100) -> 62.5
C101: Phase 4 Totals : | I101: =SUM(J86:J100) -> 3612.5 | L101: =SUM(M86:M100) -> 3685.5 | N101: =SUM(O86:O100) -> 3683 | P101: =SUM(Q86:Q100) -> 3733.5 | R101: =SUM(S86:S100) -> 3649.5 | T101: =SUM(U86:U100) -> 3648
C103: Phase 5 Bid Quantities | I103: Architect - Engineer Estimate | L103: =IF(L$13="","",L$13) -> Contractor 1 Bid | N103: =IF(N$13="","",N$13) -> Contractor 2 Bid | P103: =IF(P$13="","",P$13) -> Contractor 3 Bid | R103: =IF(R$13="","",R$13) -> Contractor 4 Bid | T103: =IF(T$13="","",T$13) -> Contractor 5 Bid
C105: # | D105: Item - Description | G105: Unit | H105: Qty | I105: Unit Price | J105: Amount | L105: Unit Price | M105: Bid Amount | N105: Unit Price | O105: Bid Amount | P105: Unit Price | Q105: Bid Amount | R105: Unit Price | S105: Bid Amount | T105: Unit Price | U105: Bid Amount
C106: 1 | D106: Item - Description 1 | G106: piece | H106: 15 | I106: 10 | J106: =IF(I106="","",H106*I106) -> 150 | L106: 10 | M106: =IF(L106="","",H106*L106) -> 150 | N106: 9.5 | O106: =IF(N106="","",H106*N106) -> 142.5 | P106: 9 | Q106: =IF(P106="","",H106*P106) -> 135 | R106: 10 | S106: =IF(R106="","",H106*R106) -> 150 | T106: 9.5 | U106: =IF(T106="","",H106*T106) -> 142.5
C107: 2 | D107: Item - Description 2 | G107: Box | H107: 3 | I107: 250 | J107: =IF(I107="","",H107*I107) -> 750 | L107: 250 | M107: =IF(L107="","",H107*L107) -> 750 | N107: 245 | O107: =IF(N107="","",H107*N107) -> 735 | P107: 260 | Q107: =IF(P107="","",H107*P107) -> 780 | R107: 255 | S107: =IF(R107="","",H107*R107) -> 765 | T107: 255 | U107: =IF(T107="","",H107*T107) -> 765
C108: 3 | D108: Item - Description 3 | G108: Box | H108: 4 | I108: 50 | J108: =IF(I108="","",H108*I108) -> 200 | L108: 50 | M108: =IF(L108="","",H108*L108) -> 200 | N108: 49.5 | O108: =IF(N108="","",H108*N108) -> 198 | P108: 50 | Q108: =IF(P108="","",H108*P108) -> 200 | R108: 50 | S108: =IF(R108="","",H108*R108) -> 200 | T108: 50 | U108: =IF(T108="","",H108*T108) -> 200
C109: 4 | D109: Item - Description 4 | G109: piece | H109: 5 | I109: 24 | J109: =IF(I109="","",H109*I109) -> 120 | L109: 25 | M109: =IF(L109="","",H109*L109) -> 125 | N109: 26 | O109: =IF(N109="","",H109*N109) -> 130 | P109: 23.5 | Q109: =IF(P109="","",H109*P109) -> 117.5 | R109: 24 | S109: =IF(R109="","",H109*R109) -> 120 | T109: 24 | U109: =IF(T109="","",H109*T109) -> 120
C110: 5 | J110: =IF(I110="","",H110*I110) | M110: =IF(L110="","",H110*L110) | O110: =IF(N110="","",H110*N110) | Q110: =IF(P110="","",H110*P110) | S110: =IF(R110="","",H110*R110) | U110: =IF(T110="","",H110*T110)
C111: 6 | J111: =IF(I111="","",H111*I111) | M111: =IF(L111="","",H111*L111) | O111: =IF(N111="","",H111*N111) | Q111: =IF(P111="","",H111*P111) | S111: =IF(R111="","",H111*R111) | U111: =IF(T111="","",H111*T111)
C112: 7 | J112: =IF(I112="","",H112*I112) | M112: =IF(L112="","",H112*L112) | O112: =IF(N112="","",H112*N112) | Q112: =IF(P112="","",H112*P112) | S112: =IF(R112="","",H112*R112) | U112: =IF(T112="","",H112*T112)
C113: 8 | J113: =IF(I113="","",H113*I113) | M113: =IF(L113="","",H113*L113) | O113: =IF(N113="","",H113*N113) | Q113: =IF(P113="","",H113*P113) | S113: =IF(R113="","",H113*R113) | U113: =IF(T113="","",H113*T113)
C114: 9 | J114: =IF(I114="","",H114*I114) | M114: =IF(L114="","",H114*L114) | O114: =IF(N114="","",H114*N114) | Q114: =IF(P114="","",H114*P114) | S114: =IF(R114="","",H114*R114) | U114: =IF(T114="","",H114*T114)
C115: 10 | J115: =IF(I115="","",H115*I115) | M115: =IF(L115="","",H115*L115) | O115: =IF(N115="","",H115*N115) | Q115: =IF(P115="","",H115*P115) | S115: =IF(R115="","",H115*R115) | U115: =IF(T115="","",H115*T115)
C116: Phase 5 Totals : | I116: =SUM(J106:J115) -> 1220 | L116: =SUM(M106:M115) -> 1225 | N116: =SUM(O106:O115) -> 1205.5 | P116: =SUM(Q106:Q115) -> 1232.5 | R116: =SUM(S106:S115) -> 1235 | T116: =SUM(U106:U115) -> 1227.5
C118: BID RESULTS | I118: Architect - Engineer Estimate | L118: =IF(L$13="","",L$13) -> Contractor 1 Bid | N118: =IF(N$13="","",N$13) -> Contractor 2 Bid | P118: =IF(P$13="","",P$13) -> Contractor 3 Bid | R118: =IF(R$13="","",R$13) -> Contractor 4 Bid | T118: =IF(T$13="","",T$13) -> Contractor 5 Bid
H119: Total Base Bid : | I119: =SUM(I116,I101,I81,I61,I36) -> 13670 | L119: =SUM(L116,L101,L81,L61,L36) -> 13900.5 | N119: =SUM(N116,N101,N81,N61,N36) -> 13846.5 | P119: =SUM(P116,P101,P81,P61,P36) -> 14057.5 | R119: =SUM(R116,R101,R81,R61,R36) -> 13834 | T119: =SUM(T116,T101,T81,T61,T36) -> 13821.5
E120: Tax Rate : | F120: 0.1 | H120: Tax : | I120: =IF($F$120="","",$F$120*I119) -> 1367 | L120: =IF($F$120="","",$F$120*L119) -> 1390.05 | N120: =IF($F$120="","",$F$120*N119) -> 1384.65 | P120: =IF($F$120="","",$F$120*P119) -> 1405.75 | R120: =IF($F$120="","",$F$120*R119) -> 1383.4 | T120: =IF($F$120="","",$F$120*T119) -> 1382.15
H121: Total Bid Amount : | I121: =SUM(I119:J120) -> 15037 | L121: =SUM(L119:M120) -> 15290.55 | N121: =SUM(N119:O120) -> 15231.15 | P121: =SUM(P119:Q120) -> 15463.25 | R121: =SUM(R119:S120) -> 15217.4 | T121: =SUM(T119:U120) -> 15203.65

Sheet Comparison 2
D2: CONTRACTOR BID COMPARISON
D3: COMPARISON 2
C7: Project Name | E7: =IF(Dashboard!I9="","",Dashboard!I9) -> Project Name 2
C8: Project No | E8: =IF(Dashboard!I10="","",Dashboard!I10) -> 10002
C9: Location | E9: =IF(Dashboard!I11="","",Dashboard!I11) -> Location 2 | S9: You can add Firm Logo
C10: Architect - Engineer | E10: =IF(Dashboard!I12="","",Dashboard!I12) -> Alan Smith
C11: Bid Date | E11: =IF(Dashboard!I13="","",Dashboard!I13) -> 45708
C13: Phase 1 Bid Quantities | I13: Architect - Engineer Estimate | L13: Contractor 1 Bid | N13: Contractor 2 Bid | P13: Contractor 3 Bid | R13: Contractor 4 Bid | T13: Contractor 5 Bid
C15: # | D15: Item - Description | G15: Unit | H15: Qty | I15: Unit Price | J15: Amount | L15: Unit Price | M15: Bid Amount | N15: Unit Price | O15: Bid Amount | P15: Unit Price | Q15: Bid Amount | R15: Unit Price | S15: Bid Amount | T15: Unit Price | U15: Bid Amount
C16: 1 | J16: =IF(I16="","",H16*I16) | M16: =IF(L16="","",H16*L16) | O16: =IF(N16="","",H16*N16) | Q16: =IF(P16="","",H16*P16) | S16: =IF(R16="","",H16*R16) | U16: =IF(T16="","",H16*T16)
C17: 2 | J17: =IF(I17="","",H17*I17) | M17: =IF(L17="","",H17*L17) | O17: =IF(N17="","",H17*N17) | Q17: =IF(P17="","",H17*P17) | S17: =IF(R17="","",H17*R17) | U17: =IF(T17="","",H17*T17)
C18: 3 | J18: =IF(I18="","",H18*I18) | M18: =IF(L18="","",H18*L18) | O18: =IF(N18="","",H18*N18) | Q18: =IF(P18="","",H18*P18) | S18: =IF(R18="","",H18*R18) | U18: =IF(T18="","",H18*T18)
C19: 4 | J19: =IF(I19="","",H19*I19) | M19: =IF(L19="","",H19*L19) | O19: =IF(N19="","",H19*N19) | Q19: =IF(P19="","",H19*P19) | S19: =IF(R19="","",H19*R19) | U19: =IF(T19="","",H19*T19)
C20: 5 | J20: =IF(I20="","",H20*I20) | M20: =IF(L20="","",H20*L20) | O20: =IF(N20="","",H20*N20) | Q20: =IF(P20="","",H20*P20) | S20: =IF(R20="","",H20*R20) | U20: =IF(T20="","",H20*T20)
C21: 6 | J21: =IF(I21="","",H21*I21) | M21: =IF(L21="","",H21*L21) | O21: =IF(N21="","",H21*N21) | Q21: =IF(P21="","",H21*P21) | S21: =IF(R21="","",H21*R21) | U21: =IF(T21="","",H21*T21)
C22: 7 | J22: =IF(I22="","",H22*I22) | M22: =IF(L22="","",H22*L22) | O22: =IF(N22="","",H22*N22) | Q22: =IF(P22="","",H22*P22) | S22: =IF(R22="","",H22*R22) | U22: =IF(T22="","",H22*T22)
C23: 8 | J23: =IF(I23="","",H23*I23) | M23: =IF(L23="","",H23*L23) | O23: =IF(N23="","",H23*N23) | Q23: =IF(P23="","",H23*P23) | S23: =IF(R23="","",H23*R23) | U23: =IF(T23="","",H23*T23)
C24: 9 | J24: =IF(I24="","",H24*I24) | M24: =IF(L24="","",H24*L24) | O24: =IF(N24="","",H24*N24) | Q24: =IF(P24="","",H24*P24) | S24: =IF(R24="","",H24*R24) | U24: =IF(T24="","",H24*T24)
C25: 10 | J25: =IF(I25="","",H25*I25) | M25: =IF(L25="","",H25*L25) | O25: =IF(N25="","",H25*N25) | Q25: =IF(P25="","",H25*P25) | S25: =IF(R25="","",H25*R25) | U25: =IF(T25="","",H25*T25)
C26: 11 | J26: =IF(I26="","",H26*I26) | M26: =IF(L26="","",H26*L26) | O26: =IF(N26="","",H26*N26) | Q26: =IF(P26="","",H26*P26) | S26: =IF(R26="","",H26*R26) | U26: =IF(T26="","",H26*T26)
C27: 12 | J27: =IF(I27="","",H27*I27) | M27: =IF(L27="","",H27*L27) | O27: =IF(N27="","",H27*N27) | Q27: =IF(P27="","",H27*P27) | S27: =IF(R27="","",H27*R27) | U27: =IF(T27="","",H27*T27)
... C35: 20 | J35: =IF(I35="","",H35*I35) | M35: =IF(L35="","",H35*L35) | O35: =IF(N35="","",H35*N35) | Q35: =IF(P35="","",H35*P35) | S35: =IF(R35="","",H35*R35) | U35: =IF(T35="","",H35*T35)
C36: Phase 1 Totals : | I36: =SUM(J16:J35) -> 0 | L36: =SUM(M16:M35) -> 0 | N36: =SUM(O16:O35) -> 0 | P36: =SUM(Q16:Q35) -> 0 | R36: =SUM(S16:S35) -> 0 | T36: =SUM(U16:U35) -> 0
C38: Phase 2 Bid Quantities | I38: Architect - Engineer Estimate | L38: =IF(L$13="","",L$13) -> Contractor 1 Bid | N38: =IF(N$13="","",N$13) -> Contractor 2 Bid | P38: =IF(P$13="","",P$13) -> Contractor 3 Bid | R38: =IF(R$13="","",R$13) -> Contractor 4 Bid | T38: =IF(T$13="","",T$13) -> Contractor 5 Bid
C40: # | D40: Item - Description | G40: Unit | H40: Qty | I40: Unit Price | J40: Amount | L40: Unit Price | M40: Bid Amount | N40: Unit Price | O40: Bid Amount | P40: Unit Price | Q40: Bid Amount | R40: Unit Price | S40: Bid Amount | T40: Unit Price | U40: Bid Amount
C41: 1 | J41: =IF(I41="","",H41*I41) | M41: =IF(L41="","",H41*L41) | O41: =IF(N41="","",H41*N41) | Q41: =IF(P41="","",H41*P41) | S41: =IF(R41="","",H41*R41) | U41: =IF(T41="","",H41*T41)
C42: 2 | J42: =IF(I42="","",H42*I42) | M42: =IF(L42="","",H42*L42) | O42: =IF(N42="","",H42*N42) | Q42: =IF(P42="","",H42*P42) | S42: =IF(R42="","",H42*R42) | U42: =IF(T42="","",H42*T42)
C43: 3 | J43: =IF(I43="","",H43*I43) | M43: =IF(L43="","",H43*L43) | O43: =IF(N43="","",H43*N43) | Q43: =IF(P43="","",H43*P43) | S43: =IF(R43="","",H43*R43) | U43: =IF(T43="","",H43*T43)
C44: 4 | J44: =IF(I44="","",H44*I44) | M44: =IF(L44="","",H44*L44) | O44: =IF(N44="","",H44*N44) | Q44: =IF(P44="","",H44*P44) | S44: =IF(R44="","",H44*R44) | U44: =IF(T44="","",H44*T44)
C45: 5 | J45: =IF(I45="","",H45*I45) | M45: =IF(L45="","",H45*L45) | O45: =IF(N45="","",H45*N45) | Q45: =IF(P45="","",H45*P45) | S45: =IF(R45="","",H45*R45) | U45: =IF(T45="","",H45*T45)
C46: 6 | J46: =IF(I46="","",H46*I46) | M46: =IF(L46="","",H46*L46) | O46: =IF(N46="","",H46*N46) | Q46: =IF(P46="","",H46*P46) | S46: =IF(R46="","",H46*R46) | U46: =IF(T46="","",H46*T46)
C47: 7 | J47: =IF(I47="","",H47*I47) | M47: =IF(L47="","",H47*L47) | O47: =IF(N47="","",H47*N47) | Q47: =IF(P47="","",H47*P47) | S47: =IF(R47="","",H47*R47) | U47: =IF(T47="","",H47*T47)
C48: 8 | J48: =IF(I48="","",H48*I48) | M48: =IF(L48="","",H48*L48) | O48: =IF(N48="","",H48*N48) | Q48: =IF(P48="","",H48*P48) | S48: =IF(R48="","",H48*R48) | U48: =IF(T48="","",H48*T48)
C49: 9 | J49: =IF(I49="","",H49*I49) | M49: =IF(L49="","",H49*L49) | O49: =IF(N49="","",H49*N49) | Q49: =IF(P49="","",H49*P49) | S49: =IF(R49="","",H49*R49) | U49: =IF(T49="","",H49*T49)
C50: 10 | J50: =IF(I50="","",H50*I50) | M50: =IF(L50="","",H50*L50) | O50: =IF(N50="","",H50*N50) | Q50: =IF(P50="","",H50*P50) | S50: =IF(R50="","",H50*R50) | U50: =IF(T50="","",H50*T50)
C51: 11 | J51: =IF(I51="","",H51*I51) | M51: =IF(L51="","",H51*L51) | O51: =IF(N51="","",H51*N51) | Q51: =IF(P51="","",H51*P51) | S51: =IF(R51="","",H51*R51) | U51: =IF(T51="","",H51*T51)
C52: 12 | J52: =IF(I52="","",H52*I52) | M52: =IF(L52="","",H52*L52) | O52: =IF(N52="","",H52*N52) | Q52: =IF(P52="","",H52*P52) | S52: =IF(R52="","",H52*R52) | U52: =IF(T52="","",H52*T52)
... C60: 20 | J60: =IF(I60="","",H60*I60) | M60: =IF(L60="","",H60*L60) | O60: =IF(N60="","",H60*N60) | Q60: =IF(P60="","",H60*P60) | S60: =IF(R60="","",H60*R60) | U60: =IF(T60="","",H60*T60)
C61: Phase 2 Totals : | I61: =SUM(J41:J60) -> 0 | L61: =SUM(M41:M60) -> 0 | N61: =SUM(O41:O60) -> 0 | P61: =SUM(Q41:Q60) -> 0 | R61: =SUM(S41:S60) -> 0 | T61: =SUM(U41:U60) -> 0
C63: Phase 3 Bid Quantities | I63: Architect - Engineer Estimate | L63: =IF(L$13="","",L$13) -> Contractor 1 Bid | N63: =IF(N$13="","",N$13) -> Contractor 2 Bid | P63: =IF(P$13="","",P$13) -> Contractor 3 Bid | R63: =IF(R$13="","",R$13) -> Contractor 4 Bid | T63: =IF(T$13="","",T$13) -> Contractor 5 Bid
C65: # | D65: Item - Description | G65: Unit | H65: Qty | I65: Unit Price | J65: Amount | L65: Unit Price | M65: Bid Amount | N65: Unit Price | O65: Bid Amount | P65: Unit Price | Q65: Bid Amount | R65: Unit Price | S65: Bid Amount | T65: Unit Price | U65: Bid Amount
C66: 1 | J66: =IF(I66="","",H66*I66) | M66: =IF(L66="","",H66*L66) | O66: =IF(N66="","",H66*N66) | Q66: =IF(P66="","",H66*P66) | S66: =IF(R66="","",H66*R66) | U66: =IF(T66="","",H66*T66)
C67: 2 | J67: =IF(I67="","",H67*I67) | M67: =IF(L67="","",H67*L67) | O67: =IF(N67="","",H67*N67) | Q67: =IF(P67="","",H67*P67) | S67: =IF(R67="","",H67*R67) | U67: =IF(T67="","",H67*T67)
C68: 3 | J68: =IF(I68="","",H68*I68) | M68: =IF(L68="","",H68*L68) | O68: =IF(N68="","",H68*N68) | Q68: =IF(P68="","",H68*P68) | S68: =IF(R68="","",H68*R68) | U68: =IF(T68="","",H68*T68)
C69: 4 | J69: =IF(I69="","",H69*I69) | M69: =IF(L69="","",H69*L69) | O69: =IF(N69="","",H69*N69) | Q69: =IF(P69="","",H69*P69) | S69: =IF(R69="","",H69*R69) | U69: =IF(T69="","",H69*T69)
C70: 5 | J70: =IF(I70="","",H70*I70) | M70: =IF(L70="","",H70*L70) | O70: =IF(N70="","",H70*N70) | Q70: =IF(P70="","",H70*P70) | S70: =IF(R70="","",H70*R70) | U70: =IF(T70="","",H70*T70)
C71: 6 | J71: =IF(I71="","",H71*I71) | M71: =IF(L71="","",H71*L71) | O71: =IF(N71="","",H71*N71) | Q71: =IF(P71="","",H71*P71) | S71: =IF(R71="","",H71*R71) | U71: =IF(T71="","",H71*T71)
C72: 7 | J72: =IF(I72="","",H72*I72) | M72: =IF(L72="","",H72*L72) | O72: =IF(N72="","",H72*N72) | Q72: =IF(P72="","",H72*P72) | S72: =IF(R72="","",H72*R72) | U72: =IF(T72="","",H72*T72)
C73: 8 | J73: =IF(I73="","",H73*I73) | M73: =IF(L73="","",H73*L73) | O73: =IF(N73="","",H73*N73) | Q73: =IF(P73="","",H73*P73) | S73: =IF(R73="","",H73*R73) | U73: =IF(T73="","",H73*T73)
C74: 9 | J74: =IF(I74="","",H74*I74) | M74: =IF(L74="","",H74*L74) | O74: =IF(N74="","",H74*N74) | Q74: =IF(P74="","",H74*P74) | S74: =IF(R74="","",H74*R74) | U74: =IF(T74="","",H74*T74)
C75: 10 | J75: =IF(I75="","",H75*I75) | M75: =IF(L75="","",H75*L75) | O75: =IF(N75="","",H75*N75) | Q75: =IF(P75="","",H75*P75) | S75: =IF(R75="","",H75*R75) | U75: =IF(T75="","",H75*T75)
C76: 11 | J76: =IF(I76="","",H76*I76) | M76: =IF(L76="","",H76*L76) | O76: =IF(N76="","",H76*N76) | Q76: =IF(P76="","",H76*P76) | S76: =IF(R76="","",H76*R76) | U76: =IF(T76="","",H76*T76)
C77: 12 | J77: =IF(I77="","",H77*I77) | M77: =IF(L77="","",H77*L77) | O77: =IF(N77="","",H77*N77) | Q77: =IF(P77="","",H77*P77) | S77: =IF(R77="","",H77*R77) | U77: =IF(T77="","",H77*T77)
... C80: 15 | J80: =IF(I80="","",H80*I80) | M80: =IF(L80="","",H80*L80) | O80: =IF(N80="","",H80*N80) | Q80: =IF(P80="","",H80*P80) | S80: =IF(R80="","",H80*R80) | U80: =IF(T80="","",H80*T80)
C81: Phase 3 Totals : | I81: =SUM(J66:J80) -> 0 | L81: =SUM(M66:M80) -> 0 | N81: =SUM(O66:O80) -> 0 | P81: =SUM(Q66:Q80) -> 0 | R81: =SUM(S66:S80) -> 0 | T81: =SUM(U66:U80) -> 0
C83: Phase 4 Bid Quantities | I83: Architect - Engineer Estimate | L83: =IF(L$13="","",L$13) -> Contractor 1 Bid | N83: =IF(N$13="","",N$13) -> Contractor 2 Bid | P83: =IF(P$13="","",P$13) -> Contractor 3 Bid | R83: =IF(R$13="","",R$13) -> Contractor 4 Bid | T83: =IF(T$13="","",T$13) -> Contractor 5 Bid
C85: # | D85: Item - Description | G85: Unit | H85: Qty | I85: Unit Price | J85: Amount | L85: Unit Price | M85: Bid Amount | N85: Unit Price | O85: Bid Amount | P85: Unit Price | Q85: Bid Amount | R85: Unit Price | S85: Bid Amount | T85: Unit Price | U85: Bid Amount
C86: 1 | J86: =IF(I86="","",H86*I86) | M86: =IF(L86="","",H86*L86) | O86: =IF(N86="","",H86*N86) | Q86: =IF(P86="","",H86*P86) | S86: =IF(R86="","",H86*R86) | U86: =IF(T86="","",H86*T86)
C87: 2 | J87: =IF(I87="","",H87*I87) | M87: =IF(L87="","",H87*L87) | O87: =IF(N87="","",H87*N87) | Q87: =IF(P87="","",H87*P87) | S87: =IF(R87="","",H87*R87) | U87: =IF(T87="","",H87*T87)
C88: 3 | J88: =IF(I88="","",H88*I88) | M88: =IF(L88="","",H88*L88) | O88: =IF(N88="","",H88*N88) | Q88: =IF(P88="","",H88*P88) | S88: =IF(R88="","",H88*R88) | U88: =IF(T88="","",H88*T88)
C89: 4 | J89: =IF(I89="","",H89*I89) | M89: =IF(L89="","",H89*L89) | O89: =IF(N89="","",H89*N89) | Q89: =IF(P89="","",H89*P89) | S89: =IF(R89="","",H89*R89) | U89: =IF(T89="","",H89*T89)
C90: 5 | J90: =IF(I90="","",H90*I90) | M90: =IF(L90="","",H90*L90) | O90: =IF(N90="","",H90*N90) | Q90: =IF(P90="","",H90*P90) | S90: =IF(R90="","",H90*R90) | U90: =IF(T90="","",H90*T90)
C91: 6 | J91: =IF(I91="","",H91*I91) | M91: =IF(L91="","",H91*L91) | O91: =IF(N91="","",H91*N91) | Q91: =IF(P91="","",H91*P91) | S91: =IF(R91="","",H91*R91) | U91: =IF(T91="","",H91*T91)
C92: 7 | J92: =IF(I92="","",H92*I92) | M92: =IF(L92="","",H92*L92) | O92: =IF(N92="","",H92*N92) | Q92: =IF(P92="","",H92*P92) | S92: =IF(R92="","",H92*R92) | U92: =IF(T92="","",H92*T92)
C93: 8 | J93: =IF(I93="","",H93*I93) | M93: =IF(L93="","",H93*L93) | O93: =IF(N93="","",H93*N93) | Q93: =IF(P93="","",H93*P93) | S93: =IF(R93="","",H93*R93) | U93: =IF(T93="","",H93*T93)
C94: 9 | J94: =IF(I94="","",H94*I94) | M94: =IF(L94="","",H94*L94) | O94: =IF(N94="","",H94*N94) | Q94: =IF(P94="","",H94*P94) | S94: =IF(R94="","",H94*R94) | U94: =IF(T94="","",H94*T94)
C95: 10 | J95: =IF(I95="","",H95*I95) | M95: =IF(L95="","",H95*L95) | O95: =IF(N95="","",H95*N95) | Q95: =IF(P95="","",H95*P95) | S95: =IF(R95="","",H95*R95) | U95: =IF(T95="","",H95*T95)
C96: 11 | J96: =IF(I96="","",H96*I96) | M96: =IF(L96="","",H96*L96) | O96: =IF(N96="","",H96*N96) | Q96: =IF(P96="","",H96*P96) | S96: =IF(R96="","",H96*R96) | U96: =IF(T96="","",H96*T96)
C97: 12 | J97: =IF(I97="","",H97*I97) | M97: =IF(L97="","",H97*L97) | O97: =IF(N97="","",H97*N97) | Q97: =IF(P97="","",H97*P97) | S97: =IF(R97="","",H97*R97) | U97: =IF(T97="","",H97*T97)
... C100: 15 | J100: =IF(I100="","",H100*I100) | M100: =IF(L100="","",H100*L100) | O100: =IF(N100="","",H100*N100) | Q100: =IF(P100="","",H100*P100) | S100: =IF(R100="","",H100*R100) | U100: =IF(T100="","",H100*T100)
C101: Phase 4 Totals : | I101: =SUM(J86:J100) -> 0 | L101: =SUM(M86:M100) -> 0 | N101: =SUM(O86:O100) -> 0 | P101: =SUM(Q86:Q100) -> 0 | R101: =SUM(S86:S100) -> 0 | T101: =SUM(U86:U100) -> 0
C103: Phase 5 Bid Quantities | I103: Architect - Engineer Estimate | L103: =IF(L$13="","",L$13) -> Contractor 1 Bid | N103: =IF(N$13="","",N$13) -> Contractor 2 Bid | P103: =IF(P$13="","",P$13) -> Contractor 3 Bid | R103: =IF(R$13="","",R$13) -> Contractor 4 Bid | T103: =IF(T$13="","",T$13) -> Contractor 5 Bid
C105: # | D105: Item - Description | G105: Unit | H105: Qty | I105: Unit Price | J105: Amount | L105: Unit Price | M105: Bid Amount | N105: Unit Price | O105: Bid Amount | P105: Unit Price | Q105: Bid Amount | R105: Unit Price | S105: Bid Amount | T105: Unit Price | U105: Bid Amount
C106: 1 | J106: =IF(I106="","",H106*I106) | M106: =IF(L106="","",H106*L106) | O106: =IF(N106="","",H106*N106) | Q106: =IF(P106="","",H106*P106) | S106: =IF(R106="","",H106*R106) | U106: =IF(T106="","",H106*T106)
C107: 2 | J107: =IF(I107="","",H107*I107) | M107: =IF(L107="","",H107*L107) | O107: =IF(N107="","",H107*N107) | Q107: =IF(P107="","",H107*P107) | S107: =IF(R107="","",H107*R107) | U107: =IF(T107="","",H107*T107)
C108: 3 | J108: =IF(I108="","",H108*I108) | M108: =IF(L108="","",H108*L108) | O108: =IF(N108="","",H108*N108) | Q108: =IF(P108="","",H108*P108) | S108: =IF(R108="","",H108*R108) | U108: =IF(T108="","",H108*T108)
C109: 4 | J109: =IF(I109="","",H109*I109) | M109: =IF(L109="","",H109*L109) | O109: =IF(N109="","",H109*N109) | Q109: =IF(P109="","",H109*P109) | S109: =IF(R109="","",H109*R109) | U109: =IF(T109="","",H109*T109)
C110: 5 | J110: =IF(I110="","",H110*I110) | M110: =IF(L110="","",H110*L110) | O110: =IF(N110="","",H110*N110) | Q110: =IF(P110="","",H110*P110) | S110: =IF(R110="","",H110*R110) | U110: =IF(T110="","",H110*T110)
C111: 6 | J111: =IF(I111="","",H111*I111) | M111: =IF(L111="","",H111*L111) | O111: =IF(N111="","",H111*N111) | Q111: =IF(P111="","",H111*P111) | S111: =IF(R111="","",H111*R111) | U111: =IF(T111="","",H111*T111)
C112: 7 | J112: =IF(I112="","",H112*I112) | M112: =IF(L112="","",H112*L112) | O112: =IF(N112="","",H112*N112) | Q112: =IF(P112="","",H112*P112) | S112: =IF(R112="","",H112*R112) | U112: =IF(T112="","",H112*T112)
C113: 8 | J113: =IF(I113="","",H113*I113) | M113: =IF(L113="","",H113*L113) | O113: =IF(N113="","",H113*N113) | Q113: =IF(P113="","",H113*P113) | S113: =IF(R113="","",H113*R113) | U113: =IF(T113="","",H113*T113)
C114: 9 | J114: =IF(I114="","",H114*I114) | M114: =IF(L114="","",H114*L114) | O114: =IF(N114="","",H114*N114) | Q114: =IF(P114="","",H114*P114) | S114: =IF(R114="","",H114*R114) | U114: =IF(T114="","",H114*T114)
C115: 10 | J115: =IF(I115="","",H115*I115) | M115: =IF(L115="","",H115*L115) | O115: =IF(N115="","",H115*N115) | Q115: =IF(P115="","",H115*P115) | S115: =IF(R115="","",H115*R115) | U115: =IF(T115="","",H115*T115)
C116: Phase 5 Totals : | I116: =SUM(J106:J115) -> 0 | L116: =SUM(M106:M115) -> 0 | N116: =SUM(O106:O115) -> 0 | P116: =SUM(Q106:Q115) -> 0 | R116: =SUM(S106:S115) -> 0 | T116: =SUM(U106:U115) -> 0
C118: BID RESULTS | I118: Architect - Engineer Estimate | L118: =IF(L$13="","",L$13) -> Contractor 1 Bid | N118: =IF(N$13="","",N$13) -> Contractor 2 Bid | P118: =IF(P$13="","",P$13) -> Contractor 3 Bid | R118: =IF(R$13="","",R$13) -> Contractor 4 Bid | T118: =IF(T$13="","",T$13) -> Contractor 5 Bid
H119: Total Base Bid : | I119: =SUM(I116,I101,I81,I61,I36) -> 0 | L119: =SUM(L116,L101,L81,L61,L36) -> 0 | N119: =SUM(N116,N101,N81,N61,N36) -> 0 | P119: =SUM(P116,P101,P81,P61,P36) -> 0 | R119: =SUM(R116,R101,R81,R61,R36) -> 0 | T119: =SUM(T116,T101,T81,T61,T36) -> 0
E120: Tax Rate : | F120: 0 | H120: Tax : | I120: =IF($F$120="","",$F$120*I119) -> 0 | L120: =IF($F$120="","",$F$120*L119) -> 0 | N120: =IF($F$120="","",$F$120*N119) -> 0 | P120: =IF($F$120="","",$F$120*P119) -> 0 | R120: =IF($F$120="","",$F$120*R119) -> 0 | T120: =IF($F$120="","",$F$120*T119) -> 0
H121: Total Bid Amount : | I121: =SUM(I119:J120) -> 0 | L121: =SUM(L119:M120) -> 0 | N121: =SUM(N119:O120) -> 0 | P121: =SUM(P119:Q120) -> 0 | R121: =SUM(R119:S120) -> 0 | T121: =SUM(T119:U120) -> 0

Sheet Comparison 3
D2: CONTRACTOR BID COMPARISON
D3: COMPARISON 3
C7: Project Name | E7: =IF(Dashboard!M9="","",Dashboard!M9) -> Project Name 3
C8: Project No | E8: =IF(Dashboard!M10="","",Dashboard!M10) -> 10003
C9: Location | E9: =IF(Dashboard!M11="","",Dashboard!M11) -> Location 3 | S9: You can add Firm Logo
C10: Architect - Engineer | E10: =IF(Dashboard!M12="","",Dashboard!M12) -> Alan Smith
C11: Bid Date | E11: =IF(Dashboard!M13="","",Dashboard!M13) -> 45717
C13: Phase 1 Bid Quantities | I13: Architect - Engineer Estimate | L13: Contractor 1 Bid | N13: Contractor 2 Bid | P13: Contractor 3 Bid | R13: Contractor 4 Bid | T13: Contractor 5 Bid
C15: # | D15: Item - Description | G15: Unit | H15: Qty | I15: Unit Price | J15: Amount | L15: Unit Price | M15: Bid Amount | N15: Unit Price | O15: Bid Amount | P15: Unit Price | Q15: Bid Amount | R15: Unit Price | S15: Bid Amount | T15: Unit Price | U15: Bid Amount
C16: 1 | J16: =IF(I16="","",H16*I16) | M16: =IF(L16="","",H16*L16) | O16: =IF(N16="","",H16*N16) | Q16: =IF(P16="","",H16*P16) | S16: =IF(R16="","",H16*R16) | U16: =IF(T16="","",H16*T16)
C17: 2 | J17: =IF(I17="","",H17*I17) | M17: =IF(L17="","",H17*L17) | O17: =IF(N17="","",H17*N17) | Q17: =IF(P17="","",H17*P17) | S17: =IF(R17="","",H17*R17) | U17: =IF(T17="","",H17*T17)
C18: 3 | J18: =IF(I18="","",H18*I18) | M18: =IF(L18="","",H18*L18) | O18: =IF(N18="","",H18*N18) | Q18: =IF(P18="","",H18*P18) | S18: =IF(R18="","",H18*R18) | U18: =IF(T18="","",H18*T18)
C19: 4 | J19: =IF(I19="","",H19*I19) | M19: =IF(L19="","",H19*L19) | O19: =IF(N19="","",H19*N19) | Q19: =IF(P19="","",H19*P19) | S19: =IF(R19="","",H19*R19) | U19: =IF(T19="","",H19*T19)
C20: 5 | J20: =IF(I20="","",H20*I20) | M20: =IF(L20="","",H20*L20) | O20: =IF(N20="","",H20*N20) | Q20: =IF(P20="","",H20*P20) | S20: =IF(R20="","",H20*R20) | U20: =IF(T20="","",H20*T20)
C21: 6 | J21: =IF(I21="","",H21*I21) | M21: =IF(L21="","",H21*L21) | O21: =IF(N21="","",H21*N21) | Q21: =IF(P21="","",H21*P21) | S21: =IF(R21="","",H21*R21) | U21: =IF(T21="","",H21*T21)
C22: 7 | J22: =IF(I22="","",H22*I22) | M22: =IF(L22="","",H22*L22) | O22: =IF(N22="","",H22*N22) | Q22: =IF(P22="","",H22*P22) | S22: =IF(R22="","",H22*R22) | U22: =IF(T22="","",H22*T22)
C23: 8 | J23: =IF(I23="","",H23*I23) | M23: =IF(L23="","",H23*L23) | O23: =IF(N23="","",H23*N23) | Q23: =IF(P23="","",H23*P23) | S23: =IF(R23="","",H23*R23) | U23: =IF(T23="","",H23*T23)
C24: 9 | J24: =IF(I24="","",H24*I24) | M24: =IF(L24="","",H24*L24) | O24: =IF(N24="","",H24*N24) | Q24: =IF(P24="","",H24*P24) | S24: =IF(R24="","",H24*R24) | U24: =IF(T24="","",H24*T24)
C25: 10 | J25: =IF(I25="","",H25*I25) | M25: =IF(L25="","",H25*L25) | O25: =IF(N25="","",H25*N25) | Q25: =IF(P25="","",H25*P25) | S25: =IF(R25="","",H25*R25) | U25: =IF(T25="","",H25*T25)
C26: 11 | J26: =IF(I26="","",H26*I26) | M26: =IF(L26="","",H26*L26) | O26: =IF(N26="","",H26*N26) | Q26: =IF(P26="","",H26*P26) | S26: =IF(R26="","",H26*R26) | U26: =IF(T26="","",H26*T26)
C27: 12 | J27: =IF(I27="","",H27*I27) | M27: =IF(L27="","",H27*L27) | O27: =IF(N27="","",H27*N27) | Q27: =IF(P27="","",H27*P27) | S27: =IF(R27="","",H27*R27) | U27: =IF(T27="","",H27*T27)
... C35: 20 | J35: =IF(I35="","",H35*I35) | M35: =IF(L35="","",H35*L35) | O35: =IF(N35="","",H35*N35) | Q35: =IF(P35="","",H35*P35) | S35: =IF(R35="","",H35*R35) | U35: =IF(T35="","",H35*T35)
C36: Phase 1 Totals : | I36: =SUM(J16:J35) -> 0 | L36: =SUM(M16:M35) -> 0 | N36: =SUM(O16:O35) -> 0 | P36: =SUM(Q16:Q35) -> 0 | R36: =SUM(S16:S35) -> 0 | T36: =SUM(U16:U35) -> 0
C38: Phase 2 Bid Quantities | I38: Architect - Engineer Estimate | L38: =IF(L$13="","",L$13) -> Contractor 1 Bid | N38: =IF(N$13="","",N$13) -> Contractor 2 Bid | P38: =IF(P$13="","",P$13) -> Contractor 3 Bid | R38: =IF(R$13="","",R$13) -> Contractor 4 Bid | T38: =IF(T$13="","",T$13) -> Contractor 5 Bid
C40: # | D40: Item - Description | G40: Unit | H40: Qty | I40: Unit Price | J40: Amount | L40: Unit Price | M40: Bid Amount | N40: Unit Price | O40: Bid Amount | P40: Unit Price | Q40: Bid Amount | R40: Unit Price | S40: Bid Amount | T40: Unit Price | U40: Bid Amount
C41: 1 | J41: =IF(I41="","",H41*I41) | M41: =IF(L41="","",H41*L41) | O41: =IF(N41="","",H41*N41) | Q41: =IF(P41="","",H41*P41) | S41: =IF(R41="","",H41*R41) | U41: =IF(T41="","",H41*T41)
C42: 2 | J42: =IF(I42="","",H42*I42) | M42: =IF(L42="","",H42*L42) | O42: =IF(N42="","",H42*N42) | Q42: =IF(P42="","",H42*P42) | S42: =IF(R42="","",H42*R42) | U42: =IF(T42="","",H42*T42)
C43: 3 | J43: =IF(I43="","",H43*I43) | M43: =IF(L43="","",H43*L43) | O43: =IF(N43="","",H43*N43) | Q43: =IF(P43="","",H43*P43) | S43: =IF(R43="","",H43*R43) | U43: =IF(T43="","",H43*T43)
C44: 4 | J44: =IF(I44="","",H44*I44) | M44: =IF(L44="","",H44*L44) | O44: =IF(N44="","",H44*N44) | Q44: =IF(P44="","",H44*P44) | S44: =IF(R44="","",H44*R44) | U44: =IF(T44="","",H44*T44)
C45: 5 | J45: =IF(I45="","",H45*I45) | M45: =IF(L45="","",H45*L45) | O45: =IF(N45="","",H45*N45) | Q45: =IF(P45="","",H45*P45) | S45: =IF(R45="","",H45*R45) | U45: =IF(T45="","",H45*T45)
C46: 6 | J46: =IF(I46="","",H46*I46) | M46: =IF(L46="","",H46*L46) | O46: =IF(N46="","",H46*N46) | Q46: =IF(P46="","",H46*P46) | S46: =IF(R46="","",H46*R46) | U46: =IF(T46="","",H46*T46)
C47: 7 | J47: =IF(I47="","",H47*I47) | M47: =IF(L47="","",H47*L47) | O47: =IF(N47="","",H47*N47) | Q47: =IF(P47="","",H47*P47) | S47: =IF(R47="","",H47*R47) | U47: =IF(T47="","",H47*T47)
C48: 8 | J48: =IF(I48="","",H48*I48) | M48: =IF(L48="","",H48*L48) | O48: =IF(N48="","",H48*N48) | Q48: =IF(P48="","",H48*P48) | S48: =IF(R48="","",H48*R48) | U48: =IF(T48="","",H48*T48)
C49: 9 | J49: =IF(I49="","",H49*I49) | M49: =IF(L49="","",H49*L49) | O49: =IF(N49="","",H49*N49) | Q49: =IF(P49="","",H49*P49) | S49: =IF(R49="","",H49*R49) | U49: =IF(T49="","",H49*T49)
C50: 10 | J50: =IF(I50="","",H50*I50) | M50: =IF(L50="","",H50*L50) | O50: =IF(N50="","",H50*N50) | Q50: =IF(P50="","",H50*P50) | S50: =IF(R50="","",H50*R50) | U50: =IF(T50="","",H50*T50)
C51: 11 | J51: =IF(I51="","",H51*I51) | M51: =IF(L51="","",H51*L51) | O51: =IF(N51="","",H51*N51) | Q51: =IF(P51="","",H51*P51) | S51: =IF(R51="","",H51*R51) | U51: =IF(T51="","",H51*T51)
C52: 12 | J52: =IF(I52="","",H52*I52) | M52: =IF(L52="","",H52*L52) | O52: =IF(N52="","",H52*N52) | Q52: =IF(P52="","",H52*P52) | S52: =IF(R52="","",H52*R52) | U52: =IF(T52="","",H52*T52)
... C60: 20 | J60: =IF(I60="","",H60*I60) | M60: =IF(L60="","",H60*L60) | O60: =IF(N60="","",H60*N60) | Q60: =IF(P60="","",H60*P60) | S60: =IF(R60="","",H60*R60) | U60: =IF(T60="","",H60*T60)
C61: Phase 2 Totals : | I61: =SUM(J41:J60) -> 0 | L61: =SUM(M41:M60) -> 0 | N61: =SUM(O41:O60) -> 0 | P61: =SUM(Q41:Q60) -> 0 | R61: =SUM(S41:S60) -> 0 | T61: =SUM(U41:U60) -> 0
C63: Phase 3 Bid Quantities | I63: Architect - Engineer Estimate | L63: =IF(L$13="","",L$13) -> Contractor 1 Bid | N63: =IF(N$13="","",N$13) -> Contractor 2 Bid | P63: =IF(P$13="","",P$13) -> Contractor 3 Bid | R63: =IF(R$13="","",R$13) -> Contractor 4 Bid | T63: =IF(T$13="","",T$13) -> Contractor 5 Bid
C65: # | D65: Item - Description | G65: Unit | H65: Qty | I65: Unit Price | J65: Amount | L65: Unit Price | M65: Bid Amount | N65: Unit Price | O65: Bid Amount | P65: Unit Price | Q65: Bid Amount | R65: Unit Price | S65: Bid Amount | T65: Unit Price | U65: Bid Amount
C66: 1 | J66: =IF(I66="","",H66*I66) | M66: =IF(L66="","",H66*L66) | O66: =IF(N66="","",H66*N66) | Q66: =IF(P66="","",H66*P66) | S66: =IF(R66="","",H66*R66) | U66: =IF(T66="","",H66*T66)
C67: 2 | J67: =IF(I67="","",H67*I67) | M67: =IF(L67="","",H67*L67) | O67: =IF(N67="","",H67*N67) | Q67: =IF(P67="","",H67*P67) | S67: =IF(R67="","",H67*R67) | U67: =IF(T67="","",H67*T67)
C68: 3 | J68: =IF(I68="","",H68*I68) | M68: =IF(L68="","",H68*L68) | O68: =IF(N68="","",H68*N68) | Q68: =IF(P68="","",H68*P68) | S68: =IF(R68="","",H68*R68) | U68: =IF(T68="","",H68*T68)
C69: 4 | J69: =IF(I69="","",H69*I69) | M69: =IF(L69="","",H69*L69) | O69: =IF(N69="","",H69*N69) | Q69: =IF(P69="","",H69*P69) | S69: =IF(R69="","",H69*R69) | U69: =IF(T69="","",H69*T69)
C70: 5 | J70: =IF(I70="","",H70*I70) | M70: =IF(L70="","",H70*L70) | O70: =IF(N70="","",H70*N70) | Q70: =IF(P70="","",H70*P70) | S70: =IF(R70="","",H70*R70) | U70: =IF(T70="","",H70*T70)
C71: 6 | J71: =IF(I71="","",H71*I71) | M71: =IF(L71="","",H71*L71) | O71: =IF(N71="","",H71*N71) | Q71: =IF(P71="","",H71*P71) | S71: =IF(R71="","",H71*R71) | U71: =IF(T71="","",H71*T71)
C72: 7 | J72: =IF(I72="","",H72*I72) | M72: =IF(L72="","",H72*L72) | O72: =IF(N72="","",H72*N72) | Q72: =IF(P72="","",H72*P72) | S72: =IF(R72="","",H72*R72) | U72: =IF(T72="","",H72*T72)
C73: 8 | J73: =IF(I73="","",H73*I73) | M73: =IF(L73="","",H73*L73) | O73: =IF(N73="","",H73*N73) | Q73: =IF(P73="","",H73*P73) | S73: =IF(R73="","",H73*R73) | U73: =IF(T73="","",H73*T73)
C74: 9 | J74: =IF(I74="","",H74*I74) | M74: =IF(L74="","",H74*L74) | O74: =IF(N74="","",H74*N74) | Q74: =IF(P74="","",H74*P74) | S74: =IF(R74="","",H74*R74) | U74: =IF(T74="","",H74*T74)
C75: 10 | J75: =IF(I75="","",H75*I75) | M75: =IF(L75="","",H75*L75) | O75: =IF(N75="","",H75*N75) | Q75: =IF(P75="","",H75*P75) | S75: =IF(R75="","",H75*R75) | U75: =IF(T75="","",H75*T75)
C76: 11 | J76: =IF(I76="","",H76*I76) | M76: =IF(L76="","",H76*L76) | O76: =IF(N76="","",H76*N76) | Q76: =IF(P76="","",H76*P76) | S76: =IF(R76="","",H76*R76) | U76: =IF(T76="","",H76*T76)
C77: 12 | J77: =IF(I77="","",H77*I77) | M77: =IF(L77="","",H77*L77) | O77: =IF(N77="","",H77*N77) | Q77: =IF(P77="","",H77*P77) | S77: =IF(R77="","",H77*R77) | U77: =IF(T77="","",H77*T77)
... C80: 15 | J80: =IF(I80="","",H80*I80) | M80: =IF(L80="","",H80*L80) | O80: =IF(N80="","",H80*N80) | Q80: =IF(P80="","",H80*P80) | S80: =IF(R80="","",H80*R80) | U80: =IF(T80="","",H80*T80)
C81: Phase 3 Totals : | I81: =SUM(J66:J80) -> 0 | L81: =SUM(M66:M80) -> 0 | N81: =SUM(O66:O80) -> 0 | P81: =SUM(Q66:Q80) -> 0 | R81: =SUM(S66:S80) -> 0 | T81: =SUM(U66:U80) -> 0
C83: Phase 4 Bid Quantities | I83: Architect - Engineer Estimate | L83: =IF(L$13="","",L$13) -> Contractor 1 Bid | N83: =IF(N$13="","",N$13) -> Contractor 2 Bid | P83: =IF(P$13="","",P$13) -> Contractor 3 Bid | R83: =IF(R$13="","",R$13) -> Contractor 4 Bid | T83: =IF(T$13="","",T$13) -> Contractor 5 Bid
C85: # | D85: Item - Description | G85: Unit | H85: Qty | I85: Unit Price | J85: Amount | L85: Unit Price | M85: Bid Amount | N85: Unit Price | O85: Bid Amount | P85: Unit Price | Q85: Bid Amount | R85: Unit Price | S85: Bid Amount | T85: Unit Price | U85: Bid Amount
C86: 1 | J86: =IF(I86="","",H86*I86) | M86: =IF(L86="","",H86*L86) | O86: =IF(N86="","",H86*N86) | Q86: =IF(P86="","",H86*P86) | S86: =IF(R86="","",H86*R86) | U86: =IF(T86="","",H86*T86)
C87: 2 | J87: =IF(I87="","",H87*I87) | M87: =IF(L87="","",H87*L87) | O87: =IF(N87="","",H87*N87) | Q87: =IF(P87="","",H87*P87) | S87: =IF(R87="","",H87*R87) | U87: =IF(T87="","",H87*T87)
C88: 3 | J88: =IF(I88="","",H88*I88) | M88: =IF(L88="","",H88*L88) | O88: =IF(N88="","",H88*N88) | Q88: =IF(P88="","",H88*P88) | S88: =IF(R88="","",H88*R88) | U88: =IF(T88="","",H88*T88)
C89: 4 | J89: =IF(I89="","",H89*I89) | M89: =IF(L89="","",H89*L89) | O89: =IF(N89="","",H89*N89) | Q89: =IF(P89="","",H89*P89) | S89: =IF(R89="","",H89*R89) | U89: =IF(T89="","",H89*T89)
C90: 5 | J90: =IF(I90="","",H90*I90) | M90: =IF(L90="","",H90*L90) | O90: =IF(N90="","",H90*N90) | Q90: =IF(P90="","",H90*P90) | S90: =IF(R90="","",H90*R90) | U90: =IF(T90="","",H90*T90)
C91: 6 | J91: =IF(I91="","",H91*I91) | M91: =IF(L91="","",H91*L91) | O91: =IF(N91="","",H91*N91) | Q91: =IF(P91="","",H91*P91) | S91: =IF(R91="","",H91*R91) | U91: =IF(T91="","",H91*T91)
C92: 7 | J92: =IF(I92="","",H92*I92) | M92: =IF(L92="","",H92*L92) | O92: =IF(N92="","",H92*N92) | Q92: =IF(P92="","",H92*P92) | S92: =IF(R92="","",H92*R92) | U92: =IF(T92="","",H92*T92)
C93: 8 | J93: =IF(I93="","",H93*I93) | M93: =IF(L93="","",H93*L93) | O93: =IF(N93="","",H93*N93) | Q93: =IF(P93="","",H93*P93) | S93: =IF(R93="","",H93*R93) | U93: =IF(T93="","",H93*T93)
C94: 9 | J94: =IF(I94="","",H94*I94) | M94: =IF(L94="","",H94*L94) | O94: =IF(N94="","",H94*N94) | Q94: =IF(P94="","",H94*P94) | S94: =IF(R94="","",H94*R94) | U94: =IF(T94="","",H94*T94)
C95: 10 | J95: =IF(I95="","",H95*I95) | M95: =IF(L95="","",H95*L95) | O95: =IF(N95="","",H95*N95) | Q95: =IF(P95="","",H95*P95) | S95: =IF(R95="","",H95*R95) | U95: =IF(T95="","",H95*T95)
C96: 11 | J96: =IF(I96="","",H96*I96) | M96: =IF(L96="","",H96*L96) | O96: =IF(N96="","",H96*N96) | Q96: =IF(P96="","",H96*P96) | S96: =IF(R96="","",H96*R96) | U96: =IF(T96="","",H96*T96)
C97: 12 | J97: =IF(I97="","",H97*I97) | M97: =IF(L97="","",H97*L97) | O97: =IF(N97="","",H97*N97) | Q97: =IF(P97="","",H97*P97) | S97: =IF(R97="","",H97*R97) | U97: =IF(T97="","",H97*T97)
... C100: 15 | J100: =IF(I100="","",H100*I100) | M100: =IF(L100="","",H100*L100) | O100: =IF(N100="","",H100*N100) | Q100: =IF(P100="","",H100*P100) | S100: =IF(R100="","",H100*R100) | U100: =IF(T100="","",H100*T100)
C101: Phase 4 Totals : | I101: =SUM(J86:J100) -> 0 | L101: =SUM(M86:M100) -> 0 | N101: =SUM(O86:O100) -> 0 | P101: =SUM(Q86:Q100) -> 0 | R101: =SUM(S86:S100) -> 0 | T101: =SUM(U86:U100) -> 0
C103: Phase 5 Bid Quantities | I103: Architect - Engineer Estimate | L103: =IF(L$13="","",L$13) -> Contractor 1 Bid | N103: =IF(N$13="","",N$13) -> Contractor 2 Bid | P103: =IF(P$13="","",P$13) -> Contractor 3 Bid | R103: =IF(R$13="","",R$13) -> Contractor 4 Bid | T103: =IF(T$13="","",T$13) -> Contractor 5 Bid
C105: # | D105: Item - Description | G105: Unit | H105: Qty | I105: Unit Price | J105: Amount | L105: Unit Price | M105: Bid Amount | N105: Unit Price | O105: Bid Amount | P105: Unit Price | Q105: Bid Amount | R105: Unit Price | S105: Bid Amount | T105: Unit Price | U105: Bid Amount
C106: 1 | J106: =IF(I106="","",H106*I106) | M106: =IF(L106="","",H106*L106) | O106: =IF(N106="","",H106*N106) | Q106: =IF(P106="","",H106*P106) | S106: =IF(R106="","",H106*R106) | U106: =IF(T106="","",H106*T106)
C107: 2 | J107: =IF(I107="","",H107*I107) | M107: =IF(L107="","",H107*L107) | O107: =IF(N107="","",H107*N107) | Q107: =IF(P107="","",H107*P107) | S107: =IF(R107="","",H107*R107) | U107: =IF(T107="","",H107*T107)
C108: 3 | J108: =IF(I108="","",H108*I108) | M108: =IF(L108="","",H108*L108) | O108: =IF(N108="","",H108*N108) | Q108: =IF(P108="","",H108*P108) | S108: =IF(R108="","",H108*R108) | U108: =IF(T108="","",H108*T108)
C109: 4 | J109: =IF(I109="","",H109*I109) | M109: =IF(L109="","",H109*L109) | O109: =IF(N109="","",H109*N109) | Q109: =IF(P109="","",H109*P109) | S109: =IF(R109="","",H109*R109) | U109: =IF(T109="","",H109*T109)
C110: 5 | J110: =IF(I110="","",H110*I110) | M110: =IF(L110="","",H110*L110) | O110: =IF(N110="","",H110*N110) | Q110: =IF(P110="","",H110*P110) | S110: =IF(R110="","",H110*R110) | U110: =IF(T110="","",H110*T110)
C111: 6 | J111: =IF(I111="","",H111*I111) | M111: =IF(L111="","",H111*L111) | O111: =IF(N111="","",H111*N111) | Q111: =IF(P111="","",H111*P111) | S111: =IF(R111="","",H111*R111) | U111: =IF(T111="","",H111*T111)
C112: 7 | J112: =IF(I112="","",H112*I112) | M112: =IF(L112="","",H112*L112) | O112: =IF(N112="","",H112*N112) | Q112: =IF(P112="","",H112*P112) | S112: =IF(R112="","",H112*R112) | U112: =IF(T112="","",H112*T112)
C113: 8 | J113: =IF(I113="","",H113*I113) | M113: =IF(L113="","",H113*L113) | O113: =IF(N113="","",H113*N113) | Q113: =IF(P113="","",H113*P113) | S113: =IF(R113="","",H113*R113) | U113: =IF(T113="","",H113*T113)
C114: 9 | J114: =IF(I114="","",H114*I114) | M114: =IF(L114="","",H114*L114) | O114: =IF(N114="","",H114*N114) | Q114: =IF(P114="","",H114*P114) | S114: =IF(R114="","",H114*R114) | U114: =IF(T114="","",H114*T114)
C115: 10 | J115: =IF(I115="","",H115*I115) | M115: =IF(L115="","",H115*L115) | O115: =IF(N115="","",H115*N115) | Q115: =IF(P115="","",H115*P115) | S115: =IF(R115="","",H115*R115) | U115: =IF(T115="","",H115*T115)
C116: Phase 5 Totals : | I116: =SUM(J106:J115) -> 0 | L116: =SUM(M106:M115) -> 0 | N116: =SUM(O106:O115) -> 0 | P116: =SUM(Q106:Q115) -> 0 | R116: =SUM(S106:S115) -> 0 | T116: =SUM(U106:U115) -> 0
C118: BID RESULTS | I118: Architect - Engineer Estimate | L118: =IF(L$13="","",L$13) -> Contractor 1 Bid | N118: =IF(N$13="","",N$13) -> Contractor 2 Bid | P118: =IF(P$13="","",P$13) -> Contractor 3 Bid | R118: =IF(R$13="","",R$13) -> Contractor 4 Bid | T118: =IF(T$13="","",T$13) -> Contractor 5 Bid
H119: Total Base Bid : | I119: =SUM(I116,I101,I81,I61,I36) -> 0 | L119: =SUM(L116,L101,L81,L61,L36) -> 0 | N119: =SUM(N116,N101,N81,N61,N36) -> 0 | P119: =SUM(P116,P101,P81,P61,P36) -> 0 | R119: =SUM(R116,R101,R81,R61,R36) -> 0 | T119: =SUM(T116,T101,T81,T61,T36) -> 0
E120: Tax Rate : | F120: 0.1 | H120: Tax : | I120: =IF($F$120="","",$F$120*I119) -> 0 | L120: =IF($F$120="","",$F$120*L119) -> 0 | N120: =IF($F$120="","",$F$120*N119) -> 0 | P120: =IF($F$120="","",$F$120*P119) -> 0 | R120: =IF($F$120="","",$F$120*R119) -> 0 | T120: =IF($F$120="","",$F$120*T119) -> 0
H121: Total Bid Amount : | I121: =SUM(I119:J120) -> 0 | L121: =SUM(L119:M120) -> 0 | N121: =SUM(N119:O120) -> 0 | P121: =SUM(P119:Q120) -> 0 | R121: =SUM(R119:S120) -> 0 | T121: =SUM(T119:U120) -> 0

Sheet Comparison 4
D2: CONTRACTOR BID COMPARISON
D3: COMPARISON 4
C7: Project Name | E7: =IF(Dashboard!E18="","",Dashboard!E18)
C8: Project No | E8: =IF(Dashboard!E19="","",Dashboard!E19)
C9: Location | E9: =IF(Dashboard!E20="","",Dashboard!E20) | S9: You can add Firm Logo
C10: Architect - Engineer | E10: =IF(Dashboard!E21="","",Dashboard!E21)
C11: Bid Date | E11: =IF(Dashboard!E22="","",Dashboard!E22)
C13: Phase 1 Bid Quantities | I13: Architect - Engineer Estimate | L13: Contractor 1 Bid | N13: Contractor 2 Bid | P13: Contractor 3 Bid | R13: Contractor 4 Bid | T13: Contractor 5 Bid
C15: # | D15: Item - Description | G15: Unit | H15: Qty | I15: Unit Price | J15: Amount | L15: Unit Price | M15: Bid Amount | N15: Unit Price | O15: Bid Amount | P15: Unit Price | Q15: Bid Amount | R15: Unit Price | S15: Bid Amount | T15: Unit Price | U15: Bid Amount
C16: 1 | D16: Item - Description 1 | J16: =IF(I16="","",H16*I16) | M16: =IF(L16="","",H16*L16) | O16: =IF(N16="","",H16*N16) | Q16: =IF(P16="","",H16*P16) | S16: =IF(R16="","",H16*R16) | U16: =IF(T16="","",H16*T16)
C17: 2 | D17: Item - Description 2 | J17: =IF(I17="","",H17*I17) | M17: =IF(L17="","",H17*L17) | O17: =IF(N17="","",H17*N17) | Q17: =IF(P17="","",H17*P17) | S17: =IF(R17="","",H17*R17) | U17: =IF(T17="","",H17*T17)
C18: 3 | D18: Item - Description 3 | J18: =IF(I18="","",H18*I18) | M18: =IF(L18="","",H18*L18) | O18: =IF(N18="","",H18*N18) | Q18: =IF(P18="","",H18*P18) | S18: =IF(R18="","",H18*R18) | U18: =IF(T18="","",H18*T18)
C19: 4 | D19: Item - Description 4 | J19: =IF(I19="","",H19*I19) | M19: =IF(L19="","",H19*L19) | O19: =IF(N19="","",H19*N19) | Q19: =IF(P19="","",H19*P19) | S19: =IF(R19="","",H19*R19) | U19: =IF(T19="","",H19*T19)
C20: 5 | D20: Item - Description 5 | J20: =IF(I20="","",H20*I20) | M20: =IF(L20="","",H20*L20) | O20: =IF(N20="","",H20*N20) | Q20: =IF(P20="","",H20*P20) | S20: =IF(R20="","",H20*R20) | U20: =IF(T20="","",H20*T20)
C21: 6 | D21: Item - Description 6 | J21: =IF(I21="","",H21*I21) | M21: =IF(L21="","",H21*L21) | O21: =IF(N21="","",H21*N21) | Q21: =IF(P21="","",H21*P21) | S21: =IF(R21="","",H21*R21) | U21: =IF(T21="","",H21*T21)
C22: 7 | D22: Item - Description 7 | J22: =IF(I22="","",H22*I22) | M22: =IF(L22="","",H22*L22) | O22: =IF(N22="","",H22*N22) | Q22: =IF(P22="","",H22*P22) | S22: =IF(R22="","",H22*R22) | U22: =IF(T22="","",H22*T22)
C23: 8 | D23: Item - Description 8 | J23: =IF(I23="","",H23*I23) | M23: =IF(L23="","",H23*L23) | O23: =IF(N23="","",H23*N23) | Q23: =IF(P23="","",H23*P23) | S23: =IF(R23="","",H23*R23) | U23: =IF(T23="","",H23*T23)
C24: 9 | D24: Item - Description 9 | J24: =IF(I24="","",H24*I24) | M24: =IF(L24="","",H24*L24) | O24: =IF(N24="","",H24*N24) | Q24: =IF(P24="","",H24*P24) | S24: =IF(R24="","",H24*R24) | U24: =IF(T24="","",H24*T24)
C25: 10 | D25: Item - Description 10 | J25: =IF(I25="","",H25*I25) | M25: =IF(L25="","",H25*L25) | O25: =IF(N25="","",H25*N25) | Q25: =IF(P25="","",H25*P25) | S25: =IF(R25="","",H25*R25) | U25: =IF(T25="","",H25*T25)
C26: 11 | D26: Item - Description 11 | J26: =IF(I26="","",H26*I26) | M26: =IF(L26="","",H26*L26) | O26: =IF(N26="","",H26*N26) | Q26: =IF(P26="","",H26*P26) | S26: =IF(R26="","",H26*R26) | U26: =IF(T26="","",H26*T26)
C27: 12 | D27: Item - Description 12 | J27: =IF(I27="","",H27*I27) | M27: =IF(L27="","",H27*L27) | O27: =IF(N27="","",H27*N27) | Q27: =IF(P27="","",H27*P27) | S27: =IF(R27="","",H27*R27) | U27: =IF(T27="","",H27*T27)
... C35: 20 | D35: Item - Description 20 | J35: =IF(I35="","",H35*I35) | M35: =IF(L35="","",H35*L35) | O35: =IF(N35="","",H35*N35) | Q35: =IF(P35="","",H35*P35) | S35: =IF(R35="","",H35*R35) | U35: =IF(T35="","",H35*T35)
C36: Phase 1 Totals : | I36: =SUM(J16:J35) -> 0 | L36: =SUM(M16:M35) -> 0 | N36: =SUM(O16:O35) -> 0 | P36: =SUM(Q16:Q35) -> 0 | R36: =SUM(S16:S35) -> 0 | T36: =SUM(U16:U35) -> 0
C38: Phase 2 Bid Quantities | I38: Architect - Engineer Estimate | L38: =IF(L$13="","",L$13) -> Contractor 1 Bid | N38: =IF(N$13="","",N$13) -> Contractor 2 Bid | P38: =IF(P$13="","",P$13) -> Contractor 3 Bid | R38: =IF(R$13="","",R$13) -> Contractor 4 Bid | T38: =IF(T$13="","",T$13) -> Contractor 5 Bid
C40: # | D40: Item - Description | G40: Unit | H40: Qty | I40: Unit Price | J40: Amount | L40: Unit Price | M40: Bid Amount | N40: Unit Price | O40: Bid Amount | P40: Unit Price | Q40: Bid Amount | R40: Unit Price | S40: Bid Amount | T40: Unit Price | U40: Bid Amount
C41: 1 | D41: Item - Description 1 | J41: =IF(I41="","",H41*I41) | M41: =IF(L41="","",H41*L41) | O41: =IF(N41="","",H41*N41) | Q41: =IF(P41="","",H41*P41) | S41: =IF(R41="","",H41*R41) | U41: =IF(T41="","",H41*T41)
C42: 2 | D42: Item - Description 2 | J42: =IF(I42="","",H42*I42) | M42: =IF(L42="","",H42*L42) | O42: =IF(N42="","",H42*N42) | Q42: =IF(P42="","",H42*P42) | S42: =IF(R42="","",H42*R42) | U42: =IF(T42="","",H42*T42)
C43: 3 | D43: Item - Description 3 | J43: =IF(I43="","",H43*I43) | M43: =IF(L43="","",H43*L43) | O43: =IF(N43="","",H43*N43) | Q43: =IF(P43="","",H43*P43) | S43: =IF(R43="","",H43*R43) | U43: =IF(T43="","",H43*T43)
C44: 4 | D44: Item - Description 4 | J44: =IF(I44="","",H44*I44) | M44: =IF(L44="","",H44*L44) | O44: =IF(N44="","",H44*N44) | Q44: =IF(P44="","",H44*P44) | S44: =IF(R44="","",H44*R44) | U44: =IF(T44="","",H44*T44)
C45: 5 | D45: Item - Description 5 | J45: =IF(I45="","",H45*I45) | M45: =IF(L45="","",H45*L45) | O45: =IF(N45="","",H45*N45) | Q45: =IF(P45="","",H45*P45) | S45: =IF(R45="","",H45*R45) | U45: =IF(T45="","",H45*T45)
C46: 6 | D46: Item - Description 6 | J46: =IF(I46="","",H46*I46) | M46: =IF(L46="","",H46*L46) | O46: =IF(N46="","",H46*N46) | Q46: =IF(P46="","",H46*P46) | S46: =IF(R46="","",H46*R46) | U46: =IF(T46="","",H46*T46)
C47: 7 | D47: Item - Description 7 | J47: =IF(I47="","",H47*I47) | M47: =IF(L47="","",H47*L47) | O47: =IF(N47="","",H47*N47) | Q47: =IF(P47="","",H47*P47) | S47: =IF(R47="","",H47*R47) | U47: =IF(T47="","",H47*T47)
C48: 8 | D48: Item - Description 8 | J48: =IF(I48="","",H48*I48) | M48: =IF(L48="","",H48*L48) | O48: =IF(N48="","",H48*N48) | Q48: =IF(P48="","",H48*P48) | S48: =IF(R48="","",H48*R48) | U48: =IF(T48="","",H48*T48)
C49: 9 | D49: Item - Description 9 | J49: =IF(I49="","",H49*I49) | M49: =IF(L49="","",H49*L49) | O49: =IF(N49="","",H49*N49) | Q49: =IF(P49="","",H49*P49) | S49: =IF(R49="","",H49*R49) | U49: =IF(T49="","",H49*T49)
C50: 10 | D50: Item - Description 10 | J50: =IF(I50="","",H50*I50) | M50: =IF(L50="","",H50*L50) | O50: =IF(N50="","",H50*N50) | Q50: =IF(P50="","",H50*P50) | S50: =IF(R50="","",H50*R50) | U50: =IF(T50="","",H50*T50)
C51: 11 | D51: Item - Description 11 | J51: =IF(I51="","",H51*I51) | M51: =IF(L51="","",H51*L51) | O51: =IF(N51="","",H51*N51) | Q51: =IF(P51="","",H51*P51) | S51: =IF(R51="","",H51*R51) | U51: =IF(T51="","",H51*T51)
C52: 12 | D52: Item - Description 12 | J52: =IF(I52="","",H52*I52) | M52: =IF(L52="","",H52*L52) | O52: =IF(N52="","",H52*N52) | Q52: =IF(P52="","",H52*P52) | S52: =IF(R52="","",H52*R52) | U52: =IF(T52="","",H52*T52)
... C60: 20 | D60: Item - Description 20 | J60: =IF(I60="","",H60*I60) | M60: =IF(L60="","",H60*L60) | O60: =IF(N60="","",H60*N60) | Q60: =IF(P60="","",H60*P60) | S60: =IF(R60="","",H60*R60) | U60: =IF(T60="","",H60*T60)
C61: Phase 2 Totals : | I61: =SUM(J41:J60) -> 0 | L61: =SUM(M41:M60) -> 0 | N61: =SUM(O41:O60) -> 0 | P61: =SUM(Q41:Q60) -> 0 | R61: =SUM(S41:S60) -> 0 | T61: =SUM(U41:U60) -> 0
C63: Phase 3 Bid Quantities | I63: Architect - Engineer Estimate | L63: =IF(L$13="","",L$13) -> Contractor 1 Bid | N63: =IF(N$13="","",N$13) -> Contractor 2 Bid | P63: =IF(P$13="","",P$13) -> Contractor 3 Bid | R63: =IF(R$13="","",R$13) -> Contractor 4 Bid | T63: =IF(T$13="","",T$13) -> Contractor 5 Bid
C65: # | D65: Item - Description | G65: Unit | H65: Qty | I65: Unit Price | J65: Amount | L65: Unit Price | M65: Bid Amount | N65: Unit Price | O65: Bid Amount | P65: Unit Price | Q65: Bid Amount | R65: Unit Price | S65: Bid Amount | T65: Unit Price | U65: Bid Amount
C66: 1 | D66: Item - Description 1 | J66: =IF(I66="","",H66*I66) | M66: =IF(L66="","",H66*L66) | O66: =IF(N66="","",H66*N66) | Q66: =IF(P66="","",H66*P66) | S66: =IF(R66="","",H66*R66) | U66: =IF(T66="","",H66*T66)
C67: 2 | D67: Item - Description 2 | J67: =IF(I67="","",H67*I67) | M67: =IF(L67="","",H67*L67) | O67: =IF(N67="","",H67*N67) | Q67: =IF(P67="","",H67*P67) | S67: =IF(R67="","",H67*R67) | U67: =IF(T67="","",H67*T67)
C68: 3 | D68: Item - Description 3 | J68: =IF(I68="","",H68*I68) | M68: =IF(L68="","",H68*L68) | O68: =IF(N68="","",H68*N68) | Q68: =IF(P68="","",H68*P68) | S68: =IF(R68="","",H68*R68) | U68: =IF(T68="","",H68*T68)
C69: 4 | D69: Item - Description 4 | J69: =IF(I69="","",H69*I69) | M69: =IF(L69="","",H69*L69) | O69: =IF(N69="","",H69*N69) | Q69: =IF(P69="","",H69*P69) | S69: =IF(R69="","",H69*R69) | U69: =IF(T69="","",H69*T69)
C70: 5 | D70: Item - Description 5 | J70: =IF(I70="","",H70*I70) | M70: =IF(L70="","",H70*L70) | O70: =IF(N70="","",H70*N70) | Q70: =IF(P70="","",H70*P70) | S70: =IF(R70="","",H70*R70) | U70: =IF(T70="","",H70*T70)
C71: 6 | D71: Item - Description 6 | J71: =IF(I71="","",H71*I71) | M71: =IF(L71="","",H71*L71) | O71: =IF(N71="","",H71*N71) | Q71: =IF(P71="","",H71*P71) | S71: =IF(R71="","",H71*R71) | U71: =IF(T71="","",H71*T71)
C72: 7 | D72: Item - Description 7 | J72: =IF(I72="","",H72*I72) | M72: =IF(L72="","",H72*L72) | O72: =IF(N72="","",H72*N72) | Q72: =IF(P72="","",H72*P72) | S72: =IF(R72="","",H72*R72) | U72: =IF(T72="","",H72*T72)
C73: 8 | D73: Item - Description 8 | J73: =IF(I73="","",H73*I73) | M73: =IF(L73="","",H73*L73) | O73: =IF(N73="","",H73*N73) | Q73: =IF(P73="","",H73*P73) | S73: =IF(R73="","",H73*R73) | U73: =IF(T73="","",H73*T73)
C74: 9 | D74: Item - Description 9 | J74: =IF(I74="","",H74*I74) | M74: =IF(L74="","",H74*L74) | O74: =IF(N74="","",H74*N74) | Q74: =IF(P74="","",H74*P74) | S74: =IF(R74="","",H74*R74) | U74: =IF(T74="","",H74*T74)
C75: 10 | D75: Item - Description 10 | J75: =IF(I75="","",H75*I75) | M75: =IF(L75="","",H75*L75) | O75: =IF(N75="","",H75*N75) | Q75: =IF(P75="","",H75*P75) | S75: =IF(R75="","",H75*R75) | U75: =IF(T75="","",H75*T75)
C76: 11 | D76: Item - Description 11 | J76: =IF(I76="","",H76*I76) | M76: =IF(L76="","",H76*L76) | O76: =IF(N76="","",H76*N76) | Q76: =IF(P76="","",H76*P76) | S76: =IF(R76="","",H76*R76) | U76: =IF(T76="","",H76*T76)
C77: 12 | D77: Item - Description 12 | J77: =IF(I77="","",H77*I77) | M77: =IF(L77="","",H77*L77) | O77: =IF(N77="","",H77*N77) | Q77: =IF(P77="","",H77*P77) | S77: =IF(R77="","",H77*R77) | U77: =IF(T77="","",H77*T77)
... C80: 15 | D80: Item - Description 15 | J80: =IF(I80="","",H80*I80) | M80: =IF(L80="","",H80*L80) | O80: =IF(N80="","",H80*N80) | Q80: =IF(P80="","",H80*P80) | S80: =IF(R80="","",H80*R80) | U80: =IF(T80="","",H80*T80)
C81: Phase 3 Totals : | I81: =SUM(J66:J80) -> 0 | L81: =SUM(M66:M80) -> 0 | N81: =SUM(O66:O80) -> 0 | P81: =SUM(Q66:Q80) -> 0 | R81: =SUM(S66:S80) -> 0 | T81: =SUM(U66:U80) -> 0
C83: Phase 4 Bid Quantities | I83: Architect - Engineer Estimate | L83: =IF(L$13="","",L$13) -> Contractor 1 Bid | N83: =IF(N$13="","",N$13) -> Contractor 2 Bid | P83: =IF(P$13="","",P$13) -> Contractor 3 Bid | R83: =IF(R$13="","",R$13) -> Contractor 4 Bid | T83: =IF(T$13="","",T$13) -> Contractor 5 Bid
C85: # | D85: Item - Description | G85: Unit | H85: Qty | I85: Unit Price | J85: Amount | L85: Unit Price | M85: Bid Amount | N85: Unit Price | O85: Bid Amount | P85: Unit Price | Q85: Bid Amount | R85: Unit Price | S85: Bid Amount | T85: Unit Price | U85: Bid Amount
C86: 1 | D86: Item - Description 1 | J86: =IF(I86="","",H86*I86) | M86: =IF(L86="","",H86*L86) | O86: =IF(N86="","",H86*N86) | Q86: =IF(P86="","",H86*P86) | S86: =IF(R86="","",H86*R86) | U86: =IF(T86="","",H86*T86)
C87: 2 | D87: Item - Description 2 | J87: =IF(I87="","",H87*I87) | M87: =IF(L87="","",H87*L87) | O87: =IF(N87="","",H87*N87) | Q87: =IF(P87="","",H87*P87) | S87: =IF(R87="","",H87*R87) | U87: =IF(T87="","",H87*T87)
C88: 3 | D88: Item - Description 3 | J88: =IF(I88="","",H88*I88) | M88: =IF(L88="","",H88*L88) | O88: =IF(N88="","",H88*N88) | Q88: =IF(P88="","",H88*P88) | S88: =IF(R88="","",H88*R88) | U88: =IF(T88="","",H88*T88)
C89: 4 | D89: Item - Description 4 | J89: =IF(I89="","",H89*I89) | M89: =IF(L89="","",H89*L89) | O89: =IF(N89="","",H89*N89) | Q89: =IF(P89="","",H89*P89) | S89: =IF(R89="","",H89*R89) | U89: =IF(T89="","",H89*T89)
C90: 5 | D90: Item - Description 5 | J90: =IF(I90="","",H90*I90) | M90: =IF(L90="","",H90*L90) | O90: =IF(N90="","",H90*N90) | Q90: =IF(P90="","",H90*P90) | S90: =IF(R90="","",H90*R90) | U90: =IF(T90="","",H90*T90)
C91: 6 | D91: Item - Description 6 | J91: =IF(I91="","",H91*I91) | M91: =IF(L91="","",H91*L91) | O91: =IF(N91="","",H91*N91) | Q91: =IF(P91="","",H91*P91) | S91: =IF(R91="","",H91*R91) | U91: =IF(T91="","",H91*T91)
C92: 7 | D92: Item - Description 7 | J92: =IF(I92="","",H92*I92) | M92: =IF(L92="","",H92*L92) | O92: =IF(N92="","",H92*N92) | Q92: =IF(P92="","",H92*P92) | S92: =IF(R92="","",H92*R92) | U92: =IF(T92="","",H92*T92)
C93: 8 | D93: Item - Description 8 | J93: =IF(I93="","",H93*I93) | M93: =IF(L93="","",H93*L93) | O93: =IF(N93="","",H93*N93) | Q93: =IF(P93="","",H93*P93) | S93: =IF(R93="","",H93*R93) | U93: =IF(T93="","",H93*T93)
C94: 9 | D94: Item - Description 9 | J94: =IF(I94="","",H94*I94) | M94: =IF(L94="","",H94*L94) | O94: =IF(N94="","",H94*N94) | Q94: =IF(P94="","",H94*P94) | S94: =IF(R94="","",H94*R94) | U94: =IF(T94="","",H94*T94)
C95: 10 | D95: Item - Description 10 | J95: =IF(I95="","",H95*I95) | M95: =IF(L95="","",H95*L95) | O95: =IF(N95="","",H95*N95) | Q95: =IF(P95="","",H95*P95) | S95: =IF(R95="","",H95*R95) | U95: =IF(T95="","",H95*T95)
C96: 11 | D96: Item - Description 11 | J96: =IF(I96="","",H96*I96) | M96: =IF(L96="","",H96*L96) | O96: =IF(N96="","",H96*N96) | Q96: =IF(P96="","",H96*P96) | S96: =IF(R96="","",H96*R96) | U96: =IF(T96="","",H96*T96)
C97: 12 | D97: Item - Description 12 | J97: =IF(I97="","",H97*I97) | M97: =IF(L97="","",H97*L97) | O97: =IF(N97="","",H97*N97) | Q97: =IF(P97="","",H97*P97) | S97: =IF(R97="","",H97*R97) | U97: =IF(T97="","",H97*T97)
... C100: 15 | D100: Item - Description 15 | J100: =IF(I100="","",H100*I100) | M100: =IF(L100="","",H100*L100) | O100: =IF(N100="","",H100*N100) | Q100: =IF(P100="","",H100*P100) | S100: =IF(R100="","",H100*R100) | U100: =IF(T100="","",H100*T100)
C101: Phase 4 Totals : | I101: =SUM(J86:J100) -> 0 | L101: =SUM(M86:M100) -> 0 | N101: =SUM(O86:O100) -> 0 | P101: =SUM(Q86:Q100) -> 0 | R101: =SUM(S86:S100) -> 0 | T101: =SUM(U86:U100) -> 0
C103: Phase 5 Bid Quantities | I103: Architect - Engineer Estimate | L103: =IF(L$13="","",L$13) -> Contractor 1 Bid | N103: =IF(N$13="","",N$13) -> Contractor 2 Bid | P103: =IF(P$13="","",P$13) -> Contractor 3 Bid | R103: =IF(R$13="","",R$13) -> Contractor 4 Bid | T103: =IF(T$13="","",T$13) -> Contractor 5 Bid
C105: # | D105: Item - Description | G105: Unit | H105: Qty | I105: Unit Price | J105: Amount | L105: Unit Price | M105: Bid Amount | N105: Unit Price | O105: Bid Amount | P105: Unit Price | Q105: Bid Amount | R105: Unit Price | S105: Bid Amount | T105: Unit Price | U105: Bid Amount
C106: 1 | D106: Item - Description 1 | J106: =IF(I106="","",H106*I106) | M106: =IF(L106="","",H106*L106) | O106: =IF(N106="","",H106*N106) | Q106: =IF(P106="","",H106*P106) | S106: =IF(R106="","",H106*R106) | U106: =IF(T106="","",H106*T106)
C107: 2 | D107: Item - Description 2 | J107: =IF(I107="","",H107*I107) | M107: =IF(L107="","",H107*L107) | O107: =IF(N107="","",H107*N107) | Q107: =IF(P107="","",H107*P107) | S107: =IF(R107="","",H107*R107) | U107: =IF(T107="","",H107*T107)
C108: 3 | D108: Item - Description 3 | J108: =IF(I108="","",H108*I108) | M108: =IF(L108="","",H108*L108) | O108: =IF(N108="","",H108*N108) | Q108: =IF(P108="","",H108*P108) | S108: =IF(R108="","",H108*R108) | U108: =IF(T108="","",H108*T108)
C109: 4 | D109: Item - Description 4 | J109: =IF(I109="","",H109*I109) | M109: =IF(L109="","",H109*L109) | O109: =IF(N109="","",H109*N109) | Q109: =IF(P109="","",H109*P109) | S109: =IF(R109="","",H109*R109) | U109: =IF(T109="","",H109*T109)
C110: 5 | D110: Item - Description 5 | J110: =IF(I110="","",H110*I110) | M110: =IF(L110="","",H110*L110) | O110: =IF(N110="","",H110*N110) | Q110: =IF(P110="","",H110*P110) | S110: =IF(R110="","",H110*R110) | U110: =IF(T110="","",H110*T110)
C111: 6 | D111: Item - Description 6 | J111: =IF(I111="","",H111*I111) | M111: =IF(L111="","",H111*L111) | O111: =IF(N111="","",H111*N111) | Q111: =IF(P111="","",H111*P111) | S111: =IF(R111="","",H111*R111) | U111: =IF(T111="","",H111*T111)
C112: 7 | D112: Item - Description 7 | J112: =IF(I112="","",H112*I112) | M112: =IF(L112="","",H112*L112) | O112: =IF(N112="","",H112*N112) | Q112: =IF(P112="","",H112*P112) | S112: =IF(R112="","",H112*R112) | U112: =IF(T112="","",H112*T112)
C113: 8 | D113: Item - Description 8 | J113: =IF(I113="","",H113*I113) | M113: =IF(L113="","",H113*L113) | O113: =IF(N113="","",H113*N113) | Q113: =IF(P113="","",H113*P113) | S113: =IF(R113="","",H113*R113) | U113: =IF(T113="","",H113*T113)
C114: 9 | D114: Item - Description 9 | J114: =IF(I114="","",H114*I114) | M114: =IF(L114="","",H114*L114) | O114: =IF(N114="","",H114*N114) | Q114: =IF(P114="","",H114*P114) | S114: =IF(R114="","",H114*R114) | U114: =IF(T114="","",H114*T114)
C115: 10 | D115: Item - Description 10 | J115: =IF(I115="","",H115*I115) | M115: =IF(L115="","",H115*L115) | O115: =IF(N115="","",H115*N115) | Q115: =IF(P115="","",H115*P115) | S115: =IF(R115="","",H115*R115) | U115: =IF(T115="","",H115*T115)
C116: Phase 5 Totals : | I116: =SUM(J106:J115) -> 0 | L116: =SUM(M106:M115) -> 0 | N116: =SUM(O106:O115) -> 0 | P116: =SUM(Q106:Q115) -> 0 | R116: =SUM(S106:S115) -> 0 | T116: =SUM(U106:U115) -> 0
C118: BID RESULTS | I118: Architect - Engineer Estimate | L118: =IF(L$13="","",L$13) -> Contractor 1 Bid | N118: =IF(N$13="","",N$13) -> Contractor 2 Bid | P118: =IF(P$13="","",P$13) -> Contractor 3 Bid | R118: =IF(R$13="","",R$13) -> Contractor 4 Bid | T118: =IF(T$13="","",T$13) -> Contractor 5 Bid
H119: Total Base Bid : | I119: =SUM(I116,I101,I81,I61,I36) -> 0 | L119: =SUM(L116,L101,L81,L61,L36) -> 0 | N119: =SUM(N116,N101,N81,N61,N36) -> 0 | P119: =SUM(P116,P101,P81,P61,P36) -> 0 | R119: =SUM(R116,R101,R81,R61,R36) -> 0 | T119: =SUM(T116,T101,T81,T61,T36) -> 0
E120: Tax Rate : | F120: 0.1 | H120: Tax : | I120: =IF($F$120="","",$F$120*I119) -> 0 | L120: =IF($F$120="","",$F$120*L119) -> 0 | N120: =IF($F$120="","",$F$120*N119) -> 0 | P120: =IF($F$120="","",$F$120*P119) -> 0 | R120: =IF($F$120="","",$F$120*R119) -> 0 | T120: =IF($F$120="","",$F$120*T119) -> 0
H121: Total Bid Amount : | I121: =SUM(I119:J120) -> 0 | L121: =SUM(L119:M120) -> 0 | N121: =SUM(N119:O120) -> 0 | P121: =SUM(P119:Q120) -> 0 | R121: =SUM(R119:S120) -> 0 | T121: =SUM(T119:U120) -> 0

Sheet Comparison 5
D2: CONTRACTOR BID COMPARISON
D3: COMPARISON 5
C7: Project Name | E7: =IF(Dashboard!I18="","",Dashboard!I18)
C8: Project No | E8: =IF(Dashboard!I19="","",Dashboard!I19)
C9: Location | E9: =IF(Dashboard!I20="","",Dashboard!I20) | S9: You can add Firm Logo
C10: Architect - Engineer | E10: =IF(Dashboard!I21="","",Dashboard!I21)
C11: Bid Date | E11: =IF(Dashboard!I22="","",Dashboard!I22)
C13: Phase 1 Bid Quantities | I13: Architect - Engineer Estimate | L13: Contractor 1 Bid | N13: Contractor 2 Bid | P13: Contractor 3 Bid | R13: Contractor 4 Bid | T13: Contractor 5 Bid
C15: # | D15: Item - Description | G15: Unit | H15: Qty | I15: Unit Price | J15: Amount | L15: Unit Price | M15: Bid Amount | N15: Unit Price | O15: Bid Amount | P15: Unit Price | Q15: Bid Amount | R15: Unit Price | S15: Bid Amount | T15: Unit Price | U15: Bid Amount
C16: 1 | D16: Item - Description 1 | J16: =IF(I16="","",H16*I16) | M16: =IF(L16="","",H16*L16) | O16: =IF(N16="","",H16*N16) | Q16: =IF(P16="","",H16*P16) | S16: =IF(R16="","",H16*R16) | U16: =IF(T16="","",H16*T16)
C17: 2 | D17: Item - Description 2 | J17: =IF(I17="","",H17*I17) | M17: =IF(L17="","",H17*L17) | O17: =IF(N17="","",H17*N17) | Q17: =IF(P17="","",H17*P17) | S17: =IF(R17="","",H17*R17) | U17: =IF(T17="","",H17*T17)
C18: 3 | D18: Item - Description 3 | J18: =IF(I18="","",H18*I18) | M18: =IF(L18="","",H18*L18) | O18: =IF(N18="","",H18*N18) | Q18: =IF(P18="","",H18*P18) | S18: =IF(R18="","",H18*R18) | U18: =IF(T18="","",H18*T18)
C19: 4 | D19: Item - Description 4 | J19: =IF(I19="","",H19*I19) | M19: =IF(L19="","",H19*L19) | O19: =IF(N19="","",H19*N19) | Q19: =IF(P19="","",H19*P19) | S19: =IF(R19="","",H19*R19) | U19: =IF(T19="","",H19*T19)
C20: 5 | D20: Item - Description 5 | J20: =IF(I20="","",H20*I20) | M20: =IF(L20="","",H20*L20) | O20: =IF(N20="","",H20*N20) | Q20: =IF(P20="","",H20*P20) | S20: =IF(R20="","",H20*R20) | U20: =IF(T20="","",H20*T20)
C21: 6 | D21: Item - Description 6 | J21: =IF(I21="","",H21*I21) | M21: =IF(L21="","",H21*L21) | O21: =IF(N21="","",H21*N21) | Q21: =IF(P21="","",H21*P21) | S21: =IF(R21="","",H21*R21) | U21: =IF(T21="","",H21*T21)
C22: 7 | D22: Item - Description 7 | J22: =IF(I22="","",H22*I22) | M22: =IF(L22="","",H22*L22) | O22: =IF(N22="","",H22*N22) | Q22: =IF(P22="","",H22*P22) | S22: =IF(R22="","",H22*R22) | U22: =IF(T22="","",H22*T22)
C23: 8 | D23: Item - Description 8 | J23: =IF(I23="","",H23*I23) | M23: =IF(L23="","",H23*L23) | O23: =IF(N23="","",H23*N23) | Q23: =IF(P23="","",H23*P23) | S23: =IF(R23="","",H23*R23) | U23: =IF(T23="","",H23*T23)
C24: 9 | D24: Item - Description 9 | J24: =IF(I24="","",H24*I24) | M24: =IF(L24="","",H24*L24) | O24: =IF(N24="","",H24*N24) | Q24: =IF(P24="","",H24*P24) | S24: =IF(R24="","",H24*R24) | U24: =IF(T24="","",H24*T24)
C25: 10 | D25: Item - Description 10 | J25: =IF(I25="","",H25*I25) | M25: =IF(L25="","",H25*L25) | O25: =IF(N25="","",H25*N25) | Q25: =IF(P25="","",H25*P25) | S25: =IF(R25="","",H25*R25) | U25: =IF(T25="","",H25*T25)
C26: 11 | D26: Item - Description 11 | J26: =IF(I26="","",H26*I26) | M26: =IF(L26="","",H26*L26) | O26: =IF(N26="","",H26*N26) | Q26: =IF(P26="","",H26*P26) | S26: =IF(R26="","",H26*R26) | U26: =IF(T26="","",H26*T26)
C27: 12 | D27: Item - Description 12 | J27: =IF(I27="","",H27*I27) | M27: =IF(L27="","",H27*L27) | O27: =IF(N27="","",H27*N27) | Q27: =IF(P27="","",H27*P27) | S27: =IF(R27="","",H27*R27) | U27: =IF(T27="","",H27*T27)
... C35: 20 | D35: Item - Description 20 | J35: =IF(I35="","",H35*I35) | M35: =IF(L35="","",H35*L35) | O35: =IF(N35="","",H35*N35) | Q35: =IF(P35="","",H35*P35) | S35: =IF(R35="","",H35*R35) | U35: =IF(T35="","",H35*T35)
C36: Phase 1 Totals : | I36: =SUM(J16:J35) -> 0 | L36: =SUM(M16:M35) -> 0 | N36: =SUM(O16:O35) -> 0 | P36: =SUM(Q16:Q35) -> 0 | R36: =SUM(S16:S35) -> 0 | T36: =SUM(U16:U35) -> 0
C38: Phase 2 Bid Quantities | I38: Architect - Engineer Estimate | L38: =IF(L$13="","",L$13) -> Contractor 1 Bid | N38: =IF(N$13="","",N$13) -> Contractor 2 Bid | P38: =IF(P$13="","",P$13) -> Contractor 3 Bid | R38: =IF(R$13="","",R$13) -> Contractor 4 Bid | T38: =IF(T$13="","",T$13) -> Contractor 5 Bid
C40: # | D40: Item - Description | G40: Unit | H40: Qty | I40: Unit Price | J40: Amount | L40: Unit Price | M40: Bid Amount | N40: Unit Price | O40: Bid Amount | P40: Unit Price | Q40: Bid Amount | R40: Unit Price | S40: Bid Amount | T40: Unit Price | U40: Bid Amount
C41: 1 | D41: Item - Description 1 | J41: =IF(I41="","",H41*I41) | M41: =IF(L41="","",H41*L41) | O41: =IF(N41="","",H41*N41) | Q41: =IF(P41="","",H41*P41) | S41: =IF(R41="","",H41*R41) | U41: =IF(T41="","",H41*T41)
C42: 2 | D42: Item - Description 2 | J42: =IF(I42="","",H42*I42) | M42: =IF(L42="","",H42*L42) | O42: =IF(N42="","",H42*N42) | Q42: =IF(P42="","",H42*P42) | S42: =IF(R42="","",H42*R42) | U42: =IF(T42="","",H42*T42)
C43: 3 | D43: Item - Description 3 | J43: =IF(I43="","",H43*I43) | M43: =IF(L43="","",H43*L43) | O43: =IF(N43="","",H43*N43) | Q43: =IF(P43="","",H43*P43) | S43: =IF(R43="","",H43*R43) | U43: =IF(T43="","",H43*T43)
C44: 4 | D44: Item - Description 4 | J44: =IF(I44="","",H44*I44) | M44: =IF(L44="","",H44*L44) | O44: =IF(N44="","",H44*N44) | Q44: =IF(P44="","",H44*P44) | S44: =IF(R44="","",H44*R44) | U44: =IF(T44="","",H44*T44)
C45: 5 | D45: Item - Description 5 | J45: =IF(I45="","",H45*I45) | M45: =IF(L45="","",H45*L45) | O45: =IF(N45="","",H45*N45) | Q45: =IF(P45="","",H45*P45) | S45: =IF(R45="","",H45*R45) | U45: =IF(T45="","",H45*T45)
C46: 6 | D46: Item - Description 6 | J46: =IF(I46="","",H46*I46) | M46: =IF(L46="","",H46*L46) | O46: =IF(N46="","",H46*N46) | Q46: =IF(P46="","",H46*P46) | S46: =IF(R46="","",H46*R46) | U46: =IF(T46="","",H46*T46)
C47: 7 | D47: Item - Description 7 | J47: =IF(I47="","",H47*I47) | M47: =IF(L47="","",H47*L47) | O47: =IF(N47="","",H47*N47) | Q47: =IF(P47="","",H47*P47) | S47: =IF(R47="","",H47*R47) | U47: =IF(T47="","",H47*T47)
C48: 8 | D48: Item - Description 8 | J48: =IF(I48="","",H48*I48) | M48: =IF(L48="","",H48*L48) | O48: =IF(N48="","",H48*N48) | Q48: =IF(P48="","",H48*P48) | S48: =IF(R48="","",H48*R48) | U48: =IF(T48="","",H48*T48)
C49: 9 | D49: Item - Description 9 | J49: =IF(I49="","",H49*I49) | M49: =IF(L49="","",H49*L49) | O49: =IF(N49="","",H49*N49) | Q49: =IF(P49="","",H49*P49) | S49: =IF(R49="","",H49*R49) | U49: =IF(T49="","",H49*T49)
C50: 10 | D50: Item - Description 10 | J50: =IF(I50="","",H50*I50) | M50: =IF(L50="","",H50*L50) | O50: =IF(N50="","",H50*N50) | Q50: =IF(P50="","",H50*P50) | S50: =IF(R50="","",H50*R50) | U50: =IF(T50="","",H50*T50)
C51: 11 | D51: Item - Description 11 | J51: =IF(I51="","",H51*I51) | M51: =IF(L51="","",H51*L51) | O51: =IF(N51="","",H51*N51) | Q51: =IF(P51="","",H51*P51) | S51: =IF(R51="","",H51*R51) | U51: =IF(T51="","",H51*T51)
C52: 12 | D52: Item - Description 12 | J52: =IF(I52="","",H52*I52) | M52: =IF(L52="","",H52*L52) | O52: =IF(N52="","",H52*N52) | Q52: =IF(P52="","",H52*P52) | S52: =IF(R52="","",H52*R52) | U52: =IF(T52="","",H52*T52)
... C60: 20 | D60: Item - Description 20 | J60: =IF(I60="","",H60*I60) | M60: =IF(L60="","",H60*L60) | O60: =IF(N60="","",H60*N60) | Q60: =IF(P60="","",H60*P60) | S60: =IF(R60="","",H60*R60) | U60: =IF(T60="","",H60*T60)
C61: Phase 2 Totals : | I61: =SUM(J41:J60) -> 0 | L61: =SUM(M41:M60) -> 0 | N61: =SUM(O41:O60) -> 0 | P61: =SUM(Q41:Q60) -> 0 | R61: =SUM(S41:S60) -> 0 | T61: =SUM(U41:U60) -> 0
C63: Phase 3 Bid Quantities | I63: Architect - Engineer Estimate | L63: =IF(L$13="","",L$13) -> Contractor 1 Bid | N63: =IF(N$13="","",N$13) -> Contractor 2 Bid | P63: =IF(P$13="","",P$13) -> Contractor 3 Bid | R63: =IF(R$13="","",R$13) -> Contractor 4 Bid | T63: =IF(T$13="","",T$13) -> Contractor 5 Bid
C65: # | D65: Item - Description | G65: Unit | H65: Qty | I65: Unit Price | J65: Amount | L65: Unit Price | M65: Bid Amount | N65: Unit Price | O65: Bid Amount | P65: Unit Price | Q65: Bid Amount | R65: Unit Price | S65: Bid Amount | T65: Unit Price | U65: Bid Amount
C66: 1 | D66: Item - Description 1 | J66: =IF(I66="","",H66*I66) | M66: =IF(L66="","",H66*L66) | O66: =IF(N66="","",H66*N66) | Q66: =IF(P66="","",H66*P66) | S66: =IF(R66="","",H66*R66) | U66: =IF(T66="","",H66*T66)
C67: 2 | D67: Item - Description 2 | J67: =IF(I67="","",H67*I67) | M67: =IF(L67="","",H67*L67) | O67: =IF(N67="","",H67*N67) | Q67: =IF(P67="","",H67*P67) | S67: =IF(R67="","",H67*R67) | U67: =IF(T67="","",H67*T67)
C68: 3 | D68: Item - Description 3 | J68: =IF(I68="","",H68*I68) | M68: =IF(L68="","",H68*L68) | O68: =IF(N68="","",H68*N68) | Q68: =IF(P68="","",H68*P68) | S68: =IF(R68="","",H68*R68) | U68: =IF(T68="","",H68*T68)
C69: 4 | D69: Item - Description 4 | J69: =IF(I69="","",H69*I69) | M69: =IF(L69="","",H69*L69) | O69: =IF(N69="","",H69*N69) | Q69: =IF(P69="","",H69*P69) | S69: =IF(R69="","",H69*R69) | U69: =IF(T69="","",H69*T69)
C70: 5 | D70: Item - Description 5 | J70: =IF(I70="","",H70*I70) | M70: =IF(L70="","",H70*L70) | O70: =IF(N70="","",H70*N70) | Q70: =IF(P70="","",H70*P70) | S70: =IF(R70="","",H70*R70) | U70: =IF(T70="","",H70*T70)
C71: 6 | D71: Item - Description 6 | J71: =IF(I71="","",H71*I71) | M71: =IF(L71="","",H71*L71) | O71: =IF(N71="","",H71*N71) | Q71: =IF(P71="","",H71*P71) | S71: =IF(R71="","",H71*R71) | U71: =IF(T71="","",H71*T71)
C72: 7 | D72: Item - Description 7 | J72: =IF(I72="","",H72*I72) | M72: =IF(L72="","",H72*L72) | O72: =IF(N72="","",H72*N72) | Q72: =IF(P72="","",H72*P72) | S72: =IF(R72="","",H72*R72) | U72: =IF(T72="","",H72*T72)
C73: 8 | D73: Item - Description 8 | J73: =IF(I73="","",H73*I73) | M73: =IF(L73="","",H73*L73) | O73: =IF(N73="","",H73*N73) | Q73: =IF(P73="","",H73*P73) | S73: =IF(R73="","",H73*R73) | U73: =IF(T73="","",H73*T73)
C74: 9 | D74: Item - Description 9 | J74: =IF(I74="","",H74*I74) | M74: =IF(L74="","",H74*L74) | O74: =IF(N74="","",H74*N74) | Q74: =IF(P74="","",H74*P74) | S74: =IF(R74="","",H74*R74) | U74: =IF(T74="","",H74*T74)
C75: 10 | D75: Item - Description 10 | J75: =IF(I75="","",H75*I75) | M75: =IF(L75="","",H75*L75) | O75: =IF(N75="","",H75*N75) | Q75: =IF(P75="","",H75*P75) | S75: =IF(R75="","",H75*R75) | U75: =IF(T75="","",H75*T75)
C76: 11 | D76: Item - Description 11 | J76: =IF(I76="","",H76*I76) | M76: =IF(L76="","",H76*L76) | O76: =IF(N76="","",H76*N76) | Q76: =IF(P76="","",H76*P76) | S76: =IF(R76="","",H76*R76) | U76: =IF(T76="","",H76*T76)
C77: 12 | D77: Item - Description 12 | J77: =IF(I77="","",H77*I77) | M77: =IF(L77="","",H77*L77) | O77: =IF(N77="","",H77*N77) | Q77: =IF(P77="","",H77*P77) | S77: =IF(R77="","",H77*R77) | U77: =IF(T77="","",H77*T77)
... C80: 15 | D80: Item - Description 15 | J80: =IF(I80="","",H80*I80) | M80: =IF(L80="","",H80*L80) | O80: =IF(N80="","",H80*N80) | Q80: =IF(P80="","",H80*P80) | S80: =IF(R80="","",H80*R80) | U80: =IF(T80="","",H80*T80)
C81: Phase 3 Totals : | I81: =SUM(J66:J80) -> 0 | L81: =SUM(M66:M80) -> 0 | N81: =SUM(O66:O80) -> 0 | P81: =SUM(Q66:Q80) -> 0 | R81: =SUM(S66:S80) -> 0 | T81: =SUM(U66:U80) -> 0
C83: Phase 4 Bid Quantities | I83: Architect - Engineer Estimate | L83: =IF(L$13="","",L$13) -> Contractor 1 Bid | N83: =IF(N$13="","",N$13) -> Contractor 2 Bid | P83: =IF(P$13="","",P$13) -> Contractor 3 Bid | R83: =IF(R$13="","",R$13) -> Contractor 4 Bid | T83: =IF(T$13="","",T$13) -> Contractor 5 Bid
C85: # | D85: Item - Description | G85: Unit | H85: Qty | I85: Unit Price | J85: Amount | L85: Unit Price | M85: Bid Amount | N85: Unit Price | O85: Bid Amount | P85: Unit Price | Q85: Bid Amount | R85: Unit Price | S85: Bid Amount | T85: Unit Price | U85: Bid Amount
C86: 1 | D86: Item - Description 1 | J86: =IF(I86="","",H86*I86) | M86: =IF(L86="","",H86*L86) | O86: =IF(N86="","",H86*N86) | Q86: =IF(P86="","",H86*P86) | S86: =IF(R86="","",H86*R86) | U86: =IF(T86="","",H86*T86)
C87: 2 | D87: Item - Description 2 | J87: =IF(I87="","",H87*I87) | M87: =IF(L87="","",H87*L87) | O87: =IF(N87="","",H87*N87) | Q87: =IF(P87="","",H87*P87) | S87: =IF(R87="","",H87*R87) | U87: =IF(T87="","",H87*T87)
C88: 3 | D88: Item - Description 3 | J88: =IF(I88="","",H88*I88) | M88: =IF(L88="","",H88*L88) | O88: =IF(N88="","",H88*N88) | Q88: =IF(P88="","",H88*P88) | S88: =IF(R88="","",H88*R88) | U88: =IF(T88="","",H88*T88)
C89: 4 | D89: Item - Description 4 | J89: =IF(I89="","",H89*I89) | M89: =IF(L89="","",H89*L89) | O89: =IF(N89="","",H89*N89) | Q89: =IF(P89="","",H89*P89) | S89: =IF(R89="","",H89*R89) | U89: =IF(T89="","",H89*T89)
C90: 5 | D90: Item - Description 5 | J90: =IF(I90="","",H90*I90) | M90: =IF(L90="","",H90*L90) | O90: =IF(N90="","",H90*N90) | Q90: =IF(P90="","",H90*P90) | S90: =IF(R90="","",H90*R90) | U90: =IF(T90="","",H90*T90)
C91: 6 | D91: Item - Description 6 | J91: =IF(I91="","",H91*I91) | M91: =IF(L91="","",H91*L91) | O91: =IF(N91="","",H91*N91) | Q91: =IF(P91="","",H91*P91) | S91: =IF(R91="","",H91*R91) | U91: =IF(T91="","",H91*T91)
C92: 7 | D92: Item - Description 7 | J92: =IF(I92="","",H92*I92) | M92: =IF(L92="","",H92*L92) | O92: =IF(N92="","",H92*N92) | Q92: =IF(P92="","",H92*P92) | S92: =IF(R92="","",H92*R92) | U92: =IF(T92="","",H92*T92)
C93: 8 | D93: Item - Description 8 | J93: =IF(I93="","",H93*I93) | M93: =IF(L93="","",H93*L93) | O93: =IF(N93="","",H93*N93) | Q93: =IF(P93="","",H93*P93) | S93: =IF(R93="","",H93*R93) | U93: =IF(T93="","",H93*T93)
C94: 9 | D94: Item - Description 9 | J94: =IF(I94="","",H94*I94) | M94: =IF(L94="","",H94*L94) | O94: =IF(N94="","",H94*N94) | Q94: =IF(P94="","",H94*P94) | S94: =IF(R94="","",H94*R94) | U94: =IF(T94="","",H94*T94)
C95: 10 | D95: Item - Description 10 | J95: =IF(I95="","",H95*I95) | M95: =IF(L95="","",H95*L95) | O95: =IF(N95="","",H95*N95) | Q95: =IF(P95="","",H95*P95) | S95: =IF(R95="","",H95*R95) | U95: =IF(T95="","",H95*T95)
C96: 11 | D96: Item - Description 11 | J96: =IF(I96="","",H96*I96) | M96: =IF(L96="","",H96*L96) | O96: =IF(N96="","",H96*N96) | Q96: =IF(P96="","",H96*P96) | S96: =IF(R96="","",H96*R96) | U96: =IF(T96="","",H96*T96)
C97: 12 | D97: Item - Description 12 | J97: =IF(I97="","",H97*I97) | M97: =IF(L97="","",H97*L97) | O97: =IF(N97="","",H97*N97) | Q97: =IF(P97="","",H97*P97) | S97: =IF(R97="","",H97*R97) | U97: =IF(T97="","",H97*T97)
... C100: 15 | D100: Item - Description 15 | J100: =IF(I100="","",H100*I100) | M100: =IF(L100="","",H100*L100) | O100: =IF(N100="","",H100*N100) | Q100: =IF(P100="","",H100*P100) | S100: =IF(R100="","",H100*R100) | U100: =IF(T100="","",H100*T100)
C101: Phase 4 Totals : | I101: =SUM(J86:J100) -> 0 | L101: =SUM(M86:M100) -> 0 | N101: =SUM(O86:O100) -> 0 | P101: =SUM(Q86:Q100) -> 0 | R101: =SUM(S86:S100) -> 0 | T101: =SUM(U86:U100) -> 0
C103: Phase 5 Bid Quantities | I103: Architect - Engineer Estimate | L103: =IF(L$13="","",L$13) -> Contractor 1 Bid | N103: =IF(N$13="","",N$13) -> Contractor 2 Bid | P103: =IF(P$13="","",P$13) -> Contractor 3 Bid | R103: =IF(R$13="","",R$13) -> Contractor 4 Bid | T103: =IF(T$13="","",T$13) -> Contractor 5 Bid
C105: # | D105: Item - Description | G105: Unit | H105: Qty | I105: Unit Price | J105: Amount | L105: Unit Price | M105: Bid Amount | N105: Unit Price | O105: Bid Amount | P105: Unit Price | Q105: Bid Amount | R105: Unit Price | S105: Bid Amount | T105: Unit Price | U105: Bid Amount
C106: 1 | D106: Item - Description 1 | J106: =IF(I106="","",H106*I106) | M106: =IF(L106="","",H106*L106) | O106: =IF(N106="","",H106*N106) | Q106: =IF(P106="","",H106*P106) | S106: =IF(R106="","",H106*R106) | U106: =IF(T106="","",H106*T106)
C107: 2 | D107: Item - Description 2 | J107: =IF(I107="","",H107*I107) | M107: =IF(L107="","",H107*L107) | O107: =IF(N107="","",H107*N107) | Q107: =IF(P107="","",H107*P107) | S107: =IF(R107="","",H107*R107) | U107: =IF(T107="","",H107*T107)
C108: 3 | D108: Item - Description 3 | J108: =IF(I108="","",H108*I108) | M108: =IF(L108="","",H108*L108) | O108: =IF(N108="","",H108*N108) | Q108: =IF(P108="","",H108*P108) | S108: =IF(R108="","",H108*R108) | U108: =IF(T108="","",H108*T108)
C109: 4 | D109: Item - Description 4 | J109: =IF(I109="","",H109*I109) | M109: =IF(L109="","",H109*L109) | O109: =IF(N109="","",H109*N109) | Q109: =IF(P109="","",H109*P109) | S109: =IF(R109="","",H109*R109) | U109: =IF(T109="","",H109*T109)
C110: 5 | D110: Item - Description 5 | J110: =IF(I110="","",H110*I110) | M110: =IF(L110="","",H110*L110) | O110: =IF(N110="","",H110*N110) | Q110: =IF(P110="","",H110*P110) | S110: =IF(R110="","",H110*R110) | U110: =IF(T110="","",H110*T110)
C111: 6 | D111: Item - Description 6 | J111: =IF(I111="","",H111*I111) | M111: =IF(L111="","",H111*L111) | O111: =IF(N111="","",H111*N111) | Q111: =IF(P111="","",H111*P111) | S111: =IF(R111="","",H111*R111) | U111: =IF(T111="","",H111*T111)
C112: 7 | D112: Item - Description 7 | J112: =IF(I112="","",H112*I112) | M112: =IF(L112="","",H112*L112) | O112: =IF(N112="","",H112*N112) | Q112: =IF(P112="","",H112*P112) | S112: =IF(R112="","",H112*R112) | U112: =IF(T112="","",H112*T112)
C113: 8 | D113: Item - Description 8 | J113: =IF(I113="","",H113*I113) | M113: =IF(L113="","",H113*L113) | O113: =IF(N113="","",H113*N113) | Q113: =IF(P113="","",H113*P113) | S113: =IF(R113="","",H113*R113) | U113: =IF(T113="","",H113*T113)
C114: 9 | D114: Item - Description 9 | J114: =IF(I114="","",H114*I114) | M114: =IF(L114="","",H114*L114) | O114: =IF(N114="","",H114*N114) | Q114: =IF(P114="","",H114*P114) | S114: =IF(R114="","",H114*R114) | U114: =IF(T114="","",H114*T114)
C115: 10 | D115: Item - Description 10 | J115: =IF(I115="","",H115*I115) | M115: =IF(L115="","",H115*L115) | O115: =IF(N115="","",H115*N115) | Q115: =IF(P115="","",H115*P115) | S115: =IF(R115="","",H115*R115) | U115: =IF(T115="","",H115*T115)
C116: Phase 5 Totals : | I116: =SUM(J106:J115) -> 0 | L116: =SUM(M106:M115) -> 0 | N116: =SUM(O106:O115) -> 0 | P116: =SUM(Q106:Q115) -> 0 | R116: =SUM(S106:S115) -> 0 | T116: =SUM(U106:U115) -> 0
C118: BID RESULTS | I118: Architect - Engineer Estimate | L118: =IF(L$13="","",L$13) -> Contractor 1 Bid | N118: =IF(N$13="","",N$13) -> Contractor 2 Bid | P118: =IF(P$13="","",P$13) -> Contractor 3 Bid | R118: =IF(R$13="","",R$13) -> Contractor 4 Bid | T118: =IF(T$13="","",T$13) -> Contractor 5 Bid
H119: Total Base Bid : | I119: =SUM(I116,I101,I81,I61,I36) -> 0 | L119: =SUM(L116,L101,L81,L61,L36) -> 0 | N119: =SUM(N116,N101,N81,N61,N36) -> 0 | P119: =SUM(P116,P101,P81,P61,P36) -> 0 | R119: =SUM(R116,R101,R81,R61,R36) -> 0 | T119: =SUM(T116,T101,T81,T61,T36) -> 0
E120: Tax Rate : | F120: 0.1 | H120: Tax : | I120: =IF($F$120="","",$F$120*I119) -> 0 | L120: =IF($F$120="","",$F$120*L119) -> 0 | N120: =IF($F$120="","",$F$120*N119) -> 0 | P120: =IF($F$120="","",$F$120*P119) -> 0 | R120: =IF($F$120="","",$F$120*R119) -> 0 | T120: =IF($F$120="","",$F$120*T119) -> 0
H121: Total Bid Amount : | I121: =SUM(I119:J120) -> 0 | L121: =SUM(L119:M120) -> 0 | N121: =SUM(N119:O120) -> 0 | P121: =SUM(P119:Q120) -> 0 | R121: =SUM(R119:S120) -> 0 | T121: =SUM(T119:U120) -> 0

Sheet Comparison 6
D2: CONTRACTOR BID COMPARISON
D3: COMPARISON 6
C7: Project Name | E7: =IF(Dashboard!M18="","",Dashboard!M18)
C8: Project No | E8: =IF(Dashboard!M19="","",Dashboard!M19)
C9: Location | E9: =IF(Dashboard!M20="","",Dashboard!M20) | S9: You can add Firm Logo
C10: Architect - Engineer | E10: =IF(Dashboard!M21="","",Dashboard!M21)
C11: Bid Date | E11: =IF(Dashboard!M22="","",Dashboard!M22)
C13: Phase 1 Bid Quantities | I13: Architect - Engineer Estimate | L13: Contractor 1 Bid | N13: Contractor 2 Bid | P13: Contractor 3 Bid | R13: Contractor 4 Bid | T13: Contractor 5 Bid
C15: # | D15: Item - Description | G15: Unit | H15: Qty | I15: Unit Price | J15: Amount | L15: Unit Price | M15: Bid Amount | N15: Unit Price | O15: Bid Amount | P15: Unit Price | Q15: Bid Amount | R15: Unit Price | S15: Bid Amount | T15: Unit Price | U15: Bid Amount
C16: 1 | D16: Item - Description 1 | J16: =IF(I16="","",H16*I16) | M16: =IF(L16="","",H16*L16) | O16: =IF(N16="","",H16*N16) | Q16: =IF(P16="","",H16*P16) | S16: =IF(R16="","",H16*R16) | U16: =IF(T16="","",H16*T16)
C17: 2 | D17: Item - Description 2 | J17: =IF(I17="","",H17*I17) | M17: =IF(L17="","",H17*L17) | O17: =IF(N17="","",H17*N17) | Q17: =IF(P17="","",H17*P17) | S17: =IF(R17="","",H17*R17) | U17: =IF(T17="","",H17*T17)
C18: 3 | D18: Item - Description 3 | J18: =IF(I18="","",H18*I18) | M18: =IF(L18="","",H18*L18) | O18: =IF(N18="","",H18*N18) | Q18: =IF(P18="","",H18*P18) | S18: =IF(R18="","",H18*R18) | U18: =IF(T18="","",H18*T18)
C19: 4 | D19: Item - Description 4 | J19: =IF(I19="","",H19*I19) | M19: =IF(L19="","",H19*L19) | O19: =IF(N19="","",H19*N19) | Q19: =IF(P19="","",H19*P19) | S19: =IF(R19="","",H19*R19) | U19: =IF(T19="","",H19*T19)
C20: 5 | D20: Item - Description 5 | J20: =IF(I20="","",H20*I20) | M20: =IF(L20="","",H20*L20) | O20: =IF(N20="","",H20*N20) | Q20: =IF(P20="","",H20*P20) | S20: =IF(R20="","",H20*R20) | U20: =IF(T20="","",H20*T20)
C21: 6 | D21: Item - Description 6 | J21: =IF(I21="","",H21*I21) | M21: =IF(L21="","",H21*L21) | O21: =IF(N21="","",H21*N21) | Q21: =IF(P21="","",H21*P21) | S21: =IF(R21="","",H21*R21) | U21: =IF(T21="","",H21*T21)
C22: 7 | D22: Item - Description 7 | J22: =IF(I22="","",H22*I22) | M22: =IF(L22="","",H22*L22) | O22: =IF(N22="","",H22*N22) | Q22: =IF(P22="","",H22*P22) | S22: =IF(R22="","",H22*R22) | U22: =IF(T22="","",H22*T22)
C23: 8 | D23: Item - Description 8 | J23: =IF(I23="","",H23*I23) | M23: =IF(L23="","",H23*L23) | O23: =IF(N23="","",H23*N23) | Q23: =IF(P23="","",H23*P23) | S23: =IF(R23="","",H23*R23) | U23: =IF(T23="","",H23*T23)
C24: 9 | D24: Item - Description 9 | J24: =IF(I24="","",H24*I24) | M24: =IF(L24="","",H24*L24) | O24: =IF(N24="","",H24*N24) | Q24: =IF(P24="","",H24*P24) | S24: =IF(R24="","",H24*R24) | U24: =IF(T24="","",H24*T24)
C25: 10 | D25: Item - Description 10 | J25: =IF(I25="","",H25*I25) | M25: =IF(L25="","",H25*L25) | O25: =IF(N25="","",H25*N25) | Q25: =IF(P25="","",H25*P25) | S25: =IF(R25="","",H25*R25) | U25: =IF(T25="","",H25*T25)
C26: 11 | D26: Item - Description 11 | J26: =IF(I26="","",H26*I26) | M26: =IF(L26="","",H26*L26) | O26: =IF(N26="","",H26*N26) | Q26: =IF(P26="","",H26*P26) | S26: =IF(R26="","",H26*R26) | U26: =IF(T26="","",H26*T26)
C27: 12 | D27: Item - Description 12 | J27: =IF(I27="","",H27*I27) | M27: =IF(L27="","",H27*L27) | O27: =IF(N27="","",H27*N27) | Q27: =IF(P27="","",H27*P27) | S27: =IF(R27="","",H27*R27) | U27: =IF(T27="","",H27*T27)
... C35: 20 | D35: Item - Description 20 | J35: =IF(I35="","",H35*I35) | M35: =IF(L35="","",H35*L35) | O35: =IF(N35="","",H35*N35) | Q35: =IF(P35="","",H35*P35) | S35: =IF(R35="","",H35*R35) | U35: =IF(T35="","",H35*T35)
C36: Phase 1 Totals : | I36: =SUM(J16:J35) -> 0 | L36: =SUM(M16:M35) -> 0 | N36: =SUM(O16:O35) -> 0 | P36: =SUM(Q16:Q35) -> 0 | R36: =SUM(S16:S35) -> 0 | T36: =SUM(U16:U35) -> 0
C38: Phase 2 Bid Quantities | I38: Architect - Engineer Estimate | L38: =IF(L$13="","",L$13) -> Contractor 1 Bid | N38: =IF(N$13="","",N$13) -> Contractor 2 Bid | P38: =IF(P$13="","",P$13) -> Contractor 3 Bid | R38: =IF(R$13="","",R$13) -> Contractor 4 Bid | T38: =IF(T$13="","",T$13) -> Contractor 5 Bid
C40: # | D40: Item - Description | G40: Unit | H40: Qty | I40: Unit Price | J40: Amount | L40: Unit Price | M40: Bid Amount | N40: Unit Price | O40: Bid Amount | P40: Unit Price | Q40: Bid Amount | R40: Unit Price | S40: Bid Amount | T40: Unit Price | U40: Bid Amount
C41: 1 | D41: Item - Description 1 | J41: =IF(I41="","",H41*I41) | M41: =IF(L41="","",H41*L41) | O41: =IF(N41="","",H41*N41) | Q41: =IF(P41="","",H41*P41) | S41: =IF(R41="","",H41*R41) | U41: =IF(T41="","",H41*T41)
C42: 2 | D42: Item - Description 2 | J42: =IF(I42="","",H42*I42) | M42: =IF(L42="","",H42*L42) | O42: =IF(N42="","",H42*N42) | Q42: =IF(P42="","",H42*P42) | S42: =IF(R42="","",H42*R42) | U42: =IF(T42="","",H42*T42)
C43: 3 | D43: Item - Description 3 | J43: =IF(I43="","",H43*I43) | M43: =IF(L43="","",H43*L43) | O43: =IF(N43="","",H43*N43) | Q43: =IF(P43="","",H43*P43) | S43: =IF(R43="","",H43*R43) | U43: =IF(T43="","",H43*T43)
C44: 4 | D44: Item - Description 4 | J44: =IF(I44="","",H44*I44) | M44: =IF(L44="","",H44*L44) | O44: =IF(N44="","",H44*N44) | Q44: =IF(P44="","",H44*P44) | S44: =IF(R44="","",H44*R44) | U44: =IF(T44="","",H44*T44)
C45: 5 | D45: Item - Description 5 | J45: =IF(I45="","",H45*I45) | M45: =IF(L45="","",H45*L45) | O45: =IF(N45="","",H45*N45) | Q45: =IF(P45="","",H45*P45) | S45: =IF(R45="","",H45*R45) | U45: =IF(T45="","",H45*T45)
C46: 6 | D46: Item - Description 6 | J46: =IF(I46="","",H46*I46) | M46: =IF(L46="","",H46*L46) | O46: =IF(N46="","",H46*N46) | Q46: =IF(P46="","",H46*P46) | S46: =IF(R46="","",H46*R46) | U46: =IF(T46="","",H46*T46)
C47: 7 | D47: Item - Description 7 | J47: =IF(I47="","",H47*I47) | M47: =IF(L47="","",H47*L47) | O47: =IF(N47="","",H47*N47) | Q47: =IF(P47="","",H47*P47) | S47: =IF(R47="","",H47*R47) | U47: =IF(T47="","",H47*T47)
C48: 8 | D48: Item - Description 8 | J48: =IF(I48="","",H48*I48) | M48: =IF(L48="","",H48*L48) | O48: =IF(N48="","",H48*N48) | Q48: =IF(P48="","",H48*P48) | S48: =IF(R48="","",H48*R48) | U48: =IF(T48="","",H48*T48)
C49: 9 | D49: Item - Description 9 | J49: =IF(I49="","",H49*I49) | M49: =IF(L49="","",H49*L49) | O49: =IF(N49="","",H49*N49) | Q49: =IF(P49="","",H49*P49) | S49: =IF(R49="","",H49*R49) | U49: =IF(T49="","",H49*T49)
C50: 10 | D50: Item - Description 10 | J50: =IF(I50="","",H50*I50) | M50: =IF(L50="","",H50*L50) | O50: =IF(N50="","",H50*N50) | Q50: =IF(P50="","",H50*P50) | S50: =IF(R50="","",H50*R50) | U50: =IF(T50="","",H50*T50)
C51: 11 | D51: Item - Description 11 | J51: =IF(I51="","",H51*I51) | M51: =IF(L51="","",H51*L51) | O51: =IF(N51="","",H51*N51) | Q51: =IF(P51="","",H51*P51) | S51: =IF(R51="","",H51*R51) | U51: =IF(T51="","",H51*T51)
C52: 12 | D52: Item - Description 12 | J52: =IF(I52="","",H52*I52) | M52: =IF(L52="","",H52*L52) | O52: =IF(N52="","",H52*N52) | Q52: =IF(P52="","",H52*P52) | S52: =IF(R52="","",H52*R52) | U52: =IF(T52="","",H52*T52)
... C60: 20 | D60: Item - Description 20 | J60: =IF(I60="","",H60*I60) | M60: =IF(L60="","",H60*L60) | O60: =IF(N60="","",H60*N60) | Q60: =IF(P60="","",H60*P60) | S60: =IF(R60="","",H60*R60) | U60: =IF(T60="","",H60*T60)
C61: Phase 2 Totals : | I61: =SUM(J41:J60) -> 0 | L61: =SUM(M41:M60) -> 0 | N61: =SUM(O41:O60) -> 0 | P61: =SUM(Q41:Q60) -> 0 | R61: =SUM(S41:S60) -> 0 | T61: =SUM(U41:U60) -> 0
C63: Phase 3 Bid Quantities | I63: Architect - Engineer Estimate | L63: =IF(L$13="","",L$13) -> Contractor 1 Bid | N63: =IF(N$13="","",N$13) -> Contractor 2 Bid | P63: =IF(P$13="","",P$13) -> Contractor 3 Bid | R63: =IF(R$13="","",R$13) -> Contractor 4 Bid | T63: =IF(T$13="","",T$13) -> Contractor 5 Bid
C65: # | D65: Item - Description | G65: Unit | H65: Qty | I65: Unit Price | J65: Amount | L65: Unit Price | M65: Bid Amount | N65: Unit Price | O65: Bid Amount | P65: Unit Price | Q65: Bid Amount | R65: Unit Price | S65: Bid Amount | T65: Unit Price | U65: Bid Amount
C66: 1 | D66: Item - Description 1 | J66: =IF(I66="","",H66*I66) | M66: =IF(L66="","",H66*L66) | O66: =IF(N66="","",H66*N66) | Q66: =IF(P66="","",H66*P66) | S66: =IF(R66="","",H66*R66) | U66: =IF(T66="","",H66*T66)
C67: 2 | D67: Item - Description 2 | J67: =IF(I67="","",H67*I67) | M67: =IF(L67="","",H67*L67) | O67: =IF(N67="","",H67*N67) | Q67: =IF(P67="","",H67*P67) | S67: =IF(R67="","",H67*R67) | U67: =IF(T67="","",H67*T67)
C68: 3 | D68: Item - Description 3 | J68: =IF(I68="","",H68*I68) | M68: =IF(L68="","",H68*L68) | O68: =IF(N68="","",H68*N68) | Q68: =IF(P68="","",H68*P68) | S68: =IF(R68="","",H68*R68) | U68: =IF(T68="","",H68*T68)
C69: 4 | D69: Item - Description 4 | J69: =IF(I69="","",H69*I69) | M69: =IF(L69="","",H69*L69) | O69: =IF(N69="","",H69*N69) | Q69: =IF(P69="","",H69*P69) | S69: =IF(R69="","",H69*R69) | U69: =IF(T69="","",H69*T69)
C70: 5 | D70: Item - Description 5 | J70: =IF(I70="","",H70*I70) | M70: =IF(L70="","",H70*L70) | O70: =IF(N70="","",H70*N70) | Q70: =IF(P70="","",H70*P70) | S70: =IF(R70="","",H70*R70) | U70: =IF(T70="","",H70*T70)
C71: 6 | D71: Item - Description 6 | J71: =IF(I71="","",H71*I71) | M71: =IF(L71="","",H71*L71) | O71: =IF(N71="","",H71*N71) | Q71: =IF(P71="","",H71*P71) | S71: =IF(R71="","",H71*R71) | U71: =IF(T71="","",H71*T71)
C72: 7 | D72: Item - Description 7 | J72: =IF(I72="","",H72*I72) | M72: =IF(L72="","",H72*L72) | O72: =IF(N72="","",H72*N72) | Q72: =IF(P72="","",H72*P72) | S72: =IF(R72="","",H72*R72) | U72: =IF(T72="","",H72*T72)
C73: 8 | D73: Item - Description 8 | J73: =IF(I73="","",H73*I73) | M73: =IF(L73="","",H73*L73) | O73: =IF(N73="","",H73*N73) | Q73: =IF(P73="","",H73*P73) | S73: =IF(R73="","",H73*R73) | U73: =IF(T73="","",H73*T73)
C74: 9 | D74: Item - Description 9 | J74: =IF(I74="","",H74*I74) | M74: =IF(L74="","",H74*L74) | O74: =IF(N74="","",H74*N74) | Q74: =IF(P74="","",H74*P74) | S74: =IF(R74="","",H74*R74) | U74: =IF(T74="","",H74*T74)
C75: 10 | D75: Item - Description 10 | J75: =IF(I75="","",H75*I75) | M75: =IF(L75="","",H75*L75) | O75: =IF(N75="","",H75*N75) | Q75: =IF(P75="","",H75*P75) | S75: =IF(R75="","",H75*R75) | U75: =IF(T75="","",H75*T75)
C76: 11 | D76: Item - Description 11 | J76: =IF(I76="","",H76*I76) | M76: =IF(L76="","",H76*L76) | O76: =IF(N76="","",H76*N76) | Q76: =IF(P76="","",H76*P76) | S76: =IF(R76="","",H76*R76) | U76: =IF(T76="","",H76*T76)
C77: 12 | D77: Item - Description 12 | J77: =IF(I77="","",H77*I77) | M77: =IF(L77="","",H77*L77) | O77: =IF(N77="","",H77*N77) | Q77: =IF(P77="","",H77*P77) | S77: =IF(R77="","",H77*R77) | U77: =IF(T77="","",H77*T77)
... C80: 15 | D80: Item - Description 15 | J80: =IF(I80="","",H80*I80) | M80: =IF(L80="","",H80*L80) | O80: =IF(N80="","",H80*N80) | Q80: =IF(P80="","",H80*P80) | S80: =IF(R80="","",H80*R80) | U80: =IF(T80="","",H80*T80)
C81: Phase 3 Totals : | I81: =SUM(J66:J80) -> 0 | L81: =SUM(M66:M80) -> 0 | N81: =SUM(O66:O80) -> 0 | P81: =SUM(Q66:Q80) -> 0 | R81: =SUM(S66:S80) -> 0 | T81: =SUM(U66:U80) -> 0
C83: Phase 4 Bid Quantities | I83: Architect - Engineer Estimate | L83: =IF(L$13="","",L$13) -> Contractor 1 Bid | N83: =IF(N$13="","",N$13) -> Contractor 2 Bid | P83: =IF(P$13="","",P$13) -> Contractor 3 Bid | R83: =IF(R$13="","",R$13) -> Contractor 4 Bid | T83: =IF(T$13="","",T$13) -> Contractor 5 Bid
C85: # | D85: Item - Description | G85: Unit | H85: Qty | I85: Unit Price | J85: Amount | L85: Unit Price | M85: Bid Amount | N85: Unit Price | O85: Bid Amount | P85: Unit Price | Q85: Bid Amount | R85: Unit Price | S85: Bid Amount | T85: Unit Price | U85: Bid Amount
C86: 1 | D86: Item - Description 1 | J86: =IF(I86="","",H86*I86) | M86: =IF(L86="","",H86*L86) | O86: =IF(N86="","",H86*N86) | Q86: =IF(P86="","",H86*P86) | S86: =IF(R86="","",H86*R86) | U86: =IF(T86="","",H86*T86)
C87: 2 | D87: Item - Description 2 | J87: =IF(I87="","",H87*I87) | M87: =IF(L87="","",H87*L87) | O87: =IF(N87="","",H87*N87) | Q87: =IF(P87="","",H87*P87) | S87: =IF(R87="","",H87*R87) | U87: =IF(T87="","",H87*T87)
C88: 3 | D88: Item - Description 3 | J88: =IF(I88="","",H88*I88) | M88: =IF(L88="","",H88*L88) | O88: =IF(N88="","",H88*N88) | Q88: =IF(P88="","",H88*P88) | S88: =IF(R88="","",H88*R88) | U88: =IF(T88="","",H88*T88)
C89: 4 | D89: Item - Description 4 | J89: =IF(I89="","",H89*I89) | M89: =IF(L89="","",H89*L89) | O89: =IF(N89="","",H89*N89) | Q89: =IF(P89="","",H89*P89) | S89: =IF(R89="","",H89*R89) | U89: =IF(T89="","",H89*T89)
C90: 5 | D90: Item - Description 5 | J90: =IF(I90="","",H90*I90) | M90: =IF(L90="","",H90*L90) | O90: =IF(N90="","",H90*N90) | Q90: =IF(P90="","",H90*P90) | S90: =IF(R90="","",H90*R90) | U90: =IF(T90="","",H90*T90)
C91: 6 | D91: Item - Description 6 | J91: =IF(I91="","",H91*I91) | M91: =IF(L91="","",H91*L91) | O91: =IF(N91="","",H91*N91) | Q91: =IF(P91="","",H91*P91) | S91: =IF(R91="","",H91*R91) | U91: =IF(T91="","",H91*T91)
C92: 7 | D92: Item - Description 7 | J92: =IF(I92="","",H92*I92) | M92: =IF(L92="","",H92*L92) | O92: =IF(N92="","",H92*N92) | Q92: =IF(P92="","",H92*P92) | S92: =IF(R92="","",H92*R92) | U92: =IF(T92="","",H92*T92)
C93: 8 | D93: Item - Description 8 | J93: =IF(I93="","",H93*I93) | M93: =IF(L93="","",H93*L93) | O93: =IF(N93="","",H93*N93) | Q93: =IF(P93="","",H93*P93) | S93: =IF(R93="","",H93*R93) | U93: =IF(T93="","",H93*T93)
C94: 9 | D94: Item - Description 9 | J94: =IF(I94="","",H94*I94) | M94: =IF(L94="","",H94*L94) | O94: =IF(N94="","",H94*N94) | Q94: =IF(P94="","",H94*P94) | S94: =IF(R94="","",H94*R94) | U94: =IF(T94="","",H94*T94)
C95: 10 | D95: Item - Description 10 | J95: =IF(I95="","",H95*I95) | M95: =IF(L95="","",H95*L95) | O95: =IF(N95="","",H95*N95) | Q95: =IF(P95="","",H95*P95) | S95: =IF(R95="","",H95*R95) | U95: =IF(T95="","",H95*T95)
C96: 11 | D96: Item - Description 11 | J96: =IF(I96="","",H96*I96) | M96: =IF(L96="","",H96*L96) | O96: =IF(N96="","",H96*N96) | Q96: =IF(P96="","",H96*P96) | S96: =IF(R96="","",H96*R96) | U96: =IF(T96="","",H96*T96)
C97: 12 | D97: Item - Description 12 | J97: =IF(I97="","",H97*I97) | M97: =IF(L97="","",H97*L97) | O97: =IF(N97="","",H97*N97) | Q97: =IF(P97="","",H97*P97) | S97: =IF(R97="","",H97*R97) | U97: =IF(T97="","",H97*T97)
... C100: 15 | D100: Item - Description 15 | J100: =IF(I100="","",H100*I100) | M100: =IF(L100="","",H100*L100) | O100: =IF(N100="","",H100*N100) | Q100: =IF(P100="","",H100*P100) | S100: =IF(R100="","",H100*R100) | U100: =IF(T100="","",H100*T100)
C101: Phase 4 Totals : | I101: =SUM(J86:J100) -> 0 | L101: =SUM(M86:M100) -> 0 | N101: =SUM(O86:O100) -> 0 | P101: =SUM(Q86:Q100) -> 0 | R101: =SUM(S86:S100) -> 0 | T101: =SUM(U86:U100) -> 0
C103: Phase 5 Bid Quantities | I103: Architect - Engineer Estimate | L103: =IF(L$13="","",L$13) -> Contractor 1 Bid | N103: =IF(N$13="","",N$13) -> Contractor 2 Bid | P103: =IF(P$13="","",P$13) -> Contractor 3 Bid | R103: =IF(R$13="","",R$13) -> Contractor 4 Bid | T103: =IF(T$13="","",T$13) -> Contractor 5 Bid
C105: # | D105: Item - Description | G105: Unit | H105: Qty | I105: Unit Price | J105: Amount | L105: Unit Price | M105: Bid Amount | N105: Unit Price | O105: Bid Amount | P105: Unit Price | Q105: Bid Amount | R105: Unit Price | S105: Bid Amount | T105: Unit Price | U105: Bid Amount
C106: 1 | D106: Item - Description 1 | J106: =IF(I106="","",H106*I106) | M106: =IF(L106="","",H106*L106) | O106: =IF(N106="","",H106*N106) | Q106: =IF(P106="","",H106*P106) | S106: =IF(R106="","",H106*R106) | U106: =IF(T106="","",H106*T106)
C107: 2 | D107: Item - Description 2 | J107: =IF(I107="","",H107*I107) | M107: =IF(L107="","",H107*L107) | O107: =IF(N107="","",H107*N107) | Q107: =IF(P107="","",H107*P107) | S107: =IF(R107="","",H107*R107) | U107: =IF(T107="","",H107*T107)
C108: 3 | D108: Item - Description 3 | J108: =IF(I108="","",H108*I108) | M108: =IF(L108="","",H108*L108) | O108: =IF(N108="","",H108*N108) | Q108: =IF(P108="","",H108*P108) | S108: =IF(R108="","",H108*R108) | U108: =IF(T108="","",H108*T108)
C109: 4 | D109: Item - Description 4 | J109: =IF(I109="","",H109*I109) | M109: =IF(L109="","",H109*L109) | O109: =IF(N109="","",H109*N109) | Q109: =IF(P109="","",H109*P109) | S109: =IF(R109="","",H109*R109) | U109: =IF(T109="","",H109*T109)
C110: 5 | D110: Item - Description 5 | J110: =IF(I110="","",H110*I110) | M110: =IF(L110="","",H110*L110) | O110: =IF(N110="","",H110*N110) | Q110: =IF(P110="","",H110*P110) | S110: =IF(R110="","",H110*R110) | U110: =IF(T110="","",H110*T110)
C111: 6 | D111: Item - Description 6 | J111: =IF(I111="","",H111*I111) | M111: =IF(L111="","",H111*L111) | O111: =IF(N111="","",H111*N111) | Q111: =IF(P111="","",H111*P111) | S111: =IF(R111="","",H111*R111) | U111: =IF(T111="","",H111*T111)
C112: 7 | D112: Item - Description 7 | J112: =IF(I112="","",H112*I112) | M112: =IF(L112="","",H112*L112) | O112: =IF(N112="","",H112*N112) | Q112: =IF(P112="","",H112*P112) | S112: =IF(R112="","",H112*R112) | U112: =IF(T112="","",H112*T112)
C113: 8 | D113: Item - Description 8 | J113: =IF(I113="","",H113*I113) | M113: =IF(L113="","",H113*L113) | O113: =IF(N113="","",H113*N113) | Q113: =IF(P113="","",H113*P113) | S113: =IF(R113="","",H113*R113) | U113: =IF(T113="","",H113*T113)
C114: 9 | D114: Item - Description 9 | J114: =IF(I114="","",H114*I114) | M114: =IF(L114="","",H114*L114) | O114: =IF(N114="","",H114*N114) | Q114: =IF(P114="","",H114*P114) | S114: =IF(R114="","",H114*R114) | U114: =IF(T114="","",H114*T114)
C115: 10 | D115: Item - Description 10 | J115: =IF(I115="","",H115*I115) | M115: =IF(L115="","",H115*L115) | O115: =IF(N115="","",H115*N115) | Q115: =IF(P115="","",H115*P115) | S115: =IF(R115="","",H115*R115) | U115: =IF(T115="","",H115*T115)
C116: Phase 5 Totals : | I116: =SUM(J106:J115) -> 0 | L116: =SUM(M106:M115) -> 0 | N116: =SUM(O106:O115) -> 0 | P116: =SUM(Q106:Q115) -> 0 | R116: =SUM(S106:S115) -> 0 | T116: =SUM(U106:U115) -> 0
C118: BID RESULTS | I118: Architect - Engineer Estimate | L118: =IF(L$13="","",L$13) -> Contractor 1 Bid | N118: =IF(N$13="","",N$13) -> Contractor 2 Bid | P118: =IF(P$13="","",P$13) -> Contractor 3 Bid | R118: =IF(R$13="","",R$13) -> Contractor 4 Bid | T118: =IF(T$13="","",T$13) -> Contractor 5 Bid
H119: Total Base Bid : | I119: =SUM(I116,I101,I81,I61,I36) -> 0 | L119: =SUM(L116,L101,L81,L61,L36) -> 0 | N119: =SUM(N116,N101,N81,N61,N36) -> 0 | P119: =SUM(P116,P101,P81,P61,P36) -> 0 | R119: =SUM(R116,R101,R81,R61,R36) -> 0 | T119: =SUM(T116,T101,T81,T61,T36) -> 0
E120: Tax Rate : | F120: 0.1 | H120: Tax : | I120: =IF($F$120="","",$F$120*I119) -> 0 | L120: =IF($F$120="","",$F$120*L119) -> 0 | N120: =IF($F$120="","",$F$120*N119) -> 0 | P120: =IF($F$120="","",$F$120*P119) -> 0 | R120: =IF($F$120="","",$F$120*R119) -> 0 | T120: =IF($F$120="","",$F$120*T119) -> 0
H121: Total Bid Amount : | I121: =SUM(I119:J120) -> 0 | L121: =SUM(L119:M120) -> 0 | N121: =SUM(N119:O120) -> 0 | P121: =SUM(P119:Q120) -> 0 | R121: =SUM(R119:S120) -> 0 | T121: =SUM(T119:U120) -> 0

Sheet Comparison 7
D2: CONTRACTOR BID COMPARISON
D3: COMPARISON 7
C7: Project Name | E7: =IF(Dashboard!E27="","",Dashboard!E27)
C8: Project No | E8: =IF(Dashboard!E28="","",Dashboard!E28)
C9: Location | E9: =IF(Dashboard!E29="","",Dashboard!E29) | S9: You can add Firm Logo
C10: Architect - Engineer | E10: =IF(Dashboard!E30="","",Dashboard!E30)
C11: Bid Date | E11: =IF(Dashboard!E31="","",Dashboard!E31)
C13: Phase 1 Bid Quantities | I13: Architect - Engineer Estimate | L13: Contractor 1 Bid | N13: Contractor 2 Bid | P13: Contractor 3 Bid | R13: Contractor 4 Bid | T13: Contractor 5 Bid
C15: # | D15: Item - Description | G15: Unit | H15: Qty | I15: Unit Price | J15: Amount | L15: Unit Price | M15: Bid Amount | N15: Unit Price | O15: Bid Amount | P15: Unit Price | Q15: Bid Amount | R15: Unit Price | S15: Bid Amount | T15: Unit Price | U15: Bid Amount
C16: 1 | D16: Item - Description 1 | J16: =IF(I16="","",H16*I16) | M16: =IF(L16="","",H16*L16) | O16: =IF(N16="","",H16*N16) | Q16: =IF(P16="","",H16*P16) | S16: =IF(R16="","",H16*R16) | U16: =IF(T16="","",H16*T16)
C17: 2 | D17: Item - Description 2 | J17: =IF(I17="","",H17*I17) | M17: =IF(L17="","",H17*L17) | O17: =IF(N17="","",H17*N17) | Q17: =IF(P17="","",H17*P17) | S17: =IF(R17="","",H17*R17) | U17: =IF(T17="","",H17*T17)
C18: 3 | D18: Item - Description 3 | J18: =IF(I18="","",H18*I18) | M18: =IF(L18="","",H18*L18) | O18: =IF(N18="","",H18*N18) | Q18: =IF(P18="","",H18*P18) | S18: =IF(R18="","",H18*R18) | U18: =IF(T18="","",H18*T18)
C19: 4 | D19: Item - Description 4 | J19: =IF(I19="","",H19*I19) | M19: =IF(L19="","",H19*L19) | O19: =IF(N19="","",H19*N19) | Q19: =IF(P19="","",H19*P19) | S19: =IF(R19="","",H19*R19) | U19: =IF(T19="","",H19*T19)
C20: 5 | D20: Item - Description 5 | J20: =IF(I20="","",H20*I20) | M20: =IF(L20="","",H20*L20) | O20: =IF(N20="","",H20*N20) | Q20: =IF(P20="","",H20*P20) | S20: =IF(R20="","",H20*R20) | U20: =IF(T20="","",H20*T20)
C21: 6 | D21: Item - Description 6 | J21: =IF(I21="","",H21*I21) | M21: =IF(L21="","",H21*L21) | O21: =IF(N21="","",H21*N21) | Q21: =IF(P21="","",H21*P21) | S21: =IF(R21="","",H21*R21) | U21: =IF(T21="","",H21*T21)
C22: 7 | D22: Item - Description 7 | J22: =IF(I22="","",H22*I22) | M22: =IF(L22="","",H22*L22) | O22: =IF(N22="","",H22*N22) | Q22: =IF(P22="","",H22*P22) | S22: =IF(R22="","",H22*R22) | U22: =IF(T22="","",H22*T22)
C23: 8 | D23: Item - Description 8 | J23: =IF(I23="","",H23*I23) | M23: =IF(L23="","",H23*L23) | O23: =IF(N23="","",H23*N23) | Q23: =IF(P23="","",H23*P23) | S23: =IF(R23="","",H23*R23) | U23: =IF(T23="","",H23*T23)
C24: 9 | D24: Item - Description 9 | J24: =IF(I24="","",H24*I24) | M24: =IF(L24="","",H24*L24) | O24: =IF(N24="","",H24*N24) | Q24: =IF(P24="","",H24*P24) | S24: =IF(R24="","",H24*R24) | U24: =IF(T24="","",H24*T24)
C25: 10 | D25: Item - Description 10 | J25: =IF(I25="","",H25*I25) | M25: =IF(L25="","",H25*L25) | O25: =IF(N25="","",H25*N25) | Q25: =IF(P25="","",H25*P25) | S25: =IF(R25="","",H25*R25) | U25: =IF(T25="","",H25*T25)
C26: 11 | D26: Item - Description 11 | J26: =IF(I26="","",H26*I26) | M26: =IF(L26="","",H26*L26) | O26: =IF(N26="","",H26*N26) | Q26: =IF(P26="","",H26*P26) | S26: =IF(R26="","",H26*R26) | U26: =IF(T26="","",H26*T26)
C27: 12 | D27: Item - Description 12 | J27: =IF(I27="","",H27*I27) | M27: =IF(L27="","",H27*L27) | O27: =IF(N27="","",H27*N27) | Q27: =IF(P27="","",H27*P27) | S27: =IF(R27="","",H27*R27) | U27: =IF(T27="","",H27*T27)
... C35: 20 | D35: Item - Description 20 | J35: =IF(I35="","",H35*I35) | M35: =IF(L35="","",H35*L35) | O35: =IF(N35="","",H35*N35) | Q35: =IF(P35="","",H35*P35) | S35: =IF(R35="","",H35*R35) | U35: =IF(T35="","",H35*T35)
C36: Phase 1 Totals : | I36: =SUM(J16:J35) -> 0 | L36: =SUM(M16:M35) -> 0 | N36: =SUM(O16:O35) -> 0 | P36: =SUM(Q16:Q35) -> 0 | R36: =SUM(S16:S35) -> 0 | T36: =SUM(U16:U35) -> 0
C38: Phase 2 Bid Quantities | I38: Architect - Engineer Estimate | L38: =IF(L$13="","",L$13) -> Contractor 1 Bid | N38: =IF(N$13="","",N$13) -> Contractor 2 Bid | P38: =IF(P$13="","",P$13) -> Contractor 3 Bid | R38: =IF(R$13="","",R$13) -> Contractor 4 Bid | T38: =IF(T$13="","",T$13) -> Contractor 5 Bid
C40: # | D40: Item - Description | G40: Unit | H40: Qty | I40: Unit Price | J40: Amount | L40: Unit Price | M40: Bid Amount | N40: Unit Price | O40: Bid Amount | P40: Unit Price | Q40: Bid Amount | R40: Unit Price | S40: Bid Amount | T40: Unit Price | U40: Bid Amount
C41: 1 | D41: Item - Description 1 | J41: =IF(I41="","",H41*I41) | M41: =IF(L41="","",H41*L41) | O41: =IF(N41="","",H41*N41) | Q41: =IF(P41="","",H41*P41) | S41: =IF(R41="","",H41*R41) | U41: =IF(T41="","",H41*T41)
C42: 2 | D42: Item - Description 2 | J42: =IF(I42="","",H42*I42) | M42: =IF(L42="","",H42*L42) | O42: =IF(N42="","",H42*N42) | Q42: =IF(P42="","",H42*P42) | S42: =IF(R42="","",H42*R42) | U42: =IF(T42="","",H42*T42)
C43: 3 | D43: Item - Description 3 | J43: =IF(I43="","",H43*I43) | M43: =IF(L43="","",H43*L43) | O43: =IF(N43="","",H43*N43) | Q43: =IF(P43="","",H43*P43) | S43: =IF(R43="","",H43*R43) | U43: =IF(T43="","",H43*T43)
C44: 4 | D44: Item - Description 4 | J44: =IF(I44="","",H44*I44) | M44: =IF(L44="","",H44*L44) | O44: =IF(N44="","",H44*N44) | Q44: =IF(P44="","",H44*P44) | S44: =IF(R44="","",H44*R44) | U44: =IF(T44="","",H44*T44)
C45: 5 | D45: Item - Description 5 | J45: =IF(I45="","",H45*I45) | M45: =IF(L45="","",H45*L45) | O45: =IF(N45="","",H45*N45) | Q45: =IF(P45="","",H45*P45) | S45: =IF(R45="","",H45*R45) | U45: =IF(T45="","",H45*T45)
C46: 6 | D46: Item - Description 6 | J46: =IF(I46="","",H46*I46) | M46: =IF(L46="","",H46*L46) | O46: =IF(N46="","",H46*N46) | Q46: =IF(P46="","",H46*P46) | S46: =IF(R46="","",H46*R46) | U46: =IF(T46="","",H46*T46)
C47: 7 | D47: Item - Description 7 | J47: =IF(I47="","",H47*I47) | M47: =IF(L47="","",H47*L47) | O47: =IF(N47="","",H47*N47) | Q47: =IF(P47="","",H47*P47) | S47: =IF(R47="","",H47*R47) | U47: =IF(T47="","",H47*T47)
C48: 8 | D48: Item - Description 8 | J48: =IF(I48="","",H48*I48) | M48: =IF(L48="","",H48*L48) | O48: =IF(N48="","",H48*N48) | Q48: =IF(P48="","",H48*P48) | S48: =IF(R48="","",H48*R48) | U48: =IF(T48="","",H48*T48)
C49: 9 | D49: Item - Description 9 | J49: =IF(I49="","",H49*I49) | M49: =IF(L49="","",H49*L49) | O49: =IF(N49="","",H49*N49) | Q49: =IF(P49="","",H49*P49) | S49: =IF(R49="","",H49*R49) | U49: =IF(T49="","",H49*T49)
C50: 10 | D50: Item - Description 10 | J50: =IF(I50="","",H50*I50) | M50: =IF(L50="","",H50*L50) | O50: =IF(N50="","",H50*N50) | Q50: =IF(P50="","",H50*P50) | S50: =IF(R50="","",H50*R50) | U50: =IF(T50="","",H50*T50)
C51: 11 | D51: Item - Description 11 | J51: =IF(I51="","",H51*I51) | M51: =IF(L51="","",H51*L51) | O51: =IF(N51="","",H51*N51) | Q51: =IF(P51="","",H51*P51) | S51: =IF(R51="","",H51*R51) | U51: =IF(T51="","",H51*T51)
C52: 12 | D52: Item - Description 12 | J52: =IF(I52="","",H52*I52) | M52: =IF(L52="","",H52*L52) | O52: =IF(N52="","",H52*N52) | Q52: =IF(P52="","",H52*P52) | S52: =IF(R52="","",H52*R52) | U52: =IF(T52="","",H52*T52)
... C60: 20 | D60: Item - Description 20 | J60: =IF(I60="","",H60*I60) | M60: =IF(L60="","",H60*L60) | O60: =IF(N60="","",H60*N60) | Q60: =IF(P60="","",H60*P60) | S60: =IF(R60="","",H60*R60) | U60: =IF(T60="","",H60*T60)
C61: Phase 2 Totals : | I61: =SUM(J41:J60) -> 0 | L61: =SUM(M41:M60) -> 0 | N61: =SUM(O41:O60) -> 0 | P61: =SUM(Q41:Q60) -> 0 | R61: =SUM(S41:S60) -> 0 | T61: =SUM(U41:U60) -> 0
C63: Phase 3 Bid Quantities | I63: Architect - Engineer Estimate | L63: =IF(L$13="","",L$13) -> Contractor 1 Bid | N63: =IF(N$13="","",N$13) -> Contractor 2 Bid | P63: =IF(P$13="","",P$13) -> Contractor 3 Bid | R63: =IF(R$13="","",R$13) -> Contractor 4 Bid | T63: =IF(T$13="","",T$13) -> Contractor 5 Bid
C65: # | D65: Item - Description | G65: Unit | H65: Qty | I65: Unit Price | J65: Amount | L65: Unit Price | M65: Bid Amount | N65: Unit Price | O65: Bid Amount | P65: Unit Price | Q65: Bid Amount | R65: Unit Price | S65: Bid Amount | T65: Unit Price | U65: Bid Amount
C66: 1 | D66: Item - Description 1 | J66: =IF(I66="","",H66*I66) | M66: =IF(L66="","",H66*L66) | O66: =IF(N66="","",H66*N66) | Q66: =IF(P66="","",H66*P66) | S66: =IF(R66="","",H66*R66) | U66: =IF(T66="","",H66*T66)
C67: 2 | D67: Item - Description 2 | J67: =IF(I67="","",H67*I67) | M67: =IF(L67="","",H67*L67) | O67: =IF(N67="","",H67*N67) | Q67: =IF(P67="","",H67*P67) | S67: =IF(R67="","",H67*R67) | U67: =IF(T67="","",H67*T67)
C68: 3 | D68: Item - Description 3 | J68: =IF(I68="","",H68*I68) | M68: =IF(L68="","",H68*L68) | O68: =IF(N68="","",H68*N68) | Q68: =IF(P68="","",H68*P68) | S68: =IF(R68="","",H68*R68) | U68: =IF(T68="","",H68*T68)
C69: 4 | D69: Item - Description 4 | J69: =IF(I69="","",H69*I69) | M69: =IF(L69="","",H69*L69) | O69: =IF(N69="","",H69*N69) | Q69: =IF(P69="","",H69*P69) | S69: =IF(R69="","",H69*R69) | U69: =IF(T69="","",H69*T69)
C70: 5 | D70: Item - Description 5 | J70: =IF(I70="","",H70*I70) | M70: =IF(L70="","",H70*L70) | O70: =IF(N70="","",H70*N70) | Q70: =IF(P70="","",H70*P70) | S70: =IF(R70="","",H70*R70) | U70: =IF(T70="","",H70*T70)
C71: 6 | D71: Item - Description 6 | J71: =IF(I71="","",H71*I71) | M71: =IF(L71="","",H71*L71) | O71: =IF(N71="","",H71*N71) | Q71: =IF(P71="","",H71*P71) | S71: =IF(R71="","",H71*R71) | U71: =IF(T71="","",H71*T71)
C72: 7 | D72: Item - Description 7 | J72: =IF(I72="","",H72*I72) | M72: =IF(L72="","",H72*L72) | O72: =IF(N72="","",H72*N72) | Q72: =IF(P72="","",H72*P72) | S72: =IF(R72="","",H72*R72) | U72: =IF(T72="","",H72*T72)
C73: 8 | D73: Item - Description 8 | J73: =IF(I73="","",H73*I73) | M73: =IF(L73="","",H73*L73) | O73: =IF(N73="","",H73*N73) | Q73: =IF(P73="","",H73*P73) | S73: =IF(R73="","",H73*R73) | U73: =IF(T73="","",H73*T73)
C74: 9 | D74: Item - Description 9 | J74: =IF(I74="","",H74*I74) | M74: =IF(L74="","",H74*L74) | O74: =IF(N74="","",H74*N74) | Q74: =IF(P74="","",H74*P74) | S74: =IF(R74="","",H74*R74) | U74: =IF(T74="","",H74*T74)
C75: 10 | D75: Item - Description 10 | J75: =IF(I75="","",H75*I75) | M75: =IF(L75="","",H75*L75) | O75: =IF(N75="","",H75*N75) | Q75: =IF(P75="","",H75*P75) | S75: =IF(R75="","",H75*R75) | U75: =IF(T75="","",H75*T75)
C76: 11 | D76: Item - Description 11 | J76: =IF(I76="","",H76*I76) | M76: =IF(L76="","",H76*L76) | O76: =IF(N76="","",H76*N76) | Q76: =IF(P76="","",H76*P76) | S76: =IF(R76="","",H76*R76) | U76: =IF(T76="","",H76*T76)
C77: 12 | D77: Item - Description 12 | J77: =IF(I77="","",H77*I77) | M77: =IF(L77="","",H77*L77) | O77: =IF(N77="","",H77*N77) | Q77: =IF(P77="","",H77*P77) | S77: =IF(R77="","",H77*R77) | U77: =IF(T77="","",H77*T77)
... C80: 15 | D80: Item - Description 15 | J80: =IF(I80="","",H80*I80) | M80: =IF(L80="","",H80*L80) | O80: =IF(N80="","",H80*N80) | Q80: =IF(P80="","",H80*P80) | S80: =IF(R80="","",H80*R80) | U80: =IF(T80="","",H80*T80)
C81: Phase 3 Totals : | I81: =SUM(J66:J80) -> 0 | L81: =SUM(M66:M80) -> 0 | N81: =SUM(O66:O80) -> 0 | P81: =SUM(Q66:Q80) -> 0 | R81: =SUM(S66:S80) -> 0 | T81: =SUM(U66:U80) -> 0
C83: Phase 4 Bid Quantities | I83: Architect - Engineer Estimate | L83: =IF(L$13="","",L$13) -> Contractor 1 Bid | N83: =IF(N$13="","",N$13) -> Contractor 2 Bid | P83: =IF(P$13="","",P$13) -> Contractor 3 Bid | R83: =IF(R$13="","",R$13) -> Contractor 4 Bid | T83: =IF(T$13="","",T$13) -> Contractor 5 Bid
C85: # | D85: Item - Description | G85: Unit | H85: Qty | I85: Unit Price | J85: Amount | L85: Unit Price | M85: Bid Amount | N85: Unit Price | O85: Bid Amount | P85: Unit Price | Q85: Bid Amount | R85: Unit Price | S85: Bid Amount | T85: Unit Price | U85: Bid Amount
C86: 1 | D86: Item - Description 1 | J86: =IF(I86="","",H86*I86) | M86: =IF(L86="","",H86*L86) | O86: =IF(N86="","",H86*N86) | Q86: =IF(P86="","",H86*P86) | S86: =IF(R86="","",H86*R86) | U86: =IF(T86="","",H86*T86)
C87: 2 | D87: Item - Description 2 | J87: =IF(I87="","",H87*I87) | M87: =IF(L87="","",H87*L87) | O87: =IF(N87="","",H87*N87) | Q87: =IF(P87="","",H87*P87) | S87: =IF(R87="","",H87*R87) | U87: =IF(T87="","",H87*T87)
C88: 3 | D88: Item - Description 3 | J88: =IF(I88="","",H88*I88) | M88: =IF(L88="","",H88*L88) | O88: =IF(N88="","",H88*N88) | Q88: =IF(P88="","",H88*P88) | S88: =IF(R88="","",H88*R88) | U88: =IF(T88="","",H88*T88)
C89: 4 | D89: Item - Description 4 | J89: =IF(I89="","",H89*I89) | M89: =IF(L89="","",H89*L89) | O89: =IF(N89="","",H89*N89) | Q89: =IF(P89="","",H89*P89) | S89: =IF(R89="","",H89*R89) | U89: =IF(T89="","",H89*T89)
C90: 5 | D90: Item - Description 5 | J90: =IF(I90="","",H90*I90) | M90: =IF(L90="","",H90*L90) | O90: =IF(N90="","",H90*N90) | Q90: =IF(P90="","",H90*P90) | S90: =IF(R90="","",H90*R90) | U90: =IF(T90="","",H90*T90)
C91: 6 | D91: Item - Description 6 | J91: =IF(I91="","",H91*I91) | M91: =IF(L91="","",H91*L91) | O91: =IF(N91="","",H91*N91) | Q91: =IF(P91="","",H91*P91) | S91: =IF(R91="","",H91*R91) | U91: =IF(T91="","",H91*T91)
C92: 7 | D92: Item - Description 7 | J92: =IF(I92="","",H92*I92) | M92: =IF(L92="","",H92*L92) | O92: =IF(N92="","",H92*N92) | Q92: =IF(P92="","",H92*P92) | S92: =IF(R92="","",H92*R92) | U92: =IF(T92="","",H92*T92)
C93: 8 | D93: Item - Description 8 | J93: =IF(I93="","",H93*I93) | M93: =IF(L93="","",H93*L93) | O93: =IF(N93="","",H93*N93) | Q93: =IF(P93="","",H93*P93) | S93: =IF(R93="","",H93*R93) | U93: =IF(T93="","",H93*T93)
C94: 9 | D94: Item - Description 9 | J94: =IF(I94="","",H94*I94) | M94: =IF(L94="","",H94*L94) | O94: =IF(N94="","",H94*N94) | Q94: =IF(P94="","",H94*P94) | S94: =IF(R94="","",H94*R94) | U94: =IF(T94="","",H94*T94)
C95: 10 | D95: Item - Description 10 | J95: =IF(I95="","",H95*I95) | M95: =IF(L95="","",H95*L95) | O95: =IF(N95="","",H95*N95) | Q95: =IF(P95="","",H95*P95) | S95: =IF(R95="","",H95*R95) | U95: =IF(T95="","",H95*T95)
C96: 11 | D96: Item - Description 11 | J96: =IF(I96="","",H96*I96) | M96: =IF(L96="","",H96*L96) | O96: =IF(N96="","",H96*N96) | Q96: =IF(P96="","",H96*P96) | S96: =IF(R96="","",H96*R96) | U96: =IF(T96="","",H96*T96)
C97: 12 | D97: Item - Description 12 | J97: =IF(I97="","",H97*I97) | M97: =IF(L97="","",H97*L97) | O97: =IF(N97="","",H97*N97) | Q97: =IF(P97="","",H97*P97) | S97: =IF(R97="","",H97*R97) | U97: =IF(T97="","",H97*T97)
... C100: 15 | D100: Item - Description 15 | J100: =IF(I100="","",H100*I100) | M100: =IF(L100="","",H100*L100) | O100: =IF(N100="","",H100*N100) | Q100: =IF(P100="","",H100*P100) | S100: =IF(R100="","",H100*R100) | U100: =IF(T100="","",H100*T100)
C101: Phase 4 Totals : | I101: =SUM(J86:J100) -> 0 | L101: =SUM(M86:M100) -> 0 | N101: =SUM(O86:O100) -> 0 | P101: =SUM(Q86:Q100) -> 0 | R101: =SUM(S86:S100) -> 0 | T101: =SUM(U86:U100) -> 0
C103: Phase 5 Bid Quantities | I103: Architect - Engineer Estimate | L103: =IF(L$13="","",L$13) -> Contractor 1 Bid | N103: =IF(N$13="","",N$13) -> Contractor 2 Bid | P103: =IF(P$13="","",P$13) -> Contractor 3 Bid | R103: =IF(R$13="","",R$13) -> Contractor 4 Bid | T103: =IF(T$13="","",T$13) -> Contractor 5 Bid
C105: # | D105: Item - Description | G105: Unit | H105: Qty | I105: Unit Price | J105: Amount | L105: Unit Price | M105: Bid Amount | N105: Unit Price | O105: Bid Amount | P105: Unit Price | Q105: Bid Amount | R105: Unit Price | S105: Bid Amount | T105: Unit Price | U105: Bid Amount
C106: 1 | D106: Item - Description 1 | J106: =IF(I106="","",H106*I106) | M106: =IF(L106="","",H106*L106) | O106: =IF(N106="","",H106*N106) | Q106: =IF(P106="","",H106*P106) | S106: =IF(R106="","",H106*R106) | U106: =IF(T106="","",H106*T106)
C107: 2 | D107: Item - Description 2 | J107: =IF(I107="","",H107*I107) | M107: =IF(L107="","",H107*L107) | O107: =IF(N107="","",H107*N107) | Q107: =IF(P107="","",H107*P107) | S107: =IF(R107="","",H107*R107) | U107: =IF(T107="","",H107*T107)
C108: 3 | D108: Item - Description 3 | J108: =IF(I108="","",H108*I108) | M108: =IF(L108="","",H108*L108) | O108: =IF(N108="","",H108*N108) | Q108: =IF(P108="","",H108*P108) | S108: =IF(R108="","",H108*R108) | U108: =IF(T108="","",H108*T108)
C109: 4 | D109: Item - Description 4 | J109: =IF(I109="","",H109*I109) | M109: =IF(L109="","",H109*L109) | O109: =IF(N109="","",H109*N109) | Q109: =IF(P109="","",H109*P109) | S109: =IF(R109="","",H109*R109) | U109: =IF(T109="","",H109*T109)
C110: 5 | D110: Item - Description 5 | J110: =IF(I110="","",H110*I110) | M110: =IF(L110="","",H110*L110) | O110: =IF(N110="","",H110*N110) | Q110: =IF(P110="","",H110*P110) | S110: =IF(R110="","",H110*R110) | U110: =IF(T110="","",H110*T110)
C111: 6 | D111: Item - Description 6 | J111: =IF(I111="","",H111*I111) | M111: =IF(L111="","",H111*L111) | O111: =IF(N111="","",H111*N111) | Q111: =IF(P111="","",H111*P111) | S111: =IF(R111="","",H111*R111) | U111: =IF(T111="","",H111*T111)
C112: 7 | D112: Item - Description 7 | J112: =IF(I112="","",H112*I112) | M112: =IF(L112="","",H112*L112) | O112: =IF(N112="","",H112*N112) | Q112: =IF(P112="","",H112*P112) | S112: =IF(R112="","",H112*R112) | U112: =IF(T112="","",H112*T112)
C113: 8 | D113: Item - Description 8 | J113: =IF(I113="","",H113*I113) | M113: =IF(L113="","",H113*L113) | O113: =IF(N113="","",H113*N113) | Q113: =IF(P113="","",H113*P113) | S113: =IF(R113="","",H113*R113) | U113: =IF(T113="","",H113*T113)
C114: 9 | D114: Item - Description 9 | J114: =IF(I114="","",H114*I114) | M114: =IF(L114="","",H114*L114) | O114: =IF(N114="","",H114*N114) | Q114: =IF(P114="","",H114*P114) | S114: =IF(R114="","",H114*R114) | U114: =IF(T114="","",H114*T114)
C115: 10 | D115: Item - Description 10 | J115: =IF(I115="","",H115*I115) | M115: =IF(L115="","",H115*L115) | O115: =IF(N115="","",H115*N115) | Q115: =IF(P115="","",H115*P115) | S115: =IF(R115="","",H115*R115) | U115: =IF(T115="","",H115*T115)
C116: Phase 5 Totals : | I116: =SUM(J106:J115) -> 0 | L116: =SUM(M106:M115) -> 0 | N116: =SUM(O106:O115) -> 0 | P116: =SUM(Q106:Q115) -> 0 | R116: =SUM(S106:S115) -> 0 | T116: =SUM(U106:U115) -> 0
C118: BID RESULTS | I118: Architect - Engineer Estimate | L118: =IF(L$13="","",L$13) -> Contractor 1 Bid | N118: =IF(N$13="","",N$13) -> Contractor 2 Bid | P118: =IF(P$13="","",P$13) -> Contractor 3 Bid | R118: =IF(R$13="","",R$13) -> Contractor 4 Bid | T118: =IF(T$13="","",T$13) -> Contractor 5 Bid
H119: Total Base Bid : | I119: =SUM(I116,I101,I81,I61,I36) -> 0 | L119: =SUM(L116,L101,L81,L61,L36) -> 0 | N119: =SUM(N116,N101,N81,N61,N36) -> 0 | P119: =SUM(P116,P101,P81,P61,P36) -> 0 | R119: =SUM(R116,R101,R81,R61,R36) -> 0 | T119: =SUM(T116,T101,T81,T61,T36) -> 0
E120: Tax Rate : | F120: 0.1 | H120: Tax : | I120: =IF($F$120="","",$F$120*I119) -> 0 | L120: =IF($F$120="","",$F$120*L119) -> 0 | N120: =IF($F$120="","",$F$120*N119) -> 0 | P120: =IF($F$120="","",$F$120*P119) -> 0 | R120: =IF($F$120="","",$F$120*R119) -> 0 | T120: =IF($F$120="","",$F$120*T119) -> 0
H121: Total Bid Amount : | I121: =SUM(I119:J120) -> 0 | L121: =SUM(L119:M120) -> 0 | N121: =SUM(N119:O120) -> 0 | P121: =SUM(P119:Q120) -> 0 | R121: =SUM(R119:S120) -> 0 | T121: =SUM(T119:U120) -> 0

Sheet Comparison 8
D2: CONTRACTOR BID COMPARISON
D3: COMPARISON 8
C7: Project Name | E7: =IF(Dashboard!I27="","",Dashboard!I27)
C8: Project No | E8: =IF(Dashboard!I28="","",Dashboard!I28)
C9: Location | E9: =IF(Dashboard!I29="","",Dashboard!I29) | S9: You can add Firm Logo
C10: Architect - Engineer | E10: =IF(Dashboard!I30="","",Dashboard!I30)
C11: Bid Date | E11: =IF(Dashboard!I31="","",Dashboard!I31)
C13: Phase 1 Bid Quantities | I13: Architect - Engineer Estimate | L13: Contractor 1 Bid | N13: Contractor 2 Bid | P13: Contractor 3 Bid | R13: Contractor 4 Bid | T13: Contractor 5 Bid
C15: # | D15: Item - Description | G15: Unit | H15: Qty | I15: Unit Price | J15: Amount | L15: Unit Price | M15: Bid Amount | N15: Unit Price | O15: Bid Amount | P15: Unit Price | Q15: Bid Amount | R15: Unit Price | S15: Bid Amount | T15: Unit Price | U15: Bid Amount
C16: 1 | D16: Item - Description 1 | J16: =IF(I16="","",H16*I16) | M16: =IF(L16="","",H16*L16) | O16: =IF(N16="","",H16*N16) | Q16: =IF(P16="","",H16*P16) | S16: =IF(R16="","",H16*R16) | U16: =IF(T16="","",H16*T16)
C17: 2 | D17: Item - Description 2 | J17: =IF(I17="","",H17*I17) | M17: =IF(L17="","",H17*L17) | O17: =IF(N17="","",H17*N17) | Q17: =IF(P17="","",H17*P17) | S17: =IF(R17="","",H17*R17) | U17: =IF(T17="","",H17*T17)
C18: 3 | D18: Item - Description 3 | J18: =IF(I18="","",H18*I18) | M18: =IF(L18="","",H18*L18) | O18: =IF(N18="","",H18*N18) | Q18: =IF(P18="","",H18*P18) | S18: =IF(R18="","",H18*R18) | U18: =IF(T18="","",H18*T18)
C19: 4 | D19: Item - Description 4 | J19: =IF(I19="","",H19*I19) | M19: =IF(L19="","",H19*L19) | O19: =IF(N19="","",H19*N19) | Q19: =IF(P19="","",H19*P19) | S19: =IF(R19="","",H19*R19) | U19: =IF(T19="","",H19*T19)
C20: 5 | D20: Item - Description 5 | J20: =IF(I20="","",H20*I20) | M20: =IF(L20="","",H20*L20) | O20: =IF(N20="","",H20*N20) | Q20: =IF(P20="","",H20*P20) | S20: =IF(R20="","",H20*R20) | U20: =IF(T20="","",H20*T20)
C21: 6 | D21: Item - Description 6 | J21: =IF(I21="","",H21*I21) | M21: =IF(L21="","",H21*L21) | O21: =IF(N21="","",H21*N21) | Q21: =IF(P21="","",H21*P21) | S21: =IF(R21="","",H21*R21) | U21: =IF(T21="","",H21*T21)
C22: 7 | D22: Item - Description 7 | J22: =IF(I22="","",H22*I22) | M22: =IF(L22="","",H22*L22) | O22: =IF(N22="","",H22*N22) | Q22: =IF(P22="","",H22*P22) | S22: =IF(R22="","",H22*R22) | U22: =IF(T22="","",H22*T22)
C23: 8 | D23: Item - Description 8 | J23: =IF(I23="","",H23*I23) | M23: =IF(L23="","",H23*L23) | O23: =IF(N23="","",H23*N23) | Q23: =IF(P23="","",H23*P23) | S23: =IF(R23="","",H23*R23) | U23: =IF(T23="","",H23*T23)
C24: 9 | D24: Item - Description 9 | J24: =IF(I24="","",H24*I24) | M24: =IF(L24="","",H24*L24) | O24: =IF(N24="","",H24*N24) | Q24: =IF(P24="","",H24*P24) | S24: =IF(R24="","",H24*R24) | U24: =IF(T24="","",H24*T24)
C25: 10 | D25: Item - Description 10 | J25: =IF(I25="","",H25*I25) | M25: =IF(L25="","",H25*L25) | O25: =IF(N25="","",H25*N25) | Q25: =IF(P25="","",H25*P25) | S25: =IF(R25="","",H25*R25) | U25: =IF(T25="","",H25*T25)
C26: 11 | D26: Item - Description 11 | J26: =IF(I26="","",H26*I26) | M26: =IF(L26="","",H26*L26) | O26: =IF(N26="","",H26*N26) | Q26: =IF(P26="","",H26*P26) | S26: =IF(R26="","",H26*R26) | U26: =IF(T26="","",H26*T26)
C27: 12 | D27: Item - Description 12 | J27: =IF(I27="","",H27*I27) | M27: =IF(L27="","",H27*L27) | O27: =IF(N27="","",H27*N27) | Q27: =IF(P27="","",H27*P27) | S27: =IF(R27="","",H27*R27) | U27: =IF(T27="","",H27*T27)
... C35: 20 | D35: Item - Description 20 | J35: =IF(I35="","",H35*I35) | M35: =IF(L35="","",H35*L35) | O35: =IF(N35="","",H35*N35) | Q35: =IF(P35="","",H35*P35) | S35: =IF(R35="","",H35*R35) | U35: =IF(T35="","",H35*T35)
C36: Phase 1 Totals : | I36: =SUM(J16:J35) -> 0 | L36: =SUM(M16:M35) -> 0 | N36: =SUM(O16:O35) -> 0 | P36: =SUM(Q16:Q35) -> 0 | R36: =SUM(S16:S35) -> 0 | T36: =SUM(U16:U35) -> 0
C38: Phase 2 Bid Quantities | I38: Architect - Engineer Estimate | L38: =IF(L$13="","",L$13) -> Contractor 1 Bid | N38: =IF(N$13="","",N$13) -> Contractor 2 Bid | P38: =IF(P$13="","",P$13) -> Contractor 3 Bid | R38: =IF(R$13="","",R$13) -> Contractor 4 Bid | T38: =IF(T$13="","",T$13) -> Contractor 5 Bid
C40: # | D40: Item - Description | G40: Unit | H40: Qty | I40: Unit Price | J40: Amount | L40: Unit Price | M40: Bid Amount | N40: Unit Price | O40: Bid Amount | P40: Unit Price | Q40: Bid Amount | R40: Unit Price | S40: Bid Amount | T40: Unit Price | U40: Bid Amount
C41: 1 | D41: Item - Description 1 | J41: =IF(I41="","",H41*I41) | M41: =IF(L41="","",H41*L41) | O41: =IF(N41="","",H41*N41) | Q41: =IF(P41="","",H41*P41) | S41: =IF(R41="","",H41*R41) | U41: =IF(T41="","",H41*T41)
C42: 2 | D42: Item - Description 2 | J42: =IF(I42="","",H42*I42) | M42: =IF(L42="","",H42*L42) | O42: =IF(N42="","",H42*N42) | Q42: =IF(P42="","",H42*P42) | S42: =IF(R42="","",H42*R42) | U42: =IF(T42="","",H42*T42)
C43: 3 | D43: Item - Description 3 | J43: =IF(I43="","",H43*I43) | M43: =IF(L43="","",H43*L43) | O43: =IF(N43="","",H43*N43) | Q43: =IF(P43="","",H43*P43) | S43: =IF(R43="","",H43*R43) | U43: =IF(T43="","",H43*T43)
C44: 4 | D44: Item - Description 4 | J44: =IF(I44="","",H44*I44) | M44: =IF(L44="","",H44*L44) | O44: =IF(N44="","",H44*N44) | Q44: =IF(P44="","",H44*P44) | S44: =IF(R44="","",H44*R44) | U44: =IF(T44="","",H44*T44)
C45: 5 | D45: Item - Description 5 | J45: =IF(I45="","",H45*I45) | M45: =IF(L45="","",H45*L45) | O45: =IF(N45="","",H45*N45) | Q45: =IF(P45="","",H45*P45) | S45: =IF(R45="","",H45*R45) | U45: =IF(T45="","",H45*T45)
C46: 6 | D46: Item - Description 6 | J46: =IF(I46="","",H46*I46) | M46: =IF(L46="","",H46*L46) | O46: =IF(N46="","",H46*N46) | Q46: =IF(P46="","",H46*P46) | S46: =IF(R46="","",H46*R46) | U46: =IF(T46="","",H46*T46)
C47: 7 | D47: Item - Description 7 | J47: =IF(I47="","",H47*I47) | M47: =IF(L47="","",H47*L47) | O47: =IF(N47="","",H47*N47) | Q47: =IF(P47="","",H47*P47) | S47: =IF(R47="","",H47*R47) | U47: =IF(T47="","",H47*T47)
C48: 8 | D48: Item - Description 8 | J48: =IF(I48="","",H48*I48) | M48: =IF(L48="","",H48*L48) | O48: =IF(N48="","",H48*N48) | Q48: =IF(P48="","",H48*P48) | S48: =IF(R48="","",H48*R48) | U48: =IF(T48="","",H48*T48)
C49: 9 | D49: Item - Description 9 | J49: =IF(I49="","",H49*I49) | M49: =IF(L49="","",H49*L49) | O49: =IF(N49="","",H49*N49) | Q49: =IF(P49="","",H49*P49) | S49: =IF(R49="","",H49*R49) | U49: =IF(T49="","",H49*T49)
C50: 10 | D50: Item - Description 10 | J50: =IF(I50="","",H50*I50) | M50: =IF(L50="","",H50*L50) | O50: =IF(N50="","",H50*N50) | Q50: =IF(P50="","",H50*P50) | S50: =IF(R50="","",H50*R50) | U50: =IF(T50="","",H50*T50)
C51: 11 | D51: Item - Description 11 | J51: =IF(I51="","",H51*I51) | M51: =IF(L51="","",H51*L51) | O51: =IF(N51="","",H51*N51) | Q51: =IF(P51="","",H51*P51) | S51: =IF(R51="","",H51*R51) | U51: =IF(T51="","",H51*T51)
C52: 12 | D52: Item - Description 12 | J52: =IF(I52="","",H52*I52) | M52: =IF(L52="","",H52*L52) | O52: =IF(N52="","",H52*N52) | Q52: =IF(P52="","",H52*P52) | S52: =IF(R52="","",H52*R52) | U52: =IF(T52="","",H52*T52)
... C60: 20 | D60: Item - Description 20 | J60: =IF(I60="","",H60*I60) | M60: =IF(L60="","",H60*L60) | O60: =IF(N60="","",H60*N60) | Q60: =IF(P60="","",H60*P60) | S60: =IF(R60="","",H60*R60) | U60: =IF(T60="","",H60*T60)
C61: Phase 2 Totals : | I61: =SUM(J41:J60) -> 0 | L61: =SUM(M41:M60) -> 0 | N61: =SUM(O41:O60) -> 0 | P61: =SUM(Q41:Q60) -> 0 | R61: =SUM(S41:S60) -> 0 | T61: =SUM(U41:U60) -> 0
C63: Phase 3 Bid Quantities | I63: Architect - Engineer Estimate | L63: =IF(L$13="","",L$13) -> Contractor 1 Bid | N63: =IF(N$13="","",N$13) -> Contractor 2 Bid | P63: =IF(P$13="","",P$13) -> Contractor 3 Bid | R63: =IF(R$13="","",R$13) -> Contractor 4 Bid | T63: =IF(T$13="","",T$13) -> Contractor 5 Bid
C65: # | D65: Item - Description | G65: Unit | H65: Qty | I65: Unit Price | J65: Amount | L65: Unit Price | M65: Bid Amount | N65: Unit Price | O65: Bid Amount | P65: Unit Price | Q65: Bid Amount | R65: Unit Price | S65: Bid Amount | T65: Unit Price | U65: Bid Amount
C66: 1 | D66: Item - Description 1 | J66: =IF(I66="","",H66*I66) | M66: =IF(L66="","",H66*L66) | O66: =IF(N66="","",H66*N66) | Q66: =IF(P66="","",H66*P66) | S66: =IF(R66="","",H66*R66) | U66: =IF(T66="","",H66*T66)
C67: 2 | D67: Item - Description 2 | J67: =IF(I67="","",H67*I67) | M67: =IF(L67="","",H67*L67) | O67: =IF(N67="","",H67*N67) | Q67: =IF(P67="","",H67*P67) | S67: =IF(R67="","",H67*R67) | U67: =IF(T67="","",H67*T67)
C68: 3 | D68: Item - Description 3 | J68: =IF(I68="","",H68*I68) | M68: =IF(L68="","",H68*L68) | O68: =IF(N68="","",H68*N68) | Q68: =IF(P68="","",H68*P68) | S68: =IF(R68="","",H68*R68) | U68: =IF(T68="","",H68*T68)
C69: 4 | D69: Item - Description 4 | J69: =IF(I69="","",H69*I69) | M69: =IF(L69="","",H69*L69) | O69: =IF(N69="","",H69*N69) | Q69: =IF(P69="","",H69*P69) | S69: =IF(R69="","",H69*R69) | U69: =IF(T69="","",H69*T69)
C70: 5 | D70: Item - Description 5 | J70: =IF(I70="","",H70*I70) | M70: =IF(L70="","",H70*L70) | O70: =IF(N70="","",H70*N70) | Q70: =IF(P70="","",H70*P70) | S70: =IF(R70="","",H70*R70) | U70: =IF(T70="","",H70*T70)
C71: 6 | D71: Item - Description 6 | J71: =IF(I71="","",H71*I71) | M71: =IF(L71="","",H71*L71) | O71: =IF(N71="","",H71*N71) | Q71: =IF(P71="","",H71*P71) | S71: =IF(R71="","",H71*R71) | U71: =IF(T71="","",H71*T71)
C72: 7 | D72: Item - Description 7 | J72: =IF(I72="","",H72*I72) | M72: =IF(L72="","",H72*L72) | O72: =IF(N72="","",H72*N72) | Q72: =IF(P72="","",H72*P72) | S72: =IF(R72="","",H72*R72) | U72: =IF(T72="","",H72*T72)
C73: 8 | D73: Item - Description 8 | J73: =IF(I73="","",H73*I73) | M73: =IF(L73="","",H73*L73) | O73: =IF(N73="","",H73*N73) | Q73: =IF(P73="","",H73*P73) | S73: =IF(R73="","",H73*R73) | U73: =IF(T73="","",H73*T73)
C74: 9 | D74: Item - Description 9 | J74: =IF(I74="","",H74*I74) | M74: =IF(L74="","",H74*L74) | O74: =IF(N74="","",H74*N74) | Q74: =IF(P74="","",H74*P74) | S74: =IF(R74="","",H74*R74) | U74: =IF(T74="","",H74*T74)
C75: 10 | D75: Item - Description 10 | J75: =IF(I75="","",H75*I75) | M75: =IF(L75="","",H75*L75) | O75: =IF(N75="","",H75*N75) | Q75: =IF(P75="","",H75*P75) | S75: =IF(R75="","",H75*R75) | U75: =IF(T75="","",H75*T75)
C76: 11 | D76: Item - Description 11 | J76: =IF(I76="","",H76*I76) | M76: =IF(L76="","",H76*L76) | O76: =IF(N76="","",H76*N76) | Q76: =IF(P76="","",H76*P76) | S76: =IF(R76="","",H76*R76) | U76: =IF(T76="","",H76*T76)
C77: 12 | D77: Item - Description 12 | J77: =IF(I77="","",H77*I77) | M77: =IF(L77="","",H77*L77) | O77: =IF(N77="","",H77*N77) | Q77: =IF(P77="","",H77*P77) | S77: =IF(R77="","",H77*R77) | U77: =IF(T77="","",H77*T77)
... C80: 15 | D80: Item - Description 15 | J80: =IF(I80="","",H80*I80) | M80: =IF(L80="","",H80*L80) | O80: =IF(N80="","",H80*N80) | Q80: =IF(P80="","",H80*P80) | S80: =IF(R80="","",H80*R80) | U80: =IF(T80="","",H80*T80)
C81: Phase 3 Totals : | I81: =SUM(J66:J80) -> 0 | L81: =SUM(M66:M80) -> 0 | N81: =SUM(O66:O80) -> 0 | P81: =SUM(Q66:Q80) -> 0 | R81: =SUM(S66:S80) -> 0 | T81: =SUM(U66:U80) -> 0
C83: Phase 4 Bid Quantities | I83: Architect - Engineer Estimate | L83: =IF(L$13="","",L$13) -> Contractor 1 Bid | N83: =IF(N$13="","",N$13) -> Contractor 2 Bid | P83: =IF(P$13="","",P$13) -> Contractor 3 Bid | R83: =IF(R$13="","",R$13) -> Contractor 4 Bid | T83: =IF(T$13="","",T$13) -> Contractor 5 Bid
C85: # | D85: Item - Description | G85: Unit | H85: Qty | I85: Unit Price | J85: Amount | L85: Unit Price | M85: Bid Amount | N85: Unit Price | O85: Bid Amount | P85: Unit Price | Q85: Bid Amount | R85: Unit Price | S85: Bid Amount | T85: Unit Price | U85: Bid Amount
C86: 1 | D86: Item - Description 1 | J86: =IF(I86="","",H86*I86) | M86: =IF(L86="","",H86*L86) | O86: =IF(N86="","",H86*N86) | Q86: =IF(P86="","",H86*P86) | S86: =IF(R86="","",H86*R86) | U86: =IF(T86="","",H86*T86)
C87: 2 | D87: Item - Description 2 | J87: =IF(I87="","",H87*I87) | M87: =IF(L87="","",H87*L87) | O87: =IF(N87="","",H87*N87) | Q87: =IF(P87="","",H87*P87) | S87: =IF(R87="","",H87*R87) | U87: =IF(T87="","",H87*T87)
C88: 3 | D88: Item - Description 3 | J88: =IF(I88="","",H88*I88) | M88: =IF(L88="","",H88*L88) | O88: =IF(N88="","",H88*N88) | Q88: =IF(P88="","",H88*P88) | S88: =IF(R88="","",H88*R88) | U88: =IF(T88="","",H88*T88)
C89: 4 | D89: Item - Description 4 | J89: =IF(I89="","",H89*I89) | M89: =IF(L89="","",H89*L89) | O89: =IF(N89="","",H89*N89) | Q89: =IF(P89="","",H89*P89) | S89: =IF(R89="","",H89*R89) | U89: =IF(T89="","",H89*T89)
C90: 5 | D90: Item - Description 5 | J90: =IF(I90="","",H90*I90) | M90: =IF(L90="","",H90*L90) | O90: =IF(N90="","",H90*N90) | Q90: =IF(P90="","",H90*P90) | S90: =IF(R90="","",H90*R90) | U90: =IF(T90="","",H90*T90)
C91: 6 | D91: Item - Description 6 | J91: =IF(I91="","",H91*I91) | M91: =IF(L91="","",H91*L91) | O91: =IF(N91="","",H91*N91) | Q91: =IF(P91="","",H91*P91) | S91: =IF(R91="","",H91*R91) | U91: =IF(T91="","",H91*T91)
C92: 7 | D92: Item - Description 7 | J92: =IF(I92="","",H92*I92) | M92: =IF(L92="","",H92*L92) | O92: =IF(N92="","",H92*N92) | Q92: =IF(P92="","",H92*P92) | S92: =IF(R92="","",H92*R92) | U92: =IF(T92="","",H92*T92)
C93: 8 | D93: Item - Description 8 | J93: =IF(I93="","",H93*I93) | M93: =IF(L93="","",H93*L93) | O93: =IF(N93="","",H93*N93) | Q93: =IF(P93="","",H93*P93) | S93: =IF(R93="","",H93*R93) | U93: =IF(T93="","",H93*T93)
C94: 9 | D94: Item - Description 9 | J94: =IF(I94="","",H94*I94) | M94: =IF(L94="","",H94*L94) | O94: =IF(N94="","",H94*N94) | Q94: =IF(P94="","",H94*P94) | S94: =IF(R94="","",H94*R94) | U94: =IF(T94="","",H94*T94)
C95: 10 | D95: Item - Description 10 | J95: =IF(I95="","",H95*I95) | M95: =IF(L95="","",H95*L95) | O95: =IF(N95="","",H95*N95) | Q95: =IF(P95="","",H95*P95) | S95: =IF(R95="","",H95*R95) | U95: =IF(T95="","",H95*T95)
C96: 11 | D96: Item - Description 11 | J96: =IF(I96="","",H96*I96) | M96: =IF(L96="","",H96*L96) | O96: =IF(N96="","",H96*N96) | Q96: =IF(P96="","",H96*P96) | S96: =IF(R96="","",H96*R96) | U96: =IF(T96="","",H96*T96)
C97: 12 | D97: Item - Description 12 | J97: =IF(I97="","",H97*I97) | M97: =IF(L97="","",H97*L97) | O97: =IF(N97="","",H97*N97) | Q97: =IF(P97="","",H97*P97) | S97: =IF(R97="","",H97*R97) | U97: =IF(T97="","",H97*T97)
... C100: 15 | D100: Item - Description 15 | J100: =IF(I100="","",H100*I100) | M100: =IF(L100="","",H100*L100) | O100: =IF(N100="","",H100*N100) | Q100: =IF(P100="","",H100*P100) | S100: =IF(R100="","",H100*R100) | U100: =IF(T100="","",H100*T100)
C101: Phase 4 Totals : | I101: =SUM(J86:J100) -> 0 | L101: =SUM(M86:M100) -> 0 | N101: =SUM(O86:O100) -> 0 | P101: =SUM(Q86:Q100) -> 0 | R101: =SUM(S86:S100) -> 0 | T101: =SUM(U86:U100) -> 0
C103: Phase 5 Bid Quantities | I103: Architect - Engineer Estimate | L103: =IF(L$13="","",L$13) -> Contractor 1 Bid | N103: =IF(N$13="","",N$13) -> Contractor 2 Bid | P103: =IF(P$13="","",P$13) -> Contractor 3 Bid | R103: =IF(R$13="","",R$13) -> Contractor 4 Bid | T103: =IF(T$13="","",T$13) -> Contractor 5 Bid
C105: # | D105: Item - Description | G105: Unit | H105: Qty | I105: Unit Price | J105: Amount | L105: Unit Price | M105: Bid Amount | N105: Unit Price | O105: Bid Amount | P105: Unit Price | Q105: Bid Amount | R105: Unit Price | S105: Bid Amount | T105: Unit Price | U105: Bid Amount
C106: 1 | D106: Item - Description 1 | J106: =IF(I106="","",H106*I106) | M106: =IF(L106="","",H106*L106) | O106: =IF(N106="","",H106*N106) | Q106: =IF(P106="","",H106*P106) | S106: =IF(R106="","",H106*R106) | U106: =IF(T106="","",H106*T106)
C107: 2 | D107: Item - Description 2 | J107: =IF(I107="","",H107*I107) | M107: =IF(L107="","",H107*L107) | O107: =IF(N107="","",H107*N107) | Q107: =IF(P107="","",H107*P107) | S107: =IF(R107="","",H107*R107) | U107: =IF(T107="","",H107*T107)
C108: 3 | D108: Item - Description 3 | J108: =IF(I108="","",H108*I108) | M108: =IF(L108="","",H108*L108) | O108: =IF(N108="","",H108*N108) | Q108: =IF(P108="","",H108*P108) | S108: =IF(R108="","",H108*R108) | U108: =IF(T108="","",H108*T108)
C109: 4 | D109: Item - Description 4 | J109: =IF(I109="","",H109*I109) | M109: =IF(L109="","",H109*L109) | O109: =IF(N109="","",H109*N109) | Q109: =IF(P109="","",H109*P109) | S109: =IF(R109="","",H109*R109) | U109: =IF(T109="","",H109*T109)
C110: 5 | D110: Item - Description 5 | J110: =IF(I110="","",H110*I110) | M110: =IF(L110="","",H110*L110) | O110: =IF(N110="","",H110*N110) | Q110: =IF(P110="","",H110*P110) | S110: =IF(R110="","",H110*R110) | U110: =IF(T110="","",H110*T110)
C111: 6 | D111: Item - Description 6 | J111: =IF(I111="","",H111*I111) | M111: =IF(L111="","",H111*L111) | O111: =IF(N111="","",H111*N111) | Q111: =IF(P111="","",H111*P111) | S111: =IF(R111="","",H111*R111) | U111: =IF(T111="","",H111*T111)
C112: 7 | D112: Item - Description 7 | J112: =IF(I112="","",H112*I112) | M112: =IF(L112="","",H112*L112) | O112: =IF(N112="","",H112*N112) | Q112: =IF(P112="","",H112*P112) | S112: =IF(R112="","",H112*R112) | U112: =IF(T112="","",H112*T112)
C113: 8 | D113: Item - Description 8 | J113: =IF(I113="","",H113*I113) | M113: =IF(L113="","",H113*L113) | O113: =IF(N113="","",H113*N113) | Q113: =IF(P113="","",H113*P113) | S113: =IF(R113="","",H113*R113) | U113: =IF(T113="","",H113*T113)
C114: 9 | D114: Item - Description 9 | J114: =IF(I114="","",H114*I114) | M114: =IF(L114="","",H114*L114) | O114: =IF(N114="","",H114*N114) | Q114: =IF(P114="","",H114*P114) | S114: =IF(R114="","",H114*R114) | U114: =IF(T114="","",H114*T114)
C115: 10 | D115: Item - Description 10 | J115: =IF(I115="","",H115*I115) | M115: =IF(L115="","",H115*L115) | O115: =IF(N115="","",H115*N115) | Q115: =IF(P115="","",H115*P115) | S115: =IF(R115="","",H115*R115) | U115: =IF(T115="","",H115*T115)
C116: Phase 5 Totals : | I116: =SUM(J106:J115) -> 0 | L116: =SUM(M106:M115) -> 0 | N116: =SUM(O106:O115) -> 0 | P116: =SUM(Q106:Q115) -> 0 | R116: =SUM(S106:S115) -> 0 | T116: =SUM(U106:U115) -> 0
C118: BID RESULTS | I118: Architect - Engineer Estimate | L118: =IF(L$13="","",L$13) -> Contractor 1 Bid | N118: =IF(N$13="","",N$13) -> Contractor 2 Bid | P118: =IF(P$13="","",P$13) -> Contractor 3 Bid | R118: =IF(R$13="","",R$13) -> Contractor 4 Bid | T118: =IF(T$13="","",T$13) -> Contractor 5 Bid
H119: Total Base Bid : | I119: =SUM(I116,I101,I81,I61,I36) -> 0 | L119: =SUM(L116,L101,L81,L61,L36) -> 0 | N119: =SUM(N116,N101,N81,N61,N36) -> 0 | P119: =SUM(P116,P101,P81,P61,P36) -> 0 | R119: =SUM(R116,R101,R81,R61,R36) -> 0 | T119: =SUM(T116,T101,T81,T61,T36) -> 0
E120: Tax Rate : | F120: 0.1 | H120: Tax : | I120: =IF($F$120="","",$F$120*I119) -> 0 | L120: =IF($F$120="","",$F$120*L119) -> 0 | N120: =IF($F$120="","",$F$120*N119) -> 0 | P120: =IF($F$120="","",$F$120*P119) -> 0 | R120: =IF($F$120="","",$F$120*R119) -> 0 | T120: =IF($F$120="","",$F$120*T119) -> 0
H121: Total Bid Amount : | I121: =SUM(I119:J120) -> 0 | L121: =SUM(L119:M120) -> 0 | N121: =SUM(N119:O120) -> 0 | P121: =SUM(P119:Q120) -> 0 | R121: =SUM(R119:S120) -> 0 | T121: =SUM(T119:U120) -> 0

Sheet Comparison 9
D2: CONTRACTOR BID COMPARISON
D3: COMPARISON 9
C7: Project Name | E7: =IF(Dashboard!M27="","",Dashboard!M27)
C8: Project No | E8: =IF(Dashboard!M28="","",Dashboard!M28)
C9: Location | E9: =IF(Dashboard!M29="","",Dashboard!M29) | S9: You can add Firm Logo
C10: Architect - Engineer | E10: =IF(Dashboard!M30="","",Dashboard!M30)
C11: Bid Date | E11: =IF(Dashboard!M31="","",Dashboard!M31)
C13: Phase 1 Bid Quantities | I13: Architect - Engineer Estimate | L13: Contractor 1 Bid | N13: Contractor 2 Bid | P13: Contractor 3 Bid | R13: Contractor 4 Bid | T13: Contractor 5 Bid
C15: # | D15: Item - Description | G15: Unit | H15: Qty | I15: Unit Price | J15: Amount | L15: Unit Price | M15: Bid Amount | N15: Unit Price | O15: Bid Amount | P15: Unit Price | Q15: Bid Amount | R15: Unit Price | S15: Bid Amount | T15: Unit Price | U15: Bid Amount
C16: 1 | D16: Item - Description 1 | J16: =IF(I16="","",H16*I16) | M16: =IF(L16="","",H16*L16) | O16: =IF(N16="","",H16*N16) | Q16: =IF(P16="","",H16*P16) | S16: =IF(R16="","",H16*R16) | U16: =IF(T16="","",H16*T16)
C17: 2 | D17: Item - Description 2 | J17: =IF(I17="","",H17*I17) | M17: =IF(L17="","",H17*L17) | O17: =IF(N17="","",H17*N17) | Q17: =IF(P17="","",H17*P17) | S17: =IF(R17="","",H17*R17) | U17: =IF(T17="","",H17*T17)
C18: 3 | D18: Item - Description 3 | J18: =IF(I18="","",H18*I18) | M18: =IF(L18="","",H18*L18) | O18: =IF(N18="","",H18*N18) | Q18: =IF(P18="","",H18*P18) | S18: =IF(R18="","",H18*R18) | U18: =IF(T18="","",H18*T18)
C19: 4 | D19: Item - Description 4 | J19: =IF(I19="","",H19*I19) | M19: =IF(L19="","",H19*L19) | O19: =IF(N19="","",H19*N19) | Q19: =IF(P19="","",H19*P19) | S19: =IF(R19="","",H19*R19) | U19: =IF(T19="","",H19*T19)
C20: 5 | D20: Item - Description 5 | J20: =IF(I20="","",H20*I20) | M20: =IF(L20="","",H20*L20) | O20: =IF(N20="","",H20*N20) | Q20: =IF(P20="","",H20*P20) | S20: =IF(R20="","",H20*R20) | U20: =IF(T20="","",H20*T20)
C21: 6 | D21: Item - Description 6 | J21: =IF(I21="","",H21*I21) | M21: =IF(L21="","",H21*L21) | O21: =IF(N21="","",H21*N21) | Q21: =IF(P21="","",H21*P21) | S21: =IF(R21="","",H21*R21) | U21: =IF(T21="","",H21*T21)
C22: 7 | D22: Item - Description 7 | J22: =IF(I22="","",H22*I22) | M22: =IF(L22="","",H22*L22) | O22: =IF(N22="","",H22*N22) | Q22: =IF(P22="","",H22*P22) | S22: =IF(R22="","",H22*R22) | U22: =IF(T22="","",H22*T22)
C23: 8 | D23: Item - Description 8 | J23: =IF(I23="","",H23*I23) | M23: =IF(L23="","",H23*L23) | O23: =IF(N23="","",H23*N23) | Q23: =IF(P23="","",H23*P23) | S23: =IF(R23="","",H23*R23) | U23: =IF(T23="","",H23*T23)
C24: 9 | D24: Item - Description 9 | J24: =IF(I24="","",H24*I24) | M24: =IF(L24="","",H24*L24) | O24: =IF(N24="","",H24*N24) | Q24: =IF(P24="","",H24*P24) | S24: =IF(R24="","",H24*R24) | U24: =IF(T24="","",H24*T24)
C25: 10 | D25: Item - Description 10 | J25: =IF(I25="","",H25*I25) | M25: =IF(L25="","",H25*L25) | O25: =IF(N25="","",H25*N25) | Q25: =IF(P25="","",H25*P25) | S25: =IF(R25="","",H25*R25) | U25: =IF(T25="","",H25*T25)
C26: 11 | D26: Item - Description 11 | J26: =IF(I26="","",H26*I26) | M26: =IF(L26="","",H26*L26) | O26: =IF(N26="","",H26*N26) | Q26: =IF(P26="","",H26*P26) | S26: =IF(R26="","",H26*R26) | U26: =IF(T26="","",H26*T26)
C27: 12 | D27: Item - Description 12 | J27: =IF(I27="","",H27*I27) | M27: =IF(L27="","",H27*L27) | O27: =IF(N27="","",H27*N27) | Q27: =IF(P27="","",H27*P27) | S27: =IF(R27="","",H27*R27) | U27: =IF(T27="","",H27*T27)
... C35: 20 | D35: Item - Description 20 | J35: =IF(I35="","",H35*I35) | M35: =IF(L35="","",H35*L35) | O35: =IF(N35="","",H35*N35) | Q35: =IF(P35="","",H35*P35) | S35: =IF(R35="","",H35*R35) | U35: =IF(T35="","",H35*T35)
C36: Phase 1 Totals : | I36: =SUM(J16:J35) -> 0 | L36: =SUM(M16:M35) -> 0 | N36: =SUM(O16:O35) -> 0 | P36: =SUM(Q16:Q35) -> 0 | R36: =SUM(S16:S35) -> 0 | T36: =SUM(U16:U35) -> 0
C38: Phase 2 Bid Quantities | I38: Architect - Engineer Estimate | L38: =IF(L$13="","",L$13) -> Contractor 1 Bid | N38: =IF(N$13="","",N$13) -> Contractor 2 Bid | P38: =IF(P$13="","",P$13) -> Contractor 3 Bid | R38: =IF(R$13="","",R$13) -> Contractor 4 Bid | T38: =IF(T$13="","",T$13) -> Contractor 5 Bid
C40: # | D40: Item - Description | G40: Unit | H40: Qty | I40: Unit Price | J40: Amount | L40: Unit Price | M40: Bid Amount | N40: Unit Price | O40: Bid Amount | P40: Unit Price | Q40: Bid Amount | R40: Unit Price | S40: Bid Amount | T40: Unit Price | U40: Bid Amount
C41: 1 | D41: Item - Description 1 | J41: =IF(I41="","",H41*I41) | M41: =IF(L41="","",H41*L41) | O41: =IF(N41="","",H41*N41) | Q41: =IF(P41="","",H41*P41) | S41: =IF(R41="","",H41*R41) | U41: =IF(T41="","",H41*T41)
C42: 2 | D42: Item - Description 2 | J42: =IF(I42="","",H42*I42) | M42: =IF(L42="","",H42*L42) | O42: =IF(N42="","",H42*N42) | Q42: =IF(P42="","",H42*P42) | S42: =IF(R42="","",H42*R42) | U42: =IF(T42="","",H42*T42)
C43: 3 | D43: Item - Description 3 | J43: =IF(I43="","",H43*I43) | M43: =IF(L43="","",H43*L43) | O43: =IF(N43="","",H43*N43) | Q43: =IF(P43="","",H43*P43) | S43: =IF(R43="","",H43*R43) | U43: =IF(T43="","",H43*T43)
C44: 4 | D44: Item - Description 4 | J44: =IF(I44="","",H44*I44) | M44: =IF(L44="","",H44*L44) | O44: =IF(N44="","",H44*N44) | Q44: =IF(P44="","",H44*P44) | S44: =IF(R44="","",H44*R44) | U44: =IF(T44="","",H44*T44)
C45: 5 | D45: Item - Description 5 | J45: =IF(I45="","",H45*I45) | M45: =IF(L45="","",H45*L45) | O45: =IF(N45="","",H45*N45) | Q45: =IF(P45="","",H45*P45) | S45: =IF(R45="","",H45*R45) | U45: =IF(T45="","",H45*T45)
C46: 6 | D46: Item - Description 6 | J46: =IF(I46="","",H46*I46) | M46: =IF(L46="","",H46*L46) | O46: =IF(N46="","",H46*N46) | Q46: =IF(P46="","",H46*P46) | S46: =IF(R46="","",H46*R46) | U46: =IF(T46="","",H46*T46)
C47: 7 | D47: Item - Description 7 | J47: =IF(I47="","",H47*I47) | M47: =IF(L47="","",H47*L47) | O47: =IF(N47="","",H47*N47) | Q47: =IF(P47="","",H47*P47) | S47: =IF(R47="","",H47*R47) | U47: =IF(T47="","",H47*T47)
C48: 8 | D48: Item - Description 8 | J48: =IF(I48="","",H48*I48) | M48: =IF(L48="","",H48*L48) | O48: =IF(N48="","",H48*N48) | Q48: =IF(P48="","",H48*P48) | S48: =IF(R48="","",H48*R48) | U48: =IF(T48="","",H48*T48)
C49: 9 | D49: Item - Description 9 | J49: =IF(I49="","",H49*I49) | M49: =IF(L49="","",H49*L49) | O49: =IF(N49="","",H49*N49) | Q49: =IF(P49="","",H49*P49) | S49: =IF(R49="","",H49*R49) | U49: =IF(T49="","",H49*T49)
C50: 10 | D50: Item - Description 10 | J50: =IF(I50="","",H50*I50) | M50: =IF(L50="","",H50*L50) | O50: =IF(N50="","",H50*N50) | Q50: =IF(P50="","",H50*P50) | S50: =IF(R50="","",H50*R50) | U50: =IF(T50="","",H50*T50)
C51: 11 | D51: Item - Description 11 | J51: =IF(I51="","",H51*I51) | M51: =IF(L51="","",H51*L51) | O51: =IF(N51="","",H51*N51) | Q51: =IF(P51="","",H51*P51) | S51: =IF(R51="","",H51*R51) | U51: =IF(T51="","",H51*T51)
C52: 12 | D52: Item - Description 12 | J52: =IF(I52="","",H52*I52) | M52: =IF(L52="","",H52*L52) | O52: =IF(N52="","",H52*N52) | Q52: =IF(P52="","",H52*P52) | S52: =IF(R52="","",H52*R52) | U52: =IF(T52="","",H52*T52)
... C60: 20 | D60: Item - Description 20 | J60: =IF(I60="","",H60*I60) | M60: =IF(L60="","",H60*L60) | O60: =IF(N60="","",H60*N60) | Q60: =IF(P60="","",H60*P60) | S60: =IF(R60="","",H60*R60) | U60: =IF(T60="","",H60*T60)
C61: Phase 2 Totals : | I61: =SUM(J41:J60) -> 0 | L61: =SUM(M41:M60) -> 0 | N61: =SUM(O41:O60) -> 0 | P61: =SUM(Q41:Q60) -> 0 | R61: =SUM(S41:S60) -> 0 | T61: =SUM(U41:U60) -> 0
C63: Phase 3 Bid Quantities | I63: Architect - Engineer Estimate | L63: =IF(L$13="","",L$13) -> Contractor 1 Bid | N63: =IF(N$13="","",N$13) -> Contractor 2 Bid | P63: =IF(P$13="","",P$13) -> Contractor 3 Bid | R63: =IF(R$13="","",R$13) -> Contractor 4 Bid | T63: =IF(T$13="","",T$13) -> Contractor 5 Bid
C65: # | D65: Item - Description | G65: Unit | H65: Qty | I65: Unit Price | J65: Amount | L65: Unit Price | M65: Bid Amount | N65: Unit Price | O65: Bid Amount | P65: Unit Price | Q65: Bid Amount | R65: Unit Price | S65: Bid Amount | T65: Unit Price | U65: Bid Amount
C66: 1 | D66: Item - Description 1 | J66: =IF(I66="","",H66*I66) | M66: =IF(L66="","",H66*L66) | O66: =IF(N66="","",H66*N66) | Q66: =IF(P66="","",H66*P66) | S66: =IF(R66="","",H66*R66) | U66: =IF(T66="","",H66*T66)
C67: 2 | D67: Item - Description 2 | J67: =IF(I67="","",H67*I67) | M67: =IF(L67="","",H67*L67) | O67: =IF(N67="","",H67*N67) | Q67: =IF(P67="","",H67*P67) | S67: =IF(R67="","",H67*R67) | U67: =IF(T67="","",H67*T67)
C68: 3 | D68: Item - Description 3 | J68: =IF(I68="","",H68*I68) | M68: =IF(L68="","",H68*L68) | O68: =IF(N68="","",H68*N68) | Q68: =IF(P68="","",H68*P68) | S68: =IF(R68="","",H68*R68) | U68: =IF(T68="","",H68*T68)
C69: 4 | D69: Item - Description 4 | J69: =IF(I69="","",H69*I69) | M69: =IF(L69="","",H69*L69) | O69: =IF(N69="","",H69*N69) | Q69: =IF(P69="","",H69*P69) | S69: =IF(R69="","",H69*R69) | U69: =IF(T69="","",H69*T69)
C70: 5 | D70: Item - Description 5 | J70: =IF(I70="","",H70*I70) | M70: =IF(L70="","",H70*L70) | O70: =IF(N70="","",H70*N70) | Q70: =IF(P70="","",H70*P70) | S70: =IF(R70="","",H70*R70) | U70: =IF(T70="","",H70*T70)
C71: 6 | D71: Item - Description 6 | J71: =IF(I71="","",H71*I71) | M71: =IF(L71="","",H71*L71) | O71: =IF(N71="","",H71*N71) | Q71: =IF(P71="","",H71*P71) | S71: =IF(R71="","",H71*R71) | U71: =IF(T71="","",H71*T71)
C72: 7 | D72: Item - Description 7 | J72: =IF(I72="","",H72*I72) | M72: =IF(L72="","",H72*L72) | O72: =IF(N72="","",H72*N72) | Q72: =IF(P72="","",H72*P72) | S72: =IF(R72="","",H72*R72) | U72: =IF(T72="","",H72*T72)
C73: 8 | D73: Item - Description 8 | J73: =IF(I73="","",H73*I73) | M73: =IF(L73="","",H73*L73) | O73: =IF(N73="","",H73*N73) | Q73: =IF(P73="","",H73*P73) | S73: =IF(R73="","",H73*R73) | U73: =IF(T73="","",H73*T73)
C74: 9 | D74: Item - Description 9 | J74: =IF(I74="","",H74*I74) | M74: =IF(L74="","",H74*L74) | O74: =IF(N74="","",H74*N74) | Q74: =IF(P74="","",H74*P74) | S74: =IF(R74="","",H74*R74) | U74: =IF(T74="","",H74*T74)
C75: 10 | D75: Item - Description 10 | J75: =IF(I75="","",H75*I75) | M75: =IF(L75="","",H75*L75) | O75: =IF(N75="","",H75*N75) | Q75: =IF(P75="","",H75*P75) | S75: =IF(R75="","",H75*R75) | U75: =IF(T75="","",H75*T75)
C76: 11 | D76: Item - Description 11 | J76: =IF(I76="","",H76*I76) | M76: =IF(L76="","",H76*L76) | O76: =IF(N76="","",H76*N76) | Q76: =IF(P76="","",H76*P76) | S76: =IF(R76="","",H76*R76) | U76: =IF(T76="","",H76*T76)
C77: 12 | D77: Item - Description 12 | J77: =IF(I77="","",H77*I77) | M77: =IF(L77="","",H77*L77) | O77: =IF(N77="","",H77*N77) | Q77: =IF(P77="","",H77*P77) | S77: =IF(R77="","",H77*R77) | U77: =IF(T77="","",H77*T77)
... C80: 15 | D80: Item - Description 15 | J80: =IF(I80="","",H80*I80) | M80: =IF(L80="","",H80*L80) | O80: =IF(N80="","",H80*N80) | Q80: =IF(P80="","",H80*P80) | S80: =IF(R80="","",H80*R80) | U80: =IF(T80="","",H80*T80)
C81: Phase 3 Totals : | I81: =SUM(J66:J80) -> 0 | L81: =SUM(M66:M80) -> 0 | N81: =SUM(O66:O80) -> 0 | P81: =SUM(Q66:Q80) -> 0 | R81: =SUM(S66:S80) -> 0 | T81: =SUM(U66:U80) -> 0
C83: Phase 4 Bid Quantities | I83: Architect - Engineer Estimate | L83: =IF(L$13="","",L$13) -> Contractor 1 Bid | N83: =IF(N$13="","",N$13) -> Contractor 2 Bid | P83: =IF(P$13="","",P$13) -> Contractor 3 Bid | R83: =IF(R$13="","",R$13) -> Contractor 4 Bid | T83: =IF(T$13="","",T$13) -> Contractor 5 Bid
C85: # | D85: Item - Description | G85: Unit | H85: Qty | I85: Unit Price | J85: Amount | L85: Unit Price | M85: Bid Amount | N85: Unit Price | O85: Bid Amount | P85: Unit Price | Q85: Bid Amount | R85: Unit Price | S85: Bid Amount | T85: Unit Price | U85: Bid Amount
C86: 1 | D86: Item - Description 1 | J86: =IF(I86="","",H86*I86) | M86: =IF(L86="","",H86*L86) | O86: =IF(N86="","",H86*N86) | Q86: =IF(P86="","",H86*P86) | S86: =IF(R86="","",H86*R86) | U86: =IF(T86="","",H86*T86)
C87: 2 | D87: Item - Description 2 | J87: =IF(I87="","",H87*I87) | M87: =IF(L87="","",H87*L87) | O87: =IF(N87="","",H87*N87) | Q87: =IF(P87="","",H87*P87) | S87: =IF(R87="","",H87*R87) | U87: =IF(T87="","",H87*T87)
C88: 3 | D88: Item - Description 3 | J88: =IF(I88="","",H88*I88) | M88: =IF(L88="","",H88*L88) | O88: =IF(N88="","",H88*N88) | Q88: =IF(P88="","",H88*P88) | S88: =IF(R88="","",H88*R88) | U88: =IF(T88="","",H88*T88)
C89: 4 | D89: Item - Description 4 | J89: =IF(I89="","",H89*I89) | M89: =IF(L89="","",H89*L89) | O89: =IF(N89="","",H89*N89) | Q89: =IF(P89="","",H89*P89) | S89: =IF(R89="","",H89*R89) | U89: =IF(T89="","",H89*T89)
C90: 5 | D90: Item - Description 5 | J90: =IF(I90="","",H90*I90) | M90: =IF(L90="","",H90*L90) | O90: =IF(N90="","",H90*N90) | Q90: =IF(P90="","",H90*P90) | S90: =IF(R90="","",H90*R90) | U90: =IF(T90="","",H90*T90)
C91: 6 | D91: Item - Description 6 | J91: =IF(I91="","",H91*I91) | M91: =IF(L91="","",H91*L91) | O91: =IF(N91="","",H91*N91) | Q91: =IF(P91="","",H91*P91) | S91: =IF(R91="","",H91*R91) | U91: =IF(T91="","",H91*T91)
C92: 7 | D92: Item - Description 7 | J92: =IF(I92="","",H92*I92) | M92: =IF(L92="","",H92*L92) | O92: =IF(N92="","",H92*N92) | Q92: =IF(P92="","",H92*P92) | S92: =IF(R92="","",H92*R92) | U92: =IF(T92="","",H92*T92)
C93: 8 | D93: Item - Description 8 | J93: =IF(I93="","",H93*I93) | M93: =IF(L93="","",H93*L93) | O93: =IF(N93="","",H93*N93) | Q93: =IF(P93="","",H93*P93) | S93: =IF(R93="","",H93*R93) | U93: =IF(T93="","",H93*T93)
C94: 9 | D94: Item - Description 9 | J94: =IF(I94="","",H94*I94) | M94: =IF(L94="","",H94*L94) | O94: =IF(N94="","",H94*N94) | Q94: =IF(P94="","",H94*P94) | S94: =IF(R94="","",H94*R94) | U94: =IF(T94="","",H94*T94)
C95: 10 | D95: Item - Description 10 | J95: =IF(I95="","",H95*I95) | M95: =IF(L95="","",H95*L95) | O95: =IF(N95="","",H95*N95) | Q95: =IF(P95="","",H95*P95) | S95: =IF(R95="","",H95*R95) | U95: =IF(T95="","",H95*T95)
C96: 11 | D96: Item - Description 11 | J96: =IF(I96="","",H96*I96) | M96: =IF(L96="","",H96*L96) | O96: =IF(N96="","",H96*N96) | Q96: =IF(P96="","",H96*P96) | S96: =IF(R96="","",H96*R96) | U96: =IF(T96="","",H96*T96)
C97: 12 | D97: Item - Description 12 | J97: =IF(I97="","",H97*I97) | M97: =IF(L97="","",H97*L97) | O97: =IF(N97="","",H97*N97) | Q97: =IF(P97="","",H97*P97) | S97: =IF(R97="","",H97*R97) | U97: =IF(T97="","",H97*T97)
... C100: 15 | D100: Item - Description 15 | J100: =IF(I100="","",H100*I100) | M100: =IF(L100="","",H100*L100) | O100: =IF(N100="","",H100*N100) | Q100: =IF(P100="","",H100*P100) | S100: =IF(R100="","",H100*R100) | U100: =IF(T100="","",H100*T100)
C101: Phase 4 Totals : | I101: =SUM(J86:J100) -> 0 | L101: =SUM(M86:M100) -> 0 | N101: =SUM(O86:O100) -> 0 | P101: =SUM(Q86:Q100) -> 0 | R101: =SUM(S86:S100) -> 0 | T101: =SUM(U86:U100) -> 0
C103: Phase 5 Bid Quantities | I103: Architect - Engineer Estimate | L103: =IF(L$13="","",L$13) -> Contractor 1 Bid | N103: =IF(N$13="","",N$13) -> Contractor 2 Bid | P103: =IF(P$13="","",P$13) -> Contractor 3 Bid | R103: =IF(R$13="","",R$13) -> Contractor 4 Bid | T103: =IF(T$13="","",T$13) -> Contractor 5 Bid
C105: # | D105: Item - Description | G105: Unit | H105: Qty | I105: Unit Price | J105: Amount | L105: Unit Price | M105: Bid Amount | N105: Unit Price | O105: Bid Amount | P105: Unit Price | Q105: Bid Amount | R105: Unit Price | S105: Bid Amount | T105: Unit Price | U105: Bid Amount
C106: 1 | D106: Item - Description 1 | J106: =IF(I106="","",H106*I106) | M106: =IF(L106="","",H106*L106) | O106: =IF(N106="","",H106*N106) | Q106: =IF(P106="","",H106*P106) | S106: =IF(R106="","",H106*R106) | U106: =IF(T106="","",H106*T106)
C107: 2 | D107: Item - Description 2 | J107: =IF(I107="","",H107*I107) | M107: =IF(L107="","",H107*L107) | O107: =IF(N107="","",H107*N107) | Q107: =IF(P107="","",H107*P107) | S107: =IF(R107="","",H107*R107) | U107: =IF(T107="","",H107*T107)
C108: 3 | D108: Item - Description 3 | J108: =IF(I108="","",H108*I108) | M108: =IF(L108="","",H108*L108) | O108: =IF(N108="","",H108*N108) | Q108: =IF(P108="","",H108*P108) | S108: =IF(R108="","",H108*R108) | U108: =IF(T108="","",H108*T108)
C109: 4 | D109: Item - Description 4 | J109: =IF(I109="","",H109*I109) | M109: =IF(L109="","",H109*L109) | O109: =IF(N109="","",H109*N109) | Q109: =IF(P109="","",H109*P109) | S109: =IF(R109="","",H109*R109) | U109: =IF(T109="","",H109*T109)
C110: 5 | D110: Item - Description 5 | J110: =IF(I110="","",H110*I110) | M110: =IF(L110="","",H110*L110) | O110: =IF(N110="","",H110*N110) | Q110: =IF(P110="","",H110*P110) | S110: =IF(R110="","",H110*R110) | U110: =IF(T110="","",H110*T110)
C111: 6 | D111: Item - Description 6 | J111: =IF(I111="","",H111*I111) | M111: =IF(L111="","",H111*L111) | O111: =IF(N111="","",H111*N111) | Q111: =IF(P111="","",H111*P111) | S111: =IF(R111="","",H111*R111) | U111: =IF(T111="","",H111*T111)
C112: 7 | D112: Item - Description 7 | J112: =IF(I112="","",H112*I112) | M112: =IF(L112="","",H112*L112) | O112: =IF(N112="","",H112*N112) | Q112: =IF(P112="","",H112*P112) | S112: =IF(R112="","",H112*R112) | U112: =IF(T112="","",H112*T112)
C113: 8 | D113: Item - Description 8 | J113: =IF(I113="","",H113*I113) | M113: =IF(L113="","",H113*L113) | O113: =IF(N113="","",H113*N113) | Q113: =IF(P113="","",H113*P113) | S113: =IF(R113="","",H113*R113) | U113: =IF(T113="","",H113*T113)
C114: 9 | D114: Item - Description 9 | J114: =IF(I114="","",H114*I114) | M114: =IF(L114="","",H114*L114) | O114: =IF(N114="","",H114*N114) | Q114: =IF(P114="","",H114*P114) | S114: =IF(R114="","",H114*R114) | U114: =IF(T114="","",H114*T114)
C115: 10 | D115: Item - Description 10 | J115: =IF(I115="","",H115*I115) | M115: =IF(L115="","",H115*L115) | O115: =IF(N115="","",H115*N115) | Q115: =IF(P115="","",H115*P115) | S115: =IF(R115="","",H115*R115) | U115: =IF(T115="","",H115*T115)
C116: Phase 5 Totals : | I116: =SUM(J106:J115) -> 0 | L116: =SUM(M106:M115) -> 0 | N116: =SUM(O106:O115) -> 0 | P116: =SUM(Q106:Q115) -> 0 | R116: =SUM(S106:S115) -> 0 | T116: =SUM(U106:U115) -> 0
C118: BID RESULTS | I118: Architect - Engineer Estimate | L118: =IF(L$13="","",L$13) -> Contractor 1 Bid | N118: =IF(N$13="","",N$13) -> Contractor 2 Bid | P118: =IF(P$13="","",P$13) -> Contractor 3 Bid | R118: =IF(R$13="","",R$13) -> Contractor 4 Bid | T118: =IF(T$13="","",T$13) -> Contractor 5 Bid
H119: Total Base Bid : | I119: =SUM(I116,I101,I81,I61,I36) -> 0 | L119: =SUM(L116,L101,L81,L61,L36) -> 0 | N119: =SUM(N116,N101,N81,N61,N36) -> 0 | P119: =SUM(P116,P101,P81,P61,P36) -> 0 | R119: =SUM(R116,R101,R81,R61,R36) -> 0 | T119: =SUM(T116,T101,T81,T61,T36) -> 0
E120: Tax Rate : | F120: 0.1 | H120: Tax : | I120: =IF($F$120="","",$F$120*I119) -> 0 | L120: =IF($F$120="","",$F$120*L119) -> 0 | N120: =IF($F$120="","",$F$120*N119) -> 0 | P120: =IF($F$120="","",$F$120*P119) -> 0 | R120: =IF($F$120="","",$F$120*R119) -> 0 | T120: =IF($F$120="","",$F$120*T119) -> 0
H121: Total Bid Amount : | I121: =SUM(I119:J120) -> 0 | L121: =SUM(L119:M120) -> 0 | N121: =SUM(N119:O120) -> 0 | P121: =SUM(P119:Q120) -> 0 | R121: =SUM(R119:S120) -> 0 | T121: =SUM(T119:U120) -> 0

Sheet Comparison 10
D2: CONTRACTOR BID COMPARISON
D3: COMPARISON 10
C7: Project Name | E7: =IF(Dashboard!E36="","",Dashboard!E36)
C8: Project No | E8: =IF(Dashboard!E37="","",Dashboard!E37)
C9: Location | E9: =IF(Dashboard!E38="","",Dashboard!E38) | S9: You can add Firm Logo
C10: Architect - Engineer | E10: =IF(Dashboard!E39="","",Dashboard!E39)
C11: Bid Date | E11: =IF(Dashboard!E40="","",Dashboard!E40)
C13: Phase 1 Bid Quantities | I13: Architect - Engineer Estimate | L13: Contractor 1 Bid | N13: Contractor 2 Bid | P13: Contractor 3 Bid | R13: Contractor 4 Bid | T13: Contractor 5 Bid
C15: # | D15: Item - Description | G15: Unit | H15: Qty | I15: Unit Price | J15: Amount | L15: Unit Price | M15: Bid Amount | N15: Unit Price | O15: Bid Amount | P15: Unit Price | Q15: Bid Amount | R15: Unit Price | S15: Bid Amount | T15: Unit Price | U15: Bid Amount
C16: 1 | D16: Item - Description 1 | J16: =IF(I16="","",H16*I16) | M16: =IF(L16="","",H16*L16) | O16: =IF(N16="","",H16*N16) | Q16: =IF(P16="","",H16*P16) | S16: =IF(R16="","",H16*R16) | U16: =IF(T16="","",H16*T16)
C17: 2 | D17: Item - Description 2 | J17: =IF(I17="","",H17*I17) | M17: =IF(L17="","",H17*L17) | O17: =IF(N17="","",H17*N17) | Q17: =IF(P17="","",H17*P17) | S17: =IF(R17="","",H17*R17) | U17: =IF(T17="","",H17*T17)
C18: 3 | D18: Item - Description 3 | J18: =IF(I18="","",H18*I18) | M18: =IF(L18="","",H18*L18) | O18: =IF(N18="","",H18*N18) | Q18: =IF(P18="","",H18*P18) | S18: =IF(R18="","",H18*R18) | U18: =IF(T18="","",H18*T18)
C19: 4 | D19: Item - Description 4 | J19: =IF(I19="","",H19*I19) | M19: =IF(L19="","",H19*L19) | O19: =IF(N19="","",H19*N19) | Q19: =IF(P19="","",H19*P19) | S19: =IF(R19="","",H19*R19) | U19: =IF(T19="","",H19*T19)
C20: 5 | D20: Item - Description 5 | J20: =IF(I20="","",H20*I20) | M20: =IF(L20="","",H20*L20) | O20: =IF(N20="","",H20*N20) | Q20: =IF(P20="","",H20*P20) | S20: =IF(R20="","",H20*R20) | U20: =IF(T20="","",H20*T20)
C21: 6 | D21: Item - Description 6 | J21: =IF(I21="","",H21*I21) | M21: =IF(L21="","",H21*L21) | O21: =IF(N21="","",H21*N21) | Q21: =IF(P21="","",H21*P21) | S21: =IF(R21="","",H21*R21) | U21: =IF(T21="","",H21*T21)
C22: 7 | D22: Item - Description 7 | J22: =IF(I22="","",H22*I22) | M22: =IF(L22="","",H22*L22) | O22: =IF(N22="","",H22*N22) | Q22: =IF(P22="","",H22*P22) | S22: =IF(R22="","",H22*R22) | U22: =IF(T22="","",H22*T22)
C23: 8 | D23: Item - Description 8 | J23: =IF(I23="","",H23*I23) | M23: =IF(L23="","",H23*L23) | O23: =IF(N23="","",H23*N23) | Q23: =IF(P23="","",H23*P23) | S23: =IF(R23="","",H23*R23) | U23: =IF(T23="","",H23*T23)
C24: 9 | D24: Item - Description 9 | J24: =IF(I24="","",H24*I24) | M24: =IF(L24="","",H24*L24) | O24: =IF(N24="","",H24*N24) | Q24: =IF(P24="","",H24*P24) | S24: =IF(R24="","",H24*R24) | U24: =IF(T24="","",H24*T24)
C25: 10 | D25: Item - Description 10 | J25: =IF(I25="","",H25*I25) | M25: =IF(L25="","",H25*L25) | O25: =IF(N25="","",H25*N25) | Q25: =IF(P25="","",H25*P25) | S25: =IF(R25="","",H25*R25) | U25: =IF(T25="","",H25*T25)
C26: 11 | D26: Item - Description 11 | J26: =IF(I26="","",H26*I26) | M26: =IF(L26="","",H26*L26) | O26: =IF(N26="","",H26*N26) | Q26: =IF(P26="","",H26*P26) | S26: =IF(R26="","",H26*R26) | U26: =IF(T26="","",H26*T26)
C27: 12 | D27: Item - Description 12 | J27: =IF(I27="","",H27*I27) | M27: =IF(L27="","",H27*L27) | O27: =IF(N27="","",H27*N27) | Q27: =IF(P27="","",H27*P27) | S27: =IF(R27="","",H27*R27) | U27: =IF(T27="","",H27*T27)
... C35: 20 | D35: Item - Description 20 | J35: =IF(I35="","",H35*I35) | M35: =IF(L35="","",H35*L35) | O35: =IF(N35="","",H35*N35) | Q35: =IF(P35="","",H35*P35) | S35: =IF(R35="","",H35*R35) | U35: =IF(T35="","",H35*T35)
C36: Phase 1 Totals : | I36: =SUM(J16:J35) -> 0 | L36: =SUM(M16:M35) -> 0 | N36: =SUM(O16:O35) -> 0 | P36: =SUM(Q16:Q35) -> 0 | R36: =SUM(S16:S35) -> 0 | T36: =SUM(U16:U35) -> 0
C38: Phase 2 Bid Quantities | I38: Architect - Engineer Estimate | L38: =IF(L$13="","",L$13) -> Contractor 1 Bid | N38: =IF(N$13="","",N$13) -> Contractor 2 Bid | P38: =IF(P$13="","",P$13) -> Contractor 3 Bid | R38: =IF(R$13="","",R$13) -> Contractor 4 Bid | T38: =IF(T$13="","",T$13) -> Contractor 5 Bid
C40: # | D40: Item - Description | G40: Unit | H40: Qty | I40: Unit Price | J40: Amount | L40: Unit Price | M40: Bid Amount | N40: Unit Price | O40: Bid Amount | P40: Unit Price | Q40: Bid Amount | R40: Unit Price | S40: Bid Amount | T40: Unit Price | U40: Bid Amount
C41: 1 | D41: Item - Description 1 | J41: =IF(I41="","",H41*I41) | M41: =IF(L41="","",H41*L41) | O41: =IF(N41="","",H41*N41) | Q41: =IF(P41="","",H41*P41) | S41: =IF(R41="","",H41*R41) | U41: =IF(T41="","",H41*T41)
C42: 2 | D42: Item - Description 2 | J42: =IF(I42="","",H42*I42) | M42: =IF(L42="","",H42*L42) | O42: =IF(N42="","",H42*N42) | Q42: =IF(P42="","",H42*P42) | S42: =IF(R42="","",H42*R42) | U42: =IF(T42="","",H42*T42)
C43: 3 | D43: Item - Description 3 | J43: =IF(I43="","",H43*I43) | M43: =IF(L43="","",H43*L43) | O43: =IF(N43="","",H43*N43) | Q43: =IF(P43="","",H43*P43) | S43: =IF(R43="","",H43*R43) | U43: =IF(T43="","",H43*T43)
C44: 4 | D44: Item - Description 4 | J44: =IF(I44="","",H44*I44) | M44: =IF(L44="","",H44*L44) | O44: =IF(N44="","",H44*N44) | Q44: =IF(P44="","",H44*P44) | S44: =IF(R44="","",H44*R44) | U44: =IF(T44="","",H44*T44)
C45: 5 | D45: Item - Description 5 | J45: =IF(I45="","",H45*I45) | M45: =IF(L45="","",H45*L45) | O45: =IF(N45="","",H45*N45) | Q45: =IF(P45="","",H45*P45) | S45: =IF(R45="","",H45*R45) | U45: =IF(T45="","",H45*T45)
C46: 6 | D46: Item - Description 6 | J46: =IF(I46="","",H46*I46) | M46: =IF(L46="","",H46*L46) | O46: =IF(N46="","",H46*N46) | Q46: =IF(P46="","",H46*P46) | S46: =IF(R46="","",H46*R46) | U46: =IF(T46="","",H46*T46)
C47: 7 | D47: Item - Description 7 | J47: =IF(I47="","",H47*I47) | M47: =IF(L47="","",H47*L47) | O47: =IF(N47="","",H47*N47) | Q47: =IF(P47="","",H47*P47) | S47: =IF(R47="","",H47*R47) | U47: =IF(T47="","",H47*T47)
C48: 8 | D48: Item - Description 8 | J48: =IF(I48="","",H48*I48) | M48: =IF(L48="","",H48*L48) | O48: =IF(N48="","",H48*N48) | Q48: =IF(P48="","",H48*P48) | S48: =IF(R48="","",H48*R48) | U48: =IF(T48="","",H48*T48)
C49: 9 | D49: Item - Description 9 | J49: =IF(I49="","",H49*I49) | M49: =IF(L49="","",H49*L49) | O49: =IF(N49="","",H49*N49) | Q49: =IF(P49="","",H49*P49) | S49: =IF(R49="","",H49*R49) | U49: =IF(T49="","",H49*T49)
C50: 10 | D50: Item - Description 10 | J50: =IF(I50="","",H50*I50) | M50: =IF(L50="","",H50*L50) | O50: =IF(N50="","",H50*N50) | Q50: =IF(P50="","",H50*P50) | S50: =IF(R50="","",H50*R50) | U50: =IF(T50="","",H50*T50)
C51: 11 | D51: Item - Description 11 | J51: =IF(I51="","",H51*I51) | M51: =IF(L51="","",H51*L51) | O51: =IF(N51="","",H51*N51) | Q51: =IF(P51="","",H51*P51) | S51: =IF(R51="","",H51*R51) | U51: =IF(T51="","",H51*T51)
C52: 12 | D52: Item - Description 12 | J52: =IF(I52="","",H52*I52) | M52: =IF(L52="","",H52*L52) | O52: =IF(N52="","",H52*N52) | Q52: =IF(P52="","",H52*P52) | S52: =IF(R52="","",H52*R52) | U52: =IF(T52="","",H52*T52)
... C60: 20 | D60: Item - Description 20 | J60: =IF(I60="","",H60*I60) | M60: =IF(L60="","",H60*L60) | O60: =IF(N60="","",H60*N60) | Q60: =IF(P60="","",H60*P60) | S60: =IF(R60="","",H60*R60) | U60: =IF(T60="","",H60*T60)
C61: Phase 2 Totals : | I61: =SUM(J41:J60) -> 0 | L61: =SUM(M41:M60) -> 0 | N61: =SUM(O41:O60) -> 0 | P61: =SUM(Q41:Q60) -> 0 | R61: =SUM(S41:S60) -> 0 | T61: =SUM(U41:U60) -> 0
C63: Phase 3 Bid Quantities | I63: Architect - Engineer Estimate | L63: =IF(L$13="","",L$13) -> Contractor 1 Bid | N63: =IF(N$13="","",N$13) -> Contractor 2 Bid | P63: =IF(P$13="","",P$13) -> Contractor 3 Bid | R63: =IF(R$13="","",R$13) -> Contractor 4 Bid | T63: =IF(T$13="","",T$13) -> Contractor 5 Bid
C65: # | D65: Item - Description | G65: Unit | H65: Qty | I65: Unit Price | J65: Amount | L65: Unit Price | M65: Bid Amount | N65: Unit Price | O65: Bid Amount | P65: Unit Price | Q65: Bid Amount | R65: Unit Price | S65: Bid Amount | T65: Unit Price | U65: Bid Amount
C66: 1 | D66: Item - Description 1 | J66: =IF(I66="","",H66*I66) | M66: =IF(L66="","",H66*L66) | O66: =IF(N66="","",H66*N66) | Q66: =IF(P66="","",H66*P66) | S66: =IF(R66="","",H66*R66) | U66: =IF(T66="","",H66*T66)
C67: 2 | D67: Item - Description 2 | J67: =IF(I67="","",H67*I67) | M67: =IF(L67="","",H67*L67) | O67: =IF(N67="","",H67*N67) | Q67: =IF(P67="","",H67*P67) | S67: =IF(R67="","",H67*R67) | U67: =IF(T67="","",H67*T67)
C68: 3 | D68: Item - Description 3 | J68: =IF(I68="","",H68*I68) | M68: =IF(L68="","",H68*L68) | O68: =IF(N68="","",H68*N68) | Q68: =IF(P68="","",H68*P68) | S68: =IF(R68="","",H68*R68) | U68: =IF(T68="","",H68*T68)
C69: 4 | D69: Item - Description 4 | J69: =IF(I69="","",H69*I69) | M69: =IF(L69="","",H69*L69) | O69: =IF(N69="","",H69*N69) | Q69: =IF(P69="","",H69*P69) | S69: =IF(R69="","",H69*R69) | U69: =IF(T69="","",H69*T69)
C70: 5 | D70: Item - Description 5 | J70: =IF(I70="","",H70*I70) | M70: =IF(L70="","",H70*L70) | O70: =IF(N70="","",H70*N70) | Q70: =IF(P70="","",H70*P70) | S70: =IF(R70="","",H70*R70) | U70: =IF(T70="","",H70*T70)
C71: 6 | D71: Item - Description 6 | J71: =IF(I71="","",H71*I71) | M71: =IF(L71="","",H71*L71) | O71: =IF(N71="","",H71*N71) | Q71: =IF(P71="","",H71*P71) | S71: =IF(R71="","",H71*R71) | U71: =IF(T71="","",H71*T71)
C72: 7 | D72: Item - Description 7 | J72: =IF(I72="","",H72*I72) | M72: =IF(L72="","",H72*L72) | O72: =IF(N72="","",H72*N72) | Q72: =IF(P72="","",H72*P72) | S72: =IF(R72="","",H72*R72) | U72: =IF(T72="","",H72*T72)
C73: 8 | D73: Item - Description 8 | J73: =IF(I73="","",H73*I73) | M73: =IF(L73="","",H73*L73) | O73: =IF(N73="","",H73*N73) | Q73: =IF(P73="","",H73*P73) | S73: =IF(R73="","",H73*R73) | U73: =IF(T73="","",H73*T73)
C74: 9 | D74: Item - Description 9 | J74: =IF(I74="","",H74*I74) | M74: =IF(L74="","",H74*L74) | O74: =IF(N74="","",H74*N74) | Q74: =IF(P74="","",H74*P74) | S74: =IF(R74="","",H74*R74) | U74: =IF(T74="","",H74*T74)
C75: 10 | D75: Item - Description 10 | J75: =IF(I75="","",H75*I75) | M75: =IF(L75="","",H75*L75) | O75: =IF(N75="","",H75*N75) | Q75: =IF(P75="","",H75*P75) | S75: =IF(R75="","",H75*R75) | U75: =IF(T75="","",H75*T75)
C76: 11 | D76: Item - Description 11 | J76: =IF(I76="","",H76*I76) | M76: =IF(L76="","",H76*L76) | O76: =IF(N76="","",H76*N76) | Q76: =IF(P76="","",H76*P76) | S76: =IF(R76="","",H76*R76) | U76: =IF(T76="","",H76*T76)
C77: 12 | D77: Item - Description 12 | J77: =IF(I77="","",H77*I77) | M77: =IF(L77="","",H77*L77) | O77: =IF(N77="","",H77*N77) | Q77: =IF(P77="","",H77*P77) | S77: =IF(R77="","",H77*R77) | U77: =IF(T77="","",H77*T77)
... C80: 15 | D80: Item - Description 15 | J80: =IF(I80="","",H80*I80) | M80: =IF(L80="","",H80*L80) | O80: =IF(N80="","",H80*N80) | Q80: =IF(P80="","",H80*P80) | S80: =IF(R80="","",H80*R80) | U80: =IF(T80="","",H80*T80)
C81: Phase 3 Totals : | I81: =SUM(J66:J80) -> 0 | L81: =SUM(M66:M80) -> 0 | N81: =SUM(O66:O80) -> 0 | P81: =SUM(Q66:Q80) -> 0 | R81: =SUM(S66:S80) -> 0 | T81: =SUM(U66:U80) -> 0
C83: Phase 4 Bid Quantities | I83: Architect - Engineer Estimate | L83: =IF(L$13="","",L$13) -> Contractor 1 Bid | N83: =IF(N$13="","",N$13) -> Contractor 2 Bid | P83: =IF(P$13="","",P$13) -> Contractor 3 Bid | R83: =IF(R$13="","",R$13) -> Contractor 4 Bid | T83: =IF(T$13="","",T$13) -> Contractor 5 Bid
C85: # | D85: Item - Description | G85: Unit | H85: Qty | I85: Unit Price | J85: Amount | L85: Unit Price | M85: Bid Amount | N85: Unit Price | O85: Bid Amount | P85: Unit Price | Q85: Bid Amount | R85: Unit Price | S85: Bid Amount | T85: Unit Price | U85: Bid Amount
C86: 1 | D86: Item - Description 1 | J86: =IF(I86="","",H86*I86) | M86: =IF(L86="","",H86*L86) | O86: =IF(N86="","",H86*N86) | Q86: =IF(P86="","",H86*P86) | S86: =IF(R86="","",H86*R86) | U86: =IF(T86="","",H86*T86)
C87: 2 | D87: Item - Description 2 | J87: =IF(I87="","",H87*I87) | M87: =IF(L87="","",H87*L87) | O87: =IF(N87="","",H87*N87) | Q87: =IF(P87="","",H87*P87) | S87: =IF(R87="","",H87*R87) | U87: =IF(T87="","",H87*T87)
C88: 3 | D88: Item - Description 3 | J88: =IF(I88="","",H88*I88) | M88: =IF(L88="","",H88*L88) | O88: =IF(N88="","",H88*N88) | Q88: =IF(P88="","",H88*P88) | S88: =IF(R88="","",H88*R88) | U88: =IF(T88="","",H88*T88)
C89: 4 | D89: Item - Description 4 | J89: =IF(I89="","",H89*I89) | M89: =IF(L89="","",H89*L89) | O89: =IF(N89="","",H89*N89) | Q89: =IF(P89="","",H89*P89) | S89: =IF(R89="","",H89*R89) | U89: =IF(T89="","",H89*T89)
C90: 5 | D90: Item - Description 5 | J90: =IF(I90="","",H90*I90) | M90: =IF(L90="","",H90*L90) | O90: =IF(N90="","",H90*N90) | Q90: =IF(P90="","",H90*P90) | S90: =IF(R90="","",H90*R90) | U90: =IF(T90="","",H90*T90)
C91: 6 | D91: Item - Description 6 | J91: =IF(I91="","",H91*I91) | M91: =IF(L91="","",H91*L91) | O91: =IF(N91="","",H91*N91) | Q91: =IF(P91="","",H91*P91) | S91: =IF(R91="","",H91*R91) | U91: =IF(T91="","",H91*T91)
C92: 7 | D92: Item - Description 7 | J92: =IF(I92="","",H92*I92) | M92: =IF(L92="","",H92*L92) | O92: =IF(N92="","",H92*N92) | Q92: =IF(P92="","",H92*P92) | S92: =IF(R92="","",H92*R92) | U92: =IF(T92="","",H92*T92)
C93: 8 | D93: Item - Description 8 | J93: =IF(I93="","",H93*I93) | M93: =IF(L93="","",H93*L93) | O93: =IF(N93="","",H93*N93) | Q93: =IF(P93="","",H93*P93) | S93: =IF(R93="","",H93*R93) | U93: =IF(T93="","",H93*T93)
C94: 9 | D94: Item - Description 9 | J94: =IF(I94="","",H94*I94) | M94: =IF(L94="","",H94*L94) | O94: =IF(N94="","",H94*N94) | Q94: =IF(P94="","",H94*P94) | S94: =IF(R94="","",H94*R94) | U94: =IF(T94="","",H94*T94)
C95: 10 | D95: Item - Description 10 | J95: =IF(I95="","",H95*I95) | M95: =IF(L95="","",H95*L95) | O95: =IF(N95="","",H95*N95) | Q95: =IF(P95="","",H95*P95) | S95: =IF(R95="","",H95*R95) | U95: =IF(T95="","",H95*T95)
C96: 11 | D96: Item - Description 11 | J96: =IF(I96="","",H96*I96) | M96: =IF(L96="","",H96*L96) | O96: =IF(N96="","",H96*N96) | Q96: =IF(P96="","",H96*P96) | S96: =IF(R96="","",H96*R96) | U96: =IF(T96="","",H96*T96)
C97: 12 | D97: Item - Description 12 | J97: =IF(I97="","",H97*I97) | M97: =IF(L97="","",H97*L97) | O97: =IF(N97="","",H97*N97) | Q97: =IF(P97="","",H97*P97) | S97: =IF(R97="","",H97*R97) | U97: =IF(T97="","",H97*T97)
... C100: 15 | D100: Item - Description 15 | J100: =IF(I100="","",H100*I100) | M100: =IF(L100="","",H100*L100) | O100: =IF(N100="","",H100*N100) | Q100: =IF(P100="","",H100*P100) | S100: =IF(R100="","",H100*R100) | U100: =IF(T100="","",H100*T100)
C101: Phase 4 Totals : | I101: =SUM(J86:J100) -> 0 | L101: =SUM(M86:M100) -> 0 | N101: =SUM(O86:O100) -> 0 | P101: =SUM(Q86:Q100) -> 0 | R101: =SUM(S86:S100) -> 0 | T101: =SUM(U86:U100) -> 0
C103: Phase 5 Bid Quantities | I103: Architect - Engineer Estimate | L103: =IF(L$13="","",L$13) -> Contractor 1 Bid | N103: =IF(N$13="","",N$13) -> Contractor 2 Bid | P103: =IF(P$13="","",P$13) -> Contractor 3 Bid | R103: =IF(R$13="","",R$13) -> Contractor 4 Bid | T103: =IF(T$13="","",T$13) -> Contractor 5 Bid
C105: # | D105: Item - Description | G105: Unit | H105: Qty | I105: Unit Price | J105: Amount | L105: Unit Price | M105: Bid Amount | N105: Unit Price | O105: Bid Amount | P105: Unit Price | Q105: Bid Amount | R105: Unit Price | S105: Bid Amount | T105: Unit Price | U105: Bid Amount
C106: 1 | D106: Item - Description 1 | J106: =IF(I106="","",H106*I106) | M106: =IF(L106="","",H106*L106) | O106: =IF(N106="","",H106*N106) | Q106: =IF(P106="","",H106*P106) | S106: =IF(R106="","",H106*R106) | U106: =IF(T106="","",H106*T106)
C107: 2 | D107: Item - Description 2 | J107: =IF(I107="","",H107*I107) | M107: =IF(L107="","",H107*L107) | O107: =IF(N107="","",H107*N107) | Q107: =IF(P107="","",H107*P107) | S107: =IF(R107="","",H107*R107) | U107: =IF(T107="","",H107*T107)
C108: 3 | D108: Item - Description 3 | J108: =IF(I108="","",H108*I108) | M108: =IF(L108="","",H108*L108) | O108: =IF(N108="","",H108*N108) | Q108: =IF(P108="","",H108*P108) | S108: =IF(R108="","",H108*R108) | U108: =IF(T108="","",H108*T108)
C109: 4 | D109: Item - Description 4 | J109: =IF(I109="","",H109*I109) | M109: =IF(L109="","",H109*L109) | O109: =IF(N109="","",H109*N109) | Q109: =IF(P109="","",H109*P109) | S109: =IF(R109="","",H109*R109) | U109: =IF(T109="","",H109*T109)
C110: 5 | D110: Item - Description 5 | J110: =IF(I110="","",H110*I110) | M110: =IF(L110="","",H110*L110) | O110: =IF(N110="","",H110*N110) | Q110: =IF(P110="","",H110*P110) | S110: =IF(R110="","",H110*R110) | U110: =IF(T110="","",H110*T110)
C111: 6 | D111: Item - Description 6 | J111: =IF(I111="","",H111*I111) | M111: =IF(L111="","",H111*L111) | O111: =IF(N111="","",H111*N111) | Q111: =IF(P111="","",H111*P111) | S111: =IF(R111="","",H111*R111) | U111: =IF(T111="","",H111*T111)
C112: 7 | D112: Item - Description 7 | J112: =IF(I112="","",H112*I112) | M112: =IF(L112="","",H112*L112) | O112: =IF(N112="","",H112*N112) | Q112: =IF(P112="","",H112*P112) | S112: =IF(R112="","",H112*R112) | U112: =IF(T112="","",H112*T112)
C113: 8 | D113: Item - Description 8 | J113: =IF(I113="","",H113*I113) | M113: =IF(L113="","",H113*L113) | O113: =IF(N113="","",H113*N113) | Q113: =IF(P113="","",H113*P113) | S113: =IF(R113="","",H113*R113) | U113: =IF(T113="","",H113*T113)
C114: 9 | D114: Item - Description 9 | J114: =IF(I114="","",H114*I114) | M114: =IF(L114="","",H114*L114) | O114: =IF(N114="","",H114*N114) | Q114: =IF(P114="","",H114*P114) | S114: =IF(R114="","",H114*R114) | U114: =IF(T114="","",H114*T114)
C115: 10 | D115: Item - Description 10 | J115: =IF(I115="","",H115*I115) | M115: =IF(L115="","",H115*L115) | O115: =IF(N115="","",H115*N115) | Q115: =IF(P115="","",H115*P115) | S115: =IF(R115="","",H115*R115) | U115: =IF(T115="","",H115*T115)
C116: Phase 5 Totals : | I116: =SUM(J106:J115) -> 0 | L116: =SUM(M106:M115) -> 0 | N116: =SUM(O106:O115) -> 0 | P116: =SUM(Q106:Q115) -> 0 | R116: =SUM(S106:S115) -> 0 | T116: =SUM(U106:U115) -> 0
C118: BID RESULTS | I118: Architect - Engineer Estimate | L118: =IF(L$13="","",L$13) -> Contractor 1 Bid | N118: =IF(N$13="","",N$13) -> Contractor 2 Bid | P118: =IF(P$13="","",P$13) -> Contractor 3 Bid | R118: =IF(R$13="","",R$13) -> Contractor 4 Bid | T118: =IF(T$13="","",T$13) -> Contractor 5 Bid
H119: Total Base Bid : | I119: =SUM(I116,I101,I81,I61,I36) -> 0 | L119: =SUM(L116,L101,L81,L61,L36) -> 0 | N119: =SUM(N116,N101,N81,N61,N36) -> 0 | P119: =SUM(P116,P101,P81,P61,P36) -> 0 | R119: =SUM(R116,R101,R81,R61,R36) -> 0 | T119: =SUM(T116,T101,T81,T61,T36) -> 0
E120: Tax Rate : | F120: 0.1 | H120: Tax : | I120: =IF($F$120="","",$F$120*I119) -> 0 | L120: =IF($F$120="","",$F$120*L119) -> 0 | N120: =IF($F$120="","",$F$120*N119) -> 0 | P120: =IF($F$120="","",$F$120*P119) -> 0 | R120: =IF($F$120="","",$F$120*R119) -> 0 | T120: =IF($F$120="","",$F$120*T119) -> 0
H121: Total Bid Amount : | I121: =SUM(I119:J120) -> 0 | L121: =SUM(L119:M120) -> 0 | N121: =SUM(N119:O120) -> 0 | P121: =SUM(P119:Q120) -> 0 | R121: =SUM(R119:S120) -> 0 | T121: =SUM(T119:U120) -> 0

Sheet Comparison 11
D2: CONTRACTOR BID COMPARISON
D3: COMPARISON 11
C7: Project Name | E7: =IF(Dashboard!I36="","",Dashboard!I36)
C8: Project No | E8: =IF(Dashboard!I37="","",Dashboard!I37)
C9: Location | E9: =IF(Dashboard!I38="","",Dashboard!I38) | S9: You can add Firm Logo
C10: Architect - Engineer | E10: =IF(Dashboard!I39="","",Dashboard!I39)
C11: Bid Date | E11: =IF(Dashboard!I40="","",Dashboard!I40)
C13: Phase 1 Bid Quantities | I13: Architect - Engineer Estimate | L13: Contractor 1 Bid | N13: Contractor 2 Bid | P13: Contractor 3 Bid | R13: Contractor 4 Bid | T13: Contractor 5 Bid
C15: # | D15: Item - Description | G15: Unit | H15: Qty | I15: Unit Price | J15: Amount | L15: Unit Price | M15: Bid Amount | N15: Unit Price | O15: Bid Amount | P15: Unit Price | Q15: Bid Amount | R15: Unit Price | S15: Bid Amount | T15: Unit Price | U15: Bid Amount
C16: 1 | D16: Item - Description 1 | J16: =IF(I16="","",H16*I16) | M16: =IF(L16="","",H16*L16) | O16: =IF(N16="","",H16*N16) | Q16: =IF(P16="","",H16*P16) | S16: =IF(R16="","",H16*R16) | U16: =IF(T16="","",H16*T16)
C17: 2 | D17: Item - Description 2 | J17: =IF(I17="","",H17*I17) | M17: =IF(L17="","",H17*L17) | O17: =IF(N17="","",H17*N17) | Q17: =IF(P17="","",H17*P17) | S17: =IF(R17="","",H17*R17) | U17: =IF(T17="","",H17*T17)
C18: 3 | D18: Item - Description 3 | J18: =IF(I18="","",H18*I18) | M18: =IF(L18="","",H18*L18) | O18: =IF(N18="","",H18*N18) | Q18: =IF(P18="","",H18*P18) | S18: =IF(R18="","",H18*R18) | U18: =IF(T18="","",H18*T18)
C19: 4 | D19: Item - Description 4 | J19: =IF(I19="","",H19*I19) | M19: =IF(L19="","",H19*L19) | O19: =IF(N19="","",H19*N19) | Q19: =IF(P19="","",H19*P19) | S19: =IF(R19="","",H19*R19) | U19: =IF(T19="","",H19*T19)
C20: 5 | D20: Item - Description 5 | J20: =IF(I20="","",H20*I20) | M20: =IF(L20="","",H20*L20) | O20: =IF(N20="","",H20*N20) | Q20: =IF(P20="","",H20*P20) | S20: =IF(R20="","",H20*R20) | U20: =IF(T20="","",H20*T20)
C21: 6 | D21: Item - Description 6 | J21: =IF(I21="","",H21*I21) | M21: =IF(L21="","",H21*L21) | O21: =IF(N21="","",H21*N21) | Q21: =IF(P21="","",H21*P21) | S21: =IF(R21="","",H21*R21) | U21: =IF(T21="","",H21*T21)
C22: 7 | D22: Item - Description 7 | J22: =IF(I22="","",H22*I22) | M22: =IF(L22="","",H22*L22) | O22: =IF(N22="","",H22*N22) | Q22: =IF(P22="","",H22*P22) | S22: =IF(R22="","",H22*R22) | U22: =IF(T22="","",H22*T22)
C23: 8 | D23: Item - Description 8 | J23: =IF(I23="","",H23*I23) | M23: =IF(L23="","",H23*L23) | O23: =IF(N23="","",H23*N23) | Q23: =IF(P23="","",H23*P23) | S23: =IF(R23="","",H23*R23) | U23: =IF(T23="","",H23*T23)
C24: 9 | D24: Item - Description 9 | J24: =IF(I24="","",H24*I24) | M24: =IF(L24="","",H24*L24) | O24: =IF(N24="","",H24*N24) | Q24: =IF(P24="","",H24*P24) | S24: =IF(R24="","",H24*R24) | U24: =IF(T24="","",H24*T24)
C25: 10 | D25: Item - Description 10 | J25: =IF(I25="","",H25*I25) | M25: =IF(L25="","",H25*L25) | O25: =IF(N25="","",H25*N25) | Q25: =IF(P25="","",H25*P25) | S25: =IF(R25="","",H25*R25) | U25: =IF(T25="","",H25*T25)
C26: 11 | D26: Item - Description 11 | J26: =IF(I26="","",H26*I26) | M26: =IF(L26="","",H26*L26) | O26: =IF(N26="","",H26*N26) | Q26: =IF(P26="","",H26*P26) | S26: =IF(R26="","",H26*R26) | U26: =IF(T26="","",H26*T26)
C27: 12 | D27: Item - Description 12 | J27: =IF(I27="","",H27*I27) | M27: =IF(L27="","",H27*L27) | O27: =IF(N27="","",H27*N27) | Q27: =IF(P27="","",H27*P27) | S27: =IF(R27="","",H27*R27) | U27: =IF(T27="","",H27*T27)
... C35: 20 | D35: Item - Description 20 | J35: =IF(I35="","",H35*I35) | M35: =IF(L35="","",H35*L35) | O35: =IF(N35="","",H35*N35) | Q35: =IF(P35="","",H35*P35) | S35: =IF(R35="","",H35*R35) | U35: =IF(T35="","",H35*T35)
C36: Phase 1 Totals : | I36: =SUM(J16:J35) -> 0 | L36: =SUM(M16:M35) -> 0 | N36: =SUM(O16:O35) -> 0 | P36: =SUM(Q16:Q35) -> 0 | R36: =SUM(S16:S35) -> 0 | T36: =SUM(U16:U35) -> 0
C38: Phase 2 Bid Quantities | I38: Architect - Engineer Estimate | L38: =IF(L$13="","",L$13) -> Contractor 1 Bid | N38: =IF(N$13="","",N$13) -> Contractor 2 Bid | P38: =IF(P$13="","",P$13) -> Contractor 3 Bid | R38: =IF(R$13="","",R$13) -> Contractor 4 Bid | T38: =IF(T$13="","",T$13) -> Contractor 5 Bid
C40: # | D40: Item - Description | G40: Unit | H40: Qty | I40: Unit Price | J40: Amount | L40: Unit Price | M40: Bid Amount | N40: Unit Price | O40: Bid Amount | P40: Unit Price | Q40: Bid Amount | R40: Unit Price | S40: Bid Amount | T40: Unit Price | U40: Bid Amount
C41: 1 | D41: Item - Description 1 | J41: =IF(I41="","",H41*I41) | M41: =IF(L41="","",H41*L41) | O41: =IF(N41="","",H41*N41) | Q41: =IF(P41="","",H41*P41) | S41: =IF(R41="","",H41*R41) | U41: =IF(T41="","",H41*T41)
C42: 2 | D42: Item - Description 2 | J42: =IF(I42="","",H42*I42) | M42: =IF(L42="","",H42*L42) | O42: =IF(N42="","",H42*N42) | Q42: =IF(P42="","",H42*P42) | S42: =IF(R42="","",H42*R42) | U42: =IF(T42="","",H42*T42)
C43: 3 | D43: Item - Description 3 | J43: =IF(I43="","",H43*I43) | M43: =IF(L43="","",H43*L43) | O43: =IF(N43="","",H43*N43) | Q43: =IF(P43="","",H43*P43) | S43: =IF(R43="","",H43*R43) | U43: =IF(T43="","",H43*T43)
C44: 4 | D44: Item - Description 4 | J44: =IF(I44="","",H44*I44) | M44: =IF(L44="","",H44*L44) | O44: =IF(N44="","",H44*N44) | Q44: =IF(P44="","",H44*P44) | S44: =IF(R44="","",H44*R44) | U44: =IF(T44="","",H44*T44)
C45: 5 | D45: Item - Description 5 | J45: =IF(I45="","",H45*I45) | M45: =IF(L45="","",H45*L45) | O45: =IF(N45="","",H45*N45) | Q45: =IF(P45="","",H45*P45) | S45: =IF(R45="","",H45*R45) | U45: =IF(T45="","",H45*T45)
C46: 6 | D46: Item - Description 6 | J46: =IF(I46="","",H46*I46) | M46: =IF(L46="","",H46*L46) | O46: =IF(N46="","",H46*N46) | Q46: =IF(P46="","",H46*P46) | S46: =IF(R46="","",H46*R46) | U46: =IF(T46="","",H46*T46)
C47: 7 | D47: Item - Description 7 | J47: =IF(I47="","",H47*I47) | M47: =IF(L47="","",H47*L47) | O47: =IF(N47="","",H47*N47) | Q47: =IF(P47="","",H47*P47) | S47: =IF(R47="","",H47*R47) | U47: =IF(T47="","",H47*T47)
C48: 8 | D48: Item - Description 8 | J48: =IF(I48="","",H48*I48) | M48: =IF(L48="","",H48*L48) | O48: =IF(N48="","",H48*N48) | Q48: =IF(P48="","",H48*P48) | S48: =IF(R48="","",H48*R48) | U48: =IF(T48="","",H48*T48)
C49: 9 | D49: Item - Description 9 | J49: =IF(I49="","",H49*I49) | M49: =IF(L49="","",H49*L49) | O49: =IF(N49="","",H49*N49) | Q49: =IF(P49="","",H49*P49) | S49: =IF(R49="","",H49*R49) | U49: =IF(T49="","",H49*T49)
C50: 10 | D50: Item - Description 10 | J50: =IF(I50="","",H50*I50) | M50: =IF(L50="","",H50*L50) | O50: =IF(N50="","",H50*N50) | Q50: =IF(P50="","",H50*P50) | S50: =IF(R50="","",H50*R50) | U50: =IF(T50="","",H50*T50)
C51: 11 | D51: Item - Description 11 | J51: =IF(I51="","",H51*I51) | M51: =IF(L51="","",H51*L51) | O51: =IF(N51="","",H51*N51) | Q51: =IF(P51="","",H51*P51) | S51: =IF(R51="","",H51*R51) | U51: =IF(T51="","",H51*T51)
