Workbook

Sheet Dashboard
C2: CONTRACTOR BID COMPARISON
C3: INFO PAGE
C7: Information for Comparison 1 | G7: Information for Comparison 2 | K7: Information for Comparison 3
C9: Project Name | D9: : | E9: Project Name 1 | G9: Project Name | H9: : | I9: Project Name 2 | K9: Project Name | L9: : | M9: Project Name 3
C10: Project No | D10: : | E10: 10001 | G10: Project No | H10: : | I10: 10002 | K10: Project No | L10: : | M10: 10003
C11: Location | D11: : | E11: Location 1 | G11: Location | H11: : | I11: Location 2 | K11: Location | L11: : | M11: Location 3
C12: Architect - Engineer | D12: : | E12: Alan Smith | G12: Architect - Engineer | H12: : | I12: Alan Smith | K12: Architect - Engineer | L12: : | M12: Alan Smith
C13: Bid Date | D13: : | E13: 45669 | G13: Bid Date | H13: : | I13: 45708 | K13: Bid Date | L13: : | M13: 45717
C14: Page Link | D14: : | E14: Go to Comparison Page | G14: Page Link | H14: : | I14: Go to Comparison Page | K14: Page Link | L14: : | M14: Go to Comparison Page

Sheet Comparison 1
D2: CONTRACTOR BID COMPARISON
D3: COMPARISON 1
C7: Project Name | E7: =IF(Dashboard!E9="","",Dashboard!E9) -> Project Name 1 | R7: You can add Firm Logo
C8: Project No | E8: =IF(Dashboard!E10="","",Dashboard!E10) -> 10001
C9: Location | E9: =IF(Dashboard!E11="","",Dashboard!E11) -> Location 1
C10: Architect - Engineer | E10: =IF(Dashboard!E12="","",Dashboard!E12) -> Alan Smith
C11: Bid Date | E11: =IF(Dashboard!E13="","",Dashboard!E13) -> 45669
C13: Phase 1 Bid Quantities | I13: Architect - Engineer Estimate | L13: Contractor 1 Bid | N13: Contractor 2 Bid | P13: Contractor 3 Bid | R13: Contractor 4 Bid | T13: Contractor 5 Bid
C15: # | D15: Item - Description | G15: Unit | H15: Qty | I15: Unit Price | J15: Amount | L15: Unit Price | M15: Bid Amount | N15: Unit Price | O15: Bid Amount | P15: Unit Price | Q15: Bid Amount | R15: Unit Price | S15: Bid Amount | T15: Unit Price | U15: Bid Amount
C16: 1 | D16: Item - Description 1 | G16: piece | H16: 15 | I16: 10 | J16: =IF(I16="","",H16*I16) -> 150 | L16: 10 | M16: =IF(L16="","",H16*L16) -> 150 | N16: 9.5 | O16: =IF(N16="","",H16*N16) -> 142.5 | P16: 9 | Q16: =IF(P16="","",H16*P16) -> 135 | R16: 10 | S16: =IF(R16="","",H16*R16) -> 150 | T16: 9.5 | U16: =IF(T16="","",H16*T16) -> 142.5
C17: 2 | D17: Item - Description 2 | G17: Box | H17: 3 | I17: 250 | J17: =IF(I17="","",H17*I17) -> 750 | L17: 250 | M17: =IF(L17="","",H17*L17) -> 750 | N17: 245 | O17: =IF(N17="","",H17*N17) -> 735 | P17: 260 | Q17: =IF(P17="","",H17*P17) -> 780 | R17: 255 | S17: =IF(R17="","",H17*R17) -> 765 | T17: 255 | U17: =IF(T17="","",H17*T17) -> 765
C18: 3 | D18: Item - Description 3 | G18: Box | H18: 4 | I18: 50 | J18: =IF(I18="","",H18*I18) -> 200 | L18: 50 | M18: =IF(L18="","",H18*L18) -> 200 | N18: 49.5 | O18: =IF(N18="","",H18*N18) -> 198 | P18: 50 | Q18: =IF(P18="","",H18*P18) -> 200 | R18: 50 | S18: =IF(R18="","",H18*R18) -> 200 | T18: 50 | U18: =IF(T18="","",H18*T18) -> 200
C19: 4 | D19: Item - Description 4 | G19: piece | H19: 5 | I19: 24 | J19: =IF(I19="","",H19*I19) -> 120 | L19: 25 | M19: =IF(L19="","",H19*L19) -> 125 | N19: 26 | O19: =IF(N19="","",H19*N19) -> 130 | P19: 23.5 | Q19: =IF(P19="","",H19*P19) -> 117.5 | R19: 24 | S19: =IF(R19="","",H19*R19) -> 120 | T19: 24 | U19: =IF(T19="","",H19*T19) -> 120
C20: 5 | D20: Item - Description 5 | G20: Box | H20: 6 | I20: 32 | J20: =IF(I20="","",H20*I20) -> 192 | L20: 34 | M20: =IF(L20="","",H20*L20) -> 204 | N20: 33 | O20: =IF(N20="","",H20*N20) -> 198 | P20: 31.5 | Q20: =IF(P20="","",H20*P20) -> 189 | R20: 32 | S20: =IF(R20="","",H20*R20) -> 192 | T20: 32 | U20: =IF(T20="","",H20*T20) -> 192
C21: 6 | D21: Item - Description 6 | G21: Box | H21: 7 | I21: 17 | J21: =IF(I21="","",H21*I21) -> 119 | L21: 19 | M21: =IF(L21="","",H21*L21) -> 133 | N21: 19 | O21: =IF(N21="","",H21*N21) -> 133 | P21: 18 | Q21: =IF(P21="","",H21*P21) -> 126 | R21: 17 | S21: =IF(R21="","",H21*R21) -> 119 | T21: 17 | U21: =IF(T21="","",H21*T21) -> 119
C22: 7 | D22: Item - Description 7 | G22: piece | H22: 5 | I22: 20 | J22: =IF(I22="","",H22*I22) -> 100 | L22: 21 | M22: =IF(L22="","",H22*L22) -> 105 | N22: 21 | O22: =IF(N22="","",H22*N22) -> 105 | P22: 22 | Q22: =IF(P22="","",H22*P22) -> 110 | R22: 22 | S22: =IF(R22="","",H22*R22) -> 110 | T22: 23 | U22: =IF(T22="","",H22*T22) -> 115
C23: 8 | D23: Item - Description 8 | G23: Box | H23: 4 | I23: 30 | J23: =IF(I23="","",H23*I23) -> 120 | L23: 30 | M23: =IF(L23="","",H23*L23) -> 120 | N23: 31 | O23: =IF(N23="","",H23*N23) -> 124 | P23: 29 | Q23: =IF(P23="","",H23*P23) -> 116 | R23: 30 | S23: =IF(R23="","",H23*R23) -> 120 | T23: 30 | U23: =IF(T23="","",H23*T23) -> 120
C24: 9 | D24: Item - Description 9 | G24: Box | H24: 10 | I24: 55 | J24: =IF(I24="","",H24*I24) -> 550 | L24: 56 | M24: =IF(L24="","",H24*L24) -> 560 | N24: 56 | O24: =IF(N24="","",H24*N24) -> 560 | P24: 54 | Q24: =IF(P24="","",H24*P24) -> 540 | R24: 55 | S24: =IF(R24="","",H24*R24) -> 550 | T24: 55 | U24: =IF(T24="","",H24*T24) -> 550
C25: 10 | D25: Item - Description 10 | G25: piece | H25: 11 | I25: 25 | J25: =IF(I25="","",H25*I25) -> 275 | L25: 27 | M25: =IF(L25="","",H25*L25) -> 297 | N25: 24 | O25: =IF(N25="","",H25*N25) -> 264 | P25: 27 | Q25: =IF(P25="","",H25*P25) -> 297 | R25: 25 | S25: =IF(R25="","",H25*R25) -> 275 | T25: 25 | U25: =IF(T25="","",H25*T25) -> 275
C26: 11 | D26: Item - Description 11 | G26: piece | H26: 12 | I26: 12 | J26: =IF(I26="","",H26*I26) -> 144 | L26: 13 | M26: =IF(L26="","",H26*L26) -> 156 | N26: 13 | O26: =IF(N26="","",H26*N26) -> 156 | P26: 14 | Q26: =IF(P26="","",H26*P26) -> 168 | R26: 12 | S26: =IF(R26="","",H26*R26) -> 144 | T26: 11.5 | U26: =IF(T26="","",H26*T26) -> 138
C27: 12 | J27: =IF(I27="","",H27*I27) | M27: =IF(L27="","",H27*L27) | O27: =IF(N27="","",H27*N27) | Q27: =IF(P27="","",H27*P27) | S27: =IF(R27="","",H27*R27) | U27: =IF(T27="","",H27*T27)
C28: 13 | J28: =IF(I28="","",H28*I28) | M28: =IF(L28="","",H28*L28) | O28: =IF(N28="","",H28*N28) | Q28: =IF(P28="","",H28*P28) | S28: =IF(R28="","",H28*R28) | U28: =IF(T28="","",H28*T28)
C29: 14 | J29: =IF(I29="","",H29*I29) | M29: =IF(L29="","",H29*L29) | O29: =IF(N29="","",H29*N29) | Q29: =IF(P29="","",H29*P29) | S29: =IF(R29="","",H29*R29) | U29: =IF(T29="","",H29*T29)
C30: 15 | J30: =IF(I30="","",H30*I30) | M30: =IF(L30="","",H30*L30) | O30: =IF(N30="","",H30*N30) | Q30: =IF(P30="","",H30*P30) | S30: =IF(R30="","",H30*R30) | U30: =IF(T30="","",H30*T30)
C31: 16 | J31: =IF(I31="","",H31*I31) | M31: =IF(L31="","",H31*L31) | O31: =IF(N31="","",H31*N31) | Q31: =IF(P31="","",H31*P31) | S31: =IF(R31="","",H31*R31) | U31: =IF(T31="","",H31*T31)
C32: 17 | J32: =IF(I32="","",H32*I32) | M32: =IF(L32="","",H32*L32) | O32: =IF(N32="","",H32*N32) | Q32: =IF(P32="","",H32*P32) | S32: =IF(R32="","",H32*R32) | U32: =IF(T32="","",H32*T32)
C33: 18 | J33: =IF(I33="","",H33*I33) | M33: =IF(L33="","",H33*L33) | O33: =IF(N33="","",H33*N33) | Q33: =IF(P33="","",H33*P33) | S33: =IF(R33="","",H33*R33) | U33: =IF(T33="","",H33*T33)
C34: 19 | J34: =IF(I34="","",H34*I34) | M34: =IF(L34="","",H34*L34) | O34: =IF(N34="","",H34*N34) | Q34: =IF(P34="","",H34*P34) | S34: =IF(R34="","",H34*R34) | U34: =IF(T34="","",H34*T34)
C35: 20 | J35: =IF(I35="","",H35*I35) | M35: =IF(L35="","",H35*L35) | O35: =IF(N35="","",H35*N35) | Q35: =IF(P35="","",H35*P35) | S35: =IF(R35="","",H35*R35) | U35: =IF(T35="","",H35*T35)
C36: Phase 1 Totals : | I36: =SUM(J16:J35) -> 2720 | L36: =SUM(M16:M35) -> 2800 | N36: =SUM(O16:O35) -> 2745.5 | P36: =SUM(Q16:Q35) -> 2778.5 | R36: =SUM(S16:S35) -> 2745 | T36: =SUM(U16:U35) -> 2736.5
C38: Phase 2 Bid Quantities | I38: Architect - Engineer Estimate | L38: =IF(L$13="","",L$13) -> Contractor 1 Bid | N38: =IF(N$13="","",N$13) -> Contractor 2 Bid | P38: =IF(P$13="","",P$13) -> Contractor 3 Bid | R38: =IF(R$13="","",R$13) -> Contractor 4 Bid | T38: =IF(T$13="","",T$13) -> Contractor 5 Bid
C40: # | D40: Item - Description | G40: Unit | H40: Qty | I40: Unit Price | J40: Amount | L40: Unit Price | M40: Bid Amount | N40: Unit Price | O40: Bid Amount | P40: Unit Price | Q40: Bid Amount | R40: Unit Price | S40: Bid Amount | T40: Unit Price | U40: Bid Amount
C41: 1 | D41: Item - Description 1 | G41: piece | H41: 15 | I41: 10 | J41: =IF(I41="","",H41*I41) -> 150 | L41: 10 | M41: =IF(L41="","",H41*L41) -> 150 | N41: 9.5 | O41: =IF(N41="","",H41*N41) -> 142.5 | P41: 9 | Q41: =IF(P41="","",H41*P41) -> 135 | R41: 10 | S41: =IF(R41="","",H41*R41) -> 150 | T41: 9.5 | U41: =IF(T41="","",H41*T41) -> 142.5
C42: 2 | D42: Item - Description 2 | G42: Box | H42: 3 | I42: 250 | J42: =IF(I42="","",H42*I42) -> 750 | L42: 250 | M42: =IF(L42="","",H42*L42) -> 750 | N42: 245 | O42: =IF(N42="","",H42*N42) -> 735 | P42: 260 | Q42: =IF(P42="","",H42*P42) -> 780 | R42: 255 | S42: =IF(R42="","",H42*R42) -> 765 | T42: 255 | U42: =IF(T42="","",H42*T42) -> 765
C43: 3 | D43: Item - Description 3 | G43: Box | H43: 4 | I43: 50 | J43: =IF(I43="","",H43*I43) -> 200 | L43: 50 | M43: =IF(L43="","",H43*L43) -> 200 | N43: 49.5 | O43: =IF(N43="","",H43*N43) -> 198 | P43: 50 | Q43: =IF(P43="","",H43*P43) -> 200 | R43: 50 | S43: =IF(R43="","",H43*R43) -> 200 | T43: 50 | U43: =IF(T43="","",H43*T43) -> 200
C44: 4 | D44: Item - Description 4 | G44: piece | H44: 5 | I44: 24 | J44: =IF(I44="","",H44*I44) -> 120 | L44: 25 | M44: =IF(L44="","",H44*L44) -> 125 | N44: 26 | O44: =IF(N44="","",H44*N44) -> 130 | P44: 23.5 | Q44: =IF(P44="","",H44*P44) -> 117.5 | R44: 24 | S44: =IF(R44="","",H44*R44) -> 120 | T44: 24 | U44: =IF(T44="","",H44*T44) -> 120
C45: 5 | D45: Item - Description 5 | G45: Box | H45: 6 | I45: 32 | J45: =IF(I45="","",H45*I45) -> 192 | L45: 34 | M45: =IF(L45="","",H45*L45) -> 204 | N45: 33 | O45: =IF(N45="","",H45*N45) -> 198 | P45: 31.5 | Q45: =IF(P45="","",H45*P45) -> 189 | R45: 32 | S45: =IF(R45="","",H45*R45) -> 192 | T45: 32 | U45: =IF(T45="","",H45*T45) -> 192
C46: 6 | D46: Item - Description 6 | G46: Box | H46: 7 | I46: 17 | J46: =IF(I46="","",H46*I46) -> 119 | L46: 19 | M46: =IF(L46="","",H46*L46) -> 133 | N46: 19 | O46: =IF(N46="","",H46*N46) -> 133 | P46: 18 | Q46: =IF(P46="","",H46*P46) -> 126 | R46: 17 | S46: =IF(R46="","",H46*R46) -> 119 | T46: 17 | U46: =IF(T46="","",H46*T46) -> 119
C47: 7 | D47: Item - Description 7 | G47: piece | H47: 5 | I47: 20 | J47: =IF(I47="","",H47*I47) -> 100 | L47: 21 | M47: =IF(L47="","",H47*L47) -> 105 | N47: 21 | O47: =IF(N47="","",H47*N47) -> 105 | P47: 22 | Q47: =IF(P47="","",H47*P47) -> 110 | R47: 22 | S47: =IF(R47="","",H47*R47) -> 110 | T47: 23 | U47: =IF(T47="","",H47*T47) -> 115
C48: 8 | D48: Item - Description 8 | G48: Box | H48: 4 | I48: 30 | J48: =IF(I48="","",H48*I48) -> 120 | L48: 27 | M48: =IF(L48="","",H48*L48) -> 108 | N48: 31 | O48: =IF(N48="","",H48*N48) -> 124 | P48: 29 | Q48: =IF(P48="","",H48*P48) -> 116 | R48: 30 | S48: =IF(R48="","",H48*R48) -> 120 | T48: 30 | U48: =IF(T48="","",H48*T48) -> 120
...

Sheet Comparison 2
D2: CONTRACTOR BID COMPARISON
D3: COMPARISON 2
C7: Project Name | E7: =IF(Dashboard!I9="","",Dashboard!I9) -> Project Name 2
C8: Project No | E8: =IF(Dashboard!I10="","",Dashboard!I10) -> 10002
C9: Location | E9: =IF(Dashboard!I11="","",Dashboard!I11) -> Location 2 | S9: You can add Firm Logo
C10: Architect - Engineer | E10: =IF(Dashboard!I12="","",Dashboard!I12) -> Alan Smith
C11: Bid Date | E11: =IF(Dashboard!I13="","",Dashboard!I13) -> 45708
C13: Phase 1 Bid Quantities | I13: Architect - Engineer Estimate | L13: Contractor 1 Bid | N13: Contractor 2 Bid | P13: Contractor 3 Bid | R13: Contractor 4 Bid | T13: Contractor 5 Bid
C15: # | D15: Item - Description | G15: Unit | H15: Qty | I15: Unit Price | J15: Amount | L15: Unit Price | M15: Bid Amount | N15: Unit Price | O15: Bid Amount | P15: Unit Price | Q15: Bid Amount | R15: Unit Price | S15: Bid Amount | T15: Unit Price | U15: Bid Amount
C16: 1 | J16: =IF(I16="","",H16*I16) | M16: =IF(L16="","",H16*L16) | O16: =IF(N16="","",H16*N16) | Q16: =IF(P16="","",H16*P16) | S16: =IF(R16="","",H16*R16) | U16: =IF(T16="","",H16*T16)
C17: 2 | J17: =IF(I17="","",H17*I17) | M17: =IF(L17="","",H17*L17) | O17: =IF(N17="","",H17*N17) | Q17: =IF(P17="","",H17*P17) | S17: =IF(R17="","",H17*R17) | U17: =IF(T17="","",H17*T17)
C18: 3 | J18: =IF(I18="","",H18*I18) | M18: =IF(L18="","",H18*L18) | O18: =IF(N18="","",H18*N18) | Q18: =IF(P18="","",H18*P18) | S18: =IF(R18="","",H18*R18) | U18: =IF(T18="","",H18*T18)
C19: 4 | J19: =IF(I19="","",H19*I19) | M19: =IF(L19="","",H19*L19) | O19: =IF(N19="","",H19*N19) | Q19: =IF(P19="","",H19*P19) | S19: =IF(R19="","",H19*R19) | U19: =IF(T19="","",H19*T19)
C20: 5 | J20: =IF(I20="","",H20*I20) | M20: =IF(L20="","",H20*L20) | O20: =IF(N20="","",H20*N20) | Q20: =IF(P20="","",H20*P20) | S20: =IF(R20="","",H20*R20) | U20: =IF(T20="","",H20*T20)
C21: 6 | J21: =IF(I21="","",H21*I21) | M21: =IF(L21="","",H21*L21) | O21: =IF(N21="","",H21*N21) | Q21: =IF(P21="","",H21*P21) | S21: =IF(R21="","",H21*R21) | U21: =IF(T21="","",H21*T21)
C22: 7 | J22: =IF(I22="","",H22*I22) | M22: =IF(L22="","",H22*L22) | O22: =IF(N22="","",H22*N22) | Q22: =IF(P22="","",H22*P22) | S22: =IF(R22="","",H22*R22) | U22: =IF(T22="","",H22*T22)
C23: 8 | J23: =IF(I23="","",H23*I23) | M23: =IF(L23="","",H23*L23) | O23: =IF(N23="","",H23*N23) | Q23: =IF(P23="","",H23*P23) | S23: =IF(R23="","",H23*R23) | U23: =IF(T23="","",H23*T23)
C24: 9 | J24: =IF(I24="","",H24*I24) | M24: =IF(L24="","",H24*L24) | O24: =IF(N24="","",H24*N24) | Q24: =IF(P24="","",H24*P24) | S24: =IF(R24="","",H24*R24) | U24: =IF(T24="","",H24*T24)
C25: 10 | J25: =IF(I25="","",H25*I25) | M25: =IF(L25="","",H25*L25) | O25: =IF(N25="","",H25*N25) | Q25: =IF(P25="","",H25*P25) | S25: =IF(R25="","",H25*R25) | U25: =IF(T25="","",H25*T25)
C26: 11 | J26: =IF(I26="","",H26*I26) | M26: =IF(L26="","",H26*L26) | O26: =IF(N26="","",H26*N26) | Q26: =IF(P26="","",H26*P26) | S26: =IF(R26="","",H26*R26) | U26: =IF(T26="","",H26*T26)
C27: 12 | J27: =IF(I27="","",H27*I27) | M27: =IF(L27="","",H27*L27) | O27: =IF(N27="","",H27*N27) | Q27: =IF(P27="","",H27*P27) | S27: =IF(R27="","",H27*R27) | U27: =IF(T27="","",H27*T27)
... C35: 20 | J35: =IF(I35="","",H35*I35) | M35: =IF(L35="","",H35*L35) | O35: =IF(N35="","",H35*N35) | Q35: =IF(P35="","",H35*P35) | S35: =IF(R35="","",H35*R35) | U35: =IF(T35="","",H35*T35)
C36: Phase 1 Totals : | I36: =SUM(J16:J35) -> 0 | L36: =SUM(M16:M35) -> 0 | N36: =SUM(O16:O35) -> 0 | P36: =SUM(Q16:Q35) -> 0 | R36: =SUM(S16:S35) -> 0 | T36: =SUM(U16:U35) -> 0
C38: Phase 2 Bid Quantities | I38: Architect - Engineer Estimate | L38: =IF(L$13="","",L$13) -> Contractor 1 Bid | N38: =IF(N$13="","",N$13) -> Contractor 2 Bid | P38: =IF(P$13="","",P$13) -> Contractor 3 Bid | R38: =IF(R$13="","",R$13) -> Contractor 4 Bid | T38: =IF(T$13="","",T$13) -> Contractor 5 Bid
C40: # | D40: Item - Description | G40: Unit | H40: Qty | I40: Unit Price | J40: Amount | L40: Unit Price | M40: Bid Amount | N40: Unit Price | O40: Bid Amount | P40: Unit Price | Q40: Bid Amount | R40: Unit Price | S40: Bid Amount | T40: Unit Price | U40: Bid Amount
C41: 1 | J41: =IF(I41="","",H41*I41) | M41: =IF(L41="","",H41*L41) | O41: =IF(N41="","",H41*N41) | Q41: =IF(P41="","",H41*P41) | S41: =IF(R41="","",H41*R41) | U41: =IF(T41="","",H41*T41)
C42: 2 | J42: =IF(I42="","",H42*I42) | M42: =IF(L42="","",H42*L42) | O42: =IF(N42="","",H42*N42) | Q42: =IF(P42="","",H42*P42) | S42: =IF(R42="","",H42*R42) | U42: =IF(T42="","",H42*T42)
C43: 3 | J43: =IF(I43="","",H43*I43) | M43: =IF(L43="","",H43*L43) | O43: =IF(N43="","",H43*N43) | Q43: =IF(P43="","",H43*P43) | S43: =IF(R43="","",H43*R43) | U43: =IF(T43="","",H43*T43)
C44: 4 | J44: =IF(I44="","",H44*I44) | M44: =IF(L44="","",H44*L44) | O44: =IF(N44="","",H44*N44) | Q44: =IF(P44="","",H44*P44) | S44: =IF(R44="","",H44*R44) | U44: =IF(T44="","",H44*T44)
C45: 5 | J45: =IF(I45="","",H45*I45) | M45: =IF(L45="","",H45*L45) | O45: =IF(N45="","",H45*N45) | Q45: =IF(P45="","",H45*P45) | S45: =IF(R45="","",H45*R45) | U45: =IF(T45="","",H45*T45)
C46: 6 | J46: =IF(I46="","",H46*I46) | M46: =IF(L46="","",H46*L46) | O46: =IF(N46="","",H46*N46) | Q46: =IF(P46="","",H46*P46) | S46: =IF(R46="","",H46*R46) | U46: =IF(T46="","",H46*T46)
C47: 7 | J47: =IF(I47="","",H47*I47) | M47: =IF(L47="","",H47*L47) | O47: =IF(N47="","",H47*N47) | Q47: =IF(P47="","",H47*P47) | S47: =IF(R47="","",H47*R47) | U47: =IF(T47="","",H47*T47)
C48: 8 | J48: =IF(I48="","",H48*I48) | M48: =IF(L48="","",H48*L48) | O48: =IF(N48="","",H48*N48) | Q48: =IF(P48="","",H48*P48) | S48: =IF(R48="","",H48*R48) | U48: =IF(T48="","",H48*T48)
C49: 9 | J49: =IF(I49="","",H49*I49) | M49: =IF(L49="","",H49*L49) | O49: =IF(N49="","",H49*N49) | Q49: =IF(P49="","",H49*P49) | S49: =IF(R49="","",H49*R49) | U49: =IF(T49="","",H49*T49)
C50: 10 | J50: =IF(I50="","",H50*I50) | M50: =IF(L50="","",H50*L50) | O50: =IF(N50="","",H50*N50) | Q50: =IF(P50="","",H50*P50) | S50: =IF(R50="","",H50*R50) | U50: =IF(T50="","",H50*T50)
C51: 11 | J51: =IF(I51="","",H51*I51) | M51: =IF(L51="","",H51*L51) | O51: =IF(N51="","",H51*N51) | Q51: =IF(P51="","",H51*P51) | S51: =IF(R51="","",H51*R51) | U51: =IF(T51="","",H51*T51)
C52: 12 | J52: =IF(I52="","",H52*I52) | M52: =IF(L52="","",H52*L52) | O52: =IF(N52="","",H52*N52) | Q52: =IF(P52="","",H52*P52) | S52: =IF(R52="","",H52*R52) | U52: =IF(T52="","",H52*T52)
... C60: 20 | J60: =IF(I60="","",H60*I60) | M60: =IF(L60="","",H60*L60) | O60: =IF(N60="","",H60*N60) | Q60: =IF(P60="","",H60*P60) | S60: =IF(R60="","",H60*R60) | U60: =IF(T60="","",H60*T60)
C61: Phase 2 Totals : | I61: =SUM(J41:J60) -> 0 | L61: =SUM(M41:M60) -> 0 | N61: =SUM(O41:O60) -> 0 | P61: =SUM(Q41:Q60) -> 0 | R61: =SUM(S41:S60) -> 0 | T61: =SUM(U41:U60) -> 0
C63: Phase 3 Bid Quantities | I63: Architect - Engineer Estimate | L63: =IF(L$13="","",L$13) -> Contractor 1 Bid | N63: =IF(N$13="","",N$13) -> Contractor 2 Bid | P63: =IF(P$13="","",P$13) -> Contractor 3 Bid | R63: =IF(R$13="","",R$13) -> Contractor 4 Bid | T63: =IF(T$13="","",T$13) -> Contractor 5 Bid
...

Sheet Comparison 3
D2: CONTRACTOR BID COMPARISON
D3: COMPARISON 3
C7: Project Name | E7: =IF(Dashboard!M9="","",Dashboard!M9) -> Project Name 3
C8: Project No | E8: =IF(Dashboard!M10="","",Dashboard!M10) -> 10003
C9: Location | E9: =IF(Dashboard!M11="","",Dashboard!M11) -> Location 3 | S9: You can add Firm Logo
C10: Architect - Engineer | E10: =IF(Dashboard!M12="","",Dashboard!M12) -> Alan Smith
C11: Bid Date | E11: =IF(Dashboard!M13="","",Dashboard!M13) -> 45717
C13: Phase 1 Bid Quantities | I13: Architect - Engineer Estimate | L13: Contractor 1 Bid | N13: Contractor 2 Bid | P13: Contractor 3 Bid | R13: Contractor 4 Bid | T13: Contractor 5 Bid
C15: # | D15: Item - Description | G15: Unit | H15: Qty | I15: Unit Price | J15: Amount | L15: Unit Price | M15: Bid Amount | N15: Unit Price | O15: Bid Amount | P15: Unit Price | Q15: Bid Amount | R15: Unit Price | S15: Bid Amount | T15: Unit Price | U15: Bid Amount
C16: 1 | J16: =IF(I16="","",H16*I16) | M16: =IF(L16="","",H16*L16) | O16: =IF(N16="","",H16*N16) | Q16: =IF(P16="","",H16*P16) | S16: =IF(R16="","",H16*R16) | U16: =IF(T16="","",H16*T16)
C17: 2 | J17: =IF(I17="","",H17*I17) | M17: =IF(L17="","",H17*L17) | O17: =IF(N17="","",H17*N17) | Q17: =IF(P17="","",H17*P17) | S17: =IF(R17="","",H17*R17) | U17: =IF(T17="","",H17*T17)
C18: 3 | J18: =IF(I18="","",H18*I18) | M18: =IF(L18="","",H18*L18) | O18: =IF(N18="","",H18*N18) | Q18: =IF(P18="","",H18*P18) | S18: =IF(R18="","",H18*R18) | U18: =IF(T18="","",H18*T18)
C19: 4 | J19: =IF(I19="","",H19*I19) | M19: =IF(L19="","",H19*L19) | O19: =IF(N19="","",H19*N19) | Q19: =IF(P19="","",H19*P19) | S19: =IF(R19="","",H19*R19) | U19: =IF(T19="","",H19*T19)
C20: 5 | J20: =IF(I20="","",H20*I20) | M20: =IF(L20="","",H20*L20) | O20: =IF(N20="","",H20*N20) | Q20: =IF(P20="","",H20*P20) | S20: =IF(R20="","",H20*R20) | U20: =IF(T20="","",H20*T20)
C21: 6 | J21: =IF(I21="","",H21*I21) | M21: =IF(L21="","",H21*L21) | O21: =IF(N21="","",H21*N21) | Q21: =IF(P21="","",H21*P21) | S21: =IF(R21="","",H21*R21) | U21: =IF(T21="","",H21*T21)
C22: 7 | J22: =IF(I22="","",H22*I22) | M22: =IF(L22="","",H22*L22) | O22: =IF(N22="","",H22*N22) | Q22: =IF(P22="","",H22*P22) | S22: =IF(R22="","",H22*R22) | U22: =IF(T22="","",H22*T22)
C23: 8 | J23: =IF(I23="","",H23*I23) | M23: =IF(L23="","",H23*L23) | O23: =IF(N23="","",H23*N23) | Q23: =IF(P23="","",H23*P23) | S23: =IF(R23="","",H23*R23) | U23: =IF(T23="","",H23*T23)
C24: 9 | J24: =IF(I24="","",H24*I24) | M24: =IF(L24="","",H24*L24) | O24: =IF(N24="","",H24*N24) | Q24: =IF(P24="","",H24*P24) | S24: =IF(R24="","",H24*R24) | U24: =IF(T24="","",H24*T24)
C25: 10 | J25: =IF(I25="","",H25*I25) | M25: =IF(L25="","",H25*L25) | O25: =IF(N25="","",H25*N25) | Q25: =IF(P25="","",H25*P25) | S25: =IF(R25="","",H25*R25) | U25: =IF(T25="","",H25*T25)
C26: 11 | J26: =IF(I26="","",H26*I26) | M26: =IF(L26="","",H26*L26) | O26: =IF(N26="","",H26*N26) | Q26: =IF(P26="","",H26*P26) | S26: =IF(R26="","",H26*R26) | U26: =IF(T26="","",H26*T26)
C27: 12 | J27: =IF(I27="","",H27*I27) | M27: =IF(L27="","",H27*L27) | O27: =IF(N27="","",H27*N27) | Q27: =IF(P27="","",H27*P27) | S27: =IF(R27="","",H27*R27) | U27: =IF(T27="","",H27*T27)
... C35: 20 | J35: =IF(I35="","",H35*I35) | M35: =IF(L35="","",H35*L35) | O35: =IF(N35="","",H35*N35) | Q35: =IF(P35="","",H35*P35) | S35: =IF(R35="","",H35*R35) | U35: =IF(T35="","",H35*T35)
C36: Phase 1 Totals : | I36: =SUM(J16:J35) -> 0 | L36: =SUM(M16:M35) -> 0 | N36: =SUM(O16:O35) -> 0 | P36: =SUM(Q16:Q35) -> 0 | R36: =SUM(S16:S35) -> 0 | T36: =SUM(U16:U35) -> 0
C38: Phase 2 Bid Quantities | I38: Architect - Engineer Estimate | L38: =IF(L$13="","",L$13) -> Contractor 1 Bid | N38: =IF(N$13="","",N$13) -> Contractor 2 Bid | P38: =IF(P$13="","",P$13) -> Contractor 3 Bid | R38: =IF(R$13="","",R$13) -> Contractor 4 Bid | T38: =IF(T$13="","",T$13) -> Contractor 5 Bid
C40: # | D40: Item - Description | G40: Unit | H40: Qty | I40: Unit Price | J40: Amount | L40: Unit Price | M40: Bid Amount | N40: Unit Price | O40: Bid Amount | P40: Unit Price | Q40: Bid Amount | R40: Unit Price | S40: Bid Amount | T40: Unit Price | U40: Bid Amount
C41: 1 | J41: =IF(I41="","",H41*I41) | M41: =IF(L41="","",H41*L41) | O41: =IF(N41="","",H41*N41) | Q41: =IF(P41="","",H41*P41) | S41: =IF(R41="","",H41*R41) | U41: =IF(T41="","",H41*T41)
C42: 2 | J42: =IF(I42="","",H42*I42) | M42: =IF(L42="","",H42*L42) | O42: =IF(N42="","",H42*N42) | Q42: =IF(P42="","",H42*P42) | S42: =IF(R42="","",H42*R42) | U42: =IF(T42="","",H42*T42)
C43: 3 | J43: =IF(I43="","",H43*I43) | M43: =IF(L43="","",H43*L43) | O43: =IF(N43="","",H43*N43) | Q43: =IF(P43="","",H43*P43) | S43: =IF(R43="","",H43*R43) | U43: =IF(T43="","",H43*T43)
C44: 4 | J44: =IF(I44="","",H44*I44) | M44: =IF(L44="","",H44*L44) | O44: =IF(N44="","",H44*N44) | Q44: =IF(P44="","",H44*P44) | S44: =IF(R44="","",H44*R44) | U44: =IF(T44="","",H44*T44)
C45: 5 | J45: =IF(I45="","",H45*I45) | M45: =IF(L45="","",H45*L45) | O45: =IF(N45="","",H45*N45) | Q45: =IF(P45="","",H45*P45) | S45: =IF(R45="","",H45*R45) | U45: =IF(T45="","",H45*T45)
C46: 6 | J46: =IF(I46="","",H46*I46) | M46: =IF(L46="","",H46*L46) | O46: =IF(N46="","",H46*N46) | Q46: =IF(P46="","",H46*P46) | S46: =IF(R46="","",H46*R46) | U46: =IF(T46="","",H46*T46)
C47: 7 | J47: =IF(I47="","",H47*I47) | M47: =IF(L47="","",H47*L47) | O47: =IF(N47="","",H47*N47) | Q47: =IF(P47="","",H47*P47) | S47: =IF(R47="","",H47*R47) | U47: =IF(T47="","",H47*T47)
C48: 8 | J48: =IF(I48="","",H48*I48) | M48: =IF(L48="","",H48*L48) | O48: =IF(N48="","",H48*N48) | Q48: =IF(P48="","",H48*P48) | S48: =IF(R48="","",H48*R48) | U48: =IF(T48="","",H48*T48)
C49: 9 | J49: =IF(I49="","",H49*I49) | M49: =IF(L49="","",H49*L49) | O49: =IF(N49="","",H49*N49) | Q49: =IF(P49="","",H49*P49) | S49: =IF(R49="","",H49*R49) | U49: =IF(T49="","",H49*T49)
C50: 10 | J50: =IF(I50="","",H50*I50) | M50: =IF(L50="","",H50*L50) | O50: =IF(N50="","",H50*N50) | Q50: =IF(P50="","",H50*P50) | S50: =IF(R50="","",H50*R50) | U50: =IF(T50="","",H50*T50)
C51: 11 | J51: =IF(I51="","",H51*I51) | M51: =IF(L51="","",H51*L51) | O51: =IF(N51="","",H51*N51) | Q51: =IF(P51="","",H51*P51) | S51: =IF(R51="","",H51*R51) | U51: =IF(T51="","",H51*T51)
C52: 12 | J52: =IF(I52="","",H52*I52) | M52: =IF(L52="","",H52*L52) | O52: =IF(N52="","",H52*N52) | Q52: =IF(P52="","",H52*P52) | S52: =IF(R52="","",H52*R52) | U52: =IF(T52="","",H52*T52)
... C60: 20 | J60: =IF(I60="","",H60*I60) | M60: =IF(L60="","",H60*L60) | O60: =IF(N60="","",H60*N60) | Q60: =IF(P60="","",H60*P60) | S60: =IF(R60="","",H60*R60) | U60: =IF(T60="","",H60*T60)
C61: Phase 2 Totals : | I61: =SUM(J41:J60) -> 0 | L61: =SUM(M41:M60) -> 0 | N61: =SUM(O41:O60) -> 0 | P61: =SUM(Q41:Q60) -> 0 | R61: =SUM(S41:S60) -> 0 | T61: =SUM(U41:U60) -> 0
C63: Phase 3 Bid Quantities | I63: Architect - Engineer Estimate | L63: =IF(L$13="","",L$13) -> Contractor 1 Bid | N63: =IF(N$13="","",N$13) -> Contractor 2 Bid | P63: =IF(P$13="","",P$13) -> Contractor 3 Bid | R63: =IF(R$13="","",R$13) -> Contractor 4 Bid | T63: =IF(T$13="","",T$13) -> Contractor 5 Bid
...

Sheet Comparison 4
D2: CONTRACTOR BID COMPARISON
D3: COMPARISON 4
C7: Project Name | E7: =IF(Dashboard!E18="","",Dashboard!E18)
C8: Project No | E8: =IF(Dashboard!E19="","",Dashboard!E19)
C9: Location | E9: =IF(Dashboard!E20="","",Dashboard!E20) | S9: You can add Firm Logo
C10: Architect - Engineer | E10: =IF(Dashboard!E21="","",Dashboard!E21)
C11: Bid Date | E11: =IF(Dashboard!E22="","",Dashboard!E22)
C13: Phase 1 Bid Quantities | I13: Architect - Engineer Estimate | L13: Contractor 1 Bid | N13: Contractor 2 Bid | P13: Contractor 3 Bid | R13: Contractor 4 Bid | T13: Contractor 5 Bid
C15: # | D15: Item - Description | G15: Unit | H15: Qty | I15: Unit Price | J15: Amount | L15: Unit Price | M15: Bid Amount | N15: Unit Price | O15: Bid Amount | P15: Unit Price | Q15: Bid Amount | R15: Unit Price | S15: Bid Amount | T15: Unit Price | U15: Bid Amount
C16: 1 | D16: Item - Description 1 | J16: =IF(I16="","",H16*I16) | M16: =IF(L16="","",H16*L16) | O16: =IF(N16="","",H16*N16) | Q16: =IF(P16="","",H16*P16) | S16: =IF(R16="","",H16*R16) | U16: =IF(T16="","",H16*T16)
C17: 2 | D17: Item - Description 2 | J17: =IF(I17="","",H17*I17) | M17: =IF(L17="","",H17*L17) | O17: =IF(N17="","",H17*N17) | Q17: =IF(P17="","",H17*P17) | S17: =IF(R17="","",H17*R17) | U17: =IF(T17="","",H17*T17)
C18: 3 | D18: Item - Description 3 | J18: =IF(I18="","",H18*I18) | M18: =IF(L18="","",H18*L18) | O18: =IF(N18="","",H18*N18) | Q18: =IF(P18="","",H18*P18) | S18: =IF(R18="","",H18*R18) | U18: =IF(T18="","",H18*T18)
C19: 4 | D19: Item - Description 4 | J19: =IF(I19="","",H19*I19) | M19: =IF(L19="","",H19*L19) | O19: =IF(N19="","",H19*N19) | Q19: =IF(P19="","",H19*P19) | S19: =IF(R19="","",H19*R19) | U19: =IF(T19="","",H19*T19)
C20: 5 | D20: Item - Description 5 | J20: =IF(I20="","",H20*I20) | M20: =IF(L20="","",H20*L20) | O20: =IF(N20="","",H20*N20) | Q20: =IF(P20="","",H20*P20) | S20: =IF(R20="","",H20*R20) | U20: =IF(T20="","",H20*T20)
C21: 6 | D21: Item - Description 6 | J21: =IF(I21="","",H21*I21) | M21: =IF(L21="","",H21*L21) | O21: =IF(N21="","",H21*N21) | Q21: =IF(P21="","",H21*P21) | S21: =IF(R21="","",H21*R21) | U21: =IF(T21="","",H21*T21)
C22: 7 | D22: Item - Description 7 | J22: =IF(I22="","",H22*I22) | M22: =IF(L22="","",H22*L22) | O22: =IF(N22="","",H22*N22) | Q22: =IF(P22="","",H22*P22) | S22: =IF(R22="","",H22*R22) | U22: =IF(T22="","",H22*T22)
C23: 8 | D23: Item - Description 8 | J23: =IF(I23="","",H23*I23) | M23: =IF(L23="","",H23*L23) | O23: =IF(N23="","",H23*N23) | Q23: =IF(P23="","",H23*P23) | S23: =IF(R23="","",H23*R23) | U23: =IF(T23="","",H23*T23)
C24: 9 | D24: Item - Description 9 | J24: =IF(I24="","",H24*I24) | M24: =IF(L24="","",H24*L24) | O24: =IF(N24="","",H24*N24) | Q24: =IF(P24="","",H24*P24) | S24: =IF(R24="","",H24*R24) | U24: =IF(T24="","",H24*T24)
C25: 10 | D25: Item - Description 10 | J25: =IF(I25="","",H25*I25) | M25: =IF(L25="","",H25*L25) | O25: =IF(N25="","",H25*N25) | Q25: =IF(P25="","",H25*P25) | S25: =IF(R25="","",H25*R25) | U25: =IF(T25="","",H25*T25)
C26: 11 | D26: Item - Description 11 | J26: =IF(I26="","",H26*I26) | M26: =IF(L26="","",H26*L26) | O26: =IF(N26="","",H26*N26) | Q26: =IF(P26="","",H26*P26) | S26: =IF(R26="","",H26*R26) | U26: =IF(T26="","",H26*T26)
C27: 12 | D27: Item - Description 12 | J27: =IF(I27="","",H27*I27) | M27: =IF(L27="","",H27*L27) | O27: =IF(N27="","",H27*N27) | Q27: =IF(P27="","",H27*P27) | S27: =IF(R27="","",H27*R27) | U27: =IF(T27="","",H27*T27)
... C35: 20 | D35: Item - Description 20 | J35: =IF(I35="","",H35*I35) | M35: =IF(L35="","",H35*L35) | O35: =IF(N35="","",H35*N35) | Q35: =IF(P35="","",H35*P35) | S35: =IF(R35="","",H35*R35) | U35: =IF(T35="","",H35*T35)
C36: Phase 1 Totals : | I36: =SUM(J16:J35) -> 0 | L36: =SUM(M16:M35) -> 0 | N36: =SUM(O16:O35) -> 0 | P36: =SUM(Q16:Q35) -> 0 | R36: =SUM(S16:S35) -> 0 | T36: =SUM(U16:U35) -> 0
C38: Phase 2 Bid Quantities | I38: Architect - Engineer Estimate | L38: =IF(L$13="","",L$13) -> Contractor 1 Bid | N38: =IF(N$13="","",N$13) -> Contractor 2 Bid | P38: =IF(P$13="","",P$13) -> Contractor 3 Bid | R38: =IF(R$13="","",R$13) -> Contractor 4 Bid | T38: =IF(T$13="","",T$13) -> Contractor 5 Bid
C40: # | D40: Item - Description | G40: Unit | H40: Qty | I40: Unit Price | J40: Amount | L40: Unit Price | M40: Bid Amount | N40: Unit Price | O40: Bid Amount | P40: Unit Price | Q40: Bid Amount | R40: Unit Price | S40: Bid Amount | T40: Unit Price | U40: Bid Amount
C41: 1 | D41: Item - Description 1 | J41: =IF(I41="","",H41*I41) | M41: =IF(L41="","",H41*L41) | O41: =IF(N41="","",H41*N41) | Q41: =IF(P41="","",H41*P41) | S41: =IF(R41="","",H41*R41) | U41: =IF(T41="","",H41*T41)
C42: 2 | D42: Item - Description 2 | J42: =IF(I42="","",H42*I42) | M42: =IF(L42="","",H42*L42) | O42: =IF(N42="","",H42*N42) | Q42: =IF(P42="","",H42*P42) | S42: =IF(R42="","",H42*R42) | U42: =IF(T42="","",H42*T42)
C43: 3 | D43: Item - Description 3 | J43: =IF(I43="","",H43*I43) | M43: =IF(L43="","",H43*L43) | O43: =IF(N43="","",H43*N43) | Q43: =IF(P43="","",H43*P43) | S43: =IF(R43="","",H43*R43) | U43: =IF(T43="","",H43*T43)
C44: 4 | D44: Item - Description 4 | J44: =IF(I44="","",H44*I44) | M44: =IF(L44="","",H44*L44) | O44: =IF(N44="","",H44*N44) | Q44: =IF(P44="","",H44*P44) | S44: =IF(R44="","",H44*R44) | U44: =IF(T44="","",H44*T44)
C45: 5 | D45: Item - Description 5 | J45: =IF(I45="","",H45*I45) | M45: =IF(L45="","",H45*L45) | O45: =IF(N45="","",H45*N45) | Q45: =IF(P45="","",H45*P45) | S45: =IF(R45="","",H45*R45) | U45: =IF(T45="","",H45*T45)
C46: 6 | D46: Item - Description 6 | J46: =IF(I46="","",H46*I46) | M46: =IF(L46="","",H46*L46) | O46: =IF(N46="","",H46*N46) | Q46: =IF(P46="","",H46*P46) | S46: =IF(R46="","",H46*R46) | U46: =IF(T46="","",H46*T46)
C47: 7 | D47: Item - Description 7 | J47: =IF(I47="","",H47*I47) | M47: =IF(L47="","",H47*L47) | O47: =IF(N47="","",H47*N47) | Q47: =IF(P47="","",H47*P47) | S47: =IF(R47="","",H47*R47) | U47: =IF(T47="","",H47*T47)
C48: 8 | D48: Item - Description 8 | J48: =IF(I48="","",H48*I48) | M48: =IF(L48="","",H48*L48) | O48: =IF(N48="","",H48*N48) | Q48: =IF(P48="","",H48*P48) | S48: =IF(R48="","",H48*R48) | U48: =IF(T48="","",H48*T48)
C49: 9 | D49: Item - Description 9 | J49: =IF(I49="","",H49*I49) | M49: =IF(L49="","",H49*L49) | O49: =IF(N49="","",H49*N49) | Q49: =IF(P49="","",H49*P49) | S49: =IF(R49="","",H49*R49) | U49: =IF(T49="","",H49*T49)
C50: 10 | D50: Item - Description 10 | J50: =IF(I50="","",H50*I50) | M50: =IF(L50="","",H50*L50) | O50: =IF(N50="","",H50*N50) | Q50: =IF(P50="","",H50*P50) | S50: =IF(R50="","",H50*R50) | U50: =IF(T50="","",H50*T50)
C51: 11 | D51: Item - Description 11 | J51: =IF(I51="","",H51*I51) | M51: =IF(L51="","",H51*L51) | O51: =IF(N51="","",H51*N51) | Q51: =IF(P51="","",H51*P51) | S51: =IF(R51="","",H51*R51) | U51: =IF(T51="","",H51*T51)
C52: 12 | D52: Item - Description 12 | J52: =IF(I52="","",H52*I52) | M52: =IF(L52="","",H52*L52) | O52: =IF(N52="","",H52*N52) | Q52: =IF(P52="","",H52*P52) | S52: =IF(R52="","",H52*R52) | U52: =IF(T52="","",H52*T52)
... C60: 20 | D60: Item - Description 20 | J60: =IF(I60="","",H60*I60) | M60: =IF(L60="","",H60*L60) | O60: =IF(N60="","",H60*N60) | Q60: =IF(P60="","",H60*P60) | S60: =IF(R60="","",H60*R60) | U60: =IF(T60="","",H60*T60)
C61: Phase 2 Totals : | I61: =SUM(J41:J60) -> 0 | L61: =SUM(M41:M60) -> 0 | N61: =SUM(O41:O60) -> 0 | P61: =SUM(Q41:Q60) -> 0 | R61: =SUM(S41:S60) -> 0 | T61: =SUM(U41:U60) -> 0
C63: Phase 3 Bid Quantities | I63: Architect - Engineer Estimate | L63: =IF(L$13="","",L$13) -> Contractor 1 Bid | N63: =IF(N$13="","",N$13) -> Contractor 2 Bid | P63: =IF(P$13="","",P$13) -> Contractor 3 Bid | R63: =IF(R$13="","",R$13) -> Contractor 4 Bid | T63: =IF(T$13="","",T$13) -> Contractor 5 Bid
...

Sheet Comparison 5
D2: CONTRACTOR BID COMPARISON
D3: COMPARISON 5
C7: Project Name | E7: =IF(Dashboard!I18="","",Dashboard!I18)
C8: Project No | E8: =IF(Dashboard!I19="","",Dashboard!I19)
C9: Location | E9: =IF(Dashboard!I20="","",Dashboard!I20) | S9: You can add Firm Logo
C10: Architect - Engineer | E10: =IF(Dashboard!I21="","",Dashboard!I21)
C11: Bid Date | E11: =IF(Dashboard!I22="","",Dashboard!I22)
C13: Phase 1 Bid Quantities | I13: Architect - Engineer Estimate | L13: Contractor 1 Bid | N13: Contractor 2 Bid | P13: Contractor 3 Bid | R13: Contractor 4 Bid | T13: Contractor 5 Bid
C15: # | D15: Item - Description | G15: Unit | H15: Qty | I15: Unit Price | J15: Amount | L15: Unit Price | M15: Bid Amount | N15: Unit Price | O15: Bid Amount | P15: Unit Price | Q15: Bid Amount | R15: Unit Price | S15: Bid Amount | T15: Unit Price | U15: Bid Amount
C16: 1 | D16: Item - Description 1 | J16: =IF(I16="","",H16*I16) | M16: =IF(L16="","",H16*L16) | O16: =IF(N16="","",H16*N16) | Q16: =IF(P16="","",H16*P16) | S16: =IF(R16="","",H16*R16) | U16: =IF(T16="","",H16*T16)
C17: 2 | D17: Item - Description 2 | J17: =IF(I17="","",H17*I17) | M17: =IF(L17="","",H17*L17) | O17: =IF(N17="","",H17*N17) | Q17: =IF(P17="","",H17*P17) | S17: =IF(R17="","",H17*R17) | U17: =IF(T17="","",H17*T17)
C18: 3 | D18: Item - Description 3 | J18: =IF(I18="","",H18*I18) | M18: =IF(L18="","",H18*L18) | O18: =IF(N18="","",H18*N18) | Q18: =IF(P18="","",H18*P18) | S18: =IF(R18="","",H18*R18) | U18: =IF(T18="","",H18*T18)
C19: 4 | D19: Item - Description 4 | J19: =IF(I19="","",H19*I19) | M19: =IF(L19="","",H19*L19) | O19: =IF(N19="","",H19*N19) | Q19: =IF(P19="","",H19*P19) | S19: =IF(R19="","",H19*R19) | U19: =IF(T19="","",H19*T19)
C20: 5 | D20: Item - Description 5 | J20: =IF(I20="","",H20*I20) | M20: =IF(L20="","",H20*L20) | O20: =IF(N20="","",H20*N20) | Q20: =IF(P20="","",H20*P20) | S20: =IF(R20="","",H20*R20) | U20: =IF(T20="","",H20*T20)
C21: 6 | D21: Item - Description 6 | J21: =IF(I21="","",H21*I21) | M21: =IF(L21="","",H21*L21) | O21: =IF(N21="","",H21*N21) | Q21: =IF(P21="","",H21*P21) | S21: =IF(R21="","",H21*R21) | U21: =IF(T21="","",H21*T21)
C22: 7 | D22: Item - Description 7 | J22: =IF(I22="","",H22*I22) | M22: =IF(L22="","",H22*L22) | O22: =IF(N22="","",H22*N22) | Q22: =IF(P22="","",H22*P22) | S22: =IF(R22="","",H22*R22) | U22: =IF(T22="","",H22*T22)
C23: 8 | D23: Item - Description 8 | J23: =IF(I23="","",H23*I23) | M23: =IF(L23="","",H23*L23) | O23: =IF(N23="","",H23*N23) | Q23: =IF(P23="","",H23*P23) | S23: =IF(R23="","",H23*R23) | U23: =IF(T23="","",H23*T23)
C24: 9 | D24: Item - Description 9 | J24: =IF(I24="","",H24*I24) | M24: =IF(L24="","",H24*L24) | O24: =IF(N24="","",H24*N24) | Q24: =IF(P24="","",H24*P24) | S24: =IF(R24="","",H24*R24) | U24: =IF(T24="","",H24*T24)
C25: 10 | D25: Item - Description 10 | J25: =IF(I25="","",H25*I25) | M25: =IF(L25="","",H25*L25) | O25: =IF(N25="","",H25*N25) | Q25: =IF(P25="","",H25*P25) | S25: =IF(R25="","",H25*R25) | U25: =IF(T25="","",H25*T25)
C26: 11 | D26: Item - Description 11 | J26: =IF(I26="","",H26*I26) | M26: =IF(L26="","",H26*L26) | O26: =IF(N26="","",H26*N26) | Q26: =IF(P26="","",H26*P26) | S26: =IF(R26="","",H26*R26) | U26: =IF(T26="","",H26*T26)
C27: 12 | D27: Item - Description 12 | J27: =IF(I27="","",H27*I27) | M27: =IF(L27="","",H27*L27) | O27: =IF(N27="","",H27*N27) | Q27: =IF(P27="","",H27*P27) | S27: =IF(R27="","",H27*R27) | U27: =IF(T27="","",H27*T27)
... C35: 20 | D35: Item - Description 20 | J35: =IF(I35="","",H35*I35) | M35: =IF(L35="","",H35*L35) | O35: =IF(N35="","",H35*N35) | Q35: =IF(P35="","",H35*P35) | S35: =IF(R35="","",H35*R35) | U35: =IF(T35="","",H35*T35)
C36: Phase 1 Totals : | I36: =SUM(J16:J35) -> 0 | L36: =SUM(M16:M35) -> 0 | N36: =SUM(O16:O35) -> 0 | P36: =SUM(Q16:Q35) -> 0 | R36: =SUM(S16:S35) -> 0 | T36: =SUM(U16:U35) -> 0
C38: Phase 2 Bid Quantities | I38: Architect - Engineer Estimate | L38: =IF(L$13="","",L$13) -> Contractor 1 Bid | N38: =IF(N$13="","",N$13) -> Contractor 2 Bid | P38: =IF(P$13="","",P$13) -> Contractor 3 Bid | R38: =IF(R$13="","",R$13) -> Contractor 4 Bid | T38: =IF(T$13="","",T$13) -> Contractor 5 Bid
C40: # | D40: Item - Description | G40: Unit | H40: Qty | I40: Unit Price | J40: Amount | L40: Unit Price | M40: Bid Amount | N40: Unit Price | O40: Bid Amount | P40: Unit Price | Q40: Bid Amount | R40: Unit Price | S40: Bid Amount | T40: Unit Price | U40: Bid Amount
C41: 1 | D41: Item - Description 1 | J41: =IF(I41="","",H41*I41) | M41: =IF(L41="","",H41*L41) | O41: =IF(N41="","",H41*N41) | Q41: =IF(P41="","",H41*P41) | S41: =IF(R41="","",H41*R41) | U41: =IF(T41="","",H41*T41)
C42: 2 | D42: Item - Description 2 | J42: =IF(I42="","",H42*I42) | M42: =IF(L42="","",H42*L42) | O42: =IF(N42="","",H42*N42) | Q42: =IF(P42="","",H42*P42) | S42: =IF(R42="","",H42*R42) | U42: =IF(T42="","",H42*T42)
C43: 3 | D43: Item - Description 3 | J43: =IF(I43="","",H43*I43) | M43: =IF(L43="","",H43*L43) | O43: =IF(N43="","",H43*N43) | Q43: =IF(P43="","",H43*P43) | S43: =IF(R43="","",H43*R43) | U43: =IF(T43="","",H43*T43)
C44: 4 | D44: Item - Description 4 | J44: =IF(I44="","",H44*I44) | M44: =IF(L44="","",H44*L44) | O44: =IF(N44="","",H44*N44) | Q44: =IF(P44="","",H44*P44) | S44: =IF(R44="","",H44*R44) | U44: =IF(T44="","",H44*T44)
C45: 5 | D45: Item - Description 5 | J45: =IF(I45="","",H45*I45) | M45: =IF(L45="","",H45*L45) | O45: =IF(N45="","",H45*N45) | Q45: =IF(P45="","",H45*P45) | S45: =IF(R45="","",H45*R45) | U45: =IF(T45="","",H45*T45)
C46: 6 | D46: Item - Description 6 | J46: =IF(I46="","",H46*I46) | M46: =IF(L46="","",H46*L46) | O46: =IF(N46="","",H46*N46) | Q46: =IF(P46="","",H46*P46) | S46: =IF(R46="","",H46*R46) | U46: =IF(T46="","",H46*T46)
C47: 7 | D47: Item - Description 7 | J47: =IF(I47="","",H47*I47) | M47: =IF(L47="","",H47*L47) | O47: =IF(N47="","",H47*N47) | Q47: =IF(P47="","",H47*P47) | S47: =IF(R47="","",H47*R47) | U47: =IF(T47="","",H47*T47)
C48: 8 | D48: Item - Description 8 | J48: =IF(I48="","",H48*I48) | M48: =IF(L48="","",H48*L48) | O48: =IF(N48="","",H48*N48) | Q48: =IF(P48="","",H48*P48) | S48: =IF(R48="","",H48*R48) | U48: =IF(T48="","",H48*T48)
C49: 9 | D49: Item - Description 9 | J49: =IF(I49="","",H49*I49) | M49: =IF(L49="","",H49*L49) | O49: =IF(N49="","",H49*N49) | Q49: =IF(P49="","",H49*P49) | S49: =IF(R49="","",H49*R49) | U49: =IF(T49="","",H49*T49)
C50: 10 | D50: Item - Description 10 | J50: =IF(I50="","",H50*I50) | M50: =IF(L50="","",H50*L50) | O50: =IF(N50="","",H50*N50) | Q50: =IF(P50="","",H50*P50) | S50: =IF(R50="","",H50*R50) | U50: =IF(T50="","",H50*T50)
C51: 11 | D51: Item - Description 11 | J51: =IF(I51="","",H51*I51) | M51: =IF(L51="","",H51*L51) | O51: =IF(N51="","",H51*N51) | Q51: =IF(P51="","",H51*P51) | S51: =IF(R51="","",H51*R51) | U51: =IF(T51="","",H51*T51)
C52: 12 | D52: Item - Description 12 | J52: =IF(I52="","",H52*I52) | M52: =IF(L52="","",H52*L52) | O52: =IF(N52="","",H52*N52) | Q52: =IF(P52="","",H52*P52) | S52: =IF(R52="","",H52*R52) | U52: =IF(T52="","",H52*T52)
... C60: 20 | D60: Item - Description 20 | J60: =IF(I60="","",H60*I60) | M60: =IF(L60="","",H60*L60) | O60: =IF(N60="","",H60*N60) | Q60: =IF(P60="","",H60*P60) | S60: =IF(R60="","",H60*R60) | U60: =IF(T60="","",H60*T60)
C61: Phase 2 Totals : | I61: =SUM(J41:J60) -> 0 | L61: =SUM(M41:M60) -> 0 | N61: =SUM(O41:O60) -> 0 | P61: =SUM(Q41:Q60) -> 0 | R61: =SUM(S41:S60) -> 0 | T61: =SUM(U41:U60) -> 0
C63: Phase 3 Bid Quantities | I63: Architect - Engineer Estimate | L63: =IF(L$13="","",L$13) -> Contractor 1 Bid | N63: =IF(N$13="","",N$13) -> Contractor 2 Bid | P63: =IF(P$13="","",P$13) -> Contractor 3 Bid | R63: =IF(R$13="","",R$13) -> Contractor 4 Bid | T63: =IF(T$13="","",T$13) -> Contractor 5 Bid
...

Sheet Comparison 6
D2: CONTRACTOR BID COMPARISON
D3: COMPARISON 6
C7: Project Name | E7: =IF(Dashboard!M18="","",Dashboard!M18)
C8: Project No | E8: =IF(Dashboard!M19="","",Dashboard!M19)
C9: Location | E9: =IF(Dashboard!M20="","",Dashboard!M20) | S9: You can add Firm Logo
C10: Architect - Engineer | E10: =IF(Dashboard!M21="","",Dashboard!M21)
C11: Bid Date | E11: =IF(Dashboard!M22="","",Dashboard!M22)
C13: Phase 1 Bid Quantities | I13: Architect - Engineer Estimate | L13: Contractor 1 Bid | N13: Contractor 2 Bid | P13: Contractor 3 Bid | R13: Contractor 4 Bid | T13: Contractor 5 Bid
C15: # | D15: Item - Description | G15: Unit | H15: Qty | I15: Unit Price | J15: Amount | L15: Unit Price | M15: Bid Amount | N15: Unit Price | O15: Bid Amount | P15: Unit Price | Q15: Bid Amount | R15: Unit Price | S15: Bid Amount | T15: Unit Price | U15: Bid Amount
C16: 1 | D16: Item - Description 1 | J16: =IF(I16="","",H16*I16) | M16: =IF(L16="","",H16*L16) | O16: =IF(N16="","",H16*N16) | Q16: =IF(P16="","",H16*P16) | S16: =IF(R16="","",H16*R16) | U16: =IF(T16="","",H16*T16)
C17: 2 | D17: Item - Description 2 | J17: =IF(I17="","",H17*I17) | M17: =IF(L17="","",H17*L17) | O17: =IF(N17="","",H17*N17) | Q17: =IF(P17="","",H17*P17) | S17: =IF(R17="","",H17*R17) | U17: =IF(T17="","",H17*T17)
C18: 3 | D18: Item - Description 3 | J18: =IF(I18="","",H18*I18) | M18: =IF(L18="","",H18*L18) | O18: =IF(N18="","",H18*N18) | Q18: =IF(P18="","",H18*P18) | S18: =IF(R18="","",H18*R18) | U18: =IF(T18="","",H18*T18)
C19: 4 | D19: Item - Description 4 | J19: =IF(I19="","",H19*I19) | M19: =IF(L19="","",H19*L19) | O19: =IF(N19="","",H19*N19) | Q19: =IF(P19="","",H19*P19) | S19: =IF(R19="","",H19*R19) | U19: =IF(T19="","",H19*T19)
C20: 5 | D20: Item - Description 5 | J20: =IF(I20="","",H20*I20) | M20: =IF(L20="","",H20*L20) | O20: =IF(N20="","",H20*N20) | Q20: =IF(P20="","",H20*P20) | S20: =IF(R20="","",H20*R20) | U20: =IF(T20="","",H20*T20)
C21: 6 | D21: Item - Description 6 | J21: =IF(I21="","",H21*I21) | M21: =IF(L21="","",H21*L21) | O21: =IF(N21="","",H21*N21) | Q21: =IF(P21="","",H21*P21) | S21: =IF(R21="","",H21*R21) | U21: =IF(T21="","",H21*T21)
C22: 7 | D22: Item - Description 7 | J22: =IF(I22="","",H22*I22) | M22: =IF(L22="","",H22*L22) | O22: =IF(N22="","",H22*N22) | Q22: =IF(P22="","",H22*P22) | S22: =IF(R22="","",H22*R22) | U22: =IF(T22="","",H22*T22)
C23: 8 | D23: Item - Description 8 | J23: =IF(I23="","",H23*I23) | M23: =IF(L23="","",H23*L23) | O23: =IF(N23="","",H23*N23) | Q23: =IF(P23="","",H23*P23) | S23: =IF(R23="","",H23*R23) | U23: =IF(T23="","",H23*T23)
C24: 9 | D24: Item - Description 9 | J24: =IF(I24="","",H24*I24) | M24: =IF(L24="","",H24*L24) | O24: =IF(N24="","",H24*N24) | Q24: =IF(P24="","",H24*P24) | S24: =IF(R24="","",H24*R24) | U24: =IF(T24="","",H24*T24)
C25: 10 | D25: Item - Description 10 | J25: =IF(I25="","",H25*I25) | M25: =IF(L25="","",H25*L25) | O25: =IF(N25="","",H25*N25) | Q25: =IF(P25="","",H25*P25) | S25: =IF(R25="","",H25*R25) | U25: =IF(T25="","",H25*T25)
C26: 11 | D26: Item - Description 11 | J26: =IF(I26="","",H26*I26) | M26: =IF(L26="","",H26*L26) | O26: =IF(N26="","",H26*N26) | Q26: =IF(P26="","",H26*P26) | S26: =IF(R26="","",H26*R26) | U26: =IF(T26="","",H26*T26)
C27: 12 | D27: Item - Description 12 | J27: =IF(I27="","",H27*I27) | M27: =IF(L27="","",H27*L27) | O27: =IF(N27="","",H27*N27) | Q27: =IF(P27="","",H27*P27) | S27: =IF(R27="","",H27*R27) | U27: =IF(T27="","",H27*T27)
... C35: 20 | D35: Item - Description 20 | J35: =IF(I35="","",H35*I35) | M35: =IF(L35="","",H35*L35) | O35: =IF(N35="","",H35*N35) | Q35: =IF(P35="","",H35*P35) | S35: =IF(R35="","",H35*R35) | U35: =IF(T35="","",H35*T35)
C36: Phase 1 Totals : | I36: =SUM(J16:J35) -> 0 | L36: =SUM(M16:M35) -> 0 | N36: =SUM(O16:O35) -> 0 | P36: =SUM(Q16:Q35) -> 0 | R36: =SUM(S16:S35) -> 0 | T36: =SUM(U16:U35) -> 0
C38: Phase 2 Bid Quantities | I38: Architect - Engineer Estimate | L38: =IF(L$13="","",L$13) -> Contractor 1 Bid | N38: =IF(N$13="","",N$13) -> Contractor 2 Bid | P38: =IF(P$13="","",P$13) -> Contractor 3 Bid | R38: =IF(R$13="","",R$13) -> Contractor 4 Bid | T38: =IF(T$13="","",T$13) -> Contractor 5 Bid
C40: # | D40: Item - Description | G40: Unit | H40: Qty | I40: Unit Price | J40: Amount | L40: Unit Price | M40: Bid Amount | N40: Unit Price | O40: Bid Amount | P40: Unit Price | Q40: Bid Amount | R40: Unit Price | S40: Bid Amount | T40: Unit Price | U40: Bid Amount
C41: 1 | D41: Item - Description 1 | J41: =IF(I41="","",H41*I41) | M41: =IF(L41="","",H41*L41) | O41: =IF(N41="","",H41*N41) | Q41: =IF(P41="","",H41*P41) | S41: =IF(R41="","",H41*R41) | U41: =IF(T41="","",H41*T41)
C42: 2 | D42: Item - Description 2 | J42: =IF(I42="","",H42*I42) | M42: =IF(L42="","",H42*L42) | O42: =IF(N42="","",H42*N42) | Q42: =IF(P42="","",H42*P42) | S42: =IF(R42="","",H42*R42) | U42: =IF(T42="","",H42*T42)
C43: 3 | D43: Item - Description 3 | J43: =IF(I43="","",H43*I43) | M43: =IF(L43="","",H43*L43) | O43: =IF(N43="","",H43*N43) | Q43: =IF(P43="","",H43*P43) | S43: =IF(R43="","",H43*R43) | U43: =IF(T43="","",H43*T43)
C44: 4 | D44: Item - Description 4 | J44: =IF(I44="","",H44*I44) | M44: =IF(L44="","",H44*L44) | O44: =IF(N44="","",H44*N44) | Q44: =IF(P44="","",H44*P44) | S44: =IF(R44="","",H44*R44) | U44: =IF(T44="","",H44*T44)
C45: 5 | D45: Item - Description 5 | J45: =IF(I45="","",H45*I45) | M45: =IF(L45="","",H45*L45) | O45: =IF(N45="","",H45*N45) | Q45: =IF(P45="","",H45*P45) | S45: =IF(R45="","",H45*R45) | U45: =IF(T45="","",H45*T45)
C46: 6 | D46: Item - Description 6 | J46: =IF(I46="","",H46*I46) | M46: =IF(L46="","",H46*L46) | O46: =IF(N46="","",H46*N46) | Q46: =IF(P46="","",H46*P46) | S46: =IF(R46="","",H46*R46) | U46: =IF(T46="","",H46*T46)
C47: 7 | D47: Item - Description 7 | J47: =IF(I47="","",H47*I47) | M47: =IF(L47="","",H47*L47) | O47: =IF(N47="","",H47*N47) | Q47: =IF(P47="","",H47*P47) | S47: =IF(R47="","",H47*R47) | U47: =IF(T47="","",H47*T47)
C48: 8 | D48: Item - Description 8 | J48: =IF(I48="","",H48*I48) | M48: =IF(L48="","",H48*L48) | O48: =IF(N48="","",H48*N48) | Q48: =IF(P48="","",H48*P48) | S48: =IF(R48="","",H48*R48) | U48: =IF(T48="","",H48*T48)
C49: 9 | D49: Item - Description 9 | J49: =IF(I49="","",H49*I49) | M49: =IF(L49="","",H49*L49) | O49: =IF(N49="","",H49*N49) | Q49: =IF(P49="","",H49*P49) | S49: =IF(R49="","",H49*R49) | U49: =IF(T49="","",H49*T49)
C50: 10 | D50: Item - Description 10 | J50: =IF(I50="","",H50*I50) | M50: =IF(L50="","",H50*L50) | O50: =IF(N50="","",H50*N50) | Q50: =IF(P50="","",H50*P50) | S50: =IF(R50="","",H50*R50) | U50: =IF(T50="","",H50*T50)
C51: 11 | D51: Item - Description 11 | J51: =IF(I51="","",H51*I51) | M51: =IF(L51="","",H51*L51) | O51: =IF(N51="","",H51*N51) | Q51: =IF(P51="","",H51*P51) | S51: =IF(R51="","",H51*R51) | U51: =IF(T51="","",H51*T51)
C52: 12 | D52: Item - Description 12 | J52: =IF(I52="","",H52*I52) | M52: =IF(L52="","",H52*L52) | O52: =IF(N52="","",H52*N52) | Q52: =IF(P52="","",H52*P52) | S52: =IF(R52="","",H52*R52) | U52: =IF(T52="","",H52*T52)
... C60: 20 | D60: Item - Description 20 | J60: =IF(I60="","",H60*I60) | M60: =IF(L60="","",H60*L60) | O60: =IF(N60="","",H60*N60) | Q60: =IF(P60="","",H60*P60) | S60: =IF(R60="","",H60*R60) | U60: =IF(T60="","",H60*T60)
C61: Phase 2 Totals : | I61: =SUM(J41:J60) -> 0 | L61: =SUM(M41:M60) -> 0 | N61: =SUM(O41:O60) -> 0 | P61: =SUM(Q41:Q60) -> 0 | R61: =SUM(S41:S60) -> 0 | T61: =SUM(U41:U60) -> 0
C63: Phase 3 Bid Quantities | I63: Architect - Engineer Estimate | L63: =IF(L$13="","",L$13) -> Contractor 1 Bid | N63: =IF(N$13="","",N$13) -> Contractor 2 Bid | P63: =IF(P$13="","",P$13) -> Contractor 3 Bid | R63: =IF(R$13="","",R$13) -> Contractor 4 Bid | T63: =IF(T$13="","",T$13) -> Contractor 5 Bid
...

Sheet Comparison 7
D2: CONTRACTOR BID COMPARISON
D3: COMPARISON 7
C7: Project Name | E7: =IF(Dashboard!E27="","",Dashboard!E27)
C8: Project No | E8: =IF(Dashboard!E28="","",Dashboard!E28)
C9: Location | E9: =IF(Dashboard!E29="","",Dashboard!E29) | S9: You can add Firm Logo
C10: Architect - Engineer | E10: =IF(Dashboard!E30="","",Dashboard!E30)
C11: Bid Date | E11: =IF(Dashboard!E31="","",Dashboard!E31)
C13: Phase 1 Bid Quantities | I13: Architect - Engineer Estimate | L13: Contractor 1 Bid | N13: Contractor 2 Bid | P13: Contractor 3 Bid | R13: Contractor 4 Bid | T13: Contractor 5 Bid
C15: # | D15: Item - Description | G15: Unit | H15: Qty | I15: Unit Price | J15: Amount | L15: Unit Price | M15: Bid Amount | N15: Unit Price | O15: Bid Amount | P15: Unit Price | Q15: Bid Amount | R15: Unit Price | S15: Bid Amount | T15: Unit Price | U15: Bid Amount
C16: 1 | D16: Item - Description 1 | J16: =IF(I16="","",H16*I16) | M16: =IF(L16="","",H16*L16) | O16: =IF(N16="","",H16*N16) | Q16: =IF(P16="","",H16*P16) | S16: =IF(R16="","",H16*R16) | U16: =IF(T16="","",H16*T16)
C17: 2 | D17: Item - Description 2 | J17: =IF(I17="","",H17*I17) | M17: =IF(L17="","",H17*L17) | O17: =IF(N17="","",H17*N17) | Q17: =IF(P17="","",H17*P17) | S17: =IF(R17="","",H17*R17) | U17: =IF(T17="","",H17*T17)
C18: 3 | D18: Item - Description 3 | J18: =IF(I18="","",H18*I18) | M18: =IF(L18="","",H18*L18) | O18: =IF(N18="","",H18*N18) | Q18: =IF(P18="","",H18*P18) | S18: =IF(R18="","",H18*R18) | U18: =IF(T18="","",H18*T18)
C19: 4 | D19: Item - Description 4 | J19: =IF(I19="","",H19*I19) | M19: =IF(L19="","",H19*L19) | O19: =IF(N19="","",H19*N19) | Q19: =IF(P19="","",H19*P19) | S19: =IF(R19="","",H19*R19) | U19: =IF(T19="","",H19*T19)
C20: 5 | D20: Item - Description 5 | J20: =IF(I20="","",H20*I20) | M20: =IF(L20="","",H20*L20) | O20: =IF(N20="","",H20*N20) | Q20: =IF(P20="","",H20*P20) | S20: =IF(R20="","",H20*R20) | U20: =IF(T20="","",H20*T20)
C21: 6 | D21: Item - Description 6 | J21: =IF(I21="","",H21*I21) | M21: =IF(L21="","",H21*L21) | O21: =IF(N21="","",H21*N21) | Q21: =IF(P21="","",H21*P21) | S21: =IF(R21="","",H21*R21) | U21: =IF(T21="","",H21*T21)
C22: 7 | D22: Item - Description 7 | J22: =IF(I22="","",H22*I22) | M22: =IF(L22="","",H22*L22) | O22: =IF(N22="","",H22*N22) | Q22: =IF(P22="","",H22*P22) | S22: =IF(R22="","",H22*R22) | U22: =IF(T22="","",H22*T22)
C23: 8 | D23: Item - Description 8 | J23: =IF(I23="","",H23*I23) | M23: =IF(L23="","",H23*L23) | O23: =IF(N23="","",H23*N23) | Q23: =IF(P23="","",H23*P23) | S23: =IF(R23="","",H23*R23) | U23: =IF(T23="","",H23*T23)
C24: 9 | D24: Item - Description 9 | J24: =IF(I24="","",H24*I24) | M24: =IF(L24="","",H24*L24) | O24: =IF(N24="","",H24*N24) | Q24: =IF(P24="","",H24*P24) | S24: =IF(R24="","",H24*R24) | U24: =IF(T24="","",H24*T24)
C25: 10 | D25: Item - Description 10 | J25: =IF(I25="","",H25*I25) | M25: =IF(L25="","",H25*L25) | O25: =IF(N25="","",H25*N25) | Q25: =IF(P25="","",H25*P25) | S25: =IF(R25="","",H25*R25) | U25: =IF(T25="","",H25*T25)
C26: 11 | D26: Item - Description 11 | J26: =IF(I26="","",H26*I26) | M26: =IF(L26="","",H26*L26) | O26: =IF(N26="","",H26*N26) | Q26: =IF(P26="","",H26*P26) | S26: =IF(R26="","",H26*R26) | U26: =IF(T26="","",H26*T26)
C27: 12 | D27: Item - Description 12 | J27: =IF(I27="","",H27*I27) | M27: =IF(L27="","",H27*L27) | O27: =IF(N27="","",H27*N27) | Q27: =IF(P27="","",H27*P27) | S27: =IF(R27="","",H27*R27) | U27: =IF(T27="","",H27*T27)
... C35: 20 | D35: Item - Description 20 | J35: =IF(I35="","",H35*I35) | M35: =IF(L35="","",H35*L35) | O35: =IF(N35="","",H35*N35) | Q35: =IF(P35="","",H35*P35) | S35: =IF(R35="","",H35*R35) | U35: =IF(T35="","",H35*T35)
C36: Phase 1 Totals : | I36: =SUM(J16:J35) -> 0 | L36: =SUM(M16:M35) -> 0 | N36: =SUM(O16:O35) -> 0 | P36: =SUM(Q16:Q35) -> 0 | R36: =SUM(S16:S35) -> 0 | T36: =SUM(U16:U35) -> 0
C38: Phase 2 Bid Quantities | I38: Architect - Engineer Estimate | L38: =IF(L$13="","",L$13) -> Contractor 1 Bid | N38: =IF(N$13="","",N$13) -> Contractor 2 Bid | P38: =IF(P$13="","",P$13) -> Contractor 3 Bid | R38: =IF(R$13="","",R$13) -> Contractor 4 Bid | T38: =IF(T$13="","",T$13) -> Contractor 5 Bid
C40: # | D40: Item - Description | G40: Unit | H40: Qty | I40: Unit Price | J40: Amount | L40: Unit Price | M40: Bid Amount | N40: Unit Price | O40: Bid Amount | P40: Unit Price | Q40: Bid Amount | R40: Unit Price | S40: Bid Amount | T40: Unit Price | U40: Bid Amount
C41: 1 | D41: Item - Description 1 | J41: =IF(I41="","",H41*I41) | M41: =IF(L41="","",H41*L41) | O41: =IF(N41="","",H41*N41) | Q41: =IF(P41="","",H41*P41) | S41: =IF(R41="","",H41*R41) | U41: =IF(T41="","",H41*T41)
C42: 2 | D42: Item - Description 2 | J42: =IF(I42="","",H42*I42) | M42: =IF(L42="","",H42*L42) | O42: =IF(N42="","",H42*N42) | Q42: =IF(P42="","",H42*P42) | S42: =IF(R42="","",H42*R42) | U42: =IF(T42="","",H42*T42)
C43: 3 | D43: Item - Description 3 | J43: =IF(I43="","",H43*I43) | M43: =IF(L43="","",H43*L43) | O43: =IF(N43="","",H43*N43) | Q43: =IF(P43="","",H43*P43) | S43: =IF(R43="","",H43*R43) | U43: =IF(T43="","",H43*T43)
C44: 4 | D44: Item - Description 4 | J44: =IF(I44="","",H44*I44) | M44: =IF(L44="","",H44*L44) | O44: =IF(N44="","",H44*N44) | Q44: =IF(P44="","",H44*P44) | S44: =IF(R44="","",H44*R44) | U44: =IF(T44="","",H44*T44)
C45: 5 | D45: Item - Description 5 | J45: =IF(I45="","",H45*I45) | M45: =IF(L45="","",H45*L45) | O45: =IF(N45="","",H45*N45) | Q45: =IF(P45="","",H45*P45) | S45: =IF(R45="","",H45*R45) | U45: =IF(T45="","",H45*T45)
C46: 6 | D46: Item - Description 6 | J46: =IF(I46="","",H46*I46) | M46: =IF(L46="","",H46*L46) | O46: =IF(N46="","",H46*N46) | Q46: =IF(P46="","",H46*P46) | S46: =IF(R46="","",H46*R46) | U46: =IF(T46="","",H46*T46)
C47: 7 | D47: Item - Description 7 | J47: =IF(I47="","",H47*I47) | M47: =IF(L47="","",H47*L47) | O47: =IF(N47="","",H47*N47) | Q47: =IF(P47="","",H47*P47) | S47: =IF(R47="","",H47*R47) | U47: =IF(T47="","",H47*T47)
C48: 8 | D48: Item - Description 8 | J48: =IF(I48="","",H48*I48) | M48: =IF(L48="","",H48*L48) | O48: =IF(N48="","",H48*N48) | Q48: =IF(P48="","",H48*P48) | S48: =IF(R48="","",H48*R48) | U48: =IF(T48="","",H48*T48)
C49: 9 | D49: Item - Description 9 | J49: =IF(I49="","",H49*I49) | M49: =IF(L49="","",H49*L49) | O49: =IF(N49="","",H49*N49) | Q49: =IF(P49="","",H49*P49) | S49: =IF(R49="","",H49*R49) | U49: =IF(T49="","",H49*T49)
C50: 10 | D50: Item - Description 10 | J50: =IF(I50="","",H50*I50) | M50: =IF(L50="","",H50*L50) | O50: =IF(N50="","",H50*N50) | Q50: =IF(P50="","",H50*P50) | S50: =IF(R50="","",H50*R50) | U50: =IF(T50="","",H50*T50)
C51: 11 | D51: Item - Description 11 | J51: =IF(I51="","",H51*I51) | M51: =IF(L51="","",H51*L51) | O51: =IF(N51="","",H51*N51) | Q51: =IF(P51="","",H51*P51) | S51: =IF(R51="","",H51*R51) | U51: =IF(T51="","",H51*T51)
C52: 12 | D52: Item - Description 12 | J52: =IF(I52="","",H52*I52) | M52: =IF(L52="","",H52*L52) | O52: =IF(N52="","",H52*N52) | Q52: =IF(P52="","",H52*P52) | S52: =IF(R52="","",H52*R52) | U52: =IF(T52="","",H52*T52)
... C60: 20 | D60: Item - Description 20 | J60: =IF(I60="","",H60*I60) | M60: =IF(L60="","",H60*L60) | O60: =IF(N60="","",H60*N60) | Q60: =IF(P60="","",H60*P60) | S60: =IF(R60="","",H60*R60) | U60: =IF(T60="","",H60*T60)
C61: Phase 2 Totals : | I61: =SUM(J41:J60) -> 0 | L61: =SUM(M41:M60) -> 0 | N61: =SUM(O41:O60) -> 0 | P61: =SUM(Q41:Q60) -> 0 | R61: =SUM(S41:S60) -> 0 | T61: =SUM(U41:U60) -> 0
C63: Phase 3 Bid Quantities | I63: Architect - Engineer Estimate | L63: =IF(L$13="","",L$13) -> Contractor 1 Bid | N63: =IF(N$13="","",N$13) -> Contractor 2 Bid | P63: =IF(P$13="","",P$13) -> Contractor 3 Bid | R63: =IF(R$13="","",R$13) -> Contractor 4 Bid | T63: =IF(T$13="","",T$13) -> Contractor 5 Bid
...

Sheet Comparison 8
D2: CONTRACTOR BID COMPARISON
D3: COMPARISON 8
C7: Project Name | E7: =IF(Dashboard!I27="","",Dashboard!I27)
C8: Project No | E8: =IF(Dashboard!I28="","",Dashboard!I28)
C9: Location | E9: =IF(Dashboard!I29="","",Dashboard!I29) | S9: You can add Firm Logo
C10: Architect - Engineer | E10: =IF(Dashboard!I30="","",Dashboard!I30)
C11: Bid Date | E11: =IF(Dashboard!I31="","",Dashboard!I31)
C13: Phase 1 Bid Quantities | I13: Architect - Engineer Estimate | L13: Contractor 1 Bid | N13: Contractor 2 Bid | P13: Contractor 3 Bid | R13: Contractor 4 Bid | T13: Contractor 5 Bid
C15: # | D15: Item - Description | G15: Unit | H15: Qty | I15: Unit Price | J15: Amount | L15: Unit Price | M15: Bid Amount | N15: Unit Price | O15: Bid Amount | P15: Unit Price | Q15: Bid Amount | R15: Unit Price | S15: Bid Amount | T15: Unit Price | U15: Bid Amount
C16: 1 | D16: Item - Description 1 | J16: =IF(I16="","",H16*I16) | M16: =IF(L16="","",H16*L16) | O16: =IF(N16="","",H16*N16) | Q16: =IF(P16="","",H16*P16) | S16: =IF(R16="","",H16*R16) | U16: =IF(T16="","",H16*T16)
C17: 2 | D17: Item - Description 2 | J17: =IF(I17="","",H17*I17) | M17: =IF(L17="","",H17*L17) | O17: =IF(N17="","",H17*N17) | Q17: =IF(P17="","",H17*P17) | S17: =IF(R17="","",H17*R17) | U17: =IF(T17="","",H17*T17)
C18: 3 | D18: Item - Description 3 | J18: =IF(I18="","",H18*I18) | M18: =IF(L18="","",H18*L18) | O18: =IF(N18="","",H18*N18) | Q18: =IF(P18="","",H18*P18) | S18: =IF(R18="","",H18*R18) | U18: =IF(T18="","",H18*T18)
C19: 4 | D19: Item - Description 4 | J19: =IF(I19="","",H19*I19) | M19: =IF(L19="","",H19*L19) | O19: =IF(N19="","",H19*N19) | Q19: =IF(P19="","",H19*P19) | S19: =IF(R19="","",H19*R19) | U19: =IF(T19="","",H19*T19)
C20: 5 | D20: Item - Description 5 | J20: =IF(I20="","",H20*I20) | M20: =IF(L20="","",H20*L20) | O20: =IF(N20="","",H20*N20) | Q20: =IF(P20="","",H20*P20) | S20: =IF(R20="","",H20*R20) | U20: =IF(T20="","",H20*T20)
C21: 6 | D21: Item - Description 6 | J21: =IF(I21="","",H21*I21) | M21: =IF(L21="","",H21*L21) | O21: =IF(N21="","",H21*N21) | Q21: =IF(P21="","",H21*P21) | S21: =IF(R21="","",H21*R21) | U21: =IF(T21="","",H21*T21)
C22: 7 | D22: Item - Description 7 | J22: =IF(I22="","",H22*I22) | M22: =IF(L22="","",H22*L22) | O22: =IF(N22="","",H22*N22) | Q22: =IF(P22="","",H22*P22) | S22: =IF(R22="","",H22*R22) | U22: =IF(T22="","",H22*T22)
C23: 8 | D23: Item - Description 8 | J23: =IF(I23="","",H23*I23) | M23: =IF(L23="","",H23*L23) | O23: =IF(N23="","",H23*N23) | Q23: =IF(P23="","",H23*P23) | S23: =IF(R23="","",H23*R23) | U23: =IF(T23="","",H23*T23)
C24: 9 | D24: Item - Description 9 | J24: =IF(I24="","",H24*I24) | M24: =IF(L24="","",H24*L24) | O24: =IF(N24="","",H24*N24) | Q24: =IF(P24="","",H24*P24) | S24: =IF(R24="","",H24*R24) | U24: =IF(T24="","",H24*T24)
C25: 10 | D25: Item - Description 10 | J25: =IF(I25="","",H25*I25) | M25: =IF(L25="","",H25*L25) | O25: =IF(N25="","",H25*N25) | Q25: =IF(P25="","",H25*P25) | S25: =IF(R25="","",H25*R25) | U25: =IF(T25="","",H25*T25)
C26: 11 | D26: Item - Description 11 | J26: =IF(I26="","",H26*I26) | M26: =IF(L26="","",H26*L26) | O26: =IF(N26="","",H26*N26) | Q26: =IF(P26="","",H26*P26) | S26: =IF(R26="","",H26*R26) | U26: =IF(T26="","",H26*T26)
C27: 12 | D27: Item - Description 12 | J27: =IF(I27="","",H27*I27) | M27: =IF(L27="","",H27*L27) | O27: =IF(N27="","",H27*N27) | Q27: =IF(P27="","",H27*P27) | S27: =IF(R27="","",H27*R27) | U27: =IF(T27="","",H27*T27)
... C35: 20 | D35: Item - Description 20 | J35: =IF(I35="","",H35*I35) | M35: =IF(L35="","",H35*L35) | O35: =IF(N35="","",H35*N35) | Q35: =IF(P35="","",H35*P35) | S35: =IF(R35="","",H35*R35) | U35: =IF(T35="","",H35*T35)
C36: Phase 1 Totals : | I36: =SUM(J16:J35) -> 0 | L36: =SUM(M16:M35) -> 0 | N36: =SUM(O16:O35) -> 0 | P36: =SUM(Q16:Q35) -> 0 | R36: =SUM(S16:S35) -> 0 | T36: =SUM(U16:U35) -> 0
C38: Phase 2 Bid Quantities | I38: Architect - Engineer Estimate | L38: =IF(L$13="","",L$13) -> Contractor 1 Bid | N38: =IF(N$13="","",N$13) -> Contractor 2 Bid | P38: =IF(P$13="","",P$13) -> Contractor 3 Bid | R38: =IF(R$13="","",R$13) -> Contractor 4 Bid | T38: =IF(T$13="","",T$13) -> Contractor 5 Bid
