Workbook
Name calendarpropertylist: OFFSET(Calc!$E$6,0,0,Calc!$E$4+1,1)
Name calendarviewoption: Calc!$BT$15:$BT$17
Name channellist: OFFSET(Calc!$H$7,0,0,Calc!$H$4,1)
Name expensecategorylist: OFFSET(Calc!$K$7,0,0,Calc!$K$4,1)
Name ExpenseChartLabel: OFFSET(Calc!$EO$28,0,0,Calc!$EO$26,1)
Name ExpenseChartSource: OFFSET(Calc!$EP$28,0,0,Calc!$EO$26,1)
Name monthlist: Calc!$BP$6:$BP$17
Name PlatformChartLabel: OFFSET(Calc!$EO$17,0,0,Calc!$EO$15,1)
Name PlatformChartSource: OFFSET(Calc!$EP$17,0,0,Calc!$EO$15,1)
Name propertylist: OFFSET(Calc!$E$7,0,0,Calc!$E$4,1)
Name summarymonthlist: Calc!$EL$10:$EL$22
Name summarypropertylist: OFFSET(Calc!$E$6,0,0,Calc!$E$4+1,1)
Name yearlist: Calc!$BN$6:$BN$17

Sheet Menu
C2: AIRBNB CALCULATOR
C3: MENU
C10: Expense Item | E10: Channel | F10: Color | H10: Starting Month
C11: Cleaning | E11: AirBnb | H11: January
C12: Repairs | E12: Booking.com
C13: Taxes | E13: HomeAway | H13: Currency
C14: Mortgage | E14: Agoda | H14: $
C15: Gas | E15: HolidayHomes
C16: Electricity | H16: Calendar View
C17: Water | H17: Channel - Property
C18: Insurance
C19: Equipment

Sheet PropertyDatabase
B2: AIRBNB CALCULATOR
B3: PROPERTY DATABASE
B5: Property Name | C5: City | D5: State | E5: Address | F5: Property Type | G5: Max Guest | H5: Room | I5: Square | J5: Registration Date | K5: Notes
B6: Property 1 | C6: Los Angeles | D6: California | E6: Adress 1 | F6: Tiny Home | G6: 5 | H6: 2 | I6: 75 | J6: 44208
B7: Property 2 | C7: Florida | D7: Orlando | E7: Adress 2 | F7: Apartment | G7: 4 | H7: 3 | I7: 65 | J7: 44245
B8: Property 3 | C8: Seattle | D8: Washington | E8: Adress 3 | F8: Townhome | G8: 2 | H8: 1 | I8: 125 | J8: 44575

Sheet Records
B2: AIRBNB CALCULATOR
B3: RECORDS
B5: Property | C5: Channel | D5: Check in | E5: Check out | F5: Total Guests | G5: Guest (Booking) | H5: Guest Info | I5: =IF(LEN(Calc!$BT$12)=0,"Rent Price","Rent Price "&"("&Calc!$BT$12&")") -> Rent Price ($) | J5: =IF(LEN(Calc!$BT$12)=0,"Extra Fees","Extra Fees "&"("&Calc!$BT$12&")") -> Extra Fees ($) | K5: Notes | M5: Overbooking
B6: Property 1 | C6: AirBnb | D6: 44562 | E6: 44576 | F6: 4 | G6: Amelia Morrison | H6: 1-541-307-5357 | I6: 500 | J6: 25
B7: Property 1 | C7: Booking.com | D7: 44577 | E7: 44586 | F7: 2 | G7: Julia Parr | H7: 1-868-596-7615 | I7: 350 | J7: 25 | M7: {=IF(OR(LEN($D7)=0,LEN($E7)=0),"",IF(MAX(IF((B7=$B$6:B6)*((D7>=$D$6:D6)*(D7<$E$6:E6)+(E7>=$D$6:D6)*(E7<$E$6:E6) ),1,0))=1,"Overbooked!",""))}
B8: Property 1 | C8: HomeAway | D8: 44593 | E8: 44604 | F8: 3 | G8: Amy Murray | H8: 1-783-372-8799 | I8: 400 | J8: 50 | M8: {=IF(OR(LEN($D8)=0,LEN($E8)=0),"",IF(MAX(IF((B8=$B$6:B7)*((D8>=$D$6:D7)*(D8<$E$6:E7)+(E8>=$D$6:D7)*(E8<$E$6:E7) ),1,0))=1,"Overbooked!",""))}
B9: Property 2 | C9: Booking.com | D9: 44564 | E9: 44568 | F9: 7 | G9: Joanne Paige | H9: 1-766-527-2028 | I9: 750 | J9: 35 | M9: {=IF(OR(LEN($D9)=0,LEN($E9)=0),"",IF(MAX(IF((B9=$B$6:B8)*((D9>=$D$6:D8)*(D9<$E$6:E8)+(E9>=$D$6:D8)*(E9<$E$6:E8) ),1,0))=1,"Overbooked!",""))}
B10: Property 2 | C10: Agoda | D10: 44579 | E10: 44582 | F10: 7 | G10: Anne North | H10: 1-202-234-2866 | I10: 600 | J10: 40 | M10: {=IF(OR(LEN($D10)=0,LEN($E10)=0),"",IF(MAX(IF((B10=$B$6:B9)*((D10>=$D$6:D9)*(D10<$E$6:E9)+(E10>=$D$6:D9)*(E10<$E$6:E9) ),1,0))=1,"Overbooked!",""))}
B11: Property 2 | C11: HolidayHomes | D11: 44645 | E11: 44649 | F11: 6 | G11: Joan Oliver | H11: 1-824-434-6871 | I11: 500 | J11: 45 | M11: {=IF(OR(LEN($D11)=0,LEN($E11)=0),"",IF(MAX(IF((B11=$B$6:B10)*((D11>=$D$6:D10)*(D11<$E$6:E10)+(E11>=$D$6:D10)*(E11<$E$6:E10) ),1,0))=1,"Overbooked!",""))}
B12: Property 3 | C12: AirBnb | D12: 44622 | E12: 44636 | F12: 3 | G12: Katherine Short | H12: 1-771-531-6786 | I12: 375 | J12: 25 | M12: {=IF(OR(LEN($D12)=0,LEN($E12)=0),"",IF(MAX(IF((B12=$B$6:B11)*((D12>=$D$6:D11)*(D12<$E$6:E11)+(E12>=$D$6:D11)*(E12<$E$6:E11) ),1,0))=1,"Overbooked!",""))}
B13: Property 3 | C13: Booking.com | D13: 44674 | E13: 44709 | F13: 2 | G13: Jessica Ogden | H13: 1-534-246-2842 | I13: 450 | J13: 50 | M13: {=IF(OR(LEN($D13)=0,LEN($E13)=0),"",IF(MAX(IF((B13=$B$6:B12)*((D13>=$D$6:D12)*(D13<$E$6:E12)+(E13>=$D$6:D12)*(E13<$E$6:E12) ),1,0))=1,"Overbooked!",""))}
M14: {=IF(OR(LEN($D14)=0,LEN($E14)=0),"",IF(MAX(IF((B14=$B$6:B13)*((D14>=$D$6:D13)*(D14<$E$6:E13)+(E14>=$D$6:D13)*(E14<$E$6:E13) ),1,0))=1,"Overbooked!",""))}
M15: {=IF(OR(LEN($D15)=0,LEN($E15)=0),"",IF(MAX(IF((B15=$B$6:B14)*((D15>=$D$6:D14)*(D15<$E$6:E14)+(E15>=$D$6:D14)*(E15<$E$6:E14) ),1,0))=1,"Overbooked!",""))}
M16: {=IF(OR(LEN($D16)=0,LEN($E16)=0),"",IF(MAX(IF((B16=$B$6:B15)*((D16>=$D$6:D15)*(D16<$E$6:E15)+(E16>=$D$6:D15)*(E16<$E$6:E15) ),1,0))=1,"Overbooked!",""))}
M17: {=IF(OR(LEN($D17)=0,LEN($E17)=0),"",IF(MAX(IF((B17=$B$6:B16)*((D17>=$D$6:D16)*(D17<$E$6:E16)+(E17>=$D$6:D16)*(E17<$E$6:E16) ),1,0))=1,"Overbooked!",""))}
M18: {=IF(OR(LEN($D18)=0,LEN($E18)=0),"",IF(MAX(IF((B18=$B$6:B17)*((D18>=$D$6:D17)*(D18<$E$6:E17)+(E18>=$D$6:D17)*(E18<$E$6:E17) ),1,0))=1,"Overbooked!",""))}
M19: {=IF(OR(LEN($D19)=0,LEN($E19)=0),"",IF(MAX(IF((B19=$B$6:B18)*((D19>=$D$6:D18)*(D19<$E$6:E18)+(E19>=$D$6:D18)*(E19<$E$6:E18) ),1,0))=1,"Overbooked!",""))}
M20: {=IF(OR(LEN($D20)=0,LEN($E20)=0),"",IF(MAX(IF((B20=$B$6:B19)*((D20>=$D$6:D19)*(D20<$E$6:E19)+(E20>=$D$6:D19)*(E20<$E$6:E19) ),1,0))=1,"Overbooked!",""))}
M21: {=IF(OR(LEN($D21)=0,LEN($E21)=0),"",IF(MAX(IF((B21=$B$6:B20)*((D21>=$D$6:D20)*(D21<$E$6:E20)+(E21>=$D$6:D20)*(E21<$E$6:E20) ),1,0))=1,"Overbooked!",""))}
M22: {=IF(OR(LEN($D22)=0,LEN($E22)=0),"",IF(MAX(IF((B22=$B$6:B21)*((D22>=$D$6:D21)*(D22<$E$6:E21)+(E22>=$D$6:D21)*(E22<$E$6:E21) ),1,0))=1,"Overbooked!",""))}
M23: {=IF(OR(LEN($D23)=0,LEN($E23)=0),"",IF(MAX(IF((B23=$B$6:B22)*((D23>=$D$6:D22)*(D23<$E$6:E22)+(E23>=$D$6:D22)*(E23<$E$6:E22) ),1,0))=1,"Overbooked!",""))}
M24: {=IF(OR(LEN($D24)=0,LEN($E24)=0),"",IF(MAX(IF((B24=$B$6:B23)*((D24>=$D$6:D23)*(D24<$E$6:E23)+(E24>=$D$6:D23)*(E24<$E$6:E23) ),1,0))=1,"Overbooked!",""))}
M25: {=IF(OR(LEN($D25)=0,LEN($E25)=0),"",IF(MAX(IF((B25=$B$6:B24)*((D25>=$D$6:D24)*(D25<$E$6:E24)+(E25>=$D$6:D24)*(E25<$E$6:E24) ),1,0))=1,"Overbooked!",""))}

Sheet Expenses
B2: AIRBNB CALCULATOR
B3: EXPENSES
B5: Property | C5: Expense Item | D5: Year | E5: =Calc!DX$5 -> January | F5: =Calc!DY$5 -> February | G5: =Calc!DZ$5 -> March | H5: =Calc!EA$5 -> April | I5: =Calc!EB$5 -> May | J5: =Calc!EC$5 -> June | K5: =Calc!ED$5 -> July | L5: =Calc!EE$5 -> August | ... P5: =Calc!EI$5 -> December
B6: Property 1 | C6: Repairs | D6: 2022 | G6: 750
B7: Property 1 | C7: Taxes | D7: 2021 | H7: 500
B8: Property 1 | C8: Mortgage | D8: 2022 | E8: 250 | F8: 250 | G8: 250
B9: Property 1 | C9: Gas | D9: 2022 | E9: 50 | F9: 30 | G9: 25
B10: Property 1 | C10: Electricity | D10: 2022 | E10: 35 | F10: 70 | G10: 60
B11: Property 1 | C11: Water | D11: 2022 | E11: 25 | F11: 10 | G11: 45
B12: Property 2 | C12: Cleaning | D12: 2022 | E12: 50 | F12: 60 | G12: 45
B13: Property 2 | C13: Equipment | D13: 2022 | F13: 250
B14: Property 2 | C14: Electricity | D14: 2022 | E14: 25 | F14: 45 | G14: 30
B15: Property 3 | C15: Insurance | D15: 2022 | F15: 650

Sheet Summary
C2: AIRBNB CALCULATOR
C3: SUMMARY
C7: YEAR | D7: 2022 | F7: MONTH | G7: All | I7: PROPERTY | J7: All
I10: # of Nights
I11: =IFERROR(Calc!$EQ$54,"-") -> 94
I13: =IF(LEN(Calc!$BT$12)=0,"Avg. Nightly Rate","Avg. Nightly Rate "&"("&Calc!$BT$12&")") -> Avg. Nightly Rate ($) | J13: Occupancy Rate
I14: =IFERROR(Calc!$ER$54,"-") -> 44.893617 | J14: =IFERROR(Calc!$ES$54,"-") -> 0.19205709

Sheet Calendar
C2: AIRBNB CALCULATOR
C3: CALENDAR
B5: YEAR | D5: 2022 | H5: MONTH | J5: January | N5: PROPERTY | P5: All
C8: =IFERROR(INDEX(Calc!$CB$5:$DQ$5,1,1),"") | F8: =IFERROR(INDEX(Calc!$CB$5:$DQ$5,1,2),"") | I8: =IFERROR(INDEX(Calc!$CB$5:$DQ$5,1,3),"") | L8: =IFERROR(INDEX(Calc!$CB$5:$DQ$5,1,4),"") | O8: =IFERROR(INDEX(Calc!$CB$5:$DQ$5,1,5),"") | R8: =IFERROR(INDEX(Calc!$CB$5:$DQ$5,1,6),"") -> 44562 | U8: =IFERROR(INDEX(Calc!$CB$5:$DQ$5,1,7),"") -> 44563
B9: {=IFERROR(IF(LEN(C$8)=0,"",INDEX(Calc!$P$6:$P$305,SMALL(IF(Calc!$CB$6:$CB$305="","",ROW(Calc!$CB$6:$CB$305)),Calc!$BZ6)-ROW(Calc!$CB$6:$CB$305)+1)),"")} | C9: {=IFERROR(IF(LEN(C$8)=0,"",INDEX(Calc!$CB$6:$CB$305,SMALL(IF(Calc!$CB$6:$CB$305="","",ROW(Calc!$CB$6:$CB$305)),Calc!$BZ6)-ROW(Calc!$CB$6:$CB$305)+1)),"")} | E9: {=IFERROR(IF(LEN(F$8)=0,"",INDEX(Calc!$P$6:$P$305,SMALL(IF(Calc!$CC$6:$CC$305="","",ROW(Calc!$CC$6:$CC$305)),Calc!$BZ6)-ROW(Calc!$CC$6:$CC$305)+1)),"")} | F9: {=IFERROR(IF(LEN(F$8)=0,"",INDEX(Calc!$CC$6:$CC$305,SMALL(IF(Calc!$CC$6:$CC$305="","",ROW(Calc!$CC$6:$CC$305)),Calc!$BZ6)-ROW(Calc!$CC$6:$CC$305)+1)),"")} | H9: {=IFERROR(IF(LEN(I$8)=0,"",INDEX(Calc!$P$6:$P$305,SMALL(IF(Calc!$CD$6:$CD$305="","",ROW(Calc!$CD$6:$CD$305)),Calc!$BZ6)-ROW(Calc!$CD$6:$CD$305)+1)),"")} | I9: {=IFERROR(IF(LEN(I$8)=0,"",INDEX(Calc!$CD$6:$CD$305,SMALL(IF(Calc!$CD$6:$CD$305="","",ROW(Calc!$CD$6:$CD$305)),Calc!$BZ6)-ROW(Calc!$CD$6:$CD$305)+1)),"")} | K9: {=IFERROR(IF(LEN(L$8)=0,"",INDEX(Calc!$P$6:$P$305,SMALL(IF(Calc!$CE$6:$CE$305="","",ROW(Calc!$CE$6:$CE$305)),Calc!$BZ6)-ROW(Calc!$CE$6:$CE$305)+1)),"")} | L9: {=IFERROR(IF(LEN(L$8)=0,"",INDEX(Calc!$CE$6:$CE$305,SMALL(IF(Calc!$CE$6:$CE$305="","",ROW(Calc!$CE$6:$CE$305)),Calc!$BZ6)-ROW(Calc!$CE$6:$CE$305)+1)),"")} | N9: {=IFERROR(IF(LEN(O$8)=0,"",INDEX(Calc!$P$6:$P$305,SMALL(IF(Calc!$CF$6:$CF$305="","",ROW(Calc!$CF$6:$CF$305)),Calc!$BZ6)-ROW(Calc!$CF$6:$CF$305)+1)),"")} | O9: {=IFERROR(IF(LEN(O$8)=0,"",INDEX(Calc!$CF$6:$CF$305,SMALL(IF(Calc!$CF$6:$CF$305="","",ROW(Calc!$CF$6:$CF$305)),Calc!$BZ6)-ROW(Calc!$CF$6:$CF$305)+1)),"")} | Q9: {=IFERROR(IF(LEN(R$8)=0,"",INDEX(Calc!$P$6:$P$305,SMALL(IF(Calc!$CG$6:$CG$305="","",ROW(Calc!$CG$6:$CG$305)),Calc!$BZ6)-ROW(Calc!$CG$6:$CG$305)+1)),"")} -> AirBnb | R9: {=IFERROR(IF(LEN(R$8)=0,"",INDEX(Calc!$CG$6:$CG$305,SMALL(IF(Calc!$CG$6:$CG$305="","",ROW(Calc!$CG$6:$CG$305)),Calc!$BZ6)-ROW(Calc!$CG$6:$CG$305)+1)),"")} -> AirBnb - Property 1 | T9: {=IFERROR(IF(LEN(U$8)=0,"",INDEX(Calc!$P$6:$P$305,SMALL(IF(Calc!$CH$6:$CH$305="","",ROW(Calc!$CH$6:$CH$305)),Calc!$BZ6)-ROW(Calc!$CH$6:$CH$305)+1)),"")} -> AirBnb | U9: {=IFERROR(IF(LEN(U$8)=0,"",INDEX(Calc!$CH$6:$CH$305,SMALL(IF(Calc!$CH$6:$CH$305="","",ROW(Calc!$CH$6:$CH$305)),Calc!$BZ6)-ROW(Calc!$CH$6:$CH$305)+1)),"")} -> AirBnb - Property 1
B10: {=IFERROR(IF(LEN(C$8)=0,"",INDEX(Calc!$P$6:$P$305,SMALL(IF(Calc!$CB$6:$CB$305="","",ROW(Calc!$CB$6:$CB$305)),Calc!$BZ7)-ROW(Calc!$CB$6:$CB$305)+1)),"")} | C10: {=IFERROR(IF(LEN(C$8)=0,"",INDEX(Calc!$CB$6:$CB$305,SMALL(IF(Calc!$CB$6:$CB$305="","",ROW(Calc!$CB$6:$CB$305)),Calc!$BZ7)-ROW(Calc!$CB$6:$CB$305)+1)),"")} | E10: {=IFERROR(IF(LEN(F$8)=0,"",INDEX(Calc!$P$6:$P$305,SMALL(IF(Calc!$CC$6:$CC$305="","",ROW(Calc!$CC$6:$CC$305)),Calc!$BZ7)-ROW(Calc!$CC$6:$CC$305)+1)),"")} | F10: {=IFERROR(IF(LEN(F$8)=0,"",INDEX(Calc!$CC$6:$CC$305,SMALL(IF(Calc!$CC$6:$CC$305="","",ROW(Calc!$CC$6:$CC$305)),Calc!$BZ7)-ROW(Calc!$CC$6:$CC$305)+1)),"")} | H10: {=IFERROR(IF(LEN(I$8)=0,"",INDEX(Calc!$P$6:$P$305,SMALL(IF(Calc!$CD$6:$CD$305="","",ROW(Calc!$CD$6:$CD$305)),Calc!$BZ7)-ROW(Calc!$CD$6:$CD$305)+1)),"")} | I10: {=IFERROR(IF(LEN(I$8)=0,"",INDEX(Calc!$CD$6:$CD$305,SMALL(IF(Calc!$CD$6:$CD$305="","",ROW(Calc!$CD$6:$CD$305)),Calc!$BZ7)-ROW(Calc!$CD$6:$CD$305)+1)),"")} | K10: {=IFERROR(IF(LEN(L$8)=0,"",INDEX(Calc!$P$6:$P$305,SMALL(IF(Calc!$CE$6:$CE$305="","",ROW(Calc!$CE$6:$CE$305)),Calc!$BZ7)-ROW(Calc!$CE$6:$CE$305)+1)),"")} | L10: {=IFERROR(IF(LEN(L$8)=0,"",INDEX(Calc!$CE$6:$CE$305,SMALL(IF(Calc!$CE$6:$CE$305="","",ROW(Calc!$CE$6:$CE$305)),Calc!$BZ7)-ROW(Calc!$CE$6:$CE$305)+1)),"")} | N10: {=IFERROR(IF(LEN(O$8)=0,"",INDEX(Calc!$P$6:$P$305,SMALL(IF(Calc!$CF$6:$CF$305="","",ROW(Calc!$CF$6:$CF$305)),Calc!$BZ7)-ROW(Calc!$CF$6:$CF$305)+1)),"")} | O10: {=IFERROR(IF(LEN(O$8)=0,"",INDEX(Calc!$CF$6:$CF$305,SMALL(IF(Calc!$CF$6:$CF$305="","",ROW(Calc!$CF$6:$CF$305)),Calc!$BZ7)-ROW(Calc!$CF$6:$CF$305)+1)),"")} | Q10: {=IFERROR(IF(LEN(R$8)=0,"",INDEX(Calc!$P$6:$P$305,SMALL(IF(Calc!$CG$6:$CG$305="","",ROW(Calc!$CG$6:$CG$305)),Calc!$BZ7)-ROW(Calc!$CG$6:$CG$305)+1)),"")} | R10: {=IFERROR(IF(LEN(R$8)=0,"",INDEX(Calc!$CG$6:$CG$305,SMALL(IF(Calc!$CG$6:$CG$305="","",ROW(Calc!$CG$6:$CG$305)),Calc!$BZ7)-ROW(Calc!$CG$6:$CG$305)+1)),"")} | T10: {=IFERROR(IF(LEN(U$8)=0,"",INDEX(Calc!$P$6:$P$305,SMALL(IF(Calc!$CH$6:$CH$305="","",ROW(Calc!$CH$6:$CH$305)),Calc!$BZ7)-ROW(Calc!$CH$6:$CH$305)+1)),"")} | U10: {=IFERROR(IF(LEN(U$8)=0,"",INDEX(Calc!$CH$6:$CH$305,SMALL(IF(Calc!$CH$6:$CH$305="","",ROW(Calc!$CH$6:$CH$305)),Calc!$BZ7)-ROW(Calc!$CH$6:$CH$305)+1)),"")}
B11: {=IFERROR(IF(LEN(C$8)=0,"",INDEX(Calc!$P$6:$P$305,SMALL(IF(Calc!$CB$6:$CB$305="","",ROW(Calc!$CB$6:$CB$305)),Calc!$BZ8)-ROW(Calc!$CB$6:$CB$305)+1)),"")} | C11: {=IFERROR(IF(LEN(C$8)=0,"",INDEX(Calc!$CB$6:$CB$305,SMALL(IF(Calc!$CB$6:$CB$305="","",ROW(Calc!$CB$6:$CB$305)),Calc!$BZ8)-ROW(Calc!$CB$6:$CB$305)+1)),"")} | E11: {=IFERROR(IF(LEN(F$8)=0,"",INDEX(Calc!$P$6:$P$305,SMALL(IF(Calc!$CC$6:$CC$305="","",ROW(Calc!$CC$6:$CC$305)),Calc!$BZ8)-ROW(Calc!$CC$6:$CC$305)+1)),"")} | F11: {=IFERROR(IF(LEN(F$8)=0,"",INDEX(Calc!$CC$6:$CC$305,SMALL(IF(Calc!$CC$6:$CC$305="","",ROW(Calc!$CC$6:$CC$305)),Calc!$BZ8)-ROW(Calc!$CC$6:$CC$305)+1)),"")} | H11: {=IFERROR(IF(LEN(I$8)=0,"",INDEX(Calc!$P$6:$P$305,SMALL(IF(Calc!$CD$6:$CD$305="","",ROW(Calc!$CD$6:$CD$305)),Calc!$BZ8)-ROW(Calc!$CD$6:$CD$305)+1)),"")} | I11: {=IFERROR(IF(LEN(I$8)=0,"",INDEX(Calc!$CD$6:$CD$305,SMALL(IF(Calc!$CD$6:$CD$305="","",ROW(Calc!$CD$6:$CD$305)),Calc!$BZ8)-ROW(Calc!$CD$6:$CD$305)+1)),"")} | K11: {=IFERROR(IF(LEN(L$8)=0,"",INDEX(Calc!$P$6:$P$305,SMALL(IF(Calc!$CE$6:$CE$305="","",ROW(Calc!$CE$6:$CE$305)),Calc!$BZ8)-ROW(Calc!$CE$6:$CE$305)+1)),"")} | L11: {=IFERROR(IF(LEN(L$8)=0,"",INDEX(Calc!$CE$6:$CE$305,SMALL(IF(Calc!$CE$6:$CE$305="","",ROW(Calc!$CE$6:$CE$305)),Calc!$BZ8)-ROW(Calc!$CE$6:$CE$305)+1)),"")} | N11: {=IFERROR(IF(LEN(O$8)=0,"",INDEX(Calc!$P$6:$P$305,SMALL(IF(Calc!$CF$6:$CF$305="","",ROW(Calc!$CF$6:$CF$305)),Calc!$BZ8)-ROW(Calc!$CF$6:$CF$305)+1)),"")} | O11: {=IFERROR(IF(LEN(O$8)=0,"",INDEX(Calc!$CF$6:$CF$305,SMALL(IF(Calc!$CF$6:$CF$305="","",ROW(Calc!$CF$6:$CF$305)),Calc!$BZ8)-ROW(Calc!$CF$6:$CF$305)+1)),"")} | Q11: {=IFERROR(IF(LEN(R$8)=0,"",INDEX(Calc!$P$6:$P$305,SMALL(IF(Calc!$CG$6:$CG$305="","",ROW(Calc!$CG$6:$CG$305)),Calc!$BZ8)-ROW(Calc!$CG$6:$CG$305)+1)),"")} | R11: {=IFERROR(IF(LEN(R$8)=0,"",INDEX(Calc!$CG$6:$CG$305,SMALL(IF(Calc!$CG$6:$CG$305="","",ROW(Calc!$CG$6:$CG$305)),Calc!$BZ8)-ROW(Calc!$CG$6:$CG$305)+1)),"")} | T11: {=IFERROR(IF(LEN(U$8)=0,"",INDEX(Calc!$P$6:$P$305,SMALL(IF(Calc!$CH$6:$CH$305="","",ROW(Calc!$CH$6:$CH$305)),Calc!$BZ8)-ROW(Calc!$CH$6:$CH$305)+1)),"")} | U11: {=IFERROR(IF(LEN(U$8)=0,"",INDEX(Calc!$CH$6:$CH$305,SMALL(IF(Calc!$CH$6:$CH$305="","",ROW(Calc!$CH$6:$CH$305)),Calc!$BZ8)-ROW(Calc!$CH$6:$CH$305)+1)),"")}
B12: {=IFERROR(IF(LEN(C$8)=0,"",INDEX(Calc!$P$6:$P$305,SMALL(IF(Calc!$CB$6:$CB$305="","",ROW(Calc!$CB$6:$CB$305)),Calc!$BZ9)-ROW(Calc!$CB$6:$CB$305)+1)),"")} | C12: {=IFERROR(IF(LEN(C$8)=0,"",INDEX(Calc!$CB$6:$CB$305,SMALL(IF(Calc!$CB$6:$CB$305="","",ROW(Calc!$CB$6:$CB$305)),Calc!$BZ9)-ROW(Calc!$CB$6:$CB$305)+1)),"")} | E12: {=IFERROR(IF(LEN(F$8)=0,"",INDEX(Calc!$P$6:$P$305,SMALL(IF(Calc!$CC$6:$CC$305="","",ROW(Calc!$CC$6:$CC$305)),Calc!$BZ9)-ROW(Calc!$CC$6:$CC$305)+1)),"")} | F12: {=IFERROR(IF(LEN(F$8)=0,"",INDEX(Calc!$CC$6:$CC$305,SMALL(IF(Calc!$CC$6:$CC$305="","",ROW(Calc!$CC$6:$CC$305)),Calc!$BZ9)-ROW(Calc!$CC$6:$CC$305)+1)),"")} | H12: {=IFERROR(IF(LEN(I$8)=0,"",INDEX(Calc!$P$6:$P$305,SMALL(IF(Calc!$CD$6:$CD$305="","",ROW(Calc!$CD$6:$CD$305)),Calc!$BZ9)-ROW(Calc!$CD$6:$CD$305)+1)),"")} | I12: {=IFERROR(IF(LEN(I$8)=0,"",INDEX(Calc!$CD$6:$CD$305,SMALL(IF(Calc!$CD$6:$CD$305="","",ROW(Calc!$CD$6:$CD$305)),Calc!$BZ9)-ROW(Calc!$CD$6:$CD$305)+1)),"")} | K12: {=IFERROR(IF(LEN(L$8)=0,"",INDEX(Calc!$P$6:$P$305,SMALL(IF(Calc!$CE$6:$CE$305="","",ROW(Calc!$CE$6:$CE$305)),Calc!$BZ9)-ROW(Calc!$CE$6:$CE$305)+1)),"")} | L12: {=IFERROR(IF(LEN(L$8)=0,"",INDEX(Calc!$CE$6:$CE$305,SMALL(IF(Calc!$CE$6:$CE$305="","",ROW(Calc!$CE$6:$CE$305)),Calc!$BZ9)-ROW(Calc!$CE$6:$CE$305)+1)),"")} | N12: {=IFERROR(IF(LEN(O$8)=0,"",INDEX(Calc!$P$6:$P$305,SMALL(IF(Calc!$CF$6:$CF$305="","",ROW(Calc!$CF$6:$CF$305)),Calc!$BZ9)-ROW(Calc!$CF$6:$CF$305)+1)),"")} | O12: {=IFERROR(IF(LEN(O$8)=0,"",INDEX(Calc!$CF$6:$CF$305,SMALL(IF(Calc!$CF$6:$CF$305="","",ROW(Calc!$CF$6:$CF$305)),Calc!$BZ9)-ROW(Calc!$CF$6:$CF$305)+1)),"")} | Q12: {=IFERROR(IF(LEN(R$8)=0,"",INDEX(Calc!$P$6:$P$305,SMALL(IF(Calc!$CG$6:$CG$305="","",ROW(Calc!$CG$6:$CG$305)),Calc!$BZ9)-ROW(Calc!$CG$6:$CG$305)+1)),"")} | R12: {=IFERROR(IF(LEN(R$8)=0,"",INDEX(Calc!$CG$6:$CG$305,SMALL(IF(Calc!$CG$6:$CG$305="","",ROW(Calc!$CG$6:$CG$305)),Calc!$BZ9)-ROW(Calc!$CG$6:$CG$305)+1)),"")} | T12: {=IFERROR(IF(LEN(U$8)=0,"",INDEX(Calc!$P$6:$P$305,SMALL(IF(Calc!$CH$6:$CH$305="","",ROW(Calc!$CH$6:$CH$305)),Calc!$BZ9)-ROW(Calc!$CH$6:$CH$305)+1)),"")} | U12: {=IFERROR(IF(LEN(U$8)=0,"",INDEX(Calc!$CH$6:$CH$305,SMALL(IF(Calc!$CH$6:$CH$305="","",ROW(Calc!$CH$6:$CH$305)),Calc!$BZ9)-ROW(Calc!$CH$6:$CH$305)+1)),"")}
B13: {=IFERROR(IF(LEN(C$8)=0,"",INDEX(Calc!$P$6:$P$305,SMALL(IF(Calc!$CB$6:$CB$305="","",ROW(Calc!$CB$6:$CB$305)),Calc!$BZ10)-ROW(Calc!$CB$6:$CB$305)+1)),"")} | C13: {=IFERROR(IF(LEN(C$8)=0,"",INDEX(Calc!$CB$6:$CB$305,SMALL(IF(Calc!$CB$6:$CB$305="","",ROW(Calc!$CB$6:$CB$305)),Calc!$BZ10)-ROW(Calc!$CB$6:$CB$305)+1)),"")} | E13: {=IFERROR(IF(LEN(F$8)=0,"",INDEX(Calc!$P$6:$P$305,SMALL(IF(Calc!$CC$6:$CC$305="","",ROW(Calc!$CC$6:$CC$305)),Calc!$BZ10)-ROW(Calc!$CC$6:$CC$305)+1)),"")} | F13: {=IFERROR(IF(LEN(F$8)=0,"",INDEX(Calc!$CC$6:$CC$305,SMALL(IF(Calc!$CC$6:$CC$305="","",ROW(Calc!$CC$6:$CC$305)),Calc!$BZ10)-ROW(Calc!$CC$6:$CC$305)+1)),"")} | H13: {=IFERROR(IF(LEN(I$8)=0,"",INDEX(Calc!$P$6:$P$305,SMALL(IF(Calc!$CD$6:$CD$305="","",ROW(Calc!$CD$6:$CD$305)),Calc!$BZ10)-ROW(Calc!$CD$6:$CD$305)+1)),"")} | I13: {=IFERROR(IF(LEN(I$8)=0,"",INDEX(Calc!$CD$6:$CD$305,SMALL(IF(Calc!$CD$6:$CD$305="","",ROW(Calc!$CD$6:$CD$305)),Calc!$BZ10)-ROW(Calc!$CD$6:$CD$305)+1)),"")} | K13: {=IFERROR(IF(LEN(L$8)=0,"",INDEX(Calc!$P$6:$P$305,SMALL(IF(Calc!$CE$6:$CE$305="","",ROW(Calc!$CE$6:$CE$305)),Calc!$BZ10)-ROW(Calc!$CE$6:$CE$305)+1)),"")} | L13: {=IFERROR(IF(LEN(L$8)=0,"",INDEX(Calc!$CE$6:$CE$305,SMALL(IF(Calc!$CE$6:$CE$305="","",ROW(Calc!$CE$6:$CE$305)),Calc!$BZ10)-ROW(Calc!$CE$6:$CE$305)+1)),"")} | N13: {=IFERROR(IF(LEN(O$8)=0,"",INDEX(Calc!$P$6:$P$305,SMALL(IF(Calc!$CF$6:$CF$305="","",ROW(Calc!$CF$6:$CF$305)),Calc!$BZ10)-ROW(Calc!$CF$6:$CF$305)+1)),"")} | O13: {=IFERROR(IF(LEN(O$8)=0,"",INDEX(Calc!$CF$6:$CF$305,SMALL(IF(Calc!$CF$6:$CF$305="","",ROW(Calc!$CF$6:$CF$305)),Calc!$BZ10)-ROW(Calc!$CF$6:$CF$305)+1)),"")} | Q13: {=IFERROR(IF(LEN(R$8)=0,"",INDEX(Calc!$P$6:$P$305,SMALL(IF(Calc!$CG$6:$CG$305="","",ROW(Calc!$CG$6:$CG$305)),Calc!$BZ10)-ROW(Calc!$CG$6:$CG$305)+1)),"")} | R13: {=IFERROR(IF(LEN(R$8)=0,"",INDEX(Calc!$CG$6:$CG$305,SMALL(IF(Calc!$CG$6:$CG$305="","",ROW(Calc!$CG$6:$CG$305)),Calc!$BZ10)-ROW(Calc!$CG$6:$CG$305)+1)),"")} | T13: {=IFERROR(IF(LEN(U$8)=0,"",INDEX(Calc!$P$6:$P$305,SMALL(IF(Calc!$CH$6:$CH$305="","",ROW(Calc!$CH$6:$CH$305)),Calc!$BZ10)-ROW(Calc!$CH$6:$CH$305)+1)),"")} | U13: {=IFERROR(IF(LEN(U$8)=0,"",INDEX(Calc!$CH$6:$CH$305,SMALL(IF(Calc!$CH$6:$CH$305="","",ROW(Calc!$CH$6:$CH$305)),Calc!$BZ10)-ROW(Calc!$CH$6:$CH$305)+1)),"")}
B14: {=IFERROR(IF(LEN(C$8)=0,"",INDEX(Calc!$P$6:$P$305,SMALL(IF(Calc!$CB$6:$CB$305="","",ROW(Calc!$CB$6:$CB$305)),Calc!$BZ11)-ROW(Calc!$CB$6:$CB$305)+1)),"")} | C14: {=IFERROR(IF(LEN(C$8)=0,"",INDEX(Calc!$CB$6:$CB$305,SMALL(IF(Calc!$CB$6:$CB$305="","",ROW(Calc!$CB$6:$CB$305)),Calc!$BZ11)-ROW(Calc!$CB$6:$CB$305)+1)),"")} | E14: {=IFERROR(IF(LEN(F$8)=0,"",INDEX(Calc!$P$6:$P$305,SMALL(IF(Calc!$CC$6:$CC$305="","",ROW(Calc!$CC$6:$CC$305)),Calc!$BZ11)-ROW(Calc!$CC$6:$CC$305)+1)),"")} | F14: {=IFERROR(IF(LEN(F$8)=0,"",INDEX(Calc!$CC$6:$CC$305,SMALL(IF(Calc!$CC$6:$CC$305="","",ROW(Calc!$CC$6:$CC$305)),Calc!$BZ11)-ROW(Calc!$CC$6:$CC$305)+1)),"")} | H14: {=IFERROR(IF(LEN(I$8)=0,"",INDEX(Calc!$P$6:$P$305,SMALL(IF(Calc!$CD$6:$CD$305="","",ROW(Calc!$CD$6:$CD$305)),Calc!$BZ11)-ROW(Calc!$CD$6:$CD$305)+1)),"")} | I14: {=IFERROR(IF(LEN(I$8)=0,"",INDEX(Calc!$CD$6:$CD$305,SMALL(IF(Calc!$CD$6:$CD$305="","",ROW(Calc!$CD$6:$CD$305)),Calc!$BZ11)-ROW(Calc!$CD$6:$CD$305)+1)),"")} | K14: {=IFERROR(IF(LEN(L$8)=0,"",INDEX(Calc!$P$6:$P$305,SMALL(IF(Calc!$CE$6:$CE$305="","",ROW(Calc!$CE$6:$CE$305)),Calc!$BZ11)-ROW(Calc!$CE$6:$CE$305)+1)),"")} | L14: {=IFERROR(IF(LEN(L$8)=0,"",INDEX(Calc!$CE$6:$CE$305,SMALL(IF(Calc!$CE$6:$CE$305="","",ROW(Calc!$CE$6:$CE$305)),Calc!$BZ11)-ROW(Calc!$CE$6:$CE$305)+1)),"")} | N14: {=IFERROR(IF(LEN(O$8)=0,"",INDEX(Calc!$P$6:$P$305,SMALL(IF(Calc!$CF$6:$CF$305="","",ROW(Calc!$CF$6:$CF$305)),Calc!$BZ11)-ROW(Calc!$CF$6:$CF$305)+1)),"")} | O14: {=IFERROR(IF(LEN(O$8)=0,"",INDEX(Calc!$CF$6:$CF$305,SMALL(IF(Calc!$CF$6:$CF$305="","",ROW(Calc!$CF$6:$CF$305)),Calc!$BZ11)-ROW(Calc!$CF$6:$CF$305)+1)),"")} | Q14: {=IFERROR(IF(LEN(R$8)=0,"",INDEX(Calc!$P$6:$P$305,SMALL(IF(Calc!$CG$6:$CG$305="","",ROW(Calc!$CG$6:$CG$305)),Calc!$BZ11)-ROW(Calc!$CG$6:$CG$305)+1)),"")} | R14: {=IFERROR(IF(LEN(R$8)=0,"",INDEX(Calc!$CG$6:$CG$305,SMALL(IF(Calc!$CG$6:$CG$305="","",ROW(Calc!$CG$6:$CG$305)),Calc!$BZ11)-ROW(Calc!$CG$6:$CG$305)+1)),"")} | T14: {=IFERROR(IF(LEN(U$8)=0,"",INDEX(Calc!$P$6:$P$305,SMALL(IF(Calc!$CH$6:$CH$305="","",ROW(Calc!$CH$6:$CH$305)),Calc!$BZ11)-ROW(Calc!$CH$6:$CH$305)+1)),"")} | U14: {=IFERROR(IF(LEN(U$8)=0,"",INDEX(Calc!$CH$6:$CH$305,SMALL(IF(Calc!$CH$6:$CH$305="","",ROW(Calc!$CH$6:$CH$305)),Calc!$BZ11)-ROW(Calc!$CH$6:$CH$305)+1)),"")}
B15: {=IFERROR(IF(LEN(C$8)=0,"",INDEX(Calc!$P$6:$P$305,SMALL(IF(Calc!$CB$6:$CB$305="","",ROW(Calc!$CB$6:$CB$305)),Calc!$BZ12)-ROW(Calc!$CB$6:$CB$305)+1)),"")} | C15: {=IFERROR(IF(LEN(C$8)=0,"",INDEX(Calc!$CB$6:$CB$305,SMALL(IF(Calc!$CB$6:$CB$305="","",ROW(Calc!$CB$6:$CB$305)),Calc!$BZ12)-ROW(Calc!$CB$6:$CB$305)+1)),"")} | E15: {=IFERROR(IF(LEN(F$8)=0,"",INDEX(Calc!$P$6:$P$305,SMALL(IF(Calc!$CC$6:$CC$305="","",ROW(Calc!$CC$6:$CC$305)),Calc!$BZ12)-ROW(Calc!$CC$6:$CC$305)+1)),"")} | F15: {=IFERROR(IF(LEN(F$8)=0,"",INDEX(Calc!$CC$6:$CC$305,SMALL(IF(Calc!$CC$6:$CC$305="","",ROW(Calc!$CC$6:$CC$305)),Calc!$BZ12)-ROW(Calc!$CC$6:$CC$305)+1)),"")} | H15: {=IFERROR(IF(LEN(I$8)=0,"",INDEX(Calc!$P$6:$P$305,SMALL(IF(Calc!$CD$6:$CD$305="","",ROW(Calc!$CD$6:$CD$305)),Calc!$BZ12)-ROW(Calc!$CD$6:$CD$305)+1)),"")} | I15: {=IFERROR(IF(LEN(I$8)=0,"",INDEX(Calc!$CD$6:$CD$305,SMALL(IF(Calc!$CD$6:$CD$305="","",ROW(Calc!$CD$6:$CD$305)),Calc!$BZ12)-ROW(Calc!$CD$6:$CD$305)+1)),"")} | K15: {=IFERROR(IF(LEN(L$8)=0,"",INDEX(Calc!$P$6:$P$305,SMALL(IF(Calc!$CE$6:$CE$305="","",ROW(Calc!$CE$6:$CE$305)),Calc!$BZ12)-ROW(Calc!$CE$6:$CE$305)+1)),"")} | L15: {=IFERROR(IF(LEN(L$8)=0,"",INDEX(Calc!$CE$6:$CE$305,SMALL(IF(Calc!$CE$6:$CE$305="","",ROW(Calc!$CE$6:$CE$305)),Calc!$BZ12)-ROW(Calc!$CE$6:$CE$305)+1)),"")} | N15: {=IFERROR(IF(LEN(O$8)=0,"",INDEX(Calc!$P$6:$P$305,SMALL(IF(Calc!$CF$6:$CF$305="","",ROW(Calc!$CF$6:$CF$305)),Calc!$BZ12)-ROW(Calc!$CF$6:$CF$305)+1)),"")} | O15: {=IFERROR(IF(LEN(O$8)=0,"",INDEX(Calc!$CF$6:$CF$305,SMALL(IF(Calc!$CF$6:$CF$305="","",ROW(Calc!$CF$6:$CF$305)),Calc!$BZ12)-ROW(Calc!$CF$6:$CF$305)+1)),"")} | Q15: {=IFERROR(IF(LEN(R$8)=0,"",INDEX(Calc!$P$6:$P$305,SMALL(IF(Calc!$CG$6:$CG$305="","",ROW(Calc!$CG$6:$CG$305)),Calc!$BZ12)-ROW(Calc!$CG$6:$CG$305)+1)),"")} | R15: {=IFERROR(IF(LEN(R$8)=0,"",INDEX(Calc!$CG$6:$CG$305,SMALL(IF(Calc!$CG$6:$CG$305="","",ROW(Calc!$CG$6:$CG$305)),Calc!$BZ12)-ROW(Calc!$CG$6:$CG$305)+1)),"")} | T15: {=IFERROR(IF(LEN(U$8)=0,"",INDEX(Calc!$P$6:$P$305,SMALL(IF(Calc!$CH$6:$CH$305="","",ROW(Calc!$CH$6:$CH$305)),Calc!$BZ12)-ROW(Calc!$CH$6:$CH$305)+1)),"")} | U15: {=IFERROR(IF(LEN(U$8)=0,"",INDEX(Calc!$CH$6:$CH$305,SMALL(IF(Calc!$CH$6:$CH$305="","",ROW(Calc!$CH$6:$CH$305)),Calc!$BZ12)-ROW(Calc!$CH$6:$CH$305)+1)),"")}
C17: =IFERROR(INDEX(Calc!$CB$5:$DQ$5,1,8),"") -> 44564 | F17: =IFERROR(INDEX(Calc!$CB$5:$DQ$5,1,9),"") -> 44565 | I17: =IFERROR(INDEX(Calc!$CB$5:$DQ$5,1,10),"") -> 44566 | L17: =IFERROR(INDEX(Calc!$CB$5:$DQ$5,1,11),"") -> 44567 | O17: =IFERROR(INDEX(Calc!$CB$5:$DQ$5,1,12),"") -> 44568 | R17: =IFERROR(INDEX(Calc!$CB$5:$DQ$5,1,13),"") -> 44569 | U17: =IFERROR(INDEX(Calc!$CB$5:$DQ$5,1,14),"") -> 44570
B18: {=IFERROR(IF(LEN(C$17)=0,"",INDEX(Calc!$P$6:$P$305,SMALL(IF(Calc!$CI$6:$CI$305="","",ROW(Calc!$CI$6:$CI$305)),Calc!$BZ6)-ROW(Calc!$CI$6:$CI$305)+1)),"")} -> AirBnb | C18: {=IFERROR(IF(LEN(C$17)=0,"",INDEX(Calc!$CI$6:$CI$305,SMALL(IF(Calc!$CI$6:$CI$305="","",ROW(Calc!CI$6:CI$305)),Calc!$BZ6)-ROW(Calc!$CI$6:$CI$305)+1)),"")} -> AirBnb - Property 1 | E18: {=IFERROR(IF(LEN(F$17)=0,"",INDEX(Calc!$P$6:$P$305,SMALL(IF(Calc!$CJ$6:$CJ$305="","",ROW(Calc!$CJ$6:$CJ$305)),Calc!$BZ6)-ROW(Calc!$CJ$6:$CJ$305)+1)),"")} -> AirBnb | F18: {=IFERROR(IF(LEN(F$17)=0,"",INDEX(Calc!$CJ$6:$CJ$305,SMALL(IF(Calc!$CJ$6:$CJ$305="","",ROW(Calc!$CJ$6:$CJ$305)),Calc!$BZ6)-ROW(Calc!$CJ$6:$CJ$305)+1)),"")} -> AirBnb - Property 1 | H18: {=IFERROR(IF(LEN(I$17)=0,"",INDEX(Calc!$P$6:$P$305,SMALL(IF(Calc!$CK$6:$CK$305="","",ROW(Calc!$CK$6:$CK$305)),Calc!$BZ6)-ROW(Calc!$CK$6:$CK$305)+1)),"")} -> AirBnb | I18: {=IFERROR(IF(LEN(I$17)=0,"",INDEX(Calc!$CK$6:$CK$305,SMALL(IF(Calc!$CK$6:$CK$305="","",ROW(Calc!$CK$6:$CK$305)),Calc!$BZ6)-ROW(Calc!$CK$6:$CK$305)+1)),"")} -> AirBnb - Property 1 | K18: {=IFERROR(IF(LEN(L$17)=0,"",INDEX(Calc!$P$6:$P$305,SMALL(IF(Calc!$CL$6:$CL$305="","",ROW(Calc!$CL$6:$CL$305)),Calc!$BZ6)-ROW(Calc!$CL$6:$CL$305)+1)),"")} -> AirBnb | L18: {=IFERROR(IF(LEN(L$17)=0,"",INDEX(Calc!$CL$6:$CL$305,SMALL(IF(Calc!$CL$6:$CL$305="","",ROW(Calc!$CL$6:$CL$305)),Calc!$BZ6)-ROW(Calc!$CL$6:$CL$305)+1)),"")} -> AirBnb - Property 1 | N18: {=IFERROR(IF(LEN(O$17)=0,"",INDEX(Calc!$P$6:$P$305,SMALL(IF(Calc!$CM$6:$CM$305="","",ROW(Calc!$CM$6:$CM$305)),Calc!$BZ6)-ROW(Calc!$CM$6:$CM$305)+1)),"")} -> AirBnb | O18: {=IFERROR(IF(LEN(O$17)=0,"",INDEX(Calc!$CM$6:$CM$305,SMALL(IF(Calc!$CM$6:$CM$305="","",ROW(Calc!$CM$6:$CM$305)),Calc!$BZ6)-ROW(Calc!$CM$6:$CM$305)+1)),"")} -> AirBnb - Property 1 | Q18: {=IFERROR(IF(LEN(R$17)=0,"",INDEX(Calc!$P$6:$P$305,SMALL(IF(Calc!$CN$6:$CN$305="","",ROW(Calc!$CN$6:$CN$305)),Calc!$BZ6)-ROW(Calc!$CN$6:$CN$305)+1)),"")} -> AirBnb | R18: {=IFERROR(IF(LEN(R$17)=0,"",INDEX(Calc!$CN$6:$CN$305,SMALL(IF(Calc!$CN$6:$CN$305="","",ROW(Calc!$CN$6:$CN$305)),Calc!$BZ6)-ROW(Calc!$CN$6:$CN$305)+1)),"")} -> AirBnb - Property 1 | T18: {=IFERROR(IF(LEN(U$17)=0,"",INDEX(Calc!$P$6:$P$305,SMALL(IF(Calc!$CO$6:$CO$305="","",ROW(Calc!$CO$6:$CO$305)),Calc!$BZ6)-ROW(Calc!$CO$6:$CO$305)+1)),"")} -> AirBnb | U18: {=IFERROR(IF(LEN(U$17)=0,"",INDEX(Calc!$CO$6:$CO$305,SMALL(IF(Calc!$CO$6:$CO$305="","",ROW(Calc!$CO$6:$CO$305)),Calc!$BZ6)-ROW(Calc!$CO$6:$CO$305)+1)),"")} -> AirBnb - Property 1
B19: {=IFERROR(IF(LEN(C$17)=0,"",INDEX(Calc!$P$6:$P$305,SMALL(IF(Calc!$CI$6:$CI$305="","",ROW(Calc!$CI$6:$CI$305)),Calc!$BZ7)-ROW(Calc!$CI$6:$CI$305)+1)),"")} -> Booking.com | C19: {=IFERROR(IF(LEN(C$17)=0,"",INDEX(Calc!$CI$6:$CI$305,SMALL(IF(Calc!$CI$6:$CI$305="","",ROW(Calc!CI$6:CI$305)),Calc!$BZ7)-ROW(Calc!$CI$6:$CI$305)+1)),"")} -> Booking.com - Property 2 | E19: {=IFERROR(IF(LEN(F$17)=0,"",INDEX(Calc!$P$6:$P$305,SMALL(IF(Calc!$CJ$6:$CJ$305="","",ROW(Calc!$CJ$6:$CJ$305)),Calc!$BZ7)-ROW(Calc!$CJ$6:$CJ$305)+1)),"")} -> Booking.com | F19: {=IFERROR(IF(LEN(F$17)=0,"",INDEX(Calc!$CJ$6:$CJ$305,SMALL(IF(Calc!$CJ$6:$CJ$305="","",ROW(Calc!$CJ$6:$CJ$305)),Calc!$BZ7)-ROW(Calc!$CJ$6:$CJ$305)+1)),"")} -> Booking.com - Property 2 | H19: {=IFERROR(IF(LEN(I$17)=0,"",INDEX(Calc!$P$6:$P$305,SMALL(IF(Calc!$CK$6:$CK$305="","",ROW(Calc!$CK$6:$CK$305)),Calc!$BZ7)-ROW(Calc!$CK$6:$CK$305)+1)),"")} -> Booking.com | I19: {=IFERROR(IF(LEN(I$17)=0,"",INDEX(Calc!$CK$6:$CK$305,SMALL(IF(Calc!$CK$6:$CK$305="","",ROW(Calc!$CK$6:$CK$305)),Calc!$BZ7)-ROW(Calc!$CK$6:$CK$305)+1)),"")} -> Booking.com - Property 2 | K19: {=IFERROR(IF(LEN(L$17)=0,"",INDEX(Calc!$P$6:$P$305,SMALL(IF(Calc!$CL$6:$CL$305="","",ROW(Calc!$CL$6:$CL$305)),Calc!$BZ7)-ROW(Calc!$CL$6:$CL$305)+1)),"")} -> Booking.com | L19: {=IFERROR(IF(LEN(L$17)=0,"",INDEX(Calc!$CL$6:$CL$305,SMALL(IF(Calc!$CL$6:$CL$305="","",ROW(Calc!$CL$6:$CL$305)),Calc!$BZ7)-ROW(Calc!$CL$6:$CL$305)+1)),"")} -> Booking.com - Property 2 | N19: {=IFERROR(IF(LEN(O$17)=0,"",INDEX(Calc!$P$6:$P$305,SMALL(IF(Calc!$CM$6:$CM$305="","",ROW(Calc!$CM$6:$CM$305)),Calc!$BZ7)-ROW(Calc!$CM$6:$CM$305)+1)),"")} | O19: {=IFERROR(IF(LEN(O$17)=0,"",INDEX(Calc!$CM$6:$CM$305,SMALL(IF(Calc!$CM$6:$CM$305="","",ROW(Calc!$CM$6:$CM$305)),Calc!$BZ7)-ROW(Calc!$CM$6:$CM$305)+1)),"")} | Q19: {=IFERROR(IF(LEN(R$17)=0,"",INDEX(Calc!$P$6:$P$305,SMALL(IF(Calc!$CN$6:$CN$305="","",ROW(Calc!$CN$6:$CN$305)),Calc!$BZ7)-ROW(Calc!$CN$6:$CN$305)+1)),"")} | R19: {=IFERROR(IF(LEN(R$17)=0,"",INDEX(Calc!$CN$6:$CN$305,SMALL(IF(Calc!$CN$6:$CN$305="","",ROW(Calc!$CN$6:$CN$305)),Calc!$BZ7)-ROW(Calc!$CN$6:$CN$305)+1)),"")} | T19: {=IFERROR(IF(LEN(U$17)=0,"",INDEX(Calc!$P$6:$P$305,SMALL(IF(Calc!$CO$6:$CO$305="","",ROW(Calc!$CO$6:$CO$305)),Calc!$BZ7)-ROW(Calc!$CO$6:$CO$305)+1)),"")} | U19: {=IFERROR(IF(LEN(U$17)=0,"",INDEX(Calc!$CO$6:$CO$305,SMALL(IF(Calc!$CO$6:$CO$305="","",ROW(Calc!$CO$6:$CO$305)),Calc!$BZ7)-ROW(Calc!$CO$6:$CO$305)+1)),"")}
B20: {=IFERROR(IF(LEN(C$17)=0,"",INDEX(Calc!$P$6:$P$305,SMALL(IF(Calc!$CI$6:$CI$305="","",ROW(Calc!$CI$6:$CI$305)),Calc!$BZ8)-ROW(Calc!$CI$6:$CI$305)+1)),"")} | C20: {=IFERROR(IF(LEN(C$17)=0,"",INDEX(Calc!$CI$6:$CI$305,SMALL(IF(Calc!$CI$6:$CI$305="","",ROW(Calc!CI$6:CI$305)),Calc!$BZ8)-ROW(Calc!$CI$6:$CI$305)+1)),"")} | E20: {=IFERROR(IF(LEN(F$17)=0,"",INDEX(Calc!$P$6:$P$305,SMALL(IF(Calc!$CJ$6:$CJ$305="","",ROW(Calc!$CJ$6:$CJ$305)),Calc!$BZ8)-ROW(Calc!$CJ$6:$CJ$305)+1)),"")} | F20: {=IFERROR(IF(LEN(F$17)=0,"",INDEX(Calc!$CJ$6:$CJ$305,SMALL(IF(Calc!$CJ$6:$CJ$305="","",ROW(Calc!$CJ$6:$CJ$305)),Calc!$BZ8)-ROW(Calc!$CJ$6:$CJ$305)+1)),"")} | H20: {=IFERROR(IF(LEN(I$17)=0,"",INDEX(Calc!$P$6:$P$305,SMALL(IF(Calc!$CK$6:$CK$305="","",ROW(Calc!$CK$6:$CK$305)),Calc!$BZ8)-ROW(Calc!$CK$6:$CK$305)+1)),"")} | I20: {=IFERROR(IF(LEN(I$17)=0,"",INDEX(Calc!$CK$6:$CK$305,SMALL(IF(Calc!$CK$6:$CK$305="","",ROW(Calc!$CK$6:$CK$305)),Calc!$BZ8)-ROW(Calc!$CK$6:$CK$305)+1)),"")} | K20: {=IFERROR(IF(LEN(L$17)=0,"",INDEX(Calc!$P$6:$P$305,SMALL(IF(Calc!$CL$6:$CL$305="","",ROW(Calc!$CL$6:$CL$305)),Calc!$BZ8)-ROW(Calc!$CL$6:$CL$305)+1)),"")} | L20: {=IFERROR(IF(LEN(L$17)=0,"",INDEX(Calc!$CL$6:$CL$305,SMALL(IF(Calc!$CL$6:$CL$305="","",ROW(Calc!$CL$6:$CL$305)),Calc!$BZ8)-ROW(Calc!$CL$6:$CL$305)+1)),"")} | N20: {=IFERROR(IF(LEN(O$17)=0,"",INDEX(Calc!$P$6:$P$305,SMALL(IF(Calc!$CM$6:$CM$305="","",ROW(Calc!$CM$6:$CM$305)),Calc!$BZ8)-ROW(Calc!$CM$6:$CM$305)+1)),"")} | O20: {=IFERROR(IF(LEN(O$17)=0,"",INDEX(Calc!$CM$6:$CM$305,SMALL(IF(Calc!$CM$6:$CM$305="","",ROW(Calc!$CM$6:$CM$305)),Calc!$BZ8)-ROW(Calc!$CM$6:$CM$305)+1)),"")} | Q20: {=IFERROR(IF(LEN(R$17)=0,"",INDEX(Calc!$P$6:$P$305,SMALL(IF(Calc!$CN$6:$CN$305="","",ROW(Calc!$CN$6:$CN$305)),Calc!$BZ8)-ROW(Calc!$CN$6:$CN$305)+1)),"")} | R20: {=IFERROR(IF(LEN(R$17)=0,"",INDEX(Calc!$CN$6:$CN$305,SMALL(IF(Calc!$CN$6:$CN$305="","",ROW(Calc!$CN$6:$CN$305)),Calc!$BZ8)-ROW(Calc!$CN$6:$CN$305)+1)),"")} | T20: {=IFERROR(IF(LEN(U$17)=0,"",INDEX(Calc!$P$6:$P$305,SMALL(IF(Calc!$CO$6:$CO$305="","",ROW(Calc!$CO$6:$CO$305)),Calc!$BZ8)-ROW(Calc!$CO$6:$CO$305)+1)),"")} | U20: {=IFERROR(IF(LEN(U$17)=0,"",INDEX(Calc!$CO$6:$CO$305,SMALL(IF(Calc!$CO$6:$CO$305="","",ROW(Calc!$CO$6:$CO$305)),Calc!$BZ8)-ROW(Calc!$CO$6:$CO$305)+1)),"")}
B21: {=IFERROR(IF(LEN(C$17)=0,"",INDEX(Calc!$P$6:$P$305,SMALL(IF(Calc!$CI$6:$CI$305="","",ROW(Calc!$CI$6:$CI$305)),Calc!$BZ9)-ROW(Calc!$CI$6:$CI$305)+1)),"")} | C21: {=IFERROR(IF(LEN(C$17)=0,"",INDEX(Calc!$CI$6:$CI$305,SMALL(IF(Calc!$CI$6:$CI$305="","",ROW(Calc!CI$6:CI$305)),Calc!$BZ9)-ROW(Calc!$CI$6:$CI$305)+1)),"")} | E21: {=IFERROR(IF(LEN(F$17)=0,"",INDEX(Calc!$P$6:$P$305,SMALL(IF(Calc!$CJ$6:$CJ$305="","",ROW(Calc!$CJ$6:$CJ$305)),Calc!$BZ9)-ROW(Calc!$CJ$6:$CJ$305)+1)),"")} | F21: {=IFERROR(IF(LEN(F$17)=0,"",INDEX(Calc!$CJ$6:$CJ$305,SMALL(IF(Calc!$CJ$6:$CJ$305="","",ROW(Calc!$CJ$6:$CJ$305)),Calc!$BZ9)-ROW(Calc!$CJ$6:$CJ$305)+1)),"")} | H21: {=IFERROR(IF(LEN(I$17)=0,"",INDEX(Calc!$P$6:$P$305,SMALL(IF(Calc!$CK$6:$CK$305="","",ROW(Calc!$CK$6:$CK$305)),Calc!$BZ9)-ROW(Calc!$CK$6:$CK$305)+1)),"")} | I21: {=IFERROR(IF(LEN(I$17)=0,"",INDEX(Calc!$CK$6:$CK$305,SMALL(IF(Calc!$CK$6:$CK$305="","",ROW(Calc!$CK$6:$CK$305)),Calc!$BZ9)-ROW(Calc!$CK$6:$CK$305)+1)),"")} | K21: {=IFERROR(IF(LEN(L$17)=0,"",INDEX(Calc!$P$6:$P$305,SMALL(IF(Calc!$CL$6:$CL$305="","",ROW(Calc!$CL$6:$CL$305)),Calc!$BZ9)-ROW(Calc!$CL$6:$CL$305)+1)),"")} | L21: {=IFERROR(IF(LEN(L$17)=0,"",INDEX(Calc!$CL$6:$CL$305,SMALL(IF(Calc!$CL$6:$CL$305="","",ROW(Calc!$CL$6:$CL$305)),Calc!$BZ9)-ROW(Calc!$CL$6:$CL$305)+1)),"")} | N21: {=IFERROR(IF(LEN(O$17)=0,"",INDEX(Calc!$P$6:$P$305,SMALL(IF(Calc!$CM$6:$CM$305="","",ROW(Calc!$CM$6:$CM$305)),Calc!$BZ9)-ROW(Calc!$CM$6:$CM$305)+1)),"")} | O21: {=IFERROR(IF(LEN(O$17)=0,"",INDEX(Calc!$CM$6:$CM$305,SMALL(IF(Calc!$CM$6:$CM$305="","",ROW(Calc!$CM$6:$CM$305)),Calc!$BZ9)-ROW(Calc!$CM$6:$CM$305)+1)),"")} | Q21: {=IFERROR(IF(LEN(R$17)=0,"",INDEX(Calc!$P$6:$P$305,SMALL(IF(Calc!$CN$6:$CN$305="","",ROW(Calc!$CN$6:$CN$305)),Calc!$BZ9)-ROW(Calc!$CN$6:$CN$305)+1)),"")} | R21: {=IFERROR(IF(LEN(R$17)=0,"",INDEX(Calc!$CN$6:$CN$305,SMALL(IF(Calc!$CN$6:$CN$305="","",ROW(Calc!$CN$6:$CN$305)),Calc!$BZ9)-ROW(Calc!$CN$6:$CN$305)+1)),"")} | T21: {=IFERROR(IF(LEN(U$17)=0,"",INDEX(Calc!$P$6:$P$305,SMALL(IF(Calc!$CO$6:$CO$305="","",ROW(Calc!$CO$6:$CO$305)),Calc!$BZ9)-ROW(Calc!$CO$6:$CO$305)+1)),"")} | U21: {=IFERROR(IF(LEN(U$17)=0,"",INDEX(Calc!$CO$6:$CO$305,SMALL(IF(Calc!$CO$6:$CO$305="","",ROW(Calc!$CO$6:$CO$305)),Calc!$BZ9)-ROW(Calc!$CO$6:$CO$305)+1)),"")}
B22: {=IFERROR(IF(LEN(C$17)=0,"",INDEX(Calc!$P$6:$P$305,SMALL(IF(Calc!$CI$6:$CI$305="","",ROW(Calc!$CI$6:$CI$305)),Calc!$BZ10)-ROW(Calc!$CI$6:$CI$305)+1)),"")} | C22: {=IFERROR(IF(LEN(C$17)=0,"",INDEX(Calc!$CI$6:$CI$305,SMALL(IF(Calc!$CI$6:$CI$305="","",ROW(Calc!CI$6:CI$305)),Calc!$BZ10)-ROW(Calc!$CI$6:$CI$305)+1)),"")} | E22: {=IFERROR(IF(LEN(F$17)=0,"",INDEX(Calc!$P$6:$P$305,SMALL(IF(Calc!$CJ$6:$CJ$305="","",ROW(Calc!$CJ$6:$CJ$305)),Calc!$BZ10)-ROW(Calc!$CJ$6:$CJ$305)+1)),"")} | F22: {=IFERROR(IF(LEN(F$17)=0,"",INDEX(Calc!$CJ$6:$CJ$305,SMALL(IF(Calc!$CJ$6:$CJ$305="","",ROW(Calc!$CJ$6:$CJ$305)),Calc!$BZ10)-ROW(Calc!$CJ$6:$CJ$305)+1)),"")} | H22: {=IFERROR(IF(LEN(I$17)=0,"",INDEX(Calc!$P$6:$P$305,SMALL(IF(Calc!$CK$6:$CK$305="","",ROW(Calc!$CK$6:$CK$305)),Calc!$BZ10)-ROW(Calc!$CK$6:$CK$305)+1)),"")} | I22: {=IFERROR(IF(LEN(I$17)=0,"",INDEX(Calc!$CK$6:$CK$305,SMALL(IF(Calc!$CK$6:$CK$305="","",ROW(Calc!$CK$6:$CK$305)),Calc!$BZ10)-ROW(Calc!$CK$6:$CK$305)+1)),"")} | K22: {=IFERROR(IF(LEN(L$17)=0,"",INDEX(Calc!$P$6:$P$305,SMALL(IF(Calc!$CL$6:$CL$305="","",ROW(Calc!$CL$6:$CL$305)),Calc!$BZ10)-ROW(Calc!$CL$6:$CL$305)+1)),"")} | L22: {=IFERROR(IF(LEN(L$17)=0,"",INDEX(Calc!$CL$6:$CL$305,SMALL(IF(Calc!$CL$6:$CL$305="","",ROW(Calc!$CL$6:$CL$305)),Calc!$BZ10)-ROW(Calc!$CL$6:$CL$305)+1)),"")} | N22: {=IFERROR(IF(LEN(O$17)=0,"",INDEX(Calc!$P$6:$P$305,SMALL(IF(Calc!$CM$6:$CM$305="","",ROW(Calc!$CM$6:$CM$305)),Calc!$BZ10)-ROW(Calc!$CM$6:$CM$305)+1)),"")} | O22: {=IFERROR(IF(LEN(O$17)=0,"",INDEX(Calc!$CM$6:$CM$305,SMALL(IF(Calc!$CM$6:$CM$305="","",ROW(Calc!$CM$6:$CM$305)),Calc!$BZ10)-ROW(Calc!$CM$6:$CM$305)+1)),"")} | Q22: {=IFERROR(IF(LEN(R$17)=0,"",INDEX(Calc!$P$6:$P$305,SMALL(IF(Calc!$CN$6:$CN$305="","",ROW(Calc!$CN$6:$CN$305)),Calc!$BZ10)-ROW(Calc!$CN$6:$CN$305)+1)),"")} | R22: {=IFERROR(IF(LEN(R$17)=0,"",INDEX(Calc!$CN$6:$CN$305,SMALL(IF(Calc!$CN$6:$CN$305="","",ROW(Calc!$CN$6:$CN$305)),Calc!$BZ10)-ROW(Calc!$CN$6:$CN$305)+1)),"")} | T22: {=IFERROR(IF(LEN(U$17)=0,"",INDEX(Calc!$P$6:$P$305,SMALL(IF(Calc!$CO$6:$CO$305="","",ROW(Calc!$CO$6:$CO$305)),Calc!$BZ10)-ROW(Calc!$CO$6:$CO$305)+1)),"")} | U22: {=IFERROR(IF(LEN(U$17)=0,"",INDEX(Calc!$CO$6:$CO$305,SMALL(IF(Calc!$CO$6:$CO$305="","",ROW(Calc!$CO$6:$CO$305)),Calc!$BZ10)-ROW(Calc!$CO$6:$CO$305)+1)),"")}
B23: {=IFERROR(IF(LEN(C$17)=0,"",INDEX(Calc!$P$6:$P$305,SMALL(IF(Calc!$CI$6:$CI$305="","",ROW(Calc!$CI$6:$CI$305)),Calc!$BZ11)-ROW(Calc!$CI$6:$CI$305)+1)),"")} | C23: {=IFERROR(IF(LEN(C$17)=0,"",INDEX(Calc!$CI$6:$CI$305,SMALL(IF(Calc!$CI$6:$CI$305="","",ROW(Calc!CI$6:CI$305)),Calc!$BZ11)-ROW(Calc!$CI$6:$CI$305)+1)),"")} | E23: {=IFERROR(IF(LEN(F$17)=0,"",INDEX(Calc!$P$6:$P$305,SMALL(IF(Calc!$CJ$6:$CJ$305="","",ROW(Calc!$CJ$6:$CJ$305)),Calc!$BZ11)-ROW(Calc!$CJ$6:$CJ$305)+1)),"")} | F23: {=IFERROR(IF(LEN(F$17)=0,"",INDEX(Calc!$CJ$6:$CJ$305,SMALL(IF(Calc!$CJ$6:$CJ$305="","",ROW(Calc!$CJ$6:$CJ$305)),Calc!$BZ11)-ROW(Calc!$CJ$6:$CJ$305)+1)),"")} | H23: {=IFERROR(IF(LEN(I$17)=0,"",INDEX(Calc!$P$6:$P$305,SMALL(IF(Calc!$CK$6:$CK$305="","",ROW(Calc!$CK$6:$CK$305)),Calc!$BZ11)-ROW(Calc!$CK$6:$CK$305)+1)),"")} | I23: {=IFERROR(IF(LEN(I$17)=0,"",INDEX(Calc!$CK$6:$CK$305,SMALL(IF(Calc!$CK$6:$CK$305="","",ROW(Calc!$CK$6:$CK$305)),Calc!$BZ11)-ROW(Calc!$CK$6:$CK$305)+1)),"")} | K23: {=IFERROR(IF(LEN(L$17)=0,"",INDEX(Calc!$P$6:$P$305,SMALL(IF(Calc!$CL$6:$CL$305="","",ROW(Calc!$CL$6:$CL$305)),Calc!$BZ11)-ROW(Calc!$CL$6:$CL$305)+1)),"")} | L23: {=IFERROR(IF(LEN(L$17)=0,"",INDEX(Calc!$CL$6:$CL$305,SMALL(IF(Calc!$CL$6:$CL$305="","",ROW(Calc!$CL$6:$CL$305)),Calc!$BZ11)-ROW(Calc!$CL$6:$CL$305)+1)),"")} | N23: {=IFERROR(IF(LEN(O$17)=0,"",INDEX(Calc!$P$6:$P$305,SMALL(IF(Calc!$CM$6:$CM$305="","",ROW(Calc!$CM$6:$CM$305)),Calc!$BZ11)-ROW(Calc!$CM$6:$CM$305)+1)),"")} | O23: {=IFERROR(IF(LEN(O$17)=0,"",INDEX(Calc!$CM$6:$CM$305,SMALL(IF(Calc!$CM$6:$CM$305="","",ROW(Calc!$CM$6:$CM$305)),Calc!$BZ11)-ROW(Calc!$CM$6:$CM$305)+1)),"")} | Q23: {=IFERROR(IF(LEN(R$17)=0,"",INDEX(Calc!$P$6:$P$305,SMALL(IF(Calc!$CN$6:$CN$305="","",ROW(Calc!$CN$6:$CN$305)),Calc!$BZ11)-ROW(Calc!$CN$6:$CN$305)+1)),"")} | R23: {=IFERROR(IF(LEN(R$17)=0,"",INDEX(Calc!$CN$6:$CN$305,SMALL(IF(Calc!$CN$6:$CN$305="","",ROW(Calc!$CN$6:$CN$305)),Calc!$BZ11)-ROW(Calc!$CN$6:$CN$305)+1)),"")} | T23: {=IFERROR(IF(LEN(U$17)=0,"",INDEX(Calc!$P$6:$P$305,SMALL(IF(Calc!$CO$6:$CO$305="","",ROW(Calc!$CO$6:$CO$305)),Calc!$BZ11)-ROW(Calc!$CO$6:$CO$305)+1)),"")} | U23: {=IFERROR(IF(LEN(U$17)=0,"",INDEX(Calc!$CO$6:$CO$305,SMALL(IF(Calc!$CO$6:$CO$305="","",ROW(Calc!$CO$6:$CO$305)),Calc!$BZ11)-ROW(Calc!$CO$6:$CO$305)+1)),"")}
B24: {=IFERROR(IF(LEN(C$17)=0,"",INDEX(Calc!$P$6:$P$305,SMALL(IF(Calc!$CI$6:$CI$305="","",ROW(Calc!$CI$6:$CI$305)),Calc!$BZ12)-ROW(Calc!$CI$6:$CI$305)+1)),"")} | C24: {=IFERROR(IF(LEN(C$17)=0,"",INDEX(Calc!$CI$6:$CI$305,SMALL(IF(Calc!$CI$6:$CI$305="","",ROW(Calc!CI$6:CI$305)),Calc!$BZ12)-ROW(Calc!$CI$6:$CI$305)+1)),"")} | E24: {=IFERROR(IF(LEN(F$17)=0,"",INDEX(Calc!$P$6:$P$305,SMALL(IF(Calc!$CJ$6:$CJ$305="","",ROW(Calc!$CJ$6:$CJ$305)),Calc!$BZ12)-ROW(Calc!$CJ$6:$CJ$305)+1)),"")} | F24: {=IFERROR(IF(LEN(F$17)=0,"",INDEX(Calc!$CJ$6:$CJ$305,SMALL(IF(Calc!$CJ$6:$CJ$305="","",ROW(Calc!$CJ$6:$CJ$305)),Calc!$BZ12)-ROW(Calc!$CJ$6:$CJ$305)+1)),"")} | H24: {=IFERROR(IF(LEN(I$17)=0,"",INDEX(Calc!$P$6:$P$305,SMALL(IF(Calc!$CK$6:$CK$305="","",ROW(Calc!$CK$6:$CK$305)),Calc!$BZ12)-ROW(Calc!$CK$6:$CK$305)+1)),"")} | I24: {=IFERROR(IF(LEN(I$17)=0,"",INDEX(Calc!$CK$6:$CK$305,SMALL(IF(Calc!$CK$6:$CK$305="","",ROW(Calc!$CK$6:$CK$305)),Calc!$BZ12)-ROW(Calc!$CK$6:$CK$305)+1)),"")} | K24: {=IFERROR(IF(LEN(L$17)=0,"",INDEX(Calc!$P$6:$P$305,SMALL(IF(Calc!$CL$6:$CL$305="","",ROW(Calc!$CL$6:$CL$305)),Calc!$BZ12)-ROW(Calc!$CL$6:$CL$305)+1)),"")} | L24: {=IFERROR(IF(LEN(L$17)=0,"",INDEX(Calc!$CL$6:$CL$305,SMALL(IF(Calc!$CL$6:$CL$305="","",ROW(Calc!$CL$6:$CL$305)),Calc!$BZ12)-ROW(Calc!$CL$6:$CL$305)+1)),"")} | N24: {=IFERROR(IF(LEN(O$17)=0,"",INDEX(Calc!$P$6:$P$305,SMALL(IF(Calc!$CM$6:$CM$305="","",ROW(Calc!$CM$6:$CM$305)),Calc!$BZ12)-ROW(Calc!$CM$6:$CM$305)+1)),"")} | O24: {=IFERROR(IF(LEN(O$17)=0,"",INDEX(Calc!$CM$6:$CM$305,SMALL(IF(Calc!$CM$6:$CM$305="","",ROW(Calc!$CM$6:$CM$305)),Calc!$BZ12)-ROW(Calc!$CM$6:$CM$305)+1)),"")} | Q24: {=IFERROR(IF(LEN(R$17)=0,"",INDEX(Calc!$P$6:$P$305,SMALL(IF(Calc!$CN$6:$CN$305="","",ROW(Calc!$CN$6:$CN$305)),Calc!$BZ12)-ROW(Calc!$CN$6:$CN$305)+1)),"")} | R24: {=IFERROR(IF(LEN(R$17)=0,"",INDEX(Calc!$CN$6:$CN$305,SMALL(IF(Calc!$CN$6:$CN$305="","",ROW(Calc!$CN$6:$CN$305)),Calc!$BZ12)-ROW(Calc!$CN$6:$CN$305)+1)),"")} | T24: {=IFERROR(IF(LEN(U$17)=0,"",INDEX(Calc!$P$6:$P$305,SMALL(IF(Calc!$CO$6:$CO$305="","",ROW(Calc!$CO$6:$CO$305)),Calc!$BZ12)-ROW(Calc!$CO$6:$CO$305)+1)),"")} | U24: {=IFERROR(IF(LEN(U$17)=0,"",INDEX(Calc!$CO$6:$CO$305,SMALL(IF(Calc!$CO$6:$CO$305="","",ROW(Calc!$CO$6:$CO$305)),Calc!$BZ12)-ROW(Calc!$CO$6:$CO$305)+1)),"")}
C26: =IFERROR(INDEX(Calc!$CB$5:$DQ$5,1,15),"") -> 44571 | F26: =IFERROR(INDEX(Calc!$CB$5:$DQ$5,1,16),"") -> 44572 | I26: =IFERROR(INDEX(Calc!$CB$5:$DQ$5,1,17),"") -> 44573 | L26: =IFERROR(INDEX(Calc!$CB$5:$DQ$5,1,18),"") -> 44574 | O26: =IFERROR(INDEX(Calc!$CB$5:$DQ$5,1,19),"") -> 44575 | R26: =IFERROR(INDEX(Calc!$CB$5:$DQ$5,1,20),"") -> 44576 | U26: =IFERROR(INDEX(Calc!$CB$5:$DQ$5,1,21),"") -> 44577
B27: {=IFERROR(IF(LEN(C$26)=0,"",INDEX(Calc!$P$6:$P$305,SMALL(IF(Calc!$CP$6:$CP$305="","",ROW(Calc!$CP$6:$CP$305)),Calc!$BZ6)-ROW(Calc!$CP$6:$CP$305)+1)),"")} -> AirBnb | C27: {=IFERROR(IF(LEN(C$26)=0,"",INDEX(Calc!$CP$6:$CP$305,SMALL(IF(Calc!$CP$6:$CP$305="","",ROW(Calc!$CP$6:$CP$305)),Calc!$BZ6)-ROW(Calc!$CP$6:$CP$305)+1)),"")} -> AirBnb - Property 1 | E27: {=IFERROR(IF(LEN(F$26)=0,"",INDEX(Calc!$P$6:$P$305,SMALL(IF(Calc!$CQ$6:$CQ$305="","",ROW(Calc!$CQ$6:$CQ$305)),Calc!$BZ6)-ROW(Calc!$CQ$6:$CQ$305)+1)),"")} -> AirBnb | F27: {=IFERROR(IF(LEN(F$26)=0,"",INDEX(Calc!$CQ$6:$CQ$305,SMALL(IF(Calc!$CQ$6:$CQ$305="","",ROW(Calc!$CQ$6:$CQ$305)),Calc!$BZ6)-ROW(Calc!$CQ$6:$CQ$305)+1)),"")} -> AirBnb - Property 1 | H27: {=IFERROR(IF(LEN(I$26)=0,"",INDEX(Calc!$P$6:$P$305,SMALL(IF(Calc!$CR$6:$CR$305="","",ROW(Calc!$CR$6:$CR$305)),Calc!$BZ6)-ROW(Calc!$CR$6:$CR$305)+1)),"")} -> AirBnb | I27: {=IFERROR(IF(LEN(I$26)=0,"",INDEX(Calc!$CR$6:$CR$305,SMALL(IF(Calc!$CR$6:$CR$305="","",ROW(Calc!$CR$6:$CR$305)),Calc!$BZ6)-ROW(Calc!$CR$6:$CR$305)+1)),"")} -> AirBnb - Property 1 | K27: {=IFERROR(IF(LEN(L$26)=0,"",INDEX(Calc!$P$6:$P$305,SMALL(IF(Calc!$CS$6:$CS$305="","",ROW(Calc!$CS$6:$CS$305)),Calc!$BZ6)-ROW(Calc!$CS$6:$CS$305)+1)),"")} -> AirBnb | L27: {=IFERROR(IF(LEN(L$26)=0,"",INDEX(Calc!$CS$6:$CS$305,SMALL(IF(Calc!$CS$6:$CS$305="","",ROW(Calc!$CS$6:$CS$305)),Calc!$BZ6)-ROW(Calc!$CS$6:$CS$305)+1)),"")} -> AirBnb - Property 1 | N27: {=IFERROR(IF(LEN(O$26)=0,"",INDEX(Calc!$P$6:$P$305,SMALL(IF(Calc!$CT$6:$CT$305="","",ROW(Calc!$CT$6:$CT$305)),Calc!$BZ6)-ROW(Calc!$CT$6:$CT$305)+1)),"")} -> AirBnb | O27: {=IFERROR(IF(LEN(O$26)=0,"",INDEX(Calc!$CT$6:$CT$305,SMALL(IF(Calc!$CT$6:$CT$305="","",ROW(Calc!$CT$6:$CT$305)),Calc!$BZ6)-ROW(Calc!$CT$6:$CT$305)+1)),"")} -> AirBnb - Property 1 | Q27: {=IFERROR(IF(LEN(R$26)=0,"",INDEX(Calc!$P$6:$P$305,SMALL(IF(Calc!$CU$6:$CU$305="","",ROW(Calc!$CU$6:$CU$305)),Calc!$BZ6)-ROW(Calc!$CU$6:$CU$305)+1)),"")} | R27: {=IFERROR(IF(LEN(R$26)=0,"",INDEX(Calc!$CU$6:$CU$305,SMALL(IF(Calc!$CU$6:$CU$305="","",ROW(Calc!$CU$6:$CU$305)),Calc!$BZ6)-ROW(Calc!$CU$6:$CU$305)+1)),"")} | T27: {=IFERROR(IF(LEN(U$26)=0,"",INDEX(Calc!$P$6:$P$305,SMALL(IF(Calc!$CV$6:$CV$305="","",ROW(Calc!$CV$6:$CV$305)),Calc!$BZ6)-ROW(Calc!$CV$6:$CV$305)+1)),"")} -> Booking.com | U27: {=IFERROR(IF(LEN(U$26)=0,"",INDEX(Calc!$CV$6:$CV$305,SMALL(IF(Calc!$CV$6:$CV$305="","",ROW(Calc!$CV$6:$CV$305)),Calc!$BZ6)-ROW(Calc!$CV$6:$CV$305)+1)),"")} -> Booking.com - Property 1
B28: {=IFERROR(IF(LEN(C$26)=0,"",INDEX(Calc!$P$6:$P$305,SMALL(IF(Calc!$CP$6:$CP$305="","",ROW(Calc!$CP$6:$CP$305)),Calc!$BZ7)-ROW(Calc!$CP$6:$CP$305)+1)),"")} | C28: {=IFERROR(IF(LEN(C$26)=0,"",INDEX(Calc!$CP$6:$CP$305,SMALL(IF(Calc!$CP$6:$CP$305="","",ROW(Calc!$CP$6:$CP$305)),Calc!$BZ7)-ROW(Calc!$CP$6:$CP$305)+1)),"")} | E28: {=IFERROR(IF(LEN(F$26)=0,"",INDEX(Calc!$P$6:$P$305,SMALL(IF(Calc!$CQ$6:$CQ$305="","",ROW(Calc!$CQ$6:$CQ$305)),Calc!$BZ7)-ROW(Calc!$CQ$6:$CQ$305)+1)),"")} | F28: {=IFERROR(IF(LEN(F$26)=0,"",INDEX(Calc!$CQ$6:$CQ$305,SMALL(IF(Calc!$CQ$6:$CQ$305="","",ROW(Calc!$CQ$6:$CQ$305)),Calc!$BZ7)-ROW(Calc!$CQ$6:$CQ$305)+1)),"")} | H28: {=IFERROR(IF(LEN(I$26)=0,"",INDEX(Calc!$P$6:$P$305,SMALL(IF(Calc!$CR$6:$CR$305="","",ROW(Calc!$CR$6:$CR$305)),Calc!$BZ7)-ROW(Calc!$CR$6:$CR$305)+1)),"")} | I28: {=IFERROR(IF(LEN(I$26)=0,"",INDEX(Calc!$CR$6:$CR$305,SMALL(IF(Calc!$CR$6:$CR$305="","",ROW(Calc!$CR$6:$CR$305)),Calc!$BZ7)-ROW(Calc!$CR$6:$CR$305)+1)),"")} | K28: {=IFERROR(IF(LEN(L$26)=0,"",INDEX(Calc!$P$6:$P$305,SMALL(IF(Calc!$CS$6:$CS$305="","",ROW(Calc!$CS$6:$CS$305)),Calc!$BZ7)-ROW(Calc!$CS$6:$CS$305)+1)),"")} | L28: {=IFERROR(IF(LEN(L$26)=0,"",INDEX(Calc!$CS$6:$CS$305,SMALL(IF(Calc!$CS$6:$CS$305="","",ROW(Calc!$CS$6:$CS$305)),Calc!$BZ7)-ROW(Calc!$CS$6:$CS$305)+1)),"")} | N28: {=IFERROR(IF(LEN(O$26)=0,"",INDEX(Calc!$P$6:$P$305,SMALL(IF(Calc!$CT$6:$CT$305="","",ROW(Calc!$CT$6:$CT$305)),Calc!$BZ7)-ROW(Calc!$CT$6:$CT$305)+1)),"")} | O28: {=IFERROR(IF(LEN(O$26)=0,"",INDEX(Calc!$CT$6:$CT$305,SMALL(IF(Calc!$CT$6:$CT$305="","",ROW(Calc!$CT$6:$CT$305)),Calc!$BZ7)-ROW(Calc!$CT$6:$CT$305)+1)),"")} | Q28: {=IFERROR(IF(LEN(R$26)=0,"",INDEX(Calc!$P$6:$P$305,SMALL(IF(Calc!$CU$6:$CU$305="","",ROW(Calc!$CU$6:$CU$305)),Calc!$BZ7)-ROW(Calc!$CU$6:$CU$305)+1)),"")} | R28: {=IFERROR(IF(LEN(R$26)=0,"",INDEX(Calc!$CU$6:$CU$305,SMALL(IF(Calc!$CU$6:$CU$305="","",ROW(Calc!$CU$6:$CU$305)),Calc!$BZ7)-ROW(Calc!$CU$6:$CU$305)+1)),"")} | T28: {=IFERROR(IF(LEN(U$26)=0,"",INDEX(Calc!$P$6:$P$305,SMALL(IF(Calc!$CV$6:$CV$305="","",ROW(Calc!$CV$6:$CV$305)),Calc!$BZ7)-ROW(Calc!$CV$6:$CV$305)+1)),"")} | U28: {=IFERROR(IF(LEN(U$26)=0,"",INDEX(Calc!$CV$6:$CV$305,SMALL(IF(Calc!$CV$6:$CV$305="","",ROW(Calc!$CV$6:$CV$305)),Calc!$BZ7)-ROW(Calc!$CV$6:$CV$305)+1)),"")}
B29: {=IFERROR(IF(LEN(C$26)=0,"",INDEX(Calc!$P$6:$P$305,SMALL(IF(Calc!$CP$6:$CP$305="","",ROW(Calc!$CP$6:$CP$305)),Calc!$BZ8)-ROW(Calc!$CP$6:$CP$305)+1)),"")} | C29: {=IFERROR(IF(LEN(C$26)=0,"",INDEX(Calc!$CP$6:$CP$305,SMALL(IF(Calc!$CP$6:$CP$305="","",ROW(Calc!$CP$6:$CP$305)),Calc!$BZ8)-ROW(Calc!$CP$6:$CP$305)+1)),"")} | E29: {=IFERROR(IF(LEN(F$26)=0,"",INDEX(Calc!$P$6:$P$305,SMALL(IF(Calc!$CQ$6:$CQ$305="","",ROW(Calc!$CQ$6:$CQ$305)),Calc!$BZ8)-ROW(Calc!$CQ$6:$CQ$305)+1)),"")} | F29: {=IFERROR(IF(LEN(F$26)=0,"",INDEX(Calc!$CQ$6:$CQ$305,SMALL(IF(Calc!$CQ$6:$CQ$305="","",ROW(Calc!$CQ$6:$CQ$305)),Calc!$BZ8)-ROW(Calc!$CQ$6:$CQ$305)+1)),"")} | H29: {=IFERROR(IF(LEN(I$26)=0,"",INDEX(Calc!$P$6:$P$305,SMALL(IF(Calc!$CR$6:$CR$305="","",ROW(Calc!$CR$6:$CR$305)),Calc!$BZ8)-ROW(Calc!$CR$6:$CR$305)+1)),"")} | I29: {=IFERROR(IF(LEN(I$26)=0,"",INDEX(Calc!$CR$6:$CR$305,SMALL(IF(Calc!$CR$6:$CR$305="","",ROW(Calc!$CR$6:$CR$305)),Calc!$BZ8)-ROW(Calc!$CR$6:$CR$305)+1)),"")} | K29: {=IFERROR(IF(LEN(L$26)=0,"",INDEX(Calc!$P$6:$P$305,SMALL(IF(Calc!$CS$6:$CS$305="","",ROW(Calc!$CS$6:$CS$305)),Calc!$BZ8)-ROW(Calc!$CS$6:$CS$305)+1)),"")} | L29: {=IFERROR(IF(LEN(L$26)=0,"",INDEX(Calc!$CS$6:$CS$305,SMALL(IF(Calc!$CS$6:$CS$305="","",ROW(Calc!$CS$6:$CS$305)),Calc!$BZ8)-ROW(Calc!$CS$6:$CS$305)+1)),"")} | N29: {=IFERROR(IF(LEN(O$26)=0,"",INDEX(Calc!$P$6:$P$305,SMALL(IF(Calc!$CT$6:$CT$305="","",ROW(Calc!$CT$6:$CT$305)),Calc!$BZ8)-ROW(Calc!$CT$6:$CT$305)+1)),"")} | O29: {=IFERROR(IF(LEN(O$26)=0,"",INDEX(Calc!$CT$6:$CT$305,SMALL(IF(Calc!$CT$6:$CT$305="","",ROW(Calc!$CT$6:$CT$305)),Calc!$BZ8)-ROW(Calc!$CT$6:$CT$305)+1)),"")} | Q29: {=IFERROR(IF(LEN(R$26)=0,"",INDEX(Calc!$P$6:$P$305,SMALL(IF(Calc!$CU$6:$CU$305="","",ROW(Calc!$CU$6:$CU$305)),Calc!$BZ8)-ROW(Calc!$CU$6:$CU$305)+1)),"")} | R29: {=IFERROR(IF(LEN(R$26)=0,"",INDEX(Calc!$CU$6:$CU$305,SMALL(IF(Calc!$CU$6:$CU$305="","",ROW(Calc!$CU$6:$CU$305)),Calc!$BZ8)-ROW(Calc!$CU$6:$CU$305)+1)),"")} | T29: {=IFERROR(IF(LEN(U$26)=0,"",INDEX(Calc!$P$6:$P$305,SMALL(IF(Calc!$CV$6:$CV$305="","",ROW(Calc!$CV$6:$CV$305)),Calc!$BZ8)-ROW(Calc!$CV$6:$CV$305)+1)),"")} | U29: {=IFERROR(IF(LEN(U$26)=0,"",INDEX(Calc!$CV$6:$CV$305,SMALL(IF(Calc!$CV$6:$CV$305="","",ROW(Calc!$CV$6:$CV$305)),Calc!$BZ8)-ROW(Calc!$CV$6:$CV$305)+1)),"")}
B30: {=IFERROR(IF(LEN(C$26)=0,"",INDEX(Calc!$P$6:$P$305,SMALL(IF(Calc!$CP$6:$CP$305="","",ROW(Calc!$CP$6:$CP$305)),Calc!$BZ9)-ROW(Calc!$CP$6:$CP$305)+1)),"")} | C30: {=IFERROR(IF(LEN(C$26)=0,"",INDEX(Calc!$CP$6:$CP$305,SMALL(IF(Calc!$CP$6:$CP$305="","",ROW(Calc!$CP$6:$CP$305)),Calc!$BZ9)-ROW(Calc!$CP$6:$CP$305)+1)),"")} | E30: {=IFERROR(IF(LEN(F$26)=0,"",INDEX(Calc!$P$6:$P$305,SMALL(IF(Calc!$CQ$6:$CQ$305="","",ROW(Calc!$CQ$6:$CQ$305)),Calc!$BZ9)-ROW(Calc!$CQ$6:$CQ$305)+1)),"")} | F30: {=IFERROR(IF(LEN(F$26)=0,"",INDEX(Calc!$CQ$6:$CQ$305,SMALL(IF(Calc!$CQ$6:$CQ$305="","",ROW(Calc!$CQ$6:$CQ$305)),Calc!$BZ9)-ROW(Calc!$CQ$6:$CQ$305)+1)),"")} | H30: {=IFERROR(IF(LEN(I$26)=0,"",INDEX(Calc!$P$6:$P$305,SMALL(IF(Calc!$CR$6:$CR$305="","",ROW(Calc!$CR$6:$CR$305)),Calc!$BZ9)-ROW(Calc!$CR$6:$CR$305)+1)),"")} | I30: {=IFERROR(IF(LEN(I$26)=0,"",INDEX(Calc!$CR$6:$CR$305,SMALL(IF(Calc!$CR$6:$CR$305="","",ROW(Calc!$CR$6:$CR$305)),Calc!$BZ9)-ROW(Calc!$CR$6:$CR$305)+1)),"")} | K30: {=IFERROR(IF(LEN(L$26)=0,"",INDEX(Calc!$P$6:$P$305,SMALL(IF(Calc!$CS$6:$CS$305="","",ROW(Calc!$CS$6:$CS$305)),Calc!$BZ9)-ROW(Calc!$CS$6:$CS$305)+1)),"")} | L30: {=IFERROR(IF(LEN(L$26)=0,"",INDEX(Calc!$CS$6:$CS$305,SMALL(IF(Calc!$CS$6:$CS$305="","",ROW(Calc!$CS$6:$CS$305)),Calc!$BZ9)-ROW(Calc!$CS$6:$CS$305)+1)),"")} | N30: {=IFERROR(IF(LEN(O$26)=0,"",INDEX(Calc!$P$6:$P$305,SMALL(IF(Calc!$CT$6:$CT$305="","",ROW(Calc!$CT$6:$CT$305)),Calc!$BZ9)-ROW(Calc!$CT$6:$CT$305)+1)),"")} | O30: {=IFERROR(IF(LEN(O$26)=0,"",INDEX(Calc!$CT$6:$CT$305,SMALL(IF(Calc!$CT$6:$CT$305="","",ROW(Calc!$CT$6:$CT$305)),Calc!$BZ9)-ROW(Calc!$CT$6:$CT$305)+1)),"")} | Q30: {=IFERROR(IF(LEN(R$26)=0,"",INDEX(Calc!$P$6:$P$305,SMALL(IF(Calc!$CU$6:$CU$305="","",ROW(Calc!$CU$6:$CU$305)),Calc!$BZ9)-ROW(Calc!$CU$6:$CU$305)+1)),"")} | R30: {=IFERROR(IF(LEN(R$26)=0,"",INDEX(Calc!$CU$6:$CU$305,SMALL(IF(Calc!$CU$6:$CU$305="","",ROW(Calc!$CU$6:$CU$305)),Calc!$BZ9)-ROW(Calc!$CU$6:$CU$305)+1)),"")} | T30: {=IFERROR(IF(LEN(U$26)=0,"",INDEX(Calc!$P$6:$P$305,SMALL(IF(Calc!$CV$6:$CV$305="","",ROW(Calc!$CV$6:$CV$305)),Calc!$BZ9)-ROW(Calc!$CV$6:$CV$305)+1)),"")} | U30: {=IFERROR(IF(LEN(U$26)=0,"",INDEX(Calc!$CV$6:$CV$305,SMALL(IF(Calc!$CV$6:$CV$305="","",ROW(Calc!$CV$6:$CV$305)),Calc!$BZ9)-ROW(Calc!$CV$6:$CV$305)+1)),"")}
B31: {=IFERROR(IF(LEN(C$26)=0,"",INDEX(Calc!$P$6:$P$305,SMALL(IF(Calc!$CP$6:$CP$305="","",ROW(Calc!$CP$6:$CP$305)),Calc!$BZ10)-ROW(Calc!$CP$6:$CP$305)+1)),"")} | C31: {=IFERROR(IF(LEN(C$26)=0,"",INDEX(Calc!$CP$6:$CP$305,SMALL(IF(Calc!$CP$6:$CP$305="","",ROW(Calc!$CP$6:$CP$305)),Calc!$BZ10)-ROW(Calc!$CP$6:$CP$305)+1)),"")} | E31: {=IFERROR(IF(LEN(F$26)=0,"",INDEX(Calc!$P$6:$P$305,SMALL(IF(Calc!$CQ$6:$CQ$305="","",ROW(Calc!$CQ$6:$CQ$305)),Calc!$BZ10)-ROW(Calc!$CQ$6:$CQ$305)+1)),"")} | F31: {=IFERROR(IF(LEN(F$26)=0,"",INDEX(Calc!$CQ$6:$CQ$305,SMALL(IF(Calc!$CQ$6:$CQ$305="","",ROW(Calc!$CQ$6:$CQ$305)),Calc!$BZ10)-ROW(Calc!$CQ$6:$CQ$305)+1)),"")} | H31: {=IFERROR(IF(LEN(I$26)=0,"",INDEX(Calc!$P$6:$P$305,SMALL(IF(Calc!$CR$6:$CR$305="","",ROW(Calc!$CR$6:$CR$305)),Calc!$BZ10)-ROW(Calc!$CR$6:$CR$305)+1)),"")} | I31: {=IFERROR(IF(LEN(I$26)=0,"",INDEX(Calc!$CR$6:$CR$305,SMALL(IF(Calc!$CR$6:$CR$305="","",ROW(Calc!$CR$6:$CR$305)),Calc!$BZ10)-ROW(Calc!$CR$6:$CR$305)+1)),"")} | K31: {=IFERROR(IF(LEN(L$26)=0,"",INDEX(Calc!$P$6:$P$305,SMALL(IF(Calc!$CS$6:$CS$305="","",ROW(Calc!$CS$6:$CS$305)),Calc!$BZ10)-ROW(Calc!$CS$6:$CS$305)+1)),"")} | L31: {=IFERROR(IF(LEN(L$26)=0,"",INDEX(Calc!$CS$6:$CS$305,SMALL(IF(Calc!$CS$6:$CS$305="","",ROW(Calc!$CS$6:$CS$305)),Calc!$BZ10)-ROW(Calc!$CS$6:$CS$305)+1)),"")} | N31: {=IFERROR(IF(LEN(O$26)=0,"",INDEX(Calc!$P$6:$P$305,SMALL(IF(Calc!$CT$6:$CT$305="","",ROW(Calc!$CT$6:$CT$305)),Calc!$BZ10)-ROW(Calc!$CT$6:$CT$305)+1)),"")} | O31: {=IFERROR(IF(LEN(O$26)=0,"",INDEX(Calc!$CT$6:$CT$305,SMALL(IF(Calc!$CT$6:$CT$305="","",ROW(Calc!$CT$6:$CT$305)),Calc!$BZ10)-ROW(Calc!$CT$6:$CT$305)+1)),"")} | Q31: {=IFERROR(IF(LEN(R$26)=0,"",INDEX(Calc!$P$6:$P$305,SMALL(IF(Calc!$CU$6:$CU$305="","",ROW(Calc!$CU$6:$CU$305)),Calc!$BZ10)-ROW(Calc!$CU$6:$CU$305)+1)),"")} | R31: {=IFERROR(IF(LEN(R$26)=0,"",INDEX(Calc!$CU$6:$CU$305,SMALL(IF(Calc!$CU$6:$CU$305="","",ROW(Calc!$CU$6:$CU$305)),Calc!$BZ10)-ROW(Calc!$CU$6:$CU$305)+1)),"")} | T31: {=IFERROR(IF(LEN(U$26)=0,"",INDEX(Calc!$P$6:$P$305,SMALL(IF(Calc!$CV$6:$CV$305="","",ROW(Calc!$CV$6:$CV$305)),Calc!$BZ10)-ROW(Calc!$CV$6:$CV$305)+1)),"")} | U31: {=IFERROR(IF(LEN(U$26)=0,"",INDEX(Calc!$CV$6:$CV$305,SMALL(IF(Calc!$CV$6:$CV$305="","",ROW(Calc!$CV$6:$CV$305)),Calc!$BZ10)-ROW(Calc!$CV$6:$CV$305)+1)),"")}
B32: {=IFERROR(IF(LEN(C$26)=0,"",INDEX(Calc!$P$6:$P$305,SMALL(IF(Calc!$CP$6:$CP$305="","",ROW(Calc!$CP$6:$CP$305)),Calc!$BZ11)-ROW(Calc!$CP$6:$CP$305)+1)),"")} | C32: {=IFERROR(IF(LEN(C$26)=0,"",INDEX(Calc!$CP$6:$CP$305,SMALL(IF(Calc!$CP$6:$CP$305="","",ROW(Calc!$CP$6:$CP$305)),Calc!$BZ11)-ROW(Calc!$CP$6:$CP$305)+1)),"")} | E32: {=IFERROR(IF(LEN(F$26)=0,"",INDEX(Calc!$P$6:$P$305,SMALL(IF(Calc!$CQ$6:$CQ$305="","",ROW(Calc!$CQ$6:$CQ$305)),Calc!$BZ11)-ROW(Calc!$CQ$6:$CQ$305)+1)),"")} | F32: {=IFERROR(IF(LEN(F$26)=0,"",INDEX(Calc!$CQ$6:$CQ$305,SMALL(IF(Calc!$CQ$6:$CQ$305="","",ROW(Calc!$CQ$6:$CQ$305)),Calc!$BZ11)-ROW(Calc!$CQ$6:$CQ$305)+1)),"")} | H32: {=IFERROR(IF(LEN(I$26)=0,"",INDEX(Calc!$P$6:$P$305,SMALL(IF(Calc!$CR$6:$CR$305="","",ROW(Calc!$CR$6:$CR$305)),Calc!$BZ11)-ROW(Calc!$CR$6:$CR$305)+1)),"")} | I32: {=IFERROR(IF(LEN(I$26)=0,"",INDEX(Calc!$CR$6:$CR$305,SMALL(IF(Calc!$CR$6:$CR$305="","",ROW(Calc!$CR$6:$CR$305)),Calc!$BZ11)-ROW(Calc!$CR$6:$CR$305)+1)),"")} | K32: {=IFERROR(IF(LEN(L$26)=0,"",INDEX(Calc!$P$6:$P$305,SMALL(IF(Calc!$CS$6:$CS$305="","",ROW(Calc!$CS$6:$CS$305)),Calc!$BZ11)-ROW(Calc!$CS$6:$CS$305)+1)),"")} | L32: {=IFERROR(IF(LEN(L$26)=0,"",INDEX(Calc!$CS$6:$CS$305,SMALL(IF(Calc!$CS$6:$CS$305="","",ROW(Calc!$CS$6:$CS$305)),Calc!$BZ11)-ROW(Calc!$CS$6:$CS$305)+1)),"")} | N32: {=IFERROR(IF(LEN(O$26)=0,"",INDEX(Calc!$P$6:$P$305,SMALL(IF(Calc!$CT$6:$CT$305="","",ROW(Calc!$CT$6:$CT$305)),Calc!$BZ11)-ROW(Calc!$CT$6:$CT$305)+1)),"")} | O32: {=IFERROR(IF(LEN(O$26)=0,"",INDEX(Calc!$CT$6:$CT$305,SMALL(IF(Calc!$CT$6:$CT$305="","",ROW(Calc!$CT$6:$CT$305)),Calc!$BZ11)-ROW(Calc!$CT$6:$CT$305)+1)),"")} | Q32: {=IFERROR(IF(LEN(R$26)=0,"",INDEX(Calc!$P$6:$P$305,SMALL(IF(Calc!$CU$6:$CU$305="","",ROW(Calc!$CU$6:$CU$305)),Calc!$BZ11)-ROW(Calc!$CU$6:$CU$305)+1)),"")} | R32: {=IFERROR(IF(LEN(R$26)=0,"",INDEX(Calc!$CU$6:$CU$305,SMALL(IF(Calc!$CU$6:$CU$305="","",ROW(Calc!$CU$6:$CU$305)),Calc!$BZ11)-ROW(Calc!$CU$6:$CU$305)+1)),"")} | T32: {=IFERROR(IF(LEN(U$26)=0,"",INDEX(Calc!$P$6:$P$305,SMALL(IF(Calc!$CV$6:$CV$305="","",ROW(Calc!$CV$6:$CV$305)),Calc!$BZ11)-ROW(Calc!$CV$6:$CV$305)+1)),"")} | U32: {=IFERROR(IF(LEN(U$26)=0,"",INDEX(Calc!$CV$6:$CV$305,SMALL(IF(Calc!$CV$6:$CV$305="","",ROW(Calc!$CV$6:$CV$305)),Calc!$BZ11)-ROW(Calc!$CV$6:$CV$305)+1)),"")}
B33: {=IFERROR(IF(LEN(C$26)=0,"",INDEX(Calc!$P$6:$P$305,SMALL(IF(Calc!$CP$6:$CP$305="","",ROW(Calc!$CP$6:$CP$305)),Calc!$BZ12)-ROW(Calc!$CP$6:$CP$305)+1)),"")} | C33: {=IFERROR(IF(LEN(C$26)=0,"",INDEX(Calc!$CP$6:$CP$305,SMALL(IF(Calc!$CP$6:$CP$305="","",ROW(Calc!$CP$6:$CP$305)),Calc!$BZ12)-ROW(Calc!$CP$6:$CP$305)+1)),"")} | E33: {=IFERROR(IF(LEN(F$26)=0,"",INDEX(Calc!$P$6:$P$305,SMALL(IF(Calc!$CQ$6:$CQ$305="","",ROW(Calc!$CQ$6:$CQ$305)),Calc!$BZ12)-ROW(Calc!$CQ$6:$CQ$305)+1)),"")} | F33: {=IFERROR(IF(LEN(F$26)=0,"",INDEX(Calc!$CQ$6:$CQ$305,SMALL(IF(Calc!$CQ$6:$CQ$305="","",ROW(Calc!$CQ$6:$CQ$305)),Calc!$BZ12)-ROW(Calc!$CQ$6:$CQ$305)+1)),"")} | H33: {=IFERROR(IF(LEN(I$26)=0,"",INDEX(Calc!$P$6:$P$305,SMALL(IF(Calc!$CR$6:$CR$305="","",ROW(Calc!$CR$6:$CR$305)),Calc!$BZ12)-ROW(Calc!$CR$6:$CR$305)+1)),"")} | I33: {=IFERROR(IF(LEN(I$26)=0,"",INDEX(Calc!$CR$6:$CR$305,SMALL(IF(Calc!$CR$6:$CR$305="","",ROW(Calc!$CR$6:$CR$305)),Calc!$BZ12)-ROW(Calc!$CR$6:$CR$305)+1)),"")} | K33: {=IFERROR(IF(LEN(L$26)=0,"",INDEX(Calc!$P$6:$P$305,SMALL(IF(Calc!$CS$6:$CS$305="","",ROW(Calc!$CS$6:$CS$305)),Calc!$BZ12)-ROW(Calc!$CS$6:$CS$305)+1)),"")} | L33: {=IFERROR(IF(LEN(L$26)=0,"",INDEX(Calc!$CS$6:$CS$305,SMALL(IF(Calc!$CS$6:$CS$305="","",ROW(Calc!$CS$6:$CS$305)),Calc!$BZ12)-ROW(Calc!$CS$6:$CS$305)+1)),"")} | N33: {=IFERROR(IF(LEN(O$26)=0,"",INDEX(Calc!$P$6:$P$305,SMALL(IF(Calc!$CT$6:$CT$305="","",ROW(Calc!$CT$6:$CT$305)),Calc!$BZ12)-ROW(Calc!$CT$6:$CT$305)+1)),"")} | O33: {=IFERROR(IF(LEN(O$26)=0,"",INDEX(Calc!$CT$6:$CT$305,SMALL(IF(Calc!$CT$6:$CT$305="","",ROW(Calc!$CT$6:$CT$305)),Calc!$BZ12)-ROW(Calc!$CT$6:$CT$305)+1)),"")} | Q33: {=IFERROR(IF(LEN(R$26)=0,"",INDEX(Calc!$P$6:$P$305,SMALL(IF(Calc!$CU$6:$CU$305="","",ROW(Calc!$CU$6:$CU$305)),Calc!$BZ12)-ROW(Calc!$CU$6:$CU$305)+1)),"")} | R33: {=IFERROR(IF(LEN(R$26)=0,"",INDEX(Calc!$CU$6:$CU$305,SMALL(IF(Calc!$CU$6:$CU$305="","",ROW(Calc!$CU$6:$CU$305)),Calc!$BZ12)-ROW(Calc!$CU$6:$CU$305)+1)),"")} | T33: {=IFERROR(IF(LEN(U$26)=0,"",INDEX(Calc!$P$6:$P$305,SMALL(IF(Calc!$CV$6:$CV$305="","",ROW(Calc!$CV$6:$CV$305)),Calc!$BZ12)-ROW(Calc!$CV$6:$CV$305)+1)),"")} | U33: {=IFERROR(IF(LEN(U$26)=0,"",INDEX(Calc!$CV$6:$CV$305,SMALL(IF(Calc!$CV$6:$CV$305="","",ROW(Calc!$CV$6:$CV$305)),Calc!$BZ12)-ROW(Calc!$CV$6:$CV$305)+1)),"")}
C35: =IFERROR(INDEX(Calc!$CB$5:$DQ$5,1,22),"") -> 44578 | F35: =IFERROR(INDEX(Calc!$CB$5:$DQ$5,1,23),"") -> 44579 | I35: =IFERROR(INDEX(Calc!$CB$5:$DQ$5,1,24),"") -> 44580 | L35: =IFERROR(INDEX(Calc!$CB$5:$DQ$5,1,25),"") -> 44581 | O35: =IFERROR(INDEX(Calc!$CB$5:$DQ$5,1,26),"") -> 44582 | R35: =IFERROR(INDEX(Calc!$CB$5:$DQ$5,1,27),"") -> 44583 | U35: =IFERROR(INDEX(Calc!$CB$5:$DQ$5,1,28),"") -> 44584
B36: {=IFERROR(IF(LEN(C$35)=0,"",INDEX(Calc!$P$6:$P$305,SMALL(IF(Calc!$CW$6:$CW$305="","",ROW(Calc!$CW$6:$CW$305)),Calc!$BZ6)-ROW(Calc!$CW$6:$CW$305)+1)),"")} -> Booking.com | C36: {=IFERROR(IF(LEN(C$35)=0,"",INDEX(Calc!$CW$6:$CW$305,SMALL(IF(Calc!$CW$6:$CW$305="","",ROW(Calc!$CW$6:$CW$305)),Calc!$BZ6)-ROW(Calc!$CW$6:$CW$305)+1)),"")} -> Booking.com - Property 1 | E36: {=IFERROR(IF(LEN(F$35)=0,"",INDEX(Calc!$P$6:$P$305,SMALL(IF(Calc!$CX$6:$CX$305="","",ROW(Calc!$CX$6:$CX$305)),Calc!$BZ6)-ROW(Calc!$CX$6:$CX$305)+1)),"")} -> Booking.com | F36: {=IFERROR(IF(LEN(F$35)=0,"",INDEX(Calc!$CX$6:$CX$305,SMALL(IF(Calc!$CX$6:$CX$305="","",ROW(Calc!$CX$6:$CX$305)),Calc!$BZ6)-ROW(Calc!$CX$6:$CX$305)+1)),"")} -> Booking.com - Property 1 | H36: {=IFERROR(IF(LEN(I$35)=0,"",INDEX(Calc!$P$6:$P$305,SMALL(IF(Calc!$CY$6:$CY$305="","",ROW(Calc!$CY$6:$CY$305)),Calc!$BZ6)-ROW(Calc!$CY$6:$CY$305)+1)),"")} -> Booking.com | I36: {=IFERROR(IF(LEN(I$35)=0,"",INDEX(Calc!$CY$6:$CY$305,SMALL(IF(Calc!$CY$6:$CY$305="","",ROW(Calc!$CY$6:$CY$305)),Calc!$BZ6)-ROW(Calc!$CY$6:$CY$305)+1)),"")} -> Booking.com - Property 1 | K36: {=IFERROR(IF(LEN(L$35)=0,"",INDEX(Calc!$P$6:$P$305,SMALL(IF(Calc!$CZ$6:$CZ$305="","",ROW(Calc!$CZ$6:$CZ$305)),Calc!$BZ6)-ROW(Calc!$CZ$6:$CZ$305)+1)),"")} -> Booking.com | L36: {=IFERROR(IF(LEN(L$35)=0,"",INDEX(Calc!$CZ$6:$CZ$305,SMALL(IF(Calc!$CZ$6:$CZ$305="","",ROW(Calc!$CZ$6:$CZ$305)),Calc!$BZ6)-ROW(Calc!$CZ$6:$CZ$305)+1)),"")} -> Booking.com - Property 1 | N36: {=IFERROR(IF(LEN(O$35)=0,"",INDEX(Calc!$P$6:$P$305,SMALL(IF(Calc!$DA$6:$DA$305="","",ROW(Calc!$DA$6:$DA$305)),Calc!$BZ6)-ROW(Calc!$DA$6:$DA$305)+1)),"")} -> Booking.com | O36: {=IFERROR(IF(LEN(O$35)=0,"",INDEX(Calc!$DA$6:$DA$305,SMALL(IF(Calc!$DA$6:$DA$305="","",ROW(Calc!$DA$6:$DA$305)),Calc!$BZ6)-ROW(Calc!$DA$6:$DA$305)+1)),"")} -> Booking.com - Property 1 | Q36: {=IFERROR(IF(LEN(R$35)=0,"",INDEX(Calc!$P$6:$P$305,SMALL(IF(Calc!$DB$6:$DB$305="","",ROW(Calc!$DB$6:$DB$305)),Calc!$BZ6)-ROW(Calc!$DB$6:$DB$305)+1)),"")} -> Booking.com | R36: {=IFERROR(IF(LEN(R$35)=0,"",INDEX(Calc!$DB$6:$DB$305,SMALL(IF(Calc!$DB$6:$DB$305="","",ROW(Calc!$DB$6:$DB$305)),Calc!$BZ6)-ROW(Calc!$DB$6:$DB$305)+1)),"")} -> Booking.com - Property 1 | T36: {=IFERROR(IF(LEN(U$35)=0,"",INDEX(Calc!$P$6:$P$305,SMALL(IF(Calc!$DC$6:$DC$305="","",ROW(Calc!$DC$6:$DC$305)),Calc!$BZ6)-ROW(Calc!$DC$6:$DC$305)+1)),"")} -> Booking.com | U36: {=IFERROR(IF(LEN(U$35)=0,"",INDEX(Calc!$DC$6:$DC$305,SMALL(IF(Calc!$DC$6:$DC$305="","",ROW(Calc!$DC$6:$DC$305)),Calc!$BZ6)-ROW(Calc!$DC$6:$DC$305)+1)),"")} -> Booking.com - Property 1
