Workbook
Name calendarStartDate: Calculations!$CH$8
Name chartcomp: OFFSET(Calculations!$FZ$7,,,Calculations!$FX$5)
Name countall: Calculations!$B$4
Name Department: Dashboard!$E$8
Name donechart: OFFSET(Calculations!$GR$7,,,Calculations!$GP$5)
Name Duration: Calculations!$I$7:$I$18
Name dv_employee: OFFSET(Calculations!$FA$7,,,Calculations!$FA$5)
Name empchart: OFFSET(Calculations!$GM$7,,,Calculations!$GL$5)
Name Fromdate: Dashboard!$G$8
Name holidaysList: IF(Settings!$G$20="No",Calculations!$A$1, Settings!$G$23:$G$52)
Name IDSourceRange: Calculations!$B$7:$B$18
Name inpchart: OFFSET(Calculations!$GS$7,,,Calculations!$GP$5)
Name monthC: Calendar!$I$6
Name NextIDSourceRange: Calculations!$H$7:$H$18
Name nschart: OFFSET(Calculations!$GT$7,,,Calculations!$GP$5)
Name ohchart: OFFSET(Calculations!$GU$7,,,Calculations!$GP$5)
Name Person: Dashboard!$C$8
Name phasechart: OFFSET(Calculations!$GV$7,,,Calculations!$GP$5)
Name phasechart2: OFFSET(Calculations!$GW$7,,,Calculations!$GP$5)
Name Priority: Dashboard!$M$8
Name prioritychart: OFFSET(Calculations!$GC$16,,,Calculations!$GB$14)
Name projectStartDate: Settings!$D$9
Name smilestone: GanttChart!$K$9
Name Sphase: GanttChart!$K$7
Name ssub: GanttChart!$P$9
Name stask: GanttChart!$P$7
Name Status: Dashboard!$K$8
Name Status1: Settings!$D$25
Name Status2: Settings!$D$26
Name Status3: Settings!$D$27
Name Status4: Settings!$D$28
Name TasksTimes: Calculations!$AC$7:$AG$18
Name Todate: Dashboard!$I$8
Name TotalDependentsRange: Calculations!$CC$7:$CC$18
Name TotalPrecedentsRange: Calculations!$CD$7:$CD$18
Name Type1: Settings!$D$19
Name Type2: Settings!$D$20
Name Type3: Settings!$D$21
Name Type4: Settings!$D$22
Name weekendOption: Calculations!$CI$14
Name yearC: Calendar!$F$6

Sheet Menu
C2: WBS GANTT CHART EXCEL TEMPLATE
C3: MENU

Sheet Settings
C2: WBS GANTT CHART EXCEL TEMPLATE
C3: SETTINGS
C7: PROJECT SETTINGS | F7: CALENDAR SETTINGS | I7: EMPLOYEE SETTINGS
C9: Project start date | D9: 44927 | F9: First day of a week | G9: MONDAY | I9: Employee Name | J9: Department
I10: Jemima Begum | J10: Operations
C11: Priority List | F11: Exclude week days | G11: Yes | I11: Mercedes Banks | J11: Design
D12: High | F12: Monday | I12: Macauley Peck | J12: Finance
D13: Medium | F13: Tuesday | I13: Hannah Shaw | J13: Quality Assurance
D14: Low | F14: Wednesday | I14: Carmel Beltran | J14: IT
F15: Thursday | I15: Sarah-Jayne Morrison | J15: Operations
F16: Friday | I16: Alyce Milner | J16: Operations
F17: Saturday | G17: ✓ | I17: Aviana Kenny | J17: Operations
C18: Type | F18: Sunday | G18: ✓ | I18: Harris Montes | J18: Operations
C19: Phase | D19: P | I19: Doris Power | J19: Design
C20: Milestone | D20: M | F20: Exclude holidays | G20: Yes | I20: Isobelle Hurley | J20: Finance
C21: Task | D21: T | F21: LIST OF HOLIDAYS | I21: Donell Merrill | J21: Finance
C22: Sub-task | D22: S | F22: NAME | G22: DATE | I22: Jane Best | J22: Sales
F23: Christmas | G23: 45284 | I23: Kristofer Dyer | J23: Quality Assurance
C24: Status | F24: Christmas | G24: 45286
C25: 1 | D25: Done | F25: New Year | G25: 44927
C26: 2 | D26: In Progress | F26: Company day off | G26: 44948
C27: 3 | D27: Not Started
C28: 4

Sheet TaskPlan
C2: WBS GANTT CHART EXCEL TEMPLATE
C3: TASK PLAN
B5: MAIN INFORMATION | I5: TASK ACTIONS | M5: DETAILS | T5: Check
B6: ID | C6: Priority | D6: Type | E6: Task | F6: Assign Person | G6: Predecessors' IDs | H6: Planned Duration (Working days) | I6: Delayed start | J6: Elongate | K6: Status | L6: Notes/Actions | M6: Early Start | N6: Early Finish | O6: Late Start | P6: Late Finish | Q6: Remain Days | R6: Slack | S6: Real Duration | T6: Error Check
B7: =IF(LEN(E7)>0,MAX($B$6:B6)+1,"") -> 1 | C7: High | D7: M | E7: Start | K7: Done | M7: =IFERROR(IF(ISNUMBER($B7),INDEX(Calculations!Y$7:Y$18,MATCH($B7,Calculations!$B$7:$B$18,0),1),""),"") -> 44928 | N7: =IFERROR(IF(ISNUMBER($B7),INDEX(Calculations!Z$7:Z$18,MATCH($B7,Calculations!$B$7:$B$18,0),1),""),"") -> 44928 | O7: =IFERROR(IF(ISNUMBER($B7),INDEX(Calculations!AA$7:AA$18,MATCH($B7,Calculations!$B$7:$B$18,0),1),""),"") -> 44930 | P7: =IFERROR(IF(ISNUMBER($B7),INDEX(Calculations!AB$7:AB$18,MATCH($B7,Calculations!$B$7:$B$18,0),1),""),"") -> 44930 | Q7: =IFERROR(IF(Calculations!N7=Status1,Status1,IF(P7-TODAY()<0,"Overdue!",P7-TODAY())),"") -> Done | R7: =IFERROR(IF(ISNUMBER($B7),INDEX(Calculations!AG$7:AG$18,MATCH($B7,Calculations!$B$7:$B$18,0),1),""),"") -> 2 | S7: =IFERROR(IF(ISNUMBER($B7),INDEX(Calculations!L$7:L$18,MATCH($B7,Calculations!$B$7:$B$18,0),1),""),"") -> 0 | T7: =IF(IF(LEN(E7)=0,"",Calculations!W7=0),"","!")
B8: =IF(LEN(E8)>0,MAX($B$6:B7)+1,"") -> 2 | C8: Medium | D8: P | E8: Phase 1: Planning | F8: Carmel Beltran | H8: 0 | K8: In progress | M8: =IFERROR(IF(ISNUMBER($B8),INDEX(Calculations!Y$7:Y$18,MATCH($B8,Calculations!$B$7:$B$18,0),1),""),"") -> 44928 | N8: =IFERROR(IF(ISNUMBER($B8),INDEX(Calculations!Z$7:Z$18,MATCH($B8,Calculations!$B$7:$B$18,0),1),""),"") -> 44953 | O8: =IFERROR(IF(ISNUMBER($B8),INDEX(Calculations!AA$7:AA$18,MATCH($B8,Calculations!$B$7:$B$18,0),1),""),"") -> 44928 | P8: =IFERROR(IF(ISNUMBER($B8),INDEX(Calculations!AB$7:AB$18,MATCH($B8,Calculations!$B$7:$B$18,0),1),""),"") -> 44953 | Q8: =IFERROR(IF(Calculations!N8=Status1,Status1,IF(P8-TODAY()<0,"Overdue!",P8-TODAY())),"") -> Done | R8: =IFERROR(IF(ISNUMBER($B8),INDEX(Calculations!AG$7:AG$18,MATCH($B8,Calculations!$B$7:$B$18,0),1),""),"") -> 0 | S8: =IFERROR(IF(ISNUMBER($B8),INDEX(Calculations!L$7:L$18,MATCH($B8,Calculations!$B$7:$B$18,0),1),""),"") -> 25 | T8: =IF(IF(LEN(E8)=0,"",Calculations!W8=0),"","!")
B9: =IF(LEN(E9)>0,MAX($B$6:B8)+1,"") -> 3 | C9: High | D9: T | E9: Define project scope and objectives | F9: Hannah Shaw | G9: 1 | H9: 5 | K9: Done | L9: Schedule and lead meetings with stakeholders to gather requirements | M9: =IFERROR(IF(ISNUMBER($B9),INDEX(Calculations!Y$7:Y$18,MATCH($B9,Calculations!$B$7:$B$18,0),1),""),"") -> 44928 | N9: =IFERROR(IF(ISNUMBER($B9),INDEX(Calculations!Z$7:Z$18,MATCH($B9,Calculations!$B$7:$B$18,0),1),""),"") -> 44935 | O9: =IFERROR(IF(ISNUMBER($B9),INDEX(Calculations!AA$7:AA$18,MATCH($B9,Calculations!$B$7:$B$18,0),1),""),"") -> 44932 | P9: =IFERROR(IF(ISNUMBER($B9),INDEX(Calculations!AB$7:AB$18,MATCH($B9,Calculations!$B$7:$B$18,0),1),""),"") -> 44939 | Q9: =IFERROR(IF(Calculations!N9=Status1,Status1,IF(P9-TODAY()<0,"Overdue!",P9-TODAY())),"") -> Done | R9: =IFERROR(IF(ISNUMBER($B9),INDEX(Calculations!AG$7:AG$18,MATCH($B9,Calculations!$B$7:$B$18,0),1),""),"") -> 4 | S9: =IFERROR(IF(ISNUMBER($B9),INDEX(Calculations!L$7:L$18,MATCH($B9,Calculations!$B$7:$B$18,0),1),""),"") -> 5 | T9: =IF(IF(LEN(E9)=0,"",Calculations!W9=0),"","!")
B10: =IF(LEN(E10)>0,MAX($B$6:B9)+1,"") -> 4 | C10: Low | D10: S | E10: Identify stakeholders and gather requirements | F10: Jemima Begum | G10: 1 | H10: 7 | I10: 2 | K10: Done | L10: Identify all stakeholders, conduct interviews, and gather requirements. | M10: =IFERROR(IF(ISNUMBER($B10),INDEX(Calculations!Y$7:Y$18,MATCH($B10,Calculations!$B$7:$B$18,0),1),""),"") -> 44930 | N10: =IFERROR(IF(ISNUMBER($B10),INDEX(Calculations!Z$7:Z$18,MATCH($B10,Calculations!$B$7:$B$18,0),1),""),"") -> 44939 | O10: =IFERROR(IF(ISNUMBER($B10),INDEX(Calculations!AA$7:AA$18,MATCH($B10,Calculations!$B$7:$B$18,0),1),""),"") -> 44930 | P10: =IFERROR(IF(ISNUMBER($B10),INDEX(Calculations!AB$7:AB$18,MATCH($B10,Calculations!$B$7:$B$18,0),1),""),"") -> 44939 | Q10: =IFERROR(IF(Calculations!N10=Status1,Status1,IF(P10-TODAY()<0,"Overdue!",P10-TODAY())),"") -> Done | R10: =IFERROR(IF(ISNUMBER($B10),INDEX(Calculations!AG$7:AG$18,MATCH($B10,Calculations!$B$7:$B$18,0),1),""),"") -> 0 | S10: =IFERROR(IF(ISNUMBER($B10),INDEX(Calculations!L$7:L$18,MATCH($B10,Calculations!$B$7:$B$18,0),1),""),"") -> 7 | T10: =IF(IF(LEN(E10)=0,"",Calculations!W10=0),"","!")
B11: =IF(LEN(E11)>0,MAX($B$6:B10)+1,"") -> 5 | C11: Low | D11: T | E11: Develop project charter and plan | F11: Jane Best | G11: 3,4 | H11: 10 | K11: Done | L11: Create the project schedule, assign resources, and develop the project plan. | M11: =IFERROR(IF(ISNUMBER($B11),INDEX(Calculations!Y$7:Y$18,MATCH($B11,Calculations!$B$7:$B$18,0),1),""),"") -> 44939 | N11: =IFERROR(IF(ISNUMBER($B11),INDEX(Calculations!Z$7:Z$18,MATCH($B11,Calculations!$B$7:$B$18,0),1),""),"") -> 44953 | O11: =IFERROR(IF(ISNUMBER($B11),INDEX(Calculations!AA$7:AA$18,MATCH($B11,Calculations!$B$7:$B$18,0),1),""),"") -> 44939 | P11: =IFERROR(IF(ISNUMBER($B11),INDEX(Calculations!AB$7:AB$18,MATCH($B11,Calculations!$B$7:$B$18,0),1),""),"") -> 44953 | Q11: =IFERROR(IF(Calculations!N11=Status1,Status1,IF(P11-TODAY()<0,"Overdue!",P11-TODAY())),"") -> Done | R11: =IFERROR(IF(ISNUMBER($B11),INDEX(Calculations!AG$7:AG$18,MATCH($B11,Calculations!$B$7:$B$18,0),1),""),"") -> 0 | S11: =IFERROR(IF(ISNUMBER($B11),INDEX(Calculations!L$7:L$18,MATCH($B11,Calculations!$B$7:$B$18,0),1),""),"") -> 10 | T11: =IF(IF(LEN(E11)=0,"",Calculations!W11=0),"","!")
B12: =IF(LEN(E12)>0,MAX($B$6:B11)+1,"") -> 6 | C12: Medium | D12: T | E12: Secure funding and resources | F12: Mercedes Banks | G12: 4 | H12: 5 | K12: Done | L12: Present them to stakeholders, and secure funding and resources. | M12: =IFERROR(IF(ISNUMBER($B12),INDEX(Calculations!Y$7:Y$18,MATCH($B12,Calculations!$B$7:$B$18,0),1),""),"") -> 44939 | N12: =IFERROR(IF(ISNUMBER($B12),INDEX(Calculations!Z$7:Z$18,MATCH($B12,Calculations!$B$7:$B$18,0),1),""),"") -> 44946 | O12: =IFERROR(IF(ISNUMBER($B12),INDEX(Calculations!AA$7:AA$18,MATCH($B12,Calculations!$B$7:$B$18,0),1),""),"") -> 44939 | P12: =IFERROR(IF(ISNUMBER($B12),INDEX(Calculations!AB$7:AB$18,MATCH($B12,Calculations!$B$7:$B$18,0),1),""),"") -> 44946 | Q12: =IFERROR(IF(Calculations!N12=Status1,Status1,IF(P12-TODAY()<0,"Overdue!",P12-TODAY())),"") -> Done | R12: =IFERROR(IF(ISNUMBER($B12),INDEX(Calculations!AG$7:AG$18,MATCH($B12,Calculations!$B$7:$B$18,0),1),""),"") -> 0 | S12: =IFERROR(IF(ISNUMBER($B12),INDEX(Calculations!L$7:L$18,MATCH($B12,Calculations!$B$7:$B$18,0),1),""),"") -> 5 | T12: =IF(IF(LEN(E12)=0,"",Calculations!W12=0),"","!")
B13: =IF(LEN(E13)>0,MAX($B$6:B12)+1,"") -> 7 | C13: Low | D13: P | E13: Phase 2: Design | F13: Alyce Milner | H13: 20 | M13: =IFERROR(IF(ISNUMBER($B13),INDEX(Calculations!Y$7:Y$18,MATCH($B13,Calculations!$B$7:$B$18,0),1),""),"") -> 44946 | N13: =IFERROR(IF(ISNUMBER($B13),INDEX(Calculations!Z$7:Z$18,MATCH($B13,Calculations!$B$7:$B$18,0),1),""),"") -> 44970 | O13: =IFERROR(IF(ISNUMBER($B13),INDEX(Calculations!AA$7:AA$18,MATCH($B13,Calculations!$B$7:$B$18,0),1),""),"") -> 44946 | P13: =IFERROR(IF(ISNUMBER($B13),INDEX(Calculations!AB$7:AB$18,MATCH($B13,Calculations!$B$7:$B$18,0),1),""),"") -> 44970 | Q13: =IFERROR(IF(Calculations!N13=Status1,Status1,IF(P13-TODAY()<0,"Overdue!",P13-TODAY())),"") -> Overdue! | R13: =IFERROR(IF(ISNUMBER($B13),INDEX(Calculations!AG$7:AG$18,MATCH($B13,Calculations!$B$7:$B$18,0),1),""),"") -> 0 | S13: =IFERROR(IF(ISNUMBER($B13),INDEX(Calculations!L$7:L$18,MATCH($B13,Calculations!$B$7:$B$18,0),1),""),"") -> 24 | T13: =IF(IF(LEN(E13)=0,"",Calculations!W13=0),"","!")
B14: =IF(LEN(E14)>0,MAX($B$6:B13)+1,"") -> 8 | C14: Medium | D14: T | E14: Create detailed design specifications | F14: Macauley Peck | G14: 6 | H14: 15 | I14: 1 | K14: In progress | L14: Work with the project team to create detailed design specifications for the project. | M14: =IFERROR(IF(ISNUMBER($B14),INDEX(Calculations!Y$7:Y$18,MATCH($B14,Calculations!$B$7:$B$18,0),1),""),"") -> 44949 | N14: =IFERROR(IF(ISNUMBER($B14),INDEX(Calculations!Z$7:Z$18,MATCH($B14,Calculations!$B$7:$B$18,0),1),""),"") -> 44970 | O14: =IFERROR(IF(ISNUMBER($B14),INDEX(Calculations!AA$7:AA$18,MATCH($B14,Calculations!$B$7:$B$18,0),1),""),"") -> 44949 | P14: =IFERROR(IF(ISNUMBER($B14),INDEX(Calculations!AB$7:AB$18,MATCH($B14,Calculations!$B$7:$B$18,0),1),""),"") -> 44970 | Q14: =IFERROR(IF(Calculations!N14=Status1,Status1,IF(P14-TODAY()<0,"Overdue!",P14-TODAY())),"") -> Overdue! | R14: =IFERROR(IF(ISNUMBER($B14),INDEX(Calculations!AG$7:AG$18,MATCH($B14,Calculations!$B$7:$B$18,0),1),""),"") -> 0 | S14: =IFERROR(IF(ISNUMBER($B14),INDEX(Calculations!L$7:L$18,MATCH($B14,Calculations!$B$7:$B$18,0),1),""),"") -> 15 | T14: =IF(IF(LEN(E14)=0,"",Calculations!W14=0),"","!")
B15: =IF(LEN(E15)>0,MAX($B$6:B14)+1,"") -> 9 | C15: Low | D15: S | E15: Review and approve design | F15: Jemima Begum | G15: 6 | H15: 5 | J15: 2 | K15: In progress | L15: Prepare design to ensure it meets all requirements and specifications. | M15: =IFERROR(IF(ISNUMBER($B15),INDEX(Calculations!Y$7:Y$18,MATCH($B15,Calculations!$B$7:$B$18,0),1),""),"") -> 44946 | N15: =IFERROR(IF(ISNUMBER($B15),INDEX(Calculations!Z$7:Z$18,MATCH($B15,Calculations!$B$7:$B$18,0),1),""),"") -> 44957 | O15: =IFERROR(IF(ISNUMBER($B15),INDEX(Calculations!AA$7:AA$18,MATCH($B15,Calculations!$B$7:$B$18,0),1),""),"") -> 44946 | P15: =IFERROR(IF(ISNUMBER($B15),INDEX(Calculations!AB$7:AB$18,MATCH($B15,Calculations!$B$7:$B$18,0),1),""),"") -> 44957 | Q15: =IFERROR(IF(Calculations!N15=Status1,Status1,IF(P15-TODAY()<0,"Overdue!",P15-TODAY())),"") -> Overdue! | R15: =IFERROR(IF(ISNUMBER($B15),INDEX(Calculations!AG$7:AG$18,MATCH($B15,Calculations!$B$7:$B$18,0),1),""),"") -> 0 | S15: =IFERROR(IF(ISNUMBER($B15),INDEX(Calculations!L$7:L$18,MATCH($B15,Calculations!$B$7:$B$18,0),1),""),"") -> 7 | T15: =IF(IF(LEN(E15)=0,"",Calculations!W15=0),"","!")
B16: =IF(LEN(E16)>0,MAX($B$6:B15)+1,"") -> 10 | C16: High | D16: M | E16: Design Approved | F16: Mercedes Banks | G16: 9 | H16: 5 | K16: Not started | M16: =IFERROR(IF(ISNUMBER($B16),INDEX(Calculations!Y$7:Y$18,MATCH($B16,Calculations!$B$7:$B$18,0),1),""),"") -> 44957 | N16: =IFERROR(IF(ISNUMBER($B16),INDEX(Calculations!Z$7:Z$18,MATCH($B16,Calculations!$B$7:$B$18,0),1),""),"") -> 44964 | O16: =IFERROR(IF(ISNUMBER($B16),INDEX(Calculations!AA$7:AA$18,MATCH($B16,Calculations!$B$7:$B$18,0),1),""),"") -> 44957 | P16: =IFERROR(IF(ISNUMBER($B16),INDEX(Calculations!AB$7:AB$18,MATCH($B16,Calculations!$B$7:$B$18,0),1),""),"") -> 44964 | Q16: =IFERROR(IF(Calculations!N16=Status1,Status1,IF(P16-TODAY()<0,"Overdue!",P16-TODAY())),"") -> Overdue! | R16: =IFERROR(IF(ISNUMBER($B16),INDEX(Calculations!AG$7:AG$18,MATCH($B16,Calculations!$B$7:$B$18,0),1),""),"") -> 0 | S16: =IFERROR(IF(ISNUMBER($B16),INDEX(Calculations!L$7:L$18,MATCH($B16,Calculations!$B$7:$B$18,0),1),""),"") -> 5 | T16: =IF(IF(LEN(E16)=0,"",Calculations!W16=0),"","!")
B17: =IF(LEN(E17)>0,MAX($B$6:B16)+1,"") | M17: =IFERROR(IF(ISNUMBER($B17),INDEX(Calculations!Y$7:Y$18,MATCH($B17,Calculations!$B$7:$B$18,0),1),""),"") | N17: =IFERROR(IF(ISNUMBER($B17),INDEX(Calculations!Z$7:Z$18,MATCH($B17,Calculations!$B$7:$B$18,0),1),""),"") | O17: =IFERROR(IF(ISNUMBER($B17),INDEX(Calculations!AA$7:AA$18,MATCH($B17,Calculations!$B$7:$B$18,0),1),""),"") | P17: =IFERROR(IF(ISNUMBER($B17),INDEX(Calculations!AB$7:AB$18,MATCH($B17,Calculations!$B$7:$B$18,0),1),""),"") | Q17: =IFERROR(IF(Calculations!N17=Status1,Status1,IF(P17-TODAY()<0,"Overdue!",P17-TODAY())),"") | R17: =IFERROR(IF(ISNUMBER($B17),INDEX(Calculations!AG$7:AG$18,MATCH($B17,Calculations!$B$7:$B$18,0),1),""),"") | S17: =IFERROR(IF(ISNUMBER($B17),INDEX(Calculations!L$7:L$18,MATCH($B17,Calculations!$B$7:$B$18,0),1),""),"") | T17: =IF(IF(LEN(E17)=0,"",Calculations!W17=0),"","!") -> #VALUE!
B18: =IF(LEN(E18)>0,MAX($B$6:B17)+1,"") | M18: =IFERROR(IF(ISNUMBER($B18),INDEX(Calculations!Y$7:Y$18,MATCH($B18,Calculations!$B$7:$B$18,0),1),""),"") | N18: =IFERROR(IF(ISNUMBER($B18),INDEX(Calculations!Z$7:Z$18,MATCH($B18,Calculations!$B$7:$B$18,0),1),""),"") | O18: =IFERROR(IF(ISNUMBER($B18),INDEX(Calculations!AA$7:AA$18,MATCH($B18,Calculations!$B$7:$B$18,0),1),""),"") | P18: =IFERROR(IF(ISNUMBER($B18),INDEX(Calculations!AB$7:AB$18,MATCH($B18,Calculations!$B$7:$B$18,0),1),""),"") | Q18: =IFERROR(IF(Calculations!N18=Status1,Status1,IF(P18-TODAY()<0,"Overdue!",P18-TODAY())),"") | R18: =IFERROR(IF(ISNUMBER($B18),INDEX(Calculations!AG$7:AG$18,MATCH($B18,Calculations!$B$7:$B$18,0),1),""),"") | S18: =IFERROR(IF(ISNUMBER($B18),INDEX(Calculations!L$7:L$18,MATCH($B18,Calculations!$B$7:$B$18,0),1),""),"") | T18: =IF(IF(LEN(E18)=0,"",Calculations!W18=0),"","!") -> #VALUE!

Sheet GanttChart
C2: WBS GANTT CHART EXCEL TEMPLATE
C3: GANTT CHART
D5: SELECTION PANEL | S5: LEGEND
D7: Priority | F7: Hide | I7: Phase | K7: Show | N7: Task | P7: Show | S7: Phase | Z7: Task Days | AG7: Sub-task Days | AN7: Slack Days
D9: Status | F9: Show | I9: Milestone | K9: Show | N9: Sub-task | P9: Show | S9: Task with 0 day | W9: 1 | Z9: =IFERROR(INDEX(Settings!$C$19:$C$21,MATCH(Type2,Settings!$D$19:$D$21,0)),"") -> Milestone | AD9: =IF(LEN(Z9)=0,"",1) -> 1 | AG9: Off days | AN9: Today
J11: {=IF(NETWORKDAYS.INTL(J13,J13,weekendOption,Settings!$G$23:$G$52)=1,"",1)} -> 1 | K11: {=IF(NETWORKDAYS.INTL(K13,K13,weekendOption,Settings!$G$23:$G$52)=1,"",1)} | L11: {=IF(NETWORKDAYS.INTL(L13,L13,weekendOption,Settings!$G$23:$G$52)=1,"",1)} | M11: {=IF(NETWORKDAYS.INTL(M13,M13,weekendOption,Settings!$G$23:$G$52)=1,"",1)} | N11: {=IF(NETWORKDAYS.INTL(N13,N13,weekendOption,Settings!$G$23:$G$52)=1,"",1)} | O11: {=IF(NETWORKDAYS.INTL(O13,O13,weekendOption,Settings!$G$23:$G$52)=1,"",1)} | P11: {=IF(NETWORKDAYS.INTL(P13,P13,weekendOption,Settings!$G$23:$G$52)=1,"",1)} -> 1 | Q11: {=IF(NETWORKDAYS.INTL(Q13,Q13,weekendOption,Settings!$G$23:$G$52)=1,"",1)} -> 1 | ... AR11: {=IF(NETWORKDAYS.INTL(AR13,AR13,weekendOption,Settings!$G$23:$G$52)=1,"",1)} -> 1
B12: ID | C12: Task Name | J12: =IFERROR(INDEX(Calculations!$CL$24:$CL$30,WEEKDAY(J13,2)),"") -> Su | K12: =IFERROR(INDEX(Calculations!$CL$24:$CL$30,WEEKDAY(K13,2)),"") -> Mo | L12: =IFERROR(INDEX(Calculations!$CL$24:$CL$30,WEEKDAY(L13,2)),"") -> Tu | M12: =IFERROR(INDEX(Calculations!$CL$24:$CL$30,WEEKDAY(M13,2)),"") -> We | N12: =IFERROR(INDEX(Calculations!$CL$24:$CL$30,WEEKDAY(N13,2)),"") -> Th | O12: =IFERROR(INDEX(Calculations!$CL$24:$CL$30,WEEKDAY(O13,2)),"") -> Fr | P12: =IFERROR(INDEX(Calculations!$CL$24:$CL$30,WEEKDAY(P13,2)),"") -> Sa | Q12: =IFERROR(INDEX(Calculations!$CL$24:$CL$30,WEEKDAY(Q13,2)),"") -> Su | ... AR12: =IFERROR(INDEX(Calculations!$CL$24:$CL$30,WEEKDAY(AR13,2)),"") -> Sa
J13: =calendarStartDate -> 44934 | K13: =J13+1 -> 44935 | L13: =K13+1 -> 44936 | M13: =L13+1 -> 44937 | N13: =M13+1 -> 44938 | O13: =N13+1 -> 44939 | P13: =O13+1 -> 44940 | Q13: =P13+1 -> 44941 | R13: =Q13+1 -> 44942 | ... AR13: =AQ13+1 -> 44968
B14: =IF(ISNUMBER(INDEX(Calculations!$B$7:$B$19,ROW(Calculations!B7)-ROW(Calculations!$B$6))),INDEX(Calculations!$B$7:$B$19,ROW(Calculations!B7)-ROW(Calculations!$B$6)),"") -> 1 | C14: =INDEX(Calculations!EM$7:EM$18,ROW(B14)-ROW($B$13)) -> Start | H14: =IF($F$9="Show",INDEX(Calculations!EV$7:EV$18,ROW(B14)-ROW($B$13)),"") -> 1 | I14: =INDEX(Calculations!EN$7:EN$18,ROW(C14)-ROW($B$13)) -> M | J14: =IFERROR(IF(AND($I14=Type2,J$13=Calculations!$EO7),-1,IF(AND(J$13>=Calculations!$EO7,J$13<=Calculations!$EP7,Calculations!$EQ7=0),0,IF(AND(J$13>=Calculations!$EO7,J$13<Calculations!$EP7),IF(Calculations!$EN7=Type1,3,1),IF(AND(J$13>=Calculations!$EP7,J$13<Calculations!$ER7),2,"")))),"") | K14: =IFERROR(IF(AND($I14=Type2,K$13=Calculations!$EO7),-1,IF(AND(K$13>=Calculations!$EO7,K$13<=Calculations!$EP7,Calculations!$EQ7=0),0,IF(AND(K$13>=Calculations!$EO7,K$13<Calculations!$EP7),IF(Calculations!$EN7=Type1,3,1),IF(AND(K$13>=Calculations!$EP7,K$13<Calculations!$ER7),2,"")))),"") | L14: =IFERROR(IF(AND($I14=Type2,L$13=Calculations!$EO7),-1,IF(AND(L$13>=Calculations!$EO7,L$13<=Calculations!$EP7,Calculations!$EQ7=0),0,IF(AND(L$13>=Calculations!$EO7,L$13<Calculations!$EP7),IF(Calculations!$EN7=Type1,3,1),IF(AND(L$13>=Calculations!$EP7,L$13<Calculations!$ER7),2,"")))),"") | M14: =IFERROR(IF(AND($I14=Type2,M$13=Calculations!$EO7),-1,IF(AND(M$13>=Calculations!$EO7,M$13<=Calculations!$EP7,Calculations!$EQ7=0),0,IF(AND(M$13>=Calculations!$EO7,M$13<Calculations!$EP7),IF(Calculations!$EN7=Type1,3,1),IF(AND(M$13>=Calculations!$EP7,M$13<Calculations!$ER7),2,"")))),"") | N14: =IFERROR(IF(AND($I14=Type2,N$13=Calculations!$EO7),-1,IF(AND(N$13>=Calculations!$EO7,N$13<=Calculations!$EP7,Calculations!$EQ7=0),0,IF(AND(N$13>=Calculations!$EO7,N$13<Calculations!$EP7),IF(Calculations!$EN7=Type1,3,1),IF(AND(N$13>=Calculations!$EP7,N$13<Calculations!$ER7),2,"")))),"") | O14: =IFERROR(IF(AND($I14=Type2,O$13=Calculations!$EO7),-1,IF(AND(O$13>=Calculations!$EO7,O$13<=Calculations!$EP7,Calculations!$EQ7=0),0,IF(AND(O$13>=Calculations!$EO7,O$13<Calculations!$EP7),IF(Calculations!$EN7=Type1,3,1),IF(AND(O$13>=Calculations!$EP7,O$13<Calculations!$ER7),2,"")))),"") | P14: =IFERROR(IF(AND($I14=Type2,P$13=Calculations!$EO7),-1,IF(AND(P$13>=Calculations!$EO7,P$13<=Calculations!$EP7,Calculations!$EQ7=0),0,IF(AND(P$13>=Calculations!$EO7,P$13<Calculations!$EP7),IF(Calculations!$EN7=Type1,3,1),IF(AND(P$13>=Calculations!$EP7,P$13<Calculations!$ER7),2,"")))),"") | Q14: =IFERROR(IF(AND($I14=Type2,Q$13=Calculations!$EO7),-1,IF(AND(Q$13>=Calculations!$EO7,Q$13<=Calculations!$EP7,Calculations!$EQ7=0),0,IF(AND(Q$13>=Calculations!$EO7,Q$13<Calculations!$EP7),IF(Calculations!$EN7=Type1,3,1),IF(AND(Q$13>=Calculations!$EP7,Q$13<Calculations!$ER7),2,"")))),"") | ... AR14: =IFERROR(IF(AND($I14=Type2,AR$13=Calculations!$EO7),-1,IF(AND(AR$13>=Calculations!$EO7,AR$13<=Calculations!$EP7,Calculations!$EQ7=0),0,IF(AND(AR$13>=Calculations!$EO7,AR$13<Calculations!$EP7),IF(Calculations!$EN7=Type1,3,1),IF(AND(AR$13>=Calculations!$EP7,AR$13<Calculations!$ER7),2,"")))),"")
B15: =IF(ISNUMBER(INDEX(Calculations!$B$7:$B$19,ROW(Calculations!B8)-ROW(Calculations!$B$6))),INDEX(Calculations!$B$7:$B$19,ROW(Calculations!B8)-ROW(Calculations!$B$6)),"") -> 2 | C15: =INDEX(Calculations!EM$7:EM$18,ROW(B15)-ROW($B$13)) -> Phase 1: Planning | H15: =IF($F$9="Show",INDEX(Calculations!EV$7:EV$18,ROW(B15)-ROW($B$13)),"") -> 1 | I15: =INDEX(Calculations!EN$7:EN$18,ROW(C15)-ROW($B$13)) -> P | J15: =IFERROR(IF(AND($I15=Type2,J$13=Calculations!$EO8),-1,IF(AND(J$13>=Calculations!$EO8,J$13<=Calculations!$EP8,Calculations!$EQ8=0),0,IF(AND(J$13>=Calculations!$EO8,J$13<Calculations!$EP8),IF(Calculations!$EN8=Type1,3,1),IF(AND(J$13>=Calculations!$EP8,J$13<Calculations!$ER8),2,"")))),"") -> 3 | K15: =IFERROR(IF(AND($I15=Type2,K$13=Calculations!$EO8),-1,IF(AND(K$13>=Calculations!$EO8,K$13<=Calculations!$EP8,Calculations!$EQ8=0),0,IF(AND(K$13>=Calculations!$EO8,K$13<Calculations!$EP8),IF(Calculations!$EN8=Type1,3,1),IF(AND(K$13>=Calculations!$EP8,K$13<Calculations!$ER8),2,"")))),"") -> 3 | L15: =IFERROR(IF(AND($I15=Type2,L$13=Calculations!$EO8),-1,IF(AND(L$13>=Calculations!$EO8,L$13<=Calculations!$EP8,Calculations!$EQ8=0),0,IF(AND(L$13>=Calculations!$EO8,L$13<Calculations!$EP8),IF(Calculations!$EN8=Type1,3,1),IF(AND(L$13>=Calculations!$EP8,L$13<Calculations!$ER8),2,"")))),"") -> 3 | M15: =IFERROR(IF(AND($I15=Type2,M$13=Calculations!$EO8),-1,IF(AND(M$13>=Calculations!$EO8,M$13<=Calculations!$EP8,Calculations!$EQ8=0),0,IF(AND(M$13>=Calculations!$EO8,M$13<Calculations!$EP8),IF(Calculations!$EN8=Type1,3,1),IF(AND(M$13>=Calculations!$EP8,M$13<Calculations!$ER8),2,"")))),"") -> 3 | N15: =IFERROR(IF(AND($I15=Type2,N$13=Calculations!$EO8),-1,IF(AND(N$13>=Calculations!$EO8,N$13<=Calculations!$EP8,Calculations!$EQ8=0),0,IF(AND(N$13>=Calculations!$EO8,N$13<Calculations!$EP8),IF(Calculations!$EN8=Type1,3,1),IF(AND(N$13>=Calculations!$EP8,N$13<Calculations!$ER8),2,"")))),"") -> 3 | O15: =IFERROR(IF(AND($I15=Type2,O$13=Calculations!$EO8),-1,IF(AND(O$13>=Calculations!$EO8,O$13<=Calculations!$EP8,Calculations!$EQ8=0),0,IF(AND(O$13>=Calculations!$EO8,O$13<Calculations!$EP8),IF(Calculations!$EN8=Type1,3,1),IF(AND(O$13>=Calculations!$EP8,O$13<Calculations!$ER8),2,"")))),"") -> 3 | P15: =IFERROR(IF(AND($I15=Type2,P$13=Calculations!$EO8),-1,IF(AND(P$13>=Calculations!$EO8,P$13<=Calculations!$EP8,Calculations!$EQ8=0),0,IF(AND(P$13>=Calculations!$EO8,P$13<Calculations!$EP8),IF(Calculations!$EN8=Type1,3,1),IF(AND(P$13>=Calculations!$EP8,P$13<Calculations!$ER8),2,"")))),"") -> 3 | Q15: =IFERROR(IF(AND($I15=Type2,Q$13=Calculations!$EO8),-1,IF(AND(Q$13>=Calculations!$EO8,Q$13<=Calculations!$EP8,Calculations!$EQ8=0),0,IF(AND(Q$13>=Calculations!$EO8,Q$13<Calculations!$EP8),IF(Calculations!$EN8=Type1,3,1),IF(AND(Q$13>=Calculations!$EP8,Q$13<Calculations!$ER8),2,"")))),"") -> 3 | ... AR15: =IFERROR(IF(AND($I15=Type2,AR$13=Calculations!$EO8),-1,IF(AND(AR$13>=Calculations!$EO8,AR$13<=Calculations!$EP8,Calculations!$EQ8=0),0,IF(AND(AR$13>=Calculations!$EO8,AR$13<Calculations!$EP8),IF(Calculations!$EN8=Type1,3,1),IF(AND(AR$13>=Calculations!$EP8,AR$13<Calculations!$ER8),2,"")))),"")
B16: =IF(ISNUMBER(INDEX(Calculations!$B$7:$B$19,ROW(Calculations!B9)-ROW(Calculations!$B$6))),INDEX(Calculations!$B$7:$B$19,ROW(Calculations!B9)-ROW(Calculations!$B$6)),"") -> 3 | C16: =INDEX(Calculations!EM$7:EM$18,ROW(B16)-ROW($B$13)) -> Define project scope and objectives | H16: =IF($F$9="Show",INDEX(Calculations!EV$7:EV$18,ROW(B16)-ROW($B$13)),"") -> 1 | I16: =INDEX(Calculations!EN$7:EN$18,ROW(C16)-ROW($B$13)) -> T | J16: =IFERROR(IF(AND($I16=Type2,J$13=Calculations!$EO9),-1,IF(AND(J$13>=Calculations!$EO9,J$13<=Calculations!$EP9,Calculations!$EQ9=0),0,IF(AND(J$13>=Calculations!$EO9,J$13<Calculations!$EP9),IF(Calculations!$EN9=Type1,3,1),IF(AND(J$13>=Calculations!$EP9,J$13<Calculations!$ER9),2,"")))),"") -> 1 | K16: =IFERROR(IF(AND($I16=Type2,K$13=Calculations!$EO9),-1,IF(AND(K$13>=Calculations!$EO9,K$13<=Calculations!$EP9,Calculations!$EQ9=0),0,IF(AND(K$13>=Calculations!$EO9,K$13<Calculations!$EP9),IF(Calculations!$EN9=Type1,3,1),IF(AND(K$13>=Calculations!$EP9,K$13<Calculations!$ER9),2,"")))),"") -> 2 | L16: =IFERROR(IF(AND($I16=Type2,L$13=Calculations!$EO9),-1,IF(AND(L$13>=Calculations!$EO9,L$13<=Calculations!$EP9,Calculations!$EQ9=0),0,IF(AND(L$13>=Calculations!$EO9,L$13<Calculations!$EP9),IF(Calculations!$EN9=Type1,3,1),IF(AND(L$13>=Calculations!$EP9,L$13<Calculations!$ER9),2,"")))),"") -> 2 | M16: =IFERROR(IF(AND($I16=Type2,M$13=Calculations!$EO9),-1,IF(AND(M$13>=Calculations!$EO9,M$13<=Calculations!$EP9,Calculations!$EQ9=0),0,IF(AND(M$13>=Calculations!$EO9,M$13<Calculations!$EP9),IF(Calculations!$EN9=Type1,3,1),IF(AND(M$13>=Calculations!$EP9,M$13<Calculations!$ER9),2,"")))),"") -> 2 | N16: =IFERROR(IF(AND($I16=Type2,N$13=Calculations!$EO9),-1,IF(AND(N$13>=Calculations!$EO9,N$13<=Calculations!$EP9,Calculations!$EQ9=0),0,IF(AND(N$13>=Calculations!$EO9,N$13<Calculations!$EP9),IF(Calculations!$EN9=Type1,3,1),IF(AND(N$13>=Calculations!$EP9,N$13<Calculations!$ER9),2,"")))),"") -> 2 | O16: =IFERROR(IF(AND($I16=Type2,O$13=Calculations!$EO9),-1,IF(AND(O$13>=Calculations!$EO9,O$13<=Calculations!$EP9,Calculations!$EQ9=0),0,IF(AND(O$13>=Calculations!$EO9,O$13<Calculations!$EP9),IF(Calculations!$EN9=Type1,3,1),IF(AND(O$13>=Calculations!$EP9,O$13<Calculations!$ER9),2,"")))),"") | P16: =IFERROR(IF(AND($I16=Type2,P$13=Calculations!$EO9),-1,IF(AND(P$13>=Calculations!$EO9,P$13<=Calculations!$EP9,Calculations!$EQ9=0),0,IF(AND(P$13>=Calculations!$EO9,P$13<Calculations!$EP9),IF(Calculations!$EN9=Type1,3,1),IF(AND(P$13>=Calculations!$EP9,P$13<Calculations!$ER9),2,"")))),"") | Q16: =IFERROR(IF(AND($I16=Type2,Q$13=Calculations!$EO9),-1,IF(AND(Q$13>=Calculations!$EO9,Q$13<=Calculations!$EP9,Calculations!$EQ9=0),0,IF(AND(Q$13>=Calculations!$EO9,Q$13<Calculations!$EP9),IF(Calculations!$EN9=Type1,3,1),IF(AND(Q$13>=Calculations!$EP9,Q$13<Calculations!$ER9),2,"")))),"") | ... AR16: =IFERROR(IF(AND($I16=Type2,AR$13=Calculations!$EO9),-1,IF(AND(AR$13>=Calculations!$EO9,AR$13<=Calculations!$EP9,Calculations!$EQ9=0),0,IF(AND(AR$13>=Calculations!$EO9,AR$13<Calculations!$EP9),IF(Calculations!$EN9=Type1,3,1),IF(AND(AR$13>=Calculations!$EP9,AR$13<Calculations!$ER9),2,"")))),"")
B17: =IF(ISNUMBER(INDEX(Calculations!$B$7:$B$19,ROW(Calculations!B10)-ROW(Calculations!$B$6))),INDEX(Calculations!$B$7:$B$19,ROW(Calculations!B10)-ROW(Calculations!$B$6)),"") -> 4 | C17: =INDEX(Calculations!EM$7:EM$18,ROW(B17)-ROW($B$13)) -> Identify stakeholders and gather requirements | H17: =IF($F$9="Show",INDEX(Calculations!EV$7:EV$18,ROW(B17)-ROW($B$13)),"") -> 1 | I17: =INDEX(Calculations!EN$7:EN$18,ROW(C17)-ROW($B$13)) -> S | J17: =IFERROR(IF(AND($I17=Type2,J$13>=Calculations!$EO10,J$13<=Calculations!$ER10),-1,IF(AND(J$13>=Calculations!$EO10,J$13<=Calculations!$EP10,Calculations!$EQ10=0),0,IF(AND(J$13>=Calculations!$EO10,J$13<Calculations!$EP10),IF(Calculations!$EN10=Type1,3,1),IF(AND(J$13>=Calculations!$EP10,J$13<Calculations!$ER10),2,"")))),"") -> 1 | K17: =IFERROR(IF(AND($I17=Type2,K$13>=Calculations!$EO10,K$13<=Calculations!$ER10),-1,IF(AND(K$13>=Calculations!$EO10,K$13<=Calculations!$EP10,Calculations!$EQ10=0),0,IF(AND(K$13>=Calculations!$EO10,K$13<Calculations!$EP10),IF(Calculations!$EN10=Type1,3,1),IF(AND(K$13>=Calculations!$EP10,K$13<Calculations!$ER10),2,"")))),"") -> 1 | L17: =IFERROR(IF(AND($I17=Type2,L$13>=Calculations!$EO10,L$13<=Calculations!$ER10),-1,IF(AND(L$13>=Calculations!$EO10,L$13<=Calculations!$EP10,Calculations!$EQ10=0),0,IF(AND(L$13>=Calculations!$EO10,L$13<Calculations!$EP10),IF(Calculations!$EN10=Type1,3,1),IF(AND(L$13>=Calculations!$EP10,L$13<Calculations!$ER10),2,"")))),"") -> 1 | M17: =IFERROR(IF(AND($I17=Type2,M$13>=Calculations!$EO10,M$13<=Calculations!$ER10),-1,IF(AND(M$13>=Calculations!$EO10,M$13<=Calculations!$EP10,Calculations!$EQ10=0),0,IF(AND(M$13>=Calculations!$EO10,M$13<Calculations!$EP10),IF(Calculations!$EN10=Type1,3,1),IF(AND(M$13>=Calculations!$EP10,M$13<Calculations!$ER10),2,"")))),"") -> 1 | N17: =IFERROR(IF(AND($I17=Type2,N$13>=Calculations!$EO10,N$13<=Calculations!$ER10),-1,IF(AND(N$13>=Calculations!$EO10,N$13<=Calculations!$EP10,Calculations!$EQ10=0),0,IF(AND(N$13>=Calculations!$EO10,N$13<Calculations!$EP10),IF(Calculations!$EN10=Type1,3,1),IF(AND(N$13>=Calculations!$EP10,N$13<Calculations!$ER10),2,"")))),"") -> 1 | O17: =IFERROR(IF(AND($I17=Type2,O$13>=Calculations!$EO10,O$13<=Calculations!$ER10),-1,IF(AND(O$13>=Calculations!$EO10,O$13<=Calculations!$EP10,Calculations!$EQ10=0),0,IF(AND(O$13>=Calculations!$EO10,O$13<Calculations!$EP10),IF(Calculations!$EN10=Type1,3,1),IF(AND(O$13>=Calculations!$EP10,O$13<Calculations!$ER10),2,"")))),"") | P17: =IFERROR(IF(AND($I17=Type2,P$13>=Calculations!$EO10,P$13<=Calculations!$ER10),-1,IF(AND(P$13>=Calculations!$EO10,P$13<=Calculations!$EP10,Calculations!$EQ10=0),0,IF(AND(P$13>=Calculations!$EO10,P$13<Calculations!$EP10),IF(Calculations!$EN10=Type1,3,1),IF(AND(P$13>=Calculations!$EP10,P$13<Calculations!$ER10),2,"")))),"") | Q17: =IFERROR(IF(AND($I17=Type2,Q$13>=Calculations!$EO10,Q$13<=Calculations!$ER10),-1,IF(AND(Q$13>=Calculations!$EO10,Q$13<=Calculations!$EP10,Calculations!$EQ10=0),0,IF(AND(Q$13>=Calculations!$EO10,Q$13<Calculations!$EP10),IF(Calculations!$EN10=Type1,3,1),IF(AND(Q$13>=Calculations!$EP10,Q$13<Calculations!$ER10),2,"")))),"") | ... AR17: =IFERROR(IF(AND($I17=Type2,AR$13>=Calculations!$EO10,AR$13<=Calculations!$ER10),-1,IF(AND(AR$13>=Calculations!$EO10,AR$13<=Calculations!$EP10,Calculations!$EQ10=0),0,IF(AND(AR$13>=Calculations!$EO10,AR$13<Calculations!$EP10),IF(Calculations!$EN10=Type1,3,1),IF(AND(AR$13>=Calculations!$EP10,AR$13<Calculations!$ER10),2,"")))),"")
B18: =IF(ISNUMBER(INDEX(Calculations!$B$7:$B$19,ROW(Calculations!B11)-ROW(Calculations!$B$6))),INDEX(Calculations!$B$7:$B$19,ROW(Calculations!B11)-ROW(Calculations!$B$6)),"") -> 5 | C18: =INDEX(Calculations!EM$7:EM$18,ROW(B18)-ROW($B$13)) -> Develop project charter and plan | H18: =IF($F$9="Show",INDEX(Calculations!EV$7:EV$18,ROW(B18)-ROW($B$13)),"") -> 1 | I18: =INDEX(Calculations!EN$7:EN$18,ROW(C18)-ROW($B$13)) -> T | J18: =IFERROR(IF(AND($I18=Type2,J$13>=Calculations!$EO11,J$13<=Calculations!$ER11),-1,IF(AND(J$13>=Calculations!$EO11,J$13<=Calculations!$EP11,Calculations!$EQ11=0),0,IF(AND(J$13>=Calculations!$EO11,J$13<Calculations!$EP11),IF(Calculations!$EN11=Type1,3,1),IF(AND(J$13>=Calculations!$EP11,J$13<Calculations!$ER11),2,"")))),"") | K18: =IFERROR(IF(AND($I18=Type2,K$13>=Calculations!$EO11,K$13<=Calculations!$ER11),-1,IF(AND(K$13>=Calculations!$EO11,K$13<=Calculations!$EP11,Calculations!$EQ11=0),0,IF(AND(K$13>=Calculations!$EO11,K$13<Calculations!$EP11),IF(Calculations!$EN11=Type1,3,1),IF(AND(K$13>=Calculations!$EP11,K$13<Calculations!$ER11),2,"")))),"") | L18: =IFERROR(IF(AND($I18=Type2,L$13>=Calculations!$EO11,L$13<=Calculations!$ER11),-1,IF(AND(L$13>=Calculations!$EO11,L$13<=Calculations!$EP11,Calculations!$EQ11=0),0,IF(AND(L$13>=Calculations!$EO11,L$13<Calculations!$EP11),IF(Calculations!$EN11=Type1,3,1),IF(AND(L$13>=Calculations!$EP11,L$13<Calculations!$ER11),2,"")))),"") | M18: =IFERROR(IF(AND($I18=Type2,M$13>=Calculations!$EO11,M$13<=Calculations!$ER11),-1,IF(AND(M$13>=Calculations!$EO11,M$13<=Calculations!$EP11,Calculations!$EQ11=0),0,IF(AND(M$13>=Calculations!$EO11,M$13<Calculations!$EP11),IF(Calculations!$EN11=Type1,3,1),IF(AND(M$13>=Calculations!$EP11,M$13<Calculations!$ER11),2,"")))),"") | N18: =IFERROR(IF(AND($I18=Type2,N$13>=Calculations!$EO11,N$13<=Calculations!$ER11),-1,IF(AND(N$13>=Calculations!$EO11,N$13<=Calculations!$EP11,Calculations!$EQ11=0),0,IF(AND(N$13>=Calculations!$EO11,N$13<Calculations!$EP11),IF(Calculations!$EN11=Type1,3,1),IF(AND(N$13>=Calculations!$EP11,N$13<Calculations!$ER11),2,"")))),"") | O18: =IFERROR(IF(AND($I18=Type2,O$13>=Calculations!$EO11,O$13<=Calculations!$ER11),-1,IF(AND(O$13>=Calculations!$EO11,O$13<=Calculations!$EP11,Calculations!$EQ11=0),0,IF(AND(O$13>=Calculations!$EO11,O$13<Calculations!$EP11),IF(Calculations!$EN11=Type1,3,1),IF(AND(O$13>=Calculations!$EP11,O$13<Calculations!$ER11),2,"")))),"") -> 1 | P18: =IFERROR(IF(AND($I18=Type2,P$13>=Calculations!$EO11,P$13<=Calculations!$ER11),-1,IF(AND(P$13>=Calculations!$EO11,P$13<=Calculations!$EP11,Calculations!$EQ11=0),0,IF(AND(P$13>=Calculations!$EO11,P$13<Calculations!$EP11),IF(Calculations!$EN11=Type1,3,1),IF(AND(P$13>=Calculations!$EP11,P$13<Calculations!$ER11),2,"")))),"") -> 1 | Q18: =IFERROR(IF(AND($I18=Type2,Q$13>=Calculations!$EO11,Q$13<=Calculations!$ER11),-1,IF(AND(Q$13>=Calculations!$EO11,Q$13<=Calculations!$EP11,Calculations!$EQ11=0),0,IF(AND(Q$13>=Calculations!$EO11,Q$13<Calculations!$EP11),IF(Calculations!$EN11=Type1,3,1),IF(AND(Q$13>=Calculations!$EP11,Q$13<Calculations!$ER11),2,"")))),"") -> 1 | ... AR18: =IFERROR(IF(AND($I18=Type2,AR$13>=Calculations!$EO11,AR$13<=Calculations!$ER11),-1,IF(AND(AR$13>=Calculations!$EO11,AR$13<=Calculations!$EP11,Calculations!$EQ11=0),0,IF(AND(AR$13>=Calculations!$EO11,AR$13<Calculations!$EP11),IF(Calculations!$EN11=Type1,3,1),IF(AND(AR$13>=Calculations!$EP11,AR$13<Calculations!$ER11),2,"")))),"")
B19: =IF(ISNUMBER(INDEX(Calculations!$B$7:$B$19,ROW(Calculations!B12)-ROW(Calculations!$B$6))),INDEX(Calculations!$B$7:$B$19,ROW(Calculations!B12)-ROW(Calculations!$B$6)),"") -> 6 | C19: =INDEX(Calculations!EM$7:EM$18,ROW(B19)-ROW($B$13)) -> Secure funding and resources | H19: =IF($F$9="Show",INDEX(Calculations!EV$7:EV$18,ROW(B19)-ROW($B$13)),"") -> 1 | I19: =INDEX(Calculations!EN$7:EN$18,ROW(C19)-ROW($B$13)) -> T | J19: =IFERROR(IF(AND($I19=Type2,J$13>=Calculations!$EO12,J$13<=Calculations!$ER12),-1,IF(AND(J$13>=Calculations!$EO12,J$13<=Calculations!$EP12,Calculations!$EQ12=0),0,IF(AND(J$13>=Calculations!$EO12,J$13<Calculations!$EP12),IF(Calculations!$EN12=Type1,3,1),IF(AND(J$13>=Calculations!$EP12,J$13<Calculations!$ER12),2,"")))),"") | K19: =IFERROR(IF(AND($I19=Type2,K$13>=Calculations!$EO12,K$13<=Calculations!$ER12),-1,IF(AND(K$13>=Calculations!$EO12,K$13<=Calculations!$EP12,Calculations!$EQ12=0),0,IF(AND(K$13>=Calculations!$EO12,K$13<Calculations!$EP12),IF(Calculations!$EN12=Type1,3,1),IF(AND(K$13>=Calculations!$EP12,K$13<Calculations!$ER12),2,"")))),"") | L19: =IFERROR(IF(AND($I19=Type2,L$13>=Calculations!$EO12,L$13<=Calculations!$ER12),-1,IF(AND(L$13>=Calculations!$EO12,L$13<=Calculations!$EP12,Calculations!$EQ12=0),0,IF(AND(L$13>=Calculations!$EO12,L$13<Calculations!$EP12),IF(Calculations!$EN12=Type1,3,1),IF(AND(L$13>=Calculations!$EP12,L$13<Calculations!$ER12),2,"")))),"") | M19: =IFERROR(IF(AND($I19=Type2,M$13>=Calculations!$EO12,M$13<=Calculations!$ER12),-1,IF(AND(M$13>=Calculations!$EO12,M$13<=Calculations!$EP12,Calculations!$EQ12=0),0,IF(AND(M$13>=Calculations!$EO12,M$13<Calculations!$EP12),IF(Calculations!$EN12=Type1,3,1),IF(AND(M$13>=Calculations!$EP12,M$13<Calculations!$ER12),2,"")))),"") | N19: =IFERROR(IF(AND($I19=Type2,N$13>=Calculations!$EO12,N$13<=Calculations!$ER12),-1,IF(AND(N$13>=Calculations!$EO12,N$13<=Calculations!$EP12,Calculations!$EQ12=0),0,IF(AND(N$13>=Calculations!$EO12,N$13<Calculations!$EP12),IF(Calculations!$EN12=Type1,3,1),IF(AND(N$13>=Calculations!$EP12,N$13<Calculations!$ER12),2,"")))),"") | O19: =IFERROR(IF(AND($I19=Type2,O$13>=Calculations!$EO12,O$13<=Calculations!$ER12),-1,IF(AND(O$13>=Calculations!$EO12,O$13<=Calculations!$EP12,Calculations!$EQ12=0),0,IF(AND(O$13>=Calculations!$EO12,O$13<Calculations!$EP12),IF(Calculations!$EN12=Type1,3,1),IF(AND(O$13>=Calculations!$EP12,O$13<Calculations!$ER12),2,"")))),"") -> 1 | P19: =IFERROR(IF(AND($I19=Type2,P$13>=Calculations!$EO12,P$13<=Calculations!$ER12),-1,IF(AND(P$13>=Calculations!$EO12,P$13<=Calculations!$EP12,Calculations!$EQ12=0),0,IF(AND(P$13>=Calculations!$EO12,P$13<Calculations!$EP12),IF(Calculations!$EN12=Type1,3,1),IF(AND(P$13>=Calculations!$EP12,P$13<Calculations!$ER12),2,"")))),"") -> 1 | Q19: =IFERROR(IF(AND($I19=Type2,Q$13>=Calculations!$EO12,Q$13<=Calculations!$ER12),-1,IF(AND(Q$13>=Calculations!$EO12,Q$13<=Calculations!$EP12,Calculations!$EQ12=0),0,IF(AND(Q$13>=Calculations!$EO12,Q$13<Calculations!$EP12),IF(Calculations!$EN12=Type1,3,1),IF(AND(Q$13>=Calculations!$EP12,Q$13<Calculations!$ER12),2,"")))),"") -> 1 | ... AR19: =IFERROR(IF(AND($I19=Type2,AR$13>=Calculations!$EO12,AR$13<=Calculations!$ER12),-1,IF(AND(AR$13>=Calculations!$EO12,AR$13<=Calculations!$EP12,Calculations!$EQ12=0),0,IF(AND(AR$13>=Calculations!$EO12,AR$13<Calculations!$EP12),IF(Calculations!$EN12=Type1,3,1),IF(AND(AR$13>=Calculations!$EP12,AR$13<Calculations!$ER12),2,"")))),"")
B20: =IF(ISNUMBER(INDEX(Calculations!$B$7:$B$19,ROW(Calculations!B13)-ROW(Calculations!$B$6))),INDEX(Calculations!$B$7:$B$19,ROW(Calculations!B13)-ROW(Calculations!$B$6)),"") -> 7 | C20: =INDEX(Calculations!EM$7:EM$18,ROW(B20)-ROW($B$13)) -> Phase 2: Design | H20: =IF($F$9="Show",INDEX(Calculations!EV$7:EV$18,ROW(B20)-ROW($B$13)),"") -> 2 | I20: =INDEX(Calculations!EN$7:EN$18,ROW(C20)-ROW($B$13)) -> P | J20: =IFERROR(IF(AND($I20=Type2,J$13>=Calculations!$EO13,J$13<=Calculations!$ER13),-1,IF(AND(J$13>=Calculations!$EO13,J$13<=Calculations!$EP13,Calculations!$EQ13=0),0,IF(AND(J$13>=Calculations!$EO13,J$13<Calculations!$EP13),IF(Calculations!$EN13=Type1,3,1),IF(AND(J$13>=Calculations!$EP13,J$13<Calculations!$ER13),2,"")))),"") | K20: =IFERROR(IF(AND($I20=Type2,K$13>=Calculations!$EO13,K$13<=Calculations!$ER13),-1,IF(AND(K$13>=Calculations!$EO13,K$13<=Calculations!$EP13,Calculations!$EQ13=0),0,IF(AND(K$13>=Calculations!$EO13,K$13<Calculations!$EP13),IF(Calculations!$EN13=Type1,3,1),IF(AND(K$13>=Calculations!$EP13,K$13<Calculations!$ER13),2,"")))),"") | L20: =IFERROR(IF(AND($I20=Type2,L$13>=Calculations!$EO13,L$13<=Calculations!$ER13),-1,IF(AND(L$13>=Calculations!$EO13,L$13<=Calculations!$EP13,Calculations!$EQ13=0),0,IF(AND(L$13>=Calculations!$EO13,L$13<Calculations!$EP13),IF(Calculations!$EN13=Type1,3,1),IF(AND(L$13>=Calculations!$EP13,L$13<Calculations!$ER13),2,"")))),"") | M20: =IFERROR(IF(AND($I20=Type2,M$13>=Calculations!$EO13,M$13<=Calculations!$ER13),-1,IF(AND(M$13>=Calculations!$EO13,M$13<=Calculations!$EP13,Calculations!$EQ13=0),0,IF(AND(M$13>=Calculations!$EO13,M$13<Calculations!$EP13),IF(Calculations!$EN13=Type1,3,1),IF(AND(M$13>=Calculations!$EP13,M$13<Calculations!$ER13),2,"")))),"") | N20: =IFERROR(IF(AND($I20=Type2,N$13>=Calculations!$EO13,N$13<=Calculations!$ER13),-1,IF(AND(N$13>=Calculations!$EO13,N$13<=Calculations!$EP13,Calculations!$EQ13=0),0,IF(AND(N$13>=Calculations!$EO13,N$13<Calculations!$EP13),IF(Calculations!$EN13=Type1,3,1),IF(AND(N$13>=Calculations!$EP13,N$13<Calculations!$ER13),2,"")))),"") | O20: =IFERROR(IF(AND($I20=Type2,O$13>=Calculations!$EO13,O$13<=Calculations!$ER13),-1,IF(AND(O$13>=Calculations!$EO13,O$13<=Calculations!$EP13,Calculations!$EQ13=0),0,IF(AND(O$13>=Calculations!$EO13,O$13<Calculations!$EP13),IF(Calculations!$EN13=Type1,3,1),IF(AND(O$13>=Calculations!$EP13,O$13<Calculations!$ER13),2,"")))),"") | P20: =IFERROR(IF(AND($I20=Type2,P$13>=Calculations!$EO13,P$13<=Calculations!$ER13),-1,IF(AND(P$13>=Calculations!$EO13,P$13<=Calculations!$EP13,Calculations!$EQ13=0),0,IF(AND(P$13>=Calculations!$EO13,P$13<Calculations!$EP13),IF(Calculations!$EN13=Type1,3,1),IF(AND(P$13>=Calculations!$EP13,P$13<Calculations!$ER13),2,"")))),"") | Q20: =IFERROR(IF(AND($I20=Type2,Q$13>=Calculations!$EO13,Q$13<=Calculations!$ER13),-1,IF(AND(Q$13>=Calculations!$EO13,Q$13<=Calculations!$EP13,Calculations!$EQ13=0),0,IF(AND(Q$13>=Calculations!$EO13,Q$13<Calculations!$EP13),IF(Calculations!$EN13=Type1,3,1),IF(AND(Q$13>=Calculations!$EP13,Q$13<Calculations!$ER13),2,"")))),"") | ... AR20: =IFERROR(IF(AND($I20=Type2,AR$13>=Calculations!$EO13,AR$13<=Calculations!$ER13),-1,IF(AND(AR$13>=Calculations!$EO13,AR$13<=Calculations!$EP13,Calculations!$EQ13=0),0,IF(AND(AR$13>=Calculations!$EO13,AR$13<Calculations!$EP13),IF(Calculations!$EN13=Type1,3,1),IF(AND(AR$13>=Calculations!$EP13,AR$13<Calculations!$ER13),2,"")))),"") -> 3
B21: =IF(ISNUMBER(INDEX(Calculations!$B$7:$B$19,ROW(Calculations!B14)-ROW(Calculations!$B$6))),INDEX(Calculations!$B$7:$B$19,ROW(Calculations!B14)-ROW(Calculations!$B$6)),"") -> 8 | C21: =INDEX(Calculations!EM$7:EM$18,ROW(B21)-ROW($B$13)) -> Create detailed design specifications | H21: =IF($F$9="Show",INDEX(Calculations!EV$7:EV$18,ROW(B21)-ROW($B$13)),"") -> 2 | I21: =INDEX(Calculations!EN$7:EN$18,ROW(C21)-ROW($B$13)) -> T | J21: =IFERROR(IF(AND($I21=Type2,J$13>=Calculations!$EO14,J$13<=Calculations!$ER14),-1,IF(AND(J$13>=Calculations!$EO14,J$13<=Calculations!$EP14,Calculations!$EQ14=0),0,IF(AND(J$13>=Calculations!$EO14,J$13<Calculations!$EP14),IF(Calculations!$EN14=Type1,3,1),IF(AND(J$13>=Calculations!$EP14,J$13<Calculations!$ER14),2,"")))),"") | K21: =IFERROR(IF(AND($I21=Type2,K$13>=Calculations!$EO14,K$13<=Calculations!$ER14),-1,IF(AND(K$13>=Calculations!$EO14,K$13<=Calculations!$EP14,Calculations!$EQ14=0),0,IF(AND(K$13>=Calculations!$EO14,K$13<Calculations!$EP14),IF(Calculations!$EN14=Type1,3,1),IF(AND(K$13>=Calculations!$EP14,K$13<Calculations!$ER14),2,"")))),"") | L21: =IFERROR(IF(AND($I21=Type2,L$13>=Calculations!$EO14,L$13<=Calculations!$ER14),-1,IF(AND(L$13>=Calculations!$EO14,L$13<=Calculations!$EP14,Calculations!$EQ14=0),0,IF(AND(L$13>=Calculations!$EO14,L$13<Calculations!$EP14),IF(Calculations!$EN14=Type1,3,1),IF(AND(L$13>=Calculations!$EP14,L$13<Calculations!$ER14),2,"")))),"") | M21: =IFERROR(IF(AND($I21=Type2,M$13>=Calculations!$EO14,M$13<=Calculations!$ER14),-1,IF(AND(M$13>=Calculations!$EO14,M$13<=Calculations!$EP14,Calculations!$EQ14=0),0,IF(AND(M$13>=Calculations!$EO14,M$13<Calculations!$EP14),IF(Calculations!$EN14=Type1,3,1),IF(AND(M$13>=Calculations!$EP14,M$13<Calculations!$ER14),2,"")))),"") | N21: =IFERROR(IF(AND($I21=Type2,N$13>=Calculations!$EO14,N$13<=Calculations!$ER14),-1,IF(AND(N$13>=Calculations!$EO14,N$13<=Calculations!$EP14,Calculations!$EQ14=0),0,IF(AND(N$13>=Calculations!$EO14,N$13<Calculations!$EP14),IF(Calculations!$EN14=Type1,3,1),IF(AND(N$13>=Calculations!$EP14,N$13<Calculations!$ER14),2,"")))),"") | O21: =IFERROR(IF(AND($I21=Type2,O$13>=Calculations!$EO14,O$13<=Calculations!$ER14),-1,IF(AND(O$13>=Calculations!$EO14,O$13<=Calculations!$EP14,Calculations!$EQ14=0),0,IF(AND(O$13>=Calculations!$EO14,O$13<Calculations!$EP14),IF(Calculations!$EN14=Type1,3,1),IF(AND(O$13>=Calculations!$EP14,O$13<Calculations!$ER14),2,"")))),"") | P21: =IFERROR(IF(AND($I21=Type2,P$13>=Calculations!$EO14,P$13<=Calculations!$ER14),-1,IF(AND(P$13>=Calculations!$EO14,P$13<=Calculations!$EP14,Calculations!$EQ14=0),0,IF(AND(P$13>=Calculations!$EO14,P$13<Calculations!$EP14),IF(Calculations!$EN14=Type1,3,1),IF(AND(P$13>=Calculations!$EP14,P$13<Calculations!$ER14),2,"")))),"") | Q21: =IFERROR(IF(AND($I21=Type2,Q$13>=Calculations!$EO14,Q$13<=Calculations!$ER14),-1,IF(AND(Q$13>=Calculations!$EO14,Q$13<=Calculations!$EP14,Calculations!$EQ14=0),0,IF(AND(Q$13>=Calculations!$EO14,Q$13<Calculations!$EP14),IF(Calculations!$EN14=Type1,3,1),IF(AND(Q$13>=Calculations!$EP14,Q$13<Calculations!$ER14),2,"")))),"") | ... AR21: =IFERROR(IF(AND($I21=Type2,AR$13>=Calculations!$EO14,AR$13<=Calculations!$ER14),-1,IF(AND(AR$13>=Calculations!$EO14,AR$13<=Calculations!$EP14,Calculations!$EQ14=0),0,IF(AND(AR$13>=Calculations!$EO14,AR$13<Calculations!$EP14),IF(Calculations!$EN14=Type1,3,1),IF(AND(AR$13>=Calculations!$EP14,AR$13<Calculations!$ER14),2,"")))),"") -> 1
B22: =IF(ISNUMBER(INDEX(Calculations!$B$7:$B$19,ROW(Calculations!B15)-ROW(Calculations!$B$6))),INDEX(Calculations!$B$7:$B$19,ROW(Calculations!B15)-ROW(Calculations!$B$6)),"") -> 9 | C22: =INDEX(Calculations!EM$7:EM$18,ROW(B22)-ROW($B$13)) -> Review and approve design | H22: =IF($F$9="Show",INDEX(Calculations!EV$7:EV$18,ROW(B22)-ROW($B$13)),"") -> 2 | I22: =INDEX(Calculations!EN$7:EN$18,ROW(C22)-ROW($B$13)) -> S | J22: =IFERROR(IF(AND($I22=Type2,J$13>=Calculations!$EO15,J$13<=Calculations!$ER15),-1,IF(AND(J$13>=Calculations!$EO15,J$13<=Calculations!$EP15,Calculations!$EQ15=0),0,IF(AND(J$13>=Calculations!$EO15,J$13<Calculations!$EP15),IF(Calculations!$EN15=Type1,3,1),IF(AND(J$13>=Calculations!$EP15,J$13<Calculations!$ER15),2,"")))),"") | K22: =IFERROR(IF(AND($I22=Type2,K$13>=Calculations!$EO15,K$13<=Calculations!$ER15),-1,IF(AND(K$13>=Calculations!$EO15,K$13<=Calculations!$EP15,Calculations!$EQ15=0),0,IF(AND(K$13>=Calculations!$EO15,K$13<Calculations!$EP15),IF(Calculations!$EN15=Type1,3,1),IF(AND(K$13>=Calculations!$EP15,K$13<Calculations!$ER15),2,"")))),"") | L22: =IFERROR(IF(AND($I22=Type2,L$13>=Calculations!$EO15,L$13<=Calculations!$ER15),-1,IF(AND(L$13>=Calculations!$EO15,L$13<=Calculations!$EP15,Calculations!$EQ15=0),0,IF(AND(L$13>=Calculations!$EO15,L$13<Calculations!$EP15),IF(Calculations!$EN15=Type1,3,1),IF(AND(L$13>=Calculations!$EP15,L$13<Calculations!$ER15),2,"")))),"") | M22: =IFERROR(IF(AND($I22=Type2,M$13>=Calculations!$EO15,M$13<=Calculations!$ER15),-1,IF(AND(M$13>=Calculations!$EO15,M$13<=Calculations!$EP15,Calculations!$EQ15=0),0,IF(AND(M$13>=Calculations!$EO15,M$13<Calculations!$EP15),IF(Calculations!$EN15=Type1,3,1),IF(AND(M$13>=Calculations!$EP15,M$13<Calculations!$ER15),2,"")))),"") | N22: =IFERROR(IF(AND($I22=Type2,N$13>=Calculations!$EO15,N$13<=Calculations!$ER15),-1,IF(AND(N$13>=Calculations!$EO15,N$13<=Calculations!$EP15,Calculations!$EQ15=0),0,IF(AND(N$13>=Calculations!$EO15,N$13<Calculations!$EP15),IF(Calculations!$EN15=Type1,3,1),IF(AND(N$13>=Calculations!$EP15,N$13<Calculations!$ER15),2,"")))),"") | O22: =IFERROR(IF(AND($I22=Type2,O$13>=Calculations!$EO15,O$13<=Calculations!$ER15),-1,IF(AND(O$13>=Calculations!$EO15,O$13<=Calculations!$EP15,Calculations!$EQ15=0),0,IF(AND(O$13>=Calculations!$EO15,O$13<Calculations!$EP15),IF(Calculations!$EN15=Type1,3,1),IF(AND(O$13>=Calculations!$EP15,O$13<Calculations!$ER15),2,"")))),"") | P22: =IFERROR(IF(AND($I22=Type2,P$13>=Calculations!$EO15,P$13<=Calculations!$ER15),-1,IF(AND(P$13>=Calculations!$EO15,P$13<=Calculations!$EP15,Calculations!$EQ15=0),0,IF(AND(P$13>=Calculations!$EO15,P$13<Calculations!$EP15),IF(Calculations!$EN15=Type1,3,1),IF(AND(P$13>=Calculations!$EP15,P$13<Calculations!$ER15),2,"")))),"") | Q22: =IFERROR(IF(AND($I22=Type2,Q$13>=Calculations!$EO15,Q$13<=Calculations!$ER15),-1,IF(AND(Q$13>=Calculations!$EO15,Q$13<=Calculations!$EP15,Calculations!$EQ15=0),0,IF(AND(Q$13>=Calculations!$EO15,Q$13<Calculations!$EP15),IF(Calculations!$EN15=Type1,3,1),IF(AND(Q$13>=Calculations!$EP15,Q$13<Calculations!$ER15),2,"")))),"") | ... AR22: =IFERROR(IF(AND($I22=Type2,AR$13>=Calculations!$EO15,AR$13<=Calculations!$ER15),-1,IF(AND(AR$13>=Calculations!$EO15,AR$13<=Calculations!$EP15,Calculations!$EQ15=0),0,IF(AND(AR$13>=Calculations!$EO15,AR$13<Calculations!$EP15),IF(Calculations!$EN15=Type1,3,1),IF(AND(AR$13>=Calculations!$EP15,AR$13<Calculations!$ER15),2,"")))),"")
B23: =IF(ISNUMBER(INDEX(Calculations!$B$7:$B$19,ROW(Calculations!B16)-ROW(Calculations!$B$6))),INDEX(Calculations!$B$7:$B$19,ROW(Calculations!B16)-ROW(Calculations!$B$6)),"") -> 10 | C23: =INDEX(Calculations!EM$7:EM$18,ROW(B23)-ROW($B$13)) -> Design Approved | H23: =IF($F$9="Show",INDEX(Calculations!EV$7:EV$18,ROW(B23)-ROW($B$13)),"") -> 3 | I23: =INDEX(Calculations!EN$7:EN$18,ROW(C23)-ROW($B$13)) -> M | J23: =IFERROR(IF(AND($I23=Type2,J$13>=Calculations!$EO16,J$13<=Calculations!$ER16),-1,IF(AND(J$13>=Calculations!$EO16,J$13<=Calculations!$EP16,Calculations!$EQ16=0),0,IF(AND(J$13>=Calculations!$EO16,J$13<Calculations!$EP16),IF(Calculations!$EN16=Type1,3,1),IF(AND(J$13>=Calculations!$EP16,J$13<Calculations!$ER16),2,"")))),"") | K23: =IFERROR(IF(AND($I23=Type2,K$13>=Calculations!$EO16,K$13<=Calculations!$ER16),-1,IF(AND(K$13>=Calculations!$EO16,K$13<=Calculations!$EP16,Calculations!$EQ16=0),0,IF(AND(K$13>=Calculations!$EO16,K$13<Calculations!$EP16),IF(Calculations!$EN16=Type1,3,1),IF(AND(K$13>=Calculations!$EP16,K$13<Calculations!$ER16),2,"")))),"") | L23: =IFERROR(IF(AND($I23=Type2,L$13>=Calculations!$EO16,L$13<=Calculations!$ER16),-1,IF(AND(L$13>=Calculations!$EO16,L$13<=Calculations!$EP16,Calculations!$EQ16=0),0,IF(AND(L$13>=Calculations!$EO16,L$13<Calculations!$EP16),IF(Calculations!$EN16=Type1,3,1),IF(AND(L$13>=Calculations!$EP16,L$13<Calculations!$ER16),2,"")))),"") | M23: =IFERROR(IF(AND($I23=Type2,M$13>=Calculations!$EO16,M$13<=Calculations!$ER16),-1,IF(AND(M$13>=Calculations!$EO16,M$13<=Calculations!$EP16,Calculations!$EQ16=0),0,IF(AND(M$13>=Calculations!$EO16,M$13<Calculations!$EP16),IF(Calculations!$EN16=Type1,3,1),IF(AND(M$13>=Calculations!$EP16,M$13<Calculations!$ER16),2,"")))),"") | N23: =IFERROR(IF(AND($I23=Type2,N$13>=Calculations!$EO16,N$13<=Calculations!$ER16),-1,IF(AND(N$13>=Calculations!$EO16,N$13<=Calculations!$EP16,Calculations!$EQ16=0),0,IF(AND(N$13>=Calculations!$EO16,N$13<Calculations!$EP16),IF(Calculations!$EN16=Type1,3,1),IF(AND(N$13>=Calculations!$EP16,N$13<Calculations!$ER16),2,"")))),"") | O23: =IFERROR(IF(AND($I23=Type2,O$13>=Calculations!$EO16,O$13<=Calculations!$ER16),-1,IF(AND(O$13>=Calculations!$EO16,O$13<=Calculations!$EP16,Calculations!$EQ16=0),0,IF(AND(O$13>=Calculations!$EO16,O$13<Calculations!$EP16),IF(Calculations!$EN16=Type1,3,1),IF(AND(O$13>=Calculations!$EP16,O$13<Calculations!$ER16),2,"")))),"") | P23: =IFERROR(IF(AND($I23=Type2,P$13>=Calculations!$EO16,P$13<=Calculations!$ER16),-1,IF(AND(P$13>=Calculations!$EO16,P$13<=Calculations!$EP16,Calculations!$EQ16=0),0,IF(AND(P$13>=Calculations!$EO16,P$13<Calculations!$EP16),IF(Calculations!$EN16=Type1,3,1),IF(AND(P$13>=Calculations!$EP16,P$13<Calculations!$ER16),2,"")))),"") | Q23: =IFERROR(IF(AND($I23=Type2,Q$13>=Calculations!$EO16,Q$13<=Calculations!$ER16),-1,IF(AND(Q$13>=Calculations!$EO16,Q$13<=Calculations!$EP16,Calculations!$EQ16=0),0,IF(AND(Q$13>=Calculations!$EO16,Q$13<Calculations!$EP16),IF(Calculations!$EN16=Type1,3,1),IF(AND(Q$13>=Calculations!$EP16,Q$13<Calculations!$ER16),2,"")))),"") | ... AR23: =IFERROR(IF(AND($I23=Type2,AR$13>=Calculations!$EO16,AR$13<=Calculations!$ER16),-1,IF(AND(AR$13>=Calculations!$EO16,AR$13<=Calculations!$EP16,Calculations!$EQ16=0),0,IF(AND(AR$13>=Calculations!$EO16,AR$13<Calculations!$EP16),IF(Calculations!$EN16=Type1,3,1),IF(AND(AR$13>=Calculations!$EP16,AR$13<Calculations!$ER16),2,"")))),"")
B24: =IF(ISNUMBER(INDEX(Calculations!$B$7:$B$19,ROW(Calculations!B17)-ROW(Calculations!$B$6))),INDEX(Calculations!$B$7:$B$19,ROW(Calculations!B17)-ROW(Calculations!$B$6)),"") | C24: =INDEX(Calculations!EM$7:EM$18,ROW(B24)-ROW($B$13)) | H24: =IF($F$9="Show",INDEX(Calculations!EV$7:EV$18,ROW(B24)-ROW($B$13)),"") | I24: =INDEX(Calculations!EN$7:EN$18,ROW(C24)-ROW($B$13)) | J24: =IFERROR(IF(AND($I24=Type2,J$13>=Calculations!$EO17,J$13<=Calculations!$ER17),-1,IF(AND(J$13>=Calculations!$EO17,J$13<=Calculations!$EP17,Calculations!$EQ17=0),0,IF(AND(J$13>=Calculations!$EO17,J$13<Calculations!$EP17),IF(Calculations!$EN17=Type1,3,1),IF(AND(J$13>=Calculations!$EP17,J$13<Calculations!$ER17),2,"")))),"") | K24: =IFERROR(IF(AND($I24=Type2,K$13>=Calculations!$EO17,K$13<=Calculations!$ER17),-1,IF(AND(K$13>=Calculations!$EO17,K$13<=Calculations!$EP17,Calculations!$EQ17=0),0,IF(AND(K$13>=Calculations!$EO17,K$13<Calculations!$EP17),IF(Calculations!$EN17=Type1,3,1),IF(AND(K$13>=Calculations!$EP17,K$13<Calculations!$ER17),2,"")))),"") | L24: =IFERROR(IF(AND($I24=Type2,L$13>=Calculations!$EO17,L$13<=Calculations!$ER17),-1,IF(AND(L$13>=Calculations!$EO17,L$13<=Calculations!$EP17,Calculations!$EQ17=0),0,IF(AND(L$13>=Calculations!$EO17,L$13<Calculations!$EP17),IF(Calculations!$EN17=Type1,3,1),IF(AND(L$13>=Calculations!$EP17,L$13<Calculations!$ER17),2,"")))),"") | M24: =IFERROR(IF(AND($I24=Type2,M$13>=Calculations!$EO17,M$13<=Calculations!$ER17),-1,IF(AND(M$13>=Calculations!$EO17,M$13<=Calculations!$EP17,Calculations!$EQ17=0),0,IF(AND(M$13>=Calculations!$EO17,M$13<Calculations!$EP17),IF(Calculations!$EN17=Type1,3,1),IF(AND(M$13>=Calculations!$EP17,M$13<Calculations!$ER17),2,"")))),"") | N24: =IFERROR(IF(AND($I24=Type2,N$13>=Calculations!$EO17,N$13<=Calculations!$ER17),-1,IF(AND(N$13>=Calculations!$EO17,N$13<=Calculations!$EP17,Calculations!$EQ17=0),0,IF(AND(N$13>=Calculations!$EO17,N$13<Calculations!$EP17),IF(Calculations!$EN17=Type1,3,1),IF(AND(N$13>=Calculations!$EP17,N$13<Calculations!$ER17),2,"")))),"") | O24: =IFERROR(IF(AND($I24=Type2,O$13>=Calculations!$EO17,O$13<=Calculations!$ER17),-1,IF(AND(O$13>=Calculations!$EO17,O$13<=Calculations!$EP17,Calculations!$EQ17=0),0,IF(AND(O$13>=Calculations!$EO17,O$13<Calculations!$EP17),IF(Calculations!$EN17=Type1,3,1),IF(AND(O$13>=Calculations!$EP17,O$13<Calculations!$ER17),2,"")))),"") | P24: =IFERROR(IF(AND($I24=Type2,P$13>=Calculations!$EO17,P$13<=Calculations!$ER17),-1,IF(AND(P$13>=Calculations!$EO17,P$13<=Calculations!$EP17,Calculations!$EQ17=0),0,IF(AND(P$13>=Calculations!$EO17,P$13<Calculations!$EP17),IF(Calculations!$EN17=Type1,3,1),IF(AND(P$13>=Calculations!$EP17,P$13<Calculations!$ER17),2,"")))),"") | Q24: =IFERROR(IF(AND($I24=Type2,Q$13>=Calculations!$EO17,Q$13<=Calculations!$ER17),-1,IF(AND(Q$13>=Calculations!$EO17,Q$13<=Calculations!$EP17,Calculations!$EQ17=0),0,IF(AND(Q$13>=Calculations!$EO17,Q$13<Calculations!$EP17),IF(Calculations!$EN17=Type1,3,1),IF(AND(Q$13>=Calculations!$EP17,Q$13<Calculations!$ER17),2,"")))),"") | ... AR24: =IFERROR(IF(AND($I24=Type2,AR$13>=Calculations!$EO17,AR$13<=Calculations!$ER17),-1,IF(AND(AR$13>=Calculations!$EO17,AR$13<=Calculations!$EP17,Calculations!$EQ17=0),0,IF(AND(AR$13>=Calculations!$EO17,AR$13<Calculations!$EP17),IF(Calculations!$EN17=Type1,3,1),IF(AND(AR$13>=Calculations!$EP17,AR$13<Calculations!$ER17),2,"")))),"")
B25: =IF(ISNUMBER(INDEX(Calculations!$B$7:$B$19,ROW(Calculations!B18)-ROW(Calculations!$B$6))),INDEX(Calculations!$B$7:$B$19,ROW(Calculations!B18)-ROW(Calculations!$B$6)),"") | C25: =INDEX(Calculations!EM$7:EM$18,ROW(B25)-ROW($B$13)) | H25: =IF($F$9="Show",INDEX(Calculations!EV$7:EV$18,ROW(B25)-ROW($B$13)),"") | I25: =INDEX(Calculations!EN$7:EN$18,ROW(C25)-ROW($B$13)) | J25: =IFERROR(IF(AND($I25=Type2,J$13>=Calculations!$EO18,J$13<=Calculations!$ER18),-1,IF(AND(J$13>=Calculations!$EO18,J$13<=Calculations!$EP18,Calculations!$EQ18=0),0,IF(AND(J$13>=Calculations!$EO18,J$13<Calculations!$EP18),IF(Calculations!$EN18=Type1,3,1),IF(AND(J$13>=Calculations!$EP18,J$13<Calculations!$ER18),2,"")))),"") | K25: =IFERROR(IF(AND($I25=Type2,K$13>=Calculations!$EO18,K$13<=Calculations!$ER18),-1,IF(AND(K$13>=Calculations!$EO18,K$13<=Calculations!$EP18,Calculations!$EQ18=0),0,IF(AND(K$13>=Calculations!$EO18,K$13<Calculations!$EP18),IF(Calculations!$EN18=Type1,3,1),IF(AND(K$13>=Calculations!$EP18,K$13<Calculations!$ER18),2,"")))),"") | L25: =IFERROR(IF(AND($I25=Type2,L$13>=Calculations!$EO18,L$13<=Calculations!$ER18),-1,IF(AND(L$13>=Calculations!$EO18,L$13<=Calculations!$EP18,Calculations!$EQ18=0),0,IF(AND(L$13>=Calculations!$EO18,L$13<Calculations!$EP18),IF(Calculations!$EN18=Type1,3,1),IF(AND(L$13>=Calculations!$EP18,L$13<Calculations!$ER18),2,"")))),"") | M25: =IFERROR(IF(AND($I25=Type2,M$13>=Calculations!$EO18,M$13<=Calculations!$ER18),-1,IF(AND(M$13>=Calculations!$EO18,M$13<=Calculations!$EP18,Calculations!$EQ18=0),0,IF(AND(M$13>=Calculations!$EO18,M$13<Calculations!$EP18),IF(Calculations!$EN18=Type1,3,1),IF(AND(M$13>=Calculations!$EP18,M$13<Calculations!$ER18),2,"")))),"") | N25: =IFERROR(IF(AND($I25=Type2,N$13>=Calculations!$EO18,N$13<=Calculations!$ER18),-1,IF(AND(N$13>=Calculations!$EO18,N$13<=Calculations!$EP18,Calculations!$EQ18=0),0,IF(AND(N$13>=Calculations!$EO18,N$13<Calculations!$EP18),IF(Calculations!$EN18=Type1,3,1),IF(AND(N$13>=Calculations!$EP18,N$13<Calculations!$ER18),2,"")))),"") | O25: =IFERROR(IF(AND($I25=Type2,O$13>=Calculations!$EO18,O$13<=Calculations!$ER18),-1,IF(AND(O$13>=Calculations!$EO18,O$13<=Calculations!$EP18,Calculations!$EQ18=0),0,IF(AND(O$13>=Calculations!$EO18,O$13<Calculations!$EP18),IF(Calculations!$EN18=Type1,3,1),IF(AND(O$13>=Calculations!$EP18,O$13<Calculations!$ER18),2,"")))),"") | P25: =IFERROR(IF(AND($I25=Type2,P$13>=Calculations!$EO18,P$13<=Calculations!$ER18),-1,IF(AND(P$13>=Calculations!$EO18,P$13<=Calculations!$EP18,Calculations!$EQ18=0),0,IF(AND(P$13>=Calculations!$EO18,P$13<Calculations!$EP18),IF(Calculations!$EN18=Type1,3,1),IF(AND(P$13>=Calculations!$EP18,P$13<Calculations!$ER18),2,"")))),"") | Q25: =IFERROR(IF(AND($I25=Type2,Q$13>=Calculations!$EO18,Q$13<=Calculations!$ER18),-1,IF(AND(Q$13>=Calculations!$EO18,Q$13<=Calculations!$EP18,Calculations!$EQ18=0),0,IF(AND(Q$13>=Calculations!$EO18,Q$13<Calculations!$EP18),IF(Calculations!$EN18=Type1,3,1),IF(AND(Q$13>=Calculations!$EP18,Q$13<Calculations!$ER18),2,"")))),"") | ... AR25: =IFERROR(IF(AND($I25=Type2,AR$13>=Calculations!$EO18,AR$13<=Calculations!$ER18),-1,IF(AND(AR$13>=Calculations!$EO18,AR$13<=Calculations!$EP18,Calculations!$EQ18=0),0,IF(AND(AR$13>=Calculations!$EO18,AR$13<Calculations!$EP18),IF(Calculations!$EN18=Type1,3,1),IF(AND(AR$13>=Calculations!$EP18,AR$13<Calculations!$ER18),2,"")))),"")

Sheet Calendar
C2: WBS GANTT CHART EXCEL TEMPLATE
C3: CALENDAR
F5: YEAR | I5: MONTH | L5: PRIORITY | O5: ASSIGNED | R5: TYPE
F6: 2023 | I6: January | L6: All | O6: All | R6: All
C8: =IFERROR(INDEX(Calculations!$CI$24:$CI$30,MATCH(1,Calculations!$CJ$24:$CJ$30,0),1),"") -> MONDAY | F8: =IFERROR(INDEX(Calculations!$CI$24:$CI$30,MATCH(2,Calculations!$CJ$24:$CJ$30,0),1),"") -> TUESDAY | I8: =IFERROR(INDEX(Calculations!$CI$24:$CI$30,MATCH(3,Calculations!$CJ$24:$CJ$30,0),1),"") -> WEDNESDAY | L8: =IFERROR(INDEX(Calculations!$CI$24:$CI$30,MATCH(4,Calculations!$CJ$24:$CJ$30,0),1),"") -> THURSDAY | O8: =IFERROR(INDEX(Calculations!$CI$24:$CI$30,MATCH(5,Calculations!$CJ$24:$CJ$30,0),1),"") -> FRIDAY | R8: =IFERROR(INDEX(Calculations!$CI$24:$CI$30,MATCH(6,Calculations!$CJ$24:$CJ$30,0),1),"") -> SATURDAY | U8: =IFERROR(INDEX(Calculations!$CI$24:$CI$30,MATCH(7,Calculations!$CJ$24:$CJ$30,0),1),"") -> SUNDAY
C10: =IFERROR(IF(WEEKDAY(Calculations!$GY$4,2)=MATCH(C$8,Calculations!$CI$24:$CI$30,0),Calculations!$GY$4,""),"") | F10: =IFERROR(IF(LEN(C10)>0,C10+1,IF(WEEKDAY(Calculations!$GY$4,2)=MATCH(F$8,Calculations!$CI$24:$CI$30,0),Calculations!$GY$4,"")),"") | I10: =IFERROR(IF(LEN(F10)>0,F10+1,IF(WEEKDAY(Calculations!$GY$4,2)=MATCH(I$8,Calculations!$CI$24:$CI$30,0),Calculations!$GY$4,"")),"") | L10: =IFERROR(IF(LEN(I10)>0,I10+1,IF(WEEKDAY(Calculations!$GY$4,2)=MATCH(L$8,Calculations!$CI$24:$CI$30,0),Calculations!$GY$4,"")),"") | O10: =IFERROR(IF(LEN(L10)>0,L10+1,IF(WEEKDAY(Calculations!$GY$4,2)=MATCH(O$8,Calculations!$CI$24:$CI$30,0),Calculations!$GY$4,"")),"") | R10: =IFERROR(IF(LEN(O10)>0,O10+1,IF(WEEKDAY(Calculations!$GY$4,2)=MATCH(R$8,Calculations!$CI$24:$CI$30,0),Calculations!$GY$4,"")),"") | U10: =IFERROR(IF(LEN(R10)>0,R10+1,IF(WEEKDAY(Calculations!$GY$4,2)=MATCH(U$8,Calculations!$CI$24:$CI$30,0),Calculations!$GY$4,"")),"") -> 44927
C11: =IFERROR(INDEX(Calculations!$E$7:$E$18,MATCH(Calculations!$GY7,INDEX(Calculations!$DA$7:$EE$18,,MATCH(C10,Calculations!$DA$6:$EE$6,0)),0)),"") | F11: =IFERROR(INDEX(Calculations!$E$7:$E$18,MATCH(Calculations!$GY7,INDEX(Calculations!$DA$7:$EE$18,,MATCH(F10,Calculations!$DA$6:$EE$6,0)),0)),"") | I11: =IFERROR(INDEX(Calculations!$E$7:$E$18,MATCH(Calculations!$GY7,INDEX(Calculations!$DA$7:$EE$18,,MATCH(I10,Calculations!$DA$6:$EE$6,0)),0)),"") | L11: =IFERROR(INDEX(Calculations!$E$7:$E$18,MATCH(Calculations!$GY7,INDEX(Calculations!$DA$7:$EE$18,,MATCH(L10,Calculations!$DA$6:$EE$6,0)),0)),"") | O11: =IFERROR(INDEX(Calculations!$E$7:$E$18,MATCH(Calculations!$GY7,INDEX(Calculations!$DA$7:$EE$18,,MATCH(O10,Calculations!$DA$6:$EE$6,0)),0)),"") | R11: =IFERROR(INDEX(Calculations!$E$7:$E$18,MATCH(Calculations!$GY7,INDEX(Calculations!$DA$7:$EE$18,,MATCH(R10,Calculations!$DA$6:$EE$6,0)),0)),"") | U11: =IFERROR(INDEX(Calculations!$E$7:$E$18,MATCH(Calculations!$GY7,INDEX(Calculations!$DA$7:$EE$18,,MATCH(U10,Calculations!$DA$6:$EE$6,0)),0)),"")
C12: =IFERROR(INDEX(Calculations!$E$7:$E$18,MATCH(Calculations!$GY8,INDEX(Calculations!$DA$7:$EE$18,,MATCH(C10,Calculations!$DA$6:$EE$6,0)),0)),"") | F12: =IFERROR(INDEX(Calculations!$E$7:$E$18,MATCH(Calculations!$GY8,INDEX(Calculations!$DA$7:$EE$18,,MATCH(F10,Calculations!$DA$6:$EE$6,0)),0)),"") | I12: =IFERROR(INDEX(Calculations!$E$7:$E$18,MATCH(Calculations!$GY8,INDEX(Calculations!$DA$7:$EE$18,,MATCH(I10,Calculations!$DA$6:$EE$6,0)),0)),"") | L12: =IFERROR(INDEX(Calculations!$E$7:$E$18,MATCH(Calculations!$GY8,INDEX(Calculations!$DA$7:$EE$18,,MATCH(L10,Calculations!$DA$6:$EE$6,0)),0)),"") | O12: =IFERROR(INDEX(Calculations!$E$7:$E$18,MATCH(Calculations!$GY8,INDEX(Calculations!$DA$7:$EE$18,,MATCH(O10,Calculations!$DA$6:$EE$6,0)),0)),"") | R12: =IFERROR(INDEX(Calculations!$E$7:$E$18,MATCH(Calculations!$GY8,INDEX(Calculations!$DA$7:$EE$18,,MATCH(R10,Calculations!$DA$6:$EE$6,0)),0)),"") | U12: =IFERROR(INDEX(Calculations!$E$7:$E$18,MATCH(Calculations!$GY8,INDEX(Calculations!$DA$7:$EE$18,,MATCH(U10,Calculations!$DA$6:$EE$6,0)),0)),"")
C13: =IFERROR(INDEX(Calculations!$E$7:$E$18,MATCH(Calculations!$GY9,INDEX(Calculations!$DA$7:$EE$18,,MATCH(C10,Calculations!$DA$6:$EE$6,0)),0)),"") | F13: =IFERROR(INDEX(Calculations!$E$7:$E$18,MATCH(Calculations!$GY9,INDEX(Calculations!$DA$7:$EE$18,,MATCH(F10,Calculations!$DA$6:$EE$6,0)),0)),"") | I13: =IFERROR(INDEX(Calculations!$E$7:$E$18,MATCH(Calculations!$GY9,INDEX(Calculations!$DA$7:$EE$18,,MATCH(I10,Calculations!$DA$6:$EE$6,0)),0)),"") | L13: =IFERROR(INDEX(Calculations!$E$7:$E$18,MATCH(Calculations!$GY9,INDEX(Calculations!$DA$7:$EE$18,,MATCH(L10,Calculations!$DA$6:$EE$6,0)),0)),"") | O13: =IFERROR(INDEX(Calculations!$E$7:$E$18,MATCH(Calculations!$GY9,INDEX(Calculations!$DA$7:$EE$18,,MATCH(O10,Calculations!$DA$6:$EE$6,0)),0)),"") | R13: =IFERROR(INDEX(Calculations!$E$7:$E$18,MATCH(Calculations!$GY9,INDEX(Calculations!$DA$7:$EE$18,,MATCH(R10,Calculations!$DA$6:$EE$6,0)),0)),"") | U13: =IFERROR(INDEX(Calculations!$E$7:$E$18,MATCH(Calculations!$GY9,INDEX(Calculations!$DA$7:$EE$18,,MATCH(U10,Calculations!$DA$6:$EE$6,0)),0)),"")
C14: =IFERROR(INDEX(Calculations!$E$7:$E$18,MATCH(Calculations!$GY10,INDEX(Calculations!$DA$7:$EE$18,,MATCH(C10,Calculations!$DA$6:$EE$6,0)),0)),"") | F14: =IFERROR(INDEX(Calculations!$E$7:$E$18,MATCH(Calculations!$GY10,INDEX(Calculations!$DA$7:$EE$18,,MATCH(F10,Calculations!$DA$6:$EE$6,0)),0)),"") | I14: =IFERROR(INDEX(Calculations!$E$7:$E$18,MATCH(Calculations!$GY10,INDEX(Calculations!$DA$7:$EE$18,,MATCH(I10,Calculations!$DA$6:$EE$6,0)),0)),"") | L14: =IFERROR(INDEX(Calculations!$E$7:$E$18,MATCH(Calculations!$GY10,INDEX(Calculations!$DA$7:$EE$18,,MATCH(L10,Calculations!$DA$6:$EE$6,0)),0)),"") | O14: =IFERROR(INDEX(Calculations!$E$7:$E$18,MATCH(Calculations!$GY10,INDEX(Calculations!$DA$7:$EE$18,,MATCH(O10,Calculations!$DA$6:$EE$6,0)),0)),"") | R14: =IFERROR(INDEX(Calculations!$E$7:$E$18,MATCH(Calculations!$GY10,INDEX(Calculations!$DA$7:$EE$18,,MATCH(R10,Calculations!$DA$6:$EE$6,0)),0)),"") | U14: =IFERROR(INDEX(Calculations!$E$7:$E$18,MATCH(Calculations!$GY10,INDEX(Calculations!$DA$7:$EE$18,,MATCH(U10,Calculations!$DA$6:$EE$6,0)),0)),"")
C15: =IFERROR(INDEX(Calculations!$E$7:$E$18,MATCH(Calculations!$GY11,INDEX(Calculations!$DA$7:$EE$18,,MATCH(C10,Calculations!$DA$6:$EE$6,0)),0)),"") | F15: =IFERROR(INDEX(Calculations!$E$7:$E$18,MATCH(Calculations!$GY11,INDEX(Calculations!$DA$7:$EE$18,,MATCH(F10,Calculations!$DA$6:$EE$6,0)),0)),"") | I15: =IFERROR(INDEX(Calculations!$E$7:$E$18,MATCH(Calculations!$GY11,INDEX(Calculations!$DA$7:$EE$18,,MATCH(I10,Calculations!$DA$6:$EE$6,0)),0)),"") | L15: =IFERROR(INDEX(Calculations!$E$7:$E$18,MATCH(Calculations!$GY11,INDEX(Calculations!$DA$7:$EE$18,,MATCH(L10,Calculations!$DA$6:$EE$6,0)),0)),"") | O15: =IFERROR(INDEX(Calculations!$E$7:$E$18,MATCH(Calculations!$GY11,INDEX(Calculations!$DA$7:$EE$18,,MATCH(O10,Calculations!$DA$6:$EE$6,0)),0)),"") | R15: =IFERROR(INDEX(Calculations!$E$7:$E$18,MATCH(Calculations!$GY11,INDEX(Calculations!$DA$7:$EE$18,,MATCH(R10,Calculations!$DA$6:$EE$6,0)),0)),"") | U15: =IFERROR(INDEX(Calculations!$E$7:$E$18,MATCH(Calculations!$GY11,INDEX(Calculations!$DA$7:$EE$18,,MATCH(U10,Calculations!$DA$6:$EE$6,0)),0)),"")
C16: =IFERROR(INDEX(Calculations!$E$7:$E$18,MATCH(Calculations!$GY12,INDEX(Calculations!$DA$7:$EE$18,,MATCH(C10,Calculations!$DA$6:$EE$6,0)),0)),"") | F16: =IFERROR(INDEX(Calculations!$E$7:$E$18,MATCH(Calculations!$GY12,INDEX(Calculations!$DA$7:$EE$18,,MATCH(F10,Calculations!$DA$6:$EE$6,0)),0)),"") | I16: =IFERROR(INDEX(Calculations!$E$7:$E$18,MATCH(Calculations!$GY12,INDEX(Calculations!$DA$7:$EE$18,,MATCH(I10,Calculations!$DA$6:$EE$6,0)),0)),"") | L16: =IFERROR(INDEX(Calculations!$E$7:$E$18,MATCH(Calculations!$GY12,INDEX(Calculations!$DA$7:$EE$18,,MATCH(L10,Calculations!$DA$6:$EE$6,0)),0)),"") | O16: =IFERROR(INDEX(Calculations!$E$7:$E$18,MATCH(Calculations!$GY12,INDEX(Calculations!$DA$7:$EE$18,,MATCH(O10,Calculations!$DA$6:$EE$6,0)),0)),"") | R16: =IFERROR(INDEX(Calculations!$E$7:$E$18,MATCH(Calculations!$GY12,INDEX(Calculations!$DA$7:$EE$18,,MATCH(R10,Calculations!$DA$6:$EE$6,0)),0)),"") | U16: =IFERROR(INDEX(Calculations!$E$7:$E$18,MATCH(Calculations!$GY12,INDEX(Calculations!$DA$7:$EE$18,,MATCH(U10,Calculations!$DA$6:$EE$6,0)),0)),"")
C18: =IFERROR(IF(LEN(U10)<1,"",IF(MONTH(U10+1)=MONTH(U10),U10+1,"")),"") -> 44928 | F18: =IFERROR(IF(LEN(C18)<1,"",IF(MONTH(C18+1)=MONTH(C18),C18+1,"")),"") -> 44929 | I18: =IFERROR(IF(LEN(F18)<1,"",IF(MONTH(F18+1)=MONTH(F18),F18+1,"")),"") -> 44930 | L18: =IFERROR(IF(LEN(I18)<1,"",IF(MONTH(I18+1)=MONTH(I18),I18+1,"")),"") -> 44931 | O18: =IFERROR(IF(LEN(L18)<1,"",IF(MONTH(L18+1)=MONTH(L18),L18+1,"")),"") -> 44932 | R18: =IFERROR(IF(LEN(O18)<1,"",IF(MONTH(O18+1)=MONTH(O18),O18+1,"")),"") -> 44933 | U18: =IFERROR(IF(LEN(R18)<1,"",IF(MONTH(R18+1)=MONTH(R18),R18+1,"")),"") -> 44934
C19: =IFERROR(INDEX(Calculations!$E$7:$E$18,MATCH(Calculations!$GY15,INDEX(Calculations!$DA$7:$EE$18,,MATCH(C18,Calculations!$DA$6:$EE$6,0)),0)),"") -> Start | F19: =IFERROR(INDEX(Calculations!$E$7:$E$18,MATCH(Calculations!$GY15,INDEX(Calculations!$DA$7:$EE$18,,MATCH(F18,Calculations!$DA$6:$EE$6,0)),0)),"") -> Start | I19: =IFERROR(INDEX(Calculations!$E$7:$E$18,MATCH(Calculations!$GY15,INDEX(Calculations!$DA$7:$EE$18,,MATCH(I18,Calculations!$DA$6:$EE$6,0)),0)),"") -> Start | L19: =IFERROR(INDEX(Calculations!$E$7:$E$18,MATCH(Calculations!$GY15,INDEX(Calculations!$DA$7:$EE$18,,MATCH(L18,Calculations!$DA$6:$EE$6,0)),0)),"") | O19: =IFERROR(INDEX(Calculations!$E$7:$E$18,MATCH(Calculations!$GY15,INDEX(Calculations!$DA$7:$EE$18,,MATCH(O18,Calculations!$DA$6:$EE$6,0)),0)),"") | R19: =IFERROR(INDEX(Calculations!$E$7:$E$18,MATCH(Calculations!$GY15,INDEX(Calculations!$DA$7:$EE$18,,MATCH(R18,Calculations!$DA$6:$EE$6,0)),0)),"") | U19: =IFERROR(INDEX(Calculations!$E$7:$E$18,MATCH(Calculations!$GY15,INDEX(Calculations!$DA$7:$EE$18,,MATCH(U18,Calculations!$DA$6:$EE$6,0)),0)),"")
C20: =IFERROR(INDEX(Calculations!$E$7:$E$18,MATCH(Calculations!$GY16,INDEX(Calculations!$DA$7:$EE$18,,MATCH(C18,Calculations!$DA$6:$EE$6,0)),0)),"") -> Phase 1: Planning | F20: =IFERROR(INDEX(Calculations!$E$7:$E$18,MATCH(Calculations!$GY16,INDEX(Calculations!$DA$7:$EE$18,,MATCH(F18,Calculations!$DA$6:$EE$6,0)),0)),"") -> Phase 1: Planning | I20: =IFERROR(INDEX(Calculations!$E$7:$E$18,MATCH(Calculations!$GY16,INDEX(Calculations!$DA$7:$EE$18,,MATCH(I18,Calculations!$DA$6:$EE$6,0)),0)),"") -> Phase 1: Planning | L20: =IFERROR(INDEX(Calculations!$E$7:$E$18,MATCH(Calculations!$GY16,INDEX(Calculations!$DA$7:$EE$18,,MATCH(L18,Calculations!$DA$6:$EE$6,0)),0)),"") -> Phase 1: Planning | O20: =IFERROR(INDEX(Calculations!$E$7:$E$18,MATCH(Calculations!$GY16,INDEX(Calculations!$DA$7:$EE$18,,MATCH(O18,Calculations!$DA$6:$EE$6,0)),0)),"") -> Phase 1: Planning | R20: =IFERROR(INDEX(Calculations!$E$7:$E$18,MATCH(Calculations!$GY16,INDEX(Calculations!$DA$7:$EE$18,,MATCH(R18,Calculations!$DA$6:$EE$6,0)),0)),"") | U20: =IFERROR(INDEX(Calculations!$E$7:$E$18,MATCH(Calculations!$GY16,INDEX(Calculations!$DA$7:$EE$18,,MATCH(U18,Calculations!$DA$6:$EE$6,0)),0)),"")
C21: =IFERROR(INDEX(Calculations!$E$7:$E$18,MATCH(Calculations!$GY17,INDEX(Calculations!$DA$7:$EE$18,,MATCH(C18,Calculations!$DA$6:$EE$6,0)),0)),"") -> Define project scope and objectives | F21: =IFERROR(INDEX(Calculations!$E$7:$E$18,MATCH(Calculations!$GY17,INDEX(Calculations!$DA$7:$EE$18,,MATCH(F18,Calculations!$DA$6:$EE$6,0)),0)),"") -> Define project scope and objectives | I21: =IFERROR(INDEX(Calculations!$E$7:$E$18,MATCH(Calculations!$GY17,INDEX(Calculations!$DA$7:$EE$18,,MATCH(I18,Calculations!$DA$6:$EE$6,0)),0)),"") -> Define project scope and objectives | L21: =IFERROR(INDEX(Calculations!$E$7:$E$18,MATCH(Calculations!$GY17,INDEX(Calculations!$DA$7:$EE$18,,MATCH(L18,Calculations!$DA$6:$EE$6,0)),0)),"") -> Define project scope and objectives | O21: =IFERROR(INDEX(Calculations!$E$7:$E$18,MATCH(Calculations!$GY17,INDEX(Calculations!$DA$7:$EE$18,,MATCH(O18,Calculations!$DA$6:$EE$6,0)),0)),"") -> Define project scope and objectives | R21: =IFERROR(INDEX(Calculations!$E$7:$E$18,MATCH(Calculations!$GY17,INDEX(Calculations!$DA$7:$EE$18,,MATCH(R18,Calculations!$DA$6:$EE$6,0)),0)),"") | U21: =IFERROR(INDEX(Calculations!$E$7:$E$18,MATCH(Calculations!$GY17,INDEX(Calculations!$DA$7:$EE$18,,MATCH(U18,Calculations!$DA$6:$EE$6,0)),0)),"")
C22: =IFERROR(INDEX(Calculations!$E$7:$E$18,MATCH(Calculations!$GY18,INDEX(Calculations!$DA$7:$EE$18,,MATCH(C18,Calculations!$DA$6:$EE$6,0)),0)),"") | F22: =IFERROR(INDEX(Calculations!$E$7:$E$18,MATCH(Calculations!$GY18,INDEX(Calculations!$DA$7:$EE$18,,MATCH(F18,Calculations!$DA$6:$EE$6,0)),0)),"") | I22: =IFERROR(INDEX(Calculations!$E$7:$E$18,MATCH(Calculations!$GY18,INDEX(Calculations!$DA$7:$EE$18,,MATCH(I18,Calculations!$DA$6:$EE$6,0)),0)),"") -> Identify stakeholders and gather requirements | L22: =IFERROR(INDEX(Calculations!$E$7:$E$18,MATCH(Calculations!$GY18,INDEX(Calculations!$DA$7:$EE$18,,MATCH(L18,Calculations!$DA$6:$EE$6,0)),0)),"") -> Identify stakeholders and gather requirements | O22: =IFERROR(INDEX(Calculations!$E$7:$E$18,MATCH(Calculations!$GY18,INDEX(Calculations!$DA$7:$EE$18,,MATCH(O18,Calculations!$DA$6:$EE$6,0)),0)),"") -> Identify stakeholders and gather requirements | R22: =IFERROR(INDEX(Calculations!$E$7:$E$18,MATCH(Calculations!$GY18,INDEX(Calculations!$DA$7:$EE$18,,MATCH(R18,Calculations!$DA$6:$EE$6,0)),0)),"") | U22: =IFERROR(INDEX(Calculations!$E$7:$E$18,MATCH(Calculations!$GY18,INDEX(Calculations!$DA$7:$EE$18,,MATCH(U18,Calculations!$DA$6:$EE$6,0)),0)),"")
C23: =IFERROR(INDEX(Calculations!$E$7:$E$18,MATCH(Calculations!$GY19,INDEX(Calculations!$DA$7:$EE$18,,MATCH(C18,Calculations!$DA$6:$EE$6,0)),0)),"") | F23: =IFERROR(INDEX(Calculations!$E$7:$E$18,MATCH(Calculations!$GY19,INDEX(Calculations!$DA$7:$EE$18,,MATCH(F18,Calculations!$DA$6:$EE$6,0)),0)),"") | I23: =IFERROR(INDEX(Calculations!$E$7:$E$18,MATCH(Calculations!$GY19,INDEX(Calculations!$DA$7:$EE$18,,MATCH(I18,Calculations!$DA$6:$EE$6,0)),0)),"") | L23: =IFERROR(INDEX(Calculations!$E$7:$E$18,MATCH(Calculations!$GY19,INDEX(Calculations!$DA$7:$EE$18,,MATCH(L18,Calculations!$DA$6:$EE$6,0)),0)),"") | O23: =IFERROR(INDEX(Calculations!$E$7:$E$18,MATCH(Calculations!$GY19,INDEX(Calculations!$DA$7:$EE$18,,MATCH(O18,Calculations!$DA$6:$EE$6,0)),0)),"") | R23: =IFERROR(INDEX(Calculations!$E$7:$E$18,MATCH(Calculations!$GY19,INDEX(Calculations!$DA$7:$EE$18,,MATCH(R18,Calculations!$DA$6:$EE$6,0)),0)),"") | U23: =IFERROR(INDEX(Calculations!$E$7:$E$18,MATCH(Calculations!$GY19,INDEX(Calculations!$DA$7:$EE$18,,MATCH(U18,Calculations!$DA$6:$EE$6,0)),0)),"")
C24: =IFERROR(INDEX(Calculations!$E$7:$E$18,MATCH(Calculations!$GY20,INDEX(Calculations!$DA$7:$EE$18,,MATCH(C18,Calculations!$DA$6:$EE$6,0)),0)),"") | F24: =IFERROR(INDEX(Calculations!$E$7:$E$18,MATCH(Calculations!$GY20,INDEX(Calculations!$DA$7:$EE$18,,MATCH(F18,Calculations!$DA$6:$EE$6,0)),0)),"") | I24: =IFERROR(INDEX(Calculations!$E$7:$E$18,MATCH(Calculations!$GY20,INDEX(Calculations!$DA$7:$EE$18,,MATCH(I18,Calculations!$DA$6:$EE$6,0)),0)),"") | L24: =IFERROR(INDEX(Calculations!$E$7:$E$18,MATCH(Calculations!$GY20,INDEX(Calculations!$DA$7:$EE$18,,MATCH(L18,Calculations!$DA$6:$EE$6,0)),0)),"") | O24: =IFERROR(INDEX(Calculations!$E$7:$E$18,MATCH(Calculations!$GY20,INDEX(Calculations!$DA$7:$EE$18,,MATCH(O18,Calculations!$DA$6:$EE$6,0)),0)),"") | R24: =IFERROR(INDEX(Calculations!$E$7:$E$18,MATCH(Calculations!$GY20,INDEX(Calculations!$DA$7:$EE$18,,MATCH(R18,Calculations!$DA$6:$EE$6,0)),0)),"") | U24: =IFERROR(INDEX(Calculations!$E$7:$E$18,MATCH(Calculations!$GY20,INDEX(Calculations!$DA$7:$EE$18,,MATCH(U18,Calculations!$DA$6:$EE$6,0)),0)),"")
C26: =IFERROR(IF(LEN(U18)<1,"",IF(MONTH(U18+1)=MONTH(U18),U18+1,"")),"") -> 44935 | F26: =IFERROR(IF(LEN(C26)<1,"",IF(MONTH(C26+1)=MONTH(C26),C26+1,"")),"") -> 44936 | I26: =IFERROR(IF(LEN(F26)<1,"",IF(MONTH(F26+1)=MONTH(F26),F26+1,"")),"") -> 44937 | L26: =IFERROR(IF(LEN(I26)<1,"",IF(MONTH(I26+1)=MONTH(I26),I26+1,"")),"") -> 44938 | O26: =IFERROR(IF(LEN(L26)<1,"",IF(MONTH(L26+1)=MONTH(L26),L26+1,"")),"") -> 44939 | R26: =IFERROR(IF(LEN(O26)<1,"",IF(MONTH(O26+1)=MONTH(O26),O26+1,"")),"") -> 44940 | U26: =IFERROR(IF(LEN(R26)<1,"",IF(MONTH(R26+1)=MONTH(R26),R26+1,"")),"") -> 44941
C27: =IFERROR(INDEX(Calculations!$E$7:$E$18,MATCH(Calculations!$GY23,INDEX(Calculations!$DA$7:$EE$18,,MATCH(C26,Calculations!$DA$6:$EE$6,0)),0)),"") -> Phase 1: Planning | F27: =IFERROR(INDEX(Calculations!$E$7:$E$18,MATCH(Calculations!$GY23,INDEX(Calculations!$DA$7:$EE$18,,MATCH(F26,Calculations!$DA$6:$EE$6,0)),0)),"") -> Phase 1: Planning | I27: =IFERROR(INDEX(Calculations!$E$7:$E$18,MATCH(Calculations!$GY23,INDEX(Calculations!$DA$7:$EE$18,,MATCH(I26,Calculations!$DA$6:$EE$6,0)),0)),"") -> Phase 1: Planning | L27: =IFERROR(INDEX(Calculations!$E$7:$E$18,MATCH(Calculations!$GY23,INDEX(Calculations!$DA$7:$EE$18,,MATCH(L26,Calculations!$DA$6:$EE$6,0)),0)),"") -> Phase 1: Planning | O27: =IFERROR(INDEX(Calculations!$E$7:$E$18,MATCH(Calculations!$GY23,INDEX(Calculations!$DA$7:$EE$18,,MATCH(O26,Calculations!$DA$6:$EE$6,0)),0)),"") -> Phase 1: Planning | R27: =IFERROR(INDEX(Calculations!$E$7:$E$18,MATCH(Calculations!$GY23,INDEX(Calculations!$DA$7:$EE$18,,MATCH(R26,Calculations!$DA$6:$EE$6,0)),0)),"") | U27: =IFERROR(INDEX(Calculations!$E$7:$E$18,MATCH(Calculations!$GY23,INDEX(Calculations!$DA$7:$EE$18,,MATCH(U26,Calculations!$DA$6:$EE$6,0)),0)),"")
C28: =IFERROR(INDEX(Calculations!$E$7:$E$18,MATCH(Calculations!$GY24,INDEX(Calculations!$DA$7:$EE$18,,MATCH(C26,Calculations!$DA$6:$EE$6,0)),0)),"") -> Define project scope and objectives | F28: =IFERROR(INDEX(Calculations!$E$7:$E$18,MATCH(Calculations!$GY24,INDEX(Calculations!$DA$7:$EE$18,,MATCH(F26,Calculations!$DA$6:$EE$6,0)),0)),"") -> Define project scope and objectives | I28: =IFERROR(INDEX(Calculations!$E$7:$E$18,MATCH(Calculations!$GY24,INDEX(Calculations!$DA$7:$EE$18,,MATCH(I26,Calculations!$DA$6:$EE$6,0)),0)),"") -> Define project scope and objectives | L28: =IFERROR(INDEX(Calculations!$E$7:$E$18,MATCH(Calculations!$GY24,INDEX(Calculations!$DA$7:$EE$18,,MATCH(L26,Calculations!$DA$6:$EE$6,0)),0)),"") -> Define project scope and objectives | O28: =IFERROR(INDEX(Calculations!$E$7:$E$18,MATCH(Calculations!$GY24,INDEX(Calculations!$DA$7:$EE$18,,MATCH(O26,Calculations!$DA$6:$EE$6,0)),0)),"") -> Define project scope and objectives | R28: =IFERROR(INDEX(Calculations!$E$7:$E$18,MATCH(Calculations!$GY24,INDEX(Calculations!$DA$7:$EE$18,,MATCH(R26,Calculations!$DA$6:$EE$6,0)),0)),"") | U28: =IFERROR(INDEX(Calculations!$E$7:$E$18,MATCH(Calculations!$GY24,INDEX(Calculations!$DA$7:$EE$18,,MATCH(U26,Calculations!$DA$6:$EE$6,0)),0)),"")
C29: =IFERROR(INDEX(Calculations!$E$7:$E$18,MATCH(Calculations!$GY25,INDEX(Calculations!$DA$7:$EE$18,,MATCH(C26,Calculations!$DA$6:$EE$6,0)),0)),"") -> Identify stakeholders and gather requirements | F29: =IFERROR(INDEX(Calculations!$E$7:$E$18,MATCH(Calculations!$GY25,INDEX(Calculations!$DA$7:$EE$18,,MATCH(F26,Calculations!$DA$6:$EE$6,0)),0)),"") -> Identify stakeholders and gather requirements | I29: =IFERROR(INDEX(Calculations!$E$7:$E$18,MATCH(Calculations!$GY25,INDEX(Calculations!$DA$7:$EE$18,,MATCH(I26,Calculations!$DA$6:$EE$6,0)),0)),"") -> Identify stakeholders and gather requirements | L29: =IFERROR(INDEX(Calculations!$E$7:$E$18,MATCH(Calculations!$GY25,INDEX(Calculations!$DA$7:$EE$18,,MATCH(L26,Calculations!$DA$6:$EE$6,0)),0)),"") -> Identify stakeholders and gather requirements | O29: =IFERROR(INDEX(Calculations!$E$7:$E$18,MATCH(Calculations!$GY25,INDEX(Calculations!$DA$7:$EE$18,,MATCH(O26,Calculations!$DA$6:$EE$6,0)),0)),"") -> Identify stakeholders and gather requirements | R29: =IFERROR(INDEX(Calculations!$E$7:$E$18,MATCH(Calculations!$GY25,INDEX(Calculations!$DA$7:$EE$18,,MATCH(R26,Calculations!$DA$6:$EE$6,0)),0)),"") | U29: =IFERROR(INDEX(Calculations!$E$7:$E$18,MATCH(Calculations!$GY25,INDEX(Calculations!$DA$7:$EE$18,,MATCH(U26,Calculations!$DA$6:$EE$6,0)),0)),"")
C30: =IFERROR(INDEX(Calculations!$E$7:$E$18,MATCH(Calculations!$GY26,INDEX(Calculations!$DA$7:$EE$18,,MATCH(C26,Calculations!$DA$6:$EE$6,0)),0)),"") | F30: =IFERROR(INDEX(Calculations!$E$7:$E$18,MATCH(Calculations!$GY26,INDEX(Calculations!$DA$7:$EE$18,,MATCH(F26,Calculations!$DA$6:$EE$6,0)),0)),"") | I30: =IFERROR(INDEX(Calculations!$E$7:$E$18,MATCH(Calculations!$GY26,INDEX(Calculations!$DA$7:$EE$18,,MATCH(I26,Calculations!$DA$6:$EE$6,0)),0)),"") | L30: =IFERROR(INDEX(Calculations!$E$7:$E$18,MATCH(Calculations!$GY26,INDEX(Calculations!$DA$7:$EE$18,,MATCH(L26,Calculations!$DA$6:$EE$6,0)),0)),"") | O30: =IFERROR(INDEX(Calculations!$E$7:$E$18,MATCH(Calculations!$GY26,INDEX(Calculations!$DA$7:$EE$18,,MATCH(O26,Calculations!$DA$6:$EE$6,0)),0)),"") -> Develop project charter and plan | R30: =IFERROR(INDEX(Calculations!$E$7:$E$18,MATCH(Calculations!$GY26,INDEX(Calculations!$DA$7:$EE$18,,MATCH(R26,Calculations!$DA$6:$EE$6,0)),0)),"") | U30: =IFERROR(INDEX(Calculations!$E$7:$E$18,MATCH(Calculations!$GY26,INDEX(Calculations!$DA$7:$EE$18,,MATCH(U26,Calculations!$DA$6:$EE$6,0)),0)),"")
C31: =IFERROR(INDEX(Calculations!$E$7:$E$18,MATCH(Calculations!$GY27,INDEX(Calculations!$DA$7:$EE$18,,MATCH(C26,Calculations!$DA$6:$EE$6,0)),0)),"") | F31: =IFERROR(INDEX(Calculations!$E$7:$E$18,MATCH(Calculations!$GY27,INDEX(Calculations!$DA$7:$EE$18,,MATCH(F26,Calculations!$DA$6:$EE$6,0)),0)),"") | I31: =IFERROR(INDEX(Calculations!$E$7:$E$18,MATCH(Calculations!$GY27,INDEX(Calculations!$DA$7:$EE$18,,MATCH(I26,Calculations!$DA$6:$EE$6,0)),0)),"") | L31: =IFERROR(INDEX(Calculations!$E$7:$E$18,MATCH(Calculations!$GY27,INDEX(Calculations!$DA$7:$EE$18,,MATCH(L26,Calculations!$DA$6:$EE$6,0)),0)),"") | O31: =IFERROR(INDEX(Calculations!$E$7:$E$18,MATCH(Calculations!$GY27,INDEX(Calculations!$DA$7:$EE$18,,MATCH(O26,Calculations!$DA$6:$EE$6,0)),0)),"") -> Secure funding and resources | R31: =IFERROR(INDEX(Calculations!$E$7:$E$18,MATCH(Calculations!$GY27,INDEX(Calculations!$DA$7:$EE$18,,MATCH(R26,Calculations!$DA$6:$EE$6,0)),0)),"") | U31: =IFERROR(INDEX(Calculations!$E$7:$E$18,MATCH(Calculations!$GY27,INDEX(Calculations!$DA$7:$EE$18,,MATCH(U26,Calculations!$DA$6:$EE$6,0)),0)),"")
C32: =IFERROR(INDEX(Calculations!$E$7:$E$18,MATCH(Calculations!$GY28,INDEX(Calculations!$DA$7:$EE$18,,MATCH(C26,Calculations!$DA$6:$EE$6,0)),0)),"") | F32: =IFERROR(INDEX(Calculations!$E$7:$E$18,MATCH(Calculations!$GY28,INDEX(Calculations!$DA$7:$EE$18,,MATCH(F26,Calculations!$DA$6:$EE$6,0)),0)),"") | I32: =IFERROR(INDEX(Calculations!$E$7:$E$18,MATCH(Calculations!$GY28,INDEX(Calculations!$DA$7:$EE$18,,MATCH(I26,Calculations!$DA$6:$EE$6,0)),0)),"") | L32: =IFERROR(INDEX(Calculations!$E$7:$E$18,MATCH(Calculations!$GY28,INDEX(Calculations!$DA$7:$EE$18,,MATCH(L26,Calculations!$DA$6:$EE$6,0)),0)),"") | O32: =IFERROR(INDEX(Calculations!$E$7:$E$18,MATCH(Calculations!$GY28,INDEX(Calculations!$DA$7:$EE$18,,MATCH(O26,Calculations!$DA$6:$EE$6,0)),0)),"") | R32: =IFERROR(INDEX(Calculations!$E$7:$E$18,MATCH(Calculations!$GY28,INDEX(Calculations!$DA$7:$EE$18,,MATCH(R26,Calculations!$DA$6:$EE$6,0)),0)),"") | U32: =IFERROR(INDEX(Calculations!$E$7:$E$18,MATCH(Calculations!$GY28,INDEX(Calculations!$DA$7:$EE$18,,MATCH(U26,Calculations!$DA$6:$EE$6,0)),0)),"")
C34: =IFERROR(IF(LEN(U26)<1,"",IF(MONTH(U26+1)=MONTH(U26),U26+1,"")),"") -> 44942 | F34: =IFERROR(IF(LEN(C34)<1,"",IF(MONTH(C34+1)=MONTH(C34),C34+1,"")),"") -> 44943 | I34: =IFERROR(IF(LEN(F34)<1,"",IF(MONTH(F34+1)=MONTH(F34),F34+1,"")),"") -> 44944 | L34: =IFERROR(IF(LEN(I34)<1,"",IF(MONTH(I34+1)=MONTH(I34),I34+1,"")),"") -> 44945 | O34: =IFERROR(IF(LEN(L34)<1,"",IF(MONTH(L34+1)=MONTH(L34),L34+1,"")),"") -> 44946 | R34: =IFERROR(IF(LEN(O34)<1,"",IF(MONTH(O34+1)=MONTH(O34),O34+1,"")),"") -> 44947 | U34: =IFERROR(IF(LEN(R34)<1,"",IF(MONTH(R34+1)=MONTH(R34),R34+1,"")),"") -> 44948
C35: =IFERROR(INDEX(Calculations!$E$7:$E$18,MATCH(Calculations!$GY31,INDEX(Calculations!$DA$7:$EE$18,,MATCH(C34,Calculations!$DA$6:$EE$6,0)),0)),"") -> Phase 1: Planning | F35: =IFERROR(INDEX(Calculations!$E$7:$E$18,MATCH(Calculations!$GY31,INDEX(Calculations!$DA$7:$EE$18,,MATCH(F34,Calculations!$DA$6:$EE$6,0)),0)),"") -> Phase 1: Planning | I35: =IFERROR(INDEX(Calculations!$E$7:$E$18,MATCH(Calculations!$GY31,INDEX(Calculations!$DA$7:$EE$18,,MATCH(I34,Calculations!$DA$6:$EE$6,0)),0)),"") -> Phase 1: Planning | L35: =IFERROR(INDEX(Calculations!$E$7:$E$18,MATCH(Calculations!$GY31,INDEX(Calculations!$DA$7:$EE$18,,MATCH(L34,Calculations!$DA$6:$EE$6,0)),0)),"") -> Phase 1: Planning | O35: =IFERROR(INDEX(Calculations!$E$7:$E$18,MATCH(Calculations!$GY31,INDEX(Calculations!$DA$7:$EE$18,,MATCH(O34,Calculations!$DA$6:$EE$6,0)),0)),"") -> Phase 1: Planning | R35: =IFERROR(INDEX(Calculations!$E$7:$E$18,MATCH(Calculations!$GY31,INDEX(Calculations!$DA$7:$EE$18,,MATCH(R34,Calculations!$DA$6:$EE$6,0)),0)),"") | U35: =IFERROR(INDEX(Calculations!$E$7:$E$18,MATCH(Calculations!$GY31,INDEX(Calculations!$DA$7:$EE$18,,MATCH(U34,Calculations!$DA$6:$EE$6,0)),0)),"")
C36: =IFERROR(INDEX(Calculations!$E$7:$E$18,MATCH(Calculations!$GY32,INDEX(Calculations!$DA$7:$EE$18,,MATCH(C34,Calculations!$DA$6:$EE$6,0)),0)),"") -> Develop project charter and plan | F36: =IFERROR(INDEX(Calculations!$E$7:$E$18,MATCH(Calculations!$GY32,INDEX(Calculations!$DA$7:$EE$18,,MATCH(F34,Calculations!$DA$6:$EE$6,0)),0)),"") -> Develop project charter and plan | I36: =IFERROR(INDEX(Calculations!$E$7:$E$18,MATCH(Calculations!$GY32,INDEX(Calculations!$DA$7:$EE$18,,MATCH(I34,Calculations!$DA$6:$EE$6,0)),0)),"") -> Develop project charter and plan | L36: =IFERROR(INDEX(Calculations!$E$7:$E$18,MATCH(Calculations!$GY32,INDEX(Calculations!$DA$7:$EE$18,,MATCH(L34,Calculations!$DA$6:$EE$6,0)),0)),"") -> Develop project charter and plan | O36: =IFERROR(INDEX(Calculations!$E$7:$E$18,MATCH(Calculations!$GY32,INDEX(Calculations!$DA$7:$EE$18,,MATCH(O34,Calculations!$DA$6:$EE$6,0)),0)),"") -> Develop project charter and plan | R36: =IFERROR(INDEX(Calculations!$E$7:$E$18,MATCH(Calculations!$GY32,INDEX(Calculations!$DA$7:$EE$18,,MATCH(R34,Calculations!$DA$6:$EE$6,0)),0)),"") | U36: =IFERROR(INDEX(Calculations!$E$7:$E$18,MATCH(Calculations!$GY32,INDEX(Calculations!$DA$7:$EE$18,,MATCH(U34,Calculations!$DA$6:$EE$6,0)),0)),"")
C37: =IFERROR(INDEX(Calculations!$E$7:$E$18,MATCH(Calculations!$GY33,INDEX(Calculations!$DA$7:$EE$18,,MATCH(C34,Calculations!$DA$6:$EE$6,0)),0)),"") -> Secure funding and resources | F37: =IFERROR(INDEX(Calculations!$E$7:$E$18,MATCH(Calculations!$GY33,INDEX(Calculations!$DA$7:$EE$18,,MATCH(F34,Calculations!$DA$6:$EE$6,0)),0)),"") -> Secure funding and resources | I37: =IFERROR(INDEX(Calculations!$E$7:$E$18,MATCH(Calculations!$GY33,INDEX(Calculations!$DA$7:$EE$18,,MATCH(I34,Calculations!$DA$6:$EE$6,0)),0)),"") -> Secure funding and resources | L37: =IFERROR(INDEX(Calculations!$E$7:$E$18,MATCH(Calculations!$GY33,INDEX(Calculations!$DA$7:$EE$18,,MATCH(L34,Calculations!$DA$6:$EE$6,0)),0)),"") -> Secure funding and resources | O37: =IFERROR(INDEX(Calculations!$E$7:$E$18,MATCH(Calculations!$GY33,INDEX(Calculations!$DA$7:$EE$18,,MATCH(O34,Calculations!$DA$6:$EE$6,0)),0)),"") -> Secure funding and resources | R37: =IFERROR(INDEX(Calculations!$E$7:$E$18,MATCH(Calculations!$GY33,INDEX(Calculations!$DA$7:$EE$18,,MATCH(R34,Calculations!$DA$6:$EE$6,0)),0)),"") | U37: =IFERROR(INDEX(Calculations!$E$7:$E$18,MATCH(Calculations!$GY33,INDEX(Calculations!$DA$7:$EE$18,,MATCH(U34,Calculations!$DA$6:$EE$6,0)),0)),"")
C38: =IFERROR(INDEX(Calculations!$E$7:$E$18,MATCH(Calculations!$GY34,INDEX(Calculations!$DA$7:$EE$18,,MATCH(C34,Calculations!$DA$6:$EE$6,0)),0)),"") | F38: =IFERROR(INDEX(Calculations!$E$7:$E$18,MATCH(Calculations!$GY34,INDEX(Calculations!$DA$7:$EE$18,,MATCH(F34,Calculations!$DA$6:$EE$6,0)),0)),"") | I38: =IFERROR(INDEX(Calculations!$E$7:$E$18,MATCH(Calculations!$GY34,INDEX(Calculations!$DA$7:$EE$18,,MATCH(I34,Calculations!$DA$6:$EE$6,0)),0)),"") | L38: =IFERROR(INDEX(Calculations!$E$7:$E$18,MATCH(Calculations!$GY34,INDEX(Calculations!$DA$7:$EE$18,,MATCH(L34,Calculations!$DA$6:$EE$6,0)),0)),"") | O38: =IFERROR(INDEX(Calculations!$E$7:$E$18,MATCH(Calculations!$GY34,INDEX(Calculations!$DA$7:$EE$18,,MATCH(O34,Calculations!$DA$6:$EE$6,0)),0)),"") -> Phase 2: Design | R38: =IFERROR(INDEX(Calculations!$E$7:$E$18,MATCH(Calculations!$GY34,INDEX(Calculations!$DA$7:$EE$18,,MATCH(R34,Calculations!$DA$6:$EE$6,0)),0)),"") | U38: =IFERROR(INDEX(Calculations!$E$7:$E$18,MATCH(Calculations!$GY34,INDEX(Calculations!$DA$7:$EE$18,,MATCH(U34,Calculations!$DA$6:$EE$6,0)),0)),"")
C39: =IFERROR(INDEX(Calculations!$E$7:$E$18,MATCH(Calculations!$GY35,INDEX(Calculations!$DA$7:$EE$18,,MATCH(C34,Calculations!$DA$6:$EE$6,0)),0)),"") | F39: =IFERROR(INDEX(Calculations!$E$7:$E$18,MATCH(Calculations!$GY35,INDEX(Calculations!$DA$7:$EE$18,,MATCH(F34,Calculations!$DA$6:$EE$6,0)),0)),"") | I39: =IFERROR(INDEX(Calculations!$E$7:$E$18,MATCH(Calculations!$GY35,INDEX(Calculations!$DA$7:$EE$18,,MATCH(I34,Calculations!$DA$6:$EE$6,0)),0)),"") | L39: =IFERROR(INDEX(Calculations!$E$7:$E$18,MATCH(Calculations!$GY35,INDEX(Calculations!$DA$7:$EE$18,,MATCH(L34,Calculations!$DA$6:$EE$6,0)),0)),"") | O39: =IFERROR(INDEX(Calculations!$E$7:$E$18,MATCH(Calculations!$GY35,INDEX(Calculations!$DA$7:$EE$18,,MATCH(O34,Calculations!$DA$6:$EE$6,0)),0)),"") -> Review and approve design | R39: =IFERROR(INDEX(Calculations!$E$7:$E$18,MATCH(Calculations!$GY35,INDEX(Calculations!$DA$7:$EE$18,,MATCH(R34,Calculations!$DA$6:$EE$6,0)),0)),"") | U39: =IFERROR(INDEX(Calculations!$E$7:$E$18,MATCH(Calculations!$GY35,INDEX(Calculations!$DA$7:$EE$18,,MATCH(U34,Calculations!$DA$6:$EE$6,0)),0)),"")
C40: =IFERROR(INDEX(Calculations!$E$7:$E$18,MATCH(Calculations!$GY36,INDEX(Calculations!$DA$7:$EE$18,,MATCH(C34,Calculations!$DA$6:$EE$6,0)),0)),"") | F40: =IFERROR(INDEX(Calculations!$E$7:$E$18,MATCH(Calculations!$GY36,INDEX(Calculations!$DA$7:$EE$18,,MATCH(F34,Calculations!$DA$6:$EE$6,0)),0)),"") | I40: =IFERROR(INDEX(Calculations!$E$7:$E$18,MATCH(Calculations!$GY36,INDEX(Calculations!$DA$7:$EE$18,,MATCH(I34,Calculations!$DA$6:$EE$6,0)),0)),"") | L40: =IFERROR(INDEX(Calculations!$E$7:$E$18,MATCH(Calculations!$GY36,INDEX(Calculations!$DA$7:$EE$18,,MATCH(L34,Calculations!$DA$6:$EE$6,0)),0)),"") | O40: =IFERROR(INDEX(Calculations!$E$7:$E$18,MATCH(Calculations!$GY36,INDEX(Calculations!$DA$7:$EE$18,,MATCH(O34,Calculations!$DA$6:$EE$6,0)),0)),"") | R40: =IFERROR(INDEX(Calculations!$E$7:$E$18,MATCH(Calculations!$GY36,INDEX(Calculations!$DA$7:$EE$18,,MATCH(R34,Calculations!$DA$6:$EE$6,0)),0)),"") | U40: =IFERROR(INDEX(Calculations!$E$7:$E$18,MATCH(Calculations!$GY36,INDEX(Calculations!$DA$7:$EE$18,,MATCH(U34,Calculations!$DA$6:$EE$6,0)),0)),"")
C42: =IFERROR(IF(LEN(U34)<1,"",IF(MONTH(U34+1)=MONTH(U34),U34+1,"")),"") -> 44949 | F42: =IFERROR(IF(LEN(C42)<1,"",IF(MONTH(C42+1)=MONTH(C42),C42+1,"")),"") -> 44950 | I42: =IFERROR(IF(LEN(F42)<1,"",IF(MONTH(F42+1)=MONTH(F42),F42+1,"")),"") -> 44951 | L42: =IFERROR(IF(LEN(I42)<1,"",IF(MONTH(I42+1)=MONTH(I42),I42+1,"")),"") -> 44952 | O42: =IFERROR(IF(LEN(L42)<1,"",IF(MONTH(L42+1)=MONTH(L42),L42+1,"")),"") -> 44953 | R42: =IFERROR(IF(LEN(O42)<1,"",IF(MONTH(O42+1)=MONTH(O42),O42+1,"")),"") -> 44954 | U42: =IFERROR(IF(LEN(R42)<1,"",IF(MONTH(R42+1)=MONTH(R42),R42+1,"")),"") -> 44955
C43: =IFERROR(INDEX(Calculations!$E$7:$E$18,MATCH(Calculations!$GY39,INDEX(Calculations!$DA$7:$EE$18,,MATCH(C42,Calculations!$DA$6:$EE$6,0)),0)),"") -> Phase 1: Planning | F43: =IFERROR(INDEX(Calculations!$E$7:$E$18,MATCH(Calculations!$GY39,INDEX(Calculations!$DA$7:$EE$18,,MATCH(F42,Calculations!$DA$6:$EE$6,0)),0)),"") -> Phase 1: Planning | I43: =IFERROR(INDEX(Calculations!$E$7:$E$18,MATCH(Calculations!$GY39,INDEX(Calculations!$DA$7:$EE$18,,MATCH(I42,Calculations!$DA$6:$EE$6,0)),0)),"") -> Phase 1: Planning | L43: =IFERROR(INDEX(Calculations!$E$7:$E$18,MATCH(Calculations!$GY39,INDEX(Calculations!$DA$7:$EE$18,,MATCH(L42,Calculations!$DA$6:$EE$6,0)),0)),"") -> Phase 1: Planning | O43: =IFERROR(INDEX(Calculations!$E$7:$E$18,MATCH(Calculations!$GY39,INDEX(Calculations!$DA$7:$EE$18,,MATCH(O42,Calculations!$DA$6:$EE$6,0)),0)),"") -> Phase 1: Planning | R43: =IFERROR(INDEX(Calculations!$E$7:$E$18,MATCH(Calculations!$GY39,INDEX(Calculations!$DA$7:$EE$18,,MATCH(R42,Calculations!$DA$6:$EE$6,0)),0)),"") | U43: =IFERROR(INDEX(Calculations!$E$7:$E$18,MATCH(Calculations!$GY39,INDEX(Calculations!$DA$7:$EE$18,,MATCH(U42,Calculations!$DA$6:$EE$6,0)),0)),"")
C44: =IFERROR(INDEX(Calculations!$E$7:$E$18,MATCH(Calculations!$GY40,INDEX(Calculations!$DA$7:$EE$18,,MATCH(C42,Calculations!$DA$6:$EE$6,0)),0)),"") -> Develop project charter and plan | F44: =IFERROR(INDEX(Calculations!$E$7:$E$18,MATCH(Calculations!$GY40,INDEX(Calculations!$DA$7:$EE$18,,MATCH(F42,Calculations!$DA$6:$EE$6,0)),0)),"") -> Develop project charter and plan | I44: =IFERROR(INDEX(Calculations!$E$7:$E$18,MATCH(Calculations!$GY40,INDEX(Calculations!$DA$7:$EE$18,,MATCH(I42,Calculations!$DA$6:$EE$6,0)),0)),"") -> Develop project charter and plan | L44: =IFERROR(INDEX(Calculations!$E$7:$E$18,MATCH(Calculations!$GY40,INDEX(Calculations!$DA$7:$EE$18,,MATCH(L42,Calculations!$DA$6:$EE$6,0)),0)),"") -> Develop project charter and plan | O44: =IFERROR(INDEX(Calculations!$E$7:$E$18,MATCH(Calculations!$GY40,INDEX(Calculations!$DA$7:$EE$18,,MATCH(O42,Calculations!$DA$6:$EE$6,0)),0)),"") -> Develop project charter and plan | R44: =IFERROR(INDEX(Calculations!$E$7:$E$18,MATCH(Calculations!$GY40,INDEX(Calculations!$DA$7:$EE$18,,MATCH(R42,Calculations!$DA$6:$EE$6,0)),0)),"") | U44: =IFERROR(INDEX(Calculations!$E$7:$E$18,MATCH(Calculations!$GY40,INDEX(Calculations!$DA$7:$EE$18,,MATCH(U42,Calculations!$DA$6:$EE$6,0)),0)),"")
C45: =IFERROR(INDEX(Calculations!$E$7:$E$18,MATCH(Calculations!$GY41,INDEX(Calculations!$DA$7:$EE$18,,MATCH(C42,Calculations!$DA$6:$EE$6,0)),0)),"") -> Phase 2: Design | F45: =IFERROR(INDEX(Calculations!$E$7:$E$18,MATCH(Calculations!$GY41,INDEX(Calculations!$DA$7:$EE$18,,MATCH(F42,Calculations!$DA$6:$EE$6,0)),0)),"") -> Phase 2: Design | I45: =IFERROR(INDEX(Calculations!$E$7:$E$18,MATCH(Calculations!$GY41,INDEX(Calculations!$DA$7:$EE$18,,MATCH(I42,Calculations!$DA$6:$EE$6,0)),0)),"") -> Phase 2: Design | L45: =IFERROR(INDEX(Calculations!$E$7:$E$18,MATCH(Calculations!$GY41,INDEX(Calculations!$DA$7:$EE$18,,MATCH(L42,Calculations!$DA$6:$EE$6,0)),0)),"") -> Phase 2: Design | O45: =IFERROR(INDEX(Calculations!$E$7:$E$18,MATCH(Calculations!$GY41,INDEX(Calculations!$DA$7:$EE$18,,MATCH(O42,Calculations!$DA$6:$EE$6,0)),0)),"") -> Phase 2: Design | R45: =IFERROR(INDEX(Calculations!$E$7:$E$18,MATCH(Calculations!$GY41,INDEX(Calculations!$DA$7:$EE$18,,MATCH(R42,Calculations!$DA$6:$EE$6,0)),0)),"") | U45: =IFERROR(INDEX(Calculations!$E$7:$E$18,MATCH(Calculations!$GY41,INDEX(Calculations!$DA$7:$EE$18,,MATCH(U42,Calculations!$DA$6:$EE$6,0)),0)),"")
C46: =IFERROR(INDEX(Calculations!$E$7:$E$18,MATCH(Calculations!$GY42,INDEX(Calculations!$DA$7:$EE$18,,MATCH(C42,Calculations!$DA$6:$EE$6,0)),0)),"") -> Create detailed design specifications | F46: =IFERROR(INDEX(Calculations!$E$7:$E$18,MATCH(Calculations!$GY42,INDEX(Calculations!$DA$7:$EE$18,,MATCH(F42,Calculations!$DA$6:$EE$6,0)),0)),"") -> Create detailed design specifications | I46: =IFERROR(INDEX(Calculations!$E$7:$E$18,MATCH(Calculations!$GY42,INDEX(Calculations!$DA$7:$EE$18,,MATCH(I42,Calculations!$DA$6:$EE$6,0)),0)),"") -> Create detailed design specifications | L46: =IFERROR(INDEX(Calculations!$E$7:$E$18,MATCH(Calculations!$GY42,INDEX(Calculations!$DA$7:$EE$18,,MATCH(L42,Calculations!$DA$6:$EE$6,0)),0)),"") -> Create detailed design specifications | O46: =IFERROR(INDEX(Calculations!$E$7:$E$18,MATCH(Calculations!$GY42,INDEX(Calculations!$DA$7:$EE$18,,MATCH(O42,Calculations!$DA$6:$EE$6,0)),0)),"") -> Create detailed design specifications | R46: =IFERROR(INDEX(Calculations!$E$7:$E$18,MATCH(Calculations!$GY42,INDEX(Calculations!$DA$7:$EE$18,,MATCH(R42,Calculations!$DA$6:$EE$6,0)),0)),"") | U46: =IFERROR(INDEX(Calculations!$E$7:$E$18,MATCH(Calculations!$GY42,INDEX(Calculations!$DA$7:$EE$18,,MATCH(U42,Calculations!$DA$6:$EE$6,0)),0)),"")
C47: =IFERROR(INDEX(Calculations!$E$7:$E$18,MATCH(Calculations!$GY43,INDEX(Calculations!$DA$7:$EE$18,,MATCH(C42,Calculations!$DA$6:$EE$6,0)),0)),"") -> Review and approve design | F47: =IFERROR(INDEX(Calculations!$E$7:$E$18,MATCH(Calculations!$GY43,INDEX(Calculations!$DA$7:$EE$18,,MATCH(F42,Calculations!$DA$6:$EE$6,0)),0)),"") -> Review and approve design | I47: =IFERROR(INDEX(Calculations!$E$7:$E$18,MATCH(Calculations!$GY43,INDEX(Calculations!$DA$7:$EE$18,,MATCH(I42,Calculations!$DA$6:$EE$6,0)),0)),"") -> Review and approve design | L47: =IFERROR(INDEX(Calculations!$E$7:$E$18,MATCH(Calculations!$GY43,INDEX(Calculations!$DA$7:$EE$18,,MATCH(L42,Calculations!$DA$6:$EE$6,0)),0)),"") -> Review and approve design | O47: =IFERROR(INDEX(Calculations!$E$7:$E$18,MATCH(Calculations!$GY43,INDEX(Calculations!$DA$7:$EE$18,,MATCH(O42,Calculations!$DA$6:$EE$6,0)),0)),"") -> Review and approve design | R47: =IFERROR(INDEX(Calculations!$E$7:$E$18,MATCH(Calculations!$GY43,INDEX(Calculations!$DA$7:$EE$18,,MATCH(R42,Calculations!$DA$6:$EE$6,0)),0)),"") | U47: =IFERROR(INDEX(Calculations!$E$7:$E$18,MATCH(Calculations!$GY43,INDEX(Calculations!$DA$7:$EE$18,,MATCH(U42,Calculations!$DA$6:$EE$6,0)),0)),"")
C48: =IFERROR(INDEX(Calculations!$E$7:$E$18,MATCH(Calculations!$GY44,INDEX(Calculations!$DA$7:$EE$18,,MATCH(C42,Calculations!$DA$6:$EE$6,0)),0)),"") | F48: =IFERROR(INDEX(Calculations!$E$7:$E$18,MATCH(Calculations!$GY44,INDEX(Calculations!$DA$7:$EE$18,,MATCH(F42,Calculations!$DA$6:$EE$6,0)),0)),"") | I48: =IFERROR(INDEX(Calculations!$E$7:$E$18,MATCH(Calculations!$GY44,INDEX(Calculations!$DA$7:$EE$18,,MATCH(I42,Calculations!$DA$6:$EE$6,0)),0)),"") | L48: =IFERROR(INDEX(Calculations!$E$7:$E$18,MATCH(Calculations!$GY44,INDEX(Calculations!$DA$7:$EE$18,,MATCH(L42,Calculations!$DA$6:$EE$6,0)),0)),"") | O48: =IFERROR(INDEX(Calculations!$E$7:$E$18,MATCH(Calculations!$GY44,INDEX(Calculations!$DA$7:$EE$18,,MATCH(O42,Calculations!$DA$6:$EE$6,0)),0)),"") | R48: =IFERROR(INDEX(Calculations!$E$7:$E$18,MATCH(Calculations!$GY44,INDEX(Calculations!$DA$7:$EE$18,,MATCH(R42,Calculations!$DA$6:$EE$6,0)),0)),"") | U48: =IFERROR(INDEX(Calculations!$E$7:$E$18,MATCH(Calculations!$GY44,INDEX(Calculations!$DA$7:$EE$18,,MATCH(U42,Calculations!$DA$6:$EE$6,0)),0)),"")
C50: =IFERROR(IF(LEN(U42)<1,"",IF(MONTH(U42+1)=MONTH(U42),U42+1,"")),"") -> 44956 | F50: =IFERROR(IF(LEN(C50)<1,"",IF(MONTH(C50+1)=MONTH(C50),C50+1,"")),"") -> 44957 | I50: =IFERROR(IF(LEN(F50)<1,"",IF(MONTH(F50+1)=MONTH(F50),F50+1,"")),"") | L50: =IFERROR(IF(LEN(I50)<1,"",IF(MONTH(I50+1)=MONTH(I50),I50+1,"")),"") | O50: =IFERROR(IF(LEN(L50)<1,"",IF(MONTH(L50+1)=MONTH(L50),L50+1,"")),"") | R50: =IFERROR(IF(LEN(O50)<1,"",IF(MONTH(O50+1)=MONTH(O50),O50+1,"")),"") | U50: =IFERROR(IF(LEN(R50)<1,"",IF(MONTH(R50+1)=MONTH(R50),R50+1,"")),"")
C51: =IFERROR(INDEX(Calculations!$E$7:$E$18,MATCH(Calculations!$GY47,INDEX(Calculations!$DA$7:$EE$18,,MATCH(C50,Calculations!$DA$6:$EE$6,0)),0)),"") -> Phase 2: Design | F51: =IFERROR(INDEX(Calculations!$E$7:$E$18,MATCH(Calculations!$GY47,INDEX(Calculations!$DA$7:$EE$18,,MATCH(F50,Calculations!$DA$6:$EE$6,0)),0)),"") -> Phase 2: Design | I51: =IFERROR(INDEX(Calculations!$E$7:$E$18,MATCH(Calculations!$GY47,INDEX(Calculations!$DA$7:$EE$18,,MATCH(I50,Calculations!$DA$6:$EE$6,0)),0)),"") | L51: =IFERROR(INDEX(Calculations!$E$7:$E$18,MATCH(Calculations!$GY47,INDEX(Calculations!$DA$7:$EE$18,,MATCH(L50,Calculations!$DA$6:$EE$6,0)),0)),"") | O51: =IFERROR(INDEX(Calculations!$E$7:$E$18,MATCH(Calculations!$GY47,INDEX(Calculations!$DA$7:$EE$18,,MATCH(O50,Calculations!$DA$6:$EE$6,0)),0)),"") | R51: =IFERROR(INDEX(Calculations!$E$7:$E$18,MATCH(Calculations!$GY47,INDEX(Calculations!$DA$7:$EE$18,,MATCH(R50,Calculations!$DA$6:$EE$6,0)),0)),"") | U51: =IFERROR(INDEX(Calculations!$E$7:$E$18,MATCH(Calculations!$GY47,INDEX(Calculations!$DA$7:$EE$18,,MATCH(U50,Calculations!$DA$6:$EE$6,0)),0)),"")
C52: =IFERROR(INDEX(Calculations!$E$7:$E$18,MATCH(Calculations!$GY48,INDEX(Calculations!$DA$7:$EE$18,,MATCH(C50,Calculations!$DA$6:$EE$6,0)),0)),"") -> Create detailed design specifications | F52: =IFERROR(INDEX(Calculations!$E$7:$E$18,MATCH(Calculations!$GY48,INDEX(Calculations!$DA$7:$EE$18,,MATCH(F50,Calculations!$DA$6:$EE$6,0)),0)),"") -> Create detailed design specifications | I52: =IFERROR(INDEX(Calculations!$E$7:$E$18,MATCH(Calculations!$GY48,INDEX(Calculations!$DA$7:$EE$18,,MATCH(I50,Calculations!$DA$6:$EE$6,0)),0)),"") | L52: =IFERROR(INDEX(Calculations!$E$7:$E$18,MATCH(Calculations!$GY48,INDEX(Calculations!$DA$7:$EE$18,,MATCH(L50,Calculations!$DA$6:$EE$6,0)),0)),"") | O52: =IFERROR(INDEX(Calculations!$E$7:$E$18,MATCH(Calculations!$GY48,INDEX(Calculations!$DA$7:$EE$18,,MATCH(O50,Calculations!$DA$6:$EE$6,0)),0)),"") | R52: =IFERROR(INDEX(Calculations!$E$7:$E$18,MATCH(Calculations!$GY48,INDEX(Calculations!$DA$7:$EE$18,,MATCH(R50,Calculations!$DA$6:$EE$6,0)),0)),"") | U52: =IFERROR(INDEX(Calculations!$E$7:$E$18,MATCH(Calculations!$GY48,INDEX(Calculations!$DA$7:$EE$18,,MATCH(U50,Calculations!$DA$6:$EE$6,0)),0)),"")
C53: =IFERROR(INDEX(Calculations!$E$7:$E$18,MATCH(Calculations!$GY49,INDEX(Calculations!$DA$7:$EE$18,,MATCH(C50,Calculations!$DA$6:$EE$6,0)),0)),"") -> Review and approve design | F53: =IFERROR(INDEX(Calculations!$E$7:$E$18,MATCH(Calculations!$GY49,INDEX(Calculations!$DA$7:$EE$18,,MATCH(F50,Calculations!$DA$6:$EE$6,0)),0)),"") -> Review and approve design | I53: =IFERROR(INDEX(Calculations!$E$7:$E$18,MATCH(Calculations!$GY49,INDEX(Calculations!$DA$7:$EE$18,,MATCH(I50,Calculations!$DA$6:$EE$6,0)),0)),"") | L53: =IFERROR(INDEX(Calculations!$E$7:$E$18,MATCH(Calculations!$GY49,INDEX(Calculations!$DA$7:$EE$18,,MATCH(L50,Calculations!$DA$6:$EE$6,0)),0)),"") | O53: =IFERROR(INDEX(Calculations!$E$7:$E$18,MATCH(Calculations!$GY49,INDEX(Calculations!$DA$7:$EE$18,,MATCH(O50,Calculations!$DA$6:$EE$6,0)),0)),"") | R53: =IFERROR(INDEX(Calculations!$E$7:$E$18,MATCH(Calculations!$GY49,INDEX(Calculations!$DA$7:$EE$18,,MATCH(R50,Calculations!$DA$6:$EE$6,0)),0)),"") | U53: =IFERROR(INDEX(Calculations!$E$7:$E$18,MATCH(Calculations!$GY49,INDEX(Calculations!$DA$7:$EE$18,,MATCH(U50,Calculations!$DA$6:$EE$6,0)),0)),"")
C54: =IFERROR(INDEX(Calculations!$E$7:$E$18,MATCH(Calculations!$GY50,INDEX(Calculations!$DA$7:$EE$18,,MATCH(C50,Calculations!$DA$6:$EE$6,0)),0)),"") | F54: =IFERROR(INDEX(Calculations!$E$7:$E$18,MATCH(Calculations!$GY50,INDEX(Calculations!$DA$7:$EE$18,,MATCH(F50,Calculations!$DA$6:$EE$6,0)),0)),"") -> Design Approved | I54: =IFERROR(INDEX(Calculations!$E$7:$E$18,MATCH(Calculations!$GY50,INDEX(Calculations!$DA$7:$EE$18,,MATCH(I50,Calculations!$DA$6:$EE$6,0)),0)),"") | L54: =IFERROR(INDEX(Calculations!$E$7:$E$18,MATCH(Calculations!$GY50,INDEX(Calculations!$DA$7:$EE$18,,MATCH(L50,Calculations!$DA$6:$EE$6,0)),0)),"") | O54: =IFERROR(INDEX(Calculations!$E$7:$E$18,MATCH(Calculations!$GY50,INDEX(Calculations!$DA$7:$EE$18,,MATCH(O50,Calculations!$DA$6:$EE$6,0)),0)),"") | R54: =IFERROR(INDEX(Calculations!$E$7:$E$18,MATCH(Calculations!$GY50,INDEX(Calculations!$DA$7:$EE$18,,MATCH(R50,Calculations!$DA$6:$EE$6,0)),0)),"") | U54: =IFERROR(INDEX(Calculations!$E$7:$E$18,MATCH(Calculations!$GY50,INDEX(Calculations!$DA$7:$EE$18,,MATCH(U50,Calculations!$DA$6:$EE$6,0)),0)),"")
C55: =IFERROR(INDEX(Calculations!$E$7:$E$18,MATCH(Calculations!$GY51,INDEX(Calculations!$DA$7:$EE$18,,MATCH(C50,Calculations!$DA$6:$EE$6,0)),0)),"") | F55: =IFERROR(INDEX(Calculations!$E$7:$E$18,MATCH(Calculations!$GY51,INDEX(Calculations!$DA$7:$EE$18,,MATCH(F50,Calculations!$DA$6:$EE$6,0)),0)),"") | I55: =IFERROR(INDEX(Calculations!$E$7:$E$18,MATCH(Calculations!$GY51,INDEX(Calculations!$DA$7:$EE$18,,MATCH(I50,Calculations!$DA$6:$EE$6,0)),0)),"") | L55: =IFERROR(INDEX(Calculations!$E$7:$E$18,MATCH(Calculations!$GY51,INDEX(Calculations!$DA$7:$EE$18,,MATCH(L50,Calculations!$DA$6:$EE$6,0)),0)),"") | O55: =IFERROR(INDEX(Calculations!$E$7:$E$18,MATCH(Calculations!$GY51,INDEX(Calculations!$DA$7:$EE$18,,MATCH(O50,Calculations!$DA$6:$EE$6,0)),0)),"") | R55: =IFERROR(INDEX(Calculations!$E$7:$E$18,MATCH(Calculations!$GY51,INDEX(Calculations!$DA$7:$EE$18,,MATCH(R50,Calculations!$DA$6:$EE$6,0)),0)),"") | U55: =IFERROR(INDEX(Calculations!$E$7:$E$18,MATCH(Calculations!$GY51,INDEX(Calculations!$DA$7:$EE$18,,MATCH(U50,Calculations!$DA$6:$EE$6,0)),0)),"")
C56: =IFERROR(INDEX(Calculations!$E$7:$E$18,MATCH(Calculations!$GY52,INDEX(Calculations!$DA$7:$EE$18,,MATCH(C50,Calculations!$DA$6:$EE$6,0)),0)),"") | F56: =IFERROR(INDEX(Calculations!$E$7:$E$18,MATCH(Calculations!$GY52,INDEX(Calculations!$DA$7:$EE$18,,MATCH(F50,Calculations!$DA$6:$EE$6,0)),0)),"") | I56: =IFERROR(INDEX(Calculations!$E$7:$E$18,MATCH(Calculations!$GY52,INDEX(Calculations!$DA$7:$EE$18,,MATCH(I50,Calculations!$DA$6:$EE$6,0)),0)),"") | L56: =IFERROR(INDEX(Calculations!$E$7:$E$18,MATCH(Calculations!$GY52,INDEX(Calculations!$DA$7:$EE$18,,MATCH(L50,Calculations!$DA$6:$EE$6,0)),0)),"") | O56: =IFERROR(INDEX(Calculations!$E$7:$E$18,MATCH(Calculations!$GY52,INDEX(Calculations!$DA$7:$EE$18,,MATCH(O50,Calculations!$DA$6:$EE$6,0)),0)),"") | R56: =IFERROR(INDEX(Calculations!$E$7:$E$18,MATCH(Calculations!$GY52,INDEX(Calculations!$DA$7:$EE$18,,MATCH(R50,Calculations!$DA$6:$EE$6,0)),0)),"") | U56: =IFERROR(INDEX(Calculations!$E$7:$E$18,MATCH(Calculations!$GY52,INDEX(Calculations!$DA$7:$EE$18,,MATCH(U50,Calculations!$DA$6:$EE$6,0)),0)),"")

Sheet Dashboard
C2: WBS GANTT CHART EXCEL TEMPLATE
C3: DASHBOARD
C7: Person | E7: Department | G7: From Date | I7: To Date | K7: Status | M7: Priority
C8: All | E8: All | G8: All | I8: All | K8: All | M8: All
K17: Total Planned Days | M17: Total Milestone
K18: =Calculations!FX15 -> 43 | M18: =Calculations!FZ15 -> 2
K20: Total Days Spent | M20: Total Task
K21: =Calculations!FX18 -> 68 | M21: =Calculations!FZ18 -> 4
K23: Total Task Completed | M23: Total Subtask
K24: =Calculations!FX21 -> 6 | M24: =Calculations!FZ21 -> 2

Sheet Calculations
AC3: CRITICAL PATH CALCULATION | BG3: REFERENCE | CT3: CALENDAR | EK3: Dynamic Gantt chart | EY3: Dropdowns
B4: =MAX(TaskPlan!B7:B206) -> 10 | C4: {=MAX(ISNUMBER(B6:B19)*ROW(C6:C19))-4} -> 12 | CY4: show | GY4: =DATE(Calendar!F6,MATCH(monthC,Calculations!CH24:CH35,0),1) -> 44927
B5: USER DATA | S5: Error Check | BG5: Precedents - Previous ID | BR5: Dependents - Next ID | CT5: =IF(monthC="","",MATCH(monthC,CH24:CH35,0)) -> 1 | CU5: =IF(OR(Calendar!L6="All",Calendar!L6=""),"",Calendar!L6) | CV5: =IF(OR(Calendar!O6="All",Calendar!O6=""),"",Calendar!O6) | CW5: =IF(OR(Calendar!R6="All",Calendar!R6=""),"",INDEX($CG$46:$CG$49,MATCH(Calendar!R6,$CH$46:$CH$49,0),1)) | CX5: All filters | CY5: =IF(CY4="show",3,1) -> 3 | EL5: {=MAX(ISNUMBER(EL7:EL18)*ROW(EL7:EL18))+4} -> 20 | FA5: =COUNTA(FA7:FA25)-COUNTBLANK(FA7:FA25) -> 14 | FE5: =COUNTA(FE6:FE25)-COUNTBLANK(FE6:FE25) -> 7 | FI5: =COUNTA(FI6:FI11)-COUNTBLANK(FI6:FI11) -> 4 | FM5: =COUNTA(FM6:FM10)-COUNTBLANK(FM6:FM10) -> 4 | FO5: =IFERROR(FO8-FO7,"") -> 0 | FP5: =COUNTA(FP6:FP10)-COUNTBLANK(FP6:FP10) -> 5 | FX5: =MAX(COUNTA(FX7:FX10)-COUNTBLANK(FX7:FX10),1) -> 3 | GB5: =MAX(COUNTA(GC7:GC11)-COUNTBLANK(GC7:GC11),1) -> 3 | GL5: =MAX(COUNTA(GL7:GL16)-COUNTBLANK(GL7:GL16),1) -> 7 | GP5: =MAX(COUNTA(GP7:GP18)-COUNTBLANK(GP7:GP18),1) -> 2
B6: ID | C6: Priority | D6: Type | E6: Desc | F6: Person | G6: Dept | H6: =TaskPlan!G6 -> Predecessors' IDs | I6: =TaskPlan!H6 -> Planned Duration (Working days) | J6: Delay | K6: Elongate | L6: Real Duration | M6: Next Phase Row | N6: Progress % | O6: Active? | P6: Active-Dashboard | R6: Gantt Priority | S6: Priority | T6: Type | U6: Person | V6: Progress | W6: Total | Y6: ES date | Z6: EF date | AA6: LS date | AB6: LF date | AC6: ES | AD6: EF | AE6: LS | AF6: LF | AG6: Slack | AI6: Early Finish of Precedents | AT6: Late Start of Successors | BE6: Critical Task | BG6: 1 | BH6: 2 | BI6: 3 | BJ6: 4 | BK6: 5 | BL6: 6 | BM6: 7 | BN6: 8 | BO6: 9 | BP6: 10 | BQ6: Total | BR6: 1 | BS6: 2 | BT6: 3 | BU6: 4 | BV6: 5 | BW6: 6 | BX6: 7 | BY6: 8 | BZ6: 9 | CA6: 10 | CB6: Total | CC6: Number of Dependents | CD6: Number of Precedents | CH6: Calendar start date | CN6: List working days | CO6: -1 | CQ6: List of tasks | CT6: Month Filter | CU6: Priority | CV6: Assigned | CW6: Type | CY6: Finish date | DA6: =DATE(yearC,Calculations!$CT$5,1) -> 44927 | DB6: =DA6+1 -> 44928 | DC6: =DB6+1 -> 44929 | DD6: =DC6+1 -> 44930 | DE6: =DD6+1 -> 44931 | DF6: =DE6+1 -> 44932 | DG6: =DF6+1 -> 44933 | DH6: =DG6+1 -> 44934 | DI6: =DH6+1 -> 44935 | ... EE6: =ED6+1 -> 44957 | EG6: Final Number | EI6: Max 10 events | EK6: Active? | EL6: Sort | EM6: Desc | EN6: Type | EO6: ES date | EP6: EF date | EQ6: Delay | ER6: LF date | ES6: Priority | ET6: Status | EU6: Cond Priority | EV6: Cond Status | EY6: Employee | FA6: All | FC6: Dep | FE6: All | FI6: All | FM6: All | FO6: Year | FP6: All | FU6: All | FX6: Status | FY6: Count | FZ6: Perc | GB6: Priority | GC6: Count | GF6: Employee | GG6: Count | GL6: Employee | GM6: Count | GO6: Phase | GP6: Name | GQ6: Status | GR6: =FX7 -> Done | GS6: =FX8 -> In Progress | GT6: =FX9 -> Not Started | GU6: =FX10 | GV6: Count | GY6: Event Numbering
B7: =IF(MAX($B$6:B6)+1>countall,"-",MAX($B$6:B6)+1) -> 1 | C7: =IF($B7="-","-",""&INDEX(TaskPlan!C$7:C$18,MATCH($B7,TaskPlan!$B$7:$B$18,0),1)) -> High | D7: =IF($B7="-","-",""&INDEX(TaskPlan!D$7:D$18,MATCH($B7,TaskPlan!$B$7:$B$18,0),1)) -> M | E7: =IF($B7="-","-",INDEX(TaskPlan!E$7:E$18,MATCH($B7,TaskPlan!$B$7:$B$18,0),1)) -> Start | F7: =IF($B7="-","-",IF(LEN(INDEX(TaskPlan!F$7:F$18,MATCH($B7,TaskPlan!$B$7:$B$18,0),1))=0,"",INDEX(TaskPlan!F$7:F$18,MATCH($B7,TaskPlan!$B$7:$B$18,0),1))) | G7: =IFERROR(IF(ISNUMBER(B7),IF(LEN(F7)=0,"",IF(LEN(INDEX($FC$7:$FC$25,MATCH(F7,$EY$7:$EY$25,0)))=0,"",INDEX($FC$7:$FC$25,MATCH(F7,$EY$7:$EY$25,0)))),"-"),"") | H7: =IF($B7="-","-",IF(INDEX(TaskPlan!G$7:G$18,MATCH($B7,TaskPlan!$B$7:$B$18,0),1)="","",INDEX(TaskPlan!G$7:G$18,MATCH($B7,TaskPlan!$B$7:$B$18,0),1))) | I7: =IF($B7="-","-",IF(D7=Type1,0,K7+IF(INDEX(TaskPlan!H$7:H$18,MATCH($B7,TaskPlan!$B$7:$B$18,0),1)="",0,INDEX(TaskPlan!H$7:H$18,MATCH($B7,TaskPlan!$B$7:$B$18,0),1)))) -> 0 | J7: =IF($B7="-","-",IF(INDEX(TaskPlan!I$7:I$18,MATCH($B7,TaskPlan!$B$7:$B$18,0),1)="",0,INDEX(TaskPlan!I$7:I$18,MATCH($B7,TaskPlan!$B$7:$B$18,0),1))) -> 0 | K7: =IF($B7="-","-",IF(INDEX(TaskPlan!J$7:J$18,MATCH($B7,TaskPlan!$B$7:$B$18,0),1)="",0,INDEX(TaskPlan!J$7:J$18,MATCH($B7,TaskPlan!$B$7:$B$18,0),1))) -> 0 | L7: =IFERROR(IF(D7=Type1,AB7-Y7,I7),"") -> 0 | M7: =IF(D7=Type1,IFERROR(MATCH(D7,D8:$D$19,0)+ROW(D7)-7-B7,200),"") | N7: =IF(D7=Type1,IF(COUNTIF(OFFSET(N8,,,M7),Status1)=M7,Status1,IF(COUNTIF(OFFSET(N8,,,M7),Status2)>0,Status2,IF(COUNTIF(OFFSET(N8,,,M7),Status4)=M7,Status4,Status3))),IF($B7="-","-",IF(LEN(INDEX(TaskPlan!K$7:K$206,MATCH($B7,TaskPlan!$B$7:$B$206,0),1))=0,"-",INDEX(TaskPlan!K$7:K$206,MATCH($B7,TaskPlan!$B$7:$B$206,0),1)))) -> Done | O7: =IFERROR(INDEX($CJ$46:$CJ$49,MATCH(D7,$CG$46:$CG$49,0)),1) -> 1 | P7: =IF(AND(ISNUMBER($B7),OR(Person="All",Person="",Person=$F7),OR(Department="All",Department="",Department=$G7),OR(Fromdate="All",Fromdate="",IFERROR(INDEX($FV$7:$FV$126,MATCH(Fromdate,$FU$7:$FU$126,0))<=Y7,"FALSE")),OR(Todate="All",Todate="",IFERROR(INDEX($FV$7:$FV$126,MATCH(Todate,$FU$7:$FU$126,0))>$AB7,"FALSE")),OR(Status="All",Status="",Status=$N7),OR(Priority="All",Priority="",Priority=$C7)),1,0) -> 1 | Q7: =B7&" - "&E7 -> 1 - Start | R7: =IFERROR(INDEX($CF$39:$CF$43,MATCH(C7,$CH$39:$CH$43,0)),"") -> 1 | S7: =IF(OR(E7="-",LEN(C7)=0),"",IF(ISERROR(MATCH(C7,$CI$39:$CI$43,0)),1,0)) -> 0 | T7: =IF(OR(E7="-",LEN(D7)=0),"",IF(ISERROR(MATCH(D7,$CG$46:$CG$49,0)),1,0)) -> 0 | U7: =IF(OR(E7="-",LEN(F7)=0),"",IF(ISERROR(MATCH(F7,$FA$7:$FA$25,0)),1,0)) | V7: =IF(OR(E7="-",LEN(N7)=0),"",IF(ISERROR(MATCH(N7,$CH$52:$CH$55,0)),1,0)) -> 0 | W7: =SUM(S7:V7) -> 0 | Y7: =IFERROR(IF(AC7="","", INDEX($CN$7:$CN$737,MATCH(AC7,$CO$7:$CO$737,0),1)),"") -> 44928 | Z7: =IFERROR(IF(AD7="","", INDEX($CN$7:$CN$737,MATCH(AD7,$CO$7:$CO$737,0),1)),"") -> 44928 | AA7: =IFERROR(IF(AE7="","", INDEX($CN$7:$CN$737,MATCH(AE7,$CO$7:$CO$737,0),1)),"") -> 44930 | AB7: =IFERROR(IF(AF7="","", INDEX($CN$7:$CN$737,MATCH(AF7,$CO$7:$CO$737,0),1)),"") -> 44930 | AC7: =IFERROR(IF(B7="-","",IF(D7=Type1,IF(C7="-","",IF(D7=Type1,MIN(OFFSET(AC8,0,0,M7,1)))),IF(CD7=0,0, MAX(AI7:AR7)+J7))),"") -> 0 | AD7: =IFERROR(IF(B7="-","",IF(D7=Type1,MAX(OFFSET(AF8,0,0,M7,1)),AC7+I7)),"") -> 0 | AE7: =IFERROR(IF(B7="-","",IF(D7=Type1,AC7,IF(AF7-I7<0,0+AC7,AF7-I7))),"") -> 2 | AF7: =IFERROR(IF(B7="-","",IF(B8="-",AD7,MAX(AD7,MIN(AT7:BC7)))),"") -> 2 | AG7: =IFERROR(IF(B7="-","",IF(ROUND(AF7-AD7,5)<0,0,ROUND(AF7-AD7,5))),"") -> 2 | AI7: {=IF(BG7="",0,INDEX($AD$7:$AD$18,MATCH(""&BG7,""&$B$7:$B$18,0)))} -> 0 | AJ7: {=IF(BH7="",0,INDEX($AD$7:$AD$18,MATCH(""&BH7,""&$B$7:$B$18,0)))} -> 0 | AK7: {=IF(BI7="",0,INDEX($AD$7:$AD$18,MATCH(""&BI7,""&$B$7:$B$18,0)))} -> 0 | AL7: {=IF(BJ7="",0,INDEX($AD$7:$AD$18,MATCH(""&BJ7,""&$B$7:$B$18,0)))} -> 0 | AM7: {=IF(BK7="",0,INDEX($AD$7:$AD$18,MATCH(""&BK7,""&$B$7:$B$18,0)))} -> 0 | AN7: {=IF(BL7="",0,INDEX($AD$7:$AD$18,MATCH(""&BL7,""&$B$7:$B$18,0)))} -> 0 | AO7: {=IF(BM7="",0,INDEX($AD$7:$AD$18,MATCH(""&BM7,""&$B$7:$B$18,0)))} -> 0 | AP7: {=IF(BN7="",0,INDEX($AD$7:$AD$18,MATCH(""&BN7,""&$B$7:$B$18,0)))} -> 0 | ... AR7: {=IF(BP7="",0,INDEX($AD$7:$AD$18,MATCH(""&BP7,""&$B$7:$B$18,0)))} -> 0 | AT7: {=IF(BR7="","",INDEX($AE$7:$AE$18,MATCH(""&BR7,""&$B$7:$B$18,0)))} -> 4 | AU7: {=IF(BS7="","",INDEX($AE$7:$AE$18,MATCH(""&BS7,""&$B$7:$B$18,0)))} -> 2 | AV7: {=IF(BT7="","",INDEX($AE$7:$AE$18,MATCH(""&BT7,""&$B$7:$B$18,0)))} | AW7: {=IF(BU7="","",INDEX($AE$7:$AE$18,MATCH(""&BU7,""&$B$7:$B$18,0)))} | AX7: {=IF(BV7="","",INDEX($AE$7:$AE$18,MATCH(""&BV7,""&$B$7:$B$18,0)))} | AY7: {=IF(BW7="","",INDEX($AE$7:$AE$18,MATCH(""&BW7,""&$B$7:$B$18,0)))} | AZ7: {=IF(BX7="","",INDEX($AE$7:$AE$18,MATCH(""&BX7,""&$B$7:$B$18,0)))} | BA7: {=IF(BY7="","",INDEX($AE$7:$AE$18,MATCH(""&BY7,""&$B$7:$B$18,0)))} | ... BC7: {=IF(CA7="","",INDEX($AE$7:$AE$18,MATCH(""&CA7,""&$B$7:$B$18,0)))} | BE7: =IF(ISNUMBER(AG7),IF(AG7=0,"Yes","No"),"") -> No | BG7: {=IFERROR(IF($D7=Type1,"",IF(INDEX($D$7:$D$18,IF($B7="-","-",TRIM(MID(SUBSTITUTE($H7,",",REPT(" ",LEN($H7))),(BG$6-1)*LEN($H7)+1,LEN($H7)))))=Type1,INDEX($BG$7:$BG$18,IF($B7="-","-",TRIM(MID(SUBSTITUTE($H7,",",REPT(" ",LEN($H7))),(BG$6-1)*LEN($H7)+1,LEN($H7))))),IF($B7="-","-",TRIM(MID(SUBSTITUTE($H7,",",REPT(" ",LEN($H7))),(BG$6-1)*LEN($H7)+1,LEN($H7)))))),"")} | BH7: {=IFERROR(IF($D7=Type1,"",IF(INDEX($D$7:$D$18,IF($B7="-","-",TRIM(MID(SUBSTITUTE($H7,",",REPT(" ",LEN($H7))),(BH$6-1)*LEN($H7)+1,LEN($H7)))))=Type1,INDEX($BG$7:$BG$18,IF($B7="-","-",TRIM(MID(SUBSTITUTE($H7,",",REPT(" ",LEN($H7))),(BH$6-1)*LEN($H7)+1,LEN($H7))))),IF($B7="-","-",TRIM(MID(SUBSTITUTE($H7,",",REPT(" ",LEN($H7))),(BH$6-1)*LEN($H7)+1,LEN($H7)))))),"")} | BI7: {=IFERROR(IF($D7=Type1,"",IF(INDEX($D$7:$D$18,IF($B7="-","-",TRIM(MID(SUBSTITUTE($H7,",",REPT(" ",LEN($H7))),(BI$6-1)*LEN($H7)+1,LEN($H7)))))=Type1,INDEX($BG$7:$BG$18,IF($B7="-","-",TRIM(MID(SUBSTITUTE($H7,",",REPT(" ",LEN($H7))),(BI$6-1)*LEN($H7)+1,LEN($H7))))),IF($B7="-","-",TRIM(MID(SUBSTITUTE($H7,",",REPT(" ",LEN($H7))),(BI$6-1)*LEN($H7)+1,LEN($H7)))))),"")} | BJ7: {=IFERROR(IF($D7=Type1,"",IF(INDEX($D$7:$D$18,IF($B7="-","-",TRIM(MID(SUBSTITUTE($H7,",",REPT(" ",LEN($H7))),(BJ$6-1)*LEN($H7)+1,LEN($H7)))))=Type1,INDEX($BG$7:$BG$18,IF($B7="-","-",TRIM(MID(SUBSTITUTE($H7,",",REPT(" ",LEN($H7))),(BJ$6-1)*LEN($H7)+1,LEN($H7))))),IF($B7="-","-",TRIM(MID(SUBSTITUTE($H7,",",REPT(" ",LEN($H7))),(BJ$6-1)*LEN($H7)+1,LEN($H7)))))),"")} | BK7: {=IFERROR(IF($D7=Type1,"",IF(INDEX($D$7:$D$18,IF($B7="-","-",TRIM(MID(SUBSTITUTE($H7,",",REPT(" ",LEN($H7))),(BK$6-1)*LEN($H7)+1,LEN($H7)))))=Type1,INDEX($BG$7:$BG$18,IF($B7="-","-",TRIM(MID(SUBSTITUTE($H7,",",REPT(" ",LEN($H7))),(BK$6-1)*LEN($H7)+1,LEN($H7))))),IF($B7="-","-",TRIM(MID(SUBSTITUTE($H7,",",REPT(" ",LEN($H7))),(BK$6-1)*LEN($H7)+1,LEN($H7)))))),"")} | BL7: {=IFERROR(IF($D7=Type1,"",IF(INDEX($D$7:$D$18,IF($B7="-","-",TRIM(MID(SUBSTITUTE($H7,",",REPT(" ",LEN($H7))),(BL$6-1)*LEN($H7)+1,LEN($H7)))))=Type1,INDEX($BG$7:$BG$18,IF($B7="-","-",TRIM(MID(SUBSTITUTE($H7,",",REPT(" ",LEN($H7))),(BL$6-1)*LEN($H7)+1,LEN($H7))))),IF($B7="-","-",TRIM(MID(SUBSTITUTE($H7,",",REPT(" ",LEN($H7))),(BL$6-1)*LEN($H7)+1,LEN($H7)))))),"")} | BM7: {=IFERROR(IF($D7=Type1,"",IF(INDEX($D$7:$D$18,IF($B7="-","-",TRIM(MID(SUBSTITUTE($H7,",",REPT(" ",LEN($H7))),(BM$6-1)*LEN($H7)+1,LEN($H7)))))=Type1,INDEX($BG$7:$BG$18,IF($B7="-","-",TRIM(MID(SUBSTITUTE($H7,",",REPT(" ",LEN($H7))),(BM$6-1)*LEN($H7)+1,LEN($H7))))),IF($B7="-","-",TRIM(MID(SUBSTITUTE($H7,",",REPT(" ",LEN($H7))),(BM$6-1)*LEN($H7)+1,LEN($H7)))))),"")} | BN7: {=IFERROR(IF($D7=Type1,"",IF(INDEX($D$7:$D$18,IF($B7="-","-",TRIM(MID(SUBSTITUTE($H7,",",REPT(" ",LEN($H7))),(BN$6-1)*LEN($H7)+1,LEN($H7)))))=Type1,INDEX($BG$7:$BG$18,IF($B7="-","-",TRIM(MID(SUBSTITUTE($H7,",",REPT(" ",LEN($H7))),(BN$6-1)*LEN($H7)+1,LEN($H7))))),IF($B7="-","-",TRIM(MID(SUBSTITUTE($H7,",",REPT(" ",LEN($H7))),(BN$6-1)*LEN($H7)+1,LEN($H7)))))),"")} | ... BP7: {=IFERROR(IF($D7=Type1,"",IF(INDEX($D$7:$D$18,IF($B7="-","-",TRIM(MID(SUBSTITUTE($H7,",",REPT(" ",LEN($H7))),(BP$6-1)*LEN($H7)+1,LEN($H7)))))=Type1,INDEX($BG$7:$BG$18,IF($B7="-","-",TRIM(MID(SUBSTITUTE($H7,",",REPT(" ",LEN($H7))),(BP$6-1)*LEN($H7)+1,LEN($H7))))),IF($B7="-","-",TRIM(MID(SUBSTITUTE($H7,",",REPT(" ",LEN($H7))),(BP$6-1)*LEN($H7)+1,LEN($H7)))))),"")} | BQ7: =BG7 | BR7: {=IF($B7="-","-", IFERROR(INDEX(IDSourceRange,IF(MOD(SMALL(IF((""&$BQ$7:$BQ$126)=(""&$B7),ROW($BQ$7:$BQ$126)-ROW(INDEX($BQ$7:$BQ$126,1,1))+1),BR$6),200)=0,200,MOD(SMALL(IF((""&$BQ$7:$BQ$126)=(""&$B7),ROW($BQ$7:$BQ$126)-ROW(INDEX($BQ$7:$BQ$126,1,1))+1),BR$6),200)),1),""))} -> 3 | BS7: {=IF($B7="-","-", IFERROR(INDEX(IDSourceRange,IF(MOD(SMALL(IF((""&$BQ$7:$BQ$126)=(""&$B7),ROW($BQ$7:$BQ$126)-ROW(INDEX($BQ$7:$BQ$126,1,1))+1),BS$6),200)=0,200,MOD(SMALL(IF((""&$BQ$7:$BQ$126)=(""&$B7),ROW($BQ$7:$BQ$126)-ROW(INDEX($BQ$7:$BQ$126,1,1))+1),BS$6),200)),1),""))} -> 4 | BT7: {=IF($B7="-","-", IFERROR(INDEX(IDSourceRange,IF(MOD(SMALL(IF((""&$BQ$7:$BQ$126)=(""&$B7),ROW($BQ$7:$BQ$126)-ROW(INDEX($BQ$7:$BQ$126,1,1))+1),BT$6),200)=0,200,MOD(SMALL(IF((""&$BQ$7:$BQ$126)=(""&$B7),ROW($BQ$7:$BQ$126)-ROW(INDEX($BQ$7:$BQ$126,1,1))+1),BT$6),200)),1),""))} | BU7: {=IF($B7="-","-", IFERROR(INDEX(IDSourceRange,IF(MOD(SMALL(IF((""&$BQ$7:$BQ$126)=(""&$B7),ROW($BQ$7:$BQ$126)-ROW(INDEX($BQ$7:$BQ$126,1,1))+1),BU$6),200)=0,200,MOD(SMALL(IF((""&$BQ$7:$BQ$126)=(""&$B7),ROW($BQ$7:$BQ$126)-ROW(INDEX($BQ$7:$BQ$126,1,1))+1),BU$6),200)),1),""))} | BV7: {=IF($B7="-","-", IFERROR(INDEX(IDSourceRange,IF(MOD(SMALL(IF((""&$BQ$7:$BQ$126)=(""&$B7),ROW($BQ$7:$BQ$126)-ROW(INDEX($BQ$7:$BQ$126,1,1))+1),BV$6),200)=0,200,MOD(SMALL(IF((""&$BQ$7:$BQ$126)=(""&$B7),ROW($BQ$7:$BQ$126)-ROW(INDEX($BQ$7:$BQ$126,1,1))+1),BV$6),200)),1),""))} | BW7: {=IF($B7="-","-", IFERROR(INDEX(IDSourceRange,IF(MOD(SMALL(IF((""&$BQ$7:$BQ$126)=(""&$B7),ROW($BQ$7:$BQ$126)-ROW(INDEX($BQ$7:$BQ$126,1,1))+1),BW$6),200)=0,200,MOD(SMALL(IF((""&$BQ$7:$BQ$126)=(""&$B7),ROW($BQ$7:$BQ$126)-ROW(INDEX($BQ$7:$BQ$126,1,1))+1),BW$6),200)),1),""))} | BX7: {=IF($B7="-","-", IFERROR(INDEX(IDSourceRange,IF(MOD(SMALL(IF((""&$BQ$7:$BQ$126)=(""&$B7),ROW($BQ$7:$BQ$126)-ROW(INDEX($BQ$7:$BQ$126,1,1))+1),BX$6),200)=0,200,MOD(SMALL(IF((""&$BQ$7:$BQ$126)=(""&$B7),ROW($BQ$7:$BQ$126)-ROW(INDEX($BQ$7:$BQ$126,1,1))+1),BX$6),200)),1),""))} | BY7: {=IF($B7="-","-", IFERROR(INDEX(IDSourceRange,IF(MOD(SMALL(IF((""&$BQ$7:$BQ$126)=(""&$B7),ROW($BQ$7:$BQ$126)-ROW(INDEX($BQ$7:$BQ$126,1,1))+1),BY$6),200)=0,200,MOD(SMALL(IF((""&$BQ$7:$BQ$126)=(""&$B7),ROW($BQ$7:$BQ$126)-ROW(INDEX($BQ$7:$BQ$126,1,1))+1),BY$6),200)),1),""))} | ... CA7: {=IF($B7="-","-", IFERROR(INDEX(IDSourceRange,IF(MOD(SMALL(IF((""&$BQ$7:$BQ$126)=(""&$B7),ROW($BQ$7:$BQ$126)-ROW(INDEX($BQ$7:$BQ$126,1,1))+1),CA$6),200)=0,200,MOD(SMALL(IF((""&$BQ$7:$BQ$126)=(""&$B7),ROW($BQ$7:$BQ$126)-ROW(INDEX($BQ$7:$BQ$126,1,1))+1),CA$6),200)),1),""))} | CB7: =BR7 -> 3 | CC7: {=IF($B7="-","-",SUM(IF(LEN(BR7:CA7)>0,1,0)))} -> 2 | CD7: {=IF($B7="-","-",SUM(IF(LEN(BG7:BP7)>0,1,0)))} -> 0 | CH7: 7 | CI7: ✓ | CJ7: ! | CN7: =IF(ISNUMBER(projectStartDate),projectStartDate,TODAY()) -> 44927 | CO7: {=IF(NETWORKDAYS.INTL(CN7,CN7,weekendOption,holidaysList)=1,MAX($CO$6:CO6)+1,"")} | CQ7: =IF(B7="-","", B7 & " - " &E7) -> 1 - Start | CT7: {=IF(AND( Y7<= DATE(yearC,Calculations!$CT$5+1,1)-1,CY7>=DATE(yearC,Calculations!$CT$5,1)),1,0)} -> 1 | CU7: {=IF(OR(C7=$CU$5,$CU$5=""),1,0)} -> 1 | CV7: =IF($CV$5="",1,IFERROR(IF($CV$5=F7,1,0),0)) -> 1 | CW7: =IF(OR(D7=$CW$5,$CW$5=""),1,0) -> 1 | CX7: =CT7*CU7*CV7*CW7 -> 1 | CY7: =INDEX(Z7:AB7,1,$CY$5) -> 44930 | DA7: {=IF($CX7=0,"",IF(AND(DA$6>=$Y7,DA$6<=$CY7),IF(CZ7<>"",CZ7,1),""))} | DB7: {=IF($CX7=0,"",IF(AND(DB$6>=$Y7,DB$6<=$CY7),IF(DA7<>"",DA7,1),""))} -> 1 | DC7: {=IF($CX7=0,"",IF(AND(DC$6>=$Y7,DC$6<=$CY7),IF(DB7<>"",DB7,1),""))} -> 1 | DD7: {=IF($CX7=0,"",IF(AND(DD$6>=$Y7,DD$6<=$CY7),IF(DC7<>"",DC7,1),""))} -> 1 | DE7: {=IF($CX7=0,"",IF(AND(DE$6>=$Y7,DE$6<=$CY7),IF(DD7<>"",DD7,1),""))} | DF7: {=IF($CX7=0,"",IF(AND(DF$6>=$Y7,DF$6<=$CY7),IF(DE7<>"",DE7,1),""))} | DG7: {=IF($CX7=0,"",IF(AND(DG$6>=$Y7,DG$6<=$CY7),IF(DF7<>"",DF7,1),""))} | DH7: {=IF($CX7=0,"",IF(AND(DH$6>=$Y7,DH$6<=$CY7),IF(DG7<>"",DG7,1),""))} | ... EE7: {=IF($CX7=0,"",IF(AND(EE$6>=$Y7,EE$6<=$CY7),IF(ED7<>"",ED7,1),""))} | EG7: =MAX(DA7:EE7) -> 1 | EI7: 1 | EK7: =IF(OR(LEN(C7)=0,O7=0),"",B7) -> 1 | EL7: {=IFERROR(SMALL($EK$7:$EK$18,ROW()-ROW($EK$6)),"")} -> 1 | EM7: =IFERROR(INDEX(E$7:E$18,$EL7),"") -> Start | EN7: =IFERROR(INDEX(D$7:D$18,$EL7),"") -> M | EO7: =IFERROR(INDEX(Y$7:Y$18,$EL7),"") -> 44928 | EP7: =IFERROR(INDEX(Z$7:Z$18,$EL7),"") -> 44928 | EQ7: =IFERROR(INDEX(L$7:L$18,$EL7),"") -> 0 | ER7: =IFERROR(INDEX(AB$7:AB$18,$EL7),"") -> 44930 | ES7: =IFERROR(INDEX(C$7:C$18,$EL7),"") -> High | ET7: =IFERROR(INDEX(N$7:N$18,$EL7),"") -> Done | EU7: =IFERROR(IF(LEN(EM7)=0,"",INDEX($CF$39:$CF$43,MATCH(ES7,$CH$39:$CH$43,0))),"") -> 1 | EV7: =IFERROR(IF(LEN(EM7)=0,"",INDEX($CG$52:$CG$55,MATCH(ET7,$CH$52:$CH$55,0))),"") -> 1 | EX7: 1 | EY7: =IFERROR(IF(LEN(INDEX(Settings!I$10:I$52,Calculations!$EX7))=0,"",INDEX(Settings!I$10:I$52,Calculations!$EX7)),"") -> Jemima Begum | EZ7: =IF(LEN(EY7)=0,"",EX7) -> 1 | FA7: =IFERROR(INDEX($EY$7:$EY$25,SMALL($EZ$7:$EZ$25,$EX7)),"") -> Jemima Begum | FB7: =IF(LEN(FC7)=0,"",EX7) -> 1 | FC7: =IFERROR(IF(LEN(INDEX(Settings!J$10:J$52,Calculations!$EX7))=0,"",INDEX(Settings!J$10:J$52,Calculations!$EX7)),"") -> Operations | FD7: =IF(IF(LEN(FC7)=0,"",COUNTIF($FC$7:FC7,FC7))=1,EX7,"") -> 1 | FE7: =IFERROR(INDEX($FC$7:$FC$25,SMALL($FD$7:$FD$25,$EX7)),"") -> Operations | FG7: =IFERROR(INDEX($CH$39:$CH$43,MATCH(ROW(CI39)-ROW($CI$38),$CG$39:$CG$43,0),1),"") -> High | FH7: =IF(LEN(FG7)=0,"",EX7) -> 1 | FI7: =IFERROR(INDEX($FG$7:$FG$11,SMALL($FH$7:$FH$11,$EX7)),"") -> High | FK7: =IFERROR(INDEX($CH$52:$CH$55,MATCH(ROW(CH52)-ROW($CH$51),$CF$52:$CF$55,0),1),"") -> Done | FL7: =IF(LEN(FK7)=0,"",EX7) -> 1 | FM7: =IFERROR(INDEX($FK$7:$FK$10,SMALL($FL$7:$FL$10,$EX7)),"") -> Done | FO7: {=IF(MIN(IFERROR(YEAR(Y7:Y18),""))=0,"",MIN(IFERROR(YEAR(Y7:Y18),"")))} -> 2023 | FP7: =IFERROR(INDEX($CH$45:$CH$49,MATCH(ROW(CH46)-ROW($CH$45),$CF$45:$CF$49,0),1),"") -> Phase | FR7: 0 | FS7: =IFERROR(IF($FO$5>=FR7,$FO$7+FR7,""),"") -> 2023 | FT7: January | FU7: =IF(LEN(FS7)>0,FS7&"-"&FT7,"") -> 2023-January | FV7: =IFERROR(DATE(FS7,MATCH(FT7,$CH$24:$CH$35,0),1),"") -> 44927 | FX7: =IF(LEN(FM7)=0,"",FM7) -> Done | FY7: =COUNTIFS($N$7:$N$19,$FX7,$P$7:$P$19,1) -> 6 | FZ7: =IFERROR(FY7/$FY$11,"") -> 0.6 | GB7: =FG7 -> High | GC7: =IF(LEN(GB7)=0,"",COUNTIFS($C$7:$C$19,$GB7,$P$7:$P$19,1)) -> 3 | GD7: =IF(AND(ISNUMBER(GC7),GC7>0),MAX(GD6:GD6)+1,"") -> 1 | GF7: =FA7 -> Jemima Begum | GG7: =IF(LEN(GF7)=0,"",COUNTIFS($F$7:$F$19,$GF7,$P$7:$P$19,1)) -> 2 | GH7: =IFERROR(IF(GG7=0,"",RANK(GG7,$GG$7:$GG$25)),"") -> 1 | GI7: =IFERROR(COUNTIF($GH$6:GH6,GH7)+GH7,"") -> 1 | GK7: 1 | GL7: =IFERROR(INDEX(GF$7:GF$25,MATCH($GK7,$GI$7:$GI$25,0)),"") -> Jemima Begum | GM7: =IFERROR(INDEX(GG$7:GG$25,MATCH($GK7,$GI$7:$GI$25,0)),"") -> 2 | GO7: =IF(D7=Type1,ROW(E7)-ROW($E$6),"") | GP7: =IFERROR(INDEX($E$7:$E$18,SMALL($GO$7:$GO$18,ROW(GP7)-ROW($GP$6))),"") -> Phase 1: Planning | GQ7: =IFERROR(INDEX($N$7:$N$19,MATCH($GP7,$E$7:$E$18,0)),"") -> Done | GR7: =IF(AND(LEN($GP7)>0,$GQ7=GR$6),1,"") -> 1 | GS7: =IF(AND(LEN($GP7)>0,$GQ7=GS$6),1,"") | GT7: =IF(AND(LEN($GP7)>0,$GQ7=GT$6),1,"") | GU7: =IF(AND(LEN($GP7)>0,$GQ7=GU$6),1,"") | GV7: =IF(LEN($GQ7)=0,"",1) -> 1 | GW7: =IF(LEN($GQ7)=0,"",3) -> 3 | GY7: 1
B8: =IF(MAX($B$6:B7)+1>countall,"-",MAX($B$6:B7)+1) -> 2 | C8: =IF($B8="-","-",""&INDEX(TaskPlan!C$7:C$18,MATCH($B8,TaskPlan!$B$7:$B$18,0),1)) -> Medium | D8: =IF($B8="-","-",""&INDEX(TaskPlan!D$7:D$18,MATCH($B8,TaskPlan!$B$7:$B$18,0),1)) -> P | E8: =IF($B8="-","-",INDEX(TaskPlan!E$7:E$18,MATCH($B8,TaskPlan!$B$7:$B$18,0),1)) -> Phase 1: Planning | F8: =IF($B8="-","-",IF(LEN(INDEX(TaskPlan!F$7:F$18,MATCH($B8,TaskPlan!$B$7:$B$18,0),1))=0,"",INDEX(TaskPlan!F$7:F$18,MATCH($B8,TaskPlan!$B$7:$B$18,0),1))) -> Carmel Beltran | G8: =IFERROR(IF(ISNUMBER(B8),IF(LEN(F8)=0,"",IF(LEN(INDEX($FC$7:$FC$25,MATCH(F8,$EY$7:$EY$25,0)))=0,"",INDEX($FC$7:$FC$25,MATCH(F8,$EY$7:$EY$25,0)))),"-"),"") -> IT | H8: =IF($B8="-","-",IF(INDEX(TaskPlan!G$7:G$18,MATCH($B8,TaskPlan!$B$7:$B$18,0),1)="","",INDEX(TaskPlan!G$7:G$18,MATCH($B8,TaskPlan!$B$7:$B$18,0),1))) | I8: =IF($B8="-","-",IF(D8=Type1,0,K8+IF(INDEX(TaskPlan!H$7:H$18,MATCH($B8,TaskPlan!$B$7:$B$18,0),1)="",0,INDEX(TaskPlan!H$7:H$18,MATCH($B8,TaskPlan!$B$7:$B$18,0),1)))) -> 0 | J8: =IF($B8="-","-",IF(INDEX(TaskPlan!I$7:I$18,MATCH($B8,TaskPlan!$B$7:$B$18,0),1)="",0,INDEX(TaskPlan!I$7:I$18,MATCH($B8,TaskPlan!$B$7:$B$18,0),1))) -> 0 | K8: =IF($B8="-","-",IF(INDEX(TaskPlan!J$7:J$18,MATCH($B8,TaskPlan!$B$7:$B$18,0),1)="",0,INDEX(TaskPlan!J$7:J$18,MATCH($B8,TaskPlan!$B$7:$B$18,0),1))) -> 0 | L8: =IFERROR(IF(D8=Type1,AB8-Y8,I8),"") -> 25 | M8: =IF(D8=Type1,IFERROR(MATCH(D8,D9:$D$19,0)+ROW(D8)-7-B8,200),"") -> 4 | N8: =IF(D8=Type1,IF(COUNTIF(OFFSET(N9,,,M8),Status1)=M8,Status1,IF(COUNTIF(OFFSET(N9,,,M8),Status2)>0,Status2,IF(COUNTIF(OFFSET(N9,,,M8),Status4)=M8,Status4,Status3))),IF($B8="-","-",IF(LEN(INDEX(TaskPlan!K$7:K$206,MATCH($B8,TaskPlan!$B$7:$B$206,0),1))=0,"-",INDEX(TaskPlan!K$7:K$206,MATCH($B8,TaskPlan!$B$7:$B$206,0),1)))) -> Done | O8: =IFERROR(INDEX($CJ$46:$CJ$49,MATCH(D8,$CG$46:$CG$49,0)),1) -> 1 | P8: =IF(AND(ISNUMBER($B8),OR(Person="All",Person="",Person=$F8),OR(Department="All",Department="",Department=$G8),OR(Fromdate="All",Fromdate="",IFERROR(INDEX($FV$7:$FV$126,MATCH(Fromdate,$FU$7:$FU$126,0))<=Y8,"FALSE")),OR(Todate="All",Todate="",IFERROR(INDEX($FV$7:$FV$126,MATCH(Todate,$FU$7:$FU$126,0))>$AB8,"FALSE")),OR(Status="All",Status="",Status=$N8),OR(Priority="All",Priority="",Priority=$C8)),1,0) -> 1 | Q8: =B8&" - "&E8 -> 2 - Phase 1: Planning | R8: =IFERROR(INDEX($CF$39:$CF$43,MATCH(C8,$CH$39:$CH$43,0)),"") -> 2 | S8: =IF(OR(E8="-",LEN(C8)=0),"",IF(ISERROR(MATCH(C8,$CI$39:$CI$43,0)),1,0)) -> 0 | T8: =IF(OR(E8="-",LEN(D8)=0),"",IF(ISERROR(MATCH(D8,$CG$46:$CG$49,0)),1,0)) -> 0 | U8: =IF(OR(E8="-",LEN(F8)=0),"",IF(ISERROR(MATCH(F8,$FA$7:$FA$25,0)),1,0)) -> 0 | V8: =IF(OR(E8="-",LEN(N8)=0),"",IF(ISERROR(MATCH(N8,$CH$52:$CH$55,0)),1,0)) -> 0 | W8: =SUM(S8:V8) -> 0 | Y8: =IFERROR(IF(AC8="","", INDEX($CN$7:$CN$737,MATCH(AC8,$CO$7:$CO$737,0),1)),"") -> 44928 | Z8: =IFERROR(IF(AD8="","", INDEX($CN$7:$CN$737,MATCH(AD8,$CO$7:$CO$737,0),1)),"") -> 44953 | AA8: =IFERROR(IF(AE8="","", INDEX($CN$7:$CN$737,MATCH(AE8,$CO$7:$CO$737,0),1)),"") -> 44928 | AB8: =IFERROR(IF(AF8="","", INDEX($CN$7:$CN$737,MATCH(AF8,$CO$7:$CO$737,0),1)),"") -> 44953 | AC8: =IFERROR(IF(B8="-","",IF(D8=Type1,IF(C8="-","",IF(D8=Type1,MIN(OFFSET(AC9,0,0,M8,1)))),IF(CD8=0,0, MAX(AI8:AR8)+J8))),"") -> 0 | AD8: =IFERROR(IF(B8="-","",IF(D8=Type1,MAX(OFFSET(AF9,0,0,M8,1)),AC8+I8)),"") -> 19 | AE8: =IFERROR(IF(B8="-","",IF(D8=Type1,AC8,IF(AF8-I8<0,0+AC8,AF8-I8))),"") -> 0 | AF8: =IFERROR(IF(B8="-","",IF(B9="-",AD8,MAX(AD8,MIN(AT8:BC8)))),"") -> 19 | AG8: =IFERROR(IF(B8="-","",IF(ROUND(AF8-AD8,5)<0,0,ROUND(AF8-AD8,5))),"") -> 0 | AI8: {=IF(BG8="",0,INDEX($AD$7:$AD$18,MATCH(""&BG8,""&$B$7:$B$18,0)))} -> 0 | AJ8: {=IF(BH8="",0,INDEX($AD$7:$AD$18,MATCH(""&BH8,""&$B$7:$B$18,0)))} -> 0 | AK8: {=IF(BI8="",0,INDEX($AD$7:$AD$18,MATCH(""&BI8,""&$B$7:$B$18,0)))} -> 0 | AL8: {=IF(BJ8="",0,INDEX($AD$7:$AD$18,MATCH(""&BJ8,""&$B$7:$B$18,0)))} -> 0 | AM8: {=IF(BK8="",0,INDEX($AD$7:$AD$18,MATCH(""&BK8,""&$B$7:$B$18,0)))} -> 0 | AN8: {=IF(BL8="",0,INDEX($AD$7:$AD$18,MATCH(""&BL8,""&$B$7:$B$18,0)))} -> 0 | AO8: {=IF(BM8="",0,INDEX($AD$7:$AD$18,MATCH(""&BM8,""&$B$7:$B$18,0)))} -> 0 | AP8: {=IF(BN8="",0,INDEX($AD$7:$AD$18,MATCH(""&BN8,""&$B$7:$B$18,0)))} -> 0 | ... AR8: {=IF(BP8="",0,INDEX($AD$7:$AD$18,MATCH(""&BP8,""&$B$7:$B$18,0)))} -> 0 | AT8: {=IF(BR8="","",INDEX($AE$7:$AE$18,MATCH(""&BR8,""&$B$7:$B$18,0)))} | AU8: {=IF(BS8="","",INDEX($AE$7:$AE$18,MATCH(""&BS8,""&$B$7:$B$18,0)))} | AV8: {=IF(BT8="","",INDEX($AE$7:$AE$18,MATCH(""&BT8,""&$B$7:$B$18,0)))} | AW8: {=IF(BU8="","",INDEX($AE$7:$AE$18,MATCH(""&BU8,""&$B$7:$B$18,0)))} | AX8: {=IF(BV8="","",INDEX($AE$7:$AE$18,MATCH(""&BV8,""&$B$7:$B$18,0)))} | AY8: {=IF(BW8="","",INDEX($AE$7:$AE$18,MATCH(""&BW8,""&$B$7:$B$18,0)))} | AZ8: {=IF(BX8="","",INDEX($AE$7:$AE$18,MATCH(""&BX8,""&$B$7:$B$18,0)))} | BA8: {=IF(BY8="","",INDEX($AE$7:$AE$18,MATCH(""&BY8,""&$B$7:$B$18,0)))} | ... BC8: {=IF(CA8="","",INDEX($AE$7:$AE$18,MATCH(""&CA8,""&$B$7:$B$18,0)))} | BE8: =IF(ISNUMBER(AG8),IF(AG8=0,"Yes","No"),"") -> Yes | BG8: {=IFERROR(IF($D8=Type1,"",IF(INDEX($D$7:$D$18,IF($B8="-","-",TRIM(MID(SUBSTITUTE($H8,",",REPT(" ",LEN($H8))),(BG$6-1)*LEN($H8)+1,LEN($H8)))))=Type1,INDEX($BG$7:$BG$18,IF($B8="-","-",TRIM(MID(SUBSTITUTE($H8,",",REPT(" ",LEN($H8))),(BG$6-1)*LEN($H8)+1,LEN($H8))))),IF($B8="-","-",TRIM(MID(SUBSTITUTE($H8,",",REPT(" ",LEN($H8))),(BG$6-1)*LEN($H8)+1,LEN($H8)))))),"")} | BH8: {=IFERROR(IF($D8=Type1,"",IF(INDEX($D$7:$D$18,IF($B8="-","-",TRIM(MID(SUBSTITUTE($H8,",",REPT(" ",LEN($H8))),(BH$6-1)*LEN($H8)+1,LEN($H8)))))=Type1,INDEX($BG$7:$BG$18,IF($B8="-","-",TRIM(MID(SUBSTITUTE($H8,",",REPT(" ",LEN($H8))),(BH$6-1)*LEN($H8)+1,LEN($H8))))),IF($B8="-","-",TRIM(MID(SUBSTITUTE($H8,",",REPT(" ",LEN($H8))),(BH$6-1)*LEN($H8)+1,LEN($H8)))))),"")} | BI8: {=IFERROR(IF($D8=Type1,"",IF(INDEX($D$7:$D$18,IF($B8="-","-",TRIM(MID(SUBSTITUTE($H8,",",REPT(" ",LEN($H8))),(BI$6-1)*LEN($H8)+1,LEN($H8)))))=Type1,INDEX($BG$7:$BG$18,IF($B8="-","-",TRIM(MID(SUBSTITUTE($H8,",",REPT(" ",LEN($H8))),(BI$6-1)*LEN($H8)+1,LEN($H8))))),IF($B8="-","-",TRIM(MID(SUBSTITUTE($H8,",",REPT(" ",LEN($H8))),(BI$6-1)*LEN($H8)+1,LEN($H8)))))),"")} | BJ8: {=IFERROR(IF($D8=Type1,"",IF(INDEX($D$7:$D$18,IF($B8="-","-",TRIM(MID(SUBSTITUTE($H8,",",REPT(" ",LEN($H8))),(BJ$6-1)*LEN($H8)+1,LEN($H8)))))=Type1,INDEX($BG$7:$BG$18,IF($B8="-","-",TRIM(MID(SUBSTITUTE($H8,",",REPT(" ",LEN($H8))),(BJ$6-1)*LEN($H8)+1,LEN($H8))))),IF($B8="-","-",TRIM(MID(SUBSTITUTE($H8,",",REPT(" ",LEN($H8))),(BJ$6-1)*LEN($H8)+1,LEN($H8)))))),"")} | BK8: {=IFERROR(IF($D8=Type1,"",IF(INDEX($D$7:$D$18,IF($B8="-","-",TRIM(MID(SUBSTITUTE($H8,",",REPT(" ",LEN($H8))),(BK$6-1)*LEN($H8)+1,LEN($H8)))))=Type1,INDEX($BG$7:$BG$18,IF($B8="-","-",TRIM(MID(SUBSTITUTE($H8,",",REPT(" ",LEN($H8))),(BK$6-1)*LEN($H8)+1,LEN($H8))))),IF($B8="-","-",TRIM(MID(SUBSTITUTE($H8,",",REPT(" ",LEN($H8))),(BK$6-1)*LEN($H8)+1,LEN($H8)))))),"")} | BL8: {=IFERROR(IF($D8=Type1,"",IF(INDEX($D$7:$D$18,IF($B8="-","-",TRIM(MID(SUBSTITUTE($H8,",",REPT(" ",LEN($H8))),(BL$6-1)*LEN($H8)+1,LEN($H8)))))=Type1,INDEX($BG$7:$BG$18,IF($B8="-","-",TRIM(MID(SUBSTITUTE($H8,",",REPT(" ",LEN($H8))),(BL$6-1)*LEN($H8)+1,LEN($H8))))),IF($B8="-","-",TRIM(MID(SUBSTITUTE($H8,",",REPT(" ",LEN($H8))),(BL$6-1)*LEN($H8)+1,LEN($H8)))))),"")} | BM8: {=IFERROR(IF($D8=Type1,"",IF(INDEX($D$7:$D$18,IF($B8="-","-",TRIM(MID(SUBSTITUTE($H8,",",REPT(" ",LEN($H8))),(BM$6-1)*LEN($H8)+1,LEN($H8)))))=Type1,INDEX($BG$7:$BG$18,IF($B8="-","-",TRIM(MID(SUBSTITUTE($H8,",",REPT(" ",LEN($H8))),(BM$6-1)*LEN($H8)+1,LEN($H8))))),IF($B8="-","-",TRIM(MID(SUBSTITUTE($H8,",",REPT(" ",LEN($H8))),(BM$6-1)*LEN($H8)+1,LEN($H8)))))),"")} | BN8: {=IFERROR(IF($D8=Type1,"",IF(INDEX($D$7:$D$18,IF($B8="-","-",TRIM(MID(SUBSTITUTE($H8,",",REPT(" ",LEN($H8))),(BN$6-1)*LEN($H8)+1,LEN($H8)))))=Type1,INDEX($BG$7:$BG$18,IF($B8="-","-",TRIM(MID(SUBSTITUTE($H8,",",REPT(" ",LEN($H8))),(BN$6-1)*LEN($H8)+1,LEN($H8))))),IF($B8="-","-",TRIM(MID(SUBSTITUTE($H8,",",REPT(" ",LEN($H8))),(BN$6-1)*LEN($H8)+1,LEN($H8)))))),"")} | ... BP8: {=IFERROR(IF($D8=Type1,"",IF(INDEX($D$7:$D$18,IF($B8="-","-",TRIM(MID(SUBSTITUTE($H8,",",REPT(" ",LEN($H8))),(BP$6-1)*LEN($H8)+1,LEN($H8)))))=Type1,INDEX($BG$7:$BG$18,IF($B8="-","-",TRIM(MID(SUBSTITUTE($H8,",",REPT(" ",LEN($H8))),(BP$6-1)*LEN($H8)+1,LEN($H8))))),IF($B8="-","-",TRIM(MID(SUBSTITUTE($H8,",",REPT(" ",LEN($H8))),(BP$6-1)*LEN($H8)+1,LEN($H8)))))),"")} | BQ8: =BG8 | BR8: {=IF($B8="-","-", IFERROR(INDEX(IDSourceRange,IF(MOD(SMALL(IF((""&$BQ$7:$BQ$126)=(""&$B8),ROW($BQ$7:$BQ$126)-ROW(INDEX($BQ$7:$BQ$126,1,1))+1),BR$6),200)=0,200,MOD(SMALL(IF((""&$BQ$7:$BQ$126)=(""&$B8),ROW($BQ$7:$BQ$126)-ROW(INDEX($BQ$7:$BQ$126,1,1))+1),BR$6),200)),1),""))} | BS8: {=IF($B8="-","-", IFERROR(INDEX(IDSourceRange,IF(MOD(SMALL(IF((""&$BQ$7:$BQ$126)=(""&$B8),ROW($BQ$7:$BQ$126)-ROW(INDEX($BQ$7:$BQ$126,1,1))+1),BS$6),200)=0,200,MOD(SMALL(IF((""&$BQ$7:$BQ$126)=(""&$B8),ROW($BQ$7:$BQ$126)-ROW(INDEX($BQ$7:$BQ$126,1,1))+1),BS$6),200)),1),""))} | BT8: {=IF($B8="-","-", IFERROR(INDEX(IDSourceRange,IF(MOD(SMALL(IF((""&$BQ$7:$BQ$126)=(""&$B8),ROW($BQ$7:$BQ$126)-ROW(INDEX($BQ$7:$BQ$126,1,1))+1),BT$6),200)=0,200,MOD(SMALL(IF((""&$BQ$7:$BQ$126)=(""&$B8),ROW($BQ$7:$BQ$126)-ROW(INDEX($BQ$7:$BQ$126,1,1))+1),BT$6),200)),1),""))} | BU8: {=IF($B8="-","-", IFERROR(INDEX(IDSourceRange,IF(MOD(SMALL(IF((""&$BQ$7:$BQ$126)=(""&$B8),ROW($BQ$7:$BQ$126)-ROW(INDEX($BQ$7:$BQ$126,1,1))+1),BU$6),200)=0,200,MOD(SMALL(IF((""&$BQ$7:$BQ$126)=(""&$B8),ROW($BQ$7:$BQ$126)-ROW(INDEX($BQ$7:$BQ$126,1,1))+1),BU$6),200)),1),""))} | BV8: {=IF($B8="-","-", IFERROR(INDEX(IDSourceRange,IF(MOD(SMALL(IF((""&$BQ$7:$BQ$126)=(""&$B8),ROW($BQ$7:$BQ$126)-ROW(INDEX($BQ$7:$BQ$126,1,1))+1),BV$6),200)=0,200,MOD(SMALL(IF((""&$BQ$7:$BQ$126)=(""&$B8),ROW($BQ$7:$BQ$126)-ROW(INDEX($BQ$7:$BQ$126,1,1))+1),BV$6),200)),1),""))} | BW8: {=IF($B8="-","-", IFERROR(INDEX(IDSourceRange,IF(MOD(SMALL(IF((""&$BQ$7:$BQ$126)=(""&$B8),ROW($BQ$7:$BQ$126)-ROW(INDEX($BQ$7:$BQ$126,1,1))+1),BW$6),200)=0,200,MOD(SMALL(IF((""&$BQ$7:$BQ$126)=(""&$B8),ROW($BQ$7:$BQ$126)-ROW(INDEX($BQ$7:$BQ$126,1,1))+1),BW$6),200)),1),""))} | BX8: {=IF($B8="-","-", IFERROR(INDEX(IDSourceRange,IF(MOD(SMALL(IF((""&$BQ$7:$BQ$126)=(""&$B8),ROW($BQ$7:$BQ$126)-ROW(INDEX($BQ$7:$BQ$126,1,1))+1),BX$6),200)=0,200,MOD(SMALL(IF((""&$BQ$7:$BQ$126)=(""&$B8),ROW($BQ$7:$BQ$126)-ROW(INDEX($BQ$7:$BQ$126,1,1))+1),BX$6),200)),1),""))} | BY8: {=IF($B8="-","-", IFERROR(INDEX(IDSourceRange,IF(MOD(SMALL(IF((""&$BQ$7:$BQ$126)=(""&$B8),ROW($BQ$7:$BQ$126)-ROW(INDEX($BQ$7:$BQ$126,1,1))+1),BY$6),200)=0,200,MOD(SMALL(IF((""&$BQ$7:$BQ$126)=(""&$B8),ROW($BQ$7:$BQ$126)-ROW(INDEX($BQ$7:$BQ$126,1,1))+1),BY$6),200)),1),""))} | ... CA8: {=IF($B8="-","-", IFERROR(INDEX(IDSourceRange,IF(MOD(SMALL(IF((""&$BQ$7:$BQ$126)=(""&$B8),ROW($BQ$7:$BQ$126)-ROW(INDEX($BQ$7:$BQ$126,1,1))+1),CA$6),200)=0,200,MOD(SMALL(IF((""&$BQ$7:$BQ$126)=(""&$B8),ROW($BQ$7:$BQ$126)-ROW(INDEX($BQ$7:$BQ$126,1,1))+1),CA$6),200)),1),""))} | CB8: =BR8 | CC8: {=IF($B8="-","-",SUM(IF(LEN(BR8:CA8)>0,1,0)))} -> 0 | CD8: {=IF($B8="-","-",SUM(IF(LEN(BG8:BP8)>0,1,0)))} -> 0 | CH8: =IF(ISNUMBER(projectStartDate),projectStartDate+CH7,1) -> 44934 | CN8: =CN7+1 -> 44928 | CO8: {=IF(NETWORKDAYS.INTL(CN8,CN8,weekendOption,holidaysList)=1,MAX($CO$6:CO7)+1,"")} -> 0 | CQ8: =IF(B8="-","", B8 & " - " &E8) -> 2 - Phase 1: Planning | CT8: =IF(AND( Y8<= DATE(yearC,Calculations!$CT$5+1,1)-1,CY8>=DATE(yearC,Calculations!$CT$5,1)),1,0) -> 1 | CU8: =IF(OR(C8=$CU$5,$CU$5=""),1,0) -> 1 | CV8: =IF($CV$5="",1,IFERROR(IF($CV$5=F8,1,0),0)) -> 1 | CW8: =IF(OR(D8=$CW$5,$CW$5=""),1,0) -> 1 | CX8: =CT8*CU8*CV8*CW8 -> 1 | CY8: =INDEX(Z8:AB8,1,$CY$5) -> 44953 | DA8: {=IFERROR(IF(LEN(INDEX($CO$7:$CO$737,MATCH(DA$6,$CN$7:$CN$737,0)))=0,"",IF($CX8=0,"",IF(AND(DA$6>=$Y8,DA$6<=$CY8),IF(CZ8<>"",CZ8,IF(MAX(DA$7:DA7)<=COUNT(DA$7:DA7),MAX(DA$7:DA7)+1,SMALL(IF(COUNTIF(DA$7:DA7,$EI$7:$EI$16)=0,$EI$7:$EI$16,""),1))),""))),"")} | DB8: {=IFERROR(IF(LEN(INDEX($CO$7:$CO$737,MATCH(DB$6,$CN$7:$CN$737,0)))=0,"",IF($CX8=0,"",IF(AND(DB$6>=$Y8,DB$6<=$CY8),IF(DA8<>"",DA8,IF(MAX(DB$7:DB7)<=COUNT(DB$7:DB7),MAX(DB$7:DB7)+1,SMALL(IF(COUNTIF(DB$7:DB7,$EI$7:$EI$16)=0,$EI$7:$EI$16,""),1))),""))),"")} -> 2 | DC8: {=IFERROR(IF(LEN(INDEX($CO$7:$CO$737,MATCH(DC$6,$CN$7:$CN$737,0)))=0,"",IF($CX8=0,"",IF(AND(DC$6>=$Y8,DC$6<=$CY8),IF(DB8<>"",DB8,IF(MAX(DC$7:DC7)<=COUNT(DC$7:DC7),MAX(DC$7:DC7)+1,SMALL(IF(COUNTIF(DC$7:DC7,$EI$7:$EI$16)=0,$EI$7:$EI$16,""),1))),""))),"")} -> 2 | DD8: {=IFERROR(IF(LEN(INDEX($CO$7:$CO$737,MATCH(DD$6,$CN$7:$CN$737,0)))=0,"",IF($CX8=0,"",IF(AND(DD$6>=$Y8,DD$6<=$CY8),IF(DC8<>"",DC8,IF(MAX(DD$7:DD7)<=COUNT(DD$7:DD7),MAX(DD$7:DD7)+1,SMALL(IF(COUNTIF(DD$7:DD7,$EI$7:$EI$16)=0,$EI$7:$EI$16,""),1))),""))),"")} -> 2 | DE8: {=IFERROR(IF(LEN(INDEX($CO$7:$CO$737,MATCH(DE$6,$CN$7:$CN$737,0)))=0,"",IF($CX8=0,"",IF(AND(DE$6>=$Y8,DE$6<=$CY8),IF(DD8<>"",DD8,IF(MAX(DE$7:DE7)<=COUNT(DE$7:DE7),MAX(DE$7:DE7)+1,SMALL(IF(COUNTIF(DE$7:DE7,$EI$7:$EI$16)=0,$EI$7:$EI$16,""),1))),""))),"")} -> 2 | DF8: {=IFERROR(IF(LEN(INDEX($CO$7:$CO$737,MATCH(DF$6,$CN$7:$CN$737,0)))=0,"",IF($CX8=0,"",IF(AND(DF$6>=$Y8,DF$6<=$CY8),IF(DE8<>"",DE8,IF(MAX(DF$7:DF7)<=COUNT(DF$7:DF7),MAX(DF$7:DF7)+1,SMALL(IF(COUNTIF(DF$7:DF7,$EI$7:$EI$16)=0,$EI$7:$EI$16,""),1))),""))),"")} -> 2 | DG8: {=IFERROR(IF(LEN(INDEX($CO$7:$CO$737,MATCH(DG$6,$CN$7:$CN$737,0)))=0,"",IF($CX8=0,"",IF(AND(DG$6>=$Y8,DG$6<=$CY8),IF(DF8<>"",DF8,IF(MAX(DG$7:DG7)<=COUNT(DG$7:DG7),MAX(DG$7:DG7)+1,SMALL(IF(COUNTIF(DG$7:DG7,$EI$7:$EI$16)=0,$EI$7:$EI$16,""),1))),""))),"")} | DH8: {=IFERROR(IF(LEN(INDEX($CO$7:$CO$737,MATCH(DH$6,$CN$7:$CN$737,0)))=0,"",IF($CX8=0,"",IF(AND(DH$6>=$Y8,DH$6<=$CY8),IF(DG8<>"",DG8,IF(MAX(DH$7:DH7)<=COUNT(DH$7:DH7),MAX(DH$7:DH7)+1,SMALL(IF(COUNTIF(DH$7:DH7,$EI$7:$EI$16)=0,$EI$7:$EI$16,""),1))),""))),"")} | ... EE8: {=IFERROR(IF(LEN(INDEX($CO$7:$CO$737,MATCH(EE$6,$CN$7:$CN$737,0)))=0,"",IF($CX8=0,"",IF(AND(EE$6>=$Y8,EE$6<=$CY8),IF(ED8<>"",ED8,IF(MAX(EE$7:EE7)<=COUNT(EE$7:EE7),MAX(EE$7:EE7)+1,SMALL(IF(COUNTIF(EE$7:EE7,$EI$7:$EI$16)=0,$EI$7:$EI$16,""),1))),""))),"")} | EG8: =MAX(DA8:EE8) -> 2 | EI8: 2 | EK8: =IF(OR(LEN(C8)=0,O8=0),"",B8) -> 2 | EL8: {=IFERROR(SMALL($EK$7:$EK$18,ROW()-ROW($EK$6)),"")} -> 2 | EM8: =IFERROR(INDEX(E$7:E$18,$EL8),"") -> Phase 1: Planning | EN8: =IFERROR(INDEX(D$7:D$18,$EL8),"") -> P | EO8: =IFERROR(INDEX(Y$7:Y$18,$EL8),"") -> 44928 | EP8: =IFERROR(INDEX(Z$7:Z$18,$EL8),"") -> 44953 | EQ8: =IFERROR(INDEX(L$7:L$18,$EL8),"") -> 25 | ER8: =IFERROR(INDEX(AB$7:AB$18,$EL8),"") -> 44953 | ES8: =IFERROR(INDEX(C$7:C$18,$EL8),"") -> Medium | ET8: =IFERROR(INDEX(N$7:N$18,$EL8),"") -> Done | EU8: =IFERROR(IF(LEN(EM8)=0,"",INDEX($CF$39:$CF$43,MATCH(ES8,$CH$39:$CH$43,0))),"") -> 2 | EV8: =IFERROR(IF(LEN(EM8)=0,"",INDEX($CG$52:$CG$55,MATCH(ET8,$CH$52:$CH$55,0))),"") -> 1 | EX8: 2 | EY8: =IFERROR(IF(LEN(INDEX(Settings!I$10:I$52,Calculations!$EX8))=0,"",INDEX(Settings!I$10:I$52,Calculations!$EX8)),"") -> Mercedes Banks | EZ8: =IF(LEN(EY8)=0,"",EX8) -> 2 | FA8: =IFERROR(INDEX($EY$7:$EY$25,SMALL($EZ$7:$EZ$25,$EX8)),"") -> Mercedes Banks | FB8: =IF(LEN(FC8)=0,"",EX8) -> 2 | FC8: =IFERROR(IF(LEN(INDEX(Settings!J$10:J$52,Calculations!$EX8))=0,"",INDEX(Settings!J$10:J$52,Calculations!$EX8)),"") -> Design | FD8: =IF(IF(LEN(FC8)=0,"",COUNTIF($FC$7:FC8,FC8))=1,EX8,"") -> 2 | FE8: =IFERROR(INDEX($FC$7:$FC$25,SMALL($FD$7:$FD$25,$EX8)),"") -> Design | FG8: =IFERROR(INDEX($CH$39:$CH$43,MATCH(ROW(CI40)-ROW($CI$38),$CG$39:$CG$43,0),1),"") -> Medium | FH8: =IF(LEN(FG8)=0,"",EX8) -> 2 | FI8: =IFERROR(INDEX($FG$7:$FG$11,SMALL($FH$7:$FH$11,$EX8)),"") -> Medium | FK8: =IFERROR(INDEX($CH$52:$CH$55,MATCH(ROW(CH53)-ROW($CH$51),$CF$52:$CF$55,0),1),"") -> In Progress | FL8: =IF(LEN(FK8)=0,"",EX8) -> 2 | FM8: =IFERROR(INDEX($FK$7:$FK$10,SMALL($FL$7:$FL$10,$EX8)),"") -> In Progress | FO8: {=IF(MAX(IFERROR(YEAR(AB7:AB18),""))=0,"",MAX(IFERROR(YEAR(AB7:AB18),"")))} -> 2023 | FP8: =IFERROR(INDEX($CH$45:$CH$49,MATCH(ROW(CH47)-ROW($CH$45),$CF$45:$CF$49,0),1),"") -> Milestone | FR8: =FR7 -> 0 | FS8: =IFERROR(IF($FO$5>=FR8,$FO$7+FR8,""),"") -> 2023 | FT8: February | FU8: =IF(LEN(FS8)>0,FS8&"-"&FT8,"") -> 2023-February | FV8: =IFERROR(DATE(FS8,MATCH(FT8,$CH$24:$CH$35,0),1),"") -> 44958 | FX8: =IF(LEN(FM8)=0,"",FM8) -> In Progress | FY8: =COUNTIFS($N$7:$N$19,$FX8,$P$7:$P$19,1) -> 3 | FZ8: =IFERROR(FY8/$FY$11,"") -> 0.3 | GB8: =FG8 -> Medium | GC8: =IF(LEN(GB8)=0,"",COUNTIFS($C$7:$C$19,$GB8,$P$7:$P$19,1)) -> 3 | GD8: =IF(AND(ISNUMBER(GC8),GC8>0),MAX(GD7:GD7)+1,"") -> 2 | GF8: =FA8 -> Mercedes Banks | GG8: =IF(LEN(GF8)=0,"",COUNTIFS($F$7:$F$19,$GF8,$P$7:$P$19,1)) -> 2 | GH8: =IFERROR(IF(GG8=0,"",RANK(GG8,$GG$7:$GG$25)),"") -> 1 | GI8: =IFERROR(COUNTIF($GH$6:GH7,GH8)+GH8,"") -> 2 | GK8: 2 | GL8: =IFERROR(INDEX(GF$7:GF$25,MATCH($GK8,$GI$7:$GI$25,0)),"") -> Mercedes Banks | GM8: =IFERROR(INDEX(GG$7:GG$25,MATCH($GK8,$GI$7:$GI$25,0)),"") -> 2 | GO8: =IF(D8=Type1,ROW(E8)-ROW($E$6),"") -> 2 | GP8: =IFERROR(INDEX($E$7:$E$18,SMALL($GO$7:$GO$18,ROW(GP8)-ROW($GP$6))),"") -> Phase 2: Design | GQ8: =IFERROR(INDEX($N$7:$N$19,MATCH($GP8,$E$7:$E$18,0)),"") -> In Progress | GR8: =IF(AND(LEN($GP8)>0,$GQ8=GR$6),1,"") | GS8: =IF(AND(LEN($GP8)>0,$GQ8=GS$6),1,"") -> 1 | GT8: =IF(AND(LEN($GP8)>0,$GQ8=GT$6),1,"") | GU8: =IF(AND(LEN($GP8)>0,$GQ8=GU$6),1,"") | GV8: =IF(LEN($GQ8)=0,"",1) -> 1 | GW8: =IF(LEN($GQ8)=0,"",3) -> 3 | GY8: 2
B9: =IF(MAX($B$6:B8)+1>countall,"-",MAX($B$6:B8)+1) -> 3 | C9: =IF($B9="-","-",""&INDEX(TaskPlan!C$7:C$18,MATCH($B9,TaskPlan!$B$7:$B$18,0),1)) -> High | D9: =IF($B9="-","-",""&INDEX(TaskPlan!D$7:D$18,MATCH($B9,TaskPlan!$B$7:$B$18,0),1)) -> T | E9: =IF($B9="-","-",INDEX(TaskPlan!E$7:E$18,MATCH($B9,TaskPlan!$B$7:$B$18,0),1)) -> Define project scope and objectives | F9: =IF($B9="-","-",IF(LEN(INDEX(TaskPlan!F$7:F$18,MATCH($B9,TaskPlan!$B$7:$B$18,0),1))=0,"",INDEX(TaskPlan!F$7:F$18,MATCH($B9,TaskPlan!$B$7:$B$18,0),1))) -> Hannah Shaw | G9: =IFERROR(IF(ISNUMBER(B9),IF(LEN(F9)=0,"",IF(LEN(INDEX($FC$7:$FC$25,MATCH(F9,$EY$7:$EY$25,0)))=0,"",INDEX($FC$7:$FC$25,MATCH(F9,$EY$7:$EY$25,0)))),"-"),"") -> Quality Assurance | H9: =IF($B9="-","-",IF(INDEX(TaskPlan!G$7:G$18,MATCH($B9,TaskPlan!$B$7:$B$18,0),1)="","",INDEX(TaskPlan!G$7:G$18,MATCH($B9,TaskPlan!$B$7:$B$18,0),1))) -> 1 | I9: =IF($B9="-","-",IF(D9=Type1,0,K9+IF(INDEX(TaskPlan!H$7:H$18,MATCH($B9,TaskPlan!$B$7:$B$18,0),1)="",0,INDEX(TaskPlan!H$7:H$18,MATCH($B9,TaskPlan!$B$7:$B$18,0),1)))) -> 5 | J9: =IF($B9="-","-",IF(INDEX(TaskPlan!I$7:I$18,MATCH($B9,TaskPlan!$B$7:$B$18,0),1)="",0,INDEX(TaskPlan!I$7:I$18,MATCH($B9,TaskPlan!$B$7:$B$18,0),1))) -> 0 | K9: =IF($B9="-","-",IF(INDEX(TaskPlan!J$7:J$18,MATCH($B9,TaskPlan!$B$7:$B$18,0),1)="",0,INDEX(TaskPlan!J$7:J$18,MATCH($B9,TaskPlan!$B$7:$B$18,0),1))) -> 0 | L9: =IFERROR(IF(D9=Type1,AB9-Y9,I9),"") -> 5 | M9: =IF(D9=Type1,IFERROR(MATCH(D9,D10:$D$19,0)+ROW(D9)-7-B9,200),"") | N9: =IF(D9=Type1,IF(COUNTIF(OFFSET(N10,,,M9),Status1)=M9,Status1,IF(COUNTIF(OFFSET(N10,,,M9),Status2)>0,Status2,IF(COUNTIF(OFFSET(N10,,,M9),Status4)=M9,Status4,Status3))),IF($B9="-","-",IF(LEN(INDEX(TaskPlan!K$7:K$206,MATCH($B9,TaskPlan!$B$7:$B$206,0),1))=0,"-",INDEX(TaskPlan!K$7:K$206,MATCH($B9,TaskPlan!$B$7:$B$206,0),1)))) -> Done | O9: =IFERROR(INDEX($CJ$46:$CJ$49,MATCH(D9,$CG$46:$CG$49,0)),1) -> 1 | P9: =IF(AND(ISNUMBER($B9),OR(Person="All",Person="",Person=$F9),OR(Department="All",Department="",Department=$G9),OR(Fromdate="All",Fromdate="",IFERROR(INDEX($FV$7:$FV$126,MATCH(Fromdate,$FU$7:$FU$126,0))<=Y9,"FALSE")),OR(Todate="All",Todate="",IFERROR(INDEX($FV$7:$FV$126,MATCH(Todate,$FU$7:$FU$126,0))>$AB9,"FALSE")),OR(Status="All",Status="",Status=$N9),OR(Priority="All",Priority="",Priority=$C9)),1,0) -> 1 | Q9: =B9&" - "&E9 -> 3 - Define project scope and objectives | R9: =IFERROR(INDEX($CF$39:$CF$43,MATCH(C9,$CH$39:$CH$43,0)),"") -> 1 | S9: =IF(OR(E9="-",LEN(C9)=0),"",IF(ISERROR(MATCH(C9,$CI$39:$CI$43,0)),1,0)) -> 0 | T9: =IF(OR(E9="-",LEN(D9)=0),"",IF(ISERROR(MATCH(D9,$CG$46:$CG$49,0)),1,0)) -> 0 | U9: =IF(OR(E9="-",LEN(F9)=0),"",IF(ISERROR(MATCH(F9,$FA$7:$FA$25,0)),1,0)) -> 0 | V9: =IF(OR(E9="-",LEN(N9)=0),"",IF(ISERROR(MATCH(N9,$CH$52:$CH$55,0)),1,0)) -> 0 | W9: =SUM(S9:V9) -> 0 | Y9: =IFERROR(IF(AC9="","", INDEX($CN$7:$CN$737,MATCH(AC9,$CO$7:$CO$737,0),1)),"") -> 44928 | Z9: =IFERROR(IF(AD9="","", INDEX($CN$7:$CN$737,MATCH(AD9,$CO$7:$CO$737,0),1)),"") -> 44935 | AA9: =IFERROR(IF(AE9="","", INDEX($CN$7:$CN$737,MATCH(AE9,$CO$7:$CO$737,0),1)),"") -> 44932 | AB9: =IFERROR(IF(AF9="","", INDEX($CN$7:$CN$737,MATCH(AF9,$CO$7:$CO$737,0),1)),"") -> 44939 | AC9: =IFERROR(IF(B9="-","",IF(D9=Type1,IF(C9="-","",IF(D9=Type1,MIN(OFFSET(AC10,0,0,M9,1)))),IF(CD9=0,0, MAX(AI9:AR9)+J9))),"") -> 0 | AD9: =IFERROR(IF(B9="-","",IF(D9=Type1,MAX(OFFSET(AF10,0,0,M9,1)),AC9+I9)),"") -> 5 | AE9: =IFERROR(IF(B9="-","",IF(D9=Type1,AC9,IF(AF9-I9<0,0+AC9,AF9-I9))),"") -> 4 | AF9: =IFERROR(IF(B9="-","",IF(B10="-",AD9,MAX(AD9,MIN(AT9:BC9)))),"") -> 9 | AG9: =IFERROR(IF(B9="-","",IF(ROUND(AF9-AD9,5)<0,0,ROUND(AF9-AD9,5))),"") -> 4 | AI9: {=IF(BG9="",0,INDEX($AD$7:$AD$18,MATCH(""&BG9,""&$B$7:$B$18,0)))} -> 0 | AJ9: {=IF(BH9="",0,INDEX($AD$7:$AD$18,MATCH(""&BH9,""&$B$7:$B$18,0)))} -> 0 | AK9: {=IF(BI9="",0,INDEX($AD$7:$AD$18,MATCH(""&BI9,""&$B$7:$B$18,0)))} -> 0 | AL9: {=IF(BJ9="",0,INDEX($AD$7:$AD$18,MATCH(""&BJ9,""&$B$7:$B$18,0)))} -> 0 | AM9: {=IF(BK9="",0,INDEX($AD$7:$AD$18,MATCH(""&BK9,""&$B$7:$B$18,0)))} -> 0 | AN9: {=IF(BL9="",0,INDEX($AD$7:$AD$18,MATCH(""&BL9,""&$B$7:$B$18,0)))} -> 0 | AO9: {=IF(BM9="",0,INDEX($AD$7:$AD$18,MATCH(""&BM9,""&$B$7:$B$18,0)))} -> 0 | AP9: {=IF(BN9="",0,INDEX($AD$7:$AD$18,MATCH(""&BN9,""&$B$7:$B$18,0)))} -> 0 | ... AR9: {=IF(BP9="",0,INDEX($AD$7:$AD$18,MATCH(""&BP9,""&$B$7:$B$18,0)))} -> 0 | AT9: {=IF(BR9="","",INDEX($AE$7:$AE$18,MATCH(""&BR9,""&$B$7:$B$18,0)))} -> 9 | AU9: {=IF(BS9="","",INDEX($AE$7:$AE$18,MATCH(""&BS9,""&$B$7:$B$18,0)))} | AV9: {=IF(BT9="","",INDEX($AE$7:$AE$18,MATCH(""&BT9,""&$B$7:$B$18,0)))} | AW9: {=IF(BU9="","",INDEX($AE$7:$AE$18,MATCH(""&BU9,""&$B$7:$B$18,0)))} | AX9: {=IF(BV9="","",INDEX($AE$7:$AE$18,MATCH(""&BV9,""&$B$7:$B$18,0)))} | AY9: {=IF(BW9="","",INDEX($AE$7:$AE$18,MATCH(""&BW9,""&$B$7:$B$18,0)))} | AZ9: {=IF(BX9="","",INDEX($AE$7:$AE$18,MATCH(""&BX9,""&$B$7:$B$18,0)))} | BA9: {=IF(BY9="","",INDEX($AE$7:$AE$18,MATCH(""&BY9,""&$B$7:$B$18,0)))} | ... BC9: {=IF(CA9="","",INDEX($AE$7:$AE$18,MATCH(""&CA9,""&$B$7:$B$18,0)))} | BE9: =IF(ISNUMBER(AG9),IF(AG9=0,"Yes","No"),"") -> No | BG9: {=IFERROR(IF($D9=Type1,"",IF(INDEX($D$7:$D$18,IF($B9="-","-",TRIM(MID(SUBSTITUTE($H9,",",REPT(" ",LEN($H9))),(BG$6-1)*LEN($H9)+1,LEN($H9)))))=Type1,INDEX($BG$7:$BG$18,IF($B9="-","-",TRIM(MID(SUBSTITUTE($H9,",",REPT(" ",LEN($H9))),(BG$6-1)*LEN($H9)+1,LEN($H9))))),IF($B9="-","-",TRIM(MID(SUBSTITUTE($H9,",",REPT(" ",LEN($H9))),(BG$6-1)*LEN($H9)+1,LEN($H9)))))),"")} -> 1 | BH9: {=IFERROR(IF($D9=Type1,"",IF(INDEX($D$7:$D$18,IF($B9="-","-",TRIM(MID(SUBSTITUTE($H9,",",REPT(" ",LEN($H9))),(BH$6-1)*LEN($H9)+1,LEN($H9)))))=Type1,INDEX($BG$7:$BG$18,IF($B9="-","-",TRIM(MID(SUBSTITUTE($H9,",",REPT(" ",LEN($H9))),(BH$6-1)*LEN($H9)+1,LEN($H9))))),IF($B9="-","-",TRIM(MID(SUBSTITUTE($H9,",",REPT(" ",LEN($H9))),(BH$6-1)*LEN($H9)+1,LEN($H9)))))),"")} | BI9: {=IFERROR(IF($D9=Type1,"",IF(INDEX($D$7:$D$18,IF($B9="-","-",TRIM(MID(SUBSTITUTE($H9,",",REPT(" ",LEN($H9))),(BI$6-1)*LEN($H9)+1,LEN($H9)))))=Type1,INDEX($BG$7:$BG$18,IF($B9="-","-",TRIM(MID(SUBSTITUTE($H9,",",REPT(" ",LEN($H9))),(BI$6-1)*LEN($H9)+1,LEN($H9))))),IF($B9="-","-",TRIM(MID(SUBSTITUTE($H9,",",REPT(" ",LEN($H9))),(BI$6-1)*LEN($H9)+1,LEN($H9)))))),"")} | BJ9: {=IFERROR(IF($D9=Type1,"",IF(INDEX($D$7:$D$18,IF($B9="-","-",TRIM(MID(SUBSTITUTE($H9,",",REPT(" ",LEN($H9))),(BJ$6-1)*LEN($H9)+1,LEN($H9)))))=Type1,INDEX($BG$7:$BG$18,IF($B9="-","-",TRIM(MID(SUBSTITUTE($H9,",",REPT(" ",LEN($H9))),(BJ$6-1)*LEN($H9)+1,LEN($H9))))),IF($B9="-","-",TRIM(MID(SUBSTITUTE($H9,",",REPT(" ",LEN($H9))),(BJ$6-1)*LEN($H9)+1,LEN($H9)))))),"")} | BK9: {=IFERROR(IF($D9=Type1,"",IF(INDEX($D$7:$D$18,IF($B9="-","-",TRIM(MID(SUBSTITUTE($H9,",",REPT(" ",LEN($H9))),(BK$6-1)*LEN($H9)+1,LEN($H9)))))=Type1,INDEX($BG$7:$BG$18,IF($B9="-","-",TRIM(MID(SUBSTITUTE($H9,",",REPT(" ",LEN($H9))),(BK$6-1)*LEN($H9)+1,LEN($H9))))),IF($B9="-","-",TRIM(MID(SUBSTITUTE($H9,",",REPT(" ",LEN($H9))),(BK$6-1)*LEN($H9)+1,LEN($H9)))))),"")} | BL9: {=IFERROR(IF($D9=Type1,"",IF(INDEX($D$7:$D$18,IF($B9="-","-",TRIM(MID(SUBSTITUTE($H9,",",REPT(" ",LEN($H9))),(BL$6-1)*LEN($H9)+1,LEN($H9)))))=Type1,INDEX($BG$7:$BG$18,IF($B9="-","-",TRIM(MID(SUBSTITUTE($H9,",",REPT(" ",LEN($H9))),(BL$6-1)*LEN($H9)+1,LEN($H9))))),IF($B9="-","-",TRIM(MID(SUBSTITUTE($H9,",",REPT(" ",LEN($H9))),(BL$6-1)*LEN($H9)+1,LEN($H9)))))),"")} | BM9: {=IFERROR(IF($D9=Type1,"",IF(INDEX($D$7:$D$18,IF($B9="-","-",TRIM(MID(SUBSTITUTE($H9,",",REPT(" ",LEN($H9))),(BM$6-1)*LEN($H9)+1,LEN($H9)))))=Type1,INDEX($BG$7:$BG$18,IF($B9="-","-",TRIM(MID(SUBSTITUTE($H9,",",REPT(" ",LEN($H9))),(BM$6-1)*LEN($H9)+1,LEN($H9))))),IF($B9="-","-",TRIM(MID(SUBSTITUTE($H9,",",REPT(" ",LEN($H9))),(BM$6-1)*LEN($H9)+1,LEN($H9)))))),"")} | BN9: {=IFERROR(IF($D9=Type1,"",IF(INDEX($D$7:$D$18,IF($B9="-","-",TRIM(MID(SUBSTITUTE($H9,",",REPT(" ",LEN($H9))),(BN$6-1)*LEN($H9)+1,LEN($H9)))))=Type1,INDEX($BG$7:$BG$18,IF($B9="-","-",TRIM(MID(SUBSTITUTE($H9,",",REPT(" ",LEN($H9))),(BN$6-1)*LEN($H9)+1,LEN($H9))))),IF($B9="-","-",TRIM(MID(SUBSTITUTE($H9,",",REPT(" ",LEN($H9))),(BN$6-1)*LEN($H9)+1,LEN($H9)))))),"")} | ... BP9: {=IFERROR(IF($D9=Type1,"",IF(INDEX($D$7:$D$18,IF($B9="-","-",TRIM(MID(SUBSTITUTE($H9,",",REPT(" ",LEN($H9))),(BP$6-1)*LEN($H9)+1,LEN($H9)))))=Type1,INDEX($BG$7:$BG$18,IF($B9="-","-",TRIM(MID(SUBSTITUTE($H9,",",REPT(" ",LEN($H9))),(BP$6-1)*LEN($H9)+1,LEN($H9))))),IF($B9="-","-",TRIM(MID(SUBSTITUTE($H9,",",REPT(" ",LEN($H9))),(BP$6-1)*LEN($H9)+1,LEN($H9)))))),"")} | BQ9: =BG9 -> 1 | BR9: {=IF($B9="-","-", IFERROR(INDEX(IDSourceRange,IF(MOD(SMALL(IF((""&$BQ$7:$BQ$126)=(""&$B9),ROW($BQ$7:$BQ$126)-ROW(INDEX($BQ$7:$BQ$126,1,1))+1),BR$6),200)=0,200,MOD(SMALL(IF((""&$BQ$7:$BQ$126)=(""&$B9),ROW($BQ$7:$BQ$126)-ROW(INDEX($BQ$7:$BQ$126,1,1))+1),BR$6),200)),1),""))} -> 5 | BS9: {=IF($B9="-","-", IFERROR(INDEX(IDSourceRange,IF(MOD(SMALL(IF((""&$BQ$7:$BQ$126)=(""&$B9),ROW($BQ$7:$BQ$126)-ROW(INDEX($BQ$7:$BQ$126,1,1))+1),BS$6),200)=0,200,MOD(SMALL(IF((""&$BQ$7:$BQ$126)=(""&$B9),ROW($BQ$7:$BQ$126)-ROW(INDEX($BQ$7:$BQ$126,1,1))+1),BS$6),200)),1),""))} | BT9: {=IF($B9="-","-", IFERROR(INDEX(IDSourceRange,IF(MOD(SMALL(IF((""&$BQ$7:$BQ$126)=(""&$B9),ROW($BQ$7:$BQ$126)-ROW(INDEX($BQ$7:$BQ$126,1,1))+1),BT$6),200)=0,200,MOD(SMALL(IF((""&$BQ$7:$BQ$126)=(""&$B9),ROW($BQ$7:$BQ$126)-ROW(INDEX($BQ$7:$BQ$126,1,1))+1),BT$6),200)),1),""))} | BU9: {=IF($B9="-","-", IFERROR(INDEX(IDSourceRange,IF(MOD(SMALL(IF((""&$BQ$7:$BQ$126)=(""&$B9),ROW($BQ$7:$BQ$126)-ROW(INDEX($BQ$7:$BQ$126,1,1))+1),BU$6),200)=0,200,MOD(SMALL(IF((""&$BQ$7:$BQ$126)=(""&$B9),ROW($BQ$7:$BQ$126)-ROW(INDEX($BQ$7:$BQ$126,1,1))+1),BU$6),200)),1),""))} | BV9: {=IF($B9="-","-", IFERROR(INDEX(IDSourceRange,IF(MOD(SMALL(IF((""&$BQ$7:$BQ$126)=(""&$B9),ROW($BQ$7:$BQ$126)-ROW(INDEX($BQ$7:$BQ$126,1,1))+1),BV$6),200)=0,200,MOD(SMALL(IF((""&$BQ$7:$BQ$126)=(""&$B9),ROW($BQ$7:$BQ$126)-ROW(INDEX($BQ$7:$BQ$126,1,1))+1),BV$6),200)),1),""))} | BW9: {=IF($B9="-","-", IFERROR(INDEX(IDSourceRange,IF(MOD(SMALL(IF((""&$BQ$7:$BQ$126)=(""&$B9),ROW($BQ$7:$BQ$126)-ROW(INDEX($BQ$7:$BQ$126,1,1))+1),BW$6),200)=0,200,MOD(SMALL(IF((""&$BQ$7:$BQ$126)=(""&$B9),ROW($BQ$7:$BQ$126)-ROW(INDEX($BQ$7:$BQ$126,1,1))+1),BW$6),200)),1),""))} | BX9: {=IF($B9="-","-", IFERROR(INDEX(IDSourceRange,IF(MOD(SMALL(IF((""&$BQ$7:$BQ$126)=(""&$B9),ROW($BQ$7:$BQ$126)-ROW(INDEX($BQ$7:$BQ$126,1,1))+1),BX$6),200)=0,200,MOD(SMALL(IF((""&$BQ$7:$BQ$126)=(""&$B9),ROW($BQ$7:$BQ$126)-ROW(INDEX($BQ$7:$BQ$126,1,1))+1),BX$6),200)),1),""))} | BY9: {=IF($B9="-","-", IFERROR(INDEX(IDSourceRange,IF(MOD(SMALL(IF((""&$BQ$7:$BQ$126)=(""&$B9),ROW($BQ$7:$BQ$126)-ROW(INDEX($BQ$7:$BQ$126,1,1))+1),BY$6),200)=0,200,MOD(SMALL(IF((""&$BQ$7:$BQ$126)=(""&$B9),ROW($BQ$7:$BQ$126)-ROW(INDEX($BQ$7:$BQ$126,1,1))+1),BY$6),200)),1),""))} | ... CA9: {=IF($B9="-","-", IFERROR(INDEX(IDSourceRange,IF(MOD(SMALL(IF((""&$BQ$7:$BQ$126)=(""&$B9),ROW($BQ$7:$BQ$126)-ROW(INDEX($BQ$7:$BQ$126,1,1))+1),CA$6),200)=0,200,MOD(SMALL(IF((""&$BQ$7:$BQ$126)=(""&$B9),ROW($BQ$7:$BQ$126)-ROW(INDEX($BQ$7:$BQ$126,1,1))+1),CA$6),200)),1),""))} | CB9: =BR9 -> 5 | CC9: {=IF($B9="-","-",SUM(IF(LEN(BR9:CA9)>0,1,0)))} -> 1 | CD9: {=IF($B9="-","-",SUM(IF(LEN(BG9:BP9)>0,1,0)))} -> 1 | CN9: =CN8+1 -> 44929 | CO9: {=IF(NETWORKDAYS.INTL(CN9,CN9,weekendOption,holidaysList)=1,MAX($CO$6:CO8)+1,"")} -> 1 | CQ9: =IF(B9="-","", B9 & " - " &E9) -> 3 - Define project scope and objectives | CT9: =IF(AND( Y9<= DATE(yearC,Calculations!$CT$5+1,1)-1,CY9>=DATE(yearC,Calculations!$CT$5,1)),1,0) -> 1 | CU9: =IF(OR(C9=$CU$5,$CU$5=""),1,0) -> 1 | CV9: =IF($CV$5="",1,IFERROR(IF($CV$5=F9,1,0),0)) -> 1 | CW9: =IF(OR(D9=$CW$5,$CW$5=""),1,0) -> 1 | CX9: =CT9*CU9*CV9*CW9 -> 1 | CY9: =INDEX(Z9:AB9,1,$CY$5) -> 44939 | DA9: {=IFERROR(IF(LEN(INDEX($CO$7:$CO$737,MATCH(DA$6,$CN$7:$CN$737,0)))=0,"",IF($CX9=0,"",IF(AND(DA$6>=$Y9,DA$6<=$CY9),IF(CZ9<>"",CZ9,IF(MAX(DA$7:DA8)<=COUNT(DA$7:DA8),MAX(DA$7:DA8)+1,SMALL(IF(COUNTIF(DA$7:DA8,$EI$7:$EI$16)=0,$EI$7:$EI$16,""),1))),""))),"")} | DB9: {=IFERROR(IF(LEN(INDEX($CO$7:$CO$737,MATCH(DB$6,$CN$7:$CN$737,0)))=0,"",IF($CX9=0,"",IF(AND(DB$6>=$Y9,DB$6<=$CY9),IF(DA9<>"",DA9,IF(MAX(DB$7:DB8)<=COUNT(DB$7:DB8),MAX(DB$7:DB8)+1,SMALL(IF(COUNTIF(DB$7:DB8,$EI$7:$EI$16)=0,$EI$7:$EI$16,""),1))),""))),"")} -> 3 | DC9: {=IFERROR(IF(LEN(INDEX($CO$7:$CO$737,MATCH(DC$6,$CN$7:$CN$737,0)))=0,"",IF($CX9=0,"",IF(AND(DC$6>=$Y9,DC$6<=$CY9),IF(DB9<>"",DB9,IF(MAX(DC$7:DC8)<=COUNT(DC$7:DC8),MAX(DC$7:DC8)+1,SMALL(IF(COUNTIF(DC$7:DC8,$EI$7:$EI$16)=0,$EI$7:$EI$16,""),1))),""))),"")} -> 3 | DD9: {=IFERROR(IF(LEN(INDEX($CO$7:$CO$737,MATCH(DD$6,$CN$7:$CN$737,0)))=0,"",IF($CX9=0,"",IF(AND(DD$6>=$Y9,DD$6<=$CY9),IF(DC9<>"",DC9,IF(MAX(DD$7:DD8)<=COUNT(DD$7:DD8),MAX(DD$7:DD8)+1,SMALL(IF(COUNTIF(DD$7:DD8,$EI$7:$EI$16)=0,$EI$7:$EI$16,""),1))),""))),"")} -> 3 | DE9: {=IFERROR(IF(LEN(INDEX($CO$7:$CO$737,MATCH(DE$6,$CN$7:$CN$737,0)))=0,"",IF($CX9=0,"",IF(AND(DE$6>=$Y9,DE$6<=$CY9),IF(DD9<>"",DD9,IF(MAX(DE$7:DE8)<=COUNT(DE$7:DE8),MAX(DE$7:DE8)+1,SMALL(IF(COUNTIF(DE$7:DE8,$EI$7:$EI$16)=0,$EI$7:$EI$16,""),1))),""))),"")} -> 3 | DF9: {=IFERROR(IF(LEN(INDEX($CO$7:$CO$737,MATCH(DF$6,$CN$7:$CN$737,0)))=0,"",IF($CX9=0,"",IF(AND(DF$6>=$Y9,DF$6<=$CY9),IF(DE9<>"",DE9,IF(MAX(DF$7:DF8)<=COUNT(DF$7:DF8),MAX(DF$7:DF8)+1,SMALL(IF(COUNTIF(DF$7:DF8,$EI$7:$EI$16)=0,$EI$7:$EI$16,""),1))),""))),"")} -> 3 | DG9: {=IFERROR(IF(LEN(INDEX($CO$7:$CO$737,MATCH(DG$6,$CN$7:$CN$737,0)))=0,"",IF($CX9=0,"",IF(AND(DG$6>=$Y9,DG$6<=$CY9),IF(DF9<>"",DF9,IF(MAX(DG$7:DG8)<=COUNT(DG$7:DG8),MAX(DG$7:DG8)+1,SMALL(IF(COUNTIF(DG$7:DG8,$EI$7:$EI$16)=0,$EI$7:$EI$16,""),1))),""))),"")} | DH9: {=IFERROR(IF(LEN(INDEX($CO$7:$CO$737,MATCH(DH$6,$CN$7:$CN$737,0)))=0,"",IF($CX9=0,"",IF(AND(DH$6>=$Y9,DH$6<=$CY9),IF(DG9<>"",DG9,IF(MAX(DH$7:DH8)<=COUNT(DH$7:DH8),MAX(DH$7:DH8)+1,SMALL(IF(COUNTIF(DH$7:DH8,$EI$7:$EI$16)=0,$EI$7:$EI$16,""),1))),""))),"")} | ... EE9: {=IFERROR(IF(LEN(INDEX($CO$7:$CO$737,MATCH(EE$6,$CN$7:$CN$737,0)))=0,"",IF($CX9=0,"",IF(AND(EE$6>=$Y9,EE$6<=$CY9),IF(ED9<>"",ED9,IF(MAX(EE$7:EE8)<=COUNT(EE$7:EE8),MAX(EE$7:EE8)+1,SMALL(IF(COUNTIF(EE$7:EE8,$EI$7:$EI$16)=0,$EI$7:$EI$16,""),1))),""))),"")} | EG9: =MAX(DA9:EE9) -> 3 | EI9: 3 | EK9: =IF(OR(LEN(C9)=0,O9=0),"",B9) -> 3 | EL9: {=IFERROR(SMALL($EK$7:$EK$18,ROW()-ROW($EK$6)),"")} -> 3 | EM9: =IFERROR(INDEX(E$7:E$18,$EL9),"") -> Define project scope and objectives | EN9: =IFERROR(INDEX(D$7:D$18,$EL9),"") -> T | EO9: =IFERROR(INDEX(Y$7:Y$18,$EL9),"") -> 44928 | EP9: =IFERROR(INDEX(Z$7:Z$18,$EL9),"") -> 44935 | EQ9: =IFERROR(INDEX(L$7:L$18,$EL9),"") -> 5 | ER9: =IFERROR(INDEX(AB$7:AB$18,$EL9),"") -> 44939 | ES9: =IFERROR(INDEX(C$7:C$18,$EL9),"") -> High | ET9: =IFERROR(INDEX(N$7:N$18,$EL9),"") -> Done | EU9: =IFERROR(IF(LEN(EM9)=0,"",INDEX($CF$39:$CF$43,MATCH(ES9,$CH$39:$CH$43,0))),"") -> 1 | EV9: =IFERROR(IF(LEN(EM9)=0,"",INDEX($CG$52:$CG$55,MATCH(ET9,$CH$52:$CH$55,0))),"") -> 1 | EX9: 3 | EY9: =IFERROR(IF(LEN(INDEX(Settings!I$10:I$52,Calculations!$EX9))=0,"",INDEX(Settings!I$10:I$52,Calculations!$EX9)),"") -> Macauley Peck | EZ9: =IF(LEN(EY9)=0,"",EX9) -> 3 | FA9: =IFERROR(INDEX($EY$7:$EY$25,SMALL($EZ$7:$EZ$25,$EX9)),"") -> Macauley Peck | FB9: =IF(LEN(FC9)=0,"",EX9) -> 3 | FC9: =IFERROR(IF(LEN(INDEX(Settings!J$10:J$52,Calculations!$EX9))=0,"",INDEX(Settings!J$10:J$52,Calculations!$EX9)),"") -> Finance | FD9: =IF(IF(LEN(FC9)=0,"",COUNTIF($FC$7:FC9,FC9))=1,EX9,"") -> 3 | FE9: =IFERROR(INDEX($FC$7:$FC$25,SMALL($FD$7:$FD$25,$EX9)),"") -> Finance | FG9: =IFERROR(INDEX($CH$39:$CH$43,MATCH(ROW(CI41)-ROW($CI$38),$CG$39:$CG$43,0),1),"") -> Low | FH9: =IF(LEN(FG9)=0,"",EX9) -> 3 | FI9: =IFERROR(INDEX($FG$7:$FG$11,SMALL($FH$7:$FH$11,$EX9)),"") -> Low | FK9: =IFERROR(INDEX($CH$52:$CH$55,MATCH(ROW(CH54)-ROW($CH$51),$CF$52:$CF$55,0),1),"") -> Not Started | FL9: =IF(LEN(FK9)=0,"",EX9) -> 3 | FM9: =IFERROR(INDEX($FK$7:$FK$10,SMALL($FL$7:$FL$10,$EX9)),"") -> Not Started | FP9: =IFERROR(INDEX($CH$45:$CH$49,MATCH(ROW(CH48)-ROW($CH$45),$CF$45:$CF$49,0),1),"") -> Task | FR9: =FR8 -> 0 | FS9: =IFERROR(IF($FO$5>=FR9,$FO$7+FR9,""),"") -> 2023 | FT9: March | FU9: =IF(LEN(FS9)>0,FS9&"-"&FT9,"") -> 2023-March | FV9: =IFERROR(DATE(FS9,MATCH(FT9,$CH$24:$CH$35,0),1),"") -> 44986 | FX9: =IF(LEN(FM9)=0,"",FM9) -> Not Started | FY9: =COUNTIFS($N$7:$N$19,$FX9,$P$7:$P$19,1) -> 1 | FZ9: =IFERROR(FY9/$FY$11,"") -> 0.1 | GB9: =FG9 -> Low | GC9: =IF(LEN(GB9)=0,"",COUNTIFS($C$7:$C$19,$GB9,$P$7:$P$19,1)) -> 4 | GD9: =IF(AND(ISNUMBER(GC9),GC9>0),MAX(GD8:GD8)+1,"") -> 3 | GF9: =FA9 -> Macauley Peck | GG9: =IF(LEN(GF9)=0,"",COUNTIFS($F$7:$F$19,$GF9,$P$7:$P$19,1)) -> 1 | GH9: =IFERROR(IF(GG9=0,"",RANK(GG9,$GG$7:$GG$25)),"") -> 3 | GI9: =IFERROR(COUNTIF($GH$6:GH8,GH9)+GH9,"") -> 3 | GK9: 3 | GL9: =IFERROR(INDEX(GF$7:GF$25,MATCH($GK9,$GI$7:$GI$25,0)),"") -> Macauley Peck | GM9: =IFERROR(INDEX(GG$7:GG$25,MATCH($GK9,$GI$7:$GI$25,0)),"") -> 1 | GO9: =IF(D9=Type1,ROW(E9)-ROW($E$6),"") | GP9: =IFERROR(INDEX($E$7:$E$18,SMALL($GO$7:$GO$18,ROW(GP9)-ROW($GP$6))),"") | GQ9: =IFERROR(INDEX($N$7:$N$19,MATCH($GP9,$E$7:$E$18,0)),"") | GR9: =IF(AND(LEN($GP9)>0,$GQ9=GR$6),1,"") | GS9: =IF(AND(LEN($GP9)>0,$GQ9=GS$6),1,"") | GT9: =IF(AND(LEN($GP9)>0,$GQ9=GT$6),1,"") | GU9: =IF(AND(LEN($GP9)>0,$GQ9=GU$6),1,"") | GV9: =IF(LEN($GQ9)=0,"",1) | GW9: =IF(LEN($GQ9)=0,"",3) | GY9: 3
B10: =IF(MAX($B$6:B9)+1>countall,"-",MAX($B$6:B9)+1) -> 4 | C10: =IF($B10="-","-",""&INDEX(TaskPlan!C$7:C$18,MATCH($B10,TaskPlan!$B$7:$B$18,0),1)) -> Low | D10: =IF($B10="-","-",""&INDEX(TaskPlan!D$7:D$18,MATCH($B10,TaskPlan!$B$7:$B$18,0),1)) -> S | E10: =IF($B10="-","-",INDEX(TaskPlan!E$7:E$18,MATCH($B10,TaskPlan!$B$7:$B$18,0),1)) -> Identify stakeholders and gather requirements | F10: =IF($B10="-","-",IF(LEN(INDEX(TaskPlan!F$7:F$18,MATCH($B10,TaskPlan!$B$7:$B$18,0),1))=0,"",INDEX(TaskPlan!F$7:F$18,MATCH($B10,TaskPlan!$B$7:$B$18,0),1))) -> Jemima Begum | G10: =IFERROR(IF(ISNUMBER(B10),IF(LEN(F10)=0,"",IF(LEN(INDEX($FC$7:$FC$25,MATCH(F10,$EY$7:$EY$25,0)))=0,"",INDEX($FC$7:$FC$25,MATCH(F10,$EY$7:$EY$25,0)))),"-"),"") -> Operations | H10: =IF($B10="-","-",IF(INDEX(TaskPlan!G$7:G$18,MATCH($B10,TaskPlan!$B$7:$B$18,0),1)="","",INDEX(TaskPlan!G$7:G$18,MATCH($B10,TaskPlan!$B$7:$B$18,0),1))) -> 1 | I10: =IF($B10="-","-",IF(D10=Type1,0,K10+IF(INDEX(TaskPlan!H$7:H$18,MATCH($B10,TaskPlan!$B$7:$B$18,0),1)="",0,INDEX(TaskPlan!H$7:H$18,MATCH($B10,TaskPlan!$B$7:$B$18,0),1)))) -> 7 | J10: =IF($B10="-","-",IF(INDEX(TaskPlan!I$7:I$18,MATCH($B10,TaskPlan!$B$7:$B$18,0),1)="",0,INDEX(TaskPlan!I$7:I$18,MATCH($B10,TaskPlan!$B$7:$B$18,0),1))) -> 2 | K10: =IF($B10="-","-",IF(INDEX(TaskPlan!J$7:J$18,MATCH($B10,TaskPlan!$B$7:$B$18,0),1)="",0,INDEX(TaskPlan!J$7:J$18,MATCH($B10,TaskPlan!$B$7:$B$18,0),1))) -> 0 | L10: =IFERROR(IF(D10=Type1,AB10-Y10,I10),"") -> 7 | M10: =IF(D10=Type1,IFERROR(MATCH(D10,D11:$D$19,0)+ROW(D10)-7-B10,200),"") | N10: =IF(D10=Type1,IF(COUNTIF(OFFSET(N11,,,M10),Status1)=M10,Status1,IF(COUNTIF(OFFSET(N11,,,M10),Status2)>0,Status2,IF(COUNTIF(OFFSET(N11,,,M10),Status4)=M10,Status4,Status3))),IF($B10="-","-",IF(LEN(INDEX(TaskPlan!K$7:K$206,MATCH($B10,TaskPlan!$B$7:$B$206,0),1))=0,"-",INDEX(TaskPlan!K$7:K$206,MATCH($B10,TaskPlan!$B$7:$B$206,0),1)))) -> Done | O10: =IFERROR(INDEX($CJ$46:$CJ$49,MATCH(D10,$CG$46:$CG$49,0)),1) -> 1 | P10: =IF(AND(ISNUMBER($B10),OR(Person="All",Person="",Person=$F10),OR(Department="All",Department="",Department=$G10),OR(Fromdate="All",Fromdate="",IFERROR(INDEX($FV$7:$FV$126,MATCH(Fromdate,$FU$7:$FU$126,0))<=Y10,"FALSE")),OR(Todate="All",Todate="",IFERROR(INDEX($FV$7:$FV$126,MATCH(Todate,$FU$7:$FU$126,0))>$AB10,"FALSE")),OR(Status="All",Status="",Status=$N10),OR(Priority="All",Priority="",Priority=$C10)),1,0) -> 1 | Q10: =B10&" - "&E10 -> 4 - Identify stakeholders and gather requirements | R10: =IFERROR(INDEX($CF$39:$CF$43,MATCH(C10,$CH$39:$CH$43,0)),"") -> 3 | S10: =IF(OR(E10="-",LEN(C10)=0),"",IF(ISERROR(MATCH(C10,$CI$39:$CI$43,0)),1,0)) -> 0 | T10: =IF(OR(E10="-",LEN(D10)=0),"",IF(ISERROR(MATCH(D10,$CG$46:$CG$49,0)),1,0)) -> 0 | U10: =IF(OR(E10="-",LEN(F10)=0),"",IF(ISERROR(MATCH(F10,$FA$7:$FA$25,0)),1,0)) -> 0 | V10: =IF(OR(E10="-",LEN(N10)=0),"",IF(ISERROR(MATCH(N10,$CH$52:$CH$55,0)),1,0)) -> 0 | W10: =SUM(S10:V10) -> 0 | Y10: =IFERROR(IF(AC10="","", INDEX($CN$7:$CN$737,MATCH(AC10,$CO$7:$CO$737,0),1)),"") -> 44930 | Z10: =IFERROR(IF(AD10="","", INDEX($CN$7:$CN$737,MATCH(AD10,$CO$7:$CO$737,0),1)),"") -> 44939 | AA10: =IFERROR(IF(AE10="","", INDEX($CN$7:$CN$737,MATCH(AE10,$CO$7:$CO$737,0),1)),"") -> 44930 | AB10: =IFERROR(IF(AF10="","", INDEX($CN$7:$CN$737,MATCH(AF10,$CO$7:$CO$737,0),1)),"") -> 44939 | AC10: =IFERROR(IF(B10="-","",IF(D10=Type1,IF(C10="-","",IF(D10=Type1,MIN(OFFSET(AC11,0,0,M10,1)))),IF(CD10=0,0, MAX(AI10:AR10)+J10))),"") -> 2 | AD10: =IFERROR(IF(B10="-","",IF(D10=Type1,MAX(OFFSET(AF11,0,0,M10,1)),AC10+I10)),"") -> 9 | AE10: =IFERROR(IF(B10="-","",IF(D10=Type1,AC10,IF(AF10-I10<0,0+AC10,AF10-I10))),"") -> 2 | AF10: =IFERROR(IF(B10="-","",IF(B11="-",AD10,MAX(AD10,MIN(AT10:BC10)))),"") -> 9 | AG10: =IFERROR(IF(B10="-","",IF(ROUND(AF10-AD10,5)<0,0,ROUND(AF10-AD10,5))),"") -> 0 | AI10: {=IF(BG10="",0,INDEX($AD$7:$AD$18,MATCH(""&BG10,""&$B$7:$B$18,0)))} -> 0 | AJ10: {=IF(BH10="",0,INDEX($AD$7:$AD$18,MATCH(""&BH10,""&$B$7:$B$18,0)))} -> 0 | AK10: {=IF(BI10="",0,INDEX($AD$7:$AD$18,MATCH(""&BI10,""&$B$7:$B$18,0)))} -> 0 | AL10: {=IF(BJ10="",0,INDEX($AD$7:$AD$18,MATCH(""&BJ10,""&$B$7:$B$18,0)))} -> 0 | AM10: {=IF(BK10="",0,INDEX($AD$7:$AD$18,MATCH(""&BK10,""&$B$7:$B$18,0)))} -> 0 | AN10: {=IF(BL10="",0,INDEX($AD$7:$AD$18,MATCH(""&BL10,""&$B$7:$B$18,0)))} -> 0 | AO10: {=IF(BM10="",0,INDEX($AD$7:$AD$18,MATCH(""&BM10,""&$B$7:$B$18,0)))} -> 0 | AP10: {=IF(BN10="",0,INDEX($AD$7:$AD$18,MATCH(""&BN10,""&$B$7:$B$18,0)))} -> 0 | ... AR10: {=IF(BP10="",0,INDEX($AD$7:$AD$18,MATCH(""&BP10,""&$B$7:$B$18,0)))} -> 0 | AT10: {=IF(BR10="","",INDEX($AE$7:$AE$18,MATCH(""&BR10,""&$B$7:$B$18,0)))} -> 9 | AU10: {=IF(BS10="","",INDEX($AE$7:$AE$18,MATCH(""&BS10,""&$B$7:$B$18,0)))} | AV10: {=IF(BT10="","",INDEX($AE$7:$AE$18,MATCH(""&BT10,""&$B$7:$B$18,0)))} | AW10: {=IF(BU10="","",INDEX($AE$7:$AE$18,MATCH(""&BU10,""&$B$7:$B$18,0)))} | AX10: {=IF(BV10="","",INDEX($AE$7:$AE$18,MATCH(""&BV10,""&$B$7:$B$18,0)))} | AY10: {=IF(BW10="","",INDEX($AE$7:$AE$18,MATCH(""&BW10,""&$B$7:$B$18,0)))} | AZ10: {=IF(BX10="","",INDEX($AE$7:$AE$18,MATCH(""&BX10,""&$B$7:$B$18,0)))} | BA10: {=IF(BY10="","",INDEX($AE$7:$AE$18,MATCH(""&BY10,""&$B$7:$B$18,0)))} | ... BC10: {=IF(CA10="","",INDEX($AE$7:$AE$18,MATCH(""&CA10,""&$B$7:$B$18,0)))} | BE10: =IF(ISNUMBER(AG10),IF(AG10=0,"Yes","No"),"") -> Yes | BG10: {=IFERROR(IF($D10=Type1,"",IF(INDEX($D$7:$D$18,IF($B10="-","-",TRIM(MID(SUBSTITUTE($H10,",",REPT(" ",LEN($H10))),(BG$6-1)*LEN($H10)+1,LEN($H10)))))=Type1,INDEX($BG$7:$BG$18,IF($B10="-","-",TRIM(MID(SUBSTITUTE($H10,",",REPT(" ",LEN($H10))),(BG$6-1)*LEN($H10)+1,LEN($H10))))),IF($B10="-","-",TRIM(MID(SUBSTITUTE($H10,",",REPT(" ",LEN($H10))),(BG$6-1)*LEN($H10)+1,LEN($H10)))))),"")} -> 1 | BH10: {=IFERROR(IF($D10=Type1,"",IF(INDEX($D$7:$D$18,IF($B10="-","-",TRIM(MID(SUBSTITUTE($H10,",",REPT(" ",LEN($H10))),(BH$6-1)*LEN($H10)+1,LEN($H10)))))=Type1,INDEX($BG$7:$BG$18,IF($B10="-","-",TRIM(MID(SUBSTITUTE($H10,",",REPT(" ",LEN($H10))),(BH$6-1)*LEN($H10)+1,LEN($H10))))),IF($B10="-","-",TRIM(MID(SUBSTITUTE($H10,",",REPT(" ",LEN($H10))),(BH$6-1)*LEN($H10)+1,LEN($H10)))))),"")} | BI10: {=IFERROR(IF($D10=Type1,"",IF(INDEX($D$7:$D$18,IF($B10="-","-",TRIM(MID(SUBSTITUTE($H10,",",REPT(" ",LEN($H10))),(BI$6-1)*LEN($H10)+1,LEN($H10)))))=Type1,INDEX($BG$7:$BG$18,IF($B10="-","-",TRIM(MID(SUBSTITUTE($H10,",",REPT(" ",LEN($H10))),(BI$6-1)*LEN($H10)+1,LEN($H10))))),IF($B10="-","-",TRIM(MID(SUBSTITUTE($H10,",",REPT(" ",LEN($H10))),(BI$6-1)*LEN($H10)+1,LEN($H10)))))),"")} | BJ10: {=IFERROR(IF($D10=Type1,"",IF(INDEX($D$7:$D$18,IF($B10="-","-",TRIM(MID(SUBSTITUTE($H10,",",REPT(" ",LEN($H10))),(BJ$6-1)*LEN($H10)+1,LEN($H10)))))=Type1,INDEX($BG$7:$BG$18,IF($B10="-","-",TRIM(MID(SUBSTITUTE($H10,",",REPT(" ",LEN($H10))),(BJ$6-1)*LEN($H10)+1,LEN($H10))))),IF($B10="-","-",TRIM(MID(SUBSTITUTE($H10,",",REPT(" ",LEN($H10))),(BJ$6-1)*LEN($H10)+1,LEN($H10)))))),"")} | BK10: {=IFERROR(IF($D10=Type1,"",IF(INDEX($D$7:$D$18,IF($B10="-","-",TRIM(MID(SUBSTITUTE($H10,",",REPT(" ",LEN($H10))),(BK$6-1)*LEN($H10)+1,LEN($H10)))))=Type1,INDEX($BG$7:$BG$18,IF($B10="-","-",TRIM(MID(SUBSTITUTE($H10,",",REPT(" ",LEN($H10))),(BK$6-1)*LEN($H10)+1,LEN($H10))))),IF($B10="-","-",TRIM(MID(SUBSTITUTE($H10,",",REPT(" ",LEN($H10))),(BK$6-1)*LEN($H10)+1,LEN($H10)))))),"")} | BL10: {=IFERROR(IF($D10=Type1,"",IF(INDEX($D$7:$D$18,IF($B10="-","-",TRIM(MID(SUBSTITUTE($H10,",",REPT(" ",LEN($H10))),(BL$6-1)*LEN($H10)+1,LEN($H10)))))=Type1,INDEX($BG$7:$BG$18,IF($B10="-","-",TRIM(MID(SUBSTITUTE($H10,",",REPT(" ",LEN($H10))),(BL$6-1)*LEN($H10)+1,LEN($H10))))),IF($B10="-","-",TRIM(MID(SUBSTITUTE($H10,",",REPT(" ",LEN($H10))),(BL$6-1)*LEN($H10)+1,LEN($H10)))))),"")} | BM10: {=IFERROR(IF($D10=Type1,"",IF(INDEX($D$7:$D$18,IF($B10="-","-",TRIM(MID(SUBSTITUTE($H10,",",REPT(" ",LEN($H10))),(BM$6-1)*LEN($H10)+1,LEN($H10)))))=Type1,INDEX($BG$7:$BG$18,IF($B10="-","-",TRIM(MID(SUBSTITUTE($H10,",",REPT(" ",LEN($H10))),(BM$6-1)*LEN($H10)+1,LEN($H10))))),IF($B10="-","-",TRIM(MID(SUBSTITUTE($H10,",",REPT(" ",LEN($H10))),(BM$6-1)*LEN($H10)+1,LEN($H10)))))),"")} | BN10: {=IFERROR(IF($D10=Type1,"",IF(INDEX($D$7:$D$18,IF($B10="-","-",TRIM(MID(SUBSTITUTE($H10,",",REPT(" ",LEN($H10))),(BN$6-1)*LEN($H10)+1,LEN($H10)))))=Type1,INDEX($BG$7:$BG$18,IF($B10="-","-",TRIM(MID(SUBSTITUTE($H10,",",REPT(" ",LEN($H10))),(BN$6-1)*LEN($H10)+1,LEN($H10))))),IF($B10="-","-",TRIM(MID(SUBSTITUTE($H10,",",REPT(" ",LEN($H10))),(BN$6-1)*LEN($H10)+1,LEN($H10)))))),"")} | ... BP10: {=IFERROR(IF($D10=Type1,"",IF(INDEX($D$7:$D$18,IF($B10="-","-",TRIM(MID(SUBSTITUTE($H10,",",REPT(" ",LEN($H10))),(BP$6-1)*LEN($H10)+1,LEN($H10)))))=Type1,INDEX($BG$7:$BG$18,IF($B10="-","-",TRIM(MID(SUBSTITUTE($H10,",",REPT(" ",LEN($H10))),(BP$6-1)*LEN($H10)+1,LEN($H10))))),IF($B10="-","-",TRIM(MID(SUBSTITUTE($H10,",",REPT(" ",LEN($H10))),(BP$6-1)*LEN($H10)+1,LEN($H10)))))),"")} | BQ10: =BG10 -> 1 | BR10: {=IF($B10="-","-", IFERROR(INDEX(IDSourceRange,IF(MOD(SMALL(IF((""&$BQ$7:$BQ$126)=(""&$B10),ROW($BQ$7:$BQ$126)-ROW(INDEX($BQ$7:$BQ$126,1,1))+1),BR$6),200)=0,200,MOD(SMALL(IF((""&$BQ$7:$BQ$126)=(""&$B10),ROW($BQ$7:$BQ$126)-ROW(INDEX($BQ$7:$BQ$126,1,1))+1),BR$6),200)),1),""))} -> 6 | BS10: {=IF($B10="-","-", IFERROR(INDEX(IDSourceRange,IF(MOD(SMALL(IF((""&$BQ$7:$BQ$126)=(""&$B10),ROW($BQ$7:$BQ$126)-ROW(INDEX($BQ$7:$BQ$126,1,1))+1),BS$6),200)=0,200,MOD(SMALL(IF((""&$BQ$7:$BQ$126)=(""&$B10),ROW($BQ$7:$BQ$126)-ROW(INDEX($BQ$7:$BQ$126,1,1))+1),BS$6),200)),1),""))} | BT10: {=IF($B10="-","-", IFERROR(INDEX(IDSourceRange,IF(MOD(SMALL(IF((""&$BQ$7:$BQ$126)=(""&$B10),ROW($BQ$7:$BQ$126)-ROW(INDEX($BQ$7:$BQ$126,1,1))+1),BT$6),200)=0,200,MOD(SMALL(IF((""&$BQ$7:$BQ$126)=(""&$B10),ROW($BQ$7:$BQ$126)-ROW(INDEX($BQ$7:$BQ$126,1,1))+1),BT$6),200)),1),""))} | BU10: {=IF($B10="-","-", IFERROR(INDEX(IDSourceRange,IF(MOD(SMALL(IF((""&$BQ$7:$BQ$126)=(""&$B10),ROW($BQ$7:$BQ$126)-ROW(INDEX($BQ$7:$BQ$126,1,1))+1),BU$6),200)=0,200,MOD(SMALL(IF((""&$BQ$7:$BQ$126)=(""&$B10),ROW($BQ$7:$BQ$126)-ROW(INDEX($BQ$7:$BQ$126,1,1))+1),BU$6),200)),1),""))} | BV10: {=IF($B10="-","-", IFERROR(INDEX(IDSourceRange,IF(MOD(SMALL(IF((""&$BQ$7:$BQ$126)=(""&$B10),ROW($BQ$7:$BQ$126)-ROW(INDEX($BQ$7:$BQ$126,1,1))+1),BV$6),200)=0,200,MOD(SMALL(IF((""&$BQ$7:$BQ$126)=(""&$B10),ROW($BQ$7:$BQ$126)-ROW(INDEX($BQ$7:$BQ$126,1,1))+1),BV$6),200)),1),""))} | BW10: {=IF($B10="-","-", IFERROR(INDEX(IDSourceRange,IF(MOD(SMALL(IF((""&$BQ$7:$BQ$126)=(""&$B10),ROW($BQ$7:$BQ$126)-ROW(INDEX($BQ$7:$BQ$126,1,1))+1),BW$6),200)=0,200,MOD(SMALL(IF((""&$BQ$7:$BQ$126)=(""&$B10),ROW($BQ$7:$BQ$126)-ROW(INDEX($BQ$7:$BQ$126,1,1))+1),BW$6),200)),1),""))} | BX10: {=IF($B10="-","-", IFERROR(INDEX(IDSourceRange,IF(MOD(SMALL(IF((""&$BQ$7:$BQ$126)=(""&$B10),ROW($BQ$7:$BQ$126)-ROW(INDEX($BQ$7:$BQ$126,1,1))+1),BX$6),200)=0,200,MOD(SMALL(IF((""&$BQ$7:$BQ$126)=(""&$B10),ROW($BQ$7:$BQ$126)-ROW(INDEX($BQ$7:$BQ$126,1,1))+1),BX$6),200)),1),""))} | BY10: {=IF($B10="-","-", IFERROR(INDEX(IDSourceRange,IF(MOD(SMALL(IF((""&$BQ$7:$BQ$126)=(""&$B10),ROW($BQ$7:$BQ$126)-ROW(INDEX($BQ$7:$BQ$126,1,1))+1),BY$6),200)=0,200,MOD(SMALL(IF((""&$BQ$7:$BQ$126)=(""&$B10),ROW($BQ$7:$BQ$126)-ROW(INDEX($BQ$7:$BQ$126,1,1))+1),BY$6),200)),1),""))} | ... CA10: {=IF($B10="-","-", IFERROR(INDEX(IDSourceRange,IF(MOD(SMALL(IF((""&$BQ$7:$BQ$126)=(""&$B10),ROW($BQ$7:$BQ$126)-ROW(INDEX($BQ$7:$BQ$126,1,1))+1),CA$6),200)=0,200,MOD(SMALL(IF((""&$BQ$7:$BQ$126)=(""&$B10),ROW($BQ$7:$BQ$126)-ROW(INDEX($BQ$7:$BQ$126,1,1))+1),CA$6),200)),1),""))} | CB10: =BR10 -> 6 | CC10: {=IF($B10="-","-",SUM(IF(LEN(BR10:CA10)>0,1,0)))} -> 1 | CD10: {=IF($B10="-","-",SUM(IF(LEN(BG10:BP10)>0,1,0)))} -> 1 | CH10: Exclude | CI10: Options Chosen | CN10: =CN9+1 -> 44930 | CO10: {=IF(NETWORKDAYS.INTL(CN10,CN10,weekendOption,holidaysList)=1,MAX($CO$6:CO9)+1,"")} -> 2 | CQ10: =IF(B10="-","", B10 & " - " &E10) -> 4 - Identify stakeholders and gather requirements | CT10: =IF(AND( Y10<= DATE(yearC,Calculations!$CT$5+1,1)-1,CY10>=DATE(yearC,Calculations!$CT$5,1)),1,0) -> 1 | CU10: =IF(OR(C10=$CU$5,$CU$5=""),1,0) -> 1 | CV10: =IF($CV$5="",1,IFERROR(IF($CV$5=F10,1,0),0)) -> 1 | CW10: =IF(OR(D10=$CW$5,$CW$5=""),1,0) -> 1 | CX10: =CT10*CU10*CV10*CW10 -> 1 | CY10: =INDEX(Z10:AB10,1,$CY$5) -> 44939 | DA10: {=IFERROR(IF(LEN(INDEX($CO$7:$CO$737,MATCH(DA$6,$CN$7:$CN$737,0)))=0,"",IF($CX10=0,"",IF(AND(DA$6>=$Y10,DA$6<=$CY10),IF(CZ10<>"",CZ10,IF(MAX(DA$7:DA9)<=COUNT(DA$7:DA9),MAX(DA$7:DA9)+1,SMALL(IF(COUNTIF(DA$7:DA9,$EI$7:$EI$16)=0,$EI$7:$EI$16,""),1))),""))),"")} | DB10: {=IFERROR(IF(LEN(INDEX($CO$7:$CO$737,MATCH(DB$6,$CN$7:$CN$737,0)))=0,"",IF($CX10=0,"",IF(AND(DB$6>=$Y10,DB$6<=$CY10),IF(DA10<>"",DA10,IF(MAX(DB$7:DB9)<=COUNT(DB$7:DB9),MAX(DB$7:DB9)+1,SMALL(IF(COUNTIF(DB$7:DB9,$EI$7:$EI$16)=0,$EI$7:$EI$16,""),1))),""))),"")} | DC10: {=IFERROR(IF(LEN(INDEX($CO$7:$CO$737,MATCH(DC$6,$CN$7:$CN$737,0)))=0,"",IF($CX10=0,"",IF(AND(DC$6>=$Y10,DC$6<=$CY10),IF(DB10<>"",DB10,IF(MAX(DC$7:DC9)<=COUNT(DC$7:DC9),MAX(DC$7:DC9)+1,SMALL(IF(COUNTIF(DC$7:DC9,$EI$7:$EI$16)=0,$EI$7:$EI$16,""),1))),""))),"")} | DD10: {=IFERROR(IF(LEN(INDEX($CO$7:$CO$737,MATCH(DD$6,$CN$7:$CN$737,0)))=0,"",IF($CX10=0,"",IF(AND(DD$6>=$Y10,DD$6<=$CY10),IF(DC10<>"",DC10,IF(MAX(DD$7:DD9)<=COUNT(DD$7:DD9),MAX(DD$7:DD9)+1,SMALL(IF(COUNTIF(DD$7:DD9,$EI$7:$EI$16)=0,$EI$7:$EI$16,""),1))),""))),"")} -> 4 | DE10: {=IFERROR(IF(LEN(INDEX($CO$7:$CO$737,MATCH(DE$6,$CN$7:$CN$737,0)))=0,"",IF($CX10=0,"",IF(AND(DE$6>=$Y10,DE$6<=$CY10),IF(DD10<>"",DD10,IF(MAX(DE$7:DE9)<=COUNT(DE$7:DE9),MAX(DE$7:DE9)+1,SMALL(IF(COUNTIF(DE$7:DE9,$EI$7:$EI$16)=0,$EI$7:$EI$16,""),1))),""))),"")} -> 4 | DF10: {=IFERROR(IF(LEN(INDEX($CO$7:$CO$737,MATCH(DF$6,$CN$7:$CN$737,0)))=0,"",IF($CX10=0,"",IF(AND(DF$6>=$Y10,DF$6<=$CY10),IF(DE10<>"",DE10,IF(MAX(DF$7:DF9)<=COUNT(DF$7:DF9),MAX(DF$7:DF9)+1,SMALL(IF(COUNTIF(DF$7:DF9,$EI$7:$EI$16)=0,$EI$7:$EI$16,""),1))),""))),"")} -> 4 | DG10: {=IFERROR(IF(LEN(INDEX($CO$7:$CO$737,MATCH(DG$6,$CN$7:$CN$737,0)))=0,"",IF($CX10=0,"",IF(AND(DG$6>=$Y10,DG$6<=$CY10),IF(DF10<>"",DF10,IF(MAX(DG$7:DG9)<=COUNT(DG$7:DG9),MAX(DG$7:DG9)+1,SMALL(IF(COUNTIF(DG$7:DG9,$EI$7:$EI$16)=0,$EI$7:$EI$16,""),1))),""))),"")} | DH10: {=IFERROR(IF(LEN(INDEX($CO$7:$CO$737,MATCH(DH$6,$CN$7:$CN$737,0)))=0,"",IF($CX10=0,"",IF(AND(DH$6>=$Y10,DH$6<=$CY10),IF(DG10<>"",DG10,IF(MAX(DH$7:DH9)<=COUNT(DH$7:DH9),MAX(DH$7:DH9)+1,SMALL(IF(COUNTIF(DH$7:DH9,$EI$7:$EI$16)=0,$EI$7:$EI$16,""),1))),""))),"")} | ... EE10: {=IFERROR(IF(LEN(INDEX($CO$7:$CO$737,MATCH(EE$6,$CN$7:$CN$737,0)))=0,"",IF($CX10=0,"",IF(AND(EE$6>=$Y10,EE$6<=$CY10),IF(ED10<>"",ED10,IF(MAX(EE$7:EE9)<=COUNT(EE$7:EE9),MAX(EE$7:EE9)+1,SMALL(IF(COUNTIF(EE$7:EE9,$EI$7:$EI$16)=0,$EI$7:$EI$16,""),1))),""))),"")} | EG10: =MAX(DA10:EE10) -> 4 | EI10: 4 | EK10: =IF(OR(LEN(C10)=0,O10=0),"",B10) -> 4 | EL10: {=IFERROR(SMALL($EK$7:$EK$18,ROW()-ROW($EK$6)),"")} -> 4 | EM10: =IFERROR(INDEX(E$7:E$18,$EL10),"") -> Identify stakeholders and gather requirements | EN10: =IFERROR(INDEX(D$7:D$18,$EL10),"") -> S | EO10: =IFERROR(INDEX(Y$7:Y$18,$EL10),"") -> 44930 | EP10: =IFERROR(INDEX(Z$7:Z$18,$EL10),"") -> 44939 | EQ10: =IFERROR(INDEX(L$7:L$18,$EL10),"") -> 7 | ER10: =IFERROR(INDEX(AB$7:AB$18,$EL10),"") -> 44939 | ES10: =IFERROR(INDEX(C$7:C$18,$EL10),"") -> Low | ET10: =IFERROR(INDEX(N$7:N$18,$EL10),"") -> Done | EU10: =IFERROR(IF(LEN(EM10)=0,"",INDEX($CF$39:$CF$43,MATCH(ES10,$CH$39:$CH$43,0))),"") -> 3 | EV10: =IFERROR(IF(LEN(EM10)=0,"",INDEX($CG$52:$CG$55,MATCH(ET10,$CH$52:$CH$55,0))),"") -> 1 | EX10: 4 | EY10: =IFERROR(IF(LEN(INDEX(Settings!I$10:I$52,Calculations!$EX10))=0,"",INDEX(Settings!I$10:I$52,Calculations!$EX10)),"") -> Hannah Shaw | EZ10: =IF(LEN(EY10)=0,"",EX10) -> 4 | FA10: =IFERROR(INDEX($EY$7:$EY$25,SMALL($EZ$7:$EZ$25,$EX10)),"") -> Hannah Shaw | FB10: =IF(LEN(FC10)=0,"",EX10) -> 4 | FC10: =IFERROR(IF(LEN(INDEX(Settings!J$10:J$52,Calculations!$EX10))=0,"",INDEX(Settings!J$10:J$52,Calculations!$EX10)),"") -> Quality Assurance | FD10: =IF(IF(LEN(FC10)=0,"",COUNTIF($FC$7:FC10,FC10))=1,EX10,"") -> 4 | FE10: =IFERROR(INDEX($FC$7:$FC$25,SMALL($FD$7:$FD$25,$EX10)),"") -> Quality Assurance | FG10: =IFERROR(INDEX($CH$39:$CH$43,MATCH(ROW(CI42)-ROW($CI$38),$CG$39:$CG$43,0),1),"") | FH10: =IF(LEN(FG10)=0,"",EX10) | FI10: =IFERROR(INDEX($FG$7:$FG$11,SMALL($FH$7:$FH$11,$EX10)),"") | FK10: =IFERROR(INDEX($CH$52:$CH$55,MATCH(ROW(CH55)-ROW($CH$51),$CF$52:$CF$55,0),1),"") | FL10: =IF(LEN(FK10)=0,"",EX10) | FM10: =IFERROR(INDEX($FK$7:$FK$10,SMALL($FL$7:$FL$10,$EX10)),"") | FP10: =IFERROR(INDEX($CH$45:$CH$49,MATCH(ROW(CH49)-ROW($CH$45),$CF$45:$CF$49,0),1),"") -> Sub-task | FR10: =FR9 -> 0 | FS10: =IFERROR(IF($FO$5>=FR10,$FO$7+FR10,""),"") -> 2023 | FT10: April | FU10: =IF(LEN(FS10)>0,FS10&"-"&FT10,"") -> 2023-April | FV10: =IFERROR(DATE(FS10,MATCH(FT10,$CH$24:$CH$35,0),1),"") -> 45017 | FX10: =IF(LEN(FM10)=0,"",FM10) | FY10: =COUNTIFS($N$7:$N$19,$FX10,$P$7:$P$19,1) -> 0 | FZ10: =IFERROR(FY10/$FY$11,"") -> 0 | GB10: =FG10 | GC10: =IF(LEN(GB10)=0,"",COUNTIFS($C$7:$C$19,$GB10,$P$7:$P$19,1)) | GD10: =IF(AND(ISNUMBER(GC10),GC10>0),MAX(GD9:GD9)+1,"") | GF10: =FA10 -> Hannah Shaw | GG10: =IF(LEN(GF10)=0,"",COUNTIFS($F$7:$F$19,$GF10,$P$7:$P$19,1)) -> 1 | GH10: =IFERROR(IF(GG10=0,"",RANK(GG10,$GG$7:$GG$25)),"") -> 3 | GI10: =IFERROR(COUNTIF($GH$6:GH9,GH10)+GH10,"") -> 4 | GK10: 4 | GL10: =IFERROR(INDEX(GF$7:GF$25,MATCH($GK10,$GI$7:$GI$25,0)),"") -> Hannah Shaw | GM10: =IFERROR(INDEX(GG$7:GG$25,MATCH($GK10,$GI$7:$GI$25,0)),"") -> 1 | GO10: =IF(D10=Type1,ROW(E10)-ROW($E$6),"") | GP10: =IFERROR(INDEX($E$7:$E$18,SMALL($GO$7:$GO$18,ROW(GP10)-ROW($GP$6))),"") | GQ10: =IFERROR(INDEX($N$7:$N$19,MATCH($GP10,$E$7:$E$18,0)),"") | GR10: =IF(AND(LEN($GP10)>0,$GQ10=GR$6),1,"") | GS10: =IF(AND(LEN($GP10)>0,$GQ10=GS$6),1,"") | GT10: =IF(AND(LEN($GP10)>0,$GQ10=GT$6),1,"") | GU10: =IF(AND(LEN($GP10)>0,$GQ10=GU$6),1,"") | GV10: =IF(LEN($GQ10)=0,"",1) | GW10: =IF(LEN($GQ10)=0,"",3) | GY10: 4
B11: =IF(MAX($B$6:B10)+1>countall,"-",MAX($B$6:B10)+1) -> 5 | C11: =IF($B11="-","-",""&INDEX(TaskPlan!C$7:C$18,MATCH($B11,TaskPlan!$B$7:$B$18,0),1)) -> Low | D11: =IF($B11="-","-",""&INDEX(TaskPlan!D$7:D$18,MATCH($B11,TaskPlan!$B$7:$B$18,0),1)) -> T | E11: =IF($B11="-","-",INDEX(TaskPlan!E$7:E$18,MATCH($B11,TaskPlan!$B$7:$B$18,0),1)) -> Develop project charter and plan | F11: =IF($B11="-","-",IF(LEN(INDEX(TaskPlan!F$7:F$18,MATCH($B11,TaskPlan!$B$7:$B$18,0),1))=0,"",INDEX(TaskPlan!F$7:F$18,MATCH($B11,TaskPlan!$B$7:$B$18,0),1))) -> Jane Best | G11: =IFERROR(IF(ISNUMBER(B11),IF(LEN(F11)=0,"",IF(LEN(INDEX($FC$7:$FC$25,MATCH(F11,$EY$7:$EY$25,0)))=0,"",INDEX($FC$7:$FC$25,MATCH(F11,$EY$7:$EY$25,0)))),"-"),"") -> Sales | H11: =IF($B11="-","-",IF(INDEX(TaskPlan!G$7:G$18,MATCH($B11,TaskPlan!$B$7:$B$18,0),1)="","",INDEX(TaskPlan!G$7:G$18,MATCH($B11,TaskPlan!$B$7:$B$18,0),1))) -> 3,4 | I11: =IF($B11="-","-",IF(D11=Type1,0,K11+IF(INDEX(TaskPlan!H$7:H$18,MATCH($B11,TaskPlan!$B$7:$B$18,0),1)="",0,INDEX(TaskPlan!H$7:H$18,MATCH($B11,TaskPlan!$B$7:$B$18,0),1)))) -> 10 | J11: =IF($B11="-","-",IF(INDEX(TaskPlan!I$7:I$18,MATCH($B11,TaskPlan!$B$7:$B$18,0),1)="",0,INDEX(TaskPlan!I$7:I$18,MATCH($B11,TaskPlan!$B$7:$B$18,0),1))) -> 0 | K11: =IF($B11="-","-",IF(INDEX(TaskPlan!J$7:J$18,MATCH($B11,TaskPlan!$B$7:$B$18,0),1)="",0,INDEX(TaskPlan!J$7:J$18,MATCH($B11,TaskPlan!$B$7:$B$18,0),1))) -> 0 | L11: =IFERROR(IF(D11=Type1,AB11-Y11,I11),"") -> 10 | M11: =IF(D11=Type1,IFERROR(MATCH(D11,D12:$D$19,0)+ROW(D11)-7-B11,200),"") | N11: =IF(D11=Type1,IF(COUNTIF(OFFSET(N12,,,M11),Status1)=M11,Status1,IF(COUNTIF(OFFSET(N12,,,M11),Status2)>0,Status2,IF(COUNTIF(OFFSET(N12,,,M11),Status4)=M11,Status4,Status3))),IF($B11="-","-",IF(LEN(INDEX(TaskPlan!K$7:K$206,MATCH($B11,TaskPlan!$B$7:$B$206,0),1))=0,"-",INDEX(TaskPlan!K$7:K$206,MATCH($B11,TaskPlan!$B$7:$B$206,0),1)))) -> Done | O11: =IFERROR(INDEX($CJ$46:$CJ$49,MATCH(D11,$CG$46:$CG$49,0)),1) -> 1 | P11: =IF(AND(ISNUMBER($B11),OR(Person="All",Person="",Person=$F11),OR(Department="All",Department="",Department=$G11),OR(Fromdate="All",Fromdate="",IFERROR(INDEX($FV$7:$FV$126,MATCH(Fromdate,$FU$7:$FU$126,0))<=Y11,"FALSE")),OR(Todate="All",Todate="",IFERROR(INDEX($FV$7:$FV$126,MATCH(Todate,$FU$7:$FU$126,0))>$AB11,"FALSE")),OR(Status="All",Status="",Status=$N11),OR(Priority="All",Priority="",Priority=$C11)),1,0) -> 1 | Q11: =B11&" - "&E11 -> 5 - Develop project charter and plan | R11: =IFERROR(INDEX($CF$39:$CF$43,MATCH(C11,$CH$39:$CH$43,0)),"") -> 3 | S11: =IF(OR(E11="-",LEN(C11)=0),"",IF(ISERROR(MATCH(C11,$CI$39:$CI$43,0)),1,0)) -> 0 | T11: =IF(OR(E11="-",LEN(D11)=0),"",IF(ISERROR(MATCH(D11,$CG$46:$CG$49,0)),1,0)) -> 0 | U11: =IF(OR(E11="-",LEN(F11)=0),"",IF(ISERROR(MATCH(F11,$FA$7:$FA$25,0)),1,0)) -> 0 | V11: =IF(OR(E11="-",LEN(N11)=0),"",IF(ISERROR(MATCH(N11,$CH$52:$CH$55,0)),1,0)) -> 0 | W11: =SUM(S11:V11) -> 0 | Y11: =IFERROR(IF(AC11="","", INDEX($CN$7:$CN$737,MATCH(AC11,$CO$7:$CO$737,0),1)),"") -> 44939 | Z11: =IFERROR(IF(AD11="","", INDEX($CN$7:$CN$737,MATCH(AD11,$CO$7:$CO$737,0),1)),"") -> 44953 | AA11: =IFERROR(IF(AE11="","", INDEX($CN$7:$CN$737,MATCH(AE11,$CO$7:$CO$737,0),1)),"") -> 44939 | AB11: =IFERROR(IF(AF11="","", INDEX($CN$7:$CN$737,MATCH(AF11,$CO$7:$CO$737,0),1)),"") -> 44953 | AC11: =IFERROR(IF(B11="-","",IF(D11=Type1,IF(C11="-","",IF(D11=Type1,MIN(OFFSET(AC12,0,0,M11,1)))),IF(CD11=0,0, MAX(AI11:AR11)+J11))),"") -> 9 | AD11: =IFERROR(IF(B11="-","",IF(D11=Type1,MAX(OFFSET(AF12,0,0,M11,1)),AC11+I11)),"") -> 19 | AE11: =IFERROR(IF(B11="-","",IF(D11=Type1,AC11,IF(AF11-I11<0,0+AC11,AF11-I11))),"") -> 9 | AF11: =IFERROR(IF(B11="-","",IF(B12="-",AD11,MAX(AD11,MIN(AT11:BC11)))),"") -> 19 | AG11: =IFERROR(IF(B11="-","",IF(ROUND(AF11-AD11,5)<0,0,ROUND(AF11-AD11,5))),"") -> 0 | AI11: {=IF(BG11="",0,INDEX($AD$7:$AD$18,MATCH(""&BG11,""&$B$7:$B$18,0)))} -> 5 | AJ11: {=IF(BH11="",0,INDEX($AD$7:$AD$18,MATCH(""&BH11,""&$B$7:$B$18,0)))} -> 9 | AK11: {=IF(BI11="",0,INDEX($AD$7:$AD$18,MATCH(""&BI11,""&$B$7:$B$18,0)))} -> 0 | AL11: {=IF(BJ11="",0,INDEX($AD$7:$AD$18,MATCH(""&BJ11,""&$B$7:$B$18,0)))} -> 0 | AM11: {=IF(BK11="",0,INDEX($AD$7:$AD$18,MATCH(""&BK11,""&$B$7:$B$18,0)))} -> 0 | AN11: {=IF(BL11="",0,INDEX($AD$7:$AD$18,MATCH(""&BL11,""&$B$7:$B$18,0)))} -> 0 | AO11: {=IF(BM11="",0,INDEX($AD$7:$AD$18,MATCH(""&BM11,""&$B$7:$B$18,0)))} -> 0 | AP11: {=IF(BN11="",0,INDEX($AD$7:$AD$18,MATCH(""&BN11,""&$B$7:$B$18,0)))} -> 0 | ... AR11: {=IF(BP11="",0,INDEX($AD$7:$AD$18,MATCH(""&BP11,""&$B$7:$B$18,0)))} -> 0 | AT11: {=IF(BR11="","",INDEX($AE$7:$AE$18,MATCH(""&BR11,""&$B$7:$B$18,0)))} | AU11: {=IF(BS11="","",INDEX($AE$7:$AE$18,MATCH(""&BS11,""&$B$7:$B$18,0)))} | AV11: {=IF(BT11="","",INDEX($AE$7:$AE$18,MATCH(""&BT11,""&$B$7:$B$18,0)))} | AW11: {=IF(BU11="","",INDEX($AE$7:$AE$18,MATCH(""&BU11,""&$B$7:$B$18,0)))} | AX11: {=IF(BV11="","",INDEX($AE$7:$AE$18,MATCH(""&BV11,""&$B$7:$B$18,0)))} | AY11: {=IF(BW11="","",INDEX($AE$7:$AE$18,MATCH(""&BW11,""&$B$7:$B$18,0)))} | AZ11: {=IF(BX11="","",INDEX($AE$7:$AE$18,MATCH(""&BX11,""&$B$7:$B$18,0)))} | BA11: {=IF(BY11="","",INDEX($AE$7:$AE$18,MATCH(""&BY11,""&$B$7:$B$18,0)))} | ... BC11: {=IF(CA11="","",INDEX($AE$7:$AE$18,MATCH(""&CA11,""&$B$7:$B$18,0)))} | BE11: =IF(ISNUMBER(AG11),IF(AG11=0,"Yes","No"),"") -> Yes | BG11: {=IFERROR(IF($D11=Type1,"",IF(INDEX($D$7:$D$18,IF($B11="-","-",TRIM(MID(SUBSTITUTE($H11,",",REPT(" ",LEN($H11))),(BG$6-1)*LEN($H11)+1,LEN($H11)))))=Type1,INDEX($BG$7:$BG$18,IF($B11="-","-",TRIM(MID(SUBSTITUTE($H11,",",REPT(" ",LEN($H11))),(BG$6-1)*LEN($H11)+1,LEN($H11))))),IF($B11="-","-",TRIM(MID(SUBSTITUTE($H11,",",REPT(" ",LEN($H11))),(BG$6-1)*LEN($H11)+1,LEN($H11)))))),"")} -> 3 | BH11: {=IFERROR(IF($D11=Type1,"",IF(INDEX($D$7:$D$18,IF($B11="-","-",TRIM(MID(SUBSTITUTE($H11,",",REPT(" ",LEN($H11))),(BH$6-1)*LEN($H11)+1,LEN($H11)))))=Type1,INDEX($BG$7:$BG$18,IF($B11="-","-",TRIM(MID(SUBSTITUTE($H11,",",REPT(" ",LEN($H11))),(BH$6-1)*LEN($H11)+1,LEN($H11))))),IF($B11="-","-",TRIM(MID(SUBSTITUTE($H11,",",REPT(" ",LEN($H11))),(BH$6-1)*LEN($H11)+1,LEN($H11)))))),"")} -> 4 | BI11: {=IFERROR(IF($D11=Type1,"",IF(INDEX($D$7:$D$18,IF($B11="-","-",TRIM(MID(SUBSTITUTE($H11,",",REPT(" ",LEN($H11))),(BI$6-1)*LEN($H11)+1,LEN($H11)))))=Type1,INDEX($BG$7:$BG$18,IF($B11="-","-",TRIM(MID(SUBSTITUTE($H11,",",REPT(" ",LEN($H11))),(BI$6-1)*LEN($H11)+1,LEN($H11))))),IF($B11="-","-",TRIM(MID(SUBSTITUTE($H11,",",REPT(" ",LEN($H11))),(BI$6-1)*LEN($H11)+1,LEN($H11)))))),"")} | BJ11: {=IFERROR(IF($D11=Type1,"",IF(INDEX($D$7:$D$18,IF($B11="-","-",TRIM(MID(SUBSTITUTE($H11,",",REPT(" ",LEN($H11))),(BJ$6-1)*LEN($H11)+1,LEN($H11)))))=Type1,INDEX($BG$7:$BG$18,IF($B11="-","-",TRIM(MID(SUBSTITUTE($H11,",",REPT(" ",LEN($H11))),(BJ$6-1)*LEN($H11)+1,LEN($H11))))),IF($B11="-","-",TRIM(MID(SUBSTITUTE($H11,",",REPT(" ",LEN($H11))),(BJ$6-1)*LEN($H11)+1,LEN($H11)))))),"")} | BK11: {=IFERROR(IF($D11=Type1,"",IF(INDEX($D$7:$D$18,IF($B11="-","-",TRIM(MID(SUBSTITUTE($H11,",",REPT(" ",LEN($H11))),(BK$6-1)*LEN($H11)+1,LEN($H11)))))=Type1,INDEX($BG$7:$BG$18,IF($B11="-","-",TRIM(MID(SUBSTITUTE($H11,",",REPT(" ",LEN($H11))),(BK$6-1)*LEN($H11)+1,LEN($H11))))),IF($B11="-","-",TRIM(MID(SUBSTITUTE($H11,",",REPT(" ",LEN($H11))),(BK$6-1)*LEN($H11)+1,LEN($H11)))))),"")} | BL11: {=IFERROR(IF($D11=Type1,"",IF(INDEX($D$7:$D$18,IF($B11="-","-",TRIM(MID(SUBSTITUTE($H11,",",REPT(" ",LEN($H11))),(BL$6-1)*LEN($H11)+1,LEN($H11)))))=Type1,INDEX($BG$7:$BG$18,IF($B11="-","-",TRIM(MID(SUBSTITUTE($H11,",",REPT(" ",LEN($H11))),(BL$6-1)*LEN($H11)+1,LEN($H11))))),IF($B11="-","-",TRIM(MID(SUBSTITUTE($H11,",",REPT(" ",LEN($H11))),(BL$6-1)*LEN($H11)+1,LEN($H11)))))),"")} | BM11: {=IFERROR(IF($D11=Type1,"",IF(INDEX($D$7:$D$18,IF($B11="-","-",TRIM(MID(SUBSTITUTE($H11,",",REPT(" ",LEN($H11))),(BM$6-1)*LEN($H11)+1,LEN($H11)))))=Type1,INDEX($BG$7:$BG$18,IF($B11="-","-",TRIM(MID(SUBSTITUTE($H11,",",REPT(" ",LEN($H11))),(BM$6-1)*LEN($H11)+1,LEN($H11))))),IF($B11="-","-",TRIM(MID(SUBSTITUTE($H11,",",REPT(" ",LEN($H11))),(BM$6-1)*LEN($H11)+1,LEN($H11)))))),"")} | BN11: {=IFERROR(IF($D11=Type1,"",IF(INDEX($D$7:$D$18,IF($B11="-","-",TRIM(MID(SUBSTITUTE($H11,",",REPT(" ",LEN($H11))),(BN$6-1)*LEN($H11)+1,LEN($H11)))))=Type1,INDEX($BG$7:$BG$18,IF($B11="-","-",TRIM(MID(SUBSTITUTE($H11,",",REPT(" ",LEN($H11))),(BN$6-1)*LEN($H11)+1,LEN($H11))))),IF($B11="-","-",TRIM(MID(SUBSTITUTE($H11,",",REPT(" ",LEN($H11))),(BN$6-1)*LEN($H11)+1,LEN($H11)))))),"")} | ... BP11: {=IFERROR(IF($D11=Type1,"",IF(INDEX($D$7:$D$18,IF($B11="-","-",TRIM(MID(SUBSTITUTE($H11,",",REPT(" ",LEN($H11))),(BP$6-1)*LEN($H11)+1,LEN($H11)))))=Type1,INDEX($BG$7:$BG$18,IF($B11="-","-",TRIM(MID(SUBSTITUTE($H11,",",REPT(" ",LEN($H11))),(BP$6-1)*LEN($H11)+1,LEN($H11))))),IF($B11="-","-",TRIM(MID(SUBSTITUTE($H11,",",REPT(" ",LEN($H11))),(BP$6-1)*LEN($H11)+1,LEN($H11)))))),"")} | BQ11: =BG11 -> 3 | BR11: {=IF($B11="-","-", IFERROR(INDEX(IDSourceRange,IF(MOD(SMALL(IF((""&$BQ$7:$BQ$126)=(""&$B11),ROW($BQ$7:$BQ$126)-ROW(INDEX($BQ$7:$BQ$126,1,1))+1),BR$6),200)=0,200,MOD(SMALL(IF((""&$BQ$7:$BQ$126)=(""&$B11),ROW($BQ$7:$BQ$126)-ROW(INDEX($BQ$7:$BQ$126,1,1))+1),BR$6),200)),1),""))} | BS11: {=IF($B11="-","-", IFERROR(INDEX(IDSourceRange,IF(MOD(SMALL(IF((""&$BQ$7:$BQ$126)=(""&$B11),ROW($BQ$7:$BQ$126)-ROW(INDEX($BQ$7:$BQ$126,1,1))+1),BS$6),200)=0,200,MOD(SMALL(IF((""&$BQ$7:$BQ$126)=(""&$B11),ROW($BQ$7:$BQ$126)-ROW(INDEX($BQ$7:$BQ$126,1,1))+1),BS$6),200)),1),""))} | BT11: {=IF($B11="-","-", IFERROR(INDEX(IDSourceRange,IF(MOD(SMALL(IF((""&$BQ$7:$BQ$126)=(""&$B11),ROW($BQ$7:$BQ$126)-ROW(INDEX($BQ$7:$BQ$126,1,1))+1),BT$6),200)=0,200,MOD(SMALL(IF((""&$BQ$7:$BQ$126)=(""&$B11),ROW($BQ$7:$BQ$126)-ROW(INDEX($BQ$7:$BQ$126,1,1))+1),BT$6),200)),1),""))} | BU11: {=IF($B11="-","-", IFERROR(INDEX(IDSourceRange,IF(MOD(SMALL(IF((""&$BQ$7:$BQ$126)=(""&$B11),ROW($BQ$7:$BQ$126)-ROW(INDEX($BQ$7:$BQ$126,1,1))+1),BU$6),200)=0,200,MOD(SMALL(IF((""&$BQ$7:$BQ$126)=(""&$B11),ROW($BQ$7:$BQ$126)-ROW(INDEX($BQ$7:$BQ$126,1,1))+1),BU$6),200)),1),""))} | BV11: {=IF($B11="-","-", IFERROR(INDEX(IDSourceRange,IF(MOD(SMALL(IF((""&$BQ$7:$BQ$126)=(""&$B11),ROW($BQ$7:$BQ$126)-ROW(INDEX($BQ$7:$BQ$126,1,1))+1),BV$6),200)=0,200,MOD(SMALL(IF((""&$BQ$7:$BQ$126)=(""&$B11),ROW($BQ$7:$BQ$126)-ROW(INDEX($BQ$7:$BQ$126,1,1))+1),BV$6),200)),1),""))} | BW11: {=IF($B11="-","-", IFERROR(INDEX(IDSourceRange,IF(MOD(SMALL(IF((""&$BQ$7:$BQ$126)=(""&$B11),ROW($BQ$7:$BQ$126)-ROW(INDEX($BQ$7:$BQ$126,1,1))+1),BW$6),200)=0,200,MOD(SMALL(IF((""&$BQ$7:$BQ$126)=(""&$B11),ROW($BQ$7:$BQ$126)-ROW(INDEX($BQ$7:$BQ$126,1,1))+1),BW$6),200)),1),""))} | BX11: {=IF($B11="-","-", IFERROR(INDEX(IDSourceRange,IF(MOD(SMALL(IF((""&$BQ$7:$BQ$126)=(""&$B11),ROW($BQ$7:$BQ$126)-ROW(INDEX($BQ$7:$BQ$126,1,1))+1),BX$6),200)=0,200,MOD(SMALL(IF((""&$BQ$7:$BQ$126)=(""&$B11),ROW($BQ$7:$BQ$126)-ROW(INDEX($BQ$7:$BQ$126,1,1))+1),BX$6),200)),1),""))} | BY11: {=IF($B11="-","-", IFERROR(INDEX(IDSourceRange,IF(MOD(SMALL(IF((""&$BQ$7:$BQ$126)=(""&$B11),ROW($BQ$7:$BQ$126)-ROW(INDEX($BQ$7:$BQ$126,1,1))+1),BY$6),200)=0,200,MOD(SMALL(IF((""&$BQ$7:$BQ$126)=(""&$B11),ROW($BQ$7:$BQ$126)-ROW(INDEX($BQ$7:$BQ$126,1,1))+1),BY$6),200)),1),""))} | ... CA11: {=IF($B11="-","-", IFERROR(INDEX(IDSourceRange,IF(MOD(SMALL(IF((""&$BQ$7:$BQ$126)=(""&$B11),ROW($BQ$7:$BQ$126)-ROW(INDEX($BQ$7:$BQ$126,1,1))+1),CA$6),200)=0,200,MOD(SMALL(IF((""&$BQ$7:$BQ$126)=(""&$B11),ROW($BQ$7:$BQ$126)-ROW(INDEX($BQ$7:$BQ$126,1,1))+1),CA$6),200)),1),""))} | CB11: =BR11 | CC11: {=IF($B11="-","-",SUM(IF(LEN(BR11:CA11)>0,1,0)))} -> 0 | CD11: {=IF($B11="-","-",SUM(IF(LEN(BG11:BP11)>0,1,0)))} -> 2 | CH11: Yes | CI11: =MATCH(Settings!G11,CH11:CH12,0) -> 1 | CN11: =CN10+1 -> 44931 | CO11: {=IF(NETWORKDAYS.INTL(CN11,CN11,weekendOption,holidaysList)=1,MAX($CO$6:CO10)+1,"")} -> 3 | CQ11: =IF(B11="-","", B11 & " - " &E11) -> 5 - Develop project charter and plan | CT11: =IF(AND( Y11<= DATE(yearC,Calculations!$CT$5+1,1)-1,CY11>=DATE(yearC,Calculations!$CT$5,1)),1,0) -> 1 | CU11: =IF(OR(C11=$CU$5,$CU$5=""),1,0) -> 1 | CV11: =IF($CV$5="",1,IFERROR(IF($CV$5=F11,1,0),0)) -> 1 | CW11: =IF(OR(D11=$CW$5,$CW$5=""),1,0) -> 1 | CX11: =CT11*CU11*CV11*CW11 -> 1 | CY11: =INDEX(Z11:AB11,1,$CY$5) -> 44953 | DA11: {=IFERROR(IF(LEN(INDEX($CO$7:$CO$737,MATCH(DA$6,$CN$7:$CN$737,0)))=0,"",IF($CX11=0,"",IF(AND(DA$6>=$Y11,DA$6<=$CY11),IF(CZ11<>"",CZ11,IF(MAX(DA$7:DA10)<=COUNT(DA$7:DA10),MAX(DA$7:DA10)+1,SMALL(IF(COUNTIF(DA$7:DA10,$EI$7:$EI$16)=0,$EI$7:$EI$16,""),1))),""))),"")} | DB11: {=IFERROR(IF(LEN(INDEX($CO$7:$CO$737,MATCH(DB$6,$CN$7:$CN$737,0)))=0,"",IF($CX11=0,"",IF(AND(DB$6>=$Y11,DB$6<=$CY11),IF(DA11<>"",DA11,IF(MAX(DB$7:DB10)<=COUNT(DB$7:DB10),MAX(DB$7:DB10)+1,SMALL(IF(COUNTIF(DB$7:DB10,$EI$7:$EI$16)=0,$EI$7:$EI$16,""),1))),""))),"")} | DC11: {=IFERROR(IF(LEN(INDEX($CO$7:$CO$737,MATCH(DC$6,$CN$7:$CN$737,0)))=0,"",IF($CX11=0,"",IF(AND(DC$6>=$Y11,DC$6<=$CY11),IF(DB11<>"",DB11,IF(MAX(DC$7:DC10)<=COUNT(DC$7:DC10),MAX(DC$7:DC10)+1,SMALL(IF(COUNTIF(DC$7:DC10,$EI$7:$EI$16)=0,$EI$7:$EI$16,""),1))),""))),"")} | DD11: {=IFERROR(IF(LEN(INDEX($CO$7:$CO$737,MATCH(DD$6,$CN$7:$CN$737,0)))=0,"",IF($CX11=0,"",IF(AND(DD$6>=$Y11,DD$6<=$CY11),IF(DC11<>"",DC11,IF(MAX(DD$7:DD10)<=COUNT(DD$7:DD10),MAX(DD$7:DD10)+1,SMALL(IF(COUNTIF(DD$7:DD10,$EI$7:$EI$16)=0,$EI$7:$EI$16,""),1))),""))),"")} | DE11: {=IFERROR(IF(LEN(INDEX($CO$7:$CO$737,MATCH(DE$6,$CN$7:$CN$737,0)))=0,"",IF($CX11=0,"",IF(AND(DE$6>=$Y11,DE$6<=$CY11),IF(DD11<>"",DD11,IF(MAX(DE$7:DE10)<=COUNT(DE$7:DE10),MAX(DE$7:DE10)+1,SMALL(IF(COUNTIF(DE$7:DE10,$EI$7:$EI$16)=0,$EI$7:$EI$16,""),1))),""))),"")} | DF11: {=IFERROR(IF(LEN(INDEX($CO$7:$CO$737,MATCH(DF$6,$CN$7:$CN$737,0)))=0,"",IF($CX11=0,"",IF(AND(DF$6>=$Y11,DF$6<=$CY11),IF(DE11<>"",DE11,IF(MAX(DF$7:DF10)<=COUNT(DF$7:DF10),MAX(DF$7:DF10)+1,SMALL(IF(COUNTIF(DF$7:DF10,$EI$7:$EI$16)=0,$EI$7:$EI$16,""),1))),""))),"")} | DG11: {=IFERROR(IF(LEN(INDEX($CO$7:$CO$737,MATCH(DG$6,$CN$7:$CN$737,0)))=0,"",IF($CX11=0,"",IF(AND(DG$6>=$Y11,DG$6<=$CY11),IF(DF11<>"",DF11,IF(MAX(DG$7:DG10)<=COUNT(DG$7:DG10),MAX(DG$7:DG10)+1,SMALL(IF(COUNTIF(DG$7:DG10,$EI$7:$EI$16)=0,$EI$7:$EI$16,""),1))),""))),"")} | DH11: {=IFERROR(IF(LEN(INDEX($CO$7:$CO$737,MATCH(DH$6,$CN$7:$CN$737,0)))=0,"",IF($CX11=0,"",IF(AND(DH$6>=$Y11,DH$6<=$CY11),IF(DG11<>"",DG11,IF(MAX(DH$7:DH10)<=COUNT(DH$7:DH10),MAX(DH$7:DH10)+1,SMALL(IF(COUNTIF(DH$7:DH10,$EI$7:$EI$16)=0,$EI$7:$EI$16,""),1))),""))),"")} | ... EE11: {=IFERROR(IF(LEN(INDEX($CO$7:$CO$737,MATCH(EE$6,$CN$7:$CN$737,0)))=0,"",IF($CX11=0,"",IF(AND(EE$6>=$Y11,EE$6<=$CY11),IF(ED11<>"",ED11,IF(MAX(EE$7:EE10)<=COUNT(EE$7:EE10),MAX(EE$7:EE10)+1,SMALL(IF(COUNTIF(EE$7:EE10,$EI$7:$EI$16)=0,$EI$7:$EI$16,""),1))),""))),"")} | EG11: =MAX(DA11:EE11) -> 4 | EI11: 5 | EK11: =IF(OR(LEN(C11)=0,O11=0),"",B11) -> 5 | EL11: {=IFERROR(SMALL($EK$7:$EK$18,ROW()-ROW($EK$6)),"")} -> 5 | EM11: =IFERROR(INDEX(E$7:E$18,$EL11),"") -> Develop project charter and plan | EN11: =IFERROR(INDEX(D$7:D$18,$EL11),"") -> T | EO11: =IFERROR(INDEX(Y$7:Y$18,$EL11),"") -> 44939 | EP11: =IFERROR(INDEX(Z$7:Z$18,$EL11),"") -> 44953 | EQ11: =IFERROR(INDEX(L$7:L$18,$EL11),"") -> 10 | ER11: =IFERROR(INDEX(AB$7:AB$18,$EL11),"") -> 44953 | ES11: =IFERROR(INDEX(C$7:C$18,$EL11),"") -> Low | ET11: =IFERROR(INDEX(N$7:N$18,$EL11),"") -> Done | EU11: =IFERROR(IF(LEN(EM11)=0,"",INDEX($CF$39:$CF$43,MATCH(ES11,$CH$39:$CH$43,0))),"") -> 3 | EV11: =IFERROR(IF(LEN(EM11)=0,"",INDEX($CG$52:$CG$55,MATCH(ET11,$CH$52:$CH$55,0))),"") -> 1 | EX11: 5 | EY11: =IFERROR(IF(LEN(INDEX(Settings!I$10:I$52,Calculations!$EX11))=0,"",INDEX(Settings!I$10:I$52,Calculations!$EX11)),"") -> Carmel Beltran | EZ11: =IF(LEN(EY11)=0,"",EX11) -> 5 | FA11: =IFERROR(INDEX($EY$7:$EY$25,SMALL($EZ$7:$EZ$25,$EX11)),"") -> Carmel Beltran | FB11: =IF(LEN(FC11)=0,"",EX11) -> 5 | FC11: =IFERROR(IF(LEN(INDEX(Settings!J$10:J$52,Calculations!$EX11))=0,"",INDEX(Settings!J$10:J$52,Calculations!$EX11)),"") -> IT | FD11: =IF(IF(LEN(FC11)=0,"",COUNTIF($FC$7:FC11,FC11))=1,EX11,"") -> 5 | FE11: =IFERROR(INDEX($FC$7:$FC$25,SMALL($FD$7:$FD$25,$EX11)),"") -> IT | FG11: =IFERROR(INDEX($CH$39:$CH$43,MATCH(ROW(CI43)-ROW($CI$38),$CG$39:$CG$43,0),1),"") | FH11: =IF(LEN(FG11)=0,"",EX11) | FI11: =IFERROR(INDEX($FG$7:$FG$11,SMALL($FH$7:$FH$11,$EX11)),"") | FR11: =FR10 -> 0 | FS11: =IFERROR(IF($FO$5>=FR11,$FO$7+FR11,""),"") -> 2023 | FT11: May | FU11: =IF(LEN(FS11)>0,FS11&"-"&FT11,"") -> 2023-May | FV11: =IFERROR(DATE(FS11,MATCH(FT11,$CH$24:$CH$35,0),1),"") -> 45047 | FX11: Total | FY11: =SUM(FY7:FY10) -> 10 | GB11: =FG11 | GC11: =IF(LEN(GB11)=0,"",COUNTIFS($C$7:$C$19,$GB11,$P$7:$P$19,1)) | GD11: =IF(AND(ISNUMBER(GC11),GC11>0),MAX(GD10:GD10)+1,"") | GF11: =FA11 -> Carmel Beltran | GG11: =IF(LEN(GF11)=0,"",COUNTIFS($F$7:$F$19,$GF11,$P$7:$P$19,1)) -> 1 | GH11: =IFERROR(IF(GG11=0,"",RANK(GG11,$GG$7:$GG$25)),"") -> 3 | GI11: =IFERROR(COUNTIF($GH$6:GH10,GH11)+GH11,"") -> 5 | GK11: 5 | GL11: =IFERROR(INDEX(GF$7:GF$25,MATCH($GK11,$GI$7:$GI$25,0)),"") -> Carmel Beltran | GM11: =IFERROR(INDEX(GG$7:GG$25,MATCH($GK11,$GI$7:$GI$25,0)),"") -> 1 | GO11: =IF(D11=Type1,ROW(E11)-ROW($E$6),"") | GP11: =IFERROR(INDEX($E$7:$E$18,SMALL($GO$7:$GO$18,ROW(GP11)-ROW($GP$6))),"") | GQ11: =IFERROR(INDEX($N$7:$N$19,MATCH($GP11,$E$7:$E$18,0)),"") | GR11: =IF(AND(LEN($GP11)>0,$GQ11=GR$6),1,"") | GS11: =IF(AND(LEN($GP11)>0,$GQ11=GS$6),1,"") | GT11: =IF(AND(LEN($GP11)>0,$GQ11=GT$6),1,"") | GU11: =IF(AND(LEN($GP11)>0,$GQ11=GU$6),1,"") | GV11: =IF(LEN($GQ11)=0,"",1) | GW11: =IF(LEN($GQ11)=0,"",3) | GY11: 5
