Workbook
Name calendarStartDate: Calculations!$CH$8
Name chartcomp: OFFSET(Calculations!$FZ$7,,,Calculations!$FX$5)
Name countall: Calculations!$B$4
Name Department: Dashboard!$E$8
Name donechart: OFFSET(Calculations!$GR$7,,,Calculations!$GP$5)
Name Duration: Calculations!$I$7:$I$18
Name dv_employee: OFFSET(Calculations!$FA$7,,,Calculations!$FA$5)
Name empchart: OFFSET(Calculations!$GM$7,,,Calculations!$GL$5)
Name Fromdate: Dashboard!$G$8
Name holidaysList: IF(Settings!$G$20="No",Calculations!$A$1, Settings!$G$23:$G$52)
Name IDSourceRange: Calculations!$B$7:$B$18
Name inpchart: OFFSET(Calculations!$GS$7,,,Calculations!$GP$5)
Name monthC: Calendar!$I$6
Name NextIDSourceRange: Calculations!$H$7:$H$18
Name nschart: OFFSET(Calculations!$GT$7,,,Calculations!$GP$5)
Name ohchart: OFFSET(Calculations!$GU$7,,,Calculations!$GP$5)
Name Person: Dashboard!$C$8
Name phasechart: OFFSET(Calculations!$GV$7,,,Calculations!$GP$5)
Name phasechart2: OFFSET(Calculations!$GW$7,,,Calculations!$GP$5)
Name Priority: Dashboard!$M$8
Name prioritychart: OFFSET(Calculations!$GC$16,,,Calculations!$GB$14)
Name projectStartDate: Settings!$D$9
Name smilestone: GanttChart!$K$9
Name Sphase: GanttChart!$K$7
Name ssub: GanttChart!$P$9
Name stask: GanttChart!$P$7
Name Status: Dashboard!$K$8
Name Status1: Settings!$D$25
Name Status2: Settings!$D$26
Name Status3: Settings!$D$27
Name Status4: Settings!$D$28
Name TasksTimes: Calculations!$AC$7:$AG$18
Name Todate: Dashboard!$I$8
Name TotalDependentsRange: Calculations!$CC$7:$CC$18
Name TotalPrecedentsRange: Calculations!$CD$7:$CD$18
Name Type1: Settings!$D$19
Name Type2: Settings!$D$20
Name Type3: Settings!$D$21
Name Type4: Settings!$D$22
Name weekendOption: Calculations!$CI$14
Name yearC: Calendar!$F$6

Sheet Menu
C2: WBS GANTT CHART EXCEL TEMPLATE
C3: MENU

Sheet Settings
C2: WBS GANTT CHART EXCEL TEMPLATE
C3: SETTINGS
C7: PROJECT SETTINGS | F7: CALENDAR SETTINGS | I7: EMPLOYEE SETTINGS
C9: Project start date | D9: 44927 | F9: First day of a week | G9: MONDAY | I9: Employee Name | J9: Department
I10: Jemima Begum | J10: Operations
C11: Priority List | F11: Exclude week days | G11: Yes | I11: Mercedes Banks | J11: Design
D12: High | F12: Monday | I12: Macauley Peck | J12: Finance
D13: Medium | F13: Tuesday | I13: Hannah Shaw | J13: Quality Assurance
D14: Low | F14: Wednesday | I14: Carmel Beltran | J14: IT
F15: Thursday | I15: Sarah-Jayne Morrison | J15: Operations
F16: Friday | I16: Alyce Milner | J16: Operations
F17: Saturday | G17: ✓ | I17: Aviana Kenny | J17: Operations
C18: Type | F18: Sunday | G18: ✓ | I18: Harris Montes | J18: Operations
C19: Phase | D19: P | I19: Doris Power | J19: Design
C20: Milestone | D20: M | F20: Exclude holidays | G20: Yes | I20: Isobelle Hurley | J20: Finance
C21: Task | D21: T | F21: LIST OF HOLIDAYS | I21: Donell Merrill | J21: Finance
C22: Sub-task | D22: S | F22: NAME | G22: DATE | I22: Jane Best | J22: Sales
F23: Christmas | G23: 45284 | I23: Kristofer Dyer | J23: Quality Assurance
C24: Status | F24: Christmas | G24: 45286
C25: 1 | D25: Done | F25: New Year | G25: 44927
C26: 2 | D26: In Progress | F26: Company day off | G26: 44948
C27: 3 | D27: Not Started
C28: 4

Sheet TaskPlan
C2: WBS GANTT CHART EXCEL TEMPLATE
C3: TASK PLAN
B5: MAIN INFORMATION | I5: TASK ACTIONS | M5: DETAILS | T5: Check
B6: ID | C6: Priority | D6: Type | E6: Task | F6: Assign Person | G6: Predecessors' IDs | H6: Planned Duration (Working days) | I6: Delayed start | J6: Elongate | K6: Status | L6: Notes/Actions | M6: Early Start | N6: Early Finish | O6: Late Start | P6: Late Finish | Q6: Remain Days | R6: Slack | S6: Real Duration | T6: Error Check
B7: =IF(LEN(E7)>0,MAX($B$6:B6)+1,"") -> 1 | C7: High | D7: M | E7: Start | K7: Done | M7: =IFERROR(IF(ISNUMBER($B7),INDEX(Calculations!Y$7:Y$18,MATCH($B7,Calculations!$B$7:$B$18,0),1),""),"") -> 44928 | N7: =IFERROR(IF(ISNUMBER($B7),INDEX(Calculations!Z$7:Z$18,MATCH($B7,Calculations!$B$7:$B$18,0),1),""),"") -> 44928 | O7: =IFERROR(IF(ISNUMBER($B7),INDEX(Calculations!AA$7:AA$18,MATCH($B7,Calculations!$B$7:$B$18,0),1),""),"") -> 44930 | P7: =IFERROR(IF(ISNUMBER($B7),INDEX(Calculations!AB$7:AB$18,MATCH($B7,Calculations!$B$7:$B$18,0),1),""),"") -> 44930 | Q7: =IFERROR(IF(Calculations!N7=Status1,Status1,IF(P7-TODAY()<0,"Overdue!",P7-TODAY())),"") -> Done | R7: =IFERROR(IF(ISNUMBER($B7),INDEX(Calculations!AG$7:AG$18,MATCH($B7,Calculations!$B$7:$B$18,0),1),""),"") -> 2 | S7: =IFERROR(IF(ISNUMBER($B7),INDEX(Calculations!L$7:L$18,MATCH($B7,Calculations!$B$7:$B$18,0),1),""),"") -> 0 | T7: =IF(IF(LEN(E7)=0,"",Calculations!W7=0),"","!")
B8: =IF(LEN(E8)>0,MAX($B$6:B7)+1,"") -> 2 | C8: Medium | D8: P | E8: Phase 1: Planning | F8: Carmel Beltran | H8: 0 | K8: In progress | M8: =IFERROR(IF(ISNUMBER($B8),INDEX(Calculations!Y$7:Y$18,MATCH($B8,Calculations!$B$7:$B$18,0),1),""),"") -> 44928 | N8: =IFERROR(IF(ISNUMBER($B8),INDEX(Calculations!Z$7:Z$18,MATCH($B8,Calculations!$B$7:$B$18,0),1),""),"") -> 44953 | O8: =IFERROR(IF(ISNUMBER($B8),INDEX(Calculations!AA$7:AA$18,MATCH($B8,Calculations!$B$7:$B$18,0),1),""),"") -> 44928 | P8: =IFERROR(IF(ISNUMBER($B8),INDEX(Calculations!AB$7:AB$18,MATCH($B8,Calculations!$B$7:$B$18,0),1),""),"") -> 44953 | Q8: =IFERROR(IF(Calculations!N8=Status1,Status1,IF(P8-TODAY()<0,"Overdue!",P8-TODAY())),"") -> Done | R8: =IFERROR(IF(ISNUMBER($B8),INDEX(Calculations!AG$7:AG$18,MATCH($B8,Calculations!$B$7:$B$18,0),1),""),"") -> 0 | S8: =IFERROR(IF(ISNUMBER($B8),INDEX(Calculations!L$7:L$18,MATCH($B8,Calculations!$B$7:$B$18,0),1),""),"") -> 25 | T8: =IF(IF(LEN(E8)=0,"",Calculations!W8=0),"","!")
B9: =IF(LEN(E9)>0,MAX($B$6:B8)+1,"") -> 3 | C9: High | D9: T | E9: Define project scope and objectives | F9: Hannah Shaw | G9: 1 | H9: 5 | K9: Done | L9: Schedule and lead meetings with stakeholders to gather requirements | M9: =IFERROR(IF(ISNUMBER($B9),INDEX(Calculations!Y$7:Y$18,MATCH($B9,Calculations!$B$7:$B$18,0),1),""),"") -> 44928 | N9: =IFERROR(IF(ISNUMBER($B9),INDEX(Calculations!Z$7:Z$18,MATCH($B9,Calculations!$B$7:$B$18,0),1),""),"") -> 44935 | O9: =IFERROR(IF(ISNUMBER($B9),INDEX(Calculations!AA$7:AA$18,MATCH($B9,Calculations!$B$7:$B$18,0),1),""),"") -> 44932 | P9: =IFERROR(IF(ISNUMBER($B9),INDEX(Calculations!AB$7:AB$18,MATCH($B9,Calculations!$B$7:$B$18,0),1),""),"") -> 44939 | Q9: =IFERROR(IF(Calculations!N9=Status1,Status1,IF(P9-TODAY()<0,"Overdue!",P9-TODAY())),"") -> Done | R9: =IFERROR(IF(ISNUMBER($B9),INDEX(Calculations!AG$7:AG$18,MATCH($B9,Calculations!$B$7:$B$18,0),1),""),"") -> 4 | S9: =IFERROR(IF(ISNUMBER($B9),INDEX(Calculations!L$7:L$18,MATCH($B9,Calculations!$B$7:$B$18,0),1),""),"") -> 5 | T9: =IF(IF(LEN(E9)=0,"",Calculations!W9=0),"","!")
B10: =IF(LEN(E10)>0,MAX($B$6:B9)+1,"") -> 4 | C10: Low | D10: S | E10: Identify stakeholders and gather requirements | F10: Jemima Begum | G10: 1 | H10: 7 | I10: 2 | K10: Done | L10: Identify all stakeholders, conduct interviews, and gather requirements. | M10: =IFERROR(IF(ISNUMBER($B10),INDEX(Calculations!Y$7:Y$18,MATCH($B10,Calculations!$B$7:$B$18,0),1),""),"") -> 44930 | N10: =IFERROR(IF(ISNUMBER($B10),INDEX(Calculations!Z$7:Z$18,MATCH($B10,Calculations!$B$7:$B$18,0),1),""),"") -> 44939 | O10: =IFERROR(IF(ISNUMBER($B10),INDEX(Calculations!AA$7:AA$18,MATCH($B10,Calculations!$B$7:$B$18,0),1),""),"") -> 44930 | P10: =IFERROR(IF(ISNUMBER($B10),INDEX(Calculations!AB$7:AB$18,MATCH($B10,Calculations!$B$7:$B$18,0),1),""),"") -> 44939 | Q10: =IFERROR(IF(Calculations!N10=Status1,Status1,IF(P10-TODAY()<0,"Overdue!",P10-TODAY())),"") -> Done | R10: =IFERROR(IF(ISNUMBER($B10),INDEX(Calculations!AG$7:AG$18,MATCH($B10,Calculations!$B$7:$B$18,0),1),""),"") -> 0 | S10: =IFERROR(IF(ISNUMBER($B10),INDEX(Calculations!L$7:L$18,MATCH($B10,Calculations!$B$7:$B$18,0),1),""),"") -> 7 | T10: =IF(IF(LEN(E10)=0,"",Calculations!W10=0),"","!")
B11: =IF(LEN(E11)>0,MAX($B$6:B10)+1,"") -> 5 | C11: Low | D11: T | E11: Develop project charter and plan | F11: Jane Best | G11: 3,4 | H11: 10 | K11: Done | L11: Create the project schedule, assign resources, and develop the project plan. | M11: =IFERROR(IF(ISNUMBER($B11),INDEX(Calculations!Y$7:Y$18,MATCH($B11,Calculations!$B$7:$B$18,0),1),""),"") -> 44939 | N11: =IFERROR(IF(ISNUMBER($B11),INDEX(Calculations!Z$7:Z$18,MATCH($B11,Calculations!$B$7:$B$18,0),1),""),"") -> 44953 | O11: =IFERROR(IF(ISNUMBER($B11),INDEX(Calculations!AA$7:AA$18,MATCH($B11,Calculations!$B$7:$B$18,0),1),""),"") -> 44939 | P11: =IFERROR(IF(ISNUMBER($B11),INDEX(Calculations!AB$7:AB$18,MATCH($B11,Calculations!$B$7:$B$18,0),1),""),"") -> 44953 | Q11: =IFERROR(IF(Calculations!N11=Status1,Status1,IF(P11-TODAY()<0,"Overdue!",P11-TODAY())),"") -> Done | R11: =IFERROR(IF(ISNUMBER($B11),INDEX(Calculations!AG$7:AG$18,MATCH($B11,Calculations!$B$7:$B$18,0),1),""),"") -> 0 | S11: =IFERROR(IF(ISNUMBER($B11),INDEX(Calculations!L$7:L$18,MATCH($B11,Calculations!$B$7:$B$18,0),1),""),"") -> 10 | T11: =IF(IF(LEN(E11)=0,"",Calculations!W11=0),"","!")
B12: =IF(LEN(E12)>0,MAX($B$6:B11)+1,"") -> 6 | C12: Medium | D12: T | E12: Secure funding and resources | F12: Mercedes Banks | G12: 4 | H12: 5 | K12: Done | L12: Present them to stakeholders, and secure funding and resources. | M12: =IFERROR(IF(ISNUMBER($B12),INDEX(Calculations!Y$7:Y$18,MATCH($B12,Calculations!$B$7:$B$18,0),1),""),"") -> 44939 | N12: =IFERROR(IF(ISNUMBER($B12),INDEX(Calculations!Z$7:Z$18,MATCH($B12,Calculations!$B$7:$B$18,0),1),""),"") -> 44946 | O12: =IFERROR(IF(ISNUMBER($B12),INDEX(Calculations!AA$7:AA$18,MATCH($B12,Calculations!$B$7:$B$18,0),1),""),"") -> 44939 | P12: =IFERROR(IF(ISNUMBER($B12),INDEX(Calculations!AB$7:AB$18,MATCH($B12,Calculations!$B$7:$B$18,0),1),""),"") -> 44946 | Q12: =IFERROR(IF(Calculations!N12=Status1,Status1,IF(P12-TODAY()<0,"Overdue!",P12-TODAY())),"") -> Done | R12: =IFERROR(IF(ISNUMBER($B12),INDEX(Calculations!AG$7:AG$18,MATCH($B12,Calculations!$B$7:$B$18,0),1),""),"") -> 0 | S12: =IFERROR(IF(ISNUMBER($B12),INDEX(Calculations!L$7:L$18,MATCH($B12,Calculations!$B$7:$B$18,0),1),""),"") -> 5 | T12: =IF(IF(LEN(E12)=0,"",Calculations!W12=0),"","!")
B13: =IF(LEN(E13)>0,MAX($B$6:B12)+1,"") -> 7 | C13: Low | D13: P | E13: Phase 2: Design | F13: Alyce Milner | H13: 20 | M13: =IFERROR(IF(ISNUMBER($B13),INDEX(Calculations!Y$7:Y$18,MATCH($B13,Calculations!$B$7:$B$18,0),1),""),"") -> 44946 | N13: =IFERROR(IF(ISNUMBER($B13),INDEX(Calculations!Z$7:Z$18,MATCH($B13,Calculations!$B$7:$B$18,0),1),""),"") -> 44970 | O13: =IFERROR(IF(ISNUMBER($B13),INDEX(Calculations!AA$7:AA$18,MATCH($B13,Calculations!$B$7:$B$18,0),1),""),"") -> 44946 | P13: =IFERROR(IF(ISNUMBER($B13),INDEX(Calculations!AB$7:AB$18,MATCH($B13,Calculations!$B$7:$B$18,0),1),""),"") -> 44970 | Q13: =IFERROR(IF(Calculations!N13=Status1,Status1,IF(P13-TODAY()<0,"Overdue!",P13-TODAY())),"") -> Overdue! | R13: =IFERROR(IF(ISNUMBER($B13),INDEX(Calculations!AG$7:AG$18,MATCH($B13,Calculations!$B$7:$B$18,0),1),""),"") -> 0 | S13: =IFERROR(IF(ISNUMBER($B13),INDEX(Calculations!L$7:L$18,MATCH($B13,Calculations!$B$7:$B$18,0),1),""),"") -> 24 | T13: =IF(IF(LEN(E13)=0,"",Calculations!W13=0),"","!")
B14: =IF(LEN(E14)>0,MAX($B$6:B13)+1,"") -> 8 | C14: Medium | D14: T | E14: Create detailed design specifications | F14: Macauley Peck | G14: 6 | H14: 15 | I14: 1 | K14: In progress | L14: Work with the project team to create detailed design specifications for the project. | M14: =IFERROR(IF(ISNUMBER($B14),INDEX(Calculations!Y$7:Y$18,MATCH($B14,Calculations!$B$7:$B$18,0),1),""),"") -> 44949 | N14: =IFERROR(IF(ISNUMBER($B14),INDEX(Calculations!Z$7:Z$18,MATCH($B14,Calculations!$B$7:$B$18,0),1),""),"") -> 44970 | O14: =IFERROR(IF(ISNUMBER($B14),INDEX(Calculations!AA$7:AA$18,MATCH($B14,Calculations!$B$7:$B$18,0),1),""),"") -> 44949 | P14: =IFERROR(IF(ISNUMBER($B14),INDEX(Calculations!AB$7:AB$18,MATCH($B14,Calculations!$B$7:$B$18,0),1),""),"") -> 44970 | Q14: =IFERROR(IF(Calculations!N14=Status1,Status1,IF(P14-TODAY()<0,"Overdue!",P14-TODAY())),"") -> Overdue! | R14: =IFERROR(IF(ISNUMBER($B14),INDEX(Calculations!AG$7:AG$18,MATCH($B14,Calculations!$B$7:$B$18,0),1),""),"") -> 0 | S14: =IFERROR(IF(ISNUMBER($B14),INDEX(Calculations!L$7:L$18,MATCH($B14,Calculations!$B$7:$B$18,0),1),""),"") -> 15 | T14: =IF(IF(LEN(E14)=0,"",Calculations!W14=0),"","!")
B15: =IF(LEN(E15)>0,MAX($B$6:B14)+1,"") -> 9 | C15: Low | D15: S | E15: Review and approve design | F15: Jemima Begum | G15: 6 | H15: 5 | J15: 2 | K15: In progress | L15: Prepare design to ensure it meets all requirements and specifications. | M15: =IFERROR(IF(ISNUMBER($B15),INDEX(Calculations!Y$7:Y$18,MATCH($B15,Calculations!$B$7:$B$18,0),1),""),"") -> 44946 | N15: =IFERROR(IF(ISNUMBER($B15),INDEX(Calculations!Z$7:Z$18,MATCH($B15,Calculations!$B$7:$B$18,0),1),""),"") -> 44957 | O15: =IFERROR(IF(ISNUMBER($B15),INDEX(Calculations!AA$7:AA$18,MATCH($B15,Calculations!$B$7:$B$18,0),1),""),"") -> 44946 | P15: =IFERROR(IF(ISNUMBER($B15),INDEX(Calculations!AB$7:AB$18,MATCH($B15,Calculations!$B$7:$B$18,0),1),""),"") -> 44957 | Q15: =IFERROR(IF(Calculations!N15=Status1,Status1,IF(P15-TODAY()<0,"Overdue!",P15-TODAY())),"") -> Overdue! | R15: =IFERROR(IF(ISNUMBER($B15),INDEX(Calculations!AG$7:AG$18,MATCH($B15,Calculations!$B$7:$B$18,0),1),""),"") -> 0 | S15: =IFERROR(IF(ISNUMBER($B15),INDEX(Calculations!L$7:L$18,MATCH($B15,Calculations!$B$7:$B$18,0),1),""),"") -> 7 | T15: =IF(IF(LEN(E15)=0,"",Calculations!W15=0),"","!")
B16: =IF(LEN(E16)>0,MAX($B$6:B15)+1,"") -> 10 | C16: High | D16: M | E16: Design Approved | F16: Mercedes Banks | G16: 9 | H16: 5 | K16: Not started | M16: =IFERROR(IF(ISNUMBER($B16),INDEX(Calculations!Y$7:Y$18,MATCH($B16,Calculations!$B$7:$B$18,0),1),""),"") -> 44957 | N16: =IFERROR(IF(ISNUMBER($B16),INDEX(Calculations!Z$7:Z$18,MATCH($B16,Calculations!$B$7:$B$18,0),1),""),"") -> 44964 | O16: =IFERROR(IF(ISNUMBER($B16),INDEX(Calculations!AA$7:AA$18,MATCH($B16,Calculations!$B$7:$B$18,0),1),""),"") -> 44957 | P16: =IFERROR(IF(ISNUMBER($B16),INDEX(Calculations!AB$7:AB$18,MATCH($B16,Calculations!$B$7:$B$18,0),1),""),"") -> 44964 | Q16: =IFERROR(IF(Calculations!N16=Status1,Status1,IF(P16-TODAY()<0,"Overdue!",P16-TODAY())),"") -> Overdue! | R16: =IFERROR(IF(ISNUMBER($B16),INDEX(Calculations!AG$7:AG$18,MATCH($B16,Calculations!$B$7:$B$18,0),1),""),"") -> 0 | S16: =IFERROR(IF(ISNUMBER($B16),INDEX(Calculations!L$7:L$18,MATCH($B16,Calculations!$B$7:$B$18,0),1),""),"") -> 5 | T16: =IF(IF(LEN(E16)=0,"",Calculations!W16=0),"","!")
B17: =IF(LEN(E17)>0,MAX($B$6:B16)+1,"") | M17: =IFERROR(IF(ISNUMBER($B17),INDEX(Calculations!Y$7:Y$18,MATCH($B17,Calculations!$B$7:$B$18,0),1),""),"") | N17: =IFERROR(IF(ISNUMBER($B17),INDEX(Calculations!Z$7:Z$18,MATCH($B17,Calculations!$B$7:$B$18,0),1),""),"") | O17: =IFERROR(IF(ISNUMBER($B17),INDEX(Calculations!AA$7:AA$18,MATCH($B17,Calculations!$B$7:$B$18,0),1),""),"") | P17: =IFERROR(IF(ISNUMBER($B17),INDEX(Calculations!AB$7:AB$18,MATCH($B17,Calculations!$B$7:$B$18,0),1),""),"") | Q17: =IFERROR(IF(Calculations!N17=Status1,Status1,IF(P17-TODAY()<0,"Overdue!",P17-TODAY())),"") | R17: =IFERROR(IF(ISNUMBER($B17),INDEX(Calculations!AG$7:AG$18,MATCH($B17,Calculations!$B$7:$B$18,0),1),""),"") | S17: =IFERROR(IF(ISNUMBER($B17),INDEX(Calculations!L$7:L$18,MATCH($B17,Calculations!$B$7:$B$18,0),1),""),"") | T17: =IF(IF(LEN(E17)=0,"",Calculations!W17=0),"","!") -> #VALUE!
B18: =IF(LEN(E18)>0,MAX($B$6:B17)+1,"") | M18: =IFERROR(IF(ISNUMBER($B18),INDEX(Calculations!Y$7:Y$18,MATCH($B18,Calculations!$B$7:$B$18,0),1),""),"") | N18: =IFERROR(IF(ISNUMBER($B18),INDEX(Calculations!Z$7:Z$18,MATCH($B18,Calculations!$B$7:$B$18,0),1),""),"") | O18: =IFERROR(IF(ISNUMBER($B18),INDEX(Calculations!AA$7:AA$18,MATCH($B18,Calculations!$B$7:$B$18,0),1),""),"") | P18: =IFERROR(IF(ISNUMBER($B18),INDEX(Calculations!AB$7:AB$18,MATCH($B18,Calculations!$B$7:$B$18,0),1),""),"") | Q18: =IFERROR(IF(Calculations!N18=Status1,Status1,IF(P18-TODAY()<0,"Overdue!",P18-TODAY())),"") | R18: =IFERROR(IF(ISNUMBER($B18),INDEX(Calculations!AG$7:AG$18,MATCH($B18,Calculations!$B$7:$B$18,0),1),""),"") | S18: =IFERROR(IF(ISNUMBER($B18),INDEX(Calculations!L$7:L$18,MATCH($B18,Calculations!$B$7:$B$18,0),1),""),"") | T18: =IF(IF(LEN(E18)=0,"",Calculations!W18=0),"","!") -> #VALUE!

Sheet GanttChart
C2: WBS GANTT CHART EXCEL TEMPLATE
C3: GANTT CHART
D5: SELECTION PANEL | S5: LEGEND
D7: Priority | F7: Hide | I7: Phase | K7: Show | N7: Task | P7: Show | S7: Phase | Z7: Task Days | AG7: Sub-task Days | AN7: Slack Days
D9: Status | F9: Show | I9: Milestone | K9: Show | N9: Sub-task | P9: Show | S9: Task with 0 day | W9: 1 | Z9: =IFERROR(INDEX(Settings!$C$19:$C$21,MATCH(Type2,Settings!$D$19:$D$21,0)),"") -> Milestone | AD9: =IF(LEN(Z9)=0,"",1) -> 1 | AG9: Off days | AN9: Today
J11: {=IF(NETWORKDAYS.INTL(J13,J13,weekendOption,Settings!$G$23:$G$52)=1,"",1)} -> 1 | K11: {=IF(NETWORKDAYS.INTL(K13,K13,weekendOption,Settings!$G$23:$G$52)=1,"",1)} | L11: {=IF(NETWORKDAYS.INTL(L13,L13,weekendOption,Settings!$G$23:$G$52)=1,"",1)} | M11: {=IF(NETWORKDAYS.INTL(M13,M13,weekendOption,Settings!$G$23:$G$52)=1,"",1)} | N11: {=IF(NETWORKDAYS.INTL(N13,N13,weekendOption,Settings!$G$23:$G$52)=1,"",1)} | O11: {=IF(NETWORKDAYS.INTL(O13,O13,weekendOption,Settings!$G$23:$G$52)=1,"",1)} | P11: {=IF(NETWORKDAYS.INTL(P13,P13,weekendOption,Settings!$G$23:$G$52)=1,"",1)} -> 1 | Q11: {=IF(NETWORKDAYS.INTL(Q13,Q13,weekendOption,Settings!$G$23:$G$52)=1,"",1)} -> 1 | ... AR11: {=IF(NETWORKDAYS.INTL(AR13,AR13,weekendOption,Settings!$G$23:$G$52)=1,"",1)} -> 1
B12: ID | C12: Task Name | J12: =IFERROR(INDEX(Calculations!$CL$24:$CL$30,WEEKDAY(J13,2)),"") -> Su | K12: =IFERROR(INDEX(Calculations!$CL$24:$CL$30,WEEKDAY(K13,2)),"") -> Mo | L12: =IFERROR(INDEX(Calculations!$CL$24:$CL$30,WEEKDAY(L13,2)),"") -> Tu | M12: =IFERROR(INDEX(Calculations!$CL$24:$CL$30,WEEKDAY(M13,2)),"") -> We | N12: =IFERROR(INDEX(Calculations!$CL$24:$CL$30,WEEKDAY(N13,2)),"") -> Th | O12: =IFERROR(INDEX(Calculations!$CL$24:$CL$30,WEEKDAY(O13,2)),"") -> Fr | P12: =IFERROR(INDEX(Calculations!$CL$24:$CL$30,WEEKDAY(P13,2)),"") -> Sa | Q12: =IFERROR(INDEX(Calculations!$CL$24:$CL$30,WEEKDAY(Q13,2)),"") -> Su | ... AR12: =IFERROR(INDEX(Calculations!$CL$24:$CL$30,WEEKDAY(AR13,2)),"") -> Sa
J13: =calendarStartDate -> 44934 | K13: =J13+1 -> 44935 | L13: =K13+1 -> 44936 | M13: =L13+1 -> 44937 | N13: =M13+1 -> 44938 | O13: =N13+1 -> 44939 | P13: =O13+1 -> 44940 | Q13: =P13+1 -> 44941 | R13: =Q13+1 -> 44942 | ... AR13: =AQ13+1 -> 44968
B14: =IF(ISNUMBER(INDEX(Calculations!$B$7:$B$19,ROW(Calculations!B7)-ROW(Calculations!$B$6))),INDEX(Calculations!$B$7:$B$19,ROW(Calculations!B7)-ROW(Calculations!$B$6)),"") -> 1 | C14: =INDEX(Calculations!EM$7:EM$18,ROW(B14)-ROW($B$13)) -> Start | H14: =IF($F$9="Show",INDEX(Calculations!EV$7:EV$18,ROW(B14)-ROW($B$13)),"") -> 1 | I14: =INDEX(Calculations!EN$7:EN$18,ROW(C14)-ROW($B$13)) -> M | J14: =IFERROR(IF(AND($I14=Type2,J$13=Calculations!$EO7),-1,IF(AND(J$13>=Calculations!$EO7,J$13<=Calculations!$EP7,Calculations!$EQ7=0),0,IF(AND(J$13>=Calculations!$EO7,J$13<Calculations!$EP7),IF(Calculations!$EN7=Type1,3,1),IF(AND(J$13>=Calculations!$EP7,J$13<Calculations!$ER7),2,"")))),"") | K14: =IFERROR(IF(AND($I14=Type2,K$13=Calculations!$EO7),-1,IF(AND(K$13>=Calculations!$EO7,K$13<=Calculations!$EP7,Calculations!$EQ7=0),0,IF(AND(K$13>=Calculations!$EO7,K$13<Calculations!$EP7),IF(Calculations!$EN7=Type1,3,1),IF(AND(K$13>=Calculations!$EP7,K$13<Calculations!$ER7),2,"")))),"") | L14: =IFERROR(IF(AND($I14=Type2,L$13=Calculations!$EO7),-1,IF(AND(L$13>=Calculations!$EO7,L$13<=Calculations!$EP7,Calculations!$EQ7=0),0,IF(AND(L$13>=Calculations!$EO7,L$13<Calculations!$EP7),IF(Calculations!$EN7=Type1,3,1),IF(AND(L$13>=Calculations!$EP7,L$13<Calculations!$ER7),2,"")))),"") | M14: =IFERROR(IF(AND($I14=Type2,M$13=Calculations!$EO7),-1,IF(AND(M$13>=Calculations!$EO7,M$13<=Calculations!$EP7,Calculations!$EQ7=0),0,IF(AND(M$13>=Calculations!$EO7,M$13<Calculations!$EP7),IF(Calculations!$EN7=Type1,3,1),IF(AND(M$13>=Calculations!$EP7,M$13<Calculations!$ER7),2,"")))),"") | N14: =IFERROR(IF(AND($I14=Type2,N$13=Calculations!$EO7),-1,IF(AND(N$13>=Calculations!$EO7,N$13<=Calculations!$EP7,Calculations!$EQ7=0),0,IF(AND(N$13>=Calculations!$EO7,N$13<Calculations!$EP7),IF(Calculations!$EN7=Type1,3,1),IF(AND(N$13>=Calculations!$EP7,N$13<Calculations!$ER7),2,"")))),"") | O14: =IFERROR(IF(AND($I14=Type2,O$13=Calculations!$EO7),-1,IF(AND(O$13>=Calculations!$EO7,O$13<=Calculations!$EP7,Calculations!$EQ7=0),0,IF(AND(O$13>=Calculations!$EO7,O$13<Calculations!$EP7),IF(Calculations!$EN7=Type1,3,1),IF(AND(O$13>=Calculations!$EP7,O$13<Calculations!$ER7),2,"")))),"") | P14: =IFERROR(IF(AND($I14=Type2,P$13=Calculations!$EO7),-1,IF(AND(P$13>=Calculations!$EO7,P$13<=Calculations!$EP7,Calculations!$EQ7=0),0,IF(AND(P$13>=Calculations!$EO7,P$13<Calculations!$EP7),IF(Calculations!$EN7=Type1,3,1),IF(AND(P$13>=Calculations!$EP7,P$13<Calculations!$ER7),2,"")))),"") | Q14: =IFERROR(IF(AND($I14=Type2,Q$13=Calculations!$EO7),-1,IF(AND(Q$13>=Calculations!$EO7,Q$13<=Calculations!$EP7,Calculations!$EQ7=0),0,IF(AND(Q$13>=Calculations!$EO7,Q$13<Calculations!$EP7),IF(Calculations!$EN7=Type1,3,1),IF(AND(Q$13>=Calculations!$EP7,Q$13<Calculations!$ER7),2,"")))),"") | ... AR14: =IFERROR(IF(AND($I14=Type2,AR$13=Calculations!$EO7),-1,IF(AND(AR$13>=Calculations!$EO7,AR$13<=Calculations!$EP7,Calculations!$EQ7=0),0,IF(AND(AR$13>=Calculations!$EO7,AR$13<Calculations!$EP7),IF(Calculations!$EN7=Type1,3,1),IF(AND(AR$13>=Calculations!$EP7,AR$13<Calculations!$ER7),2,"")))),"")
B15: =IF(ISNUMBER(INDEX(Calculations!$B$7:$B$19,ROW(Calculations!B8)-ROW(Calculations!$B$6))),INDEX(Calculations!$B$7:$B$19,ROW(Calculations!B8)-ROW(Calculations!$B$6)),"") -> 2 | C15: =INDEX(Calculations!EM$7:EM$18,ROW(B15)-ROW($B$13)) -> Phase 1: Planning | H15: =IF($F$9="Show",INDEX(Calculations!EV$7:EV$18,ROW(B15)-ROW($B$13)),"") -> 1 | I15: =INDEX(Calculations!EN$7:EN$18,ROW(C15)-ROW($B$13)) -> P | J15: =IFERROR(IF(AND($I15=Type2,J$13=Calculations!$EO8),-1,IF(AND(J$13>=Calculations!$EO8,J$13<=Calculations!$EP8,Calculations!$EQ8=0),0,IF(AND(J$13>=Calculations!$EO8,J$13<Calculations!$EP8),IF(Calculations!$EN8=Type1,3,1),IF(AND(J$13>=Calculations!$EP8,J$13<Calculations!$ER8),2,"")))),"") -> 3 | K15: =IFERROR(IF(AND($I15=Type2,K$13=Calculations!$EO8),-1,IF(AND(K$13>=Calculations!$EO8,K$13<=Calculations!$EP8,Calculations!$EQ8=0),0,IF(AND(K$13>=Calculations!$EO8,K$13<Calculations!$EP8),IF(Calculations!$EN8=Type1,3,1),IF(AND(K$13>=Calculations!$EP8,K$13<Calculations!$ER8),2,"")))),"") -> 3 | L15: =IFERROR(IF(AND($I15=Type2,L$13=Calculations!$EO8),-1,IF(AND(L$13>=Calculations!$EO8,L$13<=Calculations!$EP8,Calculations!$EQ8=0),0,IF(AND(L$13>=Calculations!$EO8,L$13<Calculations!$EP8),IF(Calculations!$EN8=Type1,3,1),IF(AND(L$13>=Calculations!$EP8,L$13<Calculations!$ER8),2,"")))),"") -> 3 | M15: =IFERROR(IF(AND($I15=Type2,M$13=Calculations!$EO8),-1,IF(AND(M$13>=Calculations!$EO8,M$13<=Calculations!$EP8,Calculations!$EQ8=0),0,IF(AND(M$13>=Calculations!$EO8,M$13<Calculations!$EP8),IF(Calculations!$EN8=Type1,3,1),IF(AND(M$13>=Calculations!$EP8,M$13<Calculations!$ER8),2,"")))),"") -> 3 | N15: =IFERROR(IF(AND($I15=Type2,N$13=Calculations!$EO8),-1,IF(AND(N$13>=Calculations!$EO8,N$13<=Calculations!$EP8,Calculations!$EQ8=0),0,IF(AND(N$13>=Calculations!$EO8,N$13<Calculations!$EP8),IF(Calculations!$EN8=Type1,3,1),IF(AND(N$13>=Calculations!$EP8,N$13<Calculations!$ER8),2,"")))),"") -> 3 | O15: =IFERROR(IF(AND($I15=Type2,O$13=Calculations!$EO8),-1,IF(AND(O$13>=Calculations!$EO8,O$13<=Calculations!$EP8,Calculations!$EQ8=0),0,IF(AND(O$13>=Calculations!$EO8,O$13<Calculations!$EP8),IF(Calculations!$EN8=Type1,3,1),IF(AND(O$13>=Calculations!$EP8,O$13<Calculations!$ER8),2,"")))),"") -> 3 | P15: =IFERROR(IF(AND($I15=Type2,P$13=Calculations!$EO8),-1,IF(AND(P$13>=Calculations!$EO8,P$13<=Calculations!$EP8,Calculations!$EQ8=0),0,IF(AND(P$13>=Calculations!$EO8,P$13<Calculations!$EP8),IF(Calculations!$EN8=Type1,3,1),IF(AND(P$13>=Calculations!$EP8,P$13<Calculations!$ER8),2,"")))),"") -> 3 | Q15: =IFERROR(IF(AND($I15=Type2,Q$13=Calculations!$EO8),-1,IF(AND(Q$13>=Calculations!$EO8,Q$13<=Calculations!$EP8,Calculations!$EQ8=0),0,IF(AND(Q$13>=Calculations!$EO8,Q$13<Calculations!$EP8),IF(Calculations!$EN8=Type1,3,1),IF(AND(Q$13>=Calculations!$EP8,Q$13<Calculations!$ER8),2,"")))),"") -> 3 | ... AR15: =IFERROR(IF(AND($I15=Type2,AR$13=Calculations!$EO8),-1,IF(AND(AR$13>=Calculations!$EO8,AR$13<=Calculations!$EP8,Calculations!$EQ8=0),0,IF(AND(AR$13>=Calculations!$EO8,AR$13<Calculations!$EP8),IF(Calculations!$EN8=Type1,3,1),IF(AND(AR$13>=Calculations!$EP8,AR$13<Calculations!$ER8),2,"")))),"")
B16: =IF(ISNUMBER(INDEX(Calculations!$B$7:$B$19,ROW(Calculations!B9)-ROW(Calculations!$B$6))),INDEX(Calculations!$B$7:$B$19,ROW(Calculations!B9)-ROW(Calculations!$B$6)),"") -> 3 | C16: =INDEX(Calculations!EM$7:EM$18,ROW(B16)-ROW($B$13)) -> Define project scope and objectives | H16: =IF($F$9="Show",INDEX(Calculations!EV$7:EV$18,ROW(B16)-ROW($B$13)),"") -> 1 | I16: =INDEX(Calculations!EN$7:EN$18,ROW(C16)-ROW($B$13)) -> T | J16: =IFERROR(IF(AND($I16=Type2,J$13=Calculations!$EO9),-1,IF(AND(J$13>=Calculations!$EO9,J$13<=Calculations!$EP9,Calculations!$EQ9=0),0,IF(AND(J$13>=Calculations!$EO9,J$13<Calculations!$EP9),IF(Calculations!$EN9=Type1,3,1),IF(AND(J$13>=Calculations!$EP9,J$13<Calculations!$ER9),2,"")))),"") -> 1 | K16: =IFERROR(IF(AND($I16=Type2,K$13=Calculations!$EO9),-1,IF(AND(K$13>=Calculations!$EO9,K$13<=Calculations!$EP9,Calculations!$EQ9=0),0,IF(AND(K$13>=Calculations!$EO9,K$13<Calculations!$EP9),IF(Calculations!$EN9=Type1,3,1),IF(AND(K$13>=Calculations!$EP9,K$13<Calculations!$ER9),2,"")))),"") -> 2 | L16: =IFERROR(IF(AND($I16=Type2,L$13=Calculations!$EO9),-1,IF(AND(L$13>=Calculations!$EO9,L$13<=Calculations!$EP9,Calculations!$EQ9=0),0,IF(AND(L$13>=Calculations!$EO9,L$13<Calculations!$EP9),IF(Calculations!$EN9=Type1,3,1),IF(AND(L$13>=Calculations!$EP9,L$13<Calculations!$ER9),2,"")))),"") -> 2 | M16: =IFERROR(IF(AND($I16=Type2,M$13=Calculations!$EO9),-1,IF(AND(M$13>=Calculations!$EO9,M$13<=Calculations!$EP9,Calculations!$EQ9=0),0,IF(AND(M$13>=Calculations!$EO9,M$13<Calculations!$EP9),IF(Calculations!$EN9=Type1,3,1),IF(AND(M$13>=Calculations!$EP9,M$13<Calculations!$ER9),2,"")))),"") -> 2 | N16: =IFERROR(IF(AND($I16=Type2,N$13=Calculations!$EO9),-1,IF(AND(N$13>=Calculations!$EO9,N$13<=Calculations!$EP9,Calculations!$EQ9=0),0,IF(AND(N$13>=Calculations!$EO9,N$13<Calculations!$EP9),IF(Calculations!$EN9=Type1,3,1),IF(AND(N$13>=Calculations!$EP9,N$13<Calculations!$ER9),2,"")))),"") -> 2 | O16: =IFERROR(IF(AND($I16=Type2,O$13=Calculations!$EO9),-1,IF(AND(O$13>=Calculations!$EO9,O$13<=Calculations!$EP9,Calculations!$EQ9=0),0,IF(AND(O$13>=Calculations!$EO9,O$13<Calculations!$EP9),IF(Calculations!$EN9=Type1,3,1),IF(AND(O$13>=Calculations!$EP9,O$13<Calculations!$ER9),2,"")))),"") | P16: =IFERROR(IF(AND($I16=Type2,P$13=Calculations!$EO9),-1,IF(AND(P$13>=Calculations!$EO9,P$13<=Calculations!$EP9,Calculations!$EQ9=0),0,IF(AND(P$13>=Calculations!$EO9,P$13<Calculations!$EP9),IF(Calculations!$EN9=Type1,3,1),IF(AND(P$13>=Calculations!$EP9,P$13<Calculations!$ER9),2,"")))),"") | Q16: =IFERROR(IF(AND($I16=Type2,Q$13=Calculations!$EO9),-1,IF(AND(Q$13>=Calculations!$EO9,Q$13<=Calculations!$EP9,Calculations!$EQ9=0),0,IF(AND(Q$13>=Calculations!$EO9,Q$13<Calculations!$EP9),IF(Calculations!$EN9=Type1,3,1),IF(AND(Q$13>=Calculations!$EP9,Q$13<Calculations!$ER9),2,"")))),"") | ... AR16: =IFERROR(IF(AND($I16=Type2,AR$13=Calculations!$EO9),-1,IF(AND(AR$13>=Calculations!$EO9,AR$13<=Calculations!$EP9,Calculations!$EQ9=0),0,IF(AND(AR$13>=Calculations!$EO9,AR$13<Calculations!$EP9),IF(Calculations!$EN9=Type1,3,1),IF(AND(AR$13>=Calculations!$EP9,AR$13<Calculations!$ER9),2,"")))),"")
B17: =IF(ISNUMBER(INDEX(Calculations!$B$7:$B$19,ROW(Calculations!B10)-ROW(Calculations!$B$6))),INDEX(Calculations!$B$7:$B$19,ROW(Calculations!B10)-ROW(Calculations!$B$6)),"") -> 4 | C17: =INDEX(Calculations!EM$7:EM$18,ROW(B17)-ROW($B$13)) -> Identify stakeholders and gather requirements | H17: =IF($F$9="Show",INDEX(Calculations!EV$7:EV$18,ROW(B17)-ROW($B$13)),"") -> 1 | I17: =INDEX(Calculations!EN$7:EN$18,ROW(C17)-ROW($B$13)) -> S | J17: =IFERROR(IF(AND($I17=Type2,J$13>=Calculations!$EO10,J$13<=Calculations!$ER10),-1,IF(AND(J$13>=Calculations!$EO10,J$13<=Calculations!$EP10,Calculations!$EQ10=0),0,IF(AND(J$13>=Calculations!$EO10,J$13<Calculations!$EP10),IF(Calculations!$EN10=Type1,3,1),IF(AND(J$13>=Calculations!$EP10,J$13<Calculations!$ER10),2,"")))),"") -> 1 | K17: =IFERROR(IF(AND($I17=Type2,K$13>=Calculations!$EO10,K$13<=Calculations!$ER10),-1,IF(AND(K$13>=Calculations!$EO10,K$13<=Calculations!$EP10,Calculations!$EQ10=0),0,IF(AND(K$13>=Calculations!$EO10,K$13<Calculations!$EP10),IF(Calculations!$EN10=Type1,3,1),IF(AND(K$13>=Calculations!$EP10,K$13<Calculations!$ER10),2,"")))),"") -> 1 | L17: =IFERROR(IF(AND($I17=Type2,L$13>=Calculations!$EO10,L$13<=Calculations!$ER10),-1,IF(AND(L$13>=Calculations!$EO10,L$13<=Calculations!$EP10,Calculations!$EQ10=0),0,IF(AND(L$13>=Calculations!$EO10,L$13<Calculations!$EP10),IF(Calculations!$EN10=Type1,3,1),IF(AND(L$13>=Calculations!$EP10,L$13<Calculations!$ER10),2,"")))),"") -> 1 | M17: =IFERROR(IF(AND($I17=Type2,M$13>=Calculations!$EO10,M$13<=Calculations!$ER10),-1,IF(AND(M$13>=Calculations!$EO10,M$13<=Calculations!$EP10,Calculations!$EQ10=0),0,IF(AND(M$13>=Calculations!$EO10,M$13<Calculations!$EP10),IF(Calculations!$EN10=Type1,3,1),IF(AND(M$13>=Calculations!$EP10,M$13<Calculations!$ER10),2,"")))),"") -> 1 | N17: =IFERROR(IF(AND($I17=Type2,N$13>=Calculations!$EO10,N$13<=Calculations!$ER10),-1,IF(AND(N$13>=Calculations!$EO10,N$13<=Calculations!$EP10,Calculations!$EQ10=0),0,IF(AND(N$13>=Calculations!$EO10,N$13<Calculations!$EP10),IF(Calculations!$EN10=Type1,3,1),IF(AND(N$13>=Calculations!$EP10,N$13<Calculations!$ER10),2,"")))),"") -> 1 | O17: =IFERROR(IF(AND($I17=Type2,O$13>=Calculations!$EO10,O$13<=Calculations!$ER10),-1,IF(AND(O$13>=Calculations!$EO10,O$13<=Calculations!$EP10,Calculations!$EQ10=0),0,IF(AND(O$13>=Calculations!$EO10,O$13<Calculations!$EP10),IF(Calculations!$EN10=Type1,3,1),IF(AND(O$13>=Calculations!$EP10,O$13<Calculations!$ER10),2,"")))),"") | P17: =IFERROR(IF(AND($I17=Type2,P$13>=Calculations!$EO10,P$13<=Calculations!$ER10),-1,IF(AND(P$13>=Calculations!$EO10,P$13<=Calculations!$EP10,Calculations!$EQ10=0),0,IF(AND(P$13>=Calculations!$EO10,P$13<Calculations!$EP10),IF(Calculations!$EN10=Type1,3,1),IF(AND(P$13>=Calculations!$EP10,P$13<Calculations!$ER10),2,"")))),"") | Q17: =IFERROR(IF(AND($I17=Type2,Q$13>=Calculations!$EO10,Q$13<=Calculations!$ER10),-1,IF(AND(Q$13>=Calculations!$EO10,Q$13<=Calculations!$EP10,Calculations!$EQ10=0),0,IF(AND(Q$13>=Calculations!$EO10,Q$13<Calculations!$EP10),IF(Calculations!$EN10=Type1,3,1),IF(AND(Q$13>=Calculations!$EP10,Q$13<Calculations!$ER10),2,"")))),"") | ... AR17: =IFERROR(IF(AND($I17=Type2,AR$13>=Calculations!$EO10,AR$13<=Calculations!$ER10),-1,IF(AND(AR$13>=Calculations!$EO10,AR$13<=Calculations!$EP10,Calculations!$EQ10=0),0,IF(AND(AR$13>=Calculations!$EO10,AR$13<Calculations!$EP10),IF(Calculations!$EN10=Type1,3,1),IF(AND(AR$13>=Calculations!$EP10,AR$13<Calculations!$ER10),2,"")))),"")
B18: =IF(ISNUMBER(INDEX(Calculations!$B$7:$B$19,ROW(Calculations!B11)-ROW(Calculations!$B$6))),INDEX(Calculations!$B$7:$B$19,ROW(Calculations!B11)-ROW(Calculations!$B$6)),"") -> 5 | C18: =INDEX(Calculations!EM$7:EM$18,ROW(B18)-ROW($B$13)) -> Develop project charter and plan | H18: =IF($F$9="Show",INDEX(Calculations!EV$7:EV$18,ROW(B18)-ROW($B$13)),"") -> 1 | I18: =INDEX(Calculations!EN$7:EN$18,ROW(C18)-ROW($B$13)) -> T | J18: =IFERROR(IF(AND($I18=Type2,J$13>=Calculations!$EO11,J$13<=Calculations!$ER11),-1,IF(AND(J$13>=Calculations!$EO11,J$13<=Calculations!$EP11,Calculations!$EQ11=0),0,IF(AND(J$13>=Calculations!$EO11,J$13<Calculations!$EP11),IF(Calculations!$EN11=Type1,3,1),IF(AND(J$13>=Calculations!$EP11,J$13<Calculations!$ER11),2,"")))),"") | K18: =IFERROR(IF(AND($I18=Type2,K$13>=Calculations!$EO11,K$13<=Calculations!$ER11),-1,IF(AND(K$13>=Calculations!$EO11,K$13<=Calculations!$EP11,Calculations!$EQ11=0),0,IF(AND(K$13>=Calculations!$EO11,K$13<Calculations!$EP11),IF(Calculations!$EN11=Type1,3,1),IF(AND(K$13>=Calculations!$EP11,K$13<Calculations!$ER11),2,"")))),"") | L18: =IFERROR(IF(AND($I18=Type2,L$13>=Calculations!$EO11,L$13<=Calculations!$ER11),-1,IF(AND(L$13>=Calculations!$EO11,L$13<=Calculations!$EP11,Calculations!$EQ11=0),0,IF(AND(L$13>=Calculations!$EO11,L$13<Calculations!$EP11),IF(Calculations!$EN11=Type1,3,1),IF(AND(L$13>=Calculations!$EP11,L$13<Calculations!$ER11),2,"")))),"") | M18: =IFERROR(IF(AND($I18=Type2,M$13>=Calculations!$EO11,M$13<=Calculations!$ER11),-1,IF(AND(M$13>=Calculations!$EO11,M$13<=Calculations!$EP11,Calculations!$EQ11=0),0,IF(AND(M$13>=Calculations!$EO11,M$13<Calculations!$EP11),IF(Calculations!$EN11=Type1,3,1),IF(AND(M$13>=Calculations!$EP11,M$13<Calculations!$ER11),2,"")))),"") | N18: =IFERROR(IF(AND($I18=Type2,N$13>=Calculations!$EO11,N$13<=Calculations!$ER11),-1,IF(AND(N$13>=Calculations!$EO11,N$13<=Calculations!$EP11,Calculations!$EQ11=0),0,IF(AND(N$13>=Calculations!$EO11,N$13<Calculations!$EP11),IF(Calculations!$EN11=Type1,3,1),IF(AND(N$13>=Calculations!$EP11,N$13<Calculations!$ER11),2,"")))),"") | O18: =IFERROR(IF(AND($I18=Type2,O$13>=Calculations!$EO11,O$13<=Calculations!$ER11),-1,IF(AND(O$13>=Calculations!$EO11,O$13<=Calculations!$EP11,Calculations!$EQ11=0),0,IF(AND(O$13>=Calculations!$EO11,O$13<Calculations!$EP11),IF(Calculations!$EN11=Type1,3,1),IF(AND(O$13>=Calculations!$EP11,O$13<Calculations!$ER11),2,"")))),"") -> 1 | P18: =IFERROR(IF(AND($I18=Type2,P$13>=Calculations!$EO11,P$13<=Calculations!$ER11),-1,IF(AND(P$13>=Calculations!$EO11,P$13<=Calculations!$EP11,Calculations!$EQ11=0),0,IF(AND(P$13>=Calculations!$EO11,P$13<Calculations!$EP11),IF(Calculations!$EN11=Type1,3,1),IF(AND(P$13>=Calculations!$EP11,P$13<Calculations!$ER11),2,"")))),"") -> 1 | Q18: =IFERROR(IF(AND($I18=Type2,Q$13>=Calculations!$EO11,Q$13<=Calculations!$ER11),-1,IF(AND(Q$13>=Calculations!$EO11,Q$13<=Calculations!$EP11,Calculations!$EQ11=0),0,IF(AND(Q$13>=Calculations!$EO11,Q$13<Calculations!$EP11),IF(Calculations!$EN11=Type1,3,1),IF(AND(Q$13>=Calculations!$EP11,Q$13<Calculations!$ER11),2,"")))),"") -> 1 | ... AR18: =IFERROR(IF(AND($I18=Type2,AR$13>=Calculations!$EO11,AR$13<=Calculations!$ER11),-1,IF(AND(AR$13>=Calculations!$EO11,AR$13<=Calculations!$EP11,Calculations!$EQ11=0),0,IF(AND(AR$13>=Calculations!$EO11,AR$13<Calculations!$EP11),IF(Calculations!$EN11=Type1,3,1),IF(AND(AR$13>=Calculations!$EP11,AR$13<Calculations!$ER11),2,"")))),"")
B19: =IF(ISNUMBER(INDEX(Calculations!$B$7:$B$19,ROW(Calculations!B12)-ROW(Calculations!$B$6))),INDEX(Calculations!$B$7:$B$19,ROW(Calculations!B12)-ROW(Calculations!$B$6)),"") -> 6 | C19: =INDEX(Calculations!EM$7:EM$18,ROW(B19)-ROW($B$13)) -> Secure funding and resources | H19: =IF($F$9="Show",INDEX(Calculations!EV$7:EV$18,ROW(B19)-ROW($B$13)),"") -> 1 | I19: =INDEX(Calculations!EN$7:EN$18,ROW(C19)-ROW($B$13)) -> T | J19: =IFERROR(IF(AND($I19=Type2,J$13>=Calculations!$EO12,J$13<=Calculations!$ER12),-1,IF(AND(J$13>=Calculations!$EO12,J$13<=Calculations!$EP12,Calculations!$EQ12=0),0,IF(AND(J$13>=Calculations!$EO12,J$13<Calculations!$EP12),IF(Calculations!$EN12=Type1,3,1),IF(AND(J$13>=Calculations!$EP12,J$13<Calculations!$ER12),2,"")))),"") | K19: =IFERROR(IF(AND($I19=Type2,K$13>=Calculations!$EO12,K$13<=Calculations!$ER12),-1,IF(AND(K$13>=Calculations!$EO12,K$13<=Calculations!$EP12,Calculations!$EQ12=0),0,IF(AND(K$13>=Calculations!$EO12,K$13<Calculations!$EP12),IF(Calculations!$EN12=Type1,3,1),IF(AND(K$13>=Calculations!$EP12,K$13<Calculations!$ER12),2,"")))),"") | L19: =IFERROR(IF(AND($I19=Type2,L$13>=Calculations!$EO12,L$13<=Calculations!$ER12),-1,IF(AND(L$13>=Calculations!$EO12,L$13<=Calculations!$EP12,Calculations!$EQ12=0),0,IF(AND(L$13>=Calculations!$EO12,L$13<Calculations!$EP12),IF(Calculations!$EN12=Type1,3,1),IF(AND(L$13>=Calculations!$EP12,L$13<Calculations!$ER12),2,"")))),"") | M19: =IFERROR(IF(AND($I19=Type2,M$13>=Calculations!$EO12,M$13<=Calculations!$ER12),-1,IF(AND(M$13>=Calculations!$EO12,M$13<=Calculations!$EP12,Calculations!$EQ12=0),0,IF(AND(M$13>=Calculations!$EO12,M$13<Calculations!$EP12),IF(Calculations!$EN12=Type1,3,1),IF(AND(M$13>=Calculations!$EP12,M$13<Calculations!$ER12),2,"")))),"") | N19: =IFERROR(IF(AND($I19=Type2,N$13>=Calculations!$EO12,N$13<=Calculations!$ER12),-1,IF(AND(N$13>=Calculations!$EO12,N$13<=Calculations!$EP12,Calculations!$EQ12=0),0,IF(AND(N$13>=Calculations!$EO12,N$13<Calculations!$EP12),IF(Calculations!$EN12=Type1,3,1),IF(AND(N$13>=Calculations!$EP12,N$13<Calculations!$ER12),2,"")))),"") | O19: =IFERROR(IF(AND($I19=Type2,O$13>=Calculations!$EO12,O$13<=Calculations!$ER12),-1,IF(AND(O$13>=Calculations!$EO12,O$13<=Calculations!$EP12,Calculations!$EQ12=0),0,IF(AND(O$13>=Calculations!$EO12,O$13<Calculations!$EP12),IF(Calculations!$EN12=Type1,3,1),IF(AND(O$13>=Calculations!$EP12,O$13<Calculations!$ER12),2,"")))),"") -> 1 | P19: =IFERROR(IF(AND($I19=Type2,P$13>=Calculations!$EO12,P$13<=Calculations!$ER12),-1,IF(AND(P$13>=Calculations!$EO12,P$13<=Calculations!$EP12,Calculations!$EQ12=0),0,IF(AND(P$13>=Calculations!$EO12,P$13<Calculations!$EP12),IF(Calculations!$EN12=Type1,3,1),IF(AND(P$13>=Calculations!$EP12,P$13<Calculations!$ER12),2,"")))),"") -> 1 | Q19: =IFERROR(IF(AND($I19=Type2,Q$13>=Calculations!$EO12,Q$13<=Calculations!$ER12),-1,IF(AND(Q$13>=Calculations!$EO12,Q$13<=Calculations!$EP12,Calculations!$EQ12=0),0,IF(AND(Q$13>=Calculations!$EO12,Q$13<Calculations!$EP12),IF(Calculations!$EN12=Type1,3,1),IF(AND(Q$13>=Calculations!$EP12,Q$13<Calculations!$ER12),2,"")))),"") -> 1 | ... AR19: =IFERROR(IF(AND($I19=Type2,AR$13>=Calculations!$EO12,AR$13<=Calculations!$ER12),-1,IF(AND(AR$13>=Calculations!$EO12,AR$13<=Calculations!$EP12,Calculations!$EQ12=0),0,IF(AND(AR$13>=Calculations!$EO12,AR$13<Calculations!$EP12),IF(Calculations!$EN12=Type1,3,1),IF(AND(AR$13>=Calculations!$EP12,AR$13<Calculations!$ER12),2,"")))),"")
B20: =IF(ISNUMBER(INDEX(Calculations!$B$7:$B$19,ROW(Calculations!B13)-ROW(Calculations!$B$6))),INDEX(Calculations!$B$7:$B$19,ROW(Calculations!B13)-ROW(Calculations!$B$6)),"") -> 7 | C20: =INDEX(Calculations!EM$7:EM$18,ROW(B20)-ROW($B$13)) -> Phase 2: Design | H20: =IF($F$9="Show",INDEX(Calculations!EV$7:EV$18,ROW(B20)-ROW($B$13)),"") -> 2 | I20: =INDEX(Calculations!EN$7:EN$18,ROW(C20)-ROW($B$13)) -> P | J20: =IFERROR(IF(AND($I20=Type2,J$13>=Calculations!$EO13,J$13<=Calculations!$ER13),-1,IF(AND(J$13>=Calculations!$EO13,J$13<=Calculations!$EP13,Calculations!$EQ13=0),0,IF(AND(J$13>=Calculations!$EO13,J$13<Calculations!$EP13),IF(Calculations!$EN13=Type1,3,1),IF(AND(J$13>=Calculations!$EP13,J$13<Calculations!$ER13),2,"")))),"") | K20: =IFERROR(IF(AND($I20=Type2,K$13>=Calculations!$EO13,K$13<=Calculations!$ER13),-1,IF(AND(K$13>=Calculations!$EO13,K$13<=Calculations!$EP13,Calculations!$EQ13=0),0,IF(AND(K$13>=Calculations!$EO13,K$13<Calculations!$EP13),IF(Calculations!$EN13=Type1,3,1),IF(AND(K$13>=Calculations!$EP13,K$13<Calculations!$ER13),2,"")))),"") | L20: =IFERROR(IF(AND($I20=Type2,L$13>=Calculations!$EO13,L$13<=Calculations!$ER13),-1,IF(AND(L$13>=Calculations!$EO13,L$13<=Calculations!$EP13,Calculations!$EQ13=0),0,IF(AND(L$13>=Calculations!$EO13,L$13<Calculations!$EP13),IF(Calculations!$EN13=Type1,3,1),IF(AND(L$13>=Calculations!$EP13,L$13<Calculations!$ER13),2,"")))),"") | M20: =IFERROR(IF(AND($I20=Type2,M$13>=Calculations!$EO13,M$13<=Calculations!$ER13),-1,IF(AND(M$13>=Calculations!$EO13,M$13<=Calculations!$EP13,Calculations!$EQ13=0),0,IF(AND(M$13>=Calculations!$EO13,M$13<Calculations!$EP13),IF(Calculations!$EN13=Type1,3,1),IF(AND(M$13>=Calculations!$EP13,M$13<Calculations!$ER13),2,"")))),"") | N20: =IFERROR(IF(AND($I20=Type2,N$13>=Calculations!$EO13,N$13<=Calculations!$ER13),-1,IF(AND(N$13>=Calculations!$EO13,N$13<=Calculations!$EP13,Calculations!$EQ13=0),0,IF(AND(N$13>=Calculations!$EO13,N$13<Calculations!$EP13),IF(Calculations!$EN13=Type1,3,1),IF(AND(N$13>=Calculations!$EP13,N$13<Calculations!$ER13),2,"")))),"") | O20: =IFERROR(IF(AND($I20=Type2,O$13>=Calculations!$EO13,O$13<=Calculations!$ER13),-1,IF(AND(O$13>=Calculations!$EO13,O$13<=Calculations!$EP13,Calculations!$EQ13=0),0,IF(AND(O$13>=Calculations!$EO13,O$13<Calculations!$EP13),IF(Calculations!$EN13=Type1,3,1),IF(AND(O$13>=Calculations!$EP13,O$13<Calculations!$ER13),2,"")))),"") | P20: =IFERROR(IF(AND($I20=Type2,P$13>=Calculations!$EO13,P$13<=Calculations!$ER13),-1,IF(AND(P$13>=Calculations!$EO13,P$13<=Calculations!$EP13,Calculations!$EQ13=0),0,IF(AND(P$13>=Calculations!$EO13,P$13<Calculations!$EP13),IF(Calculations!$EN13=Type1,3,1),IF(AND(P$13>=Calculations!$EP13,P$13<Calculations!$ER13),2,"")))),"") | Q20: =IFERROR(IF(AND($I20=Type2,Q$13>=Calculations!$EO13,Q$13<=Calculations!$ER13),-1,IF(AND(Q$13>=Calculations!$EO13,Q$13<=Calculations!$EP13,Calculations!$EQ13=0),0,IF(AND(Q$13>=Calculations!$EO13,Q$13<Calculations!$EP13),IF(Calculations!$EN13=Type1,3,1),IF(AND(Q$13>=Calculations!$EP13,Q$13<Calculations!$ER13),2,"")))),"") | ... AR20: =IFERROR(IF(AND($I20=Type2,AR$13>=Calculations!$EO13,AR$13<=Calculations!$ER13),-1,IF(AND(AR$13>=Calculations!$EO13,AR$13<=Calculations!$EP13,Calculations!$EQ13=0),0,IF(AND(AR$13>=Calculations!$EO13,AR$13<Calculations!$EP13),IF(Calculations!$EN13=Type1,3,1),IF(AND(AR$13>=Calculations!$EP13,AR$13<Calculations!$ER13),2,"")))),"") -> 3
B21: =IF(ISNUMBER(INDEX(Calculations!$B$7:$B$19,ROW(Calculations!B14)-ROW(Calculations!$B$6))),INDEX(Calculations!$B$7:$B$19,ROW(Calculations!B14)-ROW(Calculations!$B$6)),"") -> 8 | C21: =INDEX(Calculations!EM$7:EM$18,ROW(B21)-ROW($B$13)) -> Create detailed design specifications | H21: =IF($F$9="Show",INDEX(Calculations!EV$7:EV$18,ROW(B21)-ROW($B$13)),"") -> 2 | I21: =INDEX(Calculations!EN$7:EN$18,ROW(C21)-ROW($B$13)) -> T | J21: =IFERROR(IF(AND($I21=Type2,J$13>=Calculations!$EO14,J$13<=Calculations!$ER14),-1,IF(AND(J$13>=Calculations!$EO14,J$13<=Calculations!$EP14,Calculations!$EQ14=0),0,IF(AND(J$13>=Calculations!$EO14,J$13<Calculations!$EP14),IF(Calculations!$EN14=Type1,3,1),IF(AND(J$13>=Calculations!$EP14,J$13<Calculations!$ER14),2,"")))),"") | K21: =IFERROR(IF(AND($I21=Type2,K$13>=Calculations!$EO14,K$13<=Calculations!$ER14),-1,IF(AND(K$13>=Calculations!$EO14,K$13<=Calculations!$EP14,Calculations!$EQ14=0),0,IF(AND(K$13>=Calculations!$EO14,K$13<Calculations!$EP14),IF(Calculations!$EN14=Type1,3,1),IF(AND(K$13>=Calculations!$EP14,K$13<Calculations!$ER14),2,"")))),"") | L21: =IFERROR(IF(AND($I21=Type2,L$13>=Calculations!$EO14,L$13<=Calculations!$ER14),-1,IF(AND(L$13>=Calculations!$EO14,L$13<=Calculations!$EP14,Calculations!$EQ14=0),0,IF(AND(L$13>=Calculations!$EO14,L$13<Calculations!$EP14),IF(Calculations!$EN14=Type1,3,1),IF(AND(L$13>=Calculations!$EP14,L$13<Calculations!$ER14),2,"")))),"") | M21: =IFERROR(IF(AND($I21=Type2,M$13>=Calculations!$EO14,M$13<=Calculations!$ER14),-1,IF(AND(M$13>=Calculations!$EO14,M$13<=Calculations!$EP14,Calculations!$EQ14=0),0,IF(AND(M$13>=Calculations!$EO14,M$13<Calculations!$EP14),IF(Calculations!$EN14=Type1,3,1),IF(AND(M$13>=Calculations!$EP14,M$13<Calculations!$ER14),2,"")))),"") | N21: =IFERROR(IF(AND($I21=Type2,N$13>=Calculations!$EO14,N$13<=Calculations!$ER14),-1,IF(AND(N$13>=Calculations!$EO14,N$13<=Calculations!$EP14,Calculations!$EQ14=0),0,IF(AND(N$13>=Calculations!$EO14,N$13<Calculations!$EP14),IF(Calculations!$EN14=Type1,3,1),IF(AND(N$13>=Calculations!$EP14,N$13<Calculations!$ER14),2,"")))),"") | O21: =IFERROR(IF(AND($I21=Type2,O$13>=Calculations!$EO14,O$13<=Calculations!$ER14),-1,IF(AND(O$13>=Calculations!$EO14,O$13<=Calculations!$EP14,Calculations!$EQ14=0),0,IF(AND(O$13>=Calculations!$EO14,O$13<Calculations!$EP14),IF(Calculations!$EN14=Type1,3,1),IF(AND(O$13>=Calculations!$EP14,O$13<Calculations!$ER14),2,"")))),"") | P21: =IFERROR(IF(AND($I21=Type2,P$13>=Calculations!$EO14,P$13<=Calculations!$ER14),-1,IF(AND(P$13>=Calculations!$EO14,P$13<=Calculations!$EP14,Calculations!$EQ14=0),0,IF(AND(P$13>=Calculations!$EO14,P$13<Calculations!$EP14),IF(Calculations!$EN14=Type1,3,1),IF(AND(P$13>=Calculations!$EP14,P$13<Calculations!$ER14),2,"")))),"") | Q21: =IFERROR(IF(AND($I21=Type2,Q$13>=Calculations!$EO14,Q$13<=Calculations!$ER14),-1,IF(AND(Q$13>=Calculations!$EO14,Q$13<=Calculations!$EP14,Calculations!$EQ14=0),0,IF(AND(Q$13>=Calculations!$EO14,Q$13<Calculations!$EP14),IF(Calculations!$EN14=Type1,3,1),IF(AND(Q$13>=Calculations!$EP14,Q$13<Calculations!$ER14),2,"")))),"") | ... AR21: =IFERROR(IF(AND($I21=Type2,AR$13>=Calculations!$EO14,AR$13<=Calculations!$ER14),-1,IF(AND(AR$13>=Calculations!$EO14,AR$13<=Calculations!$EP14,Calculations!$EQ14=0),0,IF(AND(AR$13>=Calculations!$EO14,AR$13<Calculations!$EP14),IF(Calculations!$EN14=Type1,3,1),IF(AND(AR$13>=Calculations!$EP14,AR$13<Calculations!$ER14),2,"")))),"") -> 1
B22: =IF(ISNUMBER(INDEX(Calculations!$B$7:$B$19,ROW(Calculations!B15)-ROW(Calculations!$B$6))),INDEX(Calculations!$B$7:$B$19,ROW(Calculations!B15)-ROW(Calculations!$B$6)),"") -> 9 | C22: =INDEX(Calculations!EM$7:EM$18,ROW(B22)-ROW($B$13)) -> Review and approve design | H22: =IF($F$9="Show",INDEX(Calculations!EV$7:EV$18,ROW(B22)-ROW($B$13)),"") -> 2 | I22: =INDEX(Calculations!EN$7:EN$18,ROW(C22)-ROW($B$13)) -> S | J22: =IFERROR(IF(AND($I22=Type2,J$13>=Calculations!$EO15,J$13<=Calculations!$ER15),-1,IF(AND(J$13>=Calculations!$EO15,J$13<=Calculations!$EP15,Calculations!$EQ15=0),0,IF(AND(J$13>=Calculations!$EO15,J$13<Calculations!$EP15),IF(Calculations!$EN15=Type1,3,1),IF(AND(J$13>=Calculations!$EP15,J$13<Calculations!$ER15),2,"")))),"") | K22: =IFERROR(IF(AND($I22=Type2,K$13>=Calculations!$EO15,K$13<=Calculations!$ER15),-1,IF(AND(K$13>=Calculations!$EO15,K$13<=Calculations!$EP15,Calculations!$EQ15=0),0,IF(AND(K$13>=Calculations!$EO15,K$13<Calculations!$EP15),IF(Calculations!$EN15=Type1,3,1),IF(AND(K$13>=Calculations!$EP15,K$13<Calculations!$ER15),2,"")))),"") | L22: =IFERROR(IF(AND($I22=Type2,L$13>=Calculations!$EO15,L$13<=Calculations!$ER15),-1,IF(AND(L$13>=Calculations!$EO15,L$13<=Calculations!$EP15,Calculations!$EQ15=0),0,IF(AND(L$13>=Calculations!$EO15,L$13<Calculations!$EP15),IF(Calculations!$EN15=Type1,3,1),IF(AND(L$13>=Calculations!$EP15,L$13<Calculations!$ER15),2,"")))),"") | M22: =IFERROR(IF(AND($I22=Type2,M$13>=Calculations!$EO15,M$13<=Calculations!$ER15),-1,IF(AND(M$13>=Calculations!$EO15,M$13<=Calculations!$EP15,Calculations!$EQ15=0),0,IF(AND(M$13>=Calculations!$EO15,M$13<Calculations!$EP15),IF(Calculations!$EN15=Type1,3,1),IF(AND(M$13>=Calculations!$EP15,M$13<Calculations!$ER15),2,"")))),"") | N22: =IFERROR(IF(AND($I22=Type2,N$13>=Calculations!$EO15,N$13<=Calculations!$ER15),-1,IF(AND(N$13>=Calculations!$EO15,N$13<=Calculations!$EP15,Calculations!$EQ15=0),0,IF(AND(N$13>=Calculations!$EO15,N$13<Calculations!$EP15),IF(Calculations!$EN15=Type1,3,1),IF(AND(N$13>=Calculations!$EP15,N$13<Calculations!$ER15),2,"")))),"") | O22: =IFERROR(IF(AND($I22=Type2,O$13>=Calculations!$EO15,O$13<=Calculations!$ER15),-1,IF(AND(O$13>=Calculations!$EO15,O$13<=Calculations!$EP15,Calculations!$EQ15=0),0,IF(AND(O$13>=Calculations!$EO15,O$13<Calculations!$EP15),IF(Calculations!$EN15=Type1,3,1),IF(AND(O$13>=Calculations!$EP15,O$13<Calculations!$ER15),2,"")))),"") | P22: =IFERROR(IF(AND($I22=Type2,P$13>=Calculations!$EO15,P$13<=Calculations!$ER15),-1,IF(AND(P$13>=Calculations!$EO15,P$13<=Calculations!$EP15,Calculations!$EQ15=0),0,IF(AND(P$13>=Calculations!$EO15,P$13<Calculations!$EP15),IF(Calculations!$EN15=Type1,3,1),IF(AND(P$13>=Calculations!$EP15,P$13<Calculations!$ER15),2,"")))),"") | Q22: =IFERROR(IF(AND($I22=Type2,Q$13>=Calculations!$EO15,Q$13<=Calculations!$ER15),-1,IF(AND(Q$13>=Calculations!$EO15,Q$13<=Calculations!$EP15,Calculations!$EQ15=0),0,IF(AND(Q$13>=Calculations!$EO15,Q$13<Calculations!$EP15),IF(Calculations!$EN15=Type1,3,1),IF(AND(Q$13>=Calculations!$EP15,Q$13<Calculations!$ER15),2,"")))),"") | ... AR22: =IFERROR(IF(AND($I22=Type2,AR$13>=Calculations!$EO15,AR$13<=Calculations!$ER15),-1,IF(AND(AR$13>=Calculations!$EO15,AR$13<=Calculations!$EP15,Calculations!$EQ15=0),0,IF(AND(AR$13>=Calculations!$EO15,AR$13<Calculations!$EP15),IF(Calculations!$EN15=Type1,3,1),IF(AND(AR$13>=Calculations!$EP15,AR$13<Calculations!$ER15),2,"")))),"")
B23: =IF(ISNUMBER(INDEX(Calculations!$B$7:$B$19,ROW(Calculations!B16)-ROW(Calculations!$B$6))),INDEX(Calculations!$B$7:$B$19,ROW(Calculations!B16)-ROW(Calculations!$B$6)),"") -> 10 | C23: =INDEX(Calculations!EM$7:EM$18,ROW(B23)-ROW($B$13)) -> Design Approved | H23: =IF($F$9="Show",INDEX(Calculations!EV$7:EV$18,ROW(B23)-ROW($B$13)),"") -> 3 | I23: =INDEX(Calculations!EN$7:EN$18,ROW(C23)-ROW($B$13)) -> M | J23: =IFERROR(IF(AND($I23=Type2,J$13>=Calculations!$EO16,J$13<=Calculations!$ER16),-1,IF(AND(J$13>=Calculations!$EO16,J$13<=Calculations!$EP16,Calculations!$EQ16=0),0,IF(AND(J$13>=Calculations!$EO16,J$13<Calculations!$EP16),IF(Calculations!$EN16=Type1,3,1),IF(AND(J$13>=Calculations!$EP16,J$13<Calculations!$ER16),2,"")))),"") | K23: =IFERROR(IF(AND($I23=Type2,K$13>=Calculations!$EO16,K$13<=Calculations!$ER16),-1,IF(AND(K$13>=Calculations!$EO16,K$13<=Calculations!$EP16,Calculations!$EQ16=0),0,IF(AND(K$13>=Calculations!$EO16,K$13<Calculations!$EP16),IF(Calculations!$EN16=Type1,3,1),IF(AND(K$13>=Calculations!$EP16,K$13<Calculations!$ER16),2,"")))),"") | L23: =IFERROR(IF(AND($I23=Type2,L$13>=Calculations!$EO16,L$13<=Calculations!$ER16),-1,IF(AND(L$13>=Calculations!$EO16,L$13<=Calculations!$EP16,Calculations!$EQ16=0),0,IF(AND(L$13>=Calculations!$EO16,L$13<Calculations!$EP16),IF(Calculations!$EN16=Type1,3,1),IF(AND(L$13>=Calculations!$EP16,L$13<Calculations!$ER16),2,"")))),"") | M23: =IFERROR(IF(AND($I23=Type2,M$13>=Calculations!$EO16,M$13<=Calculations!$ER16),-1,IF(AND(M$13>=Calculations!$EO16,M$13<=Calculations!$EP16,Calculations!$EQ16=0),0,IF(AND(M$13>=Calculations!$EO16,M$13<Calculations!$EP16),IF(Calculations!$EN16=Type1,3,1),IF(AND(M$13>=Calculations!$EP16,M$13<Calculations!$ER16),2,"")))),"") | N23: =IFERROR(IF(AND($I23=Type2,N$13>=Calculations!$EO16,N$13<=Calculations!$ER16),-1,IF(AND(N$13>=Calculations!$EO16,N$13<=Calculations!$EP16,Calculations!$EQ16=0),0,IF(AND(N$13>=Calculations!$EO16,N$13<Calculations!$EP16),IF(Calculations!$EN16=Type1,3,1),IF(AND(N$13>=Calculations!$EP16,N$13<Calculations!$ER16),2,"")))),"") | O23: =IFERROR(IF(AND($I23=Type2,O$13>=Calculations!$EO16,O$13<=Calculations!$ER16),-1,IF(AND(O$13>=Calculations!$EO16,O$13<=Calculations!$EP16,Calculations!$EQ16=0),0,IF(AND(O$13>=Calculations!$EO16,O$13<Calculations!$EP16),IF(Calculations!$EN16=Type1,3,1),IF(AND(O$13>=Calculations!$EP16,O$13<Calculations!$ER16),2,"")))),"") | P23: =IFERROR(IF(AND($I23=Type2,P$13>=Calculations!$EO16,P$13<=Calculations!$ER16),-1,IF(AND(P$13>=Calculations!$EO16,P$13<=Calculations!$EP16,Calculations!$EQ16=0),0,IF(AND(P$13>=Calculations!$EO16,P$13<Calculations!$EP16),IF(Calculations!$EN16=Type1,3,1),IF(AND(P$13>=Calculations!$EP16,P$13<Calculations!$ER16),2,"")))),"") | Q23: =IFERROR(IF(AND($I23=Type2,Q$13>=Calculations!$EO16,Q$13<=Calculations!$ER16),-1,IF(AND(Q$13>=Calculations!$EO16,Q$13<=Calculations!$EP16,Calculations!$EQ16=0),0,IF(AND(Q$13>=Calculations!$EO16,Q$13<Calculations!$EP16),IF(Calculations!$EN16=Type1,3,1),IF(AND(Q$13>=Calculations!$EP16,Q$13<Calculations!$ER16),2,"")))),"") | ... AR23: =IFERROR(IF(AND($I23=Type2,AR$13>=Calculations!$EO16,AR$13<=Calculations!$ER16),-1,IF(AND(AR$13>=Calculations!$EO16,AR$13<=Calculations!$EP16,Calculations!$EQ16=0),0,IF(AND(AR$13>=Calculations!$EO16,AR$13<Calculations!$EP16),IF(Calculations!$EN16=Type1,3,1),IF(AND(AR$13>=Calculations!$EP16,AR$13<Calculations!$ER16),2,"")))),"")
B24: =IF(ISNUMBER(INDEX(Calculations!$B$7:$B$19,ROW(Calculations!B17)-ROW(Calculations!$B$6))),INDEX(Calculations!$B$7:$B$19,ROW(Calculations!B17)-ROW(Calculations!$B$6)),"") | C24: =INDEX(Calculations!EM$7:EM$18,ROW(B24)-ROW($B$13)) | H24: =IF($F$9="Show",INDEX(Calculations!EV$7:EV$18,ROW(B24)-ROW($B$13)),"") | I24: =INDEX(Calculations!EN$7:EN$18,ROW(C24)-ROW($B$13)) | J24: =IFERROR(IF(AND($I24=Type2,J$13>=Calculations!$EO17,J$13<=Calculations!$ER17),-1,IF(AND(J$13>=Calculations!$EO17,J$13<=Calculations!$EP17,Calculations!$EQ17=0),0,IF(AND(J$13>=Calculations!$EO17,J$13<Calculations!$EP17),IF(Calculations!$EN17=Type1,3,1),IF(AND(J$13>=Calculations!$EP17,J$13<Calculations!$ER17),2,"")))),"") | K24: =IFERROR(IF(AND($I24=Type2,K$13>=Calculations!$EO17,K$13<=Calculations!$ER17),-1,IF(AND(K$13>=Calculations!$EO17,K$13<=Calculations!$EP17,Calculations!$EQ17=0),0,IF(AND(K$13>=Calculations!$EO17,K$13<Calculations!$EP17),IF(Calculations!$EN17=Type1,3,1),IF(AND(K$13>=Calculations!$EP17,K$13<Calculations!$ER17),2,"")))),"") | L24: =IFERROR(IF(AND($I24=Type2,L$13>=Calculations!$EO17,L$13<=Calculations!$ER17),-1,IF(AND(L$13>=Calculations!$EO17,L$13<=Calculations!$EP17,Calculations!$EQ17=0),0,IF(AND(L$13>=Calculations!$EO17,L$13<Calculations!$EP17),IF(Calculations!$EN17=Type1,3,1),IF(AND(L$13>=Calculations!$EP17,L$13<Calculations!$ER17),2,"")))),"") | M24: =IFERROR(IF(AND($I24=Type2,M$13>=Calculations!$EO17,M$13<=Calculations!$ER17),-1,IF(AND(M$13>=Calculations!$EO17,M$13<=Calculations!$EP17,Calculations!$EQ17=0),0,IF(AND(M$13>=Calculations!$EO17,M$13<Calculations!$EP17),IF(Calculations!$EN17=Type1,3,1),IF(AND(M$13>=Calculations!$EP17,M$13<Calculations!$ER17),2,"")))),"") | N24: =IFERROR(IF(AND($I24=Type2,N$13>=Calculations!$EO17,N$13<=Calculations!$ER17),-1,IF(AND(N$13>=Calculations!$EO17,N$13<=Calculations!$EP17,Calculations!$EQ17=0),0,IF(AND(N$13>=Calculations!$EO17,N$13<Calculations!$EP17),IF(Calculations!$EN17=Type1,3,1),IF(AND(N$13>=Calculations!$EP17,N$13<Calculations!$ER17),2,"")))),"") | O24: =IFERROR(IF(AND($I24=Type2,O$13>=Calculations!$EO17,O$13<=Calculations!$ER17),-1,IF(AND(O$13>=Calculations!$EO17,O$13<=Calculations!$EP17,Calculations!$EQ17=0),0,IF(AND(O$13>=Calculations!$EO17,O$13<Calculations!$EP17),IF(Calculations!$EN17=Type1,3,1),IF(AND(O$13>=Calculations!$EP17,O$13<Calculations!$ER17),2,"")))),"") | P24: =IFERROR(IF(AND($I24=Type2,P$13>=Calculations!$EO17,P$13<=Calculations!$ER17),-1,IF(AND(P$13>=Calculations!$EO17,P$13<=Calculations!$EP17,Calculations!$EQ17=0),0,IF(AND(P$13>=Calculations!$EO17,P$13<Calculations!$EP17),IF(Calculations!$EN17=Type1,3,1),IF(AND(P$13>=Calculations!$EP17,P$13<Calculations!$ER17),2,"")))),"") | Q24: =IFERROR(IF(AND($I24=Type2,Q$13>=Calculations!$EO17,Q$13<=Calculations!$ER17),-1,IF(AND(Q$13>=Calculations!$EO17,Q$13<=Calculations!$EP17,Calculations!$EQ17=0),0,IF(AND(Q$13>=Calculations!$EO17,Q$13<Calculations!$EP17),IF(Calculations!$EN17=Type1,3,1),IF(AND(Q$13>=Calculations!$EP17,Q$13<Calculations!$ER17),2,"")))),"") | ... AR24: =IFERROR(IF(AND($I24=Type2,AR$13>=Calculations!$EO17,AR$13<=Calculations!$ER17),-1,IF(AND(AR$13>=Calculations!$EO17,AR$13<=Calculations!$EP17,Calculations!$EQ17=0),0,IF(AND(AR$13>=Calculations!$EO17,AR$13<Calculations!$EP17),IF(Calculations!$EN17=Type1,3,1),IF(AND(AR$13>=Calculations!$EP17,AR$13<Calculations!$ER17),2,"")))),"")
B25: =IF(ISNUMBER(INDEX(Calculations!$B$7:$B$19,ROW(Calculations!B18)-ROW(Calculations!$B$6))),INDEX(Calculations!$B$7:$B$19,ROW(Calculations!B18)-ROW(Calculations!$B$6)),"") | C25: =INDEX(Calculations!EM$7:EM$18,ROW(B25)-ROW($B$13)) | H25: =IF($F$9="Show",INDEX(Calculations!EV$7:EV$18,ROW(B25)-ROW($B$13)),"") | I25: =INDEX(Calculations!EN$7:EN$18,ROW(C25)-ROW($B$13)) | J25: =IFERROR(IF(AND($I25=Type2,J$13>=Calculations!$EO18,J$13<=Calculations!$ER18),-1,IF(AND(J$13>=Calculations!$EO18,J$13<=Calculations!$EP18,Calculations!$EQ18=0),0,IF(AND(J$13>=Calculations!$EO18,J$13<Calculations!$EP18),IF(Calculations!$EN18=Type1,3,1),IF(AND(J$13>=Calculations!$EP18,J$13<Calculations!$ER18),2,"")))),"") | K25: =IFERROR(IF(AND($I25=Type2,K$13>=Calculations!$EO18,K$13<=Calculations!$ER18),-1,IF(AND(K$13>=Calculations!$EO18,K$13<=Calculations!$EP18,Calculations!$EQ18=0),0,IF(AND(K$13>=Calculations!$EO18,K$13<Calculations!$EP18),IF(Calculations!$EN18=Type1,3,1),IF(AND(K$13>=Calculations!$EP18,K$13<Calculations!$ER18),2,"")))),"") | L25: =IFERROR(IF(AND($I25=Type2,L$13>=Calculations!$EO18,L$13<=Calculations!$ER18),-1,IF(AND(L$13>=Calculations!$EO18,L$13<=Calculations!$EP18,Calculations!$EQ18=0),0,IF(AND(L$13>=Calculations!$EO18,L$13<Calculations!$EP18),IF(Calculations!$EN18=Type1,3,1),IF(AND(L$13>=Calculations!$EP18,L$13<Calculations!$ER18),2,"")))),"") | M25: =IFERROR(IF(AND($I25=Type2,M$13>=Calculations!$EO18,M$13<=Calculations!$ER18),-1,IF(AND(M$13>=Calculations!$EO18,M$13<=Calculations!$EP18,Calculations!$EQ18=0),0,IF(AND(M$13>=Calculations!$EO18,M$13<Calculations!$EP18),IF(Calculations!$EN18=Type1,3,1),IF(AND(M$13>=Calculations!$EP18,M$13<Calculations!$ER18),2,"")))),"") | N25: =IFERROR(IF(AND($I25=Type2,N$13>=Calculations!$EO18,N$13<=Calculations!$ER18),-1,IF(AND(N$13>=Calculations!$EO18,N$13<=Calculations!$EP18,Calculations!$EQ18=0),0,IF(AND(N$13>=Calculations!$EO18,N$13<Calculations!$EP18),IF(Calculations!$EN18=Type1,3,1),IF(AND(N$13>=Calculations!$EP18,N$13<Calculations!$ER18),2,"")))),"") | O25: =IFERROR(IF(AND($I25=Type2,O$13>=Calculations!$EO18,O$13<=Calculations!$ER18),-1,IF(AND(O$13>=Calculations!$EO18,O$13<=Calculations!$EP18,Calculations!$EQ18=0),0,IF(AND(O$13>=Calculations!$EO18,O$13<Calculations!$EP18),IF(Calculations!$EN18=Type1,3,1),IF(AND(O$13>=Calculations!$EP18,O$13<Calculations!$ER18),2,"")))),"") | P25: =IFERROR(IF(AND($I25=Type2,P$13>=Calculations!$EO18,P$13<=Calculations!$ER18),-1,IF(AND(P$13>=Calculations!$EO18,P$13<=Calculations!$EP18,Calculations!$EQ18=0),0,IF(AND(P$13>=Calculations!$EO18,P$13<Calculations!$EP18),IF(Calculations!$EN18=Type1,3,1),IF(AND(P$13>=Calculations!$EP18,P$13<Calculations!$ER18),2,"")))),"") | Q25: =IFERROR(IF(AND($I25=Type2,Q$13>=Calculations!$EO18,Q$13<=Calculations!$ER18),-1,IF(AND(Q$13>=Calculations!$EO18,Q$13<=Calculations!$EP18,Calculations!$EQ18=0),0,IF(AND(Q$13>=Calculations!$EO18,Q$13<Calculations!$EP18),IF(Calculations!$EN18=Type1,3,1),IF(AND(Q$13>=Calculations!$EP18,Q$13<Calculations!$ER18),2,"")))),"") | ... AR25: =IFERROR(IF(AND($I25=Type2,AR$13>=Calculations!$EO18,AR$13<=Calculations!$ER18),-1,IF(AND(AR$13>=Calculations!$EO18,AR$13<=Calculations!$EP18,Calculations!$EQ18=0),0,IF(AND(AR$13>=Calculations!$EO18,AR$13<Calculations!$EP18),IF(Calculations!$EN18=Type1,3,1),IF(AND(AR$13>=Calculations!$EP18,AR$13<Calculations!$ER18),2,"")))),"")

Sheet Calendar
C2: WBS GANTT CHART EXCEL TEMPLATE
C3: CALENDAR
F5: YEAR | I5: MONTH | L5: PRIORITY | O5: ASSIGNED | R5: TYPE
F6: 2023 | I6: January | L6: All | O6: All | R6: All
C8: =IFERROR(INDEX(Calculations!$CI$24:$CI$30,MATCH(1,Calculations!$CJ$24:$CJ$30,0),1),"") -> MONDAY | F8: =IFERROR(INDEX(Calculations!$CI$24:$CI$30,MATCH(2,Calculations!$CJ$24:$CJ$30,0),1),"") -> TUESDAY | I8: =IFERROR(INDEX(Calculations!$CI$24:$CI$30,MATCH(3,Calculations!$CJ$24:$CJ$30,0),1),"") -> WEDNESDAY | L8: =IFERROR(INDEX(Calculations!$CI$24:$CI$30,MATCH(4,Calculations!$CJ$24:$CJ$30,0),1),"") -> THURSDAY | O8: =IFERROR(INDEX(Calculations!$CI$24:$CI$30,MATCH(5,Calculations!$CJ$24:$CJ$30,0),1),"") -> FRIDAY | R8: =IFERROR(INDEX(Calculations!$CI$24:$CI$30,MATCH(6,Calculations!$CJ$24:$CJ$30,0),1),"") -> SATURDAY | U8: =IFERROR(INDEX(Calculations!$CI$24:$CI$30,MATCH(7,Calculations!$CJ$24:$CJ$30,0),1),"") -> SUNDAY
C10: =IFERROR(IF(WEEKDAY(Calculations!$GY$4,2)=MATCH(C$8,Calculations!$CI$24:$CI$30,0),Calculations!$GY$4,""),"") | F10: =IFERROR(IF(LEN(C10)>0,C10+1,IF(WEEKDAY(Calculations!$GY$4,2)=MATCH(F$8,Calculations!$CI$24:$CI$30,0),Calculations!$GY$4,"")),"") | I10: =IFERROR(IF(LEN(F10)>0,F10+1,IF(WEEKDAY(Calculations!$GY$4,2)=MATCH(I$8,Calculations!$CI$24:$CI$30,0),Calculations!$GY$4,"")),"") | L10: =IFERROR(IF(LEN(I10)>0,I10+1,IF(WEEKDAY(Calculations!$GY$4,2)=MATCH(L$8,Calculations!$CI$24:$CI$30,0),Calculations!$GY$4,"")),"") | O10: =IFERROR(IF(LEN(L10)>0,L10+1,IF(WEEKDAY(Calculations!$GY$4,2)=MATCH(O$8,Calculations!$CI$24:$CI$30,0),Calculations!$GY$4,"")),"") | R10: =IFERROR(IF(LEN(O10)>0,O10+1,IF(WEEKDAY(Calculations!$GY$4,2)=MATCH(R$8,Calculations!$CI$24:$CI$30,0),Calculations!$GY$4,"")),"") | U10: =IFERROR(IF(LEN(R10)>0,R10+1,IF(WEEKDAY(Calculations!$GY$4,2)=MATCH(U$8,Calculations!$CI$24:$CI$30,0),Calculations!$GY$4,"")),"") -> 44927
