Workbook

Sheet Dashboard
B2: TEAM TO-DO LIST
B3: DASHBOARD

Sheet Team_Data
D2: TEAM TO-DO LIST
D3: TEAM DATA SHEET
C6: TEAM MEMBERS | I6: JOB ASSIGNMENT TABLE | P6: Date Format | Q6: dd.mm.yyyy
C7: # | D7: Name Surname | E7: Not Started | F7: In Progress | G7: Closed | I7: Job ID | J7: Job Description | K7: Assigned To | L7: Assigned On | M7: Deadline
C8: =IFERROR(IF(LEN(D8)>1,ROW(C8)-ROW($C$7),""),"") -> 1 | D8: Donald Trump | E8: =IFERROR(IF(ISBLANK($D8),"",COUNTIFS(Calc!$D$4:$D$2003,Team_Data!$D8,Calc!$L$4:$L$2003,Team_Data!E$7)),"") -> 1 | F8: =IFERROR(IF(ISBLANK($D8),"",COUNTIFS(Calc!$D$4:$D$2003,Team_Data!$D8,Calc!$L$4:$L$2003,Team_Data!F$7)),"") -> 2 | G8: =IFERROR(IF(ISBLANK($D8),"",COUNTIFS(Calc!$D$4:$D$2003,Team_Data!$D8,Calc!$L$4:$L$2003,Team_Data!G$7)),"") -> 3 | I8: =IFERROR(IF(LEN(J8)>0,ROW(I8)-ROW($I$7),""),"") -> 1 | J8: Complete the personal to-do list | K8: Donald Trump | L8: 44904 | M8: 44910
C9: =IFERROR(IF(LEN(D9)>1,ROW(C9)-ROW($C$7),""),"") -> 2 | D9: Viggo Mortensen | E9: =IFERROR(IF(ISBLANK($D9),"",COUNTIFS(Calc!$D$4:$D$2003,Team_Data!$D9,Calc!$L$4:$L$2003,Team_Data!E$7)),"") -> 2 | F9: =IFERROR(IF(ISBLANK($D9),"",COUNTIFS(Calc!$D$4:$D$2003,Team_Data!$D9,Calc!$L$4:$L$2003,Team_Data!F$7)),"") -> 1 | G9: =IFERROR(IF(ISBLANK($D9),"",COUNTIFS(Calc!$D$4:$D$2003,Team_Data!$D9,Calc!$L$4:$L$2003,Team_Data!G$7)),"") -> 3 | I9: =IFERROR(IF(LEN(J9)>0,ROW(I9)-ROW($I$7),""),"") -> 2 | J9: Build a resume template | K9: Donald Trump | L9: 44734 | M9: 44837
C10: =IFERROR(IF(LEN(D10)>1,ROW(C10)-ROW($C$7),""),"") -> 3 | D10: John Stones | E10: =IFERROR(IF(ISBLANK($D10),"",COUNTIFS(Calc!$D$4:$D$2003,Team_Data!$D10,Calc!$L$4:$L$2003,Team_Data!E$7)),"") -> 2 | F10: =IFERROR(IF(ISBLANK($D10),"",COUNTIFS(Calc!$D$4:$D$2003,Team_Data!$D10,Calc!$L$4:$L$2003,Team_Data!F$7)),"") -> 4 | G10: =IFERROR(IF(ISBLANK($D10),"",COUNTIFS(Calc!$D$4:$D$2003,Team_Data!$D10,Calc!$L$4:$L$2003,Team_Data!G$7)),"") -> 1 | I10: =IFERROR(IF(LEN(J10)>0,ROW(I10)-ROW($I$7),""),"") -> 3 | J10: Finish writing the employee handbook | K10: Viggo Mortensen | L10: 44605 | M10: 44859
C11: =IFERROR(IF(LEN(D11)>1,ROW(C11)-ROW($C$7),""),"") -> 4 | D11: Jessica Alba | E11: =IFERROR(IF(ISBLANK($D11),"",COUNTIFS(Calc!$D$4:$D$2003,Team_Data!$D11,Calc!$L$4:$L$2003,Team_Data!E$7)),"") -> 3 | F11: =IFERROR(IF(ISBLANK($D11),"",COUNTIFS(Calc!$D$4:$D$2003,Team_Data!$D11,Calc!$L$4:$L$2003,Team_Data!F$7)),"") -> 0 | G11: =IFERROR(IF(ISBLANK($D11),"",COUNTIFS(Calc!$D$4:$D$2003,Team_Data!$D11,Calc!$L$4:$L$2003,Team_Data!G$7)),"") -> 2 | I11: =IFERROR(IF(LEN(J11)>0,ROW(I11)-ROW($I$7),""),"") -> 4 | J11: Create a financial monthly reporting template | K11: Viggo Mortensen | L11: 44605 | M11: 44859
C12: =IFERROR(IF(LEN(D12)>1,ROW(C12)-ROW($C$7),""),"") -> 5 | D12: Emma Stone | E12: =IFERROR(IF(ISBLANK($D12),"",COUNTIFS(Calc!$D$4:$D$2003,Team_Data!$D12,Calc!$L$4:$L$2003,Team_Data!E$7)),"") -> 1 | F12: =IFERROR(IF(ISBLANK($D12),"",COUNTIFS(Calc!$D$4:$D$2003,Team_Data!$D12,Calc!$L$4:$L$2003,Team_Data!F$7)),"") -> 2 | G12: =IFERROR(IF(ISBLANK($D12),"",COUNTIFS(Calc!$D$4:$D$2003,Team_Data!$D12,Calc!$L$4:$L$2003,Team_Data!G$7)),"") -> 4 | I12: =IFERROR(IF(LEN(J12)>0,ROW(I12)-ROW($I$7),""),"") -> 5 | J12: Develop an inventory management tool in excel | K12: John Stones | L12: 44584 | M12: 44743
C13: =IFERROR(IF(LEN(D13)>1,ROW(C13)-ROW($C$7),""),"") -> 6 | D13: Scarlett Johansson | E13: =IFERROR(IF(ISBLANK($D13),"",COUNTIFS(Calc!$D$4:$D$2003,Team_Data!$D13,Calc!$L$4:$L$2003,Team_Data!E$7)),"") -> 2 | F13: =IFERROR(IF(ISBLANK($D13),"",COUNTIFS(Calc!$D$4:$D$2003,Team_Data!$D13,Calc!$L$4:$L$2003,Team_Data!F$7)),"") -> 1 | G13: =IFERROR(IF(ISBLANK($D13),"",COUNTIFS(Calc!$D$4:$D$2003,Team_Data!$D13,Calc!$L$4:$L$2003,Team_Data!G$7)),"") -> 3 | I13: =IFERROR(IF(LEN(J13)>0,ROW(I13)-ROW($I$7),""),"") -> 6 | J13: Finish developing the printable invoice template | K13: Jessica Alba | L13: 44690 | M13: 44697
C14: =IFERROR(IF(LEN(D14)>1,ROW(C14)-ROW($C$7),""),"") -> 7 | D14: Mila Kunis | E14: =IFERROR(IF(ISBLANK($D14),"",COUNTIFS(Calc!$D$4:$D$2003,Team_Data!$D14,Calc!$L$4:$L$2003,Team_Data!E$7)),"") -> 1 | F14: =IFERROR(IF(ISBLANK($D14),"",COUNTIFS(Calc!$D$4:$D$2003,Team_Data!$D14,Calc!$L$4:$L$2003,Team_Data!F$7)),"") -> 1 | G14: =IFERROR(IF(ISBLANK($D14),"",COUNTIFS(Calc!$D$4:$D$2003,Team_Data!$D14,Calc!$L$4:$L$2003,Team_Data!G$7)),"") -> 3 | I14: =IFERROR(IF(LEN(J14)>0,ROW(I14)-ROW($I$7),""),"") -> 7 | J14: Create an employee attendance management tool | K14: Jessica Alba | L14: 44573 | M14: 44635
C15: =IFERROR(IF(LEN(D15)>1,ROW(C15)-ROW($C$7),""),"") -> 8 | D15: Charlize Theron | E15: =IFERROR(IF(ISBLANK($D15),"",COUNTIFS(Calc!$D$4:$D$2003,Team_Data!$D15,Calc!$L$4:$L$2003,Team_Data!E$7)),"") -> 2 | F15: =IFERROR(IF(ISBLANK($D15),"",COUNTIFS(Calc!$D$4:$D$2003,Team_Data!$D15,Calc!$L$4:$L$2003,Team_Data!F$7)),"") -> 3 | G15: =IFERROR(IF(ISBLANK($D15),"",COUNTIFS(Calc!$D$4:$D$2003,Team_Data!$D15,Calc!$L$4:$L$2003,Team_Data!G$7)),"") -> 1 | I15: =IFERROR(IF(LEN(J15)>0,ROW(I15)-ROW($I$7),""),"") -> 8 | J15: Finish the student lesson plan | K15: Jessica Alba | L15: 44566 | M15: 44571
C16: =IFERROR(IF(LEN(D16)>1,ROW(C16)-ROW($C$7),""),"") -> 9 | D16: Marion Cotillard | E16: =IFERROR(IF(ISBLANK($D16),"",COUNTIFS(Calc!$D$4:$D$2003,Team_Data!$D16,Calc!$L$4:$L$2003,Team_Data!E$7)),"") -> 0 | F16: =IFERROR(IF(ISBLANK($D16),"",COUNTIFS(Calc!$D$4:$D$2003,Team_Data!$D16,Calc!$L$4:$L$2003,Team_Data!F$7)),"") -> 2 | G16: =IFERROR(IF(ISBLANK($D16),"",COUNTIFS(Calc!$D$4:$D$2003,Team_Data!$D16,Calc!$L$4:$L$2003,Team_Data!G$7)),"") -> 4 | I16: =IFERROR(IF(LEN(J16)>0,ROW(I16)-ROW($I$7),""),"") -> 9 | J16: Visit the website of | K16: Emma Stone | L16: 44683 | M16: 44731
C17: =IFERROR(IF(LEN(D17)>1,ROW(C17)-ROW($C$7),""),"") -> 10 | D17: Omer Toprak | E17: =IFERROR(IF(ISBLANK($D17),"",COUNTIFS(Calc!$D$4:$D$2003,Team_Data!$D17,Calc!$L$4:$L$2003,Team_Data!E$7)),"") -> 0 | F17: =IFERROR(IF(ISBLANK($D17),"",COUNTIFS(Calc!$D$4:$D$2003,Team_Data!$D17,Calc!$L$4:$L$2003,Team_Data!F$7)),"") -> 4 | G17: =IFERROR(IF(ISBLANK($D17),"",COUNTIFS(Calc!$D$4:$D$2003,Team_Data!$D17,Calc!$L$4:$L$2003,Team_Data!G$7)),"") -> 2 | I17: =IFERROR(IF(LEN(J17)>0,ROW(I17)-ROW($I$7),""),"") -> 10 | J17: Check our free and paid products | K17: Emma Stone | L17: 44703 | M17: 44687
C18: =IFERROR(IF(LEN(D18)>1,ROW(C18)-ROW($C$7),""),"") | E18: =IFERROR(IF(ISBLANK($D18),"",COUNTIFS(Calc!$D$4:$D$2003,Team_Data!$D18,Calc!$L$4:$L$2003,Team_Data!E$7)),"") | F18: =IFERROR(IF(ISBLANK($D18),"",COUNTIFS(Calc!$D$4:$D$2003,Team_Data!$D18,Calc!$L$4:$L$2003,Team_Data!F$7)),"") | G18: =IFERROR(IF(ISBLANK($D18),"",COUNTIFS(Calc!$D$4:$D$2003,Team_Data!$D18,Calc!$L$4:$L$2003,Team_Data!G$7)),"") | I18: =IFERROR(IF(LEN(J18)>0,ROW(I18)-ROW($I$7),""),"") -> 11 | J18: Share our products on social media | K18: John Stones | L18: 44593 | M18: 44656
C19: =IFERROR(IF(LEN(D19)>1,ROW(C19)-ROW($C$7),""),"") | E19: =IFERROR(IF(ISBLANK($D19),"",COUNTIFS(Calc!$D$4:$D$2003,Team_Data!$D19,Calc!$L$4:$L$2003,Team_Data!E$7)),"") | F19: =IFERROR(IF(ISBLANK($D19),"",COUNTIFS(Calc!$D$4:$D$2003,Team_Data!$D19,Calc!$L$4:$L$2003,Team_Data!F$7)),"") | G19: =IFERROR(IF(ISBLANK($D19),"",COUNTIFS(Calc!$D$4:$D$2003,Team_Data!$D19,Calc!$L$4:$L$2003,Team_Data!G$7)),"") | I19: =IFERROR(IF(LEN(J19)>0,ROW(I19)-ROW($I$7),""),"") -> 12 | J19: Increase clickthrough rate by 0.1% | K19: Scarlett Johansson | L19: 44749 | M19: 44771
C20: =IFERROR(IF(LEN(D20)>1,ROW(C20)-ROW($C$7),""),"") | E20: =IFERROR(IF(ISBLANK($D20),"",COUNTIFS(Calc!$D$4:$D$2003,Team_Data!$D20,Calc!$L$4:$L$2003,Team_Data!E$7)),"") | F20: =IFERROR(IF(ISBLANK($D20),"",COUNTIFS(Calc!$D$4:$D$2003,Team_Data!$D20,Calc!$L$4:$L$2003,Team_Data!F$7)),"") | G20: =IFERROR(IF(ISBLANK($D20),"",COUNTIFS(Calc!$D$4:$D$2003,Team_Data!$D20,Calc!$L$4:$L$2003,Team_Data!G$7)),"") | I20: =IFERROR(IF(LEN(J20)>0,ROW(I20)-ROW($I$7),""),"") -> 13 | J20: Clean the desks | K20: Mila Kunis | L20: 44762 | M20: 44827
C21: =IFERROR(IF(LEN(D21)>1,ROW(C21)-ROW($C$7),""),"") | E21: =IFERROR(IF(ISBLANK($D21),"",COUNTIFS(Calc!$D$4:$D$2003,Team_Data!$D21,Calc!$L$4:$L$2003,Team_Data!E$7)),"") | F21: =IFERROR(IF(ISBLANK($D21),"",COUNTIFS(Calc!$D$4:$D$2003,Team_Data!$D21,Calc!$L$4:$L$2003,Team_Data!F$7)),"") | G21: =IFERROR(IF(ISBLANK($D21),"",COUNTIFS(Calc!$D$4:$D$2003,Team_Data!$D21,Calc!$L$4:$L$2003,Team_Data!G$7)),"") | I21: =IFERROR(IF(LEN(J21)>0,ROW(I21)-ROW($I$7),""),"") -> 14 | J21: Take the chairs downstairs | K21: Viggo Mortensen | L21: 44704 | M21: 44842
C22: =IFERROR(IF(LEN(D22)>1,ROW(C22)-ROW($C$7),""),"") | E22: =IFERROR(IF(ISBLANK($D22),"",COUNTIFS(Calc!$D$4:$D$2003,Team_Data!$D22,Calc!$L$4:$L$2003,Team_Data!E$7)),"") | F22: =IFERROR(IF(ISBLANK($D22),"",COUNTIFS(Calc!$D$4:$D$2003,Team_Data!$D22,Calc!$L$4:$L$2003,Team_Data!F$7)),"") | G22: =IFERROR(IF(ISBLANK($D22),"",COUNTIFS(Calc!$D$4:$D$2003,Team_Data!$D22,Calc!$L$4:$L$2003,Team_Data!G$7)),"") | I22: =IFERROR(IF(LEN(J22)>0,ROW(I22)-ROW($I$7),""),"") -> 15 | J22: Get the elevator to the 11th floor, and back to ground level | K22: Charlize Theron | L22: 44625 | M22: 44752
C23: =IFERROR(IF(LEN(D23)>1,ROW(C23)-ROW($C$7),""),"") | E23: =IFERROR(IF(ISBLANK($D23),"",COUNTIFS(Calc!$D$4:$D$2003,Team_Data!$D23,Calc!$L$4:$L$2003,Team_Data!E$7)),"") | F23: =IFERROR(IF(ISBLANK($D23),"",COUNTIFS(Calc!$D$4:$D$2003,Team_Data!$D23,Calc!$L$4:$L$2003,Team_Data!F$7)),"") | G23: =IFERROR(IF(ISBLANK($D23),"",COUNTIFS(Calc!$D$4:$D$2003,Team_Data!$D23,Calc!$L$4:$L$2003,Team_Data!G$7)),"") | I23: =IFERROR(IF(LEN(J23)>0,ROW(I23)-ROW($I$7),""),"") -> 16 | J23: Write more tasks here | K23: Charlize Theron | L23: 44609 | M23: 44712
C24: =IFERROR(IF(LEN(D24)>1,ROW(C24)-ROW($C$7),""),"") | E24: =IFERROR(IF(ISBLANK($D24),"",COUNTIFS(Calc!$D$4:$D$2003,Team_Data!$D24,Calc!$L$4:$L$2003,Team_Data!E$7)),"") | F24: =IFERROR(IF(ISBLANK($D24),"",COUNTIFS(Calc!$D$4:$D$2003,Team_Data!$D24,Calc!$L$4:$L$2003,Team_Data!F$7)),"") | G24: =IFERROR(IF(ISBLANK($D24),"",COUNTIFS(Calc!$D$4:$D$2003,Team_Data!$D24,Calc!$L$4:$L$2003,Team_Data!G$7)),"") | I24: =IFERROR(IF(LEN(J24)>0,ROW(I24)-ROW($I$7),""),"") -> 17 | J24: Write different tasks for each team member | K24: Marion Cotillard | L24: 44686 | M24: 44668
C25: =IFERROR(IF(LEN(D25)>1,ROW(C25)-ROW($C$7),""),"") | E25: =IFERROR(IF(ISBLANK($D25),"",COUNTIFS(Calc!$D$4:$D$2003,Team_Data!$D25,Calc!$L$4:$L$2003,Team_Data!E$7)),"") | F25: =IFERROR(IF(ISBLANK($D25),"",COUNTIFS(Calc!$D$4:$D$2003,Team_Data!$D25,Calc!$L$4:$L$2003,Team_Data!F$7)),"") | G25: =IFERROR(IF(ISBLANK($D25),"",COUNTIFS(Calc!$D$4:$D$2003,Team_Data!$D25,Calc!$L$4:$L$2003,Team_Data!G$7)),"") | I25: =IFERROR(IF(LEN(J25)>0,ROW(I25)-ROW($I$7),""),"") -> 18 | J25: Write similar or the same tasks if it is a team effort | K25: Marion Cotillard | L25: 44649 | M25: 44650
C26: =IFERROR(IF(LEN(D26)>1,ROW(C26)-ROW($C$7),""),"") | E26: =IFERROR(IF(ISBLANK($D26),"",COUNTIFS(Calc!$D$4:$D$2003,Team_Data!$D26,Calc!$L$4:$L$2003,Team_Data!E$7)),"") | F26: =IFERROR(IF(ISBLANK($D26),"",COUNTIFS(Calc!$D$4:$D$2003,Team_Data!$D26,Calc!$L$4:$L$2003,Team_Data!F$7)),"") | G26: =IFERROR(IF(ISBLANK($D26),"",COUNTIFS(Calc!$D$4:$D$2003,Team_Data!$D26,Calc!$L$4:$L$2003,Team_Data!G$7)),"") | I26: =IFERROR(IF(LEN(J26)>0,ROW(I26)-ROW($I$7),""),"") -> 19 | J26: Add a row below this table for it to automatically expand | K26: Omer Toprak | L26: 44583 | M26: 44598
C27: =IFERROR(IF(LEN(D27)>1,ROW(C27)-ROW($C$7),""),"") | E27: =IFERROR(IF(ISBLANK($D27),"",COUNTIFS(Calc!$D$4:$D$2003,Team_Data!$D27,Calc!$L$4:$L$2003,Team_Data!E$7)),"") | F27: =IFERROR(IF(ISBLANK($D27),"",COUNTIFS(Calc!$D$4:$D$2003,Team_Data!$D27,Calc!$L$4:$L$2003,Team_Data!F$7)),"") | G27: =IFERROR(IF(ISBLANK($D27),"",COUNTIFS(Calc!$D$4:$D$2003,Team_Data!$D27,Calc!$L$4:$L$2003,Team_Data!G$7)),"") | I27: =IFERROR(IF(LEN(J27)>0,ROW(I27)-ROW($I$7),""),"") -> 20 | J27: Add more team members and check dynamic connection | K27: Omer Toprak | L27: 44849 | M27: 44873
C28: =IFERROR(IF(LEN(D28)>1,ROW(C28)-ROW($C$7),""),"") | E28: =IFERROR(IF(ISBLANK($D28),"",COUNTIFS(Calc!$D$4:$D$2003,Team_Data!$D28,Calc!$L$4:$L$2003,Team_Data!E$7)),"") | F28: =IFERROR(IF(ISBLANK($D28),"",COUNTIFS(Calc!$D$4:$D$2003,Team_Data!$D28,Calc!$L$4:$L$2003,Team_Data!F$7)),"") | G28: =IFERROR(IF(ISBLANK($D28),"",COUNTIFS(Calc!$D$4:$D$2003,Team_Data!$D28,Calc!$L$4:$L$2003,Team_Data!G$7)),"") | I28: =IFERROR(IF(LEN(J28)>0,ROW(I28)-ROW($I$7),""),"") -> 21 | J28: Complete the personal to-do list | K28: Donald Trump | L28: 44593 | M28: 44597
C29: =IFERROR(IF(LEN(D29)>1,ROW(C29)-ROW($C$7),""),"") | E29: =IFERROR(IF(ISBLANK($D29),"",COUNTIFS(Calc!$D$4:$D$2003,Team_Data!$D29,Calc!$L$4:$L$2003,Team_Data!E$7)),"") | F29: =IFERROR(IF(ISBLANK($D29),"",COUNTIFS(Calc!$D$4:$D$2003,Team_Data!$D29,Calc!$L$4:$L$2003,Team_Data!F$7)),"") | G29: =IFERROR(IF(ISBLANK($D29),"",COUNTIFS(Calc!$D$4:$D$2003,Team_Data!$D29,Calc!$L$4:$L$2003,Team_Data!G$7)),"") | I29: =IFERROR(IF(LEN(J29)>0,ROW(I29)-ROW($I$7),""),"") -> 22 | J29: Build a resume template | K29: Donald Trump | L29: 44896 | M29: 44908
... C67: =IFERROR(IF(LEN(D67)>1,ROW(C67)-ROW($C$7),""),"") | E67: =IFERROR(IF(ISBLANK($D67),"",COUNTIFS(Calc!$D$4:$D$2003,Team_Data!$D67,Calc!$L$4:$L$2003,Team_Data!E$7)),"") | F67: =IFERROR(IF(ISBLANK($D67),"",COUNTIFS(Calc!$D$4:$D$2003,Team_Data!$D67,Calc!$L$4:$L$2003,Team_Data!F$7)),"") | G67: =IFERROR(IF(ISBLANK($D67),"",COUNTIFS(Calc!$D$4:$D$2003,Team_Data!$D67,Calc!$L$4:$L$2003,Team_Data!G$7)),"") | I67: =IFERROR(IF(LEN(J67)>0,ROW(I67)-ROW($I$7),""),"") -> 60 | J67: Add more team members and check dynamic connection | K67: Omer Toprak | L67: 44783 | M67: 44828
C68: =IFERROR(IF(LEN(D68)>1,ROW(C68)-ROW($C$7),""),"") | E68: =IFERROR(IF(ISBLANK($D68),"",COUNTIFS(Calc!$D$4:$D$2003,Team_Data!$D68,Calc!$L$4:$L$2003,Team_Data!E$7)),"") | F68: =IFERROR(IF(ISBLANK($D68),"",COUNTIFS(Calc!$D$4:$D$2003,Team_Data!$D68,Calc!$L$4:$L$2003,Team_Data!F$7)),"") | G68: =IFERROR(IF(ISBLANK($D68),"",COUNTIFS(Calc!$D$4:$D$2003,Team_Data!$D68,Calc!$L$4:$L$2003,Team_Data!G$7)),"") | I68: =IFERROR(IF(LEN(J68)>0,ROW(I68)-ROW($I$7),""),"")
C69: =IFERROR(IF(LEN(D69)>1,ROW(C69)-ROW($C$7),""),"") | E69: =IFERROR(IF(ISBLANK($D69),"",COUNTIFS(Calc!$D$4:$D$2003,Team_Data!$D69,Calc!$L$4:$L$2003,Team_Data!E$7)),"") | F69: =IFERROR(IF(ISBLANK($D69),"",COUNTIFS(Calc!$D$4:$D$2003,Team_Data!$D69,Calc!$L$4:$L$2003,Team_Data!F$7)),"") | G69: =IFERROR(IF(ISBLANK($D69),"",COUNTIFS(Calc!$D$4:$D$2003,Team_Data!$D69,Calc!$L$4:$L$2003,Team_Data!G$7)),"") | I69: =IFERROR(IF(LEN(J69)>0,ROW(I69)-ROW($I$7),""),"")
C70: =IFERROR(IF(LEN(D70)>1,ROW(C70)-ROW($C$7),""),"") | E70: =IFERROR(IF(ISBLANK($D70),"",COUNTIFS(Calc!$D$4:$D$2003,Team_Data!$D70,Calc!$L$4:$L$2003,Team_Data!E$7)),"") | F70: =IFERROR(IF(ISBLANK($D70),"",COUNTIFS(Calc!$D$4:$D$2003,Team_Data!$D70,Calc!$L$4:$L$2003,Team_Data!F$7)),"") | G70: =IFERROR(IF(ISBLANK($D70),"",COUNTIFS(Calc!$D$4:$D$2003,Team_Data!$D70,Calc!$L$4:$L$2003,Team_Data!G$7)),"") | I70: =IFERROR(IF(LEN(J70)>0,ROW(I70)-ROW($I$7),""),"")
C71: =IFERROR(IF(LEN(D71)>1,ROW(C71)-ROW($C$7),""),"") | E71: =IFERROR(IF(ISBLANK($D71),"",COUNTIFS(Calc!$D$4:$D$2003,Team_Data!$D71,Calc!$L$4:$L$2003,Team_Data!E$7)),"") | F71: =IFERROR(IF(ISBLANK($D71),"",COUNTIFS(Calc!$D$4:$D$2003,Team_Data!$D71,Calc!$L$4:$L$2003,Team_Data!F$7)),"") | G71: =IFERROR(IF(ISBLANK($D71),"",COUNTIFS(Calc!$D$4:$D$2003,Team_Data!$D71,Calc!$L$4:$L$2003,Team_Data!G$7)),"") | I71: =IFERROR(IF(LEN(J71)>0,ROW(I71)-ROW($I$7),""),"")
C72: =IFERROR(IF(LEN(D72)>1,ROW(C72)-ROW($C$7),""),"") | E72: =IFERROR(IF(ISBLANK($D72),"",COUNTIFS(Calc!$D$4:$D$2003,Team_Data!$D72,Calc!$L$4:$L$2003,Team_Data!E$7)),"") | F72: =IFERROR(IF(ISBLANK($D72),"",COUNTIFS(Calc!$D$4:$D$2003,Team_Data!$D72,Calc!$L$4:$L$2003,Team_Data!F$7)),"") | G72: =IFERROR(IF(ISBLANK($D72),"",COUNTIFS(Calc!$D$4:$D$2003,Team_Data!$D72,Calc!$L$4:$L$2003,Team_Data!G$7)),"") | I72: =IFERROR(IF(LEN(J72)>0,ROW(I72)-ROW($I$7),""),"")
C73: =IFERROR(IF(LEN(D73)>1,ROW(C73)-ROW($C$7),""),"") | E73: =IFERROR(IF(ISBLANK($D73),"",COUNTIFS(Calc!$D$4:$D$2003,Team_Data!$D73,Calc!$L$4:$L$2003,Team_Data!E$7)),"") | F73: =IFERROR(IF(ISBLANK($D73),"",COUNTIFS(Calc!$D$4:$D$2003,Team_Data!$D73,Calc!$L$4:$L$2003,Team_Data!F$7)),"") | G73: =IFERROR(IF(ISBLANK($D73),"",COUNTIFS(Calc!$D$4:$D$2003,Team_Data!$D73,Calc!$L$4:$L$2003,Team_Data!G$7)),"") | I73: =IFERROR(IF(LEN(J73)>0,ROW(I73)-ROW($I$7),""),"")
C74: =IFERROR(IF(LEN(D74)>1,ROW(C74)-ROW($C$7),""),"") | E74: =IFERROR(IF(ISBLANK($D74),"",COUNTIFS(Calc!$D$4:$D$2003,Team_Data!$D74,Calc!$L$4:$L$2003,Team_Data!E$7)),"") | F74: =IFERROR(IF(ISBLANK($D74),"",COUNTIFS(Calc!$D$4:$D$2003,Team_Data!$D74,Calc!$L$4:$L$2003,Team_Data!F$7)),"") | G74: =IFERROR(IF(ISBLANK($D74),"",COUNTIFS(Calc!$D$4:$D$2003,Team_Data!$D74,Calc!$L$4:$L$2003,Team_Data!G$7)),"") | I74: =IFERROR(IF(LEN(J74)>0,ROW(I74)-ROW($I$7),""),"")
C75: =IFERROR(IF(LEN(D75)>1,ROW(C75)-ROW($C$7),""),"") | E75: =IFERROR(IF(ISBLANK($D75),"",COUNTIFS(Calc!$D$4:$D$2003,Team_Data!$D75,Calc!$L$4:$L$2003,Team_Data!E$7)),"") | F75: =IFERROR(IF(ISBLANK($D75),"",COUNTIFS(Calc!$D$4:$D$2003,Team_Data!$D75,Calc!$L$4:$L$2003,Team_Data!F$7)),"") | G75: =IFERROR(IF(ISBLANK($D75),"",COUNTIFS(Calc!$D$4:$D$2003,Team_Data!$D75,Calc!$L$4:$L$2003,Team_Data!G$7)),"") | I75: =IFERROR(IF(LEN(J75)>0,ROW(I75)-ROW($I$7),""),"")
C76: =IFERROR(IF(LEN(D76)>1,ROW(C76)-ROW($C$7),""),"") | E76: =IFERROR(IF(ISBLANK($D76),"",COUNTIFS(Calc!$D$4:$D$2003,Team_Data!$D76,Calc!$L$4:$L$2003,Team_Data!E$7)),"") | F76: =IFERROR(IF(ISBLANK($D76),"",COUNTIFS(Calc!$D$4:$D$2003,Team_Data!$D76,Calc!$L$4:$L$2003,Team_Data!F$7)),"") | G76: =IFERROR(IF(ISBLANK($D76),"",COUNTIFS(Calc!$D$4:$D$2003,Team_Data!$D76,Calc!$L$4:$L$2003,Team_Data!G$7)),"") | I76: =IFERROR(IF(LEN(J76)>0,ROW(I76)-ROW($I$7),""),"")
C77: =IFERROR(IF(LEN(D77)>1,ROW(C77)-ROW($C$7),""),"") | E77: =IFERROR(IF(ISBLANK($D77),"",COUNTIFS(Calc!$D$4:$D$2003,Team_Data!$D77,Calc!$L$4:$L$2003,Team_Data!E$7)),"") | F77: =IFERROR(IF(ISBLANK($D77),"",COUNTIFS(Calc!$D$4:$D$2003,Team_Data!$D77,Calc!$L$4:$L$2003,Team_Data!F$7)),"") | G77: =IFERROR(IF(ISBLANK($D77),"",COUNTIFS(Calc!$D$4:$D$2003,Team_Data!$D77,Calc!$L$4:$L$2003,Team_Data!G$7)),"") | I77: =IFERROR(IF(LEN(J77)>0,ROW(I77)-ROW($I$7),""),"")
C78: =IFERROR(IF(LEN(D78)>1,ROW(C78)-ROW($C$7),""),"") | E78: =IFERROR(IF(ISBLANK($D78),"",COUNTIFS(Calc!$D$4:$D$2003,Team_Data!$D78,Calc!$L$4:$L$2003,Team_Data!E$7)),"") | F78: =IFERROR(IF(ISBLANK($D78),"",COUNTIFS(Calc!$D$4:$D$2003,Team_Data!$D78,Calc!$L$4:$L$2003,Team_Data!F$7)),"") | G78: =IFERROR(IF(ISBLANK($D78),"",COUNTIFS(Calc!$D$4:$D$2003,Team_Data!$D78,Calc!$L$4:$L$2003,Team_Data!G$7)),"") | I78: =IFERROR(IF(LEN(J78)>0,ROW(I78)-ROW($I$7),""),"")
C79: =IFERROR(IF(LEN(D79)>1,ROW(C79)-ROW($C$7),""),"") | E79: =IFERROR(IF(ISBLANK($D79),"",COUNTIFS(Calc!$D$4:$D$2003,Team_Data!$D79,Calc!$L$4:$L$2003,Team_Data!E$7)),"") | F79: =IFERROR(IF(ISBLANK($D79),"",COUNTIFS(Calc!$D$4:$D$2003,Team_Data!$D79,Calc!$L$4:$L$2003,Team_Data!F$7)),"") | G79: =IFERROR(IF(ISBLANK($D79),"",COUNTIFS(Calc!$D$4:$D$2003,Team_Data!$D79,Calc!$L$4:$L$2003,Team_Data!G$7)),"") | I79: =IFERROR(IF(LEN(J79)>0,ROW(I79)-ROW($I$7),""),"")
... C107: =IFERROR(IF(LEN(D107)>1,ROW(C107)-ROW($C$7),""),"") | E107: =IFERROR(IF(ISBLANK($D107),"",COUNTIFS(Calc!$D$4:$D$2003,Team_Data!$D107,Calc!$L$4:$L$2003,Team_Data!E$7)),"") | F107: =IFERROR(IF(ISBLANK($D107),"",COUNTIFS(Calc!$D$4:$D$2003,Team_Data!$D107,Calc!$L$4:$L$2003,Team_Data!F$7)),"") | G107: =IFERROR(IF(ISBLANK($D107),"",COUNTIFS(Calc!$D$4:$D$2003,Team_Data!$D107,Calc!$L$4:$L$2003,Team_Data!G$7)),"") | I107: =IFERROR(IF(LEN(J107)>0,ROW(I107)-ROW($I$7),""),"")
...

Sheet January
D2: TEAM TO-DO LIST
D3: JANUARY | N3: Month Number | O3: 1
C6: Whole Team | E6: Team Member: | F6: Jessica Alba
C14: # | D14: Job Description | E14: Assigned To | F14: Assigned On | G14: Deadline | H14: Days Remaining | I14: Status
C15: 1 | D15: =IFERROR(INDEX(Calc!$B$4:$L$2003,MATCH($O$3&"-"&C15,Calc!$I$4:$I$2003,0),2),"") -> Finish the student lesson plan | E15: =IFERROR(INDEX(Calc!$B$4:$L$2003,MATCH($O$3&"-"&$C15,Calc!$I$4:$I$2003,0),3),"") -> Jessica Alba | F15: =IFERROR(INDEX(Calc!$B$4:$L$2003,MATCH($O$3&"-"&$C15,Calc!$I$4:$I$2003,0),4),"") -> 44566 | G15: =IFERROR(INDEX(Calc!$B$4:$L$2003,MATCH($O$3&"-"&$C15,Calc!$I$4:$I$2003,0),5),"") -> 44571 | H15: =IFERROR(IF(I15="Closed","―",INDEX(Calc!$B$4:$L$2003,MATCH($O$3&"-"&$C15,Calc!$I$4:$I$2003,0),10)),"") -> ― | I15: Closed
C16: 2 | D16: =IFERROR(INDEX(Calc!$B$4:$L$2003,MATCH($O$3&"-"&C16,Calc!$I$4:$I$2003,0),2),"") -> Create a financial monthly reporting template | E16: =IFERROR(INDEX(Calc!$B$4:$L$2003,MATCH($O$3&"-"&$C16,Calc!$I$4:$I$2003,0),3),"") -> Scarlett Johansson | F16: =IFERROR(INDEX(Calc!$B$4:$L$2003,MATCH($O$3&"-"&$C16,Calc!$I$4:$I$2003,0),4),"") -> 44567 | G16: =IFERROR(INDEX(Calc!$B$4:$L$2003,MATCH($O$3&"-"&$C16,Calc!$I$4:$I$2003,0),5),"") -> 44586 | H16: =IFERROR(IF(I16="Closed","―",INDEX(Calc!$B$4:$L$2003,MATCH($O$3&"-"&$C16,Calc!$I$4:$I$2003,0),10)),"") -> ― | I16: Closed
C17: 3 | D17: =IFERROR(INDEX(Calc!$B$4:$L$2003,MATCH($O$3&"-"&C17,Calc!$I$4:$I$2003,0),2),"") -> Check our free and paid products | E17: =IFERROR(INDEX(Calc!$B$4:$L$2003,MATCH($O$3&"-"&$C17,Calc!$I$4:$I$2003,0),3),"") -> Emma Stone | F17: =IFERROR(INDEX(Calc!$B$4:$L$2003,MATCH($O$3&"-"&$C17,Calc!$I$4:$I$2003,0),4),"") -> 44568 | G17: =IFERROR(INDEX(Calc!$B$4:$L$2003,MATCH($O$3&"-"&$C17,Calc!$I$4:$I$2003,0),5),"") -> 44591 | H17: =IFERROR(IF(I17="Closed","―",INDEX(Calc!$B$4:$L$2003,MATCH($O$3&"-"&$C17,Calc!$I$4:$I$2003,0),10)),"") -> -122 | I17: Not Started
C18: 4 | D18: =IFERROR(INDEX(Calc!$B$4:$L$2003,MATCH($O$3&"-"&C18,Calc!$I$4:$I$2003,0),2),"") -> Create an employee attendance management tool | E18: =IFERROR(INDEX(Calc!$B$4:$L$2003,MATCH($O$3&"-"&$C18,Calc!$I$4:$I$2003,0),3),"") -> Jessica Alba | F18: =IFERROR(INDEX(Calc!$B$4:$L$2003,MATCH($O$3&"-"&$C18,Calc!$I$4:$I$2003,0),4),"") -> 44573 | G18: =IFERROR(INDEX(Calc!$B$4:$L$2003,MATCH($O$3&"-"&$C18,Calc!$I$4:$I$2003,0),5),"") -> 44587 | H18: =IFERROR(IF(I18="Closed","―",INDEX(Calc!$B$4:$L$2003,MATCH($O$3&"-"&$C18,Calc!$I$4:$I$2003,0),10)),"") -> -126 | I18: Not Started
C19: 5 | D19: =IFERROR(INDEX(Calc!$B$4:$L$2003,MATCH($O$3&"-"&C19,Calc!$I$4:$I$2003,0),2),"") -> Finish the student lesson plan | E19: =IFERROR(INDEX(Calc!$B$4:$L$2003,MATCH($O$3&"-"&$C19,Calc!$I$4:$I$2003,0),3),"") -> John Stones | F19: =IFERROR(INDEX(Calc!$B$4:$L$2003,MATCH($O$3&"-"&$C19,Calc!$I$4:$I$2003,0),4),"") -> 44566 | G19: =IFERROR(INDEX(Calc!$B$4:$L$2003,MATCH($O$3&"-"&$C19,Calc!$I$4:$I$2003,0),5),"") -> 44589 | H19: =IFERROR(IF(I19="Closed","―",INDEX(Calc!$B$4:$L$2003,MATCH($O$3&"-"&$C19,Calc!$I$4:$I$2003,0),10)),"") -> ― | I19: Closed
C20: 6 | D20: =IFERROR(INDEX(Calc!$B$4:$L$2003,MATCH($O$3&"-"&C20,Calc!$I$4:$I$2003,0),2),"") | E20: =IFERROR(INDEX(Calc!$B$4:$L$2003,MATCH($O$3&"-"&$C20,Calc!$I$4:$I$2003,0),3),"") | F20: =IFERROR(INDEX(Calc!$B$4:$L$2003,MATCH($O$3&"-"&$C20,Calc!$I$4:$I$2003,0),4),"") | G20: =IFERROR(INDEX(Calc!$B$4:$L$2003,MATCH($O$3&"-"&$C20,Calc!$I$4:$I$2003,0),5),"") | H20: =IFERROR(IF(I20="Closed","―",INDEX(Calc!$B$4:$L$2003,MATCH($O$3&"-"&$C20,Calc!$I$4:$I$2003,0),10)),"")
C21: 7 | D21: =IFERROR(INDEX(Calc!$B$4:$L$2003,MATCH($O$3&"-"&C21,Calc!$I$4:$I$2003,0),2),"") | E21: =IFERROR(INDEX(Calc!$B$4:$L$2003,MATCH($O$3&"-"&$C21,Calc!$I$4:$I$2003,0),3),"") | F21: =IFERROR(INDEX(Calc!$B$4:$L$2003,MATCH($O$3&"-"&$C21,Calc!$I$4:$I$2003,0),4),"") | G21: =IFERROR(INDEX(Calc!$B$4:$L$2003,MATCH($O$3&"-"&$C21,Calc!$I$4:$I$2003,0),5),"") | H21: =IFERROR(IF(I21="Closed","―",INDEX(Calc!$B$4:$L$2003,MATCH($O$3&"-"&$C21,Calc!$I$4:$I$2003,0),10)),"")
C22: 8 | D22: =IFERROR(INDEX(Calc!$B$4:$L$2003,MATCH($O$3&"-"&C22,Calc!$I$4:$I$2003,0),2),"") | E22: =IFERROR(INDEX(Calc!$B$4:$L$2003,MATCH($O$3&"-"&$C22,Calc!$I$4:$I$2003,0),3),"") | F22: =IFERROR(INDEX(Calc!$B$4:$L$2003,MATCH($O$3&"-"&$C22,Calc!$I$4:$I$2003,0),4),"") | G22: =IFERROR(INDEX(Calc!$B$4:$L$2003,MATCH($O$3&"-"&$C22,Calc!$I$4:$I$2003,0),5),"") | H22: =IFERROR(IF(I22="Closed","―",INDEX(Calc!$B$4:$L$2003,MATCH($O$3&"-"&$C22,Calc!$I$4:$I$2003,0),10)),"")
C23: 9 | D23: =IFERROR(INDEX(Calc!$B$4:$L$2003,MATCH($O$3&"-"&C23,Calc!$I$4:$I$2003,0),2),"") | E23: =IFERROR(INDEX(Calc!$B$4:$L$2003,MATCH($O$3&"-"&$C23,Calc!$I$4:$I$2003,0),3),"") | F23: =IFERROR(INDEX(Calc!$B$4:$L$2003,MATCH($O$3&"-"&$C23,Calc!$I$4:$I$2003,0),4),"") | G23: =IFERROR(INDEX(Calc!$B$4:$L$2003,MATCH($O$3&"-"&$C23,Calc!$I$4:$I$2003,0),5),"") | H23: =IFERROR(IF(I23="Closed","―",INDEX(Calc!$B$4:$L$2003,MATCH($O$3&"-"&$C23,Calc!$I$4:$I$2003,0),10)),"")
C24: 10 | D24: =IFERROR(INDEX(Calc!$B$4:$L$2003,MATCH($O$3&"-"&C24,Calc!$I$4:$I$2003,0),2),"") | E24: =IFERROR(INDEX(Calc!$B$4:$L$2003,MATCH($O$3&"-"&$C24,Calc!$I$4:$I$2003,0),3),"") | F24: =IFERROR(INDEX(Calc!$B$4:$L$2003,MATCH($O$3&"-"&$C24,Calc!$I$4:$I$2003,0),4),"") | G24: =IFERROR(INDEX(Calc!$B$4:$L$2003,MATCH($O$3&"-"&$C24,Calc!$I$4:$I$2003,0),5),"") | H24: =IFERROR(IF(I24="Closed","―",INDEX(Calc!$B$4:$L$2003,MATCH($O$3&"-"&$C24,Calc!$I$4:$I$2003,0),10)),"")
C25: 11 | D25: =IFERROR(INDEX(Calc!$B$4:$L$2003,MATCH($O$3&"-"&C25,Calc!$I$4:$I$2003,0),2),"") | E25: =IFERROR(INDEX(Calc!$B$4:$L$2003,MATCH($O$3&"-"&$C25,Calc!$I$4:$I$2003,0),3),"") | F25: =IFERROR(INDEX(Calc!$B$4:$L$2003,MATCH($O$3&"-"&$C25,Calc!$I$4:$I$2003,0),4),"") | G25: =IFERROR(INDEX(Calc!$B$4:$L$2003,MATCH($O$3&"-"&$C25,Calc!$I$4:$I$2003,0),5),"") | H25: =IFERROR(IF(I25="Closed","―",INDEX(Calc!$B$4:$L$2003,MATCH($O$3&"-"&$C25,Calc!$I$4:$I$2003,0),10)),"")
C26: 12 | D26: =IFERROR(INDEX(Calc!$B$4:$L$2003,MATCH($O$3&"-"&C26,Calc!$I$4:$I$2003,0),2),"") | E26: =IFERROR(INDEX(Calc!$B$4:$L$2003,MATCH($O$3&"-"&$C26,Calc!$I$4:$I$2003,0),3),"") | F26: =IFERROR(INDEX(Calc!$B$4:$L$2003,MATCH($O$3&"-"&$C26,Calc!$I$4:$I$2003,0),4),"") | G26: =IFERROR(INDEX(Calc!$B$4:$L$2003,MATCH($O$3&"-"&$C26,Calc!$I$4:$I$2003,0),5),"") | H26: =IFERROR(IF(I26="Closed","―",INDEX(Calc!$B$4:$L$2003,MATCH($O$3&"-"&$C26,Calc!$I$4:$I$2003,0),10)),"")
C27: 13 | D27: =IFERROR(INDEX(Calc!$B$4:$L$2003,MATCH($O$3&"-"&C27,Calc!$I$4:$I$2003,0),2),"") | E27: =IFERROR(INDEX(Calc!$B$4:$L$2003,MATCH($O$3&"-"&$C27,Calc!$I$4:$I$2003,0),3),"") | F27: =IFERROR(INDEX(Calc!$B$4:$L$2003,MATCH($O$3&"-"&$C27,Calc!$I$4:$I$2003,0),4),"") | G27: =IFERROR(INDEX(Calc!$B$4:$L$2003,MATCH($O$3&"-"&$C27,Calc!$I$4:$I$2003,0),5),"") | H27: =IFERROR(IF(I27="Closed","―",INDEX(Calc!$B$4:$L$2003,MATCH($O$3&"-"&$C27,Calc!$I$4:$I$2003,0),10)),"")
C28: 14 | D28: =IFERROR(INDEX(Calc!$B$4:$L$2003,MATCH($O$3&"-"&C28,Calc!$I$4:$I$2003,0),2),"") | E28: =IFERROR(INDEX(Calc!$B$4:$L$2003,MATCH($O$3&"-"&$C28,Calc!$I$4:$I$2003,0),3),"") | F28: =IFERROR(INDEX(Calc!$B$4:$L$2003,MATCH($O$3&"-"&$C28,Calc!$I$4:$I$2003,0),4),"") | G28: =IFERROR(INDEX(Calc!$B$4:$L$2003,MATCH($O$3&"-"&$C28,Calc!$I$4:$I$2003,0),5),"") | H28: =IFERROR(IF(I28="Closed","―",INDEX(Calc!$B$4:$L$2003,MATCH($O$3&"-"&$C28,Calc!$I$4:$I$2003,0),10)),"")
C29: 15 | D29: =IFERROR(INDEX(Calc!$B$4:$L$2003,MATCH($O$3&"-"&C29,Calc!$I$4:$I$2003,0),2),"") | E29: =IFERROR(INDEX(Calc!$B$4:$L$2003,MATCH($O$3&"-"&$C29,Calc!$I$4:$I$2003,0),3),"") | F29: =IFERROR(INDEX(Calc!$B$4:$L$2003,MATCH($O$3&"-"&$C29,Calc!$I$4:$I$2003,0),4),"") | G29: =IFERROR(INDEX(Calc!$B$4:$L$2003,MATCH($O$3&"-"&$C29,Calc!$I$4:$I$2003,0),5),"") | H29: =IFERROR(IF(I29="Closed","―",INDEX(Calc!$B$4:$L$2003,MATCH($O$3&"-"&$C29,Calc!$I$4:$I$2003,0),10)),"")
C30: 16 | D30: =IFERROR(INDEX(Calc!$B$4:$L$2003,MATCH($O$3&"-"&C30,Calc!$I$4:$I$2003,0),2),"") | E30: =IFERROR(INDEX(Calc!$B$4:$L$2003,MATCH($O$3&"-"&$C30,Calc!$I$4:$I$2003,0),3),"") | F30: =IFERROR(INDEX(Calc!$B$4:$L$2003,MATCH($O$3&"-"&$C30,Calc!$I$4:$I$2003,0),4),"") | G30: =IFERROR(INDEX(Calc!$B$4:$L$2003,MATCH($O$3&"-"&$C30,Calc!$I$4:$I$2003,0),5),"") | H30: =IFERROR(IF(I30="Closed","―",INDEX(Calc!$B$4:$L$2003,MATCH($O$3&"-"&$C30,Calc!$I$4:$I$2003,0),10)),"")
C31: 17 | D31: =IFERROR(INDEX(Calc!$B$4:$L$2003,MATCH($O$3&"-"&C31,Calc!$I$4:$I$2003,0),2),"") | E31: =IFERROR(INDEX(Calc!$B$4:$L$2003,MATCH($O$3&"-"&$C31,Calc!$I$4:$I$2003,0),3),"") | F31: =IFERROR(INDEX(Calc!$B$4:$L$2003,MATCH($O$3&"-"&$C31,Calc!$I$4:$I$2003,0),4),"") | G31: =IFERROR(INDEX(Calc!$B$4:$L$2003,MATCH($O$3&"-"&$C31,Calc!$I$4:$I$2003,0),5),"") | H31: =IFERROR(IF(I31="Closed","―",INDEX(Calc!$B$4:$L$2003,MATCH($O$3&"-"&$C31,Calc!$I$4:$I$2003,0),10)),"")
... C1014: 1000 | D1014: =IFERROR(INDEX(Calc!$B$4:$L$2003,MATCH($O$3&"-"&C1014,Calc!$I$4:$I$2003,0),2),"") | E1014: =IFERROR(INDEX(Calc!$B$4:$L$2003,MATCH($O$3&"-"&$C1014,Calc!$I$4:$I$2003,0),3),"") | F1014: =IFERROR(INDEX(Calc!$B$4:$L$2003,MATCH($O$3&"-"&$C1014,Calc!$I$4:$I$2003,0),4),"") | G1014: =IFERROR(INDEX(Calc!$B$4:$L$2003,MATCH($O$3&"-"&$C1014,Calc!$I$4:$I$2003,0),5),"") | H1014: =IFERROR(IF(I1014="Closed","―",INDEX(Calc!$B$4:$L$2003,MATCH($O$3&"-"&$C1014,Calc!$I$4:$I$2003,0),10)),"")

Sheet February
D2: TEAM TO-DO LIST
D3: FEBRUARY | N3: Month Number | O3: 2
C6: Whole Team | E6: Team Member: | F6: Omer Toprak
C14: # | D14: Job Description | E14: Assigned To | F14: Assigned On | G14: Deadline | H14: Days Remaining | I14: Status
C15: 1 | D15: =IFERROR(INDEX(Calc!$B$4:$L$2003,MATCH($O$3&"-"&C15,Calc!$I$4:$I$2003,0),2),"") -> Add a row below this table for it to automatically expand | E15: =IFERROR(INDEX(Calc!$B$4:$L$2003,MATCH($O$3&"-"&$C15,Calc!$I$4:$I$2003,0),3),"") -> Omer Toprak | F15: =IFERROR(INDEX(Calc!$B$4:$L$2003,MATCH($O$3&"-"&$C15,Calc!$I$4:$I$2003,0),4),"") -> 44583 | G15: =IFERROR(INDEX(Calc!$B$4:$L$2003,MATCH($O$3&"-"&$C15,Calc!$I$4:$I$2003,0),5),"") -> 44598 | H15: =IFERROR(IF(I15="Closed","―",INDEX(Calc!$B$4:$L$2003,MATCH($O$3&"-"&$C15,Calc!$I$4:$I$2003,0),10)),"") -> -115 | I15: In Progress
C16: 2 | D16: =IFERROR(INDEX(Calc!$B$4:$L$2003,MATCH($O$3&"-"&C16,Calc!$I$4:$I$2003,0),2),"") -> Complete the personal to-do list | E16: =IFERROR(INDEX(Calc!$B$4:$L$2003,MATCH($O$3&"-"&$C16,Calc!$I$4:$I$2003,0),3),"") -> Donald Trump | F16: =IFERROR(INDEX(Calc!$B$4:$L$2003,MATCH($O$3&"-"&$C16,Calc!$I$4:$I$2003,0),4),"") -> 44593 | G16: =IFERROR(INDEX(Calc!$B$4:$L$2003,MATCH($O$3&"-"&$C16,Calc!$I$4:$I$2003,0),5),"") -> 44597 | H16: =IFERROR(IF(I16="Closed","―",INDEX(Calc!$B$4:$L$2003,MATCH($O$3&"-"&$C16,Calc!$I$4:$I$2003,0),10)),"") -> ― | I16: Closed
C17: 3 | D17: =IFERROR(INDEX(Calc!$B$4:$L$2003,MATCH($O$3&"-"&C17,Calc!$I$4:$I$2003,0),2),"") -> Check our free and paid products | E17: =IFERROR(INDEX(Calc!$B$4:$L$2003,MATCH($O$3&"-"&$C17,Calc!$I$4:$I$2003,0),3),"") -> Emma Stone | F17: =IFERROR(INDEX(Calc!$B$4:$L$2003,MATCH($O$3&"-"&$C17,Calc!$I$4:$I$2003,0),4),"") -> 44603 | G17: =IFERROR(INDEX(Calc!$B$4:$L$2003,MATCH($O$3&"-"&$C17,Calc!$I$4:$I$2003,0),5),"") -> 44612 | H17: =IFERROR(IF(I17="Closed","―",INDEX(Calc!$B$4:$L$2003,MATCH($O$3&"-"&$C17,Calc!$I$4:$I$2003,0),10)),"") -> ― | I17: Closed
C18: 4 | D18: =IFERROR(INDEX(Calc!$B$4:$L$2003,MATCH($O$3&"-"&C18,Calc!$I$4:$I$2003,0),2),"") -> Share our products on social media | E18: =IFERROR(INDEX(Calc!$B$4:$L$2003,MATCH($O$3&"-"&$C18,Calc!$I$4:$I$2003,0),3),"") -> Scarlett Johansson | F18: =IFERROR(INDEX(Calc!$B$4:$L$2003,MATCH($O$3&"-"&$C18,Calc!$I$4:$I$2003,0),4),"") -> 44590 | G18: =IFERROR(INDEX(Calc!$B$4:$L$2003,MATCH($O$3&"-"&$C18,Calc!$I$4:$I$2003,0),5),"") -> 44617 | H18: =IFERROR(IF(I18="Closed","―",INDEX(Calc!$B$4:$L$2003,MATCH($O$3&"-"&$C18,Calc!$I$4:$I$2003,0),10)),"") -> -96 | I18: Not Started
C19: 5 | D19: =IFERROR(INDEX(Calc!$B$4:$L$2003,MATCH($O$3&"-"&C19,Calc!$I$4:$I$2003,0),2),"") | E19: =IFERROR(INDEX(Calc!$B$4:$L$2003,MATCH($O$3&"-"&$C19,Calc!$I$4:$I$2003,0),3),"") | F19: =IFERROR(INDEX(Calc!$B$4:$L$2003,MATCH($O$3&"-"&$C19,Calc!$I$4:$I$2003,0),4),"") | G19: =IFERROR(INDEX(Calc!$B$4:$L$2003,MATCH($O$3&"-"&$C19,Calc!$I$4:$I$2003,0),5),"") | H19: =IFERROR(IF(I19="Closed","―",INDEX(Calc!$B$4:$L$2003,MATCH($O$3&"-"&$C19,Calc!$I$4:$I$2003,0),10)),"")
C20: 6 | D20: =IFERROR(INDEX(Calc!$B$4:$L$2003,MATCH($O$3&"-"&C20,Calc!$I$4:$I$2003,0),2),"") | E20: =IFERROR(INDEX(Calc!$B$4:$L$2003,MATCH($O$3&"-"&$C20,Calc!$I$4:$I$2003,0),3),"") | F20: =IFERROR(INDEX(Calc!$B$4:$L$2003,MATCH($O$3&"-"&$C20,Calc!$I$4:$I$2003,0),4),"") | G20: =IFERROR(INDEX(Calc!$B$4:$L$2003,MATCH($O$3&"-"&$C20,Calc!$I$4:$I$2003,0),5),"") | H20: =IFERROR(IF(I20="Closed","―",INDEX(Calc!$B$4:$L$2003,MATCH($O$3&"-"&$C20,Calc!$I$4:$I$2003,0),10)),"")
C21: 7 | D21: =IFERROR(INDEX(Calc!$B$4:$L$2003,MATCH($O$3&"-"&C21,Calc!$I$4:$I$2003,0),2),"") | E21: =IFERROR(INDEX(Calc!$B$4:$L$2003,MATCH($O$3&"-"&$C21,Calc!$I$4:$I$2003,0),3),"") | F21: =IFERROR(INDEX(Calc!$B$4:$L$2003,MATCH($O$3&"-"&$C21,Calc!$I$4:$I$2003,0),4),"") | G21: =IFERROR(INDEX(Calc!$B$4:$L$2003,MATCH($O$3&"-"&$C21,Calc!$I$4:$I$2003,0),5),"") | H21: =IFERROR(IF(I21="Closed","―",INDEX(Calc!$B$4:$L$2003,MATCH($O$3&"-"&$C21,Calc!$I$4:$I$2003,0),10)),"")
C22: 8 | D22: =IFERROR(INDEX(Calc!$B$4:$L$2003,MATCH($O$3&"-"&C22,Calc!$I$4:$I$2003,0),2),"") | E22: =IFERROR(INDEX(Calc!$B$4:$L$2003,MATCH($O$3&"-"&$C22,Calc!$I$4:$I$2003,0),3),"") | F22: =IFERROR(INDEX(Calc!$B$4:$L$2003,MATCH($O$3&"-"&$C22,Calc!$I$4:$I$2003,0),4),"") | G22: =IFERROR(INDEX(Calc!$B$4:$L$2003,MATCH($O$3&"-"&$C22,Calc!$I$4:$I$2003,0),5),"") | H22: =IFERROR(IF(I22="Closed","―",INDEX(Calc!$B$4:$L$2003,MATCH($O$3&"-"&$C22,Calc!$I$4:$I$2003,0),10)),"")
C23: 9 | D23: =IFERROR(INDEX(Calc!$B$4:$L$2003,MATCH($O$3&"-"&C23,Calc!$I$4:$I$2003,0),2),"") | E23: =IFERROR(INDEX(Calc!$B$4:$L$2003,MATCH($O$3&"-"&$C23,Calc!$I$4:$I$2003,0),3),"") | F23: =IFERROR(INDEX(Calc!$B$4:$L$2003,MATCH($O$3&"-"&$C23,Calc!$I$4:$I$2003,0),4),"") | G23: =IFERROR(INDEX(Calc!$B$4:$L$2003,MATCH($O$3&"-"&$C23,Calc!$I$4:$I$2003,0),5),"") | H23: =IFERROR(IF(I23="Closed","―",INDEX(Calc!$B$4:$L$2003,MATCH($O$3&"-"&$C23,Calc!$I$4:$I$2003,0),10)),"")
C24: 10 | D24: =IFERROR(INDEX(Calc!$B$4:$L$2003,MATCH($O$3&"-"&C24,Calc!$I$4:$I$2003,0),2),"") | E24: =IFERROR(INDEX(Calc!$B$4:$L$2003,MATCH($O$3&"-"&$C24,Calc!$I$4:$I$2003,0),3),"") | F24: =IFERROR(INDEX(Calc!$B$4:$L$2003,MATCH($O$3&"-"&$C24,Calc!$I$4:$I$2003,0),4),"") | G24: =IFERROR(INDEX(Calc!$B$4:$L$2003,MATCH($O$3&"-"&$C24,Calc!$I$4:$I$2003,0),5),"") | H24: =IFERROR(IF(I24="Closed","―",INDEX(Calc!$B$4:$L$2003,MATCH($O$3&"-"&$C24,Calc!$I$4:$I$2003,0),10)),"")
C25: 11 | D25: =IFERROR(INDEX(Calc!$B$4:$L$2003,MATCH($O$3&"-"&C25,Calc!$I$4:$I$2003,0),2),"") | E25: =IFERROR(INDEX(Calc!$B$4:$L$2003,MATCH($O$3&"-"&$C25,Calc!$I$4:$I$2003,0),3),"") | F25: =IFERROR(INDEX(Calc!$B$4:$L$2003,MATCH($O$3&"-"&$C25,Calc!$I$4:$I$2003,0),4),"") | G25: =IFERROR(INDEX(Calc!$B$4:$L$2003,MATCH($O$3&"-"&$C25,Calc!$I$4:$I$2003,0),5),"") | H25: =IFERROR(IF(I25="Closed","―",INDEX(Calc!$B$4:$L$2003,MATCH($O$3&"-"&$C25,Calc!$I$4:$I$2003,0),10)),"")
C26: 12 | D26: =IFERROR(INDEX(Calc!$B$4:$L$2003,MATCH($O$3&"-"&C26,Calc!$I$4:$I$2003,0),2),"") | E26: =IFERROR(INDEX(Calc!$B$4:$L$2003,MATCH($O$3&"-"&$C26,Calc!$I$4:$I$2003,0),3),"") | F26: =IFERROR(INDEX(Calc!$B$4:$L$2003,MATCH($O$3&"-"&$C26,Calc!$I$4:$I$2003,0),4),"") | G26: =IFERROR(INDEX(Calc!$B$4:$L$2003,MATCH($O$3&"-"&$C26,Calc!$I$4:$I$2003,0),5),"") | H26: =IFERROR(IF(I26="Closed","―",INDEX(Calc!$B$4:$L$2003,MATCH($O$3&"-"&$C26,Calc!$I$4:$I$2003,0),10)),"")
C27: 13 | D27: =IFERROR(INDEX(Calc!$B$4:$L$2003,MATCH($O$3&"-"&C27,Calc!$I$4:$I$2003,0),2),"") | E27: =IFERROR(INDEX(Calc!$B$4:$L$2003,MATCH($O$3&"-"&$C27,Calc!$I$4:$I$2003,0),3),"") | F27: =IFERROR(INDEX(Calc!$B$4:$L$2003,MATCH($O$3&"-"&$C27,Calc!$I$4:$I$2003,0),4),"") | G27: =IFERROR(INDEX(Calc!$B$4:$L$2003,MATCH($O$3&"-"&$C27,Calc!$I$4:$I$2003,0),5),"") | H27: =IFERROR(IF(I27="Closed","―",INDEX(Calc!$B$4:$L$2003,MATCH($O$3&"-"&$C27,Calc!$I$4:$I$2003,0),10)),"")
C28: 14 | D28: =IFERROR(INDEX(Calc!$B$4:$L$2003,MATCH($O$3&"-"&C28,Calc!$I$4:$I$2003,0),2),"") | E28: =IFERROR(INDEX(Calc!$B$4:$L$2003,MATCH($O$3&"-"&$C28,Calc!$I$4:$I$2003,0),3),"") | F28: =IFERROR(INDEX(Calc!$B$4:$L$2003,MATCH($O$3&"-"&$C28,Calc!$I$4:$I$2003,0),4),"") | G28: =IFERROR(INDEX(Calc!$B$4:$L$2003,MATCH($O$3&"-"&$C28,Calc!$I$4:$I$2003,0),5),"") | H28: =IFERROR(IF(I28="Closed","―",INDEX(Calc!$B$4:$L$2003,MATCH($O$3&"-"&$C28,Calc!$I$4:$I$2003,0),10)),"")
C29: 15 | D29: =IFERROR(INDEX(Calc!$B$4:$L$2003,MATCH($O$3&"-"&C29,Calc!$I$4:$I$2003,0),2),"") | E29: =IFERROR(INDEX(Calc!$B$4:$L$2003,MATCH($O$3&"-"&$C29,Calc!$I$4:$I$2003,0),3),"") | F29: =IFERROR(INDEX(Calc!$B$4:$L$2003,MATCH($O$3&"-"&$C29,Calc!$I$4:$I$2003,0),4),"") | G29: =IFERROR(INDEX(Calc!$B$4:$L$2003,MATCH($O$3&"-"&$C29,Calc!$I$4:$I$2003,0),5),"") | H29: =IFERROR(IF(I29="Closed","―",INDEX(Calc!$B$4:$L$2003,MATCH($O$3&"-"&$C29,Calc!$I$4:$I$2003,0),10)),"")
C30: 16 | D30: =IFERROR(INDEX(Calc!$B$4:$L$2003,MATCH($O$3&"-"&C30,Calc!$I$4:$I$2003,0),2),"") | E30: =IFERROR(INDEX(Calc!$B$4:$L$2003,MATCH($O$3&"-"&$C30,Calc!$I$4:$I$2003,0),3),"") | F30: =IFERROR(INDEX(Calc!$B$4:$L$2003,MATCH($O$3&"-"&$C30,Calc!$I$4:$I$2003,0),4),"") | G30: =IFERROR(INDEX(Calc!$B$4:$L$2003,MATCH($O$3&"-"&$C30,Calc!$I$4:$I$2003,0),5),"") | H30: =IFERROR(IF(I30="Closed","―",INDEX(Calc!$B$4:$L$2003,MATCH($O$3&"-"&$C30,Calc!$I$4:$I$2003,0),10)),"")
... C1014: 1000 | D1014: =IFERROR(INDEX(Calc!$B$4:$L$2003,MATCH($O$3&"-"&C1014,Calc!$I$4:$I$2003,0),2),"") | E1014: =IFERROR(INDEX(Calc!$B$4:$L$2003,MATCH($O$3&"-"&$C1014,Calc!$I$4:$I$2003,0),3),"") | F1014: =IFERROR(INDEX(Calc!$B$4:$L$2003,MATCH($O$3&"-"&$C1014,Calc!$I$4:$I$2003,0),4),"") | G1014: =IFERROR(INDEX(Calc!$B$4:$L$2003,MATCH($O$3&"-"&$C1014,Calc!$I$4:$I$2003,0),5),"") | H1014: =IFERROR(IF(I1014="Closed","―",INDEX(Calc!$B$4:$L$2003,MATCH($O$3&"-"&$C1014,Calc!$I$4:$I$2003,0),10)),"")

Sheet March
D2: TEAM TO-DO LIST
D3: MARCH | N3: Month Number | O3: 3
C6: Whole Team | E6: Team Member: | F6: Marion Cotillard
C14: # | D14: Job Description | E14: Assigned To | F14: Assigned On | G14: Deadline | H14: Days Remaining | I14: Status
C15: 1 | D15: =IFERROR(INDEX(Calc!$B$4:$L$2003,MATCH($O$3&"-"&C15,Calc!$I$4:$I$2003,0),2),"") -> Create an employee attendance management tool | E15: =IFERROR(INDEX(Calc!$B$4:$L$2003,MATCH($O$3&"-"&$C15,Calc!$I$4:$I$2003,0),3),"") -> Jessica Alba | F15: =IFERROR(INDEX(Calc!$B$4:$L$2003,MATCH($O$3&"-"&$C15,Calc!$I$4:$I$2003,0),4),"") -> 44573 | G15: =IFERROR(INDEX(Calc!$B$4:$L$2003,MATCH($O$3&"-"&$C15,Calc!$I$4:$I$2003,0),5),"") -> 44635 | H15: =IFERROR(IF(I15="Closed","―",INDEX(Calc!$B$4:$L$2003,MATCH($O$3&"-"&$C15,Calc!$I$4:$I$2003,0),10)),"") -> ― | I15: Closed
C16: 2 | D16: =IFERROR(INDEX(Calc!$B$4:$L$2003,MATCH($O$3&"-"&C16,Calc!$I$4:$I$2003,0),2),"") -> Write similar or the same tasks if it is a team effort | E16: =IFERROR(INDEX(Calc!$B$4:$L$2003,MATCH($O$3&"-"&$C16,Calc!$I$4:$I$2003,0),3),"") -> Marion Cotillard | F16: =IFERROR(INDEX(Calc!$B$4:$L$2003,MATCH($O$3&"-"&$C16,Calc!$I$4:$I$2003,0),4),"") -> 44649 | G16: =IFERROR(INDEX(Calc!$B$4:$L$2003,MATCH($O$3&"-"&$C16,Calc!$I$4:$I$2003,0),5),"") -> 44650 | H16: =IFERROR(IF(I16="Closed","―",INDEX(Calc!$B$4:$L$2003,MATCH($O$3&"-"&$C16,Calc!$I$4:$I$2003,0),10)),"") -> -63 | I16: In Progress
C17: 3 | D17: =IFERROR(INDEX(Calc!$B$4:$L$2003,MATCH($O$3&"-"&C17,Calc!$I$4:$I$2003,0),2),"") -> Finish writing the employee handbook | E17: =IFERROR(INDEX(Calc!$B$4:$L$2003,MATCH($O$3&"-"&$C17,Calc!$I$4:$I$2003,0),3),"") -> Viggo Mortensen | F17: =IFERROR(INDEX(Calc!$B$4:$L$2003,MATCH($O$3&"-"&$C17,Calc!$I$4:$I$2003,0),4),"") -> 44622 | G17: =IFERROR(INDEX(Calc!$B$4:$L$2003,MATCH($O$3&"-"&$C17,Calc!$I$4:$I$2003,0),5),"") -> 44647 | H17: =IFERROR(IF(I17="Closed","―",INDEX(Calc!$B$4:$L$2003,MATCH($O$3&"-"&$C17,Calc!$I$4:$I$2003,0),10)),"") -> ― | I17: Closed
C18: 4 | D18: =IFERROR(INDEX(Calc!$B$4:$L$2003,MATCH($O$3&"-"&C18,Calc!$I$4:$I$2003,0),2),"") -> Share our products on social media | E18: =IFERROR(INDEX(Calc!$B$4:$L$2003,MATCH($O$3&"-"&$C18,Calc!$I$4:$I$2003,0),3),"") -> Scarlett Johansson | F18: =IFERROR(INDEX(Calc!$B$4:$L$2003,MATCH($O$3&"-"&$C18,Calc!$I$4:$I$2003,0),4),"") -> 44665 | G18: =IFERROR(INDEX(Calc!$B$4:$L$2003,MATCH($O$3&"-"&$C18,Calc!$I$4:$I$2003,0),5),"") -> 44641 | H18: =IFERROR(IF(I18="Closed","―",INDEX(Calc!$B$4:$L$2003,MATCH($O$3&"-"&$C18,Calc!$I$4:$I$2003,0),10)),"") -> -72 | I18: Not Started
C19: 5 | D19: =IFERROR(INDEX(Calc!$B$4:$L$2003,MATCH($O$3&"-"&C19,Calc!$I$4:$I$2003,0),2),"") -> Write similar or the same tasks if it is a team effort | E19: =IFERROR(INDEX(Calc!$B$4:$L$2003,MATCH($O$3&"-"&$C19,Calc!$I$4:$I$2003,0),3),"") -> Marion Cotillard | F19: =IFERROR(INDEX(Calc!$B$4:$L$2003,MATCH($O$3&"-"&$C19,Calc!$I$4:$I$2003,0),4),"") -> 44604 | G19: =IFERROR(INDEX(Calc!$B$4:$L$2003,MATCH($O$3&"-"&$C19,Calc!$I$4:$I$2003,0),5),"") -> 44637 | H19: =IFERROR(IF(I19="Closed","―",INDEX(Calc!$B$4:$L$2003,MATCH($O$3&"-"&$C19,Calc!$I$4:$I$2003,0),10)),"") -> ― | I19: Closed
C20: 6 | D20: =IFERROR(INDEX(Calc!$B$4:$L$2003,MATCH($O$3&"-"&C20,Calc!$I$4:$I$2003,0),2),"") -> Add a row below this table for it to automatically expand | E20: =IFERROR(INDEX(Calc!$B$4:$L$2003,MATCH($O$3&"-"&$C20,Calc!$I$4:$I$2003,0),3),"") -> Omer Toprak | F20: =IFERROR(INDEX(Calc!$B$4:$L$2003,MATCH($O$3&"-"&$C20,Calc!$I$4:$I$2003,0),4),"") -> 44586 | G20: =IFERROR(INDEX(Calc!$B$4:$L$2003,MATCH($O$3&"-"&$C20,Calc!$I$4:$I$2003,0),5),"") -> 44627 | H20: =IFERROR(IF(I20="Closed","―",INDEX(Calc!$B$4:$L$2003,MATCH($O$3&"-"&$C20,Calc!$I$4:$I$2003,0),10)),"") -> ― | I20: Closed
C21: 7 | D21: =IFERROR(INDEX(Calc!$B$4:$L$2003,MATCH($O$3&"-"&C21,Calc!$I$4:$I$2003,0),2),"") | E21: =IFERROR(INDEX(Calc!$B$4:$L$2003,MATCH($O$3&"-"&$C21,Calc!$I$4:$I$2003,0),3),"") | F21: =IFERROR(INDEX(Calc!$B$4:$L$2003,MATCH($O$3&"-"&$C21,Calc!$I$4:$I$2003,0),4),"") | G21: =IFERROR(INDEX(Calc!$B$4:$L$2003,MATCH($O$3&"-"&$C21,Calc!$I$4:$I$2003,0),5),"") | H21: =IFERROR(IF(I21="Closed","―",INDEX(Calc!$B$4:$L$2003,MATCH($O$3&"-"&$C21,Calc!$I$4:$I$2003,0),10)),"")
C22: 8 | D22: =IFERROR(INDEX(Calc!$B$4:$L$2003,MATCH($O$3&"-"&C22,Calc!$I$4:$I$2003,0),2),"") | E22: =IFERROR(INDEX(Calc!$B$4:$L$2003,MATCH($O$3&"-"&$C22,Calc!$I$4:$I$2003,0),3),"") | F22: =IFERROR(INDEX(Calc!$B$4:$L$2003,MATCH($O$3&"-"&$C22,Calc!$I$4:$I$2003,0),4),"") | G22: =IFERROR(INDEX(Calc!$B$4:$L$2003,MATCH($O$3&"-"&$C22,Calc!$I$4:$I$2003,0),5),"") | H22: =IFERROR(IF(I22="Closed","―",INDEX(Calc!$B$4:$L$2003,MATCH($O$3&"-"&$C22,Calc!$I$4:$I$2003,0),10)),"")
C23: 9 | D23: =IFERROR(INDEX(Calc!$B$4:$L$2003,MATCH($O$3&"-"&C23,Calc!$I$4:$I$2003,0),2),"") | E23: =IFERROR(INDEX(Calc!$B$4:$L$2003,MATCH($O$3&"-"&$C23,Calc!$I$4:$I$2003,0),3),"") | F23: =IFERROR(INDEX(Calc!$B$4:$L$2003,MATCH($O$3&"-"&$C23,Calc!$I$4:$I$2003,0),4),"") | G23: =IFERROR(INDEX(Calc!$B$4:$L$2003,MATCH($O$3&"-"&$C23,Calc!$I$4:$I$2003,0),5),"") | H23: =IFERROR(IF(I23="Closed","―",INDEX(Calc!$B$4:$L$2003,MATCH($O$3&"-"&$C23,Calc!$I$4:$I$2003,0),10)),"")
C24: 10 | D24: =IFERROR(INDEX(Calc!$B$4:$L$2003,MATCH($O$3&"-"&C24,Calc!$I$4:$I$2003,0),2),"") | E24: =IFERROR(INDEX(Calc!$B$4:$L$2003,MATCH($O$3&"-"&$C24,Calc!$I$4:$I$2003,0),3),"") | F24: =IFERROR(INDEX(Calc!$B$4:$L$2003,MATCH($O$3&"-"&$C24,Calc!$I$4:$I$2003,0),4),"") | G24: =IFERROR(INDEX(Calc!$B$4:$L$2003,MATCH($O$3&"-"&$C24,Calc!$I$4:$I$2003,0),5),"") | H24: =IFERROR(IF(I24="Closed","―",INDEX(Calc!$B$4:$L$2003,MATCH($O$3&"-"&$C24,Calc!$I$4:$I$2003,0),10)),"")
C25: 11 | D25: =IFERROR(INDEX(Calc!$B$4:$L$2003,MATCH($O$3&"-"&C25,Calc!$I$4:$I$2003,0),2),"") | E25: =IFERROR(INDEX(Calc!$B$4:$L$2003,MATCH($O$3&"-"&$C25,Calc!$I$4:$I$2003,0),3),"") | F25: =IFERROR(INDEX(Calc!$B$4:$L$2003,MATCH($O$3&"-"&$C25,Calc!$I$4:$I$2003,0),4),"") | G25: =IFERROR(INDEX(Calc!$B$4:$L$2003,MATCH($O$3&"-"&$C25,Calc!$I$4:$I$2003,0),5),"") | H25: =IFERROR(IF(I25="Closed","―",INDEX(Calc!$B$4:$L$2003,MATCH($O$3&"-"&$C25,Calc!$I$4:$I$2003,0),10)),"")
C26: 12 | D26: =IFERROR(INDEX(Calc!$B$4:$L$2003,MATCH($O$3&"-"&C26,Calc!$I$4:$I$2003,0),2),"") | E26: =IFERROR(INDEX(Calc!$B$4:$L$2003,MATCH($O$3&"-"&$C26,Calc!$I$4:$I$2003,0),3),"") | F26: =IFERROR(INDEX(Calc!$B$4:$L$2003,MATCH($O$3&"-"&$C26,Calc!$I$4:$I$2003,0),4),"") | G26: =IFERROR(INDEX(Calc!$B$4:$L$2003,MATCH($O$3&"-"&$C26,Calc!$I$4:$I$2003,0),5),"") | H26: =IFERROR(IF(I26="Closed","―",INDEX(Calc!$B$4:$L$2003,MATCH($O$3&"-"&$C26,Calc!$I$4:$I$2003,0),10)),"")
C27: 13 | D27: =IFERROR(INDEX(Calc!$B$4:$L$2003,MATCH($O$3&"-"&C27,Calc!$I$4:$I$2003,0),2),"") | E27: =IFERROR(INDEX(Calc!$B$4:$L$2003,MATCH($O$3&"-"&$C27,Calc!$I$4:$I$2003,0),3),"") | F27: =IFERROR(INDEX(Calc!$B$4:$L$2003,MATCH($O$3&"-"&$C27,Calc!$I$4:$I$2003,0),4),"") | G27: =IFERROR(INDEX(Calc!$B$4:$L$2003,MATCH($O$3&"-"&$C27,Calc!$I$4:$I$2003,0),5),"") | H27: =IFERROR(IF(I27="Closed","―",INDEX(Calc!$B$4:$L$2003,MATCH($O$3&"-"&$C27,Calc!$I$4:$I$2003,0),10)),"")
C28: 14 | D28: =IFERROR(INDEX(Calc!$B$4:$L$2003,MATCH($O$3&"-"&C28,Calc!$I$4:$I$2003,0),2),"") | E28: =IFERROR(INDEX(Calc!$B$4:$L$2003,MATCH($O$3&"-"&$C28,Calc!$I$4:$I$2003,0),3),"") | F28: =IFERROR(INDEX(Calc!$B$4:$L$2003,MATCH($O$3&"-"&$C28,Calc!$I$4:$I$2003,0),4),"") | G28: =IFERROR(INDEX(Calc!$B$4:$L$2003,MATCH($O$3&"-"&$C28,Calc!$I$4:$I$2003,0),5),"") | H28: =IFERROR(IF(I28="Closed","―",INDEX(Calc!$B$4:$L$2003,MATCH($O$3&"-"&$C28,Calc!$I$4:$I$2003,0),10)),"")
C29: 15 | D29: =IFERROR(INDEX(Calc!$B$4:$L$2003,MATCH($O$3&"-"&C29,Calc!$I$4:$I$2003,0),2),"") | E29: =IFERROR(INDEX(Calc!$B$4:$L$2003,MATCH($O$3&"-"&$C29,Calc!$I$4:$I$2003,0),3),"") | F29: =IFERROR(INDEX(Calc!$B$4:$L$2003,MATCH($O$3&"-"&$C29,Calc!$I$4:$I$2003,0),4),"") | G29: =IFERROR(INDEX(Calc!$B$4:$L$2003,MATCH($O$3&"-"&$C29,Calc!$I$4:$I$2003,0),5),"") | H29: =IFERROR(IF(I29="Closed","―",INDEX(Calc!$B$4:$L$2003,MATCH($O$3&"-"&$C29,Calc!$I$4:$I$2003,0),10)),"")
C30: 16 | D30: =IFERROR(INDEX(Calc!$B$4:$L$2003,MATCH($O$3&"-"&C30,Calc!$I$4:$I$2003,0),2),"") | E30: =IFERROR(INDEX(Calc!$B$4:$L$2003,MATCH($O$3&"-"&$C30,Calc!$I$4:$I$2003,0),3),"") | F30: =IFERROR(INDEX(Calc!$B$4:$L$2003,MATCH($O$3&"-"&$C30,Calc!$I$4:$I$2003,0),4),"") | G30: =IFERROR(INDEX(Calc!$B$4:$L$2003,MATCH($O$3&"-"&$C30,Calc!$I$4:$I$2003,0),5),"") | H30: =IFERROR(IF(I30="Closed","―",INDEX(Calc!$B$4:$L$2003,MATCH($O$3&"-"&$C30,Calc!$I$4:$I$2003,0),10)),"")
C31: 17 | D31: =IFERROR(INDEX(Calc!$B$4:$L$2003,MATCH($O$3&"-"&C31,Calc!$I$4:$I$2003,0),2),"") | E31: =IFERROR(INDEX(Calc!$B$4:$L$2003,MATCH($O$3&"-"&$C31,Calc!$I$4:$I$2003,0),3),"") | F31: =IFERROR(INDEX(Calc!$B$4:$L$2003,MATCH($O$3&"-"&$C31,Calc!$I$4:$I$2003,0),4),"") | G31: =IFERROR(INDEX(Calc!$B$4:$L$2003,MATCH($O$3&"-"&$C31,Calc!$I$4:$I$2003,0),5),"") | H31: =IFERROR(IF(I31="Closed","―",INDEX(Calc!$B$4:$L$2003,MATCH($O$3&"-"&$C31,Calc!$I$4:$I$2003,0),10)),"")
C32: 18 | D32: =IFERROR(INDEX(Calc!$B$4:$L$2003,MATCH($O$3&"-"&C32,Calc!$I$4:$I$2003,0),2),"") | E32: =IFERROR(INDEX(Calc!$B$4:$L$2003,MATCH($O$3&"-"&$C32,Calc!$I$4:$I$2003,0),3),"") | F32: =IFERROR(INDEX(Calc!$B$4:$L$2003,MATCH($O$3&"-"&$C32,Calc!$I$4:$I$2003,0),4),"") | G32: =IFERROR(INDEX(Calc!$B$4:$L$2003,MATCH($O$3&"-"&$C32,Calc!$I$4:$I$2003,0),5),"") | H32: =IFERROR(IF(I32="Closed","―",INDEX(Calc!$B$4:$L$2003,MATCH($O$3&"-"&$C32,Calc!$I$4:$I$2003,0),10)),"")
... C1014: 1000 | D1014: =IFERROR(INDEX(Calc!$B$4:$L$2003,MATCH($O$3&"-"&C1014,Calc!$I$4:$I$2003,0),2),"") | E1014: =IFERROR(INDEX(Calc!$B$4:$L$2003,MATCH($O$3&"-"&$C1014,Calc!$I$4:$I$2003,0),3),"") | F1014: =IFERROR(INDEX(Calc!$B$4:$L$2003,MATCH($O$3&"-"&$C1014,Calc!$I$4:$I$2003,0),4),"") | G1014: =IFERROR(INDEX(Calc!$B$4:$L$2003,MATCH($O$3&"-"&$C1014,Calc!$I$4:$I$2003,0),5),"") | H1014: =IFERROR(IF(I1014="Closed","―",INDEX(Calc!$B$4:$L$2003,MATCH($O$3&"-"&$C1014,Calc!$I$4:$I$2003,0),10)),"")

Sheet April
D2: TEAM TO-DO LIST
D3: APRIL | N3: Month Number | O3: 4
C6: Whole Team | E6: Team Member: | F6: Mila Kunis
C14: # | D14: Job Description | E14: Assigned To | F14: Assigned On | G14: Deadline | H14: Days Remaining | I14: Status
C15: 1 | D15: =IFERROR(INDEX(Calc!$B$4:$L$2003,MATCH($O$3&"-"&C15,Calc!$I$4:$I$2003,0),2),"") -> Share our products on social media | E15: =IFERROR(INDEX(Calc!$B$4:$L$2003,MATCH($O$3&"-"&$C15,Calc!$I$4:$I$2003,0),3),"") -> John Stones | F15: =IFERROR(INDEX(Calc!$B$4:$L$2003,MATCH($O$3&"-"&$C15,Calc!$I$4:$I$2003,0),4),"") -> 44593 | G15: =IFERROR(INDEX(Calc!$B$4:$L$2003,MATCH($O$3&"-"&$C15,Calc!$I$4:$I$2003,0),5),"") -> 44656 | H15: =IFERROR(IF(I15="Closed","―",INDEX(Calc!$B$4:$L$2003,MATCH($O$3&"-"&$C15,Calc!$I$4:$I$2003,0),10)),"") -> -57 | I15: Not Started
C16: 2 | D16: =IFERROR(INDEX(Calc!$B$4:$L$2003,MATCH($O$3&"-"&C16,Calc!$I$4:$I$2003,0),2),"") -> Write different tasks for each team member | E16: =IFERROR(INDEX(Calc!$B$4:$L$2003,MATCH($O$3&"-"&$C16,Calc!$I$4:$I$2003,0),3),"") -> Marion Cotillard | F16: =IFERROR(INDEX(Calc!$B$4:$L$2003,MATCH($O$3&"-"&$C16,Calc!$I$4:$I$2003,0),4),"") -> 44686 | G16: =IFERROR(INDEX(Calc!$B$4:$L$2003,MATCH($O$3&"-"&$C16,Calc!$I$4:$I$2003,0),5),"") -> 44668 | H16: =IFERROR(IF(I16="Closed","―",INDEX(Calc!$B$4:$L$2003,MATCH($O$3&"-"&$C16,Calc!$I$4:$I$2003,0),10)),"") -> -45 | I16: In Progress
C17: 3 | D17: =IFERROR(INDEX(Calc!$B$4:$L$2003,MATCH($O$3&"-"&C17,Calc!$I$4:$I$2003,0),2),"") -> Clean the desks | E17: =IFERROR(INDEX(Calc!$B$4:$L$2003,MATCH($O$3&"-"&$C17,Calc!$I$4:$I$2003,0),3),"") -> Mila Kunis | F17: =IFERROR(INDEX(Calc!$B$4:$L$2003,MATCH($O$3&"-"&$C17,Calc!$I$4:$I$2003,0),4),"") -> 44640 | G17: =IFERROR(INDEX(Calc!$B$4:$L$2003,MATCH($O$3&"-"&$C17,Calc!$I$4:$I$2003,0),5),"") -> 44670 | H17: =IFERROR(IF(I17="Closed","―",INDEX(Calc!$B$4:$L$2003,MATCH($O$3&"-"&$C17,Calc!$I$4:$I$2003,0),10)),"") -> ― | I17: Closed
C18: 4 | D18: =IFERROR(INDEX(Calc!$B$4:$L$2003,MATCH($O$3&"-"&C18,Calc!$I$4:$I$2003,0),2),"") -> Build a resume template | E18: =IFERROR(INDEX(Calc!$B$4:$L$2003,MATCH($O$3&"-"&$C18,Calc!$I$4:$I$2003,0),3),"") -> Donald Trump | F18: =IFERROR(INDEX(Calc!$B$4:$L$2003,MATCH($O$3&"-"&$C18,Calc!$I$4:$I$2003,0),4),"") -> 44669 | G18: =IFERROR(INDEX(Calc!$B$4:$L$2003,MATCH($O$3&"-"&$C18,Calc!$I$4:$I$2003,0),5),"") -> 44672 | H18: =IFERROR(IF(I18="Closed","―",INDEX(Calc!$B$4:$L$2003,MATCH($O$3&"-"&$C18,Calc!$I$4:$I$2003,0),10)),"") -> -41 | I18: In Progress
C19: 5 | D19: =IFERROR(INDEX(Calc!$B$4:$L$2003,MATCH($O$3&"-"&C19,Calc!$I$4:$I$2003,0),2),"") -> Take the chairs downstairs | E19: =IFERROR(INDEX(Calc!$B$4:$L$2003,MATCH($O$3&"-"&$C19,Calc!$I$4:$I$2003,0),3),"") -> Mila Kunis | F19: =IFERROR(INDEX(Calc!$B$4:$L$2003,MATCH($O$3&"-"&$C19,Calc!$I$4:$I$2003,0),4),"") -> 44632 | G19: =IFERROR(INDEX(Calc!$B$4:$L$2003,MATCH($O$3&"-"&$C19,Calc!$I$4:$I$2003,0),5),"") -> 44671 | H19: =IFERROR(IF(I19="Closed","―",INDEX(Calc!$B$4:$L$2003,MATCH($O$3&"-"&$C19,Calc!$I$4:$I$2003,0),10)),"") -> -42 | I19: In Progress
C20: 6 | D20: =IFERROR(INDEX(Calc!$B$4:$L$2003,MATCH($O$3&"-"&C20,Calc!$I$4:$I$2003,0),2),"") | E20: =IFERROR(INDEX(Calc!$B$4:$L$2003,MATCH($O$3&"-"&$C20,Calc!$I$4:$I$2003,0),3),"") | F20: =IFERROR(INDEX(Calc!$B$4:$L$2003,MATCH($O$3&"-"&$C20,Calc!$I$4:$I$2003,0),4),"") | G20: =IFERROR(INDEX(Calc!$B$4:$L$2003,MATCH($O$3&"-"&$C20,Calc!$I$4:$I$2003,0),5),"") | H20: =IFERROR(IF(I20="Closed","―",INDEX(Calc!$B$4:$L$2003,MATCH($O$3&"-"&$C20,Calc!$I$4:$I$2003,0),10)),"")
C21: 7 | D21: =IFERROR(INDEX(Calc!$B$4:$L$2003,MATCH($O$3&"-"&C21,Calc!$I$4:$I$2003,0),2),"") | E21: =IFERROR(INDEX(Calc!$B$4:$L$2003,MATCH($O$3&"-"&$C21,Calc!$I$4:$I$2003,0),3),"") | F21: =IFERROR(INDEX(Calc!$B$4:$L$2003,MATCH($O$3&"-"&$C21,Calc!$I$4:$I$2003,0),4),"") | G21: =IFERROR(INDEX(Calc!$B$4:$L$2003,MATCH($O$3&"-"&$C21,Calc!$I$4:$I$2003,0),5),"") | H21: =IFERROR(IF(I21="Closed","―",INDEX(Calc!$B$4:$L$2003,MATCH($O$3&"-"&$C21,Calc!$I$4:$I$2003,0),10)),"")
C22: 8 | D22: =IFERROR(INDEX(Calc!$B$4:$L$2003,MATCH($O$3&"-"&C22,Calc!$I$4:$I$2003,0),2),"") | E22: =IFERROR(INDEX(Calc!$B$4:$L$2003,MATCH($O$3&"-"&$C22,Calc!$I$4:$I$2003,0),3),"") | F22: =IFERROR(INDEX(Calc!$B$4:$L$2003,MATCH($O$3&"-"&$C22,Calc!$I$4:$I$2003,0),4),"") | G22: =IFERROR(INDEX(Calc!$B$4:$L$2003,MATCH($O$3&"-"&$C22,Calc!$I$4:$I$2003,0),5),"") | H22: =IFERROR(IF(I22="Closed","―",INDEX(Calc!$B$4:$L$2003,MATCH($O$3&"-"&$C22,Calc!$I$4:$I$2003,0),10)),"")
C23: 9 | D23: =IFERROR(INDEX(Calc!$B$4:$L$2003,MATCH($O$3&"-"&C23,Calc!$I$4:$I$2003,0),2),"") | E23: =IFERROR(INDEX(Calc!$B$4:$L$2003,MATCH($O$3&"-"&$C23,Calc!$I$4:$I$2003,0),3),"") | F23: =IFERROR(INDEX(Calc!$B$4:$L$2003,MATCH($O$3&"-"&$C23,Calc!$I$4:$I$2003,0),4),"") | G23: =IFERROR(INDEX(Calc!$B$4:$L$2003,MATCH($O$3&"-"&$C23,Calc!$I$4:$I$2003,0),5),"") | H23: =IFERROR(IF(I23="Closed","―",INDEX(Calc!$B$4:$L$2003,MATCH($O$3&"-"&$C23,Calc!$I$4:$I$2003,0),10)),"")
C24: 10 | D24: =IFERROR(INDEX(Calc!$B$4:$L$2003,MATCH($O$3&"-"&C24,Calc!$I$4:$I$2003,0),2),"") | E24: =IFERROR(INDEX(Calc!$B$4:$L$2003,MATCH($O$3&"-"&$C24,Calc!$I$4:$I$2003,0),3),"") | F24: =IFERROR(INDEX(Calc!$B$4:$L$2003,MATCH($O$3&"-"&$C24,Calc!$I$4:$I$2003,0),4),"") | G24: =IFERROR(INDEX(Calc!$B$4:$L$2003,MATCH($O$3&"-"&$C24,Calc!$I$4:$I$2003,0),5),"") | H24: =IFERROR(IF(I24="Closed","―",INDEX(Calc!$B$4:$L$2003,MATCH($O$3&"-"&$C24,Calc!$I$4:$I$2003,0),10)),"")
C25: 11 | D25: =IFERROR(INDEX(Calc!$B$4:$L$2003,MATCH($O$3&"-"&C25,Calc!$I$4:$I$2003,0),2),"") | E25: =IFERROR(INDEX(Calc!$B$4:$L$2003,MATCH($O$3&"-"&$C25,Calc!$I$4:$I$2003,0),3),"") | F25: =IFERROR(INDEX(Calc!$B$4:$L$2003,MATCH($O$3&"-"&$C25,Calc!$I$4:$I$2003,0),4),"") | G25: =IFERROR(INDEX(Calc!$B$4:$L$2003,MATCH($O$3&"-"&$C25,Calc!$I$4:$I$2003,0),5),"") | H25: =IFERROR(IF(I25="Closed","―",INDEX(Calc!$B$4:$L$2003,MATCH($O$3&"-"&$C25,Calc!$I$4:$I$2003,0),10)),"")
C26: 12 | D26: =IFERROR(INDEX(Calc!$B$4:$L$2003,MATCH($O$3&"-"&C26,Calc!$I$4:$I$2003,0),2),"") | E26: =IFERROR(INDEX(Calc!$B$4:$L$2003,MATCH($O$3&"-"&$C26,Calc!$I$4:$I$2003,0),3),"") | F26: =IFERROR(INDEX(Calc!$B$4:$L$2003,MATCH($O$3&"-"&$C26,Calc!$I$4:$I$2003,0),4),"") | G26: =IFERROR(INDEX(Calc!$B$4:$L$2003,MATCH($O$3&"-"&$C26,Calc!$I$4:$I$2003,0),5),"") | H26: =IFERROR(IF(I26="Closed","―",INDEX(Calc!$B$4:$L$2003,MATCH($O$3&"-"&$C26,Calc!$I$4:$I$2003,0),10)),"")
C27: 13 | D27: =IFERROR(INDEX(Calc!$B$4:$L$2003,MATCH($O$3&"-"&C27,Calc!$I$4:$I$2003,0),2),"") | E27: =IFERROR(INDEX(Calc!$B$4:$L$2003,MATCH($O$3&"-"&$C27,Calc!$I$4:$I$2003,0),3),"") | F27: =IFERROR(INDEX(Calc!$B$4:$L$2003,MATCH($O$3&"-"&$C27,Calc!$I$4:$I$2003,0),4),"") | G27: =IFERROR(INDEX(Calc!$B$4:$L$2003,MATCH($O$3&"-"&$C27,Calc!$I$4:$I$2003,0),5),"") | H27: =IFERROR(IF(I27="Closed","―",INDEX(Calc!$B$4:$L$2003,MATCH($O$3&"-"&$C27,Calc!$I$4:$I$2003,0),10)),"")
C28: 14 | D28: =IFERROR(INDEX(Calc!$B$4:$L$2003,MATCH($O$3&"-"&C28,Calc!$I$4:$I$2003,0),2),"") | E28: =IFERROR(INDEX(Calc!$B$4:$L$2003,MATCH($O$3&"-"&$C28,Calc!$I$4:$I$2003,0),3),"") | F28: =IFERROR(INDEX(Calc!$B$4:$L$2003,MATCH($O$3&"-"&$C28,Calc!$I$4:$I$2003,0),4),"") | G28: =IFERROR(INDEX(Calc!$B$4:$L$2003,MATCH($O$3&"-"&$C28,Calc!$I$4:$I$2003,0),5),"") | H28: =IFERROR(IF(I28="Closed","―",INDEX(Calc!$B$4:$L$2003,MATCH($O$3&"-"&$C28,Calc!$I$4:$I$2003,0),10)),"")
C29: 15 | D29: =IFERROR(INDEX(Calc!$B$4:$L$2003,MATCH($O$3&"-"&C29,Calc!$I$4:$I$2003,0),2),"") | E29: =IFERROR(INDEX(Calc!$B$4:$L$2003,MATCH($O$3&"-"&$C29,Calc!$I$4:$I$2003,0),3),"") | F29: =IFERROR(INDEX(Calc!$B$4:$L$2003,MATCH($O$3&"-"&$C29,Calc!$I$4:$I$2003,0),4),"") | G29: =IFERROR(INDEX(Calc!$B$4:$L$2003,MATCH($O$3&"-"&$C29,Calc!$I$4:$I$2003,0),5),"") | H29: =IFERROR(IF(I29="Closed","―",INDEX(Calc!$B$4:$L$2003,MATCH($O$3&"-"&$C29,Calc!$I$4:$I$2003,0),10)),"")
C30: 16 | D30: =IFERROR(INDEX(Calc!$B$4:$L$2003,MATCH($O$3&"-"&C30,Calc!$I$4:$I$2003,0),2),"") | E30: =IFERROR(INDEX(Calc!$B$4:$L$2003,MATCH($O$3&"-"&$C30,Calc!$I$4:$I$2003,0),3),"") | F30: =IFERROR(INDEX(Calc!$B$4:$L$2003,MATCH($O$3&"-"&$C30,Calc!$I$4:$I$2003,0),4),"") | G30: =IFERROR(INDEX(Calc!$B$4:$L$2003,MATCH($O$3&"-"&$C30,Calc!$I$4:$I$2003,0),5),"") | H30: =IFERROR(IF(I30="Closed","―",INDEX(Calc!$B$4:$L$2003,MATCH($O$3&"-"&$C30,Calc!$I$4:$I$2003,0),10)),"")
C31: 17 | D31: =IFERROR(INDEX(Calc!$B$4:$L$2003,MATCH($O$3&"-"&C31,Calc!$I$4:$I$2003,0),2),"") | E31: =IFERROR(INDEX(Calc!$B$4:$L$2003,MATCH($O$3&"-"&$C31,Calc!$I$4:$I$2003,0),3),"") | F31: =IFERROR(INDEX(Calc!$B$4:$L$2003,MATCH($O$3&"-"&$C31,Calc!$I$4:$I$2003,0),4),"") | G31: =IFERROR(INDEX(Calc!$B$4:$L$2003,MATCH($O$3&"-"&$C31,Calc!$I$4:$I$2003,0),5),"") | H31: =IFERROR(IF(I31="Closed","―",INDEX(Calc!$B$4:$L$2003,MATCH($O$3&"-"&$C31,Calc!$I$4:$I$2003,0),10)),"")
... C1014: 1000 | D1014: =IFERROR(INDEX(Calc!$B$4:$L$2003,MATCH($O$3&"-"&C1014,Calc!$I$4:$I$2003,0),2),"") | E1014: =IFERROR(INDEX(Calc!$B$4:$L$2003,MATCH($O$3&"-"&$C1014,Calc!$I$4:$I$2003,0),3),"") | F1014: =IFERROR(INDEX(Calc!$B$4:$L$2003,MATCH($O$3&"-"&$C1014,Calc!$I$4:$I$2003,0),4),"") | G1014: =IFERROR(INDEX(Calc!$B$4:$L$2003,MATCH($O$3&"-"&$C1014,Calc!$I$4:$I$2003,0),5),"") | H1014: =IFERROR(IF(I1014="Closed","―",INDEX(Calc!$B$4:$L$2003,MATCH($O$3&"-"&$C1014,Calc!$I$4:$I$2003,0),10)),"")

Sheet May
D2: TEAM TO-DO LIST
D3: MAY | N3: Month Number | O3: 5
C6: Whole Team | E6: Team Member: | F6: Marion Cotillard
C14: # | D14: Job Description | E14: Assigned To | F14: Assigned On | G14: Deadline | H14: Days Remaining | I14: Status
C15: 1 | D15: =IFERROR(INDEX(Calc!$B$4:$L$2003,MATCH($O$3&"-"&C15,Calc!$I$4:$I$2003,0),2),"") -> Finish developing the printable invoice template | E15: =IFERROR(INDEX(Calc!$B$4:$L$2003,MATCH($O$3&"-"&$C15,Calc!$I$4:$I$2003,0),3),"") -> Jessica Alba | F15: =IFERROR(INDEX(Calc!$B$4:$L$2003,MATCH($O$3&"-"&$C15,Calc!$I$4:$I$2003,0),4),"") -> 44690 | G15: =IFERROR(INDEX(Calc!$B$4:$L$2003,MATCH($O$3&"-"&$C15,Calc!$I$4:$I$2003,0),5),"") -> 44697 | H15: =IFERROR(IF(I15="Closed","―",INDEX(Calc!$B$4:$L$2003,MATCH($O$3&"-"&$C15,Calc!$I$4:$I$2003,0),10)),"") -> -16 | I15: Not Started
C16: 2 | D16: =IFERROR(INDEX(Calc!$B$4:$L$2003,MATCH($O$3&"-"&C16,Calc!$I$4:$I$2003,0),2),"") -> Check our free and paid products | E16: =IFERROR(INDEX(Calc!$B$4:$L$2003,MATCH($O$3&"-"&$C16,Calc!$I$4:$I$2003,0),3),"") -> Emma Stone | F16: =IFERROR(INDEX(Calc!$B$4:$L$2003,MATCH($O$3&"-"&$C16,Calc!$I$4:$I$2003,0),4),"") -> 44703 | G16: =IFERROR(INDEX(Calc!$B$4:$L$2003,MATCH($O$3&"-"&$C16,Calc!$I$4:$I$2003,0),5),"") -> 44687 | H16: =IFERROR(IF(I16="Closed","―",INDEX(Calc!$B$4:$L$2003,MATCH($O$3&"-"&$C16,Calc!$I$4:$I$2003,0),10)),"") -> ― | I16: Closed
C17: 3 | D17: =IFERROR(INDEX(Calc!$B$4:$L$2003,MATCH($O$3&"-"&C17,Calc!$I$4:$I$2003,0),2),"") -> Write more tasks here | E17: =IFERROR(INDEX(Calc!$B$4:$L$2003,MATCH($O$3&"-"&$C17,Calc!$I$4:$I$2003,0),3),"") -> Charlize Theron | F17: =IFERROR(INDEX(Calc!$B$4:$L$2003,MATCH($O$3&"-"&$C17,Calc!$I$4:$I$2003,0),4),"") -> 44609 | G17: =IFERROR(INDEX(Calc!$B$4:$L$2003,MATCH($O$3&"-"&$C17,Calc!$I$4:$I$2003,0),5),"") -> 44712 | H17: =IFERROR(IF(I17="Closed","―",INDEX(Calc!$B$4:$L$2003,MATCH($O$3&"-"&$C17,Calc!$I$4:$I$2003,0),10)),"") -> -1 | I17: In Progress
C18: 4 | D18: =IFERROR(INDEX(Calc!$B$4:$L$2003,MATCH($O$3&"-"&C18,Calc!$I$4:$I$2003,0),2),"") -> Increase clickthrough rate by 0.1% | E18: =IFERROR(INDEX(Calc!$B$4:$L$2003,MATCH($O$3&"-"&$C18,Calc!$I$4:$I$2003,0),3),"") -> Scarlett Johansson | F18: =IFERROR(INDEX(Calc!$B$4:$L$2003,MATCH($O$3&"-"&$C18,Calc!$I$4:$I$2003,0),4),"") -> 44618 | G18: =IFERROR(INDEX(Calc!$B$4:$L$2003,MATCH($O$3&"-"&$C18,Calc!$I$4:$I$2003,0),5),"") -> 44712 | H18: =IFERROR(IF(I18="Closed","―",INDEX(Calc!$B$4:$L$2003,MATCH($O$3&"-"&$C18,Calc!$I$4:$I$2003,0),10)),"") -> ― | I18: Closed
C19: 5 | D19: =IFERROR(INDEX(Calc!$B$4:$L$2003,MATCH($O$3&"-"&C19,Calc!$I$4:$I$2003,0),2),"") -> Write similar or the same tasks if it is a team effort | E19: =IFERROR(INDEX(Calc!$B$4:$L$2003,MATCH($O$3&"-"&$C19,Calc!$I$4:$I$2003,0),3),"") -> Marion Cotillard | F19: =IFERROR(INDEX(Calc!$B$4:$L$2003,MATCH($O$3&"-"&$C19,Calc!$I$4:$I$2003,0),4),"") -> 44599 | G19: =IFERROR(INDEX(Calc!$B$4:$L$2003,MATCH($O$3&"-"&$C19,Calc!$I$4:$I$2003,0),5),"") -> 44688 | H19: =IFERROR(IF(I19="Closed","―",INDEX(Calc!$B$4:$L$2003,MATCH($O$3&"-"&$C19,Calc!$I$4:$I$2003,0),10)),"") -> ― | I19: Closed
