Workbook

Sheet Dashboard
B2: TEAM TO-DO LIST
B3: DASHBOARD

Sheet Team_Data
D2: TEAM TO-DO LIST
D3: TEAM DATA SHEET
C6: TEAM MEMBERS | I6: JOB ASSIGNMENT TABLE | P6: Date Format | Q6: dd.mm.yyyy
C7: # | D7: Name Surname | E7: Not Started | F7: In Progress | G7: Closed | I7: Job ID | J7: Job Description | K7: Assigned To | L7: Assigned On | M7: Deadline
C8: =IFERROR(IF(LEN(D8)>1,ROW(C8)-ROW($C$7),""),"") -> 1 | D8: Donald Trump | E8: =IFERROR(IF(ISBLANK($D8),"",COUNTIFS(Calc!$D$4:$D$2003,Team_Data!$D8,Calc!$L$4:$L$2003,Team_Data!E$7)),"") -> 1 | F8: =IFERROR(IF(ISBLANK($D8),"",COUNTIFS(Calc!$D$4:$D$2003,Team_Data!$D8,Calc!$L$4:$L$2003,Team_Data!F$7)),"") -> 2 | G8: =IFERROR(IF(ISBLANK($D8),"",COUNTIFS(Calc!$D$4:$D$2003,Team_Data!$D8,Calc!$L$4:$L$2003,Team_Data!G$7)),"") -> 3 | I8: =IFERROR(IF(LEN(J8)>0,ROW(I8)-ROW($I$7),""),"") -> 1 | J8: Complete the personal to-do list | K8: Donald Trump | L8: 44904 | M8: 44910
C9: =IFERROR(IF(LEN(D9)>1,ROW(C9)-ROW($C$7),""),"") -> 2 | D9: Viggo Mortensen | E9: =IFERROR(IF(ISBLANK($D9),"",COUNTIFS(Calc!$D$4:$D$2003,Team_Data!$D9,Calc!$L$4:$L$2003,Team_Data!E$7)),"") -> 2 | F9: =IFERROR(IF(ISBLANK($D9),"",COUNTIFS(Calc!$D$4:$D$2003,Team_Data!$D9,Calc!$L$4:$L$2003,Team_Data!F$7)),"") -> 1 | G9: =IFERROR(IF(ISBLANK($D9),"",COUNTIFS(Calc!$D$4:$D$2003,Team_Data!$D9,Calc!$L$4:$L$2003,Team_Data!G$7)),"") -> 3 | I9: =IFERROR(IF(LEN(J9)>0,ROW(I9)-ROW($I$7),""),"") -> 2 | J9: Build a resume template | K9: Donald Trump | L9: 44734 | M9: 44837
C10: =IFERROR(IF(LEN(D10)>1,ROW(C10)-ROW($C$7),""),"") -> 3 | D10: John Stones | E10: =IFERROR(IF(ISBLANK($D10),"",COUNTIFS(Calc!$D$4:$D$2003,Team_Data!$D10,Calc!$L$4:$L$2003,Team_Data!E$7)),"") -> 2 | F10: =IFERROR(IF(ISBLANK($D10),"",COUNTIFS(Calc!$D$4:$D$2003,Team_Data!$D10,Calc!$L$4:$L$2003,Team_Data!F$7)),"") -> 4 | G10: =IFERROR(IF(ISBLANK($D10),"",COUNTIFS(Calc!$D$4:$D$2003,Team_Data!$D10,Calc!$L$4:$L$2003,Team_Data!G$7)),"") -> 1 | I10: =IFERROR(IF(LEN(J10)>0,ROW(I10)-ROW($I$7),""),"") -> 3 | J10: Finish writing the employee handbook | K10: Viggo Mortensen | L10: 44605 | M10: 44859
C11: =IFERROR(IF(LEN(D11)>1,ROW(C11)-ROW($C$7),""),"") -> 4 | D11: Jessica Alba | E11: =IFERROR(IF(ISBLANK($D11),"",COUNTIFS(Calc!$D$4:$D$2003,Team_Data!$D11,Calc!$L$4:$L$2003,Team_Data!E$7)),"") -> 3 | F11: =IFERROR(IF(ISBLANK($D11),"",COUNTIFS(Calc!$D$4:$D$2003,Team_Data!$D11,Calc!$L$4:$L$2003,Team_Data!F$7)),"") -> 0 | G11: =IFERROR(IF(ISBLANK($D11),"",COUNTIFS(Calc!$D$4:$D$2003,Team_Data!$D11,Calc!$L$4:$L$2003,Team_Data!G$7)),"") -> 2 | I11: =IFERROR(IF(LEN(J11)>0,ROW(I11)-ROW($I$7),""),"") -> 4 | J11: Create a financial monthly reporting template | K11: Viggo Mortensen | L11: 44605 | M11: 44859
C12: =IFERROR(IF(LEN(D12)>1,ROW(C12)-ROW($C$7),""),"") -> 5 | D12: Emma Stone | E12: =IFERROR(IF(ISBLANK($D12),"",COUNTIFS(Calc!$D$4:$D$2003,Team_Data!$D12,Calc!$L$4:$L$2003,Team_Data!E$7)),"") -> 1 | F12: =IFERROR(IF(ISBLANK($D12),"",COUNTIFS(Calc!$D$4:$D$2003,Team_Data!$D12,Calc!$L$4:$L$2003,Team_Data!F$7)),"") -> 2 | G12: =IFERROR(IF(ISBLANK($D12),"",COUNTIFS(Calc!$D$4:$D$2003,Team_Data!$D12,Calc!$L$4:$L$2003,Team_Data!G$7)),"") -> 4 | I12: =IFERROR(IF(LEN(J12)>0,ROW(I12)-ROW($I$7),""),"") -> 5 | J12: Develop an inventory management tool in excel | K12: John Stones | L12: 44584 | M12: 44743
C13: =IFERROR(IF(LEN(D13)>1,ROW(C13)-ROW($C$7),""),"") -> 6 | D13: Scarlett Johansson | E13: =IFERROR(IF(ISBLANK($D13),"",COUNTIFS(Calc!$D$4:$D$2003,Team_Data!$D13,Calc!$L$4:$L$2003,Team_Data!E$7)),"") -> 2 | F13: =IFERROR(IF(ISBLANK($D13),"",COUNTIFS(Calc!$D$4:$D$2003,Team_Data!$D13,Calc!$L$4:$L$2003,Team_Data!F$7)),"") -> 1 | G13: =IFERROR(IF(ISBLANK($D13),"",COUNTIFS(Calc!$D$4:$D$2003,Team_Data!$D13,Calc!$L$4:$L$2003,Team_Data!G$7)),"") -> 3 | I13: =IFERROR(IF(LEN(J13)>0,ROW(I13)-ROW($I$7),""),"") -> 6 | J13: Finish developing the printable invoice template | K13: Jessica Alba | L13: 44690 | M13: 44697
C14: =IFERROR(IF(LEN(D14)>1,ROW(C14)-ROW($C$7),""),"") -> 7 | D14: Mila Kunis | E14: =IFERROR(IF(ISBLANK($D14),"",COUNTIFS(Calc!$D$4:$D$2003,Team_Data!$D14,Calc!$L$4:$L$2003,Team_Data!E$7)),"") -> 1 | F14: =IFERROR(IF(ISBLANK($D14),"",COUNTIFS(Calc!$D$4:$D$2003,Team_Data!$D14,Calc!$L$4:$L$2003,Team_Data!F$7)),"") -> 1 | G14: =IFERROR(IF(ISBLANK($D14),"",COUNTIFS(Calc!$D$4:$D$2003,Team_Data!$D14,Calc!$L$4:$L$2003,Team_Data!G$7)),"") -> 3 | I14: =IFERROR(IF(LEN(J14)>0,ROW(I14)-ROW($I$7),""),"") -> 7 | J14: Create an employee attendance management tool | K14: Jessica Alba | L14: 44573 | M14: 44635
C15: =IFERROR(IF(LEN(D15)>1,ROW(C15)-ROW($C$7),""),"") -> 8 | D15: Charlize Theron | E15: =IFERROR(IF(ISBLANK($D15),"",COUNTIFS(Calc!$D$4:$D$2003,Team_Data!$D15,Calc!$L$4:$L$2003,Team_Data!E$7)),"") -> 2 | F15: =IFERROR(IF(ISBLANK($D15),"",COUNTIFS(Calc!$D$4:$D$2003,Team_Data!$D15,Calc!$L$4:$L$2003,Team_Data!F$7)),"") -> 3 | G15: =IFERROR(IF(ISBLANK($D15),"",COUNTIFS(Calc!$D$4:$D$2003,Team_Data!$D15,Calc!$L$4:$L$2003,Team_Data!G$7)),"") -> 1 | I15: =IFERROR(IF(LEN(J15)>0,ROW(I15)-ROW($I$7),""),"") -> 8 | J15: Finish the student lesson plan | K15: Jessica Alba | L15: 44566 | M15: 44571
C16: =IFERROR(IF(LEN(D16)>1,ROW(C16)-ROW($C$7),""),"") -> 9 | D16: Marion Cotillard | E16: =IFERROR(IF(ISBLANK($D16),"",COUNTIFS(Calc!$D$4:$D$2003,Team_Data!$D16,Calc!$L$4:$L$2003,Team_Data!E$7)),"") -> 0 | F16: =IFERROR(IF(ISBLANK($D16),"",COUNTIFS(Calc!$D$4:$D$2003,Team_Data!$D16,Calc!$L$4:$L$2003,Team_Data!F$7)),"") -> 2 | G16: =IFERROR(IF(ISBLANK($D16),"",COUNTIFS(Calc!$D$4:$D$2003,Team_Data!$D16,Calc!$L$4:$L$2003,Team_Data!G$7)),"") -> 4 | I16: =IFERROR(IF(LEN(J16)>0,ROW(I16)-ROW($I$7),""),"") -> 9 | J16: Visit the website of | K16: Emma Stone | L16: 44683 | M16: 44731
C17: =IFERROR(IF(LEN(D17)>1,ROW(C17)-ROW($C$7),""),"") -> 10 | D17: Omer Toprak | E17: =IFERROR(IF(ISBLANK($D17),"",COUNTIFS(Calc!$D$4:$D$2003,Team_Data!$D17,Calc!$L$4:$L$2003,Team_Data!E$7)),"") -> 0 | F17: =IFERROR(IF(ISBLANK($D17),"",COUNTIFS(Calc!$D$4:$D$2003,Team_Data!$D17,Calc!$L$4:$L$2003,Team_Data!F$7)),"") -> 4 | G17: =IFERROR(IF(ISBLANK($D17),"",COUNTIFS(Calc!$D$4:$D$2003,Team_Data!$D17,Calc!$L$4:$L$2003,Team_Data!G$7)),"") -> 2 | I17: =IFERROR(IF(LEN(J17)>0,ROW(I17)-ROW($I$7),""),"") -> 10 | J17: Check our free and paid products | K17: Emma Stone | L17: 44703 | M17: 44687
C18: =IFERROR(IF(LEN(D18)>1,ROW(C18)-ROW($C$7),""),"") | E18: =IFERROR(IF(ISBLANK($D18),"",COUNTIFS(Calc!$D$4:$D$2003,Team_Data!$D18,Calc!$L$4:$L$2003,Team_Data!E$7)),"") | F18: =IFERROR(IF(ISBLANK($D18),"",COUNTIFS(Calc!$D$4:$D$2003,Team_Data!$D18,Calc!$L$4:$L$2003,Team_Data!F$7)),"") | G18: =IFERROR(IF(ISBLANK($D18),"",COUNTIFS(Calc!$D$4:$D$2003,Team_Data!$D18,Calc!$L$4:$L$2003,Team_Data!G$7)),"") | I18: =IFERROR(IF(LEN(J18)>0,ROW(I18)-ROW($I$7),""),"") -> 11 | J18: Share our products on social media | K18: John Stones | L18: 44593 | M18: 44656
C19: =IFERROR(IF(LEN(D19)>1,ROW(C19)-ROW($C$7),""),"") | E19: =IFERROR(IF(ISBLANK($D19),"",COUNTIFS(Calc!$D$4:$D$2003,Team_Data!$D19,Calc!$L$4:$L$2003,Team_Data!E$7)),"") | F19: =IFERROR(IF(ISBLANK($D19),"",COUNTIFS(Calc!$D$4:$D$2003,Team_Data!$D19,Calc!$L$4:$L$2003,Team_Data!F$7)),"") | G19: =IFERROR(IF(ISBLANK($D19),"",COUNTIFS(Calc!$D$4:$D$2003,Team_Data!$D19,Calc!$L$4:$L$2003,Team_Data!G$7)),"") | I19: =IFERROR(IF(LEN(J19)>0,ROW(I19)-ROW($I$7),""),"") -> 12 | J19: Increase clickthrough rate by 0.1% | K19: Scarlett Johansson | L19: 44749 | M19: 44771
C20: =IFERROR(IF(LEN(D20)>1,ROW(C20)-ROW($C$7),""),"") | E20: =IFERROR(IF(ISBLANK($D20),"",COUNTIFS(Calc!$D$4:$D$2003,Team_Data!$D20,Calc!$L$4:$L$2003,Team_Data!E$7)),"") | F20: =IFERROR(IF(ISBLANK($D20),"",COUNTIFS(Calc!$D$4:$D$2003,Team_Data!$D20,Calc!$L$4:$L$2003,Team_Data!F$7)),"") | G20: =IFERROR(IF(ISBLANK($D20),"",COUNTIFS(Calc!$D$4:$D$2003,Team_Data!$D20,Calc!$L$4:$L$2003,Team_Data!G$7)),"") | I20: =IFERROR(IF(LEN(J20)>0,ROW(I20)-ROW($I$7),""),"") -> 13 | J20: Clean the desks | K20: Mila Kunis | L20: 44762 | M20: 44827
C21: =IFERROR(IF(LEN(D21)>1,ROW(C21)-ROW($C$7),""),"") | E21: =IFERROR(IF(ISBLANK($D21),"",COUNTIFS(Calc!$D$4:$D$2003,Team_Data!$D21,Calc!$L$4:$L$2003,Team_Data!E$7)),"") | F21: =IFERROR(IF(ISBLANK($D21),"",COUNTIFS(Calc!$D$4:$D$2003,Team_Data!$D21,Calc!$L$4:$L$2003,Team_Data!F$7)),"") | G21: =IFERROR(IF(ISBLANK($D21),"",COUNTIFS(Calc!$D$4:$D$2003,Team_Data!$D21,Calc!$L$4:$L$2003,Team_Data!G$7)),"") | I21: =IFERROR(IF(LEN(J21)>0,ROW(I21)-ROW($I$7),""),"") -> 14 | J21: Take the chairs downstairs | K21: Viggo Mortensen | L21: 44704 | M21: 44842
C22: =IFERROR(IF(LEN(D22)>1,ROW(C22)-ROW($C$7),""),"") | E22: =IFERROR(IF(ISBLANK($D22),"",COUNTIFS(Calc!$D$4:$D$2003,Team_Data!$D22,Calc!$L$4:$L$2003,Team_Data!E$7)),"") | F22: =IFERROR(IF(ISBLANK($D22),"",COUNTIFS(Calc!$D$4:$D$2003,Team_Data!$D22,Calc!$L$4:$L$2003,Team_Data!F$7)),"") | G22: =IFERROR(IF(ISBLANK($D22),"",COUNTIFS(Calc!$D$4:$D$2003,Team_Data!$D22,Calc!$L$4:$L$2003,Team_Data!G$7)),"") | I22: =IFERROR(IF(LEN(J22)>0,ROW(I22)-ROW($I$7),""),"") -> 15 | J22: Get the elevator to the 11th floor, and back to ground level | K22: Charlize Theron | L22: 44625 | M22: 44752
C23: =IFERROR(IF(LEN(D23)>1,ROW(C23)-ROW($C$7),""),"") | E23: =IFERROR(IF(ISBLANK($D23),"",COUNTIFS(Calc!$D$4:$D$2003,Team_Data!$D23,Calc!$L$4:$L$2003,Team_Data!E$7)),"") | F23: =IFERROR(IF(ISBLANK($D23),"",COUNTIFS(Calc!$D$4:$D$2003,Team_Data!$D23,Calc!$L$4:$L$2003,Team_Data!F$7)),"") | G23: =IFERROR(IF(ISBLANK($D23),"",COUNTIFS(Calc!$D$4:$D$2003,Team_Data!$D23,Calc!$L$4:$L$2003,Team_Data!G$7)),"") | I23: =IFERROR(IF(LEN(J23)>0,ROW(I23)-ROW($I$7),""),"") -> 16 | J23: Write more tasks here | K23: Charlize Theron | L23: 44609 | M23: 44712
C24: =IFERROR(IF(LEN(D24)>1,ROW(C24)-ROW($C$7),""),"") | E24: =IFERROR(IF(ISBLANK($D24),"",COUNTIFS(Calc!$D$4:$D$2003,Team_Data!$D24,Calc!$L$4:$L$2003,Team_Data!E$7)),"") | F24: =IFERROR(IF(ISBLANK($D24),"",COUNTIFS(Calc!$D$4:$D$2003,Team_Data!$D24,Calc!$L$4:$L$2003,Team_Data!F$7)),"") | G24: =IFERROR(IF(ISBLANK($D24),"",COUNTIFS(Calc!$D$4:$D$2003,Team_Data!$D24,Calc!$L$4:$L$2003,Team_Data!G$7)),"") | I24: =IFERROR(IF(LEN(J24)>0,ROW(I24)-ROW($I$7),""),"") -> 17 | J24: Write different tasks for each team member | K24: Marion Cotillard | L24: 44686 | M24: 44668
C25: =IFERROR(IF(LEN(D25)>1,ROW(C25)-ROW($C$7),""),"") | E25: =IFERROR(IF(ISBLANK($D25),"",COUNTIFS(Calc!$D$4:$D$2003,Team_Data!$D25,Calc!$L$4:$L$2003,Team_Data!E$7)),"") | F25: =IFERROR(IF(ISBLANK($D25),"",COUNTIFS(Calc!$D$4:$D$2003,Team_Data!$D25,Calc!$L$4:$L$2003,Team_Data!F$7)),"") | G25: =IFERROR(IF(ISBLANK($D25),"",COUNTIFS(Calc!$D$4:$D$2003,Team_Data!$D25,Calc!$L$4:$L$2003,Team_Data!G$7)),"") | I25: =IFERROR(IF(LEN(J25)>0,ROW(I25)-ROW($I$7),""),"") -> 18 | J25: Write similar or the same tasks if it is a team effort | K25: Marion Cotillard | L25: 44649 | M25: 44650
C26: =IFERROR(IF(LEN(D26)>1,ROW(C26)-ROW($C$7),""),"") | E26: =IFERROR(IF(ISBLANK($D26),"",COUNTIFS(Calc!$D$4:$D$2003,Team_Data!$D26,Calc!$L$4:$L$2003,Team_Data!E$7)),"") | F26: =IFERROR(IF(ISBLANK($D26),"",COUNTIFS(Calc!$D$4:$D$2003,Team_Data!$D26,Calc!$L$4:$L$2003,Team_Data!F$7)),"") | G26: =IFERROR(IF(ISBLANK($D26),"",COUNTIFS(Calc!$D$4:$D$2003,Team_Data!$D26,Calc!$L$4:$L$2003,Team_Data!G$7)),"") | I26: =IFERROR(IF(LEN(J26)>0,ROW(I26)-ROW($I$7),""),"") -> 19 | J26: Add a row below this table for it to automatically expand | K26: Omer Toprak | L26: 44583 | M26: 44598
C27: =IFERROR(IF(LEN(D27)>1,ROW(C27)-ROW($C$7),""),"") | E27: =IFERROR(IF(ISBLANK($D27),"",COUNTIFS(Calc!$D$4:$D$2003,Team_Data!$D27,Calc!$L$4:$L$2003,Team_Data!E$7)),"") | F27: =IFERROR(IF(ISBLANK($D27),"",COUNTIFS(Calc!$D$4:$D$2003,Team_Data!$D27,Calc!$L$4:$L$2003,Team_Data!F$7)),"") | G27: =IFERROR(IF(ISBLANK($D27),"",COUNTIFS(Calc!$D$4:$D$2003,Team_Data!$D27,Calc!$L$4:$L$2003,Team_Data!G$7)),"") | I27: =IFERROR(IF(LEN(J27)>0,ROW(I27)-ROW($I$7),""),"") -> 20 | J27: Add more team members and check dynamic connection | K27: Omer Toprak | L27: 44849 | M27: 44873
C28: =IFERROR(IF(LEN(D28)>1,ROW(C28)-ROW($C$7),""),"") | E28: =IFERROR(IF(ISBLANK($D28),"",COUNTIFS(Calc!$D$4:$D$2003,Team_Data!$D28,Calc!$L$4:$L$2003,Team_Data!E$7)),"") | F28: =IFERROR(IF(ISBLANK($D28),"",COUNTIFS(Calc!$D$4:$D$2003,Team_Data!$D28,Calc!$L$4:$L$2003,Team_Data!F$7)),"") | G28: =IFERROR(IF(ISBLANK($D28),"",COUNTIFS(Calc!$D$4:$D$2003,Team_Data!$D28,Calc!$L$4:$L$2003,Team_Data!G$7)),"") | I28: =IFERROR(IF(LEN(J28)>0,ROW(I28)-ROW($I$7),""),"") -> 21 | J28: Complete the personal to-do list | K28: Donald Trump | L28: 44593 | M28: 44597
C29: =IFERROR(IF(LEN(D29)>1,ROW(C29)-ROW($C$7),""),"") | E29: =IFERROR(IF(ISBLANK($D29),"",COUNTIFS(Calc!$D$4:$D$2003,Team_Data!$D29,Calc!$L$4:$L$2003,Team_Data!E$7)),"") | F29: =IFERROR(IF(ISBLANK($D29),"",COUNTIFS(Calc!$D$4:$D$2003,Team_Data!$D29,Calc!$L$4:$L$2003,Team_Data!F$7)),"") | G29: =IFERROR(IF(ISBLANK($D29),"",COUNTIFS(Calc!$D$4:$D$2003,Team_Data!$D29,Calc!$L$4:$L$2003,Team_Data!G$7)),"") | I29: =IFERROR(IF(LEN(J29)>0,ROW(I29)-ROW($I$7),""),"") -> 22 | J29: Build a resume template | K29: Donald Trump | L29: 44896 | M29: 44908
... C67: =IFERROR(IF(LEN(D67)>1,ROW(C67)-ROW($C$7),""),"") | E67: =IFERROR(IF(ISBLANK($D67),"",COUNTIFS(Calc!$D$4:$D$2003,Team_Data!$D67,Calc!$L$4:$L$2003,Team_Data!E$7)),"") | F67: =IFERROR(IF(ISBLANK($D67),"",COUNTIFS(Calc!$D$4:$D$2003,Team_Data!$D67,Calc!$L$4:$L$2003,Team_Data!F$7)),"") | G67: =IFERROR(IF(ISBLANK($D67),"",COUNTIFS(Calc!$D$4:$D$2003,Team_Data!$D67,Calc!$L$4:$L$2003,Team_Data!G$7)),"") | I67: =IFERROR(IF(LEN(J67)>0,ROW(I67)-ROW($I$7),""),"") -> 60 | J67: Add more team members and check dynamic connection | K67: Omer Toprak | L67: 44783 | M67: 44828
C68: =IFERROR(IF(LEN(D68)>1,ROW(C68)-ROW($C$7),""),"") | E68: =IFERROR(IF(ISBLANK($D68),"",COUNTIFS(Calc!$D$4:$D$2003,Team_Data!$D68,Calc!$L$4:$L$2003,Team_Data!E$7)),"") | F68: =IFERROR(IF(ISBLANK($D68),"",COUNTIFS(Calc!$D$4:$D$2003,Team_Data!$D68,Calc!$L$4:$L$2003,Team_Data!F$7)),"") | G68: =IFERROR(IF(ISBLANK($D68),"",COUNTIFS(Calc!$D$4:$D$2003,Team_Data!$D68,Calc!$L$4:$L$2003,Team_Data!G$7)),"") | I68: =IFERROR(IF(LEN(J68)>0,ROW(I68)-ROW($I$7),""),"")
C69: =IFERROR(IF(LEN(D69)>1,ROW(C69)-ROW($C$7),""),"") | E69: =IFERROR(IF(ISBLANK($D69),"",COUNTIFS(Calc!$D$4:$D$2003,Team_Data!$D69,Calc!$L$4:$L$2003,Team_Data!E$7)),"") | F69: =IFERROR(IF(ISBLANK($D69),"",COUNTIFS(Calc!$D$4:$D$2003,Team_Data!$D69,Calc!$L$4:$L$2003,Team_Data!F$7)),"") | G69: =IFERROR(IF(ISBLANK($D69),"",COUNTIFS(Calc!$D$4:$D$2003,Team_Data!$D69,Calc!$L$4:$L$2003,Team_Data!G$7)),"") | I69: =IFERROR(IF(LEN(J69)>0,ROW(I69)-ROW($I$7),""),"")
C70: =IFERROR(IF(LEN(D70)>1,ROW(C70)-ROW($C$7),""),"") | E70: =IFERROR(IF(ISBLANK($D70),"",COUNTIFS(Calc!$D$4:$D$2003,Team_Data!$D70,Calc!$L$4:$L$2003,Team_Data!E$7)),"") | F70: =IFERROR(IF(ISBLANK($D70),"",COUNTIFS(Calc!$D$4:$D$2003,Team_Data!$D70,Calc!$L$4:$L$2003,Team_Data!F$7)),"") | G70: =IFERROR(IF(ISBLANK($D70),"",COUNTIFS(Calc!$D$4:$D$2003,Team_Data!$D70,Calc!$L$4:$L$2003,Team_Data!G$7)),"") | I70: =IFERROR(IF(LEN(J70)>0,ROW(I70)-ROW($I$7),""),"")
C71: =IFERROR(IF(LEN(D71)>1,ROW(C71)-ROW($C$7),""),"") | E71: =IFERROR(IF(ISBLANK($D71),"",COUNTIFS(Calc!$D$4:$D$2003,Team_Data!$D71,Calc!$L$4:$L$2003,Team_Data!E$7)),"") | F71: =IFERROR(IF(ISBLANK($D71),"",COUNTIFS(Calc!$D$4:$D$2003,Team_Data!$D71,Calc!$L$4:$L$2003,Team_Data!F$7)),"") | G71: =IFERROR(IF(ISBLANK($D71),"",COUNTIFS(Calc!$D$4:$D$2003,Team_Data!$D71,Calc!$L$4:$L$2003,Team_Data!G$7)),"") | I71: =IFERROR(IF(LEN(J71)>0,ROW(I71)-ROW($I$7),""),"")
C72: =IFERROR(IF(LEN(D72)>1,ROW(C72)-ROW($C$7),""),"") | E72: =IFERROR(IF(ISBLANK($D72),"",COUNTIFS(Calc!$D$4:$D$2003,Team_Data!$D72,Calc!$L$4:$L$2003,Team_Data!E$7)),"") | F72: =IFERROR(IF(ISBLANK($D72),"",COUNTIFS(Calc!$D$4:$D$2003,Team_Data!$D72,Calc!$L$4:$L$2003,Team_Data!F$7)),"") | G72: =IFERROR(IF(ISBLANK($D72),"",COUNTIFS(Calc!$D$4:$D$2003,Team_Data!$D72,Calc!$L$4:$L$2003,Team_Data!G$7)),"") | I72: =IFERROR(IF(LEN(J72)>0,ROW(I72)-ROW($I$7),""),"")
C73: =IFERROR(IF(LEN(D73)>1,ROW(C73)-ROW($C$7),""),"") | E73: =IFERROR(IF(ISBLANK($D73),"",COUNTIFS(Calc!$D$4:$D$2003,Team_Data!$D73,Calc!$L$4:$L$2003,Team_Data!E$7)),"") | F73: =IFERROR(IF(ISBLANK($D73),"",COUNTIFS(Calc!$D$4:$D$2003,Team_Data!$D73,Calc!$L$4:$L$2003,Team_Data!F$7)),"") | G73: =IFERROR(IF(ISBLANK($D73),"",COUNTIFS(Calc!$D$4:$D$2003,Team_Data!$D73,Calc!$L$4:$L$2003,Team_Data!G$7)),"") | I73: =IFERROR(IF(LEN(J73)>0,ROW(I73)-ROW($I$7),""),"")
C74: =IFERROR(IF(LEN(D74)>1,ROW(C74)-ROW($C$7),""),"") | E74: =IFERROR(IF(ISBLANK($D74),"",COUNTIFS(Calc!$D$4:$D$2003,Team_Data!$D74,Calc!$L$4:$L$2003,Team_Data!E$7)),"") | F74: =IFERROR(IF(ISBLANK($D74),"",COUNTIFS(Calc!$D$4:$D$2003,Team_Data!$D74,Calc!$L$4:$L$2003,Team_Data!F$7)),"") | G74: =IFERROR(IF(ISBLANK($D74),"",COUNTIFS(Calc!$D$4:$D$2003,Team_Data!$D74,Calc!$L$4:$L$2003,Team_Data!G$7)),"") | I74: =IFERROR(IF(LEN(J74)>0,ROW(I74)-ROW($I$7),""),"")
C75: =IFERROR(IF(LEN(D75)>1,ROW(C75)-ROW($C$7),""),"") | E75: =IFERROR(IF(ISBLANK($D75),"",COUNTIFS(Calc!$D$4:$D$2003,Team_Data!$D75,Calc!$L$4:$L$2003,Team_Data!E$7)),"") | F75: =IFERROR(IF(ISBLANK($D75),"",COUNTIFS(Calc!$D$4:$D$2003,Team_Data!$D75,Calc!$L$4:$L$2003,Team_Data!F$7)),"") | G75: =IFERROR(IF(ISBLANK($D75),"",COUNTIFS(Calc!$D$4:$D$2003,Team_Data!$D75,Calc!$L$4:$L$2003,Team_Data!G$7)),"") | I75: =IFERROR(IF(LEN(J75)>0,ROW(I75)-ROW($I$7),""),"")
C76: =IFERROR(IF(LEN(D76)>1,ROW(C76)-ROW($C$7),""),"") | E76: =IFERROR(IF(ISBLANK($D76),"",COUNTIFS(Calc!$D$4:$D$2003,Team_Data!$D76,Calc!$L$4:$L$2003,Team_Data!E$7)),"") | F76: =IFERROR(IF(ISBLANK($D76),"",COUNTIFS(Calc!$D$4:$D$2003,Team_Data!$D76,Calc!$L$4:$L$2003,Team_Data!F$7)),"") | G76: =IFERROR(IF(ISBLANK($D76),"",COUNTIFS(Calc!$D$4:$D$2003,Team_Data!$D76,Calc!$L$4:$L$2003,Team_Data!G$7)),"") | I76: =IFERROR(IF(LEN(J76)>0,ROW(I76)-ROW($I$7),""),"")
C77: =IFERROR(IF(LEN(D77)>1,ROW(C77)-ROW($C$7),""),"") | E77: =IFERROR(IF(ISBLANK($D77),"",COUNTIFS(Calc!$D$4:$D$2003,Team_Data!$D77,Calc!$L$4:$L$2003,Team_Data!E$7)),"") | F77: =IFERROR(IF(ISBLANK($D77),"",COUNTIFS(Calc!$D$4:$D$2003,Team_Data!$D77,Calc!$L$4:$L$2003,Team_Data!F$7)),"") | G77: =IFERROR(IF(ISBLANK($D77),"",COUNTIFS(Calc!$D$4:$D$2003,Team_Data!$D77,Calc!$L$4:$L$2003,Team_Data!G$7)),"") | I77: =IFERROR(IF(LEN(J77)>0,ROW(I77)-ROW($I$7),""),"")
C78: =IFERROR(IF(LEN(D78)>1,ROW(C78)-ROW($C$7),""),"") | E78: =IFERROR(IF(ISBLANK($D78),"",COUNTIFS(Calc!$D$4:$D$2003,Team_Data!$D78,Calc!$L$4:$L$2003,Team_Data!E$7)),"") | F78: =IFERROR(IF(ISBLANK($D78),"",COUNTIFS(Calc!$D$4:$D$2003,Team_Data!$D78,Calc!$L$4:$L$2003,Team_Data!F$7)),"") | G78: =IFERROR(IF(ISBLANK($D78),"",COUNTIFS(Calc!$D$4:$D$2003,Team_Data!$D78,Calc!$L$4:$L$2003,Team_Data!G$7)),"") | I78: =IFERROR(IF(LEN(J78)>0,ROW(I78)-ROW($I$7),""),"")
C79: =IFERROR(IF(LEN(D79)>1,ROW(C79)-ROW($C$7),""),"") | E79: =IFERROR(IF(ISBLANK($D79),"",COUNTIFS(Calc!$D$4:$D$2003,Team_Data!$D79,Calc!$L$4:$L$2003,Team_Data!E$7)),"") | F79: =IFERROR(IF(ISBLANK($D79),"",COUNTIFS(Calc!$D$4:$D$2003,Team_Data!$D79,Calc!$L$4:$L$2003,Team_Data!F$7)),"") | G79: =IFERROR(IF(ISBLANK($D79),"",COUNTIFS(Calc!$D$4:$D$2003,Team_Data!$D79,Calc!$L$4:$L$2003,Team_Data!G$7)),"") | I79: =IFERROR(IF(LEN(J79)>0,ROW(I79)-ROW($I$7),""),"")
... C107: =IFERROR(IF(LEN(D107)>1,ROW(C107)-ROW($C$7),""),"") | E107: =IFERROR(IF(ISBLANK($D107),"",COUNTIFS(Calc!$D$4:$D$2003,Team_Data!$D107,Calc!$L$4:$L$2003,Team_Data!E$7)),"") | F107: =IFERROR(IF(ISBLANK($D107),"",COUNTIFS(Calc!$D$4:$D$2003,Team_Data!$D107,Calc!$L$4:$L$2003,Team_Data!F$7)),"") | G107: =IFERROR(IF(ISBLANK($D107),"",COUNTIFS(Calc!$D$4:$D$2003,Team_Data!$D107,Calc!$L$4:$L$2003,Team_Data!G$7)),"") | I107: =IFERROR(IF(LEN(J107)>0,ROW(I107)-ROW($I$7),""),"")
I108: =IFERROR(IF(LEN(J108)>0,ROW(I108)-ROW($I$7),""),"")
I109: =IFERROR(IF(LEN(J109)>0,ROW(I109)-ROW($I$7),""),"")
I110: =IFERROR(IF(LEN(J110)>0,ROW(I110)-ROW($I$7),""),"")
I111: =IFERROR(IF(LEN(J111)>0,ROW(I111)-ROW($I$7),""),"")
I112: =IFERROR(IF(LEN(J112)>0,ROW(I112)-ROW($I$7),""),"")
I113: =IFERROR(IF(LEN(J113)>0,ROW(I113)-ROW($I$7),""),"")
I114: =IFERROR(IF(LEN(J114)>0,ROW(I114)-ROW($I$7),""),"")
I115: =IFERROR(IF(LEN(J115)>0,ROW(I115)-ROW($I$7),""),"")
I116: =IFERROR(IF(LEN(J116)>0,ROW(I116)-ROW($I$7),""),"")
I117: =IFERROR(IF(LEN(J117)>0,ROW(I117)-ROW($I$7),""),"")
I118: =IFERROR(IF(LEN(J118)>0,ROW(I118)-ROW($I$7),""),"")
I119: =IFERROR(IF(LEN(J119)>0,ROW(I119)-ROW($I$7),""),"")
... I2007: =IFERROR(IF(LEN(J2007)>0,ROW(I2007)-ROW($I$7),""),"")

Sheet January
D2: TEAM TO-DO LIST
D3: JANUARY | N3: Month Number | O3: 1
C6: Whole Team | E6: Team Member: | F6: Jessica Alba
C14: # | D14: Job Description | E14: Assigned To | F14: Assigned On | G14: Deadline | H14: Days Remaining | I14: Status
C15: 1 | D15: =IFERROR(INDEX(Calc!$B$4:$L$2003,MATCH($O$3&"-"&C15,Calc!$I$4:$I$2003,0),2),"") -> Finish the student lesson plan | E15: =IFERROR(INDEX(Calc!$B$4:$L$2003,MATCH($O$3&"-"&$C15,Calc!$I$4:$I$2003,0),3),"") -> Jessica Alba | F15: =IFERROR(INDEX(Calc!$B$4:$L$2003,MATCH($O$3&"-"&$C15,Calc!$I$4:$I$2003,0),4),"") -> 44566 | G15: =IFERROR(INDEX(Calc!$B$4:$L$2003,MATCH($O$3&"-"&$C15,Calc!$I$4:$I$2003,0),5),"") -> 44571 | H15: =IFERROR(IF(I15="Closed","―",INDEX(Calc!$B$4:$L$2003,MATCH($O$3&"-"&$C15,Calc!$I$4:$I$2003,0),10)),"") -> ― | I15: Closed
C16: 2 | D16: =IFERROR(INDEX(Calc!$B$4:$L$2003,MATCH($O$3&"-"&C16,Calc!$I$4:$I$2003,0),2),"") -> Create a financial monthly reporting template | E16: =IFERROR(INDEX(Calc!$B$4:$L$2003,MATCH($O$3&"-"&$C16,Calc!$I$4:$I$2003,0),3),"") -> Scarlett Johansson | F16: =IFERROR(INDEX(Calc!$B$4:$L$2003,MATCH($O$3&"-"&$C16,Calc!$I$4:$I$2003,0),4),"") -> 44567 | G16: =IFERROR(INDEX(Calc!$B$4:$L$2003,MATCH($O$3&"-"&$C16,Calc!$I$4:$I$2003,0),5),"") -> 44586 | H16: =IFERROR(IF(I16="Closed","―",INDEX(Calc!$B$4:$L$2003,MATCH($O$3&"-"&$C16,Calc!$I$4:$I$2003,0),10)),"") -> ― | I16: Closed
C17: 3 | D17: =IFERROR(INDEX(Calc!$B$4:$L$2003,MATCH($O$3&"-"&C17,Calc!$I$4:$I$2003,0),2),"") -> Check our free and paid products | E17: =IFERROR(INDEX(Calc!$B$4:$L$2003,MATCH($O$3&"-"&$C17,Calc!$I$4:$I$2003,0),3),"") -> Emma Stone | F17: =IFERROR(INDEX(Calc!$B$4:$L$2003,MATCH($O$3&"-"&$C17,Calc!$I$4:$I$2003,0),4),"") -> 44568 | G17: =IFERROR(INDEX(Calc!$B$4:$L$2003,MATCH($O$3&"-"&$C17,Calc!$I$4:$I$2003,0),5),"") -> 44591 | H17: =IFERROR(IF(I17="Closed","―",INDEX(Calc!$B$4:$L$2003,MATCH($O$3&"-"&$C17,Calc!$I$4:$I$2003,0),10)),"") -> -122 | I17: Not Started
C18: 4 | D18: =IFERROR(INDEX(Calc!$B$4:$L$2003,MATCH($O$3&"-"&C18,Calc!$I$4:$I$2003,0),2),"") -> Create an employee attendance management tool | E18: =IFERROR(INDEX(Calc!$B$4:$L$2003,MATCH($O$3&"-"&$C18,Calc!$I$4:$I$2003,0),3),"") -> Jessica Alba | F18: =IFERROR(INDEX(Calc!$B$4:$L$2003,MATCH($O$3&"-"&$C18,Calc!$I$4:$I$2003,0),4),"") -> 44573 | G18: =IFERROR(INDEX(Calc!$B$4:$L$2003,MATCH($O$3&"-"&$C18,Calc!$I$4:$I$2003,0),5),"") -> 44587 | H18: =IFERROR(IF(I18="Closed","―",INDEX(Calc!$B$4:$L$2003,MATCH($O$3&"-"&$C18,Calc!$I$4:$I$2003,0),10)),"") -> -126 | I18: Not Started
C19: 5 | D19: =IFERROR(INDEX(Calc!$B$4:$L$2003,MATCH($O$3&"-"&C19,Calc!$I$4:$I$2003,0),2),"") -> Finish the student lesson plan | E19: =IFERROR(INDEX(Calc!$B$4:$L$2003,MATCH($O$3&"-"&$C19,Calc!$I$4:$I$2003,0),3),"") -> John Stones | F19: =IFERROR(INDEX(Calc!$B$4:$L$2003,MATCH($O$3&"-"&$C19,Calc!$I$4:$I$2003,0),4),"") -> 44566 | G19: =IFERROR(INDEX(Calc!$B$4:$L$2003,MATCH($O$3&"-"&$C19,Calc!$I$4:$I$2003,0),5),"") -> 44589 | H19: =IFERROR(IF(I19="Closed","―",INDEX(Calc!$B$4:$L$2003,MATCH($O$3&"-"&$C19,Calc!$I$4:$I$2003,0),10)),"") -> ― | I19: Closed
C20: 6 | D20: =IFERROR(INDEX(Calc!$B$4:$L$2003,MATCH($O$3&"-"&C20,Calc!$I$4:$I$2003,0),2),"") | E20: =IFERROR(INDEX(Calc!$B$4:$L$2003,MATCH($O$3&"-"&$C20,Calc!$I$4:$I$2003,0),3),"") | F20: =IFERROR(INDEX(Calc!$B$4:$L$2003,MATCH($O$3&"-"&$C20,Calc!$I$4:$I$2003,0),4),"") | G20: =IFERROR(INDEX(Calc!$B$4:$L$2003,MATCH($O$3&"-"&$C20,Calc!$I$4:$I$2003,0),5),"") | H20: =IFERROR(IF(I20="Closed","―",INDEX(Calc!$B$4:$L$2003,MATCH($O$3&"-"&$C20,Calc!$I$4:$I$2003,0),10)),"")
C21: 7 | D21: =IFERROR(INDEX(Calc!$B$4:$L$2003,MATCH($O$3&"-"&C21,Calc!$I$4:$I$2003,0),2),"") | E21: =IFERROR(INDEX(Calc!$B$4:$L$2003,MATCH($O$3&"-"&$C21,Calc!$I$4:$I$2003,0),3),"") | F21: =IFERROR(INDEX(Calc!$B$4:$L$2003,MATCH($O$3&"-"&$C21,Calc!$I$4:$I$2003,0),4),"") | G21: =IFERROR(INDEX(Calc!$B$4:$L$2003,MATCH($O$3&"-"&$C21,Calc!$I$4:$I$2003,0),5),"") | H21: =IFERROR(IF(I21="Closed","―",INDEX(Calc!$B$4:$L$2003,MATCH($O$3&"-"&$C21,Calc!$I$4:$I$2003,0),10)),"")
C22: 8 | D22: =IFERROR(INDEX(Calc!$B$4:$L$2003,MATCH($O$3&"-"&C22,Calc!$I$4:$I$2003,0),2),"") | E22: =IFERROR(INDEX(Calc!$B$4:$L$2003,MATCH($O$3&"-"&$C22,Calc!$I$4:$I$2003,0),3),"") | F22: =IFERROR(INDEX(Calc!$B$4:$L$2003,MATCH($O$3&"-"&$C22,Calc!$I$4:$I$2003,0),4),"") | G22: =IFERROR(INDEX(Calc!$B$4:$L$2003,MATCH($O$3&"-"&$C22,Calc!$I$4:$I$2003,0),5),"") | H22: =IFERROR(IF(I22="Closed","―",INDEX(Calc!$B$4:$L$2003,MATCH($O$3&"-"&$C22,Calc!$I$4:$I$2003,0),10)),"")
C23: 9 | D23: =IFERROR(INDEX(Calc!$B$4:$L$2003,MATCH($O$3&"-"&C23,Calc!$I$4:$I$2003,0),2),"") | E23: =IFERROR(INDEX(Calc!$B$4:$L$2003,MATCH($O$3&"-"&$C23,Calc!$I$4:$I$2003,0),3),"") | F23: =IFERROR(INDEX(Calc!$B$4:$L$2003,MATCH($O$3&"-"&$C23,Calc!$I$4:$I$2003,0),4),"") | G23: =IFERROR(INDEX(Calc!$B$4:$L$2003,MATCH($O$3&"-"&$C23,Calc!$I$4:$I$2003,0),5),"") | H23: =IFERROR(IF(I23="Closed","―",INDEX(Calc!$B$4:$L$2003,MATCH($O$3&"-"&$C23,Calc!$I$4:$I$2003,0),10)),"")
C24: 10 | D24: =IFERROR(INDEX(Calc!$B$4:$L$2003,MATCH($O$3&"-"&C24,Calc!$I$4:$I$2003,0),2),"") | E24: =IFERROR(INDEX(Calc!$B$4:$L$2003,MATCH($O$3&"-"&$C24,Calc!$I$4:$I$2003,0),3),"") | F24: =IFERROR(INDEX(Calc!$B$4:$L$2003,MATCH($O$3&"-"&$C24,Calc!$I$4:$I$2003,0),4),"") | G24: =IFERROR(INDEX(Calc!$B$4:$L$2003,MATCH($O$3&"-"&$C24,Calc!$I$4:$I$2003,0),5),"") | H24: =IFERROR(IF(I24="Closed","―",INDEX(Calc!$B$4:$L$2003,MATCH($O$3&"-"&$C24,Calc!$I$4:$I$2003,0),10)),"")
C25: 11 | D25: =IFERROR(INDEX(Calc!$B$4:$L$2003,MATCH($O$3&"-"&C25,Calc!$I$4:$I$2003,0),2),"") | E25: =IFERROR(INDEX(Calc!$B$4:$L$2003,MATCH($O$3&"-"&$C25,Calc!$I$4:$I$2003,0),3),"") | F25: =IFERROR(INDEX(Calc!$B$4:$L$2003,MATCH($O$3&"-"&$C25,Calc!$I$4:$I$2003,0),4),"") | G25: =IFERROR(INDEX(Calc!$B$4:$L$2003,MATCH($O$3&"-"&$C25,Calc!$I$4:$I$2003,0),5),"") | H25: =IFERROR(IF(I25="Closed","―",INDEX(Calc!$B$4:$L$2003,MATCH($O$3&"-"&$C25,Calc!$I$4:$I$2003,0),10)),"")
C26: 12 | D26: =IFERROR(INDEX(Calc!$B$4:$L$2003,MATCH($O$3&"-"&C26,Calc!$I$4:$I$2003,0),2),"") | E26: =IFERROR(INDEX(Calc!$B$4:$L$2003,MATCH($O$3&"-"&$C26,Calc!$I$4:$I$2003,0),3),"") | F26: =IFERROR(INDEX(Calc!$B$4:$L$2003,MATCH($O$3&"-"&$C26,Calc!$I$4:$I$2003,0),4),"") | G26: =IFERROR(INDEX(Calc!$B$4:$L$2003,MATCH($O$3&"-"&$C26,Calc!$I$4:$I$2003,0),5),"") | H26: =IFERROR(IF(I26="Closed","―",INDEX(Calc!$B$4:$L$2003,MATCH($O$3&"-"&$C26,Calc!$I$4:$I$2003,0),10)),"")
C27: 13 | D27: =IFERROR(INDEX(Calc!$B$4:$L$2003,MATCH($O$3&"-"&C27,Calc!$I$4:$I$2003,0),2),"") | E27: =IFERROR(INDEX(Calc!$B$4:$L$2003,MATCH($O$3&"-"&$C27,Calc!$I$4:$I$2003,0),3),"") | F27: =IFERROR(INDEX(Calc!$B$4:$L$2003,MATCH($O$3&"-"&$C27,Calc!$I$4:$I$2003,0),4),"") | G27: =IFERROR(INDEX(Calc!$B$4:$L$2003,MATCH($O$3&"-"&$C27,Calc!$I$4:$I$2003,0),5),"") | H27: =IFERROR(IF(I27="Closed","―",INDEX(Calc!$B$4:$L$2003,MATCH($O$3&"-"&$C27,Calc!$I$4:$I$2003,0),10)),"")
C28: 14 | D28: =IFERROR(INDEX(Calc!$B$4:$L$2003,MATCH($O$3&"-"&C28,Calc!$I$4:$I$2003,0),2),"") | E28: =IFERROR(INDEX(Calc!$B$4:$L$2003,MATCH($O$3&"-"&$C28,Calc!$I$4:$I$2003,0),3),"") | F28: =IFERROR(INDEX(Calc!$B$4:$L$2003,MATCH($O$3&"-"&$C28,Calc!$I$4:$I$2003,0),4),"") | G28: =IFERROR(INDEX(Calc!$B$4:$L$2003,MATCH($O$3&"-"&$C28,Calc!$I$4:$I$2003,0),5),"") | H28: =IFERROR(IF(I28="Closed","―",INDEX(Calc!$B$4:$L$2003,MATCH($O$3&"-"&$C28,Calc!$I$4:$I$2003,0),10)),"")
C29: 15 | D29: =IFERROR(INDEX(Calc!$B$4:$L$2003,MATCH($O$3&"-"&C29,Calc!$I$4:$I$2003,0),2),"") | E29: =IFERROR(INDEX(Calc!$B$4:$L$2003,MATCH($O$3&"-"&$C29,Calc!$I$4:$I$2003,0),3),"") | F29: =IFERROR(INDEX(Calc!$B$4:$L$2003,MATCH($O$3&"-"&$C29,Calc!$I$4:$I$2003,0),4),"") | G29: =IFERROR(INDEX(Calc!$B$4:$L$2003,MATCH($O$3&"-"&$C29,Calc!$I$4:$I$2003,0),5),"") | H29: =IFERROR(IF(I29="Closed","―",INDEX(Calc!$B$4:$L$2003,MATCH($O$3&"-"&$C29,Calc!$I$4:$I$2003,0),10)),"")
C30: 16 | D30: =IFERROR(INDEX(Calc!$B$4:$L$2003,MATCH($O$3&"-"&C30,Calc!$I$4:$I$2003,0),2),"") | E30: =IFERROR(INDEX(Calc!$B$4:$L$2003,MATCH($O$3&"-"&$C30,Calc!$I$4:$I$2003,0),3),"") | F30: =IFERROR(INDEX(Calc!$B$4:$L$2003,MATCH($O$3&"-"&$C30,Calc!$I$4:$I$2003,0),4),"") | G30: =IFERROR(INDEX(Calc!$B$4:$L$2003,MATCH($O$3&"-"&$C30,Calc!$I$4:$I$2003,0),5),"") | H30: =IFERROR(IF(I30="Closed","―",INDEX(Calc!$B$4:$L$2003,MATCH($O$3&"-"&$C30,Calc!$I$4:$I$2003,0),10)),"")
C31: 17 | D31: =IFERROR(INDEX(Calc!$B$4:$L$2003,MATCH($O$3&"-"&C31,Calc!$I$4:$I$2003,0),2),"") | E31: =IFERROR(INDEX(Calc!$B$4:$L$2003,MATCH($O$3&"-"&$C31,Calc!$I$4:$I$2003,0),3),"") | F31: =IFERROR(INDEX(Calc!$B$4:$L$2003,MATCH($O$3&"-"&$C31,Calc!$I$4:$I$2003,0),4),"") | G31: =IFERROR(INDEX(Calc!$B$4:$L$2003,MATCH($O$3&"-"&$C31,Calc!$I$4:$I$2003,0),5),"") | H31: =IFERROR(IF(I31="Closed","―",INDEX(Calc!$B$4:$L$2003,MATCH($O$3&"-"&$C31,Calc!$I$4:$I$2003,0),10)),"")
... C1014: 1000 | D1014: =IFERROR(INDEX(Calc!$B$4:$L$2003,MATCH($O$3&"-"&C1014,Calc!$I$4:$I$2003,0),2),"") | E1014: =IFERROR(INDEX(Calc!$B$4:$L$2003,MATCH($O$3&"-"&$C1014,Calc!$I$4:$I$2003,0),3),"") | F1014: =IFERROR(INDEX(Calc!$B$4:$L$2003,MATCH($O$3&"-"&$C1014,Calc!$I$4:$I$2003,0),4),"") | G1014: =IFERROR(INDEX(Calc!$B$4:$L$2003,MATCH($O$3&"-"&$C1014,Calc!$I$4:$I$2003,0),5),"") | H1014: =IFERROR(IF(I1014="Closed","―",INDEX(Calc!$B$4:$L$2003,MATCH($O$3&"-"&$C1014,Calc!$I$4:$I$2003,0),10)),"")

Sheet February
D2: TEAM TO-DO LIST
D3: FEBRUARY | N3: Month Number | O3: 2
C6: Whole Team | E6: Team Member: | F6: Omer Toprak
C14: # | D14: Job Description | E14: Assigned To | F14: Assigned On | G14: Deadline | H14: Days Remaining | I14: Status
C15: 1 | D15: =IFERROR(INDEX(Calc!$B$4:$L$2003,MATCH($O$3&"-"&C15,Calc!$I$4:$I$2003,0),2),"") -> Add a row below this table for it to automatically expand | E15: =IFERROR(INDEX(Calc!$B$4:$L$2003,MATCH($O$3&"-"&$C15,Calc!$I$4:$I$2003,0),3),"") -> Omer Toprak | F15: =IFERROR(INDEX(Calc!$B$4:$L$2003,MATCH($O$3&"-"&$C15,Calc!$I$4:$I$2003,0),4),"") -> 44583 | G15: =IFERROR(INDEX(Calc!$B$4:$L$2003,MATCH($O$3&"-"&$C15,Calc!$I$4:$I$2003,0),5),"") -> 44598 | H15: =IFERROR(IF(I15="Closed","―",INDEX(Calc!$B$4:$L$2003,MATCH($O$3&"-"&$C15,Calc!$I$4:$I$2003,0),10)),"") -> -115 | I15: In Progress
C16: 2 | D16: =IFERROR(INDEX(Calc!$B$4:$L$2003,MATCH($O$3&"-"&C16,Calc!$I$4:$I$2003,0),2),"") -> Complete the personal to-do list | E16: =IFERROR(INDEX(Calc!$B$4:$L$2003,MATCH($O$3&"-"&$C16,Calc!$I$4:$I$2003,0),3),"") -> Donald Trump | F16: =IFERROR(INDEX(Calc!$B$4:$L$2003,MATCH($O$3&"-"&$C16,Calc!$I$4:$I$2003,0),4),"") -> 44593 | G16: =IFERROR(INDEX(Calc!$B$4:$L$2003,MATCH($O$3&"-"&$C16,Calc!$I$4:$I$2003,0),5),"") -> 44597 | H16: =IFERROR(IF(I16="Closed","―",INDEX(Calc!$B$4:$L$2003,MATCH($O$3&"-"&$C16,Calc!$I$4:$I$2003,0),10)),"") -> ― | I16: Closed
C17: 3 | D17: =IFERROR(INDEX(Calc!$B$4:$L$2003,MATCH($O$3&"-"&C17,Calc!$I$4:$I$2003,0),2),"") -> Check our free and paid products | E17: =IFERROR(INDEX(Calc!$B$4:$L$2003,MATCH($O$3&"-"&$C17,Calc!$I$4:$I$2003,0),3),"") -> Emma Stone | F17: =IFERROR(INDEX(Calc!$B$4:$L$2003,MATCH($O$3&"-"&$C17,Calc!$I$4:$I$2003,0),4),"") -> 44603 | G17: =IFERROR(INDEX(Calc!$B$4:$L$2003,MATCH($O$3&"-"&$C17,Calc!$I$4:$I$2003,0),5),"") -> 44612 | H17: =IFERROR(IF(I17="Closed","―",INDEX(Calc!$B$4:$L$2003,MATCH($O$3&"-"&$C17,Calc!$I$4:$I$2003,0),10)),"") -> ― | I17: Closed
C18: 4 | D18: =IFERROR(INDEX(Calc!$B$4:$L$2003,MATCH($O$3&"-"&C18,Calc!$I$4:$I$2003,0),2),"") -> Share our products on social media | E18: =IFERROR(INDEX(Calc!$B$4:$L$2003,MATCH($O$3&"-"&$C18,Calc!$I$4:$I$2003,0),3),"") -> Scarlett Johansson | F18: =IFERROR(INDEX(Calc!$B$4:$L$2003,MATCH($O$3&"-"&$C18,Calc!$I$4:$I$2003,0),4),"") -> 44590 | G18: =IFERROR(INDEX(Calc!$B$4:$L$2003,MATCH($O$3&"-"&$C18,Calc!$I$4:$I$2003,0),5),"") -> 44617 | H18: =IFERROR(IF(I18="Closed","―",INDEX(Calc!$B$4:$L$2003,MATCH($O$3&"-"&$C18,Calc!$I$4:$I$2003,0),10)),"") -> -96 | I18: Not Started
C19: 5 | D19: =IFERROR(INDEX(Calc!$B$4:$L$2003,MATCH($O$3&"-"&C19,Calc!$I$4:$I$2003,0),2),"") | E19: =IFERROR(INDEX(Calc!$B$4:$L$2003,MATCH($O$3&"-"&$C19,Calc!$I$4:$I$2003,0),3),"") | F19: =IFERROR(INDEX(Calc!$B$4:$L$2003,MATCH($O$3&"-"&$C19,Calc!$I$4:$I$2003,0),4),"") | G19: =IFERROR(INDEX(Calc!$B$4:$L$2003,MATCH($O$3&"-"&$C19,Calc!$I$4:$I$2003,0),5),"") | H19: =IFERROR(IF(I19="Closed","―",INDEX(Calc!$B$4:$L$2003,MATCH($O$3&"-"&$C19,Calc!$I$4:$I$2003,0),10)),"")
C20: 6 | D20: =IFERROR(INDEX(Calc!$B$4:$L$2003,MATCH($O$3&"-"&C20,Calc!$I$4:$I$2003,0),2),"") | E20: =IFERROR(INDEX(Calc!$B$4:$L$2003,MATCH($O$3&"-"&$C20,Calc!$I$4:$I$2003,0),3),"") | F20: =IFERROR(INDEX(Calc!$B$4:$L$2003,MATCH($O$3&"-"&$C20,Calc!$I$4:$I$2003,0),4),"") | G20: =IFERROR(INDEX(Calc!$B$4:$L$2003,MATCH($O$3&"-"&$C20,Calc!$I$4:$I$2003,0),5),"") | H20: =IFERROR(IF(I20="Closed","―",INDEX(Calc!$B$4:$L$2003,MATCH($O$3&"-"&$C20,Calc!$I$4:$I$2003,0),10)),"")
C21: 7 | D21: =IFERROR(INDEX(Calc!$B$4:$L$2003,MATCH($O$3&"-"&C21,Calc!$I$4:$I$2003,0),2),"") | E21: =IFERROR(INDEX(Calc!$B$4:$L$2003,MATCH($O$3&"-"&$C21,Calc!$I$4:$I$2003,0),3),"") | F21: =IFERROR(INDEX(Calc!$B$4:$L$2003,MATCH($O$3&"-"&$C21,Calc!$I$4:$I$2003,0),4),"") | G21: =IFERROR(INDEX(Calc!$B$4:$L$2003,MATCH($O$3&"-"&$C21,Calc!$I$4:$I$2003,0),5),"") | H21: =IFERROR(IF(I21="Closed","―",INDEX(Calc!$B$4:$L$2003,MATCH($O$3&"-"&$C21,Calc!$I$4:$I$2003,0),10)),"")
C22: 8 | D22: =IFERROR(INDEX(Calc!$B$4:$L$2003,MATCH($O$3&"-"&C22,Calc!$I$4:$I$2003,0),2),"") | E22: =IFERROR(INDEX(Calc!$B$4:$L$2003,MATCH($O$3&"-"&$C22,Calc!$I$4:$I$2003,0),3),"") | F22: =IFERROR(INDEX(Calc!$B$4:$L$2003,MATCH($O$3&"-"&$C22,Calc!$I$4:$I$2003,0),4),"") | G22: =IFERROR(INDEX(Calc!$B$4:$L$2003,MATCH($O$3&"-"&$C22,Calc!$I$4:$I$2003,0),5),"") | H22: =IFERROR(IF(I22="Closed","―",INDEX(Calc!$B$4:$L$2003,MATCH($O$3&"-"&$C22,Calc!$I$4:$I$2003,0),10)),"")
C23: 9 | D23: =IFERROR(INDEX(Calc!$B$4:$L$2003,MATCH($O$3&"-"&C23,Calc!$I$4:$I$2003,0),2),"") | E23: =IFERROR(INDEX(Calc!$B$4:$L$2003,MATCH($O$3&"-"&$C23,Calc!$I$4:$I$2003,0),3),"") | F23: =IFERROR(INDEX(Calc!$B$4:$L$2003,MATCH($O$3&"-"&$C23,Calc!$I$4:$I$2003,0),4),"") | G23: =IFERROR(INDEX(Calc!$B$4:$L$2003,MATCH($O$3&"-"&$C23,Calc!$I$4:$I$2003,0),5),"") | H23: =IFERROR(IF(I23="Closed","―",INDEX(Calc!$B$4:$L$2003,MATCH($O$3&"-"&$C23,Calc!$I$4:$I$2003,0),10)),"")
C24: 10 | D24: =IFERROR(INDEX(Calc!$B$4:$L$2003,MATCH($O$3&"-"&C24,Calc!$I$4:$I$2003,0),2),"") | E24: =IFERROR(INDEX(Calc!$B$4:$L$2003,MATCH($O$3&"-"&$C24,Calc!$I$4:$I$2003,0),3),"") | F24: =IFERROR(INDEX(Calc!$B$4:$L$2003,MATCH($O$3&"-"&$C24,Calc!$I$4:$I$2003,0),4),"") | G24: =IFERROR(INDEX(Calc!$B$4:$L$2003,MATCH($O$3&"-"&$C24,Calc!$I$4:$I$2003,0),5),"") | H24: =IFERROR(IF(I24="Closed","―",INDEX(Calc!$B$4:$L$2003,MATCH($O$3&"-"&$C24,Calc!$I$4:$I$2003,0),10)),"")
C25: 11 | D25: =IFERROR(INDEX(Calc!$B$4:$L$2003,MATCH($O$3&"-"&C25,Calc!$I$4:$I$2003,0),2),"") | E25: =IFERROR(INDEX(Calc!$B$4:$L$2003,MATCH($O$3&"-"&$C25,Calc!$I$4:$I$2003,0),3),"") | F25: =IFERROR(INDEX(Calc!$B$4:$L$2003,MATCH($O$3&"-"&$C25,Calc!$I$4:$I$2003,0),4),"") | G25: =IFERROR(INDEX(Calc!$B$4:$L$2003,MATCH($O$3&"-"&$C25,Calc!$I$4:$I$2003,0),5),"") | H25: =IFERROR(IF(I25="Closed","―",INDEX(Calc!$B$4:$L$2003,MATCH($O$3&"-"&$C25,Calc!$I$4:$I$2003,0),10)),"")
C26: 12 | D26: =IFERROR(INDEX(Calc!$B$4:$L$2003,MATCH($O$3&"-"&C26,Calc!$I$4:$I$2003,0),2),"") | E26: =IFERROR(INDEX(Calc!$B$4:$L$2003,MATCH($O$3&"-"&$C26,Calc!$I$4:$I$2003,0),3),"") | F26: =IFERROR(INDEX(Calc!$B$4:$L$2003,MATCH($O$3&"-"&$C26,Calc!$I$4:$I$2003,0),4),"") | G26: =IFERROR(INDEX(Calc!$B$4:$L$2003,MATCH($O$3&"-"&$C26,Calc!$I$4:$I$2003,0),5),"") | H26: =IFERROR(IF(I26="Closed","―",INDEX(Calc!$B$4:$L$2003,MATCH($O$3&"-"&$C26,Calc!$I$4:$I$2003,0),10)),"")
C27: 13 | D27: =IFERROR(INDEX(Calc!$B$4:$L$2003,MATCH($O$3&"-"&C27,Calc!$I$4:$I$2003,0),2),"") | E27: =IFERROR(INDEX(Calc!$B$4:$L$2003,MATCH($O$3&"-"&$C27,Calc!$I$4:$I$2003,0),3),"") | F27: =IFERROR(INDEX(Calc!$B$4:$L$2003,MATCH($O$3&"-"&$C27,Calc!$I$4:$I$2003,0),4),"") | G27: =IFERROR(INDEX(Calc!$B$4:$L$2003,MATCH($O$3&"-"&$C27,Calc!$I$4:$I$2003,0),5),"") | H27: =IFERROR(IF(I27="Closed","―",INDEX(Calc!$B$4:$L$2003,MATCH($O$3&"-"&$C27,Calc!$I$4:$I$2003,0),10)),"")
C28: 14 | D28: =IFERROR(INDEX(Calc!$B$4:$L$2003,MATCH($O$3&"-"&C28,Calc!$I$4:$I$2003,0),2),"") | E28: =IFERROR(INDEX(Calc!$B$4:$L$2003,MATCH($O$3&"-"&$C28,Calc!$I$4:$I$2003,0),3),"") | F28: =IFERROR(INDEX(Calc!$B$4:$L$2003,MATCH($O$3&"-"&$C28,Calc!$I$4:$I$2003,0),4),"") | G28: =IFERROR(INDEX(Calc!$B$4:$L$2003,MATCH($O$3&"-"&$C28,Calc!$I$4:$I$2003,0),5),"") | H28: =IFERROR(IF(I28="Closed","―",INDEX(Calc!$B$4:$L$2003,MATCH($O$3&"-"&$C28,Calc!$I$4:$I$2003,0),10)),"")
C29: 15 | D29: =IFERROR(INDEX(Calc!$B$4:$L$2003,MATCH($O$3&"-"&C29,Calc!$I$4:$I$2003,0),2),"") | E29: =IFERROR(INDEX(Calc!$B$4:$L$2003,MATCH($O$3&"-"&$C29,Calc!$I$4:$I$2003,0),3),"") | F29: =IFERROR(INDEX(Calc!$B$4:$L$2003,MATCH($O$3&"-"&$C29,Calc!$I$4:$I$2003,0),4),"") | G29: =IFERROR(INDEX(Calc!$B$4:$L$2003,MATCH($O$3&"-"&$C29,Calc!$I$4:$I$2003,0),5),"") | H29: =IFERROR(IF(I29="Closed","―",INDEX(Calc!$B$4:$L$2003,MATCH($O$3&"-"&$C29,Calc!$I$4:$I$2003,0),10)),"")
C30: 16 | D30: =IFERROR(INDEX(Calc!$B$4:$L$2003,MATCH($O$3&"-"&C30,Calc!$I$4:$I$2003,0),2),"") | E30: =IFERROR(INDEX(Calc!$B$4:$L$2003,MATCH($O$3&"-"&$C30,Calc!$I$4:$I$2003,0),3),"") | F30: =IFERROR(INDEX(Calc!$B$4:$L$2003,MATCH($O$3&"-"&$C30,Calc!$I$4:$I$2003,0),4),"") | G30: =IFERROR(INDEX(Calc!$B$4:$L$2003,MATCH($O$3&"-"&$C30,Calc!$I$4:$I$2003,0),5),"") | H30: =IFERROR(IF(I30="Closed","―",INDEX(Calc!$B$4:$L$2003,MATCH($O$3&"-"&$C30,Calc!$I$4:$I$2003,0),10)),"")
... C1014: 1000 | D1014: =IFERROR(INDEX(Calc!$B$4:$L$2003,MATCH($O$3&"-"&C1014,Calc!$I$4:$I$2003,0),2),"") | E1014: =IFERROR(INDEX(Calc!$B$4:$L$2003,MATCH($O$3&"-"&$C1014,Calc!$I$4:$I$2003,0),3),"") | F1014: =IFERROR(INDEX(Calc!$B$4:$L$2003,MATCH($O$3&"-"&$C1014,Calc!$I$4:$I$2003,0),4),"") | G1014: =IFERROR(INDEX(Calc!$B$4:$L$2003,MATCH($O$3&"-"&$C1014,Calc!$I$4:$I$2003,0),5),"") | H1014: =IFERROR(IF(I1014="Closed","―",INDEX(Calc!$B$4:$L$2003,MATCH($O$3&"-"&$C1014,Calc!$I$4:$I$2003,0),10)),"")

Sheet March
D2: TEAM TO-DO LIST
D3: MARCH | N3: Month Number | O3: 3
C6: Whole Team | E6: Team Member: | F6: Marion Cotillard
C14: # | D14: Job Description | E14: Assigned To | F14: Assigned On | G14: Deadline | H14: Days Remaining | I14: Status
C15: 1 | D15: =IFERROR(INDEX(Calc!$B$4:$L$2003,MATCH($O$3&"-"&C15,Calc!$I$4:$I$2003,0),2),"") -> Create an employee attendance management tool | E15: =IFERROR(INDEX(Calc!$B$4:$L$2003,MATCH($O$3&"-"&$C15,Calc!$I$4:$I$2003,0),3),"") -> Jessica Alba | F15: =IFERROR(INDEX(Calc!$B$4:$L$2003,MATCH($O$3&"-"&$C15,Calc!$I$4:$I$2003,0),4),"") -> 44573 | G15: =IFERROR(INDEX(Calc!$B$4:$L$2003,MATCH($O$3&"-"&$C15,Calc!$I$4:$I$2003,0),5),"") -> 44635 | H15: =IFERROR(IF(I15="Closed","―",INDEX(Calc!$B$4:$L$2003,MATCH($O$3&"-"&$C15,Calc!$I$4:$I$2003,0),10)),"") -> ― | I15: Closed
C16: 2 | D16: =IFERROR(INDEX(Calc!$B$4:$L$2003,MATCH($O$3&"-"&C16,Calc!$I$4:$I$2003,0),2),"") -> Write similar or the same tasks if it is a team effort | E16: =IFERROR(INDEX(Calc!$B$4:$L$2003,MATCH($O$3&"-"&$C16,Calc!$I$4:$I$2003,0),3),"") -> Marion Cotillard | F16: =IFERROR(INDEX(Calc!$B$4:$L$2003,MATCH($O$3&"-"&$C16,Calc!$I$4:$I$2003,0),4),"") -> 44649 | G16: =IFERROR(INDEX(Calc!$B$4:$L$2003,MATCH($O$3&"-"&$C16,Calc!$I$4:$I$2003,0),5),"") -> 44650 | H16: =IFERROR(IF(I16="Closed","―",INDEX(Calc!$B$4:$L$2003,MATCH($O$3&"-"&$C16,Calc!$I$4:$I$2003,0),10)),"") -> -63 | I16: In Progress
C17: 3 | D17: =IFERROR(INDEX(Calc!$B$4:$L$2003,MATCH($O$3&"-"&C17,Calc!$I$4:$I$2003,0),2),"") -> Finish writing the employee handbook | E17: =IFERROR(INDEX(Calc!$B$4:$L$2003,MATCH($O$3&"-"&$C17,Calc!$I$4:$I$2003,0),3),"") -> Viggo Mortensen | F17: =IFERROR(INDEX(Calc!$B$4:$L$2003,MATCH($O$3&"-"&$C17,Calc!$I$4:$I$2003,0),4),"") -> 44622 | G17: =IFERROR(INDEX(Calc!$B$4:$L$2003,MATCH($O$3&"-"&$C17,Calc!$I$4:$I$2003,0),5),"") -> 44647 | H17: =IFERROR(IF(I17="Closed","―",INDEX(Calc!$B$4:$L$2003,MATCH($O$3&"-"&$C17,Calc!$I$4:$I$2003,0),10)),"") -> ― | I17: Closed
C18: 4 | D18: =IFERROR(INDEX(Calc!$B$4:$L$2003,MATCH($O$3&"-"&C18,Calc!$I$4:$I$2003,0),2),"") -> Share our products on social media | E18: =IFERROR(INDEX(Calc!$B$4:$L$2003,MATCH($O$3&"-"&$C18,Calc!$I$4:$I$2003,0),3),"") -> Scarlett Johansson | F18: =IFERROR(INDEX(Calc!$B$4:$L$2003,MATCH($O$3&"-"&$C18,Calc!$I$4:$I$2003,0),4),"") -> 44665 | G18: =IFERROR(INDEX(Calc!$B$4:$L$2003,MATCH($O$3&"-"&$C18,Calc!$I$4:$I$2003,0),5),"") -> 44641 | H18: =IFERROR(IF(I18="Closed","―",INDEX(Calc!$B$4:$L$2003,MATCH($O$3&"-"&$C18,Calc!$I$4:$I$2003,0),10)),"") -> -72 | I18: Not Started
C19: 5 | D19: =IFERROR(INDEX(Calc!$B$4:$L$2003,MATCH($O$3&"-"&C19,Calc!$I$4:$I$2003,0),2),"") -> Write similar or the same tasks if it is a team effort | E19: =IFERROR(INDEX(Calc!$B$4:$L$2003,MATCH($O$3&"-"&$C19,Calc!$I$4:$I$2003,0),3),"") -> Marion Cotillard | F19: =IFERROR(INDEX(Calc!$B$4:$L$2003,MATCH($O$3&"-"&$C19,Calc!$I$4:$I$2003,0),4),"") -> 44604 | G19: =IFERROR(INDEX(Calc!$B$4:$L$2003,MATCH($O$3&"-"&$C19,Calc!$I$4:$I$2003,0),5),"") -> 44637 | H19: =IFERROR(IF(I19="Closed","―",INDEX(Calc!$B$4:$L$2003,MATCH($O$3&"-"&$C19,Calc!$I$4:$I$2003,0),10)),"") -> ― | I19: Closed
C20: 6 | D20: =IFERROR(INDEX(Calc!$B$4:$L$2003,MATCH($O$3&"-"&C20,Calc!$I$4:$I$2003,0),2),"") -> Add a row below this table for it to automatically expand | E20: =IFERROR(INDEX(Calc!$B$4:$L$2003,MATCH($O$3&"-"&$C20,Calc!$I$4:$I$2003,0),3),"") -> Omer Toprak | F20: =IFERROR(INDEX(Calc!$B$4:$L$2003,MATCH($O$3&"-"&$C20,Calc!$I$4:$I$2003,0),4),"") -> 44586 | G20: =IFERROR(INDEX(Calc!$B$4:$L$2003,MATCH($O$3&"-"&$C20,Calc!$I$4:$I$2003,0),5),"") -> 44627 | H20: =IFERROR(IF(I20="Closed","―",INDEX(Calc!$B$4:$L$2003,MATCH($O$3&"-"&$C20,Calc!$I$4:$I$2003,0),10)),"") -> ― | I20: Closed
C21: 7 | D21: =IFERROR(INDEX(Calc!$B$4:$L$2003,MATCH($O$3&"-"&C21,Calc!$I$4:$I$2003,0),2),"") | E21: =IFERROR(INDEX(Calc!$B$4:$L$2003,MATCH($O$3&"-"&$C21,Calc!$I$4:$I$2003,0),3),"") | F21: =IFERROR(INDEX(Calc!$B$4:$L$2003,MATCH($O$3&"-"&$C21,Calc!$I$4:$I$2003,0),4),"") | G21: =IFERROR(INDEX(Calc!$B$4:$L$2003,MATCH($O$3&"-"&$C21,Calc!$I$4:$I$2003,0),5),"") | H21: =IFERROR(IF(I21="Closed","―",INDEX(Calc!$B$4:$L$2003,MATCH($O$3&"-"&$C21,Calc!$I$4:$I$2003,0),10)),"")
C22: 8 | D22: =IFERROR(INDEX(Calc!$B$4:$L$2003,MATCH($O$3&"-"&C22,Calc!$I$4:$I$2003,0),2),"") | E22: =IFERROR(INDEX(Calc!$B$4:$L$2003,MATCH($O$3&"-"&$C22,Calc!$I$4:$I$2003,0),3),"") | F22: =IFERROR(INDEX(Calc!$B$4:$L$2003,MATCH($O$3&"-"&$C22,Calc!$I$4:$I$2003,0),4),"") | G22: =IFERROR(INDEX(Calc!$B$4:$L$2003,MATCH($O$3&"-"&$C22,Calc!$I$4:$I$2003,0),5),"") | H22: =IFERROR(IF(I22="Closed","―",INDEX(Calc!$B$4:$L$2003,MATCH($O$3&"-"&$C22,Calc!$I$4:$I$2003,0),10)),"")
C23: 9 | D23: =IFERROR(INDEX(Calc!$B$4:$L$2003,MATCH($O$3&"-"&C23,Calc!$I$4:$I$2003,0),2),"") | E23: =IFERROR(INDEX(Calc!$B$4:$L$2003,MATCH($O$3&"-"&$C23,Calc!$I$4:$I$2003,0),3),"") | F23: =IFERROR(INDEX(Calc!$B$4:$L$2003,MATCH($O$3&"-"&$C23,Calc!$I$4:$I$2003,0),4),"") | G23: =IFERROR(INDEX(Calc!$B$4:$L$2003,MATCH($O$3&"-"&$C23,Calc!$I$4:$I$2003,0),5),"") | H23: =IFERROR(IF(I23="Closed","―",INDEX(Calc!$B$4:$L$2003,MATCH($O$3&"-"&$C23,Calc!$I$4:$I$2003,0),10)),"")
C24: 10 | D24: =IFERROR(INDEX(Calc!$B$4:$L$2003,MATCH($O$3&"-"&C24,Calc!$I$4:$I$2003,0),2),"") | E24: =IFERROR(INDEX(Calc!$B$4:$L$2003,MATCH($O$3&"-"&$C24,Calc!$I$4:$I$2003,0),3),"") | F24: =IFERROR(INDEX(Calc!$B$4:$L$2003,MATCH($O$3&"-"&$C24,Calc!$I$4:$I$2003,0),4),"") | G24: =IFERROR(INDEX(Calc!$B$4:$L$2003,MATCH($O$3&"-"&$C24,Calc!$I$4:$I$2003,0),5),"") | H24: =IFERROR(IF(I24="Closed","―",INDEX(Calc!$B$4:$L$2003,MATCH($O$3&"-"&$C24,Calc!$I$4:$I$2003,0),10)),"")
C25: 11 | D25: =IFERROR(INDEX(Calc!$B$4:$L$2003,MATCH($O$3&"-"&C25,Calc!$I$4:$I$2003,0),2),"") | E25: =IFERROR(INDEX(Calc!$B$4:$L$2003,MATCH($O$3&"-"&$C25,Calc!$I$4:$I$2003,0),3),"") | F25: =IFERROR(INDEX(Calc!$B$4:$L$2003,MATCH($O$3&"-"&$C25,Calc!$I$4:$I$2003,0),4),"") | G25: =IFERROR(INDEX(Calc!$B$4:$L$2003,MATCH($O$3&"-"&$C25,Calc!$I$4:$I$2003,0),5),"") | H25: =IFERROR(IF(I25="Closed","―",INDEX(Calc!$B$4:$L$2003,MATCH($O$3&"-"&$C25,Calc!$I$4:$I$2003,0),10)),"")
C26: 12 | D26: =IFERROR(INDEX(Calc!$B$4:$L$2003,MATCH($O$3&"-"&C26,Calc!$I$4:$I$2003,0),2),"") | E26: =IFERROR(INDEX(Calc!$B$4:$L$2003,MATCH($O$3&"-"&$C26,Calc!$I$4:$I$2003,0),3),"") | F26: =IFERROR(INDEX(Calc!$B$4:$L$2003,MATCH($O$3&"-"&$C26,Calc!$I$4:$I$2003,0),4),"") | G26: =IFERROR(INDEX(Calc!$B$4:$L$2003,MATCH($O$3&"-"&$C26,Calc!$I$4:$I$2003,0),5),"") | H26: =IFERROR(IF(I26="Closed","―",INDEX(Calc!$B$4:$L$2003,MATCH($O$3&"-"&$C26,Calc!$I$4:$I$2003,0),10)),"")
C27: 13 | D27: =IFERROR(INDEX(Calc!$B$4:$L$2003,MATCH($O$3&"-"&C27,Calc!$I$4:$I$2003,0),2),"") | E27: =IFERROR(INDEX(Calc!$B$4:$L$2003,MATCH($O$3&"-"&$C27,Calc!$I$4:$I$2003,0),3),"") | F27: =IFERROR(INDEX(Calc!$B$4:$L$2003,MATCH($O$3&"-"&$C27,Calc!$I$4:$I$2003,0),4),"") | G27: =IFERROR(INDEX(Calc!$B$4:$L$2003,MATCH($O$3&"-"&$C27,Calc!$I$4:$I$2003,0),5),"") | H27: =IFERROR(IF(I27="Closed","―",INDEX(Calc!$B$4:$L$2003,MATCH($O$3&"-"&$C27,Calc!$I$4:$I$2003,0),10)),"")
C28: 14 | D28: =IFERROR(INDEX(Calc!$B$4:$L$2003,MATCH($O$3&"-"&C28,Calc!$I$4:$I$2003,0),2),"") | E28: =IFERROR(INDEX(Calc!$B$4:$L$2003,MATCH($O$3&"-"&$C28,Calc!$I$4:$I$2003,0),3),"") | F28: =IFERROR(INDEX(Calc!$B$4:$L$2003,MATCH($O$3&"-"&$C28,Calc!$I$4:$I$2003,0),4),"") | G28: =IFERROR(INDEX(Calc!$B$4:$L$2003,MATCH($O$3&"-"&$C28,Calc!$I$4:$I$2003,0),5),"") | H28: =IFERROR(IF(I28="Closed","―",INDEX(Calc!$B$4:$L$2003,MATCH($O$3&"-"&$C28,Calc!$I$4:$I$2003,0),10)),"")
C29: 15 | D29: =IFERROR(INDEX(Calc!$B$4:$L$2003,MATCH($O$3&"-"&C29,Calc!$I$4:$I$2003,0),2),"") | E29: =IFERROR(INDEX(Calc!$B$4:$L$2003,MATCH($O$3&"-"&$C29,Calc!$I$4:$I$2003,0),3),"") | F29: =IFERROR(INDEX(Calc!$B$4:$L$2003,MATCH($O$3&"-"&$C29,Calc!$I$4:$I$2003,0),4),"") | G29: =IFERROR(INDEX(Calc!$B$4:$L$2003,MATCH($O$3&"-"&$C29,Calc!$I$4:$I$2003,0),5),"") | H29: =IFERROR(IF(I29="Closed","―",INDEX(Calc!$B$4:$L$2003,MATCH($O$3&"-"&$C29,Calc!$I$4:$I$2003,0),10)),"")
C30: 16 | D30: =IFERROR(INDEX(Calc!$B$4:$L$2003,MATCH($O$3&"-"&C30,Calc!$I$4:$I$2003,0),2),"") | E30: =IFERROR(INDEX(Calc!$B$4:$L$2003,MATCH($O$3&"-"&$C30,Calc!$I$4:$I$2003,0),3),"") | F30: =IFERROR(INDEX(Calc!$B$4:$L$2003,MATCH($O$3&"-"&$C30,Calc!$I$4:$I$2003,0),4),"") | G30: =IFERROR(INDEX(Calc!$B$4:$L$2003,MATCH($O$3&"-"&$C30,Calc!$I$4:$I$2003,0),5),"") | H30: =IFERROR(IF(I30="Closed","―",INDEX(Calc!$B$4:$L$2003,MATCH($O$3&"-"&$C30,Calc!$I$4:$I$2003,0),10)),"")
C31: 17 | D31: =IFERROR(INDEX(Calc!$B$4:$L$2003,MATCH($O$3&"-"&C31,Calc!$I$4:$I$2003,0),2),"") | E31: =IFERROR(INDEX(Calc!$B$4:$L$2003,MATCH($O$3&"-"&$C31,Calc!$I$4:$I$2003,0),3),"") | F31: =IFERROR(INDEX(Calc!$B$4:$L$2003,MATCH($O$3&"-"&$C31,Calc!$I$4:$I$2003,0),4),"") | G31: =IFERROR(INDEX(Calc!$B$4:$L$2003,MATCH($O$3&"-"&$C31,Calc!$I$4:$I$2003,0),5),"") | H31: =IFERROR(IF(I31="Closed","―",INDEX(Calc!$B$4:$L$2003,MATCH($O$3&"-"&$C31,Calc!$I$4:$I$2003,0),10)),"")
C32: 18 | D32: =IFERROR(INDEX(Calc!$B$4:$L$2003,MATCH($O$3&"-"&C32,Calc!$I$4:$I$2003,0),2),"") | E32: =IFERROR(INDEX(Calc!$B$4:$L$2003,MATCH($O$3&"-"&$C32,Calc!$I$4:$I$2003,0),3),"") | F32: =IFERROR(INDEX(Calc!$B$4:$L$2003,MATCH($O$3&"-"&$C32,Calc!$I$4:$I$2003,0),4),"") | G32: =IFERROR(INDEX(Calc!$B$4:$L$2003,MATCH($O$3&"-"&$C32,Calc!$I$4:$I$2003,0),5),"") | H32: =IFERROR(IF(I32="Closed","―",INDEX(Calc!$B$4:$L$2003,MATCH($O$3&"-"&$C32,Calc!$I$4:$I$2003,0),10)),"")
... C1014: 1000 | D1014: =IFERROR(INDEX(Calc!$B$4:$L$2003,MATCH($O$3&"-"&C1014,Calc!$I$4:$I$2003,0),2),"") | E1014: =IFERROR(INDEX(Calc!$B$4:$L$2003,MATCH($O$3&"-"&$C1014,Calc!$I$4:$I$2003,0),3),"") | F1014: =IFERROR(INDEX(Calc!$B$4:$L$2003,MATCH($O$3&"-"&$C1014,Calc!$I$4:$I$2003,0),4),"") | G1014: =IFERROR(INDEX(Calc!$B$4:$L$2003,MATCH($O$3&"-"&$C1014,Calc!$I$4:$I$2003,0),5),"") | H1014: =IFERROR(IF(I1014="Closed","―",INDEX(Calc!$B$4:$L$2003,MATCH($O$3&"-"&$C1014,Calc!$I$4:$I$2003,0),10)),"")

Sheet April
D2: TEAM TO-DO LIST
D3: APRIL | N3: Month Number | O3: 4
C6: Whole Team | E6: Team Member: | F6: Mila Kunis
C14: # | D14: Job Description | E14: Assigned To | F14: Assigned On | G14: Deadline | H14: Days Remaining | I14: Status
C15: 1 | D15: =IFERROR(INDEX(Calc!$B$4:$L$2003,MATCH($O$3&"-"&C15,Calc!$I$4:$I$2003,0),2),"") -> Share our products on social media | E15: =IFERROR(INDEX(Calc!$B$4:$L$2003,MATCH($O$3&"-"&$C15,Calc!$I$4:$I$2003,0),3),"") -> John Stones | F15: =IFERROR(INDEX(Calc!$B$4:$L$2003,MATCH($O$3&"-"&$C15,Calc!$I$4:$I$2003,0),4),"") -> 44593 | G15: =IFERROR(INDEX(Calc!$B$4:$L$2003,MATCH($O$3&"-"&$C15,Calc!$I$4:$I$2003,0),5),"") -> 44656 | H15: =IFERROR(IF(I15="Closed","―",INDEX(Calc!$B$4:$L$2003,MATCH($O$3&"-"&$C15,Calc!$I$4:$I$2003,0),10)),"") -> -57 | I15: Not Started
C16: 2 | D16: =IFERROR(INDEX(Calc!$B$4:$L$2003,MATCH($O$3&"-"&C16,Calc!$I$4:$I$2003,0),2),"") -> Write different tasks for each team member | E16: =IFERROR(INDEX(Calc!$B$4:$L$2003,MATCH($O$3&"-"&$C16,Calc!$I$4:$I$2003,0),3),"") -> Marion Cotillard | F16: =IFERROR(INDEX(Calc!$B$4:$L$2003,MATCH($O$3&"-"&$C16,Calc!$I$4:$I$2003,0),4),"") -> 44686 | G16: =IFERROR(INDEX(Calc!$B$4:$L$2003,MATCH($O$3&"-"&$C16,Calc!$I$4:$I$2003,0),5),"") -> 44668 | H16: =IFERROR(IF(I16="Closed","―",INDEX(Calc!$B$4:$L$2003,MATCH($O$3&"-"&$C16,Calc!$I$4:$I$2003,0),10)),"") -> -45 | I16: In Progress
C17: 3 | D17: =IFERROR(INDEX(Calc!$B$4:$L$2003,MATCH($O$3&"-"&C17,Calc!$I$4:$I$2003,0),2),"") -> Clean the desks | E17: =IFERROR(INDEX(Calc!$B$4:$L$2003,MATCH($O$3&"-"&$C17,Calc!$I$4:$I$2003,0),3),"") -> Mila Kunis | F17: =IFERROR(INDEX(Calc!$B$4:$L$2003,MATCH($O$3&"-"&$C17,Calc!$I$4:$I$2003,0),4),"") -> 44640 | G17: =IFERROR(INDEX(Calc!$B$4:$L$2003,MATCH($O$3&"-"&$C17,Calc!$I$4:$I$2003,0),5),"") -> 44670 | H17: =IFERROR(IF(I17="Closed","―",INDEX(Calc!$B$4:$L$2003,MATCH($O$3&"-"&$C17,Calc!$I$4:$I$2003,0),10)),"") -> ― | I17: Closed
C18: 4 | D18: =IFERROR(INDEX(Calc!$B$4:$L$2003,MATCH($O$3&"-"&C18,Calc!$I$4:$I$2003,0),2),"") -> Build a resume template | E18: =IFERROR(INDEX(Calc!$B$4:$L$2003,MATCH($O$3&"-"&$C18,Calc!$I$4:$I$2003,0),3),"") -> Donald Trump | F18: =IFERROR(INDEX(Calc!$B$4:$L$2003,MATCH($O$3&"-"&$C18,Calc!$I$4:$I$2003,0),4),"") -> 44669 | G18: =IFERROR(INDEX(Calc!$B$4:$L$2003,MATCH($O$3&"-"&$C18,Calc!$I$4:$I$2003,0),5),"") -> 44672 | H18: =IFERROR(IF(I18="Closed","―",INDEX(Calc!$B$4:$L$2003,MATCH($O$3&"-"&$C18,Calc!$I$4:$I$2003,0),10)),"") -> -41 | I18: In Progress
C19: 5 | D19: =IFERROR(INDEX(Calc!$B$4:$L$2003,MATCH($O$3&"-"&C19,Calc!$I$4:$I$2003,0),2),"") -> Take the chairs downstairs | E19: =IFERROR(INDEX(Calc!$B$4:$L$2003,MATCH($O$3&"-"&$C19,Calc!$I$4:$I$2003,0),3),"") -> Mila Kunis | F19: =IFERROR(INDEX(Calc!$B$4:$L$2003,MATCH($O$3&"-"&$C19,Calc!$I$4:$I$2003,0),4),"") -> 44632 | G19: =IFERROR(INDEX(Calc!$B$4:$L$2003,MATCH($O$3&"-"&$C19,Calc!$I$4:$I$2003,0),5),"") -> 44671 | H19: =IFERROR(IF(I19="Closed","―",INDEX(Calc!$B$4:$L$2003,MATCH($O$3&"-"&$C19,Calc!$I$4:$I$2003,0),10)),"") -> -42 | I19: In Progress
C20: 6 | D20: =IFERROR(INDEX(Calc!$B$4:$L$2003,MATCH($O$3&"-"&C20,Calc!$I$4:$I$2003,0),2),"") | E20: =IFERROR(INDEX(Calc!$B$4:$L$2003,MATCH($O$3&"-"&$C20,Calc!$I$4:$I$2003,0),3),"") | F20: =IFERROR(INDEX(Calc!$B$4:$L$2003,MATCH($O$3&"-"&$C20,Calc!$I$4:$I$2003,0),4),"") | G20: =IFERROR(INDEX(Calc!$B$4:$L$2003,MATCH($O$3&"-"&$C20,Calc!$I$4:$I$2003,0),5),"") | H20: =IFERROR(IF(I20="Closed","―",INDEX(Calc!$B$4:$L$2003,MATCH($O$3&"-"&$C20,Calc!$I$4:$I$2003,0),10)),"")
C21: 7 | D21: =IFERROR(INDEX(Calc!$B$4:$L$2003,MATCH($O$3&"-"&C21,Calc!$I$4:$I$2003,0),2),"") | E21: =IFERROR(INDEX(Calc!$B$4:$L$2003,MATCH($O$3&"-"&$C21,Calc!$I$4:$I$2003,0),3),"") | F21: =IFERROR(INDEX(Calc!$B$4:$L$2003,MATCH($O$3&"-"&$C21,Calc!$I$4:$I$2003,0),4),"") | G21: =IFERROR(INDEX(Calc!$B$4:$L$2003,MATCH($O$3&"-"&$C21,Calc!$I$4:$I$2003,0),5),"") | H21: =IFERROR(IF(I21="Closed","―",INDEX(Calc!$B$4:$L$2003,MATCH($O$3&"-"&$C21,Calc!$I$4:$I$2003,0),10)),"")
C22: 8 | D22: =IFERROR(INDEX(Calc!$B$4:$L$2003,MATCH($O$3&"-"&C22,Calc!$I$4:$I$2003,0),2),"") | E22: =IFERROR(INDEX(Calc!$B$4:$L$2003,MATCH($O$3&"-"&$C22,Calc!$I$4:$I$2003,0),3),"") | F22: =IFERROR(INDEX(Calc!$B$4:$L$2003,MATCH($O$3&"-"&$C22,Calc!$I$4:$I$2003,0),4),"") | G22: =IFERROR(INDEX(Calc!$B$4:$L$2003,MATCH($O$3&"-"&$C22,Calc!$I$4:$I$2003,0),5),"") | H22: =IFERROR(IF(I22="Closed","―",INDEX(Calc!$B$4:$L$2003,MATCH($O$3&"-"&$C22,Calc!$I$4:$I$2003,0),10)),"")
C23: 9 | D23: =IFERROR(INDEX(Calc!$B$4:$L$2003,MATCH($O$3&"-"&C23,Calc!$I$4:$I$2003,0),2),"") | E23: =IFERROR(INDEX(Calc!$B$4:$L$2003,MATCH($O$3&"-"&$C23,Calc!$I$4:$I$2003,0),3),"") | F23: =IFERROR(INDEX(Calc!$B$4:$L$2003,MATCH($O$3&"-"&$C23,Calc!$I$4:$I$2003,0),4),"") | G23: =IFERROR(INDEX(Calc!$B$4:$L$2003,MATCH($O$3&"-"&$C23,Calc!$I$4:$I$2003,0),5),"") | H23: =IFERROR(IF(I23="Closed","―",INDEX(Calc!$B$4:$L$2003,MATCH($O$3&"-"&$C23,Calc!$I$4:$I$2003,0),10)),"")
C24: 10 | D24: =IFERROR(INDEX(Calc!$B$4:$L$2003,MATCH($O$3&"-"&C24,Calc!$I$4:$I$2003,0),2),"") | E24: =IFERROR(INDEX(Calc!$B$4:$L$2003,MATCH($O$3&"-"&$C24,Calc!$I$4:$I$2003,0),3),"") | F24: =IFERROR(INDEX(Calc!$B$4:$L$2003,MATCH($O$3&"-"&$C24,Calc!$I$4:$I$2003,0),4),"") | G24: =IFERROR(INDEX(Calc!$B$4:$L$2003,MATCH($O$3&"-"&$C24,Calc!$I$4:$I$2003,0),5),"") | H24: =IFERROR(IF(I24="Closed","―",INDEX(Calc!$B$4:$L$2003,MATCH($O$3&"-"&$C24,Calc!$I$4:$I$2003,0),10)),"")
C25: 11 | D25: =IFERROR(INDEX(Calc!$B$4:$L$2003,MATCH($O$3&"-"&C25,Calc!$I$4:$I$2003,0),2),"") | E25: =IFERROR(INDEX(Calc!$B$4:$L$2003,MATCH($O$3&"-"&$C25,Calc!$I$4:$I$2003,0),3),"") | F25: =IFERROR(INDEX(Calc!$B$4:$L$2003,MATCH($O$3&"-"&$C25,Calc!$I$4:$I$2003,0),4),"") | G25: =IFERROR(INDEX(Calc!$B$4:$L$2003,MATCH($O$3&"-"&$C25,Calc!$I$4:$I$2003,0),5),"") | H25: =IFERROR(IF(I25="Closed","―",INDEX(Calc!$B$4:$L$2003,MATCH($O$3&"-"&$C25,Calc!$I$4:$I$2003,0),10)),"")
C26: 12 | D26: =IFERROR(INDEX(Calc!$B$4:$L$2003,MATCH($O$3&"-"&C26,Calc!$I$4:$I$2003,0),2),"") | E26: =IFERROR(INDEX(Calc!$B$4:$L$2003,MATCH($O$3&"-"&$C26,Calc!$I$4:$I$2003,0),3),"") | F26: =IFERROR(INDEX(Calc!$B$4:$L$2003,MATCH($O$3&"-"&$C26,Calc!$I$4:$I$2003,0),4),"") | G26: =IFERROR(INDEX(Calc!$B$4:$L$2003,MATCH($O$3&"-"&$C26,Calc!$I$4:$I$2003,0),5),"") | H26: =IFERROR(IF(I26="Closed","―",INDEX(Calc!$B$4:$L$2003,MATCH($O$3&"-"&$C26,Calc!$I$4:$I$2003,0),10)),"")
C27: 13 | D27: =IFERROR(INDEX(Calc!$B$4:$L$2003,MATCH($O$3&"-"&C27,Calc!$I$4:$I$2003,0),2),"") | E27: =IFERROR(INDEX(Calc!$B$4:$L$2003,MATCH($O$3&"-"&$C27,Calc!$I$4:$I$2003,0),3),"") | F27: =IFERROR(INDEX(Calc!$B$4:$L$2003,MATCH($O$3&"-"&$C27,Calc!$I$4:$I$2003,0),4),"") | G27: =IFERROR(INDEX(Calc!$B$4:$L$2003,MATCH($O$3&"-"&$C27,Calc!$I$4:$I$2003,0),5),"") | H27: =IFERROR(IF(I27="Closed","―",INDEX(Calc!$B$4:$L$2003,MATCH($O$3&"-"&$C27,Calc!$I$4:$I$2003,0),10)),"")
C28: 14 | D28: =IFERROR(INDEX(Calc!$B$4:$L$2003,MATCH($O$3&"-"&C28,Calc!$I$4:$I$2003,0),2),"") | E28: =IFERROR(INDEX(Calc!$B$4:$L$2003,MATCH($O$3&"-"&$C28,Calc!$I$4:$I$2003,0),3),"") | F28: =IFERROR(INDEX(Calc!$B$4:$L$2003,MATCH($O$3&"-"&$C28,Calc!$I$4:$I$2003,0),4),"") | G28: =IFERROR(INDEX(Calc!$B$4:$L$2003,MATCH($O$3&"-"&$C28,Calc!$I$4:$I$2003,0),5),"") | H28: =IFERROR(IF(I28="Closed","―",INDEX(Calc!$B$4:$L$2003,MATCH($O$3&"-"&$C28,Calc!$I$4:$I$2003,0),10)),"")
C29: 15 | D29: =IFERROR(INDEX(Calc!$B$4:$L$2003,MATCH($O$3&"-"&C29,Calc!$I$4:$I$2003,0),2),"") | E29: =IFERROR(INDEX(Calc!$B$4:$L$2003,MATCH($O$3&"-"&$C29,Calc!$I$4:$I$2003,0),3),"") | F29: =IFERROR(INDEX(Calc!$B$4:$L$2003,MATCH($O$3&"-"&$C29,Calc!$I$4:$I$2003,0),4),"") | G29: =IFERROR(INDEX(Calc!$B$4:$L$2003,MATCH($O$3&"-"&$C29,Calc!$I$4:$I$2003,0),5),"") | H29: =IFERROR(IF(I29="Closed","―",INDEX(Calc!$B$4:$L$2003,MATCH($O$3&"-"&$C29,Calc!$I$4:$I$2003,0),10)),"")
C30: 16 | D30: =IFERROR(INDEX(Calc!$B$4:$L$2003,MATCH($O$3&"-"&C30,Calc!$I$4:$I$2003,0),2),"") | E30: =IFERROR(INDEX(Calc!$B$4:$L$2003,MATCH($O$3&"-"&$C30,Calc!$I$4:$I$2003,0),3),"") | F30: =IFERROR(INDEX(Calc!$B$4:$L$2003,MATCH($O$3&"-"&$C30,Calc!$I$4:$I$2003,0),4),"") | G30: =IFERROR(INDEX(Calc!$B$4:$L$2003,MATCH($O$3&"-"&$C30,Calc!$I$4:$I$2003,0),5),"") | H30: =IFERROR(IF(I30="Closed","―",INDEX(Calc!$B$4:$L$2003,MATCH($O$3&"-"&$C30,Calc!$I$4:$I$2003,0),10)),"")
C31: 17 | D31: =IFERROR(INDEX(Calc!$B$4:$L$2003,MATCH($O$3&"-"&C31,Calc!$I$4:$I$2003,0),2),"") | E31: =IFERROR(INDEX(Calc!$B$4:$L$2003,MATCH($O$3&"-"&$C31,Calc!$I$4:$I$2003,0),3),"") | F31: =IFERROR(INDEX(Calc!$B$4:$L$2003,MATCH($O$3&"-"&$C31,Calc!$I$4:$I$2003,0),4),"") | G31: =IFERROR(INDEX(Calc!$B$4:$L$2003,MATCH($O$3&"-"&$C31,Calc!$I$4:$I$2003,0),5),"") | H31: =IFERROR(IF(I31="Closed","―",INDEX(Calc!$B$4:$L$2003,MATCH($O$3&"-"&$C31,Calc!$I$4:$I$2003,0),10)),"")
... C1014: 1000 | D1014: =IFERROR(INDEX(Calc!$B$4:$L$2003,MATCH($O$3&"-"&C1014,Calc!$I$4:$I$2003,0),2),"") | E1014: =IFERROR(INDEX(Calc!$B$4:$L$2003,MATCH($O$3&"-"&$C1014,Calc!$I$4:$I$2003,0),3),"") | F1014: =IFERROR(INDEX(Calc!$B$4:$L$2003,MATCH($O$3&"-"&$C1014,Calc!$I$4:$I$2003,0),4),"") | G1014: =IFERROR(INDEX(Calc!$B$4:$L$2003,MATCH($O$3&"-"&$C1014,Calc!$I$4:$I$2003,0),5),"") | H1014: =IFERROR(IF(I1014="Closed","―",INDEX(Calc!$B$4:$L$2003,MATCH($O$3&"-"&$C1014,Calc!$I$4:$I$2003,0),10)),"")

Sheet May
D2: TEAM TO-DO LIST
D3: MAY | N3: Month Number | O3: 5
C6: Whole Team | E6: Team Member: | F6: Marion Cotillard
C14: # | D14: Job Description | E14: Assigned To | F14: Assigned On | G14: Deadline | H14: Days Remaining | I14: Status
C15: 1 | D15: =IFERROR(INDEX(Calc!$B$4:$L$2003,MATCH($O$3&"-"&C15,Calc!$I$4:$I$2003,0),2),"") -> Finish developing the printable invoice template | E15: =IFERROR(INDEX(Calc!$B$4:$L$2003,MATCH($O$3&"-"&$C15,Calc!$I$4:$I$2003,0),3),"") -> Jessica Alba | F15: =IFERROR(INDEX(Calc!$B$4:$L$2003,MATCH($O$3&"-"&$C15,Calc!$I$4:$I$2003,0),4),"") -> 44690 | G15: =IFERROR(INDEX(Calc!$B$4:$L$2003,MATCH($O$3&"-"&$C15,Calc!$I$4:$I$2003,0),5),"") -> 44697 | H15: =IFERROR(IF(I15="Closed","―",INDEX(Calc!$B$4:$L$2003,MATCH($O$3&"-"&$C15,Calc!$I$4:$I$2003,0),10)),"") -> -16 | I15: Not Started
C16: 2 | D16: =IFERROR(INDEX(Calc!$B$4:$L$2003,MATCH($O$3&"-"&C16,Calc!$I$4:$I$2003,0),2),"") -> Check our free and paid products | E16: =IFERROR(INDEX(Calc!$B$4:$L$2003,MATCH($O$3&"-"&$C16,Calc!$I$4:$I$2003,0),3),"") -> Emma Stone | F16: =IFERROR(INDEX(Calc!$B$4:$L$2003,MATCH($O$3&"-"&$C16,Calc!$I$4:$I$2003,0),4),"") -> 44703 | G16: =IFERROR(INDEX(Calc!$B$4:$L$2003,MATCH($O$3&"-"&$C16,Calc!$I$4:$I$2003,0),5),"") -> 44687 | H16: =IFERROR(IF(I16="Closed","―",INDEX(Calc!$B$4:$L$2003,MATCH($O$3&"-"&$C16,Calc!$I$4:$I$2003,0),10)),"") -> ― | I16: Closed
C17: 3 | D17: =IFERROR(INDEX(Calc!$B$4:$L$2003,MATCH($O$3&"-"&C17,Calc!$I$4:$I$2003,0),2),"") -> Write more tasks here | E17: =IFERROR(INDEX(Calc!$B$4:$L$2003,MATCH($O$3&"-"&$C17,Calc!$I$4:$I$2003,0),3),"") -> Charlize Theron | F17: =IFERROR(INDEX(Calc!$B$4:$L$2003,MATCH($O$3&"-"&$C17,Calc!$I$4:$I$2003,0),4),"") -> 44609 | G17: =IFERROR(INDEX(Calc!$B$4:$L$2003,MATCH($O$3&"-"&$C17,Calc!$I$4:$I$2003,0),5),"") -> 44712 | H17: =IFERROR(IF(I17="Closed","―",INDEX(Calc!$B$4:$L$2003,MATCH($O$3&"-"&$C17,Calc!$I$4:$I$2003,0),10)),"") -> -1 | I17: In Progress
C18: 4 | D18: =IFERROR(INDEX(Calc!$B$4:$L$2003,MATCH($O$3&"-"&C18,Calc!$I$4:$I$2003,0),2),"") -> Increase clickthrough rate by 0.1% | E18: =IFERROR(INDEX(Calc!$B$4:$L$2003,MATCH($O$3&"-"&$C18,Calc!$I$4:$I$2003,0),3),"") -> Scarlett Johansson | F18: =IFERROR(INDEX(Calc!$B$4:$L$2003,MATCH($O$3&"-"&$C18,Calc!$I$4:$I$2003,0),4),"") -> 44618 | G18: =IFERROR(INDEX(Calc!$B$4:$L$2003,MATCH($O$3&"-"&$C18,Calc!$I$4:$I$2003,0),5),"") -> 44712 | H18: =IFERROR(IF(I18="Closed","―",INDEX(Calc!$B$4:$L$2003,MATCH($O$3&"-"&$C18,Calc!$I$4:$I$2003,0),10)),"") -> ― | I18: Closed
C19: 5 | D19: =IFERROR(INDEX(Calc!$B$4:$L$2003,MATCH($O$3&"-"&C19,Calc!$I$4:$I$2003,0),2),"") -> Write similar or the same tasks if it is a team effort | E19: =IFERROR(INDEX(Calc!$B$4:$L$2003,MATCH($O$3&"-"&$C19,Calc!$I$4:$I$2003,0),3),"") -> Marion Cotillard | F19: =IFERROR(INDEX(Calc!$B$4:$L$2003,MATCH($O$3&"-"&$C19,Calc!$I$4:$I$2003,0),4),"") -> 44599 | G19: =IFERROR(INDEX(Calc!$B$4:$L$2003,MATCH($O$3&"-"&$C19,Calc!$I$4:$I$2003,0),5),"") -> 44688 | H19: =IFERROR(IF(I19="Closed","―",INDEX(Calc!$B$4:$L$2003,MATCH($O$3&"-"&$C19,Calc!$I$4:$I$2003,0),10)),"") -> ― | I19: Closed
C20: 6 | D20: =IFERROR(INDEX(Calc!$B$4:$L$2003,MATCH($O$3&"-"&C20,Calc!$I$4:$I$2003,0),2),"") -> Develop an inventory management tool in excel | E20: =IFERROR(INDEX(Calc!$B$4:$L$2003,MATCH($O$3&"-"&$C20,Calc!$I$4:$I$2003,0),3),"") -> John Stones | F20: =IFERROR(INDEX(Calc!$B$4:$L$2003,MATCH($O$3&"-"&$C20,Calc!$I$4:$I$2003,0),4),"") -> 44634 | G20: =IFERROR(INDEX(Calc!$B$4:$L$2003,MATCH($O$3&"-"&$C20,Calc!$I$4:$I$2003,0),5),"") -> 44712 | H20: =IFERROR(IF(I20="Closed","―",INDEX(Calc!$B$4:$L$2003,MATCH($O$3&"-"&$C20,Calc!$I$4:$I$2003,0),10)),"") -> -1 | I20: In Progress
C21: 7 | D21: =IFERROR(INDEX(Calc!$B$4:$L$2003,MATCH($O$3&"-"&C21,Calc!$I$4:$I$2003,0),2),"") | E21: =IFERROR(INDEX(Calc!$B$4:$L$2003,MATCH($O$3&"-"&$C21,Calc!$I$4:$I$2003,0),3),"") | F21: =IFERROR(INDEX(Calc!$B$4:$L$2003,MATCH($O$3&"-"&$C21,Calc!$I$4:$I$2003,0),4),"") | G21: =IFERROR(INDEX(Calc!$B$4:$L$2003,MATCH($O$3&"-"&$C21,Calc!$I$4:$I$2003,0),5),"") | H21: =IFERROR(IF(I21="Closed","―",INDEX(Calc!$B$4:$L$2003,MATCH($O$3&"-"&$C21,Calc!$I$4:$I$2003,0),10)),"")
C22: 8 | D22: =IFERROR(INDEX(Calc!$B$4:$L$2003,MATCH($O$3&"-"&C22,Calc!$I$4:$I$2003,0),2),"") | E22: =IFERROR(INDEX(Calc!$B$4:$L$2003,MATCH($O$3&"-"&$C22,Calc!$I$4:$I$2003,0),3),"") | F22: =IFERROR(INDEX(Calc!$B$4:$L$2003,MATCH($O$3&"-"&$C22,Calc!$I$4:$I$2003,0),4),"") | G22: =IFERROR(INDEX(Calc!$B$4:$L$2003,MATCH($O$3&"-"&$C22,Calc!$I$4:$I$2003,0),5),"") | H22: =IFERROR(IF(I22="Closed","―",INDEX(Calc!$B$4:$L$2003,MATCH($O$3&"-"&$C22,Calc!$I$4:$I$2003,0),10)),"")
C23: 9 | D23: =IFERROR(INDEX(Calc!$B$4:$L$2003,MATCH($O$3&"-"&C23,Calc!$I$4:$I$2003,0),2),"") | E23: =IFERROR(INDEX(Calc!$B$4:$L$2003,MATCH($O$3&"-"&$C23,Calc!$I$4:$I$2003,0),3),"") | F23: =IFERROR(INDEX(Calc!$B$4:$L$2003,MATCH($O$3&"-"&$C23,Calc!$I$4:$I$2003,0),4),"") | G23: =IFERROR(INDEX(Calc!$B$4:$L$2003,MATCH($O$3&"-"&$C23,Calc!$I$4:$I$2003,0),5),"") | H23: =IFERROR(IF(I23="Closed","―",INDEX(Calc!$B$4:$L$2003,MATCH($O$3&"-"&$C23,Calc!$I$4:$I$2003,0),10)),"")
C24: 10 | D24: =IFERROR(INDEX(Calc!$B$4:$L$2003,MATCH($O$3&"-"&C24,Calc!$I$4:$I$2003,0),2),"") | E24: =IFERROR(INDEX(Calc!$B$4:$L$2003,MATCH($O$3&"-"&$C24,Calc!$I$4:$I$2003,0),3),"") | F24: =IFERROR(INDEX(Calc!$B$4:$L$2003,MATCH($O$3&"-"&$C24,Calc!$I$4:$I$2003,0),4),"") | G24: =IFERROR(INDEX(Calc!$B$4:$L$2003,MATCH($O$3&"-"&$C24,Calc!$I$4:$I$2003,0),5),"") | H24: =IFERROR(IF(I24="Closed","―",INDEX(Calc!$B$4:$L$2003,MATCH($O$3&"-"&$C24,Calc!$I$4:$I$2003,0),10)),"")
C25: 11 | D25: =IFERROR(INDEX(Calc!$B$4:$L$2003,MATCH($O$3&"-"&C25,Calc!$I$4:$I$2003,0),2),"") | E25: =IFERROR(INDEX(Calc!$B$4:$L$2003,MATCH($O$3&"-"&$C25,Calc!$I$4:$I$2003,0),3),"") | F25: =IFERROR(INDEX(Calc!$B$4:$L$2003,MATCH($O$3&"-"&$C25,Calc!$I$4:$I$2003,0),4),"") | G25: =IFERROR(INDEX(Calc!$B$4:$L$2003,MATCH($O$3&"-"&$C25,Calc!$I$4:$I$2003,0),5),"") | H25: =IFERROR(IF(I25="Closed","―",INDEX(Calc!$B$4:$L$2003,MATCH($O$3&"-"&$C25,Calc!$I$4:$I$2003,0),10)),"")
C26: 12 | D26: =IFERROR(INDEX(Calc!$B$4:$L$2003,MATCH($O$3&"-"&C26,Calc!$I$4:$I$2003,0),2),"") | E26: =IFERROR(INDEX(Calc!$B$4:$L$2003,MATCH($O$3&"-"&$C26,Calc!$I$4:$I$2003,0),3),"") | F26: =IFERROR(INDEX(Calc!$B$4:$L$2003,MATCH($O$3&"-"&$C26,Calc!$I$4:$I$2003,0),4),"") | G26: =IFERROR(INDEX(Calc!$B$4:$L$2003,MATCH($O$3&"-"&$C26,Calc!$I$4:$I$2003,0),5),"") | H26: =IFERROR(IF(I26="Closed","―",INDEX(Calc!$B$4:$L$2003,MATCH($O$3&"-"&$C26,Calc!$I$4:$I$2003,0),10)),"")
C27: 13 | D27: =IFERROR(INDEX(Calc!$B$4:$L$2003,MATCH($O$3&"-"&C27,Calc!$I$4:$I$2003,0),2),"") | E27: =IFERROR(INDEX(Calc!$B$4:$L$2003,MATCH($O$3&"-"&$C27,Calc!$I$4:$I$2003,0),3),"") | F27: =IFERROR(INDEX(Calc!$B$4:$L$2003,MATCH($O$3&"-"&$C27,Calc!$I$4:$I$2003,0),4),"") | G27: =IFERROR(INDEX(Calc!$B$4:$L$2003,MATCH($O$3&"-"&$C27,Calc!$I$4:$I$2003,0),5),"") | H27: =IFERROR(IF(I27="Closed","―",INDEX(Calc!$B$4:$L$2003,MATCH($O$3&"-"&$C27,Calc!$I$4:$I$2003,0),10)),"")
C28: 14 | D28: =IFERROR(INDEX(Calc!$B$4:$L$2003,MATCH($O$3&"-"&C28,Calc!$I$4:$I$2003,0),2),"") | E28: =IFERROR(INDEX(Calc!$B$4:$L$2003,MATCH($O$3&"-"&$C28,Calc!$I$4:$I$2003,0),3),"") | F28: =IFERROR(INDEX(Calc!$B$4:$L$2003,MATCH($O$3&"-"&$C28,Calc!$I$4:$I$2003,0),4),"") | G28: =IFERROR(INDEX(Calc!$B$4:$L$2003,MATCH($O$3&"-"&$C28,Calc!$I$4:$I$2003,0),5),"") | H28: =IFERROR(IF(I28="Closed","―",INDEX(Calc!$B$4:$L$2003,MATCH($O$3&"-"&$C28,Calc!$I$4:$I$2003,0),10)),"")
C29: 15 | D29: =IFERROR(INDEX(Calc!$B$4:$L$2003,MATCH($O$3&"-"&C29,Calc!$I$4:$I$2003,0),2),"") | E29: =IFERROR(INDEX(Calc!$B$4:$L$2003,MATCH($O$3&"-"&$C29,Calc!$I$4:$I$2003,0),3),"") | F29: =IFERROR(INDEX(Calc!$B$4:$L$2003,MATCH($O$3&"-"&$C29,Calc!$I$4:$I$2003,0),4),"") | G29: =IFERROR(INDEX(Calc!$B$4:$L$2003,MATCH($O$3&"-"&$C29,Calc!$I$4:$I$2003,0),5),"") | H29: =IFERROR(IF(I29="Closed","―",INDEX(Calc!$B$4:$L$2003,MATCH($O$3&"-"&$C29,Calc!$I$4:$I$2003,0),10)),"")
C30: 16 | D30: =IFERROR(INDEX(Calc!$B$4:$L$2003,MATCH($O$3&"-"&C30,Calc!$I$4:$I$2003,0),2),"") | E30: =IFERROR(INDEX(Calc!$B$4:$L$2003,MATCH($O$3&"-"&$C30,Calc!$I$4:$I$2003,0),3),"") | F30: =IFERROR(INDEX(Calc!$B$4:$L$2003,MATCH($O$3&"-"&$C30,Calc!$I$4:$I$2003,0),4),"") | G30: =IFERROR(INDEX(Calc!$B$4:$L$2003,MATCH($O$3&"-"&$C30,Calc!$I$4:$I$2003,0),5),"") | H30: =IFERROR(IF(I30="Closed","―",INDEX(Calc!$B$4:$L$2003,MATCH($O$3&"-"&$C30,Calc!$I$4:$I$2003,0),10)),"")
C31: 17 | D31: =IFERROR(INDEX(Calc!$B$4:$L$2003,MATCH($O$3&"-"&C31,Calc!$I$4:$I$2003,0),2),"") | E31: =IFERROR(INDEX(Calc!$B$4:$L$2003,MATCH($O$3&"-"&$C31,Calc!$I$4:$I$2003,0),3),"") | F31: =IFERROR(INDEX(Calc!$B$4:$L$2003,MATCH($O$3&"-"&$C31,Calc!$I$4:$I$2003,0),4),"") | G31: =IFERROR(INDEX(Calc!$B$4:$L$2003,MATCH($O$3&"-"&$C31,Calc!$I$4:$I$2003,0),5),"") | H31: =IFERROR(IF(I31="Closed","―",INDEX(Calc!$B$4:$L$2003,MATCH($O$3&"-"&$C31,Calc!$I$4:$I$2003,0),10)),"")
C32: 18 | D32: =IFERROR(INDEX(Calc!$B$4:$L$2003,MATCH($O$3&"-"&C32,Calc!$I$4:$I$2003,0),2),"") | E32: =IFERROR(INDEX(Calc!$B$4:$L$2003,MATCH($O$3&"-"&$C32,Calc!$I$4:$I$2003,0),3),"") | F32: =IFERROR(INDEX(Calc!$B$4:$L$2003,MATCH($O$3&"-"&$C32,Calc!$I$4:$I$2003,0),4),"") | G32: =IFERROR(INDEX(Calc!$B$4:$L$2003,MATCH($O$3&"-"&$C32,Calc!$I$4:$I$2003,0),5),"") | H32: =IFERROR(IF(I32="Closed","―",INDEX(Calc!$B$4:$L$2003,MATCH($O$3&"-"&$C32,Calc!$I$4:$I$2003,0),10)),"")
... C1014: 1000 | D1014: =IFERROR(INDEX(Calc!$B$4:$L$2003,MATCH($O$3&"-"&C1014,Calc!$I$4:$I$2003,0),2),"") | E1014: =IFERROR(INDEX(Calc!$B$4:$L$2003,MATCH($O$3&"-"&$C1014,Calc!$I$4:$I$2003,0),3),"") | F1014: =IFERROR(INDEX(Calc!$B$4:$L$2003,MATCH($O$3&"-"&$C1014,Calc!$I$4:$I$2003,0),4),"") | G1014: =IFERROR(INDEX(Calc!$B$4:$L$2003,MATCH($O$3&"-"&$C1014,Calc!$I$4:$I$2003,0),5),"") | H1014: =IFERROR(IF(I1014="Closed","―",INDEX(Calc!$B$4:$L$2003,MATCH($O$3&"-"&$C1014,Calc!$I$4:$I$2003,0),10)),"")

Sheet June
D2: TEAM TO-DO LIST
D3: JUNE | N3: Month Number | O3: 6
C6: Whole Team | E6: Team Member: | F6: Emma Stone
C14: # | D14: Job Description | E14: Assigned To | F14: Assigned On | G14: Deadline | H14: Days Remaining | I14: Status
C15: 1 | D15: =IFERROR(INDEX(Calc!$B$4:$L$2003,MATCH($O$3&"-"&C15,Calc!$I$4:$I$2003,0),2),"") -> Visit the website of | E15: =IFERROR(INDEX(Calc!$B$4:$L$2003,MATCH($O$3&"-"&$C15,Calc!$I$4:$I$2003,0),3),"") -> Emma Stone | F15: =IFERROR(INDEX(Calc!$B$4:$L$2003,MATCH($O$3&"-"&$C15,Calc!$I$4:$I$2003,0),4),"") -> 44683 | G15: =IFERROR(INDEX(Calc!$B$4:$L$2003,MATCH($O$3&"-"&$C15,Calc!$I$4:$I$2003,0),5),"") -> 44731 | H15: =IFERROR(IF(I15="Closed","―",INDEX(Calc!$B$4:$L$2003,MATCH($O$3&"-"&$C15,Calc!$I$4:$I$2003,0),10)),"") -> 18 | I15: In Progress
C16: 2 | D16: =IFERROR(INDEX(Calc!$B$4:$L$2003,MATCH($O$3&"-"&C16,Calc!$I$4:$I$2003,0),2),"") -> Finish developing the printable invoice template | E16: =IFERROR(INDEX(Calc!$B$4:$L$2003,MATCH($O$3&"-"&$C16,Calc!$I$4:$I$2003,0),3),"") -> John Stones | F16: =IFERROR(INDEX(Calc!$B$4:$L$2003,MATCH($O$3&"-"&$C16,Calc!$I$4:$I$2003,0),4),"") -> 44704 | G16: =IFERROR(INDEX(Calc!$B$4:$L$2003,MATCH($O$3&"-"&$C16,Calc!$I$4:$I$2003,0),5),"") -> 44721 | H16: =IFERROR(IF(I16="Closed","―",INDEX(Calc!$B$4:$L$2003,MATCH($O$3&"-"&$C16,Calc!$I$4:$I$2003,0),10)),"") -> 8 | I16: In Progress
C17: 3 | D17: =IFERROR(INDEX(Calc!$B$4:$L$2003,MATCH($O$3&"-"&C17,Calc!$I$4:$I$2003,0),2),"") -> Visit the website of | E17: =IFERROR(INDEX(Calc!$B$4:$L$2003,MATCH($O$3&"-"&$C17,Calc!$I$4:$I$2003,0),3),"") -> Emma Stone | F17: =IFERROR(INDEX(Calc!$B$4:$L$2003,MATCH($O$3&"-"&$C17,Calc!$I$4:$I$2003,0),4),"") -> 44707 | G17: =IFERROR(INDEX(Calc!$B$4:$L$2003,MATCH($O$3&"-"&$C17,Calc!$I$4:$I$2003,0),5),"") -> 44728 | H17: =IFERROR(IF(I17="Closed","―",INDEX(Calc!$B$4:$L$2003,MATCH($O$3&"-"&$C17,Calc!$I$4:$I$2003,0),10)),"") -> ― | I17: Closed
C18: 4 | D18: =IFERROR(INDEX(Calc!$B$4:$L$2003,MATCH($O$3&"-"&C18,Calc!$I$4:$I$2003,0),2),"") | E18: =IFERROR(INDEX(Calc!$B$4:$L$2003,MATCH($O$3&"-"&$C18,Calc!$I$4:$I$2003,0),3),"") | F18: =IFERROR(INDEX(Calc!$B$4:$L$2003,MATCH($O$3&"-"&$C18,Calc!$I$4:$I$2003,0),4),"") | G18: =IFERROR(INDEX(Calc!$B$4:$L$2003,MATCH($O$3&"-"&$C18,Calc!$I$4:$I$2003,0),5),"") | H18: =IFERROR(IF(I18="Closed","―",INDEX(Calc!$B$4:$L$2003,MATCH($O$3&"-"&$C18,Calc!$I$4:$I$2003,0),10)),"")
C19: 5 | D19: =IFERROR(INDEX(Calc!$B$4:$L$2003,MATCH($O$3&"-"&C19,Calc!$I$4:$I$2003,0),2),"") | E19: =IFERROR(INDEX(Calc!$B$4:$L$2003,MATCH($O$3&"-"&$C19,Calc!$I$4:$I$2003,0),3),"") | F19: =IFERROR(INDEX(Calc!$B$4:$L$2003,MATCH($O$3&"-"&$C19,Calc!$I$4:$I$2003,0),4),"") | G19: =IFERROR(INDEX(Calc!$B$4:$L$2003,MATCH($O$3&"-"&$C19,Calc!$I$4:$I$2003,0),5),"") | H19: =IFERROR(IF(I19="Closed","―",INDEX(Calc!$B$4:$L$2003,MATCH($O$3&"-"&$C19,Calc!$I$4:$I$2003,0),10)),"")
C20: 6 | D20: =IFERROR(INDEX(Calc!$B$4:$L$2003,MATCH($O$3&"-"&C20,Calc!$I$4:$I$2003,0),2),"") | E20: =IFERROR(INDEX(Calc!$B$4:$L$2003,MATCH($O$3&"-"&$C20,Calc!$I$4:$I$2003,0),3),"") | F20: =IFERROR(INDEX(Calc!$B$4:$L$2003,MATCH($O$3&"-"&$C20,Calc!$I$4:$I$2003,0),4),"") | G20: =IFERROR(INDEX(Calc!$B$4:$L$2003,MATCH($O$3&"-"&$C20,Calc!$I$4:$I$2003,0),5),"") | H20: =IFERROR(IF(I20="Closed","―",INDEX(Calc!$B$4:$L$2003,MATCH($O$3&"-"&$C20,Calc!$I$4:$I$2003,0),10)),"")
C21: 7 | D21: =IFERROR(INDEX(Calc!$B$4:$L$2003,MATCH($O$3&"-"&C21,Calc!$I$4:$I$2003,0),2),"") | E21: =IFERROR(INDEX(Calc!$B$4:$L$2003,MATCH($O$3&"-"&$C21,Calc!$I$4:$I$2003,0),3),"") | F21: =IFERROR(INDEX(Calc!$B$4:$L$2003,MATCH($O$3&"-"&$C21,Calc!$I$4:$I$2003,0),4),"") | G21: =IFERROR(INDEX(Calc!$B$4:$L$2003,MATCH($O$3&"-"&$C21,Calc!$I$4:$I$2003,0),5),"") | H21: =IFERROR(IF(I21="Closed","―",INDEX(Calc!$B$4:$L$2003,MATCH($O$3&"-"&$C21,Calc!$I$4:$I$2003,0),10)),"")
C22: 8 | D22: =IFERROR(INDEX(Calc!$B$4:$L$2003,MATCH($O$3&"-"&C22,Calc!$I$4:$I$2003,0),2),"") | E22: =IFERROR(INDEX(Calc!$B$4:$L$2003,MATCH($O$3&"-"&$C22,Calc!$I$4:$I$2003,0),3),"") | F22: =IFERROR(INDEX(Calc!$B$4:$L$2003,MATCH($O$3&"-"&$C22,Calc!$I$4:$I$2003,0),4),"") | G22: =IFERROR(INDEX(Calc!$B$4:$L$2003,MATCH($O$3&"-"&$C22,Calc!$I$4:$I$2003,0),5),"") | H22: =IFERROR(IF(I22="Closed","―",INDEX(Calc!$B$4:$L$2003,MATCH($O$3&"-"&$C22,Calc!$I$4:$I$2003,0),10)),"")
C23: 9 | D23: =IFERROR(INDEX(Calc!$B$4:$L$2003,MATCH($O$3&"-"&C23,Calc!$I$4:$I$2003,0),2),"") | E23: =IFERROR(INDEX(Calc!$B$4:$L$2003,MATCH($O$3&"-"&$C23,Calc!$I$4:$I$2003,0),3),"") | F23: =IFERROR(INDEX(Calc!$B$4:$L$2003,MATCH($O$3&"-"&$C23,Calc!$I$4:$I$2003,0),4),"") | G23: =IFERROR(INDEX(Calc!$B$4:$L$2003,MATCH($O$3&"-"&$C23,Calc!$I$4:$I$2003,0),5),"") | H23: =IFERROR(IF(I23="Closed","―",INDEX(Calc!$B$4:$L$2003,MATCH($O$3&"-"&$C23,Calc!$I$4:$I$2003,0),10)),"")
C24: 10 | D24: =IFERROR(INDEX(Calc!$B$4:$L$2003,MATCH($O$3&"-"&C24,Calc!$I$4:$I$2003,0),2),"") | E24: =IFERROR(INDEX(Calc!$B$4:$L$2003,MATCH($O$3&"-"&$C24,Calc!$I$4:$I$2003,0),3),"") | F24: =IFERROR(INDEX(Calc!$B$4:$L$2003,MATCH($O$3&"-"&$C24,Calc!$I$4:$I$2003,0),4),"") | G24: =IFERROR(INDEX(Calc!$B$4:$L$2003,MATCH($O$3&"-"&$C24,Calc!$I$4:$I$2003,0),5),"") | H24: =IFERROR(IF(I24="Closed","―",INDEX(Calc!$B$4:$L$2003,MATCH($O$3&"-"&$C24,Calc!$I$4:$I$2003,0),10)),"")
C25: 11 | D25: =IFERROR(INDEX(Calc!$B$4:$L$2003,MATCH($O$3&"-"&C25,Calc!$I$4:$I$2003,0),2),"") | E25: =IFERROR(INDEX(Calc!$B$4:$L$2003,MATCH($O$3&"-"&$C25,Calc!$I$4:$I$2003,0),3),"") | F25: =IFERROR(INDEX(Calc!$B$4:$L$2003,MATCH($O$3&"-"&$C25,Calc!$I$4:$I$2003,0),4),"") | G25: =IFERROR(INDEX(Calc!$B$4:$L$2003,MATCH($O$3&"-"&$C25,Calc!$I$4:$I$2003,0),5),"") | H25: =IFERROR(IF(I25="Closed","―",INDEX(Calc!$B$4:$L$2003,MATCH($O$3&"-"&$C25,Calc!$I$4:$I$2003,0),10)),"")
C26: 12 | D26: =IFERROR(INDEX(Calc!$B$4:$L$2003,MATCH($O$3&"-"&C26,Calc!$I$4:$I$2003,0),2),"") | E26: =IFERROR(INDEX(Calc!$B$4:$L$2003,MATCH($O$3&"-"&$C26,Calc!$I$4:$I$2003,0),3),"") | F26: =IFERROR(INDEX(Calc!$B$4:$L$2003,MATCH($O$3&"-"&$C26,Calc!$I$4:$I$2003,0),4),"") | G26: =IFERROR(INDEX(Calc!$B$4:$L$2003,MATCH($O$3&"-"&$C26,Calc!$I$4:$I$2003,0),5),"") | H26: =IFERROR(IF(I26="Closed","―",INDEX(Calc!$B$4:$L$2003,MATCH($O$3&"-"&$C26,Calc!$I$4:$I$2003,0),10)),"")
C27: 13 | D27: =IFERROR(INDEX(Calc!$B$4:$L$2003,MATCH($O$3&"-"&C27,Calc!$I$4:$I$2003,0),2),"") | E27: =IFERROR(INDEX(Calc!$B$4:$L$2003,MATCH($O$3&"-"&$C27,Calc!$I$4:$I$2003,0),3),"") | F27: =IFERROR(INDEX(Calc!$B$4:$L$2003,MATCH($O$3&"-"&$C27,Calc!$I$4:$I$2003,0),4),"") | G27: =IFERROR(INDEX(Calc!$B$4:$L$2003,MATCH($O$3&"-"&$C27,Calc!$I$4:$I$2003,0),5),"") | H27: =IFERROR(IF(I27="Closed","―",INDEX(Calc!$B$4:$L$2003,MATCH($O$3&"-"&$C27,Calc!$I$4:$I$2003,0),10)),"")
C28: 14 | D28: =IFERROR(INDEX(Calc!$B$4:$L$2003,MATCH($O$3&"-"&C28,Calc!$I$4:$I$2003,0),2),"") | E28: =IFERROR(INDEX(Calc!$B$4:$L$2003,MATCH($O$3&"-"&$C28,Calc!$I$4:$I$2003,0),3),"") | F28: =IFERROR(INDEX(Calc!$B$4:$L$2003,MATCH($O$3&"-"&$C28,Calc!$I$4:$I$2003,0),4),"") | G28: =IFERROR(INDEX(Calc!$B$4:$L$2003,MATCH($O$3&"-"&$C28,Calc!$I$4:$I$2003,0),5),"") | H28: =IFERROR(IF(I28="Closed","―",INDEX(Calc!$B$4:$L$2003,MATCH($O$3&"-"&$C28,Calc!$I$4:$I$2003,0),10)),"")
C29: 15 | D29: =IFERROR(INDEX(Calc!$B$4:$L$2003,MATCH($O$3&"-"&C29,Calc!$I$4:$I$2003,0),2),"") | E29: =IFERROR(INDEX(Calc!$B$4:$L$2003,MATCH($O$3&"-"&$C29,Calc!$I$4:$I$2003,0),3),"") | F29: =IFERROR(INDEX(Calc!$B$4:$L$2003,MATCH($O$3&"-"&$C29,Calc!$I$4:$I$2003,0),4),"") | G29: =IFERROR(INDEX(Calc!$B$4:$L$2003,MATCH($O$3&"-"&$C29,Calc!$I$4:$I$2003,0),5),"") | H29: =IFERROR(IF(I29="Closed","―",INDEX(Calc!$B$4:$L$2003,MATCH($O$3&"-"&$C29,Calc!$I$4:$I$2003,0),10)),"")
... C1014: 1000 | D1014: =IFERROR(INDEX(Calc!$B$4:$L$2003,MATCH($O$3&"-"&C1014,Calc!$I$4:$I$2003,0),2),"") | E1014: =IFERROR(INDEX(Calc!$B$4:$L$2003,MATCH($O$3&"-"&$C1014,Calc!$I$4:$I$2003,0),3),"") | F1014: =IFERROR(INDEX(Calc!$B$4:$L$2003,MATCH($O$3&"-"&$C1014,Calc!$I$4:$I$2003,0),4),"") | G1014: =IFERROR(INDEX(Calc!$B$4:$L$2003,MATCH($O$3&"-"&$C1014,Calc!$I$4:$I$2003,0),5),"") | H1014: =IFERROR(IF(I1014="Closed","―",INDEX(Calc!$B$4:$L$2003,MATCH($O$3&"-"&$C1014,Calc!$I$4:$I$2003,0),10)),"")

Sheet July
D2: TEAM TO-DO LIST
D3: JULY | N3: Month Number | O3: 7
C6: Whole Team | E6: Team Member: | F6: Charlize Theron
C14: # | D14: Job Description | E14: Assigned To | F14: Assigned On | G14: Deadline | H14: Days Remaining | I14: Status
C15: 1 | D15: =IFERROR(INDEX(Calc!$B$4:$L$2003,MATCH($O$3&"-"&C15,Calc!$I$4:$I$2003,0),2),"") -> Develop an inventory management tool in excel | E15: =IFERROR(INDEX(Calc!$B$4:$L$2003,MATCH($O$3&"-"&$C15,Calc!$I$4:$I$2003,0),3),"") -> John Stones | F15: =IFERROR(INDEX(Calc!$B$4:$L$2003,MATCH($O$3&"-"&$C15,Calc!$I$4:$I$2003,0),4),"") -> 44584 | G15: =IFERROR(INDEX(Calc!$B$4:$L$2003,MATCH($O$3&"-"&$C15,Calc!$I$4:$I$2003,0),5),"") -> 44743 | H15: =IFERROR(IF(I15="Closed","―",INDEX(Calc!$B$4:$L$2003,MATCH($O$3&"-"&$C15,Calc!$I$4:$I$2003,0),10)),"") -> 30 | I15: In Progress
C16: 2 | D16: =IFERROR(INDEX(Calc!$B$4:$L$2003,MATCH($O$3&"-"&C16,Calc!$I$4:$I$2003,0),2),"") -> Increase clickthrough rate by 0.1% | E16: =IFERROR(INDEX(Calc!$B$4:$L$2003,MATCH($O$3&"-"&$C16,Calc!$I$4:$I$2003,0),3),"") -> Scarlett Johansson | F16: =IFERROR(INDEX(Calc!$B$4:$L$2003,MATCH($O$3&"-"&$C16,Calc!$I$4:$I$2003,0),4),"") -> 44749 | G16: =IFERROR(INDEX(Calc!$B$4:$L$2003,MATCH($O$3&"-"&$C16,Calc!$I$4:$I$2003,0),5),"") -> 44771 | H16: =IFERROR(IF(I16="Closed","―",INDEX(Calc!$B$4:$L$2003,MATCH($O$3&"-"&$C16,Calc!$I$4:$I$2003,0),10)),"") -> ― | I16: Closed
C17: 3 | D17: =IFERROR(INDEX(Calc!$B$4:$L$2003,MATCH($O$3&"-"&C17,Calc!$I$4:$I$2003,0),2),"") -> Get the elevator to the 11th floor, and back to ground level | E17: =IFERROR(INDEX(Calc!$B$4:$L$2003,MATCH($O$3&"-"&$C17,Calc!$I$4:$I$2003,0),3),"") -> Charlize Theron | F17: =IFERROR(INDEX(Calc!$B$4:$L$2003,MATCH($O$3&"-"&$C17,Calc!$I$4:$I$2003,0),4),"") -> 44625 | G17: =IFERROR(INDEX(Calc!$B$4:$L$2003,MATCH($O$3&"-"&$C17,Calc!$I$4:$I$2003,0),5),"") -> 44752 | H17: =IFERROR(IF(I17="Closed","―",INDEX(Calc!$B$4:$L$2003,MATCH($O$3&"-"&$C17,Calc!$I$4:$I$2003,0),10)),"") -> ― | I17: Closed
C18: 4 | D18: =IFERROR(INDEX(Calc!$B$4:$L$2003,MATCH($O$3&"-"&C18,Calc!$I$4:$I$2003,0),2),"") -> Develop an inventory management tool in excel | E18: =IFERROR(INDEX(Calc!$B$4:$L$2003,MATCH($O$3&"-"&$C18,Calc!$I$4:$I$2003,0),3),"") -> John Stones | F18: =IFERROR(INDEX(Calc!$B$4:$L$2003,MATCH($O$3&"-"&$C18,Calc!$I$4:$I$2003,0),4),"") -> 44690 | G18: =IFERROR(INDEX(Calc!$B$4:$L$2003,MATCH($O$3&"-"&$C18,Calc!$I$4:$I$2003,0),5),"") -> 44773 | H18: =IFERROR(IF(I18="Closed","―",INDEX(Calc!$B$4:$L$2003,MATCH($O$3&"-"&$C18,Calc!$I$4:$I$2003,0),10)),"") -> 60 | I18: Not Started
C19: 5 | D19: =IFERROR(INDEX(Calc!$B$4:$L$2003,MATCH($O$3&"-"&C19,Calc!$I$4:$I$2003,0),2),"") -> Get the elevator to the 11th floor, and back to ground level | E19: =IFERROR(INDEX(Calc!$B$4:$L$2003,MATCH($O$3&"-"&$C19,Calc!$I$4:$I$2003,0),3),"") -> Charlize Theron | F19: =IFERROR(INDEX(Calc!$B$4:$L$2003,MATCH($O$3&"-"&$C19,Calc!$I$4:$I$2003,0),4),"") -> 44742 | G19: =IFERROR(INDEX(Calc!$B$4:$L$2003,MATCH($O$3&"-"&$C19,Calc!$I$4:$I$2003,0),5),"") -> 44756 | H19: =IFERROR(IF(I19="Closed","―",INDEX(Calc!$B$4:$L$2003,MATCH($O$3&"-"&$C19,Calc!$I$4:$I$2003,0),10)),"") -> 43 | I19: In Progress
C20: 6 | D20: =IFERROR(INDEX(Calc!$B$4:$L$2003,MATCH($O$3&"-"&C20,Calc!$I$4:$I$2003,0),2),"") | E20: =IFERROR(INDEX(Calc!$B$4:$L$2003,MATCH($O$3&"-"&$C20,Calc!$I$4:$I$2003,0),3),"") | F20: =IFERROR(INDEX(Calc!$B$4:$L$2003,MATCH($O$3&"-"&$C20,Calc!$I$4:$I$2003,0),4),"") | G20: =IFERROR(INDEX(Calc!$B$4:$L$2003,MATCH($O$3&"-"&$C20,Calc!$I$4:$I$2003,0),5),"") | H20: =IFERROR(IF(I20="Closed","―",INDEX(Calc!$B$4:$L$2003,MATCH($O$3&"-"&$C20,Calc!$I$4:$I$2003,0),10)),"")
C21: 7 | D21: =IFERROR(INDEX(Calc!$B$4:$L$2003,MATCH($O$3&"-"&C21,Calc!$I$4:$I$2003,0),2),"") | E21: =IFERROR(INDEX(Calc!$B$4:$L$2003,MATCH($O$3&"-"&$C21,Calc!$I$4:$I$2003,0),3),"") | F21: =IFERROR(INDEX(Calc!$B$4:$L$2003,MATCH($O$3&"-"&$C21,Calc!$I$4:$I$2003,0),4),"") | G21: =IFERROR(INDEX(Calc!$B$4:$L$2003,MATCH($O$3&"-"&$C21,Calc!$I$4:$I$2003,0),5),"") | H21: =IFERROR(IF(I21="Closed","―",INDEX(Calc!$B$4:$L$2003,MATCH($O$3&"-"&$C21,Calc!$I$4:$I$2003,0),10)),"")
C22: 8 | D22: =IFERROR(INDEX(Calc!$B$4:$L$2003,MATCH($O$3&"-"&C22,Calc!$I$4:$I$2003,0),2),"") | E22: =IFERROR(INDEX(Calc!$B$4:$L$2003,MATCH($O$3&"-"&$C22,Calc!$I$4:$I$2003,0),3),"") | F22: =IFERROR(INDEX(Calc!$B$4:$L$2003,MATCH($O$3&"-"&$C22,Calc!$I$4:$I$2003,0),4),"") | G22: =IFERROR(INDEX(Calc!$B$4:$L$2003,MATCH($O$3&"-"&$C22,Calc!$I$4:$I$2003,0),5),"") | H22: =IFERROR(IF(I22="Closed","―",INDEX(Calc!$B$4:$L$2003,MATCH($O$3&"-"&$C22,Calc!$I$4:$I$2003,0),10)),"")
C23: 9 | D23: =IFERROR(INDEX(Calc!$B$4:$L$2003,MATCH($O$3&"-"&C23,Calc!$I$4:$I$2003,0),2),"") | E23: =IFERROR(INDEX(Calc!$B$4:$L$2003,MATCH($O$3&"-"&$C23,Calc!$I$4:$I$2003,0),3),"") | F23: =IFERROR(INDEX(Calc!$B$4:$L$2003,MATCH($O$3&"-"&$C23,Calc!$I$4:$I$2003,0),4),"") | G23: =IFERROR(INDEX(Calc!$B$4:$L$2003,MATCH($O$3&"-"&$C23,Calc!$I$4:$I$2003,0),5),"") | H23: =IFERROR(IF(I23="Closed","―",INDEX(Calc!$B$4:$L$2003,MATCH($O$3&"-"&$C23,Calc!$I$4:$I$2003,0),10)),"")
C24: 10 | D24: =IFERROR(INDEX(Calc!$B$4:$L$2003,MATCH($O$3&"-"&C24,Calc!$I$4:$I$2003,0),2),"") | E24: =IFERROR(INDEX(Calc!$B$4:$L$2003,MATCH($O$3&"-"&$C24,Calc!$I$4:$I$2003,0),3),"") | F24: =IFERROR(INDEX(Calc!$B$4:$L$2003,MATCH($O$3&"-"&$C24,Calc!$I$4:$I$2003,0),4),"") | G24: =IFERROR(INDEX(Calc!$B$4:$L$2003,MATCH($O$3&"-"&$C24,Calc!$I$4:$I$2003,0),5),"") | H24: =IFERROR(IF(I24="Closed","―",INDEX(Calc!$B$4:$L$2003,MATCH($O$3&"-"&$C24,Calc!$I$4:$I$2003,0),10)),"")
C25: 11 | D25: =IFERROR(INDEX(Calc!$B$4:$L$2003,MATCH($O$3&"-"&C25,Calc!$I$4:$I$2003,0),2),"") | E25: =IFERROR(INDEX(Calc!$B$4:$L$2003,MATCH($O$3&"-"&$C25,Calc!$I$4:$I$2003,0),3),"") | F25: =IFERROR(INDEX(Calc!$B$4:$L$2003,MATCH($O$3&"-"&$C25,Calc!$I$4:$I$2003,0),4),"") | G25: =IFERROR(INDEX(Calc!$B$4:$L$2003,MATCH($O$3&"-"&$C25,Calc!$I$4:$I$2003,0),5),"") | H25: =IFERROR(IF(I25="Closed","―",INDEX(Calc!$B$4:$L$2003,MATCH($O$3&"-"&$C25,Calc!$I$4:$I$2003,0),10)),"")
C26: 12 | D26: =IFERROR(INDEX(Calc!$B$4:$L$2003,MATCH($O$3&"-"&C26,Calc!$I$4:$I$2003,0),2),"") | E26: =IFERROR(INDEX(Calc!$B$4:$L$2003,MATCH($O$3&"-"&$C26,Calc!$I$4:$I$2003,0),3),"") | F26: =IFERROR(INDEX(Calc!$B$4:$L$2003,MATCH($O$3&"-"&$C26,Calc!$I$4:$I$2003,0),4),"") | G26: =IFERROR(INDEX(Calc!$B$4:$L$2003,MATCH($O$3&"-"&$C26,Calc!$I$4:$I$2003,0),5),"") | H26: =IFERROR(IF(I26="Closed","―",INDEX(Calc!$B$4:$L$2003,MATCH($O$3&"-"&$C26,Calc!$I$4:$I$2003,0),10)),"")
C27: 13 | D27: =IFERROR(INDEX(Calc!$B$4:$L$2003,MATCH($O$3&"-"&C27,Calc!$I$4:$I$2003,0),2),"") | E27: =IFERROR(INDEX(Calc!$B$4:$L$2003,MATCH($O$3&"-"&$C27,Calc!$I$4:$I$2003,0),3),"") | F27: =IFERROR(INDEX(Calc!$B$4:$L$2003,MATCH($O$3&"-"&$C27,Calc!$I$4:$I$2003,0),4),"") | G27: =IFERROR(INDEX(Calc!$B$4:$L$2003,MATCH($O$3&"-"&$C27,Calc!$I$4:$I$2003,0),5),"") | H27: =IFERROR(IF(I27="Closed","―",INDEX(Calc!$B$4:$L$2003,MATCH($O$3&"-"&$C27,Calc!$I$4:$I$2003,0),10)),"")
C28: 14 | D28: =IFERROR(INDEX(Calc!$B$4:$L$2003,MATCH($O$3&"-"&C28,Calc!$I$4:$I$2003,0),2),"") | E28: =IFERROR(INDEX(Calc!$B$4:$L$2003,MATCH($O$3&"-"&$C28,Calc!$I$4:$I$2003,0),3),"") | F28: =IFERROR(INDEX(Calc!$B$4:$L$2003,MATCH($O$3&"-"&$C28,Calc!$I$4:$I$2003,0),4),"") | G28: =IFERROR(INDEX(Calc!$B$4:$L$2003,MATCH($O$3&"-"&$C28,Calc!$I$4:$I$2003,0),5),"") | H28: =IFERROR(IF(I28="Closed","―",INDEX(Calc!$B$4:$L$2003,MATCH($O$3&"-"&$C28,Calc!$I$4:$I$2003,0),10)),"")
C29: 15 | D29: =IFERROR(INDEX(Calc!$B$4:$L$2003,MATCH($O$3&"-"&C29,Calc!$I$4:$I$2003,0),2),"") | E29: =IFERROR(INDEX(Calc!$B$4:$L$2003,MATCH($O$3&"-"&$C29,Calc!$I$4:$I$2003,0),3),"") | F29: =IFERROR(INDEX(Calc!$B$4:$L$2003,MATCH($O$3&"-"&$C29,Calc!$I$4:$I$2003,0),4),"") | G29: =IFERROR(INDEX(Calc!$B$4:$L$2003,MATCH($O$3&"-"&$C29,Calc!$I$4:$I$2003,0),5),"") | H29: =IFERROR(IF(I29="Closed","―",INDEX(Calc!$B$4:$L$2003,MATCH($O$3&"-"&$C29,Calc!$I$4:$I$2003,0),10)),"")
C30: 16 | D30: =IFERROR(INDEX(Calc!$B$4:$L$2003,MATCH($O$3&"-"&C30,Calc!$I$4:$I$2003,0),2),"") | E30: =IFERROR(INDEX(Calc!$B$4:$L$2003,MATCH($O$3&"-"&$C30,Calc!$I$4:$I$2003,0),3),"") | F30: =IFERROR(INDEX(Calc!$B$4:$L$2003,MATCH($O$3&"-"&$C30,Calc!$I$4:$I$2003,0),4),"") | G30: =IFERROR(INDEX(Calc!$B$4:$L$2003,MATCH($O$3&"-"&$C30,Calc!$I$4:$I$2003,0),5),"") | H30: =IFERROR(IF(I30="Closed","―",INDEX(Calc!$B$4:$L$2003,MATCH($O$3&"-"&$C30,Calc!$I$4:$I$2003,0),10)),"")
C31: 17 | D31: =IFERROR(INDEX(Calc!$B$4:$L$2003,MATCH($O$3&"-"&C31,Calc!$I$4:$I$2003,0),2),"") | E31: =IFERROR(INDEX(Calc!$B$4:$L$2003,MATCH($O$3&"-"&$C31,Calc!$I$4:$I$2003,0),3),"") | F31: =IFERROR(INDEX(Calc!$B$4:$L$2003,MATCH($O$3&"-"&$C31,Calc!$I$4:$I$2003,0),4),"") | G31: =IFERROR(INDEX(Calc!$B$4:$L$2003,MATCH($O$3&"-"&$C31,Calc!$I$4:$I$2003,0),5),"") | H31: =IFERROR(IF(I31="Closed","―",INDEX(Calc!$B$4:$L$2003,MATCH($O$3&"-"&$C31,Calc!$I$4:$I$2003,0),10)),"")
... C1014: 1000 | D1014: =IFERROR(INDEX(Calc!$B$4:$L$2003,MATCH($O$3&"-"&C1014,Calc!$I$4:$I$2003,0),2),"") | E1014: =IFERROR(INDEX(Calc!$B$4:$L$2003,MATCH($O$3&"-"&$C1014,Calc!$I$4:$I$2003,0),3),"") | F1014: =IFERROR(INDEX(Calc!$B$4:$L$2003,MATCH($O$3&"-"&$C1014,Calc!$I$4:$I$2003,0),4),"") | G1014: =IFERROR(INDEX(Calc!$B$4:$L$2003,MATCH($O$3&"-"&$C1014,Calc!$I$4:$I$2003,0),5),"") | H1014: =IFERROR(IF(I1014="Closed","―",INDEX(Calc!$B$4:$L$2003,MATCH($O$3&"-"&$C1014,Calc!$I$4:$I$2003,0),10)),"")

Sheet August
D2: TEAM TO-DO LIST
D3: AUGUST | N3: Month Number | O3: 8
C6: Whole Team | E6: Team Member: | F6: Mila Kunis
C14: # | D14: Job Description | E14: Assigned To | F14: Assigned On | G14: Deadline | H14: Days Remaining | I14: Status
C15: 1 | D15: =IFERROR(INDEX(Calc!$B$4:$L$2003,MATCH($O$3&"-"&C15,Calc!$I$4:$I$2003,0),2),"") -> Clean the desks | E15: =IFERROR(INDEX(Calc!$B$4:$L$2003,MATCH($O$3&"-"&$C15,Calc!$I$4:$I$2003,0),3),"") -> Mila Kunis | F15: =IFERROR(INDEX(Calc!$B$4:$L$2003,MATCH($O$3&"-"&$C15,Calc!$I$4:$I$2003,0),4),"") -> 44590 | G15: =IFERROR(INDEX(Calc!$B$4:$L$2003,MATCH($O$3&"-"&$C15,Calc!$I$4:$I$2003,0),5),"") -> 44798 | H15: =IFERROR(IF(I15="Closed","―",INDEX(Calc!$B$4:$L$2003,MATCH($O$3&"-"&$C15,Calc!$I$4:$I$2003,0),10)),"") -> ― | I15: Closed
C16: 2 | D16: =IFERROR(INDEX(Calc!$B$4:$L$2003,MATCH($O$3&"-"&C16,Calc!$I$4:$I$2003,0),2),"") -> Get the elevator to the 11th floor, and back to ground level | E16: =IFERROR(INDEX(Calc!$B$4:$L$2003,MATCH($O$3&"-"&$C16,Calc!$I$4:$I$2003,0),3),"") -> Charlize Theron | F16: =IFERROR(INDEX(Calc!$B$4:$L$2003,MATCH($O$3&"-"&$C16,Calc!$I$4:$I$2003,0),4),"") -> 44706 | G16: =IFERROR(INDEX(Calc!$B$4:$L$2003,MATCH($O$3&"-"&$C16,Calc!$I$4:$I$2003,0),5),"") -> 44787 | H16: =IFERROR(IF(I16="Closed","―",INDEX(Calc!$B$4:$L$2003,MATCH($O$3&"-"&$C16,Calc!$I$4:$I$2003,0),10)),"") -> 74 | I16: Not Started
C17: 3 | D17: =IFERROR(INDEX(Calc!$B$4:$L$2003,MATCH($O$3&"-"&C17,Calc!$I$4:$I$2003,0),2),"") | E17: =IFERROR(INDEX(Calc!$B$4:$L$2003,MATCH($O$3&"-"&$C17,Calc!$I$4:$I$2003,0),3),"") | F17: =IFERROR(INDEX(Calc!$B$4:$L$2003,MATCH($O$3&"-"&$C17,Calc!$I$4:$I$2003,0),4),"") | G17: =IFERROR(INDEX(Calc!$B$4:$L$2003,MATCH($O$3&"-"&$C17,Calc!$I$4:$I$2003,0),5),"") | H17: =IFERROR(IF(I17="Closed","―",INDEX(Calc!$B$4:$L$2003,MATCH($O$3&"-"&$C17,Calc!$I$4:$I$2003,0),10)),"")
C18: 4 | D18: =IFERROR(INDEX(Calc!$B$4:$L$2003,MATCH($O$3&"-"&C18,Calc!$I$4:$I$2003,0),2),"") | E18: =IFERROR(INDEX(Calc!$B$4:$L$2003,MATCH($O$3&"-"&$C18,Calc!$I$4:$I$2003,0),3),"") | F18: =IFERROR(INDEX(Calc!$B$4:$L$2003,MATCH($O$3&"-"&$C18,Calc!$I$4:$I$2003,0),4),"") | G18: =IFERROR(INDEX(Calc!$B$4:$L$2003,MATCH($O$3&"-"&$C18,Calc!$I$4:$I$2003,0),5),"") | H18: =IFERROR(IF(I18="Closed","―",INDEX(Calc!$B$4:$L$2003,MATCH($O$3&"-"&$C18,Calc!$I$4:$I$2003,0),10)),"")
C19: 5 | D19: =IFERROR(INDEX(Calc!$B$4:$L$2003,MATCH($O$3&"-"&C19,Calc!$I$4:$I$2003,0),2),"") | E19: =IFERROR(INDEX(Calc!$B$4:$L$2003,MATCH($O$3&"-"&$C19,Calc!$I$4:$I$2003,0),3),"") | F19: =IFERROR(INDEX(Calc!$B$4:$L$2003,MATCH($O$3&"-"&$C19,Calc!$I$4:$I$2003,0),4),"") | G19: =IFERROR(INDEX(Calc!$B$4:$L$2003,MATCH($O$3&"-"&$C19,Calc!$I$4:$I$2003,0),5),"") | H19: =IFERROR(IF(I19="Closed","―",INDEX(Calc!$B$4:$L$2003,MATCH($O$3&"-"&$C19,Calc!$I$4:$I$2003,0),10)),"")
C20: 6 | D20: =IFERROR(INDEX(Calc!$B$4:$L$2003,MATCH($O$3&"-"&C20,Calc!$I$4:$I$2003,0),2),"") | E20: =IFERROR(INDEX(Calc!$B$4:$L$2003,MATCH($O$3&"-"&$C20,Calc!$I$4:$I$2003,0),3),"") | F20: =IFERROR(INDEX(Calc!$B$4:$L$2003,MATCH($O$3&"-"&$C20,Calc!$I$4:$I$2003,0),4),"") | G20: =IFERROR(INDEX(Calc!$B$4:$L$2003,MATCH($O$3&"-"&$C20,Calc!$I$4:$I$2003,0),5),"") | H20: =IFERROR(IF(I20="Closed","―",INDEX(Calc!$B$4:$L$2003,MATCH($O$3&"-"&$C20,Calc!$I$4:$I$2003,0),10)),"")
C21: 7 | D21: =IFERROR(INDEX(Calc!$B$4:$L$2003,MATCH($O$3&"-"&C21,Calc!$I$4:$I$2003,0),2),"") | E21: =IFERROR(INDEX(Calc!$B$4:$L$2003,MATCH($O$3&"-"&$C21,Calc!$I$4:$I$2003,0),3),"") | F21: =IFERROR(INDEX(Calc!$B$4:$L$2003,MATCH($O$3&"-"&$C21,Calc!$I$4:$I$2003,0),4),"") | G21: =IFERROR(INDEX(Calc!$B$4:$L$2003,MATCH($O$3&"-"&$C21,Calc!$I$4:$I$2003,0),5),"") | H21: =IFERROR(IF(I21="Closed","―",INDEX(Calc!$B$4:$L$2003,MATCH($O$3&"-"&$C21,Calc!$I$4:$I$2003,0),10)),"")
C22: 8 | D22: =IFERROR(INDEX(Calc!$B$4:$L$2003,MATCH($O$3&"-"&C22,Calc!$I$4:$I$2003,0),2),"") | E22: =IFERROR(INDEX(Calc!$B$4:$L$2003,MATCH($O$3&"-"&$C22,Calc!$I$4:$I$2003,0),3),"") | F22: =IFERROR(INDEX(Calc!$B$4:$L$2003,MATCH($O$3&"-"&$C22,Calc!$I$4:$I$2003,0),4),"") | G22: =IFERROR(INDEX(Calc!$B$4:$L$2003,MATCH($O$3&"-"&$C22,Calc!$I$4:$I$2003,0),5),"") | H22: =IFERROR(IF(I22="Closed","―",INDEX(Calc!$B$4:$L$2003,MATCH($O$3&"-"&$C22,Calc!$I$4:$I$2003,0),10)),"")
C23: 9 | D23: =IFERROR(INDEX(Calc!$B$4:$L$2003,MATCH($O$3&"-"&C23,Calc!$I$4:$I$2003,0),2),"") | E23: =IFERROR(INDEX(Calc!$B$4:$L$2003,MATCH($O$3&"-"&$C23,Calc!$I$4:$I$2003,0),3),"") | F23: =IFERROR(INDEX(Calc!$B$4:$L$2003,MATCH($O$3&"-"&$C23,Calc!$I$4:$I$2003,0),4),"") | G23: =IFERROR(INDEX(Calc!$B$4:$L$2003,MATCH($O$3&"-"&$C23,Calc!$I$4:$I$2003,0),5),"") | H23: =IFERROR(IF(I23="Closed","―",INDEX(Calc!$B$4:$L$2003,MATCH($O$3&"-"&$C23,Calc!$I$4:$I$2003,0),10)),"")
C24: 10 | D24: =IFERROR(INDEX(Calc!$B$4:$L$2003,MATCH($O$3&"-"&C24,Calc!$I$4:$I$2003,0),2),"") | E24: =IFERROR(INDEX(Calc!$B$4:$L$2003,MATCH($O$3&"-"&$C24,Calc!$I$4:$I$2003,0),3),"") | F24: =IFERROR(INDEX(Calc!$B$4:$L$2003,MATCH($O$3&"-"&$C24,Calc!$I$4:$I$2003,0),4),"") | G24: =IFERROR(INDEX(Calc!$B$4:$L$2003,MATCH($O$3&"-"&$C24,Calc!$I$4:$I$2003,0),5),"") | H24: =IFERROR(IF(I24="Closed","―",INDEX(Calc!$B$4:$L$2003,MATCH($O$3&"-"&$C24,Calc!$I$4:$I$2003,0),10)),"")
C25: 11 | D25: =IFERROR(INDEX(Calc!$B$4:$L$2003,MATCH($O$3&"-"&C25,Calc!$I$4:$I$2003,0),2),"") | E25: =IFERROR(INDEX(Calc!$B$4:$L$2003,MATCH($O$3&"-"&$C25,Calc!$I$4:$I$2003,0),3),"") | F25: =IFERROR(INDEX(Calc!$B$4:$L$2003,MATCH($O$3&"-"&$C25,Calc!$I$4:$I$2003,0),4),"") | G25: =IFERROR(INDEX(Calc!$B$4:$L$2003,MATCH($O$3&"-"&$C25,Calc!$I$4:$I$2003,0),5),"") | H25: =IFERROR(IF(I25="Closed","―",INDEX(Calc!$B$4:$L$2003,MATCH($O$3&"-"&$C25,Calc!$I$4:$I$2003,0),10)),"")
C26: 12 | D26: =IFERROR(INDEX(Calc!$B$4:$L$2003,MATCH($O$3&"-"&C26,Calc!$I$4:$I$2003,0),2),"") | E26: =IFERROR(INDEX(Calc!$B$4:$L$2003,MATCH($O$3&"-"&$C26,Calc!$I$4:$I$2003,0),3),"") | F26: =IFERROR(INDEX(Calc!$B$4:$L$2003,MATCH($O$3&"-"&$C26,Calc!$I$4:$I$2003,0),4),"") | G26: =IFERROR(INDEX(Calc!$B$4:$L$2003,MATCH($O$3&"-"&$C26,Calc!$I$4:$I$2003,0),5),"") | H26: =IFERROR(IF(I26="Closed","―",INDEX(Calc!$B$4:$L$2003,MATCH($O$3&"-"&$C26,Calc!$I$4:$I$2003,0),10)),"")
C27: 13 | D27: =IFERROR(INDEX(Calc!$B$4:$L$2003,MATCH($O$3&"-"&C27,Calc!$I$4:$I$2003,0),2),"") | E27: =IFERROR(INDEX(Calc!$B$4:$L$2003,MATCH($O$3&"-"&$C27,Calc!$I$4:$I$2003,0),3),"") | F27: =IFERROR(INDEX(Calc!$B$4:$L$2003,MATCH($O$3&"-"&$C27,Calc!$I$4:$I$2003,0),4),"") | G27: =IFERROR(INDEX(Calc!$B$4:$L$2003,MATCH($O$3&"-"&$C27,Calc!$I$4:$I$2003,0),5),"") | H27: =IFERROR(IF(I27="Closed","―",INDEX(Calc!$B$4:$L$2003,MATCH($O$3&"-"&$C27,Calc!$I$4:$I$2003,0),10)),"")
C28: 14 | D28: =IFERROR(INDEX(Calc!$B$4:$L$2003,MATCH($O$3&"-"&C28,Calc!$I$4:$I$2003,0),2),"") | E28: =IFERROR(INDEX(Calc!$B$4:$L$2003,MATCH($O$3&"-"&$C28,Calc!$I$4:$I$2003,0),3),"") | F28: =IFERROR(INDEX(Calc!$B$4:$L$2003,MATCH($O$3&"-"&$C28,Calc!$I$4:$I$2003,0),4),"") | G28: =IFERROR(INDEX(Calc!$B$4:$L$2003,MATCH($O$3&"-"&$C28,Calc!$I$4:$I$2003,0),5),"") | H28: =IFERROR(IF(I28="Closed","―",INDEX(Calc!$B$4:$L$2003,MATCH($O$3&"-"&$C28,Calc!$I$4:$I$2003,0),10)),"")
... C1014: 1000 | D1014: =IFERROR(INDEX(Calc!$B$4:$L$2003,MATCH($O$3&"-"&C1014,Calc!$I$4:$I$2003,0),2),"") | E1014: =IFERROR(INDEX(Calc!$B$4:$L$2003,MATCH($O$3&"-"&$C1014,Calc!$I$4:$I$2003,0),3),"") | F1014: =IFERROR(INDEX(Calc!$B$4:$L$2003,MATCH($O$3&"-"&$C1014,Calc!$I$4:$I$2003,0),4),"") | G1014: =IFERROR(INDEX(Calc!$B$4:$L$2003,MATCH($O$3&"-"&$C1014,Calc!$I$4:$I$2003,0),5),"") | H1014: =IFERROR(IF(I1014="Closed","―",INDEX(Calc!$B$4:$L$2003,MATCH($O$3&"-"&$C1014,Calc!$I$4:$I$2003,0),10)),"")

Sheet September
D2: TEAM TO-DO LIST
D3: SEPTEMBER | N3: Month Number | O3: 9
C6: Whole Team | E6: Team Member: | F6: Mila Kunis
C14: # | D14: Job Description | E14: Assigned To | F14: Assigned On | G14: Deadline | H14: Days Remaining | I14: Status
C15: 1 | D15: =IFERROR(INDEX(Calc!$B$4:$L$2003,MATCH($O$3&"-"&C15,Calc!$I$4:$I$2003,0),2),"") -> Clean the desks | E15: =IFERROR(INDEX(Calc!$B$4:$L$2003,MATCH($O$3&"-"&$C15,Calc!$I$4:$I$2003,0),3),"") -> Mila Kunis | F15: =IFERROR(INDEX(Calc!$B$4:$L$2003,MATCH($O$3&"-"&$C15,Calc!$I$4:$I$2003,0),4),"") -> 44762 | G15: =IFERROR(INDEX(Calc!$B$4:$L$2003,MATCH($O$3&"-"&$C15,Calc!$I$4:$I$2003,0),5),"") -> 44827 | H15: =IFERROR(IF(I15="Closed","―",INDEX(Calc!$B$4:$L$2003,MATCH($O$3&"-"&$C15,Calc!$I$4:$I$2003,0),10)),"") -> 114 | I15: Not Started
C16: 2 | D16: =IFERROR(INDEX(Calc!$B$4:$L$2003,MATCH($O$3&"-"&C16,Calc!$I$4:$I$2003,0),2),"") -> Finish developing the printable invoice template | E16: =IFERROR(INDEX(Calc!$B$4:$L$2003,MATCH($O$3&"-"&$C16,Calc!$I$4:$I$2003,0),3),"") -> John Stones | F16: =IFERROR(INDEX(Calc!$B$4:$L$2003,MATCH($O$3&"-"&$C16,Calc!$I$4:$I$2003,0),4),"") -> 44812 | G16: =IFERROR(INDEX(Calc!$B$4:$L$2003,MATCH($O$3&"-"&$C16,Calc!$I$4:$I$2003,0),5),"") -> 44830 | H16: =IFERROR(IF(I16="Closed","―",INDEX(Calc!$B$4:$L$2003,MATCH($O$3&"-"&$C16,Calc!$I$4:$I$2003,0),10)),"") -> 117 | I16: In Progress
C17: 3 | D17: =IFERROR(INDEX(Calc!$B$4:$L$2003,MATCH($O$3&"-"&C17,Calc!$I$4:$I$2003,0),2),"") -> Take the chairs downstairs | E17: =IFERROR(INDEX(Calc!$B$4:$L$2003,MATCH($O$3&"-"&$C17,Calc!$I$4:$I$2003,0),3),"") -> Mila Kunis | F17: =IFERROR(INDEX(Calc!$B$4:$L$2003,MATCH($O$3&"-"&$C17,Calc!$I$4:$I$2003,0),4),"") -> 44785 | G17: =IFERROR(INDEX(Calc!$B$4:$L$2003,MATCH($O$3&"-"&$C17,Calc!$I$4:$I$2003,0),5),"") -> 44810 | H17: =IFERROR(IF(I17="Closed","―",INDEX(Calc!$B$4:$L$2003,MATCH($O$3&"-"&$C17,Calc!$I$4:$I$2003,0),10)),"") -> ― | I17: Closed
C18: 4 | D18: =IFERROR(INDEX(Calc!$B$4:$L$2003,MATCH($O$3&"-"&C18,Calc!$I$4:$I$2003,0),2),"") -> Write more tasks here | E18: =IFERROR(INDEX(Calc!$B$4:$L$2003,MATCH($O$3&"-"&$C18,Calc!$I$4:$I$2003,0),3),"") -> Charlize Theron | F18: =IFERROR(INDEX(Calc!$B$4:$L$2003,MATCH($O$3&"-"&$C18,Calc!$I$4:$I$2003,0),4),"") -> 44774 | G18: =IFERROR(INDEX(Calc!$B$4:$L$2003,MATCH($O$3&"-"&$C18,Calc!$I$4:$I$2003,0),5),"") -> 44807 | H18: =IFERROR(IF(I18="Closed","―",INDEX(Calc!$B$4:$L$2003,MATCH($O$3&"-"&$C18,Calc!$I$4:$I$2003,0),10)),"") -> 94 | I18: In Progress
C19: 5 | D19: =IFERROR(INDEX(Calc!$B$4:$L$2003,MATCH($O$3&"-"&C19,Calc!$I$4:$I$2003,0),2),"") -> Complete the personal to-do list | E19: =IFERROR(INDEX(Calc!$B$4:$L$2003,MATCH($O$3&"-"&$C19,Calc!$I$4:$I$2003,0),3),"") -> Donald Trump | F19: =IFERROR(INDEX(Calc!$B$4:$L$2003,MATCH($O$3&"-"&$C19,Calc!$I$4:$I$2003,0),4),"") -> 44783 | G19: =IFERROR(INDEX(Calc!$B$4:$L$2003,MATCH($O$3&"-"&$C19,Calc!$I$4:$I$2003,0),5),"") -> 44826 | H19: =IFERROR(IF(I19="Closed","―",INDEX(Calc!$B$4:$L$2003,MATCH($O$3&"-"&$C19,Calc!$I$4:$I$2003,0),10)),"") -> ― | I19: Closed
C20: 6 | D20: =IFERROR(INDEX(Calc!$B$4:$L$2003,MATCH($O$3&"-"&C20,Calc!$I$4:$I$2003,0),2),"") -> Write more tasks here | E20: =IFERROR(INDEX(Calc!$B$4:$L$2003,MATCH($O$3&"-"&$C20,Calc!$I$4:$I$2003,0),3),"") -> Charlize Theron | F20: =IFERROR(INDEX(Calc!$B$4:$L$2003,MATCH($O$3&"-"&$C20,Calc!$I$4:$I$2003,0),4),"") -> 44814 | G20: =IFERROR(INDEX(Calc!$B$4:$L$2003,MATCH($O$3&"-"&$C20,Calc!$I$4:$I$2003,0),5),"") -> 44823 | H20: =IFERROR(IF(I20="Closed","―",INDEX(Calc!$B$4:$L$2003,MATCH($O$3&"-"&$C20,Calc!$I$4:$I$2003,0),10)),"") -> 110 | I20: Not Started
C21: 7 | D21: =IFERROR(INDEX(Calc!$B$4:$L$2003,MATCH($O$3&"-"&C21,Calc!$I$4:$I$2003,0),2),"") -> Add more team members and check dynamic connection | E21: =IFERROR(INDEX(Calc!$B$4:$L$2003,MATCH($O$3&"-"&$C21,Calc!$I$4:$I$2003,0),3),"") -> Omer Toprak | F21: =IFERROR(INDEX(Calc!$B$4:$L$2003,MATCH($O$3&"-"&$C21,Calc!$I$4:$I$2003,0),4),"") -> 44783 | G21: =IFERROR(INDEX(Calc!$B$4:$L$2003,MATCH($O$3&"-"&$C21,Calc!$I$4:$I$2003,0),5),"") -> 44828 | H21: =IFERROR(IF(I21="Closed","―",INDEX(Calc!$B$4:$L$2003,MATCH($O$3&"-"&$C21,Calc!$I$4:$I$2003,0),10)),"") -> 115 | I21: In Progress
C22: 8 | D22: =IFERROR(INDEX(Calc!$B$4:$L$2003,MATCH($O$3&"-"&C22,Calc!$I$4:$I$2003,0),2),"") | E22: =IFERROR(INDEX(Calc!$B$4:$L$2003,MATCH($O$3&"-"&$C22,Calc!$I$4:$I$2003,0),3),"") | F22: =IFERROR(INDEX(Calc!$B$4:$L$2003,MATCH($O$3&"-"&$C22,Calc!$I$4:$I$2003,0),4),"") | G22: =IFERROR(INDEX(Calc!$B$4:$L$2003,MATCH($O$3&"-"&$C22,Calc!$I$4:$I$2003,0),5),"") | H22: =IFERROR(IF(I22="Closed","―",INDEX(Calc!$B$4:$L$2003,MATCH($O$3&"-"&$C22,Calc!$I$4:$I$2003,0),10)),"")
C23: 9 | D23: =IFERROR(INDEX(Calc!$B$4:$L$2003,MATCH($O$3&"-"&C23,Calc!$I$4:$I$2003,0),2),"") | E23: =IFERROR(INDEX(Calc!$B$4:$L$2003,MATCH($O$3&"-"&$C23,Calc!$I$4:$I$2003,0),3),"") | F23: =IFERROR(INDEX(Calc!$B$4:$L$2003,MATCH($O$3&"-"&$C23,Calc!$I$4:$I$2003,0),4),"") | G23: =IFERROR(INDEX(Calc!$B$4:$L$2003,MATCH($O$3&"-"&$C23,Calc!$I$4:$I$2003,0),5),"") | H23: =IFERROR(IF(I23="Closed","―",INDEX(Calc!$B$4:$L$2003,MATCH($O$3&"-"&$C23,Calc!$I$4:$I$2003,0),10)),"")
C24: 10 | D24: =IFERROR(INDEX(Calc!$B$4:$L$2003,MATCH($O$3&"-"&C24,Calc!$I$4:$I$2003,0),2),"") | E24: =IFERROR(INDEX(Calc!$B$4:$L$2003,MATCH($O$3&"-"&$C24,Calc!$I$4:$I$2003,0),3),"") | F24: =IFERROR(INDEX(Calc!$B$4:$L$2003,MATCH($O$3&"-"&$C24,Calc!$I$4:$I$2003,0),4),"") | G24: =IFERROR(INDEX(Calc!$B$4:$L$2003,MATCH($O$3&"-"&$C24,Calc!$I$4:$I$2003,0),5),"") | H24: =IFERROR(IF(I24="Closed","―",INDEX(Calc!$B$4:$L$2003,MATCH($O$3&"-"&$C24,Calc!$I$4:$I$2003,0),10)),"")
C25: 11 | D25: =IFERROR(INDEX(Calc!$B$4:$L$2003,MATCH($O$3&"-"&C25,Calc!$I$4:$I$2003,0),2),"") | E25: =IFERROR(INDEX(Calc!$B$4:$L$2003,MATCH($O$3&"-"&$C25,Calc!$I$4:$I$2003,0),3),"") | F25: =IFERROR(INDEX(Calc!$B$4:$L$2003,MATCH($O$3&"-"&$C25,Calc!$I$4:$I$2003,0),4),"") | G25: =IFERROR(INDEX(Calc!$B$4:$L$2003,MATCH($O$3&"-"&$C25,Calc!$I$4:$I$2003,0),5),"") | H25: =IFERROR(IF(I25="Closed","―",INDEX(Calc!$B$4:$L$2003,MATCH($O$3&"-"&$C25,Calc!$I$4:$I$2003,0),10)),"")
C26: 12 | D26: =IFERROR(INDEX(Calc!$B$4:$L$2003,MATCH($O$3&"-"&C26,Calc!$I$4:$I$2003,0),2),"") | E26: =IFERROR(INDEX(Calc!$B$4:$L$2003,MATCH($O$3&"-"&$C26,Calc!$I$4:$I$2003,0),3),"") | F26: =IFERROR(INDEX(Calc!$B$4:$L$2003,MATCH($O$3&"-"&$C26,Calc!$I$4:$I$2003,0),4),"") | G26: =IFERROR(INDEX(Calc!$B$4:$L$2003,MATCH($O$3&"-"&$C26,Calc!$I$4:$I$2003,0),5),"") | H26: =IFERROR(IF(I26="Closed","―",INDEX(Calc!$B$4:$L$2003,MATCH($O$3&"-"&$C26,Calc!$I$4:$I$2003,0),10)),"")
C27: 13 | D27: =IFERROR(INDEX(Calc!$B$4:$L$2003,MATCH($O$3&"-"&C27,Calc!$I$4:$I$2003,0),2),"") | E27: =IFERROR(INDEX(Calc!$B$4:$L$2003,MATCH($O$3&"-"&$C27,Calc!$I$4:$I$2003,0),3),"") | F27: =IFERROR(INDEX(Calc!$B$4:$L$2003,MATCH($O$3&"-"&$C27,Calc!$I$4:$I$2003,0),4),"") | G27: =IFERROR(INDEX(Calc!$B$4:$L$2003,MATCH($O$3&"-"&$C27,Calc!$I$4:$I$2003,0),5),"") | H27: =IFERROR(IF(I27="Closed","―",INDEX(Calc!$B$4:$L$2003,MATCH($O$3&"-"&$C27,Calc!$I$4:$I$2003,0),10)),"")
C28: 14 | D28: =IFERROR(INDEX(Calc!$B$4:$L$2003,MATCH($O$3&"-"&C28,Calc!$I$4:$I$2003,0),2),"") | E28: =IFERROR(INDEX(Calc!$B$4:$L$2003,MATCH($O$3&"-"&$C28,Calc!$I$4:$I$2003,0),3),"") | F28: =IFERROR(INDEX(Calc!$B$4:$L$2003,MATCH($O$3&"-"&$C28,Calc!$I$4:$I$2003,0),4),"") | G28: =IFERROR(INDEX(Calc!$B$4:$L$2003,MATCH($O$3&"-"&$C28,Calc!$I$4:$I$2003,0),5),"") | H28: =IFERROR(IF(I28="Closed","―",INDEX(Calc!$B$4:$L$2003,MATCH($O$3&"-"&$C28,Calc!$I$4:$I$2003,0),10)),"")
C29: 15 | D29: =IFERROR(INDEX(Calc!$B$4:$L$2003,MATCH($O$3&"-"&C29,Calc!$I$4:$I$2003,0),2),"") | E29: =IFERROR(INDEX(Calc!$B$4:$L$2003,MATCH($O$3&"-"&$C29,Calc!$I$4:$I$2003,0),3),"") | F29: =IFERROR(INDEX(Calc!$B$4:$L$2003,MATCH($O$3&"-"&$C29,Calc!$I$4:$I$2003,0),4),"") | G29: =IFERROR(INDEX(Calc!$B$4:$L$2003,MATCH($O$3&"-"&$C29,Calc!$I$4:$I$2003,0),5),"") | H29: =IFERROR(IF(I29="Closed","―",INDEX(Calc!$B$4:$L$2003,MATCH($O$3&"-"&$C29,Calc!$I$4:$I$2003,0),10)),"")
C30: 16 | D30: =IFERROR(INDEX(Calc!$B$4:$L$2003,MATCH($O$3&"-"&C30,Calc!$I$4:$I$2003,0),2),"") | E30: =IFERROR(INDEX(Calc!$B$4:$L$2003,MATCH($O$3&"-"&$C30,Calc!$I$4:$I$2003,0),3),"") | F30: =IFERROR(INDEX(Calc!$B$4:$L$2003,MATCH($O$3&"-"&$C30,Calc!$I$4:$I$2003,0),4),"") | G30: =IFERROR(INDEX(Calc!$B$4:$L$2003,MATCH($O$3&"-"&$C30,Calc!$I$4:$I$2003,0),5),"") | H30: =IFERROR(IF(I30="Closed","―",INDEX(Calc!$B$4:$L$2003,MATCH($O$3&"-"&$C30,Calc!$I$4:$I$2003,0),10)),"")
C31: 17 | D31: =IFERROR(INDEX(Calc!$B$4:$L$2003,MATCH($O$3&"-"&C31,Calc!$I$4:$I$2003,0),2),"") | E31: =IFERROR(INDEX(Calc!$B$4:$L$2003,MATCH($O$3&"-"&$C31,Calc!$I$4:$I$2003,0),3),"") | F31: =IFERROR(INDEX(Calc!$B$4:$L$2003,MATCH($O$3&"-"&$C31,Calc!$I$4:$I$2003,0),4),"") | G31: =IFERROR(INDEX(Calc!$B$4:$L$2003,MATCH($O$3&"-"&$C31,Calc!$I$4:$I$2003,0),5),"") | H31: =IFERROR(IF(I31="Closed","―",INDEX(Calc!$B$4:$L$2003,MATCH($O$3&"-"&$C31,Calc!$I$4:$I$2003,0),10)),"")
C32: 18 | D32: =IFERROR(INDEX(Calc!$B$4:$L$2003,MATCH($O$3&"-"&C32,Calc!$I$4:$I$2003,0),2),"") | E32: =IFERROR(INDEX(Calc!$B$4:$L$2003,MATCH($O$3&"-"&$C32,Calc!$I$4:$I$2003,0),3),"") | F32: =IFERROR(INDEX(Calc!$B$4:$L$2003,MATCH($O$3&"-"&$C32,Calc!$I$4:$I$2003,0),4),"") | G32: =IFERROR(INDEX(Calc!$B$4:$L$2003,MATCH($O$3&"-"&$C32,Calc!$I$4:$I$2003,0),5),"") | H32: =IFERROR(IF(I32="Closed","―",INDEX(Calc!$B$4:$L$2003,MATCH($O$3&"-"&$C32,Calc!$I$4:$I$2003,0),10)),"")
C33: 19 | D33: =IFERROR(INDEX(Calc!$B$4:$L$2003,MATCH($O$3&"-"&C33,Calc!$I$4:$I$2003,0),2),"") | E33: =IFERROR(INDEX(Calc!$B$4:$L$2003,MATCH($O$3&"-"&$C33,Calc!$I$4:$I$2003,0),3),"") | F33: =IFERROR(INDEX(Calc!$B$4:$L$2003,MATCH($O$3&"-"&$C33,Calc!$I$4:$I$2003,0),4),"") | G33: =IFERROR(INDEX(Calc!$B$4:$L$2003,MATCH($O$3&"-"&$C33,Calc!$I$4:$I$2003,0),5),"") | H33: =IFERROR(IF(I33="Closed","―",INDEX(Calc!$B$4:$L$2003,MATCH($O$3&"-"&$C33,Calc!$I$4:$I$2003,0),10)),"")
... C1014: 1000 | D1014: =IFERROR(INDEX(Calc!$B$4:$L$2003,MATCH($O$3&"-"&C1014,Calc!$I$4:$I$2003,0),2),"") | E1014: =IFERROR(INDEX(Calc!$B$4:$L$2003,MATCH($O$3&"-"&$C1014,Calc!$I$4:$I$2003,0),3),"") | F1014: =IFERROR(INDEX(Calc!$B$4:$L$2003,MATCH($O$3&"-"&$C1014,Calc!$I$4:$I$2003,0),4),"") | G1014: =IFERROR(INDEX(Calc!$B$4:$L$2003,MATCH($O$3&"-"&$C1014,Calc!$I$4:$I$2003,0),5),"") | H1014: =IFERROR(IF(I1014="Closed","―",INDEX(Calc!$B$4:$L$2003,MATCH($O$3&"-"&$C1014,Calc!$I$4:$I$2003,0),10)),"")

Sheet October
D2: TEAM TO-DO LIST
D3: OCTOBER | N3: Month Number | O3: 10
C6: Whole Team | E6: Team Member: | F6: Viggo Mortensen
C14: # | D14: Job Description | E14: Assigned To | F14: Assigned On | G14: Deadline | H14: Days Remaining | I14: Status
C15: 1 | D15: =IFERROR(INDEX(Calc!$B$4:$L$2003,MATCH($O$3&"-"&C15,Calc!$I$4:$I$2003,0),2),"") -> Build a resume template | E15: =IFERROR(INDEX(Calc!$B$4:$L$2003,MATCH($O$3&"-"&$C15,Calc!$I$4:$I$2003,0),3),"") -> Donald Trump | F15: =IFERROR(INDEX(Calc!$B$4:$L$2003,MATCH($O$3&"-"&$C15,Calc!$I$4:$I$2003,0),4),"") -> 44734 | G15: =IFERROR(INDEX(Calc!$B$4:$L$2003,MATCH($O$3&"-"&$C15,Calc!$I$4:$I$2003,0),5),"") -> 44837 | H15: =IFERROR(IF(I15="Closed","―",INDEX(Calc!$B$4:$L$2003,MATCH($O$3&"-"&$C15,Calc!$I$4:$I$2003,0),10)),"") -> 124 | I15: Not Started
C16: 2 | D16: =IFERROR(INDEX(Calc!$B$4:$L$2003,MATCH($O$3&"-"&C16,Calc!$I$4:$I$2003,0),2),"") -> Finish writing the employee handbook | E16: =IFERROR(INDEX(Calc!$B$4:$L$2003,MATCH($O$3&"-"&$C16,Calc!$I$4:$I$2003,0),3),"") -> Viggo Mortensen | F16: =IFERROR(INDEX(Calc!$B$4:$L$2003,MATCH($O$3&"-"&$C16,Calc!$I$4:$I$2003,0),4),"") -> 44605 | G16: =IFERROR(INDEX(Calc!$B$4:$L$2003,MATCH($O$3&"-"&$C16,Calc!$I$4:$I$2003,0),5),"") -> 44859 | H16: =IFERROR(IF(I16="Closed","―",INDEX(Calc!$B$4:$L$2003,MATCH($O$3&"-"&$C16,Calc!$I$4:$I$2003,0),10)),"") -> 146 | I16: In Progress
C17: 3 | D17: =IFERROR(INDEX(Calc!$B$4:$L$2003,MATCH($O$3&"-"&C17,Calc!$I$4:$I$2003,0),2),"") -> Create a financial monthly reporting template | E17: =IFERROR(INDEX(Calc!$B$4:$L$2003,MATCH($O$3&"-"&$C17,Calc!$I$4:$I$2003,0),3),"") -> Viggo Mortensen | F17: =IFERROR(INDEX(Calc!$B$4:$L$2003,MATCH($O$3&"-"&$C17,Calc!$I$4:$I$2003,0),4),"") -> 44605 | G17: =IFERROR(INDEX(Calc!$B$4:$L$2003,MATCH($O$3&"-"&$C17,Calc!$I$4:$I$2003,0),5),"") -> 44859 | H17: =IFERROR(IF(I17="Closed","―",INDEX(Calc!$B$4:$L$2003,MATCH($O$3&"-"&$C17,Calc!$I$4:$I$2003,0),10)),"") -> ― | I17: Closed
C18: 4 | D18: =IFERROR(INDEX(Calc!$B$4:$L$2003,MATCH($O$3&"-"&C18,Calc!$I$4:$I$2003,0),2),"") -> Take the chairs downstairs | E18: =IFERROR(INDEX(Calc!$B$4:$L$2003,MATCH($O$3&"-"&$C18,Calc!$I$4:$I$2003,0),3),"") -> Viggo Mortensen | F18: =IFERROR(INDEX(Calc!$B$4:$L$2003,MATCH($O$3&"-"&$C18,Calc!$I$4:$I$2003,0),4),"") -> 44704 | G18: =IFERROR(INDEX(Calc!$B$4:$L$2003,MATCH($O$3&"-"&$C18,Calc!$I$4:$I$2003,0),5),"") -> 44842 | H18: =IFERROR(IF(I18="Closed","―",INDEX(Calc!$B$4:$L$2003,MATCH($O$3&"-"&$C18,Calc!$I$4:$I$2003,0),10)),"") -> 129 | I18: Not Started
C19: 5 | D19: =IFERROR(INDEX(Calc!$B$4:$L$2003,MATCH($O$3&"-"&C19,Calc!$I$4:$I$2003,0),2),"") -> Finish the student lesson plan | E19: =IFERROR(INDEX(Calc!$B$4:$L$2003,MATCH($O$3&"-"&$C19,Calc!$I$4:$I$2003,0),3),"") -> Emma Stone | F19: =IFERROR(INDEX(Calc!$B$4:$L$2003,MATCH($O$3&"-"&$C19,Calc!$I$4:$I$2003,0),4),"") -> 44814 | G19: =IFERROR(INDEX(Calc!$B$4:$L$2003,MATCH($O$3&"-"&$C19,Calc!$I$4:$I$2003,0),5),"") -> 44835 | H19: =IFERROR(IF(I19="Closed","―",INDEX(Calc!$B$4:$L$2003,MATCH($O$3&"-"&$C19,Calc!$I$4:$I$2003,0),10)),"") -> ― | I19: Closed
C20: 6 | D20: =IFERROR(INDEX(Calc!$B$4:$L$2003,MATCH($O$3&"-"&C20,Calc!$I$4:$I$2003,0),2),"") -> Add a row below this table for it to automatically expand | E20: =IFERROR(INDEX(Calc!$B$4:$L$2003,MATCH($O$3&"-"&$C20,Calc!$I$4:$I$2003,0),3),"") -> Omer Toprak | F20: =IFERROR(INDEX(Calc!$B$4:$L$2003,MATCH($O$3&"-"&$C20,Calc!$I$4:$I$2003,0),4),"") -> 44842 | G20: =IFERROR(INDEX(Calc!$B$4:$L$2003,MATCH($O$3&"-"&$C20,Calc!$I$4:$I$2003,0),5),"") -> 44861 | H20: =IFERROR(IF(I20="Closed","―",INDEX(Calc!$B$4:$L$2003,MATCH($O$3&"-"&$C20,Calc!$I$4:$I$2003,0),10)),"") -> 148 | I20: In Progress
C21: 7 | D21: =IFERROR(INDEX(Calc!$B$4:$L$2003,MATCH($O$3&"-"&C21,Calc!$I$4:$I$2003,0),2),"") -> Increase clickthrough rate by 0.1% | E21: =IFERROR(INDEX(Calc!$B$4:$L$2003,MATCH($O$3&"-"&$C21,Calc!$I$4:$I$2003,0),3),"") -> Scarlett Johansson | F21: =IFERROR(INDEX(Calc!$B$4:$L$2003,MATCH($O$3&"-"&$C21,Calc!$I$4:$I$2003,0),4),"") -> 44734 | G21: =IFERROR(INDEX(Calc!$B$4:$L$2003,MATCH($O$3&"-"&$C21,Calc!$I$4:$I$2003,0),5),"") -> 44863 | H21: =IFERROR(IF(I21="Closed","―",INDEX(Calc!$B$4:$L$2003,MATCH($O$3&"-"&$C21,Calc!$I$4:$I$2003,0),10)),"") -> 150 | I21: In Progress
C22: 8 | D22: =IFERROR(INDEX(Calc!$B$4:$L$2003,MATCH($O$3&"-"&C22,Calc!$I$4:$I$2003,0),2),"") -> Write different tasks for each team member | E22: =IFERROR(INDEX(Calc!$B$4:$L$2003,MATCH($O$3&"-"&$C22,Calc!$I$4:$I$2003,0),3),"") -> Marion Cotillard | F22: =IFERROR(INDEX(Calc!$B$4:$L$2003,MATCH($O$3&"-"&$C22,Calc!$I$4:$I$2003,0),4),"") -> 44757 | G22: =IFERROR(INDEX(Calc!$B$4:$L$2003,MATCH($O$3&"-"&$C22,Calc!$I$4:$I$2003,0),5),"") -> 44849 | H22: =IFERROR(IF(I22="Closed","―",INDEX(Calc!$B$4:$L$2003,MATCH($O$3&"-"&$C22,Calc!$I$4:$I$2003,0),10)),"") -> ― | I22: Closed
C23: 9 | D23: =IFERROR(INDEX(Calc!$B$4:$L$2003,MATCH($O$3&"-"&C23,Calc!$I$4:$I$2003,0),2),"") | E23: =IFERROR(INDEX(Calc!$B$4:$L$2003,MATCH($O$3&"-"&$C23,Calc!$I$4:$I$2003,0),3),"") | F23: =IFERROR(INDEX(Calc!$B$4:$L$2003,MATCH($O$3&"-"&$C23,Calc!$I$4:$I$2003,0),4),"") | G23: =IFERROR(INDEX(Calc!$B$4:$L$2003,MATCH($O$3&"-"&$C23,Calc!$I$4:$I$2003,0),5),"") | H23: =IFERROR(IF(I23="Closed","―",INDEX(Calc!$B$4:$L$2003,MATCH($O$3&"-"&$C23,Calc!$I$4:$I$2003,0),10)),"")
C24: 10 | D24: =IFERROR(INDEX(Calc!$B$4:$L$2003,MATCH($O$3&"-"&C24,Calc!$I$4:$I$2003,0),2),"") | E24: =IFERROR(INDEX(Calc!$B$4:$L$2003,MATCH($O$3&"-"&$C24,Calc!$I$4:$I$2003,0),3),"") | F24: =IFERROR(INDEX(Calc!$B$4:$L$2003,MATCH($O$3&"-"&$C24,Calc!$I$4:$I$2003,0),4),"") | G24: =IFERROR(INDEX(Calc!$B$4:$L$2003,MATCH($O$3&"-"&$C24,Calc!$I$4:$I$2003,0),5),"") | H24: =IFERROR(IF(I24="Closed","―",INDEX(Calc!$B$4:$L$2003,MATCH($O$3&"-"&$C24,Calc!$I$4:$I$2003,0),10)),"")
C25: 11 | D25: =IFERROR(INDEX(Calc!$B$4:$L$2003,MATCH($O$3&"-"&C25,Calc!$I$4:$I$2003,0),2),"") | E25: =IFERROR(INDEX(Calc!$B$4:$L$2003,MATCH($O$3&"-"&$C25,Calc!$I$4:$I$2003,0),3),"") | F25: =IFERROR(INDEX(Calc!$B$4:$L$2003,MATCH($O$3&"-"&$C25,Calc!$I$4:$I$2003,0),4),"") | G25: =IFERROR(INDEX(Calc!$B$4:$L$2003,MATCH($O$3&"-"&$C25,Calc!$I$4:$I$2003,0),5),"") | H25: =IFERROR(IF(I25="Closed","―",INDEX(Calc!$B$4:$L$2003,MATCH($O$3&"-"&$C25,Calc!$I$4:$I$2003,0),10)),"")
C26: 12 | D26: =IFERROR(INDEX(Calc!$B$4:$L$2003,MATCH($O$3&"-"&C26,Calc!$I$4:$I$2003,0),2),"") | E26: =IFERROR(INDEX(Calc!$B$4:$L$2003,MATCH($O$3&"-"&$C26,Calc!$I$4:$I$2003,0),3),"") | F26: =IFERROR(INDEX(Calc!$B$4:$L$2003,MATCH($O$3&"-"&$C26,Calc!$I$4:$I$2003,0),4),"") | G26: =IFERROR(INDEX(Calc!$B$4:$L$2003,MATCH($O$3&"-"&$C26,Calc!$I$4:$I$2003,0),5),"") | H26: =IFERROR(IF(I26="Closed","―",INDEX(Calc!$B$4:$L$2003,MATCH($O$3&"-"&$C26,Calc!$I$4:$I$2003,0),10)),"")
C27: 13 | D27: =IFERROR(INDEX(Calc!$B$4:$L$2003,MATCH($O$3&"-"&C27,Calc!$I$4:$I$2003,0),2),"") | E27: =IFERROR(INDEX(Calc!$B$4:$L$2003,MATCH($O$3&"-"&$C27,Calc!$I$4:$I$2003,0),3),"") | F27: =IFERROR(INDEX(Calc!$B$4:$L$2003,MATCH($O$3&"-"&$C27,Calc!$I$4:$I$2003,0),4),"") | G27: =IFERROR(INDEX(Calc!$B$4:$L$2003,MATCH($O$3&"-"&$C27,Calc!$I$4:$I$2003,0),5),"") | H27: =IFERROR(IF(I27="Closed","―",INDEX(Calc!$B$4:$L$2003,MATCH($O$3&"-"&$C27,Calc!$I$4:$I$2003,0),10)),"")
C28: 14 | D28: =IFERROR(INDEX(Calc!$B$4:$L$2003,MATCH($O$3&"-"&C28,Calc!$I$4:$I$2003,0),2),"") | E28: =IFERROR(INDEX(Calc!$B$4:$L$2003,MATCH($O$3&"-"&$C28,Calc!$I$4:$I$2003,0),3),"") | F28: =IFERROR(INDEX(Calc!$B$4:$L$2003,MATCH($O$3&"-"&$C28,Calc!$I$4:$I$2003,0),4),"") | G28: =IFERROR(INDEX(Calc!$B$4:$L$2003,MATCH($O$3&"-"&$C28,Calc!$I$4:$I$2003,0),5),"") | H28: =IFERROR(IF(I28="Closed","―",INDEX(Calc!$B$4:$L$2003,MATCH($O$3&"-"&$C28,Calc!$I$4:$I$2003,0),10)),"")
C29: 15 | D29: =IFERROR(INDEX(Calc!$B$4:$L$2003,MATCH($O$3&"-"&C29,Calc!$I$4:$I$2003,0),2),"") | E29: =IFERROR(INDEX(Calc!$B$4:$L$2003,MATCH($O$3&"-"&$C29,Calc!$I$4:$I$2003,0),3),"") | F29: =IFERROR(INDEX(Calc!$B$4:$L$2003,MATCH($O$3&"-"&$C29,Calc!$I$4:$I$2003,0),4),"") | G29: =IFERROR(INDEX(Calc!$B$4:$L$2003,MATCH($O$3&"-"&$C29,Calc!$I$4:$I$2003,0),5),"") | H29: =IFERROR(IF(I29="Closed","―",INDEX(Calc!$B$4:$L$2003,MATCH($O$3&"-"&$C29,Calc!$I$4:$I$2003,0),10)),"")
C30: 16 | D30: =IFERROR(INDEX(Calc!$B$4:$L$2003,MATCH($O$3&"-"&C30,Calc!$I$4:$I$2003,0),2),"") | E30: =IFERROR(INDEX(Calc!$B$4:$L$2003,MATCH($O$3&"-"&$C30,Calc!$I$4:$I$2003,0),3),"") | F30: =IFERROR(INDEX(Calc!$B$4:$L$2003,MATCH($O$3&"-"&$C30,Calc!$I$4:$I$2003,0),4),"") | G30: =IFERROR(INDEX(Calc!$B$4:$L$2003,MATCH($O$3&"-"&$C30,Calc!$I$4:$I$2003,0),5),"") | H30: =IFERROR(IF(I30="Closed","―",INDEX(Calc!$B$4:$L$2003,MATCH($O$3&"-"&$C30,Calc!$I$4:$I$2003,0),10)),"")
C31: 17 | D31: =IFERROR(INDEX(Calc!$B$4:$L$2003,MATCH($O$3&"-"&C31,Calc!$I$4:$I$2003,0),2),"") | E31: =IFERROR(INDEX(Calc!$B$4:$L$2003,MATCH($O$3&"-"&$C31,Calc!$I$4:$I$2003,0),3),"") | F31: =IFERROR(INDEX(Calc!$B$4:$L$2003,MATCH($O$3&"-"&$C31,Calc!$I$4:$I$2003,0),4),"") | G31: =IFERROR(INDEX(Calc!$B$4:$L$2003,MATCH($O$3&"-"&$C31,Calc!$I$4:$I$2003,0),5),"") | H31: =IFERROR(IF(I31="Closed","―",INDEX(Calc!$B$4:$L$2003,MATCH($O$3&"-"&$C31,Calc!$I$4:$I$2003,0),10)),"")
C32: 18 | D32: =IFERROR(INDEX(Calc!$B$4:$L$2003,MATCH($O$3&"-"&C32,Calc!$I$4:$I$2003,0),2),"") | E32: =IFERROR(INDEX(Calc!$B$4:$L$2003,MATCH($O$3&"-"&$C32,Calc!$I$4:$I$2003,0),3),"") | F32: =IFERROR(INDEX(Calc!$B$4:$L$2003,MATCH($O$3&"-"&$C32,Calc!$I$4:$I$2003,0),4),"") | G32: =IFERROR(INDEX(Calc!$B$4:$L$2003,MATCH($O$3&"-"&$C32,Calc!$I$4:$I$2003,0),5),"") | H32: =IFERROR(IF(I32="Closed","―",INDEX(Calc!$B$4:$L$2003,MATCH($O$3&"-"&$C32,Calc!$I$4:$I$2003,0),10)),"")
C33: 19 | D33: =IFERROR(INDEX(Calc!$B$4:$L$2003,MATCH($O$3&"-"&C33,Calc!$I$4:$I$2003,0),2),"") | E33: =IFERROR(INDEX(Calc!$B$4:$L$2003,MATCH($O$3&"-"&$C33,Calc!$I$4:$I$2003,0),3),"") | F33: =IFERROR(INDEX(Calc!$B$4:$L$2003,MATCH($O$3&"-"&$C33,Calc!$I$4:$I$2003,0),4),"") | G33: =IFERROR(INDEX(Calc!$B$4:$L$2003,MATCH($O$3&"-"&$C33,Calc!$I$4:$I$2003,0),5),"") | H33: =IFERROR(IF(I33="Closed","―",INDEX(Calc!$B$4:$L$2003,MATCH($O$3&"-"&$C33,Calc!$I$4:$I$2003,0),10)),"")
C34: 20 | D34: =IFERROR(INDEX(Calc!$B$4:$L$2003,MATCH($O$3&"-"&C34,Calc!$I$4:$I$2003,0),2),"") | E34: =IFERROR(INDEX(Calc!$B$4:$L$2003,MATCH($O$3&"-"&$C34,Calc!$I$4:$I$2003,0),3),"") | F34: =IFERROR(INDEX(Calc!$B$4:$L$2003,MATCH($O$3&"-"&$C34,Calc!$I$4:$I$2003,0),4),"") | G34: =IFERROR(INDEX(Calc!$B$4:$L$2003,MATCH($O$3&"-"&$C34,Calc!$I$4:$I$2003,0),5),"") | H34: =IFERROR(IF(I34="Closed","―",INDEX(Calc!$B$4:$L$2003,MATCH($O$3&"-"&$C34,Calc!$I$4:$I$2003,0),10)),"")
... C1014: 1000 | D1014: =IFERROR(INDEX(Calc!$B$4:$L$2003,MATCH($O$3&"-"&C1014,Calc!$I$4:$I$2003,0),2),"") | E1014: =IFERROR(INDEX(Calc!$B$4:$L$2003,MATCH($O$3&"-"&$C1014,Calc!$I$4:$I$2003,0),3),"") | F1014: =IFERROR(INDEX(Calc!$B$4:$L$2003,MATCH($O$3&"-"&$C1014,Calc!$I$4:$I$2003,0),4),"") | G1014: =IFERROR(INDEX(Calc!$B$4:$L$2003,MATCH($O$3&"-"&$C1014,Calc!$I$4:$I$2003,0),5),"") | H1014: =IFERROR(IF(I1014="Closed","―",INDEX(Calc!$B$4:$L$2003,MATCH($O$3&"-"&$C1014,Calc!$I$4:$I$2003,0),10)),"")

Sheet November
D2: TEAM TO-DO LIST
D3: NOVEMBER | N3: Month Number | O3: 11
C6: Whole Team | E6: Team Member: | F6: Omer Toprak
C14: # | D14: Job Description | E14: Assigned To | F14: Assigned On | G14: Deadline | H14: Days Remaining | I14: Status
C15: 1 | D15: =IFERROR(INDEX(Calc!$B$4:$L$2003,MATCH($O$3&"-"&C15,Calc!$I$4:$I$2003,0),2),"") -> Add more team members and check dynamic connection | E15: =IFERROR(INDEX(Calc!$B$4:$L$2003,MATCH($O$3&"-"&$C15,Calc!$I$4:$I$2003,0),3),"") -> Omer Toprak | F15: =IFERROR(INDEX(Calc!$B$4:$L$2003,MATCH($O$3&"-"&$C15,Calc!$I$4:$I$2003,0),4),"") -> 44849 | G15: =IFERROR(INDEX(Calc!$B$4:$L$2003,MATCH($O$3&"-"&$C15,Calc!$I$4:$I$2003,0),5),"") -> 44873 | H15: =IFERROR(IF(I15="Closed","―",INDEX(Calc!$B$4:$L$2003,MATCH($O$3&"-"&$C15,Calc!$I$4:$I$2003,0),10)),"") -> ― | I15: Closed
C16: 2 | D16: =IFERROR(INDEX(Calc!$B$4:$L$2003,MATCH($O$3&"-"&C16,Calc!$I$4:$I$2003,0),2),"") -> Visit the website of | E16: =IFERROR(INDEX(Calc!$B$4:$L$2003,MATCH($O$3&"-"&$C16,Calc!$I$4:$I$2003,0),3),"") -> Emma Stone | F16: =IFERROR(INDEX(Calc!$B$4:$L$2003,MATCH($O$3&"-"&$C16,Calc!$I$4:$I$2003,0),4),"") -> 44836 | G16: =IFERROR(INDEX(Calc!$B$4:$L$2003,MATCH($O$3&"-"&$C16,Calc!$I$4:$I$2003,0),5),"") -> 44866 | H16: =IFERROR(IF(I16="Closed","―",INDEX(Calc!$B$4:$L$2003,MATCH($O$3&"-"&$C16,Calc!$I$4:$I$2003,0),10)),"") -> 153 | I16: In Progress
C17: 3 | D17: =IFERROR(INDEX(Calc!$B$4:$L$2003,MATCH($O$3&"-"&C17,Calc!$I$4:$I$2003,0),2),"") -> Write different tasks for each team member | E17: =IFERROR(INDEX(Calc!$B$4:$L$2003,MATCH($O$3&"-"&$C17,Calc!$I$4:$I$2003,0),3),"") -> Marion Cotillard | F17: =IFERROR(INDEX(Calc!$B$4:$L$2003,MATCH($O$3&"-"&$C17,Calc!$I$4:$I$2003,0),4),"") -> 44856 | G17: =IFERROR(INDEX(Calc!$B$4:$L$2003,MATCH($O$3&"-"&$C17,Calc!$I$4:$I$2003,0),5),"") -> 44872 | H17: =IFERROR(IF(I17="Closed","―",INDEX(Calc!$B$4:$L$2003,MATCH($O$3&"-"&$C17,Calc!$I$4:$I$2003,0),10)),"") -> ― | I17: Closed
C18: 4 | D18: =IFERROR(INDEX(Calc!$B$4:$L$2003,MATCH($O$3&"-"&C18,Calc!$I$4:$I$2003,0),2),"") -> Add more team members and check dynamic connection | E18: =IFERROR(INDEX(Calc!$B$4:$L$2003,MATCH($O$3&"-"&$C18,Calc!$I$4:$I$2003,0),3),"") -> Omer Toprak | F18: =IFERROR(INDEX(Calc!$B$4:$L$2003,MATCH($O$3&"-"&$C18,Calc!$I$4:$I$2003,0),4),"") -> 44846 | G18: =IFERROR(INDEX(Calc!$B$4:$L$2003,MATCH($O$3&"-"&$C18,Calc!$I$4:$I$2003,0),5),"") -> 44877 | H18: =IFERROR(IF(I18="Closed","―",INDEX(Calc!$B$4:$L$2003,MATCH($O$3&"-"&$C18,Calc!$I$4:$I$2003,0),10)),"") -> 164 | I18: In Progress
C19: 5 | D19: =IFERROR(INDEX(Calc!$B$4:$L$2003,MATCH($O$3&"-"&C19,Calc!$I$4:$I$2003,0),2),"") -> Finish writing the employee handbook | E19: =IFERROR(INDEX(Calc!$B$4:$L$2003,MATCH($O$3&"-"&$C19,Calc!$I$4:$I$2003,0),3),"") -> Viggo Mortensen | F19: =IFERROR(INDEX(Calc!$B$4:$L$2003,MATCH($O$3&"-"&$C19,Calc!$I$4:$I$2003,0),4),"") -> 44846 | G19: =IFERROR(INDEX(Calc!$B$4:$L$2003,MATCH($O$3&"-"&$C19,Calc!$I$4:$I$2003,0),5),"") -> 44876 | H19: =IFERROR(IF(I19="Closed","―",INDEX(Calc!$B$4:$L$2003,MATCH($O$3&"-"&$C19,Calc!$I$4:$I$2003,0),10)),"") -> ― | I19: Closed
C20: 6 | D20: =IFERROR(INDEX(Calc!$B$4:$L$2003,MATCH($O$3&"-"&C20,Calc!$I$4:$I$2003,0),2),"") -> Create a financial monthly reporting template | E20: =IFERROR(INDEX(Calc!$B$4:$L$2003,MATCH($O$3&"-"&$C20,Calc!$I$4:$I$2003,0),3),"") -> Viggo Mortensen | F20: =IFERROR(INDEX(Calc!$B$4:$L$2003,MATCH($O$3&"-"&$C20,Calc!$I$4:$I$2003,0),4),"") -> 44645 | G20: =IFERROR(INDEX(Calc!$B$4:$L$2003,MATCH($O$3&"-"&$C20,Calc!$I$4:$I$2003,0),5),"") -> 44868 | H20: =IFERROR(IF(I20="Closed","―",INDEX(Calc!$B$4:$L$2003,MATCH($O$3&"-"&$C20,Calc!$I$4:$I$2003,0),10)),"") -> 155 | I20: Not Started
C21: 7 | D21: =IFERROR(INDEX(Calc!$B$4:$L$2003,MATCH($O$3&"-"&C21,Calc!$I$4:$I$2003,0),2),"") | E21: =IFERROR(INDEX(Calc!$B$4:$L$2003,MATCH($O$3&"-"&$C21,Calc!$I$4:$I$2003,0),3),"") | F21: =IFERROR(INDEX(Calc!$B$4:$L$2003,MATCH($O$3&"-"&$C21,Calc!$I$4:$I$2003,0),4),"") | G21: =IFERROR(INDEX(Calc!$B$4:$L$2003,MATCH($O$3&"-"&$C21,Calc!$I$4:$I$2003,0),5),"") | H21: =IFERROR(IF(I21="Closed","―",INDEX(Calc!$B$4:$L$2003,MATCH($O$3&"-"&$C21,Calc!$I$4:$I$2003,0),10)),"")
C22: 8 | D22: =IFERROR(INDEX(Calc!$B$4:$L$2003,MATCH($O$3&"-"&C22,Calc!$I$4:$I$2003,0),2),"") | E22: =IFERROR(INDEX(Calc!$B$4:$L$2003,MATCH($O$3&"-"&$C22,Calc!$I$4:$I$2003,0),3),"") | F22: =IFERROR(INDEX(Calc!$B$4:$L$2003,MATCH($O$3&"-"&$C22,Calc!$I$4:$I$2003,0),4),"") | G22: =IFERROR(INDEX(Calc!$B$4:$L$2003,MATCH($O$3&"-"&$C22,Calc!$I$4:$I$2003,0),5),"") | H22: =IFERROR(IF(I22="Closed","―",INDEX(Calc!$B$4:$L$2003,MATCH($O$3&"-"&$C22,Calc!$I$4:$I$2003,0),10)),"")
C23: 9 | D23: =IFERROR(INDEX(Calc!$B$4:$L$2003,MATCH($O$3&"-"&C23,Calc!$I$4:$I$2003,0),2),"") | E23: =IFERROR(INDEX(Calc!$B$4:$L$2003,MATCH($O$3&"-"&$C23,Calc!$I$4:$I$2003,0),3),"") | F23: =IFERROR(INDEX(Calc!$B$4:$L$2003,MATCH($O$3&"-"&$C23,Calc!$I$4:$I$2003,0),4),"") | G23: =IFERROR(INDEX(Calc!$B$4:$L$2003,MATCH($O$3&"-"&$C23,Calc!$I$4:$I$2003,0),5),"") | H23: =IFERROR(IF(I23="Closed","―",INDEX(Calc!$B$4:$L$2003,MATCH($O$3&"-"&$C23,Calc!$I$4:$I$2003,0),10)),"")
C24: 10 | D24: =IFERROR(INDEX(Calc!$B$4:$L$2003,MATCH($O$3&"-"&C24,Calc!$I$4:$I$2003,0),2),"") | E24: =IFERROR(INDEX(Calc!$B$4:$L$2003,MATCH($O$3&"-"&$C24,Calc!$I$4:$I$2003,0),3),"") | F24: =IFERROR(INDEX(Calc!$B$4:$L$2003,MATCH($O$3&"-"&$C24,Calc!$I$4:$I$2003,0),4),"") | G24: =IFERROR(INDEX(Calc!$B$4:$L$2003,MATCH($O$3&"-"&$C24,Calc!$I$4:$I$2003,0),5),"") | H24: =IFERROR(IF(I24="Closed","―",INDEX(Calc!$B$4:$L$2003,MATCH($O$3&"-"&$C24,Calc!$I$4:$I$2003,0),10)),"")
C25: 11 | D25: =IFERROR(INDEX(Calc!$B$4:$L$2003,MATCH($O$3&"-"&C25,Calc!$I$4:$I$2003,0),2),"") | E25: =IFERROR(INDEX(Calc!$B$4:$L$2003,MATCH($O$3&"-"&$C25,Calc!$I$4:$I$2003,0),3),"") | F25: =IFERROR(INDEX(Calc!$B$4:$L$2003,MATCH($O$3&"-"&$C25,Calc!$I$4:$I$2003,0),4),"") | G25: =IFERROR(INDEX(Calc!$B$4:$L$2003,MATCH($O$3&"-"&$C25,Calc!$I$4:$I$2003,0),5),"") | H25: =IFERROR(IF(I25="Closed","―",INDEX(Calc!$B$4:$L$2003,MATCH($O$3&"-"&$C25,Calc!$I$4:$I$2003,0),10)),"")
C26: 12 | D26: =IFERROR(INDEX(Calc!$B$4:$L$2003,MATCH($O$3&"-"&C26,Calc!$I$4:$I$2003,0),2),"") | E26: =IFERROR(INDEX(Calc!$B$4:$L$2003,MATCH($O$3&"-"&$C26,Calc!$I$4:$I$2003,0),3),"") | F26: =IFERROR(INDEX(Calc!$B$4:$L$2003,MATCH($O$3&"-"&$C26,Calc!$I$4:$I$2003,0),4),"") | G26: =IFERROR(INDEX(Calc!$B$4:$L$2003,MATCH($O$3&"-"&$C26,Calc!$I$4:$I$2003,0),5),"") | H26: =IFERROR(IF(I26="Closed","―",INDEX(Calc!$B$4:$L$2003,MATCH($O$3&"-"&$C26,Calc!$I$4:$I$2003,0),10)),"")
C27: 13 | D27: =IFERROR(INDEX(Calc!$B$4:$L$2003,MATCH($O$3&"-"&C27,Calc!$I$4:$I$2003,0),2),"") | E27: =IFERROR(INDEX(Calc!$B$4:$L$2003,MATCH($O$3&"-"&$C27,Calc!$I$4:$I$2003,0),3),"") | F27: =IFERROR(INDEX(Calc!$B$4:$L$2003,MATCH($O$3&"-"&$C27,Calc!$I$4:$I$2003,0),4),"") | G27: =IFERROR(INDEX(Calc!$B$4:$L$2003,MATCH($O$3&"-"&$C27,Calc!$I$4:$I$2003,0),5),"") | H27: =IFERROR(IF(I27="Closed","―",INDEX(Calc!$B$4:$L$2003,MATCH($O$3&"-"&$C27,Calc!$I$4:$I$2003,0),10)),"")
C28: 14 | D28: =IFERROR(INDEX(Calc!$B$4:$L$2003,MATCH($O$3&"-"&C28,Calc!$I$4:$I$2003,0),2),"") | E28: =IFERROR(INDEX(Calc!$B$4:$L$2003,MATCH($O$3&"-"&$C28,Calc!$I$4:$I$2003,0),3),"") | F28: =IFERROR(INDEX(Calc!$B$4:$L$2003,MATCH($O$3&"-"&$C28,Calc!$I$4:$I$2003,0),4),"") | G28: =IFERROR(INDEX(Calc!$B$4:$L$2003,MATCH($O$3&"-"&$C28,Calc!$I$4:$I$2003,0),5),"") | H28: =IFERROR(IF(I28="Closed","―",INDEX(Calc!$B$4:$L$2003,MATCH($O$3&"-"&$C28,Calc!$I$4:$I$2003,0),10)),"")
C29: 15 | D29: =IFERROR(INDEX(Calc!$B$4:$L$2003,MATCH($O$3&"-"&C29,Calc!$I$4:$I$2003,0),2),"") | E29: =IFERROR(INDEX(Calc!$B$4:$L$2003,MATCH($O$3&"-"&$C29,Calc!$I$4:$I$2003,0),3),"") | F29: =IFERROR(INDEX(Calc!$B$4:$L$2003,MATCH($O$3&"-"&$C29,Calc!$I$4:$I$2003,0),4),"") | G29: =IFERROR(INDEX(Calc!$B$4:$L$2003,MATCH($O$3&"-"&$C29,Calc!$I$4:$I$2003,0),5),"") | H29: =IFERROR(IF(I29="Closed","―",INDEX(Calc!$B$4:$L$2003,MATCH($O$3&"-"&$C29,Calc!$I$4:$I$2003,0),10)),"")
C30: 16 | D30: =IFERROR(INDEX(Calc!$B$4:$L$2003,MATCH($O$3&"-"&C30,Calc!$I$4:$I$2003,0),2),"") | E30: =IFERROR(INDEX(Calc!$B$4:$L$2003,MATCH($O$3&"-"&$C30,Calc!$I$4:$I$2003,0),3),"") | F30: =IFERROR(INDEX(Calc!$B$4:$L$2003,MATCH($O$3&"-"&$C30,Calc!$I$4:$I$2003,0),4),"") | G30: =IFERROR(INDEX(Calc!$B$4:$L$2003,MATCH($O$3&"-"&$C30,Calc!$I$4:$I$2003,0),5),"") | H30: =IFERROR(IF(I30="Closed","―",INDEX(Calc!$B$4:$L$2003,MATCH($O$3&"-"&$C30,Calc!$I$4:$I$2003,0),10)),"")
C31: 17 | D31: =IFERROR(INDEX(Calc!$B$4:$L$2003,MATCH($O$3&"-"&C31,Calc!$I$4:$I$2003,0),2),"") | E31: =IFERROR(INDEX(Calc!$B$4:$L$2003,MATCH($O$3&"-"&$C31,Calc!$I$4:$I$2003,0),3),"") | F31: =IFERROR(INDEX(Calc!$B$4:$L$2003,MATCH($O$3&"-"&$C31,Calc!$I$4:$I$2003,0),4),"") | G31: =IFERROR(INDEX(Calc!$B$4:$L$2003,MATCH($O$3&"-"&$C31,Calc!$I$4:$I$2003,0),5),"") | H31: =IFERROR(IF(I31="Closed","―",INDEX(Calc!$B$4:$L$2003,MATCH($O$3&"-"&$C31,Calc!$I$4:$I$2003,0),10)),"")
C32: 18 | D32: =IFERROR(INDEX(Calc!$B$4:$L$2003,MATCH($O$3&"-"&C32,Calc!$I$4:$I$2003,0),2),"") | E32: =IFERROR(INDEX(Calc!$B$4:$L$2003,MATCH($O$3&"-"&$C32,Calc!$I$4:$I$2003,0),3),"") | F32: =IFERROR(INDEX(Calc!$B$4:$L$2003,MATCH($O$3&"-"&$C32,Calc!$I$4:$I$2003,0),4),"") | G32: =IFERROR(INDEX(Calc!$B$4:$L$2003,MATCH($O$3&"-"&$C32,Calc!$I$4:$I$2003,0),5),"") | H32: =IFERROR(IF(I32="Closed","―",INDEX(Calc!$B$4:$L$2003,MATCH($O$3&"-"&$C32,Calc!$I$4:$I$2003,0),10)),"")
... C1014: 1000 | D1014: =IFERROR(INDEX(Calc!$B$4:$L$2003,MATCH($O$3&"-"&C1014,Calc!$I$4:$I$2003,0),2),"") | E1014: =IFERROR(INDEX(Calc!$B$4:$L$2003,MATCH($O$3&"-"&$C1014,Calc!$I$4:$I$2003,0),3),"") | F1014: =IFERROR(INDEX(Calc!$B$4:$L$2003,MATCH($O$3&"-"&$C1014,Calc!$I$4:$I$2003,0),4),"") | G1014: =IFERROR(INDEX(Calc!$B$4:$L$2003,MATCH($O$3&"-"&$C1014,Calc!$I$4:$I$2003,0),5),"") | H1014: =IFERROR(IF(I1014="Closed","―",INDEX(Calc!$B$4:$L$2003,MATCH($O$3&"-"&$C1014,Calc!$I$4:$I$2003,0),10)),"")

Sheet December
D2: TEAM TO-DO LIST
D3: DECEMBER | N3: Month Number | O3: 12
C6: Whole Team | E6: Team Member: | F6: Donald Trump
C14: # | D14: Job Description | E14: Assigned To | F14: Assigned On | G14: Deadline | H14: Days Remaining | I14: Status
C15: 1 | D15: =IFERROR(INDEX(Calc!$B$4:$L$2003,MATCH($O$3&"-"&C15,Calc!$I$4:$I$2003,0),2),"") -> Complete the personal to-do list | E15: =IFERROR(INDEX(Calc!$B$4:$L$2003,MATCH($O$3&"-"&$C15,Calc!$I$4:$I$2003,0),3),"") -> Donald Trump | F15: =IFERROR(INDEX(Calc!$B$4:$L$2003,MATCH($O$3&"-"&$C15,Calc!$I$4:$I$2003,0),4),"") -> 44904 | G15: =IFERROR(INDEX(Calc!$B$4:$L$2003,MATCH($O$3&"-"&$C15,Calc!$I$4:$I$2003,0),5),"") -> 44910 | H15: =IFERROR(IF(I15="Closed","―",INDEX(Calc!$B$4:$L$2003,MATCH($O$3&"-"&$C15,Calc!$I$4:$I$2003,0),10)),"") -> ― | I15: Closed
C16: 2 | D16: =IFERROR(INDEX(Calc!$B$4:$L$2003,MATCH($O$3&"-"&C16,Calc!$I$4:$I$2003,0),2),"") -> Build a resume template | E16: =IFERROR(INDEX(Calc!$B$4:$L$2003,MATCH($O$3&"-"&$C16,Calc!$I$4:$I$2003,0),3),"") -> Donald Trump | F16: =IFERROR(INDEX(Calc!$B$4:$L$2003,MATCH($O$3&"-"&$C16,Calc!$I$4:$I$2003,0),4),"") -> 44896 | G16: =IFERROR(INDEX(Calc!$B$4:$L$2003,MATCH($O$3&"-"&$C16,Calc!$I$4:$I$2003,0),5),"") -> 44908 | H16: =IFERROR(IF(I16="Closed","―",INDEX(Calc!$B$4:$L$2003,MATCH($O$3&"-"&$C16,Calc!$I$4:$I$2003,0),10)),"") -> 195 | I16: In Progress
C17: 3 | D17: =IFERROR(INDEX(Calc!$B$4:$L$2003,MATCH($O$3&"-"&C17,Calc!$I$4:$I$2003,0),2),"") -> Create an employee attendance management tool | E17: =IFERROR(INDEX(Calc!$B$4:$L$2003,MATCH($O$3&"-"&$C17,Calc!$I$4:$I$2003,0),3),"") -> Jessica Alba | F17: =IFERROR(INDEX(Calc!$B$4:$L$2003,MATCH($O$3&"-"&$C17,Calc!$I$4:$I$2003,0),4),"") -> 44906 | G17: =IFERROR(INDEX(Calc!$B$4:$L$2003,MATCH($O$3&"-"&$C17,Calc!$I$4:$I$2003,0),5),"") -> 44914 | H17: =IFERROR(IF(I17="Closed","―",INDEX(Calc!$B$4:$L$2003,MATCH($O$3&"-"&$C17,Calc!$I$4:$I$2003,0),10)),"") -> 201 | I17: Not Started
C18: 4 | D18: =IFERROR(INDEX(Calc!$B$4:$L$2003,MATCH($O$3&"-"&C18,Calc!$I$4:$I$2003,0),2),"") | E18: =IFERROR(INDEX(Calc!$B$4:$L$2003,MATCH($O$3&"-"&$C18,Calc!$I$4:$I$2003,0),3),"") | F18: =IFERROR(INDEX(Calc!$B$4:$L$2003,MATCH($O$3&"-"&$C18,Calc!$I$4:$I$2003,0),4),"") | G18: =IFERROR(INDEX(Calc!$B$4:$L$2003,MATCH($O$3&"-"&$C18,Calc!$I$4:$I$2003,0),5),"") | H18: =IFERROR(IF(I18="Closed","―",INDEX(Calc!$B$4:$L$2003,MATCH($O$3&"-"&$C18,Calc!$I$4:$I$2003,0),10)),"")
C19: 5 | D19: =IFERROR(INDEX(Calc!$B$4:$L$2003,MATCH($O$3&"-"&C19,Calc!$I$4:$I$2003,0),2),"") | E19: =IFERROR(INDEX(Calc!$B$4:$L$2003,MATCH($O$3&"-"&$C19,Calc!$I$4:$I$2003,0),3),"") | F19: =IFERROR(INDEX(Calc!$B$4:$L$2003,MATCH($O$3&"-"&$C19,Calc!$I$4:$I$2003,0),4),"") | G19: =IFERROR(INDEX(Calc!$B$4:$L$2003,MATCH($O$3&"-"&$C19,Calc!$I$4:$I$2003,0),5),"") | H19: =IFERROR(IF(I19="Closed","―",INDEX(Calc!$B$4:$L$2003,MATCH($O$3&"-"&$C19,Calc!$I$4:$I$2003,0),10)),"")
C20: 6 | D20: =IFERROR(INDEX(Calc!$B$4:$L$2003,MATCH($O$3&"-"&C20,Calc!$I$4:$I$2003,0),2),"") | E20: =IFERROR(INDEX(Calc!$B$4:$L$2003,MATCH($O$3&"-"&$C20,Calc!$I$4:$I$2003,0),3),"") | F20: =IFERROR(INDEX(Calc!$B$4:$L$2003,MATCH($O$3&"-"&$C20,Calc!$I$4:$I$2003,0),4),"") | G20: =IFERROR(INDEX(Calc!$B$4:$L$2003,MATCH($O$3&"-"&$C20,Calc!$I$4:$I$2003,0),5),"") | H20: =IFERROR(IF(I20="Closed","―",INDEX(Calc!$B$4:$L$2003,MATCH($O$3&"-"&$C20,Calc!$I$4:$I$2003,0),10)),"")
C21: 7 | D21: =IFERROR(INDEX(Calc!$B$4:$L$2003,MATCH($O$3&"-"&C21,Calc!$I$4:$I$2003,0),2),"") | E21: =IFERROR(INDEX(Calc!$B$4:$L$2003,MATCH($O$3&"-"&$C21,Calc!$I$4:$I$2003,0),3),"") | F21: =IFERROR(INDEX(Calc!$B$4:$L$2003,MATCH($O$3&"-"&$C21,Calc!$I$4:$I$2003,0),4),"") | G21: =IFERROR(INDEX(Calc!$B$4:$L$2003,MATCH($O$3&"-"&$C21,Calc!$I$4:$I$2003,0),5),"") | H21: =IFERROR(IF(I21="Closed","―",INDEX(Calc!$B$4:$L$2003,MATCH($O$3&"-"&$C21,Calc!$I$4:$I$2003,0),10)),"")
C22: 8 | D22: =IFERROR(INDEX(Calc!$B$4:$L$2003,MATCH($O$3&"-"&C22,Calc!$I$4:$I$2003,0),2),"") | E22: =IFERROR(INDEX(Calc!$B$4:$L$2003,MATCH($O$3&"-"&$C22,Calc!$I$4:$I$2003,0),3),"") | F22: =IFERROR(INDEX(Calc!$B$4:$L$2003,MATCH($O$3&"-"&$C22,Calc!$I$4:$I$2003,0),4),"") | G22: =IFERROR(INDEX(Calc!$B$4:$L$2003,MATCH($O$3&"-"&$C22,Calc!$I$4:$I$2003,0),5),"") | H22: =IFERROR(IF(I22="Closed","―",INDEX(Calc!$B$4:$L$2003,MATCH($O$3&"-"&$C22,Calc!$I$4:$I$2003,0),10)),"")
C23: 9 | D23: =IFERROR(INDEX(Calc!$B$4:$L$2003,MATCH($O$3&"-"&C23,Calc!$I$4:$I$2003,0),2),"") | E23: =IFERROR(INDEX(Calc!$B$4:$L$2003,MATCH($O$3&"-"&$C23,Calc!$I$4:$I$2003,0),3),"") | F23: =IFERROR(INDEX(Calc!$B$4:$L$2003,MATCH($O$3&"-"&$C23,Calc!$I$4:$I$2003,0),4),"") | G23: =IFERROR(INDEX(Calc!$B$4:$L$2003,MATCH($O$3&"-"&$C23,Calc!$I$4:$I$2003,0),5),"") | H23: =IFERROR(IF(I23="Closed","―",INDEX(Calc!$B$4:$L$2003,MATCH($O$3&"-"&$C23,Calc!$I$4:$I$2003,0),10)),"")
C24: 10 | D24: =IFERROR(INDEX(Calc!$B$4:$L$2003,MATCH($O$3&"-"&C24,Calc!$I$4:$I$2003,0),2),"") | E24: =IFERROR(INDEX(Calc!$B$4:$L$2003,MATCH($O$3&"-"&$C24,Calc!$I$4:$I$2003,0),3),"") | F24: =IFERROR(INDEX(Calc!$B$4:$L$2003,MATCH($O$3&"-"&$C24,Calc!$I$4:$I$2003,0),4),"") | G24: =IFERROR(INDEX(Calc!$B$4:$L$2003,MATCH($O$3&"-"&$C24,Calc!$I$4:$I$2003,0),5),"") | H24: =IFERROR(IF(I24="Closed","―",INDEX(Calc!$B$4:$L$2003,MATCH($O$3&"-"&$C24,Calc!$I$4:$I$2003,0),10)),"")
C25: 11 | D25: =IFERROR(INDEX(Calc!$B$4:$L$2003,MATCH($O$3&"-"&C25,Calc!$I$4:$I$2003,0),2),"") | E25: =IFERROR(INDEX(Calc!$B$4:$L$2003,MATCH($O$3&"-"&$C25,Calc!$I$4:$I$2003,0),3),"") | F25: =IFERROR(INDEX(Calc!$B$4:$L$2003,MATCH($O$3&"-"&$C25,Calc!$I$4:$I$2003,0),4),"") | G25: =IFERROR(INDEX(Calc!$B$4:$L$2003,MATCH($O$3&"-"&$C25,Calc!$I$4:$I$2003,0),5),"") | H25: =IFERROR(IF(I25="Closed","―",INDEX(Calc!$B$4:$L$2003,MATCH($O$3&"-"&$C25,Calc!$I$4:$I$2003,0),10)),"")
C26: 12 | D26: =IFERROR(INDEX(Calc!$B$4:$L$2003,MATCH($O$3&"-"&C26,Calc!$I$4:$I$2003,0),2),"") | E26: =IFERROR(INDEX(Calc!$B$4:$L$2003,MATCH($O$3&"-"&$C26,Calc!$I$4:$I$2003,0),3),"") | F26: =IFERROR(INDEX(Calc!$B$4:$L$2003,MATCH($O$3&"-"&$C26,Calc!$I$4:$I$2003,0),4),"") | G26: =IFERROR(INDEX(Calc!$B$4:$L$2003,MATCH($O$3&"-"&$C26,Calc!$I$4:$I$2003,0),5),"") | H26: =IFERROR(IF(I26="Closed","―",INDEX(Calc!$B$4:$L$2003,MATCH($O$3&"-"&$C26,Calc!$I$4:$I$2003,0),10)),"")
C27: 13 | D27: =IFERROR(INDEX(Calc!$B$4:$L$2003,MATCH($O$3&"-"&C27,Calc!$I$4:$I$2003,0),2),"") | E27: =IFERROR(INDEX(Calc!$B$4:$L$2003,MATCH($O$3&"-"&$C27,Calc!$I$4:$I$2003,0),3),"") | F27: =IFERROR(INDEX(Calc!$B$4:$L$2003,MATCH($O$3&"-"&$C27,Calc!$I$4:$I$2003,0),4),"") | G27: =IFERROR(INDEX(Calc!$B$4:$L$2003,MATCH($O$3&"-"&$C27,Calc!$I$4:$I$2003,0),5),"") | H27: =IFERROR(IF(I27="Closed","―",INDEX(Calc!$B$4:$L$2003,MATCH($O$3&"-"&$C27,Calc!$I$4:$I$2003,0),10)),"")
C28: 14 | D28: =IFERROR(INDEX(Calc!$B$4:$L$2003,MATCH($O$3&"-"&C28,Calc!$I$4:$I$2003,0),2),"") | E28: =IFERROR(INDEX(Calc!$B$4:$L$2003,MATCH($O$3&"-"&$C28,Calc!$I$4:$I$2003,0),3),"") | F28: =IFERROR(INDEX(Calc!$B$4:$L$2003,MATCH($O$3&"-"&$C28,Calc!$I$4:$I$2003,0),4),"") | G28: =IFERROR(INDEX(Calc!$B$4:$L$2003,MATCH($O$3&"-"&$C28,Calc!$I$4:$I$2003,0),5),"") | H28: =IFERROR(IF(I28="Closed","―",INDEX(Calc!$B$4:$L$2003,MATCH($O$3&"-"&$C28,Calc!$I$4:$I$2003,0),10)),"")
C29: 15 | D29: =IFERROR(INDEX(Calc!$B$4:$L$2003,MATCH($O$3&"-"&C29,Calc!$I$4:$I$2003,0),2),"") | E29: =IFERROR(INDEX(Calc!$B$4:$L$2003,MATCH($O$3&"-"&$C29,Calc!$I$4:$I$2003,0),3),"") | F29: =IFERROR(INDEX(Calc!$B$4:$L$2003,MATCH($O$3&"-"&$C29,Calc!$I$4:$I$2003,0),4),"") | G29: =IFERROR(INDEX(Calc!$B$4:$L$2003,MATCH($O$3&"-"&$C29,Calc!$I$4:$I$2003,0),5),"") | H29: =IFERROR(IF(I29="Closed","―",INDEX(Calc!$B$4:$L$2003,MATCH($O$3&"-"&$C29,Calc!$I$4:$I$2003,0),10)),"")
... C1014: 1000 | D1014: =IFERROR(INDEX(Calc!$B$4:$L$2003,MATCH($O$3&"-"&C1014,Calc!$I$4:$I$2003,0),2),"") | E1014: =IFERROR(INDEX(Calc!$B$4:$L$2003,MATCH($O$3&"-"&$C1014,Calc!$I$4:$I$2003,0),3),"") | F1014: =IFERROR(INDEX(Calc!$B$4:$L$2003,MATCH($O$3&"-"&$C1014,Calc!$I$4:$I$2003,0),4),"") | G1014: =IFERROR(INDEX(Calc!$B$4:$L$2003,MATCH($O$3&"-"&$C1014,Calc!$I$4:$I$2003,0),5),"") | H1014: =IFERROR(IF(I1014="Closed","―",INDEX(Calc!$B$4:$L$2003,MATCH($O$3&"-"&$C1014,Calc!$I$4:$I$2003,0),10)),"")

Sheet Calc
O2: TOTAL STATISTICS
B3: Job Id | C3: Job Description | D3: Assigned To | E3: Assigned On | F3: Deadline | G3: Month | H3: Occurance | I3: Month-Occurance | J3: Month Name | K3: Days Remaining | L3: Status | N3: Month Index | P3: Not Started | Q3: In Progress | R3: Closed | S3: TOTAL | T3: Not Started | U3: In Progress | V3: Closed | W3: Team Member | Y3: Names | AA3: Status
B4: 1 | C4: =IFERROR(INDEX(Team_Data!J$8:J$2007,$B4,1)&"","") -> Complete the personal to-do list | D4: =IFERROR(INDEX(Team_Data!K$8:K$2007,$B4,1)&"","") -> Donald Trump | E4: =IFERROR(IF(LEN(INDEX(Team_Data!L$8:L$2007,$B4,1))>0,INDEX(Team_Data!L$8:L$2007,$B4,1),""),"") -> 44904 | F4: =IFERROR(IF(LEN(INDEX(Team_Data!M$8:M$2007,$B4,1))>0,INDEX(Team_Data!M$8:M$2007,$B4,1),""),"") -> 44910 | G4: =IFERROR(MONTH(F4),"") -> 12 | H4: =IFERROR(IF(ISNUMBER(G4),COUNTIF($G$4:G4,G4),""),"") -> 1 | I4: =G4&"-"&H4 -> 12-1 | J4: =IFERROR(INDEX($O$4:$O$15,G4,1),"") -> December | K4: =IFERROR(IF(LEN(F4)=0,"",F4-TODAY()),"") -> 197 | L4: =IFERROR(INDEX(INDIRECT(J4&"!$I$15:$I$1014"),H4),"") -> Closed | N4: 1 | O4: January | P4: =IFERROR(COUNTIFS($L$4:$L$2003,P$3,$G$4:$G$2003,$N4),"") -> 2 | Q4: =IFERROR(COUNTIFS($L$4:$L$2003,Q$3,$G$4:$G$2003,$N4),"") -> 0 | R4: =IFERROR(COUNTIFS($L$4:$L$2003,R$3,$G$4:$G$2003,$N4),"") -> 3 | S4: =SUM(P4:R4) -> 5 | T4: =IFERROR(COUNTIFS($L$4:$L$2003,T$3,$G$4:$G$2003,$N4,$D$4:$D$2003,$W4),"") -> 1 | U4: =IFERROR(COUNTIFS($L$4:$L$2003,U$3,$G$4:$G$2003,$N4,$D$4:$D$2003,$W4),"") -> 0 | V4: =IFERROR(COUNTIFS($L$4:$L$2003,V$3,$G$4:$G$2003,$N4,$D$4:$D$2003,$W4),"") -> 1 | W4: =January!F6 -> Jessica Alba | Y4: {=IFERROR(INDEX(Team_Data!$D$8:$D$107,SMALL(Team_Data!$C$8:$C$107,B4),1)&"","")} -> Donald Trump | AA4: Not Started
B5: 2 | C5: =IFERROR(INDEX(Team_Data!J$8:J$2007,$B5,1)&"","") -> Build a resume template | D5: =IFERROR(INDEX(Team_Data!K$8:K$2007,$B5,1)&"","") -> Donald Trump | E5: =IFERROR(IF(LEN(INDEX(Team_Data!L$8:L$2007,$B5,1))>0,INDEX(Team_Data!L$8:L$2007,$B5,1),""),"") -> 44734 | F5: =IFERROR(IF(LEN(INDEX(Team_Data!M$8:M$2007,$B5,1))>0,INDEX(Team_Data!M$8:M$2007,$B5,1),""),"") -> 44837 | G5: =IFERROR(MONTH(F5),"") -> 10 | H5: =IFERROR(IF(ISNUMBER(G5),COUNTIF($G$4:G5,G5),""),"") -> 1 | I5: =G5&"-"&H5 -> 10-1 | J5: =IFERROR(INDEX($O$4:$O$15,G5,1),"") -> October | K5: =IFERROR(IF(LEN(F5)=0,"",F5-TODAY()),"") -> 124 | L5: =IFERROR(INDEX(INDIRECT(J5&"!$I$15:$I$1014"),H5),"") -> Not Started | N5: 2 | O5: February | P5: =IFERROR(COUNTIFS($L$4:$L$2003,P$3,$G$4:$G$2003,$N5),"") -> 1 | Q5: =IFERROR(COUNTIFS($L$4:$L$2003,Q$3,$G$4:$G$2003,$N5),"") -> 1 | R5: =IFERROR(COUNTIFS($L$4:$L$2003,R$3,$G$4:$G$2003,$N5),"") -> 2 | S5: =SUM(P5:R5) -> 4 | T5: =IFERROR(COUNTIFS($L$4:$L$2003,T$3,$G$4:$G$2003,$N5,$D$4:$D$2003,$W5),"") -> 0 | U5: =IFERROR(COUNTIFS($L$4:$L$2003,U$3,$G$4:$G$2003,$N5,$D$4:$D$2003,$W5),"") -> 1 | V5: =IFERROR(COUNTIFS($L$4:$L$2003,V$3,$G$4:$G$2003,$N5,$D$4:$D$2003,$W5),"") -> 0 | W5: =February!F6 -> Omer Toprak | Y5: {=IFERROR(INDEX(Team_Data!$D$8:$D$107,SMALL(Team_Data!$C$8:$C$107,B5),1)&"","")} -> Viggo Mortensen | AA5: In Progress
B6: 3 | C6: =IFERROR(INDEX(Team_Data!J$8:J$2007,$B6,1)&"","") -> Finish writing the employee handbook | D6: =IFERROR(INDEX(Team_Data!K$8:K$2007,$B6,1)&"","") -> Viggo Mortensen | E6: =IFERROR(IF(LEN(INDEX(Team_Data!L$8:L$2007,$B6,1))>0,INDEX(Team_Data!L$8:L$2007,$B6,1),""),"") -> 44605 | F6: =IFERROR(IF(LEN(INDEX(Team_Data!M$8:M$2007,$B6,1))>0,INDEX(Team_Data!M$8:M$2007,$B6,1),""),"") -> 44859 | G6: =IFERROR(MONTH(F6),"") -> 10 | H6: =IFERROR(IF(ISNUMBER(G6),COUNTIF($G$4:G6,G6),""),"") -> 2 | I6: =G6&"-"&H6 -> 10-2 | J6: =IFERROR(INDEX($O$4:$O$15,G6,1),"") -> October | K6: =IFERROR(IF(LEN(F6)=0,"",F6-TODAY()),"") -> 146 | L6: =IFERROR(INDEX(INDIRECT(J6&"!$I$15:$I$1014"),H6),"") -> In Progress | N6: 3 | O6: March | P6: =IFERROR(COUNTIFS($L$4:$L$2003,P$3,$G$4:$G$2003,$N6),"") -> 1 | Q6: =IFERROR(COUNTIFS($L$4:$L$2003,Q$3,$G$4:$G$2003,$N6),"") -> 1 | R6: =IFERROR(COUNTIFS($L$4:$L$2003,R$3,$G$4:$G$2003,$N6),"") -> 4 | S6: =SUM(P6:R6) -> 6 | T6: =IFERROR(COUNTIFS($L$4:$L$2003,T$3,$G$4:$G$2003,$N6,$D$4:$D$2003,$W6),"") -> 0 | U6: =IFERROR(COUNTIFS($L$4:$L$2003,U$3,$G$4:$G$2003,$N6,$D$4:$D$2003,$W6),"") -> 1 | V6: =IFERROR(COUNTIFS($L$4:$L$2003,V$3,$G$4:$G$2003,$N6,$D$4:$D$2003,$W6),"") -> 1 | W6: =March!F6 -> Marion Cotillard | Y6: {=IFERROR(INDEX(Team_Data!$D$8:$D$107,SMALL(Team_Data!$C$8:$C$107,B6),1)&"","")} -> John Stones | AA6: Closed
B7: 4 | C7: =IFERROR(INDEX(Team_Data!J$8:J$2007,$B7,1)&"","") -> Create a financial monthly reporting template | D7: =IFERROR(INDEX(Team_Data!K$8:K$2007,$B7,1)&"","") -> Viggo Mortensen | E7: =IFERROR(IF(LEN(INDEX(Team_Data!L$8:L$2007,$B7,1))>0,INDEX(Team_Data!L$8:L$2007,$B7,1),""),"") -> 44605 | F7: =IFERROR(IF(LEN(INDEX(Team_Data!M$8:M$2007,$B7,1))>0,INDEX(Team_Data!M$8:M$2007,$B7,1),""),"") -> 44859 | G7: =IFERROR(MONTH(F7),"") -> 10 | H7: =IFERROR(IF(ISNUMBER(G7),COUNTIF($G$4:G7,G7),""),"") -> 3 | I7: =G7&"-"&H7 -> 10-3 | J7: =IFERROR(INDEX($O$4:$O$15,G7,1),"") -> October | K7: =IFERROR(IF(LEN(F7)=0,"",F7-TODAY()),"") -> 146 | L7: =IFERROR(INDEX(INDIRECT(J7&"!$I$15:$I$1014"),H7),"") -> Closed | N7: 4 | O7: April | P7: =IFERROR(COUNTIFS($L$4:$L$2003,P$3,$G$4:$G$2003,$N7),"") -> 1 | Q7: =IFERROR(COUNTIFS($L$4:$L$2003,Q$3,$G$4:$G$2003,$N7),"") -> 3 | R7: =IFERROR(COUNTIFS($L$4:$L$2003,R$3,$G$4:$G$2003,$N7),"") -> 1 | S7: =SUM(P7:R7) -> 5 | T7: =IFERROR(COUNTIFS($L$4:$L$2003,T$3,$G$4:$G$2003,$N7,$D$4:$D$2003,$W7),"") -> 0 | U7: =IFERROR(COUNTIFS($L$4:$L$2003,U$3,$G$4:$G$2003,$N7,$D$4:$D$2003,$W7),"") -> 1 | V7: =IFERROR(COUNTIFS($L$4:$L$2003,V$3,$G$4:$G$2003,$N7,$D$4:$D$2003,$W7),"") -> 1 | W7: =April!F6 -> Mila Kunis | Y7: {=IFERROR(INDEX(Team_Data!$D$8:$D$107,SMALL(Team_Data!$C$8:$C$107,B7),1)&"","")} -> Jessica Alba
B8: 5 | C8: =IFERROR(INDEX(Team_Data!J$8:J$2007,$B8,1)&"","") -> Develop an inventory management tool in excel | D8: =IFERROR(INDEX(Team_Data!K$8:K$2007,$B8,1)&"","") -> John Stones | E8: =IFERROR(IF(LEN(INDEX(Team_Data!L$8:L$2007,$B8,1))>0,INDEX(Team_Data!L$8:L$2007,$B8,1),""),"") -> 44584 | F8: =IFERROR(IF(LEN(INDEX(Team_Data!M$8:M$2007,$B8,1))>0,INDEX(Team_Data!M$8:M$2007,$B8,1),""),"") -> 44743 | G8: =IFERROR(MONTH(F8),"") -> 7 | H8: =IFERROR(IF(ISNUMBER(G8),COUNTIF($G$4:G8,G8),""),"") -> 1 | I8: =G8&"-"&H8 -> 7-1 | J8: =IFERROR(INDEX($O$4:$O$15,G8,1),"") -> July | K8: =IFERROR(IF(LEN(F8)=0,"",F8-TODAY()),"") -> 30 | L8: =IFERROR(INDEX(INDIRECT(J8&"!$I$15:$I$1014"),H8),"") -> In Progress | N8: 5 | O8: May | P8: =IFERROR(COUNTIFS($L$4:$L$2003,P$3,$G$4:$G$2003,$N8),"") -> 1 | Q8: =IFERROR(COUNTIFS($L$4:$L$2003,Q$3,$G$4:$G$2003,$N8),"") -> 2 | R8: =IFERROR(COUNTIFS($L$4:$L$2003,R$3,$G$4:$G$2003,$N8),"") -> 3 | S8: =SUM(P8:R8) -> 6 | T8: =IFERROR(COUNTIFS($L$4:$L$2003,T$3,$G$4:$G$2003,$N8,$D$4:$D$2003,$W8),"") -> 0 | U8: =IFERROR(COUNTIFS($L$4:$L$2003,U$3,$G$4:$G$2003,$N8,$D$4:$D$2003,$W8),"") -> 0 | V8: =IFERROR(COUNTIFS($L$4:$L$2003,V$3,$G$4:$G$2003,$N8,$D$4:$D$2003,$W8),"") -> 1 | W8: =May!F6 -> Marion Cotillard | Y8: {=IFERROR(INDEX(Team_Data!$D$8:$D$107,SMALL(Team_Data!$C$8:$C$107,B8),1)&"","")} -> Emma Stone
B9: 6 | C9: =IFERROR(INDEX(Team_Data!J$8:J$2007,$B9,1)&"","") -> Finish developing the printable invoice template | D9: =IFERROR(INDEX(Team_Data!K$8:K$2007,$B9,1)&"","") -> Jessica Alba | E9: =IFERROR(IF(LEN(INDEX(Team_Data!L$8:L$2007,$B9,1))>0,INDEX(Team_Data!L$8:L$2007,$B9,1),""),"") -> 44690 | F9: =IFERROR(IF(LEN(INDEX(Team_Data!M$8:M$2007,$B9,1))>0,INDEX(Team_Data!M$8:M$2007,$B9,1),""),"") -> 44697 | G9: =IFERROR(MONTH(F9),"") -> 5 | H9: =IFERROR(IF(ISNUMBER(G9),COUNTIF($G$4:G9,G9),""),"") -> 1 | I9: =G9&"-"&H9 -> 5-1 | J9: =IFERROR(INDEX($O$4:$O$15,G9,1),"") -> May | K9: =IFERROR(IF(LEN(F9)=0,"",F9-TODAY()),"") -> -16 | L9: =IFERROR(INDEX(INDIRECT(J9&"!$I$15:$I$1014"),H9),"") -> Not Started | N9: 6 | O9: June | P9: =IFERROR(COUNTIFS($L$4:$L$2003,P$3,$G$4:$G$2003,$N9),"") -> 0 | Q9: =IFERROR(COUNTIFS($L$4:$L$2003,Q$3,$G$4:$G$2003,$N9),"") -> 2 | R9: =IFERROR(COUNTIFS($L$4:$L$2003,R$3,$G$4:$G$2003,$N9),"") -> 1 | S9: =SUM(P9:R9) -> 3 | T9: =IFERROR(COUNTIFS($L$4:$L$2003,T$3,$G$4:$G$2003,$N9,$D$4:$D$2003,$W9),"") -> 0 | U9: =IFERROR(COUNTIFS($L$4:$L$2003,U$3,$G$4:$G$2003,$N9,$D$4:$D$2003,$W9),"") -> 1 | V9: =IFERROR(COUNTIFS($L$4:$L$2003,V$3,$G$4:$G$2003,$N9,$D$4:$D$2003,$W9),"") -> 1 | W9: =June!F6 -> Emma Stone | Y9: {=IFERROR(INDEX(Team_Data!$D$8:$D$107,SMALL(Team_Data!$C$8:$C$107,B9),1)&"","")} -> Scarlett Johansson
B10: 7 | C10: =IFERROR(INDEX(Team_Data!J$8:J$2007,$B10,1)&"","") -> Create an employee attendance management tool | D10: =IFERROR(INDEX(Team_Data!K$8:K$2007,$B10,1)&"","") -> Jessica Alba | E10: =IFERROR(IF(LEN(INDEX(Team_Data!L$8:L$2007,$B10,1))>0,INDEX(Team_Data!L$8:L$2007,$B10,1),""),"") -> 44573 | F10: =IFERROR(IF(LEN(INDEX(Team_Data!M$8:M$2007,$B10,1))>0,INDEX(Team_Data!M$8:M$2007,$B10,1),""),"") -> 44635 | G10: =IFERROR(MONTH(F10),"") -> 3 | H10: =IFERROR(IF(ISNUMBER(G10),COUNTIF($G$4:G10,G10),""),"") -> 1 | I10: =G10&"-"&H10 -> 3-1 | J10: =IFERROR(INDEX($O$4:$O$15,G10,1),"") -> March | K10: =IFERROR(IF(LEN(F10)=0,"",F10-TODAY()),"") -> -78 | L10: =IFERROR(INDEX(INDIRECT(J10&"!$I$15:$I$1014"),H10),"") -> Closed | N10: 7 | O10: July | P10: =IFERROR(COUNTIFS($L$4:$L$2003,P$3,$G$4:$G$2003,$N10),"") -> 1 | Q10: =IFERROR(COUNTIFS($L$4:$L$2003,Q$3,$G$4:$G$2003,$N10),"") -> 2 | R10: =IFERROR(COUNTIFS($L$4:$L$2003,R$3,$G$4:$G$2003,$N10),"") -> 2 | S10: =SUM(P10:R10) -> 5 | T10: =IFERROR(COUNTIFS($L$4:$L$2003,T$3,$G$4:$G$2003,$N10,$D$4:$D$2003,$W10),"") -> 0 | U10: =IFERROR(COUNTIFS($L$4:$L$2003,U$3,$G$4:$G$2003,$N10,$D$4:$D$2003,$W10),"") -> 1 | V10: =IFERROR(COUNTIFS($L$4:$L$2003,V$3,$G$4:$G$2003,$N10,$D$4:$D$2003,$W10),"") -> 1 | W10: =July!F6 -> Charlize Theron | Y10: {=IFERROR(INDEX(Team_Data!$D$8:$D$107,SMALL(Team_Data!$C$8:$C$107,B10),1)&"","")} -> Mila Kunis
B11: 8 | C11: =IFERROR(INDEX(Team_Data!J$8:J$2007,$B11,1)&"","") -> Finish the student lesson plan | D11: =IFERROR(INDEX(Team_Data!K$8:K$2007,$B11,1)&"","") -> Jessica Alba | E11: =IFERROR(IF(LEN(INDEX(Team_Data!L$8:L$2007,$B11,1))>0,INDEX(Team_Data!L$8:L$2007,$B11,1),""),"") -> 44566 | F11: =IFERROR(IF(LEN(INDEX(Team_Data!M$8:M$2007,$B11,1))>0,INDEX(Team_Data!M$8:M$2007,$B11,1),""),"") -> 44571 | G11: =IFERROR(MONTH(F11),"") -> 1 | H11: =IFERROR(IF(ISNUMBER(G11),COUNTIF($G$4:G11,G11),""),"") -> 1 | I11: =G11&"-"&H11 -> 1-1 | J11: =IFERROR(INDEX($O$4:$O$15,G11,1),"") -> January | K11: =IFERROR(IF(LEN(F11)=0,"",F11-TODAY()),"") -> -142 | L11: =IFERROR(INDEX(INDIRECT(J11&"!$I$15:$I$1014"),H11),"") -> Closed | N11: 8 | O11: August | P11: =IFERROR(COUNTIFS($L$4:$L$2003,P$3,$G$4:$G$2003,$N11),"") -> 1 | Q11: =IFERROR(COUNTIFS($L$4:$L$2003,Q$3,$G$4:$G$2003,$N11),"") -> 0 | R11: =IFERROR(COUNTIFS($L$4:$L$2003,R$3,$G$4:$G$2003,$N11),"") -> 1 | S11: =SUM(P11:R11) -> 2 | T11: =IFERROR(COUNTIFS($L$4:$L$2003,T$3,$G$4:$G$2003,$N11,$D$4:$D$2003,$W11),"") -> 0 | U11: =IFERROR(COUNTIFS($L$4:$L$2003,U$3,$G$4:$G$2003,$N11,$D$4:$D$2003,$W11),"") -> 0 | V11: =IFERROR(COUNTIFS($L$4:$L$2003,V$3,$G$4:$G$2003,$N11,$D$4:$D$2003,$W11),"") -> 1 | W11: =August!F6 -> Mila Kunis | Y11: {=IFERROR(INDEX(Team_Data!$D$8:$D$107,SMALL(Team_Data!$C$8:$C$107,B11),1)&"","")} -> Charlize Theron
B12: 9 | C12: =IFERROR(INDEX(Team_Data!J$8:J$2007,$B12,1)&"","") -> Visit the website of | D12: =IFERROR(INDEX(Team_Data!K$8:K$2007,$B12,1)&"","") -> Emma Stone | E12: =IFERROR(IF(LEN(INDEX(Team_Data!L$8:L$2007,$B12,1))>0,INDEX(Team_Data!L$8:L$2007,$B12,1),""),"") -> 44683 | F12: =IFERROR(IF(LEN(INDEX(Team_Data!M$8:M$2007,$B12,1))>0,INDEX(Team_Data!M$8:M$2007,$B12,1),""),"") -> 44731 | G12: =IFERROR(MONTH(F12),"") -> 6 | H12: =IFERROR(IF(ISNUMBER(G12),COUNTIF($G$4:G12,G12),""),"") -> 1 | I12: =G12&"-"&H12 -> 6-1 | J12: =IFERROR(INDEX($O$4:$O$15,G12,1),"") -> June | K12: =IFERROR(IF(LEN(F12)=0,"",F12-TODAY()),"") -> 18 | L12: =IFERROR(INDEX(INDIRECT(J12&"!$I$15:$I$1014"),H12),"") -> In Progress | N12: 9 | O12: September | P12: =IFERROR(COUNTIFS($L$4:$L$2003,P$3,$G$4:$G$2003,$N12),"") -> 2 | Q12: =IFERROR(COUNTIFS($L$4:$L$2003,Q$3,$G$4:$G$2003,$N12),"") -> 3 | R12: =IFERROR(COUNTIFS($L$4:$L$2003,R$3,$G$4:$G$2003,$N12),"") -> 2 | S12: =SUM(P12:R12) -> 7 | T12: =IFERROR(COUNTIFS($L$4:$L$2003,T$3,$G$4:$G$2003,$N12,$D$4:$D$2003,$W12),"") -> 1 | U12: =IFERROR(COUNTIFS($L$4:$L$2003,U$3,$G$4:$G$2003,$N12,$D$4:$D$2003,$W12),"") -> 0 | V12: =IFERROR(COUNTIFS($L$4:$L$2003,V$3,$G$4:$G$2003,$N12,$D$4:$D$2003,$W12),"") -> 1 | W12: =September!F6 -> Mila Kunis | Y12: {=IFERROR(INDEX(Team_Data!$D$8:$D$107,SMALL(Team_Data!$C$8:$C$107,B12),1)&"","")} -> Marion Cotillard
B13: 10 | C13: =IFERROR(INDEX(Team_Data!J$8:J$2007,$B13,1)&"","") -> Check our free and paid products | D13: =IFERROR(INDEX(Team_Data!K$8:K$2007,$B13,1)&"","") -> Emma Stone | E13: =IFERROR(IF(LEN(INDEX(Team_Data!L$8:L$2007,$B13,1))>0,INDEX(Team_Data!L$8:L$2007,$B13,1),""),"") -> 44703 | F13: =IFERROR(IF(LEN(INDEX(Team_Data!M$8:M$2007,$B13,1))>0,INDEX(Team_Data!M$8:M$2007,$B13,1),""),"") -> 44687 | G13: =IFERROR(MONTH(F13),"") -> 5 | H13: =IFERROR(IF(ISNUMBER(G13),COUNTIF($G$4:G13,G13),""),"") -> 2 | I13: =G13&"-"&H13 -> 5-2 | J13: =IFERROR(INDEX($O$4:$O$15,G13,1),"") -> May | K13: =IFERROR(IF(LEN(F13)=0,"",F13-TODAY()),"") -> -26 | L13: =IFERROR(INDEX(INDIRECT(J13&"!$I$15:$I$1014"),H13),"") -> Closed | N13: 10 | O13: October | P13: =IFERROR(COUNTIFS($L$4:$L$2003,P$3,$G$4:$G$2003,$N13),"") -> 2 | Q13: =IFERROR(COUNTIFS($L$4:$L$2003,Q$3,$G$4:$G$2003,$N13),"") -> 3 | R13: =IFERROR(COUNTIFS($L$4:$L$2003,R$3,$G$4:$G$2003,$N13),"") -> 3 | S13: =SUM(P13:R13) -> 8 | T13: =IFERROR(COUNTIFS($L$4:$L$2003,T$3,$G$4:$G$2003,$N13,$D$4:$D$2003,$W13),"") -> 1 | U13: =IFERROR(COUNTIFS($L$4:$L$2003,U$3,$G$4:$G$2003,$N13,$D$4:$D$2003,$W13),"") -> 1 | V13: =IFERROR(COUNTIFS($L$4:$L$2003,V$3,$G$4:$G$2003,$N13,$D$4:$D$2003,$W13),"") -> 1 | W13: =October!F6 -> Viggo Mortensen | Y13: {=IFERROR(INDEX(Team_Data!$D$8:$D$107,SMALL(Team_Data!$C$8:$C$107,B13),1)&"","")} -> Omer Toprak
B14: 11 | C14: =IFERROR(INDEX(Team_Data!J$8:J$2007,$B14,1)&"","") -> Share our products on social media | D14: =IFERROR(INDEX(Team_Data!K$8:K$2007,$B14,1)&"","") -> John Stones | E14: =IFERROR(IF(LEN(INDEX(Team_Data!L$8:L$2007,$B14,1))>0,INDEX(Team_Data!L$8:L$2007,$B14,1),""),"") -> 44593 | F14: =IFERROR(IF(LEN(INDEX(Team_Data!M$8:M$2007,$B14,1))>0,INDEX(Team_Data!M$8:M$2007,$B14,1),""),"") -> 44656 | G14: =IFERROR(MONTH(F14),"") -> 4 | H14: =IFERROR(IF(ISNUMBER(G14),COUNTIF($G$4:G14,G14),""),"") -> 1 | I14: =G14&"-"&H14 -> 4-1 | J14: =IFERROR(INDEX($O$4:$O$15,G14,1),"") -> April | K14: =IFERROR(IF(LEN(F14)=0,"",F14-TODAY()),"") -> -57 | L14: =IFERROR(INDEX(INDIRECT(J14&"!$I$15:$I$1014"),H14),"") -> Not Started | N14: 11 | O14: November | P14: =IFERROR(COUNTIFS($L$4:$L$2003,P$3,$G$4:$G$2003,$N14),"") -> 1 | Q14: =IFERROR(COUNTIFS($L$4:$L$2003,Q$3,$G$4:$G$2003,$N14),"") -> 2 | R14: =IFERROR(COUNTIFS($L$4:$L$2003,R$3,$G$4:$G$2003,$N14),"") -> 3 | S14: =SUM(P14:R14) -> 6 | T14: =IFERROR(COUNTIFS($L$4:$L$2003,T$3,$G$4:$G$2003,$N14,$D$4:$D$2003,$W14),"") -> 0 | U14: =IFERROR(COUNTIFS($L$4:$L$2003,U$3,$G$4:$G$2003,$N14,$D$4:$D$2003,$W14),"") -> 1 | V14: =IFERROR(COUNTIFS($L$4:$L$2003,V$3,$G$4:$G$2003,$N14,$D$4:$D$2003,$W14),"") -> 1 | W14: =November!F6 -> Omer Toprak | Y14: {=IFERROR(INDEX(Team_Data!$D$8:$D$107,SMALL(Team_Data!$C$8:$C$107,B14),1)&"","")}
B15: 12 | C15: =IFERROR(INDEX(Team_Data!J$8:J$2007,$B15,1)&"","") -> Increase clickthrough rate by 0.1% | D15: =IFERROR(INDEX(Team_Data!K$8:K$2007,$B15,1)&"","") -> Scarlett Johansson | E15: =IFERROR(IF(LEN(INDEX(Team_Data!L$8:L$2007,$B15,1))>0,INDEX(Team_Data!L$8:L$2007,$B15,1),""),"") -> 44749 | F15: =IFERROR(IF(LEN(INDEX(Team_Data!M$8:M$2007,$B15,1))>0,INDEX(Team_Data!M$8:M$2007,$B15,1),""),"") -> 44771 | G15: =IFERROR(MONTH(F15),"") -> 7 | H15: =IFERROR(IF(ISNUMBER(G15),COUNTIF($G$4:G15,G15),""),"") -> 2 | I15: =G15&"-"&H15 -> 7-2 | J15: =IFERROR(INDEX($O$4:$O$15,G15,1),"") -> July | K15: =IFERROR(IF(LEN(F15)=0,"",F15-TODAY()),"") -> 58 | L15: =IFERROR(INDEX(INDIRECT(J15&"!$I$15:$I$1014"),H15),"") -> Closed | N15: 12 | O15: December | P15: =IFERROR(COUNTIFS($L$4:$L$2003,P$3,$G$4:$G$2003,$N15),"") -> 1 | Q15: =IFERROR(COUNTIFS($L$4:$L$2003,Q$3,$G$4:$G$2003,$N15),"") -> 1 | R15: =IFERROR(COUNTIFS($L$4:$L$2003,R$3,$G$4:$G$2003,$N15),"") -> 1 | S15: =SUM(P15:R15) -> 3 | T15: =IFERROR(COUNTIFS($L$4:$L$2003,T$3,$G$4:$G$2003,$N15,$D$4:$D$2003,$W15),"") -> 0 | U15: =IFERROR(COUNTIFS($L$4:$L$2003,U$3,$G$4:$G$2003,$N15,$D$4:$D$2003,$W15),"") -> 1 | V15: =IFERROR(COUNTIFS($L$4:$L$2003,V$3,$G$4:$G$2003,$N15,$D$4:$D$2003,$W15),"") -> 1 | W15: =December!F6 -> Donald Trump | Y15: {=IFERROR(INDEX(Team_Data!$D$8:$D$107,SMALL(Team_Data!$C$8:$C$107,B15),1)&"","")}
B16: 13 | C16: =IFERROR(INDEX(Team_Data!J$8:J$2007,$B16,1)&"","") -> Clean the desks | D16: =IFERROR(INDEX(Team_Data!K$8:K$2007,$B16,1)&"","") -> Mila Kunis | E16: =IFERROR(IF(LEN(INDEX(Team_Data!L$8:L$2007,$B16,1))>0,INDEX(Team_Data!L$8:L$2007,$B16,1),""),"") -> 44762 | F16: =IFERROR(IF(LEN(INDEX(Team_Data!M$8:M$2007,$B16,1))>0,INDEX(Team_Data!M$8:M$2007,$B16,1),""),"") -> 44827 | G16: =IFERROR(MONTH(F16),"") -> 9 | H16: =IFERROR(IF(ISNUMBER(G16),COUNTIF($G$4:G16,G16),""),"") -> 1 | I16: =G16&"-"&H16 -> 9-1 | J16: =IFERROR(INDEX($O$4:$O$15,G16,1),"") -> September | K16: =IFERROR(IF(LEN(F16)=0,"",F16-TODAY()),"") -> 114 | L16: =IFERROR(INDEX(INDIRECT(J16&"!$I$15:$I$1014"),H16),"") -> Not Started | O16: TOTAL | P16: =SUM(P4:P15) -> 14 | Q16: =SUM(Q4:Q15) -> 20 | R16: =SUM(R4:R15) -> 26 | Y16: {=IFERROR(INDEX(Team_Data!$D$8:$D$107,SMALL(Team_Data!$C$8:$C$107,B16),1)&"","")}
B17: 14 | C17: =IFERROR(INDEX(Team_Data!J$8:J$2007,$B17,1)&"","") -> Take the chairs downstairs | D17: =IFERROR(INDEX(Team_Data!K$8:K$2007,$B17,1)&"","") -> Viggo Mortensen | E17: =IFERROR(IF(LEN(INDEX(Team_Data!L$8:L$2007,$B17,1))>0,INDEX(Team_Data!L$8:L$2007,$B17,1),""),"") -> 44704 | F17: =IFERROR(IF(LEN(INDEX(Team_Data!M$8:M$2007,$B17,1))>0,INDEX(Team_Data!M$8:M$2007,$B17,1),""),"") -> 44842 | G17: =IFERROR(MONTH(F17),"") -> 10 | H17: =IFERROR(IF(ISNUMBER(G17),COUNTIF($G$4:G17,G17),""),"") -> 4 | I17: =G17&"-"&H17 -> 10-4 | J17: =IFERROR(INDEX($O$4:$O$15,G17,1),"") -> October | K17: =IFERROR(IF(LEN(F17)=0,"",F17-TODAY()),"") -> 129 | L17: =IFERROR(INDEX(INDIRECT(J17&"!$I$15:$I$1014"),H17),"") -> Not Started | Y17: {=IFERROR(INDEX(Team_Data!$D$8:$D$107,SMALL(Team_Data!$C$8:$C$107,B17),1)&"","")}
B18: 15 | C18: =IFERROR(INDEX(Team_Data!J$8:J$2007,$B18,1)&"","") -> Get the elevator to the 11th floor, and back to ground level | D18: =IFERROR(INDEX(Team_Data!K$8:K$2007,$B18,1)&"","") -> Charlize Theron | E18: =IFERROR(IF(LEN(INDEX(Team_Data!L$8:L$2007,$B18,1))>0,INDEX(Team_Data!L$8:L$2007,$B18,1),""),"") -> 44625 | F18: =IFERROR(IF(LEN(INDEX(Team_Data!M$8:M$2007,$B18,1))>0,INDEX(Team_Data!M$8:M$2007,$B18,1),""),"") -> 44752 | G18: =IFERROR(MONTH(F18),"") -> 7 | H18: =IFERROR(IF(ISNUMBER(G18),COUNTIF($G$4:G18,G18),""),"") -> 3 | I18: =G18&"-"&H18 -> 7-3 | J18: =IFERROR(INDEX($O$4:$O$15,G18,1),"") -> July | K18: =IFERROR(IF(LEN(F18)=0,"",F18-TODAY()),"") -> 39 | L18: =IFERROR(INDEX(INDIRECT(J18&"!$I$15:$I$1014"),H18),"") -> Closed | O18: Date Format | Y18: {=IFERROR(INDEX(Team_Data!$D$8:$D$107,SMALL(Team_Data!$C$8:$C$107,B18),1)&"","")}
B19: 16 | C19: =IFERROR(INDEX(Team_Data!J$8:J$2007,$B19,1)&"","") -> Write more tasks here | D19: =IFERROR(INDEX(Team_Data!K$8:K$2007,$B19,1)&"","") -> Charlize Theron | E19: =IFERROR(IF(LEN(INDEX(Team_Data!L$8:L$2007,$B19,1))>0,INDEX(Team_Data!L$8:L$2007,$B19,1),""),"") -> 44609 | F19: =IFERROR(IF(LEN(INDEX(Team_Data!M$8:M$2007,$B19,1))>0,INDEX(Team_Data!M$8:M$2007,$B19,1),""),"") -> 44712 | G19: =IFERROR(MONTH(F19),"") -> 5 | H19: =IFERROR(IF(ISNUMBER(G19),COUNTIF($G$4:G19,G19),""),"") -> 3 | I19: =G19&"-"&H19 -> 5-3 | J19: =IFERROR(INDEX($O$4:$O$15,G19,1),"") -> May | K19: =IFERROR(IF(LEN(F19)=0,"",F19-TODAY()),"") -> -1 | L19: =IFERROR(INDEX(INDIRECT(J19&"!$I$15:$I$1014"),H19),"") -> In Progress | O19: dd.mm.yyyy | Y19: {=IFERROR(INDEX(Team_Data!$D$8:$D$107,SMALL(Team_Data!$C$8:$C$107,B19),1)&"","")}
B20: 17 | C20: =IFERROR(INDEX(Team_Data!J$8:J$2007,$B20,1)&"","") -> Write different tasks for each team member | D20: =IFERROR(INDEX(Team_Data!K$8:K$2007,$B20,1)&"","") -> Marion Cotillard | E20: =IFERROR(IF(LEN(INDEX(Team_Data!L$8:L$2007,$B20,1))>0,INDEX(Team_Data!L$8:L$2007,$B20,1),""),"") -> 44686 | F20: =IFERROR(IF(LEN(INDEX(Team_Data!M$8:M$2007,$B20,1))>0,INDEX(Team_Data!M$8:M$2007,$B20,1),""),"") -> 44668 | G20: =IFERROR(MONTH(F20),"") -> 4 | H20: =IFERROR(IF(ISNUMBER(G20),COUNTIF($G$4:G20,G20),""),"") -> 2 | I20: =G20&"-"&H20 -> 4-2 | J20: =IFERROR(INDEX($O$4:$O$15,G20,1),"") -> April | K20: =IFERROR(IF(LEN(F20)=0,"",F20-TODAY()),"") -> -45 | L20: =IFERROR(INDEX(INDIRECT(J20&"!$I$15:$I$1014"),H20),"") -> In Progress | O20: m.d.yyyy | Y20: {=IFERROR(INDEX(Team_Data!$D$8:$D$107,SMALL(Team_Data!$C$8:$C$107,B20),1)&"","")}
B21: 18 | C21: =IFERROR(INDEX(Team_Data!J$8:J$2007,$B21,1)&"","") -> Write similar or the same tasks if it is a team effort | D21: =IFERROR(INDEX(Team_Data!K$8:K$2007,$B21,1)&"","") -> Marion Cotillard | E21: =IFERROR(IF(LEN(INDEX(Team_Data!L$8:L$2007,$B21,1))>0,INDEX(Team_Data!L$8:L$2007,$B21,1),""),"") -> 44649 | F21: =IFERROR(IF(LEN(INDEX(Team_Data!M$8:M$2007,$B21,1))>0,INDEX(Team_Data!M$8:M$2007,$B21,1),""),"") -> 44650 | G21: =IFERROR(MONTH(F21),"") -> 3 | H21: =IFERROR(IF(ISNUMBER(G21),COUNTIF($G$4:G21,G21),""),"") -> 2 | I21: =G21&"-"&H21 -> 3-2 | J21: =IFERROR(INDEX($O$4:$O$15,G21,1),"") -> March | K21: =IFERROR(IF(LEN(F21)=0,"",F21-TODAY()),"") -> -63 | L21: =IFERROR(INDEX(INDIRECT(J21&"!$I$15:$I$1014"),H21),"") -> In Progress | O21: d.m.yy | Y21: {=IFERROR(INDEX(Team_Data!$D$8:$D$107,SMALL(Team_Data!$C$8:$C$107,B21),1)&"","")}
B22: 19 | C22: =IFERROR(INDEX(Team_Data!J$8:J$2007,$B22,1)&"","") -> Add a row below this table for it to automatically expand | D22: =IFERROR(INDEX(Team_Data!K$8:K$2007,$B22,1)&"","") -> Omer Toprak | E22: =IFERROR(IF(LEN(INDEX(Team_Data!L$8:L$2007,$B22,1))>0,INDEX(Team_Data!L$8:L$2007,$B22,1),""),"") -> 44583 | F22: =IFERROR(IF(LEN(INDEX(Team_Data!M$8:M$2007,$B22,1))>0,INDEX(Team_Data!M$8:M$2007,$B22,1),""),"") -> 44598 | G22: =IFERROR(MONTH(F22),"") -> 2 | H22: =IFERROR(IF(ISNUMBER(G22),COUNTIF($G$4:G22,G22),""),"") -> 1 | I22: =G22&"-"&H22 -> 2-1 | J22: =IFERROR(INDEX($O$4:$O$15,G22,1),"") -> February | K22: =IFERROR(IF(LEN(F22)=0,"",F22-TODAY()),"") -> -115 | L22: =IFERROR(INDEX(INDIRECT(J22&"!$I$15:$I$1014"),H22),"") -> In Progress | O22: yyyy-mm-dd | Y22: {=IFERROR(INDEX(Team_Data!$D$8:$D$107,SMALL(Team_Data!$C$8:$C$107,B22),1)&"","")}
B23: 20 | C23: =IFERROR(INDEX(Team_Data!J$8:J$2007,$B23,1)&"","") -> Add more team members and check dynamic connection | D23: =IFERROR(INDEX(Team_Data!K$8:K$2007,$B23,1)&"","") -> Omer Toprak | E23: =IFERROR(IF(LEN(INDEX(Team_Data!L$8:L$2007,$B23,1))>0,INDEX(Team_Data!L$8:L$2007,$B23,1),""),"") -> 44849 | F23: =IFERROR(IF(LEN(INDEX(Team_Data!M$8:M$2007,$B23,1))>0,INDEX(Team_Data!M$8:M$2007,$B23,1),""),"") -> 44873 | G23: =IFERROR(MONTH(F23),"") -> 11 | H23: =IFERROR(IF(ISNUMBER(G23),COUNTIF($G$4:G23,G23),""),"") -> 1 | I23: =G23&"-"&H23 -> 11-1 | J23: =IFERROR(INDEX($O$4:$O$15,G23,1),"") -> November | K23: =IFERROR(IF(LEN(F23)=0,"",F23-TODAY()),"") -> 160 | L23: =IFERROR(INDEX(INDIRECT(J23&"!$I$15:$I$1014"),H23),"") -> Closed | O23: m.d.yy | Y23: {=IFERROR(INDEX(Team_Data!$D$8:$D$107,SMALL(Team_Data!$C$8:$C$107,B23),1)&"","")}
B24: 21 | C24: =IFERROR(INDEX(Team_Data!J$8:J$2007,$B24,1)&"","") -> Complete the personal to-do list | D24: =IFERROR(INDEX(Team_Data!K$8:K$2007,$B24,1)&"","") -> Donald Trump | E24: =IFERROR(IF(LEN(INDEX(Team_Data!L$8:L$2007,$B24,1))>0,INDEX(Team_Data!L$8:L$2007,$B24,1),""),"") -> 44593 | F24: =IFERROR(IF(LEN(INDEX(Team_Data!M$8:M$2007,$B24,1))>0,INDEX(Team_Data!M$8:M$2007,$B24,1),""),"") -> 44597 | G24: =IFERROR(MONTH(F24),"") -> 2 | H24: =IFERROR(IF(ISNUMBER(G24),COUNTIF($G$4:G24,G24),""),"") -> 2 | I24: =G24&"-"&H24 -> 2-2 | J24: =IFERROR(INDEX($O$4:$O$15,G24,1),"") -> February | K24: =IFERROR(IF(LEN(F24)=0,"",F24-TODAY()),"") -> -116 | L24: =IFERROR(INDEX(INDIRECT(J24&"!$I$15:$I$1014"),H24),"") -> Closed | O24: d-mmm-yy | Y24: {=IFERROR(INDEX(Team_Data!$D$8:$D$107,SMALL(Team_Data!$C$8:$C$107,B24),1)&"","")}
B25: 22 | C25: =IFERROR(INDEX(Team_Data!J$8:J$2007,$B25,1)&"","") -> Build a resume template | D25: =IFERROR(INDEX(Team_Data!K$8:K$2007,$B25,1)&"","") -> Donald Trump | E25: =IFERROR(IF(LEN(INDEX(Team_Data!L$8:L$2007,$B25,1))>0,INDEX(Team_Data!L$8:L$2007,$B25,1),""),"") -> 44896 | F25: =IFERROR(IF(LEN(INDEX(Team_Data!M$8:M$2007,$B25,1))>0,INDEX(Team_Data!M$8:M$2007,$B25,1),""),"") -> 44908 | G25: =IFERROR(MONTH(F25),"") -> 12 | H25: =IFERROR(IF(ISNUMBER(G25),COUNTIF($G$4:G25,G25),""),"") -> 2 | I25: =G25&"-"&H25 -> 12-2 | J25: =IFERROR(INDEX($O$4:$O$15,G25,1),"") -> December | K25: =IFERROR(IF(LEN(F25)=0,"",F25-TODAY()),"") -> 195 | L25: =IFERROR(INDEX(INDIRECT(J25&"!$I$15:$I$1014"),H25),"") -> In Progress | Y25: {=IFERROR(INDEX(Team_Data!$D$8:$D$107,SMALL(Team_Data!$C$8:$C$107,B25),1)&"","")}
B26: 23 | C26: =IFERROR(INDEX(Team_Data!J$8:J$2007,$B26,1)&"","") -> Finish writing the employee handbook | D26: =IFERROR(INDEX(Team_Data!K$8:K$2007,$B26,1)&"","") -> Viggo Mortensen | E26: =IFERROR(IF(LEN(INDEX(Team_Data!L$8:L$2007,$B26,1))>0,INDEX(Team_Data!L$8:L$2007,$B26,1),""),"") -> 44622 | F26: =IFERROR(IF(LEN(INDEX(Team_Data!M$8:M$2007,$B26,1))>0,INDEX(Team_Data!M$8:M$2007,$B26,1),""),"") -> 44647 | G26: =IFERROR(MONTH(F26),"") -> 3 | H26: =IFERROR(IF(ISNUMBER(G26),COUNTIF($G$4:G26,G26),""),"") -> 3 | I26: =G26&"-"&H26 -> 3-3 | J26: =IFERROR(INDEX($O$4:$O$15,G26,1),"") -> March | K26: =IFERROR(IF(LEN(F26)=0,"",F26-TODAY()),"") -> -66 | L26: =IFERROR(INDEX(INDIRECT(J26&"!$I$15:$I$1014"),H26),"") -> Closed | Y26: {=IFERROR(INDEX(Team_Data!$D$8:$D$107,SMALL(Team_Data!$C$8:$C$107,B26),1)&"","")}
B27: 24 | C27: =IFERROR(INDEX(Team_Data!J$8:J$2007,$B27,1)&"","") -> Create a financial monthly reporting template | D27: =IFERROR(INDEX(Team_Data!K$8:K$2007,$B27,1)&"","") -> Scarlett Johansson | E27: =IFERROR(IF(LEN(INDEX(Team_Data!L$8:L$2007,$B27,1))>0,INDEX(Team_Data!L$8:L$2007,$B27,1),""),"") -> 44567 | F27: =IFERROR(IF(LEN(INDEX(Team_Data!M$8:M$2007,$B27,1))>0,INDEX(Team_Data!M$8:M$2007,$B27,1),""),"") -> 44586 | G27: =IFERROR(MONTH(F27),"") -> 1 | H27: =IFERROR(IF(ISNUMBER(G27),COUNTIF($G$4:G27,G27),""),"") -> 2 | I27: =G27&"-"&H27 -> 1-2 | J27: =IFERROR(INDEX($O$4:$O$15,G27,1),"") -> January | K27: =IFERROR(IF(LEN(F27)=0,"",F27-TODAY()),"") -> -127 | L27: =IFERROR(INDEX(INDIRECT(J27&"!$I$15:$I$1014"),H27),"") -> Closed | Y27: {=IFERROR(INDEX(Team_Data!$D$8:$D$107,SMALL(Team_Data!$C$8:$C$107,B27),1)&"","")}
B28: 25 | C28: =IFERROR(INDEX(Team_Data!J$8:J$2007,$B28,1)&"","") -> Develop an inventory management tool in excel | D28: =IFERROR(INDEX(Team_Data!K$8:K$2007,$B28,1)&"","") -> John Stones | E28: =IFERROR(IF(LEN(INDEX(Team_Data!L$8:L$2007,$B28,1))>0,INDEX(Team_Data!L$8:L$2007,$B28,1),""),"") -> 44690 | F28: =IFERROR(IF(LEN(INDEX(Team_Data!M$8:M$2007,$B28,1))>0,INDEX(Team_Data!M$8:M$2007,$B28,1),""),"") -> 44773 | G28: =IFERROR(MONTH(F28),"") -> 7 | H28: =IFERROR(IF(ISNUMBER(G28),COUNTIF($G$4:G28,G28),""),"") -> 4 | I28: =G28&"-"&H28 -> 7-4 | J28: =IFERROR(INDEX($O$4:$O$15,G28,1),"") -> July | K28: =IFERROR(IF(LEN(F28)=0,"",F28-TODAY()),"") -> 60 | L28: =IFERROR(INDEX(INDIRECT(J28&"!$I$15:$I$1014"),H28),"") -> Not Started | Y28: {=IFERROR(INDEX(Team_Data!$D$8:$D$107,SMALL(Team_Data!$C$8:$C$107,B28),1)&"","")}
B29: 26 | C29: =IFERROR(INDEX(Team_Data!J$8:J$2007,$B29,1)&"","") -> Finish developing the printable invoice template | D29: =IFERROR(INDEX(Team_Data!K$8:K$2007,$B29,1)&"","") -> John Stones | E29: =IFERROR(IF(LEN(INDEX(Team_Data!L$8:L$2007,$B29,1))>0,INDEX(Team_Data!L$8:L$2007,$B29,1),""),"") -> 44812 | F29: =IFERROR(IF(LEN(INDEX(Team_Data!M$8:M$2007,$B29,1))>0,INDEX(Team_Data!M$8:M$2007,$B29,1),""),"") -> 44830 | G29: =IFERROR(MONTH(F29),"") -> 9 | H29: =IFERROR(IF(ISNUMBER(G29),COUNTIF($G$4:G29,G29),""),"") -> 2 | I29: =G29&"-"&H29 -> 9-2 | J29: =IFERROR(INDEX($O$4:$O$15,G29,1),"") -> September | K29: =IFERROR(IF(LEN(F29)=0,"",F29-TODAY()),"") -> 117 | L29: =IFERROR(INDEX(INDIRECT(J29&"!$I$15:$I$1014"),H29),"") -> In Progress | Y29: {=IFERROR(INDEX(Team_Data!$D$8:$D$107,SMALL(Team_Data!$C$8:$C$107,B29),1)&"","")}
B30: 27 | C30: =IFERROR(INDEX(Team_Data!J$8:J$2007,$B30,1)&"","") -> Create an employee attendance management tool | D30: =IFERROR(INDEX(Team_Data!K$8:K$2007,$B30,1)&"","") -> Jessica Alba | E30: =IFERROR(IF(LEN(INDEX(Team_Data!L$8:L$2007,$B30,1))>0,INDEX(Team_Data!L$8:L$2007,$B30,1),""),"") -> 44906 | F30: =IFERROR(IF(LEN(INDEX(Team_Data!M$8:M$2007,$B30,1))>0,INDEX(Team_Data!M$8:M$2007,$B30,1),""),"") -> 44914 | G30: =IFERROR(MONTH(F30),"") -> 12 | H30: =IFERROR(IF(ISNUMBER(G30),COUNTIF($G$4:G30,G30),""),"") -> 3 | I30: =G30&"-"&H30 -> 12-3 | J30: =IFERROR(INDEX($O$4:$O$15,G30,1),"") -> December | K30: =IFERROR(IF(LEN(F30)=0,"",F30-TODAY()),"") -> 201 | L30: =IFERROR(INDEX(INDIRECT(J30&"!$I$15:$I$1014"),H30),"") -> Not Started | Y30: {=IFERROR(INDEX(Team_Data!$D$8:$D$107,SMALL(Team_Data!$C$8:$C$107,B30),1)&"","")}
B31: 28 | C31: =IFERROR(INDEX(Team_Data!J$8:J$2007,$B31,1)&"","") -> Finish the student lesson plan | D31: =IFERROR(INDEX(Team_Data!K$8:K$2007,$B31,1)&"","") -> Emma Stone | E31: =IFERROR(IF(LEN(INDEX(Team_Data!L$8:L$2007,$B31,1))>0,INDEX(Team_Data!L$8:L$2007,$B31,1),""),"") -> 44814 | F31: =IFERROR(IF(LEN(INDEX(Team_Data!M$8:M$2007,$B31,1))>0,INDEX(Team_Data!M$8:M$2007,$B31,1),""),"") -> 44835 | G31: =IFERROR(MONTH(F31),"") -> 10 | H31: =IFERROR(IF(ISNUMBER(G31),COUNTIF($G$4:G31,G31),""),"") -> 5 | I31: =G31&"-"&H31 -> 10-5 | J31: =IFERROR(INDEX($O$4:$O$15,G31,1),"") -> October | K31: =IFERROR(IF(LEN(F31)=0,"",F31-TODAY()),"") -> 122 | L31: =IFERROR(INDEX(INDIRECT(J31&"!$I$15:$I$1014"),H31),"") -> Closed | Y31: {=IFERROR(INDEX(Team_Data!$D$8:$D$107,SMALL(Team_Data!$C$8:$C$107,B31),1)&"","")}
B32: 29 | C32: =IFERROR(INDEX(Team_Data!J$8:J$2007,$B32,1)&"","") -> Visit the website of | D32: =IFERROR(INDEX(Team_Data!K$8:K$2007,$B32,1)&"","") -> Emma Stone | E32: =IFERROR(IF(LEN(INDEX(Team_Data!L$8:L$2007,$B32,1))>0,INDEX(Team_Data!L$8:L$2007,$B32,1),""),"") -> 44836 | F32: =IFERROR(IF(LEN(INDEX(Team_Data!M$8:M$2007,$B32,1))>0,INDEX(Team_Data!M$8:M$2007,$B32,1),""),"") -> 44866 | G32: =IFERROR(MONTH(F32),"") -> 11 | H32: =IFERROR(IF(ISNUMBER(G32),COUNTIF($G$4:G32,G32),""),"") -> 2 | I32: =G32&"-"&H32 -> 11-2 | J32: =IFERROR(INDEX($O$4:$O$15,G32,1),"") -> November | K32: =IFERROR(IF(LEN(F32)=0,"",F32-TODAY()),"") -> 153 | L32: =IFERROR(INDEX(INDIRECT(J32&"!$I$15:$I$1014"),H32),"") -> In Progress | Y32: {=IFERROR(INDEX(Team_Data!$D$8:$D$107,SMALL(Team_Data!$C$8:$C$107,B32),1)&"","")}
B33: 30 | C33: =IFERROR(INDEX(Team_Data!J$8:J$2007,$B33,1)&"","") -> Check our free and paid products | D33: =IFERROR(INDEX(Team_Data!K$8:K$2007,$B33,1)&"","") -> Emma Stone | E33: =IFERROR(IF(LEN(INDEX(Team_Data!L$8:L$2007,$B33,1))>0,INDEX(Team_Data!L$8:L$2007,$B33,1),""),"") -> 44568 | F33: =IFERROR(IF(LEN(INDEX(Team_Data!M$8:M$2007,$B33,1))>0,INDEX(Team_Data!M$8:M$2007,$B33,1),""),"") -> 44591 | G33: =IFERROR(MONTH(F33),"") -> 1 | H33: =IFERROR(IF(ISNUMBER(G33),COUNTIF($G$4:G33,G33),""),"") -> 3 | I33: =G33&"-"&H33 -> 1-3 | J33: =IFERROR(INDEX($O$4:$O$15,G33,1),"") -> January | K33: =IFERROR(IF(LEN(F33)=0,"",F33-TODAY()),"") -> -122 | L33: =IFERROR(INDEX(INDIRECT(J33&"!$I$15:$I$1014"),H33),"") -> Not Started | Y33: {=IFERROR(INDEX(Team_Data!$D$8:$D$107,SMALL(Team_Data!$C$8:$C$107,B33),1)&"","")}
B34: 31 | C34: =IFERROR(INDEX(Team_Data!J$8:J$2007,$B34,1)&"","") -> Share our products on social media | D34: =IFERROR(INDEX(Team_Data!K$8:K$2007,$B34,1)&"","") -> Scarlett Johansson | E34: =IFERROR(IF(LEN(INDEX(Team_Data!L$8:L$2007,$B34,1))>0,INDEX(Team_Data!L$8:L$2007,$B34,1),""),"") -> 44665 | F34: =IFERROR(IF(LEN(INDEX(Team_Data!M$8:M$2007,$B34,1))>0,INDEX(Team_Data!M$8:M$2007,$B34,1),""),"") -> 44641 | G34: =IFERROR(MONTH(F34),"") -> 3 | H34: =IFERROR(IF(ISNUMBER(G34),COUNTIF($G$4:G34,G34),""),"") -> 4 | I34: =G34&"-"&H34 -> 3-4 | J34: =IFERROR(INDEX($O$4:$O$15,G34,1),"") -> March | K34: =IFERROR(IF(LEN(F34)=0,"",F34-TODAY()),"") -> -72 | L34: =IFERROR(INDEX(INDIRECT(J34&"!$I$15:$I$1014"),H34),"") -> Not Started | Y34: {=IFERROR(INDEX(Team_Data!$D$8:$D$107,SMALL(Team_Data!$C$8:$C$107,B34),1)&"","")}
B35: 32 | C35: =IFERROR(INDEX(Team_Data!J$8:J$2007,$B35,1)&"","") -> Increase clickthrough rate by 0.1% | D35: =IFERROR(INDEX(Team_Data!K$8:K$2007,$B35,1)&"","") -> Scarlett Johansson | E35: =IFERROR(IF(LEN(INDEX(Team_Data!L$8:L$2007,$B35,1))>0,INDEX(Team_Data!L$8:L$2007,$B35,1),""),"") -> 44618 | F35: =IFERROR(IF(LEN(INDEX(Team_Data!M$8:M$2007,$B35,1))>0,INDEX(Team_Data!M$8:M$2007,$B35,1),""),"") -> 44712 | G35: =IFERROR(MONTH(F35),"") -> 5 | H35: =IFERROR(IF(ISNUMBER(G35),COUNTIF($G$4:G35,G35),""),"") -> 4 | I35: =G35&"-"&H35 -> 5-4 | J35: =IFERROR(INDEX($O$4:$O$15,G35,1),"") -> May | K35: =IFERROR(IF(LEN(F35)=0,"",F35-TODAY()),"") -> -1 | L35: =IFERROR(INDEX(INDIRECT(J35&"!$I$15:$I$1014"),H35),"") -> Closed | Y35: {=IFERROR(INDEX(Team_Data!$D$8:$D$107,SMALL(Team_Data!$C$8:$C$107,B35),1)&"","")}
B36: 33 | C36: =IFERROR(INDEX(Team_Data!J$8:J$2007,$B36,1)&"","") -> Clean the desks | D36: =IFERROR(INDEX(Team_Data!K$8:K$2007,$B36,1)&"","") -> Mila Kunis | E36: =IFERROR(IF(LEN(INDEX(Team_Data!L$8:L$2007,$B36,1))>0,INDEX(Team_Data!L$8:L$2007,$B36,1),""),"") -> 44640 | F36: =IFERROR(IF(LEN(INDEX(Team_Data!M$8:M$2007,$B36,1))>0,INDEX(Team_Data!M$8:M$2007,$B36,1),""),"") -> 44670 | G36: =IFERROR(MONTH(F36),"") -> 4 | H36: =IFERROR(IF(ISNUMBER(G36),COUNTIF($G$4:G36,G36),""),"") -> 3 | I36: =G36&"-"&H36 -> 4-3 | J36: =IFERROR(INDEX($O$4:$O$15,G36,1),"") -> April | K36: =IFERROR(IF(LEN(F36)=0,"",F36-TODAY()),"") -> -43 | L36: =IFERROR(INDEX(INDIRECT(J36&"!$I$15:$I$1014"),H36),"") -> Closed | Y36: {=IFERROR(INDEX(Team_Data!$D$8:$D$107,SMALL(Team_Data!$C$8:$C$107,B36),1)&"","")}
... B103: 100 | C103: =IFERROR(INDEX(Team_Data!J$8:J$2007,$B103,1)&"","") | D103: =IFERROR(INDEX(Team_Data!K$8:K$2007,$B103,1)&"","") | E103: =IFERROR(IF(LEN(INDEX(Team_Data!L$8:L$2007,$B103,1))>0,INDEX(Team_Data!L$8:L$2007,$B103,1),""),"") | F103: =IFERROR(IF(LEN(INDEX(Team_Data!M$8:M$2007,$B103,1))>0,INDEX(Team_Data!M$8:M$2007,$B103,1),""),"") | G103: =IFERROR(MONTH(F103),"") | H103: =IFERROR(IF(ISNUMBER(G103),COUNTIF($G$4:G103,G103),""),"") | I103: =G103&"-"&H103 -> - | J103: =IFERROR(INDEX($O$4:$O$15,G103,1),"") | K103: =IFERROR(IF(LEN(F103)=0,"",F103-TODAY()),"") | L103: =IFERROR(INDEX(INDIRECT(J103&"!$I$15:$I$1014"),H103),"") | Y103: {=IFERROR(INDEX(Team_Data!$D$8:$D$107,SMALL(Team_Data!$C$8:$C$107,B103),1)&"","")}
B104: 101 | C104: =IFERROR(INDEX(Team_Data!J$8:J$2007,$B104,1)&"","") | D104: =IFERROR(INDEX(Team_Data!K$8:K$2007,$B104,1)&"","") | E104: =IFERROR(IF(LEN(INDEX(Team_Data!L$8:L$2007,$B104,1))>0,INDEX(Team_Data!L$8:L$2007,$B104,1),""),"") | F104: =IFERROR(IF(LEN(INDEX(Team_Data!M$8:M$2007,$B104,1))>0,INDEX(Team_Data!M$8:M$2007,$B104,1),""),"") | G104: =IFERROR(MONTH(F104),"") | H104: =IFERROR(IF(ISNUMBER(G104),COUNTIF($G$4:G104,G104),""),"") | I104: =G104&"-"&H104 -> - | J104: =IFERROR(INDEX($O$4:$O$15,G104,1),"") | K104: =IFERROR(IF(LEN(F104)=0,"",F104-TODAY()),"") | L104: =IFERROR(INDEX(INDIRECT(J104&"!$I$15:$I$1014"),H104),"")
B105: 102 | C105: =IFERROR(INDEX(Team_Data!J$8:J$2007,$B105,1)&"","") | D105: =IFERROR(INDEX(Team_Data!K$8:K$2007,$B105,1)&"","") | E105: =IFERROR(IF(LEN(INDEX(Team_Data!L$8:L$2007,$B105,1))>0,INDEX(Team_Data!L$8:L$2007,$B105,1),""),"") | F105: =IFERROR(IF(LEN(INDEX(Team_Data!M$8:M$2007,$B105,1))>0,INDEX(Team_Data!M$8:M$2007,$B105,1),""),"") | G105: =IFERROR(MONTH(F105),"") | H105: =IFERROR(IF(ISNUMBER(G105),COUNTIF($G$4:G105,G105),""),"") | I105: =G105&"-"&H105 -> - | J105: =IFERROR(INDEX($O$4:$O$15,G105,1),"") | K105: =IFERROR(IF(LEN(F105)=0,"",F105-TODAY()),"") | L105: =IFERROR(INDEX(INDIRECT(J105&"!$I$15:$I$1014"),H105),"")
B106: 103 | C106: =IFERROR(INDEX(Team_Data!J$8:J$2007,$B106,1)&"","") | D106: =IFERROR(INDEX(Team_Data!K$8:K$2007,$B106,1)&"","") | E106: =IFERROR(IF(LEN(INDEX(Team_Data!L$8:L$2007,$B106,1))>0,INDEX(Team_Data!L$8:L$2007,$B106,1),""),"") | F106: =IFERROR(IF(LEN(INDEX(Team_Data!M$8:M$2007,$B106,1))>0,INDEX(Team_Data!M$8:M$2007,$B106,1),""),"") | G106: =IFERROR(MONTH(F106),"") | H106: =IFERROR(IF(ISNUMBER(G106),COUNTIF($G$4:G106,G106),""),"") | I106: =G106&"-"&H106 -> - | J106: =IFERROR(INDEX($O$4:$O$15,G106,1),"") | K106: =IFERROR(IF(LEN(F106)=0,"",F106-TODAY()),"") | L106: =IFERROR(INDEX(INDIRECT(J106&"!$I$15:$I$1014"),H106),"")
B107: 104 | C107: =IFERROR(INDEX(Team_Data!J$8:J$2007,$B107,1)&"","") | D107: =IFERROR(INDEX(Team_Data!K$8:K$2007,$B107,1)&"","") | E107: =IFERROR(IF(LEN(INDEX(Team_Data!L$8:L$2007,$B107,1))>0,INDEX(Team_Data!L$8:L$2007,$B107,1),""),"") | F107: =IFERROR(IF(LEN(INDEX(Team_Data!M$8:M$2007,$B107,1))>0,INDEX(Team_Data!M$8:M$2007,$B107,1),""),"") | G107: =IFERROR(MONTH(F107),"") | H107: =IFERROR(IF(ISNUMBER(G107),COUNTIF($G$4:G107,G107),""),"") | I107: =G107&"-"&H107 -> - | J107: =IFERROR(INDEX($O$4:$O$15,G107,1),"") | K107: =IFERROR(IF(LEN(F107)=0,"",F107-TODAY()),"") | L107: =IFERROR(INDEX(INDIRECT(J107&"!$I$15:$I$1014"),H107),"")
B108: 105 | C108: =IFERROR(INDEX(Team_Data!J$8:J$2007,$B108,1)&"","") | D108: =IFERROR(INDEX(Team_Data!K$8:K$2007,$B108,1)&"","") | E108: =IFERROR(IF(LEN(INDEX(Team_Data!L$8:L$2007,$B108,1))>0,INDEX(Team_Data!L$8:L$2007,$B108,1),""),"") | F108: =IFERROR(IF(LEN(INDEX(Team_Data!M$8:M$2007,$B108,1))>0,INDEX(Team_Data!M$8:M$2007,$B108,1),""),"") | G108: =IFERROR(MONTH(F108),"") | H108: =IFERROR(IF(ISNUMBER(G108),COUNTIF($G$4:G108,G108),""),"") | I108: =G108&"-"&H108 -> - | J108: =IFERROR(INDEX($O$4:$O$15,G108,1),"") | K108: =IFERROR(IF(LEN(F108)=0,"",F108-TODAY()),"") | L108: =IFERROR(INDEX(INDIRECT(J108&"!$I$15:$I$1014"),H108),"")
B109: 106 | C109: =IFERROR(INDEX(Team_Data!J$8:J$2007,$B109,1)&"","") | D109: =IFERROR(INDEX(Team_Data!K$8:K$2007,$B109,1)&"","") | E109: =IFERROR(IF(LEN(INDEX(Team_Data!L$8:L$2007,$B109,1))>0,INDEX(Team_Data!L$8:L$2007,$B109,1),""),"") | F109: =IFERROR(IF(LEN(INDEX(Team_Data!M$8:M$2007,$B109,1))>0,INDEX(Team_Data!M$8:M$2007,$B109,1),""),"") | G109: =IFERROR(MONTH(F109),"") | H109: =IFERROR(IF(ISNUMBER(G109),COUNTIF($G$4:G109,G109),""),"") | I109: =G109&"-"&H109 -> - | J109: =IFERROR(INDEX($O$4:$O$15,G109,1),"") | K109: =IFERROR(IF(LEN(F109)=0,"",F109-TODAY()),"") | L109: =IFERROR(INDEX(INDIRECT(J109&"!$I$15:$I$1014"),H109),"")
B110: 107 | C110: =IFERROR(INDEX(Team_Data!J$8:J$2007,$B110,1)&"","") | D110: =IFERROR(INDEX(Team_Data!K$8:K$2007,$B110,1)&"","") | E110: =IFERROR(IF(LEN(INDEX(Team_Data!L$8:L$2007,$B110,1))>0,INDEX(Team_Data!L$8:L$2007,$B110,1),""),"") | F110: =IFERROR(IF(LEN(INDEX(Team_Data!M$8:M$2007,$B110,1))>0,INDEX(Team_Data!M$8:M$2007,$B110,1),""),"") | G110: =IFERROR(MONTH(F110),"") | H110: =IFERROR(IF(ISNUMBER(G110),COUNTIF($G$4:G110,G110),""),"") | I110: =G110&"-"&H110 -> - | J110: =IFERROR(INDEX($O$4:$O$15,G110,1),"") | K110: =IFERROR(IF(LEN(F110)=0,"",F110-TODAY()),"") | L110: =IFERROR(INDEX(INDIRECT(J110&"!$I$15:$I$1014"),H110),"")
B111: 108 | C111: =IFERROR(INDEX(Team_Data!J$8:J$2007,$B111,1)&"","") | D111: =IFERROR(INDEX(Team_Data!K$8:K$2007,$B111,1)&"","") | E111: =IFERROR(IF(LEN(INDEX(Team_Data!L$8:L$2007,$B111,1))>0,INDEX(Team_Data!L$8:L$2007,$B111,1),""),"") | F111: =IFERROR(IF(LEN(INDEX(Team_Data!M$8:M$2007,$B111,1))>0,INDEX(Team_Data!M$8:M$2007,$B111,1),""),"") | G111: =IFERROR(MONTH(F111),"") | H111: =IFERROR(IF(ISNUMBER(G111),COUNTIF($G$4:G111,G111),""),"") | I111: =G111&"-"&H111 -> - | J111: =IFERROR(INDEX($O$4:$O$15,G111,1),"") | K111: =IFERROR(IF(LEN(F111)=0,"",F111-TODAY()),"") | L111: =IFERROR(INDEX(INDIRECT(J111&"!$I$15:$I$1014"),H111),"")
B112: 109 | C112: =IFERROR(INDEX(Team_Data!J$8:J$2007,$B112,1)&"","") | D112: =IFERROR(INDEX(Team_Data!K$8:K$2007,$B112,1)&"","") | E112: =IFERROR(IF(LEN(INDEX(Team_Data!L$8:L$2007,$B112,1))>0,INDEX(Team_Data!L$8:L$2007,$B112,1),""),"") | F112: =IFERROR(IF(LEN(INDEX(Team_Data!M$8:M$2007,$B112,1))>0,INDEX(Team_Data!M$8:M$2007,$B112,1),""),"") | G112: =IFERROR(MONTH(F112),"") | H112: =IFERROR(IF(ISNUMBER(G112),COUNTIF($G$4:G112,G112),""),"") | I112: =G112&"-"&H112 -> - | J112: =IFERROR(INDEX($O$4:$O$15,G112,1),"") | K112: =IFERROR(IF(LEN(F112)=0,"",F112-TODAY()),"") | L112: =IFERROR(INDEX(INDIRECT(J112&"!$I$15:$I$1014"),H112),"")
B113: 110 | C113: =IFERROR(INDEX(Team_Data!J$8:J$2007,$B113,1)&"","") | D113: =IFERROR(INDEX(Team_Data!K$8:K$2007,$B113,1)&"","") | E113: =IFERROR(IF(LEN(INDEX(Team_Data!L$8:L$2007,$B113,1))>0,INDEX(Team_Data!L$8:L$2007,$B113,1),""),"") | F113: =IFERROR(IF(LEN(INDEX(Team_Data!M$8:M$2007,$B113,1))>0,INDEX(Team_Data!M$8:M$2007,$B113,1),""),"") | G113: =IFERROR(MONTH(F113),"") | H113: =IFERROR(IF(ISNUMBER(G113),COUNTIF($G$4:G113,G113),""),"") | I113: =G113&"-"&H113 -> - | J113: =IFERROR(INDEX($O$4:$O$15,G113,1),"") | K113: =IFERROR(IF(LEN(F113)=0,"",F113-TODAY()),"") | L113: =IFERROR(INDEX(INDIRECT(J113&"!$I$15:$I$1014"),H113),"")
B114: 111 | C114: =IFERROR(INDEX(Team_Data!J$8:J$2007,$B114,1)&"","") | D114: =IFERROR(INDEX(Team_Data!K$8:K$2007,$B114,1)&"","") | E114: =IFERROR(IF(LEN(INDEX(Team_Data!L$8:L$2007,$B114,1))>0,INDEX(Team_Data!L$8:L$2007,$B114,1),""),"") | F114: =IFERROR(IF(LEN(INDEX(Team_Data!M$8:M$2007,$B114,1))>0,INDEX(Team_Data!M$8:M$2007,$B114,1),""),"") | G114: =IFERROR(MONTH(F114),"") | H114: =IFERROR(IF(ISNUMBER(G114),COUNTIF($G$4:G114,G114),""),"") | I114: =G114&"-"&H114 -> - | J114: =IFERROR(INDEX($O$4:$O$15,G114,1),"") | K114: =IFERROR(IF(LEN(F114)=0,"",F114-TODAY()),"") | L114: =IFERROR(INDEX(INDIRECT(J114&"!$I$15:$I$1014"),H114),"")
B115: 112 | C115: =IFERROR(INDEX(Team_Data!J$8:J$2007,$B115,1)&"","") | D115: =IFERROR(INDEX(Team_Data!K$8:K$2007,$B115,1)&"","") | E115: =IFERROR(IF(LEN(INDEX(Team_Data!L$8:L$2007,$B115,1))>0,INDEX(Team_Data!L$8:L$2007,$B115,1),""),"") | F115: =IFERROR(IF(LEN(INDEX(Team_Data!M$8:M$2007,$B115,1))>0,INDEX(Team_Data!M$8:M$2007,$B115,1),""),"") | G115: =IFERROR(MONTH(F115),"") | H115: =IFERROR(IF(ISNUMBER(G115),COUNTIF($G$4:G115,G115),""),"") | I115: =G115&"-"&H115 -> - | J115: =IFERROR(INDEX($O$4:$O$15,G115,1),"") | K115: =IFERROR(IF(LEN(F115)=0,"",F115-TODAY()),"") | L115: =IFERROR(INDEX(INDIRECT(J115&"!$I$15:$I$1014"),H115),"")
... B2003: 2000 | C2003: =IFERROR(INDEX(Team_Data!J$8:J$2007,$B2003,1)&"","") | D2003: =IFERROR(INDEX(Team_Data!K$8:K$2007,$B2003,1)&"","") | E2003: =IFERROR(IF(LEN(INDEX(Team_Data!L$8:L$2007,$B2003,1))>0,INDEX(Team_Data!L$8:L$2007,$B2003,1),""),"") | F2003: =IFERROR(IF(LEN(INDEX(Team_Data!M$8:M$2007,$B2003,1))>0,INDEX(Team_Data!M$8:M$2007,$B2003,1),""),"") | G2003: =IFERROR(MONTH(F2003),"") | H2003: =IFERROR(IF(ISNUMBER(G2003),COUNTIF($G$4:G2003,G2003),""),"") | I2003: =G2003&"-"&H2003 -> - | J2003: =IFERROR(INDEX($O$4:$O$15,G2003,1),"") | K2003: =IFERROR(IF(LEN(F2003)=0,"",F2003-TODAY()),"") | L2003: =IFERROR(INDEX(INDIRECT(J2003&"!$I$15:$I$1014"),H2003),"")
