Workbook
Name BacklogStart: Backlog!$B$5
Name completed: Calculation!$DI$42
Name D1AverageDuration: OFFSET(Calculation!$AX$5,0,0,COUNT(Calculation!$AY$5:$AY$10),1)
Name D1AverageDurationOther: OFFSET(Calculation!$AY$5,0,0,COUNT(Calculation!$AY$5:$AY$10),1)
Name D1CompletedByDay: OFFSET(Calculation!$BJ$4,0,0,Calculation!$BN$5+1,1)
Name D1CompletedByDayCumulative: OFFSET(Calculation!$BK$4,0,0,Calculation!$BN$5+1,1)
Name D1CountByStatus: OFFSET(Calculation!$BD$16,0,0,Calculation!$AW$14+1,1)
Name D1NotCompletedByDay: OFFSET(Calculation!$BM$4,0,0,Calculation!$BN$5+1,1)
Name D1PriorityLabels: OFFSET(Calculation!$AX$15,0,0,1,Calculation!$BD$15)
Name D1PriorityTotals: OFFSET(Calculation!$AX$27,0,0,1,Calculation!$BD$15)
Name D1StatusLabel: OFFSET(Calculation!$AW$16,0,0,Calculation!$AW$14+1,1)
Name D2AverageDuration: OFFSET(Calculation!$CD$6,0,0,Calculation!$BQ$11,1)
Name D2AverageDurationOther: OFFSET(Calculation!$CE$6,0,0,Calculation!$BQ$11,1)
Name D2Categories: Calculation!$DB$6:$DC$185
Name D2CompletedBySprint: OFFSET(Calculation!$BW$6,0,0,D2CountSprints,1)
Name D2CountSprints: Calculation!$BQ$11
Name D2SPCompletedBySprint: OFFSET(Calculation!$CC$6,0,0,D2CountSprints,1)
Name D2SPPlannedBySprint: OFFSET(Calculation!$CB$6,0,0,Calculation!$BQ$11,1)
Name D2SprintLabels: OFFSET(Calculation!$BZ$6,0,0,D2CountSprints,1)
Name D2SPTotalBySprint: OFFSET(Calculation!$CA$6,0,0,D2CountSprints,1)
Name D2TotalBySprint: OFFSET(Calculation!$BV$6,0,0,D2CountSprints,1)
Name D2TotalPct: OFFSET(Calculation!$BT$6,0,0,Calculation!$BQ$11,1)
Name D2TypeBySprint: OFFSET(Calculation!$BU$6,0,0,D2CountSprints,1)
Name D2TypePctBySprint: OFFSET(Calculation!$BX$6,0,0,Calculation!$BQ$11,1)
Name KanbanContentAll: OFFSET(Calculation!$Y$5,0,0,Calculation!$AF$4,2)
Name KanbanContentR1: OFFSET(Calculation!$Y$5,0,0,Calculation!$AF$4,1)
Name KanbanIndexList: OFFSET(Calculation!$AC$5,0,0,Calculation!$AF$4,1)
Name KanbanPriorityColor: OFFSET(Calculation!$I$5,0,0,Calculation!$AF$4,1)
Name KanbanPriorityFilter: Kanban!$M$6
Name KanbanResponsibleFilter: Kanban!$G$6
Name KanbanRow1: Settings!$I$18
Name KanbanRow2: Settings!$I$19
Name KanbanSprintFilter: Kanban!$D$6
Name SPcompletedByDay: OFFSET(Calculation!$BL$4,0,0,Calculation!$BN$5+1,1)
Name sprintDay: OFFSET(Calculation!$BH$5,0,Calculation!$AP$11,Calculation!$BN$5,1)
Name SprintDay1: OFFSET(Calculation!$BH$4,0,Calculation!$AP$11,Calculation!$BN$5+1,1)
Name sprintStartDate: Calculation!$BH$4
Name startrow: Kanban!$D$8
Name status00: IF(Calculation!$BQ$11=0,"",OFFSET(Calculation!$CH$6,0,0,Calculation!$BQ$11,1))
Name status01: IF(Calculation!$BQ$11=0,"",OFFSET(Calculation!$CI$6,0,0,Calculation!$BQ$11,1))
Name status02: IF(Calculation!$BQ$11=0,"",OFFSET(Calculation!$CJ$6,0,0,Calculation!$BQ$11,1))
Name status03: IF(Calculation!$BQ$11=0,"",OFFSET(Calculation!$CK$6,0,0,Calculation!$BQ$11,1))
Name status04: IF(Calculation!$BQ$11=0,"",OFFSET(Calculation!$CL$6,0,0,Calculation!$BQ$11,1))
Name status05: IF(Calculation!$BQ$11=0,"",OFFSET(Calculation!$CM$6,0,0,Calculation!$BQ$11,1))
Name status06: IF(Calculation!$BQ$11=0,"",OFFSET(Calculation!$CN$6,0,0,Calculation!$BQ$11,1))
Name status07: IF(Calculation!$BQ$11=0,"",OFFSET(Calculation!$CO$6,0,0,Calculation!$BQ$11,1))
Name status08: IF(Calculation!$BQ$11=0,"",OFFSET(Calculation!$CP$6,0,0,Calculation!$BQ$11,1))
Name status09: IF(Calculation!$BQ$11=0,"",OFFSET(Calculation!$CQ$6,0,0,Calculation!$BQ$11,1))
Name status10: IF(Calculation!$BQ$11=0,"",OFFSET(Calculation!$CR$6,0,0,Calculation!$BQ$11,1))
Name tasksCount: OFFSET(Calculation!$BK$5,0,0,Calculation!$BN$5,1)
Name ttFilter: Kanban!$J$6
Name valuesTM: Calculation!$DD$6:$DD$185

Sheet Navigation
C2: SPRINT PLANNING DASHBOARD
C3: NAVIGATION MENU
C7: INPUTS | I7: OUTPUTS

Sheet Settings
B2: SPRINT PLANNING DASHBOARD
B3: SETTINGS
B5: Name | C5: Position | D5: Email | E5: Daily Scrum | F5: Sprint Plan | G5: Retrospective | I5: Status | L5: Ticket type
B6: John | C6: Scrum Master | D6: john@gmail.com | E6: ✓ | F6: ✓ | I6: In Progress | L6: Bug
B7: Carolyne | C7: Product owner | D7: carolyne@msn.com | E7: ✓ | I7: Open | L7: Feature
B8: Kyle | C8: Developer | D8: kyle@gmail.com | E8: ✓ | F8: ✓ | I8: Testing | L8: User Story
B9: Kate | C9: Designer | D9: kate@hotmail.com | G9: ✓ | I9: Deployment | L9: Task
B10: Mike | C10: QA | D10: mike@gmail.com | E10: ✓ | F10: ✓ | I10: Completed
I17: KANBAN CONTENT | L17: Priority
I18: #ID - Name
I19: TITLE | L19: Low
L20: Medium
L22: High
L23: Not set

Sheet SprintPlan
D2: SPRINT PLANNING DASHBOARD
D3: SPRINT PLANNING FORM
D7: TITLE | E7: Sprint 1 (Planning)
D9: DATE | E9: 44594 | H9: =HYPERLINK(I9,"MEETING LINK") -> MEETING LINK | I9: https://meet.google.com/aaa-bbbb-ccc
D11: TIME & TIMEZONE | E11: 09:30 CET | H11: MEETING ROOM | I11: Newton - B3
D13: DURATION | E13: 7h | H13: MEETING ADDRESS | I13: Building C3PO
D15: CHOOSE TEAM | E15: All
D17: Name | E17: Position | H17: Name | I17: Position
C18: ✓ | D18: =IFERROR(INDEX(Calculation!$DK$5:$DK$54,MATCH(2*(ROW(D18)-ROW($D$17))-1,Calculation!$DQ$5:$DQ$54,0),1),"") -> John | E18: =IFERROR(INDEX(Calculation!$DL$5:$DL$54,MATCH(2*(ROW(D18)-ROW($D$17))-1,Calculation!$DQ$5:$DQ$54,0),1),"") -> Scrum Master | H18: =IFERROR(INDEX(Calculation!$DK$5:$DK$54,MATCH(2*(ROW(H18)-ROW($H$17)),Calculation!$DQ$5:$DQ$54,0),1),"") -> Carolyne | I18: =IFERROR(INDEX(Calculation!$DL$5:$DL$54,MATCH(2*(ROW(H18)-ROW($H$17)),Calculation!$DQ$5:$DQ$54,0),1),"") -> Product owner
D19: =IFERROR(INDEX(Calculation!$DK$5:$DK$54,MATCH(2*(ROW(D19)-ROW($D$17))-1,Calculation!$DQ$5:$DQ$54,0),1),"") -> Kyle | E19: =IFERROR(INDEX(Calculation!$DL$5:$DL$54,MATCH(2*(ROW(D19)-ROW($D$17))-1,Calculation!$DQ$5:$DQ$54,0),1),"") -> Developer | H19: =IFERROR(INDEX(Calculation!$DK$5:$DK$54,MATCH(2*(ROW(H19)-ROW($H$17)),Calculation!$DQ$5:$DQ$54,0),1),"") -> Kate | I19: =IFERROR(INDEX(Calculation!$DL$5:$DL$54,MATCH(2*(ROW(H19)-ROW($H$17)),Calculation!$DQ$5:$DQ$54,0),1),"") -> Designer
D20: =IFERROR(INDEX(Calculation!$DK$5:$DK$54,MATCH(2*(ROW(D20)-ROW($D$17))-1,Calculation!$DQ$5:$DQ$54,0),1),"") -> Mike | E20: =IFERROR(INDEX(Calculation!$DL$5:$DL$54,MATCH(2*(ROW(D20)-ROW($D$17))-1,Calculation!$DQ$5:$DQ$54,0),1),"") -> QA | H20: =IFERROR(INDEX(Calculation!$DK$5:$DK$54,MATCH(2*(ROW(H20)-ROW($H$17)),Calculation!$DQ$5:$DQ$54,0),1),"") | I20: =IFERROR(INDEX(Calculation!$DL$5:$DL$54,MATCH(2*(ROW(H20)-ROW($H$17)),Calculation!$DQ$5:$DQ$54,0),1),"")
D21: =IFERROR(INDEX(Calculation!$DK$5:$DK$54,MATCH(2*(ROW(D21)-ROW($D$17))-1,Calculation!$DQ$5:$DQ$54,0),1),"") | E21: =IFERROR(INDEX(Calculation!$DL$5:$DL$54,MATCH(2*(ROW(D21)-ROW($D$17))-1,Calculation!$DQ$5:$DQ$54,0),1),"") | H21: =IFERROR(INDEX(Calculation!$DK$5:$DK$54,MATCH(2*(ROW(H21)-ROW($H$17)),Calculation!$DQ$5:$DQ$54,0),1),"") | I21: =IFERROR(INDEX(Calculation!$DL$5:$DL$54,MATCH(2*(ROW(H21)-ROW($H$17)),Calculation!$DQ$5:$DQ$54,0),1),"")
D22: =IFERROR(INDEX(Calculation!$DK$5:$DK$54,MATCH(2*(ROW(D22)-ROW($D$17))-1,Calculation!$DQ$5:$DQ$54,0),1),"") | E22: =IFERROR(INDEX(Calculation!$DL$5:$DL$54,MATCH(2*(ROW(D22)-ROW($D$17))-1,Calculation!$DQ$5:$DQ$54,0),1),"") | H22: =IFERROR(INDEX(Calculation!$DK$5:$DK$54,MATCH(2*(ROW(H22)-ROW($H$17)),Calculation!$DQ$5:$DQ$54,0),1),"") | I22: =IFERROR(INDEX(Calculation!$DL$5:$DL$54,MATCH(2*(ROW(H22)-ROW($H$17)),Calculation!$DQ$5:$DQ$54,0),1),"")
D23: =IFERROR(INDEX(Calculation!$DK$5:$DK$54,MATCH(2*(ROW(D23)-ROW($D$17))-1,Calculation!$DQ$5:$DQ$54,0),1),"") | E23: =IFERROR(INDEX(Calculation!$DL$5:$DL$54,MATCH(2*(ROW(D23)-ROW($D$17))-1,Calculation!$DQ$5:$DQ$54,0),1),"") | H23: =IFERROR(INDEX(Calculation!$DK$5:$DK$54,MATCH(2*(ROW(H23)-ROW($H$17)),Calculation!$DQ$5:$DQ$54,0),1),"") | I23: =IFERROR(INDEX(Calculation!$DL$5:$DL$54,MATCH(2*(ROW(H23)-ROW($H$17)),Calculation!$DQ$5:$DQ$54,0),1),"")
D24: =IFERROR(INDEX(Calculation!$DK$5:$DK$54,MATCH(2*(ROW(D24)-ROW($D$17))-1,Calculation!$DQ$5:$DQ$54,0),1),"") | E24: =IFERROR(INDEX(Calculation!$DL$5:$DL$54,MATCH(2*(ROW(D24)-ROW($D$17))-1,Calculation!$DQ$5:$DQ$54,0),1),"") | H24: =IFERROR(INDEX(Calculation!$DK$5:$DK$54,MATCH(2*(ROW(H24)-ROW($H$17)),Calculation!$DQ$5:$DQ$54,0),1),"") | I24: =IFERROR(INDEX(Calculation!$DL$5:$DL$54,MATCH(2*(ROW(H24)-ROW($H$17)),Calculation!$DQ$5:$DQ$54,0),1),"")
D25: =IFERROR(INDEX(Calculation!$DK$5:$DK$54,MATCH(2*(ROW(D25)-ROW($D$17))-1,Calculation!$DQ$5:$DQ$54,0),1),"") | E25: =IFERROR(INDEX(Calculation!$DL$5:$DL$54,MATCH(2*(ROW(D25)-ROW($D$17))-1,Calculation!$DQ$5:$DQ$54,0),1),"") | H25: =IFERROR(INDEX(Calculation!$DK$5:$DK$54,MATCH(2*(ROW(H25)-ROW($H$17)),Calculation!$DQ$5:$DQ$54,0),1),"") | I25: =IFERROR(INDEX(Calculation!$DL$5:$DL$54,MATCH(2*(ROW(H25)-ROW($H$17)),Calculation!$DQ$5:$DQ$54,0),1),"")
D26: =IFERROR(INDEX(Calculation!$DK$5:$DK$54,MATCH(2*(ROW(D26)-ROW($D$17))-1,Calculation!$DQ$5:$DQ$54,0),1),"") | E26: =IFERROR(INDEX(Calculation!$DL$5:$DL$54,MATCH(2*(ROW(D26)-ROW($D$17))-1,Calculation!$DQ$5:$DQ$54,0),1),"") | H26: =IFERROR(INDEX(Calculation!$DK$5:$DK$54,MATCH(2*(ROW(H26)-ROW($H$17)),Calculation!$DQ$5:$DQ$54,0),1),"") | I26: =IFERROR(INDEX(Calculation!$DL$5:$DL$54,MATCH(2*(ROW(H26)-ROW($H$17)),Calculation!$DQ$5:$DQ$54,0),1),"")
D27: =IFERROR(INDEX(Calculation!$DK$5:$DK$54,MATCH(2*(ROW(D27)-ROW($D$17))-1,Calculation!$DQ$5:$DQ$54,0),1),"") | E27: =IFERROR(INDEX(Calculation!$DL$5:$DL$54,MATCH(2*(ROW(D27)-ROW($D$17))-1,Calculation!$DQ$5:$DQ$54,0),1),"") | H27: =IFERROR(INDEX(Calculation!$DK$5:$DK$54,MATCH(2*(ROW(H27)-ROW($H$17)),Calculation!$DQ$5:$DQ$54,0),1),"") | I27: =IFERROR(INDEX(Calculation!$DL$5:$DL$54,MATCH(2*(ROW(H27)-ROW($H$17)),Calculation!$DQ$5:$DQ$54,0),1),"")
D28: =IFERROR(INDEX(Calculation!$DK$5:$DK$54,MATCH(2*(ROW(D28)-ROW($D$17))-1,Calculation!$DQ$5:$DQ$54,0),1),"") | E28: =IFERROR(INDEX(Calculation!$DL$5:$DL$54,MATCH(2*(ROW(D28)-ROW($D$17))-1,Calculation!$DQ$5:$DQ$54,0),1),"") | H28: =IFERROR(INDEX(Calculation!$DK$5:$DK$54,MATCH(2*(ROW(H28)-ROW($H$17)),Calculation!$DQ$5:$DQ$54,0),1),"") | I28: =IFERROR(INDEX(Calculation!$DL$5:$DL$54,MATCH(2*(ROW(H28)-ROW($H$17)),Calculation!$DQ$5:$DQ$54,0),1),"")
D29: =IFERROR(INDEX(Calculation!$DK$5:$DK$54,MATCH(2*(ROW(D29)-ROW($D$17))-1,Calculation!$DQ$5:$DQ$54,0),1),"") | E29: =IFERROR(INDEX(Calculation!$DL$5:$DL$54,MATCH(2*(ROW(D29)-ROW($D$17))-1,Calculation!$DQ$5:$DQ$54,0),1),"") | H29: =IFERROR(INDEX(Calculation!$DK$5:$DK$54,MATCH(2*(ROW(H29)-ROW($H$17)),Calculation!$DQ$5:$DQ$54,0),1),"") | I29: =IFERROR(INDEX(Calculation!$DL$5:$DL$54,MATCH(2*(ROW(H29)-ROW($H$17)),Calculation!$DQ$5:$DQ$54,0),1),"")
D30: =IFERROR(INDEX(Calculation!$DK$5:$DK$54,MATCH(2*(ROW(D30)-ROW($D$17))-1,Calculation!$DQ$5:$DQ$54,0),1),"") | E30: =IFERROR(INDEX(Calculation!$DL$5:$DL$54,MATCH(2*(ROW(D30)-ROW($D$17))-1,Calculation!$DQ$5:$DQ$54,0),1),"") | H30: =IFERROR(INDEX(Calculation!$DK$5:$DK$54,MATCH(2*(ROW(H30)-ROW($H$17)),Calculation!$DQ$5:$DQ$54,0),1),"") | I30: =IFERROR(INDEX(Calculation!$DL$5:$DL$54,MATCH(2*(ROW(H30)-ROW($H$17)),Calculation!$DQ$5:$DQ$54,0),1),"")
... D42: =IFERROR(INDEX(Calculation!$DK$5:$DK$54,MATCH(2*(ROW(D42)-ROW($D$17))-1,Calculation!$DQ$5:$DQ$54,0),1),"") | E42: =IFERROR(INDEX(Calculation!$DL$5:$DL$54,MATCH(2*(ROW(D42)-ROW($D$17))-1,Calculation!$DQ$5:$DQ$54,0),1),"") | H42: =IFERROR(INDEX(Calculation!$DK$5:$DK$54,MATCH(2*(ROW(H42)-ROW($H$17)),Calculation!$DQ$5:$DQ$54,0),1),"") | I42: =IFERROR(INDEX(Calculation!$DL$5:$DL$54,MATCH(2*(ROW(H42)-ROW($H$17)),Calculation!$DQ$5:$DQ$54,0),1),"")
D44: Agenda
C45: 1. | D45: Make sure backlog task statuses are up to date | I45: =HYPERLINK("#Backlog!A6","➤ Go to") -> ➤ Go to
C46: ✓
C50: 2. | D50: Check previous Sprint results dashboard | I50: =HYPERLINK("#SprintDashboard!A7","➤ Go to") -> ➤ Go to
C51: ✓
C55: 3. | D55: Check previous sprint retrospective | I55: =HYPERLINK("#Retrospective!A8","➤ Go to") -> ➤ Go to
C56: ✓
C60: 4. | D60: Define main goals | E60: Sprint No
C61: ✓
C65: 5. | D65: Create / update backlog list
C70: 6. | D70: Estimate story points per sprint task | I70: =HYPERLINK("#SprintsComparison!A7","➤ Go to") -> ➤ Go to
D71: a) Risks
D72: b) Complexity
D73: c) Repetition
C75: 5b | D75: Define priorities/importance
C80: 6a | D80: Make sure skills and capabilities of the team are align with the task requirements
C85: 6b | D85: Is it possible to add more steps into the current sprint scope?
D90: Notes …

Sheet Retrospective
C2: SPRINT PLANNING DASHBOARD
C3: RETROSPECTIVE
B5: Task ID | C5: Title | D5: Comment | E5: Category | H5: OK | L5: NOK | P5: New Goals | T5: Stop
H6: What went well | L6: What to improve/fix | P6: Changes, new direction | T6: Removed goals
B7: Task ID | C7: Title | D7: Comment | E7: Category | G7: 1 | H7: 2 | I7: 4 | J7: 5 | K7: 6 | L7: 7 | M7: 9 | N7: 10 | O7: 11 | P7: 12 | Q7: 14 | R7: 15 | S7: 16 | T7: 17 | U7: 19
B8: 1 | C8: =IFERROR(""&INDEX(Backlog!$E$6:$E$1005,MATCH($B8,Backlog!$B$6:$B$1005,0),1),"") -> Feature 1.1 | D8: bug | E8: NOK | H8: =IFERROR(INDEX(Calculation!$AK$5:$AK$204,MATCH("1."&ROW(H8)-ROW($H$7),Calculation!$AM$5:$AM$204,0),1),"") -> Bug 1.1 - important step closed | L8: =IFERROR(INDEX(Calculation!$AK$5:$AK$204,MATCH("2."&ROW(L8)-ROW($H$7),Calculation!$AM$5:$AM$204,0),1),"") -> Feature 1.1 - bug | P8: =IFERROR(INDEX(Calculation!$AK$5:$AK$204,MATCH("3."&ROW(P8)-ROW($H$7),Calculation!$AM$5:$AM$204,0),1),"") -> Task 1.2 - | T8: =IFERROR(INDEX(Calculation!$AK$5:$AK$204,MATCH("4."&ROW(T8)-ROW($H$7),Calculation!$AM$5:$AM$204,0),1),"") -> Bug 1.1 -
B9: 3 | C9: =IFERROR(""&INDEX(Backlog!$E$6:$E$1005,MATCH($B9,Backlog!$B$6:$B$1005,0),1),"") -> Task 1.2 | E9: New Goals | H9: =IFERROR(INDEX(Calculation!$AK$5:$AK$204,MATCH("1."&ROW(H9)-ROW($H$7),Calculation!$AM$5:$AM$204,0),1),"") -> User Story 1.2 - | L9: =IFERROR(INDEX(Calculation!$AK$5:$AK$204,MATCH("2."&ROW(L9)-ROW($H$7),Calculation!$AM$5:$AM$204,0),1),"") | P9: =IFERROR(INDEX(Calculation!$AK$5:$AK$204,MATCH("3."&ROW(P9)-ROW($H$7),Calculation!$AM$5:$AM$204,0),1),"") -> - New | T9: =IFERROR(INDEX(Calculation!$AK$5:$AK$204,MATCH("4."&ROW(T9)-ROW($H$7),Calculation!$AM$5:$AM$204,0),1),"") -> User Story 1.3 -
B10: 6 | C10: =IFERROR(""&INDEX(Backlog!$E$6:$E$1005,MATCH($B10,Backlog!$B$6:$B$1005,0),1),"") -> Bug 1.1 | E10: Stop | H10: =IFERROR(INDEX(Calculation!$AK$5:$AK$204,MATCH("1."&ROW(H10)-ROW($H$7),Calculation!$AM$5:$AM$204,0),1),"") -> Task 1.3 - | L10: =IFERROR(INDEX(Calculation!$AK$5:$AK$204,MATCH("2."&ROW(L10)-ROW($H$7),Calculation!$AM$5:$AM$204,0),1),"") | P10: =IFERROR(INDEX(Calculation!$AK$5:$AK$204,MATCH("3."&ROW(P10)-ROW($H$7),Calculation!$AM$5:$AM$204,0),1),"") | T10: =IFERROR(INDEX(Calculation!$AK$5:$AK$204,MATCH("4."&ROW(T10)-ROW($H$7),Calculation!$AM$5:$AM$204,0),1),"")
B11: 6 | C11: =IFERROR(""&INDEX(Backlog!$E$6:$E$1005,MATCH($B11,Backlog!$B$6:$B$1005,0),1),"") -> Bug 1.1 | D11: important step closed | E11: OK | H11: =IFERROR(INDEX(Calculation!$AK$5:$AK$204,MATCH("1."&ROW(H11)-ROW($H$7),Calculation!$AM$5:$AM$204,0),1),"") | L11: =IFERROR(INDEX(Calculation!$AK$5:$AK$204,MATCH("2."&ROW(L11)-ROW($H$7),Calculation!$AM$5:$AM$204,0),1),"") | P11: =IFERROR(INDEX(Calculation!$AK$5:$AK$204,MATCH("3."&ROW(P11)-ROW($H$7),Calculation!$AM$5:$AM$204,0),1),"") | T11: =IFERROR(INDEX(Calculation!$AK$5:$AK$204,MATCH("4."&ROW(T11)-ROW($H$7),Calculation!$AM$5:$AM$204,0),1),"")
B12: 7 | C12: =IFERROR(""&INDEX(Backlog!$E$6:$E$1005,MATCH($B12,Backlog!$B$6:$B$1005,0),1),"") -> User Story 1.2 | E12: OK | H12: =IFERROR(INDEX(Calculation!$AK$5:$AK$204,MATCH("1."&ROW(H12)-ROW($H$7),Calculation!$AM$5:$AM$204,0),1),"") | L12: =IFERROR(INDEX(Calculation!$AK$5:$AK$204,MATCH("2."&ROW(L12)-ROW($H$7),Calculation!$AM$5:$AM$204,0),1),"") | P12: =IFERROR(INDEX(Calculation!$AK$5:$AK$204,MATCH("3."&ROW(P12)-ROW($H$7),Calculation!$AM$5:$AM$204,0),1),"") | T12: =IFERROR(INDEX(Calculation!$AK$5:$AK$204,MATCH("4."&ROW(T12)-ROW($H$7),Calculation!$AM$5:$AM$204,0),1),"")
B13: 8 | C13: =IFERROR(""&INDEX(Backlog!$E$6:$E$1005,MATCH($B13,Backlog!$B$6:$B$1005,0),1),"") -> Task 1.3 | E13: OK | H13: =IFERROR(INDEX(Calculation!$AK$5:$AK$204,MATCH("1."&ROW(H13)-ROW($H$7),Calculation!$AM$5:$AM$204,0),1),"") | L13: =IFERROR(INDEX(Calculation!$AK$5:$AK$204,MATCH("2."&ROW(L13)-ROW($H$7),Calculation!$AM$5:$AM$204,0),1),"") | P13: =IFERROR(INDEX(Calculation!$AK$5:$AK$204,MATCH("3."&ROW(P13)-ROW($H$7),Calculation!$AM$5:$AM$204,0),1),"") | T13: =IFERROR(INDEX(Calculation!$AK$5:$AK$204,MATCH("4."&ROW(T13)-ROW($H$7),Calculation!$AM$5:$AM$204,0),1),"")
B14: 9 | C14: =IFERROR(""&INDEX(Backlog!$E$6:$E$1005,MATCH($B14,Backlog!$B$6:$B$1005,0),1),"") -> User Story 1.3 | E14: Stop | H14: =IFERROR(INDEX(Calculation!$AK$5:$AK$204,MATCH("1."&ROW(H14)-ROW($H$7),Calculation!$AM$5:$AM$204,0),1),"") | L14: =IFERROR(INDEX(Calculation!$AK$5:$AK$204,MATCH("2."&ROW(L14)-ROW($H$7),Calculation!$AM$5:$AM$204,0),1),"") | P14: =IFERROR(INDEX(Calculation!$AK$5:$AK$204,MATCH("3."&ROW(P14)-ROW($H$7),Calculation!$AM$5:$AM$204,0),1),"") | T14: =IFERROR(INDEX(Calculation!$AK$5:$AK$204,MATCH("4."&ROW(T14)-ROW($H$7),Calculation!$AM$5:$AM$204,0),1),"")
C15: =IFERROR(""&INDEX(Backlog!$E$6:$E$1005,MATCH($B15,Backlog!$B$6:$B$1005,0),1),"") | D15: New | E15: New Goals | H15: =IFERROR(INDEX(Calculation!$AK$5:$AK$204,MATCH("1."&ROW(H15)-ROW($H$7),Calculation!$AM$5:$AM$204,0),1),"") | L15: =IFERROR(INDEX(Calculation!$AK$5:$AK$204,MATCH("2."&ROW(L15)-ROW($H$7),Calculation!$AM$5:$AM$204,0),1),"") | P15: =IFERROR(INDEX(Calculation!$AK$5:$AK$204,MATCH("3."&ROW(P15)-ROW($H$7),Calculation!$AM$5:$AM$204,0),1),"") | T15: =IFERROR(INDEX(Calculation!$AK$5:$AK$204,MATCH("4."&ROW(T15)-ROW($H$7),Calculation!$AM$5:$AM$204,0),1),"")
C16: =IFERROR(""&INDEX(Backlog!$E$6:$E$1005,MATCH($B16,Backlog!$B$6:$B$1005,0),1),"") | H16: =IFERROR(INDEX(Calculation!$AK$5:$AK$204,MATCH("1."&ROW(H16)-ROW($H$7),Calculation!$AM$5:$AM$204,0),1),"") | L16: =IFERROR(INDEX(Calculation!$AK$5:$AK$204,MATCH("2."&ROW(L16)-ROW($H$7),Calculation!$AM$5:$AM$204,0),1),"") | P16: =IFERROR(INDEX(Calculation!$AK$5:$AK$204,MATCH("3."&ROW(P16)-ROW($H$7),Calculation!$AM$5:$AM$204,0),1),"") | T16: =IFERROR(INDEX(Calculation!$AK$5:$AK$204,MATCH("4."&ROW(T16)-ROW($H$7),Calculation!$AM$5:$AM$204,0),1),"")
C17: =IFERROR(""&INDEX(Backlog!$E$6:$E$1005,MATCH($B17,Backlog!$B$6:$B$1005,0),1),"") | H17: =IFERROR(INDEX(Calculation!$AK$5:$AK$204,MATCH("1."&ROW(H17)-ROW($H$7),Calculation!$AM$5:$AM$204,0),1),"") | L17: =IFERROR(INDEX(Calculation!$AK$5:$AK$204,MATCH("2."&ROW(L17)-ROW($H$7),Calculation!$AM$5:$AM$204,0),1),"") | P17: =IFERROR(INDEX(Calculation!$AK$5:$AK$204,MATCH("3."&ROW(P17)-ROW($H$7),Calculation!$AM$5:$AM$204,0),1),"") | T17: =IFERROR(INDEX(Calculation!$AK$5:$AK$204,MATCH("4."&ROW(T17)-ROW($H$7),Calculation!$AM$5:$AM$204,0),1),"")
C18: =IFERROR(""&INDEX(Backlog!$E$6:$E$1005,MATCH($B18,Backlog!$B$6:$B$1005,0),1),"") | H18: =IFERROR(INDEX(Calculation!$AK$5:$AK$204,MATCH("1."&ROW(H18)-ROW($H$7),Calculation!$AM$5:$AM$204,0),1),"") | L18: =IFERROR(INDEX(Calculation!$AK$5:$AK$204,MATCH("2."&ROW(L18)-ROW($H$7),Calculation!$AM$5:$AM$204,0),1),"") | P18: =IFERROR(INDEX(Calculation!$AK$5:$AK$204,MATCH("3."&ROW(P18)-ROW($H$7),Calculation!$AM$5:$AM$204,0),1),"") | T18: =IFERROR(INDEX(Calculation!$AK$5:$AK$204,MATCH("4."&ROW(T18)-ROW($H$7),Calculation!$AM$5:$AM$204,0),1),"")
C19: =IFERROR(""&INDEX(Backlog!$E$6:$E$1005,MATCH($B19,Backlog!$B$6:$B$1005,0),1),"") | H19: =IFERROR(INDEX(Calculation!$AK$5:$AK$204,MATCH("1."&ROW(H19)-ROW($H$7),Calculation!$AM$5:$AM$204,0),1),"") | L19: =IFERROR(INDEX(Calculation!$AK$5:$AK$204,MATCH("2."&ROW(L19)-ROW($H$7),Calculation!$AM$5:$AM$204,0),1),"") | P19: =IFERROR(INDEX(Calculation!$AK$5:$AK$204,MATCH("3."&ROW(P19)-ROW($H$7),Calculation!$AM$5:$AM$204,0),1),"") | T19: =IFERROR(INDEX(Calculation!$AK$5:$AK$204,MATCH("4."&ROW(T19)-ROW($H$7),Calculation!$AM$5:$AM$204,0),1),"")
C20: =IFERROR(""&INDEX(Backlog!$E$6:$E$1005,MATCH($B20,Backlog!$B$6:$B$1005,0),1),"") | H20: =IFERROR(INDEX(Calculation!$AK$5:$AK$204,MATCH("1."&ROW(H20)-ROW($H$7),Calculation!$AM$5:$AM$204,0),1),"") | L20: =IFERROR(INDEX(Calculation!$AK$5:$AK$204,MATCH("2."&ROW(L20)-ROW($H$7),Calculation!$AM$5:$AM$204,0),1),"") | P20: =IFERROR(INDEX(Calculation!$AK$5:$AK$204,MATCH("3."&ROW(P20)-ROW($H$7),Calculation!$AM$5:$AM$204,0),1),"") | T20: =IFERROR(INDEX(Calculation!$AK$5:$AK$204,MATCH("4."&ROW(T20)-ROW($H$7),Calculation!$AM$5:$AM$204,0),1),"")
C21: =IFERROR(""&INDEX(Backlog!$E$6:$E$1005,MATCH($B21,Backlog!$B$6:$B$1005,0),1),"") | H21: =IFERROR(INDEX(Calculation!$AK$5:$AK$204,MATCH("1."&ROW(H21)-ROW($H$7),Calculation!$AM$5:$AM$204,0),1),"") | L21: =IFERROR(INDEX(Calculation!$AK$5:$AK$204,MATCH("2."&ROW(L21)-ROW($H$7),Calculation!$AM$5:$AM$204,0),1),"") | P21: =IFERROR(INDEX(Calculation!$AK$5:$AK$204,MATCH("3."&ROW(P21)-ROW($H$7),Calculation!$AM$5:$AM$204,0),1),"") | T21: =IFERROR(INDEX(Calculation!$AK$5:$AK$204,MATCH("4."&ROW(T21)-ROW($H$7),Calculation!$AM$5:$AM$204,0),1),"")
C22: =IFERROR(""&INDEX(Backlog!$E$6:$E$1005,MATCH($B22,Backlog!$B$6:$B$1005,0),1),"") | H22: =IFERROR(INDEX(Calculation!$AK$5:$AK$204,MATCH("1."&ROW(H22)-ROW($H$7),Calculation!$AM$5:$AM$204,0),1),"") | L22: =IFERROR(INDEX(Calculation!$AK$5:$AK$204,MATCH("2."&ROW(L22)-ROW($H$7),Calculation!$AM$5:$AM$204,0),1),"") | P22: =IFERROR(INDEX(Calculation!$AK$5:$AK$204,MATCH("3."&ROW(P22)-ROW($H$7),Calculation!$AM$5:$AM$204,0),1),"") | T22: =IFERROR(INDEX(Calculation!$AK$5:$AK$204,MATCH("4."&ROW(T22)-ROW($H$7),Calculation!$AM$5:$AM$204,0),1),"")
C23: =IFERROR(""&INDEX(Backlog!$E$6:$E$1005,MATCH($B23,Backlog!$B$6:$B$1005,0),1),"") | H23: =IFERROR(INDEX(Calculation!$AK$5:$AK$204,MATCH("1."&ROW(H23)-ROW($H$7),Calculation!$AM$5:$AM$204,0),1),"") | L23: =IFERROR(INDEX(Calculation!$AK$5:$AK$204,MATCH("2."&ROW(L23)-ROW($H$7),Calculation!$AM$5:$AM$204,0),1),"") | P23: =IFERROR(INDEX(Calculation!$AK$5:$AK$204,MATCH("3."&ROW(P23)-ROW($H$7),Calculation!$AM$5:$AM$204,0),1),"") | T23: =IFERROR(INDEX(Calculation!$AK$5:$AK$204,MATCH("4."&ROW(T23)-ROW($H$7),Calculation!$AM$5:$AM$204,0),1),"")
C24: =IFERROR(""&INDEX(Backlog!$E$6:$E$1005,MATCH($B24,Backlog!$B$6:$B$1005,0),1),"") | H24: =IFERROR(INDEX(Calculation!$AK$5:$AK$204,MATCH("1."&ROW(H24)-ROW($H$7),Calculation!$AM$5:$AM$204,0),1),"") | L24: =IFERROR(INDEX(Calculation!$AK$5:$AK$204,MATCH("2."&ROW(L24)-ROW($H$7),Calculation!$AM$5:$AM$204,0),1),"") | P24: =IFERROR(INDEX(Calculation!$AK$5:$AK$204,MATCH("3."&ROW(P24)-ROW($H$7),Calculation!$AM$5:$AM$204,0),1),"") | T24: =IFERROR(INDEX(Calculation!$AK$5:$AK$204,MATCH("4."&ROW(T24)-ROW($H$7),Calculation!$AM$5:$AM$204,0),1),"")
C25: =IFERROR(""&INDEX(Backlog!$E$6:$E$1005,MATCH($B25,Backlog!$B$6:$B$1005,0),1),"") | H25: =IFERROR(INDEX(Calculation!$AK$5:$AK$204,MATCH("1."&ROW(H25)-ROW($H$7),Calculation!$AM$5:$AM$204,0),1),"") | L25: =IFERROR(INDEX(Calculation!$AK$5:$AK$204,MATCH("2."&ROW(L25)-ROW($H$7),Calculation!$AM$5:$AM$204,0),1),"") | P25: =IFERROR(INDEX(Calculation!$AK$5:$AK$204,MATCH("3."&ROW(P25)-ROW($H$7),Calculation!$AM$5:$AM$204,0),1),"") | T25: =IFERROR(INDEX(Calculation!$AK$5:$AK$204,MATCH("4."&ROW(T25)-ROW($H$7),Calculation!$AM$5:$AM$204,0),1),"")
C26: =IFERROR(""&INDEX(Backlog!$E$6:$E$1005,MATCH($B26,Backlog!$B$6:$B$1005,0),1),"") | H26: =IFERROR(INDEX(Calculation!$AK$5:$AK$204,MATCH("1."&ROW(H26)-ROW($H$7),Calculation!$AM$5:$AM$204,0),1),"") | L26: =IFERROR(INDEX(Calculation!$AK$5:$AK$204,MATCH("2."&ROW(L26)-ROW($H$7),Calculation!$AM$5:$AM$204,0),1),"") | P26: =IFERROR(INDEX(Calculation!$AK$5:$AK$204,MATCH("3."&ROW(P26)-ROW($H$7),Calculation!$AM$5:$AM$204,0),1),"") | T26: =IFERROR(INDEX(Calculation!$AK$5:$AK$204,MATCH("4."&ROW(T26)-ROW($H$7),Calculation!$AM$5:$AM$204,0),1),"")
H27: =IFERROR(INDEX(Calculation!$AK$5:$AK$204,MATCH("1."&ROW(H27)-ROW($H$7),Calculation!$AM$5:$AM$204,0),1),"") | L27: =IFERROR(INDEX(Calculation!$AK$5:$AK$204,MATCH("2."&ROW(L27)-ROW($H$7),Calculation!$AM$5:$AM$204,0),1),"") | P27: =IFERROR(INDEX(Calculation!$AK$5:$AK$204,MATCH("3."&ROW(P27)-ROW($H$7),Calculation!$AM$5:$AM$204,0),1),"") | T27: =IFERROR(INDEX(Calculation!$AK$5:$AK$204,MATCH("4."&ROW(T27)-ROW($H$7),Calculation!$AM$5:$AM$204,0),1),"")
H28: =IFERROR(INDEX(Calculation!$AK$5:$AK$204,MATCH("1."&ROW(H28)-ROW($H$7),Calculation!$AM$5:$AM$204,0),1),"") | L28: =IFERROR(INDEX(Calculation!$AK$5:$AK$204,MATCH("2."&ROW(L28)-ROW($H$7),Calculation!$AM$5:$AM$204,0),1),"") | P28: =IFERROR(INDEX(Calculation!$AK$5:$AK$204,MATCH("3."&ROW(P28)-ROW($H$7),Calculation!$AM$5:$AM$204,0),1),"") | T28: =IFERROR(INDEX(Calculation!$AK$5:$AK$204,MATCH("4."&ROW(T28)-ROW($H$7),Calculation!$AM$5:$AM$204,0),1),"")
H29: =IFERROR(INDEX(Calculation!$AK$5:$AK$204,MATCH("1."&ROW(H29)-ROW($H$7),Calculation!$AM$5:$AM$204,0),1),"") | L29: =IFERROR(INDEX(Calculation!$AK$5:$AK$204,MATCH("2."&ROW(L29)-ROW($H$7),Calculation!$AM$5:$AM$204,0),1),"") | P29: =IFERROR(INDEX(Calculation!$AK$5:$AK$204,MATCH("3."&ROW(P29)-ROW($H$7),Calculation!$AM$5:$AM$204,0),1),"") | T29: =IFERROR(INDEX(Calculation!$AK$5:$AK$204,MATCH("4."&ROW(T29)-ROW($H$7),Calculation!$AM$5:$AM$204,0),1),"")
H30: =IFERROR(INDEX(Calculation!$AK$5:$AK$204,MATCH("1."&ROW(H30)-ROW($H$7),Calculation!$AM$5:$AM$204,0),1),"") | L30: =IFERROR(INDEX(Calculation!$AK$5:$AK$204,MATCH("2."&ROW(L30)-ROW($H$7),Calculation!$AM$5:$AM$204,0),1),"") | P30: =IFERROR(INDEX(Calculation!$AK$5:$AK$204,MATCH("3."&ROW(P30)-ROW($H$7),Calculation!$AM$5:$AM$204,0),1),"") | T30: =IFERROR(INDEX(Calculation!$AK$5:$AK$204,MATCH("4."&ROW(T30)-ROW($H$7),Calculation!$AM$5:$AM$204,0),1),"")
H31: =IFERROR(INDEX(Calculation!$AK$5:$AK$204,MATCH("1."&ROW(H31)-ROW($H$7),Calculation!$AM$5:$AM$204,0),1),"") | L31: =IFERROR(INDEX(Calculation!$AK$5:$AK$204,MATCH("2."&ROW(L31)-ROW($H$7),Calculation!$AM$5:$AM$204,0),1),"") | P31: =IFERROR(INDEX(Calculation!$AK$5:$AK$204,MATCH("3."&ROW(P31)-ROW($H$7),Calculation!$AM$5:$AM$204,0),1),"") | T31: =IFERROR(INDEX(Calculation!$AK$5:$AK$204,MATCH("4."&ROW(T31)-ROW($H$7),Calculation!$AM$5:$AM$204,0),1),"")
H32: =IFERROR(INDEX(Calculation!$AK$5:$AK$204,MATCH("1."&ROW(H32)-ROW($H$7),Calculation!$AM$5:$AM$204,0),1),"") | L32: =IFERROR(INDEX(Calculation!$AK$5:$AK$204,MATCH("2."&ROW(L32)-ROW($H$7),Calculation!$AM$5:$AM$204,0),1),"") | P32: =IFERROR(INDEX(Calculation!$AK$5:$AK$204,MATCH("3."&ROW(P32)-ROW($H$7),Calculation!$AM$5:$AM$204,0),1),"") | T32: =IFERROR(INDEX(Calculation!$AK$5:$AK$204,MATCH("4."&ROW(T32)-ROW($H$7),Calculation!$AM$5:$AM$204,0),1),"")
H33: =IFERROR(INDEX(Calculation!$AK$5:$AK$204,MATCH("1."&ROW(H33)-ROW($H$7),Calculation!$AM$5:$AM$204,0),1),"") | L33: =IFERROR(INDEX(Calculation!$AK$5:$AK$204,MATCH("2."&ROW(L33)-ROW($H$7),Calculation!$AM$5:$AM$204,0),1),"") | P33: =IFERROR(INDEX(Calculation!$AK$5:$AK$204,MATCH("3."&ROW(P33)-ROW($H$7),Calculation!$AM$5:$AM$204,0),1),"") | T33: =IFERROR(INDEX(Calculation!$AK$5:$AK$204,MATCH("4."&ROW(T33)-ROW($H$7),Calculation!$AM$5:$AM$204,0),1),"")
H34: =IFERROR(INDEX(Calculation!$AK$5:$AK$204,MATCH("1."&ROW(H34)-ROW($H$7),Calculation!$AM$5:$AM$204,0),1),"") | L34: =IFERROR(INDEX(Calculation!$AK$5:$AK$204,MATCH("2."&ROW(L34)-ROW($H$7),Calculation!$AM$5:$AM$204,0),1),"") | P34: =IFERROR(INDEX(Calculation!$AK$5:$AK$204,MATCH("3."&ROW(P34)-ROW($H$7),Calculation!$AM$5:$AM$204,0),1),"") | T34: =IFERROR(INDEX(Calculation!$AK$5:$AK$204,MATCH("4."&ROW(T34)-ROW($H$7),Calculation!$AM$5:$AM$204,0),1),"")
H35: =IFERROR(INDEX(Calculation!$AK$5:$AK$204,MATCH("1."&ROW(H35)-ROW($H$7),Calculation!$AM$5:$AM$204,0),1),"") | L35: =IFERROR(INDEX(Calculation!$AK$5:$AK$204,MATCH("2."&ROW(L35)-ROW($H$7),Calculation!$AM$5:$AM$204,0),1),"") | P35: =IFERROR(INDEX(Calculation!$AK$5:$AK$204,MATCH("3."&ROW(P35)-ROW($H$7),Calculation!$AM$5:$AM$204,0),1),"") | T35: =IFERROR(INDEX(Calculation!$AK$5:$AK$204,MATCH("4."&ROW(T35)-ROW($H$7),Calculation!$AM$5:$AM$204,0),1),"")
H36: =IFERROR(INDEX(Calculation!$AK$5:$AK$204,MATCH("1."&ROW(H36)-ROW($H$7),Calculation!$AM$5:$AM$204,0),1),"") | L36: =IFERROR(INDEX(Calculation!$AK$5:$AK$204,MATCH("2."&ROW(L36)-ROW($H$7),Calculation!$AM$5:$AM$204,0),1),"") | P36: =IFERROR(INDEX(Calculation!$AK$5:$AK$204,MATCH("3."&ROW(P36)-ROW($H$7),Calculation!$AM$5:$AM$204,0),1),"") | T36: =IFERROR(INDEX(Calculation!$AK$5:$AK$204,MATCH("4."&ROW(T36)-ROW($H$7),Calculation!$AM$5:$AM$204,0),1),"")
H37: =IFERROR(INDEX(Calculation!$AK$5:$AK$204,MATCH("1."&ROW(H37)-ROW($H$7),Calculation!$AM$5:$AM$204,0),1),"") | L37: =IFERROR(INDEX(Calculation!$AK$5:$AK$204,MATCH("2."&ROW(L37)-ROW($H$7),Calculation!$AM$5:$AM$204,0),1),"") | P37: =IFERROR(INDEX(Calculation!$AK$5:$AK$204,MATCH("3."&ROW(P37)-ROW($H$7),Calculation!$AM$5:$AM$204,0),1),"") | T37: =IFERROR(INDEX(Calculation!$AK$5:$AK$204,MATCH("4."&ROW(T37)-ROW($H$7),Calculation!$AM$5:$AM$204,0),1),"")
H38: =IFERROR(INDEX(Calculation!$AK$5:$AK$204,MATCH("1."&ROW(H38)-ROW($H$7),Calculation!$AM$5:$AM$204,0),1),"") | L38: =IFERROR(INDEX(Calculation!$AK$5:$AK$204,MATCH("2."&ROW(L38)-ROW($H$7),Calculation!$AM$5:$AM$204,0),1),"") | P38: =IFERROR(INDEX(Calculation!$AK$5:$AK$204,MATCH("3."&ROW(P38)-ROW($H$7),Calculation!$AM$5:$AM$204,0),1),"") | T38: =IFERROR(INDEX(Calculation!$AK$5:$AK$204,MATCH("4."&ROW(T38)-ROW($H$7),Calculation!$AM$5:$AM$204,0),1),"")
... H57: =IFERROR(INDEX(Calculation!$AK$5:$AK$204,MATCH("1."&ROW(H57)-ROW($H$7),Calculation!$AM$5:$AM$204,0),1),"") | L57: =IFERROR(INDEX(Calculation!$AK$5:$AK$204,MATCH("2."&ROW(L57)-ROW($H$7),Calculation!$AM$5:$AM$204,0),1),"") | P57: =IFERROR(INDEX(Calculation!$AK$5:$AK$204,MATCH("3."&ROW(P57)-ROW($H$7),Calculation!$AM$5:$AM$204,0),1),"") | T57: =IFERROR(INDEX(Calculation!$AK$5:$AK$204,MATCH("4."&ROW(T57)-ROW($H$7),Calculation!$AM$5:$AM$204,0),1),"")

Sheet Backlog
C2: SPRINT PLANNING DASHBOARD
C3: BACKLOG
B5: TICKET ID | C5: SPRINT NO | D5: TICKET TYPE | E5: TITLE | F5: RESPONSIBLE | G5: STORY POINTS | H5: PRIORITY | I5: PLANNED | J5: STATUS | K5: CREATION DATE | L5: COMPLETION DATE | M5: NOTES… | O5: ="INPUT CHECK" & IF((COUNTA(O6:O1005)-COUNTIF(O6:O1005,""))>0,CHAR(10)&"Check warnings below.","") -> INPUT CHECK
B6: =IF(AND(LEN(D6)>0,LEN(E6)>0),MAX($B$5:B5)+1,"") -> 1 | C6: 1 | D6: Feature | E6: Feature 1.1 | F6: John | G6: 10 | H6: Medium | I6: Yes | J6: Completed | K6: 44600 | L6: 44609 | O6: =IF(LEN(B6)=0,"",IF(LEN(K6)=0,"Creation date missing",IF(AND(J6="Completed",LEN(L6)=0),"Completion date missing",IF(AND(J6<>"Completed",LEN(L6)>0),"Ticket status incorrect",IF(AND(L6<K6,LEN(K6)>0,LEN(L6)>0),"Completed before created","")))))
B7: =IF(AND(LEN(D7)>0,LEN(E7)>0),MAX($B$5:B6)+1,"") -> 2 | C7: 1 | D7: Task | E7: Task 1.1 | F7: Kyle | G7: 8 | H7: Medium | I7: Yes | J7: Completed | K7: 44600 | L7: 44610 | O7: =IF(LEN(B7)=0,"",IF(LEN(K7)=0,"Creation date missing",IF(AND(J7="Completed",LEN(L7)=0),"Completion date missing",IF(AND(J7<>"Completed",LEN(L7)>0),"Ticket status incorrect",IF(AND(L7<K7,LEN(K7)>0,LEN(L7)>0),"Completed before created","")))))
B8: =IF(AND(LEN(D8)>0,LEN(E8)>0),MAX($B$5:B7)+1,"") -> 3 | C8: 1 | D8: Task | E8: Task 1.2 | F8: Carolyne | G8: 15 | H8: High | I8: Yes | J8: Completed | K8: 44600 | L8: 44613 | O8: =IF(LEN(B8)=0,"",IF(LEN(K8)=0,"Creation date missing",IF(AND(J8="Completed",LEN(L8)=0),"Completion date missing",IF(AND(J8<>"Completed",LEN(L8)>0),"Ticket status incorrect",IF(AND(L8<K8,LEN(K8)>0,LEN(L8)>0),"Completed before created","")))))
B9: =IF(AND(LEN(D9)>0,LEN(E9)>0),MAX($B$5:B8)+1,"") -> 4 | C9: 1 | D9: User Story | E9: User Story 1.1 | F9: Kate | G9: 2 | H9: Low | I9: No | J9: Completed | K9: 44602 | L9: 44607 | O9: =IF(LEN(B9)=0,"",IF(LEN(K9)=0,"Creation date missing",IF(AND(J9="Completed",LEN(L9)=0),"Completion date missing",IF(AND(J9<>"Completed",LEN(L9)>0),"Ticket status incorrect",IF(AND(L9<K9,LEN(K9)>0,LEN(L9)>0),"Completed before created","")))))
B10: =IF(AND(LEN(D10)>0,LEN(E10)>0),MAX($B$5:B9)+1,"") -> 5 | C10: 1 | D10: Feature | E10: Feature 1.2 | F10: John | G10: 4 | H10: Low | I10: Yes | J10: Completed | K10: 44600 | L10: 44604 | O10: =IF(LEN(B10)=0,"",IF(LEN(K10)=0,"Creation date missing",IF(AND(J10="Completed",LEN(L10)=0),"Completion date missing",IF(AND(J10<>"Completed",LEN(L10)>0),"Ticket status incorrect",IF(AND(L10<K10,LEN(K10)>0,LEN(L10)>0),"Completed before created","")))))
B11: =IF(AND(LEN(D11)>0,LEN(E11)>0),MAX($B$5:B10)+1,"") -> 6 | C11: 1 | D11: Bug | E11: Bug 1.1 | F11: Kate | G11: 10 | I11: No | J11: Completed | K11: 44602 | L11: 44611 | O11: =IF(LEN(B11)=0,"",IF(LEN(K11)=0,"Creation date missing",IF(AND(J11="Completed",LEN(L11)=0),"Completion date missing",IF(AND(J11<>"Completed",LEN(L11)>0),"Ticket status incorrect",IF(AND(L11<K11,LEN(K11)>0,LEN(L11)>0),"Completed before created","")))))
B12: =IF(AND(LEN(D12)>0,LEN(E12)>0),MAX($B$5:B11)+1,"") -> 7 | C12: 1 | D12: User Story | E12: User Story 1.2 | F12: John | G12: 5 | H12: Low | I12: Yes | K12: 44600 | O12: =IF(LEN(B12)=0,"",IF(LEN(K12)=0,"Creation date missing",IF(AND(J12="Completed",LEN(L12)=0),"Completion date missing",IF(AND(J12<>"Completed",LEN(L12)>0),"Ticket status incorrect",IF(AND(L12<K12,LEN(K12)>0,LEN(L12)>0),"Completed before created","")))))
B13: =IF(AND(LEN(D13)>0,LEN(E13)>0),MAX($B$5:B12)+1,"") -> 8 | C13: 1 | D13: Task | E13: Task 1.3 | F13: Kyle | G13: 1 | H13: Low | I13: Yes | J13: Open | K13: 44600 | O13: =IF(LEN(B13)=0,"",IF(LEN(K13)=0,"Creation date missing",IF(AND(J13="Completed",LEN(L13)=0),"Completion date missing",IF(AND(J13<>"Completed",LEN(L13)>0),"Ticket status incorrect",IF(AND(L13<K13,LEN(K13)>0,LEN(L13)>0),"Completed before created","")))))
B14: =IF(AND(LEN(D14)>0,LEN(E14)>0),MAX($B$5:B13)+1,"") -> 9 | C14: 1 | D14: User Story | E14: User Story 1.3 | F14: Mike | G14: 0 | H14: Medium | I14: Yes | J14: Testing | K14: 44600 | O14: =IF(LEN(B14)=0,"",IF(LEN(K14)=0,"Creation date missing",IF(AND(J14="Completed",LEN(L14)=0),"Completion date missing",IF(AND(J14<>"Completed",LEN(L14)>0),"Ticket status incorrect",IF(AND(L14<K14,LEN(K14)>0,LEN(L14)>0),"Completed before created","")))))
B15: =IF(AND(LEN(D15)>0,LEN(E15)>0),MAX($B$5:B14)+1,"") -> 10 | C15: 1 | D15: Task | E15: Task 1.4 | F15: Mike | G15: 13 | I15: Yes | J15: Completed | K15: 44600 | L15: 44611 | O15: =IF(LEN(B15)=0,"",IF(LEN(K15)=0,"Creation date missing",IF(AND(J15="Completed",LEN(L15)=0),"Completion date missing",IF(AND(J15<>"Completed",LEN(L15)>0),"Ticket status incorrect",IF(AND(L15<K15,LEN(K15)>0,LEN(L15)>0),"Completed before created","")))))
B16: =IF(AND(LEN(D16)>0,LEN(E16)>0),MAX($B$5:B15)+1,"") -> 11 | C16: 2 | D16: Task | E16: Task 1.5 | F16: Carolyne | G16: 7 | H16: High | I16: Yes | J16: Completed | K16: 44615 | L16: 44617 | O16: =IF(LEN(B16)=0,"",IF(LEN(K16)=0,"Creation date missing",IF(AND(J16="Completed",LEN(L16)=0),"Completion date missing",IF(AND(J16<>"Completed",LEN(L16)>0),"Ticket status incorrect",IF(AND(L16<K16,LEN(K16)>0,LEN(L16)>0),"Completed before created","")))))
B17: =IF(AND(LEN(D17)>0,LEN(E17)>0),MAX($B$5:B16)+1,"") -> 12 | C17: 2 | D17: Feature | E17: Feature 1.3 | F17: John | G17: 5 | H17: Low | I17: Yes | K17: 44615 | O17: =IF(LEN(B17)=0,"",IF(LEN(K17)=0,"Creation date missing",IF(AND(J17="Completed",LEN(L17)=0),"Completion date missing",IF(AND(J17<>"Completed",LEN(L17)>0),"Ticket status incorrect",IF(AND(L17<K17,LEN(K17)>0,LEN(L17)>0),"Completed before created","")))))
B18: =IF(AND(LEN(D18)>0,LEN(E18)>0),MAX($B$5:B17)+1,"") -> 13 | C18: 2 | D18: Feature | E18: Feature 1.4 | F18: Kyle | G18: 6 | H18: Low | I18: Yes | J18: Completed | K18: 44615 | L18: 44616 | O18: =IF(LEN(B18)=0,"",IF(LEN(K18)=0,"Creation date missing",IF(AND(J18="Completed",LEN(L18)=0),"Completion date missing",IF(AND(J18<>"Completed",LEN(L18)>0),"Ticket status incorrect",IF(AND(L18<K18,LEN(K18)>0,LEN(L18)>0),"Completed before created","")))))
B19: =IF(AND(LEN(D19)>0,LEN(E19)>0),MAX($B$5:B18)+1,"") -> 14 | C19: 2 | D19: Feature | E19: Feature 1.5 | F19: Carolyne | G19: 11 | H19: High | I19: Yes | J19: Deployment | K19: 44615 | O19: =IF(LEN(B19)=0,"",IF(LEN(K19)=0,"Creation date missing",IF(AND(J19="Completed",LEN(L19)=0),"Completion date missing",IF(AND(J19<>"Completed",LEN(L19)>0),"Ticket status incorrect",IF(AND(L19<K19,LEN(K19)>0,LEN(L19)>0),"Completed before created","")))))
B20: =IF(AND(LEN(D20)>0,LEN(E20)>0),MAX($B$5:B19)+1,"") -> 15 | C20: 2 | D20: Bug | E20: Bug 1.2 | F20: Kate | G20: 9 | H20: Low | I20: No | J20: Testing | K20: 44617 | O20: =IF(LEN(B20)=0,"",IF(LEN(K20)=0,"Creation date missing",IF(AND(J20="Completed",LEN(L20)=0),"Completion date missing",IF(AND(J20<>"Completed",LEN(L20)>0),"Ticket status incorrect",IF(AND(L20<K20,LEN(K20)>0,LEN(L20)>0),"Completed before created","")))))
B21: =IF(AND(LEN(D21)>0,LEN(E21)>0),MAX($B$5:B20)+1,"") -> 16 | C21: 2 | D21: Feature | E21: Feature 1.6 | F21: John | G21: 2 | H21: Low | I21: Yes | J21: Deployment | K21: 44615 | O21: =IF(LEN(B21)=0,"",IF(LEN(K21)=0,"Creation date missing",IF(AND(J21="Completed",LEN(L21)=0),"Completion date missing",IF(AND(J21<>"Completed",LEN(L21)>0),"Ticket status incorrect",IF(AND(L21<K21,LEN(K21)>0,LEN(L21)>0),"Completed before created","")))))
B22: =IF(AND(LEN(D22)>0,LEN(E22)>0),MAX($B$5:B21)+1,"") -> 17 | C22: 2 | D22: Feature | E22: Feature 1.7 | F22: Kate | G22: 8 | I22: Yes | J22: Completed | K22: 44615 | L22: 44620 | O22: =IF(LEN(B22)=0,"",IF(LEN(K22)=0,"Creation date missing",IF(AND(J22="Completed",LEN(L22)=0),"Completion date missing",IF(AND(J22<>"Completed",LEN(L22)>0),"Ticket status incorrect",IF(AND(L22<K22,LEN(K22)>0,LEN(L22)>0),"Completed before created","")))))
B23: =IF(AND(LEN(D23)>0,LEN(E23)>0),MAX($B$5:B22)+1,"") -> 18 | C23: 2 | D23: Feature | E23: Feature 1.8 | F23: John | G23: 4 | H23: High | I23: No | K23: 44619 | O23: =IF(LEN(B23)=0,"",IF(LEN(K23)=0,"Creation date missing",IF(AND(J23="Completed",LEN(L23)=0),"Completion date missing",IF(AND(J23<>"Completed",LEN(L23)>0),"Ticket status incorrect",IF(AND(L23<K23,LEN(K23)>0,LEN(L23)>0),"Completed before created","")))))
B24: =IF(AND(LEN(D24)>0,LEN(E24)>0),MAX($B$5:B23)+1,"") -> 19 | C24: 2 | D24: User Story | E24: User Story 1.4 | F24: Kyle | G24: 1 | H24: Low | I24: Yes | J24: Completed | K24: 44615 | L24: 44616 | O24: =IF(LEN(B24)=0,"",IF(LEN(K24)=0,"Creation date missing",IF(AND(J24="Completed",LEN(L24)=0),"Completion date missing",IF(AND(J24<>"Completed",LEN(L24)>0),"Ticket status incorrect",IF(AND(L24<K24,LEN(K24)>0,LEN(L24)>0),"Completed before created","")))))
B25: =IF(AND(LEN(D25)>0,LEN(E25)>0),MAX($B$5:B24)+1,"") -> 20 | C25: 2 | D25: Feature | E25: Feature 1.9 | F25: Mike | G25: 15 | I25: No | J25: Completed | K25: 44607 | L25: 44607 | O25: =IF(LEN(B25)=0,"",IF(LEN(K25)=0,"Creation date missing",IF(AND(J25="Completed",LEN(L25)=0),"Completion date missing",IF(AND(J25<>"Completed",LEN(L25)>0),"Ticket status incorrect",IF(AND(L25<K25,LEN(K25)>0,LEN(L25)>0),"Completed before created","")))))
B26: =IF(AND(LEN(D26)>0,LEN(E26)>0),MAX($B$5:B25)+1,"") -> 21 | C26: 3 | D26: Task | E26: Task 1.6 | F26: Mike | G26: 12 | H26: Medium | I26: Yes | J26: Completed | K26: 44632 | L26: 44635 | O26: =IF(LEN(B26)=0,"",IF(LEN(K26)=0,"Creation date missing",IF(AND(J26="Completed",LEN(L26)=0),"Completion date missing",IF(AND(J26<>"Completed",LEN(L26)>0),"Ticket status incorrect",IF(AND(L26<K26,LEN(K26)>0,LEN(L26)>0),"Completed before created","")))))
B27: =IF(AND(LEN(D27)>0,LEN(E27)>0),MAX($B$5:B26)+1,"") -> 22 | C27: 3 | D27: User Story | E27: User Story 1.5 | F27: Carolyne | G27: 2 | H27: Low | I27: Yes | J27: Completed | K27: 44632 | L27: 44643 | O27: =IF(LEN(B27)=0,"",IF(LEN(K27)=0,"Creation date missing",IF(AND(J27="Completed",LEN(L27)=0),"Completion date missing",IF(AND(J27<>"Completed",LEN(L27)>0),"Ticket status incorrect",IF(AND(L27<K27,LEN(K27)>0,LEN(L27)>0),"Completed before created","")))))
B28: =IF(AND(LEN(D28)>0,LEN(E28)>0),MAX($B$5:B27)+1,"") -> 23 | C28: 3 | D28: User Story | E28: User Story 1.6 | F28: John | G28: 13 | H28: High | I28: Yes | J28: Completed | K28: 44632 | L28: 44634 | O28: =IF(LEN(B28)=0,"",IF(LEN(K28)=0,"Creation date missing",IF(AND(J28="Completed",LEN(L28)=0),"Completion date missing",IF(AND(J28<>"Completed",LEN(L28)>0),"Ticket status incorrect",IF(AND(L28<K28,LEN(K28)>0,LEN(L28)>0),"Completed before created","")))))
B29: =IF(AND(LEN(D29)>0,LEN(E29)>0),MAX($B$5:B28)+1,"") -> 24 | C29: 3 | D29: Bug | E29: Bug 1.3 | F29: Kyle | G29: 1 | H29: Low | I29: No | K29: 44635 | O29: =IF(LEN(B29)=0,"",IF(LEN(K29)=0,"Creation date missing",IF(AND(J29="Completed",LEN(L29)=0),"Completion date missing",IF(AND(J29<>"Completed",LEN(L29)>0),"Ticket status incorrect",IF(AND(L29<K29,LEN(K29)>0,LEN(L29)>0),"Completed before created","")))))
B30: =IF(AND(LEN(D30)>0,LEN(E30)>0),MAX($B$5:B29)+1,"") -> 25 | C30: 3 | D30: User Story | E30: User Story 2.1 | F30: Carolyne | G30: 1 | H30: Low | I30: Yes | J30: Completed | K30: 44632 | L30: 44638 | O30: =IF(LEN(B30)=0,"",IF(LEN(K30)=0,"Creation date missing",IF(AND(J30="Completed",LEN(L30)=0),"Completion date missing",IF(AND(J30<>"Completed",LEN(L30)>0),"Ticket status incorrect",IF(AND(L30<K30,LEN(K30)>0,LEN(L30)>0),"Completed before created","")))))
B31: =IF(AND(LEN(D31)>0,LEN(E31)>0),MAX($B$5:B30)+1,"") -> 26 | C31: 3 | D31: Task | E31: Task 2.1 | F31: Kate | G31: 1 | H31: High | I31: Yes | J31: Completed | K31: 44632 | L31: 44635 | O31: =IF(LEN(B31)=0,"",IF(LEN(K31)=0,"Creation date missing",IF(AND(J31="Completed",LEN(L31)=0),"Completion date missing",IF(AND(J31<>"Completed",LEN(L31)>0),"Ticket status incorrect",IF(AND(L31<K31,LEN(K31)>0,LEN(L31)>0),"Completed before created","")))))
B32: =IF(AND(LEN(D32)>0,LEN(E32)>0),MAX($B$5:B31)+1,"") -> 27 | C32: 3 | D32: Task | E32: Task 2.2 | F32: John | G32: 4 | H32: Low | I32: No | J32: Testing | K32: 44633 | O32: =IF(LEN(B32)=0,"",IF(LEN(K32)=0,"Creation date missing",IF(AND(J32="Completed",LEN(L32)=0),"Completion date missing",IF(AND(J32<>"Completed",LEN(L32)>0),"Ticket status incorrect",IF(AND(L32<K32,LEN(K32)>0,LEN(L32)>0),"Completed before created","")))))
B33: =IF(AND(LEN(D33)>0,LEN(E33)>0),MAX($B$5:B32)+1,"") -> 28 | C33: 3 | D33: User Story | E33: User Story 2.2 | F33: Kate | G33: 12 | H33: Low | I33: Yes | J33: Deployment | K33: 44632 | O33: =IF(LEN(B33)=0,"",IF(LEN(K33)=0,"Creation date missing",IF(AND(J33="Completed",LEN(L33)=0),"Completion date missing",IF(AND(J33<>"Completed",LEN(L33)>0),"Ticket status incorrect",IF(AND(L33<K33,LEN(K33)>0,LEN(L33)>0),"Completed before created","")))))
B34: =IF(AND(LEN(D34)>0,LEN(E34)>0),MAX($B$5:B33)+1,"") -> 29 | C34: 3 | D34: Bug | E34: Bug 2.1 | F34: John | G34: 9 | H34: Medium | I34: No | J34: Completed | K34: 44634 | L34: 44639 | O34: =IF(LEN(B34)=0,"",IF(LEN(K34)=0,"Creation date missing",IF(AND(J34="Completed",LEN(L34)=0),"Completion date missing",IF(AND(J34<>"Completed",LEN(L34)>0),"Ticket status incorrect",IF(AND(L34<K34,LEN(K34)>0,LEN(L34)>0),"Completed before created","")))))
B35: =IF(AND(LEN(D35)>0,LEN(E35)>0),MAX($B$5:B34)+1,"") -> 30 | C35: 3 | D35: Task | E35: Task 2.3 | F35: Kyle | G35: 13 | H35: Low | I35: Yes | K35: 44632 | O35: =IF(LEN(B35)=0,"",IF(LEN(K35)=0,"Creation date missing",IF(AND(J35="Completed",LEN(L35)=0),"Completion date missing",IF(AND(J35<>"Completed",LEN(L35)>0),"Ticket status incorrect",IF(AND(L35<K35,LEN(K35)>0,LEN(L35)>0),"Completed before created","")))))
B36: =IF(AND(LEN(D36)>0,LEN(E36)>0),MAX($B$5:B35)+1,"") -> 31 | C36: 4 | D36: Feature | E36: Feature 2.1 | F36: Mike | G36: 12 | H36: Low | I36: Yes | J36: In Progress | K36: 44650 | O36: =IF(LEN(B36)=0,"",IF(LEN(K36)=0,"Creation date missing",IF(AND(J36="Completed",LEN(L36)=0),"Completion date missing",IF(AND(J36<>"Completed",LEN(L36)>0),"Ticket status incorrect",IF(AND(L36<K36,LEN(K36)>0,LEN(L36)>0),"Completed before created","")))))
B37: =IF(AND(LEN(D37)>0,LEN(E37)>0),MAX($B$5:B36)+1,"") -> 32 | C37: 4 | D37: Bug | E37: Bug 2.2 | F37: Kate | G37: 10 | I37: No | J37: Open | K37: 44651 | O37: =IF(LEN(B37)=0,"",IF(LEN(K37)=0,"Creation date missing",IF(AND(J37="Completed",LEN(L37)=0),"Completion date missing",IF(AND(J37<>"Completed",LEN(L37)>0),"Ticket status incorrect",IF(AND(L37<K37,LEN(K37)>0,LEN(L37)>0),"Completed before created","")))))
B38: =IF(AND(LEN(D38)>0,LEN(E38)>0),MAX($B$5:B37)+1,"") -> 33 | C38: 4 | D38: User Story | E38: User Story 2.3 | F38: John | G38: 5 | H38: Low | I38: Yes | J38: Completed | K38: 44650 | L38: 44665 | O38: =IF(LEN(B38)=0,"",IF(LEN(K38)=0,"Creation date missing",IF(AND(J38="Completed",LEN(L38)=0),"Completion date missing",IF(AND(J38<>"Completed",LEN(L38)>0),"Ticket status incorrect",IF(AND(L38<K38,LEN(K38)>0,LEN(L38)>0),"Completed before created","")))))
B39: =IF(AND(LEN(D39)>0,LEN(E39)>0),MAX($B$5:B38)+1,"") -> 34 | C39: 4 | D39: Task | E39: Task 2.4 | F39: Kyle | G39: 1 | H39: Low | I39: No | J39: Deployment | K39: 44652 | O39: =IF(LEN(B39)=0,"",IF(LEN(K39)=0,"Creation date missing",IF(AND(J39="Completed",LEN(L39)=0),"Completion date missing",IF(AND(J39<>"Completed",LEN(L39)>0),"Ticket status incorrect",IF(AND(L39<K39,LEN(K39)>0,LEN(L39)>0),"Completed before created","")))))
B40: =IF(AND(LEN(D40)>0,LEN(E40)>0),MAX($B$5:B39)+1,"") -> 35 | C40: 4 | D40: User Story | E40: User Story 2.4 | F40: Mike | G40: 0 | H40: Medium | I40: Yes | J40: Deployment | K40: 44650 | O40: =IF(LEN(B40)=0,"",IF(LEN(K40)=0,"Creation date missing",IF(AND(J40="Completed",LEN(L40)=0),"Completion date missing",IF(AND(J40<>"Completed",LEN(L40)>0),"Ticket status incorrect",IF(AND(L40<K40,LEN(K40)>0,LEN(L40)>0),"Completed before created","")))))
B41: =IF(AND(LEN(D41)>0,LEN(E41)>0),MAX($B$5:B40)+1,"") -> 36 | C41: 4 | D41: Task | E41: Task 3.1 | F41: Mike | G41: 3 | I41: Yes | J41: Completed | K41: 44650 | L41: 44653 | O41: =IF(LEN(B41)=0,"",IF(LEN(K41)=0,"Creation date missing",IF(AND(J41="Completed",LEN(L41)=0),"Completion date missing",IF(AND(J41<>"Completed",LEN(L41)>0),"Ticket status incorrect",IF(AND(L41<K41,LEN(K41)>0,LEN(L41)>0),"Completed before created","")))))
B42: =IF(AND(LEN(D42)>0,LEN(E42)>0),MAX($B$5:B41)+1,"") -> 37 | C42: 4 | D42: Task | E42: Task 3.2 | F42: Carolyne | G42: 7 | H42: High | I42: Yes | J42: In Progress | K42: 44650 | O42: =IF(LEN(B42)=0,"",IF(LEN(K42)=0,"Creation date missing",IF(AND(J42="Completed",LEN(L42)=0),"Completion date missing",IF(AND(J42<>"Completed",LEN(L42)>0),"Ticket status incorrect",IF(AND(L42<K42,LEN(K42)>0,LEN(L42)>0),"Completed before created","")))))
B43: =IF(AND(LEN(D43)>0,LEN(E43)>0),MAX($B$5:B42)+1,"") -> 38 | C43: 4 | D43: Feature | E43: Feature 3.1 | F43: John | G43: 10 | H43: Low | I43: Yes | J43: Completed | K43: 44650 | L43: 44651 | O43: =IF(LEN(B43)=0,"",IF(LEN(K43)=0,"Creation date missing",IF(AND(J43="Completed",LEN(L43)=0),"Completion date missing",IF(AND(J43<>"Completed",LEN(L43)>0),"Ticket status incorrect",IF(AND(L43<K43,LEN(K43)>0,LEN(L43)>0),"Completed before created","")))))
B44: =IF(AND(LEN(D44)>0,LEN(E44)>0),MAX($B$5:B43)+1,"") -> 39 | C44: 4 | D44: Feature | E44: Feature 3.2 | F44: Kyle | G44: 0 | H44: Low | I44: Yes | J44: Testing | K44: 44650 | O44: =IF(LEN(B44)=0,"",IF(LEN(K44)=0,"Creation date missing",IF(AND(J44="Completed",LEN(L44)=0),"Completion date missing",IF(AND(J44<>"Completed",LEN(L44)>0),"Ticket status incorrect",IF(AND(L44<K44,LEN(K44)>0,LEN(L44)>0),"Completed before created","")))))
B45: =IF(AND(LEN(D45)>0,LEN(E45)>0),MAX($B$5:B44)+1,"") -> 40 | C45: 4 | D45: Feature | E45: Feature 3.3 | F45: Carolyne | G45: 11 | I45: Yes | J45: Deployment | K45: 44650 | O45: =IF(LEN(B45)=0,"",IF(LEN(K45)=0,"Creation date missing",IF(AND(J45="Completed",LEN(L45)=0),"Completion date missing",IF(AND(J45<>"Completed",LEN(L45)>0),"Ticket status incorrect",IF(AND(L45<K45,LEN(K45)>0,LEN(L45)>0),"Completed before created","")))))
B46: =IF(AND(LEN(D46)>0,LEN(E46)>0),MAX($B$5:B45)+1,"") -> 41 | C46: 5 | D46: Bug | E46: Bug 3.1 | F46: Kate | G46: 9 | H46: Low | I46: No | J46: Completed | K46: 44665 | L46: 44672 | O46: =IF(LEN(B46)=0,"",IF(LEN(K46)=0,"Creation date missing",IF(AND(J46="Completed",LEN(L46)=0),"Completion date missing",IF(AND(J46<>"Completed",LEN(L46)>0),"Ticket status incorrect",IF(AND(L46<K46,LEN(K46)>0,LEN(L46)>0),"Completed before created","")))))
B47: =IF(AND(LEN(D47)>0,LEN(E47)>0),MAX($B$5:B46)+1,"") -> 42 | C47: 5 | D47: Feature | E47: Feature 3.4 | F47: John | G47: 2 | H47: Low | I47: Yes | K47: 44665 | O47: =IF(LEN(B47)=0,"",IF(LEN(K47)=0,"Creation date missing",IF(AND(J47="Completed",LEN(L47)=0),"Completion date missing",IF(AND(J47<>"Completed",LEN(L47)>0),"Ticket status incorrect",IF(AND(L47<K47,LEN(K47)>0,LEN(L47)>0),"Completed before created","")))))
B48: =IF(AND(LEN(D48)>0,LEN(E48)>0),MAX($B$5:B47)+1,"") | O48: =IF(LEN(B48)=0,"",IF(LEN(K48)=0,"Creation date missing",IF(AND(J48="Completed",LEN(L48)=0),"Completion date missing",IF(AND(J48<>"Completed",LEN(L48)>0),"Ticket status incorrect",IF(AND(L48<K48,LEN(K48)>0,LEN(L48)>0),"Completed before created","")))))
B49: =IF(AND(LEN(D49)>0,LEN(E49)>0),MAX($B$5:B48)+1,"") | O49: =IF(LEN(B49)=0,"",IF(LEN(K49)=0,"Creation date missing",IF(AND(J49="Completed",LEN(L49)=0),"Completion date missing",IF(AND(J49<>"Completed",LEN(L49)>0),"Ticket status incorrect",IF(AND(L49<K49,LEN(K49)>0,LEN(L49)>0),"Completed before created","")))))
B50: =IF(AND(LEN(D50)>0,LEN(E50)>0),MAX($B$5:B49)+1,"") | O50: =IF(LEN(B50)=0,"",IF(LEN(K50)=0,"Creation date missing",IF(AND(J50="Completed",LEN(L50)=0),"Completion date missing",IF(AND(J50<>"Completed",LEN(L50)>0),"Ticket status incorrect",IF(AND(L50<K50,LEN(K50)>0,LEN(L50)>0),"Completed before created","")))))
B51: =IF(AND(LEN(D51)>0,LEN(E51)>0),MAX($B$5:B50)+1,"") | O51: =IF(LEN(B51)=0,"",IF(LEN(K51)=0,"Creation date missing",IF(AND(J51="Completed",LEN(L51)=0),"Completion date missing",IF(AND(J51<>"Completed",LEN(L51)>0),"Ticket status incorrect",IF(AND(L51<K51,LEN(K51)>0,LEN(L51)>0),"Completed before created","")))))
B52: =IF(AND(LEN(D52)>0,LEN(E52)>0),MAX($B$5:B51)+1,"") | O52: =IF(LEN(B52)=0,"",IF(LEN(K52)=0,"Creation date missing",IF(AND(J52="Completed",LEN(L52)=0),"Completion date missing",IF(AND(J52<>"Completed",LEN(L52)>0),"Ticket status incorrect",IF(AND(L52<K52,LEN(K52)>0,LEN(L52)>0),"Completed before created","")))))
B53: =IF(AND(LEN(D53)>0,LEN(E53)>0),MAX($B$5:B52)+1,"") | O53: =IF(LEN(B53)=0,"",IF(LEN(K53)=0,"Creation date missing",IF(AND(J53="Completed",LEN(L53)=0),"Completion date missing",IF(AND(J53<>"Completed",LEN(L53)>0),"Ticket status incorrect",IF(AND(L53<K53,LEN(K53)>0,LEN(L53)>0),"Completed before created","")))))
B54: =IF(AND(LEN(D54)>0,LEN(E54)>0),MAX($B$5:B53)+1,"") | O54: =IF(LEN(B54)=0,"",IF(LEN(K54)=0,"Creation date missing",IF(AND(J54="Completed",LEN(L54)=0),"Completion date missing",IF(AND(J54<>"Completed",LEN(L54)>0),"Ticket status incorrect",IF(AND(L54<K54,LEN(K54)>0,LEN(L54)>0),"Completed before created","")))))
B55: =IF(AND(LEN(D55)>0,LEN(E55)>0),MAX($B$5:B54)+1,"") | O55: =IF(LEN(B55)=0,"",IF(LEN(K55)=0,"Creation date missing",IF(AND(J55="Completed",LEN(L55)=0),"Completion date missing",IF(AND(J55<>"Completed",LEN(L55)>0),"Ticket status incorrect",IF(AND(L55<K55,LEN(K55)>0,LEN(L55)>0),"Completed before created","")))))

Sheet Kanban
D2: SPRINT PLANNING DASHBOARD
D3: KANBAN
D5: Sprint # | G5: Responsible | J5: Ticket type | M5: Priority
D6: 4 | G6: All | J6: All | M6: All
D8: Backlog Queue | G8: =Calculation!DI32 -> In Progress | J8: =Calculation!DI33 -> Open | M8: =Calculation!DI34 -> Testing | P8: =Calculation!DI35 -> Deployment | S8: =Calculation!DI36 -> Completed | V8: =Calculation!DI37 | Y8: =Calculation!DI38 | AB8: =Calculation!DI39 | AE8: =Calculation!DI40 | AH8: =Calculation!DI41
C9: =COLUMN(C9) -> 3 | D9: =COLUMN(D9) -> 4 | F9: =COLUMN(F9) -> 6 | G9: =COLUMN(G9) -> 7 | I9: =COLUMN(I9) -> 9 | J9: =COLUMN(J9) -> 10 | L9: =COLUMN(L9) -> 12 | M9: =COLUMN(M9) -> 13 | O9: =COLUMN(O9) -> 15 | P9: =COLUMN(P9) -> 16 | R9: =COLUMN(R9) -> 18 | S9: =COLUMN(S9) -> 19 | U9: =COLUMN(U9) -> 21 | V9: =COLUMN(V9) -> 22 | X9: =COLUMN(X9) -> 24 | Y9: =COLUMN(Y9) -> 25 | AA9: =COLUMN(AA9) -> 27 | AB9: =COLUMN(AB9) -> 28 | AD9: =COLUMN(AD9) -> 30 | AE9: =COLUMN(AE9) -> 31 | AG9: =COLUMN(AG9) -> 33 | AH9: =COLUMN(AH9) -> 34
B11: =IF(ISODD(ROW(startrow)),IF(ISODD(ROW(B11)),ROW(B11)-2,ROW(B11)-1),IF(ISODD(ROW(B11)),ROW(B11)-1,ROW(B11)-2)) -> 10 | C11: =IFERROR(IF($B11<>$B9, HYPERLINK("#Backlog!B"&MATCH(D11,KanbanContentR1,0)+ROW(BacklogStart),"➤"),""),"") | D11: =IFERROR(INDEX(KanbanContentAll,MATCH(D$9&"-"&$B11,KanbanIndexList,0),IF($B11=$B9,2,1)),"") | F11: =IFERROR(IF($B11<>$B9, HYPERLINK("#Backlog!B"&MATCH(G11,KanbanContentR1,0)+ROW(BacklogStart),"➤"),""),"") -> ➤ | G11: =IFERROR(INDEX(KanbanContentAll,MATCH(G$9&"-"&$B11,KanbanIndexList,0),IF($B11=$B9,2,1)),"") -> #31 - Feature 2.1 | I11: =IFERROR(IF($B11<>$B9, HYPERLINK("#Backlog!B"&MATCH(J11,KanbanContentR1,0)+ROW(BacklogStart),"➤"),""),"") -> ➤ | J11: =IFERROR(INDEX(KanbanContentAll,MATCH(J$9&"-"&$B11,KanbanIndexList,0),IF($B11=$B9,2,1)),"") -> #32 - Bug 2.2 | L11: =IFERROR(IF($B11<>$B9, HYPERLINK("#Backlog!B"&MATCH(M11,KanbanContentR1,0)+ROW(BacklogStart),"➤"),""),"") -> ➤ | M11: =IFERROR(INDEX(KanbanContentAll,MATCH(M$9&"-"&$B11,KanbanIndexList,0),IF($B11=$B9,2,1)),"") -> #39 - Feature 3.2 | O11: =IFERROR(IF($B11<>$B9, HYPERLINK("#Backlog!B"&MATCH(P11,KanbanContentR1,0)+ROW(BacklogStart),"➤"),""),"") -> ➤ | P11: =IFERROR(INDEX(KanbanContentAll,MATCH(P$9&"-"&$B11,KanbanIndexList,0),IF($B11=$B9,2,1)),"") -> #34 - Task 2.4 | R11: =IFERROR(IF($B11<>$B9, HYPERLINK("#Backlog!B"&MATCH(S11,KanbanContentR1,0)+ROW(BacklogStart),"➤"),""),"") -> ➤ | S11: =IFERROR(INDEX(KanbanContentAll,MATCH(S$9&"-"&$B11,KanbanIndexList,0),IF($B11=$B9,2,1)),"") -> #33 - User Story 2.3 | U11: =IFERROR(IF($B11<>$B9, HYPERLINK("#Backlog!B"&MATCH(V11,KanbanContentR1,0)+ROW(BacklogStart),"➤"),""),"") | V11: =IFERROR(INDEX(KanbanContentAll,MATCH(V$9&"-"&$B11,KanbanIndexList,0),IF($B11=$B9,2,1)),"") | X11: =IFERROR(IF($B11<>$B9, HYPERLINK("#Backlog!B"&MATCH(Y11,KanbanContentR1,0)+ROW(BacklogStart),"➤"),""),"") | Y11: =IFERROR(INDEX(KanbanContentAll,MATCH(Y$9&"-"&$B11,KanbanIndexList,0),IF($B11=$B9,2,1)),"") | AA11: =IFERROR(IF($B11<>$B9, HYPERLINK("#Backlog!B"&MATCH(AB11,KanbanContentR1,0)+ROW(BacklogStart),"➤"),""),"") | AB11: =IFERROR(INDEX(KanbanContentAll,MATCH(AB$9&"-"&$B11,KanbanIndexList,0),IF($B11=$B9,2,1)),"") | AD11: =IFERROR(IF($B11<>$B9, HYPERLINK("#Backlog!B"&MATCH(AE11,KanbanContentR1,0)+ROW(BacklogStart),"➤"),""),"") | AE11: =IFERROR(INDEX(KanbanContentAll,MATCH(AE$9&"-"&$B11,KanbanIndexList,0),IF($B11=$B9,2,1)),"") | AG11: =IFERROR(IF($B11<>$B9, HYPERLINK("#Backlog!B"&MATCH(AH11,KanbanContentR1,0)+ROW(BacklogStart),"➤"),""),"") | AH11: =IFERROR(INDEX(KanbanContentAll,MATCH(AH$9&"-"&$B11,KanbanIndexList,0),IF($B11=$B9,2,1)),"")
B12: =IF(ISODD(ROW(startrow)),IF(ISODD(ROW(B12)),ROW(B12)-2,ROW(B12)-1),IF(ISODD(ROW(B12)),ROW(B12)-1,ROW(B12)-2)) -> 10 | C12: =IFERROR(IF($B12<>$B11, HYPERLINK("#Backlog!B"&MATCH(D12,KanbanContentR1,0)+ROW(BacklogStart),"➤"),""),"") | D12: =IFERROR(INDEX(KanbanContentAll,MATCH(D$9&"-"&$B12,KanbanIndexList,0),IF($B12=$B11,2,1)),"") | F12: =IFERROR(IF($B12<>$B11, HYPERLINK("#Backlog!B"&MATCH(G12,KanbanContentR1,0)+ROW(BacklogStart),"➤"),""),"") | G12: =IFERROR(INDEX(KanbanContentAll,MATCH(G$9&"-"&$B12,KanbanIndexList,0),IF($B12=$B11,2,1)),"") -> Feature 2.1 | I12: =IFERROR(IF($B12<>$B11, HYPERLINK("#Backlog!B"&MATCH(J12,KanbanContentR1,0)+ROW(BacklogStart),"➤"),""),"") | J12: =IFERROR(INDEX(KanbanContentAll,MATCH(J$9&"-"&$B12,KanbanIndexList,0),IF($B12=$B11,2,1)),"") -> Bug 2.2 | L12: =IFERROR(IF($B12<>$B11, HYPERLINK("#Backlog!B"&MATCH(M12,KanbanContentR1,0)+ROW(BacklogStart),"➤"),""),"") | M12: =IFERROR(INDEX(KanbanContentAll,MATCH(M$9&"-"&$B12,KanbanIndexList,0),IF($B12=$B11,2,1)),"") -> Feature 3.2 | O12: =IFERROR(IF($B12<>$B11, HYPERLINK("#Backlog!B"&MATCH(P12,KanbanContentR1,0)+ROW(BacklogStart),"➤"),""),"") | P12: =IFERROR(INDEX(KanbanContentAll,MATCH(P$9&"-"&$B12,KanbanIndexList,0),IF($B12=$B11,2,1)),"") -> Task 2.4 | R12: =IFERROR(IF($B12<>$B11, HYPERLINK("#Backlog!B"&MATCH(S12,KanbanContentR1,0)+ROW(BacklogStart),"➤"),""),"") | S12: =IFERROR(INDEX(KanbanContentAll,MATCH(S$9&"-"&$B12,KanbanIndexList,0),IF($B12=$B11,2,1)),"") -> User Story 2.3 | U12: =IFERROR(IF($B12<>$B11, HYPERLINK("#Backlog!B"&MATCH(V12,KanbanContentR1,0)+ROW(BacklogStart),"➤"),""),"") | V12: =IFERROR(INDEX(KanbanContentAll,MATCH(V$9&"-"&$B12,KanbanIndexList,0),IF($B12=$B11,2,1)),"") | X12: =IFERROR(IF($B12<>$B11, HYPERLINK("#Backlog!B"&MATCH(Y12,KanbanContentR1,0)+ROW(BacklogStart),"➤"),""),"") | Y12: =IFERROR(INDEX(KanbanContentAll,MATCH(Y$9&"-"&$B12,KanbanIndexList,0),IF($B12=$B11,2,1)),"") | AA12: =IFERROR(IF($B12<>$B11, HYPERLINK("#Backlog!B"&MATCH(AB12,KanbanContentR1,0)+ROW(BacklogStart),"➤"),""),"") | AB12: =IFERROR(INDEX(KanbanContentAll,MATCH(AB$9&"-"&$B12,KanbanIndexList,0),IF($B12=$B11,2,1)),"") | AD12: =IFERROR(IF($B12<>$B11, HYPERLINK("#Backlog!B"&MATCH(AE12,KanbanContentR1,0)+ROW(BacklogStart),"➤"),""),"") | AE12: =IFERROR(INDEX(KanbanContentAll,MATCH(AE$9&"-"&$B12,KanbanIndexList,0),IF($B12=$B11,2,1)),"") | AG12: =IFERROR(IF($B12<>$B11, HYPERLINK("#Backlog!B"&MATCH(AH12,KanbanContentR1,0)+ROW(BacklogStart),"➤"),""),"") | AH12: =IFERROR(INDEX(KanbanContentAll,MATCH(AH$9&"-"&$B12,KanbanIndexList,0),IF($B12=$B11,2,1)),"")
B13: =IF(ISODD(ROW(startrow)),IF(ISODD(ROW(B13)),ROW(B13)-2,ROW(B13)-1),IF(ISODD(ROW(B13)),ROW(B13)-1,ROW(B13)-2)) -> 12 | C13: =IFERROR(IF($B13<>$B12, HYPERLINK("#Backlog!B"&MATCH(D13,KanbanContentR1,0)+ROW(BacklogStart),"➤"),""),"") | D13: =IFERROR(INDEX(KanbanContentAll,MATCH(D$9&"-"&$B13,KanbanIndexList,0),IF($B13=$B12,2,1)),"") | F13: =IFERROR(IF($B13<>$B12, HYPERLINK("#Backlog!B"&MATCH(G13,KanbanContentR1,0)+ROW(BacklogStart),"➤"),""),"") -> ➤ | G13: =IFERROR(INDEX(KanbanContentAll,MATCH(G$9&"-"&$B13,KanbanIndexList,0),IF($B13=$B12,2,1)),"") -> #37 - Task 3.2 | I13: =IFERROR(IF($B13<>$B12, HYPERLINK("#Backlog!B"&MATCH(J13,KanbanContentR1,0)+ROW(BacklogStart),"➤"),""),"") | J13: =IFERROR(INDEX(KanbanContentAll,MATCH(J$9&"-"&$B13,KanbanIndexList,0),IF($B13=$B12,2,1)),"") | L13: =IFERROR(IF($B13<>$B12, HYPERLINK("#Backlog!B"&MATCH(M13,KanbanContentR1,0)+ROW(BacklogStart),"➤"),""),"") | M13: =IFERROR(INDEX(KanbanContentAll,MATCH(M$9&"-"&$B13,KanbanIndexList,0),IF($B13=$B12,2,1)),"") | O13: =IFERROR(IF($B13<>$B12, HYPERLINK("#Backlog!B"&MATCH(P13,KanbanContentR1,0)+ROW(BacklogStart),"➤"),""),"") -> ➤ | P13: =IFERROR(INDEX(KanbanContentAll,MATCH(P$9&"-"&$B13,KanbanIndexList,0),IF($B13=$B12,2,1)),"") -> #35 - User Story 2.4 | R13: =IFERROR(IF($B13<>$B12, HYPERLINK("#Backlog!B"&MATCH(S13,KanbanContentR1,0)+ROW(BacklogStart),"➤"),""),"") -> ➤ | S13: =IFERROR(INDEX(KanbanContentAll,MATCH(S$9&"-"&$B13,KanbanIndexList,0),IF($B13=$B12,2,1)),"") -> #36 - Task 3.1 | U13: =IFERROR(IF($B13<>$B12, HYPERLINK("#Backlog!B"&MATCH(V13,KanbanContentR1,0)+ROW(BacklogStart),"➤"),""),"") | V13: =IFERROR(INDEX(KanbanContentAll,MATCH(V$9&"-"&$B13,KanbanIndexList,0),IF($B13=$B12,2,1)),"") | X13: =IFERROR(IF($B13<>$B12, HYPERLINK("#Backlog!B"&MATCH(Y13,KanbanContentR1,0)+ROW(BacklogStart),"➤"),""),"") | Y13: =IFERROR(INDEX(KanbanContentAll,MATCH(Y$9&"-"&$B13,KanbanIndexList,0),IF($B13=$B12,2,1)),"") | AA13: =IFERROR(IF($B13<>$B12, HYPERLINK("#Backlog!B"&MATCH(AB13,KanbanContentR1,0)+ROW(BacklogStart),"➤"),""),"") | AB13: =IFERROR(INDEX(KanbanContentAll,MATCH(AB$9&"-"&$B13,KanbanIndexList,0),IF($B13=$B12,2,1)),"") | AD13: =IFERROR(IF($B13<>$B12, HYPERLINK("#Backlog!B"&MATCH(AE13,KanbanContentR1,0)+ROW(BacklogStart),"➤"),""),"") | AE13: =IFERROR(INDEX(KanbanContentAll,MATCH(AE$9&"-"&$B13,KanbanIndexList,0),IF($B13=$B12,2,1)),"") | AG13: =IFERROR(IF($B13<>$B12, HYPERLINK("#Backlog!B"&MATCH(AH13,KanbanContentR1,0)+ROW(BacklogStart),"➤"),""),"") | AH13: =IFERROR(INDEX(KanbanContentAll,MATCH(AH$9&"-"&$B13,KanbanIndexList,0),IF($B13=$B12,2,1)),"")
B14: =IF(ISODD(ROW(startrow)),IF(ISODD(ROW(B14)),ROW(B14)-2,ROW(B14)-1),IF(ISODD(ROW(B14)),ROW(B14)-1,ROW(B14)-2)) -> 12 | C14: =IFERROR(IF($B14<>$B13, HYPERLINK("#Backlog!B"&MATCH(D14,KanbanContentR1,0)+ROW(BacklogStart),"➤"),""),"") | D14: =IFERROR(INDEX(KanbanContentAll,MATCH(D$9&"-"&$B14,KanbanIndexList,0),IF($B14=$B13,2,1)),"") | F14: =IFERROR(IF($B14<>$B13, HYPERLINK("#Backlog!B"&MATCH(G14,KanbanContentR1,0)+ROW(BacklogStart),"➤"),""),"") | G14: =IFERROR(INDEX(KanbanContentAll,MATCH(G$9&"-"&$B14,KanbanIndexList,0),IF($B14=$B13,2,1)),"") -> Task 3.2 | I14: =IFERROR(IF($B14<>$B13, HYPERLINK("#Backlog!B"&MATCH(J14,KanbanContentR1,0)+ROW(BacklogStart),"➤"),""),"") | J14: =IFERROR(INDEX(KanbanContentAll,MATCH(J$9&"-"&$B14,KanbanIndexList,0),IF($B14=$B13,2,1)),"") | L14: =IFERROR(IF($B14<>$B13, HYPERLINK("#Backlog!B"&MATCH(M14,KanbanContentR1,0)+ROW(BacklogStart),"➤"),""),"") | M14: =IFERROR(INDEX(KanbanContentAll,MATCH(M$9&"-"&$B14,KanbanIndexList,0),IF($B14=$B13,2,1)),"") | O14: =IFERROR(IF($B14<>$B13, HYPERLINK("#Backlog!B"&MATCH(P14,KanbanContentR1,0)+ROW(BacklogStart),"➤"),""),"") | P14: =IFERROR(INDEX(KanbanContentAll,MATCH(P$9&"-"&$B14,KanbanIndexList,0),IF($B14=$B13,2,1)),"") -> User Story 2.4 | R14: =IFERROR(IF($B14<>$B13, HYPERLINK("#Backlog!B"&MATCH(S14,KanbanContentR1,0)+ROW(BacklogStart),"➤"),""),"") | S14: =IFERROR(INDEX(KanbanContentAll,MATCH(S$9&"-"&$B14,KanbanIndexList,0),IF($B14=$B13,2,1)),"") -> Task 3.1 | U14: =IFERROR(IF($B14<>$B13, HYPERLINK("#Backlog!B"&MATCH(V14,KanbanContentR1,0)+ROW(BacklogStart),"➤"),""),"") | V14: =IFERROR(INDEX(KanbanContentAll,MATCH(V$9&"-"&$B14,KanbanIndexList,0),IF($B14=$B13,2,1)),"") | X14: =IFERROR(IF($B14<>$B13, HYPERLINK("#Backlog!B"&MATCH(Y14,KanbanContentR1,0)+ROW(BacklogStart),"➤"),""),"") | Y14: =IFERROR(INDEX(KanbanContentAll,MATCH(Y$9&"-"&$B14,KanbanIndexList,0),IF($B14=$B13,2,1)),"") | AA14: =IFERROR(IF($B14<>$B13, HYPERLINK("#Backlog!B"&MATCH(AB14,KanbanContentR1,0)+ROW(BacklogStart),"➤"),""),"") | AB14: =IFERROR(INDEX(KanbanContentAll,MATCH(AB$9&"-"&$B14,KanbanIndexList,0),IF($B14=$B13,2,1)),"") | AD14: =IFERROR(IF($B14<>$B13, HYPERLINK("#Backlog!B"&MATCH(AE14,KanbanContentR1,0)+ROW(BacklogStart),"➤"),""),"") | AE14: =IFERROR(INDEX(KanbanContentAll,MATCH(AE$9&"-"&$B14,KanbanIndexList,0),IF($B14=$B13,2,1)),"") | AG14: =IFERROR(IF($B14<>$B13, HYPERLINK("#Backlog!B"&MATCH(AH14,KanbanContentR1,0)+ROW(BacklogStart),"➤"),""),"") | AH14: =IFERROR(INDEX(KanbanContentAll,MATCH(AH$9&"-"&$B14,KanbanIndexList,0),IF($B14=$B13,2,1)),"")
B15: =IF(ISODD(ROW(startrow)),IF(ISODD(ROW(B15)),ROW(B15)-2,ROW(B15)-1),IF(ISODD(ROW(B15)),ROW(B15)-1,ROW(B15)-2)) -> 14 | C15: =IFERROR(IF($B15<>$B14, HYPERLINK("#Backlog!B"&MATCH(D15,KanbanContentR1,0)+ROW(BacklogStart),"➤"),""),"") | D15: =IFERROR(INDEX(KanbanContentAll,MATCH(D$9&"-"&$B15,KanbanIndexList,0),IF($B15=$B14,2,1)),"") | F15: =IFERROR(IF($B15<>$B14, HYPERLINK("#Backlog!B"&MATCH(G15,KanbanContentR1,0)+ROW(BacklogStart),"➤"),""),"") | G15: =IFERROR(INDEX(KanbanContentAll,MATCH(G$9&"-"&$B15,KanbanIndexList,0),IF($B15=$B14,2,1)),"") | I15: =IFERROR(IF($B15<>$B14, HYPERLINK("#Backlog!B"&MATCH(J15,KanbanContentR1,0)+ROW(BacklogStart),"➤"),""),"") | J15: =IFERROR(INDEX(KanbanContentAll,MATCH(J$9&"-"&$B15,KanbanIndexList,0),IF($B15=$B14,2,1)),"") | L15: =IFERROR(IF($B15<>$B14, HYPERLINK("#Backlog!B"&MATCH(M15,KanbanContentR1,0)+ROW(BacklogStart),"➤"),""),"") | M15: =IFERROR(INDEX(KanbanContentAll,MATCH(M$9&"-"&$B15,KanbanIndexList,0),IF($B15=$B14,2,1)),"") | O15: =IFERROR(IF($B15<>$B14, HYPERLINK("#Backlog!B"&MATCH(P15,KanbanContentR1,0)+ROW(BacklogStart),"➤"),""),"") -> ➤ | P15: =IFERROR(INDEX(KanbanContentAll,MATCH(P$9&"-"&$B15,KanbanIndexList,0),IF($B15=$B14,2,1)),"") -> #40 - Feature 3.3 | R15: =IFERROR(IF($B15<>$B14, HYPERLINK("#Backlog!B"&MATCH(S15,KanbanContentR1,0)+ROW(BacklogStart),"➤"),""),"") -> ➤ | S15: =IFERROR(INDEX(KanbanContentAll,MATCH(S$9&"-"&$B15,KanbanIndexList,0),IF($B15=$B14,2,1)),"") -> #38 - Feature 3.1 | U15: =IFERROR(IF($B15<>$B14, HYPERLINK("#Backlog!B"&MATCH(V15,KanbanContentR1,0)+ROW(BacklogStart),"➤"),""),"") | V15: =IFERROR(INDEX(KanbanContentAll,MATCH(V$9&"-"&$B15,KanbanIndexList,0),IF($B15=$B14,2,1)),"") | X15: =IFERROR(IF($B15<>$B14, HYPERLINK("#Backlog!B"&MATCH(Y15,KanbanContentR1,0)+ROW(BacklogStart),"➤"),""),"") | Y15: =IFERROR(INDEX(KanbanContentAll,MATCH(Y$9&"-"&$B15,KanbanIndexList,0),IF($B15=$B14,2,1)),"") | AA15: =IFERROR(IF($B15<>$B14, HYPERLINK("#Backlog!B"&MATCH(AB15,KanbanContentR1,0)+ROW(BacklogStart),"➤"),""),"") | AB15: =IFERROR(INDEX(KanbanContentAll,MATCH(AB$9&"-"&$B15,KanbanIndexList,0),IF($B15=$B14,2,1)),"") | AD15: =IFERROR(IF($B15<>$B14, HYPERLINK("#Backlog!B"&MATCH(AE15,KanbanContentR1,0)+ROW(BacklogStart),"➤"),""),"") | AE15: =IFERROR(INDEX(KanbanContentAll,MATCH(AE$9&"-"&$B15,KanbanIndexList,0),IF($B15=$B14,2,1)),"") | AG15: =IFERROR(IF($B15<>$B14, HYPERLINK("#Backlog!B"&MATCH(AH15,KanbanContentR1,0)+ROW(BacklogStart),"➤"),""),"") | AH15: =IFERROR(INDEX(KanbanContentAll,MATCH(AH$9&"-"&$B15,KanbanIndexList,0),IF($B15=$B14,2,1)),"")
B16: =IF(ISODD(ROW(startrow)),IF(ISODD(ROW(B16)),ROW(B16)-2,ROW(B16)-1),IF(ISODD(ROW(B16)),ROW(B16)-1,ROW(B16)-2)) -> 14 | C16: =IFERROR(IF($B16<>$B15, HYPERLINK("#Backlog!B"&MATCH(D16,KanbanContentR1,0)+ROW(BacklogStart),"➤"),""),"") | D16: =IFERROR(INDEX(KanbanContentAll,MATCH(D$9&"-"&$B16,KanbanIndexList,0),IF($B16=$B15,2,1)),"") | F16: =IFERROR(IF($B16<>$B15, HYPERLINK("#Backlog!B"&MATCH(G16,KanbanContentR1,0)+ROW(BacklogStart),"➤"),""),"") | G16: =IFERROR(INDEX(KanbanContentAll,MATCH(G$9&"-"&$B16,KanbanIndexList,0),IF($B16=$B15,2,1)),"") | I16: =IFERROR(IF($B16<>$B15, HYPERLINK("#Backlog!B"&MATCH(J16,KanbanContentR1,0)+ROW(BacklogStart),"➤"),""),"") | J16: =IFERROR(INDEX(KanbanContentAll,MATCH(J$9&"-"&$B16,KanbanIndexList,0),IF($B16=$B15,2,1)),"") | L16: =IFERROR(IF($B16<>$B15, HYPERLINK("#Backlog!B"&MATCH(M16,KanbanContentR1,0)+ROW(BacklogStart),"➤"),""),"") | M16: =IFERROR(INDEX(KanbanContentAll,MATCH(M$9&"-"&$B16,KanbanIndexList,0),IF($B16=$B15,2,1)),"") | O16: =IFERROR(IF($B16<>$B15, HYPERLINK("#Backlog!B"&MATCH(P16,KanbanContentR1,0)+ROW(BacklogStart),"➤"),""),"") | P16: =IFERROR(INDEX(KanbanContentAll,MATCH(P$9&"-"&$B16,KanbanIndexList,0),IF($B16=$B15,2,1)),"") -> Feature 3.3 | R16: =IFERROR(IF($B16<>$B15, HYPERLINK("#Backlog!B"&MATCH(S16,KanbanContentR1,0)+ROW(BacklogStart),"➤"),""),"") | S16: =IFERROR(INDEX(KanbanContentAll,MATCH(S$9&"-"&$B16,KanbanIndexList,0),IF($B16=$B15,2,1)),"") -> Feature 3.1 | U16: =IFERROR(IF($B16<>$B15, HYPERLINK("#Backlog!B"&MATCH(V16,KanbanContentR1,0)+ROW(BacklogStart),"➤"),""),"") | V16: =IFERROR(INDEX(KanbanContentAll,MATCH(V$9&"-"&$B16,KanbanIndexList,0),IF($B16=$B15,2,1)),"") | X16: =IFERROR(IF($B16<>$B15, HYPERLINK("#Backlog!B"&MATCH(Y16,KanbanContentR1,0)+ROW(BacklogStart),"➤"),""),"") | Y16: =IFERROR(INDEX(KanbanContentAll,MATCH(Y$9&"-"&$B16,KanbanIndexList,0),IF($B16=$B15,2,1)),"") | AA16: =IFERROR(IF($B16<>$B15, HYPERLINK("#Backlog!B"&MATCH(AB16,KanbanContentR1,0)+ROW(BacklogStart),"➤"),""),"") | AB16: =IFERROR(INDEX(KanbanContentAll,MATCH(AB$9&"-"&$B16,KanbanIndexList,0),IF($B16=$B15,2,1)),"") | AD16: =IFERROR(IF($B16<>$B15, HYPERLINK("#Backlog!B"&MATCH(AE16,KanbanContentR1,0)+ROW(BacklogStart),"➤"),""),"") | AE16: =IFERROR(INDEX(KanbanContentAll,MATCH(AE$9&"-"&$B16,KanbanIndexList,0),IF($B16=$B15,2,1)),"") | AG16: =IFERROR(IF($B16<>$B15, HYPERLINK("#Backlog!B"&MATCH(AH16,KanbanContentR1,0)+ROW(BacklogStart),"➤"),""),"") | AH16: =IFERROR(INDEX(KanbanContentAll,MATCH(AH$9&"-"&$B16,KanbanIndexList,0),IF($B16=$B15,2,1)),"")
B17: =IF(ISODD(ROW(startrow)),IF(ISODD(ROW(B17)),ROW(B17)-2,ROW(B17)-1),IF(ISODD(ROW(B17)),ROW(B17)-1,ROW(B17)-2)) -> 16 | C17: =IFERROR(IF($B17<>$B16, HYPERLINK("#Backlog!B"&MATCH(D17,KanbanContentR1,0)+ROW(BacklogStart),"➤"),""),"") | D17: =IFERROR(INDEX(KanbanContentAll,MATCH(D$9&"-"&$B17,KanbanIndexList,0),IF($B17=$B16,2,1)),"") | F17: =IFERROR(IF($B17<>$B16, HYPERLINK("#Backlog!B"&MATCH(G17,KanbanContentR1,0)+ROW(BacklogStart),"➤"),""),"") | G17: =IFERROR(INDEX(KanbanContentAll,MATCH(G$9&"-"&$B17,KanbanIndexList,0),IF($B17=$B16,2,1)),"") | I17: =IFERROR(IF($B17<>$B16, HYPERLINK("#Backlog!B"&MATCH(J17,KanbanContentR1,0)+ROW(BacklogStart),"➤"),""),"") | J17: =IFERROR(INDEX(KanbanContentAll,MATCH(J$9&"-"&$B17,KanbanIndexList,0),IF($B17=$B16,2,1)),"") | L17: =IFERROR(IF($B17<>$B16, HYPERLINK("#Backlog!B"&MATCH(M17,KanbanContentR1,0)+ROW(BacklogStart),"➤"),""),"") | M17: =IFERROR(INDEX(KanbanContentAll,MATCH(M$9&"-"&$B17,KanbanIndexList,0),IF($B17=$B16,2,1)),"") | O17: =IFERROR(IF($B17<>$B16, HYPERLINK("#Backlog!B"&MATCH(P17,KanbanContentR1,0)+ROW(BacklogStart),"➤"),""),"") | P17: =IFERROR(INDEX(KanbanContentAll,MATCH(P$9&"-"&$B17,KanbanIndexList,0),IF($B17=$B16,2,1)),"") | R17: =IFERROR(IF($B17<>$B16, HYPERLINK("#Backlog!B"&MATCH(S17,KanbanContentR1,0)+ROW(BacklogStart),"➤"),""),"") | S17: =IFERROR(INDEX(KanbanContentAll,MATCH(S$9&"-"&$B17,KanbanIndexList,0),IF($B17=$B16,2,1)),"") | U17: =IFERROR(IF($B17<>$B16, HYPERLINK("#Backlog!B"&MATCH(V17,KanbanContentR1,0)+ROW(BacklogStart),"➤"),""),"") | V17: =IFERROR(INDEX(KanbanContentAll,MATCH(V$9&"-"&$B17,KanbanIndexList,0),IF($B17=$B16,2,1)),"") | X17: =IFERROR(IF($B17<>$B16, HYPERLINK("#Backlog!B"&MATCH(Y17,KanbanContentR1,0)+ROW(BacklogStart),"➤"),""),"") | Y17: =IFERROR(INDEX(KanbanContentAll,MATCH(Y$9&"-"&$B17,KanbanIndexList,0),IF($B17=$B16,2,1)),"") | AA17: =IFERROR(IF($B17<>$B16, HYPERLINK("#Backlog!B"&MATCH(AB17,KanbanContentR1,0)+ROW(BacklogStart),"➤"),""),"") | AB17: =IFERROR(INDEX(KanbanContentAll,MATCH(AB$9&"-"&$B17,KanbanIndexList,0),IF($B17=$B16,2,1)),"") | AD17: =IFERROR(IF($B17<>$B16, HYPERLINK("#Backlog!B"&MATCH(AE17,KanbanContentR1,0)+ROW(BacklogStart),"➤"),""),"") | AE17: =IFERROR(INDEX(KanbanContentAll,MATCH(AE$9&"-"&$B17,KanbanIndexList,0),IF($B17=$B16,2,1)),"") | AG17: =IFERROR(IF($B17<>$B16, HYPERLINK("#Backlog!B"&MATCH(AH17,KanbanContentR1,0)+ROW(BacklogStart),"➤"),""),"") | AH17: =IFERROR(INDEX(KanbanContentAll,MATCH(AH$9&"-"&$B17,KanbanIndexList,0),IF($B17=$B16,2,1)),"")
B18: =IF(ISODD(ROW(startrow)),IF(ISODD(ROW(B18)),ROW(B18)-2,ROW(B18)-1),IF(ISODD(ROW(B18)),ROW(B18)-1,ROW(B18)-2)) -> 16 | C18: =IFERROR(IF($B18<>$B17, HYPERLINK("#Backlog!B"&MATCH(D18,KanbanContentR1,0)+ROW(BacklogStart),"➤"),""),"") | D18: =IFERROR(INDEX(KanbanContentAll,MATCH(D$9&"-"&$B18,KanbanIndexList,0),IF($B18=$B17,2,1)),"") | F18: =IFERROR(IF($B18<>$B17, HYPERLINK("#Backlog!B"&MATCH(G18,KanbanContentR1,0)+ROW(BacklogStart),"➤"),""),"") | G18: =IFERROR(INDEX(KanbanContentAll,MATCH(G$9&"-"&$B18,KanbanIndexList,0),IF($B18=$B17,2,1)),"") | I18: =IFERROR(IF($B18<>$B17, HYPERLINK("#Backlog!B"&MATCH(J18,KanbanContentR1,0)+ROW(BacklogStart),"➤"),""),"") | J18: =IFERROR(INDEX(KanbanContentAll,MATCH(J$9&"-"&$B18,KanbanIndexList,0),IF($B18=$B17,2,1)),"") | L18: =IFERROR(IF($B18<>$B17, HYPERLINK("#Backlog!B"&MATCH(M18,KanbanContentR1,0)+ROW(BacklogStart),"➤"),""),"") | M18: =IFERROR(INDEX(KanbanContentAll,MATCH(M$9&"-"&$B18,KanbanIndexList,0),IF($B18=$B17,2,1)),"") | O18: =IFERROR(IF($B18<>$B17, HYPERLINK("#Backlog!B"&MATCH(P18,KanbanContentR1,0)+ROW(BacklogStart),"➤"),""),"") | P18: =IFERROR(INDEX(KanbanContentAll,MATCH(P$9&"-"&$B18,KanbanIndexList,0),IF($B18=$B17,2,1)),"") | R18: =IFERROR(IF($B18<>$B17, HYPERLINK("#Backlog!B"&MATCH(S18,KanbanContentR1,0)+ROW(BacklogStart),"➤"),""),"") | S18: =IFERROR(INDEX(KanbanContentAll,MATCH(S$9&"-"&$B18,KanbanIndexList,0),IF($B18=$B17,2,1)),"") | U18: =IFERROR(IF($B18<>$B17, HYPERLINK("#Backlog!B"&MATCH(V18,KanbanContentR1,0)+ROW(BacklogStart),"➤"),""),"") | V18: =IFERROR(INDEX(KanbanContentAll,MATCH(V$9&"-"&$B18,KanbanIndexList,0),IF($B18=$B17,2,1)),"") | X18: =IFERROR(IF($B18<>$B17, HYPERLINK("#Backlog!B"&MATCH(Y18,KanbanContentR1,0)+ROW(BacklogStart),"➤"),""),"") | Y18: =IFERROR(INDEX(KanbanContentAll,MATCH(Y$9&"-"&$B18,KanbanIndexList,0),IF($B18=$B17,2,1)),"") | AA18: =IFERROR(IF($B18<>$B17, HYPERLINK("#Backlog!B"&MATCH(AB18,KanbanContentR1,0)+ROW(BacklogStart),"➤"),""),"") | AB18: =IFERROR(INDEX(KanbanContentAll,MATCH(AB$9&"-"&$B18,KanbanIndexList,0),IF($B18=$B17,2,1)),"") | AD18: =IFERROR(IF($B18<>$B17, HYPERLINK("#Backlog!B"&MATCH(AE18,KanbanContentR1,0)+ROW(BacklogStart),"➤"),""),"") | AE18: =IFERROR(INDEX(KanbanContentAll,MATCH(AE$9&"-"&$B18,KanbanIndexList,0),IF($B18=$B17,2,1)),"") | AG18: =IFERROR(IF($B18<>$B17, HYPERLINK("#Backlog!B"&MATCH(AH18,KanbanContentR1,0)+ROW(BacklogStart),"➤"),""),"") | AH18: =IFERROR(INDEX(KanbanContentAll,MATCH(AH$9&"-"&$B18,KanbanIndexList,0),IF($B18=$B17,2,1)),"")
B19: =IF(ISODD(ROW(startrow)),IF(ISODD(ROW(B19)),ROW(B19)-2,ROW(B19)-1),IF(ISODD(ROW(B19)),ROW(B19)-1,ROW(B19)-2)) -> 18 | C19: =IFERROR(IF($B19<>$B18, HYPERLINK("#Backlog!B"&MATCH(D19,KanbanContentR1,0)+ROW(BacklogStart),"➤"),""),"") | D19: =IFERROR(INDEX(KanbanContentAll,MATCH(D$9&"-"&$B19,KanbanIndexList,0),IF($B19=$B18,2,1)),"") | F19: =IFERROR(IF($B19<>$B18, HYPERLINK("#Backlog!B"&MATCH(G19,KanbanContentR1,0)+ROW(BacklogStart),"➤"),""),"") | G19: =IFERROR(INDEX(KanbanContentAll,MATCH(G$9&"-"&$B19,KanbanIndexList,0),IF($B19=$B18,2,1)),"") | I19: =IFERROR(IF($B19<>$B18, HYPERLINK("#Backlog!B"&MATCH(J19,KanbanContentR1,0)+ROW(BacklogStart),"➤"),""),"") | J19: =IFERROR(INDEX(KanbanContentAll,MATCH(J$9&"-"&$B19,KanbanIndexList,0),IF($B19=$B18,2,1)),"") | L19: =IFERROR(IF($B19<>$B18, HYPERLINK("#Backlog!B"&MATCH(M19,KanbanContentR1,0)+ROW(BacklogStart),"➤"),""),"") | M19: =IFERROR(INDEX(KanbanContentAll,MATCH(M$9&"-"&$B19,KanbanIndexList,0),IF($B19=$B18,2,1)),"") | O19: =IFERROR(IF($B19<>$B18, HYPERLINK("#Backlog!B"&MATCH(P19,KanbanContentR1,0)+ROW(BacklogStart),"➤"),""),"") | P19: =IFERROR(INDEX(KanbanContentAll,MATCH(P$9&"-"&$B19,KanbanIndexList,0),IF($B19=$B18,2,1)),"") | R19: =IFERROR(IF($B19<>$B18, HYPERLINK("#Backlog!B"&MATCH(S19,KanbanContentR1,0)+ROW(BacklogStart),"➤"),""),"") | S19: =IFERROR(INDEX(KanbanContentAll,MATCH(S$9&"-"&$B19,KanbanIndexList,0),IF($B19=$B18,2,1)),"") | U19: =IFERROR(IF($B19<>$B18, HYPERLINK("#Backlog!B"&MATCH(V19,KanbanContentR1,0)+ROW(BacklogStart),"➤"),""),"") | V19: =IFERROR(INDEX(KanbanContentAll,MATCH(V$9&"-"&$B19,KanbanIndexList,0),IF($B19=$B18,2,1)),"") | X19: =IFERROR(IF($B19<>$B18, HYPERLINK("#Backlog!B"&MATCH(Y19,KanbanContentR1,0)+ROW(BacklogStart),"➤"),""),"") | Y19: =IFERROR(INDEX(KanbanContentAll,MATCH(Y$9&"-"&$B19,KanbanIndexList,0),IF($B19=$B18,2,1)),"") | AA19: =IFERROR(IF($B19<>$B18, HYPERLINK("#Backlog!B"&MATCH(AB19,KanbanContentR1,0)+ROW(BacklogStart),"➤"),""),"") | AB19: =IFERROR(INDEX(KanbanContentAll,MATCH(AB$9&"-"&$B19,KanbanIndexList,0),IF($B19=$B18,2,1)),"") | AD19: =IFERROR(IF($B19<>$B18, HYPERLINK("#Backlog!B"&MATCH(AE19,KanbanContentR1,0)+ROW(BacklogStart),"➤"),""),"") | AE19: =IFERROR(INDEX(KanbanContentAll,MATCH(AE$9&"-"&$B19,KanbanIndexList,0),IF($B19=$B18,2,1)),"") | AG19: =IFERROR(IF($B19<>$B18, HYPERLINK("#Backlog!B"&MATCH(AH19,KanbanContentR1,0)+ROW(BacklogStart),"➤"),""),"") | AH19: =IFERROR(INDEX(KanbanContentAll,MATCH(AH$9&"-"&$B19,KanbanIndexList,0),IF($B19=$B18,2,1)),"")
B20: =IF(ISODD(ROW(startrow)),IF(ISODD(ROW(B20)),ROW(B20)-2,ROW(B20)-1),IF(ISODD(ROW(B20)),ROW(B20)-1,ROW(B20)-2)) -> 18 | C20: =IFERROR(IF($B20<>$B19, HYPERLINK("#Backlog!B"&MATCH(D20,KanbanContentR1,0)+ROW(BacklogStart),"➤"),""),"") | D20: =IFERROR(INDEX(KanbanContentAll,MATCH(D$9&"-"&$B20,KanbanIndexList,0),IF($B20=$B19,2,1)),"") | F20: =IFERROR(IF($B20<>$B19, HYPERLINK("#Backlog!B"&MATCH(G20,KanbanContentR1,0)+ROW(BacklogStart),"➤"),""),"") | G20: =IFERROR(INDEX(KanbanContentAll,MATCH(G$9&"-"&$B20,KanbanIndexList,0),IF($B20=$B19,2,1)),"") | I20: =IFERROR(IF($B20<>$B19, HYPERLINK("#Backlog!B"&MATCH(J20,KanbanContentR1,0)+ROW(BacklogStart),"➤"),""),"") | J20: =IFERROR(INDEX(KanbanContentAll,MATCH(J$9&"-"&$B20,KanbanIndexList,0),IF($B20=$B19,2,1)),"") | L20: =IFERROR(IF($B20<>$B19, HYPERLINK("#Backlog!B"&MATCH(M20,KanbanContentR1,0)+ROW(BacklogStart),"➤"),""),"") | M20: =IFERROR(INDEX(KanbanContentAll,MATCH(M$9&"-"&$B20,KanbanIndexList,0),IF($B20=$B19,2,1)),"") | O20: =IFERROR(IF($B20<>$B19, HYPERLINK("#Backlog!B"&MATCH(P20,KanbanContentR1,0)+ROW(BacklogStart),"➤"),""),"") | P20: =IFERROR(INDEX(KanbanContentAll,MATCH(P$9&"-"&$B20,KanbanIndexList,0),IF($B20=$B19,2,1)),"") | R20: =IFERROR(IF($B20<>$B19, HYPERLINK("#Backlog!B"&MATCH(S20,KanbanContentR1,0)+ROW(BacklogStart),"➤"),""),"") | S20: =IFERROR(INDEX(KanbanContentAll,MATCH(S$9&"-"&$B20,KanbanIndexList,0),IF($B20=$B19,2,1)),"") | U20: =IFERROR(IF($B20<>$B19, HYPERLINK("#Backlog!B"&MATCH(V20,KanbanContentR1,0)+ROW(BacklogStart),"➤"),""),"") | V20: =IFERROR(INDEX(KanbanContentAll,MATCH(V$9&"-"&$B20,KanbanIndexList,0),IF($B20=$B19,2,1)),"") | X20: =IFERROR(IF($B20<>$B19, HYPERLINK("#Backlog!B"&MATCH(Y20,KanbanContentR1,0)+ROW(BacklogStart),"➤"),""),"") | Y20: =IFERROR(INDEX(KanbanContentAll,MATCH(Y$9&"-"&$B20,KanbanIndexList,0),IF($B20=$B19,2,1)),"") | AA20: =IFERROR(IF($B20<>$B19, HYPERLINK("#Backlog!B"&MATCH(AB20,KanbanContentR1,0)+ROW(BacklogStart),"➤"),""),"") | AB20: =IFERROR(INDEX(KanbanContentAll,MATCH(AB$9&"-"&$B20,KanbanIndexList,0),IF($B20=$B19,2,1)),"") | AD20: =IFERROR(IF($B20<>$B19, HYPERLINK("#Backlog!B"&MATCH(AE20,KanbanContentR1,0)+ROW(BacklogStart),"➤"),""),"") | AE20: =IFERROR(INDEX(KanbanContentAll,MATCH(AE$9&"-"&$B20,KanbanIndexList,0),IF($B20=$B19,2,1)),"") | AG20: =IFERROR(IF($B20<>$B19, HYPERLINK("#Backlog!B"&MATCH(AH20,KanbanContentR1,0)+ROW(BacklogStart),"➤"),""),"") | AH20: =IFERROR(INDEX(KanbanContentAll,MATCH(AH$9&"-"&$B20,KanbanIndexList,0),IF($B20=$B19,2,1)),"")
B21: =IF(ISODD(ROW(startrow)),IF(ISODD(ROW(B21)),ROW(B21)-2,ROW(B21)-1),IF(ISODD(ROW(B21)),ROW(B21)-1,ROW(B21)-2)) -> 20 | C21: =IFERROR(IF($B21<>$B20, HYPERLINK("#Backlog!B"&MATCH(D21,KanbanContentR1,0)+ROW(BacklogStart),"➤"),""),"") | D21: =IFERROR(INDEX(KanbanContentAll,MATCH(D$9&"-"&$B21,KanbanIndexList,0),IF($B21=$B20,2,1)),"") | F21: =IFERROR(IF($B21<>$B20, HYPERLINK("#Backlog!B"&MATCH(G21,KanbanContentR1,0)+ROW(BacklogStart),"➤"),""),"") | G21: =IFERROR(INDEX(KanbanContentAll,MATCH(G$9&"-"&$B21,KanbanIndexList,0),IF($B21=$B20,2,1)),"") | I21: =IFERROR(IF($B21<>$B20, HYPERLINK("#Backlog!B"&MATCH(J21,KanbanContentR1,0)+ROW(BacklogStart),"➤"),""),"") | J21: =IFERROR(INDEX(KanbanContentAll,MATCH(J$9&"-"&$B21,KanbanIndexList,0),IF($B21=$B20,2,1)),"") | L21: =IFERROR(IF($B21<>$B20, HYPERLINK("#Backlog!B"&MATCH(M21,KanbanContentR1,0)+ROW(BacklogStart),"➤"),""),"") | M21: =IFERROR(INDEX(KanbanContentAll,MATCH(M$9&"-"&$B21,KanbanIndexList,0),IF($B21=$B20,2,1)),"") | O21: =IFERROR(IF($B21<>$B20, HYPERLINK("#Backlog!B"&MATCH(P21,KanbanContentR1,0)+ROW(BacklogStart),"➤"),""),"") | P21: =IFERROR(INDEX(KanbanContentAll,MATCH(P$9&"-"&$B21,KanbanIndexList,0),IF($B21=$B20,2,1)),"") | R21: =IFERROR(IF($B21<>$B20, HYPERLINK("#Backlog!B"&MATCH(S21,KanbanContentR1,0)+ROW(BacklogStart),"➤"),""),"") | S21: =IFERROR(INDEX(KanbanContentAll,MATCH(S$9&"-"&$B21,KanbanIndexList,0),IF($B21=$B20,2,1)),"") | U21: =IFERROR(IF($B21<>$B20, HYPERLINK("#Backlog!B"&MATCH(V21,KanbanContentR1,0)+ROW(BacklogStart),"➤"),""),"") | V21: =IFERROR(INDEX(KanbanContentAll,MATCH(V$9&"-"&$B21,KanbanIndexList,0),IF($B21=$B20,2,1)),"") | X21: =IFERROR(IF($B21<>$B20, HYPERLINK("#Backlog!B"&MATCH(Y21,KanbanContentR1,0)+ROW(BacklogStart),"➤"),""),"") | Y21: =IFERROR(INDEX(KanbanContentAll,MATCH(Y$9&"-"&$B21,KanbanIndexList,0),IF($B21=$B20,2,1)),"") | AA21: =IFERROR(IF($B21<>$B20, HYPERLINK("#Backlog!B"&MATCH(AB21,KanbanContentR1,0)+ROW(BacklogStart),"➤"),""),"") | AB21: =IFERROR(INDEX(KanbanContentAll,MATCH(AB$9&"-"&$B21,KanbanIndexList,0),IF($B21=$B20,2,1)),"") | AD21: =IFERROR(IF($B21<>$B20, HYPERLINK("#Backlog!B"&MATCH(AE21,KanbanContentR1,0)+ROW(BacklogStart),"➤"),""),"") | AE21: =IFERROR(INDEX(KanbanContentAll,MATCH(AE$9&"-"&$B21,KanbanIndexList,0),IF($B21=$B20,2,1)),"") | AG21: =IFERROR(IF($B21<>$B20, HYPERLINK("#Backlog!B"&MATCH(AH21,KanbanContentR1,0)+ROW(BacklogStart),"➤"),""),"") | AH21: =IFERROR(INDEX(KanbanContentAll,MATCH(AH$9&"-"&$B21,KanbanIndexList,0),IF($B21=$B20,2,1)),"")
B22: =IF(ISODD(ROW(startrow)),IF(ISODD(ROW(B22)),ROW(B22)-2,ROW(B22)-1),IF(ISODD(ROW(B22)),ROW(B22)-1,ROW(B22)-2)) -> 20 | C22: =IFERROR(IF($B22<>$B21, HYPERLINK("#Backlog!B"&MATCH(D22,KanbanContentR1,0)+ROW(BacklogStart),"➤"),""),"") | D22: =IFERROR(INDEX(KanbanContentAll,MATCH(D$9&"-"&$B22,KanbanIndexList,0),IF($B22=$B21,2,1)),"") | F22: =IFERROR(IF($B22<>$B21, HYPERLINK("#Backlog!B"&MATCH(G22,KanbanContentR1,0)+ROW(BacklogStart),"➤"),""),"") | G22: =IFERROR(INDEX(KanbanContentAll,MATCH(G$9&"-"&$B22,KanbanIndexList,0),IF($B22=$B21,2,1)),"") | I22: =IFERROR(IF($B22<>$B21, HYPERLINK("#Backlog!B"&MATCH(J22,KanbanContentR1,0)+ROW(BacklogStart),"➤"),""),"") | J22: =IFERROR(INDEX(KanbanContentAll,MATCH(J$9&"-"&$B22,KanbanIndexList,0),IF($B22=$B21,2,1)),"") | L22: =IFERROR(IF($B22<>$B21, HYPERLINK("#Backlog!B"&MATCH(M22,KanbanContentR1,0)+ROW(BacklogStart),"➤"),""),"") | M22: =IFERROR(INDEX(KanbanContentAll,MATCH(M$9&"-"&$B22,KanbanIndexList,0),IF($B22=$B21,2,1)),"") | O22: =IFERROR(IF($B22<>$B21, HYPERLINK("#Backlog!B"&MATCH(P22,KanbanContentR1,0)+ROW(BacklogStart),"➤"),""),"") | P22: =IFERROR(INDEX(KanbanContentAll,MATCH(P$9&"-"&$B22,KanbanIndexList,0),IF($B22=$B21,2,1)),"") | R22: =IFERROR(IF($B22<>$B21, HYPERLINK("#Backlog!B"&MATCH(S22,KanbanContentR1,0)+ROW(BacklogStart),"➤"),""),"") | S22: =IFERROR(INDEX(KanbanContentAll,MATCH(S$9&"-"&$B22,KanbanIndexList,0),IF($B22=$B21,2,1)),"") | U22: =IFERROR(IF($B22<>$B21, HYPERLINK("#Backlog!B"&MATCH(V22,KanbanContentR1,0)+ROW(BacklogStart),"➤"),""),"") | V22: =IFERROR(INDEX(KanbanContentAll,MATCH(V$9&"-"&$B22,KanbanIndexList,0),IF($B22=$B21,2,1)),"") | X22: =IFERROR(IF($B22<>$B21, HYPERLINK("#Backlog!B"&MATCH(Y22,KanbanContentR1,0)+ROW(BacklogStart),"➤"),""),"") | Y22: =IFERROR(INDEX(KanbanContentAll,MATCH(Y$9&"-"&$B22,KanbanIndexList,0),IF($B22=$B21,2,1)),"") | AA22: =IFERROR(IF($B22<>$B21, HYPERLINK("#Backlog!B"&MATCH(AB22,KanbanContentR1,0)+ROW(BacklogStart),"➤"),""),"") | AB22: =IFERROR(INDEX(KanbanContentAll,MATCH(AB$9&"-"&$B22,KanbanIndexList,0),IF($B22=$B21,2,1)),"") | AD22: =IFERROR(IF($B22<>$B21, HYPERLINK("#Backlog!B"&MATCH(AE22,KanbanContentR1,0)+ROW(BacklogStart),"➤"),""),"") | AE22: =IFERROR(INDEX(KanbanContentAll,MATCH(AE$9&"-"&$B22,KanbanIndexList,0),IF($B22=$B21,2,1)),"") | AG22: =IFERROR(IF($B22<>$B21, HYPERLINK("#Backlog!B"&MATCH(AH22,KanbanContentR1,0)+ROW(BacklogStart),"➤"),""),"") | AH22: =IFERROR(INDEX(KanbanContentAll,MATCH(AH$9&"-"&$B22,KanbanIndexList,0),IF($B22=$B21,2,1)),"")
B23: =IF(ISODD(ROW(startrow)),IF(ISODD(ROW(B23)),ROW(B23)-2,ROW(B23)-1),IF(ISODD(ROW(B23)),ROW(B23)-1,ROW(B23)-2)) -> 22 | C23: =IFERROR(IF($B23<>$B22, HYPERLINK("#Backlog!B"&MATCH(D23,KanbanContentR1,0)+ROW(BacklogStart),"➤"),""),"") | D23: =IFERROR(INDEX(KanbanContentAll,MATCH(D$9&"-"&$B23,KanbanIndexList,0),IF($B23=$B22,2,1)),"") | F23: =IFERROR(IF($B23<>$B22, HYPERLINK("#Backlog!B"&MATCH(G23,KanbanContentR1,0)+ROW(BacklogStart),"➤"),""),"") | G23: =IFERROR(INDEX(KanbanContentAll,MATCH(G$9&"-"&$B23,KanbanIndexList,0),IF($B23=$B22,2,1)),"") | I23: =IFERROR(IF($B23<>$B22, HYPERLINK("#Backlog!B"&MATCH(J23,KanbanContentR1,0)+ROW(BacklogStart),"➤"),""),"") | J23: =IFERROR(INDEX(KanbanContentAll,MATCH(J$9&"-"&$B23,KanbanIndexList,0),IF($B23=$B22,2,1)),"") | L23: =IFERROR(IF($B23<>$B22, HYPERLINK("#Backlog!B"&MATCH(M23,KanbanContentR1,0)+ROW(BacklogStart),"➤"),""),"") | M23: =IFERROR(INDEX(KanbanContentAll,MATCH(M$9&"-"&$B23,KanbanIndexList,0),IF($B23=$B22,2,1)),"") | O23: =IFERROR(IF($B23<>$B22, HYPERLINK("#Backlog!B"&MATCH(P23,KanbanContentR1,0)+ROW(BacklogStart),"➤"),""),"") | P23: =IFERROR(INDEX(KanbanContentAll,MATCH(P$9&"-"&$B23,KanbanIndexList,0),IF($B23=$B22,2,1)),"") | R23: =IFERROR(IF($B23<>$B22, HYPERLINK("#Backlog!B"&MATCH(S23,KanbanContentR1,0)+ROW(BacklogStart),"➤"),""),"") | S23: =IFERROR(INDEX(KanbanContentAll,MATCH(S$9&"-"&$B23,KanbanIndexList,0),IF($B23=$B22,2,1)),"") | U23: =IFERROR(IF($B23<>$B22, HYPERLINK("#Backlog!B"&MATCH(V23,KanbanContentR1,0)+ROW(BacklogStart),"➤"),""),"") | V23: =IFERROR(INDEX(KanbanContentAll,MATCH(V$9&"-"&$B23,KanbanIndexList,0),IF($B23=$B22,2,1)),"") | X23: =IFERROR(IF($B23<>$B22, HYPERLINK("#Backlog!B"&MATCH(Y23,KanbanContentR1,0)+ROW(BacklogStart),"➤"),""),"") | Y23: =IFERROR(INDEX(KanbanContentAll,MATCH(Y$9&"-"&$B23,KanbanIndexList,0),IF($B23=$B22,2,1)),"") | AA23: =IFERROR(IF($B23<>$B22, HYPERLINK("#Backlog!B"&MATCH(AB23,KanbanContentR1,0)+ROW(BacklogStart),"➤"),""),"") | AB23: =IFERROR(INDEX(KanbanContentAll,MATCH(AB$9&"-"&$B23,KanbanIndexList,0),IF($B23=$B22,2,1)),"") | AD23: =IFERROR(IF($B23<>$B22, HYPERLINK("#Backlog!B"&MATCH(AE23,KanbanContentR1,0)+ROW(BacklogStart),"➤"),""),"") | AE23: =IFERROR(INDEX(KanbanContentAll,MATCH(AE$9&"-"&$B23,KanbanIndexList,0),IF($B23=$B22,2,1)),"") | AG23: =IFERROR(IF($B23<>$B22, HYPERLINK("#Backlog!B"&MATCH(AH23,KanbanContentR1,0)+ROW(BacklogStart),"➤"),""),"") | AH23: =IFERROR(INDEX(KanbanContentAll,MATCH(AH$9&"-"&$B23,KanbanIndexList,0),IF($B23=$B22,2,1)),"")
... B70: =IF(ISODD(ROW(startrow)),IF(ISODD(ROW(B70)),ROW(B70)-2,ROW(B70)-1),IF(ISODD(ROW(B70)),ROW(B70)-1,ROW(B70)-2)) -> 68 | C70: =IFERROR(IF($B70<>$B69, HYPERLINK("#Backlog!B"&MATCH(D70,KanbanContentR1,0)+ROW(BacklogStart),"➤"),""),"") | D70: =IFERROR(INDEX(KanbanContentAll,MATCH(D$9&"-"&$B70,KanbanIndexList,0),IF($B70=$B69,2,1)),"") | F70: =IFERROR(IF($B70<>$B69, HYPERLINK("#Backlog!B"&MATCH(G70,KanbanContentR1,0)+ROW(BacklogStart),"➤"),""),"") | G70: =IFERROR(INDEX(KanbanContentAll,MATCH(G$9&"-"&$B70,KanbanIndexList,0),IF($B70=$B69,2,1)),"") | I70: =IFERROR(IF($B70<>$B69, HYPERLINK("#Backlog!B"&MATCH(J70,KanbanContentR1,0)+ROW(BacklogStart),"➤"),""),"") | J70: =IFERROR(INDEX(KanbanContentAll,MATCH(J$9&"-"&$B70,KanbanIndexList,0),IF($B70=$B69,2,1)),"") | L70: =IFERROR(IF($B70<>$B69, HYPERLINK("#Backlog!B"&MATCH(M70,KanbanContentR1,0)+ROW(BacklogStart),"➤"),""),"") | M70: =IFERROR(INDEX(KanbanContentAll,MATCH(M$9&"-"&$B70,KanbanIndexList,0),IF($B70=$B69,2,1)),"") | O70: =IFERROR(IF($B70<>$B69, HYPERLINK("#Backlog!B"&MATCH(P70,KanbanContentR1,0)+ROW(BacklogStart),"➤"),""),"") | P70: =IFERROR(INDEX(KanbanContentAll,MATCH(P$9&"-"&$B70,KanbanIndexList,0),IF($B70=$B69,2,1)),"") | R70: =IFERROR(IF($B70<>$B69, HYPERLINK("#Backlog!B"&MATCH(S70,KanbanContentR1,0)+ROW(BacklogStart),"➤"),""),"") | S70: =IFERROR(INDEX(KanbanContentAll,MATCH(S$9&"-"&$B70,KanbanIndexList,0),IF($B70=$B69,2,1)),"") | U70: =IFERROR(IF($B70<>$B69, HYPERLINK("#Backlog!B"&MATCH(V70,KanbanContentR1,0)+ROW(BacklogStart),"➤"),""),"") | V70: =IFERROR(INDEX(KanbanContentAll,MATCH(V$9&"-"&$B70,KanbanIndexList,0),IF($B70=$B69,2,1)),"") | X70: =IFERROR(IF($B70<>$B69, HYPERLINK("#Backlog!B"&MATCH(Y70,KanbanContentR1,0)+ROW(BacklogStart),"➤"),""),"") | Y70: =IFERROR(INDEX(KanbanContentAll,MATCH(Y$9&"-"&$B70,KanbanIndexList,0),IF($B70=$B69,2,1)),"") | AA70: =IFERROR(IF($B70<>$B69, HYPERLINK("#Backlog!B"&MATCH(AB70,KanbanContentR1,0)+ROW(BacklogStart),"➤"),""),"") | AB70: =IFERROR(INDEX(KanbanContentAll,MATCH(AB$9&"-"&$B70,KanbanIndexList,0),IF($B70=$B69,2,1)),"") | AD70: =IFERROR(IF($B70<>$B69, HYPERLINK("#Backlog!B"&MATCH(AE70,KanbanContentR1,0)+ROW(BacklogStart),"➤"),""),"") | AE70: =IFERROR(INDEX(KanbanContentAll,MATCH(AE$9&"-"&$B70,KanbanIndexList,0),IF($B70=$B69,2,1)),"") | AG70: =IFERROR(IF($B70<>$B69, HYPERLINK("#Backlog!B"&MATCH(AH70,KanbanContentR1,0)+ROW(BacklogStart),"➤"),""),"") | AH70: =IFERROR(INDEX(KanbanContentAll,MATCH(AH$9&"-"&$B70,KanbanIndexList,0),IF($B70=$B69,2,1)),"")

Sheet SprintDashboard
C2: SPRINT PLANNING DASHBOARD
C3: SINGLE SPRINT DASHBOARD
C5: SPRINT NO | D5: 1 | F5: TICKET TYPE | G5: All | I5: PLAN | J5: All | P5: SHOW BY | Q5: Sprint Day #

Sheet SprintsComparison
C2: SPRINT PLANNING DASHBOARD
C3: SPRINT COMPARISON DASHBOARD
C5: Priority | D5: All | F5: Entity Type | G5: All | I5: Status | J5: All

Sheet Calculation
B2: Copy backlog information | T2: KANBAN | AH2: Retrospective | AO2: Dashboard 1 | BP2: Dashboard 2 | DF2: Dropdowns | DK2: TEAM PARTICIPANTS
C3: =Backlog!B5 -> TICKET ID | D3: =Backlog!C5 -> SPRINT NO | E3: =Backlog!D5 -> TICKET TYPE | F3: =Backlog!E5 -> TITLE | G3: =Backlog!F5 -> RESPONSIBLE | H3: =Backlog!G5 -> STORY POINTS | I3: =Backlog!H5 -> PRIORITY | J3: =Backlog!I5 -> PLANNED | K3: =Backlog!J5 -> STATUS | M3: =Backlog!K5 -> CREATION DATE | O3: =Backlog!L5 -> COMPLETION DATE | P3: =Backlog!M5 -> NOTES… | T3: Filters | BH3: Unique dates | BI3: Sprint Day | BJ3: Task # | BK3: Cumulative | BL3: Story Points | BM3: Not completed | CT3: Treemap input
B4: Row No | C4: Ticket ID | D4: Sprint No | E4: Entity Type | F4: Name | G4: Responsible | H4: Story points | I4: Priority | J4: Planned | K4: Status | L4: Start Date | M4: Date formating | N4: Completion date | O4: Date formating2 | P4: Notes | Q4: Duration | R4: Active? | T4: Sprint No | U4: Responsible | V4: Ticket type | W4: Priority | X4: Total Filters | Y4: 1st Row - content | Z4: 2nd Row - content | AA4: Column | AB4: Row | AC4: C-R | AE4: Lasts active: | AF4: {=MAX(MAX(IF(R5:R1004=1,ROW(R5:R1004),0))-4,1)} -> 42 | AH4: Chosen Option | AI4: 4 | AK4: Details | AL4: Category | AM4: # | AO4: Filters | AS4: =AO9&" Share" -> Bug Share | AW4: Priority | AX4: Average Duration | AY4: =MAX(AX5:AX10)*1.05 -> 13.65 | BF4: Completion dates | BG4: Count dates | BH4: {=IF(MIN(IF($D$5:$D$1004=AP6,$L$5:$L$1004,""))>0,MIN(IF($D$5:$D$1004=AP6,$L$5:$L$1004,""))-1,"")} -> 44599 | BI4: 0 | BJ4: 0 | BK4: 0 | BL4: 0 | BM4: =AT10 -> 10 | BN4: Count | BP4: Filters | BU4: =BT5 & " % by Sprint" -> Bug % by Sprint | BZ4: Labels | CA4: Planned & Not planned | CB4: SP | CC4: SP | DA4: Count | DF4: Retrospective | DG4: Teams | DH4: Check | DK4: Team | DL4: Pos | DM4: =Settings!E5 -> Daily Scrum | DN4: =Settings!F5 -> Sprint Plan | DO4: =Settings!G5 -> Retrospective | DP4: All | DQ4: Chosen
B5: 1 | C5: =IFERROR(INDEX(Backlog!B$6:B$1005,Calculation!$B5,1),"") -> 1 | D5: =IFERROR(IF(INDEX(Backlog!C$6:C$1005,Calculation!$B5,1)="","",INDEX(Backlog!C$6:C$1005,Calculation!$B5,1)),"") -> 1 | E5: =IFERROR(""&INDEX(Backlog!D$6:D$1005,Calculation!$B5,1),"") -> Feature | F5: =IFERROR(""&INDEX(Backlog!E$6:E$1005,Calculation!$B5,1),"") -> Feature 1.1 | G5: =IFERROR(""&INDEX(Backlog!F$6:F$1005,Calculation!$B5,1),"") -> John | H5: =IFERROR(IF(INDEX(Backlog!G$6:G$1005,Calculation!$B5,1)="","",INDEX(Backlog!G$6:G$1005,Calculation!$B5,1)),"") -> 10 | I5: =IFERROR(IF(INDEX(Backlog!H$6:H$1005,Calculation!$B5,1)="","Not set",INDEX(Backlog!H$6:H$1005,Calculation!$B5,1)),"") -> Medium | J5: =IFERROR(""&INDEX(Backlog!I$6:I$1005,Calculation!$B5,1),"") -> Yes | K5: =IFERROR(IF(LEN(INDEX(Backlog!J$6:J$1005,Calculation!$B5,1))=0,"Not set",INDEX(Backlog!J$6:J$1005,Calculation!$B5,1)),"") -> Completed | L5: =IFERROR(IF(INDEX(Backlog!K$6:K$1005,Calculation!$B5,1)="","",INDEX(Backlog!K$6:K$1005,Calculation!$B5,1)),"") -> 44600 | M5: =IFERROR(INDEX($DF$12:$DF$23,MONTH(L5),1)&" "&DAY(L5)&", "&YEAR(L5),"") -> Feb 8, 2022 | N5: =IFERROR(IF(INDEX(Backlog!L$6:L$1005,Calculation!$B5,1)="","",INDEX(Backlog!L$6:L$1005,Calculation!$B5,1)),"") -> 44609 | O5: =IFERROR(INDEX($DF$12:$DF$23,MONTH(N5),1)&" "&DAY(N5)&", "&YEAR(N5),"") -> Feb 17, 2022 | P5: =IFERROR(""&INDEX(Backlog!M$6:M$1005,Calculation!$B5,1),"") | Q5: =IF(AND(ISNUMBER(L5),ISNUMBER(N5)),N5-L5,"") -> 9 | R5: =IF(AND(LEN(C5)>0,LEN(F5)>0),1,0) -> 1 | T5: =IF(OR(KanbanSprintFilter="",KanbanSprintFilter="All"),1,IF(""&KanbanSprintFilter=""&D5,1,0)) -> 0 | U5: =IF(OR(KanbanResponsibleFilter="",KanbanResponsibleFilter="All"),1,IF(""&KanbanResponsibleFilter=""&G5,1,0)) -> 1 | V5: =IF(OR(ttFilter="",ttFilter="All"),1,IF(""&ttFilter=""&E5,1,0)) -> 1 | W5: =IF(OR(KanbanPriorityFilter="",KanbanPriorityFilter="All"),1,IF(""&KanbanPriorityFilter=""&I5,1,0)) -> 1 | X5: =R5*T5*U5*V5*W5 -> 0 | Y5: =IF(KanbanRow1=$DG$12,"#" & C5 &" - "& F5, IF(KanbanRow1=$DG$13,F5,C5)) -> #1 - Feature 1.1 | Z5: =IFERROR(IF(LEN(INDEX(C5:P5,1,MATCH(KanbanRow2,$C$3:$P$3,0)))=0,"-",INDEX(C5:P5,1,MATCH(KanbanRow2,$C$3:$P$3,0))),"-") -> Feature 1.1 | AA5: =IF(X5=0,"",IF(LEN(K5)=0,COLUMN(Kanban!$D$8),IFERROR(MATCH(K5,Kanban!$A$8:$AI$8,0),COLUMN(Kanban!$D$8)))) | AB5: =IF(X5=0,"",2*COUNTIF($AA$5:AA5,AA5)+$AF$5) | AC5: =AA5&"-"&AB5 -> - | AE5: Kanban start row: | AF5: =ROW(startrow) -> 8 | AH5: Chosen Option | AI5: =INDEX(AI7:AI10,AI4,1) -> Title - Comment | AK5: =INDEX(Retrospective!$B$8:$D$207,B5,IF(OR($AI$4=2,$AI$4=4),2,1))&IF($AI$4=2,""," - "&INDEX(Retrospective!$B$8:$D$207,B5,IF($AI$4=1,2,3))) -> Feature 1.1 - bug | AL5: =IFERROR(MATCH(INDEX(Retrospective!$E$8:$E$27,B5,1),$AI$13:$AI$16,0),"") -> 2 | AM5: =IF(AL5="","", AL5&"."&COUNTIF($AL$5:AL5,AL5)) -> 2.1 | AS5: =AO9 -> Bug | AT5: Total Tickets | AU5: =AO9 &" %" -> Bug % | AW5: =DH33 -> Low | AX5: =IF(AW5="","", IFERROR(AVERAGEIFS($Q$5:$Q$1004,$D$5:$D$1004,$AP$6,$E$5:$E$1004,$AP$13,$J$5:$J$1004,$AP$15,$I$5:$I$1004,AW5),0)) -> 4.5 | AY5: =IFERROR(($AY$4-AX5)/2,"") -> 4.575 | BF5: {=IFERROR(SMALL(IF($D$5:$D$1004=$AP$6,$N$5:$N$1004,""),B5),"")} -> 44604 | BG5: =IF(IFERROR(MATCH(BF5,$BF$4:BF4,0),0)=0,MAX($BG$4:BG4)+1,"") -> 1 | BH5: =IFERROR(INDEX($BF$5:$BF$1004,MATCH(B5,$BG$5:$BG$1004,0),1),"") -> 44604 | BI5: =IFERROR(BH5-sprintStartDate,"") -> 5 | BJ5: =IF(BH5="","",COUNTIFS($N$5:$N$1004,BH5,$D$5:$D$1004,$AP$6,$E$5:$E$1004,$AP$13,$J$5:$J$1004,$AP$15)) -> 1 | BK5: =IFERROR(BJ5+IF(ISNUMBER(BK4),BK4,0),"") -> 1 | BL5: =IF(BH5="","",SUMIFS($H$5:$H$1004,$N$5:$N$1004,BH5,$D$5:$D$1004,$AP$6,$E$5:$E$1004,$AP$13,$J$5:$J$1004,$AP$15)) -> 4 | BM5: =IFERROR($BM$4-BK5,"") -> 9 | BN5: =MAX(COUNT(BH5:BH1004),1) -> 6 | BP5: Entity Type | BQ5: =IF(OR(SprintsComparison!G5="All",SprintsComparison!G5=""),"*",SprintsComparison!G5) -> * | BT5: =IF(BQ5="*","Bug",BQ5) -> Bug | BU5: =BT5 & " #" -> Bug # | BV5: Total # | BW5: Completed # | BX5: =BT5 &" %" -> Bug % | BY5: Sprint No | BZ5: Legend | CA5: Total | CB5: Planned | CC5: Completed | CD5: Average duration | CE5: =MAX(CD6:CD35)*1.05 -> 9.15 | CH5: Not set | CI5: =""&Settings!I6 -> In Progress | CJ5: =""&Settings!I7 -> Open | CK5: =""&Settings!I8 -> Testing | CL5: =""&Settings!I9 -> Deployment | CM5: =""&Settings!I10 -> Completed | CN5: =""&Settings!I11 | CO5: =""&Settings!I12 | CP5: =""&Settings!I13 | CQ5: =""&Settings!I14 | CR5: =""&Settings!I15 | CT5: =AX15 -> Low | CU5: =AY15 -> Medium | CV5: =AZ15 -> High | CW5: =BA15 -> Not set | CX5: =BB15 | CY5: =BC15 | DC5: =BQ11*BD15 -> 20 | DF5: =Retrospective!H5 -> OK | DG5: All | DK5: =""&INDEX(Settings!$B$6:$B$15,ROW(DK1),1) -> John | DL5: =""&INDEX(Settings!$C$6:$C$15,ROW(DL1),1) -> Scrum Master | DM5: =IF(LEN(INDEX(Settings!E$6:E$55,ROW(DM1),1))>0,MAX($DM$4:DM4)+1,"") -> 1 | DN5: =IF(LEN(INDEX(Settings!F$6:F$55,ROW(DN1),1))>0,MAX($DN$4:DN4)+1,"") -> 1 | DO5: =IF(LEN(INDEX(Settings!G$6:G$15,ROW(DO1),1))>0,MAX($DO$4:DO4)+1,"") | DP5: =IF(LEN(DK5)>0,MAX($DP$4:DP4)+1,"") -> 1 | DQ5: =INDEX(DM5:DP5,1,MATCH(SprintPlan!$E$15,Calculation!$DM$4:$DP$4,0)) -> 1
B6: 2 | C6: =IFERROR(INDEX(Backlog!B$6:B$1005,Calculation!$B6,1),"") -> 2 | D6: =IFERROR(IF(INDEX(Backlog!C$6:C$1005,Calculation!$B6,1)="","",INDEX(Backlog!C$6:C$1005,Calculation!$B6,1)),"") -> 1 | E6: =IFERROR(""&INDEX(Backlog!D$6:D$1005,Calculation!$B6,1),"") -> Task | F6: =IFERROR(""&INDEX(Backlog!E$6:E$1005,Calculation!$B6,1),"") -> Task 1.1 | G6: =IFERROR(""&INDEX(Backlog!F$6:F$1005,Calculation!$B6,1),"") -> Kyle | H6: =IFERROR(IF(INDEX(Backlog!G$6:G$1005,Calculation!$B6,1)="","",INDEX(Backlog!G$6:G$1005,Calculation!$B6,1)),"") -> 8 | I6: =IFERROR(IF(INDEX(Backlog!H$6:H$1005,Calculation!$B6,1)="","Not set",INDEX(Backlog!H$6:H$1005,Calculation!$B6,1)),"") -> Medium | J6: =IFERROR(""&INDEX(Backlog!I$6:I$1005,Calculation!$B6,1),"") -> Yes | K6: =IFERROR(IF(LEN(INDEX(Backlog!J$6:J$1005,Calculation!$B6,1))=0,"Not set",INDEX(Backlog!J$6:J$1005,Calculation!$B6,1)),"") -> Completed | L6: =IFERROR(IF(INDEX(Backlog!K$6:K$1005,Calculation!$B6,1)="","",INDEX(Backlog!K$6:K$1005,Calculation!$B6,1)),"") -> 44600 | M6: =IFERROR(INDEX($DF$12:$DF$23,MONTH(L6),1)&" "&DAY(L6)&", "&YEAR(L6),"") -> Feb 8, 2022 | N6: =IFERROR(IF(INDEX(Backlog!L$6:L$1005,Calculation!$B6,1)="","",INDEX(Backlog!L$6:L$1005,Calculation!$B6,1)),"") -> 44610 | O6: =IFERROR(INDEX($DF$12:$DF$23,MONTH(N6),1)&" "&DAY(N6)&", "&YEAR(N6),"") -> Feb 18, 2022 | P6: =IFERROR(""&INDEX(Backlog!M$6:M$1005,Calculation!$B6,1),"") | Q6: =IF(AND(ISNUMBER(L6),ISNUMBER(N6)),N6-L6,"") -> 10 | R6: =IF(AND(LEN(C6)>0,LEN(F6)>0),1,0) -> 1 | T6: =IF(OR(KanbanSprintFilter="",KanbanSprintFilter="All"),1,IF(""&KanbanSprintFilter=""&D6,1,0)) -> 0 | U6: =IF(OR(KanbanResponsibleFilter="",KanbanResponsibleFilter="All"),1,IF(""&KanbanResponsibleFilter=""&G6,1,0)) -> 1 | V6: =IF(OR(ttFilter="",ttFilter="All"),1,IF(""&ttFilter=""&E6,1,0)) -> 1 | W6: =IF(OR(KanbanPriorityFilter="",KanbanPriorityFilter="All"),1,IF(""&KanbanPriorityFilter=""&I6,1,0)) -> 1 | X6: =R6*T6*U6*V6*W6 -> 0 | Y6: =IF(KanbanRow1=$DG$12,"#" & C6 &" - "& F6, IF(KanbanRow1=$DG$13,F6,C6)) -> #2 - Task 1.1 | Z6: =IFERROR(IF(LEN(INDEX(C6:P6,1,MATCH(KanbanRow2,$C$3:$P$3,0)))=0,"-",INDEX(C6:P6,1,MATCH(KanbanRow2,$C$3:$P$3,0))),"-") -> Task 1.1 | AA6: =IF(X6=0,"",IF(LEN(K6)=0,COLUMN(Kanban!$D$8),IFERROR(MATCH(K6,Kanban!$A$8:$AI$8,0),COLUMN(Kanban!$D$8)))) | AB6: =IF(X6=0,"",2*COUNTIF($AA$5:AA6,AA6)+$AF$5) | AC6: =AA6&"-"&AB6 -> - | AE6: Last Active Column: | AF6: =MATCH(completed,Kanban!A8:AH8,0) -> 19 | AK6: =INDEX(Retrospective!$B$8:$D$207,B6,IF(OR($AI$4=2,$AI$4=4),2,1))&IF($AI$4=2,""," - "&INDEX(Retrospective!$B$8:$D$207,B6,IF($AI$4=1,2,3))) -> Task 1.2 - | AL6: =IFERROR(MATCH(INDEX(Retrospective!$E$8:$E$207,B6,1),$AI$13:$AI$16,0),"") -> 3 | AM6: =IF(AL6="","", AL6&"."&COUNTIF($AL$5:AL6,AL6)) -> 3.1 | AO6: Sprint # | AP6: =SprintDashboard!D5 -> 1 | AS6: =INDEX(AT11:AT20,AP9,1) -> 1 | AT6: =AT10 -> 10 | AU6: =IFERROR(AS6/AT6,0) -> 0.1 | AW6: =DH34 -> Medium | AX6: =IF(AW6="","", IFERROR(AVERAGEIFS($Q$5:$Q$1004,$D$5:$D$1004,$AP$6,$E$5:$E$1004,$AP$13,$J$5:$J$1004,$AP$15,$I$5:$I$1004,AW6),0)) -> 9.5 | AY6: =IFERROR(($AY$4-AX6)/2,"") -> 2.075 | BF6: {=IFERROR(SMALL(IF($D$5:$D$1004=$AP$6,$N$5:$N$1004,""),B6),"")} -> 44607 | BG6: =IF(IFERROR(MATCH(BF6,$BF$4:BF5,0),0)=0,MAX($BG$4:BG5)+1,"") -> 2 | BH6: =IFERROR(INDEX($BF$5:$BF$1004,MATCH(B6,$BG$5:$BG$1004,0),1),"") -> 44607 | BI6: =IFERROR(BH6-sprintStartDate,"") -> 8 | BJ6: =IF(BH6="","",COUNTIFS($N$5:$N$1004,BH6,$D$5:$D$1004,$AP$6,$E$5:$E$1004,$AP$13,$J$5:$J$1004,$AP$15)) -> 1 | BK6: =IFERROR(BJ6+IF(ISNUMBER(BK5),BK5,0),"") -> 2 | BL6: =IF(BH6="","",SUMIFS($H$5:$H$1004,$N$5:$N$1004,BH6,$D$5:$D$1004,$AP$6,$E$5:$E$1004,$AP$13,$J$5:$J$1004,$AP$15)) -> 2 | BM6: =IFERROR($BM$4-BK6,"") -> 8 | BT6: 1 | BU6: =IF(BY6="","",COUNTIFS($D$5:$D$1004,BY6,$E$5:$E$1004,$BT$5)) -> 1 | BV6: =IF(BY6="","",COUNTIF($D$5:$D$1004,BY6)) -> 10 | BW6: =IF(BY6="","",BV6-COUNTIFS($D$5:$D$1004,BY6,$N$5:$N$1004,"")) -> 7 | BX6: =IFERROR(BU6/BV6,"") -> 0.1 | BY6: {=IFERROR(INDEX($D$5:$D$1004, MATCH(0,COUNTIF($BY$5:BY5,$D$5:$D$1004),0),1),"")} -> 1 | BZ6: ="Sprint # " &BY6 -> Sprint # 1 | CA6: =SUMIF($D$5:$D$1004,BY6,$H$5:$H$1004) -> 68 | CB6: =SUMIFS($H$5:$H$1004,$D$5:$D$1004,BY6,$J$5:$J$1004,"Yes") -> 56 | CC6: =SUMIFS($H$5:$H$1004,$D$5:$D$1004,BY6,$N$5:$N$1004,">1") -> 62 | CD6: =IFERROR(AVERAGEIFS($Q$5:$Q$1004,$D$5:$D$1004,BY6,$E$5:$E$1004,$BQ$5,$I$5:$I$1004,$BQ$7),"") -> 8.7142857 | CE6: =IFERROR(($CE$5-CD6)/2,"") -> 0.21785714 | CG6: =SUM(CH6:CR6) -> 10 | CH6: =IF(OR($BY6="", CH$5=""),"",COUNTIFS($D$5:$D$1004,$BY6,$K$5:$K$1004,CH$5,$E$5:$E$1004,$BQ$5,$I$5:$I$1004,$BQ$7)) -> 1 | CI6: =IF(OR($BY6="", CI$5=""),"",COUNTIFS($D$5:$D$1004,$BY6,$K$5:$K$1004,CI$5,$E$5:$E$1004,$BQ$5,$I$5:$I$1004,$BQ$7)) -> 0 | CJ6: =IF(OR($BY6="", CJ$5=""),"",COUNTIFS($D$5:$D$1004,$BY6,$K$5:$K$1004,CJ$5,$E$5:$E$1004,$BQ$5,$I$5:$I$1004,$BQ$7)) -> 1 | CK6: =IF(OR($BY6="", CK$5=""),"",COUNTIFS($D$5:$D$1004,$BY6,$K$5:$K$1004,CK$5,$E$5:$E$1004,$BQ$5,$I$5:$I$1004,$BQ$7)) -> 1 | CL6: =IF(OR($BY6="", CL$5=""),"",COUNTIFS($D$5:$D$1004,$BY6,$K$5:$K$1004,CL$5,$E$5:$E$1004,$BQ$5,$I$5:$I$1004,$BQ$7)) -> 0 | CM6: =IF(OR($BY6="", CM$5=""),"",COUNTIFS($D$5:$D$1004,$BY6,$K$5:$K$1004,CM$5,$E$5:$E$1004,$BQ$5,$I$5:$I$1004,$BQ$7)) -> 7 | CN6: =IF(OR($BY6="", CN$5=""),"",COUNTIFS($D$5:$D$1004,$BY6,$K$5:$K$1004,CN$5,$E$5:$E$1004,$BQ$5,$I$5:$I$1004,$BQ$7)) | CO6: =IF(OR($BY6="", CO$5=""),"",COUNTIFS($D$5:$D$1004,$BY6,$K$5:$K$1004,CO$5,$E$5:$E$1004,$BQ$5,$I$5:$I$1004,$BQ$7)) | ... CR6: =IF(OR($BY6="", CR$5=""),"",COUNTIFS($D$5:$D$1004,$BY6,$K$5:$K$1004,CR$5,$E$5:$E$1004,$BQ$5,$I$5:$I$1004,$BQ$7)) | CT6: =IF(BY6="","",COUNTIFS($D$5:$D$1004,BY6,$I$5:$I$1004,CT$5,$E$5:$E$1004,$BQ$5,$K$5:$K$1004,$BQ$9)) -> 4 | CU6: =IF(BY6="","",COUNTIFS($D$5:$D$1004,BY6,$I$5:$I$1004,CU$5,$E$5:$E$1004,$BQ$5,$K$5:$K$1004,$BQ$9)) -> 3 | CV6: =IF(BY6="","",COUNTIFS($D$5:$D$1004,BY6,$I$5:$I$1004,CV$5,$E$5:$E$1004,$BQ$5,$K$5:$K$1004,$BQ$9)) -> 1 | CW6: =IF(BY6="","",COUNTIFS($D$5:$D$1004,BY6,$I$5:$I$1004,CW$5,$E$5:$E$1004,$BQ$5,$K$5:$K$1004,$BQ$9)) -> 2 | CX6: =IF(BY6="","",COUNTIFS($D$5:$D$1004,BY6,$I$5:$I$1004,CX$5,$E$5:$E$1004,$BQ$5,$K$5:$K$1004,$BQ$9)) -> 0 | CY6: =IF(BY6="","",COUNTIFS($D$5:$D$1004,BY6,$I$5:$I$1004,CY$5,$E$5:$E$1004,$BQ$5,$K$5:$K$1004,$BQ$9)) -> 0 | DA6: =IF(COUNTIF($DA$5:DA5,DA5)=$BD$15,MAX(DA5)+1,DA5) -> 0 | DB6: =IF(DA6+1>$BQ$11,"", "Sprint # " & DA6+1) -> Sprint # 1 | DC6: =IF(DB6="","",INDEX($CT$5:$CY$5,1,COUNTIF($DB$6:DB6,DB6))) -> Low | DD6: =IF(DB6="","",MAX(INDEX($CT$6:$CY$35,DA6+1,COUNTIF($DB$6:DB6,DB6)),0)) -> 4 | DF6: =Retrospective!L5 -> NOK | DG6: Daily Scrum | DH6: ✓ | DK6: =""&INDEX(Settings!$B$6:$B$55,ROW(DK2),1) -> Carolyne | DL6: =""&INDEX(Settings!$C$6:$C$15,ROW(DL2),1) -> Product owner | DM6: =IF(LEN(INDEX(Settings!E$6:E$55,ROW(DM2),1))>0,MAX($DM$4:DM5)+1,"") -> 2 | DN6: =IF(LEN(INDEX(Settings!F$6:F$15,ROW(DN2),1))>0,MAX($DN$4:DN5)+1,"") | DO6: =IF(LEN(INDEX(Settings!G$6:G$15,ROW(DO2),1))>0,MAX($DO$4:DO5)+1,"") | DP6: =IF(LEN(DK6)>0,MAX($DP$4:DP5)+1,"") -> 2 | DQ6: =INDEX(DM6:DP6,1,MATCH(SprintPlan!$E$15,Calculation!$DM$4:$DP$4,0)) -> 2
B7: 3 | C7: =IFERROR(INDEX(Backlog!B$6:B$1005,Calculation!$B7,1),"") -> 3 | D7: =IFERROR(IF(INDEX(Backlog!C$6:C$1005,Calculation!$B7,1)="","",INDEX(Backlog!C$6:C$1005,Calculation!$B7,1)),"") -> 1 | E7: =IFERROR(""&INDEX(Backlog!D$6:D$1005,Calculation!$B7,1),"") -> Task | F7: =IFERROR(""&INDEX(Backlog!E$6:E$1005,Calculation!$B7,1),"") -> Task 1.2 | G7: =IFERROR(""&INDEX(Backlog!F$6:F$1005,Calculation!$B7,1),"") -> Carolyne | H7: =IFERROR(IF(INDEX(Backlog!G$6:G$1005,Calculation!$B7,1)="","",INDEX(Backlog!G$6:G$1005,Calculation!$B7,1)),"") -> 15 | I7: =IFERROR(IF(INDEX(Backlog!H$6:H$1005,Calculation!$B7,1)="","Not set",INDEX(Backlog!H$6:H$1005,Calculation!$B7,1)),"") -> High | J7: =IFERROR(""&INDEX(Backlog!I$6:I$1005,Calculation!$B7,1),"") -> Yes | K7: =IFERROR(IF(LEN(INDEX(Backlog!J$6:J$1005,Calculation!$B7,1))=0,"Not set",INDEX(Backlog!J$6:J$1005,Calculation!$B7,1)),"") -> Completed | L7: =IFERROR(IF(INDEX(Backlog!K$6:K$1005,Calculation!$B7,1)="","",INDEX(Backlog!K$6:K$1005,Calculation!$B7,1)),"") -> 44600 | M7: =IFERROR(INDEX($DF$12:$DF$23,MONTH(L7),1)&" "&DAY(L7)&", "&YEAR(L7),"") -> Feb 8, 2022 | N7: =IFERROR(IF(INDEX(Backlog!L$6:L$1005,Calculation!$B7,1)="","",INDEX(Backlog!L$6:L$1005,Calculation!$B7,1)),"") -> 44613 | O7: =IFERROR(INDEX($DF$12:$DF$23,MONTH(N7),1)&" "&DAY(N7)&", "&YEAR(N7),"") -> Feb 21, 2022 | P7: =IFERROR(""&INDEX(Backlog!M$6:M$1005,Calculation!$B7,1),"") | Q7: =IF(AND(ISNUMBER(L7),ISNUMBER(N7)),N7-L7,"") -> 13 | R7: =IF(AND(LEN(C7)>0,LEN(F7)>0),1,0) -> 1 | T7: =IF(OR(KanbanSprintFilter="",KanbanSprintFilter="All"),1,IF(""&KanbanSprintFilter=""&D7,1,0)) -> 0 | U7: =IF(OR(KanbanResponsibleFilter="",KanbanResponsibleFilter="All"),1,IF(""&KanbanResponsibleFilter=""&G7,1,0)) -> 1 | V7: =IF(OR(ttFilter="",ttFilter="All"),1,IF(""&ttFilter=""&E7,1,0)) -> 1 | W7: =IF(OR(KanbanPriorityFilter="",KanbanPriorityFilter="All"),1,IF(""&KanbanPriorityFilter=""&I7,1,0)) -> 1 | X7: =R7*T7*U7*V7*W7 -> 0 | Y7: =IF(KanbanRow1=$DG$12,"#" & C7 &" - "& F7, IF(KanbanRow1=$DG$13,F7,C7)) -> #3 - Task 1.2 | Z7: =IFERROR(IF(LEN(INDEX(C7:P7,1,MATCH(KanbanRow2,$C$3:$P$3,0)))=0,"-",INDEX(C7:P7,1,MATCH(KanbanRow2,$C$3:$P$3,0))),"-") -> Task 1.2 | AA7: =IF(X7=0,"",IF(LEN(K7)=0,COLUMN(Kanban!$D$8),IFERROR(MATCH(K7,Kanban!$A$8:$AI$8,0),COLUMN(Kanban!$D$8)))) | AB7: =IF(X7=0,"",2*COUNTIF($AA$5:AA7,AA7)+$AF$5) | AC7: =AA7&"-"&AB7 -> - | AI7: ID - Title | AK7: =INDEX(Retrospective!$B$8:$D$207,B7,IF(OR($AI$4=2,$AI$4=4),2,1))&IF($AI$4=2,""," - "&INDEX(Retrospective!$B$8:$D$207,B7,IF($AI$4=1,2,3))) -> Bug 1.1 - | AL7: =IFERROR(MATCH(INDEX(Retrospective!$E$8:$E$27,B7,1),$AI$13:$AI$16,0),"") -> 4 | AM7: =IF(AL7="","", AL7&"."&COUNTIF($AL$5:AL7,AL7)) -> 4.1 | AW7: =DH35 -> High | AX7: =IF(AW7="","", IFERROR(AVERAGEIFS($Q$5:$Q$1004,$D$5:$D$1004,$AP$6,$E$5:$E$1004,$AP$13,$J$5:$J$1004,$AP$15,$I$5:$I$1004,AW7),0)) -> 13 | AY7: =IFERROR(($AY$4-AX7)/2,"") -> 0.325 | BF7: {=IFERROR(SMALL(IF($D$5:$D$1004=$AP$6,$N$5:$N$1004,""),B7),"")} -> 44609 | BG7: =IF(IFERROR(MATCH(BF7,$BF$4:BF6,0),0)=0,MAX($BG$4:BG6)+1,"") -> 3 | BH7: =IFERROR(INDEX($BF$5:$BF$1004,MATCH(B7,$BG$5:$BG$1004,0),1),"") -> 44609 | BI7: =IFERROR(BH7-sprintStartDate,"") -> 10 | BJ7: =IF(BH7="","",COUNTIFS($N$5:$N$1004,BH7,$D$5:$D$1004,$AP$6,$E$5:$E$1004,$AP$13,$J$5:$J$1004,$AP$15)) -> 1 | BK7: =IFERROR(BJ7+IF(ISNUMBER(BK6),BK6,0),"") -> 3 | BL7: =IF(BH7="","",SUMIFS($H$5:$H$1004,$N$5:$N$1004,BH7,$D$5:$D$1004,$AP$6,$E$5:$E$1004,$AP$13,$J$5:$J$1004,$AP$15)) -> 10 | BM7: =IFERROR($BM$4-BK7,"") -> 7 | BP7: Priority | BQ7: =IF(OR(SprintsComparison!D5="All",SprintsComparison!D5=""),"*",SprintsComparison!D5) -> * | BT7: 1 | BU7: =IF(BY7="","",COUNTIFS($D$5:$D$1004,BY7,$E$5:$E$1004,$BT$5)) -> 1 | BV7: =IF(BY7="","",COUNTIF($D$5:$D$1004,BY7)) -> 10 | BW7: =IF(BY7="","",BV7-COUNTIFS($D$5:$D$1004,BY7,$N$5:$N$1004,"")) -> 5 | BX7: =IFERROR(BU7/BV7,"") -> 0.1 | BY7: {=IFERROR(INDEX($D$5:$D$1004, MATCH(0,COUNTIF($BY$5:BY6,$D$5:$D$1004),0),1),"")} -> 2 | BZ7: ="Sprint # " &BY7 -> Sprint # 2 | CA7: =SUMIF($D$5:$D$1004,BY7,$H$5:$H$1004) -> 68 | CB7: =SUMIFS($H$5:$H$1004,$D$5:$D$1004,BY7,$J$5:$J$1004,"Yes") -> 40 | CC7: =SUMIFS($H$5:$H$1004,$D$5:$D$1004,BY7,$N$5:$N$1004,">1") -> 37 | CD7: =IFERROR(AVERAGEIFS($Q$5:$Q$1004,$D$5:$D$1004,BY7,$E$5:$E$1004,$BQ$5,$I$5:$I$1004,$BQ$7),"") -> 1.8 | CE7: =IFERROR(($CE$5-CD7)/2,"") -> 3.675 | CG7: =SUM(CH7:CR7) -> 10 | CH7: =IF(OR($BY7="", CH$5=""),"",COUNTIFS($D$5:$D$1004,$BY7,$K$5:$K$1004,CH$5,$E$5:$E$1004,$BQ$5,$I$5:$I$1004,$BQ$7)) -> 2 | CI7: =IF(OR($BY7="", CI$5=""),"",COUNTIFS($D$5:$D$1004,$BY7,$K$5:$K$1004,CI$5,$E$5:$E$1004,$BQ$5,$I$5:$I$1004,$BQ$7)) -> 0 | CJ7: =IF(OR($BY7="", CJ$5=""),"",COUNTIFS($D$5:$D$1004,$BY7,$K$5:$K$1004,CJ$5,$E$5:$E$1004,$BQ$5,$I$5:$I$1004,$BQ$7)) -> 0 | CK7: =IF(OR($BY7="", CK$5=""),"",COUNTIFS($D$5:$D$1004,$BY7,$K$5:$K$1004,CK$5,$E$5:$E$1004,$BQ$5,$I$5:$I$1004,$BQ$7)) -> 1 | CL7: =IF(OR($BY7="", CL$5=""),"",COUNTIFS($D$5:$D$1004,$BY7,$K$5:$K$1004,CL$5,$E$5:$E$1004,$BQ$5,$I$5:$I$1004,$BQ$7)) -> 2 | CM7: =IF(OR($BY7="", CM$5=""),"",COUNTIFS($D$5:$D$1004,$BY7,$K$5:$K$1004,CM$5,$E$5:$E$1004,$BQ$5,$I$5:$I$1004,$BQ$7)) -> 5 | CN7: =IF(OR($BY7="", CN$5=""),"",COUNTIFS($D$5:$D$1004,$BY7,$K$5:$K$1004,CN$5,$E$5:$E$1004,$BQ$5,$I$5:$I$1004,$BQ$7)) | CO7: =IF(OR($BY7="", CO$5=""),"",COUNTIFS($D$5:$D$1004,$BY7,$K$5:$K$1004,CO$5,$E$5:$E$1004,$BQ$5,$I$5:$I$1004,$BQ$7)) | ... CR7: =IF(OR($BY7="", CR$5=""),"",COUNTIFS($D$5:$D$1004,$BY7,$K$5:$K$1004,CR$5,$E$5:$E$1004,$BQ$5,$I$5:$I$1004,$BQ$7)) | CT7: =IF(BY7="","",COUNTIFS($D$5:$D$1004,BY7,$I$5:$I$1004,CT$5,$E$5:$E$1004,$BQ$5,$K$5:$K$1004,$BQ$9)) -> 5 | CU7: =IF(BY7="","",COUNTIFS($D$5:$D$1004,BY7,$I$5:$I$1004,CU$5,$E$5:$E$1004,$BQ$5,$K$5:$K$1004,$BQ$9)) -> 0 | CV7: =IF(BY7="","",COUNTIFS($D$5:$D$1004,BY7,$I$5:$I$1004,CV$5,$E$5:$E$1004,$BQ$5,$K$5:$K$1004,$BQ$9)) -> 3 | CW7: =IF(BY7="","",COUNTIFS($D$5:$D$1004,BY7,$I$5:$I$1004,CW$5,$E$5:$E$1004,$BQ$5,$K$5:$K$1004,$BQ$9)) -> 2 | CX7: =IF(BY7="","",COUNTIFS($D$5:$D$1004,BY7,$I$5:$I$1004,CX$5,$E$5:$E$1004,$BQ$5,$K$5:$K$1004,$BQ$9)) -> 0 | CY7: =IF(BY7="","",COUNTIFS($D$5:$D$1004,BY7,$I$5:$I$1004,CY$5,$E$5:$E$1004,$BQ$5,$K$5:$K$1004,$BQ$9)) -> 0 | DA7: =IF(COUNTIF($DA$5:DA6,DA6)=$BD$15,MAX(DA6)+1,DA6) -> 0 | DB7: =IF(DA7+1>$BQ$11,"", "Sprint # " & DA7+1) -> Sprint # 1 | DC7: =IF(DB7="","",INDEX($CT$5:$CY$5,1,COUNTIF($DB$6:DB7,DB7))) -> Medium | DD7: =IF(DB7="","",MAX(INDEX($CT$6:$CY$35,DA7+1,COUNTIF($DB$6:DB7,DB7)),0)) -> 3 | DF7: =Retrospective!P5 -> New Goals | DG7: Sprint Plan | DK7: =""&INDEX(Settings!$B$6:$B$55,ROW(DK3),1) -> Kyle | DL7: =""&INDEX(Settings!$C$6:$C$15,ROW(DL3),1) -> Developer | DM7: =IF(LEN(INDEX(Settings!E$6:E$55,ROW(DM3),1))>0,MAX($DM$4:DM6)+1,"") -> 3 | DN7: =IF(LEN(INDEX(Settings!F$6:F$55,ROW(DN3),1))>0,MAX($DN$4:DN6)+1,"") -> 2 | DO7: =IF(LEN(INDEX(Settings!G$6:G$15,ROW(DO3),1))>0,MAX($DO$4:DO6)+1,"") | DP7: =IF(LEN(DK7)>0,MAX($DP$4:DP6)+1,"") -> 3 | DQ7: =INDEX(DM7:DP7,1,MATCH(SprintPlan!$E$15,Calculation!$DM$4:$DP$4,0)) -> 3
B8: 4 | C8: =IFERROR(INDEX(Backlog!B$6:B$1005,Calculation!$B8,1),"") -> 4 | D8: =IFERROR(IF(INDEX(Backlog!C$6:C$1005,Calculation!$B8,1)="","",INDEX(Backlog!C$6:C$1005,Calculation!$B8,1)),"") -> 1 | E8: =IFERROR(""&INDEX(Backlog!D$6:D$1005,Calculation!$B8,1),"") -> User Story | F8: =IFERROR(""&INDEX(Backlog!E$6:E$1005,Calculation!$B8,1),"") -> User Story 1.1 | G8: =IFERROR(""&INDEX(Backlog!F$6:F$1005,Calculation!$B8,1),"") -> Kate | H8: =IFERROR(IF(INDEX(Backlog!G$6:G$1005,Calculation!$B8,1)="","",INDEX(Backlog!G$6:G$1005,Calculation!$B8,1)),"") -> 2 | I8: =IFERROR(IF(INDEX(Backlog!H$6:H$1005,Calculation!$B8,1)="","Not set",INDEX(Backlog!H$6:H$1005,Calculation!$B8,1)),"") -> Low | J8: =IFERROR(""&INDEX(Backlog!I$6:I$1005,Calculation!$B8,1),"") -> No | K8: =IFERROR(IF(LEN(INDEX(Backlog!J$6:J$1005,Calculation!$B8,1))=0,"Not set",INDEX(Backlog!J$6:J$1005,Calculation!$B8,1)),"") -> Completed | L8: =IFERROR(IF(INDEX(Backlog!K$6:K$1005,Calculation!$B8,1)="","",INDEX(Backlog!K$6:K$1005,Calculation!$B8,1)),"") -> 44602 | M8: =IFERROR(INDEX($DF$12:$DF$23,MONTH(L8),1)&" "&DAY(L8)&", "&YEAR(L8),"") -> Feb 10, 2022 | N8: =IFERROR(IF(INDEX(Backlog!L$6:L$1005,Calculation!$B8,1)="","",INDEX(Backlog!L$6:L$1005,Calculation!$B8,1)),"") -> 44607 | O8: =IFERROR(INDEX($DF$12:$DF$23,MONTH(N8),1)&" "&DAY(N8)&", "&YEAR(N8),"") -> Feb 15, 2022 | P8: =IFERROR(""&INDEX(Backlog!M$6:M$1005,Calculation!$B8,1),"") | Q8: =IF(AND(ISNUMBER(L8),ISNUMBER(N8)),N8-L8,"") -> 5 | R8: =IF(AND(LEN(C8)>0,LEN(F8)>0),1,0) -> 1 | T8: =IF(OR(KanbanSprintFilter="",KanbanSprintFilter="All"),1,IF(""&KanbanSprintFilter=""&D8,1,0)) -> 0 | U8: =IF(OR(KanbanResponsibleFilter="",KanbanResponsibleFilter="All"),1,IF(""&KanbanResponsibleFilter=""&G8,1,0)) -> 1 | V8: =IF(OR(ttFilter="",ttFilter="All"),1,IF(""&ttFilter=""&E8,1,0)) -> 1 | W8: =IF(OR(KanbanPriorityFilter="",KanbanPriorityFilter="All"),1,IF(""&KanbanPriorityFilter=""&I8,1,0)) -> 1 | X8: =R8*T8*U8*V8*W8 -> 0 | Y8: =IF(KanbanRow1=$DG$12,"#" & C8 &" - "& F8, IF(KanbanRow1=$DG$13,F8,C8)) -> #4 - User Story 1.1 | Z8: =IFERROR(IF(LEN(INDEX(C8:P8,1,MATCH(KanbanRow2,$C$3:$P$3,0)))=0,"-",INDEX(C8:P8,1,MATCH(KanbanRow2,$C$3:$P$3,0))),"-") -> User Story 1.1 | AA8: =IF(X8=0,"",IF(LEN(K8)=0,COLUMN(Kanban!$D$8),IFERROR(MATCH(K8,Kanban!$A$8:$AI$8,0),COLUMN(Kanban!$D$8)))) | AB8: =IF(X8=0,"",2*COUNTIF($AA$5:AA8,AA8)+$AF$5) | AC8: =AA8&"-"&AB8 -> - | AE8: Kanban print area | AF8: =MAX(AB5:AB1004)-1 -> 13 | AI8: Title | AK8: =INDEX(Retrospective!$B$8:$D$207,B8,IF(OR($AI$4=2,$AI$4=4),2,1))&IF($AI$4=2,""," - "&INDEX(Retrospective!$B$8:$D$207,B8,IF($AI$4=1,2,3))) -> Bug 1.1 - important step closed | AL8: =IFERROR(MATCH(INDEX(Retrospective!$E$8:$E$207,B8,1),$AI$13:$AI$16,0),"") -> 1 | AM8: =IF(AL8="","", AL8&"."&COUNTIF($AL$5:AL8,AL8)) -> 1.1 | AO8: % type | AP8: Match | AS8: Filtered by ticket type | AU8: Not filtered (just by sprint no) | AW8: =DH36 -> Not set | AX8: =IF(AW8="","", IFERROR(AVERAGEIFS($Q$5:$Q$1004,$D$5:$D$1004,$AP$6,$E$5:$E$1004,$AP$13,$J$5:$J$1004,$AP$15,$I$5:$I$1004,AW8),0)) -> 10 | AY8: =IFERROR(($AY$4-AX8)/2,"") -> 1.825 | BF8: {=IFERROR(SMALL(IF($D$5:$D$1004=$AP$6,$N$5:$N$1004,""),B8),"")} -> 44610 | BG8: =IF(IFERROR(MATCH(BF8,$BF$4:BF7,0),0)=0,MAX($BG$4:BG7)+1,"") -> 4 | BH8: =IFERROR(INDEX($BF$5:$BF$1004,MATCH(B8,$BG$5:$BG$1004,0),1),"") -> 44610 | BI8: =IFERROR(BH8-sprintStartDate,"") -> 11 | BJ8: =IF(BH8="","",COUNTIFS($N$5:$N$1004,BH8,$D$5:$D$1004,$AP$6,$E$5:$E$1004,$AP$13,$J$5:$J$1004,$AP$15)) -> 1 | BK8: =IFERROR(BJ8+IF(ISNUMBER(BK7),BK7,0),"") -> 4 | BL8: =IF(BH8="","",SUMIFS($H$5:$H$1004,$N$5:$N$1004,BH8,$D$5:$D$1004,$AP$6,$E$5:$E$1004,$AP$13,$J$5:$J$1004,$AP$15)) -> 8 | BM8: =IFERROR($BM$4-BK8,"") -> 6 | BT8: 1 | BU8: =IF(BY8="","",COUNTIFS($D$5:$D$1004,BY8,$E$5:$E$1004,$BT$5)) -> 2 | BV8: =IF(BY8="","",COUNTIF($D$5:$D$1004,BY8)) -> 10 | BW8: =IF(BY8="","",BV8-COUNTIFS($D$5:$D$1004,BY8,$N$5:$N$1004,"")) -> 6 | BX8: =IFERROR(BU8/BV8,"") -> 0.2 | BY8: {=IFERROR(INDEX($D$5:$D$1004, MATCH(0,COUNTIF($BY$5:BY7,$D$5:$D$1004),0),1),"")} -> 3 | BZ8: ="Sprint # " &BY8 -> Sprint # 3 | CA8: =SUMIF($D$5:$D$1004,BY8,$H$5:$H$1004) -> 68 | CB8: =SUMIFS($H$5:$H$1004,$D$5:$D$1004,BY8,$J$5:$J$1004,"Yes") -> 54 | CC8: =SUMIFS($H$5:$H$1004,$D$5:$D$1004,BY8,$N$5:$N$1004,">1") -> 38 | CD8: =IFERROR(AVERAGEIFS($Q$5:$Q$1004,$D$5:$D$1004,BY8,$E$5:$E$1004,$BQ$5,$I$5:$I$1004,$BQ$7),"") -> 5 | CE8: =IFERROR(($CE$5-CD8)/2,"") -> 2.075 | CG8: =SUM(CH8:CR8) -> 10 | CH8: =IF(OR($BY8="", CH$5=""),"",COUNTIFS($D$5:$D$1004,$BY8,$K$5:$K$1004,CH$5,$E$5:$E$1004,$BQ$5,$I$5:$I$1004,$BQ$7)) -> 2 | CI8: =IF(OR($BY8="", CI$5=""),"",COUNTIFS($D$5:$D$1004,$BY8,$K$5:$K$1004,CI$5,$E$5:$E$1004,$BQ$5,$I$5:$I$1004,$BQ$7)) -> 0 | CJ8: =IF(OR($BY8="", CJ$5=""),"",COUNTIFS($D$5:$D$1004,$BY8,$K$5:$K$1004,CJ$5,$E$5:$E$1004,$BQ$5,$I$5:$I$1004,$BQ$7)) -> 0 | CK8: =IF(OR($BY8="", CK$5=""),"",COUNTIFS($D$5:$D$1004,$BY8,$K$5:$K$1004,CK$5,$E$5:$E$1004,$BQ$5,$I$5:$I$1004,$BQ$7)) -> 1 | CL8: =IF(OR($BY8="", CL$5=""),"",COUNTIFS($D$5:$D$1004,$BY8,$K$5:$K$1004,CL$5,$E$5:$E$1004,$BQ$5,$I$5:$I$1004,$BQ$7)) -> 1 | CM8: =IF(OR($BY8="", CM$5=""),"",COUNTIFS($D$5:$D$1004,$BY8,$K$5:$K$1004,CM$5,$E$5:$E$1004,$BQ$5,$I$5:$I$1004,$BQ$7)) -> 6 | CN8: =IF(OR($BY8="", CN$5=""),"",COUNTIFS($D$5:$D$1004,$BY8,$K$5:$K$1004,CN$5,$E$5:$E$1004,$BQ$5,$I$5:$I$1004,$BQ$7)) | CO8: =IF(OR($BY8="", CO$5=""),"",COUNTIFS($D$5:$D$1004,$BY8,$K$5:$K$1004,CO$5,$E$5:$E$1004,$BQ$5,$I$5:$I$1004,$BQ$7)) | ... CR8: =IF(OR($BY8="", CR$5=""),"",COUNTIFS($D$5:$D$1004,$BY8,$K$5:$K$1004,CR$5,$E$5:$E$1004,$BQ$5,$I$5:$I$1004,$BQ$7)) | CT8: =IF(BY8="","",COUNTIFS($D$5:$D$1004,BY8,$I$5:$I$1004,CT$5,$E$5:$E$1004,$BQ$5,$K$5:$K$1004,$BQ$9)) -> 6 | CU8: =IF(BY8="","",COUNTIFS($D$5:$D$1004,BY8,$I$5:$I$1004,CU$5,$E$5:$E$1004,$BQ$5,$K$5:$K$1004,$BQ$9)) -> 2 | CV8: =IF(BY8="","",COUNTIFS($D$5:$D$1004,BY8,$I$5:$I$1004,CV$5,$E$5:$E$1004,$BQ$5,$K$5:$K$1004,$BQ$9)) -> 2 | CW8: =IF(BY8="","",COUNTIFS($D$5:$D$1004,BY8,$I$5:$I$1004,CW$5,$E$5:$E$1004,$BQ$5,$K$5:$K$1004,$BQ$9)) -> 0 | CX8: =IF(BY8="","",COUNTIFS($D$5:$D$1004,BY8,$I$5:$I$1004,CX$5,$E$5:$E$1004,$BQ$5,$K$5:$K$1004,$BQ$9)) -> 0 | CY8: =IF(BY8="","",COUNTIFS($D$5:$D$1004,BY8,$I$5:$I$1004,CY$5,$E$5:$E$1004,$BQ$5,$K$5:$K$1004,$BQ$9)) -> 0 | DA8: =IF(COUNTIF($DA$5:DA7,DA7)=$BD$15,MAX(DA7)+1,DA7) -> 0 | DB8: =IF(DA8+1>$BQ$11,"", "Sprint # " & DA8+1) -> Sprint # 1 | DC8: =IF(DB8="","",INDEX($CT$5:$CY$5,1,COUNTIF($DB$6:DB8,DB8))) -> High | DD8: =IF(DB8="","",MAX(INDEX($CT$6:$CY$35,DA8+1,COUNTIF($DB$6:DB8,DB8)),0)) -> 1 | DF8: =Retrospective!T5 -> Stop | DG8: Retrospective | DK8: =""&INDEX(Settings!$B$6:$B$55,ROW(DK4),1) -> Kate | DL8: =""&INDEX(Settings!$C$6:$C$15,ROW(DL4),1) -> Designer | DM8: =IF(LEN(INDEX(Settings!E$6:E$15,ROW(DM4),1))>0,MAX($DM$4:DM7)+1,"") | DN8: =IF(LEN(INDEX(Settings!F$6:F$15,ROW(DN4),1))>0,MAX($DN$4:DN7)+1,"") | DO8: =IF(LEN(INDEX(Settings!G$6:G$55,ROW(DO4),1))>0,MAX($DO$4:DO7)+1,"") -> 1 | DP8: =IF(LEN(DK8)>0,MAX($DP$4:DP7)+1,"") -> 4 | DQ8: =INDEX(DM8:DP8,1,MATCH(SprintPlan!$E$15,Calculation!$DM$4:$DP$4,0)) -> 4
B9: 5 | C9: =IFERROR(INDEX(Backlog!B$6:B$1005,Calculation!$B9,1),"") -> 5 | D9: =IFERROR(IF(INDEX(Backlog!C$6:C$1005,Calculation!$B9,1)="","",INDEX(Backlog!C$6:C$1005,Calculation!$B9,1)),"") -> 1 | E9: =IFERROR(""&INDEX(Backlog!D$6:D$1005,Calculation!$B9,1),"") -> Feature | F9: =IFERROR(""&INDEX(Backlog!E$6:E$1005,Calculation!$B9,1),"") -> Feature 1.2 | G9: =IFERROR(""&INDEX(Backlog!F$6:F$1005,Calculation!$B9,1),"") -> John | H9: =IFERROR(IF(INDEX(Backlog!G$6:G$1005,Calculation!$B9,1)="","",INDEX(Backlog!G$6:G$1005,Calculation!$B9,1)),"") -> 4 | I9: =IFERROR(IF(INDEX(Backlog!H$6:H$1005,Calculation!$B9,1)="","Not set",INDEX(Backlog!H$6:H$1005,Calculation!$B9,1)),"") -> Low | J9: =IFERROR(""&INDEX(Backlog!I$6:I$1005,Calculation!$B9,1),"") -> Yes | K9: =IFERROR(IF(LEN(INDEX(Backlog!J$6:J$1005,Calculation!$B9,1))=0,"Not set",INDEX(Backlog!J$6:J$1005,Calculation!$B9,1)),"") -> Completed | L9: =IFERROR(IF(INDEX(Backlog!K$6:K$1005,Calculation!$B9,1)="","",INDEX(Backlog!K$6:K$1005,Calculation!$B9,1)),"") -> 44600 | M9: =IFERROR(INDEX($DF$12:$DF$23,MONTH(L9),1)&" "&DAY(L9)&", "&YEAR(L9),"") -> Feb 8, 2022 | N9: =IFERROR(IF(INDEX(Backlog!L$6:L$1005,Calculation!$B9,1)="","",INDEX(Backlog!L$6:L$1005,Calculation!$B9,1)),"") -> 44604 | O9: =IFERROR(INDEX($DF$12:$DF$23,MONTH(N9),1)&" "&DAY(N9)&", "&YEAR(N9),"") -> Feb 12, 2022 | P9: =IFERROR(""&INDEX(Backlog!M$6:M$1005,Calculation!$B9,1),"") | Q9: =IF(AND(ISNUMBER(L9),ISNUMBER(N9)),N9-L9,"") -> 4 | R9: =IF(AND(LEN(C9)>0,LEN(F9)>0),1,0) -> 1 | T9: =IF(OR(KanbanSprintFilter="",KanbanSprintFilter="All"),1,IF(""&KanbanSprintFilter=""&D9,1,0)) -> 0 | U9: =IF(OR(KanbanResponsibleFilter="",KanbanResponsibleFilter="All"),1,IF(""&KanbanResponsibleFilter=""&G9,1,0)) -> 1 | V9: =IF(OR(ttFilter="",ttFilter="All"),1,IF(""&ttFilter=""&E9,1,0)) -> 1 | W9: =IF(OR(KanbanPriorityFilter="",KanbanPriorityFilter="All"),1,IF(""&KanbanPriorityFilter=""&I9,1,0)) -> 1 | X9: =R9*T9*U9*V9*W9 -> 0 | Y9: =IF(KanbanRow1=$DG$12,"#" & C9 &" - "& F9, IF(KanbanRow1=$DG$13,F9,C9)) -> #5 - Feature 1.2 | Z9: =IFERROR(IF(LEN(INDEX(C9:P9,1,MATCH(KanbanRow2,$C$3:$P$3,0)))=0,"-",INDEX(C9:P9,1,MATCH(KanbanRow2,$C$3:$P$3,0))),"-") -> Feature 1.2 | AA9: =IF(X9=0,"",IF(LEN(K9)=0,COLUMN(Kanban!$D$8),IFERROR(MATCH(K9,Kanban!$A$8:$AI$8,0),COLUMN(Kanban!$D$8)))) | AB9: =IF(X9=0,"",2*COUNTIF($AA$5:AA9,AA9)+$AF$5) | AC9: =AA9&"-"&AB9 -> - | AI9: ID - Comment | AK9: =INDEX(Retrospective!$B$8:$D$207,B9,IF(OR($AI$4=2,$AI$4=4),2,1))&IF($AI$4=2,""," - "&INDEX(Retrospective!$B$8:$D$207,B9,IF($AI$4=1,2,3))) -> User Story 1.2 - | AL9: =IFERROR(MATCH(INDEX(Retrospective!$E$8:$E$27,B9,1),$AI$13:$AI$16,0),"") -> 1 | AM9: =IF(AL9="","", AL9&"."&COUNTIF($AL$5:AL9,AL9)) -> 1.2 | AO9: =IF(AP13="*","Bug",AP13) -> Bug | AP9: =MATCH(AO9,$AS$11:$AS$20,0) -> 1 | AS9: Taks type % | AT9: # | AU9: # | AW9: =DH37 | AX9: =IF(AW9="","", IFERROR(AVERAGEIFS($Q$5:$Q$1004,$D$5:$D$1004,$AP$6,$E$5:$E$1004,$AP$13,$J$5:$J$1004,$AP$15,$I$5:$I$1004,AW9),0)) | AY9: =IFERROR(($AY$4-AX9)/2,"") | BF9: {=IFERROR(SMALL(IF($D$5:$D$1004=$AP$6,$N$5:$N$1004,""),B9),"")} -> 44611 | BG9: =IF(IFERROR(MATCH(BF9,$BF$4:BF8,0),0)=0,MAX($BG$4:BG8)+1,"") -> 5 | BH9: =IFERROR(INDEX($BF$5:$BF$1004,MATCH(B9,$BG$5:$BG$1004,0),1),"") -> 44611 | BI9: =IFERROR(BH9-sprintStartDate,"") -> 12 | BJ9: =IF(BH9="","",COUNTIFS($N$5:$N$1004,BH9,$D$5:$D$1004,$AP$6,$E$5:$E$1004,$AP$13,$J$5:$J$1004,$AP$15)) -> 2 | BK9: =IFERROR(BJ9+IF(ISNUMBER(BK8),BK8,0),"") -> 6 | BL9: =IF(BH9="","",SUMIFS($H$5:$H$1004,$N$5:$N$1004,BH9,$D$5:$D$1004,$AP$6,$E$5:$E$1004,$AP$13,$J$5:$J$1004,$AP$15)) -> 23 | BM9: =IFERROR($BM$4-BK9,"") -> 4 | BP9: Status | BQ9: =IF(OR(SprintsComparison!J5="All",SprintsComparison!J5=""),"*",SprintsComparison!J5) -> * | BT9: 1 | BU9: =IF(BY9="","",COUNTIFS($D$5:$D$1004,BY9,$E$5:$E$1004,$BT$5)) -> 1 | BV9: =IF(BY9="","",COUNTIF($D$5:$D$1004,BY9)) -> 10 | BW9: =IF(BY9="","",BV9-COUNTIFS($D$5:$D$1004,BY9,$N$5:$N$1004,"")) -> 3 | BX9: =IFERROR(BU9/BV9,"") -> 0.1 | BY9: {=IFERROR(INDEX($D$5:$D$1004, MATCH(0,COUNTIF($BY$5:BY8,$D$5:$D$1004),0),1),"")} -> 4 | BZ9: ="Sprint # " &BY9 -> Sprint # 4 | CA9: =SUMIF($D$5:$D$1004,BY9,$H$5:$H$1004) -> 59 | CB9: =SUMIFS($H$5:$H$1004,$D$5:$D$1004,BY9,$J$5:$J$1004,"Yes") -> 48 | CC9: =SUMIFS($H$5:$H$1004,$D$5:$D$1004,BY9,$N$5:$N$1004,">1") -> 18 | CD9: =IFERROR(AVERAGEIFS($Q$5:$Q$1004,$D$5:$D$1004,BY9,$E$5:$E$1004,$BQ$5,$I$5:$I$1004,$BQ$7),"") -> 6.3333333 | CE9: =IFERROR(($CE$5-CD9)/2,"") -> 1.4083333 | CG9: =SUM(CH9:CR9) -> 10 | CH9: =IF(OR($BY9="", CH$5=""),"",COUNTIFS($D$5:$D$1004,$BY9,$K$5:$K$1004,CH$5,$E$5:$E$1004,$BQ$5,$I$5:$I$1004,$BQ$7)) -> 0 | CI9: =IF(OR($BY9="", CI$5=""),"",COUNTIFS($D$5:$D$1004,$BY9,$K$5:$K$1004,CI$5,$E$5:$E$1004,$BQ$5,$I$5:$I$1004,$BQ$7)) -> 2 | CJ9: =IF(OR($BY9="", CJ$5=""),"",COUNTIFS($D$5:$D$1004,$BY9,$K$5:$K$1004,CJ$5,$E$5:$E$1004,$BQ$5,$I$5:$I$1004,$BQ$7)) -> 1 | CK9: =IF(OR($BY9="", CK$5=""),"",COUNTIFS($D$5:$D$1004,$BY9,$K$5:$K$1004,CK$5,$E$5:$E$1004,$BQ$5,$I$5:$I$1004,$BQ$7)) -> 1 | CL9: =IF(OR($BY9="", CL$5=""),"",COUNTIFS($D$5:$D$1004,$BY9,$K$5:$K$1004,CL$5,$E$5:$E$1004,$BQ$5,$I$5:$I$1004,$BQ$7)) -> 3 | CM9: =IF(OR($BY9="", CM$5=""),"",COUNTIFS($D$5:$D$1004,$BY9,$K$5:$K$1004,CM$5,$E$5:$E$1004,$BQ$5,$I$5:$I$1004,$BQ$7)) -> 3 | CN9: =IF(OR($BY9="", CN$5=""),"",COUNTIFS($D$5:$D$1004,$BY9,$K$5:$K$1004,CN$5,$E$5:$E$1004,$BQ$5,$I$5:$I$1004,$BQ$7)) | CO9: =IF(OR($BY9="", CO$5=""),"",COUNTIFS($D$5:$D$1004,$BY9,$K$5:$K$1004,CO$5,$E$5:$E$1004,$BQ$5,$I$5:$I$1004,$BQ$7)) | ... CR9: =IF(OR($BY9="", CR$5=""),"",COUNTIFS($D$5:$D$1004,$BY9,$K$5:$K$1004,CR$5,$E$5:$E$1004,$BQ$5,$I$5:$I$1004,$BQ$7)) | CT9: =IF(BY9="","",COUNTIFS($D$5:$D$1004,BY9,$I$5:$I$1004,CT$5,$E$5:$E$1004,$BQ$5,$K$5:$K$1004,$BQ$9)) -> 5 | CU9: =IF(BY9="","",COUNTIFS($D$5:$D$1004,BY9,$I$5:$I$1004,CU$5,$E$5:$E$1004,$BQ$5,$K$5:$K$1004,$BQ$9)) -> 1 | CV9: =IF(BY9="","",COUNTIFS($D$5:$D$1004,BY9,$I$5:$I$1004,CV$5,$E$5:$E$1004,$BQ$5,$K$5:$K$1004,$BQ$9)) -> 1 | CW9: =IF(BY9="","",COUNTIFS($D$5:$D$1004,BY9,$I$5:$I$1004,CW$5,$E$5:$E$1004,$BQ$5,$K$5:$K$1004,$BQ$9)) -> 3 | CX9: =IF(BY9="","",COUNTIFS($D$5:$D$1004,BY9,$I$5:$I$1004,CX$5,$E$5:$E$1004,$BQ$5,$K$5:$K$1004,$BQ$9)) -> 0 | CY9: =IF(BY9="","",COUNTIFS($D$5:$D$1004,BY9,$I$5:$I$1004,CY$5,$E$5:$E$1004,$BQ$5,$K$5:$K$1004,$BQ$9)) -> 0 | DA9: =IF(COUNTIF($DA$5:DA8,DA8)=$BD$15,MAX(DA8)+1,DA8) -> 0 | DB9: =IF(DA9+1>$BQ$11,"", "Sprint # " & DA9+1) -> Sprint # 1 | DC9: =IF(DB9="","",INDEX($CT$5:$CY$5,1,COUNTIF($DB$6:DB9,DB9))) -> Not set | DD9: =IF(DB9="","",MAX(INDEX($CT$6:$CY$35,DA9+1,COUNTIF($DB$6:DB9,DB9)),0)) -> 2 | DK9: =""&INDEX(Settings!$B$6:$B$55,ROW(DK5),1) -> Mike | DL9: =""&INDEX(Settings!$C$6:$C$15,ROW(DL5),1) -> QA | DM9: =IF(LEN(INDEX(Settings!E$6:E$55,ROW(DM5),1))>0,MAX($DM$4:DM8)+1,"") -> 4 | DN9: =IF(LEN(INDEX(Settings!F$6:F$55,ROW(DN5),1))>0,MAX($DN$4:DN8)+1,"") -> 3 | DO9: =IF(LEN(INDEX(Settings!G$6:G$15,ROW(DO5),1))>0,MAX($DO$4:DO8)+1,"") | DP9: =IF(LEN(DK9)>0,MAX($DP$4:DP8)+1,"") -> 5 | DQ9: =INDEX(DM9:DP9,1,MATCH(SprintPlan!$E$15,Calculation!$DM$4:$DP$4,0)) -> 5
B10: 6 | C10: =IFERROR(INDEX(Backlog!B$6:B$1005,Calculation!$B10,1),"") -> 6 | D10: =IFERROR(IF(INDEX(Backlog!C$6:C$1005,Calculation!$B10,1)="","",INDEX(Backlog!C$6:C$1005,Calculation!$B10,1)),"") -> 1 | E10: =IFERROR(""&INDEX(Backlog!D$6:D$1005,Calculation!$B10,1),"") -> Bug | F10: =IFERROR(""&INDEX(Backlog!E$6:E$1005,Calculation!$B10,1),"") -> Bug 1.1 | G10: =IFERROR(""&INDEX(Backlog!F$6:F$1005,Calculation!$B10,1),"") -> Kate | H10: =IFERROR(IF(INDEX(Backlog!G$6:G$1005,Calculation!$B10,1)="","",INDEX(Backlog!G$6:G$1005,Calculation!$B10,1)),"") -> 10 | I10: =IFERROR(IF(INDEX(Backlog!H$6:H$1005,Calculation!$B10,1)="","Not set",INDEX(Backlog!H$6:H$1005,Calculation!$B10,1)),"") -> Not set | J10: =IFERROR(""&INDEX(Backlog!I$6:I$1005,Calculation!$B10,1),"") -> No | K10: =IFERROR(IF(LEN(INDEX(Backlog!J$6:J$1005,Calculation!$B10,1))=0,"Not set",INDEX(Backlog!J$6:J$1005,Calculation!$B10,1)),"") -> Completed | L10: =IFERROR(IF(INDEX(Backlog!K$6:K$1005,Calculation!$B10,1)="","",INDEX(Backlog!K$6:K$1005,Calculation!$B10,1)),"") -> 44602 | M10: =IFERROR(INDEX($DF$12:$DF$23,MONTH(L10),1)&" "&DAY(L10)&", "&YEAR(L10),"") -> Feb 10, 2022 | N10: =IFERROR(IF(INDEX(Backlog!L$6:L$1005,Calculation!$B10,1)="","",INDEX(Backlog!L$6:L$1005,Calculation!$B10,1)),"") -> 44611 | O10: =IFERROR(INDEX($DF$12:$DF$23,MONTH(N10),1)&" "&DAY(N10)&", "&YEAR(N10),"") -> Feb 19, 2022 | P10: =IFERROR(""&INDEX(Backlog!M$6:M$1005,Calculation!$B10,1),"") | Q10: =IF(AND(ISNUMBER(L10),ISNUMBER(N10)),N10-L10,"") -> 9 | R10: =IF(AND(LEN(C10)>0,LEN(F10)>0),1,0) -> 1 | T10: =IF(OR(KanbanSprintFilter="",KanbanSprintFilter="All"),1,IF(""&KanbanSprintFilter=""&D10,1,0)) -> 0 | U10: =IF(OR(KanbanResponsibleFilter="",KanbanResponsibleFilter="All"),1,IF(""&KanbanResponsibleFilter=""&G10,1,0)) -> 1 | V10: =IF(OR(ttFilter="",ttFilter="All"),1,IF(""&ttFilter=""&E10,1,0)) -> 1 | W10: =IF(OR(KanbanPriorityFilter="",KanbanPriorityFilter="All"),1,IF(""&KanbanPriorityFilter=""&I10,1,0)) -> 1 | X10: =R10*T10*U10*V10*W10 -> 0 | Y10: =IF(KanbanRow1=$DG$12,"#" & C10 &" - "& F10, IF(KanbanRow1=$DG$13,F10,C10)) -> #6 - Bug 1.1 | Z10: =IFERROR(IF(LEN(INDEX(C10:P10,1,MATCH(KanbanRow2,$C$3:$P$3,0)))=0,"-",INDEX(C10:P10,1,MATCH(KanbanRow2,$C$3:$P$3,0))),"-") -> Bug 1.1 | AA10: =IF(X10=0,"",IF(LEN(K10)=0,COLUMN(Kanban!$D$8),IFERROR(MATCH(K10,Kanban!$A$8:$AI$8,0),COLUMN(Kanban!$D$8)))) | AB10: =IF(X10=0,"",2*COUNTIF($AA$5:AA10,AA10)+$AF$5) | AC10: =AA10&"-"&AB10 -> - | AI10: Title - Comment | AK10: =INDEX(Retrospective!$B$8:$D$207,B10,IF(OR($AI$4=2,$AI$4=4),2,1))&IF($AI$4=2,""," - "&INDEX(Retrospective!$B$8:$D$207,B10,IF($AI$4=1,2,3))) -> Task 1.3 - | AL10: =IFERROR(MATCH(INDEX(Retrospective!$E$8:$E$27,B10,1),$AI$13:$AI$16,0),"") -> 1 | AM10: =IF(AL10="","", AL10&"."&COUNTIF($AL$5:AL10,AL10)) -> 1.3 | AS10: Total | AT10: =COUNTIFS($D$5:$D$1004,AP6,$J$5:$J$1004,$AP$15) -> 10 | AU10: =COUNTIF($D$5:$D$1004,AP6) -> 10 | AW10: =DH38 | AX10: =IF(AW10="","", IFERROR(AVERAGEIFS($Q$5:$Q$1004,$D$5:$D$1004,$AP$6,$E$5:$E$1004,$AP$13,$J$5:$J$1004,$AP$15,$I$5:$I$1004,AW10),0)) | AY10: =IFERROR(($AY$4-AX10)/2,"") | BF10: {=IFERROR(SMALL(IF($D$5:$D$1004=$AP$6,$N$5:$N$1004,""),B10),"")} -> 44611 | BG10: =IF(IFERROR(MATCH(BF10,$BF$4:BF9,0),0)=0,MAX($BG$4:BG9)+1,"") | BH10: =IFERROR(INDEX($BF$5:$BF$1004,MATCH(B10,$BG$5:$BG$1004,0),1),"") -> 44613 | BI10: =IFERROR(BH10-sprintStartDate,"") -> 14 | BJ10: =IF(BH10="","",COUNTIFS($N$5:$N$1004,BH10,$D$5:$D$1004,$AP$6,$E$5:$E$1004,$AP$13,$J$5:$J$1004,$AP$15)) -> 1 | BK10: =IFERROR(BJ10+IF(ISNUMBER(BK9),BK9,0),"") -> 7 | BL10: =IF(BH10="","",SUMIFS($H$5:$H$1004,$N$5:$N$1004,BH10,$D$5:$D$1004,$AP$6,$E$5:$E$1004,$AP$13,$J$5:$J$1004,$AP$15)) -> 15 | BM10: =IFERROR($BM$4-BK10,"") -> 3 | BT10: 1 | BU10: =IF(BY10="","",COUNTIFS($D$5:$D$1004,BY10,$E$5:$E$1004,$BT$5)) -> 1 | BV10: =IF(BY10="","",COUNTIF($D$5:$D$1004,BY10)) -> 2 | BW10: =IF(BY10="","",BV10-COUNTIFS($D$5:$D$1004,BY10,$N$5:$N$1004,"")) -> 1 | BX10: =IFERROR(BU10/BV10,"") -> 0.5 | BY10: {=IFERROR(INDEX($D$5:$D$1004, MATCH(0,COUNTIF($BY$5:BY9,$D$5:$D$1004),0),1),"")} -> 5 | BZ10: ="Sprint # " &BY10 -> Sprint # 5 | CA10: =SUMIF($D$5:$D$1004,BY10,$H$5:$H$1004) -> 11 | CB10: =SUMIFS($H$5:$H$1004,$D$5:$D$1004,BY10,$J$5:$J$1004,"Yes") -> 2 | CC10: =SUMIFS($H$5:$H$1004,$D$5:$D$1004,BY10,$N$5:$N$1004,">1") -> 9 | CD10: =IFERROR(AVERAGEIFS($Q$5:$Q$1004,$D$5:$D$1004,BY10,$E$5:$E$1004,$BQ$5,$I$5:$I$1004,$BQ$7),"") -> 7 | CE10: =IFERROR(($CE$5-CD10)/2,"") -> 1.075 | CG10: =SUM(CH10:CR10) -> 2 | CH10: =IF(OR($BY10="", CH$5=""),"",COUNTIFS($D$5:$D$1004,$BY10,$K$5:$K$1004,CH$5,$E$5:$E$1004,$BQ$5,$I$5:$I$1004,$BQ$7)) -> 1 | CI10: =IF(OR($BY10="", CI$5=""),"",COUNTIFS($D$5:$D$1004,$BY10,$K$5:$K$1004,CI$5,$E$5:$E$1004,$BQ$5,$I$5:$I$1004,$BQ$7)) -> 0 | CJ10: =IF(OR($BY10="", CJ$5=""),"",COUNTIFS($D$5:$D$1004,$BY10,$K$5:$K$1004,CJ$5,$E$5:$E$1004,$BQ$5,$I$5:$I$1004,$BQ$7)) -> 0 | CK10: =IF(OR($BY10="", CK$5=""),"",COUNTIFS($D$5:$D$1004,$BY10,$K$5:$K$1004,CK$5,$E$5:$E$1004,$BQ$5,$I$5:$I$1004,$BQ$7)) -> 0 | CL10: =IF(OR($BY10="", CL$5=""),"",COUNTIFS($D$5:$D$1004,$BY10,$K$5:$K$1004,CL$5,$E$5:$E$1004,$BQ$5,$I$5:$I$1004,$BQ$7)) -> 0 | CM10: =IF(OR($BY10="", CM$5=""),"",COUNTIFS($D$5:$D$1004,$BY10,$K$5:$K$1004,CM$5,$E$5:$E$1004,$BQ$5,$I$5:$I$1004,$BQ$7)) -> 1 | CN10: =IF(OR($BY10="", CN$5=""),"",COUNTIFS($D$5:$D$1004,$BY10,$K$5:$K$1004,CN$5,$E$5:$E$1004,$BQ$5,$I$5:$I$1004,$BQ$7)) | CO10: =IF(OR($BY10="", CO$5=""),"",COUNTIFS($D$5:$D$1004,$BY10,$K$5:$K$1004,CO$5,$E$5:$E$1004,$BQ$5,$I$5:$I$1004,$BQ$7)) | ... CR10: =IF(OR($BY10="", CR$5=""),"",COUNTIFS($D$5:$D$1004,$BY10,$K$5:$K$1004,CR$5,$E$5:$E$1004,$BQ$5,$I$5:$I$1004,$BQ$7)) | CT10: =IF(BY10="","",COUNTIFS($D$5:$D$1004,BY10,$I$5:$I$1004,CT$5,$E$5:$E$1004,$BQ$5,$K$5:$K$1004,$BQ$9)) -> 2 | CU10: =IF(BY10="","",COUNTIFS($D$5:$D$1004,BY10,$I$5:$I$1004,CU$5,$E$5:$E$1004,$BQ$5,$K$5:$K$1004,$BQ$9)) -> 0 | CV10: =IF(BY10="","",COUNTIFS($D$5:$D$1004,BY10,$I$5:$I$1004,CV$5,$E$5:$E$1004,$BQ$5,$K$5:$K$1004,$BQ$9)) -> 0 | CW10: =IF(BY10="","",COUNTIFS($D$5:$D$1004,BY10,$I$5:$I$1004,CW$5,$E$5:$E$1004,$BQ$5,$K$5:$K$1004,$BQ$9)) -> 0 | CX10: =IF(BY10="","",COUNTIFS($D$5:$D$1004,BY10,$I$5:$I$1004,CX$5,$E$5:$E$1004,$BQ$5,$K$5:$K$1004,$BQ$9)) -> 0 | CY10: =IF(BY10="","",COUNTIFS($D$5:$D$1004,BY10,$I$5:$I$1004,CY$5,$E$5:$E$1004,$BQ$5,$K$5:$K$1004,$BQ$9)) -> 0 | DA10: =IF(COUNTIF($DA$5:DA9,DA9)=$BD$15,MAX(DA9)+1,DA9) -> 1 | DB10: =IF(DA10+1>$BQ$11,"", "Sprint # " & DA10+1) -> Sprint # 2 | DC10: =IF(DB10="","",INDEX($CT$5:$CY$5,1,COUNTIF($DB$6:DB10,DB10))) -> Low | DD10: =IF(DB10="","",MAX(INDEX($CT$6:$CY$35,DA10+1,COUNTIF($DB$6:DB10,DB10)),0)) -> 5 | DK10: =""&INDEX(Settings!$B$6:$B$55,ROW(DK6),1) | DL10: =""&INDEX(Settings!$C$6:$C$15,ROW(DL6),1) | DM10: =IF(LEN(INDEX(Settings!E$6:E$15,ROW(DM6),1))>0,MAX($DM$4:DM9)+1,"") | DN10: =IF(LEN(INDEX(Settings!F$6:F$15,ROW(DN6),1))>0,MAX($DN$4:DN9)+1,"") | DO10: =IF(LEN(INDEX(Settings!G$6:G$15,ROW(DO6),1))>0,MAX($DO$4:DO9)+1,"") | DP10: =IF(LEN(DK10)>0,MAX($DP$4:DP9)+1,"") | DQ10: =INDEX(DM10:DP10,1,MATCH(SprintPlan!$E$15,Calculation!$DM$4:$DP$4,0))
B11: 7 | C11: =IFERROR(INDEX(Backlog!B$6:B$1005,Calculation!$B11,1),"") -> 7 | D11: =IFERROR(IF(INDEX(Backlog!C$6:C$1005,Calculation!$B11,1)="","",INDEX(Backlog!C$6:C$1005,Calculation!$B11,1)),"") -> 1 | E11: =IFERROR(""&INDEX(Backlog!D$6:D$1005,Calculation!$B11,1),"") -> User Story | F11: =IFERROR(""&INDEX(Backlog!E$6:E$1005,Calculation!$B11,1),"") -> User Story 1.2 | G11: =IFERROR(""&INDEX(Backlog!F$6:F$1005,Calculation!$B11,1),"") -> John | H11: =IFERROR(IF(INDEX(Backlog!G$6:G$1005,Calculation!$B11,1)="","",INDEX(Backlog!G$6:G$1005,Calculation!$B11,1)),"") -> 5 | I11: =IFERROR(IF(INDEX(Backlog!H$6:H$1005,Calculation!$B11,1)="","Not set",INDEX(Backlog!H$6:H$1005,Calculation!$B11,1)),"") -> Low | J11: =IFERROR(""&INDEX(Backlog!I$6:I$1005,Calculation!$B11,1),"") -> Yes | K11: =IFERROR(IF(LEN(INDEX(Backlog!J$6:J$1005,Calculation!$B11,1))=0,"Not set",INDEX(Backlog!J$6:J$1005,Calculation!$B11,1)),"") -> Not set | L11: =IFERROR(IF(INDEX(Backlog!K$6:K$1005,Calculation!$B11,1)="","",INDEX(Backlog!K$6:K$1005,Calculation!$B11,1)),"") -> 44600 | M11: =IFERROR(INDEX($DF$12:$DF$23,MONTH(L11),1)&" "&DAY(L11)&", "&YEAR(L11),"") -> Feb 8, 2022 | N11: =IFERROR(IF(INDEX(Backlog!L$6:L$1005,Calculation!$B11,1)="","",INDEX(Backlog!L$6:L$1005,Calculation!$B11,1)),"") | O11: =IFERROR(INDEX($DF$12:$DF$23,MONTH(N11),1)&" "&DAY(N11)&", "&YEAR(N11),"") | P11: =IFERROR(""&INDEX(Backlog!M$6:M$1005,Calculation!$B11,1),"") | Q11: =IF(AND(ISNUMBER(L11),ISNUMBER(N11)),N11-L11,"") | R11: =IF(AND(LEN(C11)>0,LEN(F11)>0),1,0) -> 1 | T11: =IF(OR(KanbanSprintFilter="",KanbanSprintFilter="All"),1,IF(""&KanbanSprintFilter=""&D11,1,0)) -> 0 | U11: =IF(OR(KanbanResponsibleFilter="",KanbanResponsibleFilter="All"),1,IF(""&KanbanResponsibleFilter=""&G11,1,0)) -> 1 | V11: =IF(OR(ttFilter="",ttFilter="All"),1,IF(""&ttFilter=""&E11,1,0)) -> 1 | W11: =IF(OR(KanbanPriorityFilter="",KanbanPriorityFilter="All"),1,IF(""&KanbanPriorityFilter=""&I11,1,0)) -> 1 | X11: =R11*T11*U11*V11*W11 -> 0 | Y11: =IF(KanbanRow1=$DG$12,"#" & C11 &" - "& F11, IF(KanbanRow1=$DG$13,F11,C11)) -> #7 - User Story 1.2 | Z11: =IFERROR(IF(LEN(INDEX(C11:P11,1,MATCH(KanbanRow2,$C$3:$P$3,0)))=0,"-",INDEX(C11:P11,1,MATCH(KanbanRow2,$C$3:$P$3,0))),"-") -> User Story 1.2 | AA11: =IF(X11=0,"",IF(LEN(K11)=0,COLUMN(Kanban!$D$8),IFERROR(MATCH(K11,Kanban!$A$8:$AI$8,0),COLUMN(Kanban!$D$8)))) | AB11: =IF(X11=0,"",2*COUNTIF($AA$5:AA11,AA11)+$AF$5) | AC11: =AA11&"-"&AB11 -> - | AK11: =INDEX(Retrospective!$B$8:$D$207,B11,IF(OR($AI$4=2,$AI$4=4),2,1))&IF($AI$4=2,""," - "&INDEX(Retrospective!$B$8:$D$207,B11,IF($AI$4=1,2,3))) -> User Story 1.3 - | AL11: =IFERROR(MATCH(INDEX(Retrospective!$E$8:$E$207,B11,1),$AI$13:$AI$16,0),"") -> 4 | AM11: =IF(AL11="","", AL11&"."&COUNTIF($AL$5:AL11,AL11)) -> 4.2 | AO11: Show by | AP11: =IF(SprintDashboard!Q5="Date",0,1) -> 1 | AS11: =""&Settings!L6 -> Bug | AT11: =IF(AS11="","",COUNTIFS($D$5:$D$1004,$AP$6,$E$5:$E$1004,AS11,$J$5:$J$1004,$AP$15)) -> 1 | AU11: =IF(AS11="","",COUNTIFS($D$5:$D$1004,$AP$6,$E$5:$E$1004,AS11)) -> 1 | BF11: {=IFERROR(SMALL(IF($D$5:$D$1004=$AP$6,$N$5:$N$1004,""),B11),"")} -> 44613 | BG11: =IF(IFERROR(MATCH(BF11,$BF$4:BF10,0),0)=0,MAX($BG$4:BG10)+1,"") -> 6 | BH11: =IFERROR(INDEX($BF$5:$BF$1004,MATCH(B11,$BG$5:$BG$1004,0),1),"") | BI11: =IFERROR(BH11-sprintStartDate,"") | BJ11: =IF(BH11="","",COUNTIFS($N$5:$N$1004,BH11,$D$5:$D$1004,$AP$6,$E$5:$E$1004,$AP$13,$J$5:$J$1004,$AP$15)) | BK11: =IFERROR(BJ11+IF(ISNUMBER(BK10),BK10,0),"") | BL11: =IF(BH11="","",SUMIFS($H$5:$H$1004,$N$5:$N$1004,BH11,$D$5:$D$1004,$AP$6,$E$5:$E$1004,$AP$13,$J$5:$J$1004,$AP$15)) | BM11: =IFERROR($BM$4-BK11,"") | BP11: Count sprints | BQ11: =MAX(COUNTA(BY6:BY35)-COUNTIF(BY6:BY35,""),1) -> 5 | BT11: 1 | BU11: =IF(BY11="","",COUNTIFS($D$5:$D$1004,BY11,$E$5:$E$1004,$BT$5)) | BV11: =IF(BY11="","",COUNTIF($D$5:$D$1004,BY11)) | BW11: =IF(BY11="","",BV11-COUNTIFS($D$5:$D$1004,BY11,$N$5:$N$1004,"")) | BX11: =IFERROR(BU11/BV11,"") | BY11: {=IFERROR(INDEX($D$5:$D$1004, MATCH(0,COUNTIF($BY$5:BY10,$D$5:$D$1004),0),1),"")} | BZ11: ="Sprint # " &BY11 -> Sprint # | CA11: =SUMIF($D$5:$D$1004,BY11,$H$5:$H$1004) -> 0 | CB11: =SUMIFS($H$5:$H$1004,$D$5:$D$1004,BY11,$J$5:$J$1004,"Yes") -> 0 | CC11: =SUMIFS($H$5:$H$1004,$D$5:$D$1004,BY11,$N$5:$N$1004,">1") -> 0 | CD11: =IFERROR(AVERAGEIFS($Q$5:$Q$1004,$D$5:$D$1004,BY11,$E$5:$E$1004,$BQ$5,$I$5:$I$1004,$BQ$7),"") | CE11: =IFERROR(($CE$5-CD11)/2,"") | CG11: =SUM(CH11:CR11) -> 0 | CH11: =IF(OR($BY11="", CH$5=""),"",COUNTIFS($D$5:$D$1004,$BY11,$K$5:$K$1004,CH$5,$E$5:$E$1004,$BQ$5,$I$5:$I$1004,$BQ$7)) | CI11: =IF(OR($BY11="", CI$5=""),"",COUNTIFS($D$5:$D$1004,$BY11,$K$5:$K$1004,CI$5,$E$5:$E$1004,$BQ$5,$I$5:$I$1004,$BQ$7)) | CJ11: =IF(OR($BY11="", CJ$5=""),"",COUNTIFS($D$5:$D$1004,$BY11,$K$5:$K$1004,CJ$5,$E$5:$E$1004,$BQ$5,$I$5:$I$1004,$BQ$7)) | CK11: =IF(OR($BY11="", CK$5=""),"",COUNTIFS($D$5:$D$1004,$BY11,$K$5:$K$1004,CK$5,$E$5:$E$1004,$BQ$5,$I$5:$I$1004,$BQ$7)) | CL11: =IF(OR($BY11="", CL$5=""),"",COUNTIFS($D$5:$D$1004,$BY11,$K$5:$K$1004,CL$5,$E$5:$E$1004,$BQ$5,$I$5:$I$1004,$BQ$7)) | CM11: =IF(OR($BY11="", CM$5=""),"",COUNTIFS($D$5:$D$1004,$BY11,$K$5:$K$1004,CM$5,$E$5:$E$1004,$BQ$5,$I$5:$I$1004,$BQ$7)) | CN11: =IF(OR($BY11="", CN$5=""),"",COUNTIFS($D$5:$D$1004,$BY11,$K$5:$K$1004,CN$5,$E$5:$E$1004,$BQ$5,$I$5:$I$1004,$BQ$7)) | CO11: =IF(OR($BY11="", CO$5=""),"",COUNTIFS($D$5:$D$1004,$BY11,$K$5:$K$1004,CO$5,$E$5:$E$1004,$BQ$5,$I$5:$I$1004,$BQ$7)) | ... CR11: =IF(OR($BY11="", CR$5=""),"",COUNTIFS($D$5:$D$1004,$BY11,$K$5:$K$1004,CR$5,$E$5:$E$1004,$BQ$5,$I$5:$I$1004,$BQ$7)) | CT11: =IF(BY11="","",COUNTIFS($D$5:$D$1004,BY11,$I$5:$I$1004,CT$5,$E$5:$E$1004,$BQ$5,$K$5:$K$1004,$BQ$9)) | CU11: =IF(BY11="","",COUNTIFS($D$5:$D$1004,BY11,$I$5:$I$1004,CU$5,$E$5:$E$1004,$BQ$5,$K$5:$K$1004,$BQ$9)) | CV11: =IF(BY11="","",COUNTIFS($D$5:$D$1004,BY11,$I$5:$I$1004,CV$5,$E$5:$E$1004,$BQ$5,$K$5:$K$1004,$BQ$9)) | CW11: =IF(BY11="","",COUNTIFS($D$5:$D$1004,BY11,$I$5:$I$1004,CW$5,$E$5:$E$1004,$BQ$5,$K$5:$K$1004,$BQ$9)) | CX11: =IF(BY11="","",COUNTIFS($D$5:$D$1004,BY11,$I$5:$I$1004,CX$5,$E$5:$E$1004,$BQ$5,$K$5:$K$1004,$BQ$9)) | CY11: =IF(BY11="","",COUNTIFS($D$5:$D$1004,BY11,$I$5:$I$1004,CY$5,$E$5:$E$1004,$BQ$5,$K$5:$K$1004,$BQ$9)) | DA11: =IF(COUNTIF($DA$5:DA10,DA10)=$BD$15,MAX(DA10)+1,DA10) -> 1 | DB11: =IF(DA11+1>$BQ$11,"", "Sprint # " & DA11+1) -> Sprint # 2 | DC11: =IF(DB11="","",INDEX($CT$5:$CY$5,1,COUNTIF($DB$6:DB11,DB11))) -> Medium | DD11: =IF(DB11="","",MAX(INDEX($CT$6:$CY$35,DA11+1,COUNTIF($DB$6:DB11,DB11)),0)) -> 0 | DF11: Months | DG11: Kanban content | DK11: =""&INDEX(Settings!$B$6:$B$55,ROW(DK7),1) | DL11: =""&INDEX(Settings!$C$6:$C$15,ROW(DL7),1) | DM11: =IF(LEN(INDEX(Settings!E$6:E$15,ROW(DM7),1))>0,MAX($DM$4:DM10)+1,"") | DN11: =IF(LEN(INDEX(Settings!F$6:F$15,ROW(DN7),1))>0,MAX($DN$4:DN10)+1,"") | DO11: =IF(LEN(INDEX(Settings!G$6:G$15,ROW(DO7),1))>0,MAX($DO$4:DO10)+1,"") | DP11: =IF(LEN(DK11)>0,MAX($DP$4:DP10)+1,"") | DQ11: =INDEX(DM11:DP11,1,MATCH(SprintPlan!$E$15,Calculation!$DM$4:$DP$4,0))
B12: 8 | C12: =IFERROR(INDEX(Backlog!B$6:B$1005,Calculation!$B12,1),"") -> 8 | D12: =IFERROR(IF(INDEX(Backlog!C$6:C$1005,Calculation!$B12,1)="","",INDEX(Backlog!C$6:C$1005,Calculation!$B12,1)),"") -> 1 | E12: =IFERROR(""&INDEX(Backlog!D$6:D$1005,Calculation!$B12,1),"") -> Task | F12: =IFERROR(""&INDEX(Backlog!E$6:E$1005,Calculation!$B12,1),"") -> Task 1.3 | G12: =IFERROR(""&INDEX(Backlog!F$6:F$1005,Calculation!$B12,1),"") -> Kyle | H12: =IFERROR(IF(INDEX(Backlog!G$6:G$1005,Calculation!$B12,1)="","",INDEX(Backlog!G$6:G$1005,Calculation!$B12,1)),"") -> 1 | I12: =IFERROR(IF(INDEX(Backlog!H$6:H$1005,Calculation!$B12,1)="","Not set",INDEX(Backlog!H$6:H$1005,Calculation!$B12,1)),"") -> Low | J12: =IFERROR(""&INDEX(Backlog!I$6:I$1005,Calculation!$B12,1),"") -> Yes | K12: =IFERROR(IF(LEN(INDEX(Backlog!J$6:J$1005,Calculation!$B12,1))=0,"Not set",INDEX(Backlog!J$6:J$1005,Calculation!$B12,1)),"") -> Open | L12: =IFERROR(IF(INDEX(Backlog!K$6:K$1005,Calculation!$B12,1)="","",INDEX(Backlog!K$6:K$1005,Calculation!$B12,1)),"") -> 44600 | M12: =IFERROR(INDEX($DF$12:$DF$23,MONTH(L12),1)&" "&DAY(L12)&", "&YEAR(L12),"") -> Feb 8, 2022 | N12: =IFERROR(IF(INDEX(Backlog!L$6:L$1005,Calculation!$B12,1)="","",INDEX(Backlog!L$6:L$1005,Calculation!$B12,1)),"") | O12: =IFERROR(INDEX($DF$12:$DF$23,MONTH(N12),1)&" "&DAY(N12)&", "&YEAR(N12),"") | P12: =IFERROR(""&INDEX(Backlog!M$6:M$1005,Calculation!$B12,1),"") | Q12: =IF(AND(ISNUMBER(L12),ISNUMBER(N12)),N12-L12,"") | R12: =IF(AND(LEN(C12)>0,LEN(F12)>0),1,0) -> 1 | T12: =IF(OR(KanbanSprintFilter="",KanbanSprintFilter="All"),1,IF(""&KanbanSprintFilter=""&D12,1,0)) -> 0 | U12: =IF(OR(KanbanResponsibleFilter="",KanbanResponsibleFilter="All"),1,IF(""&KanbanResponsibleFilter=""&G12,1,0)) -> 1 | V12: =IF(OR(ttFilter="",ttFilter="All"),1,IF(""&ttFilter=""&E12,1,0)) -> 1 | W12: =IF(OR(KanbanPriorityFilter="",KanbanPriorityFilter="All"),1,IF(""&KanbanPriorityFilter=""&I12,1,0)) -> 1 | X12: =R12*T12*U12*V12*W12 -> 0 | Y12: =IF(KanbanRow1=$DG$12,"#" & C12 &" - "& F12, IF(KanbanRow1=$DG$13,F12,C12)) -> #8 - Task 1.3 | Z12: =IFERROR(IF(LEN(INDEX(C12:P12,1,MATCH(KanbanRow2,$C$3:$P$3,0)))=0,"-",INDEX(C12:P12,1,MATCH(KanbanRow2,$C$3:$P$3,0))),"-") -> Task 1.3 | AA12: =IF(X12=0,"",IF(LEN(K12)=0,COLUMN(Kanban!$D$8),IFERROR(MATCH(K12,Kanban!$A$8:$AI$8,0),COLUMN(Kanban!$D$8)))) | AB12: =IF(X12=0,"",2*COUNTIF($AA$5:AA12,AA12)+$AF$5) | AC12: =AA12&"-"&AB12 -> - | AI12: Categories | AK12: =INDEX(Retrospective!$B$8:$D$207,B12,IF(OR($AI$4=2,$AI$4=4),2,1))&IF($AI$4=2,""," - "&INDEX(Retrospective!$B$8:$D$207,B12,IF($AI$4=1,2,3))) -> - New | AL12: =IFERROR(MATCH(INDEX(Retrospective!$E$8:$E$207,B12,1),$AI$13:$AI$16,0),"") -> 3 | AM12: =IF(AL12="","", AL12&"."&COUNTIF($AL$5:AL12,AL12)) -> 3.2 | AS12: =""&Settings!L7 -> Feature | AT12: =IF(AS12="","",COUNTIFS($D$5:$D$1004,$AP$6,$E$5:$E$1004,AS12,$J$5:$J$1004,$AP$15)) -> 2 | AU12: =IF(AS12="","",COUNTIFS($D$5:$D$1004,$AP$6,$E$5:$E$1004,AS12)) -> 2 | BF12: {=IFERROR(SMALL(IF($D$5:$D$1004=$AP$6,$N$5:$N$1004,""),B12),"")} | BG12: =IF(IFERROR(MATCH(BF12,$BF$4:BF11,0),0)=0,MAX($BG$4:BG11)+1,"") -> 7 | BH12: =IFERROR(INDEX($BF$5:$BF$1004,MATCH(B12,$BG$5:$BG$1004,0),1),"") | BI12: =IFERROR(BH12-sprintStartDate,"") | BJ12: =IF(BH12="","",COUNTIFS($N$5:$N$1004,BH12,$D$5:$D$1004,$AP$6,$E$5:$E$1004,$AP$13,$J$5:$J$1004,$AP$15)) | BK12: =IFERROR(BJ12+IF(ISNUMBER(BK11),BK11,0),"") | BL12: =IF(BH12="","",SUMIFS($H$5:$H$1004,$N$5:$N$1004,BH12,$D$5:$D$1004,$AP$6,$E$5:$E$1004,$AP$13,$J$5:$J$1004,$AP$15)) | BM12: =IFERROR($BM$4-BK12,"") | BT12: 1 | BU12: =IF(BY12="","",COUNTIFS($D$5:$D$1004,BY12,$E$5:$E$1004,$BT$5)) | BV12: =IF(BY12="","",COUNTIF($D$5:$D$1004,BY12)) | BW12: =IF(BY12="","",BV12-COUNTIFS($D$5:$D$1004,BY12,$N$5:$N$1004,"")) | BX12: =IFERROR(BU12/BV12,"") | BY12: {=IFERROR(INDEX($D$5:$D$1004, MATCH(0,COUNTIF($BY$5:BY11,$D$5:$D$1004),0),1),"")} | BZ12: ="Sprint # " &BY12 -> Sprint # | CA12: =SUMIF($D$5:$D$1004,BY12,$H$5:$H$1004) -> 0 | CB12: =SUMIFS($H$5:$H$1004,$D$5:$D$1004,BY12,$J$5:$J$1004,"Yes") -> 0 | CC12: =SUMIFS($H$5:$H$1004,$D$5:$D$1004,BY12,$N$5:$N$1004,">1") -> 0 | CD12: =IFERROR(AVERAGEIFS($Q$5:$Q$1004,$D$5:$D$1004,BY12,$E$5:$E$1004,$BQ$5,$I$5:$I$1004,$BQ$7),"") | CE12: =IFERROR(($CE$5-CD12)/2,"") | CG12: =SUM(CH12:CR12) -> 0 | CH12: =IF(OR($BY12="", CH$5=""),"",COUNTIFS($D$5:$D$1004,$BY12,$K$5:$K$1004,CH$5,$E$5:$E$1004,$BQ$5,$I$5:$I$1004,$BQ$7)) | CI12: =IF(OR($BY12="", CI$5=""),"",COUNTIFS($D$5:$D$1004,$BY12,$K$5:$K$1004,CI$5,$E$5:$E$1004,$BQ$5,$I$5:$I$1004,$BQ$7)) | CJ12: =IF(OR($BY12="", CJ$5=""),"",COUNTIFS($D$5:$D$1004,$BY12,$K$5:$K$1004,CJ$5,$E$5:$E$1004,$BQ$5,$I$5:$I$1004,$BQ$7)) | CK12: =IF(OR($BY12="", CK$5=""),"",COUNTIFS($D$5:$D$1004,$BY12,$K$5:$K$1004,CK$5,$E$5:$E$1004,$BQ$5,$I$5:$I$1004,$BQ$7)) | CL12: =IF(OR($BY12="", CL$5=""),"",COUNTIFS($D$5:$D$1004,$BY12,$K$5:$K$1004,CL$5,$E$5:$E$1004,$BQ$5,$I$5:$I$1004,$BQ$7)) | CM12: =IF(OR($BY12="", CM$5=""),"",COUNTIFS($D$5:$D$1004,$BY12,$K$5:$K$1004,CM$5,$E$5:$E$1004,$BQ$5,$I$5:$I$1004,$BQ$7)) | CN12: =IF(OR($BY12="", CN$5=""),"",COUNTIFS($D$5:$D$1004,$BY12,$K$5:$K$1004,CN$5,$E$5:$E$1004,$BQ$5,$I$5:$I$1004,$BQ$7)) | CO12: =IF(OR($BY12="", CO$5=""),"",COUNTIFS($D$5:$D$1004,$BY12,$K$5:$K$1004,CO$5,$E$5:$E$1004,$BQ$5,$I$5:$I$1004,$BQ$7)) | ... CR12: =IF(OR($BY12="", CR$5=""),"",COUNTIFS($D$5:$D$1004,$BY12,$K$5:$K$1004,CR$5,$E$5:$E$1004,$BQ$5,$I$5:$I$1004,$BQ$7)) | CT12: =IF(BY12="","",COUNTIFS($D$5:$D$1004,BY12,$I$5:$I$1004,CT$5,$E$5:$E$1004,$BQ$5,$K$5:$K$1004,$BQ$9)) | CU12: =IF(BY12="","",COUNTIFS($D$5:$D$1004,BY12,$I$5:$I$1004,CU$5,$E$5:$E$1004,$BQ$5,$K$5:$K$1004,$BQ$9)) | CV12: =IF(BY12="","",COUNTIFS($D$5:$D$1004,BY12,$I$5:$I$1004,CV$5,$E$5:$E$1004,$BQ$5,$K$5:$K$1004,$BQ$9)) | CW12: =IF(BY12="","",COUNTIFS($D$5:$D$1004,BY12,$I$5:$I$1004,CW$5,$E$5:$E$1004,$BQ$5,$K$5:$K$1004,$BQ$9)) | CX12: =IF(BY12="","",COUNTIFS($D$5:$D$1004,BY12,$I$5:$I$1004,CX$5,$E$5:$E$1004,$BQ$5,$K$5:$K$1004,$BQ$9)) | CY12: =IF(BY12="","",COUNTIFS($D$5:$D$1004,BY12,$I$5:$I$1004,CY$5,$E$5:$E$1004,$BQ$5,$K$5:$K$1004,$BQ$9)) | DA12: =IF(COUNTIF($DA$5:DA11,DA11)=$BD$15,MAX(DA11)+1,DA11) -> 1 | DB12: =IF(DA12+1>$BQ$11,"", "Sprint # " & DA12+1) -> Sprint # 2 | DC12: =IF(DB12="","",INDEX($CT$5:$CY$5,1,COUNTIF($DB$6:DB12,DB12))) -> High | DD12: =IF(DB12="","",MAX(INDEX($CT$6:$CY$35,DA12+1,COUNTIF($DB$6:DB12,DB12)),0)) -> 3 | DF12: Jan | DG12: #ID - NAME | DH12: =C3 -> TICKET ID | DK12: =""&INDEX(Settings!$B$6:$B$55,ROW(DK8),1) | DL12: =""&INDEX(Settings!$C$6:$C$15,ROW(DL8),1) | DM12: =IF(LEN(INDEX(Settings!E$6:E$15,ROW(DM8),1))>0,MAX($DM$4:DM11)+1,"") | DN12: =IF(LEN(INDEX(Settings!F$6:F$15,ROW(DN8),1))>0,MAX($DN$4:DN11)+1,"") | DO12: =IF(LEN(INDEX(Settings!G$6:G$15,ROW(DO8),1))>0,MAX($DO$4:DO11)+1,"") | DP12: =IF(LEN(DK12)>0,MAX($DP$4:DP11)+1,"") | DQ12: =INDEX(DM12:DP12,1,MATCH(SprintPlan!$E$15,Calculation!$DM$4:$DP$4,0))
B13: 9 | C13: =IFERROR(INDEX(Backlog!B$6:B$1005,Calculation!$B13,1),"") -> 9 | D13: =IFERROR(IF(INDEX(Backlog!C$6:C$1005,Calculation!$B13,1)="","",INDEX(Backlog!C$6:C$1005,Calculation!$B13,1)),"") -> 1 | E13: =IFERROR(""&INDEX(Backlog!D$6:D$1005,Calculation!$B13,1),"") -> User Story | F13: =IFERROR(""&INDEX(Backlog!E$6:E$1005,Calculation!$B13,1),"") -> User Story 1.3 | G13: =IFERROR(""&INDEX(Backlog!F$6:F$1005,Calculation!$B13,1),"") -> Mike | H13: =IFERROR(IF(INDEX(Backlog!G$6:G$1005,Calculation!$B13,1)="","",INDEX(Backlog!G$6:G$1005,Calculation!$B13,1)),"") -> 0 | I13: =IFERROR(IF(INDEX(Backlog!H$6:H$1005,Calculation!$B13,1)="","Not set",INDEX(Backlog!H$6:H$1005,Calculation!$B13,1)),"") -> Medium | J13: =IFERROR(""&INDEX(Backlog!I$6:I$1005,Calculation!$B13,1),"") -> Yes | K13: =IFERROR(IF(LEN(INDEX(Backlog!J$6:J$1005,Calculation!$B13,1))=0,"Not set",INDEX(Backlog!J$6:J$1005,Calculation!$B13,1)),"") -> Testing | L13: =IFERROR(IF(INDEX(Backlog!K$6:K$1005,Calculation!$B13,1)="","",INDEX(Backlog!K$6:K$1005,Calculation!$B13,1)),"") -> 44600 | M13: =IFERROR(INDEX($DF$12:$DF$23,MONTH(L13),1)&" "&DAY(L13)&", "&YEAR(L13),"") -> Feb 8, 2022 | N13: =IFERROR(IF(INDEX(Backlog!L$6:L$1005,Calculation!$B13,1)="","",INDEX(Backlog!L$6:L$1005,Calculation!$B13,1)),"") | O13: =IFERROR(INDEX($DF$12:$DF$23,MONTH(N13),1)&" "&DAY(N13)&", "&YEAR(N13),"") | P13: =IFERROR(""&INDEX(Backlog!M$6:M$1005,Calculation!$B13,1),"") | Q13: =IF(AND(ISNUMBER(L13),ISNUMBER(N13)),N13-L13,"") | R13: =IF(AND(LEN(C13)>0,LEN(F13)>0),1,0) -> 1 | T13: =IF(OR(KanbanSprintFilter="",KanbanSprintFilter="All"),1,IF(""&KanbanSprintFilter=""&D13,1,0)) -> 0 | U13: =IF(OR(KanbanResponsibleFilter="",KanbanResponsibleFilter="All"),1,IF(""&KanbanResponsibleFilter=""&G13,1,0)) -> 1 | V13: =IF(OR(ttFilter="",ttFilter="All"),1,IF(""&ttFilter=""&E13,1,0)) -> 1 | W13: =IF(OR(KanbanPriorityFilter="",KanbanPriorityFilter="All"),1,IF(""&KanbanPriorityFilter=""&I13,1,0)) -> 1 | X13: =R13*T13*U13*V13*W13 -> 0 | Y13: =IF(KanbanRow1=$DG$12,"#" & C13 &" - "& F13, IF(KanbanRow1=$DG$13,F13,C13)) -> #9 - User Story 1.3 | Z13: =IFERROR(IF(LEN(INDEX(C13:P13,1,MATCH(KanbanRow2,$C$3:$P$3,0)))=0,"-",INDEX(C13:P13,1,MATCH(KanbanRow2,$C$3:$P$3,0))),"-") -> User Story 1.3 | AA13: =IF(X13=0,"",IF(LEN(K13)=0,COLUMN(Kanban!$D$8),IFERROR(MATCH(K13,Kanban!$A$8:$AI$8,0),COLUMN(Kanban!$D$8)))) | AB13: =IF(X13=0,"",2*COUNTIF($AA$5:AA13,AA13)+$AF$5) | AC13: =AA13&"-"&AB13 -> - | AI13: =Retrospective!H5 -> OK | AK13: =INDEX(Retrospective!$B$8:$D$207,B13,IF(OR($AI$4=2,$AI$4=4),2,1))&IF($AI$4=2,""," - "&INDEX(Retrospective!$B$8:$D$207,B13,IF($AI$4=1,2,3))) -> - | AL13: =IFERROR(MATCH(INDEX(Retrospective!$E$8:$E$207,B13,1),$AI$13:$AI$16,0),"") | AM13: =IF(AL13="","", AL13&"."&COUNTIF($AL$5:AL13,AL13)) | AO13: Entity type | AP13: =IF(OR(SprintDashboard!G5="All",SprintDashboard!G5=""),"*",SprintDashboard!G5) -> * | AS13: =""&Settings!L8 -> User Story | AT13: =IF(AS13="","",COUNTIFS($D$5:$D$1004,$AP$6,$E$5:$E$1004,AS13,$J$5:$J$1004,$AP$15)) -> 3 | AU13: =IF(AS13="","",COUNTIFS($D$5:$D$1004,$AP$6,$E$5:$E$1004,AS13)) -> 3 | BF13: {=IFERROR(SMALL(IF($D$5:$D$1004=$AP$6,$N$5:$N$1004,""),B13),"")} | BG13: =IF(IFERROR(MATCH(BF13,$BF$4:BF12,0),0)=0,MAX($BG$4:BG12)+1,"") | BH13: =IFERROR(INDEX($BF$5:$BF$1004,MATCH(B13,$BG$5:$BG$1004,0),1),"") | BI13: =IFERROR(BH13-sprintStartDate,"") | BJ13: =IF(BH13="","",COUNTIFS($N$5:$N$1004,BH13,$D$5:$D$1004,$AP$6,$E$5:$E$1004,$AP$13,$J$5:$J$1004,$AP$15)) | BK13: =IFERROR(BJ13+IF(ISNUMBER(BK12),BK12,0),"") | BL13: =IF(BH13="","",SUMIFS($H$5:$H$1004,$N$5:$N$1004,BH13,$D$5:$D$1004,$AP$6,$E$5:$E$1004,$AP$13,$J$5:$J$1004,$AP$15)) | BM13: =IFERROR($BM$4-BK13,"") | BT13: 1 | BU13: =IF(BY13="","",COUNTIFS($D$5:$D$1004,BY13,$E$5:$E$1004,$BT$5)) | BV13: =IF(BY13="","",COUNTIF($D$5:$D$1004,BY13)) | BW13: =IF(BY13="","",BV13-COUNTIFS($D$5:$D$1004,BY13,$N$5:$N$1004,"")) | BX13: =IFERROR(BU13/BV13,"") | BY13: {=IFERROR(INDEX($D$5:$D$1004, MATCH(0,COUNTIF($BY$5:BY12,$D$5:$D$1004),0),1),"")} | BZ13: ="Sprint # " &BY13 -> Sprint # | CA13: =SUMIF($D$5:$D$1004,BY13,$H$5:$H$1004) -> 0 | CB13: =SUMIFS($H$5:$H$1004,$D$5:$D$1004,BY13,$J$5:$J$1004,"Yes") -> 0 | CC13: =SUMIFS($H$5:$H$1004,$D$5:$D$1004,BY13,$N$5:$N$1004,">1") -> 0 | CD13: =IFERROR(AVERAGEIFS($Q$5:$Q$1004,$D$5:$D$1004,BY13,$E$5:$E$1004,$BQ$5,$I$5:$I$1004,$BQ$7),"") | CE13: =IFERROR(($CE$5-CD13)/2,"") | CG13: =SUM(CH13:CR13) -> 0 | CH13: =IF(OR($BY13="", CH$5=""),"",COUNTIFS($D$5:$D$1004,$BY13,$K$5:$K$1004,CH$5,$E$5:$E$1004,$BQ$5,$I$5:$I$1004,$BQ$7)) | CI13: =IF(OR($BY13="", CI$5=""),"",COUNTIFS($D$5:$D$1004,$BY13,$K$5:$K$1004,CI$5,$E$5:$E$1004,$BQ$5,$I$5:$I$1004,$BQ$7)) | CJ13: =IF(OR($BY13="", CJ$5=""),"",COUNTIFS($D$5:$D$1004,$BY13,$K$5:$K$1004,CJ$5,$E$5:$E$1004,$BQ$5,$I$5:$I$1004,$BQ$7)) | CK13: =IF(OR($BY13="", CK$5=""),"",COUNTIFS($D$5:$D$1004,$BY13,$K$5:$K$1004,CK$5,$E$5:$E$1004,$BQ$5,$I$5:$I$1004,$BQ$7)) | CL13: =IF(OR($BY13="", CL$5=""),"",COUNTIFS($D$5:$D$1004,$BY13,$K$5:$K$1004,CL$5,$E$5:$E$1004,$BQ$5,$I$5:$I$1004,$BQ$7)) | CM13: =IF(OR($BY13="", CM$5=""),"",COUNTIFS($D$5:$D$1004,$BY13,$K$5:$K$1004,CM$5,$E$5:$E$1004,$BQ$5,$I$5:$I$1004,$BQ$7)) | CN13: =IF(OR($BY13="", CN$5=""),"",COUNTIFS($D$5:$D$1004,$BY13,$K$5:$K$1004,CN$5,$E$5:$E$1004,$BQ$5,$I$5:$I$1004,$BQ$7)) | CO13: =IF(OR($BY13="", CO$5=""),"",COUNTIFS($D$5:$D$1004,$BY13,$K$5:$K$1004,CO$5,$E$5:$E$1004,$BQ$5,$I$5:$I$1004,$BQ$7)) | ... CR13: =IF(OR($BY13="", CR$5=""),"",COUNTIFS($D$5:$D$1004,$BY13,$K$5:$K$1004,CR$5,$E$5:$E$1004,$BQ$5,$I$5:$I$1004,$BQ$7)) | CT13: =IF(BY13="","",COUNTIFS($D$5:$D$1004,BY13,$I$5:$I$1004,CT$5,$E$5:$E$1004,$BQ$5,$K$5:$K$1004,$BQ$9)) | CU13: =IF(BY13="","",COUNTIFS($D$5:$D$1004,BY13,$I$5:$I$1004,CU$5,$E$5:$E$1004,$BQ$5,$K$5:$K$1004,$BQ$9)) | CV13: =IF(BY13="","",COUNTIFS($D$5:$D$1004,BY13,$I$5:$I$1004,CV$5,$E$5:$E$1004,$BQ$5,$K$5:$K$1004,$BQ$9)) | CW13: =IF(BY13="","",COUNTIFS($D$5:$D$1004,BY13,$I$5:$I$1004,CW$5,$E$5:$E$1004,$BQ$5,$K$5:$K$1004,$BQ$9)) | CX13: =IF(BY13="","",COUNTIFS($D$5:$D$1004,BY13,$I$5:$I$1004,CX$5,$E$5:$E$1004,$BQ$5,$K$5:$K$1004,$BQ$9)) | CY13: =IF(BY13="","",COUNTIFS($D$5:$D$1004,BY13,$I$5:$I$1004,CY$5,$E$5:$E$1004,$BQ$5,$K$5:$K$1004,$BQ$9)) | DA13: =IF(COUNTIF($DA$5:DA12,DA12)=$BD$15,MAX(DA12)+1,DA12) -> 1 | DB13: =IF(DA13+1>$BQ$11,"", "Sprint # " & DA13+1) -> Sprint # 2 | DC13: =IF(DB13="","",INDEX($CT$5:$CY$5,1,COUNTIF($DB$6:DB13,DB13))) -> Not set | DD13: =IF(DB13="","",MAX(INDEX($CT$6:$CY$35,DA13+1,COUNTIF($DB$6:DB13,DB13)),0)) -> 2 | DF13: Feb | DG13: NAME | DH13: =D3 -> SPRINT NO | DK13: =""&INDEX(Settings!$B$6:$B$55,ROW(DK9),1) | DL13: =""&INDEX(Settings!$C$6:$C$15,ROW(DL9),1) | DM13: =IF(LEN(INDEX(Settings!E$6:E$15,ROW(DM9),1))>0,MAX($DM$4:DM12)+1,"") | DN13: =IF(LEN(INDEX(Settings!F$6:F$15,ROW(DN9),1))>0,MAX($DN$4:DN12)+1,"") | DO13: =IF(LEN(INDEX(Settings!G$6:G$15,ROW(DO9),1))>0,MAX($DO$4:DO12)+1,"") | DP13: =IF(LEN(DK13)>0,MAX($DP$4:DP12)+1,"") | DQ13: =INDEX(DM13:DP13,1,MATCH(SprintPlan!$E$15,Calculation!$DM$4:$DP$4,0))
B14: 10 | C14: =IFERROR(INDEX(Backlog!B$6:B$1005,Calculation!$B14,1),"") -> 10 | D14: =IFERROR(IF(INDEX(Backlog!C$6:C$1005,Calculation!$B14,1)="","",INDEX(Backlog!C$6:C$1005,Calculation!$B14,1)),"") -> 1 | E14: =IFERROR(""&INDEX(Backlog!D$6:D$1005,Calculation!$B14,1),"") -> Task | F14: =IFERROR(""&INDEX(Backlog!E$6:E$1005,Calculation!$B14,1),"") -> Task 1.4 | G14: =IFERROR(""&INDEX(Backlog!F$6:F$1005,Calculation!$B14,1),"") -> Mike | H14: =IFERROR(IF(INDEX(Backlog!G$6:G$1005,Calculation!$B14,1)="","",INDEX(Backlog!G$6:G$1005,Calculation!$B14,1)),"") -> 13 | I14: =IFERROR(IF(INDEX(Backlog!H$6:H$1005,Calculation!$B14,1)="","Not set",INDEX(Backlog!H$6:H$1005,Calculation!$B14,1)),"") -> Not set | J14: =IFERROR(""&INDEX(Backlog!I$6:I$1005,Calculation!$B14,1),"") -> Yes | K14: =IFERROR(IF(LEN(INDEX(Backlog!J$6:J$1005,Calculation!$B14,1))=0,"Not set",INDEX(Backlog!J$6:J$1005,Calculation!$B14,1)),"") -> Completed | L14: =IFERROR(IF(INDEX(Backlog!K$6:K$1005,Calculation!$B14,1)="","",INDEX(Backlog!K$6:K$1005,Calculation!$B14,1)),"") -> 44600 | M14: =IFERROR(INDEX($DF$12:$DF$23,MONTH(L14),1)&" "&DAY(L14)&", "&YEAR(L14),"") -> Feb 8, 2022 | N14: =IFERROR(IF(INDEX(Backlog!L$6:L$1005,Calculation!$B14,1)="","",INDEX(Backlog!L$6:L$1005,Calculation!$B14,1)),"") -> 44611 | O14: =IFERROR(INDEX($DF$12:$DF$23,MONTH(N14),1)&" "&DAY(N14)&", "&YEAR(N14),"") -> Feb 19, 2022 | P14: =IFERROR(""&INDEX(Backlog!M$6:M$1005,Calculation!$B14,1),"") | Q14: =IF(AND(ISNUMBER(L14),ISNUMBER(N14)),N14-L14,"") -> 11 | R14: =IF(AND(LEN(C14)>0,LEN(F14)>0),1,0) -> 1 | T14: =IF(OR(KanbanSprintFilter="",KanbanSprintFilter="All"),1,IF(""&KanbanSprintFilter=""&D14,1,0)) -> 0 | U14: =IF(OR(KanbanResponsibleFilter="",KanbanResponsibleFilter="All"),1,IF(""&KanbanResponsibleFilter=""&G14,1,0)) -> 1 | V14: =IF(OR(ttFilter="",ttFilter="All"),1,IF(""&ttFilter=""&E14,1,0)) -> 1 | W14: =IF(OR(KanbanPriorityFilter="",KanbanPriorityFilter="All"),1,IF(""&KanbanPriorityFilter=""&I14,1,0)) -> 1 | X14: =R14*T14*U14*V14*W14 -> 0 | Y14: =IF(KanbanRow1=$DG$12,"#" & C14 &" - "& F14, IF(KanbanRow1=$DG$13,F14,C14)) -> #10 - Task 1.4 | Z14: =IFERROR(IF(LEN(INDEX(C14:P14,1,MATCH(KanbanRow2,$C$3:$P$3,0)))=0,"-",INDEX(C14:P14,1,MATCH(KanbanRow2,$C$3:$P$3,0))),"-") -> Task 1.4 | AA14: =IF(X14=0,"",IF(LEN(K14)=0,COLUMN(Kanban!$D$8),IFERROR(MATCH(K14,Kanban!$A$8:$AI$8,0),COLUMN(Kanban!$D$8)))) | AB14: =IF(X14=0,"",2*COUNTIF($AA$5:AA14,AA14)+$AF$5) | AC14: =AA14&"-"&AB14 -> - | AI14: =Retrospective!L5 -> NOK | AK14: =INDEX(Retrospective!$B$8:$D$207,B14,IF(OR($AI$4=2,$AI$4=4),2,1))&IF($AI$4=2,""," - "&INDEX(Retrospective!$B$8:$D$207,B14,IF($AI$4=1,2,3))) -> - | AL14: =IFERROR(MATCH(INDEX(Retrospective!$E$8:$E$207,B14,1),$AI$13:$AI$16,0),"") | AM14: =IF(AL14="","", AL14&"."&COUNTIF($AL$5:AL14,AL14)) | AS14: =""&Settings!L9 -> Task | AT14: =IF(AS14="","",COUNTIFS($D$5:$D$1004,$AP$6,$E$5:$E$1004,AS14,$J$5:$J$1004,$AP$15)) -> 4 | AU14: =IF(AS14="","",COUNTIFS($D$5:$D$1004,$AP$6,$E$5:$E$1004,AS14)) -> 4 | AW14: =COUNT(AX17:AX26) -> 5 | AX14: Task by | BF14: {=IFERROR(SMALL(IF($D$5:$D$1004=$AP$6,$N$5:$N$1004,""),B14),"")} | BG14: =IF(IFERROR(MATCH(BF14,$BF$4:BF13,0),0)=0,MAX($BG$4:BG13)+1,"") | BH14: =IFERROR(INDEX($BF$5:$BF$1004,MATCH(B14,$BG$5:$BG$1004,0),1),"") | BI14: =IFERROR(BH14-sprintStartDate,"") | BJ14: =IF(BH14="","",COUNTIFS($N$5:$N$1004,BH14,$D$5:$D$1004,$AP$6,$E$5:$E$1004,$AP$13,$J$5:$J$1004,$AP$15)) | BK14: =IFERROR(BJ14+IF(ISNUMBER(BK13),BK13,0),"") | BL14: =IF(BH14="","",SUMIFS($H$5:$H$1004,$N$5:$N$1004,BH14,$D$5:$D$1004,$AP$6,$E$5:$E$1004,$AP$13,$J$5:$J$1004,$AP$15)) | BM14: =IFERROR($BM$4-BK14,"") | BP14: =BQ14 & " Avg Story Points per Ticket." -> 0,3 Avg Story Points per Ticket. | BQ14: =IFERROR(ROUND(SUM(H5:H1004)/COUNT(C5:C1004),1),0) -> 0.3 | BT14: 1 | BU14: =IF(BY14="","",COUNTIFS($D$5:$D$1004,BY14,$E$5:$E$1004,$BT$5)) | BV14: =IF(BY14="","",COUNTIF($D$5:$D$1004,BY14)) | BW14: =IF(BY14="","",BV14-COUNTIFS($D$5:$D$1004,BY14,$N$5:$N$1004,"")) | BX14: =IFERROR(BU14/BV14,"") | BY14: {=IFERROR(INDEX($D$5:$D$1004, MATCH(0,COUNTIF($BY$5:BY13,$D$5:$D$1004),0),1),"")} | BZ14: ="Sprint # " &BY14 -> Sprint # | CA14: =SUMIF($D$5:$D$1004,BY14,$H$5:$H$1004) -> 0 | CB14: =SUMIFS($H$5:$H$1004,$D$5:$D$1004,BY14,$J$5:$J$1004,"Yes") -> 0 | CC14: =SUMIFS($H$5:$H$1004,$D$5:$D$1004,BY14,$N$5:$N$1004,">1") -> 0 | CD14: =IFERROR(AVERAGEIFS($Q$5:$Q$1004,$D$5:$D$1004,BY14,$E$5:$E$1004,$BQ$5,$I$5:$I$1004,$BQ$7),"") | CE14: =IFERROR(($CE$5-CD14)/2,"") | CG14: =SUM(CH14:CR14) -> 0 | CH14: =IF(OR($BY14="", CH$5=""),"",COUNTIFS($D$5:$D$1004,$BY14,$K$5:$K$1004,CH$5,$E$5:$E$1004,$BQ$5,$I$5:$I$1004,$BQ$7)) | CI14: =IF(OR($BY14="", CI$5=""),"",COUNTIFS($D$5:$D$1004,$BY14,$K$5:$K$1004,CI$5,$E$5:$E$1004,$BQ$5,$I$5:$I$1004,$BQ$7)) | CJ14: =IF(OR($BY14="", CJ$5=""),"",COUNTIFS($D$5:$D$1004,$BY14,$K$5:$K$1004,CJ$5,$E$5:$E$1004,$BQ$5,$I$5:$I$1004,$BQ$7)) | CK14: =IF(OR($BY14="", CK$5=""),"",COUNTIFS($D$5:$D$1004,$BY14,$K$5:$K$1004,CK$5,$E$5:$E$1004,$BQ$5,$I$5:$I$1004,$BQ$7)) | CL14: =IF(OR($BY14="", CL$5=""),"",COUNTIFS($D$5:$D$1004,$BY14,$K$5:$K$1004,CL$5,$E$5:$E$1004,$BQ$5,$I$5:$I$1004,$BQ$7)) | CM14: =IF(OR($BY14="", CM$5=""),"",COUNTIFS($D$5:$D$1004,$BY14,$K$5:$K$1004,CM$5,$E$5:$E$1004,$BQ$5,$I$5:$I$1004,$BQ$7)) | CN14: =IF(OR($BY14="", CN$5=""),"",COUNTIFS($D$5:$D$1004,$BY14,$K$5:$K$1004,CN$5,$E$5:$E$1004,$BQ$5,$I$5:$I$1004,$BQ$7)) | CO14: =IF(OR($BY14="", CO$5=""),"",COUNTIFS($D$5:$D$1004,$BY14,$K$5:$K$1004,CO$5,$E$5:$E$1004,$BQ$5,$I$5:$I$1004,$BQ$7)) | ... CR14: =IF(OR($BY14="", CR$5=""),"",COUNTIFS($D$5:$D$1004,$BY14,$K$5:$K$1004,CR$5,$E$5:$E$1004,$BQ$5,$I$5:$I$1004,$BQ$7)) | CT14: =IF(BY14="","",COUNTIFS($D$5:$D$1004,BY14,$I$5:$I$1004,CT$5,$E$5:$E$1004,$BQ$5,$K$5:$K$1004,$BQ$9)) | CU14: =IF(BY14="","",COUNTIFS($D$5:$D$1004,BY14,$I$5:$I$1004,CU$5,$E$5:$E$1004,$BQ$5,$K$5:$K$1004,$BQ$9)) | CV14: =IF(BY14="","",COUNTIFS($D$5:$D$1004,BY14,$I$5:$I$1004,CV$5,$E$5:$E$1004,$BQ$5,$K$5:$K$1004,$BQ$9)) | CW14: =IF(BY14="","",COUNTIFS($D$5:$D$1004,BY14,$I$5:$I$1004,CW$5,$E$5:$E$1004,$BQ$5,$K$5:$K$1004,$BQ$9)) | CX14: =IF(BY14="","",COUNTIFS($D$5:$D$1004,BY14,$I$5:$I$1004,CX$5,$E$5:$E$1004,$BQ$5,$K$5:$K$1004,$BQ$9)) | CY14: =IF(BY14="","",COUNTIFS($D$5:$D$1004,BY14,$I$5:$I$1004,CY$5,$E$5:$E$1004,$BQ$5,$K$5:$K$1004,$BQ$9)) | DA14: =IF(COUNTIF($DA$5:DA13,DA13)=$BD$15,MAX(DA13)+1,DA13) -> 2 | DB14: =IF(DA14+1>$BQ$11,"", "Sprint # " & DA14+1) -> Sprint # 3 | DC14: =IF(DB14="","",INDEX($CT$5:$CY$5,1,COUNTIF($DB$6:DB14,DB14))) -> Low | DD14: =IF(DB14="","",MAX(INDEX($CT$6:$CY$35,DA14+1,COUNTIF($DB$6:DB14,DB14)),0)) -> 6 | DF14: Mar | DG14: #ID | DH14: =E3 -> TICKET TYPE | DK14: =""&INDEX(Settings!$B$6:$B$55,ROW(DK10),1) | DL14: =""&INDEX(Settings!$C$6:$C$15,ROW(DL10),1) | DM14: =IF(LEN(INDEX(Settings!E$6:E$15,ROW(DM10),1))>0,MAX($DM$4:DM13)+1,"") | DN14: =IF(LEN(INDEX(Settings!F$6:F$15,ROW(DN10),1))>0,MAX($DN$4:DN13)+1,"") | DO14: =IF(LEN(INDEX(Settings!G$6:G$15,ROW(DO10),1))>0,MAX($DO$4:DO13)+1,"") | DP14: =IF(LEN(DK14)>0,MAX($DP$4:DP13)+1,"") | DQ14: =INDEX(DM14:DP14,1,MATCH(SprintPlan!$E$15,Calculation!$DM$4:$DP$4,0))
B15: 11 | C15: =IFERROR(INDEX(Backlog!B$6:B$1005,Calculation!$B15,1),"") -> 11 | D15: =IFERROR(IF(INDEX(Backlog!C$6:C$1005,Calculation!$B15,1)="","",INDEX(Backlog!C$6:C$1005,Calculation!$B15,1)),"") -> 2 | E15: =IFERROR(""&INDEX(Backlog!D$6:D$1005,Calculation!$B15,1),"") -> Task | F15: =IFERROR(""&INDEX(Backlog!E$6:E$1005,Calculation!$B15,1),"") -> Task 1.5 | G15: =IFERROR(""&INDEX(Backlog!F$6:F$1005,Calculation!$B15,1),"") -> Carolyne | H15: =IFERROR(IF(INDEX(Backlog!G$6:G$1005,Calculation!$B15,1)="","",INDEX(Backlog!G$6:G$1005,Calculation!$B15,1)),"") -> 7 | I15: =IFERROR(IF(INDEX(Backlog!H$6:H$1005,Calculation!$B15,1)="","Not set",INDEX(Backlog!H$6:H$1005,Calculation!$B15,1)),"") -> High | J15: =IFERROR(""&INDEX(Backlog!I$6:I$1005,Calculation!$B15,1),"") -> Yes | K15: =IFERROR(IF(LEN(INDEX(Backlog!J$6:J$1005,Calculation!$B15,1))=0,"Not set",INDEX(Backlog!J$6:J$1005,Calculation!$B15,1)),"") -> Completed | L15: =IFERROR(IF(INDEX(Backlog!K$6:K$1005,Calculation!$B15,1)="","",INDEX(Backlog!K$6:K$1005,Calculation!$B15,1)),"") -> 44615 | M15: =IFERROR(INDEX($DF$12:$DF$23,MONTH(L15),1)&" "&DAY(L15)&", "&YEAR(L15),"") -> Feb 23, 2022 | N15: =IFERROR(IF(INDEX(Backlog!L$6:L$1005,Calculation!$B15,1)="","",INDEX(Backlog!L$6:L$1005,Calculation!$B15,1)),"") -> 44617 | O15: =IFERROR(INDEX($DF$12:$DF$23,MONTH(N15),1)&" "&DAY(N15)&", "&YEAR(N15),"") -> Feb 25, 2022 | P15: =IFERROR(""&INDEX(Backlog!M$6:M$1005,Calculation!$B15,1),"") | Q15: =IF(AND(ISNUMBER(L15),ISNUMBER(N15)),N15-L15,"") -> 2 | R15: =IF(AND(LEN(C15)>0,LEN(F15)>0),1,0) -> 1 | T15: =IF(OR(KanbanSprintFilter="",KanbanSprintFilter="All"),1,IF(""&KanbanSprintFilter=""&D15,1,0)) -> 0 | U15: =IF(OR(KanbanResponsibleFilter="",KanbanResponsibleFilter="All"),1,IF(""&KanbanResponsibleFilter=""&G15,1,0)) -> 1 | V15: =IF(OR(ttFilter="",ttFilter="All"),1,IF(""&ttFilter=""&E15,1,0)) -> 1 | W15: =IF(OR(KanbanPriorityFilter="",KanbanPriorityFilter="All"),1,IF(""&KanbanPriorityFilter=""&I15,1,0)) -> 1 | X15: =R15*T15*U15*V15*W15 -> 0 | Y15: =IF(KanbanRow1=$DG$12,"#" & C15 &" - "& F15, IF(KanbanRow1=$DG$13,F15,C15)) -> #11 - Task 1.5 | Z15: =IFERROR(IF(LEN(INDEX(C15:P15,1,MATCH(KanbanRow2,$C$3:$P$3,0)))=0,"-",INDEX(C15:P15,1,MATCH(KanbanRow2,$C$3:$P$3,0))),"-") -> Task 1.5 | AA15: =IF(X15=0,"",IF(LEN(K15)=0,COLUMN(Kanban!$D$8),IFERROR(MATCH(K15,Kanban!$A$8:$AI$8,0),COLUMN(Kanban!$D$8)))) | AB15: =IF(X15=0,"",2*COUNTIF($AA$5:AA15,AA15)+$AF$5) | AC15: =AA15&"-"&AB15 -> - | AI15: =Retrospective!P5 -> New Goals | AK15: =INDEX(Retrospective!$B$8:$D$207,B15,IF(OR($AI$4=2,$AI$4=4),2,1))&IF($AI$4=2,""," - "&INDEX(Retrospective!$B$8:$D$207,B15,IF($AI$4=1,2,3))) -> - | AL15: =IFERROR(MATCH(INDEX(Retrospective!$E$8:$E$27,B15,1),$AI$13:$AI$16,0),"") | AM15: =IF(AL15="","", AL15&"."&COUNTIF($AL$5:AL15,AL15)) | AO15: Planned tasks | AP15: =IF(OR(SprintDashboard!J5="All",SprintDashboard!J5=""),"*",IF(SprintDashboard!J5="Planned","Yes","No")) -> * | AS15: =""&Settings!L10 | AT15: =IF(AS15="","",COUNTIFS($D$5:$D$1004,$AP$6,$E$5:$E$1004,AS15,$J$5:$J$1004,$AP$15)) | AU15: =IF(AS15="","",COUNTIFS($D$5:$D$1004,$AP$6,$E$5:$E$1004,AS15)) | AW15: All | AX15: =DH33 -> Low | AY15: =DH34 -> Medium | AZ15: =DH35 -> High | BA15: =DH36 -> Not set | BB15: =DH37 | BC15: =DH38 | BD15: =COUNT(AX17:BC17) -> 4 | BF15: {=IFERROR(SMALL(IF($D$5:$D$1004=$AP$6,$N$5:$N$1004,""),B15),"")} | BG15: =IF(IFERROR(MATCH(BF15,$BF$4:BF14,0),0)=0,MAX($BG$4:BG14)+1,"") | BH15: =IFERROR(INDEX($BF$5:$BF$1004,MATCH(B15,$BG$5:$BG$1004,0),1),"") | BI15: =IFERROR(BH15-sprintStartDate,"") | BJ15: =IF(BH15="","",COUNTIFS($N$5:$N$1004,BH15,$D$5:$D$1004,$AP$6,$E$5:$E$1004,$AP$13,$J$5:$J$1004,$AP$15)) | BK15: =IFERROR(BJ15+IF(ISNUMBER(BK14),BK14,0),"") | BL15: =IF(BH15="","",SUMIFS($H$5:$H$1004,$N$5:$N$1004,BH15,$D$5:$D$1004,$AP$6,$E$5:$E$1004,$AP$13,$J$5:$J$1004,$AP$15)) | BM15: =IFERROR($BM$4-BK15,"") | BP15: =BQ15&BR15&" Day of a Project" -> 295th Day of a Project | BQ15: =IFERROR(TODAY()-MIN($L$5:$L$1004),0) -> 295 | BR15: =IF(MOD((BQ15-1)/10,1)=0,"st",IF(MOD((BQ15-2)/10,1)=0,"nd",IF(MOD((BQ15-2)/10,1)=0,"rd","th"))) -> th | BT15: 1 | BU15: =IF(BY15="","",COUNTIFS($D$5:$D$1004,BY15,$E$5:$E$1004,$BT$5)) | BV15: =IF(BY15="","",COUNTIF($D$5:$D$1004,BY15)) | BW15: =IF(BY15="","",BV15-COUNTIFS($D$5:$D$1004,BY15,$N$5:$N$1004,"")) | BX15: =IFERROR(BU15/BV15,"") | BY15: {=IFERROR(INDEX($D$5:$D$1004, MATCH(0,COUNTIF($BY$5:BY14,$D$5:$D$1004),0),1),"")} | BZ15: ="Sprint # " &BY15 -> Sprint # | CA15: =SUMIF($D$5:$D$1004,BY15,$H$5:$H$1004) -> 0 | CB15: =SUMIFS($H$5:$H$1004,$D$5:$D$1004,BY15,$J$5:$J$1004,"Yes") -> 0 | CC15: =SUMIFS($H$5:$H$1004,$D$5:$D$1004,BY15,$N$5:$N$1004,">1") -> 0 | CD15: =IFERROR(AVERAGEIFS($Q$5:$Q$1004,$D$5:$D$1004,BY15,$E$5:$E$1004,$BQ$5,$I$5:$I$1004,$BQ$7),"") | CE15: =IFERROR(($CE$5-CD15)/2,"") | CG15: =SUM(CH15:CR15) -> 0 | CH15: =IF(OR($BY15="", CH$5=""),"",COUNTIFS($D$5:$D$1004,$BY15,$K$5:$K$1004,CH$5,$E$5:$E$1004,$BQ$5,$I$5:$I$1004,$BQ$7)) | CI15: =IF(OR($BY15="", CI$5=""),"",COUNTIFS($D$5:$D$1004,$BY15,$K$5:$K$1004,CI$5,$E$5:$E$1004,$BQ$5,$I$5:$I$1004,$BQ$7)) | CJ15: =IF(OR($BY15="", CJ$5=""),"",COUNTIFS($D$5:$D$1004,$BY15,$K$5:$K$1004,CJ$5,$E$5:$E$1004,$BQ$5,$I$5:$I$1004,$BQ$7)) | CK15: =IF(OR($BY15="", CK$5=""),"",COUNTIFS($D$5:$D$1004,$BY15,$K$5:$K$1004,CK$5,$E$5:$E$1004,$BQ$5,$I$5:$I$1004,$BQ$7)) | CL15: =IF(OR($BY15="", CL$5=""),"",COUNTIFS($D$5:$D$1004,$BY15,$K$5:$K$1004,CL$5,$E$5:$E$1004,$BQ$5,$I$5:$I$1004,$BQ$7)) | CM15: =IF(OR($BY15="", CM$5=""),"",COUNTIFS($D$5:$D$1004,$BY15,$K$5:$K$1004,CM$5,$E$5:$E$1004,$BQ$5,$I$5:$I$1004,$BQ$7)) | CN15: =IF(OR($BY15="", CN$5=""),"",COUNTIFS($D$5:$D$1004,$BY15,$K$5:$K$1004,CN$5,$E$5:$E$1004,$BQ$5,$I$5:$I$1004,$BQ$7)) | CO15: =IF(OR($BY15="", CO$5=""),"",COUNTIFS($D$5:$D$1004,$BY15,$K$5:$K$1004,CO$5,$E$5:$E$1004,$BQ$5,$I$5:$I$1004,$BQ$7)) | ... CR15: =IF(OR($BY15="", CR$5=""),"",COUNTIFS($D$5:$D$1004,$BY15,$K$5:$K$1004,CR$5,$E$5:$E$1004,$BQ$5,$I$5:$I$1004,$BQ$7)) | CT15: =IF(BY15="","",COUNTIFS($D$5:$D$1004,BY15,$I$5:$I$1004,CT$5,$E$5:$E$1004,$BQ$5,$K$5:$K$1004,$BQ$9)) | CU15: =IF(BY15="","",COUNTIFS($D$5:$D$1004,BY15,$I$5:$I$1004,CU$5,$E$5:$E$1004,$BQ$5,$K$5:$K$1004,$BQ$9)) | CV15: =IF(BY15="","",COUNTIFS($D$5:$D$1004,BY15,$I$5:$I$1004,CV$5,$E$5:$E$1004,$BQ$5,$K$5:$K$1004,$BQ$9)) | CW15: =IF(BY15="","",COUNTIFS($D$5:$D$1004,BY15,$I$5:$I$1004,CW$5,$E$5:$E$1004,$BQ$5,$K$5:$K$1004,$BQ$9)) | CX15: =IF(BY15="","",COUNTIFS($D$5:$D$1004,BY15,$I$5:$I$1004,CX$5,$E$5:$E$1004,$BQ$5,$K$5:$K$1004,$BQ$9)) | CY15: =IF(BY15="","",COUNTIFS($D$5:$D$1004,BY15,$I$5:$I$1004,CY$5,$E$5:$E$1004,$BQ$5,$K$5:$K$1004,$BQ$9)) | DA15: =IF(COUNTIF($DA$5:DA14,DA14)=$BD$15,MAX(DA14)+1,DA14) -> 2 | DB15: =IF(DA15+1>$BQ$11,"", "Sprint # " & DA15+1) -> Sprint # 3 | DC15: =IF(DB15="","",INDEX($CT$5:$CY$5,1,COUNTIF($DB$6:DB15,DB15))) -> Medium | DD15: =IF(DB15="","",MAX(INDEX($CT$6:$CY$35,DA15+1,COUNTIF($DB$6:DB15,DB15)),0)) -> 2 | DF15: Apr | DH15: =F3 -> TITLE
B16: 12 | C16: =IFERROR(INDEX(Backlog!B$6:B$1005,Calculation!$B16,1),"") -> 12 | D16: =IFERROR(IF(INDEX(Backlog!C$6:C$1005,Calculation!$B16,1)="","",INDEX(Backlog!C$6:C$1005,Calculation!$B16,1)),"") -> 2 | E16: =IFERROR(""&INDEX(Backlog!D$6:D$1005,Calculation!$B16,1),"") -> Feature | F16: =IFERROR(""&INDEX(Backlog!E$6:E$1005,Calculation!$B16,1),"") -> Feature 1.3 | G16: =IFERROR(""&INDEX(Backlog!F$6:F$1005,Calculation!$B16,1),"") -> John | H16: =IFERROR(IF(INDEX(Backlog!G$6:G$1005,Calculation!$B16,1)="","",INDEX(Backlog!G$6:G$1005,Calculation!$B16,1)),"") -> 5 | I16: =IFERROR(IF(INDEX(Backlog!H$6:H$1005,Calculation!$B16,1)="","Not set",INDEX(Backlog!H$6:H$1005,Calculation!$B16,1)),"") -> Low | J16: =IFERROR(""&INDEX(Backlog!I$6:I$1005,Calculation!$B16,1),"") -> Yes | K16: =IFERROR(IF(LEN(INDEX(Backlog!J$6:J$1005,Calculation!$B16,1))=0,"Not set",INDEX(Backlog!J$6:J$1005,Calculation!$B16,1)),"") -> Not set | L16: =IFERROR(IF(INDEX(Backlog!K$6:K$1005,Calculation!$B16,1)="","",INDEX(Backlog!K$6:K$1005,Calculation!$B16,1)),"") -> 44615 | M16: =IFERROR(INDEX($DF$12:$DF$23,MONTH(L16),1)&" "&DAY(L16)&", "&YEAR(L16),"") -> Feb 23, 2022 | N16: =IFERROR(IF(INDEX(Backlog!L$6:L$1005,Calculation!$B16,1)="","",INDEX(Backlog!L$6:L$1005,Calculation!$B16,1)),"") | O16: =IFERROR(INDEX($DF$12:$DF$23,MONTH(N16),1)&" "&DAY(N16)&", "&YEAR(N16),"") | P16: =IFERROR(""&INDEX(Backlog!M$6:M$1005,Calculation!$B16,1),"") | Q16: =IF(AND(ISNUMBER(L16),ISNUMBER(N16)),N16-L16,"") | R16: =IF(AND(LEN(C16)>0,LEN(F16)>0),1,0) -> 1 | T16: =IF(OR(KanbanSprintFilter="",KanbanSprintFilter="All"),1,IF(""&KanbanSprintFilter=""&D16,1,0)) -> 0 | U16: =IF(OR(KanbanResponsibleFilter="",KanbanResponsibleFilter="All"),1,IF(""&KanbanResponsibleFilter=""&G16,1,0)) -> 1 | V16: =IF(OR(ttFilter="",ttFilter="All"),1,IF(""&ttFilter=""&E16,1,0)) -> 1 | W16: =IF(OR(KanbanPriorityFilter="",KanbanPriorityFilter="All"),1,IF(""&KanbanPriorityFilter=""&I16,1,0)) -> 1 | X16: =R16*T16*U16*V16*W16 -> 0 | Y16: =IF(KanbanRow1=$DG$12,"#" & C16 &" - "& F16, IF(KanbanRow1=$DG$13,F16,C16)) -> #12 - Feature 1.3 | Z16: =IFERROR(IF(LEN(INDEX(C16:P16,1,MATCH(KanbanRow2,$C$3:$P$3,0)))=0,"-",INDEX(C16:P16,1,MATCH(KanbanRow2,$C$3:$P$3,0))),"-") -> Feature 1.3 | AA16: =IF(X16=0,"",IF(LEN(K16)=0,COLUMN(Kanban!$D$8),IFERROR(MATCH(K16,Kanban!$A$8:$AI$8,0),COLUMN(Kanban!$D$8)))) | AB16: =IF(X16=0,"",2*COUNTIF($AA$5:AA16,AA16)+$AF$5) | AC16: =AA16&"-"&AB16 -> - | AI16: =Retrospective!T5 -> Stop | AK16: =INDEX(Retrospective!$B$8:$D$207,B16,IF(OR($AI$4=2,$AI$4=4),2,1))&IF($AI$4=2,""," - "&INDEX(Retrospective!$B$8:$D$207,B16,IF($AI$4=1,2,3))) -> - | AL16: =IFERROR(MATCH(INDEX(Retrospective!$E$8:$E$207,B16,1),$AI$13:$AI$16,0),"") | AM16: =IF(AL16="","", AL16&"."&COUNTIF($AL$5:AL16,AL16)) | AS16: =""&Settings!L11 | AT16: =IF(AS16="","",COUNTIFS($D$5:$D$1004,$AP$6,$E$5:$E$1004,AS16,$J$5:$J$1004,$AP$15)) | AU16: =IF(AS16="","",COUNTIFS($D$5:$D$1004,$AP$6,$E$5:$E$1004,AS16)) | AW16: Not set | AX16: =IF(OR($AW16="",AX$15=""),"",COUNTIFS($D$5:$D$1004,$AP$6,$I$5:$I$1004,AX$15,$K$5:$K$1004,$AW16,$E$5:$E$1004,$AP$13,$J$5:$J$1004,$AP$15)) -> 1 | AY16: =IF(OR($AW16="",AY$15=""),"",COUNTIFS($D$5:$D$1004,$AP$6,$I$5:$I$1004,AY$15,$K$5:$K$1004,$AW16,$E$5:$E$1004,$AP$13,$J$5:$J$1004,$AP$15)) -> 0 | AZ16: =IF(OR($AW16="",AZ$15=""),"",COUNTIFS($D$5:$D$1004,$AP$6,$I$5:$I$1004,AZ$15,$K$5:$K$1004,$AW16,$E$5:$E$1004,$AP$13,$J$5:$J$1004,$AP$15)) -> 0 | BA16: =IF(OR($AW16="",BA$15=""),"",COUNTIFS($D$5:$D$1004,$AP$6,$I$5:$I$1004,BA$15,$K$5:$K$1004,$AW16,$E$5:$E$1004,$AP$13,$J$5:$J$1004,$AP$15)) -> 0 | BB16: =IF(OR($AW16="",BB$15=""),"",COUNTIFS($D$5:$D$1004,$AP$6,$I$5:$I$1004,BB$15,$K$5:$K$1004,$AW16,$E$5:$E$1004,$AP$13,$J$5:$J$1004,$AP$15)) | BC16: =IF(OR($AW16="",BC$15=""),"",COUNTIFS($D$5:$D$1004,$AP$6,$I$5:$I$1004,BC$15,$K$5:$K$1004,$AW16,$E$5:$E$1004,$AP$13,$J$5:$J$1004,$AP$15)) | BD16: =SUM(AX16:BC16) -> 1 | BF16: {=IFERROR(SMALL(IF($D$5:$D$1004=$AP$6,$N$5:$N$1004,""),B16),"")} | BG16: =IF(IFERROR(MATCH(BF16,$BF$4:BF15,0),0)=0,MAX($BG$4:BG15)+1,"") | BH16: =IFERROR(INDEX($BF$5:$BF$1004,MATCH(B16,$BG$5:$BG$1004,0),1),"") | BI16: =IFERROR(BH16-sprintStartDate,"") | BJ16: =IF(BH16="","",COUNTIFS($N$5:$N$1004,BH16,$D$5:$D$1004,$AP$6,$E$5:$E$1004,$AP$13,$J$5:$J$1004,$AP$15)) | BK16: =IFERROR(BJ16+IF(ISNUMBER(BK15),BK15,0),"") | BL16: =IF(BH16="","",SUMIFS($H$5:$H$1004,$N$5:$N$1004,BH16,$D$5:$D$1004,$AP$6,$E$5:$E$1004,$AP$13,$J$5:$J$1004,$AP$15)) | BM16: =IFERROR($BM$4-BK16,"") | BP16: Completed vs Total | BQ16: =IFERROR(COUNTIF($N$5:$N$1004,">0")/COUNTIF($D$5:$D$1004,">0"),0) -> 0.52380952 | BR16: =1-BQ16 -> 0.47619048 | BT16: 1 | BU16: =IF(BY16="","",COUNTIFS($D$5:$D$1004,BY16,$E$5:$E$1004,$BT$5)) | BV16: =IF(BY16="","",COUNTIF($D$5:$D$1004,BY16)) | BW16: =IF(BY16="","",BV16-COUNTIFS($D$5:$D$1004,BY16,$N$5:$N$1004,"")) | BX16: =IFERROR(BU16/BV16,"") | BY16: {=IFERROR(INDEX($D$5:$D$1004, MATCH(0,COUNTIF($BY$5:BY15,$D$5:$D$1004),0),1),"")} | BZ16: ="Sprint # " &BY16 -> Sprint # | CA16: =SUMIF($D$5:$D$1004,BY16,$H$5:$H$1004) -> 0 | CB16: =SUMIFS($H$5:$H$1004,$D$5:$D$1004,BY16,$J$5:$J$1004,"Yes") -> 0 | CC16: =SUMIFS($H$5:$H$1004,$D$5:$D$1004,BY16,$N$5:$N$1004,">1") -> 0 | CD16: =IFERROR(AVERAGEIFS($Q$5:$Q$1004,$D$5:$D$1004,BY16,$E$5:$E$1004,$BQ$5,$I$5:$I$1004,$BQ$7),"") | CE16: =IFERROR(($CE$5-CD16)/2,"") | CG16: =SUM(CH16:CR16) -> 0 | CH16: =IF(OR($BY16="", CH$5=""),"",COUNTIFS($D$5:$D$1004,$BY16,$K$5:$K$1004,CH$5,$E$5:$E$1004,$BQ$5,$I$5:$I$1004,$BQ$7)) | CI16: =IF(OR($BY16="", CI$5=""),"",COUNTIFS($D$5:$D$1004,$BY16,$K$5:$K$1004,CI$5,$E$5:$E$1004,$BQ$5,$I$5:$I$1004,$BQ$7)) | CJ16: =IF(OR($BY16="", CJ$5=""),"",COUNTIFS($D$5:$D$1004,$BY16,$K$5:$K$1004,CJ$5,$E$5:$E$1004,$BQ$5,$I$5:$I$1004,$BQ$7)) | CK16: =IF(OR($BY16="", CK$5=""),"",COUNTIFS($D$5:$D$1004,$BY16,$K$5:$K$1004,CK$5,$E$5:$E$1004,$BQ$5,$I$5:$I$1004,$BQ$7)) | CL16: =IF(OR($BY16="", CL$5=""),"",COUNTIFS($D$5:$D$1004,$BY16,$K$5:$K$1004,CL$5,$E$5:$E$1004,$BQ$5,$I$5:$I$1004,$BQ$7)) | CM16: =IF(OR($BY16="", CM$5=""),"",COUNTIFS($D$5:$D$1004,$BY16,$K$5:$K$1004,CM$5,$E$5:$E$1004,$BQ$5,$I$5:$I$1004,$BQ$7)) | CN16: =IF(OR($BY16="", CN$5=""),"",COUNTIFS($D$5:$D$1004,$BY16,$K$5:$K$1004,CN$5,$E$5:$E$1004,$BQ$5,$I$5:$I$1004,$BQ$7)) | CO16: =IF(OR($BY16="", CO$5=""),"",COUNTIFS($D$5:$D$1004,$BY16,$K$5:$K$1004,CO$5,$E$5:$E$1004,$BQ$5,$I$5:$I$1004,$BQ$7)) | ... CR16: =IF(OR($BY16="", CR$5=""),"",COUNTIFS($D$5:$D$1004,$BY16,$K$5:$K$1004,CR$5,$E$5:$E$1004,$BQ$5,$I$5:$I$1004,$BQ$7)) | CT16: =IF(BY16="","",COUNTIFS($D$5:$D$1004,BY16,$I$5:$I$1004,CT$5,$E$5:$E$1004,$BQ$5,$K$5:$K$1004,$BQ$9)) | CU16: =IF(BY16="","",COUNTIFS($D$5:$D$1004,BY16,$I$5:$I$1004,CU$5,$E$5:$E$1004,$BQ$5,$K$5:$K$1004,$BQ$9)) | CV16: =IF(BY16="","",COUNTIFS($D$5:$D$1004,BY16,$I$5:$I$1004,CV$5,$E$5:$E$1004,$BQ$5,$K$5:$K$1004,$BQ$9)) | CW16: =IF(BY16="","",COUNTIFS($D$5:$D$1004,BY16,$I$5:$I$1004,CW$5,$E$5:$E$1004,$BQ$5,$K$5:$K$1004,$BQ$9)) | CX16: =IF(BY16="","",COUNTIFS($D$5:$D$1004,BY16,$I$5:$I$1004,CX$5,$E$5:$E$1004,$BQ$5,$K$5:$K$1004,$BQ$9)) | CY16: =IF(BY16="","",COUNTIFS($D$5:$D$1004,BY16,$I$5:$I$1004,CY$5,$E$5:$E$1004,$BQ$5,$K$5:$K$1004,$BQ$9)) | DA16: =IF(COUNTIF($DA$5:DA15,DA15)=$BD$15,MAX(DA15)+1,DA15) -> 2 | DB16: =IF(DA16+1>$BQ$11,"", "Sprint # " & DA16+1) -> Sprint # 3 | DC16: =IF(DB16="","",INDEX($CT$5:$CY$5,1,COUNTIF($DB$6:DB16,DB16))) -> High | DD16: =IF(DB16="","",MAX(INDEX($CT$6:$CY$35,DA16+1,COUNTIF($DB$6:DB16,DB16)),0)) -> 2 | DF16: May | DH16: =G3 -> RESPONSIBLE
B17: 13 | C17: =IFERROR(INDEX(Backlog!B$6:B$1005,Calculation!$B17,1),"") -> 13 | D17: =IFERROR(IF(INDEX(Backlog!C$6:C$1005,Calculation!$B17,1)="","",INDEX(Backlog!C$6:C$1005,Calculation!$B17,1)),"") -> 2 | E17: =IFERROR(""&INDEX(Backlog!D$6:D$1005,Calculation!$B17,1),"") -> Feature | F17: =IFERROR(""&INDEX(Backlog!E$6:E$1005,Calculation!$B17,1),"") -> Feature 1.4 | G17: =IFERROR(""&INDEX(Backlog!F$6:F$1005,Calculation!$B17,1),"") -> Kyle | H17: =IFERROR(IF(INDEX(Backlog!G$6:G$1005,Calculation!$B17,1)="","",INDEX(Backlog!G$6:G$1005,Calculation!$B17,1)),"") -> 6 | I17: =IFERROR(IF(INDEX(Backlog!H$6:H$1005,Calculation!$B17,1)="","Not set",INDEX(Backlog!H$6:H$1005,Calculation!$B17,1)),"") -> Low | J17: =IFERROR(""&INDEX(Backlog!I$6:I$1005,Calculation!$B17,1),"") -> Yes | K17: =IFERROR(IF(LEN(INDEX(Backlog!J$6:J$1005,Calculation!$B17,1))=0,"Not set",INDEX(Backlog!J$6:J$1005,Calculation!$B17,1)),"") -> Completed | L17: =IFERROR(IF(INDEX(Backlog!K$6:K$1005,Calculation!$B17,1)="","",INDEX(Backlog!K$6:K$1005,Calculation!$B17,1)),"") -> 44615 | M17: =IFERROR(INDEX($DF$12:$DF$23,MONTH(L17),1)&" "&DAY(L17)&", "&YEAR(L17),"") -> Feb 23, 2022 | N17: =IFERROR(IF(INDEX(Backlog!L$6:L$1005,Calculation!$B17,1)="","",INDEX(Backlog!L$6:L$1005,Calculation!$B17,1)),"") -> 44616 | O17: =IFERROR(INDEX($DF$12:$DF$23,MONTH(N17),1)&" "&DAY(N17)&", "&YEAR(N17),"") -> Feb 24, 2022 | P17: =IFERROR(""&INDEX(Backlog!M$6:M$1005,Calculation!$B17,1),"") | Q17: =IF(AND(ISNUMBER(L17),ISNUMBER(N17)),N17-L17,"") -> 1 | R17: =IF(AND(LEN(C17)>0,LEN(F17)>0),1,0) -> 1 | T17: =IF(OR(KanbanSprintFilter="",KanbanSprintFilter="All"),1,IF(""&KanbanSprintFilter=""&D17,1,0)) -> 0 | U17: =IF(OR(KanbanResponsibleFilter="",KanbanResponsibleFilter="All"),1,IF(""&KanbanResponsibleFilter=""&G17,1,0)) -> 1 | V17: =IF(OR(ttFilter="",ttFilter="All"),1,IF(""&ttFilter=""&E17,1,0)) -> 1 | W17: =IF(OR(KanbanPriorityFilter="",KanbanPriorityFilter="All"),1,IF(""&KanbanPriorityFilter=""&I17,1,0)) -> 1 | X17: =R17*T17*U17*V17*W17 -> 0 | Y17: =IF(KanbanRow1=$DG$12,"#" & C17 &" - "& F17, IF(KanbanRow1=$DG$13,F17,C17)) -> #13 - Feature 1.4 | Z17: =IFERROR(IF(LEN(INDEX(C17:P17,1,MATCH(KanbanRow2,$C$3:$P$3,0)))=0,"-",INDEX(C17:P17,1,MATCH(KanbanRow2,$C$3:$P$3,0))),"-") -> Feature 1.4 | AA17: =IF(X17=0,"",IF(LEN(K17)=0,COLUMN(Kanban!$D$8),IFERROR(MATCH(K17,Kanban!$A$8:$AI$8,0),COLUMN(Kanban!$D$8)))) | AB17: =IF(X17=0,"",2*COUNTIF($AA$5:AA17,AA17)+$AF$5) | AC17: =AA17&"-"&AB17 -> - | AK17: =INDEX(Retrospective!$B$8:$D$207,B17,IF(OR($AI$4=2,$AI$4=4),2,1))&IF($AI$4=2,""," - "&INDEX(Retrospective!$B$8:$D$207,B17,IF($AI$4=1,2,3))) -> - | AL17: =IFERROR(MATCH(INDEX(Retrospective!$E$8:$E$27,B17,1),$AI$13:$AI$16,0),"") | AM17: =IF(AL17="","", AL17&"."&COUNTIF($AL$5:AL17,AL17)) | AS17: =""&Settings!L12 | AT17: =IF(AS17="","",COUNTIFS($D$5:$D$1004,$AP$6,$E$5:$E$1004,AS17,$J$5:$J$1004,$AP$15)) | AU17: =IF(AS17="","",COUNTIFS($D$5:$D$1004,$AP$6,$E$5:$E$1004,AS17)) | AW17: =""&Settings!I6 -> In Progress | AX17: =IF(OR($AW17="",AX$15=""),"",COUNTIFS($D$5:$D$1004,$AP$6,$I$5:$I$1004,AX$15,$K$5:$K$1004,$AW17,$E$5:$E$1004,$AP$13,$J$5:$J$1004,$AP$15)) -> 0 | AY17: =IF(OR($AW17="",AY$15=""),"",COUNTIFS($D$5:$D$1004,$AP$6,$I$5:$I$1004,AY$15,$K$5:$K$1004,$AW17,$E$5:$E$1004,$AP$13,$J$5:$J$1004,$AP$15)) -> 0 | AZ17: =IF(OR($AW17="",AZ$15=""),"",COUNTIFS($D$5:$D$1004,$AP$6,$I$5:$I$1004,AZ$15,$K$5:$K$1004,$AW17,$E$5:$E$1004,$AP$13,$J$5:$J$1004,$AP$15)) -> 0 | BA17: =IF(OR($AW17="",BA$15=""),"",COUNTIFS($D$5:$D$1004,$AP$6,$I$5:$I$1004,BA$15,$K$5:$K$1004,$AW17,$E$5:$E$1004,$AP$13,$J$5:$J$1004,$AP$15)) -> 0 | BB17: =IF(OR($AW17="",BB$15=""),"",COUNTIFS($D$5:$D$1004,$AP$6,$I$5:$I$1004,BB$15,$K$5:$K$1004,$AW17,$E$5:$E$1004,$AP$13,$J$5:$J$1004,$AP$15)) | BC17: =IF(OR($AW17="",BC$15=""),"",COUNTIFS($D$5:$D$1004,$AP$6,$I$5:$I$1004,BC$15,$K$5:$K$1004,$AW17,$E$5:$E$1004,$AP$13,$J$5:$J$1004,$AP$15)) | BD17: =SUM(AX17:BC17) -> 0 | BF17: {=IFERROR(SMALL(IF($D$5:$D$1004=$AP$6,$N$5:$N$1004,""),B17),"")} | BG17: =IF(IFERROR(MATCH(BF17,$BF$4:BF16,0),0)=0,MAX($BG$4:BG16)+1,"") | BH17: =IFERROR(INDEX($BF$5:$BF$1004,MATCH(B17,$BG$5:$BG$1004,0),1),"") | BI17: =IFERROR(BH17-sprintStartDate,"") | BJ17: =IF(BH17="","",COUNTIFS($N$5:$N$1004,BH17,$D$5:$D$1004,$AP$6,$E$5:$E$1004,$AP$13,$J$5:$J$1004,$AP$15)) | BK17: =IFERROR(BJ17+IF(ISNUMBER(BK16),BK16,0),"") | BL17: =IF(BH17="","",SUMIFS($H$5:$H$1004,$N$5:$N$1004,BH17,$D$5:$D$1004,$AP$6,$E$5:$E$1004,$AP$13,$J$5:$J$1004,$AP$15)) | BM17: =IFERROR($BM$4-BK17,"") | BP17: Completed vs Planned | BQ17: =IFERROR(COUNTIFS($N$5:$N$1004,">0",$J$5:$J$1004,"Yes")/COUNTIFS($J$5:$J$1004,"Yes"),0) -> 0.5483871 | BR17: =1-BQ17 -> 0.4516129 | BT17: 1 | BU17: =IF(BY17="","",COUNTIFS($D$5:$D$1004,BY17,$E$5:$E$1004,$BT$5)) | BV17: =IF(BY17="","",COUNTIF($D$5:$D$1004,BY17)) | BW17: =IF(BY17="","",BV17-COUNTIFS($D$5:$D$1004,BY17,$N$5:$N$1004,"")) | BX17: =IFERROR(BU17/BV17,"") | BY17: {=IFERROR(INDEX($D$5:$D$1004, MATCH(0,COUNTIF($BY$5:BY16,$D$5:$D$1004),0),1),"")} | BZ17: ="Sprint # " &BY17 -> Sprint # | CA17: =SUMIF($D$5:$D$1004,BY17,$H$5:$H$1004) -> 0 | CB17: =SUMIFS($H$5:$H$1004,$D$5:$D$1004,BY17,$J$5:$J$1004,"Yes") -> 0 | CC17: =SUMIFS($H$5:$H$1004,$D$5:$D$1004,BY17,$N$5:$N$1004,">1") -> 0 | CD17: =IFERROR(AVERAGEIFS($Q$5:$Q$1004,$D$5:$D$1004,BY17,$E$5:$E$1004,$BQ$5,$I$5:$I$1004,$BQ$7),"") | CE17: =IFERROR(($CE$5-CD17)/2,"") | CG17: =SUM(CH17:CR17) -> 0 | CH17: =IF(OR($BY17="", CH$5=""),"",COUNTIFS($D$5:$D$1004,$BY17,$K$5:$K$1004,CH$5,$E$5:$E$1004,$BQ$5,$I$5:$I$1004,$BQ$7)) | CI17: =IF(OR($BY17="", CI$5=""),"",COUNTIFS($D$5:$D$1004,$BY17,$K$5:$K$1004,CI$5,$E$5:$E$1004,$BQ$5,$I$5:$I$1004,$BQ$7)) | CJ17: =IF(OR($BY17="", CJ$5=""),"",COUNTIFS($D$5:$D$1004,$BY17,$K$5:$K$1004,CJ$5,$E$5:$E$1004,$BQ$5,$I$5:$I$1004,$BQ$7)) | CK17: =IF(OR($BY17="", CK$5=""),"",COUNTIFS($D$5:$D$1004,$BY17,$K$5:$K$1004,CK$5,$E$5:$E$1004,$BQ$5,$I$5:$I$1004,$BQ$7)) | CL17: =IF(OR($BY17="", CL$5=""),"",COUNTIFS($D$5:$D$1004,$BY17,$K$5:$K$1004,CL$5,$E$5:$E$1004,$BQ$5,$I$5:$I$1004,$BQ$7)) | CM17: =IF(OR($BY17="", CM$5=""),"",COUNTIFS($D$5:$D$1004,$BY17,$K$5:$K$1004,CM$5,$E$5:$E$1004,$BQ$5,$I$5:$I$1004,$BQ$7)) | CN17: =IF(OR($BY17="", CN$5=""),"",COUNTIFS($D$5:$D$1004,$BY17,$K$5:$K$1004,CN$5,$E$5:$E$1004,$BQ$5,$I$5:$I$1004,$BQ$7)) | CO17: =IF(OR($BY17="", CO$5=""),"",COUNTIFS($D$5:$D$1004,$BY17,$K$5:$K$1004,CO$5,$E$5:$E$1004,$BQ$5,$I$5:$I$1004,$BQ$7)) | ... CR17: =IF(OR($BY17="", CR$5=""),"",COUNTIFS($D$5:$D$1004,$BY17,$K$5:$K$1004,CR$5,$E$5:$E$1004,$BQ$5,$I$5:$I$1004,$BQ$7)) | CT17: =IF(BY17="","",COUNTIFS($D$5:$D$1004,BY17,$I$5:$I$1004,CT$5,$E$5:$E$1004,$BQ$5,$K$5:$K$1004,$BQ$9)) | CU17: =IF(BY17="","",COUNTIFS($D$5:$D$1004,BY17,$I$5:$I$1004,CU$5,$E$5:$E$1004,$BQ$5,$K$5:$K$1004,$BQ$9)) | CV17: =IF(BY17="","",COUNTIFS($D$5:$D$1004,BY17,$I$5:$I$1004,CV$5,$E$5:$E$1004,$BQ$5,$K$5:$K$1004,$BQ$9)) | CW17: =IF(BY17="","",COUNTIFS($D$5:$D$1004,BY17,$I$5:$I$1004,CW$5,$E$5:$E$1004,$BQ$5,$K$5:$K$1004,$BQ$9)) | CX17: =IF(BY17="","",COUNTIFS($D$5:$D$1004,BY17,$I$5:$I$1004,CX$5,$E$5:$E$1004,$BQ$5,$K$5:$K$1004,$BQ$9)) | CY17: =IF(BY17="","",COUNTIFS($D$5:$D$1004,BY17,$I$5:$I$1004,CY$5,$E$5:$E$1004,$BQ$5,$K$5:$K$1004,$BQ$9)) | DA17: =IF(COUNTIF($DA$5:DA16,DA16)=$BD$15,MAX(DA16)+1,DA16) -> 2 | DB17: =IF(DA17+1>$BQ$11,"", "Sprint # " & DA17+1) -> Sprint # 3 | DC17: =IF(DB17="","",INDEX($CT$5:$CY$5,1,COUNTIF($DB$6:DB17,DB17))) -> Not set | DD17: =IF(DB17="","",MAX(INDEX($CT$6:$CY$35,DA17+1,COUNTIF($DB$6:DB17,DB17)),0)) -> 0 | DF17: Jun | DH17: =H3 -> STORY POINTS
B18: 14 | C18: =IFERROR(INDEX(Backlog!B$6:B$1005,Calculation!$B18,1),"") -> 14 | D18: =IFERROR(IF(INDEX(Backlog!C$6:C$1005,Calculation!$B18,1)="","",INDEX(Backlog!C$6:C$1005,Calculation!$B18,1)),"") -> 2 | E18: =IFERROR(""&INDEX(Backlog!D$6:D$1005,Calculation!$B18,1),"") -> Feature | F18: =IFERROR(""&INDEX(Backlog!E$6:E$1005,Calculation!$B18,1),"") -> Feature 1.5 | G18: =IFERROR(""&INDEX(Backlog!F$6:F$1005,Calculation!$B18,1),"") -> Carolyne | H18: =IFERROR(IF(INDEX(Backlog!G$6:G$1005,Calculation!$B18,1)="","",INDEX(Backlog!G$6:G$1005,Calculation!$B18,1)),"") -> 11 | I18: =IFERROR(IF(INDEX(Backlog!H$6:H$1005,Calculation!$B18,1)="","Not set",INDEX(Backlog!H$6:H$1005,Calculation!$B18,1)),"") -> High | J18: =IFERROR(""&INDEX(Backlog!I$6:I$1005,Calculation!$B18,1),"") -> Yes | K18: =IFERROR(IF(LEN(INDEX(Backlog!J$6:J$1005,Calculation!$B18,1))=0,"Not set",INDEX(Backlog!J$6:J$1005,Calculation!$B18,1)),"") -> Deployment | L18: =IFERROR(IF(INDEX(Backlog!K$6:K$1005,Calculation!$B18,1)="","",INDEX(Backlog!K$6:K$1005,Calculation!$B18,1)),"") -> 44615 | M18: =IFERROR(INDEX($DF$12:$DF$23,MONTH(L18),1)&" "&DAY(L18)&", "&YEAR(L18),"") -> Feb 23, 2022 | N18: =IFERROR(IF(INDEX(Backlog!L$6:L$1005,Calculation!$B18,1)="","",INDEX(Backlog!L$6:L$1005,Calculation!$B18,1)),"") | O18: =IFERROR(INDEX($DF$12:$DF$23,MONTH(N18),1)&" "&DAY(N18)&", "&YEAR(N18),"") | P18: =IFERROR(""&INDEX(Backlog!M$6:M$1005,Calculation!$B18,1),"") | Q18: =IF(AND(ISNUMBER(L18),ISNUMBER(N18)),N18-L18,"") | R18: =IF(AND(LEN(C18)>0,LEN(F18)>0),1,0) -> 1 | T18: =IF(OR(KanbanSprintFilter="",KanbanSprintFilter="All"),1,IF(""&KanbanSprintFilter=""&D18,1,0)) -> 0 | U18: =IF(OR(KanbanResponsibleFilter="",KanbanResponsibleFilter="All"),1,IF(""&KanbanResponsibleFilter=""&G18,1,0)) -> 1 | V18: =IF(OR(ttFilter="",ttFilter="All"),1,IF(""&ttFilter=""&E18,1,0)) -> 1 | W18: =IF(OR(KanbanPriorityFilter="",KanbanPriorityFilter="All"),1,IF(""&KanbanPriorityFilter=""&I18,1,0)) -> 1 | X18: =R18*T18*U18*V18*W18 -> 0 | Y18: =IF(KanbanRow1=$DG$12,"#" & C18 &" - "& F18, IF(KanbanRow1=$DG$13,F18,C18)) -> #14 - Feature 1.5 | Z18: =IFERROR(IF(LEN(INDEX(C18:P18,1,MATCH(KanbanRow2,$C$3:$P$3,0)))=0,"-",INDEX(C18:P18,1,MATCH(KanbanRow2,$C$3:$P$3,0))),"-") -> Feature 1.5 | AA18: =IF(X18=0,"",IF(LEN(K18)=0,COLUMN(Kanban!$D$8),IFERROR(MATCH(K18,Kanban!$A$8:$AI$8,0),COLUMN(Kanban!$D$8)))) | AB18: =IF(X18=0,"",2*COUNTIF($AA$5:AA18,AA18)+$AF$5) | AC18: =AA18&"-"&AB18 -> - | AK18: =INDEX(Retrospective!$B$8:$D$207,B18,IF(OR($AI$4=2,$AI$4=4),2,1))&IF($AI$4=2,""," - "&INDEX(Retrospective!$B$8:$D$207,B18,IF($AI$4=1,2,3))) -> - | AL18: =IFERROR(MATCH(INDEX(Retrospective!$E$8:$E$27,B18,1),$AI$13:$AI$16,0),"") | AM18: =IF(AL18="","", AL18&"."&COUNTIF($AL$5:AL18,AL18)) | AS18: =""&Settings!L13 | AT18: =IF(AS18="","",COUNTIFS($D$5:$D$1004,$AP$6,$E$5:$E$1004,AS18,$J$5:$J$1004,$AP$15)) | AU18: =IF(AS18="","",COUNTIFS($D$5:$D$1004,$AP$6,$E$5:$E$1004,AS18)) | AW18: =""&Settings!I7 -> Open | AX18: =IF(OR($AW18="",AX$15=""),"",COUNTIFS($D$5:$D$1004,$AP$6,$I$5:$I$1004,AX$15,$K$5:$K$1004,$AW18,$E$5:$E$1004,$AP$13,$J$5:$J$1004,$AP$15)) -> 1 | AY18: =IF(OR($AW18="",AY$15=""),"",COUNTIFS($D$5:$D$1004,$AP$6,$I$5:$I$1004,AY$15,$K$5:$K$1004,$AW18,$E$5:$E$1004,$AP$13,$J$5:$J$1004,$AP$15)) -> 0 | AZ18: =IF(OR($AW18="",AZ$15=""),"",COUNTIFS($D$5:$D$1004,$AP$6,$I$5:$I$1004,AZ$15,$K$5:$K$1004,$AW18,$E$5:$E$1004,$AP$13,$J$5:$J$1004,$AP$15)) -> 0 | BA18: =IF(OR($AW18="",BA$15=""),"",COUNTIFS($D$5:$D$1004,$AP$6,$I$5:$I$1004,BA$15,$K$5:$K$1004,$AW18,$E$5:$E$1004,$AP$13,$J$5:$J$1004,$AP$15)) -> 0 | BB18: =IF(OR($AW18="",BB$15=""),"",COUNTIFS($D$5:$D$1004,$AP$6,$I$5:$I$1004,BB$15,$K$5:$K$1004,$AW18,$E$5:$E$1004,$AP$13,$J$5:$J$1004,$AP$15)) | BC18: =IF(OR($AW18="",BC$15=""),"",COUNTIFS($D$5:$D$1004,$AP$6,$I$5:$I$1004,BC$15,$K$5:$K$1004,$AW18,$E$5:$E$1004,$AP$13,$J$5:$J$1004,$AP$15)) | BD18: =SUM(AX18:BC18) -> 1 | BF18: {=IFERROR(SMALL(IF($D$5:$D$1004=$AP$6,$N$5:$N$1004,""),B18),"")} | BG18: =IF(IFERROR(MATCH(BF18,$BF$4:BF17,0),0)=0,MAX($BG$4:BG17)+1,"") | BH18: =IFERROR(INDEX($BF$5:$BF$1004,MATCH(B18,$BG$5:$BG$1004,0),1),"") | BI18: =IFERROR(BH18-sprintStartDate,"") | BJ18: =IF(BH18="","",COUNTIFS($N$5:$N$1004,BH18,$D$5:$D$1004,$AP$6,$E$5:$E$1004,$AP$13,$J$5:$J$1004,$AP$15)) | BK18: =IFERROR(BJ18+IF(ISNUMBER(BK17),BK17,0),"") | BL18: =IF(BH18="","",SUMIFS($H$5:$H$1004,$N$5:$N$1004,BH18,$D$5:$D$1004,$AP$6,$E$5:$E$1004,$AP$13,$J$5:$J$1004,$AP$15)) | BM18: =IFERROR($BM$4-BK18,"") | BP18: =AS11 & " %" -> Bug % | BQ18: =IFERROR(COUNTIF(E5:E1004,AS11 )/COUNT(D5:D1004),0) -> 0.14285714 | BR18: =1-BQ18 -> 0.85714286 | BT18: 1 | BU18: =IF(BY18="","",COUNTIFS($D$5:$D$1004,BY18,$E$5:$E$1004,$BT$5)) | BV18: =IF(BY18="","",COUNTIF($D$5:$D$1004,BY18)) | BW18: =IF(BY18="","",BV18-COUNTIFS($D$5:$D$1004,BY18,$N$5:$N$1004,"")) | BX18: =IFERROR(BU18/BV18,"") | BY18: {=IFERROR(INDEX($D$5:$D$1004, MATCH(0,COUNTIF($BY$5:BY17,$D$5:$D$1004),0),1),"")} | BZ18: ="Sprint # " &BY18 -> Sprint # | CA18: =SUMIF($D$5:$D$1004,BY18,$H$5:$H$1004) -> 0 | CB18: =SUMIFS($H$5:$H$1004,$D$5:$D$1004,BY18,$J$5:$J$1004,"Yes") -> 0 | CC18: =SUMIFS($H$5:$H$1004,$D$5:$D$1004,BY18,$N$5:$N$1004,">1") -> 0 | CD18: =IFERROR(AVERAGEIFS($Q$5:$Q$1004,$D$5:$D$1004,BY18,$E$5:$E$1004,$BQ$5,$I$5:$I$1004,$BQ$7),"") | CE18: =IFERROR(($CE$5-CD18)/2,"") | CG18: =SUM(CH18:CR18) -> 0 | CH18: =IF(OR($BY18="", CH$5=""),"",COUNTIFS($D$5:$D$1004,$BY18,$K$5:$K$1004,CH$5,$E$5:$E$1004,$BQ$5,$I$5:$I$1004,$BQ$7)) | CI18: =IF(OR($BY18="", CI$5=""),"",COUNTIFS($D$5:$D$1004,$BY18,$K$5:$K$1004,CI$5,$E$5:$E$1004,$BQ$5,$I$5:$I$1004,$BQ$7)) | CJ18: =IF(OR($BY18="", CJ$5=""),"",COUNTIFS($D$5:$D$1004,$BY18,$K$5:$K$1004,CJ$5,$E$5:$E$1004,$BQ$5,$I$5:$I$1004,$BQ$7)) | CK18: =IF(OR($BY18="", CK$5=""),"",COUNTIFS($D$5:$D$1004,$BY18,$K$5:$K$1004,CK$5,$E$5:$E$1004,$BQ$5,$I$5:$I$1004,$BQ$7)) | CL18: =IF(OR($BY18="", CL$5=""),"",COUNTIFS($D$5:$D$1004,$BY18,$K$5:$K$1004,CL$5,$E$5:$E$1004,$BQ$5,$I$5:$I$1004,$BQ$7)) | CM18: =IF(OR($BY18="", CM$5=""),"",COUNTIFS($D$5:$D$1004,$BY18,$K$5:$K$1004,CM$5,$E$5:$E$1004,$BQ$5,$I$5:$I$1004,$BQ$7)) | CN18: =IF(OR($BY18="", CN$5=""),"",COUNTIFS($D$5:$D$1004,$BY18,$K$5:$K$1004,CN$5,$E$5:$E$1004,$BQ$5,$I$5:$I$1004,$BQ$7)) | CO18: =IF(OR($BY18="", CO$5=""),"",COUNTIFS($D$5:$D$1004,$BY18,$K$5:$K$1004,CO$5,$E$5:$E$1004,$BQ$5,$I$5:$I$1004,$BQ$7)) | ... CR18: =IF(OR($BY18="", CR$5=""),"",COUNTIFS($D$5:$D$1004,$BY18,$K$5:$K$1004,CR$5,$E$5:$E$1004,$BQ$5,$I$5:$I$1004,$BQ$7)) | CT18: =IF(BY18="","",COUNTIFS($D$5:$D$1004,BY18,$I$5:$I$1004,CT$5,$E$5:$E$1004,$BQ$5,$K$5:$K$1004,$BQ$9)) | CU18: =IF(BY18="","",COUNTIFS($D$5:$D$1004,BY18,$I$5:$I$1004,CU$5,$E$5:$E$1004,$BQ$5,$K$5:$K$1004,$BQ$9)) | CV18: =IF(BY18="","",COUNTIFS($D$5:$D$1004,BY18,$I$5:$I$1004,CV$5,$E$5:$E$1004,$BQ$5,$K$5:$K$1004,$BQ$9)) | CW18: =IF(BY18="","",COUNTIFS($D$5:$D$1004,BY18,$I$5:$I$1004,CW$5,$E$5:$E$1004,$BQ$5,$K$5:$K$1004,$BQ$9)) | CX18: =IF(BY18="","",COUNTIFS($D$5:$D$1004,BY18,$I$5:$I$1004,CX$5,$E$5:$E$1004,$BQ$5,$K$5:$K$1004,$BQ$9)) | CY18: =IF(BY18="","",COUNTIFS($D$5:$D$1004,BY18,$I$5:$I$1004,CY$5,$E$5:$E$1004,$BQ$5,$K$5:$K$1004,$BQ$9)) | DA18: =IF(COUNTIF($DA$5:DA17,DA17)=$BD$15,MAX(DA17)+1,DA17) -> 3 | DB18: =IF(DA18+1>$BQ$11,"", "Sprint # " & DA18+1) -> Sprint # 4 | DC18: =IF(DB18="","",INDEX($CT$5:$CY$5,1,COUNTIF($DB$6:DB18,DB18))) -> Low | DD18: =IF(DB18="","",MAX(INDEX($CT$6:$CY$35,DA18+1,COUNTIF($DB$6:DB18,DB18)),0)) -> 5 | DF18: Jul | DH18: =I3 -> PRIORITY
B19: 15 | C19: =IFERROR(INDEX(Backlog!B$6:B$1005,Calculation!$B19,1),"") -> 15 | D19: =IFERROR(IF(INDEX(Backlog!C$6:C$1005,Calculation!$B19,1)="","",INDEX(Backlog!C$6:C$1005,Calculation!$B19,1)),"") -> 2 | E19: =IFERROR(""&INDEX(Backlog!D$6:D$1005,Calculation!$B19,1),"") -> Bug | F19: =IFERROR(""&INDEX(Backlog!E$6:E$1005,Calculation!$B19,1),"") -> Bug 1.2 | G19: =IFERROR(""&INDEX(Backlog!F$6:F$1005,Calculation!$B19,1),"") -> Kate | H19: =IFERROR(IF(INDEX(Backlog!G$6:G$1005,Calculation!$B19,1)="","",INDEX(Backlog!G$6:G$1005,Calculation!$B19,1)),"") -> 9 | I19: =IFERROR(IF(INDEX(Backlog!H$6:H$1005,Calculation!$B19,1)="","Not set",INDEX(Backlog!H$6:H$1005,Calculation!$B19,1)),"") -> Low | J19: =IFERROR(""&INDEX(Backlog!I$6:I$1005,Calculation!$B19,1),"") -> No | K19: =IFERROR(IF(LEN(INDEX(Backlog!J$6:J$1005,Calculation!$B19,1))=0,"Not set",INDEX(Backlog!J$6:J$1005,Calculation!$B19,1)),"") -> Testing | L19: =IFERROR(IF(INDEX(Backlog!K$6:K$1005,Calculation!$B19,1)="","",INDEX(Backlog!K$6:K$1005,Calculation!$B19,1)),"") -> 44617 | M19: =IFERROR(INDEX($DF$12:$DF$23,MONTH(L19),1)&" "&DAY(L19)&", "&YEAR(L19),"") -> Feb 25, 2022 | N19: =IFERROR(IF(INDEX(Backlog!L$6:L$1005,Calculation!$B19,1)="","",INDEX(Backlog!L$6:L$1005,Calculation!$B19,1)),"") | O19: =IFERROR(INDEX($DF$12:$DF$23,MONTH(N19),1)&" "&DAY(N19)&", "&YEAR(N19),"") | P19: =IFERROR(""&INDEX(Backlog!M$6:M$1005,Calculation!$B19,1),"") | Q19: =IF(AND(ISNUMBER(L19),ISNUMBER(N19)),N19-L19,"") | R19: =IF(AND(LEN(C19)>0,LEN(F19)>0),1,0) -> 1 | T19: =IF(OR(KanbanSprintFilter="",KanbanSprintFilter="All"),1,IF(""&KanbanSprintFilter=""&D19,1,0)) -> 0 | U19: =IF(OR(KanbanResponsibleFilter="",KanbanResponsibleFilter="All"),1,IF(""&KanbanResponsibleFilter=""&G19,1,0)) -> 1 | V19: =IF(OR(ttFilter="",ttFilter="All"),1,IF(""&ttFilter=""&E19,1,0)) -> 1 | W19: =IF(OR(KanbanPriorityFilter="",KanbanPriorityFilter="All"),1,IF(""&KanbanPriorityFilter=""&I19,1,0)) -> 1 | X19: =R19*T19*U19*V19*W19 -> 0 | Y19: =IF(KanbanRow1=$DG$12,"#" & C19 &" - "& F19, IF(KanbanRow1=$DG$13,F19,C19)) -> #15 - Bug 1.2 | Z19: =IFERROR(IF(LEN(INDEX(C19:P19,1,MATCH(KanbanRow2,$C$3:$P$3,0)))=0,"-",INDEX(C19:P19,1,MATCH(KanbanRow2,$C$3:$P$3,0))),"-") -> Bug 1.2 | AA19: =IF(X19=0,"",IF(LEN(K19)=0,COLUMN(Kanban!$D$8),IFERROR(MATCH(K19,Kanban!$A$8:$AI$8,0),COLUMN(Kanban!$D$8)))) | AB19: =IF(X19=0,"",2*COUNTIF($AA$5:AA19,AA19)+$AF$5) | AC19: =AA19&"-"&AB19 -> - | AK19: =INDEX(Retrospective!$B$8:$D$207,B19,IF(OR($AI$4=2,$AI$4=4),2,1))&IF($AI$4=2,""," - "&INDEX(Retrospective!$B$8:$D$207,B19,IF($AI$4=1,2,3))) -> - | AL19: =IFERROR(MATCH(INDEX(Retrospective!$E$8:$E$207,B19,1),$AI$13:$AI$16,0),"") | AM19: =IF(AL19="","", AL19&"."&COUNTIF($AL$5:AL19,AL19)) | AS19: =""&Settings!L14 | AT19: =IF(AS19="","",COUNTIFS($D$5:$D$1004,$AP$6,$E$5:$E$1004,AS19,$J$5:$J$1004,$AP$15)) | AU19: =IF(AS19="","",COUNTIFS($D$5:$D$1004,$AP$6,$E$5:$E$1004,AS19)) | AW19: =""&Settings!I8 -> Testing | AX19: =IF(OR($AW19="",AX$15=""),"",COUNTIFS($D$5:$D$1004,$AP$6,$I$5:$I$1004,AX$15,$K$5:$K$1004,$AW19,$E$5:$E$1004,$AP$13,$J$5:$J$1004,$AP$15)) -> 0 | AY19: =IF(OR($AW19="",AY$15=""),"",COUNTIFS($D$5:$D$1004,$AP$6,$I$5:$I$1004,AY$15,$K$5:$K$1004,$AW19,$E$5:$E$1004,$AP$13,$J$5:$J$1004,$AP$15)) -> 1 | AZ19: =IF(OR($AW19="",AZ$15=""),"",COUNTIFS($D$5:$D$1004,$AP$6,$I$5:$I$1004,AZ$15,$K$5:$K$1004,$AW19,$E$5:$E$1004,$AP$13,$J$5:$J$1004,$AP$15)) -> 0 | BA19: =IF(OR($AW19="",BA$15=""),"",COUNTIFS($D$5:$D$1004,$AP$6,$I$5:$I$1004,BA$15,$K$5:$K$1004,$AW19,$E$5:$E$1004,$AP$13,$J$5:$J$1004,$AP$15)) -> 0 | BB19: =IF(OR($AW19="",BB$15=""),"",COUNTIFS($D$5:$D$1004,$AP$6,$I$5:$I$1004,BB$15,$K$5:$K$1004,$AW19,$E$5:$E$1004,$AP$13,$J$5:$J$1004,$AP$15)) | BC19: =IF(OR($AW19="",BC$15=""),"",COUNTIFS($D$5:$D$1004,$AP$6,$I$5:$I$1004,BC$15,$K$5:$K$1004,$AW19,$E$5:$E$1004,$AP$13,$J$5:$J$1004,$AP$15)) | BD19: =SUM(AX19:BC19) -> 1 | BF19: {=IFERROR(SMALL(IF($D$5:$D$1004=$AP$6,$N$5:$N$1004,""),B19),"")} | BG19: =IF(IFERROR(MATCH(BF19,$BF$4:BF18,0),0)=0,MAX($BG$4:BG18)+1,"") | BH19: =IFERROR(INDEX($BF$5:$BF$1004,MATCH(B19,$BG$5:$BG$1004,0),1),"") | BI19: =IFERROR(BH19-sprintStartDate,"") | BJ19: =IF(BH19="","",COUNTIFS($N$5:$N$1004,BH19,$D$5:$D$1004,$AP$6,$E$5:$E$1004,$AP$13,$J$5:$J$1004,$AP$15)) | BK19: =IFERROR(BJ19+IF(ISNUMBER(BK18),BK18,0),"") | BL19: =IF(BH19="","",SUMIFS($H$5:$H$1004,$N$5:$N$1004,BH19,$D$5:$D$1004,$AP$6,$E$5:$E$1004,$AP$13,$J$5:$J$1004,$AP$15)) | BM19: =IFERROR($BM$4-BK19,"") | BP19: ="SUMMARY OF LAST " & D2CountSprints & " SPRINTS" -> SUMMARY OF LAST 5 SPRINTS | BT19: 1 | BU19: =IF(BY19="","",COUNTIFS($D$5:$D$1004,BY19,$E$5:$E$1004,$BT$5)) | BV19: =IF(BY19="","",COUNTIF($D$5:$D$1004,BY19)) | BW19: =IF(BY19="","",BV19-COUNTIFS($D$5:$D$1004,BY19,$N$5:$N$1004,"")) | BX19: =IFERROR(BU19/BV19,"") | BY19: {=IFERROR(INDEX($D$5:$D$1004, MATCH(0,COUNTIF($BY$5:BY18,$D$5:$D$1004),0),1),"")} | BZ19: ="Sprint # " &BY19 -> Sprint # | CA19: =SUMIF($D$5:$D$1004,BY19,$H$5:$H$1004) -> 0 | CB19: =SUMIFS($H$5:$H$1004,$D$5:$D$1004,BY19,$J$5:$J$1004,"Yes") -> 0 | CC19: =SUMIFS($H$5:$H$1004,$D$5:$D$1004,BY19,$N$5:$N$1004,">1") -> 0 | CD19: =IFERROR(AVERAGEIFS($Q$5:$Q$1004,$D$5:$D$1004,BY19,$E$5:$E$1004,$BQ$5,$I$5:$I$1004,$BQ$7),"") | CE19: =IFERROR(($CE$5-CD19)/2,"") | CG19: =SUM(CH19:CR19) -> 0 | CH19: =IF(OR($BY19="", CH$5=""),"",COUNTIFS($D$5:$D$1004,$BY19,$K$5:$K$1004,CH$5,$E$5:$E$1004,$BQ$5,$I$5:$I$1004,$BQ$7)) | CI19: =IF(OR($BY19="", CI$5=""),"",COUNTIFS($D$5:$D$1004,$BY19,$K$5:$K$1004,CI$5,$E$5:$E$1004,$BQ$5,$I$5:$I$1004,$BQ$7)) | CJ19: =IF(OR($BY19="", CJ$5=""),"",COUNTIFS($D$5:$D$1004,$BY19,$K$5:$K$1004,CJ$5,$E$5:$E$1004,$BQ$5,$I$5:$I$1004,$BQ$7)) | CK19: =IF(OR($BY19="", CK$5=""),"",COUNTIFS($D$5:$D$1004,$BY19,$K$5:$K$1004,CK$5,$E$5:$E$1004,$BQ$5,$I$5:$I$1004,$BQ$7)) | CL19: =IF(OR($BY19="", CL$5=""),"",COUNTIFS($D$5:$D$1004,$BY19,$K$5:$K$1004,CL$5,$E$5:$E$1004,$BQ$5,$I$5:$I$1004,$BQ$7)) | CM19: =IF(OR($BY19="", CM$5=""),"",COUNTIFS($D$5:$D$1004,$BY19,$K$5:$K$1004,CM$5,$E$5:$E$1004,$BQ$5,$I$5:$I$1004,$BQ$7)) | CN19: =IF(OR($BY19="", CN$5=""),"",COUNTIFS($D$5:$D$1004,$BY19,$K$5:$K$1004,CN$5,$E$5:$E$1004,$BQ$5,$I$5:$I$1004,$BQ$7)) | CO19: =IF(OR($BY19="", CO$5=""),"",COUNTIFS($D$5:$D$1004,$BY19,$K$5:$K$1004,CO$5,$E$5:$E$1004,$BQ$5,$I$5:$I$1004,$BQ$7)) | ... CR19: =IF(OR($BY19="", CR$5=""),"",COUNTIFS($D$5:$D$1004,$BY19,$K$5:$K$1004,CR$5,$E$5:$E$1004,$BQ$5,$I$5:$I$1004,$BQ$7)) | CT19: =IF(BY19="","",COUNTIFS($D$5:$D$1004,BY19,$I$5:$I$1004,CT$5,$E$5:$E$1004,$BQ$5,$K$5:$K$1004,$BQ$9)) | CU19: =IF(BY19="","",COUNTIFS($D$5:$D$1004,BY19,$I$5:$I$1004,CU$5,$E$5:$E$1004,$BQ$5,$K$5:$K$1004,$BQ$9)) | CV19: =IF(BY19="","",COUNTIFS($D$5:$D$1004,BY19,$I$5:$I$1004,CV$5,$E$5:$E$1004,$BQ$5,$K$5:$K$1004,$BQ$9)) | CW19: =IF(BY19="","",COUNTIFS($D$5:$D$1004,BY19,$I$5:$I$1004,CW$5,$E$5:$E$1004,$BQ$5,$K$5:$K$1004,$BQ$9)) | CX19: =IF(BY19="","",COUNTIFS($D$5:$D$1004,BY19,$I$5:$I$1004,CX$5,$E$5:$E$1004,$BQ$5,$K$5:$K$1004,$BQ$9)) | CY19: =IF(BY19="","",COUNTIFS($D$5:$D$1004,BY19,$I$5:$I$1004,CY$5,$E$5:$E$1004,$BQ$5,$K$5:$K$1004,$BQ$9)) | DA19: =IF(COUNTIF($DA$5:DA18,DA18)=$BD$15,MAX(DA18)+1,DA18) -> 3 | DB19: =IF(DA19+1>$BQ$11,"", "Sprint # " & DA19+1) -> Sprint # 4 | DC19: =IF(DB19="","",INDEX($CT$5:$CY$5,1,COUNTIF($DB$6:DB19,DB19))) -> Medium | DD19: =IF(DB19="","",MAX(INDEX($CT$6:$CY$35,DA19+1,COUNTIF($DB$6:DB19,DB19)),0)) -> 1 | DF19: Aug | DH19: =J3 -> PLANNED
