Workbook
Name BacklogStart: Backlog!$B$5
Name completed: Calculation!$DI$42
Name D1AverageDuration: OFFSET(Calculation!$AX$5,0,0,COUNT(Calculation!$AY$5:$AY$10),1)
Name D1AverageDurationOther: OFFSET(Calculation!$AY$5,0,0,COUNT(Calculation!$AY$5:$AY$10),1)
Name D1CompletedByDay: OFFSET(Calculation!$BJ$4,0,0,Calculation!$BN$5+1,1)
Name D1CompletedByDayCumulative: OFFSET(Calculation!$BK$4,0,0,Calculation!$BN$5+1,1)
Name D1CountByStatus: OFFSET(Calculation!$BD$16,0,0,Calculation!$AW$14+1,1)
Name D1NotCompletedByDay: OFFSET(Calculation!$BM$4,0,0,Calculation!$BN$5+1,1)
Name D1PriorityLabels: OFFSET(Calculation!$AX$15,0,0,1,Calculation!$BD$15)
Name D1PriorityTotals: OFFSET(Calculation!$AX$27,0,0,1,Calculation!$BD$15)
Name D1StatusLabel: OFFSET(Calculation!$AW$16,0,0,Calculation!$AW$14+1,1)
Name D2AverageDuration: OFFSET(Calculation!$CD$6,0,0,Calculation!$BQ$11,1)
Name D2AverageDurationOther: OFFSET(Calculation!$CE$6,0,0,Calculation!$BQ$11,1)
Name D2Categories: Calculation!$DB$6:$DC$185
Name D2CompletedBySprint: OFFSET(Calculation!$BW$6,0,0,D2CountSprints,1)
Name D2CountSprints: Calculation!$BQ$11
Name D2SPCompletedBySprint: OFFSET(Calculation!$CC$6,0,0,D2CountSprints,1)
Name D2SPPlannedBySprint: OFFSET(Calculation!$CB$6,0,0,Calculation!$BQ$11,1)
Name D2SprintLabels: OFFSET(Calculation!$BZ$6,0,0,D2CountSprints,1)
Name D2SPTotalBySprint: OFFSET(Calculation!$CA$6,0,0,D2CountSprints,1)
Name D2TotalBySprint: OFFSET(Calculation!$BV$6,0,0,D2CountSprints,1)
Name D2TotalPct: OFFSET(Calculation!$BT$6,0,0,Calculation!$BQ$11,1)
Name D2TypeBySprint: OFFSET(Calculation!$BU$6,0,0,D2CountSprints,1)
Name D2TypePctBySprint: OFFSET(Calculation!$BX$6,0,0,Calculation!$BQ$11,1)
Name KanbanContentAll: OFFSET(Calculation!$Y$5,0,0,Calculation!$AF$4,2)
Name KanbanContentR1: OFFSET(Calculation!$Y$5,0,0,Calculation!$AF$4,1)
Name KanbanIndexList: OFFSET(Calculation!$AC$5,0,0,Calculation!$AF$4,1)
Name KanbanPriorityColor: OFFSET(Calculation!$I$5,0,0,Calculation!$AF$4,1)
Name KanbanPriorityFilter: Kanban!$M$6
Name KanbanResponsibleFilter: Kanban!$G$6
Name KanbanRow1: Settings!$I$18
Name KanbanRow2: Settings!$I$19
Name KanbanSprintFilter: Kanban!$D$6
Name SPcompletedByDay: OFFSET(Calculation!$BL$4,0,0,Calculation!$BN$5+1,1)
Name sprintDay: OFFSET(Calculation!$BH$5,0,Calculation!$AP$11,Calculation!$BN$5,1)
Name SprintDay1: OFFSET(Calculation!$BH$4,0,Calculation!$AP$11,Calculation!$BN$5+1,1)
Name sprintStartDate: Calculation!$BH$4
Name startrow: Kanban!$D$8
Name status00: IF(Calculation!$BQ$11=0,"",OFFSET(Calculation!$CH$6,0,0,Calculation!$BQ$11,1))
Name status01: IF(Calculation!$BQ$11=0,"",OFFSET(Calculation!$CI$6,0,0,Calculation!$BQ$11,1))
Name status02: IF(Calculation!$BQ$11=0,"",OFFSET(Calculation!$CJ$6,0,0,Calculation!$BQ$11,1))
Name status03: IF(Calculation!$BQ$11=0,"",OFFSET(Calculation!$CK$6,0,0,Calculation!$BQ$11,1))
Name status04: IF(Calculation!$BQ$11=0,"",OFFSET(Calculation!$CL$6,0,0,Calculation!$BQ$11,1))
Name status05: IF(Calculation!$BQ$11=0,"",OFFSET(Calculation!$CM$6,0,0,Calculation!$BQ$11,1))
Name status06: IF(Calculation!$BQ$11=0,"",OFFSET(Calculation!$CN$6,0,0,Calculation!$BQ$11,1))
Name status07: IF(Calculation!$BQ$11=0,"",OFFSET(Calculation!$CO$6,0,0,Calculation!$BQ$11,1))
Name status08: IF(Calculation!$BQ$11=0,"",OFFSET(Calculation!$CP$6,0,0,Calculation!$BQ$11,1))
Name status09: IF(Calculation!$BQ$11=0,"",OFFSET(Calculation!$CQ$6,0,0,Calculation!$BQ$11,1))
Name status10: IF(Calculation!$BQ$11=0,"",OFFSET(Calculation!$CR$6,0,0,Calculation!$BQ$11,1))
Name tasksCount: OFFSET(Calculation!$BK$5,0,0,Calculation!$BN$5,1)
Name ttFilter: Kanban!$J$6
Name valuesTM: Calculation!$DD$6:$DD$185

Sheet Navigation
C2: SPRINT PLANNING DASHBOARD
C3: NAVIGATION MENU
C7: INPUTS | I7: OUTPUTS

Sheet Settings
B2: SPRINT PLANNING DASHBOARD
B3: SETTINGS
B5: Name | C5: Position | D5: Email | E5: Daily Scrum | F5: Sprint Plan | G5: Retrospective | I5: Status | L5: Ticket type
B6: John | C6: Scrum Master | D6: john@gmail.com | E6: ✓ | F6: ✓ | I6: In Progress | L6: Bug
B7: Carolyne | C7: Product owner | D7: carolyne@msn.com | E7: ✓ | I7: Open | L7: Feature
B8: Kyle | C8: Developer | D8: kyle@gmail.com | E8: ✓ | F8: ✓ | I8: Testing | L8: User Story
B9: Kate | C9: Designer | D9: kate@hotmail.com | G9: ✓ | I9: Deployment | L9: Task
B10: Mike | C10: QA | D10: mike@gmail.com | E10: ✓ | F10: ✓ | I10: Completed
I17: KANBAN CONTENT | L17: Priority
I18: #ID - Name
I19: TITLE | L19: Low
L20: Medium
L22: High
L23: Not set

Sheet SprintPlan
D2: SPRINT PLANNING DASHBOARD
D3: SPRINT PLANNING FORM
D7: TITLE | E7: Sprint 1 (Planning)
D9: DATE | E9: 44594 | H9: =HYPERLINK(I9,"MEETING LINK") -> MEETING LINK | I9: https://meet.google.com/aaa-bbbb-ccc
D11: TIME & TIMEZONE | E11: 09:30 CET | H11: MEETING ROOM | I11: Newton - B3
D13: DURATION | E13: 7h | H13: MEETING ADDRESS | I13: Building C3PO
D15: CHOOSE TEAM | E15: All
D17: Name | E17: Position | H17: Name | I17: Position
C18: ✓ | D18: =IFERROR(INDEX(Calculation!$DK$5:$DK$54,MATCH(2*(ROW(D18)-ROW($D$17))-1,Calculation!$DQ$5:$DQ$54,0),1),"") -> John | E18: =IFERROR(INDEX(Calculation!$DL$5:$DL$54,MATCH(2*(ROW(D18)-ROW($D$17))-1,Calculation!$DQ$5:$DQ$54,0),1),"") -> Scrum Master | H18: =IFERROR(INDEX(Calculation!$DK$5:$DK$54,MATCH(2*(ROW(H18)-ROW($H$17)),Calculation!$DQ$5:$DQ$54,0),1),"") -> Carolyne | I18: =IFERROR(INDEX(Calculation!$DL$5:$DL$54,MATCH(2*(ROW(H18)-ROW($H$17)),Calculation!$DQ$5:$DQ$54,0),1),"") -> Product owner
D19: =IFERROR(INDEX(Calculation!$DK$5:$DK$54,MATCH(2*(ROW(D19)-ROW($D$17))-1,Calculation!$DQ$5:$DQ$54,0),1),"") -> Kyle | E19: =IFERROR(INDEX(Calculation!$DL$5:$DL$54,MATCH(2*(ROW(D19)-ROW($D$17))-1,Calculation!$DQ$5:$DQ$54,0),1),"") -> Developer | H19: =IFERROR(INDEX(Calculation!$DK$5:$DK$54,MATCH(2*(ROW(H19)-ROW($H$17)),Calculation!$DQ$5:$DQ$54,0),1),"") -> Kate | I19: =IFERROR(INDEX(Calculation!$DL$5:$DL$54,MATCH(2*(ROW(H19)-ROW($H$17)),Calculation!$DQ$5:$DQ$54,0),1),"") -> Designer
D20: =IFERROR(INDEX(Calculation!$DK$5:$DK$54,MATCH(2*(ROW(D20)-ROW($D$17))-1,Calculation!$DQ$5:$DQ$54,0),1),"") -> Mike | E20: =IFERROR(INDEX(Calculation!$DL$5:$DL$54,MATCH(2*(ROW(D20)-ROW($D$17))-1,Calculation!$DQ$5:$DQ$54,0),1),"") -> QA | H20: =IFERROR(INDEX(Calculation!$DK$5:$DK$54,MATCH(2*(ROW(H20)-ROW($H$17)),Calculation!$DQ$5:$DQ$54,0),1),"") | I20: =IFERROR(INDEX(Calculation!$DL$5:$DL$54,MATCH(2*(ROW(H20)-ROW($H$17)),Calculation!$DQ$5:$DQ$54,0),1),"")
D21: =IFERROR(INDEX(Calculation!$DK$5:$DK$54,MATCH(2*(ROW(D21)-ROW($D$17))-1,Calculation!$DQ$5:$DQ$54,0),1),"") | E21: =IFERROR(INDEX(Calculation!$DL$5:$DL$54,MATCH(2*(ROW(D21)-ROW($D$17))-1,Calculation!$DQ$5:$DQ$54,0),1),"") | H21: =IFERROR(INDEX(Calculation!$DK$5:$DK$54,MATCH(2*(ROW(H21)-ROW($H$17)),Calculation!$DQ$5:$DQ$54,0),1),"") | I21: =IFERROR(INDEX(Calculation!$DL$5:$DL$54,MATCH(2*(ROW(H21)-ROW($H$17)),Calculation!$DQ$5:$DQ$54,0),1),"")
D22: =IFERROR(INDEX(Calculation!$DK$5:$DK$54,MATCH(2*(ROW(D22)-ROW($D$17))-1,Calculation!$DQ$5:$DQ$54,0),1),"") | E22: =IFERROR(INDEX(Calculation!$DL$5:$DL$54,MATCH(2*(ROW(D22)-ROW($D$17))-1,Calculation!$DQ$5:$DQ$54,0),1),"") | H22: =IFERROR(INDEX(Calculation!$DK$5:$DK$54,MATCH(2*(ROW(H22)-ROW($H$17)),Calculation!$DQ$5:$DQ$54,0),1),"") | I22: =IFERROR(INDEX(Calculation!$DL$5:$DL$54,MATCH(2*(ROW(H22)-ROW($H$17)),Calculation!$DQ$5:$DQ$54,0),1),"")
D23: =IFERROR(INDEX(Calculation!$DK$5:$DK$54,MATCH(2*(ROW(D23)-ROW($D$17))-1,Calculation!$DQ$5:$DQ$54,0),1),"") | E23: =IFERROR(INDEX(Calculation!$DL$5:$DL$54,MATCH(2*(ROW(D23)-ROW($D$17))-1,Calculation!$DQ$5:$DQ$54,0),1),"") | H23: =IFERROR(INDEX(Calculation!$DK$5:$DK$54,MATCH(2*(ROW(H23)-ROW($H$17)),Calculation!$DQ$5:$DQ$54,0),1),"") | I23: =IFERROR(INDEX(Calculation!$DL$5:$DL$54,MATCH(2*(ROW(H23)-ROW($H$17)),Calculation!$DQ$5:$DQ$54,0),1),"")
D24: =IFERROR(INDEX(Calculation!$DK$5:$DK$54,MATCH(2*(ROW(D24)-ROW($D$17))-1,Calculation!$DQ$5:$DQ$54,0),1),"") | E24: =IFERROR(INDEX(Calculation!$DL$5:$DL$54,MATCH(2*(ROW(D24)-ROW($D$17))-1,Calculation!$DQ$5:$DQ$54,0),1),"") | H24: =IFERROR(INDEX(Calculation!$DK$5:$DK$54,MATCH(2*(ROW(H24)-ROW($H$17)),Calculation!$DQ$5:$DQ$54,0),1),"") | I24: =IFERROR(INDEX(Calculation!$DL$5:$DL$54,MATCH(2*(ROW(H24)-ROW($H$17)),Calculation!$DQ$5:$DQ$54,0),1),"")
D25: =IFERROR(INDEX(Calculation!$DK$5:$DK$54,MATCH(2*(ROW(D25)-ROW($D$17))-1,Calculation!$DQ$5:$DQ$54,0),1),"") | E25: =IFERROR(INDEX(Calculation!$DL$5:$DL$54,MATCH(2*(ROW(D25)-ROW($D$17))-1,Calculation!$DQ$5:$DQ$54,0),1),"") | H25: =IFERROR(INDEX(Calculation!$DK$5:$DK$54,MATCH(2*(ROW(H25)-ROW($H$17)),Calculation!$DQ$5:$DQ$54,0),1),"") | I25: =IFERROR(INDEX(Calculation!$DL$5:$DL$54,MATCH(2*(ROW(H25)-ROW($H$17)),Calculation!$DQ$5:$DQ$54,0),1),"")
D26: =IFERROR(INDEX(Calculation!$DK$5:$DK$54,MATCH(2*(ROW(D26)-ROW($D$17))-1,Calculation!$DQ$5:$DQ$54,0),1),"") | E26: =IFERROR(INDEX(Calculation!$DL$5:$DL$54,MATCH(2*(ROW(D26)-ROW($D$17))-1,Calculation!$DQ$5:$DQ$54,0),1),"") | H26: =IFERROR(INDEX(Calculation!$DK$5:$DK$54,MATCH(2*(ROW(H26)-ROW($H$17)),Calculation!$DQ$5:$DQ$54,0),1),"") | I26: =IFERROR(INDEX(Calculation!$DL$5:$DL$54,MATCH(2*(ROW(H26)-ROW($H$17)),Calculation!$DQ$5:$DQ$54,0),1),"")
D27: =IFERROR(INDEX(Calculation!$DK$5:$DK$54,MATCH(2*(ROW(D27)-ROW($D$17))-1,Calculation!$DQ$5:$DQ$54,0),1),"") | E27: =IFERROR(INDEX(Calculation!$DL$5:$DL$54,MATCH(2*(ROW(D27)-ROW($D$17))-1,Calculation!$DQ$5:$DQ$54,0),1),"") | H27: =IFERROR(INDEX(Calculation!$DK$5:$DK$54,MATCH(2*(ROW(H27)-ROW($H$17)),Calculation!$DQ$5:$DQ$54,0),1),"") | I27: =IFERROR(INDEX(Calculation!$DL$5:$DL$54,MATCH(2*(ROW(H27)-ROW($H$17)),Calculation!$DQ$5:$DQ$54,0),1),"")
D28: =IFERROR(INDEX(Calculation!$DK$5:$DK$54,MATCH(2*(ROW(D28)-ROW($D$17))-1,Calculation!$DQ$5:$DQ$54,0),1),"") | E28: =IFERROR(INDEX(Calculation!$DL$5:$DL$54,MATCH(2*(ROW(D28)-ROW($D$17))-1,Calculation!$DQ$5:$DQ$54,0),1),"") | H28: =IFERROR(INDEX(Calculation!$DK$5:$DK$54,MATCH(2*(ROW(H28)-ROW($H$17)),Calculation!$DQ$5:$DQ$54,0),1),"") | I28: =IFERROR(INDEX(Calculation!$DL$5:$DL$54,MATCH(2*(ROW(H28)-ROW($H$17)),Calculation!$DQ$5:$DQ$54,0),1),"")
D29: =IFERROR(INDEX(Calculation!$DK$5:$DK$54,MATCH(2*(ROW(D29)-ROW($D$17))-1,Calculation!$DQ$5:$DQ$54,0),1),"") | E29: =IFERROR(INDEX(Calculation!$DL$5:$DL$54,MATCH(2*(ROW(D29)-ROW($D$17))-1,Calculation!$DQ$5:$DQ$54,0),1),"") | H29: =IFERROR(INDEX(Calculation!$DK$5:$DK$54,MATCH(2*(ROW(H29)-ROW($H$17)),Calculation!$DQ$5:$DQ$54,0),1),"") | I29: =IFERROR(INDEX(Calculation!$DL$5:$DL$54,MATCH(2*(ROW(H29)-ROW($H$17)),Calculation!$DQ$5:$DQ$54,0),1),"")
D30: =IFERROR(INDEX(Calculation!$DK$5:$DK$54,MATCH(2*(ROW(D30)-ROW($D$17))-1,Calculation!$DQ$5:$DQ$54,0),1),"") | E30: =IFERROR(INDEX(Calculation!$DL$5:$DL$54,MATCH(2*(ROW(D30)-ROW($D$17))-1,Calculation!$DQ$5:$DQ$54,0),1),"") | H30: =IFERROR(INDEX(Calculation!$DK$5:$DK$54,MATCH(2*(ROW(H30)-ROW($H$17)),Calculation!$DQ$5:$DQ$54,0),1),"") | I30: =IFERROR(INDEX(Calculation!$DL$5:$DL$54,MATCH(2*(ROW(H30)-ROW($H$17)),Calculation!$DQ$5:$DQ$54,0),1),"")
... D42: =IFERROR(INDEX(Calculation!$DK$5:$DK$54,MATCH(2*(ROW(D42)-ROW($D$17))-1,Calculation!$DQ$5:$DQ$54,0),1),"") | E42: =IFERROR(INDEX(Calculation!$DL$5:$DL$54,MATCH(2*(ROW(D42)-ROW($D$17))-1,Calculation!$DQ$5:$DQ$54,0),1),"") | H42: =IFERROR(INDEX(Calculation!$DK$5:$DK$54,MATCH(2*(ROW(H42)-ROW($H$17)),Calculation!$DQ$5:$DQ$54,0),1),"") | I42: =IFERROR(INDEX(Calculation!$DL$5:$DL$54,MATCH(2*(ROW(H42)-ROW($H$17)),Calculation!$DQ$5:$DQ$54,0),1),"")
D44: Agenda
C45: 1. | D45: Make sure backlog task statuses are up to date | I45: =HYPERLINK("#Backlog!A6","➤ Go to") -> ➤ Go to
C46: ✓
C50: 2. | D50: Check previous Sprint results dashboard | I50: =HYPERLINK("#SprintDashboard!A7","➤ Go to") -> ➤ Go to
C51: ✓
C55: 3. | D55: Check previous sprint retrospective | I55: =HYPERLINK("#Retrospective!A8","➤ Go to") -> ➤ Go to
C56: ✓
C60: 4. | D60: Define main goals | E60: Sprint No
C61: ✓
C65: 5. | D65: Create / update backlog list
C70: 6. | D70: Estimate story points per sprint task | I70: =HYPERLINK("#SprintsComparison!A7","➤ Go to") -> ➤ Go to
D71: a) Risks
D72: b) Complexity
D73: c) Repetition
C75: 5b | D75: Define priorities/importance
C80: 6a | D80: Make sure skills and capabilities of the team are align with the task requirements
C85: 6b | D85: Is it possible to add more steps into the current sprint scope?
D90: Notes …

Sheet Retrospective
C2: SPRINT PLANNING DASHBOARD
C3: RETROSPECTIVE
B5: Task ID | C5: Title | D5: Comment | E5: Category | H5: OK | L5: NOK | P5: New Goals | T5: Stop
H6: What went well | L6: What to improve/fix | P6: Changes, new direction | T6: Removed goals
B7: Task ID | C7: Title | D7: Comment | E7: Category | G7: 1 | H7: 2 | I7: 4 | J7: 5 | K7: 6 | L7: 7 | M7: 9 | N7: 10 | O7: 11 | P7: 12 | Q7: 14 | R7: 15 | S7: 16 | T7: 17 | U7: 19
B8: 1 | C8: =IFERROR(""&INDEX(Backlog!$E$6:$E$1005,MATCH($B8,Backlog!$B$6:$B$1005,0),1),"") -> Feature 1.1 | D8: bug | E8: NOK | H8: =IFERROR(INDEX(Calculation!$AK$5:$AK$204,MATCH("1."&ROW(H8)-ROW($H$7),Calculation!$AM$5:$AM$204,0),1),"") -> Bug 1.1 - important step closed | L8: =IFERROR(INDEX(Calculation!$AK$5:$AK$204,MATCH("2."&ROW(L8)-ROW($H$7),Calculation!$AM$5:$AM$204,0),1),"") -> Feature 1.1 - bug | P8: =IFERROR(INDEX(Calculation!$AK$5:$AK$204,MATCH("3."&ROW(P8)-ROW($H$7),Calculation!$AM$5:$AM$204,0),1),"") -> Task 1.2 - | T8: =IFERROR(INDEX(Calculation!$AK$5:$AK$204,MATCH("4."&ROW(T8)-ROW($H$7),Calculation!$AM$5:$AM$204,0),1),"") -> Bug 1.1 -
B9: 3 | C9: =IFERROR(""&INDEX(Backlog!$E$6:$E$1005,MATCH($B9,Backlog!$B$6:$B$1005,0),1),"") -> Task 1.2 | E9: New Goals | H9: =IFERROR(INDEX(Calculation!$AK$5:$AK$204,MATCH("1."&ROW(H9)-ROW($H$7),Calculation!$AM$5:$AM$204,0),1),"") -> User Story 1.2 - | L9: =IFERROR(INDEX(Calculation!$AK$5:$AK$204,MATCH("2."&ROW(L9)-ROW($H$7),Calculation!$AM$5:$AM$204,0),1),"") | P9: =IFERROR(INDEX(Calculation!$AK$5:$AK$204,MATCH("3."&ROW(P9)-ROW($H$7),Calculation!$AM$5:$AM$204,0),1),"") -> - New | T9: =IFERROR(INDEX(Calculation!$AK$5:$AK$204,MATCH("4."&ROW(T9)-ROW($H$7),Calculation!$AM$5:$AM$204,0),1),"") -> User Story 1.3 -
B10: 6 | C10: =IFERROR(""&INDEX(Backlog!$E$6:$E$1005,MATCH($B10,Backlog!$B$6:$B$1005,0),1),"") -> Bug 1.1 | E10: Stop | H10: =IFERROR(INDEX(Calculation!$AK$5:$AK$204,MATCH("1."&ROW(H10)-ROW($H$7),Calculation!$AM$5:$AM$204,0),1),"") -> Task 1.3 - | L10: =IFERROR(INDEX(Calculation!$AK$5:$AK$204,MATCH("2."&ROW(L10)-ROW($H$7),Calculation!$AM$5:$AM$204,0),1),"") | P10: =IFERROR(INDEX(Calculation!$AK$5:$AK$204,MATCH("3."&ROW(P10)-ROW($H$7),Calculation!$AM$5:$AM$204,0),1),"") | T10: =IFERROR(INDEX(Calculation!$AK$5:$AK$204,MATCH("4."&ROW(T10)-ROW($H$7),Calculation!$AM$5:$AM$204,0),1),"")
B11: 6 | C11: =IFERROR(""&INDEX(Backlog!$E$6:$E$1005,MATCH($B11,Backlog!$B$6:$B$1005,0),1),"") -> Bug 1.1 | D11: important step closed | E11: OK | H11: =IFERROR(INDEX(Calculation!$AK$5:$AK$204,MATCH("1."&ROW(H11)-ROW($H$7),Calculation!$AM$5:$AM$204,0),1),"") | L11: =IFERROR(INDEX(Calculation!$AK$5:$AK$204,MATCH("2."&ROW(L11)-ROW($H$7),Calculation!$AM$5:$AM$204,0),1),"") | P11: =IFERROR(INDEX(Calculation!$AK$5:$AK$204,MATCH("3."&ROW(P11)-ROW($H$7),Calculation!$AM$5:$AM$204,0),1),"") | T11: =IFERROR(INDEX(Calculation!$AK$5:$AK$204,MATCH("4."&ROW(T11)-ROW($H$7),Calculation!$AM$5:$AM$204,0),1),"")
B12: 7 | C12: =IFERROR(""&INDEX(Backlog!$E$6:$E$1005,MATCH($B12,Backlog!$B$6:$B$1005,0),1),"") -> User Story 1.2 | E12: OK | H12: =IFERROR(INDEX(Calculation!$AK$5:$AK$204,MATCH("1."&ROW(H12)-ROW($H$7),Calculation!$AM$5:$AM$204,0),1),"") | L12: =IFERROR(INDEX(Calculation!$AK$5:$AK$204,MATCH("2."&ROW(L12)-ROW($H$7),Calculation!$AM$5:$AM$204,0),1),"") | P12: =IFERROR(INDEX(Calculation!$AK$5:$AK$204,MATCH("3."&ROW(P12)-ROW($H$7),Calculation!$AM$5:$AM$204,0),1),"") | T12: =IFERROR(INDEX(Calculation!$AK$5:$AK$204,MATCH("4."&ROW(T12)-ROW($H$7),Calculation!$AM$5:$AM$204,0),1),"")
B13: 8 | C13: =IFERROR(""&INDEX(Backlog!$E$6:$E$1005,MATCH($B13,Backlog!$B$6:$B$1005,0),1),"") -> Task 1.3 | E13: OK | H13: =IFERROR(INDEX(Calculation!$AK$5:$AK$204,MATCH("1."&ROW(H13)-ROW($H$7),Calculation!$AM$5:$AM$204,0),1),"") | L13: =IFERROR(INDEX(Calculation!$AK$5:$AK$204,MATCH("2."&ROW(L13)-ROW($H$7),Calculation!$AM$5:$AM$204,0),1),"") | P13: =IFERROR(INDEX(Calculation!$AK$5:$AK$204,MATCH("3."&ROW(P13)-ROW($H$7),Calculation!$AM$5:$AM$204,0),1),"") | T13: =IFERROR(INDEX(Calculation!$AK$5:$AK$204,MATCH("4."&ROW(T13)-ROW($H$7),Calculation!$AM$5:$AM$204,0),1),"")
B14: 9 | C14: =IFERROR(""&INDEX(Backlog!$E$6:$E$1005,MATCH($B14,Backlog!$B$6:$B$1005,0),1),"") -> User Story 1.3 | E14: Stop | H14: =IFERROR(INDEX(Calculation!$AK$5:$AK$204,MATCH("1."&ROW(H14)-ROW($H$7),Calculation!$AM$5:$AM$204,0),1),"") | L14: =IFERROR(INDEX(Calculation!$AK$5:$AK$204,MATCH("2."&ROW(L14)-ROW($H$7),Calculation!$AM$5:$AM$204,0),1),"") | P14: =IFERROR(INDEX(Calculation!$AK$5:$AK$204,MATCH("3."&ROW(P14)-ROW($H$7),Calculation!$AM$5:$AM$204,0),1),"") | T14: =IFERROR(INDEX(Calculation!$AK$5:$AK$204,MATCH("4."&ROW(T14)-ROW($H$7),Calculation!$AM$5:$AM$204,0),1),"")
C15: =IFERROR(""&INDEX(Backlog!$E$6:$E$1005,MATCH($B15,Backlog!$B$6:$B$1005,0),1),"") | D15: New | E15: New Goals | H15: =IFERROR(INDEX(Calculation!$AK$5:$AK$204,MATCH("1."&ROW(H15)-ROW($H$7),Calculation!$AM$5:$AM$204,0),1),"") | L15: =IFERROR(INDEX(Calculation!$AK$5:$AK$204,MATCH("2."&ROW(L15)-ROW($H$7),Calculation!$AM$5:$AM$204,0),1),"") | P15: =IFERROR(INDEX(Calculation!$AK$5:$AK$204,MATCH("3."&ROW(P15)-ROW($H$7),Calculation!$AM$5:$AM$204,0),1),"") | T15: =IFERROR(INDEX(Calculation!$AK$5:$AK$204,MATCH("4."&ROW(T15)-ROW($H$7),Calculation!$AM$5:$AM$204,0),1),"")
C16: =IFERROR(""&INDEX(Backlog!$E$6:$E$1005,MATCH($B16,Backlog!$B$6:$B$1005,0),1),"") | H16: =IFERROR(INDEX(Calculation!$AK$5:$AK$204,MATCH("1."&ROW(H16)-ROW($H$7),Calculation!$AM$5:$AM$204,0),1),"") | L16: =IFERROR(INDEX(Calculation!$AK$5:$AK$204,MATCH("2."&ROW(L16)-ROW($H$7),Calculation!$AM$5:$AM$204,0),1),"") | P16: =IFERROR(INDEX(Calculation!$AK$5:$AK$204,MATCH("3."&ROW(P16)-ROW($H$7),Calculation!$AM$5:$AM$204,0),1),"") | T16: =IFERROR(INDEX(Calculation!$AK$5:$AK$204,MATCH("4."&ROW(T16)-ROW($H$7),Calculation!$AM$5:$AM$204,0),1),"")
C17: =IFERROR(""&INDEX(Backlog!$E$6:$E$1005,MATCH($B17,Backlog!$B$6:$B$1005,0),1),"") | H17: =IFERROR(INDEX(Calculation!$AK$5:$AK$204,MATCH("1."&ROW(H17)-ROW($H$7),Calculation!$AM$5:$AM$204,0),1),"") | L17: =IFERROR(INDEX(Calculation!$AK$5:$AK$204,MATCH("2."&ROW(L17)-ROW($H$7),Calculation!$AM$5:$AM$204,0),1),"") | P17: =IFERROR(INDEX(Calculation!$AK$5:$AK$204,MATCH("3."&ROW(P17)-ROW($H$7),Calculation!$AM$5:$AM$204,0),1),"") | T17: =IFERROR(INDEX(Calculation!$AK$5:$AK$204,MATCH("4."&ROW(T17)-ROW($H$7),Calculation!$AM$5:$AM$204,0),1),"")
C18: =IFERROR(""&INDEX(Backlog!$E$6:$E$1005,MATCH($B18,Backlog!$B$6:$B$1005,0),1),"") | H18: =IFERROR(INDEX(Calculation!$AK$5:$AK$204,MATCH("1."&ROW(H18)-ROW($H$7),Calculation!$AM$5:$AM$204,0),1),"") | L18: =IFERROR(INDEX(Calculation!$AK$5:$AK$204,MATCH("2."&ROW(L18)-ROW($H$7),Calculation!$AM$5:$AM$204,0),1),"") | P18: =IFERROR(INDEX(Calculation!$AK$5:$AK$204,MATCH("3."&ROW(P18)-ROW($H$7),Calculation!$AM$5:$AM$204,0),1),"") | T18: =IFERROR(INDEX(Calculation!$AK$5:$AK$204,MATCH("4."&ROW(T18)-ROW($H$7),Calculation!$AM$5:$AM$204,0),1),"")
C19: =IFERROR(""&INDEX(Backlog!$E$6:$E$1005,MATCH($B19,Backlog!$B$6:$B$1005,0),1),"") | H19: =IFERROR(INDEX(Calculation!$AK$5:$AK$204,MATCH("1."&ROW(H19)-ROW($H$7),Calculation!$AM$5:$AM$204,0),1),"") | L19: =IFERROR(INDEX(Calculation!$AK$5:$AK$204,MATCH("2."&ROW(L19)-ROW($H$7),Calculation!$AM$5:$AM$204,0),1),"") | P19: =IFERROR(INDEX(Calculation!$AK$5:$AK$204,MATCH("3."&ROW(P19)-ROW($H$7),Calculation!$AM$5:$AM$204,0),1),"") | T19: =IFERROR(INDEX(Calculation!$AK$5:$AK$204,MATCH("4."&ROW(T19)-ROW($H$7),Calculation!$AM$5:$AM$204,0),1),"")
C20: =IFERROR(""&INDEX(Backlog!$E$6:$E$1005,MATCH($B20,Backlog!$B$6:$B$1005,0),1),"") | H20: =IFERROR(INDEX(Calculation!$AK$5:$AK$204,MATCH("1."&ROW(H20)-ROW($H$7),Calculation!$AM$5:$AM$204,0),1),"") | L20: =IFERROR(INDEX(Calculation!$AK$5:$AK$204,MATCH("2."&ROW(L20)-ROW($H$7),Calculation!$AM$5:$AM$204,0),1),"") | P20: =IFERROR(INDEX(Calculation!$AK$5:$AK$204,MATCH("3."&ROW(P20)-ROW($H$7),Calculation!$AM$5:$AM$204,0),1),"") | T20: =IFERROR(INDEX(Calculation!$AK$5:$AK$204,MATCH("4."&ROW(T20)-ROW($H$7),Calculation!$AM$5:$AM$204,0),1),"")
C21: =IFERROR(""&INDEX(Backlog!$E$6:$E$1005,MATCH($B21,Backlog!$B$6:$B$1005,0),1),"") | H21: =IFERROR(INDEX(Calculation!$AK$5:$AK$204,MATCH("1."&ROW(H21)-ROW($H$7),Calculation!$AM$5:$AM$204,0),1),"") | L21: =IFERROR(INDEX(Calculation!$AK$5:$AK$204,MATCH("2."&ROW(L21)-ROW($H$7),Calculation!$AM$5:$AM$204,0),1),"") | P21: =IFERROR(INDEX(Calculation!$AK$5:$AK$204,MATCH("3."&ROW(P21)-ROW($H$7),Calculation!$AM$5:$AM$204,0),1),"") | T21: =IFERROR(INDEX(Calculation!$AK$5:$AK$204,MATCH("4."&ROW(T21)-ROW($H$7),Calculation!$AM$5:$AM$204,0),1),"")
C22: =IFERROR(""&INDEX(Backlog!$E$6:$E$1005,MATCH($B22,Backlog!$B$6:$B$1005,0),1),"") | H22: =IFERROR(INDEX(Calculation!$AK$5:$AK$204,MATCH("1."&ROW(H22)-ROW($H$7),Calculation!$AM$5:$AM$204,0),1),"") | L22: =IFERROR(INDEX(Calculation!$AK$5:$AK$204,MATCH("2."&ROW(L22)-ROW($H$7),Calculation!$AM$5:$AM$204,0),1),"") | P22: =IFERROR(INDEX(Calculation!$AK$5:$AK$204,MATCH("3."&ROW(P22)-ROW($H$7),Calculation!$AM$5:$AM$204,0),1),"") | T22: =IFERROR(INDEX(Calculation!$AK$5:$AK$204,MATCH("4."&ROW(T22)-ROW($H$7),Calculation!$AM$5:$AM$204,0),1),"")
C23: =IFERROR(""&INDEX(Backlog!$E$6:$E$1005,MATCH($B23,Backlog!$B$6:$B$1005,0),1),"") | H23: =IFERROR(INDEX(Calculation!$AK$5:$AK$204,MATCH("1."&ROW(H23)-ROW($H$7),Calculation!$AM$5:$AM$204,0),1),"") | L23: =IFERROR(INDEX(Calculation!$AK$5:$AK$204,MATCH("2."&ROW(L23)-ROW($H$7),Calculation!$AM$5:$AM$204,0),1),"") | P23: =IFERROR(INDEX(Calculation!$AK$5:$AK$204,MATCH("3."&ROW(P23)-ROW($H$7),Calculation!$AM$5:$AM$204,0),1),"") | T23: =IFERROR(INDEX(Calculation!$AK$5:$AK$204,MATCH("4."&ROW(T23)-ROW($H$7),Calculation!$AM$5:$AM$204,0),1),"")
C24: =IFERROR(""&INDEX(Backlog!$E$6:$E$1005,MATCH($B24,Backlog!$B$6:$B$1005,0),1),"") | H24: =IFERROR(INDEX(Calculation!$AK$5:$AK$204,MATCH("1."&ROW(H24)-ROW($H$7),Calculation!$AM$5:$AM$204,0),1),"") | L24: =IFERROR(INDEX(Calculation!$AK$5:$AK$204,MATCH("2."&ROW(L24)-ROW($H$7),Calculation!$AM$5:$AM$204,0),1),"") | P24: =IFERROR(INDEX(Calculation!$AK$5:$AK$204,MATCH("3."&ROW(P24)-ROW($H$7),Calculation!$AM$5:$AM$204,0),1),"") | T24: =IFERROR(INDEX(Calculation!$AK$5:$AK$204,MATCH("4."&ROW(T24)-ROW($H$7),Calculation!$AM$5:$AM$204,0),1),"")
C25: =IFERROR(""&INDEX(Backlog!$E$6:$E$1005,MATCH($B25,Backlog!$B$6:$B$1005,0),1),"") | H25: =IFERROR(INDEX(Calculation!$AK$5:$AK$204,MATCH("1."&ROW(H25)-ROW($H$7),Calculation!$AM$5:$AM$204,0),1),"") | L25: =IFERROR(INDEX(Calculation!$AK$5:$AK$204,MATCH("2."&ROW(L25)-ROW($H$7),Calculation!$AM$5:$AM$204,0),1),"") | P25: =IFERROR(INDEX(Calculation!$AK$5:$AK$204,MATCH("3."&ROW(P25)-ROW($H$7),Calculation!$AM$5:$AM$204,0),1),"") | T25: =IFERROR(INDEX(Calculation!$AK$5:$AK$204,MATCH("4."&ROW(T25)-ROW($H$7),Calculation!$AM$5:$AM$204,0),1),"")
C26: =IFERROR(""&INDEX(Backlog!$E$6:$E$1005,MATCH($B26,Backlog!$B$6:$B$1005,0),1),"") | H26: =IFERROR(INDEX(Calculation!$AK$5:$AK$204,MATCH("1."&ROW(H26)-ROW($H$7),Calculation!$AM$5:$AM$204,0),1),"") | L26: =IFERROR(INDEX(Calculation!$AK$5:$AK$204,MATCH("2."&ROW(L26)-ROW($H$7),Calculation!$AM$5:$AM$204,0),1),"") | P26: =IFERROR(INDEX(Calculation!$AK$5:$AK$204,MATCH("3."&ROW(P26)-ROW($H$7),Calculation!$AM$5:$AM$204,0),1),"") | T26: =IFERROR(INDEX(Calculation!$AK$5:$AK$204,MATCH("4."&ROW(T26)-ROW($H$7),Calculation!$AM$5:$AM$204,0),1),"")
H27: =IFERROR(INDEX(Calculation!$AK$5:$AK$204,MATCH("1."&ROW(H27)-ROW($H$7),Calculation!$AM$5:$AM$204,0),1),"") | L27: =IFERROR(INDEX(Calculation!$AK$5:$AK$204,MATCH("2."&ROW(L27)-ROW($H$7),Calculation!$AM$5:$AM$204,0),1),"") | P27: =IFERROR(INDEX(Calculation!$AK$5:$AK$204,MATCH("3."&ROW(P27)-ROW($H$7),Calculation!$AM$5:$AM$204,0),1),"") | T27: =IFERROR(INDEX(Calculation!$AK$5:$AK$204,MATCH("4."&ROW(T27)-ROW($H$7),Calculation!$AM$5:$AM$204,0),1),"")
H28: =IFERROR(INDEX(Calculation!$AK$5:$AK$204,MATCH("1."&ROW(H28)-ROW($H$7),Calculation!$AM$5:$AM$204,0),1),"") | L28: =IFERROR(INDEX(Calculation!$AK$5:$AK$204,MATCH("2."&ROW(L28)-ROW($H$7),Calculation!$AM$5:$AM$204,0),1),"") | P28: =IFERROR(INDEX(Calculation!$AK$5:$AK$204,MATCH("3."&ROW(P28)-ROW($H$7),Calculation!$AM$5:$AM$204,0),1),"") | T28: =IFERROR(INDEX(Calculation!$AK$5:$AK$204,MATCH("4."&ROW(T28)-ROW($H$7),Calculation!$AM$5:$AM$204,0),1),"")
H29: =IFERROR(INDEX(Calculation!$AK$5:$AK$204,MATCH("1."&ROW(H29)-ROW($H$7),Calculation!$AM$5:$AM$204,0),1),"") | L29: =IFERROR(INDEX(Calculation!$AK$5:$AK$204,MATCH("2."&ROW(L29)-ROW($H$7),Calculation!$AM$5:$AM$204,0),1),"") | P29: =IFERROR(INDEX(Calculation!$AK$5:$AK$204,MATCH("3."&ROW(P29)-ROW($H$7),Calculation!$AM$5:$AM$204,0),1),"") | T29: =IFERROR(INDEX(Calculation!$AK$5:$AK$204,MATCH("4."&ROW(T29)-ROW($H$7),Calculation!$AM$5:$AM$204,0),1),"")
H30: =IFERROR(INDEX(Calculation!$AK$5:$AK$204,MATCH("1."&ROW(H30)-ROW($H$7),Calculation!$AM$5:$AM$204,0),1),"") | L30: =IFERROR(INDEX(Calculation!$AK$5:$AK$204,MATCH("2."&ROW(L30)-ROW($H$7),Calculation!$AM$5:$AM$204,0),1),"") | P30: =IFERROR(INDEX(Calculation!$AK$5:$AK$204,MATCH("3."&ROW(P30)-ROW($H$7),Calculation!$AM$5:$AM$204,0),1),"") | T30: =IFERROR(INDEX(Calculation!$AK$5:$AK$204,MATCH("4."&ROW(T30)-ROW($H$7),Calculation!$AM$5:$AM$204,0),1),"")
H31: =IFERROR(INDEX(Calculation!$AK$5:$AK$204,MATCH("1."&ROW(H31)-ROW($H$7),Calculation!$AM$5:$AM$204,0),1),"") | L31: =IFERROR(INDEX(Calculation!$AK$5:$AK$204,MATCH("2."&ROW(L31)-ROW($H$7),Calculation!$AM$5:$AM$204,0),1),"") | P31: =IFERROR(INDEX(Calculation!$AK$5:$AK$204,MATCH("3."&ROW(P31)-ROW($H$7),Calculation!$AM$5:$AM$204,0),1),"") | T31: =IFERROR(INDEX(Calculation!$AK$5:$AK$204,MATCH("4."&ROW(T31)-ROW($H$7),Calculation!$AM$5:$AM$204,0),1),"")
H32: =IFERROR(INDEX(Calculation!$AK$5:$AK$204,MATCH("1."&ROW(H32)-ROW($H$7),Calculation!$AM$5:$AM$204,0),1),"") | L32: =IFERROR(INDEX(Calculation!$AK$5:$AK$204,MATCH("2."&ROW(L32)-ROW($H$7),Calculation!$AM$5:$AM$204,0),1),"") | P32: =IFERROR(INDEX(Calculation!$AK$5:$AK$204,MATCH("3."&ROW(P32)-ROW($H$7),Calculation!$AM$5:$AM$204,0),1),"") | T32: =IFERROR(INDEX(Calculation!$AK$5:$AK$204,MATCH("4."&ROW(T32)-ROW($H$7),Calculation!$AM$5:$AM$204,0),1),"")
H33: =IFERROR(INDEX(Calculation!$AK$5:$AK$204,MATCH("1."&ROW(H33)-ROW($H$7),Calculation!$AM$5:$AM$204,0),1),"") | L33: =IFERROR(INDEX(Calculation!$AK$5:$AK$204,MATCH("2."&ROW(L33)-ROW($H$7),Calculation!$AM$5:$AM$204,0),1),"") | P33: =IFERROR(INDEX(Calculation!$AK$5:$AK$204,MATCH("3."&ROW(P33)-ROW($H$7),Calculation!$AM$5:$AM$204,0),1),"") | T33: =IFERROR(INDEX(Calculation!$AK$5:$AK$204,MATCH("4."&ROW(T33)-ROW($H$7),Calculation!$AM$5:$AM$204,0),1),"")
H34: =IFERROR(INDEX(Calculation!$AK$5:$AK$204,MATCH("1."&ROW(H34)-ROW($H$7),Calculation!$AM$5:$AM$204,0),1),"") | L34: =IFERROR(INDEX(Calculation!$AK$5:$AK$204,MATCH("2."&ROW(L34)-ROW($H$7),Calculation!$AM$5:$AM$204,0),1),"") | P34: =IFERROR(INDEX(Calculation!$AK$5:$AK$204,MATCH("3."&ROW(P34)-ROW($H$7),Calculation!$AM$5:$AM$204,0),1),"") | T34: =IFERROR(INDEX(Calculation!$AK$5:$AK$204,MATCH("4."&ROW(T34)-ROW($H$7),Calculation!$AM$5:$AM$204,0),1),"")
H35: =IFERROR(INDEX(Calculation!$AK$5:$AK$204,MATCH("1."&ROW(H35)-ROW($H$7),Calculation!$AM$5:$AM$204,0),1),"") | L35: =IFERROR(INDEX(Calculation!$AK$5:$AK$204,MATCH("2."&ROW(L35)-ROW($H$7),Calculation!$AM$5:$AM$204,0),1),"") | P35: =IFERROR(INDEX(Calculation!$AK$5:$AK$204,MATCH("3."&ROW(P35)-ROW($H$7),Calculation!$AM$5:$AM$204,0),1),"") | T35: =IFERROR(INDEX(Calculation!$AK$5:$AK$204,MATCH("4."&ROW(T35)-ROW($H$7),Calculation!$AM$5:$AM$204,0),1),"")
H36: =IFERROR(INDEX(Calculation!$AK$5:$AK$204,MATCH("1."&ROW(H36)-ROW($H$7),Calculation!$AM$5:$AM$204,0),1),"") | L36: =IFERROR(INDEX(Calculation!$AK$5:$AK$204,MATCH("2."&ROW(L36)-ROW($H$7),Calculation!$AM$5:$AM$204,0),1),"") | P36: =IFERROR(INDEX(Calculation!$AK$5:$AK$204,MATCH("3."&ROW(P36)-ROW($H$7),Calculation!$AM$5:$AM$204,0),1),"") | T36: =IFERROR(INDEX(Calculation!$AK$5:$AK$204,MATCH("4."&ROW(T36)-ROW($H$7),Calculation!$AM$5:$AM$204,0),1),"")
H37: =IFERROR(INDEX(Calculation!$AK$5:$AK$204,MATCH("1."&ROW(H37)-ROW($H$7),Calculation!$AM$5:$AM$204,0),1),"") | L37: =IFERROR(INDEX(Calculation!$AK$5:$AK$204,MATCH("2."&ROW(L37)-ROW($H$7),Calculation!$AM$5:$AM$204,0),1),"") | P37: =IFERROR(INDEX(Calculation!$AK$5:$AK$204,MATCH("3."&ROW(P37)-ROW($H$7),Calculation!$AM$5:$AM$204,0),1),"") | T37: =IFERROR(INDEX(Calculation!$AK$5:$AK$204,MATCH("4."&ROW(T37)-ROW($H$7),Calculation!$AM$5:$AM$204,0),1),"")
H38: =IFERROR(INDEX(Calculation!$AK$5:$AK$204,MATCH("1."&ROW(H38)-ROW($H$7),Calculation!$AM$5:$AM$204,0),1),"") | L38: =IFERROR(INDEX(Calculation!$AK$5:$AK$204,MATCH("2."&ROW(L38)-ROW($H$7),Calculation!$AM$5:$AM$204,0),1),"") | P38: =IFERROR(INDEX(Calculation!$AK$5:$AK$204,MATCH("3."&ROW(P38)-ROW($H$7),Calculation!$AM$5:$AM$204,0),1),"") | T38: =IFERROR(INDEX(Calculation!$AK$5:$AK$204,MATCH("4."&ROW(T38)-ROW($H$7),Calculation!$AM$5:$AM$204,0),1),"")
... H57: =IFERROR(INDEX(Calculation!$AK$5:$AK$204,MATCH("1."&ROW(H57)-ROW($H$7),Calculation!$AM$5:$AM$204,0),1),"") | L57: =IFERROR(INDEX(Calculation!$AK$5:$AK$204,MATCH("2."&ROW(L57)-ROW($H$7),Calculation!$AM$5:$AM$204,0),1),"") | P57: =IFERROR(INDEX(Calculation!$AK$5:$AK$204,MATCH("3."&ROW(P57)-ROW($H$7),Calculation!$AM$5:$AM$204,0),1),"") | T57: =IFERROR(INDEX(Calculation!$AK$5:$AK$204,MATCH("4."&ROW(T57)-ROW($H$7),Calculation!$AM$5:$AM$204,0),1),"")

Sheet Backlog
C2: SPRINT PLANNING DASHBOARD
C3: BACKLOG
B5: TICKET ID | C5: SPRINT NO | D5: TICKET TYPE | E5: TITLE | F5: RESPONSIBLE | G5: STORY POINTS | H5: PRIORITY | I5: PLANNED | J5: STATUS | K5: CREATION DATE | L5: COMPLETION DATE | M5: NOTES… | O5: ="INPUT CHECK" & IF((COUNTA(O6:O1005)-COUNTIF(O6:O1005,""))>0,CHAR(10)&"Check warnings below.","") -> INPUT CHECK
B6: =IF(AND(LEN(D6)>0,LEN(E6)>0),MAX($B$5:B5)+1,"") -> 1 | C6: 1 | D6: Feature | E6: Feature 1.1 | F6: John | G6: 10 | H6: Medium | I6: Yes | J6: Completed | K6: 44600 | L6: 44609 | O6: =IF(LEN(B6)=0,"",IF(LEN(K6)=0,"Creation date missing",IF(AND(J6="Completed",LEN(L6)=0),"Completion date missing",IF(AND(J6<>"Completed",LEN(L6)>0),"Ticket status incorrect",IF(AND(L6<K6,LEN(K6)>0,LEN(L6)>0),"Completed before created","")))))
B7: =IF(AND(LEN(D7)>0,LEN(E7)>0),MAX($B$5:B6)+1,"") -> 2 | C7: 1 | D7: Task | E7: Task 1.1 | F7: Kyle | G7: 8 | H7: Medium | I7: Yes | J7: Completed | K7: 44600 | L7: 44610 | O7: =IF(LEN(B7)=0,"",IF(LEN(K7)=0,"Creation date missing",IF(AND(J7="Completed",LEN(L7)=0),"Completion date missing",IF(AND(J7<>"Completed",LEN(L7)>0),"Ticket status incorrect",IF(AND(L7<K7,LEN(K7)>0,LEN(L7)>0),"Completed before created","")))))
B8: =IF(AND(LEN(D8)>0,LEN(E8)>0),MAX($B$5:B7)+1,"") -> 3 | C8: 1 | D8: Task | E8: Task 1.2 | F8: Carolyne | G8: 15 | H8: High | I8: Yes | J8: Completed | K8: 44600 | L8: 44613 | O8: =IF(LEN(B8)=0,"",IF(LEN(K8)=0,"Creation date missing",IF(AND(J8="Completed",LEN(L8)=0),"Completion date missing",IF(AND(J8<>"Completed",LEN(L8)>0),"Ticket status incorrect",IF(AND(L8<K8,LEN(K8)>0,LEN(L8)>0),"Completed before created","")))))
B9: =IF(AND(LEN(D9)>0,LEN(E9)>0),MAX($B$5:B8)+1,"") -> 4 | C9: 1 | D9: User Story | E9: User Story 1.1 | F9: Kate | G9: 2 | H9: Low | I9: No | J9: Completed | K9: 44602 | L9: 44607 | O9: =IF(LEN(B9)=0,"",IF(LEN(K9)=0,"Creation date missing",IF(AND(J9="Completed",LEN(L9)=0),"Completion date missing",IF(AND(J9<>"Completed",LEN(L9)>0),"Ticket status incorrect",IF(AND(L9<K9,LEN(K9)>0,LEN(L9)>0),"Completed before created","")))))
B10: =IF(AND(LEN(D10)>0,LEN(E10)>0),MAX($B$5:B9)+1,"") -> 5 | C10: 1 | D10: Feature | E10: Feature 1.2 | F10: John | G10: 4 | H10: Low | I10: Yes | J10: Completed | K10: 44600 | L10: 44604 | O10: =IF(LEN(B10)=0,"",IF(LEN(K10)=0,"Creation date missing",IF(AND(J10="Completed",LEN(L10)=0),"Completion date missing",IF(AND(J10<>"Completed",LEN(L10)>0),"Ticket status incorrect",IF(AND(L10<K10,LEN(K10)>0,LEN(L10)>0),"Completed before created","")))))
B11: =IF(AND(LEN(D11)>0,LEN(E11)>0),MAX($B$5:B10)+1,"") -> 6 | C11: 1 | D11: Bug | E11: Bug 1.1 | F11: Kate | G11: 10 | I11: No | J11: Completed | K11: 44602 | L11: 44611 | O11: =IF(LEN(B11)=0,"",IF(LEN(K11)=0,"Creation date missing",IF(AND(J11="Completed",LEN(L11)=0),"Completion date missing",IF(AND(J11<>"Completed",LEN(L11)>0),"Ticket status incorrect",IF(AND(L11<K11,LEN(K11)>0,LEN(L11)>0),"Completed before created","")))))
B12: =IF(AND(LEN(D12)>0,LEN(E12)>0),MAX($B$5:B11)+1,"") -> 7 | C12: 1 | D12: User Story | E12: User Story 1.2 | F12: John | G12: 5 | H12: Low | I12: Yes | K12: 44600 | O12: =IF(LEN(B12)=0,"",IF(LEN(K12)=0,"Creation date missing",IF(AND(J12="Completed",LEN(L12)=0),"Completion date missing",IF(AND(J12<>"Completed",LEN(L12)>0),"Ticket status incorrect",IF(AND(L12<K12,LEN(K12)>0,LEN(L12)>0),"Completed before created","")))))
B13: =IF(AND(LEN(D13)>0,LEN(E13)>0),MAX($B$5:B12)+1,"") -> 8 | C13: 1 | D13: Task | E13: Task 1.3 | F13: Kyle | G13: 1 | H13: Low | I13: Yes | J13: Open | K13: 44600 | O13: =IF(LEN(B13)=0,"",IF(LEN(K13)=0,"Creation date missing",IF(AND(J13="Completed",LEN(L13)=0),"Completion date missing",IF(AND(J13<>"Completed",LEN(L13)>0),"Ticket status incorrect",IF(AND(L13<K13,LEN(K13)>0,LEN(L13)>0),"Completed before created","")))))
B14: =IF(AND(LEN(D14)>0,LEN(E14)>0),MAX($B$5:B13)+1,"") -> 9 | C14: 1 | D14: User Story | E14: User Story 1.3 | F14: Mike | G14: 0 | H14: Medium | I14: Yes | J14: Testing | K14: 44600 | O14: =IF(LEN(B14)=0,"",IF(LEN(K14)=0,"Creation date missing",IF(AND(J14="Completed",LEN(L14)=0),"Completion date missing",IF(AND(J14<>"Completed",LEN(L14)>0),"Ticket status incorrect",IF(AND(L14<K14,LEN(K14)>0,LEN(L14)>0),"Completed before created","")))))
B15: =IF(AND(LEN(D15)>0,LEN(E15)>0),MAX($B$5:B14)+1,"") -> 10 | C15: 1 | D15: Task | E15: Task 1.4 | F15: Mike | G15: 13 | I15: Yes | J15: Completed | K15: 44600 | L15: 44611 | O15: =IF(LEN(B15)=0,"",IF(LEN(K15)=0,"Creation date missing",IF(AND(J15="Completed",LEN(L15)=0),"Completion date missing",IF(AND(J15<>"Completed",LEN(L15)>0),"Ticket status incorrect",IF(AND(L15<K15,LEN(K15)>0,LEN(L15)>0),"Completed before created","")))))
B16: =IF(AND(LEN(D16)>0,LEN(E16)>0),MAX($B$5:B15)+1,"") -> 11 | C16: 2 | D16: Task | E16: Task 1.5 | F16: Carolyne | G16: 7 | H16: High | I16: Yes | J16: Completed | K16: 44615 | L16: 44617 | O16: =IF(LEN(B16)=0,"",IF(LEN(K16)=0,"Creation date missing",IF(AND(J16="Completed",LEN(L16)=0),"Completion date missing",IF(AND(J16<>"Completed",LEN(L16)>0),"Ticket status incorrect",IF(AND(L16<K16,LEN(K16)>0,LEN(L16)>0),"Completed before created","")))))
B17: =IF(AND(LEN(D17)>0,LEN(E17)>0),MAX($B$5:B16)+1,"") -> 12 | C17: 2 | D17: Feature | E17: Feature 1.3 | F17: John | G17: 5 | H17: Low | I17: Yes | K17: 44615 | O17: =IF(LEN(B17)=0,"",IF(LEN(K17)=0,"Creation date missing",IF(AND(J17="Completed",LEN(L17)=0),"Completion date missing",IF(AND(J17<>"Completed",LEN(L17)>0),"Ticket status incorrect",IF(AND(L17<K17,LEN(K17)>0,LEN(L17)>0),"Completed before created","")))))
B18: =IF(AND(LEN(D18)>0,LEN(E18)>0),MAX($B$5:B17)+1,"") -> 13 | C18: 2 | D18: Feature | E18: Feature 1.4 | F18: Kyle | G18: 6 | H18: Low | I18: Yes | J18: Completed | K18: 44615 | L18: 44616 | O18: =IF(LEN(B18)=0,"",IF(LEN(K18)=0,"Creation date missing",IF(AND(J18="Completed",LEN(L18)=0),"Completion date missing",IF(AND(J18<>"Completed",LEN(L18)>0),"Ticket status incorrect",IF(AND(L18<K18,LEN(K18)>0,LEN(L18)>0),"Completed before created","")))))
B19: =IF(AND(LEN(D19)>0,LEN(E19)>0),MAX($B$5:B18)+1,"") -> 14 | C19: 2 | D19: Feature | E19: Feature 1.5 | F19: Carolyne | G19: 11 | H19: High | I19: Yes | J19: Deployment | K19: 44615 | O19: =IF(LEN(B19)=0,"",IF(LEN(K19)=0,"Creation date missing",IF(AND(J19="Completed",LEN(L19)=0),"Completion date missing",IF(AND(J19<>"Completed",LEN(L19)>0),"Ticket status incorrect",IF(AND(L19<K19,LEN(K19)>0,LEN(L19)>0),"Completed before created","")))))
B20: =IF(AND(LEN(D20)>0,LEN(E20)>0),MAX($B$5:B19)+1,"") -> 15 | C20: 2 | D20: Bug | E20: Bug 1.2 | F20: Kate | G20: 9 | H20: Low | I20: No | J20: Testing | K20: 44617 | O20: =IF(LEN(B20)=0,"",IF(LEN(K20)=0,"Creation date missing",IF(AND(J20="Completed",LEN(L20)=0),"Completion date missing",IF(AND(J20<>"Completed",LEN(L20)>0),"Ticket status incorrect",IF(AND(L20<K20,LEN(K20)>0,LEN(L20)>0),"Completed before created","")))))
B21: =IF(AND(LEN(D21)>0,LEN(E21)>0),MAX($B$5:B20)+1,"") -> 16 | C21: 2 | D21: Feature | E21: Feature 1.6 | F21: John | G21: 2 | H21: Low | I21: Yes | J21: Deployment | K21: 44615 | O21: =IF(LEN(B21)=0,"",IF(LEN(K21)=0,"Creation date missing",IF(AND(J21="Completed",LEN(L21)=0),"Completion date missing",IF(AND(J21<>"Completed",LEN(L21)>0),"Ticket status incorrect",IF(AND(L21<K21,LEN(K21)>0,LEN(L21)>0),"Completed before created","")))))
B22: =IF(AND(LEN(D22)>0,LEN(E22)>0),MAX($B$5:B21)+1,"") -> 17 | C22: 2 | D22: Feature | E22: Feature 1.7 | F22: Kate | G22: 8 | I22: Yes | J22: Completed | K22: 44615 | L22: 44620 | O22: =IF(LEN(B22)=0,"",IF(LEN(K22)=0,"Creation date missing",IF(AND(J22="Completed",LEN(L22)=0),"Completion date missing",IF(AND(J22<>"Completed",LEN(L22)>0),"Ticket status incorrect",IF(AND(L22<K22,LEN(K22)>0,LEN(L22)>0),"Completed before created","")))))
B23: =IF(AND(LEN(D23)>0,LEN(E23)>0),MAX($B$5:B22)+1,"") -> 18 | C23: 2 | D23: Feature | E23: Feature 1.8 | F23: John | G23: 4 | H23: High | I23: No | K23: 44619 | O23: =IF(LEN(B23)=0,"",IF(LEN(K23)=0,"Creation date missing",IF(AND(J23="Completed",LEN(L23)=0),"Completion date missing",IF(AND(J23<>"Completed",LEN(L23)>0),"Ticket status incorrect",IF(AND(L23<K23,LEN(K23)>0,LEN(L23)>0),"Completed before created","")))))
B24: =IF(AND(LEN(D24)>0,LEN(E24)>0),MAX($B$5:B23)+1,"") -> 19 | C24: 2 | D24: User Story | E24: User Story 1.4 | F24: Kyle | G24: 1 | H24: Low | I24: Yes | J24: Completed | K24: 44615 | L24: 44616 | O24: =IF(LEN(B24)=0,"",IF(LEN(K24)=0,"Creation date missing",IF(AND(J24="Completed",LEN(L24)=0),"Completion date missing",IF(AND(J24<>"Completed",LEN(L24)>0),"Ticket status incorrect",IF(AND(L24<K24,LEN(K24)>0,LEN(L24)>0),"Completed before created","")))))
B25: =IF(AND(LEN(D25)>0,LEN(E25)>0),MAX($B$5:B24)+1,"") -> 20 | C25: 2 | D25: Feature | E25: Feature 1.9 | F25: Mike | G25: 15 | I25: No | J25: Completed | K25: 44607 | L25: 44607 | O25: =IF(LEN(B25)=0,"",IF(LEN(K25)=0,"Creation date missing",IF(AND(J25="Completed",LEN(L25)=0),"Completion date missing",IF(AND(J25<>"Completed",LEN(L25)>0),"Ticket status incorrect",IF(AND(L25<K25,LEN(K25)>0,LEN(L25)>0),"Completed before created","")))))
B26: =IF(AND(LEN(D26)>0,LEN(E26)>0),MAX($B$5:B25)+1,"") -> 21 | C26: 3 | D26: Task | E26: Task 1.6 | F26: Mike | G26: 12 | H26: Medium | I26: Yes | J26: Completed | K26: 44632 | L26: 44635 | O26: =IF(LEN(B26)=0,"",IF(LEN(K26)=0,"Creation date missing",IF(AND(J26="Completed",LEN(L26)=0),"Completion date missing",IF(AND(J26<>"Completed",LEN(L26)>0),"Ticket status incorrect",IF(AND(L26<K26,LEN(K26)>0,LEN(L26)>0),"Completed before created","")))))
B27: =IF(AND(LEN(D27)>0,LEN(E27)>0),MAX($B$5:B26)+1,"") -> 22 | C27: 3 | D27: User Story | E27: User Story 1.5 | F27: Carolyne | G27: 2 | H27: Low | I27: Yes | J27: Completed | K27: 44632 | L27: 44643 | O27: =IF(LEN(B27)=0,"",IF(LEN(K27)=0,"Creation date missing",IF(AND(J27="Completed",LEN(L27)=0),"Completion date missing",IF(AND(J27<>"Completed",LEN(L27)>0),"Ticket status incorrect",IF(AND(L27<K27,LEN(K27)>0,LEN(L27)>0),"Completed before created","")))))
B28: =IF(AND(LEN(D28)>0,LEN(E28)>0),MAX($B$5:B27)+1,"") -> 23 | C28: 3 | D28: User Story | E28: User Story 1.6 | F28: John | G28: 13 | H28: High | I28: Yes | J28: Completed | K28: 44632 | L28: 44634 | O28: =IF(LEN(B28)=0,"",IF(LEN(K28)=0,"Creation date missing",IF(AND(J28="Completed",LEN(L28)=0),"Completion date missing",IF(AND(J28<>"Completed",LEN(L28)>0),"Ticket status incorrect",IF(AND(L28<K28,LEN(K28)>0,LEN(L28)>0),"Completed before created","")))))
B29: =IF(AND(LEN(D29)>0,LEN(E29)>0),MAX($B$5:B28)+1,"") -> 24 | C29: 3 | D29: Bug | E29: Bug 1.3 | F29: Kyle | G29: 1 | H29: Low | I29: No | K29: 44635 | O29: =IF(LEN(B29)=0,"",IF(LEN(K29)=0,"Creation date missing",IF(AND(J29="Completed",LEN(L29)=0),"Completion date missing",IF(AND(J29<>"Completed",LEN(L29)>0),"Ticket status incorrect",IF(AND(L29<K29,LEN(K29)>0,LEN(L29)>0),"Completed before created","")))))
B30: =IF(AND(LEN(D30)>0,LEN(E30)>0),MAX($B$5:B29)+1,"") -> 25 | C30: 3 | D30: User Story | E30: User Story 2.1 | F30: Carolyne | G30: 1 | H30: Low | I30: Yes | J30: Completed | K30: 44632 | L30: 44638 | O30: =IF(LEN(B30)=0,"",IF(LEN(K30)=0,"Creation date missing",IF(AND(J30="Completed",LEN(L30)=0),"Completion date missing",IF(AND(J30<>"Completed",LEN(L30)>0),"Ticket status incorrect",IF(AND(L30<K30,LEN(K30)>0,LEN(L30)>0),"Completed before created","")))))
B31: =IF(AND(LEN(D31)>0,LEN(E31)>0),MAX($B$5:B30)+1,"") -> 26 | C31: 3 | D31: Task | E31: Task 2.1 | F31: Kate | G31: 1 | H31: High | I31: Yes | J31: Completed | K31: 44632 | L31: 44635 | O31: =IF(LEN(B31)=0,"",IF(LEN(K31)=0,"Creation date missing",IF(AND(J31="Completed",LEN(L31)=0),"Completion date missing",IF(AND(J31<>"Completed",LEN(L31)>0),"Ticket status incorrect",IF(AND(L31<K31,LEN(K31)>0,LEN(L31)>0),"Completed before created","")))))
B32: =IF(AND(LEN(D32)>0,LEN(E32)>0),MAX($B$5:B31)+1,"") -> 27 | C32: 3 | D32: Task | E32: Task 2.2 | F32: John | G32: 4 | H32: Low | I32: No | J32: Testing | K32: 44633 | O32: =IF(LEN(B32)=0,"",IF(LEN(K32)=0,"Creation date missing",IF(AND(J32="Completed",LEN(L32)=0),"Completion date missing",IF(AND(J32<>"Completed",LEN(L32)>0),"Ticket status incorrect",IF(AND(L32<K32,LEN(K32)>0,LEN(L32)>0),"Completed before created","")))))
B33: =IF(AND(LEN(D33)>0,LEN(E33)>0),MAX($B$5:B32)+1,"") -> 28 | C33: 3 | D33: User Story | E33: User Story 2.2 | F33: Kate | G33: 12 | H33: Low | I33: Yes | J33: Deployment | K33: 44632 | O33: =IF(LEN(B33)=0,"",IF(LEN(K33)=0,"Creation date missing",IF(AND(J33="Completed",LEN(L33)=0),"Completion date missing",IF(AND(J33<>"Completed",LEN(L33)>0),"Ticket status incorrect",IF(AND(L33<K33,LEN(K33)>0,LEN(L33)>0),"Completed before created","")))))
B34: =IF(AND(LEN(D34)>0,LEN(E34)>0),MAX($B$5:B33)+1,"") -> 29 | C34: 3 | D34: Bug | E34: Bug 2.1 | F34: John | G34: 9 | H34: Medium | I34: No | J34: Completed | K34: 44634 | L34: 44639 | O34: =IF(LEN(B34)=0,"",IF(LEN(K34)=0,"Creation date missing",IF(AND(J34="Completed",LEN(L34)=0),"Completion date missing",IF(AND(J34<>"Completed",LEN(L34)>0),"Ticket status incorrect",IF(AND(L34<K34,LEN(K34)>0,LEN(L34)>0),"Completed before created","")))))
B35: =IF(AND(LEN(D35)>0,LEN(E35)>0),MAX($B$5:B34)+1,"") -> 30 | C35: 3 | D35: Task | E35: Task 2.3 | F35: Kyle | G35: 13 | H35: Low | I35: Yes | K35: 44632 | O35: =IF(LEN(B35)=0,"",IF(LEN(K35)=0,"Creation date missing",IF(AND(J35="Completed",LEN(L35)=0),"Completion date missing",IF(AND(J35<>"Completed",LEN(L35)>0),"Ticket status incorrect",IF(AND(L35<K35,LEN(K35)>0,LEN(L35)>0),"Completed before created","")))))
B36: =IF(AND(LEN(D36)>0,LEN(E36)>0),MAX($B$5:B35)+1,"") -> 31 | C36: 4 | D36: Feature | E36: Feature 2.1 | F36: Mike | G36: 12 | H36: Low | I36: Yes | J36: In Progress | K36: 44650 | O36: =IF(LEN(B36)=0,"",IF(LEN(K36)=0,"Creation date missing",IF(AND(J36="Completed",LEN(L36)=0),"Completion date missing",IF(AND(J36<>"Completed",LEN(L36)>0),"Ticket status incorrect",IF(AND(L36<K36,LEN(K36)>0,LEN(L36)>0),"Completed before created","")))))
B37: =IF(AND(LEN(D37)>0,LEN(E37)>0),MAX($B$5:B36)+1,"") -> 32 | C37: 4 | D37: Bug | E37: Bug 2.2 | F37: Kate | G37: 10 | I37: No | J37: Open | K37: 44651 | O37: =IF(LEN(B37)=0,"",IF(LEN(K37)=0,"Creation date missing",IF(AND(J37="Completed",LEN(L37)=0),"Completion date missing",IF(AND(J37<>"Completed",LEN(L37)>0),"Ticket status incorrect",IF(AND(L37<K37,LEN(K37)>0,LEN(L37)>0),"Completed before created","")))))
B38: =IF(AND(LEN(D38)>0,LEN(E38)>0),MAX($B$5:B37)+1,"") -> 33 | C38: 4 | D38: User Story | E38: User Story 2.3 | F38: John | G38: 5 | H38: Low | I38: Yes | J38: Completed | K38: 44650 | L38: 44665 | O38: =IF(LEN(B38)=0,"",IF(LEN(K38)=0,"Creation date missing",IF(AND(J38="Completed",LEN(L38)=0),"Completion date missing",IF(AND(J38<>"Completed",LEN(L38)>0),"Ticket status incorrect",IF(AND(L38<K38,LEN(K38)>0,LEN(L38)>0),"Completed before created","")))))
B39: =IF(AND(LEN(D39)>0,LEN(E39)>0),MAX($B$5:B38)+1,"") -> 34 | C39: 4 | D39: Task | E39: Task 2.4 | F39: Kyle | G39: 1 | H39: Low | I39: No | J39: Deployment | K39: 44652 | O39: =IF(LEN(B39)=0,"",IF(LEN(K39)=0,"Creation date missing",IF(AND(J39="Completed",LEN(L39)=0),"Completion date missing",IF(AND(J39<>"Completed",LEN(L39)>0),"Ticket status incorrect",IF(AND(L39<K39,LEN(K39)>0,LEN(L39)>0),"Completed before created","")))))
B40: =IF(AND(LEN(D40)>0,LEN(E40)>0),MAX($B$5:B39)+1,"") -> 35 | C40: 4 | D40: User Story | E40: User Story 2.4 | F40: Mike | G40: 0 | H40: Medium | I40: Yes | J40: Deployment | K40: 44650 | O40: =IF(LEN(B40)=0,"",IF(LEN(K40)=0,"Creation date missing",IF(AND(J40="Completed",LEN(L40)=0),"Completion date missing",IF(AND(J40<>"Completed",LEN(L40)>0),"Ticket status incorrect",IF(AND(L40<K40,LEN(K40)>0,LEN(L40)>0),"Completed before created","")))))
B41: =IF(AND(LEN(D41)>0,LEN(E41)>0),MAX($B$5:B40)+1,"") -> 36 | C41: 4 | D41: Task | E41: Task 3.1 | F41: Mike | G41: 3 | I41: Yes | J41: Completed | K41: 44650 | L41: 44653 | O41: =IF(LEN(B41)=0,"",IF(LEN(K41)=0,"Creation date missing",IF(AND(J41="Completed",LEN(L41)=0),"Completion date missing",IF(AND(J41<>"Completed",LEN(L41)>0),"Ticket status incorrect",IF(AND(L41<K41,LEN(K41)>0,LEN(L41)>0),"Completed before created","")))))
B42: =IF(AND(LEN(D42)>0,LEN(E42)>0),MAX($B$5:B41)+1,"") -> 37 | C42: 4 | D42: Task | E42: Task 3.2 | F42: Carolyne | G42: 7 | H42: High | I42: Yes | J42: In Progress | K42: 44650 | O42: =IF(LEN(B42)=0,"",IF(LEN(K42)=0,"Creation date missing",IF(AND(J42="Completed",LEN(L42)=0),"Completion date missing",IF(AND(J42<>"Completed",LEN(L42)>0),"Ticket status incorrect",IF(AND(L42<K42,LEN(K42)>0,LEN(L42)>0),"Completed before created","")))))
...

Sheet Kanban
D2: SPRINT PLANNING DASHBOARD
D3: KANBAN
D5: Sprint # | G5: Responsible | J5: Ticket type | M5: Priority
D6: 4 | G6: All | J6: All | M6: All
D8: Backlog Queue | G8: =Calculation!DI32 -> In Progress | J8: =Calculation!DI33 -> Open | M8: =Calculation!DI34 -> Testing | P8: =Calculation!DI35 -> Deployment | S8: =Calculation!DI36 -> Completed | V8: =Calculation!DI37 | Y8: =Calculation!DI38 | AB8: =Calculation!DI39 | AE8: =Calculation!DI40 | AH8: =Calculation!DI41
C9: =COLUMN(C9) -> 3 | D9: =COLUMN(D9) -> 4 | F9: =COLUMN(F9) -> 6 | G9: =COLUMN(G9) -> 7 | I9: =COLUMN(I9) -> 9 | J9: =COLUMN(J9) -> 10 | L9: =COLUMN(L9) -> 12 | M9: =COLUMN(M9) -> 13 | O9: =COLUMN(O9) -> 15 | P9: =COLUMN(P9) -> 16 | R9: =COLUMN(R9) -> 18 | S9: =COLUMN(S9) -> 19 | U9: =COLUMN(U9) -> 21 | V9: =COLUMN(V9) -> 22 | X9: =COLUMN(X9) -> 24 | Y9: =COLUMN(Y9) -> 25 | AA9: =COLUMN(AA9) -> 27 | AB9: =COLUMN(AB9) -> 28 | AD9: =COLUMN(AD9) -> 30 | AE9: =COLUMN(AE9) -> 31 | AG9: =COLUMN(AG9) -> 33 | AH9: =COLUMN(AH9) -> 34
B11: =IF(ISODD(ROW(startrow)),IF(ISODD(ROW(B11)),ROW(B11)-2,ROW(B11)-1),IF(ISODD(ROW(B11)),ROW(B11)-1,ROW(B11)-2)) -> 10 | C11: =IFERROR(IF($B11<>$B9, HYPERLINK("#Backlog!B"&MATCH(D11,KanbanContentR1,0)+ROW(BacklogStart),"➤"),""),"") | D11: =IFERROR(INDEX(KanbanContentAll,MATCH(D$9&"-"&$B11,KanbanIndexList,0),IF($B11=$B9,2,1)),"") | F11: =IFERROR(IF($B11<>$B9, HYPERLINK("#Backlog!B"&MATCH(G11,KanbanContentR1,0)+ROW(BacklogStart),"➤"),""),"") -> ➤ | G11: =IFERROR(INDEX(KanbanContentAll,MATCH(G$9&"-"&$B11,KanbanIndexList,0),IF($B11=$B9,2,1)),"") -> #31 - Feature 2.1 | I11: =IFERROR(IF($B11<>$B9, HYPERLINK("#Backlog!B"&MATCH(J11,KanbanContentR1,0)+ROW(BacklogStart),"➤"),""),"") -> ➤ | J11: =IFERROR(INDEX(KanbanContentAll,MATCH(J$9&"-"&$B11,KanbanIndexList,0),IF($B11=$B9,2,1)),"") -> #32 - Bug 2.2 | L11: =IFERROR(IF($B11<>$B9, HYPERLINK("#Backlog!B"&MATCH(M11,KanbanContentR1,0)+ROW(BacklogStart),"➤"),""),"") -> ➤ | M11: =IFERROR(INDEX(KanbanContentAll,MATCH(M$9&"-"&$B11,KanbanIndexList,0),IF($B11=$B9,2,1)),"") -> #39 - Feature 3.2 | O11: =IFERROR(IF($B11<>$B9, HYPERLINK("#Backlog!B"&MATCH(P11,KanbanContentR1,0)+ROW(BacklogStart),"➤"),""),"") -> ➤ | P11: =IFERROR(INDEX(KanbanContentAll,MATCH(P$9&"-"&$B11,KanbanIndexList,0),IF($B11=$B9,2,1)),"") -> #34 - Task 2.4 | R11: =IFERROR(IF($B11<>$B9, HYPERLINK("#Backlog!B"&MATCH(S11,KanbanContentR1,0)+ROW(BacklogStart),"➤"),""),"") -> ➤ | S11: =IFERROR(INDEX(KanbanContentAll,MATCH(S$9&"-"&$B11,KanbanIndexList,0),IF($B11=$B9,2,1)),"") -> #33 - User Story 2.3 | U11: =IFERROR(IF($B11<>$B9, HYPERLINK("#Backlog!B"&MATCH(V11,KanbanContentR1,0)+ROW(BacklogStart),"➤"),""),"") | V11: =IFERROR(INDEX(KanbanContentAll,MATCH(V$9&"-"&$B11,KanbanIndexList,0),IF($B11=$B9,2,1)),"") | X11: =IFERROR(IF($B11<>$B9, HYPERLINK("#Backlog!B"&MATCH(Y11,KanbanContentR1,0)+ROW(BacklogStart),"➤"),""),"") | Y11: =IFERROR(INDEX(KanbanContentAll,MATCH(Y$9&"-"&$B11,KanbanIndexList,0),IF($B11=$B9,2,1)),"") | AA11: =IFERROR(IF($B11<>$B9, HYPERLINK("#Backlog!B"&MATCH(AB11,KanbanContentR1,0)+ROW(BacklogStart),"➤"),""),"") | AB11: =IFERROR(INDEX(KanbanContentAll,MATCH(AB$9&"-"&$B11,KanbanIndexList,0),IF($B11=$B9,2,1)),"") | AD11: =IFERROR(IF($B11<>$B9, HYPERLINK("#Backlog!B"&MATCH(AE11,KanbanContentR1,0)+ROW(BacklogStart),"➤"),""),"") | AE11: =IFERROR(INDEX(KanbanContentAll,MATCH(AE$9&"-"&$B11,KanbanIndexList,0),IF($B11=$B9,2,1)),"") | AG11: =IFERROR(IF($B11<>$B9, HYPERLINK("#Backlog!B"&MATCH(AH11,KanbanContentR1,0)+ROW(BacklogStart),"➤"),""),"") | AH11: =IFERROR(INDEX(KanbanContentAll,MATCH(AH$9&"-"&$B11,KanbanIndexList,0),IF($B11=$B9,2,1)),"")
B12: =IF(ISODD(ROW(startrow)),IF(ISODD(ROW(B12)),ROW(B12)-2,ROW(B12)-1),IF(ISODD(ROW(B12)),ROW(B12)-1,ROW(B12)-2)) -> 10 | C12: =IFERROR(IF($B12<>$B11, HYPERLINK("#Backlog!B"&MATCH(D12,KanbanContentR1,0)+ROW(BacklogStart),"➤"),""),"") | D12: =IFERROR(INDEX(KanbanContentAll,MATCH(D$9&"-"&$B12,KanbanIndexList,0),IF($B12=$B11,2,1)),"") | F12: =IFERROR(IF($B12<>$B11, HYPERLINK("#Backlog!B"&MATCH(G12,KanbanContentR1,0)+ROW(BacklogStart),"➤"),""),"") | G12: =IFERROR(INDEX(KanbanContentAll,MATCH(G$9&"-"&$B12,KanbanIndexList,0),IF($B12=$B11,2,1)),"") -> Feature 2.1 | I12: =IFERROR(IF($B12<>$B11, HYPERLINK("#Backlog!B"&MATCH(J12,KanbanContentR1,0)+ROW(BacklogStart),"➤"),""),"") | J12: =IFERROR(INDEX(KanbanContentAll,MATCH(J$9&"-"&$B12,KanbanIndexList,0),IF($B12=$B11,2,1)),"") -> Bug 2.2 | L12: =IFERROR(IF($B12<>$B11, HYPERLINK("#Backlog!B"&MATCH(M12,KanbanContentR1,0)+ROW(BacklogStart),"➤"),""),"") | M12: =IFERROR(INDEX(KanbanContentAll,MATCH(M$9&"-"&$B12,KanbanIndexList,0),IF($B12=$B11,2,1)),"") -> Feature 3.2 | O12: =IFERROR(IF($B12<>$B11, HYPERLINK("#Backlog!B"&MATCH(P12,KanbanContentR1,0)+ROW(BacklogStart),"➤"),""),"") | P12: =IFERROR(INDEX(KanbanContentAll,MATCH(P$9&"-"&$B12,KanbanIndexList,0),IF($B12=$B11,2,1)),"") -> Task 2.4 | R12: =IFERROR(IF($B12<>$B11, HYPERLINK("#Backlog!B"&MATCH(S12,KanbanContentR1,0)+ROW(BacklogStart),"➤"),""),"") | S12: =IFERROR(INDEX(KanbanContentAll,MATCH(S$9&"-"&$B12,KanbanIndexList,0),IF($B12=$B11,2,1)),"") -> User Story 2.3 | U12: =IFERROR(IF($B12<>$B11, HYPERLINK("#Backlog!B"&MATCH(V12,KanbanContentR1,0)+ROW(BacklogStart),"➤"),""),"") | V12: =IFERROR(INDEX(KanbanContentAll,MATCH(V$9&"-"&$B12,KanbanIndexList,0),IF($B12=$B11,2,1)),"") | X12: =IFERROR(IF($B12<>$B11, HYPERLINK("#Backlog!B"&MATCH(Y12,KanbanContentR1,0)+ROW(BacklogStart),"➤"),""),"") | Y12: =IFERROR(INDEX(KanbanContentAll,MATCH(Y$9&"-"&$B12,KanbanIndexList,0),IF($B12=$B11,2,1)),"") | AA12: =IFERROR(IF($B12<>$B11, HYPERLINK("#Backlog!B"&MATCH(AB12,KanbanContentR1,0)+ROW(BacklogStart),"➤"),""),"") | AB12: =IFERROR(INDEX(KanbanContentAll,MATCH(AB$9&"-"&$B12,KanbanIndexList,0),IF($B12=$B11,2,1)),"") | AD12: =IFERROR(IF($B12<>$B11, HYPERLINK("#Backlog!B"&MATCH(AE12,KanbanContentR1,0)+ROW(BacklogStart),"➤"),""),"") | AE12: =IFERROR(INDEX(KanbanContentAll,MATCH(AE$9&"-"&$B12,KanbanIndexList,0),IF($B12=$B11,2,1)),"") | AG12: =IFERROR(IF($B12<>$B11, HYPERLINK("#Backlog!B"&MATCH(AH12,KanbanContentR1,0)+ROW(BacklogStart),"➤"),""),"") | AH12: =IFERROR(INDEX(KanbanContentAll,MATCH(AH$9&"-"&$B12,KanbanIndexList,0),IF($B12=$B11,2,1)),"")
B13: =IF(ISODD(ROW(startrow)),IF(ISODD(ROW(B13)),ROW(B13)-2,ROW(B13)-1),IF(ISODD(ROW(B13)),ROW(B13)-1,ROW(B13)-2)) -> 12 | C13: =IFERROR(IF($B13<>$B12, HYPERLINK("#Backlog!B"&MATCH(D13,KanbanContentR1,0)+ROW(BacklogStart),"➤"),""),"") | D13: =IFERROR(INDEX(KanbanContentAll,MATCH(D$9&"-"&$B13,KanbanIndexList,0),IF($B13=$B12,2,1)),"") | F13: =IFERROR(IF($B13<>$B12, HYPERLINK("#Backlog!B"&MATCH(G13,KanbanContentR1,0)+ROW(BacklogStart),"➤"),""),"") -> ➤ | G13: =IFERROR(INDEX(KanbanContentAll,MATCH(G$9&"-"&$B13,KanbanIndexList,0),IF($B13=$B12,2,1)),"") -> #37 - Task 3.2 | I13: =IFERROR(IF($B13<>$B12, HYPERLINK("#Backlog!B"&MATCH(J13,KanbanContentR1,0)+ROW(BacklogStart),"➤"),""),"") | J13: =IFERROR(INDEX(KanbanContentAll,MATCH(J$9&"-"&$B13,KanbanIndexList,0),IF($B13=$B12,2,1)),"") | L13: =IFERROR(IF($B13<>$B12, HYPERLINK("#Backlog!B"&MATCH(M13,KanbanContentR1,0)+ROW(BacklogStart),"➤"),""),"") | M13: =IFERROR(INDEX(KanbanContentAll,MATCH(M$9&"-"&$B13,KanbanIndexList,0),IF($B13=$B12,2,1)),"") | O13: =IFERROR(IF($B13<>$B12, HYPERLINK("#Backlog!B"&MATCH(P13,KanbanContentR1,0)+ROW(BacklogStart),"➤"),""),"") -> ➤ | P13: =IFERROR(INDEX(KanbanContentAll,MATCH(P$9&"-"&$B13,KanbanIndexList,0),IF($B13=$B12,2,1)),"") -> #35 - User Story 2.4 | R13: =IFERROR(IF($B13<>$B12, HYPERLINK("#Backlog!B"&MATCH(S13,KanbanContentR1,0)+ROW(BacklogStart),"➤"),""),"") -> ➤ | S13: =IFERROR(INDEX(KanbanContentAll,MATCH(S$9&"-"&$B13,KanbanIndexList,0),IF($B13=$B12,2,1)),"") -> #36 - Task 3.1 | U13: =IFERROR(IF($B13<>$B12, HYPERLINK("#Backlog!B"&MATCH(V13,KanbanContentR1,0)+ROW(BacklogStart),"➤"),""),"") | V13: =IFERROR(INDEX(KanbanContentAll,MATCH(V$9&"-"&$B13,KanbanIndexList,0),IF($B13=$B12,2,1)),"") | X13: =IFERROR(IF($B13<>$B12, HYPERLINK("#Backlog!B"&MATCH(Y13,KanbanContentR1,0)+ROW(BacklogStart),"➤"),""),"") | Y13: =IFERROR(INDEX(KanbanContentAll,MATCH(Y$9&"-"&$B13,KanbanIndexList,0),IF($B13=$B12,2,1)),"") | AA13: =IFERROR(IF($B13<>$B12, HYPERLINK("#Backlog!B"&MATCH(AB13,KanbanContentR1,0)+ROW(BacklogStart),"➤"),""),"") | AB13: =IFERROR(INDEX(KanbanContentAll,MATCH(AB$9&"-"&$B13,KanbanIndexList,0),IF($B13=$B12,2,1)),"") | AD13: =IFERROR(IF($B13<>$B12, HYPERLINK("#Backlog!B"&MATCH(AE13,KanbanContentR1,0)+ROW(BacklogStart),"➤"),""),"") | AE13: =IFERROR(INDEX(KanbanContentAll,MATCH(AE$9&"-"&$B13,KanbanIndexList,0),IF($B13=$B12,2,1)),"") | AG13: =IFERROR(IF($B13<>$B12, HYPERLINK("#Backlog!B"&MATCH(AH13,KanbanContentR1,0)+ROW(BacklogStart),"➤"),""),"") | AH13: =IFERROR(INDEX(KanbanContentAll,MATCH(AH$9&"-"&$B13,KanbanIndexList,0),IF($B13=$B12,2,1)),"")
B14: =IF(ISODD(ROW(startrow)),IF(ISODD(ROW(B14)),ROW(B14)-2,ROW(B14)-1),IF(ISODD(ROW(B14)),ROW(B14)-1,ROW(B14)-2)) -> 12 | C14: =IFERROR(IF($B14<>$B13, HYPERLINK("#Backlog!B"&MATCH(D14,KanbanContentR1,0)+ROW(BacklogStart),"➤"),""),"") | D14: =IFERROR(INDEX(KanbanContentAll,MATCH(D$9&"-"&$B14,KanbanIndexList,0),IF($B14=$B13,2,1)),"") | F14: =IFERROR(IF($B14<>$B13, HYPERLINK("#Backlog!B"&MATCH(G14,KanbanContentR1,0)+ROW(BacklogStart),"➤"),""),"") | G14: =IFERROR(INDEX(KanbanContentAll,MATCH(G$9&"-"&$B14,KanbanIndexList,0),IF($B14=$B13,2,1)),"") -> Task 3.2 | I14: =IFERROR(IF($B14<>$B13, HYPERLINK("#Backlog!B"&MATCH(J14,KanbanContentR1,0)+ROW(BacklogStart),"➤"),""),"") | J14: =IFERROR(INDEX(KanbanContentAll,MATCH(J$9&"-"&$B14,KanbanIndexList,0),IF($B14=$B13,2,1)),"") | L14: =IFERROR(IF($B14<>$B13, HYPERLINK("#Backlog!B"&MATCH(M14,KanbanContentR1,0)+ROW(BacklogStart),"➤"),""),"") | M14: =IFERROR(INDEX(KanbanContentAll,MATCH(M$9&"-"&$B14,KanbanIndexList,0),IF($B14=$B13,2,1)),"") | O14: =IFERROR(IF($B14<>$B13, HYPERLINK("#Backlog!B"&MATCH(P14,KanbanContentR1,0)+ROW(BacklogStart),"➤"),""),"") | P14: =IFERROR(INDEX(KanbanContentAll,MATCH(P$9&"-"&$B14,KanbanIndexList,0),IF($B14=$B13,2,1)),"") -> User Story 2.4 | R14: =IFERROR(IF($B14<>$B13, HYPERLINK("#Backlog!B"&MATCH(S14,KanbanContentR1,0)+ROW(BacklogStart),"➤"),""),"") | S14: =IFERROR(INDEX(KanbanContentAll,MATCH(S$9&"-"&$B14,KanbanIndexList,0),IF($B14=$B13,2,1)),"") -> Task 3.1 | U14: =IFERROR(IF($B14<>$B13, HYPERLINK("#Backlog!B"&MATCH(V14,KanbanContentR1,0)+ROW(BacklogStart),"➤"),""),"") | V14: =IFERROR(INDEX(KanbanContentAll,MATCH(V$9&"-"&$B14,KanbanIndexList,0),IF($B14=$B13,2,1)),"") | X14: =IFERROR(IF($B14<>$B13, HYPERLINK("#Backlog!B"&MATCH(Y14,KanbanContentR1,0)+ROW(BacklogStart),"➤"),""),"") | Y14: =IFERROR(INDEX(KanbanContentAll,MATCH(Y$9&"-"&$B14,KanbanIndexList,0),IF($B14=$B13,2,1)),"") | AA14: =IFERROR(IF($B14<>$B13, HYPERLINK("#Backlog!B"&MATCH(AB14,KanbanContentR1,0)+ROW(BacklogStart),"➤"),""),"") | AB14: =IFERROR(INDEX(KanbanContentAll,MATCH(AB$9&"-"&$B14,KanbanIndexList,0),IF($B14=$B13,2,1)),"") | AD14: =IFERROR(IF($B14<>$B13, HYPERLINK("#Backlog!B"&MATCH(AE14,KanbanContentR1,0)+ROW(BacklogStart),"➤"),""),"") | AE14: =IFERROR(INDEX(KanbanContentAll,MATCH(AE$9&"-"&$B14,KanbanIndexList,0),IF($B14=$B13,2,1)),"") | AG14: =IFERROR(IF($B14<>$B13, HYPERLINK("#Backlog!B"&MATCH(AH14,KanbanContentR1,0)+ROW(BacklogStart),"➤"),""),"") | AH14: =IFERROR(INDEX(KanbanContentAll,MATCH(AH$9&"-"&$B14,KanbanIndexList,0),IF($B14=$B13,2,1)),"")
B15: =IF(ISODD(ROW(startrow)),IF(ISODD(ROW(B15)),ROW(B15)-2,ROW(B15)-1),IF(ISODD(ROW(B15)),ROW(B15)-1,ROW(B15)-2)) -> 14 | C15: =IFERROR(IF($B15<>$B14, HYPERLINK("#Backlog!B"&MATCH(D15,KanbanContentR1,0)+ROW(BacklogStart),"➤"),""),"") | D15: =IFERROR(INDEX(KanbanContentAll,MATCH(D$9&"-"&$B15,KanbanIndexList,0),IF($B15=$B14,2,1)),"") | F15: =IFERROR(IF($B15<>$B14, HYPERLINK("#Backlog!B"&MATCH(G15,KanbanContentR1,0)+ROW(BacklogStart),"➤"),""),"") | G15: =IFERROR(INDEX(KanbanContentAll,MATCH(G$9&"-"&$B15,KanbanIndexList,0),IF($B15=$B14,2,1)),"") | I15: =IFERROR(IF($B15<>$B14, HYPERLINK("#Backlog!B"&MATCH(J15,KanbanContentR1,0)+ROW(BacklogStart),"➤"),""),"") | J15: =IFERROR(INDEX(KanbanContentAll,MATCH(J$9&"-"&$B15,KanbanIndexList,0),IF($B15=$B14,2,1)),"") | L15: =IFERROR(IF($B15<>$B14, HYPERLINK("#Backlog!B"&MATCH(M15,KanbanContentR1,0)+ROW(BacklogStart),"➤"),""),"") | M15: =IFERROR(INDEX(KanbanContentAll,MATCH(M$9&"-"&$B15,KanbanIndexList,0),IF($B15=$B14,2,1)),"") | O15: =IFERROR(IF($B15<>$B14, HYPERLINK("#Backlog!B"&MATCH(P15,KanbanContentR1,0)+ROW(BacklogStart),"➤"),""),"") -> ➤ | P15: =IFERROR(INDEX(KanbanContentAll,MATCH(P$9&"-"&$B15,KanbanIndexList,0),IF($B15=$B14,2,1)),"") -> #40 - Feature 3.3 | R15: =IFERROR(IF($B15<>$B14, HYPERLINK("#Backlog!B"&MATCH(S15,KanbanContentR1,0)+ROW(BacklogStart),"➤"),""),"") -> ➤ | S15: =IFERROR(INDEX(KanbanContentAll,MATCH(S$9&"-"&$B15,KanbanIndexList,0),IF($B15=$B14,2,1)),"") -> #38 - Feature 3.1 | U15: =IFERROR(IF($B15<>$B14, HYPERLINK("#Backlog!B"&MATCH(V15,KanbanContentR1,0)+ROW(BacklogStart),"➤"),""),"") | V15: =IFERROR(INDEX(KanbanContentAll,MATCH(V$9&"-"&$B15,KanbanIndexList,0),IF($B15=$B14,2,1)),"") | X15: =IFERROR(IF($B15<>$B14, HYPERLINK("#Backlog!B"&MATCH(Y15,KanbanContentR1,0)+ROW(BacklogStart),"➤"),""),"") | Y15: =IFERROR(INDEX(KanbanContentAll,MATCH(Y$9&"-"&$B15,KanbanIndexList,0),IF($B15=$B14,2,1)),"") | AA15: =IFERROR(IF($B15<>$B14, HYPERLINK("#Backlog!B"&MATCH(AB15,KanbanContentR1,0)+ROW(BacklogStart),"➤"),""),"") | AB15: =IFERROR(INDEX(KanbanContentAll,MATCH(AB$9&"-"&$B15,KanbanIndexList,0),IF($B15=$B14,2,1)),"") | AD15: =IFERROR(IF($B15<>$B14, HYPERLINK("#Backlog!B"&MATCH(AE15,KanbanContentR1,0)+ROW(BacklogStart),"➤"),""),"") | AE15: =IFERROR(INDEX(KanbanContentAll,MATCH(AE$9&"-"&$B15,KanbanIndexList,0),IF($B15=$B14,2,1)),"") | AG15: =IFERROR(IF($B15<>$B14, HYPERLINK("#Backlog!B"&MATCH(AH15,KanbanContentR1,0)+ROW(BacklogStart),"➤"),""),"") | AH15: =IFERROR(INDEX(KanbanContentAll,MATCH(AH$9&"-"&$B15,KanbanIndexList,0),IF($B15=$B14,2,1)),"")
