Workbook
Name color1: Calculations!$Q$4
Name color10: Calculations!$Q$13
Name color11: Calculations!$Q$14
Name color12: Calculations!$Q$15
Name color2: Calculations!$Q$5
Name color3: Calculations!$Q$6
Name color4: Calculations!$Q$7
Name color5: Calculations!$Q$8
Name color6: Calculations!$Q$9
Name color7: Calculations!$Q$10
Name color8: Calculations!$Q$11
Name color9: Calculations!$Q$12
Name colorArray: Calculations!$AH$4:$DA$224
Name divide: Calculations!$C$19
Name greyColor: Calculations!$Q$16
Name large: Settings!$I$9
Name maxCol: Calculations!$F$19
Name medium: Settings!$I$8
Name small: Settings!$I$7
Name startCell: Roadmap!$J$5

Sheet Roadmap
B2: ROADMAP TEMPLATE
B3: ROADMAP
B5: GOAL | C5: Milestone | D5: Time | E5: Stage | F5: Split | J5: =Calculations!E26 -> Q1 - 2022 | Q5: =IF(COLUMN(S5)<maxCol,"❱❱","") -> ❱❱ | S5: =Calculations!E27 -> Q2 - 2022 | Z5: =IF(COLUMN(AB5)<maxCol,"❱❱","") -> ❱❱ | AB5: =Calculations!E28 -> Q3 - 2022 | AI5: =IF(COLUMN(AK5)<maxCol,"❱❱","") -> ❱❱ | AK5: =Calculations!E29 -> Q4 - 2022 | AR5: =IF(COLUMN(AT5)<maxCol,"❱❱","") | AT5: =Calculations!E30 -> 0 | BA5: =IF(COLUMN(BC5)<maxCol,"❱❱","") | BC5: =Calculations!E31 -> 0 | BJ5: =IF(COLUMN(BL5)<maxCol,"❱❱","") | BL5: =Calculations!E32 -> 0 | BS5: =IF(COLUMN(BU5)<maxCol,"❱❱","") | BU5: =Calculations!E33 -> 0 | CB5: =IF(COLUMN(CD5)<maxCol,"❱❱","") | CD5: =Calculations!E34 -> 0 | CK5: =IF(COLUMN(CM5)<maxCol,"❱❱","") | CM5: =Calculations!E35 -> 0
B6: Research | D6: Small | E6: Q1 - 2022 | F6: R&D Team | I6: C1 | J6: C2 | K6: C3 | L6: C4 | M6: C5 | N6: C6 | O6: C7 | P6: C8 | Q6: C9 | R6: C10 | S6: C11 | T6: C12 | U6: C13 | V6: C14 | W6: C15 | X6: C16 | Y6: C17 | Z6: C910 | AA6: C19 | AB6: C20 | AC6: C21 | AD6: C22 | AE6: C23 | AF6: C24 | AG6: C25 | AH6: C26 | AI6: C27 | AJ6: C28 | AK6: C29 | AL6: C30 | AM6: C31 | AN6: C32 | AO6: C33 | AP6: C34 | AQ6: C35 | AR6: C36 | AS6: C37 | AT6: C38 | AU6: C39 | AV6: C40 | AW6: C41 | AX6: C42 | AY6: C43 | AZ6: C44 | BA6: C45 | BB6: C46 | BC6: C47 | BD6: C48 | BE6: C49 | BF6: C50 | BG6: C51 | BH6: C52 | BI6: C53 | BJ6: C54 | BK6: C55 | BL6: C56 | BM6: C57 | BN6: C58 | BO6: C59 | BP6: C60 | BQ6: C61 | BR6: C62 | BS6: C63 | BT6: C64 | BU6: C65 | BV6: C66 | BW6: C67 | BX6: C68 | BY6: C69 | BZ6: C70 | CA6: C71 | CB6: C632 | CC6: C643 | CD6: C654 | CE6: C665 | CF6: C676 | CG6: C687 | CH6: C698 | CI6: C709 | CJ6: C7110 | CK6: C6311 | CL6: C6412 | CM6: C6513 | CN6: C6614 | CO6: C6715 | CP6: C6816 | CQ6: C6917 | CR6: C7018 | CS6: C7119
B7: Draft of the product | C7: ★ | D7: Large | E7: Q1 - 2022 | F7: R&D Team | J7: =IFERROR(INDEX(Calculations!$V$4:$V$103,MATCH(COLUMN()&"-"&ROW(),Calculations!$AD$4:$AD$103,0),1),"") -> Research | S7: =IFERROR(INDEX(Calculations!$V$4:$V$103,MATCH(COLUMN()&"-"&ROW(),Calculations!$AD$4:$AD$103,0),1),"") -> Development | AB7: =IFERROR(INDEX(Calculations!$V$4:$V$103,MATCH(COLUMN()&"-"&ROW(),Calculations!$AD$4:$AD$103,0),1),"") -> Bug fixes | AK7: =IFERROR(INDEX(Calculations!$V$4:$V$103,MATCH(COLUMN()&"-"&ROW(),Calculations!$AD$4:$AD$103,0),1),"") -> ★ Final release | AT7: =IFERROR(INDEX(Calculations!$V$4:$V$103,MATCH(COLUMN()&"-"&ROW(),Calculations!$AD$4:$AD$103,0),1),"") | BC7: =IFERROR(INDEX(Calculations!$V$4:$V$103,MATCH(COLUMN()&"-"&ROW(),Calculations!$AD$4:$AD$103,0),1),"") | BL7: =IFERROR(INDEX(Calculations!$V$4:$V$103,MATCH(COLUMN()&"-"&ROW(),Calculations!$AD$4:$AD$103,0),1),"") | BU7: =IFERROR(INDEX(Calculations!$V$4:$V$103,MATCH(COLUMN()&"-"&ROW(),Calculations!$AD$4:$AD$103,0),1),"") | CD7: =IFERROR(INDEX(Calculations!$V$4:$V$103,MATCH(COLUMN()&"-"&ROW(),Calculations!$AD$4:$AD$103,0),1),"") | CM7: =IFERROR(INDEX(Calculations!$V$4:$V$103,MATCH(COLUMN()&"-"&ROW(),Calculations!$AD$4:$AD$103,0),1),"")
B8: Market Comparison | D8: Medium | E8: Q1 - 2022 | F8: Marketing | J8: =IFERROR(INDEX(Calculations!$V$4:$V$103,MATCH(COLUMN()&"-"&ROW(),Calculations!$AD$4:$AD$103,0),1),"") | S8: =IFERROR(INDEX(Calculations!$V$4:$V$103,MATCH(COLUMN()&"-"&ROW(),Calculations!$AD$4:$AD$103,0),1),"") | AB8: =IFERROR(INDEX(Calculations!$V$4:$V$103,MATCH(COLUMN()&"-"&ROW(),Calculations!$AD$4:$AD$103,0),1),"") | AK8: =IFERROR(INDEX(Calculations!$V$4:$V$103,MATCH(COLUMN()&"-"&ROW(),Calculations!$AD$4:$AD$103,0),1),"") | AT8: =IFERROR(INDEX(Calculations!$V$4:$V$103,MATCH(COLUMN()&"-"&ROW(),Calculations!$AD$4:$AD$103,0),1),"") | BC8: =IFERROR(INDEX(Calculations!$V$4:$V$103,MATCH(COLUMN()&"-"&ROW(),Calculations!$AD$4:$AD$103,0),1),"") | BL8: =IFERROR(INDEX(Calculations!$V$4:$V$103,MATCH(COLUMN()&"-"&ROW(),Calculations!$AD$4:$AD$103,0),1),"") | BU8: =IFERROR(INDEX(Calculations!$V$4:$V$103,MATCH(COLUMN()&"-"&ROW(),Calculations!$AD$4:$AD$103,0),1),"") | CD8: =IFERROR(INDEX(Calculations!$V$4:$V$103,MATCH(COLUMN()&"-"&ROW(),Calculations!$AD$4:$AD$103,0),1),"") | CM8: =IFERROR(INDEX(Calculations!$V$4:$V$103,MATCH(COLUMN()&"-"&ROW(),Calculations!$AD$4:$AD$103,0),1),"")
B9: Development | D9: Large | E9: Q2 - 2022 | F9: R&D Team | J9: =IFERROR(INDEX(Calculations!$V$4:$V$103,MATCH(COLUMN()&"-"&ROW(),Calculations!$AD$4:$AD$103,0),1),"") -> ★ Draft of the product | S9: =IFERROR(INDEX(Calculations!$V$4:$V$103,MATCH(COLUMN()&"-"&ROW(),Calculations!$AD$4:$AD$103,0),1),"") | AB9: =IFERROR(INDEX(Calculations!$V$4:$V$103,MATCH(COLUMN()&"-"&ROW(),Calculations!$AD$4:$AD$103,0),1),"") -> ★ Beta release | AK9: =IFERROR(INDEX(Calculations!$V$4:$V$103,MATCH(COLUMN()&"-"&ROW(),Calculations!$AD$4:$AD$103,0),1),"") | AT9: =IFERROR(INDEX(Calculations!$V$4:$V$103,MATCH(COLUMN()&"-"&ROW(),Calculations!$AD$4:$AD$103,0),1),"") | BC9: =IFERROR(INDEX(Calculations!$V$4:$V$103,MATCH(COLUMN()&"-"&ROW(),Calculations!$AD$4:$AD$103,0),1),"") | BL9: =IFERROR(INDEX(Calculations!$V$4:$V$103,MATCH(COLUMN()&"-"&ROW(),Calculations!$AD$4:$AD$103,0),1),"") | BU9: =IFERROR(INDEX(Calculations!$V$4:$V$103,MATCH(COLUMN()&"-"&ROW(),Calculations!$AD$4:$AD$103,0),1),"") | CD9: =IFERROR(INDEX(Calculations!$V$4:$V$103,MATCH(COLUMN()&"-"&ROW(),Calculations!$AD$4:$AD$103,0),1),"") | CM9: =IFERROR(INDEX(Calculations!$V$4:$V$103,MATCH(COLUMN()&"-"&ROW(),Calculations!$AD$4:$AD$103,0),1),"")
B10: Quality Tests | D10: Large | E10: Q2 - 2022 | F10: Quality A. | J10: =IFERROR(INDEX(Calculations!$V$4:$V$103,MATCH(COLUMN()&"-"&ROW(),Calculations!$AD$4:$AD$103,0),1),"") | S10: =IFERROR(INDEX(Calculations!$V$4:$V$103,MATCH(COLUMN()&"-"&ROW(),Calculations!$AD$4:$AD$103,0),1),"") | AB10: =IFERROR(INDEX(Calculations!$V$4:$V$103,MATCH(COLUMN()&"-"&ROW(),Calculations!$AD$4:$AD$103,0),1),"") | AK10: =IFERROR(INDEX(Calculations!$V$4:$V$103,MATCH(COLUMN()&"-"&ROW(),Calculations!$AD$4:$AD$103,0),1),"") | AT10: =IFERROR(INDEX(Calculations!$V$4:$V$103,MATCH(COLUMN()&"-"&ROW(),Calculations!$AD$4:$AD$103,0),1),"") | BC10: =IFERROR(INDEX(Calculations!$V$4:$V$103,MATCH(COLUMN()&"-"&ROW(),Calculations!$AD$4:$AD$103,0),1),"") | BL10: =IFERROR(INDEX(Calculations!$V$4:$V$103,MATCH(COLUMN()&"-"&ROW(),Calculations!$AD$4:$AD$103,0),1),"") | BU10: =IFERROR(INDEX(Calculations!$V$4:$V$103,MATCH(COLUMN()&"-"&ROW(),Calculations!$AD$4:$AD$103,0),1),"") | CD10: =IFERROR(INDEX(Calculations!$V$4:$V$103,MATCH(COLUMN()&"-"&ROW(),Calculations!$AD$4:$AD$103,0),1),"") | CM10: =IFERROR(INDEX(Calculations!$V$4:$V$103,MATCH(COLUMN()&"-"&ROW(),Calculations!$AD$4:$AD$103,0),1),"")
B11: Test results | D11: Medium | E11: Q2 - 2022 | F11: Quality A. | J11: =IFERROR(INDEX(Calculations!$V$4:$V$103,MATCH(COLUMN()&"-"&ROW(),Calculations!$AD$4:$AD$103,0),1),"") | S11: =IFERROR(INDEX(Calculations!$V$4:$V$103,MATCH(COLUMN()&"-"&ROW(),Calculations!$AD$4:$AD$103,0),1),"") | AB11: =IFERROR(INDEX(Calculations!$V$4:$V$103,MATCH(COLUMN()&"-"&ROW(),Calculations!$AD$4:$AD$103,0),1),"") | AK11: =IFERROR(INDEX(Calculations!$V$4:$V$103,MATCH(COLUMN()&"-"&ROW(),Calculations!$AD$4:$AD$103,0),1),"") | AT11: =IFERROR(INDEX(Calculations!$V$4:$V$103,MATCH(COLUMN()&"-"&ROW(),Calculations!$AD$4:$AD$103,0),1),"") | BC11: =IFERROR(INDEX(Calculations!$V$4:$V$103,MATCH(COLUMN()&"-"&ROW(),Calculations!$AD$4:$AD$103,0),1),"") | BL11: =IFERROR(INDEX(Calculations!$V$4:$V$103,MATCH(COLUMN()&"-"&ROW(),Calculations!$AD$4:$AD$103,0),1),"") | BU11: =IFERROR(INDEX(Calculations!$V$4:$V$103,MATCH(COLUMN()&"-"&ROW(),Calculations!$AD$4:$AD$103,0),1),"") | CD11: =IFERROR(INDEX(Calculations!$V$4:$V$103,MATCH(COLUMN()&"-"&ROW(),Calculations!$AD$4:$AD$103,0),1),"") | CM11: =IFERROR(INDEX(Calculations!$V$4:$V$103,MATCH(COLUMN()&"-"&ROW(),Calculations!$AD$4:$AD$103,0),1),"")
B12: Product video | D12: Medium | E12: Q3 - 2022 | F12: Sales | J12: =IFERROR(INDEX(Calculations!$V$4:$V$103,MATCH(COLUMN()&"-"&ROW(),Calculations!$AD$4:$AD$103,0),1),"") -> Market Comparison | S12: =IFERROR(INDEX(Calculations!$V$4:$V$103,MATCH(COLUMN()&"-"&ROW(),Calculations!$AD$4:$AD$103,0),1),"") | AB12: =IFERROR(INDEX(Calculations!$V$4:$V$103,MATCH(COLUMN()&"-"&ROW(),Calculations!$AD$4:$AD$103,0),1),"") | AK12: =IFERROR(INDEX(Calculations!$V$4:$V$103,MATCH(COLUMN()&"-"&ROW(),Calculations!$AD$4:$AD$103,0),1),"") -> Sales Campaign | AT12: =IFERROR(INDEX(Calculations!$V$4:$V$103,MATCH(COLUMN()&"-"&ROW(),Calculations!$AD$4:$AD$103,0),1),"") | BC12: =IFERROR(INDEX(Calculations!$V$4:$V$103,MATCH(COLUMN()&"-"&ROW(),Calculations!$AD$4:$AD$103,0),1),"") | BL12: =IFERROR(INDEX(Calculations!$V$4:$V$103,MATCH(COLUMN()&"-"&ROW(),Calculations!$AD$4:$AD$103,0),1),"") | BU12: =IFERROR(INDEX(Calculations!$V$4:$V$103,MATCH(COLUMN()&"-"&ROW(),Calculations!$AD$4:$AD$103,0),1),"") | CD12: =IFERROR(INDEX(Calculations!$V$4:$V$103,MATCH(COLUMN()&"-"&ROW(),Calculations!$AD$4:$AD$103,0),1),"") | CM12: =IFERROR(INDEX(Calculations!$V$4:$V$103,MATCH(COLUMN()&"-"&ROW(),Calculations!$AD$4:$AD$103,0),1),"")
B13: Bug fixes | D13: Medium | E13: Q3 - 2022 | F13: R&D Team | J13: =IFERROR(INDEX(Calculations!$V$4:$V$103,MATCH(COLUMN()&"-"&ROW(),Calculations!$AD$4:$AD$103,0),1),"") | S13: =IFERROR(INDEX(Calculations!$V$4:$V$103,MATCH(COLUMN()&"-"&ROW(),Calculations!$AD$4:$AD$103,0),1),"") | AB13: =IFERROR(INDEX(Calculations!$V$4:$V$103,MATCH(COLUMN()&"-"&ROW(),Calculations!$AD$4:$AD$103,0),1),"") | AK13: =IFERROR(INDEX(Calculations!$V$4:$V$103,MATCH(COLUMN()&"-"&ROW(),Calculations!$AD$4:$AD$103,0),1),"") | AT13: =IFERROR(INDEX(Calculations!$V$4:$V$103,MATCH(COLUMN()&"-"&ROW(),Calculations!$AD$4:$AD$103,0),1),"") | BC13: =IFERROR(INDEX(Calculations!$V$4:$V$103,MATCH(COLUMN()&"-"&ROW(),Calculations!$AD$4:$AD$103,0),1),"") | BL13: =IFERROR(INDEX(Calculations!$V$4:$V$103,MATCH(COLUMN()&"-"&ROW(),Calculations!$AD$4:$AD$103,0),1),"") | BU13: =IFERROR(INDEX(Calculations!$V$4:$V$103,MATCH(COLUMN()&"-"&ROW(),Calculations!$AD$4:$AD$103,0),1),"") | CD13: =IFERROR(INDEX(Calculations!$V$4:$V$103,MATCH(COLUMN()&"-"&ROW(),Calculations!$AD$4:$AD$103,0),1),"") | CM13: =IFERROR(INDEX(Calculations!$V$4:$V$103,MATCH(COLUMN()&"-"&ROW(),Calculations!$AD$4:$AD$103,0),1),"")
B14: Beta release | C14: ★ | D14: Medium | E14: Q3 - 2022 | F14: R&D Team | J14: =IFERROR(INDEX(Calculations!$V$4:$V$103,MATCH(COLUMN()&"-"&ROW(),Calculations!$AD$4:$AD$103,0),1),"") | S14: =IFERROR(INDEX(Calculations!$V$4:$V$103,MATCH(COLUMN()&"-"&ROW(),Calculations!$AD$4:$AD$103,0),1),"") | AB14: =IFERROR(INDEX(Calculations!$V$4:$V$103,MATCH(COLUMN()&"-"&ROW(),Calculations!$AD$4:$AD$103,0),1),"") | AK14: =IFERROR(INDEX(Calculations!$V$4:$V$103,MATCH(COLUMN()&"-"&ROW(),Calculations!$AD$4:$AD$103,0),1),"") -> Measure sales results | AT14: =IFERROR(INDEX(Calculations!$V$4:$V$103,MATCH(COLUMN()&"-"&ROW(),Calculations!$AD$4:$AD$103,0),1),"") | BC14: =IFERROR(INDEX(Calculations!$V$4:$V$103,MATCH(COLUMN()&"-"&ROW(),Calculations!$AD$4:$AD$103,0),1),"") | BL14: =IFERROR(INDEX(Calculations!$V$4:$V$103,MATCH(COLUMN()&"-"&ROW(),Calculations!$AD$4:$AD$103,0),1),"") | BU14: =IFERROR(INDEX(Calculations!$V$4:$V$103,MATCH(COLUMN()&"-"&ROW(),Calculations!$AD$4:$AD$103,0),1),"") | CD14: =IFERROR(INDEX(Calculations!$V$4:$V$103,MATCH(COLUMN()&"-"&ROW(),Calculations!$AD$4:$AD$103,0),1),"") | CM14: =IFERROR(INDEX(Calculations!$V$4:$V$103,MATCH(COLUMN()&"-"&ROW(),Calculations!$AD$4:$AD$103,0),1),"")
B15: Product pricing | D15: Large | E15: Q3 - 2022 | F15: Sales | J15: =IFERROR(INDEX(Calculations!$V$4:$V$103,MATCH(COLUMN()&"-"&ROW(),Calculations!$AD$4:$AD$103,0),1),"") | S15: =IFERROR(INDEX(Calculations!$V$4:$V$103,MATCH(COLUMN()&"-"&ROW(),Calculations!$AD$4:$AD$103,0),1),"") | AB15: =IFERROR(INDEX(Calculations!$V$4:$V$103,MATCH(COLUMN()&"-"&ROW(),Calculations!$AD$4:$AD$103,0),1),"") | AK15: =IFERROR(INDEX(Calculations!$V$4:$V$103,MATCH(COLUMN()&"-"&ROW(),Calculations!$AD$4:$AD$103,0),1),"") | AT15: =IFERROR(INDEX(Calculations!$V$4:$V$103,MATCH(COLUMN()&"-"&ROW(),Calculations!$AD$4:$AD$103,0),1),"") | BC15: =IFERROR(INDEX(Calculations!$V$4:$V$103,MATCH(COLUMN()&"-"&ROW(),Calculations!$AD$4:$AD$103,0),1),"") | BL15: =IFERROR(INDEX(Calculations!$V$4:$V$103,MATCH(COLUMN()&"-"&ROW(),Calculations!$AD$4:$AD$103,0),1),"") | BU15: =IFERROR(INDEX(Calculations!$V$4:$V$103,MATCH(COLUMN()&"-"&ROW(),Calculations!$AD$4:$AD$103,0),1),"") | CD15: =IFERROR(INDEX(Calculations!$V$4:$V$103,MATCH(COLUMN()&"-"&ROW(),Calculations!$AD$4:$AD$103,0),1),"") | CM15: =IFERROR(INDEX(Calculations!$V$4:$V$103,MATCH(COLUMN()&"-"&ROW(),Calculations!$AD$4:$AD$103,0),1),"")
B16: Sales Campaign | D16: Medium | E16: Q4 - 2022 | F16: Marketing | J16: =IFERROR(INDEX(Calculations!$V$4:$V$103,MATCH(COLUMN()&"-"&ROW(),Calculations!$AD$4:$AD$103,0),1),"") | S16: =IFERROR(INDEX(Calculations!$V$4:$V$103,MATCH(COLUMN()&"-"&ROW(),Calculations!$AD$4:$AD$103,0),1),"") | AB16: =IFERROR(INDEX(Calculations!$V$4:$V$103,MATCH(COLUMN()&"-"&ROW(),Calculations!$AD$4:$AD$103,0),1),"") | AK16: =IFERROR(INDEX(Calculations!$V$4:$V$103,MATCH(COLUMN()&"-"&ROW(),Calculations!$AD$4:$AD$103,0),1),"") | AT16: =IFERROR(INDEX(Calculations!$V$4:$V$103,MATCH(COLUMN()&"-"&ROW(),Calculations!$AD$4:$AD$103,0),1),"") | BC16: =IFERROR(INDEX(Calculations!$V$4:$V$103,MATCH(COLUMN()&"-"&ROW(),Calculations!$AD$4:$AD$103,0),1),"") | BL16: =IFERROR(INDEX(Calculations!$V$4:$V$103,MATCH(COLUMN()&"-"&ROW(),Calculations!$AD$4:$AD$103,0),1),"") | BU16: =IFERROR(INDEX(Calculations!$V$4:$V$103,MATCH(COLUMN()&"-"&ROW(),Calculations!$AD$4:$AD$103,0),1),"") | CD16: =IFERROR(INDEX(Calculations!$V$4:$V$103,MATCH(COLUMN()&"-"&ROW(),Calculations!$AD$4:$AD$103,0),1),"") | CM16: =IFERROR(INDEX(Calculations!$V$4:$V$103,MATCH(COLUMN()&"-"&ROW(),Calculations!$AD$4:$AD$103,0),1),"")
B17: Measure sales results | D17: Large | E17: Q4 - 2022 | F17: Marketing | J17: =IFERROR(INDEX(Calculations!$V$4:$V$103,MATCH(COLUMN()&"-"&ROW(),Calculations!$AD$4:$AD$103,0),1),"") | S17: =IFERROR(INDEX(Calculations!$V$4:$V$103,MATCH(COLUMN()&"-"&ROW(),Calculations!$AD$4:$AD$103,0),1),"") | AB17: =IFERROR(INDEX(Calculations!$V$4:$V$103,MATCH(COLUMN()&"-"&ROW(),Calculations!$AD$4:$AD$103,0),1),"") -> Product video | AK17: =IFERROR(INDEX(Calculations!$V$4:$V$103,MATCH(COLUMN()&"-"&ROW(),Calculations!$AD$4:$AD$103,0),1),"") | AT17: =IFERROR(INDEX(Calculations!$V$4:$V$103,MATCH(COLUMN()&"-"&ROW(),Calculations!$AD$4:$AD$103,0),1),"") | BC17: =IFERROR(INDEX(Calculations!$V$4:$V$103,MATCH(COLUMN()&"-"&ROW(),Calculations!$AD$4:$AD$103,0),1),"") | BL17: =IFERROR(INDEX(Calculations!$V$4:$V$103,MATCH(COLUMN()&"-"&ROW(),Calculations!$AD$4:$AD$103,0),1),"") | BU17: =IFERROR(INDEX(Calculations!$V$4:$V$103,MATCH(COLUMN()&"-"&ROW(),Calculations!$AD$4:$AD$103,0),1),"") | CD17: =IFERROR(INDEX(Calculations!$V$4:$V$103,MATCH(COLUMN()&"-"&ROW(),Calculations!$AD$4:$AD$103,0),1),"") | CM17: =IFERROR(INDEX(Calculations!$V$4:$V$103,MATCH(COLUMN()&"-"&ROW(),Calculations!$AD$4:$AD$103,0),1),"")
B18: Continues Tests | D18: Large | E18: Q4 - 2022 | F18: Quality A. | J18: =IFERROR(INDEX(Calculations!$V$4:$V$103,MATCH(COLUMN()&"-"&ROW(),Calculations!$AD$4:$AD$103,0),1),"") | S18: =IFERROR(INDEX(Calculations!$V$4:$V$103,MATCH(COLUMN()&"-"&ROW(),Calculations!$AD$4:$AD$103,0),1),"") | AB18: =IFERROR(INDEX(Calculations!$V$4:$V$103,MATCH(COLUMN()&"-"&ROW(),Calculations!$AD$4:$AD$103,0),1),"") | AK18: =IFERROR(INDEX(Calculations!$V$4:$V$103,MATCH(COLUMN()&"-"&ROW(),Calculations!$AD$4:$AD$103,0),1),"") | AT18: =IFERROR(INDEX(Calculations!$V$4:$V$103,MATCH(COLUMN()&"-"&ROW(),Calculations!$AD$4:$AD$103,0),1),"") | BC18: =IFERROR(INDEX(Calculations!$V$4:$V$103,MATCH(COLUMN()&"-"&ROW(),Calculations!$AD$4:$AD$103,0),1),"") | BL18: =IFERROR(INDEX(Calculations!$V$4:$V$103,MATCH(COLUMN()&"-"&ROW(),Calculations!$AD$4:$AD$103,0),1),"") | BU18: =IFERROR(INDEX(Calculations!$V$4:$V$103,MATCH(COLUMN()&"-"&ROW(),Calculations!$AD$4:$AD$103,0),1),"") | CD18: =IFERROR(INDEX(Calculations!$V$4:$V$103,MATCH(COLUMN()&"-"&ROW(),Calculations!$AD$4:$AD$103,0),1),"") | CM18: =IFERROR(INDEX(Calculations!$V$4:$V$103,MATCH(COLUMN()&"-"&ROW(),Calculations!$AD$4:$AD$103,0),1),"")
B19: Final release | C19: ★ | D19: Medium | E19: Q4 - 2022 | F19: R&D Team | J19: =IFERROR(INDEX(Calculations!$V$4:$V$103,MATCH(COLUMN()&"-"&ROW(),Calculations!$AD$4:$AD$103,0),1),"") | S19: =IFERROR(INDEX(Calculations!$V$4:$V$103,MATCH(COLUMN()&"-"&ROW(),Calculations!$AD$4:$AD$103,0),1),"") | AB19: =IFERROR(INDEX(Calculations!$V$4:$V$103,MATCH(COLUMN()&"-"&ROW(),Calculations!$AD$4:$AD$103,0),1),"") -> Product pricing | AK19: =IFERROR(INDEX(Calculations!$V$4:$V$103,MATCH(COLUMN()&"-"&ROW(),Calculations!$AD$4:$AD$103,0),1),"") | AT19: =IFERROR(INDEX(Calculations!$V$4:$V$103,MATCH(COLUMN()&"-"&ROW(),Calculations!$AD$4:$AD$103,0),1),"") | BC19: =IFERROR(INDEX(Calculations!$V$4:$V$103,MATCH(COLUMN()&"-"&ROW(),Calculations!$AD$4:$AD$103,0),1),"") | BL19: =IFERROR(INDEX(Calculations!$V$4:$V$103,MATCH(COLUMN()&"-"&ROW(),Calculations!$AD$4:$AD$103,0),1),"") | BU19: =IFERROR(INDEX(Calculations!$V$4:$V$103,MATCH(COLUMN()&"-"&ROW(),Calculations!$AD$4:$AD$103,0),1),"") | CD19: =IFERROR(INDEX(Calculations!$V$4:$V$103,MATCH(COLUMN()&"-"&ROW(),Calculations!$AD$4:$AD$103,0),1),"") | CM19: =IFERROR(INDEX(Calculations!$V$4:$V$103,MATCH(COLUMN()&"-"&ROW(),Calculations!$AD$4:$AD$103,0),1),"")
J20: =IFERROR(INDEX(Calculations!$V$4:$V$103,MATCH(COLUMN()&"-"&ROW(),Calculations!$AD$4:$AD$103,0),1),"") | S20: =IFERROR(INDEX(Calculations!$V$4:$V$103,MATCH(COLUMN()&"-"&ROW(),Calculations!$AD$4:$AD$103,0),1),"") | AB20: =IFERROR(INDEX(Calculations!$V$4:$V$103,MATCH(COLUMN()&"-"&ROW(),Calculations!$AD$4:$AD$103,0),1),"") | AK20: =IFERROR(INDEX(Calculations!$V$4:$V$103,MATCH(COLUMN()&"-"&ROW(),Calculations!$AD$4:$AD$103,0),1),"") | AT20: =IFERROR(INDEX(Calculations!$V$4:$V$103,MATCH(COLUMN()&"-"&ROW(),Calculations!$AD$4:$AD$103,0),1),"") | BC20: =IFERROR(INDEX(Calculations!$V$4:$V$103,MATCH(COLUMN()&"-"&ROW(),Calculations!$AD$4:$AD$103,0),1),"") | BL20: =IFERROR(INDEX(Calculations!$V$4:$V$103,MATCH(COLUMN()&"-"&ROW(),Calculations!$AD$4:$AD$103,0),1),"") | BU20: =IFERROR(INDEX(Calculations!$V$4:$V$103,MATCH(COLUMN()&"-"&ROW(),Calculations!$AD$4:$AD$103,0),1),"") | CD20: =IFERROR(INDEX(Calculations!$V$4:$V$103,MATCH(COLUMN()&"-"&ROW(),Calculations!$AD$4:$AD$103,0),1),"") | CM20: =IFERROR(INDEX(Calculations!$V$4:$V$103,MATCH(COLUMN()&"-"&ROW(),Calculations!$AD$4:$AD$103,0),1),"")
J21: =IFERROR(INDEX(Calculations!$V$4:$V$103,MATCH(COLUMN()&"-"&ROW(),Calculations!$AD$4:$AD$103,0),1),"") | S21: =IFERROR(INDEX(Calculations!$V$4:$V$103,MATCH(COLUMN()&"-"&ROW(),Calculations!$AD$4:$AD$103,0),1),"") | AB21: =IFERROR(INDEX(Calculations!$V$4:$V$103,MATCH(COLUMN()&"-"&ROW(),Calculations!$AD$4:$AD$103,0),1),"") | AK21: =IFERROR(INDEX(Calculations!$V$4:$V$103,MATCH(COLUMN()&"-"&ROW(),Calculations!$AD$4:$AD$103,0),1),"") | AT21: =IFERROR(INDEX(Calculations!$V$4:$V$103,MATCH(COLUMN()&"-"&ROW(),Calculations!$AD$4:$AD$103,0),1),"") | BC21: =IFERROR(INDEX(Calculations!$V$4:$V$103,MATCH(COLUMN()&"-"&ROW(),Calculations!$AD$4:$AD$103,0),1),"") | BL21: =IFERROR(INDEX(Calculations!$V$4:$V$103,MATCH(COLUMN()&"-"&ROW(),Calculations!$AD$4:$AD$103,0),1),"") | BU21: =IFERROR(INDEX(Calculations!$V$4:$V$103,MATCH(COLUMN()&"-"&ROW(),Calculations!$AD$4:$AD$103,0),1),"") | CD21: =IFERROR(INDEX(Calculations!$V$4:$V$103,MATCH(COLUMN()&"-"&ROW(),Calculations!$AD$4:$AD$103,0),1),"") | CM21: =IFERROR(INDEX(Calculations!$V$4:$V$103,MATCH(COLUMN()&"-"&ROW(),Calculations!$AD$4:$AD$103,0),1),"")
J22: =IFERROR(INDEX(Calculations!$V$4:$V$103,MATCH(COLUMN()&"-"&ROW(),Calculations!$AD$4:$AD$103,0),1),"") | S22: =IFERROR(INDEX(Calculations!$V$4:$V$103,MATCH(COLUMN()&"-"&ROW(),Calculations!$AD$4:$AD$103,0),1),"") -> Quality Tests | AB22: =IFERROR(INDEX(Calculations!$V$4:$V$103,MATCH(COLUMN()&"-"&ROW(),Calculations!$AD$4:$AD$103,0),1),"") | AK22: =IFERROR(INDEX(Calculations!$V$4:$V$103,MATCH(COLUMN()&"-"&ROW(),Calculations!$AD$4:$AD$103,0),1),"") -> Continues Tests | AT22: =IFERROR(INDEX(Calculations!$V$4:$V$103,MATCH(COLUMN()&"-"&ROW(),Calculations!$AD$4:$AD$103,0),1),"") | BC22: =IFERROR(INDEX(Calculations!$V$4:$V$103,MATCH(COLUMN()&"-"&ROW(),Calculations!$AD$4:$AD$103,0),1),"") | BL22: =IFERROR(INDEX(Calculations!$V$4:$V$103,MATCH(COLUMN()&"-"&ROW(),Calculations!$AD$4:$AD$103,0),1),"") | BU22: =IFERROR(INDEX(Calculations!$V$4:$V$103,MATCH(COLUMN()&"-"&ROW(),Calculations!$AD$4:$AD$103,0),1),"") | CD22: =IFERROR(INDEX(Calculations!$V$4:$V$103,MATCH(COLUMN()&"-"&ROW(),Calculations!$AD$4:$AD$103,0),1),"") | CM22: =IFERROR(INDEX(Calculations!$V$4:$V$103,MATCH(COLUMN()&"-"&ROW(),Calculations!$AD$4:$AD$103,0),1),"")
J23: =IFERROR(INDEX(Calculations!$V$4:$V$103,MATCH(COLUMN()&"-"&ROW(),Calculations!$AD$4:$AD$103,0),1),"") | S23: =IFERROR(INDEX(Calculations!$V$4:$V$103,MATCH(COLUMN()&"-"&ROW(),Calculations!$AD$4:$AD$103,0),1),"") | AB23: =IFERROR(INDEX(Calculations!$V$4:$V$103,MATCH(COLUMN()&"-"&ROW(),Calculations!$AD$4:$AD$103,0),1),"") | AK23: =IFERROR(INDEX(Calculations!$V$4:$V$103,MATCH(COLUMN()&"-"&ROW(),Calculations!$AD$4:$AD$103,0),1),"") | AT23: =IFERROR(INDEX(Calculations!$V$4:$V$103,MATCH(COLUMN()&"-"&ROW(),Calculations!$AD$4:$AD$103,0),1),"") | BC23: =IFERROR(INDEX(Calculations!$V$4:$V$103,MATCH(COLUMN()&"-"&ROW(),Calculations!$AD$4:$AD$103,0),1),"") | BL23: =IFERROR(INDEX(Calculations!$V$4:$V$103,MATCH(COLUMN()&"-"&ROW(),Calculations!$AD$4:$AD$103,0),1),"") | BU23: =IFERROR(INDEX(Calculations!$V$4:$V$103,MATCH(COLUMN()&"-"&ROW(),Calculations!$AD$4:$AD$103,0),1),"") | CD23: =IFERROR(INDEX(Calculations!$V$4:$V$103,MATCH(COLUMN()&"-"&ROW(),Calculations!$AD$4:$AD$103,0),1),"") | CM23: =IFERROR(INDEX(Calculations!$V$4:$V$103,MATCH(COLUMN()&"-"&ROW(),Calculations!$AD$4:$AD$103,0),1),"")
J24: =IFERROR(INDEX(Calculations!$V$4:$V$103,MATCH(COLUMN()&"-"&ROW(),Calculations!$AD$4:$AD$103,0),1),"") | S24: =IFERROR(INDEX(Calculations!$V$4:$V$103,MATCH(COLUMN()&"-"&ROW(),Calculations!$AD$4:$AD$103,0),1),"") -> Test results | AB24: =IFERROR(INDEX(Calculations!$V$4:$V$103,MATCH(COLUMN()&"-"&ROW(),Calculations!$AD$4:$AD$103,0),1),"") | AK24: =IFERROR(INDEX(Calculations!$V$4:$V$103,MATCH(COLUMN()&"-"&ROW(),Calculations!$AD$4:$AD$103,0),1),"") | AT24: =IFERROR(INDEX(Calculations!$V$4:$V$103,MATCH(COLUMN()&"-"&ROW(),Calculations!$AD$4:$AD$103,0),1),"") | BC24: =IFERROR(INDEX(Calculations!$V$4:$V$103,MATCH(COLUMN()&"-"&ROW(),Calculations!$AD$4:$AD$103,0),1),"") | BL24: =IFERROR(INDEX(Calculations!$V$4:$V$103,MATCH(COLUMN()&"-"&ROW(),Calculations!$AD$4:$AD$103,0),1),"") | BU24: =IFERROR(INDEX(Calculations!$V$4:$V$103,MATCH(COLUMN()&"-"&ROW(),Calculations!$AD$4:$AD$103,0),1),"") | CD24: =IFERROR(INDEX(Calculations!$V$4:$V$103,MATCH(COLUMN()&"-"&ROW(),Calculations!$AD$4:$AD$103,0),1),"") | CM24: =IFERROR(INDEX(Calculations!$V$4:$V$103,MATCH(COLUMN()&"-"&ROW(),Calculations!$AD$4:$AD$103,0),1),"")
J25: =IFERROR(INDEX(Calculations!$V$4:$V$103,MATCH(COLUMN()&"-"&ROW(),Calculations!$AD$4:$AD$103,0),1),"") | S25: =IFERROR(INDEX(Calculations!$V$4:$V$103,MATCH(COLUMN()&"-"&ROW(),Calculations!$AD$4:$AD$103,0),1),"") | AB25: =IFERROR(INDEX(Calculations!$V$4:$V$103,MATCH(COLUMN()&"-"&ROW(),Calculations!$AD$4:$AD$103,0),1),"") | AK25: =IFERROR(INDEX(Calculations!$V$4:$V$103,MATCH(COLUMN()&"-"&ROW(),Calculations!$AD$4:$AD$103,0),1),"") | AT25: =IFERROR(INDEX(Calculations!$V$4:$V$103,MATCH(COLUMN()&"-"&ROW(),Calculations!$AD$4:$AD$103,0),1),"") | BC25: =IFERROR(INDEX(Calculations!$V$4:$V$103,MATCH(COLUMN()&"-"&ROW(),Calculations!$AD$4:$AD$103,0),1),"") | BL25: =IFERROR(INDEX(Calculations!$V$4:$V$103,MATCH(COLUMN()&"-"&ROW(),Calculations!$AD$4:$AD$103,0),1),"") | BU25: =IFERROR(INDEX(Calculations!$V$4:$V$103,MATCH(COLUMN()&"-"&ROW(),Calculations!$AD$4:$AD$103,0),1),"") | CD25: =IFERROR(INDEX(Calculations!$V$4:$V$103,MATCH(COLUMN()&"-"&ROW(),Calculations!$AD$4:$AD$103,0),1),"") | CM25: =IFERROR(INDEX(Calculations!$V$4:$V$103,MATCH(COLUMN()&"-"&ROW(),Calculations!$AD$4:$AD$103,0),1),"")
J26: =IFERROR(INDEX(Calculations!$V$4:$V$103,MATCH(COLUMN()&"-"&ROW(),Calculations!$AD$4:$AD$103,0),1),"") | S26: =IFERROR(INDEX(Calculations!$V$4:$V$103,MATCH(COLUMN()&"-"&ROW(),Calculations!$AD$4:$AD$103,0),1),"") | AB26: =IFERROR(INDEX(Calculations!$V$4:$V$103,MATCH(COLUMN()&"-"&ROW(),Calculations!$AD$4:$AD$103,0),1),"") | AK26: =IFERROR(INDEX(Calculations!$V$4:$V$103,MATCH(COLUMN()&"-"&ROW(),Calculations!$AD$4:$AD$103,0),1),"") | AT26: =IFERROR(INDEX(Calculations!$V$4:$V$103,MATCH(COLUMN()&"-"&ROW(),Calculations!$AD$4:$AD$103,0),1),"") | BC26: =IFERROR(INDEX(Calculations!$V$4:$V$103,MATCH(COLUMN()&"-"&ROW(),Calculations!$AD$4:$AD$103,0),1),"") | BL26: =IFERROR(INDEX(Calculations!$V$4:$V$103,MATCH(COLUMN()&"-"&ROW(),Calculations!$AD$4:$AD$103,0),1),"") | BU26: =IFERROR(INDEX(Calculations!$V$4:$V$103,MATCH(COLUMN()&"-"&ROW(),Calculations!$AD$4:$AD$103,0),1),"") | CD26: =IFERROR(INDEX(Calculations!$V$4:$V$103,MATCH(COLUMN()&"-"&ROW(),Calculations!$AD$4:$AD$103,0),1),"") | CM26: =IFERROR(INDEX(Calculations!$V$4:$V$103,MATCH(COLUMN()&"-"&ROW(),Calculations!$AD$4:$AD$103,0),1),"")
J27: =IFERROR(INDEX(Calculations!$V$4:$V$103,MATCH(COLUMN()&"-"&ROW(),Calculations!$AD$4:$AD$103,0),1),"") | S27: =IFERROR(INDEX(Calculations!$V$4:$V$103,MATCH(COLUMN()&"-"&ROW(),Calculations!$AD$4:$AD$103,0),1),"") | AB27: =IFERROR(INDEX(Calculations!$V$4:$V$103,MATCH(COLUMN()&"-"&ROW(),Calculations!$AD$4:$AD$103,0),1),"") | AK27: =IFERROR(INDEX(Calculations!$V$4:$V$103,MATCH(COLUMN()&"-"&ROW(),Calculations!$AD$4:$AD$103,0),1),"") | AT27: =IFERROR(INDEX(Calculations!$V$4:$V$103,MATCH(COLUMN()&"-"&ROW(),Calculations!$AD$4:$AD$103,0),1),"") | BC27: =IFERROR(INDEX(Calculations!$V$4:$V$103,MATCH(COLUMN()&"-"&ROW(),Calculations!$AD$4:$AD$103,0),1),"") | BL27: =IFERROR(INDEX(Calculations!$V$4:$V$103,MATCH(COLUMN()&"-"&ROW(),Calculations!$AD$4:$AD$103,0),1),"") | BU27: =IFERROR(INDEX(Calculations!$V$4:$V$103,MATCH(COLUMN()&"-"&ROW(),Calculations!$AD$4:$AD$103,0),1),"") | CD27: =IFERROR(INDEX(Calculations!$V$4:$V$103,MATCH(COLUMN()&"-"&ROW(),Calculations!$AD$4:$AD$103,0),1),"") | CM27: =IFERROR(INDEX(Calculations!$V$4:$V$103,MATCH(COLUMN()&"-"&ROW(),Calculations!$AD$4:$AD$103,0),1),"")
J28: =IFERROR(INDEX(Calculations!$V$4:$V$103,MATCH(COLUMN()&"-"&ROW(),Calculations!$AD$4:$AD$103,0),1),"") | S28: =IFERROR(INDEX(Calculations!$V$4:$V$103,MATCH(COLUMN()&"-"&ROW(),Calculations!$AD$4:$AD$103,0),1),"") | AB28: =IFERROR(INDEX(Calculations!$V$4:$V$103,MATCH(COLUMN()&"-"&ROW(),Calculations!$AD$4:$AD$103,0),1),"") | AK28: =IFERROR(INDEX(Calculations!$V$4:$V$103,MATCH(COLUMN()&"-"&ROW(),Calculations!$AD$4:$AD$103,0),1),"") | AT28: =IFERROR(INDEX(Calculations!$V$4:$V$103,MATCH(COLUMN()&"-"&ROW(),Calculations!$AD$4:$AD$103,0),1),"") | BC28: =IFERROR(INDEX(Calculations!$V$4:$V$103,MATCH(COLUMN()&"-"&ROW(),Calculations!$AD$4:$AD$103,0),1),"") | BL28: =IFERROR(INDEX(Calculations!$V$4:$V$103,MATCH(COLUMN()&"-"&ROW(),Calculations!$AD$4:$AD$103,0),1),"") | BU28: =IFERROR(INDEX(Calculations!$V$4:$V$103,MATCH(COLUMN()&"-"&ROW(),Calculations!$AD$4:$AD$103,0),1),"") | CD28: =IFERROR(INDEX(Calculations!$V$4:$V$103,MATCH(COLUMN()&"-"&ROW(),Calculations!$AD$4:$AD$103,0),1),"") | CM28: =IFERROR(INDEX(Calculations!$V$4:$V$103,MATCH(COLUMN()&"-"&ROW(),Calculations!$AD$4:$AD$103,0),1),"")
J29: =IFERROR(INDEX(Calculations!$V$4:$V$103,MATCH(COLUMN()&"-"&ROW(),Calculations!$AD$4:$AD$103,0),1),"") | S29: =IFERROR(INDEX(Calculations!$V$4:$V$103,MATCH(COLUMN()&"-"&ROW(),Calculations!$AD$4:$AD$103,0),1),"") | AB29: =IFERROR(INDEX(Calculations!$V$4:$V$103,MATCH(COLUMN()&"-"&ROW(),Calculations!$AD$4:$AD$103,0),1),"") | AK29: =IFERROR(INDEX(Calculations!$V$4:$V$103,MATCH(COLUMN()&"-"&ROW(),Calculations!$AD$4:$AD$103,0),1),"") | AT29: =IFERROR(INDEX(Calculations!$V$4:$V$103,MATCH(COLUMN()&"-"&ROW(),Calculations!$AD$4:$AD$103,0),1),"") | BC29: =IFERROR(INDEX(Calculations!$V$4:$V$103,MATCH(COLUMN()&"-"&ROW(),Calculations!$AD$4:$AD$103,0),1),"") | BL29: =IFERROR(INDEX(Calculations!$V$4:$V$103,MATCH(COLUMN()&"-"&ROW(),Calculations!$AD$4:$AD$103,0),1),"") | BU29: =IFERROR(INDEX(Calculations!$V$4:$V$103,MATCH(COLUMN()&"-"&ROW(),Calculations!$AD$4:$AD$103,0),1),"") | CD29: =IFERROR(INDEX(Calculations!$V$4:$V$103,MATCH(COLUMN()&"-"&ROW(),Calculations!$AD$4:$AD$103,0),1),"") | CM29: =IFERROR(INDEX(Calculations!$V$4:$V$103,MATCH(COLUMN()&"-"&ROW(),Calculations!$AD$4:$AD$103,0),1),"")
J30: =IFERROR(INDEX(Calculations!$V$4:$V$103,MATCH(COLUMN()&"-"&ROW(),Calculations!$AD$4:$AD$103,0),1),"") | S30: =IFERROR(INDEX(Calculations!$V$4:$V$103,MATCH(COLUMN()&"-"&ROW(),Calculations!$AD$4:$AD$103,0),1),"") | AB30: =IFERROR(INDEX(Calculations!$V$4:$V$103,MATCH(COLUMN()&"-"&ROW(),Calculations!$AD$4:$AD$103,0),1),"") | AK30: =IFERROR(INDEX(Calculations!$V$4:$V$103,MATCH(COLUMN()&"-"&ROW(),Calculations!$AD$4:$AD$103,0),1),"") | AT30: =IFERROR(INDEX(Calculations!$V$4:$V$103,MATCH(COLUMN()&"-"&ROW(),Calculations!$AD$4:$AD$103,0),1),"") | BC30: =IFERROR(INDEX(Calculations!$V$4:$V$103,MATCH(COLUMN()&"-"&ROW(),Calculations!$AD$4:$AD$103,0),1),"") | BL30: =IFERROR(INDEX(Calculations!$V$4:$V$103,MATCH(COLUMN()&"-"&ROW(),Calculations!$AD$4:$AD$103,0),1),"") | BU30: =IFERROR(INDEX(Calculations!$V$4:$V$103,MATCH(COLUMN()&"-"&ROW(),Calculations!$AD$4:$AD$103,0),1),"") | CD30: =IFERROR(INDEX(Calculations!$V$4:$V$103,MATCH(COLUMN()&"-"&ROW(),Calculations!$AD$4:$AD$103,0),1),"") | CM30: =IFERROR(INDEX(Calculations!$V$4:$V$103,MATCH(COLUMN()&"-"&ROW(),Calculations!$AD$4:$AD$103,0),1),"")
J31: =IFERROR(INDEX(Calculations!$V$4:$V$103,MATCH(COLUMN()&"-"&ROW(),Calculations!$AD$4:$AD$103,0),1),"") | S31: =IFERROR(INDEX(Calculations!$V$4:$V$103,MATCH(COLUMN()&"-"&ROW(),Calculations!$AD$4:$AD$103,0),1),"") | AB31: =IFERROR(INDEX(Calculations!$V$4:$V$103,MATCH(COLUMN()&"-"&ROW(),Calculations!$AD$4:$AD$103,0),1),"") | AK31: =IFERROR(INDEX(Calculations!$V$4:$V$103,MATCH(COLUMN()&"-"&ROW(),Calculations!$AD$4:$AD$103,0),1),"") | AT31: =IFERROR(INDEX(Calculations!$V$4:$V$103,MATCH(COLUMN()&"-"&ROW(),Calculations!$AD$4:$AD$103,0),1),"") | BC31: =IFERROR(INDEX(Calculations!$V$4:$V$103,MATCH(COLUMN()&"-"&ROW(),Calculations!$AD$4:$AD$103,0),1),"") | BL31: =IFERROR(INDEX(Calculations!$V$4:$V$103,MATCH(COLUMN()&"-"&ROW(),Calculations!$AD$4:$AD$103,0),1),"") | BU31: =IFERROR(INDEX(Calculations!$V$4:$V$103,MATCH(COLUMN()&"-"&ROW(),Calculations!$AD$4:$AD$103,0),1),"") | CD31: =IFERROR(INDEX(Calculations!$V$4:$V$103,MATCH(COLUMN()&"-"&ROW(),Calculations!$AD$4:$AD$103,0),1),"") | CM31: =IFERROR(INDEX(Calculations!$V$4:$V$103,MATCH(COLUMN()&"-"&ROW(),Calculations!$AD$4:$AD$103,0),1),"")
... J217: =IFERROR(INDEX(Calculations!$V$4:$V$103,MATCH(COLUMN()&"-"&ROW(),Calculations!$AD$4:$AD$103,0),1),"") | S217: =IFERROR(INDEX(Calculations!$V$4:$V$103,MATCH(COLUMN()&"-"&ROW(),Calculations!$AD$4:$AD$103,0),1),"") | AB217: =IFERROR(INDEX(Calculations!$V$4:$V$103,MATCH(COLUMN()&"-"&ROW(),Calculations!$AD$4:$AD$103,0),1),"") | AK217: =IFERROR(INDEX(Calculations!$V$4:$V$103,MATCH(COLUMN()&"-"&ROW(),Calculations!$AD$4:$AD$103,0),1),"") | AT217: =IFERROR(INDEX(Calculations!$V$4:$V$103,MATCH(COLUMN()&"-"&ROW(),Calculations!$AD$4:$AD$103,0),1),"") | BC217: =IFERROR(INDEX(Calculations!$V$4:$V$103,MATCH(COLUMN()&"-"&ROW(),Calculations!$AD$4:$AD$103,0),1),"") | BL217: =IFERROR(INDEX(Calculations!$V$4:$V$103,MATCH(COLUMN()&"-"&ROW(),Calculations!$AD$4:$AD$103,0),1),"") | BU217: =IFERROR(INDEX(Calculations!$V$4:$V$103,MATCH(COLUMN()&"-"&ROW(),Calculations!$AD$4:$AD$103,0),1),"") | CD217: =IFERROR(INDEX(Calculations!$V$4:$V$103,MATCH(COLUMN()&"-"&ROW(),Calculations!$AD$4:$AD$103,0),1),"") | CM217: =IFERROR(INDEX(Calculations!$V$4:$V$103,MATCH(COLUMN()&"-"&ROW(),Calculations!$AD$4:$AD$103,0),1),"")

Sheet Settings
C2: ROADMAP TEMPLATE
C3: SETTINGS
C6: PHASES | E6: VERTICAL SPLIT | F6: COLOR | H6: TIME RANGE | I6: SIZE | J6: TEXT LENGTH
C7: Q1 - 2022 | E7: R&D Team | H7: Small | I7: 3 | J7: 10
C8: Q2 - 2022 | E8: Marketing | H8: Medium | I8: 4 | J8: 30
C9: Q3 - 2022 | E9: Sales | H9: Large | I9: 6 | J9: 35
C10: Q4 - 2022 | E10: Quality A.

Sheet Calculations
AG1: Formula Patern:
AC2: =MAX(AC4:AC103) -> 24 | AF2: Colors formatting | AH2: =MOD((AH3-$AH$3),divide)+1 -> 1 | AI2: =MOD((AI3-$AH$3),divide)+1 -> 2 | AJ2: =MOD((AJ3-$AH$3),divide)+1 -> 3 | AK2: =MOD((AK3-$AH$3),divide)+1 -> 4 | AL2: =MOD((AL3-$AH$3),divide)+1 -> 5 | AM2: =MOD((AM3-$AH$3),divide)+1 -> 6 | AN2: =MOD((AN3-$AH$3),divide)+1 -> 7 | AO2: =MOD((AO3-$AH$3),divide)+1 -> 8 | ... DS2: =MOD((DS3-$AH$3),divide)+1 -> 9
B3: Split | C3: =E26 -> Q1 - 2022 | D3: =E27 -> Q2 - 2022 | E3: =E28 -> Q3 - 2022 | F3: =E29 -> Q4 - 2022 | G3: =E30 -> 0 | H3: =E31 -> 0 | I3: =$E32 -> 0 | J3: =$E33 -> 0 | K3: =E34 -> 0 | L3: =E35 -> 0 | M3: MAX | N3: Labels | O3: Position Y Offset | Q3: Formatting color | T3: # | U3: Goals | V3: Trimmed | W3: Milestone | X3: Time Size | Y3: #size | Z3: Stage | AA3: Department | AB3: Position X | AC3: Position Y | AD3: X-Y | AF3: Color | AG3: R/C | AH3: =COLUMN(startCell) -> 10 | AI3: =AH3+1 -> 11 | AJ3: =AI3+1 -> 12 | AK3: =AJ3+1 -> 13 | AL3: =AK3+1 -> 14 | AM3: =AL3+1 -> 15 | AN3: =AM3+1 -> 16 | AO3: =AN3+1 -> 17 | AP3: =AO3+1 -> 18 | ... DS3: =DR3+1 -> 99
B4: =IF(LEN(Settings!E7)>0,Settings!E7,"Empty-"&ROW()) -> R&D Team | C4: =COUNTIFS($AA$4:$AA$103,$B4,$Z$4:$Z$103,C$3) -> 2 | D4: =COUNTIFS($AA$4:$AA$103,$B4,$Z$4:$Z$103,D$3) -> 1 | E4: =COUNTIFS($AA$4:$AA$103,$B4,$Z$4:$Z$103,E$3) -> 2 | F4: =COUNTIFS($AA$4:$AA$103,$B4,$Z$4:$Z$103,F$3) -> 1 | G4: =COUNTIFS($AA$4:$AA$103,$B4,$Z$4:$Z$103,G$3) -> 0 | H4: =COUNTIFS($AA$4:$AA$103,$B4,$Z$4:$Z$103,H$3) -> 0 | I4: =COUNTIFS($AA$4:$AA$103,$B4,$Z$4:$Z$103,I$3) -> 0 | J4: =COUNTIFS($AA$4:$AA$103,$B4,$Z$4:$Z$103,J$3) -> 0 | ... L4: =COUNTIFS($AA$4:$AA$103,$B4,$Z$4:$Z$103,L$3) -> 0 | M4: =MAX(C4:L4) -> 2 | N4: =IF(M4=0,"",B4) -> R&D Team | O4: =IF(M4>0,M4*2+1,M4) -> 5 | P4: 0 | Q4: =P5+ROW(startCell) -> 10 | R4: 0 | T4: 1 | U4: =IFERROR(TRIM(W4&" "&INDEX(Roadmap!B$6:B$105,$T4,1)),"") -> Research | V4: =IF(LEN(U4)>Y4,LEFT(U4,Y4)&"…",U4) -> Research | W4: =IFERROR(INDEX(Roadmap!C$6:C$105,$T4,1)&"","") | X4: =IF(LEN(U4)>0,IFERROR(INDEX(Settings!$I$7:$I$9,MATCH(INDEX(Roadmap!D$6:D$105,$T4,1),Settings!$H$7:$H$9,0),1),large),"") -> 3 | Y4: =IFERROR(INDEX(Settings!$J$7:$J$9,MATCH(INDEX(Roadmap!D$6:D$105,$T4,1),Settings!$H$7:$H$9,0),1),300) -> 10 | Z4: =IFERROR(IF(LEN($U4)=0,"",INDEX(Roadmap!E$6:E$105,$T4,1)&""),"") -> Q1 - 2022 | AA4: =IFERROR(IF(LEN($U4)=0,"",INDEX(Roadmap!F$6:F$105,$T4,1)&""),"") -> R&D Team | AB4: =IFERROR((MATCH(Z4,$C$3:$L$3,0))*divide+COLUMN(startCell)-divide,"") -> 10 | AC4: =IFERROR(IF(OR(U4="",Z4=""),"",2*COUNTIFS($Z$4:Z4,Z4,$AA$4:AA4,AA4)+INDEX($P$4:$P$16,MATCH(AA4,$B$4:$B$16,0),1)+ROW(startCell)),"") -> 7 | AD4: =AB4&"-"&AC4 -> 10-7 | AF4: =IF(ISNUMBER(MATCH(AG4,$AC$4:$AC$303,0)),1,"") | AG4: =ROW(startCell)+1 -> 6 | AH4: =IFERROR(IF(OR($AF4="",AH$3>maxCol),"",IF(ISNUMBER(MATCH(AH$3+1-AH$2&"-"&$AG4,$AD$4:$AD$103,0)),$AF4,"")),"") | AI4: =IFERROR(IF(AH4="","",IF(INDEX($X$4:$X$103,MATCH(AI$3+1-AI$2&"-"&$AG4,$AD$4:$AD$103,0),1)>=AI$2,$AF4,"")),"") | AJ4: =IFERROR(IF(AH4="","",IF(INDEX($X$4:$X$103,MATCH(AJ$3+1-AJ$2&"-"&$AG4,$AD$4:$AD$103,0),1)>=AJ$2,$AF4,"")),"") | AK4: =IFERROR(IF(AH4="","",IF(INDEX($X$4:$X$103,MATCH(AK$3+1-AK$2&"-"&$AG4,$AD$4:$AD$103,0),1)>=AK$2,$AF4,"")),"") | AL4: =IFERROR(IF(AH4="","",IF(INDEX($X$4:$X$103,MATCH(AL$3+1-AL$2&"-"&$AG4,$AD$4:$AD$103,0),1)>=AL$2,$AF4,"")),"") | AM4: =IFERROR(IF(AH4="","",IF(INDEX($X$4:$X$103,MATCH(AM$3+1-AM$2&"-"&$AG4,$AD$4:$AD$103,0),1)>=AM$2,$AF4,"")),"") | AQ4: =IFERROR(IF(OR($AF4="",AQ$3>maxCol),"",IF(ISNUMBER(MATCH(AQ$3+1-AQ$2&"-"&$AG4,$AD$4:$AD$103,0)),$AF4,"")),"") | AR4: =IFERROR(IF(AQ4="","",IF(INDEX($X$4:$X$103,MATCH(AR$3+1-AR$2&"-"&$AG4,$AD$4:$AD$103,0),1)>=AR$2,$AF4,"")),"") | AS4: =IFERROR(IF(AQ4="","",IF(INDEX($X$4:$X$103,MATCH(AS$3+1-AS$2&"-"&$AG4,$AD$4:$AD$103,0),1)>=AS$2,$AF4,"")),"") | AT4: =IFERROR(IF(AQ4="","",IF(INDEX($X$4:$X$103,MATCH(AT$3+1-AT$2&"-"&$AG4,$AD$4:$AD$103,0),1)>=AT$2,$AF4,"")),"") | AU4: =IFERROR(IF(AQ4="","",IF(INDEX($X$4:$X$103,MATCH(AU$3+1-AU$2&"-"&$AG4,$AD$4:$AD$103,0),1)>=AU$2,$AF4,"")),"") | AV4: =IFERROR(IF(AQ4="","",IF(INDEX($X$4:$X$103,MATCH(AV$3+1-AV$2&"-"&$AG4,$AD$4:$AD$103,0),1)>=AV$2,$AF4,"")),"") | AZ4: =IFERROR(IF(OR($AF4="",AZ$3>maxCol),"",IF(ISNUMBER(MATCH(AZ$3+1-AZ$2&"-"&$AG4,$AD$4:$AD$103,0)),$AF4,"")),"") | BA4: =IFERROR(IF(AZ4="","",IF(INDEX($X$4:$X$103,MATCH(BA$3+1-BA$2&"-"&$AG4,$AD$4:$AD$103,0),1)>=BA$2,$AF4,"")),"") | BB4: =IFERROR(IF(AZ4="","",IF(INDEX($X$4:$X$103,MATCH(BB$3+1-BB$2&"-"&$AG4,$AD$4:$AD$103,0),1)>=BB$2,$AF4,"")),"") | BC4: =IFERROR(IF(AZ4="","",IF(INDEX($X$4:$X$103,MATCH(BC$3+1-BC$2&"-"&$AG4,$AD$4:$AD$103,0),1)>=BC$2,$AF4,"")),"") | BD4: =IFERROR(IF(AZ4="","",IF(INDEX($X$4:$X$103,MATCH(BD$3+1-BD$2&"-"&$AG4,$AD$4:$AD$103,0),1)>=BD$2,$AF4,"")),"") | BE4: =IFERROR(IF(AZ4="","",IF(INDEX($X$4:$X$103,MATCH(BE$3+1-BE$2&"-"&$AG4,$AD$4:$AD$103,0),1)>=BE$2,$AF4,"")),"") | BI4: =IFERROR(IF(OR($AF4="",BI$3>maxCol),"",IF(ISNUMBER(MATCH(BI$3+1-BI$2&"-"&$AG4,$AD$4:$AD$103,0)),$AF4,"")),"") | BJ4: =IFERROR(IF(BI4="","",IF(INDEX($X$4:$X$103,MATCH(BJ$3+1-BJ$2&"-"&$AG4,$AD$4:$AD$103,0),1)>=BJ$2,$AF4,"")),"") | BK4: =IFERROR(IF(BI4="","",IF(INDEX($X$4:$X$103,MATCH(BK$3+1-BK$2&"-"&$AG4,$AD$4:$AD$103,0),1)>=BK$2,$AF4,"")),"") | BL4: =IFERROR(IF(BI4="","",IF(INDEX($X$4:$X$103,MATCH(BL$3+1-BL$2&"-"&$AG4,$AD$4:$AD$103,0),1)>=BL$2,$AF4,"")),"") | BM4: =IFERROR(IF(BI4="","",IF(INDEX($X$4:$X$103,MATCH(BM$3+1-BM$2&"-"&$AG4,$AD$4:$AD$103,0),1)>=BM$2,$AF4,"")),"") | BN4: =IFERROR(IF(BI4="","",IF(INDEX($X$4:$X$103,MATCH(BN$3+1-BN$2&"-"&$AG4,$AD$4:$AD$103,0),1)>=BN$2,$AF4,"")),"") | BR4: =IFERROR(IF(OR($AF4="",BR$3>maxCol),"",IF(ISNUMBER(MATCH(BR$3+1-BR$2&"-"&$AG4,$AD$4:$AD$103,0)),$AF4,"")),"") | BS4: =IFERROR(IF(BR4="","",IF(INDEX($X$4:$X$103,MATCH(BS$3+1-BS$2&"-"&$AG4,$AD$4:$AD$103,0),1)>=BS$2,$AF4,"")),"") | BT4: =IFERROR(IF(BR4="","",IF(INDEX($X$4:$X$103,MATCH(BT$3+1-BT$2&"-"&$AG4,$AD$4:$AD$103,0),1)>=BT$2,$AF4,"")),"") | BU4: =IFERROR(IF(BR4="","",IF(INDEX($X$4:$X$103,MATCH(BU$3+1-BU$2&"-"&$AG4,$AD$4:$AD$103,0),1)>=BU$2,$AF4,"")),"") | BV4: =IFERROR(IF(BR4="","",IF(INDEX($X$4:$X$103,MATCH(BV$3+1-BV$2&"-"&$AG4,$AD$4:$AD$103,0),1)>=BV$2,$AF4,"")),"") | BW4: =IFERROR(IF(BR4="","",IF(INDEX($X$4:$X$103,MATCH(BW$3+1-BW$2&"-"&$AG4,$AD$4:$AD$103,0),1)>=BW$2,$AF4,"")),"") | CA4: =IFERROR(IF(OR($AF4="",CA$3>maxCol),"",IF(ISNUMBER(MATCH(CA$3+1-CA$2&"-"&$AG4,$AD$4:$AD$103,0)),$AF4,"")),"") | CB4: =IFERROR(IF(CA4="","",IF(INDEX($X$4:$X$103,MATCH(CB$3+1-CB$2&"-"&$AG4,$AD$4:$AD$103,0),1)>=CB$2,$AF4,"")),"") | CC4: =IFERROR(IF(CA4="","",IF(INDEX($X$4:$X$103,MATCH(CC$3+1-CC$2&"-"&$AG4,$AD$4:$AD$103,0),1)>=CC$2,$AF4,"")),"") | CD4: =IFERROR(IF(CA4="","",IF(INDEX($X$4:$X$103,MATCH(CD$3+1-CD$2&"-"&$AG4,$AD$4:$AD$103,0),1)>=CD$2,$AF4,"")),"") | CE4: =IFERROR(IF(CA4="","",IF(INDEX($X$4:$X$103,MATCH(CE$3+1-CE$2&"-"&$AG4,$AD$4:$AD$103,0),1)>=CE$2,$AF4,"")),"") | CF4: =IFERROR(IF(CA4="","",IF(INDEX($X$4:$X$103,MATCH(CF$3+1-CF$2&"-"&$AG4,$AD$4:$AD$103,0),1)>=CF$2,$AF4,"")),"") | CJ4: =IFERROR(IF(OR($AF4="",CJ$3>maxCol),"",IF(ISNUMBER(MATCH(CJ$3+1-CJ$2&"-"&$AG4,$AD$4:$AD$103,0)),$AF4,"")),"") | CK4: =IFERROR(IF(CJ4="","",IF(INDEX($X$4:$X$103,MATCH(CK$3+1-CK$2&"-"&$AG4,$AD$4:$AD$103,0),1)>=CK$2,$AF4,"")),"") | CL4: =IFERROR(IF(CJ4="","",IF(INDEX($X$4:$X$103,MATCH(CL$3+1-CL$2&"-"&$AG4,$AD$4:$AD$103,0),1)>=CL$2,$AF4,"")),"") | CM4: =IFERROR(IF(CJ4="","",IF(INDEX($X$4:$X$103,MATCH(CM$3+1-CM$2&"-"&$AG4,$AD$4:$AD$103,0),1)>=CM$2,$AF4,"")),"") | CN4: =IFERROR(IF(CJ4="","",IF(INDEX($X$4:$X$103,MATCH(CN$3+1-CN$2&"-"&$AG4,$AD$4:$AD$103,0),1)>=CN$2,$AF4,"")),"") | CO4: =IFERROR(IF(CJ4="","",IF(INDEX($X$4:$X$103,MATCH(CO$3+1-CO$2&"-"&$AG4,$AD$4:$AD$103,0),1)>=CO$2,$AF4,"")),"") | CS4: =IFERROR(IF(OR($AF4="",CS$3>maxCol),"",IF(ISNUMBER(MATCH(CS$3+1-CS$2&"-"&$AG4,$AD$4:$AD$103,0)),$AF4,"")),"") | CT4: =IFERROR(IF(CS4="","",IF(INDEX($X$4:$X$103,MATCH(CT$3+1-CT$2&"-"&$AG4,$AD$4:$AD$103,0),1)>=CT$2,$AF4,"")),"") | CU4: =IFERROR(IF(CS4="","",IF(INDEX($X$4:$X$103,MATCH(CU$3+1-CU$2&"-"&$AG4,$AD$4:$AD$103,0),1)>=CU$2,$AF4,"")),"") | CV4: =IFERROR(IF(CS4="","",IF(INDEX($X$4:$X$103,MATCH(CV$3+1-CV$2&"-"&$AG4,$AD$4:$AD$103,0),1)>=CV$2,$AF4,"")),"") | CW4: =IFERROR(IF(CS4="","",IF(INDEX($X$4:$X$103,MATCH(CW$3+1-CW$2&"-"&$AG4,$AD$4:$AD$103,0),1)>=CW$2,$AF4,"")),"") | CX4: =IFERROR(IF(CS4="","",IF(INDEX($X$4:$X$103,MATCH(CX$3+1-CX$2&"-"&$AG4,$AD$4:$AD$103,0),1)>=CX$2,$AF4,"")),"") | DB4: =IFERROR(IF(OR($AF4="",DB$3>maxCol),"",IF(ISNUMBER(MATCH(DB$3+1-DB$2&"-"&$AG4,$AD$4:$AD$103,0)),$AF4,"")),"") | DC4: =IFERROR(IF(DB4="","",IF(INDEX($X$4:$X$103,MATCH(DC$3+1-DC$2&"-"&$AG4,$AD$4:$AD$103,0),1)>=DC$2,$AF4,"")),"") | DD4: =IFERROR(IF(DB4="","",IF(INDEX($X$4:$X$103,MATCH(DD$3+1-DD$2&"-"&$AG4,$AD$4:$AD$103,0),1)>=DD$2,$AF4,"")),"") | DE4: =IFERROR(IF(DB4="","",IF(INDEX($X$4:$X$103,MATCH(DE$3+1-DE$2&"-"&$AG4,$AD$4:$AD$103,0),1)>=DE$2,$AF4,"")),"") | DF4: =IFERROR(IF(DB4="","",IF(INDEX($X$4:$X$103,MATCH(DF$3+1-DF$2&"-"&$AG4,$AD$4:$AD$103,0),1)>=DF$2,$AF4,"")),"") | DG4: =IFERROR(IF(DB4="","",IF(INDEX($X$4:$X$103,MATCH(DG$3+1-DG$2&"-"&$AG4,$AD$4:$AD$103,0),1)>=DG$2,$AF4,"")),"") | DK4: =IFERROR(IF(OR($AF4="",DK$3>maxCol),"",IF(ISNUMBER(MATCH(DK$3+1-DK$2&"-"&$AG4,$AD$4:$AD$103,0)),$AF4,"")),"") | DL4: =IFERROR(IF(DK4="","",IF(INDEX($X$4:$X$103,MATCH(DL$3+1-DL$2&"-"&$AG4,$AD$4:$AD$103,0),1)>=DL$2,$AF4,"")),"") | DM4: =IFERROR(IF(DK4="","",IF(INDEX($X$4:$X$103,MATCH(DM$3+1-DM$2&"-"&$AG4,$AD$4:$AD$103,0),1)>=DM$2,$AF4,"")),"") | DN4: =IFERROR(IF(DK4="","",IF(INDEX($X$4:$X$103,MATCH(DN$3+1-DN$2&"-"&$AG4,$AD$4:$AD$103,0),1)>=DN$2,$AF4,"")),"") | DO4: =IFERROR(IF(DK4="","",IF(INDEX($X$4:$X$103,MATCH(DO$3+1-DO$2&"-"&$AG4,$AD$4:$AD$103,0),1)>=DO$2,$AF4,"")),"") | DP4: =IFERROR(IF(DK4="","",IF(INDEX($X$4:$X$103,MATCH(DP$3+1-DP$2&"-"&$AG4,$AD$4:$AD$103,0),1)>=DP$2,$AF4,"")),"")
B5: =IF(LEN(Settings!E8)>0,Settings!E8,"Empty-"&ROW()) -> Marketing | C5: =COUNTIFS($AA$4:$AA$103,$B5,$Z$4:$Z$103,C$3) -> 1 | D5: =COUNTIFS($AA$4:$AA$103,$B5,$Z$4:$Z$103,D$3) -> 0 | E5: =COUNTIFS($AA$4:$AA$103,$B5,$Z$4:$Z$103,E$3) -> 0 | F5: =COUNTIFS($AA$4:$AA$103,$B5,$Z$4:$Z$103,F$3) -> 2 | G5: =COUNTIFS($AA$4:$AA$103,$B5,$Z$4:$Z$103,G$3) -> 0 | H5: =COUNTIFS($AA$4:$AA$103,$B5,$Z$4:$Z$103,H$3) -> 0 | I5: =COUNTIFS($AA$4:$AA$103,$B5,$Z$4:$Z$103,I$3) -> 0 | J5: =COUNTIFS($AA$4:$AA$103,$B5,$Z$4:$Z$103,J$3) -> 0 | ... L5: =COUNTIFS($AA$4:$AA$103,$B5,$Z$4:$Z$103,L$3) -> 0 | M5: =MAX(C5:L5) -> 2 | N5: =IF(M5=0,"",B5) -> Marketing | O5: =IF(M5>0,M5*2+1,M5) -> 5 | P5: =SUM($O$4:O4) -> 5 | Q5: =P6+ROW(startCell) -> 15 | R5: =Q4 -> 10 | T5: 2 | U5: =IFERROR(TRIM(W5&" "&INDEX(Roadmap!B$6:B$105,$T5,1)),"") -> ★ Draft of the product | V5: =IF(LEN(U5)>Y5,LEFT(U5,Y5)&"…",U5) -> ★ Draft of the product | W5: =IFERROR(INDEX(Roadmap!C$6:C$105,$T5,1)&"","") -> ★ | X5: =IF(LEN(U5)>0,IFERROR(INDEX(Settings!$I$7:$I$9,MATCH(INDEX(Roadmap!D$6:D$105,$T5,1),Settings!$H$7:$H$9,0),1),large),"") -> 6 | Y5: =IFERROR(INDEX(Settings!$J$7:$J$9,MATCH(INDEX(Roadmap!D$6:D$105,$T5,1),Settings!$H$7:$H$9,0),1),300) -> 35 | Z5: =IFERROR(IF(LEN($U5)=0,"",INDEX(Roadmap!E$6:E$105,$T5,1)&""),"") -> Q1 - 2022 | AA5: =IFERROR(IF(LEN($U5)=0,"",INDEX(Roadmap!F$6:F$105,$T5,1)&""),"") -> R&D Team | AB5: =IFERROR((MATCH(Z5,$C$3:$L$3,0))*divide+COLUMN(startCell)-divide,"") -> 10 | AC5: =IFERROR(IF(OR(U5="",Z5=""),"",2*COUNTIFS($Z$4:Z5,Z5,$AA$4:AA5,AA5)+INDEX($P$4:$P$16,MATCH(AA5,$B$4:$B$16,0),1)+ROW(startCell)),"") -> 9 | AD5: =AB5&"-"&AC5 -> 10-9 | AF5: =IF(ISNUMBER(MATCH(AG5,$AC$4:$AC$303,0)),MATCH(AG5,$R$4:$R$16,1),"") -> 1 | AG5: =AG4+1 -> 7 | AH5: =IFERROR(IF(OR($AF5="",AH$3>maxCol),"",IF(ISNUMBER(MATCH(AH$3+1-AH$2&"-"&$AG5,$AD$4:$AD$103,0)),$AF5,"")),"") -> 1 | AI5: =IFERROR(IF(AH5="","",IF(INDEX($X$4:$X$103,MATCH(AI$3+1-AI$2&"-"&$AG5,$AD$4:$AD$103,0),1)>=AI$2,$AF5,"")),"") -> 1 | AJ5: =IFERROR(IF(AH5="","",IF(INDEX($X$4:$X$103,MATCH(AJ$3+1-AJ$2&"-"&$AG5,$AD$4:$AD$103,0),1)>=AJ$2,$AF5,"")),"") -> 1 | AK5: =IFERROR(IF(AH5="","",IF(INDEX($X$4:$X$103,MATCH(AK$3+1-AK$2&"-"&$AG5,$AD$4:$AD$103,0),1)>=AK$2,$AF5,"")),"") | AL5: =IFERROR(IF(AH5="","",IF(INDEX($X$4:$X$103,MATCH(AL$3+1-AL$2&"-"&$AG5,$AD$4:$AD$103,0),1)>=AL$2,$AF5,"")),"") | AM5: =IFERROR(IF(AH5="","",IF(INDEX($X$4:$X$103,MATCH(AM$3+1-AM$2&"-"&$AG5,$AD$4:$AD$103,0),1)>=AM$2,$AF5,"")),"") | AQ5: =IFERROR(IF(OR($AF5="",AQ$3>maxCol),"",IF(ISNUMBER(MATCH(AQ$3+1-AQ$2&"-"&$AG5,$AD$4:$AD$103,0)),$AF5,"")),"") -> 1 | AR5: =IFERROR(IF(AQ5="","",IF(INDEX($X$4:$X$103,MATCH(AR$3+1-AR$2&"-"&$AG5,$AD$4:$AD$103,0),1)>=AR$2,$AF5,"")),"") -> 1 | AS5: =IFERROR(IF(AQ5="","",IF(INDEX($X$4:$X$103,MATCH(AS$3+1-AS$2&"-"&$AG5,$AD$4:$AD$103,0),1)>=AS$2,$AF5,"")),"") -> 1 | AT5: =IFERROR(IF(AQ5="","",IF(INDEX($X$4:$X$103,MATCH(AT$3+1-AT$2&"-"&$AG5,$AD$4:$AD$103,0),1)>=AT$2,$AF5,"")),"") -> 1 | AU5: =IFERROR(IF(AQ5="","",IF(INDEX($X$4:$X$103,MATCH(AU$3+1-AU$2&"-"&$AG5,$AD$4:$AD$103,0),1)>=AU$2,$AF5,"")),"") -> 1 | AV5: =IFERROR(IF(AQ5="","",IF(INDEX($X$4:$X$103,MATCH(AV$3+1-AV$2&"-"&$AG5,$AD$4:$AD$103,0),1)>=AV$2,$AF5,"")),"") -> 1 | AZ5: =IFERROR(IF(OR($AF5="",AZ$3>maxCol),"",IF(ISNUMBER(MATCH(AZ$3+1-AZ$2&"-"&$AG5,$AD$4:$AD$103,0)),$AF5,"")),"") -> 1 | BA5: =IFERROR(IF(AZ5="","",IF(INDEX($X$4:$X$103,MATCH(BA$3+1-BA$2&"-"&$AG5,$AD$4:$AD$103,0),1)>=BA$2,$AF5,"")),"") -> 1 | BB5: =IFERROR(IF(AZ5="","",IF(INDEX($X$4:$X$103,MATCH(BB$3+1-BB$2&"-"&$AG5,$AD$4:$AD$103,0),1)>=BB$2,$AF5,"")),"") -> 1 | BC5: =IFERROR(IF(AZ5="","",IF(INDEX($X$4:$X$103,MATCH(BC$3+1-BC$2&"-"&$AG5,$AD$4:$AD$103,0),1)>=BC$2,$AF5,"")),"") -> 1 | BD5: =IFERROR(IF(AZ5="","",IF(INDEX($X$4:$X$103,MATCH(BD$3+1-BD$2&"-"&$AG5,$AD$4:$AD$103,0),1)>=BD$2,$AF5,"")),"") | BE5: =IFERROR(IF(AZ5="","",IF(INDEX($X$4:$X$103,MATCH(BE$3+1-BE$2&"-"&$AG5,$AD$4:$AD$103,0),1)>=BE$2,$AF5,"")),"") | BI5: =IFERROR(IF(OR($AF5="",BI$3>maxCol),"",IF(ISNUMBER(MATCH(BI$3+1-BI$2&"-"&$AG5,$AD$4:$AD$103,0)),$AF5,"")),"") -> 1 | BJ5: =IFERROR(IF(BI5="","",IF(INDEX($X$4:$X$103,MATCH(BJ$3+1-BJ$2&"-"&$AG5,$AD$4:$AD$103,0),1)>=BJ$2,$AF5,"")),"") -> 1 | BK5: =IFERROR(IF(BI5="","",IF(INDEX($X$4:$X$103,MATCH(BK$3+1-BK$2&"-"&$AG5,$AD$4:$AD$103,0),1)>=BK$2,$AF5,"")),"") -> 1 | BL5: =IFERROR(IF(BI5="","",IF(INDEX($X$4:$X$103,MATCH(BL$3+1-BL$2&"-"&$AG5,$AD$4:$AD$103,0),1)>=BL$2,$AF5,"")),"") -> 1 | BM5: =IFERROR(IF(BI5="","",IF(INDEX($X$4:$X$103,MATCH(BM$3+1-BM$2&"-"&$AG5,$AD$4:$AD$103,0),1)>=BM$2,$AF5,"")),"") | BN5: =IFERROR(IF(BI5="","",IF(INDEX($X$4:$X$103,MATCH(BN$3+1-BN$2&"-"&$AG5,$AD$4:$AD$103,0),1)>=BN$2,$AF5,"")),"") | BR5: =IFERROR(IF(OR($AF5="",BR$3>maxCol),"",IF(ISNUMBER(MATCH(BR$3+1-BR$2&"-"&$AG5,$AD$4:$AD$103,0)),$AF5,"")),"") | BS5: =IFERROR(IF(BR5="","",IF(INDEX($X$4:$X$103,MATCH(BS$3+1-BS$2&"-"&$AG5,$AD$4:$AD$103,0),1)>=BS$2,$AF5,"")),"") | BT5: =IFERROR(IF(BR5="","",IF(INDEX($X$4:$X$103,MATCH(BT$3+1-BT$2&"-"&$AG5,$AD$4:$AD$103,0),1)>=BT$2,$AF5,"")),"") | BU5: =IFERROR(IF(BR5="","",IF(INDEX($X$4:$X$103,MATCH(BU$3+1-BU$2&"-"&$AG5,$AD$4:$AD$103,0),1)>=BU$2,$AF5,"")),"") | BV5: =IFERROR(IF(BR5="","",IF(INDEX($X$4:$X$103,MATCH(BV$3+1-BV$2&"-"&$AG5,$AD$4:$AD$103,0),1)>=BV$2,$AF5,"")),"") | BW5: =IFERROR(IF(BR5="","",IF(INDEX($X$4:$X$103,MATCH(BW$3+1-BW$2&"-"&$AG5,$AD$4:$AD$103,0),1)>=BW$2,$AF5,"")),"") | CA5: =IFERROR(IF(OR($AF5="",CA$3>maxCol),"",IF(ISNUMBER(MATCH(CA$3+1-CA$2&"-"&$AG5,$AD$4:$AD$103,0)),$AF5,"")),"") | CB5: =IFERROR(IF(CA5="","",IF(INDEX($X$4:$X$103,MATCH(CB$3+1-CB$2&"-"&$AG5,$AD$4:$AD$103,0),1)>=CB$2,$AF5,"")),"") | CC5: =IFERROR(IF(CA5="","",IF(INDEX($X$4:$X$103,MATCH(CC$3+1-CC$2&"-"&$AG5,$AD$4:$AD$103,0),1)>=CC$2,$AF5,"")),"") | CD5: =IFERROR(IF(CA5="","",IF(INDEX($X$4:$X$103,MATCH(CD$3+1-CD$2&"-"&$AG5,$AD$4:$AD$103,0),1)>=CD$2,$AF5,"")),"") | CE5: =IFERROR(IF(CA5="","",IF(INDEX($X$4:$X$103,MATCH(CE$3+1-CE$2&"-"&$AG5,$AD$4:$AD$103,0),1)>=CE$2,$AF5,"")),"") | CF5: =IFERROR(IF(CA5="","",IF(INDEX($X$4:$X$103,MATCH(CF$3+1-CF$2&"-"&$AG5,$AD$4:$AD$103,0),1)>=CF$2,$AF5,"")),"") | CJ5: =IFERROR(IF(OR($AF5="",CJ$3>maxCol),"",IF(ISNUMBER(MATCH(CJ$3+1-CJ$2&"-"&$AG5,$AD$4:$AD$103,0)),$AF5,"")),"") | CK5: =IFERROR(IF(CJ5="","",IF(INDEX($X$4:$X$103,MATCH(CK$3+1-CK$2&"-"&$AG5,$AD$4:$AD$103,0),1)>=CK$2,$AF5,"")),"") | CL5: =IFERROR(IF(CJ5="","",IF(INDEX($X$4:$X$103,MATCH(CL$3+1-CL$2&"-"&$AG5,$AD$4:$AD$103,0),1)>=CL$2,$AF5,"")),"") | CM5: =IFERROR(IF(CJ5="","",IF(INDEX($X$4:$X$103,MATCH(CM$3+1-CM$2&"-"&$AG5,$AD$4:$AD$103,0),1)>=CM$2,$AF5,"")),"") | CN5: =IFERROR(IF(CJ5="","",IF(INDEX($X$4:$X$103,MATCH(CN$3+1-CN$2&"-"&$AG5,$AD$4:$AD$103,0),1)>=CN$2,$AF5,"")),"") | CO5: =IFERROR(IF(CJ5="","",IF(INDEX($X$4:$X$103,MATCH(CO$3+1-CO$2&"-"&$AG5,$AD$4:$AD$103,0),1)>=CO$2,$AF5,"")),"") | CS5: =IFERROR(IF(OR($AF5="",CS$3>maxCol),"",IF(ISNUMBER(MATCH(CS$3+1-CS$2&"-"&$AG5,$AD$4:$AD$103,0)),$AF5,"")),"") | CT5: =IFERROR(IF(CS5="","",IF(INDEX($X$4:$X$103,MATCH(CT$3+1-CT$2&"-"&$AG5,$AD$4:$AD$103,0),1)>=CT$2,$AF5,"")),"") | CU5: =IFERROR(IF(CS5="","",IF(INDEX($X$4:$X$103,MATCH(CU$3+1-CU$2&"-"&$AG5,$AD$4:$AD$103,0),1)>=CU$2,$AF5,"")),"") | CV5: =IFERROR(IF(CS5="","",IF(INDEX($X$4:$X$103,MATCH(CV$3+1-CV$2&"-"&$AG5,$AD$4:$AD$103,0),1)>=CV$2,$AF5,"")),"") | CW5: =IFERROR(IF(CS5="","",IF(INDEX($X$4:$X$103,MATCH(CW$3+1-CW$2&"-"&$AG5,$AD$4:$AD$103,0),1)>=CW$2,$AF5,"")),"") | CX5: =IFERROR(IF(CS5="","",IF(INDEX($X$4:$X$103,MATCH(CX$3+1-CX$2&"-"&$AG5,$AD$4:$AD$103,0),1)>=CX$2,$AF5,"")),"") | DB5: =IFERROR(IF(OR($AF5="",DB$3>maxCol),"",IF(ISNUMBER(MATCH(DB$3+1-DB$2&"-"&$AG5,$AD$4:$AD$103,0)),$AF5,"")),"") | DC5: =IFERROR(IF(DB5="","",IF(INDEX($X$4:$X$103,MATCH(DC$3+1-DC$2&"-"&$AG5,$AD$4:$AD$103,0),1)>=DC$2,$AF5,"")),"") | DD5: =IFERROR(IF(DB5="","",IF(INDEX($X$4:$X$103,MATCH(DD$3+1-DD$2&"-"&$AG5,$AD$4:$AD$103,0),1)>=DD$2,$AF5,"")),"") | DE5: =IFERROR(IF(DB5="","",IF(INDEX($X$4:$X$103,MATCH(DE$3+1-DE$2&"-"&$AG5,$AD$4:$AD$103,0),1)>=DE$2,$AF5,"")),"") | DF5: =IFERROR(IF(DB5="","",IF(INDEX($X$4:$X$103,MATCH(DF$3+1-DF$2&"-"&$AG5,$AD$4:$AD$103,0),1)>=DF$2,$AF5,"")),"") | DG5: =IFERROR(IF(DB5="","",IF(INDEX($X$4:$X$103,MATCH(DG$3+1-DG$2&"-"&$AG5,$AD$4:$AD$103,0),1)>=DG$2,$AF5,"")),"") | DK5: =IFERROR(IF(OR($AF5="",DK$3>maxCol),"",IF(ISNUMBER(MATCH(DK$3+1-DK$2&"-"&$AG5,$AD$4:$AD$103,0)),$AF5,"")),"") | DL5: =IFERROR(IF(DK5="","",IF(INDEX($X$4:$X$103,MATCH(DL$3+1-DL$2&"-"&$AG5,$AD$4:$AD$103,0),1)>=DL$2,$AF5,"")),"") | DM5: =IFERROR(IF(DK5="","",IF(INDEX($X$4:$X$103,MATCH(DM$3+1-DM$2&"-"&$AG5,$AD$4:$AD$103,0),1)>=DM$2,$AF5,"")),"") | DN5: =IFERROR(IF(DK5="","",IF(INDEX($X$4:$X$103,MATCH(DN$3+1-DN$2&"-"&$AG5,$AD$4:$AD$103,0),1)>=DN$2,$AF5,"")),"") | DO5: =IFERROR(IF(DK5="","",IF(INDEX($X$4:$X$103,MATCH(DO$3+1-DO$2&"-"&$AG5,$AD$4:$AD$103,0),1)>=DO$2,$AF5,"")),"") | DP5: =IFERROR(IF(DK5="","",IF(INDEX($X$4:$X$103,MATCH(DP$3+1-DP$2&"-"&$AG5,$AD$4:$AD$103,0),1)>=DP$2,$AF5,"")),"")
B6: =IF(LEN(Settings!E9)>0,Settings!E9,"Empty-"&ROW()) -> Sales | C6: =COUNTIFS($AA$4:$AA$103,$B6,$Z$4:$Z$103,C$3) -> 0 | D6: =COUNTIFS($AA$4:$AA$103,$B6,$Z$4:$Z$103,D$3) -> 0 | E6: =COUNTIFS($AA$4:$AA$103,$B6,$Z$4:$Z$103,E$3) -> 2 | F6: =COUNTIFS($AA$4:$AA$103,$B6,$Z$4:$Z$103,F$3) -> 0 | G6: =COUNTIFS($AA$4:$AA$103,$B6,$Z$4:$Z$103,G$3) -> 0 | H6: =COUNTIFS($AA$4:$AA$103,$B6,$Z$4:$Z$103,H$3) -> 0 | I6: =COUNTIFS($AA$4:$AA$103,$B6,$Z$4:$Z$103,I$3) -> 0 | J6: =COUNTIFS($AA$4:$AA$103,$B6,$Z$4:$Z$103,J$3) -> 0 | ... L6: =COUNTIFS($AA$4:$AA$103,$B6,$Z$4:$Z$103,L$3) -> 0 | M6: =MAX(C6:L6) -> 2 | N6: =IF(M6=0,"",B6) -> Sales | O6: =IF(M6>0,M6*2+1,M6) -> 5 | P6: =SUM($O$4:O5) -> 10 | Q6: =P7+ROW(startCell) -> 20 | R6: =Q5 -> 15 | T6: 3 | U6: =IFERROR(TRIM(W6&" "&INDEX(Roadmap!B$6:B$105,$T6,1)),"") -> Market Comparison | V6: =IF(LEN(U6)>Y6,LEFT(U6,Y6)&"…",U6) -> Market Comparison | W6: =IFERROR(INDEX(Roadmap!C$6:C$105,$T6,1)&"","") | X6: =IF(LEN(U6)>0,IFERROR(INDEX(Settings!$I$7:$I$9,MATCH(INDEX(Roadmap!D$6:D$105,$T6,1),Settings!$H$7:$H$9,0),1),large),"") -> 4 | Y6: =IFERROR(INDEX(Settings!$J$7:$J$9,MATCH(INDEX(Roadmap!D$6:D$105,$T6,1),Settings!$H$7:$H$9,0),1),300) -> 30 | Z6: =IFERROR(IF(LEN($U6)=0,"",INDEX(Roadmap!E$6:E$105,$T6,1)&""),"") -> Q1 - 2022 | AA6: =IFERROR(IF(LEN($U6)=0,"",INDEX(Roadmap!F$6:F$105,$T6,1)&""),"") -> Marketing | AB6: =IFERROR((MATCH(Z6,$C$3:$L$3,0))*divide+COLUMN(startCell)-divide,"") -> 10 | AC6: =IFERROR(IF(OR(U6="",Z6=""),"",2*COUNTIFS($Z$4:Z6,Z6,$AA$4:AA6,AA6)+INDEX($P$4:$P$16,MATCH(AA6,$B$4:$B$16,0),1)+ROW(startCell)),"") -> 12 | AD6: =AB6&"-"&AC6 -> 10-12 | AF6: =IF(ISNUMBER(MATCH(AG6,$AC$4:$AC$303,0)),MATCH(AG6,$R$4:$R$16,1),"") | AG6: =AG5+1 -> 8 | AH6: =IFERROR(IF(OR($AF6="",AH$3>maxCol),"",IF(ISNUMBER(MATCH(AH$3+1-AH$2&"-"&$AG6,$AD$4:$AD$103,0)),$AF6,"")),"") | AI6: =IFERROR(IF(AH6="","",IF(INDEX($X$4:$X$103,MATCH(AI$3+1-AI$2&"-"&$AG6,$AD$4:$AD$103,0),1)>=AI$2,$AF6,"")),"") | AJ6: =IFERROR(IF(AH6="","",IF(INDEX($X$4:$X$103,MATCH(AJ$3+1-AJ$2&"-"&$AG6,$AD$4:$AD$103,0),1)>=AJ$2,$AF6,"")),"") | AK6: =IFERROR(IF(AH6="","",IF(INDEX($X$4:$X$103,MATCH(AK$3+1-AK$2&"-"&$AG6,$AD$4:$AD$103,0),1)>=AK$2,$AF6,"")),"") | AL6: =IFERROR(IF(AH6="","",IF(INDEX($X$4:$X$103,MATCH(AL$3+1-AL$2&"-"&$AG6,$AD$4:$AD$103,0),1)>=AL$2,$AF6,"")),"") | AM6: =IFERROR(IF(AH6="","",IF(INDEX($X$4:$X$103,MATCH(AM$3+1-AM$2&"-"&$AG6,$AD$4:$AD$103,0),1)>=AM$2,$AF6,"")),"") | AQ6: =IFERROR(IF(OR($AF6="",AQ$3>maxCol),"",IF(ISNUMBER(MATCH(AQ$3+1-AQ$2&"-"&$AG6,$AD$4:$AD$103,0)),$AF6,"")),"") | AR6: =IFERROR(IF(AQ6="","",IF(INDEX($X$4:$X$103,MATCH(AR$3+1-AR$2&"-"&$AG6,$AD$4:$AD$103,0),1)>=AR$2,$AF6,"")),"") | AS6: =IFERROR(IF(AQ6="","",IF(INDEX($X$4:$X$103,MATCH(AS$3+1-AS$2&"-"&$AG6,$AD$4:$AD$103,0),1)>=AS$2,$AF6,"")),"") | AT6: =IFERROR(IF(AQ6="","",IF(INDEX($X$4:$X$103,MATCH(AT$3+1-AT$2&"-"&$AG6,$AD$4:$AD$103,0),1)>=AT$2,$AF6,"")),"") | AU6: =IFERROR(IF(AQ6="","",IF(INDEX($X$4:$X$103,MATCH(AU$3+1-AU$2&"-"&$AG6,$AD$4:$AD$103,0),1)>=AU$2,$AF6,"")),"") | AV6: =IFERROR(IF(AQ6="","",IF(INDEX($X$4:$X$103,MATCH(AV$3+1-AV$2&"-"&$AG6,$AD$4:$AD$103,0),1)>=AV$2,$AF6,"")),"") | AZ6: =IFERROR(IF(OR($AF6="",AZ$3>maxCol),"",IF(ISNUMBER(MATCH(AZ$3+1-AZ$2&"-"&$AG6,$AD$4:$AD$103,0)),$AF6,"")),"") | BA6: =IFERROR(IF(AZ6="","",IF(INDEX($X$4:$X$103,MATCH(BA$3+1-BA$2&"-"&$AG6,$AD$4:$AD$103,0),1)>=BA$2,$AF6,"")),"") | BB6: =IFERROR(IF(AZ6="","",IF(INDEX($X$4:$X$103,MATCH(BB$3+1-BB$2&"-"&$AG6,$AD$4:$AD$103,0),1)>=BB$2,$AF6,"")),"") | BC6: =IFERROR(IF(AZ6="","",IF(INDEX($X$4:$X$103,MATCH(BC$3+1-BC$2&"-"&$AG6,$AD$4:$AD$103,0),1)>=BC$2,$AF6,"")),"") | BD6: =IFERROR(IF(AZ6="","",IF(INDEX($X$4:$X$103,MATCH(BD$3+1-BD$2&"-"&$AG6,$AD$4:$AD$103,0),1)>=BD$2,$AF6,"")),"") | BE6: =IFERROR(IF(AZ6="","",IF(INDEX($X$4:$X$103,MATCH(BE$3+1-BE$2&"-"&$AG6,$AD$4:$AD$103,0),1)>=BE$2,$AF6,"")),"") | BI6: =IFERROR(IF(OR($AF6="",BI$3>maxCol),"",IF(ISNUMBER(MATCH(BI$3+1-BI$2&"-"&$AG6,$AD$4:$AD$103,0)),$AF6,"")),"") | BJ6: =IFERROR(IF(BI6="","",IF(INDEX($X$4:$X$103,MATCH(BJ$3+1-BJ$2&"-"&$AG6,$AD$4:$AD$103,0),1)>=BJ$2,$AF6,"")),"") | BK6: =IFERROR(IF(BI6="","",IF(INDEX($X$4:$X$103,MATCH(BK$3+1-BK$2&"-"&$AG6,$AD$4:$AD$103,0),1)>=BK$2,$AF6,"")),"") | BL6: =IFERROR(IF(BI6="","",IF(INDEX($X$4:$X$103,MATCH(BL$3+1-BL$2&"-"&$AG6,$AD$4:$AD$103,0),1)>=BL$2,$AF6,"")),"") | BM6: =IFERROR(IF(BI6="","",IF(INDEX($X$4:$X$103,MATCH(BM$3+1-BM$2&"-"&$AG6,$AD$4:$AD$103,0),1)>=BM$2,$AF6,"")),"") | BN6: =IFERROR(IF(BI6="","",IF(INDEX($X$4:$X$103,MATCH(BN$3+1-BN$2&"-"&$AG6,$AD$4:$AD$103,0),1)>=BN$2,$AF6,"")),"") | BR6: =IFERROR(IF(OR($AF6="",BR$3>maxCol),"",IF(ISNUMBER(MATCH(BR$3+1-BR$2&"-"&$AG6,$AD$4:$AD$103,0)),$AF6,"")),"") | BS6: =IFERROR(IF(BR6="","",IF(INDEX($X$4:$X$103,MATCH(BS$3+1-BS$2&"-"&$AG6,$AD$4:$AD$103,0),1)>=BS$2,$AF6,"")),"") | BT6: =IFERROR(IF(BR6="","",IF(INDEX($X$4:$X$103,MATCH(BT$3+1-BT$2&"-"&$AG6,$AD$4:$AD$103,0),1)>=BT$2,$AF6,"")),"") | BU6: =IFERROR(IF(BR6="","",IF(INDEX($X$4:$X$103,MATCH(BU$3+1-BU$2&"-"&$AG6,$AD$4:$AD$103,0),1)>=BU$2,$AF6,"")),"") | BV6: =IFERROR(IF(BR6="","",IF(INDEX($X$4:$X$103,MATCH(BV$3+1-BV$2&"-"&$AG6,$AD$4:$AD$103,0),1)>=BV$2,$AF6,"")),"") | BW6: =IFERROR(IF(BR6="","",IF(INDEX($X$4:$X$103,MATCH(BW$3+1-BW$2&"-"&$AG6,$AD$4:$AD$103,0),1)>=BW$2,$AF6,"")),"") | CA6: =IFERROR(IF(OR($AF6="",CA$3>maxCol),"",IF(ISNUMBER(MATCH(CA$3+1-CA$2&"-"&$AG6,$AD$4:$AD$103,0)),$AF6,"")),"") | CB6: =IFERROR(IF(CA6="","",IF(INDEX($X$4:$X$103,MATCH(CB$3+1-CB$2&"-"&$AG6,$AD$4:$AD$103,0),1)>=CB$2,$AF6,"")),"") | CC6: =IFERROR(IF(CA6="","",IF(INDEX($X$4:$X$103,MATCH(CC$3+1-CC$2&"-"&$AG6,$AD$4:$AD$103,0),1)>=CC$2,$AF6,"")),"") | CD6: =IFERROR(IF(CA6="","",IF(INDEX($X$4:$X$103,MATCH(CD$3+1-CD$2&"-"&$AG6,$AD$4:$AD$103,0),1)>=CD$2,$AF6,"")),"") | CE6: =IFERROR(IF(CA6="","",IF(INDEX($X$4:$X$103,MATCH(CE$3+1-CE$2&"-"&$AG6,$AD$4:$AD$103,0),1)>=CE$2,$AF6,"")),"") | CF6: =IFERROR(IF(CA6="","",IF(INDEX($X$4:$X$103,MATCH(CF$3+1-CF$2&"-"&$AG6,$AD$4:$AD$103,0),1)>=CF$2,$AF6,"")),"") | CJ6: =IFERROR(IF(OR($AF6="",CJ$3>maxCol),"",IF(ISNUMBER(MATCH(CJ$3+1-CJ$2&"-"&$AG6,$AD$4:$AD$103,0)),$AF6,"")),"") | CK6: =IFERROR(IF(CJ6="","",IF(INDEX($X$4:$X$103,MATCH(CK$3+1-CK$2&"-"&$AG6,$AD$4:$AD$103,0),1)>=CK$2,$AF6,"")),"") | CL6: =IFERROR(IF(CJ6="","",IF(INDEX($X$4:$X$103,MATCH(CL$3+1-CL$2&"-"&$AG6,$AD$4:$AD$103,0),1)>=CL$2,$AF6,"")),"") | CM6: =IFERROR(IF(CJ6="","",IF(INDEX($X$4:$X$103,MATCH(CM$3+1-CM$2&"-"&$AG6,$AD$4:$AD$103,0),1)>=CM$2,$AF6,"")),"") | CN6: =IFERROR(IF(CJ6="","",IF(INDEX($X$4:$X$103,MATCH(CN$3+1-CN$2&"-"&$AG6,$AD$4:$AD$103,0),1)>=CN$2,$AF6,"")),"") | CO6: =IFERROR(IF(CJ6="","",IF(INDEX($X$4:$X$103,MATCH(CO$3+1-CO$2&"-"&$AG6,$AD$4:$AD$103,0),1)>=CO$2,$AF6,"")),"") | CS6: =IFERROR(IF(OR($AF6="",CS$3>maxCol),"",IF(ISNUMBER(MATCH(CS$3+1-CS$2&"-"&$AG6,$AD$4:$AD$103,0)),$AF6,"")),"") | CT6: =IFERROR(IF(CS6="","",IF(INDEX($X$4:$X$103,MATCH(CT$3+1-CT$2&"-"&$AG6,$AD$4:$AD$103,0),1)>=CT$2,$AF6,"")),"") | CU6: =IFERROR(IF(CS6="","",IF(INDEX($X$4:$X$103,MATCH(CU$3+1-CU$2&"-"&$AG6,$AD$4:$AD$103,0),1)>=CU$2,$AF6,"")),"") | CV6: =IFERROR(IF(CS6="","",IF(INDEX($X$4:$X$103,MATCH(CV$3+1-CV$2&"-"&$AG6,$AD$4:$AD$103,0),1)>=CV$2,$AF6,"")),"") | CW6: =IFERROR(IF(CS6="","",IF(INDEX($X$4:$X$103,MATCH(CW$3+1-CW$2&"-"&$AG6,$AD$4:$AD$103,0),1)>=CW$2,$AF6,"")),"") | CX6: =IFERROR(IF(CS6="","",IF(INDEX($X$4:$X$103,MATCH(CX$3+1-CX$2&"-"&$AG6,$AD$4:$AD$103,0),1)>=CX$2,$AF6,"")),"") | DB6: =IFERROR(IF(OR($AF6="",DB$3>maxCol),"",IF(ISNUMBER(MATCH(DB$3+1-DB$2&"-"&$AG6,$AD$4:$AD$103,0)),$AF6,"")),"") | DC6: =IFERROR(IF(DB6="","",IF(INDEX($X$4:$X$103,MATCH(DC$3+1-DC$2&"-"&$AG6,$AD$4:$AD$103,0),1)>=DC$2,$AF6,"")),"") | DD6: =IFERROR(IF(DB6="","",IF(INDEX($X$4:$X$103,MATCH(DD$3+1-DD$2&"-"&$AG6,$AD$4:$AD$103,0),1)>=DD$2,$AF6,"")),"") | DE6: =IFERROR(IF(DB6="","",IF(INDEX($X$4:$X$103,MATCH(DE$3+1-DE$2&"-"&$AG6,$AD$4:$AD$103,0),1)>=DE$2,$AF6,"")),"") | DF6: =IFERROR(IF(DB6="","",IF(INDEX($X$4:$X$103,MATCH(DF$3+1-DF$2&"-"&$AG6,$AD$4:$AD$103,0),1)>=DF$2,$AF6,"")),"") | DG6: =IFERROR(IF(DB6="","",IF(INDEX($X$4:$X$103,MATCH(DG$3+1-DG$2&"-"&$AG6,$AD$4:$AD$103,0),1)>=DG$2,$AF6,"")),"") | DK6: =IFERROR(IF(OR($AF6="",DK$3>maxCol),"",IF(ISNUMBER(MATCH(DK$3+1-DK$2&"-"&$AG6,$AD$4:$AD$103,0)),$AF6,"")),"") | DL6: =IFERROR(IF(DK6="","",IF(INDEX($X$4:$X$103,MATCH(DL$3+1-DL$2&"-"&$AG6,$AD$4:$AD$103,0),1)>=DL$2,$AF6,"")),"") | DM6: =IFERROR(IF(DK6="","",IF(INDEX($X$4:$X$103,MATCH(DM$3+1-DM$2&"-"&$AG6,$AD$4:$AD$103,0),1)>=DM$2,$AF6,"")),"") | DN6: =IFERROR(IF(DK6="","",IF(INDEX($X$4:$X$103,MATCH(DN$3+1-DN$2&"-"&$AG6,$AD$4:$AD$103,0),1)>=DN$2,$AF6,"")),"") | DO6: =IFERROR(IF(DK6="","",IF(INDEX($X$4:$X$103,MATCH(DO$3+1-DO$2&"-"&$AG6,$AD$4:$AD$103,0),1)>=DO$2,$AF6,"")),"") | DP6: =IFERROR(IF(DK6="","",IF(INDEX($X$4:$X$103,MATCH(DP$3+1-DP$2&"-"&$AG6,$AD$4:$AD$103,0),1)>=DP$2,$AF6,"")),"")
