Workbook
Name color1: Calculations!$Q$4
Name color10: Calculations!$Q$13
Name color11: Calculations!$Q$14
Name color12: Calculations!$Q$15
Name color2: Calculations!$Q$5
Name color3: Calculations!$Q$6
Name color4: Calculations!$Q$7
Name color5: Calculations!$Q$8
Name color6: Calculations!$Q$9
Name color7: Calculations!$Q$10
Name color8: Calculations!$Q$11
Name color9: Calculations!$Q$12
Name colorArray: Calculations!$AH$4:$DA$224
Name divide: Calculations!$C$19
Name greyColor: Calculations!$Q$16
Name large: Settings!$I$9
Name maxCol: Calculations!$F$19
Name medium: Settings!$I$8
Name small: Settings!$I$7
Name startCell: Roadmap!$J$5

Sheet Roadmap
B2: ROADMAP TEMPLATE
B3: ROADMAP
B5: GOAL | C5: Milestone | D5: Time | E5: Stage | F5: Split | J5: =Calculations!E26 -> Q1 - 2022 | Q5: =IF(COLUMN(S5)<maxCol,"❱❱","") -> ❱❱ | S5: =Calculations!E27 -> Q2 - 2022 | Z5: =IF(COLUMN(AB5)<maxCol,"❱❱","") -> ❱❱ | AB5: =Calculations!E28 -> Q3 - 2022 | AI5: =IF(COLUMN(AK5)<maxCol,"❱❱","") -> ❱❱ | AK5: =Calculations!E29 -> Q4 - 2022 | AR5: =IF(COLUMN(AT5)<maxCol,"❱❱","") | AT5: =Calculations!E30 -> 0 | BA5: =IF(COLUMN(BC5)<maxCol,"❱❱","") | BC5: =Calculations!E31 -> 0 | BJ5: =IF(COLUMN(BL5)<maxCol,"❱❱","") | BL5: =Calculations!E32 -> 0 | BS5: =IF(COLUMN(BU5)<maxCol,"❱❱","") | BU5: =Calculations!E33 -> 0 | CB5: =IF(COLUMN(CD5)<maxCol,"❱❱","") | CD5: =Calculations!E34 -> 0 | CK5: =IF(COLUMN(CM5)<maxCol,"❱❱","") | CM5: =Calculations!E35 -> 0
B6: Research | D6: Small | E6: Q1 - 2022 | F6: R&D Team | I6: C1 | J6: C2 | K6: C3 | L6: C4 | M6: C5 | N6: C6 | O6: C7 | P6: C8 | Q6: C9 | R6: C10 | S6: C11 | T6: C12 | U6: C13 | V6: C14 | W6: C15 | X6: C16 | Y6: C17 | Z6: C910 | AA6: C19 | AB6: C20 | AC6: C21 | AD6: C22 | AE6: C23 | AF6: C24 | AG6: C25 | AH6: C26 | AI6: C27 | AJ6: C28 | AK6: C29 | AL6: C30 | AM6: C31 | AN6: C32 | AO6: C33 | AP6: C34 | AQ6: C35 | AR6: C36 | AS6: C37 | AT6: C38 | AU6: C39 | AV6: C40 | AW6: C41 | AX6: C42 | AY6: C43 | AZ6: C44 | BA6: C45 | BB6: C46 | BC6: C47 | BD6: C48 | BE6: C49 | BF6: C50 | BG6: C51 | BH6: C52 | BI6: C53 | BJ6: C54 | BK6: C55 | BL6: C56 | BM6: C57 | BN6: C58 | BO6: C59 | BP6: C60 | BQ6: C61 | BR6: C62 | BS6: C63 | BT6: C64 | BU6: C65 | BV6: C66 | BW6: C67 | BX6: C68 | BY6: C69 | BZ6: C70 | CA6: C71 | CB6: C632 | CC6: C643 | CD6: C654 | CE6: C665 | CF6: C676 | CG6: C687 | CH6: C698 | CI6: C709 | CJ6: C7110 | CK6: C6311 | CL6: C6412 | CM6: C6513 | CN6: C6614 | CO6: C6715 | CP6: C6816 | CQ6: C6917 | CR6: C7018 | CS6: C7119
B7: Draft of the product | C7: ★ | D7: Large | E7: Q1 - 2022 | F7: R&D Team | J7: =IFERROR(INDEX(Calculations!$V$4:$V$103,MATCH(COLUMN()&"-"&ROW(),Calculations!$AD$4:$AD$103,0),1),"") -> Research | S7: =IFERROR(INDEX(Calculations!$V$4:$V$103,MATCH(COLUMN()&"-"&ROW(),Calculations!$AD$4:$AD$103,0),1),"") -> Development | AB7: =IFERROR(INDEX(Calculations!$V$4:$V$103,MATCH(COLUMN()&"-"&ROW(),Calculations!$AD$4:$AD$103,0),1),"") -> Bug fixes | AK7: =IFERROR(INDEX(Calculations!$V$4:$V$103,MATCH(COLUMN()&"-"&ROW(),Calculations!$AD$4:$AD$103,0),1),"") -> ★ Final release | AT7: =IFERROR(INDEX(Calculations!$V$4:$V$103,MATCH(COLUMN()&"-"&ROW(),Calculations!$AD$4:$AD$103,0),1),"") | BC7: =IFERROR(INDEX(Calculations!$V$4:$V$103,MATCH(COLUMN()&"-"&ROW(),Calculations!$AD$4:$AD$103,0),1),"") | BL7: =IFERROR(INDEX(Calculations!$V$4:$V$103,MATCH(COLUMN()&"-"&ROW(),Calculations!$AD$4:$AD$103,0),1),"") | BU7: =IFERROR(INDEX(Calculations!$V$4:$V$103,MATCH(COLUMN()&"-"&ROW(),Calculations!$AD$4:$AD$103,0),1),"") | CD7: =IFERROR(INDEX(Calculations!$V$4:$V$103,MATCH(COLUMN()&"-"&ROW(),Calculations!$AD$4:$AD$103,0),1),"") | CM7: =IFERROR(INDEX(Calculations!$V$4:$V$103,MATCH(COLUMN()&"-"&ROW(),Calculations!$AD$4:$AD$103,0),1),"")
B8: Market Comparison | D8: Medium | E8: Q1 - 2022 | F8: Marketing | J8: =IFERROR(INDEX(Calculations!$V$4:$V$103,MATCH(COLUMN()&"-"&ROW(),Calculations!$AD$4:$AD$103,0),1),"") | S8: =IFERROR(INDEX(Calculations!$V$4:$V$103,MATCH(COLUMN()&"-"&ROW(),Calculations!$AD$4:$AD$103,0),1),"") | AB8: =IFERROR(INDEX(Calculations!$V$4:$V$103,MATCH(COLUMN()&"-"&ROW(),Calculations!$AD$4:$AD$103,0),1),"") | AK8: =IFERROR(INDEX(Calculations!$V$4:$V$103,MATCH(COLUMN()&"-"&ROW(),Calculations!$AD$4:$AD$103,0),1),"") | AT8: =IFERROR(INDEX(Calculations!$V$4:$V$103,MATCH(COLUMN()&"-"&ROW(),Calculations!$AD$4:$AD$103,0),1),"") | BC8: =IFERROR(INDEX(Calculations!$V$4:$V$103,MATCH(COLUMN()&"-"&ROW(),Calculations!$AD$4:$AD$103,0),1),"") | BL8: =IFERROR(INDEX(Calculations!$V$4:$V$103,MATCH(COLUMN()&"-"&ROW(),Calculations!$AD$4:$AD$103,0),1),"") | BU8: =IFERROR(INDEX(Calculations!$V$4:$V$103,MATCH(COLUMN()&"-"&ROW(),Calculations!$AD$4:$AD$103,0),1),"") | CD8: =IFERROR(INDEX(Calculations!$V$4:$V$103,MATCH(COLUMN()&"-"&ROW(),Calculations!$AD$4:$AD$103,0),1),"") | CM8: =IFERROR(INDEX(Calculations!$V$4:$V$103,MATCH(COLUMN()&"-"&ROW(),Calculations!$AD$4:$AD$103,0),1),"")
B9: Development | D9: Large | E9: Q2 - 2022 | F9: R&D Team | J9: =IFERROR(INDEX(Calculations!$V$4:$V$103,MATCH(COLUMN()&"-"&ROW(),Calculations!$AD$4:$AD$103,0),1),"") -> ★ Draft of the product | S9: =IFERROR(INDEX(Calculations!$V$4:$V$103,MATCH(COLUMN()&"-"&ROW(),Calculations!$AD$4:$AD$103,0),1),"") | AB9: =IFERROR(INDEX(Calculations!$V$4:$V$103,MATCH(COLUMN()&"-"&ROW(),Calculations!$AD$4:$AD$103,0),1),"") -> ★ Beta release | AK9: =IFERROR(INDEX(Calculations!$V$4:$V$103,MATCH(COLUMN()&"-"&ROW(),Calculations!$AD$4:$AD$103,0),1),"") | AT9: =IFERROR(INDEX(Calculations!$V$4:$V$103,MATCH(COLUMN()&"-"&ROW(),Calculations!$AD$4:$AD$103,0),1),"") | BC9: =IFERROR(INDEX(Calculations!$V$4:$V$103,MATCH(COLUMN()&"-"&ROW(),Calculations!$AD$4:$AD$103,0),1),"") | BL9: =IFERROR(INDEX(Calculations!$V$4:$V$103,MATCH(COLUMN()&"-"&ROW(),Calculations!$AD$4:$AD$103,0),1),"") | BU9: =IFERROR(INDEX(Calculations!$V$4:$V$103,MATCH(COLUMN()&"-"&ROW(),Calculations!$AD$4:$AD$103,0),1),"") | CD9: =IFERROR(INDEX(Calculations!$V$4:$V$103,MATCH(COLUMN()&"-"&ROW(),Calculations!$AD$4:$AD$103,0),1),"") | CM9: =IFERROR(INDEX(Calculations!$V$4:$V$103,MATCH(COLUMN()&"-"&ROW(),Calculations!$AD$4:$AD$103,0),1),"")
B10: Quality Tests | D10: Large | E10: Q2 - 2022 | F10: Quality A. | J10: =IFERROR(INDEX(Calculations!$V$4:$V$103,MATCH(COLUMN()&"-"&ROW(),Calculations!$AD$4:$AD$103,0),1),"") | S10: =IFERROR(INDEX(Calculations!$V$4:$V$103,MATCH(COLUMN()&"-"&ROW(),Calculations!$AD$4:$AD$103,0),1),"") | AB10: =IFERROR(INDEX(Calculations!$V$4:$V$103,MATCH(COLUMN()&"-"&ROW(),Calculations!$AD$4:$AD$103,0),1),"") | AK10: =IFERROR(INDEX(Calculations!$V$4:$V$103,MATCH(COLUMN()&"-"&ROW(),Calculations!$AD$4:$AD$103,0),1),"") | AT10: =IFERROR(INDEX(Calculations!$V$4:$V$103,MATCH(COLUMN()&"-"&ROW(),Calculations!$AD$4:$AD$103,0),1),"") | BC10: =IFERROR(INDEX(Calculations!$V$4:$V$103,MATCH(COLUMN()&"-"&ROW(),Calculations!$AD$4:$AD$103,0),1),"") | BL10: =IFERROR(INDEX(Calculations!$V$4:$V$103,MATCH(COLUMN()&"-"&ROW(),Calculations!$AD$4:$AD$103,0),1),"") | BU10: =IFERROR(INDEX(Calculations!$V$4:$V$103,MATCH(COLUMN()&"-"&ROW(),Calculations!$AD$4:$AD$103,0),1),"") | CD10: =IFERROR(INDEX(Calculations!$V$4:$V$103,MATCH(COLUMN()&"-"&ROW(),Calculations!$AD$4:$AD$103,0),1),"") | CM10: =IFERROR(INDEX(Calculations!$V$4:$V$103,MATCH(COLUMN()&"-"&ROW(),Calculations!$AD$4:$AD$103,0),1),"")
B11: Test results | D11: Medium | E11: Q2 - 2022 | F11: Quality A. | J11: =IFERROR(INDEX(Calculations!$V$4:$V$103,MATCH(COLUMN()&"-"&ROW(),Calculations!$AD$4:$AD$103,0),1),"") | S11: =IFERROR(INDEX(Calculations!$V$4:$V$103,MATCH(COLUMN()&"-"&ROW(),Calculations!$AD$4:$AD$103,0),1),"") | AB11: =IFERROR(INDEX(Calculations!$V$4:$V$103,MATCH(COLUMN()&"-"&ROW(),Calculations!$AD$4:$AD$103,0),1),"") | AK11: =IFERROR(INDEX(Calculations!$V$4:$V$103,MATCH(COLUMN()&"-"&ROW(),Calculations!$AD$4:$AD$103,0),1),"") | AT11: =IFERROR(INDEX(Calculations!$V$4:$V$103,MATCH(COLUMN()&"-"&ROW(),Calculations!$AD$4:$AD$103,0),1),"") | BC11: =IFERROR(INDEX(Calculations!$V$4:$V$103,MATCH(COLUMN()&"-"&ROW(),Calculations!$AD$4:$AD$103,0),1),"") | BL11: =IFERROR(INDEX(Calculations!$V$4:$V$103,MATCH(COLUMN()&"-"&ROW(),Calculations!$AD$4:$AD$103,0),1),"") | BU11: =IFERROR(INDEX(Calculations!$V$4:$V$103,MATCH(COLUMN()&"-"&ROW(),Calculations!$AD$4:$AD$103,0),1),"") | CD11: =IFERROR(INDEX(Calculations!$V$4:$V$103,MATCH(COLUMN()&"-"&ROW(),Calculations!$AD$4:$AD$103,0),1),"") | CM11: =IFERROR(INDEX(Calculations!$V$4:$V$103,MATCH(COLUMN()&"-"&ROW(),Calculations!$AD$4:$AD$103,0),1),"")
B12: Product video | D12: Medium | E12: Q3 - 2022 | F12: Sales | J12: =IFERROR(INDEX(Calculations!$V$4:$V$103,MATCH(COLUMN()&"-"&ROW(),Calculations!$AD$4:$AD$103,0),1),"") -> Market Comparison | S12: =IFERROR(INDEX(Calculations!$V$4:$V$103,MATCH(COLUMN()&"-"&ROW(),Calculations!$AD$4:$AD$103,0),1),"") | AB12: =IFERROR(INDEX(Calculations!$V$4:$V$103,MATCH(COLUMN()&"-"&ROW(),Calculations!$AD$4:$AD$103,0),1),"") | AK12: =IFERROR(INDEX(Calculations!$V$4:$V$103,MATCH(COLUMN()&"-"&ROW(),Calculations!$AD$4:$AD$103,0),1),"") -> Sales Campaign | AT12: =IFERROR(INDEX(Calculations!$V$4:$V$103,MATCH(COLUMN()&"-"&ROW(),Calculations!$AD$4:$AD$103,0),1),"") | BC12: =IFERROR(INDEX(Calculations!$V$4:$V$103,MATCH(COLUMN()&"-"&ROW(),Calculations!$AD$4:$AD$103,0),1),"") | BL12: =IFERROR(INDEX(Calculations!$V$4:$V$103,MATCH(COLUMN()&"-"&ROW(),Calculations!$AD$4:$AD$103,0),1),"") | BU12: =IFERROR(INDEX(Calculations!$V$4:$V$103,MATCH(COLUMN()&"-"&ROW(),Calculations!$AD$4:$AD$103,0),1),"") | CD12: =IFERROR(INDEX(Calculations!$V$4:$V$103,MATCH(COLUMN()&"-"&ROW(),Calculations!$AD$4:$AD$103,0),1),"") | CM12: =IFERROR(INDEX(Calculations!$V$4:$V$103,MATCH(COLUMN()&"-"&ROW(),Calculations!$AD$4:$AD$103,0),1),"")
B13: Bug fixes | D13: Medium | E13: Q3 - 2022 | F13: R&D Team | J13: =IFERROR(INDEX(Calculations!$V$4:$V$103,MATCH(COLUMN()&"-"&ROW(),Calculations!$AD$4:$AD$103,0),1),"") | S13: =IFERROR(INDEX(Calculations!$V$4:$V$103,MATCH(COLUMN()&"-"&ROW(),Calculations!$AD$4:$AD$103,0),1),"") | AB13: =IFERROR(INDEX(Calculations!$V$4:$V$103,MATCH(COLUMN()&"-"&ROW(),Calculations!$AD$4:$AD$103,0),1),"") | AK13: =IFERROR(INDEX(Calculations!$V$4:$V$103,MATCH(COLUMN()&"-"&ROW(),Calculations!$AD$4:$AD$103,0),1),"") | AT13: =IFERROR(INDEX(Calculations!$V$4:$V$103,MATCH(COLUMN()&"-"&ROW(),Calculations!$AD$4:$AD$103,0),1),"") | BC13: =IFERROR(INDEX(Calculations!$V$4:$V$103,MATCH(COLUMN()&"-"&ROW(),Calculations!$AD$4:$AD$103,0),1),"") | BL13: =IFERROR(INDEX(Calculations!$V$4:$V$103,MATCH(COLUMN()&"-"&ROW(),Calculations!$AD$4:$AD$103,0),1),"") | BU13: =IFERROR(INDEX(Calculations!$V$4:$V$103,MATCH(COLUMN()&"-"&ROW(),Calculations!$AD$4:$AD$103,0),1),"") | CD13: =IFERROR(INDEX(Calculations!$V$4:$V$103,MATCH(COLUMN()&"-"&ROW(),Calculations!$AD$4:$AD$103,0),1),"") | CM13: =IFERROR(INDEX(Calculations!$V$4:$V$103,MATCH(COLUMN()&"-"&ROW(),Calculations!$AD$4:$AD$103,0),1),"")
B14: Beta release | C14: ★ | D14: Medium | E14: Q3 - 2022 | F14: R&D Team | J14: =IFERROR(INDEX(Calculations!$V$4:$V$103,MATCH(COLUMN()&"-"&ROW(),Calculations!$AD$4:$AD$103,0),1),"") | S14: =IFERROR(INDEX(Calculations!$V$4:$V$103,MATCH(COLUMN()&"-"&ROW(),Calculations!$AD$4:$AD$103,0),1),"") | AB14: =IFERROR(INDEX(Calculations!$V$4:$V$103,MATCH(COLUMN()&"-"&ROW(),Calculations!$AD$4:$AD$103,0),1),"") | AK14: =IFERROR(INDEX(Calculations!$V$4:$V$103,MATCH(COLUMN()&"-"&ROW(),Calculations!$AD$4:$AD$103,0),1),"") -> Measure sales results | AT14: =IFERROR(INDEX(Calculations!$V$4:$V$103,MATCH(COLUMN()&"-"&ROW(),Calculations!$AD$4:$AD$103,0),1),"") | BC14: =IFERROR(INDEX(Calculations!$V$4:$V$103,MATCH(COLUMN()&"-"&ROW(),Calculations!$AD$4:$AD$103,0),1),"") | BL14: =IFERROR(INDEX(Calculations!$V$4:$V$103,MATCH(COLUMN()&"-"&ROW(),Calculations!$AD$4:$AD$103,0),1),"") | BU14: =IFERROR(INDEX(Calculations!$V$4:$V$103,MATCH(COLUMN()&"-"&ROW(),Calculations!$AD$4:$AD$103,0),1),"") | CD14: =IFERROR(INDEX(Calculations!$V$4:$V$103,MATCH(COLUMN()&"-"&ROW(),Calculations!$AD$4:$AD$103,0),1),"") | CM14: =IFERROR(INDEX(Calculations!$V$4:$V$103,MATCH(COLUMN()&"-"&ROW(),Calculations!$AD$4:$AD$103,0),1),"")
B15: Product pricing | D15: Large | E15: Q3 - 2022 | F15: Sales | J15: =IFERROR(INDEX(Calculations!$V$4:$V$103,MATCH(COLUMN()&"-"&ROW(),Calculations!$AD$4:$AD$103,0),1),"") | S15: =IFERROR(INDEX(Calculations!$V$4:$V$103,MATCH(COLUMN()&"-"&ROW(),Calculations!$AD$4:$AD$103,0),1),"") | AB15: =IFERROR(INDEX(Calculations!$V$4:$V$103,MATCH(COLUMN()&"-"&ROW(),Calculations!$AD$4:$AD$103,0),1),"") | AK15: =IFERROR(INDEX(Calculations!$V$4:$V$103,MATCH(COLUMN()&"-"&ROW(),Calculations!$AD$4:$AD$103,0),1),"") | AT15: =IFERROR(INDEX(Calculations!$V$4:$V$103,MATCH(COLUMN()&"-"&ROW(),Calculations!$AD$4:$AD$103,0),1),"") | BC15: =IFERROR(INDEX(Calculations!$V$4:$V$103,MATCH(COLUMN()&"-"&ROW(),Calculations!$AD$4:$AD$103,0),1),"") | BL15: =IFERROR(INDEX(Calculations!$V$4:$V$103,MATCH(COLUMN()&"-"&ROW(),Calculations!$AD$4:$AD$103,0),1),"") | BU15: =IFERROR(INDEX(Calculations!$V$4:$V$103,MATCH(COLUMN()&"-"&ROW(),Calculations!$AD$4:$AD$103,0),1),"") | CD15: =IFERROR(INDEX(Calculations!$V$4:$V$103,MATCH(COLUMN()&"-"&ROW(),Calculations!$AD$4:$AD$103,0),1),"") | CM15: =IFERROR(INDEX(Calculations!$V$4:$V$103,MATCH(COLUMN()&"-"&ROW(),Calculations!$AD$4:$AD$103,0),1),"")
B16: Sales Campaign | D16: Medium | E16: Q4 - 2022 | F16: Marketing | J16: =IFERROR(INDEX(Calculations!$V$4:$V$103,MATCH(COLUMN()&"-"&ROW(),Calculations!$AD$4:$AD$103,0),1),"") | S16: =IFERROR(INDEX(Calculations!$V$4:$V$103,MATCH(COLUMN()&"-"&ROW(),Calculations!$AD$4:$AD$103,0),1),"") | AB16: =IFERROR(INDEX(Calculations!$V$4:$V$103,MATCH(COLUMN()&"-"&ROW(),Calculations!$AD$4:$AD$103,0),1),"") | AK16: =IFERROR(INDEX(Calculations!$V$4:$V$103,MATCH(COLUMN()&"-"&ROW(),Calculations!$AD$4:$AD$103,0),1),"") | AT16: =IFERROR(INDEX(Calculations!$V$4:$V$103,MATCH(COLUMN()&"-"&ROW(),Calculations!$AD$4:$AD$103,0),1),"") | BC16: =IFERROR(INDEX(Calculations!$V$4:$V$103,MATCH(COLUMN()&"-"&ROW(),Calculations!$AD$4:$AD$103,0),1),"") | BL16: =IFERROR(INDEX(Calculations!$V$4:$V$103,MATCH(COLUMN()&"-"&ROW(),Calculations!$AD$4:$AD$103,0),1),"") | BU16: =IFERROR(INDEX(Calculations!$V$4:$V$103,MATCH(COLUMN()&"-"&ROW(),Calculations!$AD$4:$AD$103,0),1),"") | CD16: =IFERROR(INDEX(Calculations!$V$4:$V$103,MATCH(COLUMN()&"-"&ROW(),Calculations!$AD$4:$AD$103,0),1),"") | CM16: =IFERROR(INDEX(Calculations!$V$4:$V$103,MATCH(COLUMN()&"-"&ROW(),Calculations!$AD$4:$AD$103,0),1),"")
B17: Measure sales results | D17: Large | E17: Q4 - 2022 | F17: Marketing | J17: =IFERROR(INDEX(Calculations!$V$4:$V$103,MATCH(COLUMN()&"-"&ROW(),Calculations!$AD$4:$AD$103,0),1),"") | S17: =IFERROR(INDEX(Calculations!$V$4:$V$103,MATCH(COLUMN()&"-"&ROW(),Calculations!$AD$4:$AD$103,0),1),"") | AB17: =IFERROR(INDEX(Calculations!$V$4:$V$103,MATCH(COLUMN()&"-"&ROW(),Calculations!$AD$4:$AD$103,0),1),"") -> Product video | AK17: =IFERROR(INDEX(Calculations!$V$4:$V$103,MATCH(COLUMN()&"-"&ROW(),Calculations!$AD$4:$AD$103,0),1),"") | AT17: =IFERROR(INDEX(Calculations!$V$4:$V$103,MATCH(COLUMN()&"-"&ROW(),Calculations!$AD$4:$AD$103,0),1),"") | BC17: =IFERROR(INDEX(Calculations!$V$4:$V$103,MATCH(COLUMN()&"-"&ROW(),Calculations!$AD$4:$AD$103,0),1),"") | BL17: =IFERROR(INDEX(Calculations!$V$4:$V$103,MATCH(COLUMN()&"-"&ROW(),Calculations!$AD$4:$AD$103,0),1),"") | BU17: =IFERROR(INDEX(Calculations!$V$4:$V$103,MATCH(COLUMN()&"-"&ROW(),Calculations!$AD$4:$AD$103,0),1),"") | CD17: =IFERROR(INDEX(Calculations!$V$4:$V$103,MATCH(COLUMN()&"-"&ROW(),Calculations!$AD$4:$AD$103,0),1),"") | CM17: =IFERROR(INDEX(Calculations!$V$4:$V$103,MATCH(COLUMN()&"-"&ROW(),Calculations!$AD$4:$AD$103,0),1),"")
B18: Continues Tests | D18: Large | E18: Q4 - 2022 | F18: Quality A. | J18: =IFERROR(INDEX(Calculations!$V$4:$V$103,MATCH(COLUMN()&"-"&ROW(),Calculations!$AD$4:$AD$103,0),1),"") | S18: =IFERROR(INDEX(Calculations!$V$4:$V$103,MATCH(COLUMN()&"-"&ROW(),Calculations!$AD$4:$AD$103,0),1),"") | AB18: =IFERROR(INDEX(Calculations!$V$4:$V$103,MATCH(COLUMN()&"-"&ROW(),Calculations!$AD$4:$AD$103,0),1),"") | AK18: =IFERROR(INDEX(Calculations!$V$4:$V$103,MATCH(COLUMN()&"-"&ROW(),Calculations!$AD$4:$AD$103,0),1),"") | AT18: =IFERROR(INDEX(Calculations!$V$4:$V$103,MATCH(COLUMN()&"-"&ROW(),Calculations!$AD$4:$AD$103,0),1),"") | BC18: =IFERROR(INDEX(Calculations!$V$4:$V$103,MATCH(COLUMN()&"-"&ROW(),Calculations!$AD$4:$AD$103,0),1),"") | BL18: =IFERROR(INDEX(Calculations!$V$4:$V$103,MATCH(COLUMN()&"-"&ROW(),Calculations!$AD$4:$AD$103,0),1),"") | BU18: =IFERROR(INDEX(Calculations!$V$4:$V$103,MATCH(COLUMN()&"-"&ROW(),Calculations!$AD$4:$AD$103,0),1),"") | CD18: =IFERROR(INDEX(Calculations!$V$4:$V$103,MATCH(COLUMN()&"-"&ROW(),Calculations!$AD$4:$AD$103,0),1),"") | CM18: =IFERROR(INDEX(Calculations!$V$4:$V$103,MATCH(COLUMN()&"-"&ROW(),Calculations!$AD$4:$AD$103,0),1),"")
B19: Final release | C19: ★ | D19: Medium | E19: Q4 - 2022 | F19: R&D Team | J19: =IFERROR(INDEX(Calculations!$V$4:$V$103,MATCH(COLUMN()&"-"&ROW(),Calculations!$AD$4:$AD$103,0),1),"") | S19: =IFERROR(INDEX(Calculations!$V$4:$V$103,MATCH(COLUMN()&"-"&ROW(),Calculations!$AD$4:$AD$103,0),1),"") | AB19: =IFERROR(INDEX(Calculations!$V$4:$V$103,MATCH(COLUMN()&"-"&ROW(),Calculations!$AD$4:$AD$103,0),1),"") -> Product pricing | AK19: =IFERROR(INDEX(Calculations!$V$4:$V$103,MATCH(COLUMN()&"-"&ROW(),Calculations!$AD$4:$AD$103,0),1),"") | AT19: =IFERROR(INDEX(Calculations!$V$4:$V$103,MATCH(COLUMN()&"-"&ROW(),Calculations!$AD$4:$AD$103,0),1),"") | BC19: =IFERROR(INDEX(Calculations!$V$4:$V$103,MATCH(COLUMN()&"-"&ROW(),Calculations!$AD$4:$AD$103,0),1),"") | BL19: =IFERROR(INDEX(Calculations!$V$4:$V$103,MATCH(COLUMN()&"-"&ROW(),Calculations!$AD$4:$AD$103,0),1),"") | BU19: =IFERROR(INDEX(Calculations!$V$4:$V$103,MATCH(COLUMN()&"-"&ROW(),Calculations!$AD$4:$AD$103,0),1),"") | CD19: =IFERROR(INDEX(Calculations!$V$4:$V$103,MATCH(COLUMN()&"-"&ROW(),Calculations!$AD$4:$AD$103,0),1),"") | CM19: =IFERROR(INDEX(Calculations!$V$4:$V$103,MATCH(COLUMN()&"-"&ROW(),Calculations!$AD$4:$AD$103,0),1),"")
J20: =IFERROR(INDEX(Calculations!$V$4:$V$103,MATCH(COLUMN()&"-"&ROW(),Calculations!$AD$4:$AD$103,0),1),"") | S20: =IFERROR(INDEX(Calculations!$V$4:$V$103,MATCH(COLUMN()&"-"&ROW(),Calculations!$AD$4:$AD$103,0),1),"") | AB20: =IFERROR(INDEX(Calculations!$V$4:$V$103,MATCH(COLUMN()&"-"&ROW(),Calculations!$AD$4:$AD$103,0),1),"") | AK20: =IFERROR(INDEX(Calculations!$V$4:$V$103,MATCH(COLUMN()&"-"&ROW(),Calculations!$AD$4:$AD$103,0),1),"") | AT20: =IFERROR(INDEX(Calculations!$V$4:$V$103,MATCH(COLUMN()&"-"&ROW(),Calculations!$AD$4:$AD$103,0),1),"") | BC20: =IFERROR(INDEX(Calculations!$V$4:$V$103,MATCH(COLUMN()&"-"&ROW(),Calculations!$AD$4:$AD$103,0),1),"") | BL20: =IFERROR(INDEX(Calculations!$V$4:$V$103,MATCH(COLUMN()&"-"&ROW(),Calculations!$AD$4:$AD$103,0),1),"") | BU20: =IFERROR(INDEX(Calculations!$V$4:$V$103,MATCH(COLUMN()&"-"&ROW(),Calculations!$AD$4:$AD$103,0),1),"") | CD20: =IFERROR(INDEX(Calculations!$V$4:$V$103,MATCH(COLUMN()&"-"&ROW(),Calculations!$AD$4:$AD$103,0),1),"") | CM20: =IFERROR(INDEX(Calculations!$V$4:$V$103,MATCH(COLUMN()&"-"&ROW(),Calculations!$AD$4:$AD$103,0),1),"")
J21: =IFERROR(INDEX(Calculations!$V$4:$V$103,MATCH(COLUMN()&"-"&ROW(),Calculations!$AD$4:$AD$103,0),1),"") | S21: =IFERROR(INDEX(Calculations!$V$4:$V$103,MATCH(COLUMN()&"-"&ROW(),Calculations!$AD$4:$AD$103,0),1),"") | AB21: =IFERROR(INDEX(Calculations!$V$4:$V$103,MATCH(COLUMN()&"-"&ROW(),Calculations!$AD$4:$AD$103,0),1),"") | AK21: =IFERROR(INDEX(Calculations!$V$4:$V$103,MATCH(COLUMN()&"-"&ROW(),Calculations!$AD$4:$AD$103,0),1),"") | AT21: =IFERROR(INDEX(Calculations!$V$4:$V$103,MATCH(COLUMN()&"-"&ROW(),Calculations!$AD$4:$AD$103,0),1),"") | BC21: =IFERROR(INDEX(Calculations!$V$4:$V$103,MATCH(COLUMN()&"-"&ROW(),Calculations!$AD$4:$AD$103,0),1),"") | BL21: =IFERROR(INDEX(Calculations!$V$4:$V$103,MATCH(COLUMN()&"-"&ROW(),Calculations!$AD$4:$AD$103,0),1),"") | BU21: =IFERROR(INDEX(Calculations!$V$4:$V$103,MATCH(COLUMN()&"-"&ROW(),Calculations!$AD$4:$AD$103,0),1),"") | CD21: =IFERROR(INDEX(Calculations!$V$4:$V$103,MATCH(COLUMN()&"-"&ROW(),Calculations!$AD$4:$AD$103,0),1),"") | CM21: =IFERROR(INDEX(Calculations!$V$4:$V$103,MATCH(COLUMN()&"-"&ROW(),Calculations!$AD$4:$AD$103,0),1),"")
J22: =IFERROR(INDEX(Calculations!$V$4:$V$103,MATCH(COLUMN()&"-"&ROW(),Calculations!$AD$4:$AD$103,0),1),"") | S22: =IFERROR(INDEX(Calculations!$V$4:$V$103,MATCH(COLUMN()&"-"&ROW(),Calculations!$AD$4:$AD$103,0),1),"") -> Quality Tests | AB22: =IFERROR(INDEX(Calculations!$V$4:$V$103,MATCH(COLUMN()&"-"&ROW(),Calculations!$AD$4:$AD$103,0),1),"") | AK22: =IFERROR(INDEX(Calculations!$V$4:$V$103,MATCH(COLUMN()&"-"&ROW(),Calculations!$AD$4:$AD$103,0),1),"") -> Continues Tests | AT22: =IFERROR(INDEX(Calculations!$V$4:$V$103,MATCH(COLUMN()&"-"&ROW(),Calculations!$AD$4:$AD$103,0),1),"") | BC22: =IFERROR(INDEX(Calculations!$V$4:$V$103,MATCH(COLUMN()&"-"&ROW(),Calculations!$AD$4:$AD$103,0),1),"") | BL22: =IFERROR(INDEX(Calculations!$V$4:$V$103,MATCH(COLUMN()&"-"&ROW(),Calculations!$AD$4:$AD$103,0),1),"") | BU22: =IFERROR(INDEX(Calculations!$V$4:$V$103,MATCH(COLUMN()&"-"&ROW(),Calculations!$AD$4:$AD$103,0),1),"") | CD22: =IFERROR(INDEX(Calculations!$V$4:$V$103,MATCH(COLUMN()&"-"&ROW(),Calculations!$AD$4:$AD$103,0),1),"") | CM22: =IFERROR(INDEX(Calculations!$V$4:$V$103,MATCH(COLUMN()&"-"&ROW(),Calculations!$AD$4:$AD$103,0),1),"")
J23: =IFERROR(INDEX(Calculations!$V$4:$V$103,MATCH(COLUMN()&"-"&ROW(),Calculations!$AD$4:$AD$103,0),1),"") | S23: =IFERROR(INDEX(Calculations!$V$4:$V$103,MATCH(COLUMN()&"-"&ROW(),Calculations!$AD$4:$AD$103,0),1),"") | AB23: =IFERROR(INDEX(Calculations!$V$4:$V$103,MATCH(COLUMN()&"-"&ROW(),Calculations!$AD$4:$AD$103,0),1),"") | AK23: =IFERROR(INDEX(Calculations!$V$4:$V$103,MATCH(COLUMN()&"-"&ROW(),Calculations!$AD$4:$AD$103,0),1),"") | AT23: =IFERROR(INDEX(Calculations!$V$4:$V$103,MATCH(COLUMN()&"-"&ROW(),Calculations!$AD$4:$AD$103,0),1),"") | BC23: =IFERROR(INDEX(Calculations!$V$4:$V$103,MATCH(COLUMN()&"-"&ROW(),Calculations!$AD$4:$AD$103,0),1),"") | BL23: =IFERROR(INDEX(Calculations!$V$4:$V$103,MATCH(COLUMN()&"-"&ROW(),Calculations!$AD$4:$AD$103,0),1),"") | BU23: =IFERROR(INDEX(Calculations!$V$4:$V$103,MATCH(COLUMN()&"-"&ROW(),Calculations!$AD$4:$AD$103,0),1),"") | CD23: =IFERROR(INDEX(Calculations!$V$4:$V$103,MATCH(COLUMN()&"-"&ROW(),Calculations!$AD$4:$AD$103,0),1),"") | CM23: =IFERROR(INDEX(Calculations!$V$4:$V$103,MATCH(COLUMN()&"-"&ROW(),Calculations!$AD$4:$AD$103,0),1),"")
J24: =IFERROR(INDEX(Calculations!$V$4:$V$103,MATCH(COLUMN()&"-"&ROW(),Calculations!$AD$4:$AD$103,0),1),"") | S24: =IFERROR(INDEX(Calculations!$V$4:$V$103,MATCH(COLUMN()&"-"&ROW(),Calculations!$AD$4:$AD$103,0),1),"") -> Test results | AB24: =IFERROR(INDEX(Calculations!$V$4:$V$103,MATCH(COLUMN()&"-"&ROW(),Calculations!$AD$4:$AD$103,0),1),"") | AK24: =IFERROR(INDEX(Calculations!$V$4:$V$103,MATCH(COLUMN()&"-"&ROW(),Calculations!$AD$4:$AD$103,0),1),"") | AT24: =IFERROR(INDEX(Calculations!$V$4:$V$103,MATCH(COLUMN()&"-"&ROW(),Calculations!$AD$4:$AD$103,0),1),"") | BC24: =IFERROR(INDEX(Calculations!$V$4:$V$103,MATCH(COLUMN()&"-"&ROW(),Calculations!$AD$4:$AD$103,0),1),"") | BL24: =IFERROR(INDEX(Calculations!$V$4:$V$103,MATCH(COLUMN()&"-"&ROW(),Calculations!$AD$4:$AD$103,0),1),"") | BU24: =IFERROR(INDEX(Calculations!$V$4:$V$103,MATCH(COLUMN()&"-"&ROW(),Calculations!$AD$4:$AD$103,0),1),"") | CD24: =IFERROR(INDEX(Calculations!$V$4:$V$103,MATCH(COLUMN()&"-"&ROW(),Calculations!$AD$4:$AD$103,0),1),"") | CM24: =IFERROR(INDEX(Calculations!$V$4:$V$103,MATCH(COLUMN()&"-"&ROW(),Calculations!$AD$4:$AD$103,0),1),"")
J25: =IFERROR(INDEX(Calculations!$V$4:$V$103,MATCH(COLUMN()&"-"&ROW(),Calculations!$AD$4:$AD$103,0),1),"") | S25: =IFERROR(INDEX(Calculations!$V$4:$V$103,MATCH(COLUMN()&"-"&ROW(),Calculations!$AD$4:$AD$103,0),1),"") | AB25: =IFERROR(INDEX(Calculations!$V$4:$V$103,MATCH(COLUMN()&"-"&ROW(),Calculations!$AD$4:$AD$103,0),1),"") | AK25: =IFERROR(INDEX(Calculations!$V$4:$V$103,MATCH(COLUMN()&"-"&ROW(),Calculations!$AD$4:$AD$103,0),1),"") | AT25: =IFERROR(INDEX(Calculations!$V$4:$V$103,MATCH(COLUMN()&"-"&ROW(),Calculations!$AD$4:$AD$103,0),1),"") | BC25: =IFERROR(INDEX(Calculations!$V$4:$V$103,MATCH(COLUMN()&"-"&ROW(),Calculations!$AD$4:$AD$103,0),1),"") | BL25: =IFERROR(INDEX(Calculations!$V$4:$V$103,MATCH(COLUMN()&"-"&ROW(),Calculations!$AD$4:$AD$103,0),1),"") | BU25: =IFERROR(INDEX(Calculations!$V$4:$V$103,MATCH(COLUMN()&"-"&ROW(),Calculations!$AD$4:$AD$103,0),1),"") | CD25: =IFERROR(INDEX(Calculations!$V$4:$V$103,MATCH(COLUMN()&"-"&ROW(),Calculations!$AD$4:$AD$103,0),1),"") | CM25: =IFERROR(INDEX(Calculations!$V$4:$V$103,MATCH(COLUMN()&"-"&ROW(),Calculations!$AD$4:$AD$103,0),1),"")
J26: =IFERROR(INDEX(Calculations!$V$4:$V$103,MATCH(COLUMN()&"-"&ROW(),Calculations!$AD$4:$AD$103,0),1),"") | S26: =IFERROR(INDEX(Calculations!$V$4:$V$103,MATCH(COLUMN()&"-"&ROW(),Calculations!$AD$4:$AD$103,0),1),"") | AB26: =IFERROR(INDEX(Calculations!$V$4:$V$103,MATCH(COLUMN()&"-"&ROW(),Calculations!$AD$4:$AD$103,0),1),"") | AK26: =IFERROR(INDEX(Calculations!$V$4:$V$103,MATCH(COLUMN()&"-"&ROW(),Calculations!$AD$4:$AD$103,0),1),"") | AT26: =IFERROR(INDEX(Calculations!$V$4:$V$103,MATCH(COLUMN()&"-"&ROW(),Calculations!$AD$4:$AD$103,0),1),"") | BC26: =IFERROR(INDEX(Calculations!$V$4:$V$103,MATCH(COLUMN()&"-"&ROW(),Calculations!$AD$4:$AD$103,0),1),"") | BL26: =IFERROR(INDEX(Calculations!$V$4:$V$103,MATCH(COLUMN()&"-"&ROW(),Calculations!$AD$4:$AD$103,0),1),"") | BU26: =IFERROR(INDEX(Calculations!$V$4:$V$103,MATCH(COLUMN()&"-"&ROW(),Calculations!$AD$4:$AD$103,0),1),"") | CD26: =IFERROR(INDEX(Calculations!$V$4:$V$103,MATCH(COLUMN()&"-"&ROW(),Calculations!$AD$4:$AD$103,0),1),"") | CM26: =IFERROR(INDEX(Calculations!$V$4:$V$103,MATCH(COLUMN()&"-"&ROW(),Calculations!$AD$4:$AD$103,0),1),"")
J27: =IFERROR(INDEX(Calculations!$V$4:$V$103,MATCH(COLUMN()&"-"&ROW(),Calculations!$AD$4:$AD$103,0),1),"") | S27: =IFERROR(INDEX(Calculations!$V$4:$V$103,MATCH(COLUMN()&"-"&ROW(),Calculations!$AD$4:$AD$103,0),1),"") | AB27: =IFERROR(INDEX(Calculations!$V$4:$V$103,MATCH(COLUMN()&"-"&ROW(),Calculations!$AD$4:$AD$103,0),1),"") | AK27: =IFERROR(INDEX(Calculations!$V$4:$V$103,MATCH(COLUMN()&"-"&ROW(),Calculations!$AD$4:$AD$103,0),1),"") | AT27: =IFERROR(INDEX(Calculations!$V$4:$V$103,MATCH(COLUMN()&"-"&ROW(),Calculations!$AD$4:$AD$103,0),1),"") | BC27: =IFERROR(INDEX(Calculations!$V$4:$V$103,MATCH(COLUMN()&"-"&ROW(),Calculations!$AD$4:$AD$103,0),1),"") | BL27: =IFERROR(INDEX(Calculations!$V$4:$V$103,MATCH(COLUMN()&"-"&ROW(),Calculations!$AD$4:$AD$103,0),1),"") | BU27: =IFERROR(INDEX(Calculations!$V$4:$V$103,MATCH(COLUMN()&"-"&ROW(),Calculations!$AD$4:$AD$103,0),1),"") | CD27: =IFERROR(INDEX(Calculations!$V$4:$V$103,MATCH(COLUMN()&"-"&ROW(),Calculations!$AD$4:$AD$103,0),1),"") | CM27: =IFERROR(INDEX(Calculations!$V$4:$V$103,MATCH(COLUMN()&"-"&ROW(),Calculations!$AD$4:$AD$103,0),1),"")
J28: =IFERROR(INDEX(Calculations!$V$4:$V$103,MATCH(COLUMN()&"-"&ROW(),Calculations!$AD$4:$AD$103,0),1),"") | S28: =IFERROR(INDEX(Calculations!$V$4:$V$103,MATCH(COLUMN()&"-"&ROW(),Calculations!$AD$4:$AD$103,0),1),"") | AB28: =IFERROR(INDEX(Calculations!$V$4:$V$103,MATCH(COLUMN()&"-"&ROW(),Calculations!$AD$4:$AD$103,0),1),"") | AK28: =IFERROR(INDEX(Calculations!$V$4:$V$103,MATCH(COLUMN()&"-"&ROW(),Calculations!$AD$4:$AD$103,0),1),"") | AT28: =IFERROR(INDEX(Calculations!$V$4:$V$103,MATCH(COLUMN()&"-"&ROW(),Calculations!$AD$4:$AD$103,0),1),"") | BC28: =IFERROR(INDEX(Calculations!$V$4:$V$103,MATCH(COLUMN()&"-"&ROW(),Calculations!$AD$4:$AD$103,0),1),"") | BL28: =IFERROR(INDEX(Calculations!$V$4:$V$103,MATCH(COLUMN()&"-"&ROW(),Calculations!$AD$4:$AD$103,0),1),"") | BU28: =IFERROR(INDEX(Calculations!$V$4:$V$103,MATCH(COLUMN()&"-"&ROW(),Calculations!$AD$4:$AD$103,0),1),"") | CD28: =IFERROR(INDEX(Calculations!$V$4:$V$103,MATCH(COLUMN()&"-"&ROW(),Calculations!$AD$4:$AD$103,0),1),"") | CM28: =IFERROR(INDEX(Calculations!$V$4:$V$103,MATCH(COLUMN()&"-"&ROW(),Calculations!$AD$4:$AD$103,0),1),"")
J29: =IFERROR(INDEX(Calculations!$V$4:$V$103,MATCH(COLUMN()&"-"&ROW(),Calculations!$AD$4:$AD$103,0),1),"") | S29: =IFERROR(INDEX(Calculations!$V$4:$V$103,MATCH(COLUMN()&"-"&ROW(),Calculations!$AD$4:$AD$103,0),1),"") | AB29: =IFERROR(INDEX(Calculations!$V$4:$V$103,MATCH(COLUMN()&"-"&ROW(),Calculations!$AD$4:$AD$103,0),1),"") | AK29: =IFERROR(INDEX(Calculations!$V$4:$V$103,MATCH(COLUMN()&"-"&ROW(),Calculations!$AD$4:$AD$103,0),1),"") | AT29: =IFERROR(INDEX(Calculations!$V$4:$V$103,MATCH(COLUMN()&"-"&ROW(),Calculations!$AD$4:$AD$103,0),1),"") | BC29: =IFERROR(INDEX(Calculations!$V$4:$V$103,MATCH(COLUMN()&"-"&ROW(),Calculations!$AD$4:$AD$103,0),1),"") | BL29: =IFERROR(INDEX(Calculations!$V$4:$V$103,MATCH(COLUMN()&"-"&ROW(),Calculations!$AD$4:$AD$103,0),1),"") | BU29: =IFERROR(INDEX(Calculations!$V$4:$V$103,MATCH(COLUMN()&"-"&ROW(),Calculations!$AD$4:$AD$103,0),1),"") | CD29: =IFERROR(INDEX(Calculations!$V$4:$V$103,MATCH(COLUMN()&"-"&ROW(),Calculations!$AD$4:$AD$103,0),1),"") | CM29: =IFERROR(INDEX(Calculations!$V$4:$V$103,MATCH(COLUMN()&"-"&ROW(),Calculations!$AD$4:$AD$103,0),1),"")
J30: =IFERROR(INDEX(Calculations!$V$4:$V$103,MATCH(COLUMN()&"-"&ROW(),Calculations!$AD$4:$AD$103,0),1),"") | S30: =IFERROR(INDEX(Calculations!$V$4:$V$103,MATCH(COLUMN()&"-"&ROW(),Calculations!$AD$4:$AD$103,0),1),"") | AB30: =IFERROR(INDEX(Calculations!$V$4:$V$103,MATCH(COLUMN()&"-"&ROW(),Calculations!$AD$4:$AD$103,0),1),"") | AK30: =IFERROR(INDEX(Calculations!$V$4:$V$103,MATCH(COLUMN()&"-"&ROW(),Calculations!$AD$4:$AD$103,0),1),"") | AT30: =IFERROR(INDEX(Calculations!$V$4:$V$103,MATCH(COLUMN()&"-"&ROW(),Calculations!$AD$4:$AD$103,0),1),"") | BC30: =IFERROR(INDEX(Calculations!$V$4:$V$103,MATCH(COLUMN()&"-"&ROW(),Calculations!$AD$4:$AD$103,0),1),"") | BL30: =IFERROR(INDEX(Calculations!$V$4:$V$103,MATCH(COLUMN()&"-"&ROW(),Calculations!$AD$4:$AD$103,0),1),"") | BU30: =IFERROR(INDEX(Calculations!$V$4:$V$103,MATCH(COLUMN()&"-"&ROW(),Calculations!$AD$4:$AD$103,0),1),"") | CD30: =IFERROR(INDEX(Calculations!$V$4:$V$103,MATCH(COLUMN()&"-"&ROW(),Calculations!$AD$4:$AD$103,0),1),"") | CM30: =IFERROR(INDEX(Calculations!$V$4:$V$103,MATCH(COLUMN()&"-"&ROW(),Calculations!$AD$4:$AD$103,0),1),"")
J31: =IFERROR(INDEX(Calculations!$V$4:$V$103,MATCH(COLUMN()&"-"&ROW(),Calculations!$AD$4:$AD$103,0),1),"") | S31: =IFERROR(INDEX(Calculations!$V$4:$V$103,MATCH(COLUMN()&"-"&ROW(),Calculations!$AD$4:$AD$103,0),1),"") | AB31: =IFERROR(INDEX(Calculations!$V$4:$V$103,MATCH(COLUMN()&"-"&ROW(),Calculations!$AD$4:$AD$103,0),1),"") | AK31: =IFERROR(INDEX(Calculations!$V$4:$V$103,MATCH(COLUMN()&"-"&ROW(),Calculations!$AD$4:$AD$103,0),1),"") | AT31: =IFERROR(INDEX(Calculations!$V$4:$V$103,MATCH(COLUMN()&"-"&ROW(),Calculations!$AD$4:$AD$103,0),1),"") | BC31: =IFERROR(INDEX(Calculations!$V$4:$V$103,MATCH(COLUMN()&"-"&ROW(),Calculations!$AD$4:$AD$103,0),1),"") | BL31: =IFERROR(INDEX(Calculations!$V$4:$V$103,MATCH(COLUMN()&"-"&ROW(),Calculations!$AD$4:$AD$103,0),1),"") | BU31: =IFERROR(INDEX(Calculations!$V$4:$V$103,MATCH(COLUMN()&"-"&ROW(),Calculations!$AD$4:$AD$103,0),1),"") | CD31: =IFERROR(INDEX(Calculations!$V$4:$V$103,MATCH(COLUMN()&"-"&ROW(),Calculations!$AD$4:$AD$103,0),1),"") | CM31: =IFERROR(INDEX(Calculations!$V$4:$V$103,MATCH(COLUMN()&"-"&ROW(),Calculations!$AD$4:$AD$103,0),1),"")
... J217: =IFERROR(INDEX(Calculations!$V$4:$V$103,MATCH(COLUMN()&"-"&ROW(),Calculations!$AD$4:$AD$103,0),1),"") | S217: =IFERROR(INDEX(Calculations!$V$4:$V$103,MATCH(COLUMN()&"-"&ROW(),Calculations!$AD$4:$AD$103,0),1),"") | AB217: =IFERROR(INDEX(Calculations!$V$4:$V$103,MATCH(COLUMN()&"-"&ROW(),Calculations!$AD$4:$AD$103,0),1),"") | AK217: =IFERROR(INDEX(Calculations!$V$4:$V$103,MATCH(COLUMN()&"-"&ROW(),Calculations!$AD$4:$AD$103,0),1),"") | AT217: =IFERROR(INDEX(Calculations!$V$4:$V$103,MATCH(COLUMN()&"-"&ROW(),Calculations!$AD$4:$AD$103,0),1),"") | BC217: =IFERROR(INDEX(Calculations!$V$4:$V$103,MATCH(COLUMN()&"-"&ROW(),Calculations!$AD$4:$AD$103,0),1),"") | BL217: =IFERROR(INDEX(Calculations!$V$4:$V$103,MATCH(COLUMN()&"-"&ROW(),Calculations!$AD$4:$AD$103,0),1),"") | BU217: =IFERROR(INDEX(Calculations!$V$4:$V$103,MATCH(COLUMN()&"-"&ROW(),Calculations!$AD$4:$AD$103,0),1),"") | CD217: =IFERROR(INDEX(Calculations!$V$4:$V$103,MATCH(COLUMN()&"-"&ROW(),Calculations!$AD$4:$AD$103,0),1),"") | CM217: =IFERROR(INDEX(Calculations!$V$4:$V$103,MATCH(COLUMN()&"-"&ROW(),Calculations!$AD$4:$AD$103,0),1),"")

Sheet Settings
C2: ROADMAP TEMPLATE
C3: SETTINGS
C6: PHASES | E6: VERTICAL SPLIT | F6: COLOR | H6: TIME RANGE | I6: SIZE | J6: TEXT LENGTH
C7: Q1 - 2022 | E7: R&D Team | H7: Small | I7: 3 | J7: 10
C8: Q2 - 2022 | E8: Marketing | H8: Medium | I8: 4 | J8: 30
C9: Q3 - 2022 | E9: Sales | H9: Large | I9: 6 | J9: 35
C10: Q4 - 2022 | E10: Quality A.

Sheet Calculations
AG1: Formula Patern:
AC2: =MAX(AC4:AC103) -> 24 | AF2: Colors formatting | AH2: =MOD((AH3-$AH$3),divide)+1 -> 1 | AI2: =MOD((AI3-$AH$3),divide)+1 -> 2 | AJ2: =MOD((AJ3-$AH$3),divide)+1 -> 3 | AK2: =MOD((AK3-$AH$3),divide)+1 -> 4 | AL2: =MOD((AL3-$AH$3),divide)+1 -> 5 | AM2: =MOD((AM3-$AH$3),divide)+1 -> 6 | AN2: =MOD((AN3-$AH$3),divide)+1 -> 7 | AO2: =MOD((AO3-$AH$3),divide)+1 -> 8 | ... DS2: =MOD((DS3-$AH$3),divide)+1 -> 9
B3: Split | C3: =E26 -> Q1 - 2022 | D3: =E27 -> Q2 - 2022 | E3: =E28 -> Q3 - 2022 | F3: =E29 -> Q4 - 2022 | G3: =E30 -> 0 | H3: =E31 -> 0 | I3: =$E32 -> 0 | J3: =$E33 -> 0 | K3: =E34 -> 0 | L3: =E35 -> 0 | M3: MAX | N3: Labels | O3: Position Y Offset | Q3: Formatting color | T3: # | U3: Goals | V3: Trimmed | W3: Milestone | X3: Time Size | Y3: #size | Z3: Stage | AA3: Department | AB3: Position X | AC3: Position Y | AD3: X-Y | AF3: Color | AG3: R/C | AH3: =COLUMN(startCell) -> 10 | AI3: =AH3+1 -> 11 | AJ3: =AI3+1 -> 12 | AK3: =AJ3+1 -> 13 | AL3: =AK3+1 -> 14 | AM3: =AL3+1 -> 15 | AN3: =AM3+1 -> 16 | AO3: =AN3+1 -> 17 | AP3: =AO3+1 -> 18 | ... DS3: =DR3+1 -> 99
B4: =IF(LEN(Settings!E7)>0,Settings!E7,"Empty-"&ROW()) -> R&D Team | C4: =COUNTIFS($AA$4:$AA$103,$B4,$Z$4:$Z$103,C$3) -> 2 | D4: =COUNTIFS($AA$4:$AA$103,$B4,$Z$4:$Z$103,D$3) -> 1 | E4: =COUNTIFS($AA$4:$AA$103,$B4,$Z$4:$Z$103,E$3) -> 2 | F4: =COUNTIFS($AA$4:$AA$103,$B4,$Z$4:$Z$103,F$3) -> 1 | G4: =COUNTIFS($AA$4:$AA$103,$B4,$Z$4:$Z$103,G$3) -> 0 | H4: =COUNTIFS($AA$4:$AA$103,$B4,$Z$4:$Z$103,H$3) -> 0 | I4: =COUNTIFS($AA$4:$AA$103,$B4,$Z$4:$Z$103,I$3) -> 0 | J4: =COUNTIFS($AA$4:$AA$103,$B4,$Z$4:$Z$103,J$3) -> 0 | ... L4: =COUNTIFS($AA$4:$AA$103,$B4,$Z$4:$Z$103,L$3) -> 0 | M4: =MAX(C4:L4) -> 2 | N4: =IF(M4=0,"",B4) -> R&D Team | O4: =IF(M4>0,M4*2+1,M4) -> 5 | P4: 0 | Q4: =P5+ROW(startCell) -> 10 | R4: 0 | T4: 1 | U4: =IFERROR(TRIM(W4&" "&INDEX(Roadmap!B$6:B$105,$T4,1)),"") -> Research | V4: =IF(LEN(U4)>Y4,LEFT(U4,Y4)&"…",U4) -> Research | W4: =IFERROR(INDEX(Roadmap!C$6:C$105,$T4,1)&"","") | X4: =IF(LEN(U4)>0,IFERROR(INDEX(Settings!$I$7:$I$9,MATCH(INDEX(Roadmap!D$6:D$105,$T4,1),Settings!$H$7:$H$9,0),1),large),"") -> 3 | Y4: =IFERROR(INDEX(Settings!$J$7:$J$9,MATCH(INDEX(Roadmap!D$6:D$105,$T4,1),Settings!$H$7:$H$9,0),1),300) -> 10 | Z4: =IFERROR(IF(LEN($U4)=0,"",INDEX(Roadmap!E$6:E$105,$T4,1)&""),"") -> Q1 - 2022 | AA4: =IFERROR(IF(LEN($U4)=0,"",INDEX(Roadmap!F$6:F$105,$T4,1)&""),"") -> R&D Team | AB4: =IFERROR((MATCH(Z4,$C$3:$L$3,0))*divide+COLUMN(startCell)-divide,"") -> 10 | AC4: =IFERROR(IF(OR(U4="",Z4=""),"",2*COUNTIFS($Z$4:Z4,Z4,$AA$4:AA4,AA4)+INDEX($P$4:$P$16,MATCH(AA4,$B$4:$B$16,0),1)+ROW(startCell)),"") -> 7 | AD4: =AB4&"-"&AC4 -> 10-7 | AF4: =IF(ISNUMBER(MATCH(AG4,$AC$4:$AC$303,0)),1,"") | AG4: =ROW(startCell)+1 -> 6 | AH4: =IFERROR(IF(OR($AF4="",AH$3>maxCol),"",IF(ISNUMBER(MATCH(AH$3+1-AH$2&"-"&$AG4,$AD$4:$AD$103,0)),$AF4,"")),"") | AI4: =IFERROR(IF(AH4="","",IF(INDEX($X$4:$X$103,MATCH(AI$3+1-AI$2&"-"&$AG4,$AD$4:$AD$103,0),1)>=AI$2,$AF4,"")),"") | AJ4: =IFERROR(IF(AH4="","",IF(INDEX($X$4:$X$103,MATCH(AJ$3+1-AJ$2&"-"&$AG4,$AD$4:$AD$103,0),1)>=AJ$2,$AF4,"")),"") | AK4: =IFERROR(IF(AH4="","",IF(INDEX($X$4:$X$103,MATCH(AK$3+1-AK$2&"-"&$AG4,$AD$4:$AD$103,0),1)>=AK$2,$AF4,"")),"") | AL4: =IFERROR(IF(AH4="","",IF(INDEX($X$4:$X$103,MATCH(AL$3+1-AL$2&"-"&$AG4,$AD$4:$AD$103,0),1)>=AL$2,$AF4,"")),"") | AM4: =IFERROR(IF(AH4="","",IF(INDEX($X$4:$X$103,MATCH(AM$3+1-AM$2&"-"&$AG4,$AD$4:$AD$103,0),1)>=AM$2,$AF4,"")),"") | AQ4: =IFERROR(IF(OR($AF4="",AQ$3>maxCol),"",IF(ISNUMBER(MATCH(AQ$3+1-AQ$2&"-"&$AG4,$AD$4:$AD$103,0)),$AF4,"")),"") | AR4: =IFERROR(IF(AQ4="","",IF(INDEX($X$4:$X$103,MATCH(AR$3+1-AR$2&"-"&$AG4,$AD$4:$AD$103,0),1)>=AR$2,$AF4,"")),"") | AS4: =IFERROR(IF(AQ4="","",IF(INDEX($X$4:$X$103,MATCH(AS$3+1-AS$2&"-"&$AG4,$AD$4:$AD$103,0),1)>=AS$2,$AF4,"")),"") | AT4: =IFERROR(IF(AQ4="","",IF(INDEX($X$4:$X$103,MATCH(AT$3+1-AT$2&"-"&$AG4,$AD$4:$AD$103,0),1)>=AT$2,$AF4,"")),"") | AU4: =IFERROR(IF(AQ4="","",IF(INDEX($X$4:$X$103,MATCH(AU$3+1-AU$2&"-"&$AG4,$AD$4:$AD$103,0),1)>=AU$2,$AF4,"")),"") | AV4: =IFERROR(IF(AQ4="","",IF(INDEX($X$4:$X$103,MATCH(AV$3+1-AV$2&"-"&$AG4,$AD$4:$AD$103,0),1)>=AV$2,$AF4,"")),"") | AZ4: =IFERROR(IF(OR($AF4="",AZ$3>maxCol),"",IF(ISNUMBER(MATCH(AZ$3+1-AZ$2&"-"&$AG4,$AD$4:$AD$103,0)),$AF4,"")),"") | BA4: =IFERROR(IF(AZ4="","",IF(INDEX($X$4:$X$103,MATCH(BA$3+1-BA$2&"-"&$AG4,$AD$4:$AD$103,0),1)>=BA$2,$AF4,"")),"") | BB4: =IFERROR(IF(AZ4="","",IF(INDEX($X$4:$X$103,MATCH(BB$3+1-BB$2&"-"&$AG4,$AD$4:$AD$103,0),1)>=BB$2,$AF4,"")),"") | BC4: =IFERROR(IF(AZ4="","",IF(INDEX($X$4:$X$103,MATCH(BC$3+1-BC$2&"-"&$AG4,$AD$4:$AD$103,0),1)>=BC$2,$AF4,"")),"") | BD4: =IFERROR(IF(AZ4="","",IF(INDEX($X$4:$X$103,MATCH(BD$3+1-BD$2&"-"&$AG4,$AD$4:$AD$103,0),1)>=BD$2,$AF4,"")),"") | BE4: =IFERROR(IF(AZ4="","",IF(INDEX($X$4:$X$103,MATCH(BE$3+1-BE$2&"-"&$AG4,$AD$4:$AD$103,0),1)>=BE$2,$AF4,"")),"") | BI4: =IFERROR(IF(OR($AF4="",BI$3>maxCol),"",IF(ISNUMBER(MATCH(BI$3+1-BI$2&"-"&$AG4,$AD$4:$AD$103,0)),$AF4,"")),"") | BJ4: =IFERROR(IF(BI4="","",IF(INDEX($X$4:$X$103,MATCH(BJ$3+1-BJ$2&"-"&$AG4,$AD$4:$AD$103,0),1)>=BJ$2,$AF4,"")),"") | BK4: =IFERROR(IF(BI4="","",IF(INDEX($X$4:$X$103,MATCH(BK$3+1-BK$2&"-"&$AG4,$AD$4:$AD$103,0),1)>=BK$2,$AF4,"")),"") | BL4: =IFERROR(IF(BI4="","",IF(INDEX($X$4:$X$103,MATCH(BL$3+1-BL$2&"-"&$AG4,$AD$4:$AD$103,0),1)>=BL$2,$AF4,"")),"") | BM4: =IFERROR(IF(BI4="","",IF(INDEX($X$4:$X$103,MATCH(BM$3+1-BM$2&"-"&$AG4,$AD$4:$AD$103,0),1)>=BM$2,$AF4,"")),"") | BN4: =IFERROR(IF(BI4="","",IF(INDEX($X$4:$X$103,MATCH(BN$3+1-BN$2&"-"&$AG4,$AD$4:$AD$103,0),1)>=BN$2,$AF4,"")),"") | BR4: =IFERROR(IF(OR($AF4="",BR$3>maxCol),"",IF(ISNUMBER(MATCH(BR$3+1-BR$2&"-"&$AG4,$AD$4:$AD$103,0)),$AF4,"")),"") | BS4: =IFERROR(IF(BR4="","",IF(INDEX($X$4:$X$103,MATCH(BS$3+1-BS$2&"-"&$AG4,$AD$4:$AD$103,0),1)>=BS$2,$AF4,"")),"") | BT4: =IFERROR(IF(BR4="","",IF(INDEX($X$4:$X$103,MATCH(BT$3+1-BT$2&"-"&$AG4,$AD$4:$AD$103,0),1)>=BT$2,$AF4,"")),"") | BU4: =IFERROR(IF(BR4="","",IF(INDEX($X$4:$X$103,MATCH(BU$3+1-BU$2&"-"&$AG4,$AD$4:$AD$103,0),1)>=BU$2,$AF4,"")),"") | BV4: =IFERROR(IF(BR4="","",IF(INDEX($X$4:$X$103,MATCH(BV$3+1-BV$2&"-"&$AG4,$AD$4:$AD$103,0),1)>=BV$2,$AF4,"")),"") | BW4: =IFERROR(IF(BR4="","",IF(INDEX($X$4:$X$103,MATCH(BW$3+1-BW$2&"-"&$AG4,$AD$4:$AD$103,0),1)>=BW$2,$AF4,"")),"") | CA4: =IFERROR(IF(OR($AF4="",CA$3>maxCol),"",IF(ISNUMBER(MATCH(CA$3+1-CA$2&"-"&$AG4,$AD$4:$AD$103,0)),$AF4,"")),"") | CB4: =IFERROR(IF(CA4="","",IF(INDEX($X$4:$X$103,MATCH(CB$3+1-CB$2&"-"&$AG4,$AD$4:$AD$103,0),1)>=CB$2,$AF4,"")),"") | CC4: =IFERROR(IF(CA4="","",IF(INDEX($X$4:$X$103,MATCH(CC$3+1-CC$2&"-"&$AG4,$AD$4:$AD$103,0),1)>=CC$2,$AF4,"")),"") | CD4: =IFERROR(IF(CA4="","",IF(INDEX($X$4:$X$103,MATCH(CD$3+1-CD$2&"-"&$AG4,$AD$4:$AD$103,0),1)>=CD$2,$AF4,"")),"") | CE4: =IFERROR(IF(CA4="","",IF(INDEX($X$4:$X$103,MATCH(CE$3+1-CE$2&"-"&$AG4,$AD$4:$AD$103,0),1)>=CE$2,$AF4,"")),"") | CF4: =IFERROR(IF(CA4="","",IF(INDEX($X$4:$X$103,MATCH(CF$3+1-CF$2&"-"&$AG4,$AD$4:$AD$103,0),1)>=CF$2,$AF4,"")),"") | CJ4: =IFERROR(IF(OR($AF4="",CJ$3>maxCol),"",IF(ISNUMBER(MATCH(CJ$3+1-CJ$2&"-"&$AG4,$AD$4:$AD$103,0)),$AF4,"")),"") | CK4: =IFERROR(IF(CJ4="","",IF(INDEX($X$4:$X$103,MATCH(CK$3+1-CK$2&"-"&$AG4,$AD$4:$AD$103,0),1)>=CK$2,$AF4,"")),"") | CL4: =IFERROR(IF(CJ4="","",IF(INDEX($X$4:$X$103,MATCH(CL$3+1-CL$2&"-"&$AG4,$AD$4:$AD$103,0),1)>=CL$2,$AF4,"")),"") | CM4: =IFERROR(IF(CJ4="","",IF(INDEX($X$4:$X$103,MATCH(CM$3+1-CM$2&"-"&$AG4,$AD$4:$AD$103,0),1)>=CM$2,$AF4,"")),"") | CN4: =IFERROR(IF(CJ4="","",IF(INDEX($X$4:$X$103,MATCH(CN$3+1-CN$2&"-"&$AG4,$AD$4:$AD$103,0),1)>=CN$2,$AF4,"")),"") | CO4: =IFERROR(IF(CJ4="","",IF(INDEX($X$4:$X$103,MATCH(CO$3+1-CO$2&"-"&$AG4,$AD$4:$AD$103,0),1)>=CO$2,$AF4,"")),"") | CS4: =IFERROR(IF(OR($AF4="",CS$3>maxCol),"",IF(ISNUMBER(MATCH(CS$3+1-CS$2&"-"&$AG4,$AD$4:$AD$103,0)),$AF4,"")),"") | CT4: =IFERROR(IF(CS4="","",IF(INDEX($X$4:$X$103,MATCH(CT$3+1-CT$2&"-"&$AG4,$AD$4:$AD$103,0),1)>=CT$2,$AF4,"")),"") | CU4: =IFERROR(IF(CS4="","",IF(INDEX($X$4:$X$103,MATCH(CU$3+1-CU$2&"-"&$AG4,$AD$4:$AD$103,0),1)>=CU$2,$AF4,"")),"") | CV4: =IFERROR(IF(CS4="","",IF(INDEX($X$4:$X$103,MATCH(CV$3+1-CV$2&"-"&$AG4,$AD$4:$AD$103,0),1)>=CV$2,$AF4,"")),"") | CW4: =IFERROR(IF(CS4="","",IF(INDEX($X$4:$X$103,MATCH(CW$3+1-CW$2&"-"&$AG4,$AD$4:$AD$103,0),1)>=CW$2,$AF4,"")),"") | CX4: =IFERROR(IF(CS4="","",IF(INDEX($X$4:$X$103,MATCH(CX$3+1-CX$2&"-"&$AG4,$AD$4:$AD$103,0),1)>=CX$2,$AF4,"")),"") | DB4: =IFERROR(IF(OR($AF4="",DB$3>maxCol),"",IF(ISNUMBER(MATCH(DB$3+1-DB$2&"-"&$AG4,$AD$4:$AD$103,0)),$AF4,"")),"") | DC4: =IFERROR(IF(DB4="","",IF(INDEX($X$4:$X$103,MATCH(DC$3+1-DC$2&"-"&$AG4,$AD$4:$AD$103,0),1)>=DC$2,$AF4,"")),"") | DD4: =IFERROR(IF(DB4="","",IF(INDEX($X$4:$X$103,MATCH(DD$3+1-DD$2&"-"&$AG4,$AD$4:$AD$103,0),1)>=DD$2,$AF4,"")),"") | DE4: =IFERROR(IF(DB4="","",IF(INDEX($X$4:$X$103,MATCH(DE$3+1-DE$2&"-"&$AG4,$AD$4:$AD$103,0),1)>=DE$2,$AF4,"")),"") | DF4: =IFERROR(IF(DB4="","",IF(INDEX($X$4:$X$103,MATCH(DF$3+1-DF$2&"-"&$AG4,$AD$4:$AD$103,0),1)>=DF$2,$AF4,"")),"") | DG4: =IFERROR(IF(DB4="","",IF(INDEX($X$4:$X$103,MATCH(DG$3+1-DG$2&"-"&$AG4,$AD$4:$AD$103,0),1)>=DG$2,$AF4,"")),"") | DK4: =IFERROR(IF(OR($AF4="",DK$3>maxCol),"",IF(ISNUMBER(MATCH(DK$3+1-DK$2&"-"&$AG4,$AD$4:$AD$103,0)),$AF4,"")),"") | DL4: =IFERROR(IF(DK4="","",IF(INDEX($X$4:$X$103,MATCH(DL$3+1-DL$2&"-"&$AG4,$AD$4:$AD$103,0),1)>=DL$2,$AF4,"")),"") | DM4: =IFERROR(IF(DK4="","",IF(INDEX($X$4:$X$103,MATCH(DM$3+1-DM$2&"-"&$AG4,$AD$4:$AD$103,0),1)>=DM$2,$AF4,"")),"") | DN4: =IFERROR(IF(DK4="","",IF(INDEX($X$4:$X$103,MATCH(DN$3+1-DN$2&"-"&$AG4,$AD$4:$AD$103,0),1)>=DN$2,$AF4,"")),"") | DO4: =IFERROR(IF(DK4="","",IF(INDEX($X$4:$X$103,MATCH(DO$3+1-DO$2&"-"&$AG4,$AD$4:$AD$103,0),1)>=DO$2,$AF4,"")),"") | DP4: =IFERROR(IF(DK4="","",IF(INDEX($X$4:$X$103,MATCH(DP$3+1-DP$2&"-"&$AG4,$AD$4:$AD$103,0),1)>=DP$2,$AF4,"")),"")
B5: =IF(LEN(Settings!E8)>0,Settings!E8,"Empty-"&ROW()) -> Marketing | C5: =COUNTIFS($AA$4:$AA$103,$B5,$Z$4:$Z$103,C$3) -> 1 | D5: =COUNTIFS($AA$4:$AA$103,$B5,$Z$4:$Z$103,D$3) -> 0 | E5: =COUNTIFS($AA$4:$AA$103,$B5,$Z$4:$Z$103,E$3) -> 0 | F5: =COUNTIFS($AA$4:$AA$103,$B5,$Z$4:$Z$103,F$3) -> 2 | G5: =COUNTIFS($AA$4:$AA$103,$B5,$Z$4:$Z$103,G$3) -> 0 | H5: =COUNTIFS($AA$4:$AA$103,$B5,$Z$4:$Z$103,H$3) -> 0 | I5: =COUNTIFS($AA$4:$AA$103,$B5,$Z$4:$Z$103,I$3) -> 0 | J5: =COUNTIFS($AA$4:$AA$103,$B5,$Z$4:$Z$103,J$3) -> 0 | ... L5: =COUNTIFS($AA$4:$AA$103,$B5,$Z$4:$Z$103,L$3) -> 0 | M5: =MAX(C5:L5) -> 2 | N5: =IF(M5=0,"",B5) -> Marketing | O5: =IF(M5>0,M5*2+1,M5) -> 5 | P5: =SUM($O$4:O4) -> 5 | Q5: =P6+ROW(startCell) -> 15 | R5: =Q4 -> 10 | T5: 2 | U5: =IFERROR(TRIM(W5&" "&INDEX(Roadmap!B$6:B$105,$T5,1)),"") -> ★ Draft of the product | V5: =IF(LEN(U5)>Y5,LEFT(U5,Y5)&"…",U5) -> ★ Draft of the product | W5: =IFERROR(INDEX(Roadmap!C$6:C$105,$T5,1)&"","") -> ★ | X5: =IF(LEN(U5)>0,IFERROR(INDEX(Settings!$I$7:$I$9,MATCH(INDEX(Roadmap!D$6:D$105,$T5,1),Settings!$H$7:$H$9,0),1),large),"") -> 6 | Y5: =IFERROR(INDEX(Settings!$J$7:$J$9,MATCH(INDEX(Roadmap!D$6:D$105,$T5,1),Settings!$H$7:$H$9,0),1),300) -> 35 | Z5: =IFERROR(IF(LEN($U5)=0,"",INDEX(Roadmap!E$6:E$105,$T5,1)&""),"") -> Q1 - 2022 | AA5: =IFERROR(IF(LEN($U5)=0,"",INDEX(Roadmap!F$6:F$105,$T5,1)&""),"") -> R&D Team | AB5: =IFERROR((MATCH(Z5,$C$3:$L$3,0))*divide+COLUMN(startCell)-divide,"") -> 10 | AC5: =IFERROR(IF(OR(U5="",Z5=""),"",2*COUNTIFS($Z$4:Z5,Z5,$AA$4:AA5,AA5)+INDEX($P$4:$P$16,MATCH(AA5,$B$4:$B$16,0),1)+ROW(startCell)),"") -> 9 | AD5: =AB5&"-"&AC5 -> 10-9 | AF5: =IF(ISNUMBER(MATCH(AG5,$AC$4:$AC$303,0)),MATCH(AG5,$R$4:$R$16,1),"") -> 1 | AG5: =AG4+1 -> 7 | AH5: =IFERROR(IF(OR($AF5="",AH$3>maxCol),"",IF(ISNUMBER(MATCH(AH$3+1-AH$2&"-"&$AG5,$AD$4:$AD$103,0)),$AF5,"")),"") -> 1 | AI5: =IFERROR(IF(AH5="","",IF(INDEX($X$4:$X$103,MATCH(AI$3+1-AI$2&"-"&$AG5,$AD$4:$AD$103,0),1)>=AI$2,$AF5,"")),"") -> 1 | AJ5: =IFERROR(IF(AH5="","",IF(INDEX($X$4:$X$103,MATCH(AJ$3+1-AJ$2&"-"&$AG5,$AD$4:$AD$103,0),1)>=AJ$2,$AF5,"")),"") -> 1 | AK5: =IFERROR(IF(AH5="","",IF(INDEX($X$4:$X$103,MATCH(AK$3+1-AK$2&"-"&$AG5,$AD$4:$AD$103,0),1)>=AK$2,$AF5,"")),"") | AL5: =IFERROR(IF(AH5="","",IF(INDEX($X$4:$X$103,MATCH(AL$3+1-AL$2&"-"&$AG5,$AD$4:$AD$103,0),1)>=AL$2,$AF5,"")),"") | AM5: =IFERROR(IF(AH5="","",IF(INDEX($X$4:$X$103,MATCH(AM$3+1-AM$2&"-"&$AG5,$AD$4:$AD$103,0),1)>=AM$2,$AF5,"")),"") | AQ5: =IFERROR(IF(OR($AF5="",AQ$3>maxCol),"",IF(ISNUMBER(MATCH(AQ$3+1-AQ$2&"-"&$AG5,$AD$4:$AD$103,0)),$AF5,"")),"") -> 1 | AR5: =IFERROR(IF(AQ5="","",IF(INDEX($X$4:$X$103,MATCH(AR$3+1-AR$2&"-"&$AG5,$AD$4:$AD$103,0),1)>=AR$2,$AF5,"")),"") -> 1 | AS5: =IFERROR(IF(AQ5="","",IF(INDEX($X$4:$X$103,MATCH(AS$3+1-AS$2&"-"&$AG5,$AD$4:$AD$103,0),1)>=AS$2,$AF5,"")),"") -> 1 | AT5: =IFERROR(IF(AQ5="","",IF(INDEX($X$4:$X$103,MATCH(AT$3+1-AT$2&"-"&$AG5,$AD$4:$AD$103,0),1)>=AT$2,$AF5,"")),"") -> 1 | AU5: =IFERROR(IF(AQ5="","",IF(INDEX($X$4:$X$103,MATCH(AU$3+1-AU$2&"-"&$AG5,$AD$4:$AD$103,0),1)>=AU$2,$AF5,"")),"") -> 1 | AV5: =IFERROR(IF(AQ5="","",IF(INDEX($X$4:$X$103,MATCH(AV$3+1-AV$2&"-"&$AG5,$AD$4:$AD$103,0),1)>=AV$2,$AF5,"")),"") -> 1 | AZ5: =IFERROR(IF(OR($AF5="",AZ$3>maxCol),"",IF(ISNUMBER(MATCH(AZ$3+1-AZ$2&"-"&$AG5,$AD$4:$AD$103,0)),$AF5,"")),"") -> 1 | BA5: =IFERROR(IF(AZ5="","",IF(INDEX($X$4:$X$103,MATCH(BA$3+1-BA$2&"-"&$AG5,$AD$4:$AD$103,0),1)>=BA$2,$AF5,"")),"") -> 1 | BB5: =IFERROR(IF(AZ5="","",IF(INDEX($X$4:$X$103,MATCH(BB$3+1-BB$2&"-"&$AG5,$AD$4:$AD$103,0),1)>=BB$2,$AF5,"")),"") -> 1 | BC5: =IFERROR(IF(AZ5="","",IF(INDEX($X$4:$X$103,MATCH(BC$3+1-BC$2&"-"&$AG5,$AD$4:$AD$103,0),1)>=BC$2,$AF5,"")),"") -> 1 | BD5: =IFERROR(IF(AZ5="","",IF(INDEX($X$4:$X$103,MATCH(BD$3+1-BD$2&"-"&$AG5,$AD$4:$AD$103,0),1)>=BD$2,$AF5,"")),"") | BE5: =IFERROR(IF(AZ5="","",IF(INDEX($X$4:$X$103,MATCH(BE$3+1-BE$2&"-"&$AG5,$AD$4:$AD$103,0),1)>=BE$2,$AF5,"")),"") | BI5: =IFERROR(IF(OR($AF5="",BI$3>maxCol),"",IF(ISNUMBER(MATCH(BI$3+1-BI$2&"-"&$AG5,$AD$4:$AD$103,0)),$AF5,"")),"") -> 1 | BJ5: =IFERROR(IF(BI5="","",IF(INDEX($X$4:$X$103,MATCH(BJ$3+1-BJ$2&"-"&$AG5,$AD$4:$AD$103,0),1)>=BJ$2,$AF5,"")),"") -> 1 | BK5: =IFERROR(IF(BI5="","",IF(INDEX($X$4:$X$103,MATCH(BK$3+1-BK$2&"-"&$AG5,$AD$4:$AD$103,0),1)>=BK$2,$AF5,"")),"") -> 1 | BL5: =IFERROR(IF(BI5="","",IF(INDEX($X$4:$X$103,MATCH(BL$3+1-BL$2&"-"&$AG5,$AD$4:$AD$103,0),1)>=BL$2,$AF5,"")),"") -> 1 | BM5: =IFERROR(IF(BI5="","",IF(INDEX($X$4:$X$103,MATCH(BM$3+1-BM$2&"-"&$AG5,$AD$4:$AD$103,0),1)>=BM$2,$AF5,"")),"") | BN5: =IFERROR(IF(BI5="","",IF(INDEX($X$4:$X$103,MATCH(BN$3+1-BN$2&"-"&$AG5,$AD$4:$AD$103,0),1)>=BN$2,$AF5,"")),"") | BR5: =IFERROR(IF(OR($AF5="",BR$3>maxCol),"",IF(ISNUMBER(MATCH(BR$3+1-BR$2&"-"&$AG5,$AD$4:$AD$103,0)),$AF5,"")),"") | BS5: =IFERROR(IF(BR5="","",IF(INDEX($X$4:$X$103,MATCH(BS$3+1-BS$2&"-"&$AG5,$AD$4:$AD$103,0),1)>=BS$2,$AF5,"")),"") | BT5: =IFERROR(IF(BR5="","",IF(INDEX($X$4:$X$103,MATCH(BT$3+1-BT$2&"-"&$AG5,$AD$4:$AD$103,0),1)>=BT$2,$AF5,"")),"") | BU5: =IFERROR(IF(BR5="","",IF(INDEX($X$4:$X$103,MATCH(BU$3+1-BU$2&"-"&$AG5,$AD$4:$AD$103,0),1)>=BU$2,$AF5,"")),"") | BV5: =IFERROR(IF(BR5="","",IF(INDEX($X$4:$X$103,MATCH(BV$3+1-BV$2&"-"&$AG5,$AD$4:$AD$103,0),1)>=BV$2,$AF5,"")),"") | BW5: =IFERROR(IF(BR5="","",IF(INDEX($X$4:$X$103,MATCH(BW$3+1-BW$2&"-"&$AG5,$AD$4:$AD$103,0),1)>=BW$2,$AF5,"")),"") | CA5: =IFERROR(IF(OR($AF5="",CA$3>maxCol),"",IF(ISNUMBER(MATCH(CA$3+1-CA$2&"-"&$AG5,$AD$4:$AD$103,0)),$AF5,"")),"") | CB5: =IFERROR(IF(CA5="","",IF(INDEX($X$4:$X$103,MATCH(CB$3+1-CB$2&"-"&$AG5,$AD$4:$AD$103,0),1)>=CB$2,$AF5,"")),"") | CC5: =IFERROR(IF(CA5="","",IF(INDEX($X$4:$X$103,MATCH(CC$3+1-CC$2&"-"&$AG5,$AD$4:$AD$103,0),1)>=CC$2,$AF5,"")),"") | CD5: =IFERROR(IF(CA5="","",IF(INDEX($X$4:$X$103,MATCH(CD$3+1-CD$2&"-"&$AG5,$AD$4:$AD$103,0),1)>=CD$2,$AF5,"")),"") | CE5: =IFERROR(IF(CA5="","",IF(INDEX($X$4:$X$103,MATCH(CE$3+1-CE$2&"-"&$AG5,$AD$4:$AD$103,0),1)>=CE$2,$AF5,"")),"") | CF5: =IFERROR(IF(CA5="","",IF(INDEX($X$4:$X$103,MATCH(CF$3+1-CF$2&"-"&$AG5,$AD$4:$AD$103,0),1)>=CF$2,$AF5,"")),"") | CJ5: =IFERROR(IF(OR($AF5="",CJ$3>maxCol),"",IF(ISNUMBER(MATCH(CJ$3+1-CJ$2&"-"&$AG5,$AD$4:$AD$103,0)),$AF5,"")),"") | CK5: =IFERROR(IF(CJ5="","",IF(INDEX($X$4:$X$103,MATCH(CK$3+1-CK$2&"-"&$AG5,$AD$4:$AD$103,0),1)>=CK$2,$AF5,"")),"") | CL5: =IFERROR(IF(CJ5="","",IF(INDEX($X$4:$X$103,MATCH(CL$3+1-CL$2&"-"&$AG5,$AD$4:$AD$103,0),1)>=CL$2,$AF5,"")),"") | CM5: =IFERROR(IF(CJ5="","",IF(INDEX($X$4:$X$103,MATCH(CM$3+1-CM$2&"-"&$AG5,$AD$4:$AD$103,0),1)>=CM$2,$AF5,"")),"") | CN5: =IFERROR(IF(CJ5="","",IF(INDEX($X$4:$X$103,MATCH(CN$3+1-CN$2&"-"&$AG5,$AD$4:$AD$103,0),1)>=CN$2,$AF5,"")),"") | CO5: =IFERROR(IF(CJ5="","",IF(INDEX($X$4:$X$103,MATCH(CO$3+1-CO$2&"-"&$AG5,$AD$4:$AD$103,0),1)>=CO$2,$AF5,"")),"") | CS5: =IFERROR(IF(OR($AF5="",CS$3>maxCol),"",IF(ISNUMBER(MATCH(CS$3+1-CS$2&"-"&$AG5,$AD$4:$AD$103,0)),$AF5,"")),"") | CT5: =IFERROR(IF(CS5="","",IF(INDEX($X$4:$X$103,MATCH(CT$3+1-CT$2&"-"&$AG5,$AD$4:$AD$103,0),1)>=CT$2,$AF5,"")),"") | CU5: =IFERROR(IF(CS5="","",IF(INDEX($X$4:$X$103,MATCH(CU$3+1-CU$2&"-"&$AG5,$AD$4:$AD$103,0),1)>=CU$2,$AF5,"")),"") | CV5: =IFERROR(IF(CS5="","",IF(INDEX($X$4:$X$103,MATCH(CV$3+1-CV$2&"-"&$AG5,$AD$4:$AD$103,0),1)>=CV$2,$AF5,"")),"") | CW5: =IFERROR(IF(CS5="","",IF(INDEX($X$4:$X$103,MATCH(CW$3+1-CW$2&"-"&$AG5,$AD$4:$AD$103,0),1)>=CW$2,$AF5,"")),"") | CX5: =IFERROR(IF(CS5="","",IF(INDEX($X$4:$X$103,MATCH(CX$3+1-CX$2&"-"&$AG5,$AD$4:$AD$103,0),1)>=CX$2,$AF5,"")),"") | DB5: =IFERROR(IF(OR($AF5="",DB$3>maxCol),"",IF(ISNUMBER(MATCH(DB$3+1-DB$2&"-"&$AG5,$AD$4:$AD$103,0)),$AF5,"")),"") | DC5: =IFERROR(IF(DB5="","",IF(INDEX($X$4:$X$103,MATCH(DC$3+1-DC$2&"-"&$AG5,$AD$4:$AD$103,0),1)>=DC$2,$AF5,"")),"") | DD5: =IFERROR(IF(DB5="","",IF(INDEX($X$4:$X$103,MATCH(DD$3+1-DD$2&"-"&$AG5,$AD$4:$AD$103,0),1)>=DD$2,$AF5,"")),"") | DE5: =IFERROR(IF(DB5="","",IF(INDEX($X$4:$X$103,MATCH(DE$3+1-DE$2&"-"&$AG5,$AD$4:$AD$103,0),1)>=DE$2,$AF5,"")),"") | DF5: =IFERROR(IF(DB5="","",IF(INDEX($X$4:$X$103,MATCH(DF$3+1-DF$2&"-"&$AG5,$AD$4:$AD$103,0),1)>=DF$2,$AF5,"")),"") | DG5: =IFERROR(IF(DB5="","",IF(INDEX($X$4:$X$103,MATCH(DG$3+1-DG$2&"-"&$AG5,$AD$4:$AD$103,0),1)>=DG$2,$AF5,"")),"") | DK5: =IFERROR(IF(OR($AF5="",DK$3>maxCol),"",IF(ISNUMBER(MATCH(DK$3+1-DK$2&"-"&$AG5,$AD$4:$AD$103,0)),$AF5,"")),"") | DL5: =IFERROR(IF(DK5="","",IF(INDEX($X$4:$X$103,MATCH(DL$3+1-DL$2&"-"&$AG5,$AD$4:$AD$103,0),1)>=DL$2,$AF5,"")),"") | DM5: =IFERROR(IF(DK5="","",IF(INDEX($X$4:$X$103,MATCH(DM$3+1-DM$2&"-"&$AG5,$AD$4:$AD$103,0),1)>=DM$2,$AF5,"")),"") | DN5: =IFERROR(IF(DK5="","",IF(INDEX($X$4:$X$103,MATCH(DN$3+1-DN$2&"-"&$AG5,$AD$4:$AD$103,0),1)>=DN$2,$AF5,"")),"") | DO5: =IFERROR(IF(DK5="","",IF(INDEX($X$4:$X$103,MATCH(DO$3+1-DO$2&"-"&$AG5,$AD$4:$AD$103,0),1)>=DO$2,$AF5,"")),"") | DP5: =IFERROR(IF(DK5="","",IF(INDEX($X$4:$X$103,MATCH(DP$3+1-DP$2&"-"&$AG5,$AD$4:$AD$103,0),1)>=DP$2,$AF5,"")),"")
B6: =IF(LEN(Settings!E9)>0,Settings!E9,"Empty-"&ROW()) -> Sales | C6: =COUNTIFS($AA$4:$AA$103,$B6,$Z$4:$Z$103,C$3) -> 0 | D6: =COUNTIFS($AA$4:$AA$103,$B6,$Z$4:$Z$103,D$3) -> 0 | E6: =COUNTIFS($AA$4:$AA$103,$B6,$Z$4:$Z$103,E$3) -> 2 | F6: =COUNTIFS($AA$4:$AA$103,$B6,$Z$4:$Z$103,F$3) -> 0 | G6: =COUNTIFS($AA$4:$AA$103,$B6,$Z$4:$Z$103,G$3) -> 0 | H6: =COUNTIFS($AA$4:$AA$103,$B6,$Z$4:$Z$103,H$3) -> 0 | I6: =COUNTIFS($AA$4:$AA$103,$B6,$Z$4:$Z$103,I$3) -> 0 | J6: =COUNTIFS($AA$4:$AA$103,$B6,$Z$4:$Z$103,J$3) -> 0 | ... L6: =COUNTIFS($AA$4:$AA$103,$B6,$Z$4:$Z$103,L$3) -> 0 | M6: =MAX(C6:L6) -> 2 | N6: =IF(M6=0,"",B6) -> Sales | O6: =IF(M6>0,M6*2+1,M6) -> 5 | P6: =SUM($O$4:O5) -> 10 | Q6: =P7+ROW(startCell) -> 20 | R6: =Q5 -> 15 | T6: 3 | U6: =IFERROR(TRIM(W6&" "&INDEX(Roadmap!B$6:B$105,$T6,1)),"") -> Market Comparison | V6: =IF(LEN(U6)>Y6,LEFT(U6,Y6)&"…",U6) -> Market Comparison | W6: =IFERROR(INDEX(Roadmap!C$6:C$105,$T6,1)&"","") | X6: =IF(LEN(U6)>0,IFERROR(INDEX(Settings!$I$7:$I$9,MATCH(INDEX(Roadmap!D$6:D$105,$T6,1),Settings!$H$7:$H$9,0),1),large),"") -> 4 | Y6: =IFERROR(INDEX(Settings!$J$7:$J$9,MATCH(INDEX(Roadmap!D$6:D$105,$T6,1),Settings!$H$7:$H$9,0),1),300) -> 30 | Z6: =IFERROR(IF(LEN($U6)=0,"",INDEX(Roadmap!E$6:E$105,$T6,1)&""),"") -> Q1 - 2022 | AA6: =IFERROR(IF(LEN($U6)=0,"",INDEX(Roadmap!F$6:F$105,$T6,1)&""),"") -> Marketing | AB6: =IFERROR((MATCH(Z6,$C$3:$L$3,0))*divide+COLUMN(startCell)-divide,"") -> 10 | AC6: =IFERROR(IF(OR(U6="",Z6=""),"",2*COUNTIFS($Z$4:Z6,Z6,$AA$4:AA6,AA6)+INDEX($P$4:$P$16,MATCH(AA6,$B$4:$B$16,0),1)+ROW(startCell)),"") -> 12 | AD6: =AB6&"-"&AC6 -> 10-12 | AF6: =IF(ISNUMBER(MATCH(AG6,$AC$4:$AC$303,0)),MATCH(AG6,$R$4:$R$16,1),"") | AG6: =AG5+1 -> 8 | AH6: =IFERROR(IF(OR($AF6="",AH$3>maxCol),"",IF(ISNUMBER(MATCH(AH$3+1-AH$2&"-"&$AG6,$AD$4:$AD$103,0)),$AF6,"")),"") | AI6: =IFERROR(IF(AH6="","",IF(INDEX($X$4:$X$103,MATCH(AI$3+1-AI$2&"-"&$AG6,$AD$4:$AD$103,0),1)>=AI$2,$AF6,"")),"") | AJ6: =IFERROR(IF(AH6="","",IF(INDEX($X$4:$X$103,MATCH(AJ$3+1-AJ$2&"-"&$AG6,$AD$4:$AD$103,0),1)>=AJ$2,$AF6,"")),"") | AK6: =IFERROR(IF(AH6="","",IF(INDEX($X$4:$X$103,MATCH(AK$3+1-AK$2&"-"&$AG6,$AD$4:$AD$103,0),1)>=AK$2,$AF6,"")),"") | AL6: =IFERROR(IF(AH6="","",IF(INDEX($X$4:$X$103,MATCH(AL$3+1-AL$2&"-"&$AG6,$AD$4:$AD$103,0),1)>=AL$2,$AF6,"")),"") | AM6: =IFERROR(IF(AH6="","",IF(INDEX($X$4:$X$103,MATCH(AM$3+1-AM$2&"-"&$AG6,$AD$4:$AD$103,0),1)>=AM$2,$AF6,"")),"") | AQ6: =IFERROR(IF(OR($AF6="",AQ$3>maxCol),"",IF(ISNUMBER(MATCH(AQ$3+1-AQ$2&"-"&$AG6,$AD$4:$AD$103,0)),$AF6,"")),"") | AR6: =IFERROR(IF(AQ6="","",IF(INDEX($X$4:$X$103,MATCH(AR$3+1-AR$2&"-"&$AG6,$AD$4:$AD$103,0),1)>=AR$2,$AF6,"")),"") | AS6: =IFERROR(IF(AQ6="","",IF(INDEX($X$4:$X$103,MATCH(AS$3+1-AS$2&"-"&$AG6,$AD$4:$AD$103,0),1)>=AS$2,$AF6,"")),"") | AT6: =IFERROR(IF(AQ6="","",IF(INDEX($X$4:$X$103,MATCH(AT$3+1-AT$2&"-"&$AG6,$AD$4:$AD$103,0),1)>=AT$2,$AF6,"")),"") | AU6: =IFERROR(IF(AQ6="","",IF(INDEX($X$4:$X$103,MATCH(AU$3+1-AU$2&"-"&$AG6,$AD$4:$AD$103,0),1)>=AU$2,$AF6,"")),"") | AV6: =IFERROR(IF(AQ6="","",IF(INDEX($X$4:$X$103,MATCH(AV$3+1-AV$2&"-"&$AG6,$AD$4:$AD$103,0),1)>=AV$2,$AF6,"")),"") | AZ6: =IFERROR(IF(OR($AF6="",AZ$3>maxCol),"",IF(ISNUMBER(MATCH(AZ$3+1-AZ$2&"-"&$AG6,$AD$4:$AD$103,0)),$AF6,"")),"") | BA6: =IFERROR(IF(AZ6="","",IF(INDEX($X$4:$X$103,MATCH(BA$3+1-BA$2&"-"&$AG6,$AD$4:$AD$103,0),1)>=BA$2,$AF6,"")),"") | BB6: =IFERROR(IF(AZ6="","",IF(INDEX($X$4:$X$103,MATCH(BB$3+1-BB$2&"-"&$AG6,$AD$4:$AD$103,0),1)>=BB$2,$AF6,"")),"") | BC6: =IFERROR(IF(AZ6="","",IF(INDEX($X$4:$X$103,MATCH(BC$3+1-BC$2&"-"&$AG6,$AD$4:$AD$103,0),1)>=BC$2,$AF6,"")),"") | BD6: =IFERROR(IF(AZ6="","",IF(INDEX($X$4:$X$103,MATCH(BD$3+1-BD$2&"-"&$AG6,$AD$4:$AD$103,0),1)>=BD$2,$AF6,"")),"") | BE6: =IFERROR(IF(AZ6="","",IF(INDEX($X$4:$X$103,MATCH(BE$3+1-BE$2&"-"&$AG6,$AD$4:$AD$103,0),1)>=BE$2,$AF6,"")),"") | BI6: =IFERROR(IF(OR($AF6="",BI$3>maxCol),"",IF(ISNUMBER(MATCH(BI$3+1-BI$2&"-"&$AG6,$AD$4:$AD$103,0)),$AF6,"")),"") | BJ6: =IFERROR(IF(BI6="","",IF(INDEX($X$4:$X$103,MATCH(BJ$3+1-BJ$2&"-"&$AG6,$AD$4:$AD$103,0),1)>=BJ$2,$AF6,"")),"") | BK6: =IFERROR(IF(BI6="","",IF(INDEX($X$4:$X$103,MATCH(BK$3+1-BK$2&"-"&$AG6,$AD$4:$AD$103,0),1)>=BK$2,$AF6,"")),"") | BL6: =IFERROR(IF(BI6="","",IF(INDEX($X$4:$X$103,MATCH(BL$3+1-BL$2&"-"&$AG6,$AD$4:$AD$103,0),1)>=BL$2,$AF6,"")),"") | BM6: =IFERROR(IF(BI6="","",IF(INDEX($X$4:$X$103,MATCH(BM$3+1-BM$2&"-"&$AG6,$AD$4:$AD$103,0),1)>=BM$2,$AF6,"")),"") | BN6: =IFERROR(IF(BI6="","",IF(INDEX($X$4:$X$103,MATCH(BN$3+1-BN$2&"-"&$AG6,$AD$4:$AD$103,0),1)>=BN$2,$AF6,"")),"") | BR6: =IFERROR(IF(OR($AF6="",BR$3>maxCol),"",IF(ISNUMBER(MATCH(BR$3+1-BR$2&"-"&$AG6,$AD$4:$AD$103,0)),$AF6,"")),"") | BS6: =IFERROR(IF(BR6="","",IF(INDEX($X$4:$X$103,MATCH(BS$3+1-BS$2&"-"&$AG6,$AD$4:$AD$103,0),1)>=BS$2,$AF6,"")),"") | BT6: =IFERROR(IF(BR6="","",IF(INDEX($X$4:$X$103,MATCH(BT$3+1-BT$2&"-"&$AG6,$AD$4:$AD$103,0),1)>=BT$2,$AF6,"")),"") | BU6: =IFERROR(IF(BR6="","",IF(INDEX($X$4:$X$103,MATCH(BU$3+1-BU$2&"-"&$AG6,$AD$4:$AD$103,0),1)>=BU$2,$AF6,"")),"") | BV6: =IFERROR(IF(BR6="","",IF(INDEX($X$4:$X$103,MATCH(BV$3+1-BV$2&"-"&$AG6,$AD$4:$AD$103,0),1)>=BV$2,$AF6,"")),"") | BW6: =IFERROR(IF(BR6="","",IF(INDEX($X$4:$X$103,MATCH(BW$3+1-BW$2&"-"&$AG6,$AD$4:$AD$103,0),1)>=BW$2,$AF6,"")),"") | CA6: =IFERROR(IF(OR($AF6="",CA$3>maxCol),"",IF(ISNUMBER(MATCH(CA$3+1-CA$2&"-"&$AG6,$AD$4:$AD$103,0)),$AF6,"")),"") | CB6: =IFERROR(IF(CA6="","",IF(INDEX($X$4:$X$103,MATCH(CB$3+1-CB$2&"-"&$AG6,$AD$4:$AD$103,0),1)>=CB$2,$AF6,"")),"") | CC6: =IFERROR(IF(CA6="","",IF(INDEX($X$4:$X$103,MATCH(CC$3+1-CC$2&"-"&$AG6,$AD$4:$AD$103,0),1)>=CC$2,$AF6,"")),"") | CD6: =IFERROR(IF(CA6="","",IF(INDEX($X$4:$X$103,MATCH(CD$3+1-CD$2&"-"&$AG6,$AD$4:$AD$103,0),1)>=CD$2,$AF6,"")),"") | CE6: =IFERROR(IF(CA6="","",IF(INDEX($X$4:$X$103,MATCH(CE$3+1-CE$2&"-"&$AG6,$AD$4:$AD$103,0),1)>=CE$2,$AF6,"")),"") | CF6: =IFERROR(IF(CA6="","",IF(INDEX($X$4:$X$103,MATCH(CF$3+1-CF$2&"-"&$AG6,$AD$4:$AD$103,0),1)>=CF$2,$AF6,"")),"") | CJ6: =IFERROR(IF(OR($AF6="",CJ$3>maxCol),"",IF(ISNUMBER(MATCH(CJ$3+1-CJ$2&"-"&$AG6,$AD$4:$AD$103,0)),$AF6,"")),"") | CK6: =IFERROR(IF(CJ6="","",IF(INDEX($X$4:$X$103,MATCH(CK$3+1-CK$2&"-"&$AG6,$AD$4:$AD$103,0),1)>=CK$2,$AF6,"")),"") | CL6: =IFERROR(IF(CJ6="","",IF(INDEX($X$4:$X$103,MATCH(CL$3+1-CL$2&"-"&$AG6,$AD$4:$AD$103,0),1)>=CL$2,$AF6,"")),"") | CM6: =IFERROR(IF(CJ6="","",IF(INDEX($X$4:$X$103,MATCH(CM$3+1-CM$2&"-"&$AG6,$AD$4:$AD$103,0),1)>=CM$2,$AF6,"")),"") | CN6: =IFERROR(IF(CJ6="","",IF(INDEX($X$4:$X$103,MATCH(CN$3+1-CN$2&"-"&$AG6,$AD$4:$AD$103,0),1)>=CN$2,$AF6,"")),"") | CO6: =IFERROR(IF(CJ6="","",IF(INDEX($X$4:$X$103,MATCH(CO$3+1-CO$2&"-"&$AG6,$AD$4:$AD$103,0),1)>=CO$2,$AF6,"")),"") | CS6: =IFERROR(IF(OR($AF6="",CS$3>maxCol),"",IF(ISNUMBER(MATCH(CS$3+1-CS$2&"-"&$AG6,$AD$4:$AD$103,0)),$AF6,"")),"") | CT6: =IFERROR(IF(CS6="","",IF(INDEX($X$4:$X$103,MATCH(CT$3+1-CT$2&"-"&$AG6,$AD$4:$AD$103,0),1)>=CT$2,$AF6,"")),"") | CU6: =IFERROR(IF(CS6="","",IF(INDEX($X$4:$X$103,MATCH(CU$3+1-CU$2&"-"&$AG6,$AD$4:$AD$103,0),1)>=CU$2,$AF6,"")),"") | CV6: =IFERROR(IF(CS6="","",IF(INDEX($X$4:$X$103,MATCH(CV$3+1-CV$2&"-"&$AG6,$AD$4:$AD$103,0),1)>=CV$2,$AF6,"")),"") | CW6: =IFERROR(IF(CS6="","",IF(INDEX($X$4:$X$103,MATCH(CW$3+1-CW$2&"-"&$AG6,$AD$4:$AD$103,0),1)>=CW$2,$AF6,"")),"") | CX6: =IFERROR(IF(CS6="","",IF(INDEX($X$4:$X$103,MATCH(CX$3+1-CX$2&"-"&$AG6,$AD$4:$AD$103,0),1)>=CX$2,$AF6,"")),"") | DB6: =IFERROR(IF(OR($AF6="",DB$3>maxCol),"",IF(ISNUMBER(MATCH(DB$3+1-DB$2&"-"&$AG6,$AD$4:$AD$103,0)),$AF6,"")),"") | DC6: =IFERROR(IF(DB6="","",IF(INDEX($X$4:$X$103,MATCH(DC$3+1-DC$2&"-"&$AG6,$AD$4:$AD$103,0),1)>=DC$2,$AF6,"")),"") | DD6: =IFERROR(IF(DB6="","",IF(INDEX($X$4:$X$103,MATCH(DD$3+1-DD$2&"-"&$AG6,$AD$4:$AD$103,0),1)>=DD$2,$AF6,"")),"") | DE6: =IFERROR(IF(DB6="","",IF(INDEX($X$4:$X$103,MATCH(DE$3+1-DE$2&"-"&$AG6,$AD$4:$AD$103,0),1)>=DE$2,$AF6,"")),"") | DF6: =IFERROR(IF(DB6="","",IF(INDEX($X$4:$X$103,MATCH(DF$3+1-DF$2&"-"&$AG6,$AD$4:$AD$103,0),1)>=DF$2,$AF6,"")),"") | DG6: =IFERROR(IF(DB6="","",IF(INDEX($X$4:$X$103,MATCH(DG$3+1-DG$2&"-"&$AG6,$AD$4:$AD$103,0),1)>=DG$2,$AF6,"")),"") | DK6: =IFERROR(IF(OR($AF6="",DK$3>maxCol),"",IF(ISNUMBER(MATCH(DK$3+1-DK$2&"-"&$AG6,$AD$4:$AD$103,0)),$AF6,"")),"") | DL6: =IFERROR(IF(DK6="","",IF(INDEX($X$4:$X$103,MATCH(DL$3+1-DL$2&"-"&$AG6,$AD$4:$AD$103,0),1)>=DL$2,$AF6,"")),"") | DM6: =IFERROR(IF(DK6="","",IF(INDEX($X$4:$X$103,MATCH(DM$3+1-DM$2&"-"&$AG6,$AD$4:$AD$103,0),1)>=DM$2,$AF6,"")),"") | DN6: =IFERROR(IF(DK6="","",IF(INDEX($X$4:$X$103,MATCH(DN$3+1-DN$2&"-"&$AG6,$AD$4:$AD$103,0),1)>=DN$2,$AF6,"")),"") | DO6: =IFERROR(IF(DK6="","",IF(INDEX($X$4:$X$103,MATCH(DO$3+1-DO$2&"-"&$AG6,$AD$4:$AD$103,0),1)>=DO$2,$AF6,"")),"") | DP6: =IFERROR(IF(DK6="","",IF(INDEX($X$4:$X$103,MATCH(DP$3+1-DP$2&"-"&$AG6,$AD$4:$AD$103,0),1)>=DP$2,$AF6,"")),"")
B7: =IF(LEN(Settings!E10)>0,Settings!E10,"Empty-"&ROW()) -> Quality A. | C7: =COUNTIFS($AA$4:$AA$103,$B7,$Z$4:$Z$103,C$3) -> 0 | D7: =COUNTIFS($AA$4:$AA$103,$B7,$Z$4:$Z$103,D$3) -> 2 | E7: =COUNTIFS($AA$4:$AA$103,$B7,$Z$4:$Z$103,E$3) -> 0 | F7: =COUNTIFS($AA$4:$AA$103,$B7,$Z$4:$Z$103,F$3) -> 1 | G7: =COUNTIFS($AA$4:$AA$103,$B7,$Z$4:$Z$103,G$3) -> 0 | H7: =COUNTIFS($AA$4:$AA$103,$B7,$Z$4:$Z$103,H$3) -> 0 | I7: =COUNTIFS($AA$4:$AA$103,$B7,$Z$4:$Z$103,I$3) -> 0 | J7: =COUNTIFS($AA$4:$AA$103,$B7,$Z$4:$Z$103,J$3) -> 0 | ... L7: =COUNTIFS($AA$4:$AA$103,$B7,$Z$4:$Z$103,L$3) -> 0 | M7: =MAX(C7:L7) -> 2 | N7: =IF(M7=0,"",B7) -> Quality A. | O7: =IF(M7>0,M7*2+1,M7) -> 5 | P7: =SUM($O$4:O6) -> 15 | Q7: =P8+ROW(startCell) -> 25 | R7: =Q6 -> 20 | T7: 4 | U7: =IFERROR(TRIM(W7&" "&INDEX(Roadmap!B$6:B$105,$T7,1)),"") -> Development | V7: =IF(LEN(U7)>Y7,LEFT(U7,Y7)&"…",U7) -> Development | W7: =IFERROR(INDEX(Roadmap!C$6:C$105,$T7,1)&"","") | X7: =IF(LEN(U7)>0,IFERROR(INDEX(Settings!$I$7:$I$9,MATCH(INDEX(Roadmap!D$6:D$105,$T7,1),Settings!$H$7:$H$9,0),1),large),"") -> 6 | Y7: =IFERROR(INDEX(Settings!$J$7:$J$9,MATCH(INDEX(Roadmap!D$6:D$105,$T7,1),Settings!$H$7:$H$9,0),1),300) -> 35 | Z7: =IFERROR(IF(LEN($U7)=0,"",INDEX(Roadmap!E$6:E$105,$T7,1)&""),"") -> Q2 - 2022 | AA7: =IFERROR(IF(LEN($U7)=0,"",INDEX(Roadmap!F$6:F$105,$T7,1)&""),"") -> R&D Team | AB7: =IFERROR((MATCH(Z7,$C$3:$L$3,0))*divide+COLUMN(startCell)-divide,"") -> 19 | AC7: =IFERROR(IF(OR(U7="",Z7=""),"",2*COUNTIFS($Z$4:Z7,Z7,$AA$4:AA7,AA7)+INDEX($P$4:$P$16,MATCH(AA7,$B$4:$B$16,0),1)+ROW(startCell)),"") -> 7 | AD7: =AB7&"-"&AC7 -> 19-7 | AF7: =IF(ISNUMBER(MATCH(AG7,$AC$4:$AC$303,0)),MATCH(AG7,$R$4:$R$16,1),"") -> 1 | AG7: =AG6+1 -> 9 | AH7: =IFERROR(IF(OR($AF7="",AH$3>maxCol),"",IF(ISNUMBER(MATCH(AH$3+1-AH$2&"-"&$AG7,$AD$4:$AD$103,0)),$AF7,"")),"") -> 1 | AI7: =IFERROR(IF(AH7="","",IF(INDEX($X$4:$X$103,MATCH(AI$3+1-AI$2&"-"&$AG7,$AD$4:$AD$103,0),1)>=AI$2,$AF7,"")),"") -> 1 | AJ7: =IFERROR(IF(AH7="","",IF(INDEX($X$4:$X$103,MATCH(AJ$3+1-AJ$2&"-"&$AG7,$AD$4:$AD$103,0),1)>=AJ$2,$AF7,"")),"") -> 1 | AK7: =IFERROR(IF(AH7="","",IF(INDEX($X$4:$X$103,MATCH(AK$3+1-AK$2&"-"&$AG7,$AD$4:$AD$103,0),1)>=AK$2,$AF7,"")),"") -> 1 | AL7: =IFERROR(IF(AH7="","",IF(INDEX($X$4:$X$103,MATCH(AL$3+1-AL$2&"-"&$AG7,$AD$4:$AD$103,0),1)>=AL$2,$AF7,"")),"") -> 1 | AM7: =IFERROR(IF(AH7="","",IF(INDEX($X$4:$X$103,MATCH(AM$3+1-AM$2&"-"&$AG7,$AD$4:$AD$103,0),1)>=AM$2,$AF7,"")),"") -> 1 | AQ7: =IFERROR(IF(OR($AF7="",AQ$3>maxCol),"",IF(ISNUMBER(MATCH(AQ$3+1-AQ$2&"-"&$AG7,$AD$4:$AD$103,0)),$AF7,"")),"") | AR7: =IFERROR(IF(AQ7="","",IF(INDEX($X$4:$X$103,MATCH(AR$3+1-AR$2&"-"&$AG7,$AD$4:$AD$103,0),1)>=AR$2,$AF7,"")),"") | AS7: =IFERROR(IF(AQ7="","",IF(INDEX($X$4:$X$103,MATCH(AS$3+1-AS$2&"-"&$AG7,$AD$4:$AD$103,0),1)>=AS$2,$AF7,"")),"") | AT7: =IFERROR(IF(AQ7="","",IF(INDEX($X$4:$X$103,MATCH(AT$3+1-AT$2&"-"&$AG7,$AD$4:$AD$103,0),1)>=AT$2,$AF7,"")),"") | AU7: =IFERROR(IF(AQ7="","",IF(INDEX($X$4:$X$103,MATCH(AU$3+1-AU$2&"-"&$AG7,$AD$4:$AD$103,0),1)>=AU$2,$AF7,"")),"") | AV7: =IFERROR(IF(AQ7="","",IF(INDEX($X$4:$X$103,MATCH(AV$3+1-AV$2&"-"&$AG7,$AD$4:$AD$103,0),1)>=AV$2,$AF7,"")),"") | AZ7: =IFERROR(IF(OR($AF7="",AZ$3>maxCol),"",IF(ISNUMBER(MATCH(AZ$3+1-AZ$2&"-"&$AG7,$AD$4:$AD$103,0)),$AF7,"")),"") -> 1 | BA7: =IFERROR(IF(AZ7="","",IF(INDEX($X$4:$X$103,MATCH(BA$3+1-BA$2&"-"&$AG7,$AD$4:$AD$103,0),1)>=BA$2,$AF7,"")),"") -> 1 | BB7: =IFERROR(IF(AZ7="","",IF(INDEX($X$4:$X$103,MATCH(BB$3+1-BB$2&"-"&$AG7,$AD$4:$AD$103,0),1)>=BB$2,$AF7,"")),"") -> 1 | BC7: =IFERROR(IF(AZ7="","",IF(INDEX($X$4:$X$103,MATCH(BC$3+1-BC$2&"-"&$AG7,$AD$4:$AD$103,0),1)>=BC$2,$AF7,"")),"") -> 1 | BD7: =IFERROR(IF(AZ7="","",IF(INDEX($X$4:$X$103,MATCH(BD$3+1-BD$2&"-"&$AG7,$AD$4:$AD$103,0),1)>=BD$2,$AF7,"")),"") | BE7: =IFERROR(IF(AZ7="","",IF(INDEX($X$4:$X$103,MATCH(BE$3+1-BE$2&"-"&$AG7,$AD$4:$AD$103,0),1)>=BE$2,$AF7,"")),"") | BI7: =IFERROR(IF(OR($AF7="",BI$3>maxCol),"",IF(ISNUMBER(MATCH(BI$3+1-BI$2&"-"&$AG7,$AD$4:$AD$103,0)),$AF7,"")),"") | BJ7: =IFERROR(IF(BI7="","",IF(INDEX($X$4:$X$103,MATCH(BJ$3+1-BJ$2&"-"&$AG7,$AD$4:$AD$103,0),1)>=BJ$2,$AF7,"")),"") | BK7: =IFERROR(IF(BI7="","",IF(INDEX($X$4:$X$103,MATCH(BK$3+1-BK$2&"-"&$AG7,$AD$4:$AD$103,0),1)>=BK$2,$AF7,"")),"") | BL7: =IFERROR(IF(BI7="","",IF(INDEX($X$4:$X$103,MATCH(BL$3+1-BL$2&"-"&$AG7,$AD$4:$AD$103,0),1)>=BL$2,$AF7,"")),"") | BM7: =IFERROR(IF(BI7="","",IF(INDEX($X$4:$X$103,MATCH(BM$3+1-BM$2&"-"&$AG7,$AD$4:$AD$103,0),1)>=BM$2,$AF7,"")),"") | BN7: =IFERROR(IF(BI7="","",IF(INDEX($X$4:$X$103,MATCH(BN$3+1-BN$2&"-"&$AG7,$AD$4:$AD$103,0),1)>=BN$2,$AF7,"")),"") | BR7: =IFERROR(IF(OR($AF7="",BR$3>maxCol),"",IF(ISNUMBER(MATCH(BR$3+1-BR$2&"-"&$AG7,$AD$4:$AD$103,0)),$AF7,"")),"") | BS7: =IFERROR(IF(BR7="","",IF(INDEX($X$4:$X$103,MATCH(BS$3+1-BS$2&"-"&$AG7,$AD$4:$AD$103,0),1)>=BS$2,$AF7,"")),"") | BT7: =IFERROR(IF(BR7="","",IF(INDEX($X$4:$X$103,MATCH(BT$3+1-BT$2&"-"&$AG7,$AD$4:$AD$103,0),1)>=BT$2,$AF7,"")),"") | BU7: =IFERROR(IF(BR7="","",IF(INDEX($X$4:$X$103,MATCH(BU$3+1-BU$2&"-"&$AG7,$AD$4:$AD$103,0),1)>=BU$2,$AF7,"")),"") | BV7: =IFERROR(IF(BR7="","",IF(INDEX($X$4:$X$103,MATCH(BV$3+1-BV$2&"-"&$AG7,$AD$4:$AD$103,0),1)>=BV$2,$AF7,"")),"") | BW7: =IFERROR(IF(BR7="","",IF(INDEX($X$4:$X$103,MATCH(BW$3+1-BW$2&"-"&$AG7,$AD$4:$AD$103,0),1)>=BW$2,$AF7,"")),"") | CA7: =IFERROR(IF(OR($AF7="",CA$3>maxCol),"",IF(ISNUMBER(MATCH(CA$3+1-CA$2&"-"&$AG7,$AD$4:$AD$103,0)),$AF7,"")),"") | CB7: =IFERROR(IF(CA7="","",IF(INDEX($X$4:$X$103,MATCH(CB$3+1-CB$2&"-"&$AG7,$AD$4:$AD$103,0),1)>=CB$2,$AF7,"")),"") | CC7: =IFERROR(IF(CA7="","",IF(INDEX($X$4:$X$103,MATCH(CC$3+1-CC$2&"-"&$AG7,$AD$4:$AD$103,0),1)>=CC$2,$AF7,"")),"") | CD7: =IFERROR(IF(CA7="","",IF(INDEX($X$4:$X$103,MATCH(CD$3+1-CD$2&"-"&$AG7,$AD$4:$AD$103,0),1)>=CD$2,$AF7,"")),"") | CE7: =IFERROR(IF(CA7="","",IF(INDEX($X$4:$X$103,MATCH(CE$3+1-CE$2&"-"&$AG7,$AD$4:$AD$103,0),1)>=CE$2,$AF7,"")),"") | CF7: =IFERROR(IF(CA7="","",IF(INDEX($X$4:$X$103,MATCH(CF$3+1-CF$2&"-"&$AG7,$AD$4:$AD$103,0),1)>=CF$2,$AF7,"")),"") | CJ7: =IFERROR(IF(OR($AF7="",CJ$3>maxCol),"",IF(ISNUMBER(MATCH(CJ$3+1-CJ$2&"-"&$AG7,$AD$4:$AD$103,0)),$AF7,"")),"") | CK7: =IFERROR(IF(CJ7="","",IF(INDEX($X$4:$X$103,MATCH(CK$3+1-CK$2&"-"&$AG7,$AD$4:$AD$103,0),1)>=CK$2,$AF7,"")),"") | CL7: =IFERROR(IF(CJ7="","",IF(INDEX($X$4:$X$103,MATCH(CL$3+1-CL$2&"-"&$AG7,$AD$4:$AD$103,0),1)>=CL$2,$AF7,"")),"") | CM7: =IFERROR(IF(CJ7="","",IF(INDEX($X$4:$X$103,MATCH(CM$3+1-CM$2&"-"&$AG7,$AD$4:$AD$103,0),1)>=CM$2,$AF7,"")),"") | CN7: =IFERROR(IF(CJ7="","",IF(INDEX($X$4:$X$103,MATCH(CN$3+1-CN$2&"-"&$AG7,$AD$4:$AD$103,0),1)>=CN$2,$AF7,"")),"") | CO7: =IFERROR(IF(CJ7="","",IF(INDEX($X$4:$X$103,MATCH(CO$3+1-CO$2&"-"&$AG7,$AD$4:$AD$103,0),1)>=CO$2,$AF7,"")),"") | CS7: =IFERROR(IF(OR($AF7="",CS$3>maxCol),"",IF(ISNUMBER(MATCH(CS$3+1-CS$2&"-"&$AG7,$AD$4:$AD$103,0)),$AF7,"")),"") | CT7: =IFERROR(IF(CS7="","",IF(INDEX($X$4:$X$103,MATCH(CT$3+1-CT$2&"-"&$AG7,$AD$4:$AD$103,0),1)>=CT$2,$AF7,"")),"") | CU7: =IFERROR(IF(CS7="","",IF(INDEX($X$4:$X$103,MATCH(CU$3+1-CU$2&"-"&$AG7,$AD$4:$AD$103,0),1)>=CU$2,$AF7,"")),"") | CV7: =IFERROR(IF(CS7="","",IF(INDEX($X$4:$X$103,MATCH(CV$3+1-CV$2&"-"&$AG7,$AD$4:$AD$103,0),1)>=CV$2,$AF7,"")),"") | CW7: =IFERROR(IF(CS7="","",IF(INDEX($X$4:$X$103,MATCH(CW$3+1-CW$2&"-"&$AG7,$AD$4:$AD$103,0),1)>=CW$2,$AF7,"")),"") | CX7: =IFERROR(IF(CS7="","",IF(INDEX($X$4:$X$103,MATCH(CX$3+1-CX$2&"-"&$AG7,$AD$4:$AD$103,0),1)>=CX$2,$AF7,"")),"") | DB7: =IFERROR(IF(OR($AF7="",DB$3>maxCol),"",IF(ISNUMBER(MATCH(DB$3+1-DB$2&"-"&$AG7,$AD$4:$AD$103,0)),$AF7,"")),"") | DC7: =IFERROR(IF(DB7="","",IF(INDEX($X$4:$X$103,MATCH(DC$3+1-DC$2&"-"&$AG7,$AD$4:$AD$103,0),1)>=DC$2,$AF7,"")),"") | DD7: =IFERROR(IF(DB7="","",IF(INDEX($X$4:$X$103,MATCH(DD$3+1-DD$2&"-"&$AG7,$AD$4:$AD$103,0),1)>=DD$2,$AF7,"")),"") | DE7: =IFERROR(IF(DB7="","",IF(INDEX($X$4:$X$103,MATCH(DE$3+1-DE$2&"-"&$AG7,$AD$4:$AD$103,0),1)>=DE$2,$AF7,"")),"") | DF7: =IFERROR(IF(DB7="","",IF(INDEX($X$4:$X$103,MATCH(DF$3+1-DF$2&"-"&$AG7,$AD$4:$AD$103,0),1)>=DF$2,$AF7,"")),"") | DG7: =IFERROR(IF(DB7="","",IF(INDEX($X$4:$X$103,MATCH(DG$3+1-DG$2&"-"&$AG7,$AD$4:$AD$103,0),1)>=DG$2,$AF7,"")),"") | DK7: =IFERROR(IF(OR($AF7="",DK$3>maxCol),"",IF(ISNUMBER(MATCH(DK$3+1-DK$2&"-"&$AG7,$AD$4:$AD$103,0)),$AF7,"")),"") | DL7: =IFERROR(IF(DK7="","",IF(INDEX($X$4:$X$103,MATCH(DL$3+1-DL$2&"-"&$AG7,$AD$4:$AD$103,0),1)>=DL$2,$AF7,"")),"") | DM7: =IFERROR(IF(DK7="","",IF(INDEX($X$4:$X$103,MATCH(DM$3+1-DM$2&"-"&$AG7,$AD$4:$AD$103,0),1)>=DM$2,$AF7,"")),"") | DN7: =IFERROR(IF(DK7="","",IF(INDEX($X$4:$X$103,MATCH(DN$3+1-DN$2&"-"&$AG7,$AD$4:$AD$103,0),1)>=DN$2,$AF7,"")),"") | DO7: =IFERROR(IF(DK7="","",IF(INDEX($X$4:$X$103,MATCH(DO$3+1-DO$2&"-"&$AG7,$AD$4:$AD$103,0),1)>=DO$2,$AF7,"")),"") | DP7: =IFERROR(IF(DK7="","",IF(INDEX($X$4:$X$103,MATCH(DP$3+1-DP$2&"-"&$AG7,$AD$4:$AD$103,0),1)>=DP$2,$AF7,"")),"")
B8: =IF(LEN(Settings!E11)>0,Settings!E11,"Empty-"&ROW()) -> Empty-8 | C8: =COUNTIFS($AA$4:$AA$103,$B8,$Z$4:$Z$103,C$3) -> 0 | D8: =COUNTIFS($AA$4:$AA$103,$B8,$Z$4:$Z$103,D$3) -> 0 | E8: =COUNTIFS($AA$4:$AA$103,$B8,$Z$4:$Z$103,E$3) -> 0 | F8: =COUNTIFS($AA$4:$AA$103,$B8,$Z$4:$Z$103,F$3) -> 0 | G8: =COUNTIFS($AA$4:$AA$103,$B8,$Z$4:$Z$103,G$3) -> 0 | H8: =COUNTIFS($AA$4:$AA$103,$B8,$Z$4:$Z$103,H$3) -> 0 | I8: =COUNTIFS($AA$4:$AA$103,$B8,$Z$4:$Z$103,I$3) -> 0 | J8: =COUNTIFS($AA$4:$AA$103,$B8,$Z$4:$Z$103,J$3) -> 0 | ... L8: =COUNTIFS($AA$4:$AA$103,$B8,$Z$4:$Z$103,L$3) -> 0 | M8: =MAX(C8:L8) -> 0 | N8: =IF(M8=0,"",B8) | O8: =IF(M8>0,M8*2+1,M8) -> 0 | P8: =SUM($O$4:O7) -> 20 | Q8: =P9+ROW(startCell) -> 25 | R8: =Q7 -> 25 | T8: 5 | U8: =IFERROR(TRIM(W8&" "&INDEX(Roadmap!B$6:B$105,$T8,1)),"") -> Quality Tests | V8: =IF(LEN(U8)>Y8,LEFT(U8,Y8)&"…",U8) -> Quality Tests | W8: =IFERROR(INDEX(Roadmap!C$6:C$105,$T8,1)&"","") | X8: =IF(LEN(U8)>0,IFERROR(INDEX(Settings!$I$7:$I$9,MATCH(INDEX(Roadmap!D$6:D$105,$T8,1),Settings!$H$7:$H$9,0),1),large),"") -> 6 | Y8: =IFERROR(INDEX(Settings!$J$7:$J$9,MATCH(INDEX(Roadmap!D$6:D$105,$T8,1),Settings!$H$7:$H$9,0),1),300) -> 35 | Z8: =IFERROR(IF(LEN($U8)=0,"",INDEX(Roadmap!E$6:E$105,$T8,1)&""),"") -> Q2 - 2022 | AA8: =IFERROR(IF(LEN($U8)=0,"",INDEX(Roadmap!F$6:F$105,$T8,1)&""),"") -> Quality A. | AB8: =IFERROR((MATCH(Z8,$C$3:$L$3,0))*divide+COLUMN(startCell)-divide,"") -> 19 | AC8: =IFERROR(IF(OR(U8="",Z8=""),"",2*COUNTIFS($Z$4:Z8,Z8,$AA$4:AA8,AA8)+INDEX($P$4:$P$16,MATCH(AA8,$B$4:$B$16,0),1)+ROW(startCell)),"") -> 22 | AD8: =AB8&"-"&AC8 -> 19-22 | AF8: =IF(ISNUMBER(MATCH(AG8,$AC$4:$AC$303,0)),MATCH(AG8,$R$4:$R$16,1),"") | AG8: =AG7+1 -> 10 | AH8: =IFERROR(IF(OR($AF8="",AH$3>maxCol),"",IF(ISNUMBER(MATCH(AH$3+1-AH$2&"-"&$AG8,$AD$4:$AD$103,0)),$AF8,"")),"") | AI8: =IFERROR(IF(AH8="","",IF(INDEX($X$4:$X$103,MATCH(AI$3+1-AI$2&"-"&$AG8,$AD$4:$AD$103,0),1)>=AI$2,$AF8,"")),"") | AJ8: =IFERROR(IF(AH8="","",IF(INDEX($X$4:$X$103,MATCH(AJ$3+1-AJ$2&"-"&$AG8,$AD$4:$AD$103,0),1)>=AJ$2,$AF8,"")),"") | AK8: =IFERROR(IF(AH8="","",IF(INDEX($X$4:$X$103,MATCH(AK$3+1-AK$2&"-"&$AG8,$AD$4:$AD$103,0),1)>=AK$2,$AF8,"")),"") | AL8: =IFERROR(IF(AH8="","",IF(INDEX($X$4:$X$103,MATCH(AL$3+1-AL$2&"-"&$AG8,$AD$4:$AD$103,0),1)>=AL$2,$AF8,"")),"") | AM8: =IFERROR(IF(AH8="","",IF(INDEX($X$4:$X$103,MATCH(AM$3+1-AM$2&"-"&$AG8,$AD$4:$AD$103,0),1)>=AM$2,$AF8,"")),"") | AQ8: =IFERROR(IF(OR($AF8="",AQ$3>maxCol),"",IF(ISNUMBER(MATCH(AQ$3+1-AQ$2&"-"&$AG8,$AD$4:$AD$103,0)),$AF8,"")),"") | AR8: =IFERROR(IF(AQ8="","",IF(INDEX($X$4:$X$103,MATCH(AR$3+1-AR$2&"-"&$AG8,$AD$4:$AD$103,0),1)>=AR$2,$AF8,"")),"") | AS8: =IFERROR(IF(AQ8="","",IF(INDEX($X$4:$X$103,MATCH(AS$3+1-AS$2&"-"&$AG8,$AD$4:$AD$103,0),1)>=AS$2,$AF8,"")),"") | AT8: =IFERROR(IF(AQ8="","",IF(INDEX($X$4:$X$103,MATCH(AT$3+1-AT$2&"-"&$AG8,$AD$4:$AD$103,0),1)>=AT$2,$AF8,"")),"") | AU8: =IFERROR(IF(AQ8="","",IF(INDEX($X$4:$X$103,MATCH(AU$3+1-AU$2&"-"&$AG8,$AD$4:$AD$103,0),1)>=AU$2,$AF8,"")),"") | AV8: =IFERROR(IF(AQ8="","",IF(INDEX($X$4:$X$103,MATCH(AV$3+1-AV$2&"-"&$AG8,$AD$4:$AD$103,0),1)>=AV$2,$AF8,"")),"") | AZ8: =IFERROR(IF(OR($AF8="",AZ$3>maxCol),"",IF(ISNUMBER(MATCH(AZ$3+1-AZ$2&"-"&$AG8,$AD$4:$AD$103,0)),$AF8,"")),"") | BA8: =IFERROR(IF(AZ8="","",IF(INDEX($X$4:$X$103,MATCH(BA$3+1-BA$2&"-"&$AG8,$AD$4:$AD$103,0),1)>=BA$2,$AF8,"")),"") | BB8: =IFERROR(IF(AZ8="","",IF(INDEX($X$4:$X$103,MATCH(BB$3+1-BB$2&"-"&$AG8,$AD$4:$AD$103,0),1)>=BB$2,$AF8,"")),"") | BC8: =IFERROR(IF(AZ8="","",IF(INDEX($X$4:$X$103,MATCH(BC$3+1-BC$2&"-"&$AG8,$AD$4:$AD$103,0),1)>=BC$2,$AF8,"")),"") | BD8: =IFERROR(IF(AZ8="","",IF(INDEX($X$4:$X$103,MATCH(BD$3+1-BD$2&"-"&$AG8,$AD$4:$AD$103,0),1)>=BD$2,$AF8,"")),"") | BE8: =IFERROR(IF(AZ8="","",IF(INDEX($X$4:$X$103,MATCH(BE$3+1-BE$2&"-"&$AG8,$AD$4:$AD$103,0),1)>=BE$2,$AF8,"")),"") | BI8: =IFERROR(IF(OR($AF8="",BI$3>maxCol),"",IF(ISNUMBER(MATCH(BI$3+1-BI$2&"-"&$AG8,$AD$4:$AD$103,0)),$AF8,"")),"") | BJ8: =IFERROR(IF(BI8="","",IF(INDEX($X$4:$X$103,MATCH(BJ$3+1-BJ$2&"-"&$AG8,$AD$4:$AD$103,0),1)>=BJ$2,$AF8,"")),"") | BK8: =IFERROR(IF(BI8="","",IF(INDEX($X$4:$X$103,MATCH(BK$3+1-BK$2&"-"&$AG8,$AD$4:$AD$103,0),1)>=BK$2,$AF8,"")),"") | BL8: =IFERROR(IF(BI8="","",IF(INDEX($X$4:$X$103,MATCH(BL$3+1-BL$2&"-"&$AG8,$AD$4:$AD$103,0),1)>=BL$2,$AF8,"")),"") | BM8: =IFERROR(IF(BI8="","",IF(INDEX($X$4:$X$103,MATCH(BM$3+1-BM$2&"-"&$AG8,$AD$4:$AD$103,0),1)>=BM$2,$AF8,"")),"") | BN8: =IFERROR(IF(BI8="","",IF(INDEX($X$4:$X$103,MATCH(BN$3+1-BN$2&"-"&$AG8,$AD$4:$AD$103,0),1)>=BN$2,$AF8,"")),"") | BR8: =IFERROR(IF(OR($AF8="",BR$3>maxCol),"",IF(ISNUMBER(MATCH(BR$3+1-BR$2&"-"&$AG8,$AD$4:$AD$103,0)),$AF8,"")),"") | BS8: =IFERROR(IF(BR8="","",IF(INDEX($X$4:$X$103,MATCH(BS$3+1-BS$2&"-"&$AG8,$AD$4:$AD$103,0),1)>=BS$2,$AF8,"")),"") | BT8: =IFERROR(IF(BR8="","",IF(INDEX($X$4:$X$103,MATCH(BT$3+1-BT$2&"-"&$AG8,$AD$4:$AD$103,0),1)>=BT$2,$AF8,"")),"") | BU8: =IFERROR(IF(BR8="","",IF(INDEX($X$4:$X$103,MATCH(BU$3+1-BU$2&"-"&$AG8,$AD$4:$AD$103,0),1)>=BU$2,$AF8,"")),"") | BV8: =IFERROR(IF(BR8="","",IF(INDEX($X$4:$X$103,MATCH(BV$3+1-BV$2&"-"&$AG8,$AD$4:$AD$103,0),1)>=BV$2,$AF8,"")),"") | BW8: =IFERROR(IF(BR8="","",IF(INDEX($X$4:$X$103,MATCH(BW$3+1-BW$2&"-"&$AG8,$AD$4:$AD$103,0),1)>=BW$2,$AF8,"")),"") | CA8: =IFERROR(IF(OR($AF8="",CA$3>maxCol),"",IF(ISNUMBER(MATCH(CA$3+1-CA$2&"-"&$AG8,$AD$4:$AD$103,0)),$AF8,"")),"") | CB8: =IFERROR(IF(CA8="","",IF(INDEX($X$4:$X$103,MATCH(CB$3+1-CB$2&"-"&$AG8,$AD$4:$AD$103,0),1)>=CB$2,$AF8,"")),"") | CC8: =IFERROR(IF(CA8="","",IF(INDEX($X$4:$X$103,MATCH(CC$3+1-CC$2&"-"&$AG8,$AD$4:$AD$103,0),1)>=CC$2,$AF8,"")),"") | CD8: =IFERROR(IF(CA8="","",IF(INDEX($X$4:$X$103,MATCH(CD$3+1-CD$2&"-"&$AG8,$AD$4:$AD$103,0),1)>=CD$2,$AF8,"")),"") | CE8: =IFERROR(IF(CA8="","",IF(INDEX($X$4:$X$103,MATCH(CE$3+1-CE$2&"-"&$AG8,$AD$4:$AD$103,0),1)>=CE$2,$AF8,"")),"") | CF8: =IFERROR(IF(CA8="","",IF(INDEX($X$4:$X$103,MATCH(CF$3+1-CF$2&"-"&$AG8,$AD$4:$AD$103,0),1)>=CF$2,$AF8,"")),"") | CJ8: =IFERROR(IF(OR($AF8="",CJ$3>maxCol),"",IF(ISNUMBER(MATCH(CJ$3+1-CJ$2&"-"&$AG8,$AD$4:$AD$103,0)),$AF8,"")),"") | CK8: =IFERROR(IF(CJ8="","",IF(INDEX($X$4:$X$103,MATCH(CK$3+1-CK$2&"-"&$AG8,$AD$4:$AD$103,0),1)>=CK$2,$AF8,"")),"") | CL8: =IFERROR(IF(CJ8="","",IF(INDEX($X$4:$X$103,MATCH(CL$3+1-CL$2&"-"&$AG8,$AD$4:$AD$103,0),1)>=CL$2,$AF8,"")),"") | CM8: =IFERROR(IF(CJ8="","",IF(INDEX($X$4:$X$103,MATCH(CM$3+1-CM$2&"-"&$AG8,$AD$4:$AD$103,0),1)>=CM$2,$AF8,"")),"") | CN8: =IFERROR(IF(CJ8="","",IF(INDEX($X$4:$X$103,MATCH(CN$3+1-CN$2&"-"&$AG8,$AD$4:$AD$103,0),1)>=CN$2,$AF8,"")),"") | CO8: =IFERROR(IF(CJ8="","",IF(INDEX($X$4:$X$103,MATCH(CO$3+1-CO$2&"-"&$AG8,$AD$4:$AD$103,0),1)>=CO$2,$AF8,"")),"") | CS8: =IFERROR(IF(OR($AF8="",CS$3>maxCol),"",IF(ISNUMBER(MATCH(CS$3+1-CS$2&"-"&$AG8,$AD$4:$AD$103,0)),$AF8,"")),"") | CT8: =IFERROR(IF(CS8="","",IF(INDEX($X$4:$X$103,MATCH(CT$3+1-CT$2&"-"&$AG8,$AD$4:$AD$103,0),1)>=CT$2,$AF8,"")),"") | CU8: =IFERROR(IF(CS8="","",IF(INDEX($X$4:$X$103,MATCH(CU$3+1-CU$2&"-"&$AG8,$AD$4:$AD$103,0),1)>=CU$2,$AF8,"")),"") | CV8: =IFERROR(IF(CS8="","",IF(INDEX($X$4:$X$103,MATCH(CV$3+1-CV$2&"-"&$AG8,$AD$4:$AD$103,0),1)>=CV$2,$AF8,"")),"") | CW8: =IFERROR(IF(CS8="","",IF(INDEX($X$4:$X$103,MATCH(CW$3+1-CW$2&"-"&$AG8,$AD$4:$AD$103,0),1)>=CW$2,$AF8,"")),"") | CX8: =IFERROR(IF(CS8="","",IF(INDEX($X$4:$X$103,MATCH(CX$3+1-CX$2&"-"&$AG8,$AD$4:$AD$103,0),1)>=CX$2,$AF8,"")),"") | DB8: =IFERROR(IF(OR($AF8="",DB$3>maxCol),"",IF(ISNUMBER(MATCH(DB$3+1-DB$2&"-"&$AG8,$AD$4:$AD$103,0)),$AF8,"")),"") | DC8: =IFERROR(IF(DB8="","",IF(INDEX($X$4:$X$103,MATCH(DC$3+1-DC$2&"-"&$AG8,$AD$4:$AD$103,0),1)>=DC$2,$AF8,"")),"") | DD8: =IFERROR(IF(DB8="","",IF(INDEX($X$4:$X$103,MATCH(DD$3+1-DD$2&"-"&$AG8,$AD$4:$AD$103,0),1)>=DD$2,$AF8,"")),"") | DE8: =IFERROR(IF(DB8="","",IF(INDEX($X$4:$X$103,MATCH(DE$3+1-DE$2&"-"&$AG8,$AD$4:$AD$103,0),1)>=DE$2,$AF8,"")),"") | DF8: =IFERROR(IF(DB8="","",IF(INDEX($X$4:$X$103,MATCH(DF$3+1-DF$2&"-"&$AG8,$AD$4:$AD$103,0),1)>=DF$2,$AF8,"")),"") | DG8: =IFERROR(IF(DB8="","",IF(INDEX($X$4:$X$103,MATCH(DG$3+1-DG$2&"-"&$AG8,$AD$4:$AD$103,0),1)>=DG$2,$AF8,"")),"") | DK8: =IFERROR(IF(OR($AF8="",DK$3>maxCol),"",IF(ISNUMBER(MATCH(DK$3+1-DK$2&"-"&$AG8,$AD$4:$AD$103,0)),$AF8,"")),"") | DL8: =IFERROR(IF(DK8="","",IF(INDEX($X$4:$X$103,MATCH(DL$3+1-DL$2&"-"&$AG8,$AD$4:$AD$103,0),1)>=DL$2,$AF8,"")),"") | DM8: =IFERROR(IF(DK8="","",IF(INDEX($X$4:$X$103,MATCH(DM$3+1-DM$2&"-"&$AG8,$AD$4:$AD$103,0),1)>=DM$2,$AF8,"")),"") | DN8: =IFERROR(IF(DK8="","",IF(INDEX($X$4:$X$103,MATCH(DN$3+1-DN$2&"-"&$AG8,$AD$4:$AD$103,0),1)>=DN$2,$AF8,"")),"") | DO8: =IFERROR(IF(DK8="","",IF(INDEX($X$4:$X$103,MATCH(DO$3+1-DO$2&"-"&$AG8,$AD$4:$AD$103,0),1)>=DO$2,$AF8,"")),"") | DP8: =IFERROR(IF(DK8="","",IF(INDEX($X$4:$X$103,MATCH(DP$3+1-DP$2&"-"&$AG8,$AD$4:$AD$103,0),1)>=DP$2,$AF8,"")),"")
B9: =IF(LEN(Settings!E12)>0,Settings!E12,"Empty-"&ROW()) -> Empty-9 | C9: =COUNTIFS($AA$4:$AA$103,$B9,$Z$4:$Z$103,C$3) -> 0 | D9: =COUNTIFS($AA$4:$AA$103,$B9,$Z$4:$Z$103,D$3) -> 0 | E9: =COUNTIFS($AA$4:$AA$103,$B9,$Z$4:$Z$103,E$3) -> 0 | F9: =COUNTIFS($AA$4:$AA$103,$B9,$Z$4:$Z$103,F$3) -> 0 | G9: =COUNTIFS($AA$4:$AA$103,$B9,$Z$4:$Z$103,G$3) -> 0 | H9: =COUNTIFS($AA$4:$AA$103,$B9,$Z$4:$Z$103,H$3) -> 0 | I9: =COUNTIFS($AA$4:$AA$103,$B9,$Z$4:$Z$103,I$3) -> 0 | J9: =COUNTIFS($AA$4:$AA$103,$B9,$Z$4:$Z$103,J$3) -> 0 | ... L9: =COUNTIFS($AA$4:$AA$103,$B9,$Z$4:$Z$103,L$3) -> 0 | M9: =MAX(C9:L9) -> 0 | N9: =IF(M9=0,"",B9) | O9: =IF(M9>0,M9*2+1,M9) -> 0 | P9: =SUM($O$4:O8) -> 20 | Q9: =P10+ROW(startCell) -> 25 | R9: =Q8 -> 25 | T9: 6 | U9: =IFERROR(TRIM(W9&" "&INDEX(Roadmap!B$6:B$105,$T9,1)),"") -> Test results | V9: =IF(LEN(U9)>Y9,LEFT(U9,Y9)&"…",U9) -> Test results | W9: =IFERROR(INDEX(Roadmap!C$6:C$105,$T9,1)&"","") | X9: =IF(LEN(U9)>0,IFERROR(INDEX(Settings!$I$7:$I$9,MATCH(INDEX(Roadmap!D$6:D$105,$T9,1),Settings!$H$7:$H$9,0),1),large),"") -> 4 | Y9: =IFERROR(INDEX(Settings!$J$7:$J$9,MATCH(INDEX(Roadmap!D$6:D$105,$T9,1),Settings!$H$7:$H$9,0),1),300) -> 30 | Z9: =IFERROR(IF(LEN($U9)=0,"",INDEX(Roadmap!E$6:E$105,$T9,1)&""),"") -> Q2 - 2022 | AA9: =IFERROR(IF(LEN($U9)=0,"",INDEX(Roadmap!F$6:F$105,$T9,1)&""),"") -> Quality A. | AB9: =IFERROR((MATCH(Z9,$C$3:$L$3,0))*divide+COLUMN(startCell)-divide,"") -> 19 | AC9: =IFERROR(IF(OR(U9="",Z9=""),"",2*COUNTIFS($Z$4:Z9,Z9,$AA$4:AA9,AA9)+INDEX($P$4:$P$16,MATCH(AA9,$B$4:$B$16,0),1)+ROW(startCell)),"") -> 24 | AD9: =AB9&"-"&AC9 -> 19-24 | AF9: =IF(ISNUMBER(MATCH(AG9,$AC$4:$AC$303,0)),MATCH(AG9,$R$4:$R$16,1),"") | AG9: =AG8+1 -> 11 | AH9: =IFERROR(IF(OR($AF9="",AH$3>maxCol),"",IF(ISNUMBER(MATCH(AH$3+1-AH$2&"-"&$AG9,$AD$4:$AD$103,0)),$AF9,"")),"") | AI9: =IFERROR(IF(AH9="","",IF(INDEX($X$4:$X$103,MATCH(AI$3+1-AI$2&"-"&$AG9,$AD$4:$AD$103,0),1)>=AI$2,$AF9,"")),"") | AJ9: =IFERROR(IF(AH9="","",IF(INDEX($X$4:$X$103,MATCH(AJ$3+1-AJ$2&"-"&$AG9,$AD$4:$AD$103,0),1)>=AJ$2,$AF9,"")),"") | AK9: =IFERROR(IF(AH9="","",IF(INDEX($X$4:$X$103,MATCH(AK$3+1-AK$2&"-"&$AG9,$AD$4:$AD$103,0),1)>=AK$2,$AF9,"")),"") | AL9: =IFERROR(IF(AH9="","",IF(INDEX($X$4:$X$103,MATCH(AL$3+1-AL$2&"-"&$AG9,$AD$4:$AD$103,0),1)>=AL$2,$AF9,"")),"") | AM9: =IFERROR(IF(AH9="","",IF(INDEX($X$4:$X$103,MATCH(AM$3+1-AM$2&"-"&$AG9,$AD$4:$AD$103,0),1)>=AM$2,$AF9,"")),"") | AQ9: =IFERROR(IF(OR($AF9="",AQ$3>maxCol),"",IF(ISNUMBER(MATCH(AQ$3+1-AQ$2&"-"&$AG9,$AD$4:$AD$103,0)),$AF9,"")),"") | AR9: =IFERROR(IF(AQ9="","",IF(INDEX($X$4:$X$103,MATCH(AR$3+1-AR$2&"-"&$AG9,$AD$4:$AD$103,0),1)>=AR$2,$AF9,"")),"") | AS9: =IFERROR(IF(AQ9="","",IF(INDEX($X$4:$X$103,MATCH(AS$3+1-AS$2&"-"&$AG9,$AD$4:$AD$103,0),1)>=AS$2,$AF9,"")),"") | AT9: =IFERROR(IF(AQ9="","",IF(INDEX($X$4:$X$103,MATCH(AT$3+1-AT$2&"-"&$AG9,$AD$4:$AD$103,0),1)>=AT$2,$AF9,"")),"") | AU9: =IFERROR(IF(AQ9="","",IF(INDEX($X$4:$X$103,MATCH(AU$3+1-AU$2&"-"&$AG9,$AD$4:$AD$103,0),1)>=AU$2,$AF9,"")),"") | AV9: =IFERROR(IF(AQ9="","",IF(INDEX($X$4:$X$103,MATCH(AV$3+1-AV$2&"-"&$AG9,$AD$4:$AD$103,0),1)>=AV$2,$AF9,"")),"") | AZ9: =IFERROR(IF(OR($AF9="",AZ$3>maxCol),"",IF(ISNUMBER(MATCH(AZ$3+1-AZ$2&"-"&$AG9,$AD$4:$AD$103,0)),$AF9,"")),"") | BA9: =IFERROR(IF(AZ9="","",IF(INDEX($X$4:$X$103,MATCH(BA$3+1-BA$2&"-"&$AG9,$AD$4:$AD$103,0),1)>=BA$2,$AF9,"")),"") | BB9: =IFERROR(IF(AZ9="","",IF(INDEX($X$4:$X$103,MATCH(BB$3+1-BB$2&"-"&$AG9,$AD$4:$AD$103,0),1)>=BB$2,$AF9,"")),"") | BC9: =IFERROR(IF(AZ9="","",IF(INDEX($X$4:$X$103,MATCH(BC$3+1-BC$2&"-"&$AG9,$AD$4:$AD$103,0),1)>=BC$2,$AF9,"")),"") | BD9: =IFERROR(IF(AZ9="","",IF(INDEX($X$4:$X$103,MATCH(BD$3+1-BD$2&"-"&$AG9,$AD$4:$AD$103,0),1)>=BD$2,$AF9,"")),"") | BE9: =IFERROR(IF(AZ9="","",IF(INDEX($X$4:$X$103,MATCH(BE$3+1-BE$2&"-"&$AG9,$AD$4:$AD$103,0),1)>=BE$2,$AF9,"")),"") | BI9: =IFERROR(IF(OR($AF9="",BI$3>maxCol),"",IF(ISNUMBER(MATCH(BI$3+1-BI$2&"-"&$AG9,$AD$4:$AD$103,0)),$AF9,"")),"") | BJ9: =IFERROR(IF(BI9="","",IF(INDEX($X$4:$X$103,MATCH(BJ$3+1-BJ$2&"-"&$AG9,$AD$4:$AD$103,0),1)>=BJ$2,$AF9,"")),"") | BK9: =IFERROR(IF(BI9="","",IF(INDEX($X$4:$X$103,MATCH(BK$3+1-BK$2&"-"&$AG9,$AD$4:$AD$103,0),1)>=BK$2,$AF9,"")),"") | BL9: =IFERROR(IF(BI9="","",IF(INDEX($X$4:$X$103,MATCH(BL$3+1-BL$2&"-"&$AG9,$AD$4:$AD$103,0),1)>=BL$2,$AF9,"")),"") | BM9: =IFERROR(IF(BI9="","",IF(INDEX($X$4:$X$103,MATCH(BM$3+1-BM$2&"-"&$AG9,$AD$4:$AD$103,0),1)>=BM$2,$AF9,"")),"") | BN9: =IFERROR(IF(BI9="","",IF(INDEX($X$4:$X$103,MATCH(BN$3+1-BN$2&"-"&$AG9,$AD$4:$AD$103,0),1)>=BN$2,$AF9,"")),"") | BR9: =IFERROR(IF(OR($AF9="",BR$3>maxCol),"",IF(ISNUMBER(MATCH(BR$3+1-BR$2&"-"&$AG9,$AD$4:$AD$103,0)),$AF9,"")),"") | BS9: =IFERROR(IF(BR9="","",IF(INDEX($X$4:$X$103,MATCH(BS$3+1-BS$2&"-"&$AG9,$AD$4:$AD$103,0),1)>=BS$2,$AF9,"")),"") | BT9: =IFERROR(IF(BR9="","",IF(INDEX($X$4:$X$103,MATCH(BT$3+1-BT$2&"-"&$AG9,$AD$4:$AD$103,0),1)>=BT$2,$AF9,"")),"") | BU9: =IFERROR(IF(BR9="","",IF(INDEX($X$4:$X$103,MATCH(BU$3+1-BU$2&"-"&$AG9,$AD$4:$AD$103,0),1)>=BU$2,$AF9,"")),"") | BV9: =IFERROR(IF(BR9="","",IF(INDEX($X$4:$X$103,MATCH(BV$3+1-BV$2&"-"&$AG9,$AD$4:$AD$103,0),1)>=BV$2,$AF9,"")),"") | BW9: =IFERROR(IF(BR9="","",IF(INDEX($X$4:$X$103,MATCH(BW$3+1-BW$2&"-"&$AG9,$AD$4:$AD$103,0),1)>=BW$2,$AF9,"")),"") | CA9: =IFERROR(IF(OR($AF9="",CA$3>maxCol),"",IF(ISNUMBER(MATCH(CA$3+1-CA$2&"-"&$AG9,$AD$4:$AD$103,0)),$AF9,"")),"") | CB9: =IFERROR(IF(CA9="","",IF(INDEX($X$4:$X$103,MATCH(CB$3+1-CB$2&"-"&$AG9,$AD$4:$AD$103,0),1)>=CB$2,$AF9,"")),"") | CC9: =IFERROR(IF(CA9="","",IF(INDEX($X$4:$X$103,MATCH(CC$3+1-CC$2&"-"&$AG9,$AD$4:$AD$103,0),1)>=CC$2,$AF9,"")),"") | CD9: =IFERROR(IF(CA9="","",IF(INDEX($X$4:$X$103,MATCH(CD$3+1-CD$2&"-"&$AG9,$AD$4:$AD$103,0),1)>=CD$2,$AF9,"")),"") | CE9: =IFERROR(IF(CA9="","",IF(INDEX($X$4:$X$103,MATCH(CE$3+1-CE$2&"-"&$AG9,$AD$4:$AD$103,0),1)>=CE$2,$AF9,"")),"") | CF9: =IFERROR(IF(CA9="","",IF(INDEX($X$4:$X$103,MATCH(CF$3+1-CF$2&"-"&$AG9,$AD$4:$AD$103,0),1)>=CF$2,$AF9,"")),"") | CJ9: =IFERROR(IF(OR($AF9="",CJ$3>maxCol),"",IF(ISNUMBER(MATCH(CJ$3+1-CJ$2&"-"&$AG9,$AD$4:$AD$103,0)),$AF9,"")),"") | CK9: =IFERROR(IF(CJ9="","",IF(INDEX($X$4:$X$103,MATCH(CK$3+1-CK$2&"-"&$AG9,$AD$4:$AD$103,0),1)>=CK$2,$AF9,"")),"") | CL9: =IFERROR(IF(CJ9="","",IF(INDEX($X$4:$X$103,MATCH(CL$3+1-CL$2&"-"&$AG9,$AD$4:$AD$103,0),1)>=CL$2,$AF9,"")),"") | CM9: =IFERROR(IF(CJ9="","",IF(INDEX($X$4:$X$103,MATCH(CM$3+1-CM$2&"-"&$AG9,$AD$4:$AD$103,0),1)>=CM$2,$AF9,"")),"") | CN9: =IFERROR(IF(CJ9="","",IF(INDEX($X$4:$X$103,MATCH(CN$3+1-CN$2&"-"&$AG9,$AD$4:$AD$103,0),1)>=CN$2,$AF9,"")),"") | CO9: =IFERROR(IF(CJ9="","",IF(INDEX($X$4:$X$103,MATCH(CO$3+1-CO$2&"-"&$AG9,$AD$4:$AD$103,0),1)>=CO$2,$AF9,"")),"") | CS9: =IFERROR(IF(OR($AF9="",CS$3>maxCol),"",IF(ISNUMBER(MATCH(CS$3+1-CS$2&"-"&$AG9,$AD$4:$AD$103,0)),$AF9,"")),"") | CT9: =IFERROR(IF(CS9="","",IF(INDEX($X$4:$X$103,MATCH(CT$3+1-CT$2&"-"&$AG9,$AD$4:$AD$103,0),1)>=CT$2,$AF9,"")),"") | CU9: =IFERROR(IF(CS9="","",IF(INDEX($X$4:$X$103,MATCH(CU$3+1-CU$2&"-"&$AG9,$AD$4:$AD$103,0),1)>=CU$2,$AF9,"")),"") | CV9: =IFERROR(IF(CS9="","",IF(INDEX($X$4:$X$103,MATCH(CV$3+1-CV$2&"-"&$AG9,$AD$4:$AD$103,0),1)>=CV$2,$AF9,"")),"") | CW9: =IFERROR(IF(CS9="","",IF(INDEX($X$4:$X$103,MATCH(CW$3+1-CW$2&"-"&$AG9,$AD$4:$AD$103,0),1)>=CW$2,$AF9,"")),"") | CX9: =IFERROR(IF(CS9="","",IF(INDEX($X$4:$X$103,MATCH(CX$3+1-CX$2&"-"&$AG9,$AD$4:$AD$103,0),1)>=CX$2,$AF9,"")),"") | DB9: =IFERROR(IF(OR($AF9="",DB$3>maxCol),"",IF(ISNUMBER(MATCH(DB$3+1-DB$2&"-"&$AG9,$AD$4:$AD$103,0)),$AF9,"")),"") | DC9: =IFERROR(IF(DB9="","",IF(INDEX($X$4:$X$103,MATCH(DC$3+1-DC$2&"-"&$AG9,$AD$4:$AD$103,0),1)>=DC$2,$AF9,"")),"") | DD9: =IFERROR(IF(DB9="","",IF(INDEX($X$4:$X$103,MATCH(DD$3+1-DD$2&"-"&$AG9,$AD$4:$AD$103,0),1)>=DD$2,$AF9,"")),"") | DE9: =IFERROR(IF(DB9="","",IF(INDEX($X$4:$X$103,MATCH(DE$3+1-DE$2&"-"&$AG9,$AD$4:$AD$103,0),1)>=DE$2,$AF9,"")),"") | DF9: =IFERROR(IF(DB9="","",IF(INDEX($X$4:$X$103,MATCH(DF$3+1-DF$2&"-"&$AG9,$AD$4:$AD$103,0),1)>=DF$2,$AF9,"")),"") | DG9: =IFERROR(IF(DB9="","",IF(INDEX($X$4:$X$103,MATCH(DG$3+1-DG$2&"-"&$AG9,$AD$4:$AD$103,0),1)>=DG$2,$AF9,"")),"") | DK9: =IFERROR(IF(OR($AF9="",DK$3>maxCol),"",IF(ISNUMBER(MATCH(DK$3+1-DK$2&"-"&$AG9,$AD$4:$AD$103,0)),$AF9,"")),"") | DL9: =IFERROR(IF(DK9="","",IF(INDEX($X$4:$X$103,MATCH(DL$3+1-DL$2&"-"&$AG9,$AD$4:$AD$103,0),1)>=DL$2,$AF9,"")),"") | DM9: =IFERROR(IF(DK9="","",IF(INDEX($X$4:$X$103,MATCH(DM$3+1-DM$2&"-"&$AG9,$AD$4:$AD$103,0),1)>=DM$2,$AF9,"")),"") | DN9: =IFERROR(IF(DK9="","",IF(INDEX($X$4:$X$103,MATCH(DN$3+1-DN$2&"-"&$AG9,$AD$4:$AD$103,0),1)>=DN$2,$AF9,"")),"") | DO9: =IFERROR(IF(DK9="","",IF(INDEX($X$4:$X$103,MATCH(DO$3+1-DO$2&"-"&$AG9,$AD$4:$AD$103,0),1)>=DO$2,$AF9,"")),"") | DP9: =IFERROR(IF(DK9="","",IF(INDEX($X$4:$X$103,MATCH(DP$3+1-DP$2&"-"&$AG9,$AD$4:$AD$103,0),1)>=DP$2,$AF9,"")),"")
B10: =IF(LEN(Settings!E13)>0,Settings!E13,"Empty-"&ROW()) -> Empty-10 | C10: =COUNTIFS($AA$4:$AA$103,$B10,$Z$4:$Z$103,C$3) -> 0 | D10: =COUNTIFS($AA$4:$AA$103,$B10,$Z$4:$Z$103,D$3) -> 0 | E10: =COUNTIFS($AA$4:$AA$103,$B10,$Z$4:$Z$103,E$3) -> 0 | F10: =COUNTIFS($AA$4:$AA$103,$B10,$Z$4:$Z$103,F$3) -> 0 | G10: =COUNTIFS($AA$4:$AA$103,$B10,$Z$4:$Z$103,G$3) -> 0 | H10: =COUNTIFS($AA$4:$AA$103,$B10,$Z$4:$Z$103,H$3) -> 0 | I10: =COUNTIFS($AA$4:$AA$103,$B10,$Z$4:$Z$103,I$3) -> 0 | J10: =COUNTIFS($AA$4:$AA$103,$B10,$Z$4:$Z$103,J$3) -> 0 | ... L10: =COUNTIFS($AA$4:$AA$103,$B10,$Z$4:$Z$103,L$3) -> 0 | M10: =MAX(C10:L10) -> 0 | N10: =IF(M10=0,"",B10) | O10: =IF(M10>0,M10*2+1,M10) -> 0 | P10: =SUM($O$4:O9) -> 20 | Q10: =P11+ROW(startCell) -> 25 | R10: =Q9 -> 25 | T10: 7 | U10: =IFERROR(TRIM(W10&" "&INDEX(Roadmap!B$6:B$105,$T10,1)),"") -> Product video | V10: =IF(LEN(U10)>Y10,LEFT(U10,Y10)&"…",U10) -> Product video | W10: =IFERROR(INDEX(Roadmap!C$6:C$105,$T10,1)&"","") | X10: =IF(LEN(U10)>0,IFERROR(INDEX(Settings!$I$7:$I$9,MATCH(INDEX(Roadmap!D$6:D$105,$T10,1),Settings!$H$7:$H$9,0),1),large),"") -> 4 | Y10: =IFERROR(INDEX(Settings!$J$7:$J$9,MATCH(INDEX(Roadmap!D$6:D$105,$T10,1),Settings!$H$7:$H$9,0),1),300) -> 30 | Z10: =IFERROR(IF(LEN($U10)=0,"",INDEX(Roadmap!E$6:E$105,$T10,1)&""),"") -> Q3 - 2022 | AA10: =IFERROR(IF(LEN($U10)=0,"",INDEX(Roadmap!F$6:F$105,$T10,1)&""),"") -> Sales | AB10: =IFERROR((MATCH(Z10,$C$3:$L$3,0))*divide+COLUMN(startCell)-divide,"") -> 28 | AC10: =IFERROR(IF(OR(U10="",Z10=""),"",2*COUNTIFS($Z$4:Z10,Z10,$AA$4:AA10,AA10)+INDEX($P$4:$P$16,MATCH(AA10,$B$4:$B$16,0),1)+ROW(startCell)),"") -> 17 | AD10: =AB10&"-"&AC10 -> 28-17 | AF10: =IF(ISNUMBER(MATCH(AG10,$AC$4:$AC$303,0)),MATCH(AG10,$R$4:$R$16,1),"") -> 2 | AG10: =AG9+1 -> 12 | AH10: =IFERROR(IF(OR($AF10="",AH$3>maxCol),"",IF(ISNUMBER(MATCH(AH$3+1-AH$2&"-"&$AG10,$AD$4:$AD$103,0)),$AF10,"")),"") -> 2 | AI10: =IFERROR(IF(AH10="","",IF(INDEX($X$4:$X$103,MATCH(AI$3+1-AI$2&"-"&$AG10,$AD$4:$AD$103,0),1)>=AI$2,$AF10,"")),"") -> 2 | AJ10: =IFERROR(IF(AH10="","",IF(INDEX($X$4:$X$103,MATCH(AJ$3+1-AJ$2&"-"&$AG10,$AD$4:$AD$103,0),1)>=AJ$2,$AF10,"")),"") -> 2 | AK10: =IFERROR(IF(AH10="","",IF(INDEX($X$4:$X$103,MATCH(AK$3+1-AK$2&"-"&$AG10,$AD$4:$AD$103,0),1)>=AK$2,$AF10,"")),"") -> 2 | AL10: =IFERROR(IF(AH10="","",IF(INDEX($X$4:$X$103,MATCH(AL$3+1-AL$2&"-"&$AG10,$AD$4:$AD$103,0),1)>=AL$2,$AF10,"")),"") | AM10: =IFERROR(IF(AH10="","",IF(INDEX($X$4:$X$103,MATCH(AM$3+1-AM$2&"-"&$AG10,$AD$4:$AD$103,0),1)>=AM$2,$AF10,"")),"") | AQ10: =IFERROR(IF(OR($AF10="",AQ$3>maxCol),"",IF(ISNUMBER(MATCH(AQ$3+1-AQ$2&"-"&$AG10,$AD$4:$AD$103,0)),$AF10,"")),"") | AR10: =IFERROR(IF(AQ10="","",IF(INDEX($X$4:$X$103,MATCH(AR$3+1-AR$2&"-"&$AG10,$AD$4:$AD$103,0),1)>=AR$2,$AF10,"")),"") | AS10: =IFERROR(IF(AQ10="","",IF(INDEX($X$4:$X$103,MATCH(AS$3+1-AS$2&"-"&$AG10,$AD$4:$AD$103,0),1)>=AS$2,$AF10,"")),"") | AT10: =IFERROR(IF(AQ10="","",IF(INDEX($X$4:$X$103,MATCH(AT$3+1-AT$2&"-"&$AG10,$AD$4:$AD$103,0),1)>=AT$2,$AF10,"")),"") | AU10: =IFERROR(IF(AQ10="","",IF(INDEX($X$4:$X$103,MATCH(AU$3+1-AU$2&"-"&$AG10,$AD$4:$AD$103,0),1)>=AU$2,$AF10,"")),"") | AV10: =IFERROR(IF(AQ10="","",IF(INDEX($X$4:$X$103,MATCH(AV$3+1-AV$2&"-"&$AG10,$AD$4:$AD$103,0),1)>=AV$2,$AF10,"")),"") | AZ10: =IFERROR(IF(OR($AF10="",AZ$3>maxCol),"",IF(ISNUMBER(MATCH(AZ$3+1-AZ$2&"-"&$AG10,$AD$4:$AD$103,0)),$AF10,"")),"") | BA10: =IFERROR(IF(AZ10="","",IF(INDEX($X$4:$X$103,MATCH(BA$3+1-BA$2&"-"&$AG10,$AD$4:$AD$103,0),1)>=BA$2,$AF10,"")),"") | BB10: =IFERROR(IF(AZ10="","",IF(INDEX($X$4:$X$103,MATCH(BB$3+1-BB$2&"-"&$AG10,$AD$4:$AD$103,0),1)>=BB$2,$AF10,"")),"") | BC10: =IFERROR(IF(AZ10="","",IF(INDEX($X$4:$X$103,MATCH(BC$3+1-BC$2&"-"&$AG10,$AD$4:$AD$103,0),1)>=BC$2,$AF10,"")),"") | BD10: =IFERROR(IF(AZ10="","",IF(INDEX($X$4:$X$103,MATCH(BD$3+1-BD$2&"-"&$AG10,$AD$4:$AD$103,0),1)>=BD$2,$AF10,"")),"") | BE10: =IFERROR(IF(AZ10="","",IF(INDEX($X$4:$X$103,MATCH(BE$3+1-BE$2&"-"&$AG10,$AD$4:$AD$103,0),1)>=BE$2,$AF10,"")),"") | BI10: =IFERROR(IF(OR($AF10="",BI$3>maxCol),"",IF(ISNUMBER(MATCH(BI$3+1-BI$2&"-"&$AG10,$AD$4:$AD$103,0)),$AF10,"")),"") -> 2 | BJ10: =IFERROR(IF(BI10="","",IF(INDEX($X$4:$X$103,MATCH(BJ$3+1-BJ$2&"-"&$AG10,$AD$4:$AD$103,0),1)>=BJ$2,$AF10,"")),"") -> 2 | BK10: =IFERROR(IF(BI10="","",IF(INDEX($X$4:$X$103,MATCH(BK$3+1-BK$2&"-"&$AG10,$AD$4:$AD$103,0),1)>=BK$2,$AF10,"")),"") -> 2 | BL10: =IFERROR(IF(BI10="","",IF(INDEX($X$4:$X$103,MATCH(BL$3+1-BL$2&"-"&$AG10,$AD$4:$AD$103,0),1)>=BL$2,$AF10,"")),"") -> 2 | BM10: =IFERROR(IF(BI10="","",IF(INDEX($X$4:$X$103,MATCH(BM$3+1-BM$2&"-"&$AG10,$AD$4:$AD$103,0),1)>=BM$2,$AF10,"")),"") | BN10: =IFERROR(IF(BI10="","",IF(INDEX($X$4:$X$103,MATCH(BN$3+1-BN$2&"-"&$AG10,$AD$4:$AD$103,0),1)>=BN$2,$AF10,"")),"") | BR10: =IFERROR(IF(OR($AF10="",BR$3>maxCol),"",IF(ISNUMBER(MATCH(BR$3+1-BR$2&"-"&$AG10,$AD$4:$AD$103,0)),$AF10,"")),"") | BS10: =IFERROR(IF(BR10="","",IF(INDEX($X$4:$X$103,MATCH(BS$3+1-BS$2&"-"&$AG10,$AD$4:$AD$103,0),1)>=BS$2,$AF10,"")),"") | BT10: =IFERROR(IF(BR10="","",IF(INDEX($X$4:$X$103,MATCH(BT$3+1-BT$2&"-"&$AG10,$AD$4:$AD$103,0),1)>=BT$2,$AF10,"")),"") | BU10: =IFERROR(IF(BR10="","",IF(INDEX($X$4:$X$103,MATCH(BU$3+1-BU$2&"-"&$AG10,$AD$4:$AD$103,0),1)>=BU$2,$AF10,"")),"") | BV10: =IFERROR(IF(BR10="","",IF(INDEX($X$4:$X$103,MATCH(BV$3+1-BV$2&"-"&$AG10,$AD$4:$AD$103,0),1)>=BV$2,$AF10,"")),"") | BW10: =IFERROR(IF(BR10="","",IF(INDEX($X$4:$X$103,MATCH(BW$3+1-BW$2&"-"&$AG10,$AD$4:$AD$103,0),1)>=BW$2,$AF10,"")),"") | CA10: =IFERROR(IF(OR($AF10="",CA$3>maxCol),"",IF(ISNUMBER(MATCH(CA$3+1-CA$2&"-"&$AG10,$AD$4:$AD$103,0)),$AF10,"")),"") | CB10: =IFERROR(IF(CA10="","",IF(INDEX($X$4:$X$103,MATCH(CB$3+1-CB$2&"-"&$AG10,$AD$4:$AD$103,0),1)>=CB$2,$AF10,"")),"") | CC10: =IFERROR(IF(CA10="","",IF(INDEX($X$4:$X$103,MATCH(CC$3+1-CC$2&"-"&$AG10,$AD$4:$AD$103,0),1)>=CC$2,$AF10,"")),"") | CD10: =IFERROR(IF(CA10="","",IF(INDEX($X$4:$X$103,MATCH(CD$3+1-CD$2&"-"&$AG10,$AD$4:$AD$103,0),1)>=CD$2,$AF10,"")),"") | CE10: =IFERROR(IF(CA10="","",IF(INDEX($X$4:$X$103,MATCH(CE$3+1-CE$2&"-"&$AG10,$AD$4:$AD$103,0),1)>=CE$2,$AF10,"")),"") | CF10: =IFERROR(IF(CA10="","",IF(INDEX($X$4:$X$103,MATCH(CF$3+1-CF$2&"-"&$AG10,$AD$4:$AD$103,0),1)>=CF$2,$AF10,"")),"") | CJ10: =IFERROR(IF(OR($AF10="",CJ$3>maxCol),"",IF(ISNUMBER(MATCH(CJ$3+1-CJ$2&"-"&$AG10,$AD$4:$AD$103,0)),$AF10,"")),"") | CK10: =IFERROR(IF(CJ10="","",IF(INDEX($X$4:$X$103,MATCH(CK$3+1-CK$2&"-"&$AG10,$AD$4:$AD$103,0),1)>=CK$2,$AF10,"")),"") | CL10: =IFERROR(IF(CJ10="","",IF(INDEX($X$4:$X$103,MATCH(CL$3+1-CL$2&"-"&$AG10,$AD$4:$AD$103,0),1)>=CL$2,$AF10,"")),"") | CM10: =IFERROR(IF(CJ10="","",IF(INDEX($X$4:$X$103,MATCH(CM$3+1-CM$2&"-"&$AG10,$AD$4:$AD$103,0),1)>=CM$2,$AF10,"")),"") | CN10: =IFERROR(IF(CJ10="","",IF(INDEX($X$4:$X$103,MATCH(CN$3+1-CN$2&"-"&$AG10,$AD$4:$AD$103,0),1)>=CN$2,$AF10,"")),"") | CO10: =IFERROR(IF(CJ10="","",IF(INDEX($X$4:$X$103,MATCH(CO$3+1-CO$2&"-"&$AG10,$AD$4:$AD$103,0),1)>=CO$2,$AF10,"")),"") | CS10: =IFERROR(IF(OR($AF10="",CS$3>maxCol),"",IF(ISNUMBER(MATCH(CS$3+1-CS$2&"-"&$AG10,$AD$4:$AD$103,0)),$AF10,"")),"") | CT10: =IFERROR(IF(CS10="","",IF(INDEX($X$4:$X$103,MATCH(CT$3+1-CT$2&"-"&$AG10,$AD$4:$AD$103,0),1)>=CT$2,$AF10,"")),"") | CU10: =IFERROR(IF(CS10="","",IF(INDEX($X$4:$X$103,MATCH(CU$3+1-CU$2&"-"&$AG10,$AD$4:$AD$103,0),1)>=CU$2,$AF10,"")),"") | CV10: =IFERROR(IF(CS10="","",IF(INDEX($X$4:$X$103,MATCH(CV$3+1-CV$2&"-"&$AG10,$AD$4:$AD$103,0),1)>=CV$2,$AF10,"")),"") | CW10: =IFERROR(IF(CS10="","",IF(INDEX($X$4:$X$103,MATCH(CW$3+1-CW$2&"-"&$AG10,$AD$4:$AD$103,0),1)>=CW$2,$AF10,"")),"") | CX10: =IFERROR(IF(CS10="","",IF(INDEX($X$4:$X$103,MATCH(CX$3+1-CX$2&"-"&$AG10,$AD$4:$AD$103,0),1)>=CX$2,$AF10,"")),"") | DB10: =IFERROR(IF(OR($AF10="",DB$3>maxCol),"",IF(ISNUMBER(MATCH(DB$3+1-DB$2&"-"&$AG10,$AD$4:$AD$103,0)),$AF10,"")),"") | DC10: =IFERROR(IF(DB10="","",IF(INDEX($X$4:$X$103,MATCH(DC$3+1-DC$2&"-"&$AG10,$AD$4:$AD$103,0),1)>=DC$2,$AF10,"")),"") | DD10: =IFERROR(IF(DB10="","",IF(INDEX($X$4:$X$103,MATCH(DD$3+1-DD$2&"-"&$AG10,$AD$4:$AD$103,0),1)>=DD$2,$AF10,"")),"") | DE10: =IFERROR(IF(DB10="","",IF(INDEX($X$4:$X$103,MATCH(DE$3+1-DE$2&"-"&$AG10,$AD$4:$AD$103,0),1)>=DE$2,$AF10,"")),"") | DF10: =IFERROR(IF(DB10="","",IF(INDEX($X$4:$X$103,MATCH(DF$3+1-DF$2&"-"&$AG10,$AD$4:$AD$103,0),1)>=DF$2,$AF10,"")),"") | DG10: =IFERROR(IF(DB10="","",IF(INDEX($X$4:$X$103,MATCH(DG$3+1-DG$2&"-"&$AG10,$AD$4:$AD$103,0),1)>=DG$2,$AF10,"")),"") | DK10: =IFERROR(IF(OR($AF10="",DK$3>maxCol),"",IF(ISNUMBER(MATCH(DK$3+1-DK$2&"-"&$AG10,$AD$4:$AD$103,0)),$AF10,"")),"") | DL10: =IFERROR(IF(DK10="","",IF(INDEX($X$4:$X$103,MATCH(DL$3+1-DL$2&"-"&$AG10,$AD$4:$AD$103,0),1)>=DL$2,$AF10,"")),"") | DM10: =IFERROR(IF(DK10="","",IF(INDEX($X$4:$X$103,MATCH(DM$3+1-DM$2&"-"&$AG10,$AD$4:$AD$103,0),1)>=DM$2,$AF10,"")),"") | DN10: =IFERROR(IF(DK10="","",IF(INDEX($X$4:$X$103,MATCH(DN$3+1-DN$2&"-"&$AG10,$AD$4:$AD$103,0),1)>=DN$2,$AF10,"")),"") | DO10: =IFERROR(IF(DK10="","",IF(INDEX($X$4:$X$103,MATCH(DO$3+1-DO$2&"-"&$AG10,$AD$4:$AD$103,0),1)>=DO$2,$AF10,"")),"") | DP10: =IFERROR(IF(DK10="","",IF(INDEX($X$4:$X$103,MATCH(DP$3+1-DP$2&"-"&$AG10,$AD$4:$AD$103,0),1)>=DP$2,$AF10,"")),"")
B11: =IF(LEN(Settings!E14)>0,Settings!E14,"Empty-"&ROW()) -> Empty-11 | C11: =COUNTIFS($AA$4:$AA$103,$B11,$Z$4:$Z$103,C$3) -> 0 | D11: =COUNTIFS($AA$4:$AA$103,$B11,$Z$4:$Z$103,D$3) -> 0 | E11: =COUNTIFS($AA$4:$AA$103,$B11,$Z$4:$Z$103,E$3) -> 0 | F11: =COUNTIFS($AA$4:$AA$103,$B11,$Z$4:$Z$103,F$3) -> 0 | G11: =COUNTIFS($AA$4:$AA$103,$B11,$Z$4:$Z$103,G$3) -> 0 | H11: =COUNTIFS($AA$4:$AA$103,$B11,$Z$4:$Z$103,H$3) -> 0 | I11: =COUNTIFS($AA$4:$AA$103,$B11,$Z$4:$Z$103,I$3) -> 0 | J11: =COUNTIFS($AA$4:$AA$103,$B11,$Z$4:$Z$103,J$3) -> 0 | ... L11: =COUNTIFS($AA$4:$AA$103,$B11,$Z$4:$Z$103,L$3) -> 0 | M11: =MAX(C11:L11) -> 0 | N11: =IF(M11=0,"",B11) | O11: =IF(M11>0,M11*2+1,M11) -> 0 | P11: =SUM($O$4:O10) -> 20 | Q11: =P12+ROW(startCell) -> 25 | R11: =Q10 -> 25 | T11: 8 | U11: =IFERROR(TRIM(W11&" "&INDEX(Roadmap!B$6:B$105,$T11,1)),"") -> Bug fixes | V11: =IF(LEN(U11)>Y11,LEFT(U11,Y11)&"…",U11) -> Bug fixes | W11: =IFERROR(INDEX(Roadmap!C$6:C$105,$T11,1)&"","") | X11: =IF(LEN(U11)>0,IFERROR(INDEX(Settings!$I$7:$I$9,MATCH(INDEX(Roadmap!D$6:D$105,$T11,1),Settings!$H$7:$H$9,0),1),large),"") -> 4 | Y11: =IFERROR(INDEX(Settings!$J$7:$J$9,MATCH(INDEX(Roadmap!D$6:D$105,$T11,1),Settings!$H$7:$H$9,0),1),300) -> 30 | Z11: =IFERROR(IF(LEN($U11)=0,"",INDEX(Roadmap!E$6:E$105,$T11,1)&""),"") -> Q3 - 2022 | AA11: =IFERROR(IF(LEN($U11)=0,"",INDEX(Roadmap!F$6:F$105,$T11,1)&""),"") -> R&D Team | AB11: =IFERROR((MATCH(Z11,$C$3:$L$3,0))*divide+COLUMN(startCell)-divide,"") -> 28 | AC11: =IFERROR(IF(OR(U11="",Z11=""),"",2*COUNTIFS($Z$4:Z11,Z11,$AA$4:AA11,AA11)+INDEX($P$4:$P$16,MATCH(AA11,$B$4:$B$16,0),1)+ROW(startCell)),"") -> 7 | AD11: =AB11&"-"&AC11 -> 28-7 | AF11: =IF(ISNUMBER(MATCH(AG11,$AC$4:$AC$303,0)),MATCH(AG11,$R$4:$R$16,1),"") | AG11: =AG10+1 -> 13 | AH11: =IFERROR(IF(OR($AF11="",AH$3>maxCol),"",IF(ISNUMBER(MATCH(AH$3+1-AH$2&"-"&$AG11,$AD$4:$AD$103,0)),$AF11,"")),"") | AI11: =IFERROR(IF(AH11="","",IF(INDEX($X$4:$X$103,MATCH(AI$3+1-AI$2&"-"&$AG11,$AD$4:$AD$103,0),1)>=AI$2,$AF11,"")),"") | AJ11: =IFERROR(IF(AH11="","",IF(INDEX($X$4:$X$103,MATCH(AJ$3+1-AJ$2&"-"&$AG11,$AD$4:$AD$103,0),1)>=AJ$2,$AF11,"")),"") | AK11: =IFERROR(IF(AH11="","",IF(INDEX($X$4:$X$103,MATCH(AK$3+1-AK$2&"-"&$AG11,$AD$4:$AD$103,0),1)>=AK$2,$AF11,"")),"") | AL11: =IFERROR(IF(AH11="","",IF(INDEX($X$4:$X$103,MATCH(AL$3+1-AL$2&"-"&$AG11,$AD$4:$AD$103,0),1)>=AL$2,$AF11,"")),"") | AM11: =IFERROR(IF(AH11="","",IF(INDEX($X$4:$X$103,MATCH(AM$3+1-AM$2&"-"&$AG11,$AD$4:$AD$103,0),1)>=AM$2,$AF11,"")),"") | AQ11: =IFERROR(IF(OR($AF11="",AQ$3>maxCol),"",IF(ISNUMBER(MATCH(AQ$3+1-AQ$2&"-"&$AG11,$AD$4:$AD$103,0)),$AF11,"")),"") | AR11: =IFERROR(IF(AQ11="","",IF(INDEX($X$4:$X$103,MATCH(AR$3+1-AR$2&"-"&$AG11,$AD$4:$AD$103,0),1)>=AR$2,$AF11,"")),"") | AS11: =IFERROR(IF(AQ11="","",IF(INDEX($X$4:$X$103,MATCH(AS$3+1-AS$2&"-"&$AG11,$AD$4:$AD$103,0),1)>=AS$2,$AF11,"")),"") | AT11: =IFERROR(IF(AQ11="","",IF(INDEX($X$4:$X$103,MATCH(AT$3+1-AT$2&"-"&$AG11,$AD$4:$AD$103,0),1)>=AT$2,$AF11,"")),"") | AU11: =IFERROR(IF(AQ11="","",IF(INDEX($X$4:$X$103,MATCH(AU$3+1-AU$2&"-"&$AG11,$AD$4:$AD$103,0),1)>=AU$2,$AF11,"")),"") | AV11: =IFERROR(IF(AQ11="","",IF(INDEX($X$4:$X$103,MATCH(AV$3+1-AV$2&"-"&$AG11,$AD$4:$AD$103,0),1)>=AV$2,$AF11,"")),"") | AZ11: =IFERROR(IF(OR($AF11="",AZ$3>maxCol),"",IF(ISNUMBER(MATCH(AZ$3+1-AZ$2&"-"&$AG11,$AD$4:$AD$103,0)),$AF11,"")),"") | BA11: =IFERROR(IF(AZ11="","",IF(INDEX($X$4:$X$103,MATCH(BA$3+1-BA$2&"-"&$AG11,$AD$4:$AD$103,0),1)>=BA$2,$AF11,"")),"") | BB11: =IFERROR(IF(AZ11="","",IF(INDEX($X$4:$X$103,MATCH(BB$3+1-BB$2&"-"&$AG11,$AD$4:$AD$103,0),1)>=BB$2,$AF11,"")),"") | BC11: =IFERROR(IF(AZ11="","",IF(INDEX($X$4:$X$103,MATCH(BC$3+1-BC$2&"-"&$AG11,$AD$4:$AD$103,0),1)>=BC$2,$AF11,"")),"") | BD11: =IFERROR(IF(AZ11="","",IF(INDEX($X$4:$X$103,MATCH(BD$3+1-BD$2&"-"&$AG11,$AD$4:$AD$103,0),1)>=BD$2,$AF11,"")),"") | BE11: =IFERROR(IF(AZ11="","",IF(INDEX($X$4:$X$103,MATCH(BE$3+1-BE$2&"-"&$AG11,$AD$4:$AD$103,0),1)>=BE$2,$AF11,"")),"") | BI11: =IFERROR(IF(OR($AF11="",BI$3>maxCol),"",IF(ISNUMBER(MATCH(BI$3+1-BI$2&"-"&$AG11,$AD$4:$AD$103,0)),$AF11,"")),"") | BJ11: =IFERROR(IF(BI11="","",IF(INDEX($X$4:$X$103,MATCH(BJ$3+1-BJ$2&"-"&$AG11,$AD$4:$AD$103,0),1)>=BJ$2,$AF11,"")),"") | BK11: =IFERROR(IF(BI11="","",IF(INDEX($X$4:$X$103,MATCH(BK$3+1-BK$2&"-"&$AG11,$AD$4:$AD$103,0),1)>=BK$2,$AF11,"")),"") | BL11: =IFERROR(IF(BI11="","",IF(INDEX($X$4:$X$103,MATCH(BL$3+1-BL$2&"-"&$AG11,$AD$4:$AD$103,0),1)>=BL$2,$AF11,"")),"") | BM11: =IFERROR(IF(BI11="","",IF(INDEX($X$4:$X$103,MATCH(BM$3+1-BM$2&"-"&$AG11,$AD$4:$AD$103,0),1)>=BM$2,$AF11,"")),"") | BN11: =IFERROR(IF(BI11="","",IF(INDEX($X$4:$X$103,MATCH(BN$3+1-BN$2&"-"&$AG11,$AD$4:$AD$103,0),1)>=BN$2,$AF11,"")),"") | BR11: =IFERROR(IF(OR($AF11="",BR$3>maxCol),"",IF(ISNUMBER(MATCH(BR$3+1-BR$2&"-"&$AG11,$AD$4:$AD$103,0)),$AF11,"")),"") | BS11: =IFERROR(IF(BR11="","",IF(INDEX($X$4:$X$103,MATCH(BS$3+1-BS$2&"-"&$AG11,$AD$4:$AD$103,0),1)>=BS$2,$AF11,"")),"") | BT11: =IFERROR(IF(BR11="","",IF(INDEX($X$4:$X$103,MATCH(BT$3+1-BT$2&"-"&$AG11,$AD$4:$AD$103,0),1)>=BT$2,$AF11,"")),"") | BU11: =IFERROR(IF(BR11="","",IF(INDEX($X$4:$X$103,MATCH(BU$3+1-BU$2&"-"&$AG11,$AD$4:$AD$103,0),1)>=BU$2,$AF11,"")),"") | BV11: =IFERROR(IF(BR11="","",IF(INDEX($X$4:$X$103,MATCH(BV$3+1-BV$2&"-"&$AG11,$AD$4:$AD$103,0),1)>=BV$2,$AF11,"")),"") | BW11: =IFERROR(IF(BR11="","",IF(INDEX($X$4:$X$103,MATCH(BW$3+1-BW$2&"-"&$AG11,$AD$4:$AD$103,0),1)>=BW$2,$AF11,"")),"") | CA11: =IFERROR(IF(OR($AF11="",CA$3>maxCol),"",IF(ISNUMBER(MATCH(CA$3+1-CA$2&"-"&$AG11,$AD$4:$AD$103,0)),$AF11,"")),"") | CB11: =IFERROR(IF(CA11="","",IF(INDEX($X$4:$X$103,MATCH(CB$3+1-CB$2&"-"&$AG11,$AD$4:$AD$103,0),1)>=CB$2,$AF11,"")),"") | CC11: =IFERROR(IF(CA11="","",IF(INDEX($X$4:$X$103,MATCH(CC$3+1-CC$2&"-"&$AG11,$AD$4:$AD$103,0),1)>=CC$2,$AF11,"")),"") | CD11: =IFERROR(IF(CA11="","",IF(INDEX($X$4:$X$103,MATCH(CD$3+1-CD$2&"-"&$AG11,$AD$4:$AD$103,0),1)>=CD$2,$AF11,"")),"") | CE11: =IFERROR(IF(CA11="","",IF(INDEX($X$4:$X$103,MATCH(CE$3+1-CE$2&"-"&$AG11,$AD$4:$AD$103,0),1)>=CE$2,$AF11,"")),"") | CF11: =IFERROR(IF(CA11="","",IF(INDEX($X$4:$X$103,MATCH(CF$3+1-CF$2&"-"&$AG11,$AD$4:$AD$103,0),1)>=CF$2,$AF11,"")),"") | CJ11: =IFERROR(IF(OR($AF11="",CJ$3>maxCol),"",IF(ISNUMBER(MATCH(CJ$3+1-CJ$2&"-"&$AG11,$AD$4:$AD$103,0)),$AF11,"")),"") | CK11: =IFERROR(IF(CJ11="","",IF(INDEX($X$4:$X$103,MATCH(CK$3+1-CK$2&"-"&$AG11,$AD$4:$AD$103,0),1)>=CK$2,$AF11,"")),"") | CL11: =IFERROR(IF(CJ11="","",IF(INDEX($X$4:$X$103,MATCH(CL$3+1-CL$2&"-"&$AG11,$AD$4:$AD$103,0),1)>=CL$2,$AF11,"")),"") | CM11: =IFERROR(IF(CJ11="","",IF(INDEX($X$4:$X$103,MATCH(CM$3+1-CM$2&"-"&$AG11,$AD$4:$AD$103,0),1)>=CM$2,$AF11,"")),"") | CN11: =IFERROR(IF(CJ11="","",IF(INDEX($X$4:$X$103,MATCH(CN$3+1-CN$2&"-"&$AG11,$AD$4:$AD$103,0),1)>=CN$2,$AF11,"")),"") | CO11: =IFERROR(IF(CJ11="","",IF(INDEX($X$4:$X$103,MATCH(CO$3+1-CO$2&"-"&$AG11,$AD$4:$AD$103,0),1)>=CO$2,$AF11,"")),"") | CS11: =IFERROR(IF(OR($AF11="",CS$3>maxCol),"",IF(ISNUMBER(MATCH(CS$3+1-CS$2&"-"&$AG11,$AD$4:$AD$103,0)),$AF11,"")),"") | CT11: =IFERROR(IF(CS11="","",IF(INDEX($X$4:$X$103,MATCH(CT$3+1-CT$2&"-"&$AG11,$AD$4:$AD$103,0),1)>=CT$2,$AF11,"")),"") | CU11: =IFERROR(IF(CS11="","",IF(INDEX($X$4:$X$103,MATCH(CU$3+1-CU$2&"-"&$AG11,$AD$4:$AD$103,0),1)>=CU$2,$AF11,"")),"") | CV11: =IFERROR(IF(CS11="","",IF(INDEX($X$4:$X$103,MATCH(CV$3+1-CV$2&"-"&$AG11,$AD$4:$AD$103,0),1)>=CV$2,$AF11,"")),"") | CW11: =IFERROR(IF(CS11="","",IF(INDEX($X$4:$X$103,MATCH(CW$3+1-CW$2&"-"&$AG11,$AD$4:$AD$103,0),1)>=CW$2,$AF11,"")),"") | CX11: =IFERROR(IF(CS11="","",IF(INDEX($X$4:$X$103,MATCH(CX$3+1-CX$2&"-"&$AG11,$AD$4:$AD$103,0),1)>=CX$2,$AF11,"")),"") | DB11: =IFERROR(IF(OR($AF11="",DB$3>maxCol),"",IF(ISNUMBER(MATCH(DB$3+1-DB$2&"-"&$AG11,$AD$4:$AD$103,0)),$AF11,"")),"") | DC11: =IFERROR(IF(DB11="","",IF(INDEX($X$4:$X$103,MATCH(DC$3+1-DC$2&"-"&$AG11,$AD$4:$AD$103,0),1)>=DC$2,$AF11,"")),"") | DD11: =IFERROR(IF(DB11="","",IF(INDEX($X$4:$X$103,MATCH(DD$3+1-DD$2&"-"&$AG11,$AD$4:$AD$103,0),1)>=DD$2,$AF11,"")),"") | DE11: =IFERROR(IF(DB11="","",IF(INDEX($X$4:$X$103,MATCH(DE$3+1-DE$2&"-"&$AG11,$AD$4:$AD$103,0),1)>=DE$2,$AF11,"")),"") | DF11: =IFERROR(IF(DB11="","",IF(INDEX($X$4:$X$103,MATCH(DF$3+1-DF$2&"-"&$AG11,$AD$4:$AD$103,0),1)>=DF$2,$AF11,"")),"") | DG11: =IFERROR(IF(DB11="","",IF(INDEX($X$4:$X$103,MATCH(DG$3+1-DG$2&"-"&$AG11,$AD$4:$AD$103,0),1)>=DG$2,$AF11,"")),"") | DK11: =IFERROR(IF(OR($AF11="",DK$3>maxCol),"",IF(ISNUMBER(MATCH(DK$3+1-DK$2&"-"&$AG11,$AD$4:$AD$103,0)),$AF11,"")),"") | DL11: =IFERROR(IF(DK11="","",IF(INDEX($X$4:$X$103,MATCH(DL$3+1-DL$2&"-"&$AG11,$AD$4:$AD$103,0),1)>=DL$2,$AF11,"")),"") | DM11: =IFERROR(IF(DK11="","",IF(INDEX($X$4:$X$103,MATCH(DM$3+1-DM$2&"-"&$AG11,$AD$4:$AD$103,0),1)>=DM$2,$AF11,"")),"") | DN11: =IFERROR(IF(DK11="","",IF(INDEX($X$4:$X$103,MATCH(DN$3+1-DN$2&"-"&$AG11,$AD$4:$AD$103,0),1)>=DN$2,$AF11,"")),"") | DO11: =IFERROR(IF(DK11="","",IF(INDEX($X$4:$X$103,MATCH(DO$3+1-DO$2&"-"&$AG11,$AD$4:$AD$103,0),1)>=DO$2,$AF11,"")),"") | DP11: =IFERROR(IF(DK11="","",IF(INDEX($X$4:$X$103,MATCH(DP$3+1-DP$2&"-"&$AG11,$AD$4:$AD$103,0),1)>=DP$2,$AF11,"")),"")
B12: =IF(LEN(Settings!E15)>0,Settings!E15,"Empty-"&ROW()) -> Empty-12 | C12: =COUNTIFS($AA$4:$AA$103,$B12,$Z$4:$Z$103,C$3) -> 0 | D12: =COUNTIFS($AA$4:$AA$103,$B12,$Z$4:$Z$103,D$3) -> 0 | E12: =COUNTIFS($AA$4:$AA$103,$B12,$Z$4:$Z$103,E$3) -> 0 | F12: =COUNTIFS($AA$4:$AA$103,$B12,$Z$4:$Z$103,F$3) -> 0 | G12: =COUNTIFS($AA$4:$AA$103,$B12,$Z$4:$Z$103,G$3) -> 0 | H12: =COUNTIFS($AA$4:$AA$103,$B12,$Z$4:$Z$103,H$3) -> 0 | I12: =COUNTIFS($AA$4:$AA$103,$B12,$Z$4:$Z$103,I$3) -> 0 | J12: =COUNTIFS($AA$4:$AA$103,$B12,$Z$4:$Z$103,J$3) -> 0 | ... L12: =COUNTIFS($AA$4:$AA$103,$B12,$Z$4:$Z$103,L$3) -> 0 | M12: =MAX(C12:L12) -> 0 | N12: =IF(M12=0,"",B12) | O12: =IF(M12>0,M12*2+1,M12) -> 0 | P12: =SUM($O$4:O11) -> 20 | Q12: =P13+ROW(startCell) -> 25 | R12: =Q11 -> 25 | T12: 9 | U12: =IFERROR(TRIM(W12&" "&INDEX(Roadmap!B$6:B$105,$T12,1)),"") -> ★ Beta release | V12: =IF(LEN(U12)>Y12,LEFT(U12,Y12)&"…",U12) -> ★ Beta release | W12: =IFERROR(INDEX(Roadmap!C$6:C$105,$T12,1)&"","") -> ★ | X12: =IF(LEN(U12)>0,IFERROR(INDEX(Settings!$I$7:$I$9,MATCH(INDEX(Roadmap!D$6:D$105,$T12,1),Settings!$H$7:$H$9,0),1),large),"") -> 4 | Y12: =IFERROR(INDEX(Settings!$J$7:$J$9,MATCH(INDEX(Roadmap!D$6:D$105,$T12,1),Settings!$H$7:$H$9,0),1),300) -> 30 | Z12: =IFERROR(IF(LEN($U12)=0,"",INDEX(Roadmap!E$6:E$105,$T12,1)&""),"") -> Q3 - 2022 | AA12: =IFERROR(IF(LEN($U12)=0,"",INDEX(Roadmap!F$6:F$105,$T12,1)&""),"") -> R&D Team | AB12: =IFERROR((MATCH(Z12,$C$3:$L$3,0))*divide+COLUMN(startCell)-divide,"") -> 28 | AC12: =IFERROR(IF(OR(U12="",Z12=""),"",2*COUNTIFS($Z$4:Z12,Z12,$AA$4:AA12,AA12)+INDEX($P$4:$P$16,MATCH(AA12,$B$4:$B$16,0),1)+ROW(startCell)),"") -> 9 | AD12: =AB12&"-"&AC12 -> 28-9 | AF12: =IF(ISNUMBER(MATCH(AG12,$AC$4:$AC$303,0)),MATCH(AG12,$R$4:$R$16,1),"") -> 2 | AG12: =AG11+1 -> 14 | AH12: =IFERROR(IF(OR($AF12="",AH$3>maxCol),"",IF(ISNUMBER(MATCH(AH$3+1-AH$2&"-"&$AG12,$AD$4:$AD$103,0)),$AF12,"")),"") | AI12: =IFERROR(IF(AH12="","",IF(INDEX($X$4:$X$103,MATCH(AI$3+1-AI$2&"-"&$AG12,$AD$4:$AD$103,0),1)>=AI$2,$AF12,"")),"") | AJ12: =IFERROR(IF(AH12="","",IF(INDEX($X$4:$X$103,MATCH(AJ$3+1-AJ$2&"-"&$AG12,$AD$4:$AD$103,0),1)>=AJ$2,$AF12,"")),"") | AK12: =IFERROR(IF(AH12="","",IF(INDEX($X$4:$X$103,MATCH(AK$3+1-AK$2&"-"&$AG12,$AD$4:$AD$103,0),1)>=AK$2,$AF12,"")),"") | AL12: =IFERROR(IF(AH12="","",IF(INDEX($X$4:$X$103,MATCH(AL$3+1-AL$2&"-"&$AG12,$AD$4:$AD$103,0),1)>=AL$2,$AF12,"")),"") | AM12: =IFERROR(IF(AH12="","",IF(INDEX($X$4:$X$103,MATCH(AM$3+1-AM$2&"-"&$AG12,$AD$4:$AD$103,0),1)>=AM$2,$AF12,"")),"") | AQ12: =IFERROR(IF(OR($AF12="",AQ$3>maxCol),"",IF(ISNUMBER(MATCH(AQ$3+1-AQ$2&"-"&$AG12,$AD$4:$AD$103,0)),$AF12,"")),"") | AR12: =IFERROR(IF(AQ12="","",IF(INDEX($X$4:$X$103,MATCH(AR$3+1-AR$2&"-"&$AG12,$AD$4:$AD$103,0),1)>=AR$2,$AF12,"")),"") | AS12: =IFERROR(IF(AQ12="","",IF(INDEX($X$4:$X$103,MATCH(AS$3+1-AS$2&"-"&$AG12,$AD$4:$AD$103,0),1)>=AS$2,$AF12,"")),"") | AT12: =IFERROR(IF(AQ12="","",IF(INDEX($X$4:$X$103,MATCH(AT$3+1-AT$2&"-"&$AG12,$AD$4:$AD$103,0),1)>=AT$2,$AF12,"")),"") | AU12: =IFERROR(IF(AQ12="","",IF(INDEX($X$4:$X$103,MATCH(AU$3+1-AU$2&"-"&$AG12,$AD$4:$AD$103,0),1)>=AU$2,$AF12,"")),"") | AV12: =IFERROR(IF(AQ12="","",IF(INDEX($X$4:$X$103,MATCH(AV$3+1-AV$2&"-"&$AG12,$AD$4:$AD$103,0),1)>=AV$2,$AF12,"")),"") | AZ12: =IFERROR(IF(OR($AF12="",AZ$3>maxCol),"",IF(ISNUMBER(MATCH(AZ$3+1-AZ$2&"-"&$AG12,$AD$4:$AD$103,0)),$AF12,"")),"") | BA12: =IFERROR(IF(AZ12="","",IF(INDEX($X$4:$X$103,MATCH(BA$3+1-BA$2&"-"&$AG12,$AD$4:$AD$103,0),1)>=BA$2,$AF12,"")),"") | BB12: =IFERROR(IF(AZ12="","",IF(INDEX($X$4:$X$103,MATCH(BB$3+1-BB$2&"-"&$AG12,$AD$4:$AD$103,0),1)>=BB$2,$AF12,"")),"") | BC12: =IFERROR(IF(AZ12="","",IF(INDEX($X$4:$X$103,MATCH(BC$3+1-BC$2&"-"&$AG12,$AD$4:$AD$103,0),1)>=BC$2,$AF12,"")),"") | BD12: =IFERROR(IF(AZ12="","",IF(INDEX($X$4:$X$103,MATCH(BD$3+1-BD$2&"-"&$AG12,$AD$4:$AD$103,0),1)>=BD$2,$AF12,"")),"") | BE12: =IFERROR(IF(AZ12="","",IF(INDEX($X$4:$X$103,MATCH(BE$3+1-BE$2&"-"&$AG12,$AD$4:$AD$103,0),1)>=BE$2,$AF12,"")),"") | BI12: =IFERROR(IF(OR($AF12="",BI$3>maxCol),"",IF(ISNUMBER(MATCH(BI$3+1-BI$2&"-"&$AG12,$AD$4:$AD$103,0)),$AF12,"")),"") -> 2 | BJ12: =IFERROR(IF(BI12="","",IF(INDEX($X$4:$X$103,MATCH(BJ$3+1-BJ$2&"-"&$AG12,$AD$4:$AD$103,0),1)>=BJ$2,$AF12,"")),"") -> 2 | BK12: =IFERROR(IF(BI12="","",IF(INDEX($X$4:$X$103,MATCH(BK$3+1-BK$2&"-"&$AG12,$AD$4:$AD$103,0),1)>=BK$2,$AF12,"")),"") -> 2 | BL12: =IFERROR(IF(BI12="","",IF(INDEX($X$4:$X$103,MATCH(BL$3+1-BL$2&"-"&$AG12,$AD$4:$AD$103,0),1)>=BL$2,$AF12,"")),"") -> 2 | BM12: =IFERROR(IF(BI12="","",IF(INDEX($X$4:$X$103,MATCH(BM$3+1-BM$2&"-"&$AG12,$AD$4:$AD$103,0),1)>=BM$2,$AF12,"")),"") -> 2 | BN12: =IFERROR(IF(BI12="","",IF(INDEX($X$4:$X$103,MATCH(BN$3+1-BN$2&"-"&$AG12,$AD$4:$AD$103,0),1)>=BN$2,$AF12,"")),"") -> 2 | BR12: =IFERROR(IF(OR($AF12="",BR$3>maxCol),"",IF(ISNUMBER(MATCH(BR$3+1-BR$2&"-"&$AG12,$AD$4:$AD$103,0)),$AF12,"")),"") | BS12: =IFERROR(IF(BR12="","",IF(INDEX($X$4:$X$103,MATCH(BS$3+1-BS$2&"-"&$AG12,$AD$4:$AD$103,0),1)>=BS$2,$AF12,"")),"") | BT12: =IFERROR(IF(BR12="","",IF(INDEX($X$4:$X$103,MATCH(BT$3+1-BT$2&"-"&$AG12,$AD$4:$AD$103,0),1)>=BT$2,$AF12,"")),"") | BU12: =IFERROR(IF(BR12="","",IF(INDEX($X$4:$X$103,MATCH(BU$3+1-BU$2&"-"&$AG12,$AD$4:$AD$103,0),1)>=BU$2,$AF12,"")),"") | BV12: =IFERROR(IF(BR12="","",IF(INDEX($X$4:$X$103,MATCH(BV$3+1-BV$2&"-"&$AG12,$AD$4:$AD$103,0),1)>=BV$2,$AF12,"")),"") | BW12: =IFERROR(IF(BR12="","",IF(INDEX($X$4:$X$103,MATCH(BW$3+1-BW$2&"-"&$AG12,$AD$4:$AD$103,0),1)>=BW$2,$AF12,"")),"") | CA12: =IFERROR(IF(OR($AF12="",CA$3>maxCol),"",IF(ISNUMBER(MATCH(CA$3+1-CA$2&"-"&$AG12,$AD$4:$AD$103,0)),$AF12,"")),"") | CB12: =IFERROR(IF(CA12="","",IF(INDEX($X$4:$X$103,MATCH(CB$3+1-CB$2&"-"&$AG12,$AD$4:$AD$103,0),1)>=CB$2,$AF12,"")),"") | CC12: =IFERROR(IF(CA12="","",IF(INDEX($X$4:$X$103,MATCH(CC$3+1-CC$2&"-"&$AG12,$AD$4:$AD$103,0),1)>=CC$2,$AF12,"")),"") | CD12: =IFERROR(IF(CA12="","",IF(INDEX($X$4:$X$103,MATCH(CD$3+1-CD$2&"-"&$AG12,$AD$4:$AD$103,0),1)>=CD$2,$AF12,"")),"") | CE12: =IFERROR(IF(CA12="","",IF(INDEX($X$4:$X$103,MATCH(CE$3+1-CE$2&"-"&$AG12,$AD$4:$AD$103,0),1)>=CE$2,$AF12,"")),"") | CF12: =IFERROR(IF(CA12="","",IF(INDEX($X$4:$X$103,MATCH(CF$3+1-CF$2&"-"&$AG12,$AD$4:$AD$103,0),1)>=CF$2,$AF12,"")),"") | CJ12: =IFERROR(IF(OR($AF12="",CJ$3>maxCol),"",IF(ISNUMBER(MATCH(CJ$3+1-CJ$2&"-"&$AG12,$AD$4:$AD$103,0)),$AF12,"")),"") | CK12: =IFERROR(IF(CJ12="","",IF(INDEX($X$4:$X$103,MATCH(CK$3+1-CK$2&"-"&$AG12,$AD$4:$AD$103,0),1)>=CK$2,$AF12,"")),"") | CL12: =IFERROR(IF(CJ12="","",IF(INDEX($X$4:$X$103,MATCH(CL$3+1-CL$2&"-"&$AG12,$AD$4:$AD$103,0),1)>=CL$2,$AF12,"")),"") | CM12: =IFERROR(IF(CJ12="","",IF(INDEX($X$4:$X$103,MATCH(CM$3+1-CM$2&"-"&$AG12,$AD$4:$AD$103,0),1)>=CM$2,$AF12,"")),"") | CN12: =IFERROR(IF(CJ12="","",IF(INDEX($X$4:$X$103,MATCH(CN$3+1-CN$2&"-"&$AG12,$AD$4:$AD$103,0),1)>=CN$2,$AF12,"")),"") | CO12: =IFERROR(IF(CJ12="","",IF(INDEX($X$4:$X$103,MATCH(CO$3+1-CO$2&"-"&$AG12,$AD$4:$AD$103,0),1)>=CO$2,$AF12,"")),"") | CS12: =IFERROR(IF(OR($AF12="",CS$3>maxCol),"",IF(ISNUMBER(MATCH(CS$3+1-CS$2&"-"&$AG12,$AD$4:$AD$103,0)),$AF12,"")),"") | CT12: =IFERROR(IF(CS12="","",IF(INDEX($X$4:$X$103,MATCH(CT$3+1-CT$2&"-"&$AG12,$AD$4:$AD$103,0),1)>=CT$2,$AF12,"")),"") | CU12: =IFERROR(IF(CS12="","",IF(INDEX($X$4:$X$103,MATCH(CU$3+1-CU$2&"-"&$AG12,$AD$4:$AD$103,0),1)>=CU$2,$AF12,"")),"") | CV12: =IFERROR(IF(CS12="","",IF(INDEX($X$4:$X$103,MATCH(CV$3+1-CV$2&"-"&$AG12,$AD$4:$AD$103,0),1)>=CV$2,$AF12,"")),"") | CW12: =IFERROR(IF(CS12="","",IF(INDEX($X$4:$X$103,MATCH(CW$3+1-CW$2&"-"&$AG12,$AD$4:$AD$103,0),1)>=CW$2,$AF12,"")),"") | CX12: =IFERROR(IF(CS12="","",IF(INDEX($X$4:$X$103,MATCH(CX$3+1-CX$2&"-"&$AG12,$AD$4:$AD$103,0),1)>=CX$2,$AF12,"")),"") | DB12: =IFERROR(IF(OR($AF12="",DB$3>maxCol),"",IF(ISNUMBER(MATCH(DB$3+1-DB$2&"-"&$AG12,$AD$4:$AD$103,0)),$AF12,"")),"") | DC12: =IFERROR(IF(DB12="","",IF(INDEX($X$4:$X$103,MATCH(DC$3+1-DC$2&"-"&$AG12,$AD$4:$AD$103,0),1)>=DC$2,$AF12,"")),"") | DD12: =IFERROR(IF(DB12="","",IF(INDEX($X$4:$X$103,MATCH(DD$3+1-DD$2&"-"&$AG12,$AD$4:$AD$103,0),1)>=DD$2,$AF12,"")),"") | DE12: =IFERROR(IF(DB12="","",IF(INDEX($X$4:$X$103,MATCH(DE$3+1-DE$2&"-"&$AG12,$AD$4:$AD$103,0),1)>=DE$2,$AF12,"")),"") | DF12: =IFERROR(IF(DB12="","",IF(INDEX($X$4:$X$103,MATCH(DF$3+1-DF$2&"-"&$AG12,$AD$4:$AD$103,0),1)>=DF$2,$AF12,"")),"") | DG12: =IFERROR(IF(DB12="","",IF(INDEX($X$4:$X$103,MATCH(DG$3+1-DG$2&"-"&$AG12,$AD$4:$AD$103,0),1)>=DG$2,$AF12,"")),"") | DK12: =IFERROR(IF(OR($AF12="",DK$3>maxCol),"",IF(ISNUMBER(MATCH(DK$3+1-DK$2&"-"&$AG12,$AD$4:$AD$103,0)),$AF12,"")),"") | DL12: =IFERROR(IF(DK12="","",IF(INDEX($X$4:$X$103,MATCH(DL$3+1-DL$2&"-"&$AG12,$AD$4:$AD$103,0),1)>=DL$2,$AF12,"")),"") | DM12: =IFERROR(IF(DK12="","",IF(INDEX($X$4:$X$103,MATCH(DM$3+1-DM$2&"-"&$AG12,$AD$4:$AD$103,0),1)>=DM$2,$AF12,"")),"") | DN12: =IFERROR(IF(DK12="","",IF(INDEX($X$4:$X$103,MATCH(DN$3+1-DN$2&"-"&$AG12,$AD$4:$AD$103,0),1)>=DN$2,$AF12,"")),"") | DO12: =IFERROR(IF(DK12="","",IF(INDEX($X$4:$X$103,MATCH(DO$3+1-DO$2&"-"&$AG12,$AD$4:$AD$103,0),1)>=DO$2,$AF12,"")),"") | DP12: =IFERROR(IF(DK12="","",IF(INDEX($X$4:$X$103,MATCH(DP$3+1-DP$2&"-"&$AG12,$AD$4:$AD$103,0),1)>=DP$2,$AF12,"")),"")
B13: =IF(LEN(Settings!E16)>0,Settings!E16,"Empty-"&ROW()) -> Empty-13 | C13: =COUNTIFS($AA$4:$AA$103,$B13,$Z$4:$Z$103,C$3) -> 0 | D13: =COUNTIFS($AA$4:$AA$103,$B13,$Z$4:$Z$103,D$3) -> 0 | E13: =COUNTIFS($AA$4:$AA$103,$B13,$Z$4:$Z$103,E$3) -> 0 | F13: =COUNTIFS($AA$4:$AA$103,$B13,$Z$4:$Z$103,F$3) -> 0 | G13: =COUNTIFS($AA$4:$AA$103,$B13,$Z$4:$Z$103,G$3) -> 0 | H13: =COUNTIFS($AA$4:$AA$103,$B13,$Z$4:$Z$103,H$3) -> 0 | I13: =COUNTIFS($AA$4:$AA$103,$B13,$Z$4:$Z$103,I$3) -> 0 | J13: =COUNTIFS($AA$4:$AA$103,$B13,$Z$4:$Z$103,J$3) -> 0 | ... L13: =COUNTIFS($AA$4:$AA$103,$B13,$Z$4:$Z$103,L$3) -> 0 | M13: =MAX(C13:L13) -> 0 | N13: =IF(M13=0,"",B13) | O13: =IF(M13>0,M13*2+1,M13) -> 0 | P13: =SUM($O$4:O12) -> 20 | Q13: =P14+ROW(startCell) -> 25 | R13: =Q12 -> 25 | T13: 10 | U13: =IFERROR(TRIM(W13&" "&INDEX(Roadmap!B$6:B$105,$T13,1)),"") -> Product pricing | V13: =IF(LEN(U13)>Y13,LEFT(U13,Y13)&"…",U13) -> Product pricing | W13: =IFERROR(INDEX(Roadmap!C$6:C$105,$T13,1)&"","") | X13: =IF(LEN(U13)>0,IFERROR(INDEX(Settings!$I$7:$I$9,MATCH(INDEX(Roadmap!D$6:D$105,$T13,1),Settings!$H$7:$H$9,0),1),large),"") -> 6 | Y13: =IFERROR(INDEX(Settings!$J$7:$J$9,MATCH(INDEX(Roadmap!D$6:D$105,$T13,1),Settings!$H$7:$H$9,0),1),300) -> 35 | Z13: =IFERROR(IF(LEN($U13)=0,"",INDEX(Roadmap!E$6:E$105,$T13,1)&""),"") -> Q3 - 2022 | AA13: =IFERROR(IF(LEN($U13)=0,"",INDEX(Roadmap!F$6:F$105,$T13,1)&""),"") -> Sales | AB13: =IFERROR((MATCH(Z13,$C$3:$L$3,0))*divide+COLUMN(startCell)-divide,"") -> 28 | AC13: =IFERROR(IF(OR(U13="",Z13=""),"",2*COUNTIFS($Z$4:Z13,Z13,$AA$4:AA13,AA13)+INDEX($P$4:$P$16,MATCH(AA13,$B$4:$B$16,0),1)+ROW(startCell)),"") -> 19 | AD13: =AB13&"-"&AC13 -> 28-19 | AF13: =IF(ISNUMBER(MATCH(AG13,$AC$4:$AC$303,0)),MATCH(AG13,$R$4:$R$16,1),"") | AG13: =AG12+1 -> 15 | AH13: =IFERROR(IF(OR($AF13="",AH$3>maxCol),"",IF(ISNUMBER(MATCH(AH$3+1-AH$2&"-"&$AG13,$AD$4:$AD$103,0)),$AF13,"")),"") | AI13: =IFERROR(IF(AH13="","",IF(INDEX($X$4:$X$103,MATCH(AI$3+1-AI$2&"-"&$AG13,$AD$4:$AD$103,0),1)>=AI$2,$AF13,"")),"") | AJ13: =IFERROR(IF(AH13="","",IF(INDEX($X$4:$X$103,MATCH(AJ$3+1-AJ$2&"-"&$AG13,$AD$4:$AD$103,0),1)>=AJ$2,$AF13,"")),"") | AK13: =IFERROR(IF(AH13="","",IF(INDEX($X$4:$X$103,MATCH(AK$3+1-AK$2&"-"&$AG13,$AD$4:$AD$103,0),1)>=AK$2,$AF13,"")),"") | AL13: =IFERROR(IF(AH13="","",IF(INDEX($X$4:$X$103,MATCH(AL$3+1-AL$2&"-"&$AG13,$AD$4:$AD$103,0),1)>=AL$2,$AF13,"")),"") | AM13: =IFERROR(IF(AH13="","",IF(INDEX($X$4:$X$103,MATCH(AM$3+1-AM$2&"-"&$AG13,$AD$4:$AD$103,0),1)>=AM$2,$AF13,"")),"") | AQ13: =IFERROR(IF(OR($AF13="",AQ$3>maxCol),"",IF(ISNUMBER(MATCH(AQ$3+1-AQ$2&"-"&$AG13,$AD$4:$AD$103,0)),$AF13,"")),"") | AR13: =IFERROR(IF(AQ13="","",IF(INDEX($X$4:$X$103,MATCH(AR$3+1-AR$2&"-"&$AG13,$AD$4:$AD$103,0),1)>=AR$2,$AF13,"")),"") | AS13: =IFERROR(IF(AQ13="","",IF(INDEX($X$4:$X$103,MATCH(AS$3+1-AS$2&"-"&$AG13,$AD$4:$AD$103,0),1)>=AS$2,$AF13,"")),"") | AT13: =IFERROR(IF(AQ13="","",IF(INDEX($X$4:$X$103,MATCH(AT$3+1-AT$2&"-"&$AG13,$AD$4:$AD$103,0),1)>=AT$2,$AF13,"")),"") | AU13: =IFERROR(IF(AQ13="","",IF(INDEX($X$4:$X$103,MATCH(AU$3+1-AU$2&"-"&$AG13,$AD$4:$AD$103,0),1)>=AU$2,$AF13,"")),"") | AV13: =IFERROR(IF(AQ13="","",IF(INDEX($X$4:$X$103,MATCH(AV$3+1-AV$2&"-"&$AG13,$AD$4:$AD$103,0),1)>=AV$2,$AF13,"")),"") | AZ13: =IFERROR(IF(OR($AF13="",AZ$3>maxCol),"",IF(ISNUMBER(MATCH(AZ$3+1-AZ$2&"-"&$AG13,$AD$4:$AD$103,0)),$AF13,"")),"") | BA13: =IFERROR(IF(AZ13="","",IF(INDEX($X$4:$X$103,MATCH(BA$3+1-BA$2&"-"&$AG13,$AD$4:$AD$103,0),1)>=BA$2,$AF13,"")),"") | BB13: =IFERROR(IF(AZ13="","",IF(INDEX($X$4:$X$103,MATCH(BB$3+1-BB$2&"-"&$AG13,$AD$4:$AD$103,0),1)>=BB$2,$AF13,"")),"") | BC13: =IFERROR(IF(AZ13="","",IF(INDEX($X$4:$X$103,MATCH(BC$3+1-BC$2&"-"&$AG13,$AD$4:$AD$103,0),1)>=BC$2,$AF13,"")),"") | BD13: =IFERROR(IF(AZ13="","",IF(INDEX($X$4:$X$103,MATCH(BD$3+1-BD$2&"-"&$AG13,$AD$4:$AD$103,0),1)>=BD$2,$AF13,"")),"") | BE13: =IFERROR(IF(AZ13="","",IF(INDEX($X$4:$X$103,MATCH(BE$3+1-BE$2&"-"&$AG13,$AD$4:$AD$103,0),1)>=BE$2,$AF13,"")),"") | BI13: =IFERROR(IF(OR($AF13="",BI$3>maxCol),"",IF(ISNUMBER(MATCH(BI$3+1-BI$2&"-"&$AG13,$AD$4:$AD$103,0)),$AF13,"")),"") | BJ13: =IFERROR(IF(BI13="","",IF(INDEX($X$4:$X$103,MATCH(BJ$3+1-BJ$2&"-"&$AG13,$AD$4:$AD$103,0),1)>=BJ$2,$AF13,"")),"") | BK13: =IFERROR(IF(BI13="","",IF(INDEX($X$4:$X$103,MATCH(BK$3+1-BK$2&"-"&$AG13,$AD$4:$AD$103,0),1)>=BK$2,$AF13,"")),"") | BL13: =IFERROR(IF(BI13="","",IF(INDEX($X$4:$X$103,MATCH(BL$3+1-BL$2&"-"&$AG13,$AD$4:$AD$103,0),1)>=BL$2,$AF13,"")),"") | BM13: =IFERROR(IF(BI13="","",IF(INDEX($X$4:$X$103,MATCH(BM$3+1-BM$2&"-"&$AG13,$AD$4:$AD$103,0),1)>=BM$2,$AF13,"")),"") | BN13: =IFERROR(IF(BI13="","",IF(INDEX($X$4:$X$103,MATCH(BN$3+1-BN$2&"-"&$AG13,$AD$4:$AD$103,0),1)>=BN$2,$AF13,"")),"") | BR13: =IFERROR(IF(OR($AF13="",BR$3>maxCol),"",IF(ISNUMBER(MATCH(BR$3+1-BR$2&"-"&$AG13,$AD$4:$AD$103,0)),$AF13,"")),"") | BS13: =IFERROR(IF(BR13="","",IF(INDEX($X$4:$X$103,MATCH(BS$3+1-BS$2&"-"&$AG13,$AD$4:$AD$103,0),1)>=BS$2,$AF13,"")),"") | BT13: =IFERROR(IF(BR13="","",IF(INDEX($X$4:$X$103,MATCH(BT$3+1-BT$2&"-"&$AG13,$AD$4:$AD$103,0),1)>=BT$2,$AF13,"")),"") | BU13: =IFERROR(IF(BR13="","",IF(INDEX($X$4:$X$103,MATCH(BU$3+1-BU$2&"-"&$AG13,$AD$4:$AD$103,0),1)>=BU$2,$AF13,"")),"") | BV13: =IFERROR(IF(BR13="","",IF(INDEX($X$4:$X$103,MATCH(BV$3+1-BV$2&"-"&$AG13,$AD$4:$AD$103,0),1)>=BV$2,$AF13,"")),"") | BW13: =IFERROR(IF(BR13="","",IF(INDEX($X$4:$X$103,MATCH(BW$3+1-BW$2&"-"&$AG13,$AD$4:$AD$103,0),1)>=BW$2,$AF13,"")),"") | CA13: =IFERROR(IF(OR($AF13="",CA$3>maxCol),"",IF(ISNUMBER(MATCH(CA$3+1-CA$2&"-"&$AG13,$AD$4:$AD$103,0)),$AF13,"")),"") | CB13: =IFERROR(IF(CA13="","",IF(INDEX($X$4:$X$103,MATCH(CB$3+1-CB$2&"-"&$AG13,$AD$4:$AD$103,0),1)>=CB$2,$AF13,"")),"") | CC13: =IFERROR(IF(CA13="","",IF(INDEX($X$4:$X$103,MATCH(CC$3+1-CC$2&"-"&$AG13,$AD$4:$AD$103,0),1)>=CC$2,$AF13,"")),"") | CD13: =IFERROR(IF(CA13="","",IF(INDEX($X$4:$X$103,MATCH(CD$3+1-CD$2&"-"&$AG13,$AD$4:$AD$103,0),1)>=CD$2,$AF13,"")),"") | CE13: =IFERROR(IF(CA13="","",IF(INDEX($X$4:$X$103,MATCH(CE$3+1-CE$2&"-"&$AG13,$AD$4:$AD$103,0),1)>=CE$2,$AF13,"")),"") | CF13: =IFERROR(IF(CA13="","",IF(INDEX($X$4:$X$103,MATCH(CF$3+1-CF$2&"-"&$AG13,$AD$4:$AD$103,0),1)>=CF$2,$AF13,"")),"") | CJ13: =IFERROR(IF(OR($AF13="",CJ$3>maxCol),"",IF(ISNUMBER(MATCH(CJ$3+1-CJ$2&"-"&$AG13,$AD$4:$AD$103,0)),$AF13,"")),"") | CK13: =IFERROR(IF(CJ13="","",IF(INDEX($X$4:$X$103,MATCH(CK$3+1-CK$2&"-"&$AG13,$AD$4:$AD$103,0),1)>=CK$2,$AF13,"")),"") | CL13: =IFERROR(IF(CJ13="","",IF(INDEX($X$4:$X$103,MATCH(CL$3+1-CL$2&"-"&$AG13,$AD$4:$AD$103,0),1)>=CL$2,$AF13,"")),"") | CM13: =IFERROR(IF(CJ13="","",IF(INDEX($X$4:$X$103,MATCH(CM$3+1-CM$2&"-"&$AG13,$AD$4:$AD$103,0),1)>=CM$2,$AF13,"")),"") | CN13: =IFERROR(IF(CJ13="","",IF(INDEX($X$4:$X$103,MATCH(CN$3+1-CN$2&"-"&$AG13,$AD$4:$AD$103,0),1)>=CN$2,$AF13,"")),"") | CO13: =IFERROR(IF(CJ13="","",IF(INDEX($X$4:$X$103,MATCH(CO$3+1-CO$2&"-"&$AG13,$AD$4:$AD$103,0),1)>=CO$2,$AF13,"")),"") | CS13: =IFERROR(IF(OR($AF13="",CS$3>maxCol),"",IF(ISNUMBER(MATCH(CS$3+1-CS$2&"-"&$AG13,$AD$4:$AD$103,0)),$AF13,"")),"") | CT13: =IFERROR(IF(CS13="","",IF(INDEX($X$4:$X$103,MATCH(CT$3+1-CT$2&"-"&$AG13,$AD$4:$AD$103,0),1)>=CT$2,$AF13,"")),"") | CU13: =IFERROR(IF(CS13="","",IF(INDEX($X$4:$X$103,MATCH(CU$3+1-CU$2&"-"&$AG13,$AD$4:$AD$103,0),1)>=CU$2,$AF13,"")),"") | CV13: =IFERROR(IF(CS13="","",IF(INDEX($X$4:$X$103,MATCH(CV$3+1-CV$2&"-"&$AG13,$AD$4:$AD$103,0),1)>=CV$2,$AF13,"")),"") | CW13: =IFERROR(IF(CS13="","",IF(INDEX($X$4:$X$103,MATCH(CW$3+1-CW$2&"-"&$AG13,$AD$4:$AD$103,0),1)>=CW$2,$AF13,"")),"") | CX13: =IFERROR(IF(CS13="","",IF(INDEX($X$4:$X$103,MATCH(CX$3+1-CX$2&"-"&$AG13,$AD$4:$AD$103,0),1)>=CX$2,$AF13,"")),"") | DB13: =IFERROR(IF(OR($AF13="",DB$3>maxCol),"",IF(ISNUMBER(MATCH(DB$3+1-DB$2&"-"&$AG13,$AD$4:$AD$103,0)),$AF13,"")),"") | DC13: =IFERROR(IF(DB13="","",IF(INDEX($X$4:$X$103,MATCH(DC$3+1-DC$2&"-"&$AG13,$AD$4:$AD$103,0),1)>=DC$2,$AF13,"")),"") | DD13: =IFERROR(IF(DB13="","",IF(INDEX($X$4:$X$103,MATCH(DD$3+1-DD$2&"-"&$AG13,$AD$4:$AD$103,0),1)>=DD$2,$AF13,"")),"") | DE13: =IFERROR(IF(DB13="","",IF(INDEX($X$4:$X$103,MATCH(DE$3+1-DE$2&"-"&$AG13,$AD$4:$AD$103,0),1)>=DE$2,$AF13,"")),"") | DF13: =IFERROR(IF(DB13="","",IF(INDEX($X$4:$X$103,MATCH(DF$3+1-DF$2&"-"&$AG13,$AD$4:$AD$103,0),1)>=DF$2,$AF13,"")),"") | DG13: =IFERROR(IF(DB13="","",IF(INDEX($X$4:$X$103,MATCH(DG$3+1-DG$2&"-"&$AG13,$AD$4:$AD$103,0),1)>=DG$2,$AF13,"")),"") | DK13: =IFERROR(IF(OR($AF13="",DK$3>maxCol),"",IF(ISNUMBER(MATCH(DK$3+1-DK$2&"-"&$AG13,$AD$4:$AD$103,0)),$AF13,"")),"") | DL13: =IFERROR(IF(DK13="","",IF(INDEX($X$4:$X$103,MATCH(DL$3+1-DL$2&"-"&$AG13,$AD$4:$AD$103,0),1)>=DL$2,$AF13,"")),"") | DM13: =IFERROR(IF(DK13="","",IF(INDEX($X$4:$X$103,MATCH(DM$3+1-DM$2&"-"&$AG13,$AD$4:$AD$103,0),1)>=DM$2,$AF13,"")),"") | DN13: =IFERROR(IF(DK13="","",IF(INDEX($X$4:$X$103,MATCH(DN$3+1-DN$2&"-"&$AG13,$AD$4:$AD$103,0),1)>=DN$2,$AF13,"")),"") | DO13: =IFERROR(IF(DK13="","",IF(INDEX($X$4:$X$103,MATCH(DO$3+1-DO$2&"-"&$AG13,$AD$4:$AD$103,0),1)>=DO$2,$AF13,"")),"") | DP13: =IFERROR(IF(DK13="","",IF(INDEX($X$4:$X$103,MATCH(DP$3+1-DP$2&"-"&$AG13,$AD$4:$AD$103,0),1)>=DP$2,$AF13,"")),"")
B14: =IF(LEN(Settings!E17)>0,Settings!E17,"Empty-"&ROW()) -> Empty-14 | C14: =COUNTIFS($AA$4:$AA$103,$B14,$Z$4:$Z$103,C$3) -> 0 | D14: =COUNTIFS($AA$4:$AA$103,$B14,$Z$4:$Z$103,D$3) -> 0 | E14: =COUNTIFS($AA$4:$AA$103,$B14,$Z$4:$Z$103,E$3) -> 0 | F14: =COUNTIFS($AA$4:$AA$103,$B14,$Z$4:$Z$103,F$3) -> 0 | G14: =COUNTIFS($AA$4:$AA$103,$B14,$Z$4:$Z$103,G$3) -> 0 | H14: =COUNTIFS($AA$4:$AA$103,$B14,$Z$4:$Z$103,H$3) -> 0 | I14: =COUNTIFS($AA$4:$AA$103,$B14,$Z$4:$Z$103,I$3) -> 0 | J14: =COUNTIFS($AA$4:$AA$103,$B14,$Z$4:$Z$103,J$3) -> 0 | ... L14: =COUNTIFS($AA$4:$AA$103,$B14,$Z$4:$Z$103,L$3) -> 0 | M14: =MAX(C14:L14) -> 0 | N14: =IF(M14=0,"",B14) | O14: =IF(M14>0,M14*2+1,M14) -> 0 | P14: =SUM($O$4:O13) -> 20 | Q14: =P15+ROW(startCell) -> 25 | R14: =Q13 -> 25 | T14: 11 | U14: =IFERROR(TRIM(W14&" "&INDEX(Roadmap!B$6:B$105,$T14,1)),"") -> Sales Campaign | V14: =IF(LEN(U14)>Y14,LEFT(U14,Y14)&"…",U14) -> Sales Campaign | W14: =IFERROR(INDEX(Roadmap!C$6:C$105,$T14,1)&"","") | X14: =IF(LEN(U14)>0,IFERROR(INDEX(Settings!$I$7:$I$9,MATCH(INDEX(Roadmap!D$6:D$105,$T14,1),Settings!$H$7:$H$9,0),1),large),"") -> 4 | Y14: =IFERROR(INDEX(Settings!$J$7:$J$9,MATCH(INDEX(Roadmap!D$6:D$105,$T14,1),Settings!$H$7:$H$9,0),1),300) -> 30 | Z14: =IFERROR(IF(LEN($U14)=0,"",INDEX(Roadmap!E$6:E$105,$T14,1)&""),"") -> Q4 - 2022 | AA14: =IFERROR(IF(LEN($U14)=0,"",INDEX(Roadmap!F$6:F$105,$T14,1)&""),"") -> Marketing | AB14: =IFERROR((MATCH(Z14,$C$3:$L$3,0))*divide+COLUMN(startCell)-divide,"") -> 37 | AC14: =IFERROR(IF(OR(U14="",Z14=""),"",2*COUNTIFS($Z$4:Z14,Z14,$AA$4:AA14,AA14)+INDEX($P$4:$P$16,MATCH(AA14,$B$4:$B$16,0),1)+ROW(startCell)),"") -> 12 | AD14: =AB14&"-"&AC14 -> 37-12 | AF14: =IF(ISNUMBER(MATCH(AG14,$AC$4:$AC$303,0)),MATCH(AG14,$R$4:$R$16,1),"") | AG14: =AG13+1 -> 16 | AH14: =IFERROR(IF(OR($AF14="",AH$3>maxCol),"",IF(ISNUMBER(MATCH(AH$3+1-AH$2&"-"&$AG14,$AD$4:$AD$103,0)),$AF14,"")),"") | AI14: =IFERROR(IF(AH14="","",IF(INDEX($X$4:$X$103,MATCH(AI$3+1-AI$2&"-"&$AG14,$AD$4:$AD$103,0),1)>=AI$2,$AF14,"")),"") | AJ14: =IFERROR(IF(AH14="","",IF(INDEX($X$4:$X$103,MATCH(AJ$3+1-AJ$2&"-"&$AG14,$AD$4:$AD$103,0),1)>=AJ$2,$AF14,"")),"") | AK14: =IFERROR(IF(AH14="","",IF(INDEX($X$4:$X$103,MATCH(AK$3+1-AK$2&"-"&$AG14,$AD$4:$AD$103,0),1)>=AK$2,$AF14,"")),"") | AL14: =IFERROR(IF(AH14="","",IF(INDEX($X$4:$X$103,MATCH(AL$3+1-AL$2&"-"&$AG14,$AD$4:$AD$103,0),1)>=AL$2,$AF14,"")),"") | AM14: =IFERROR(IF(AH14="","",IF(INDEX($X$4:$X$103,MATCH(AM$3+1-AM$2&"-"&$AG14,$AD$4:$AD$103,0),1)>=AM$2,$AF14,"")),"") | AQ14: =IFERROR(IF(OR($AF14="",AQ$3>maxCol),"",IF(ISNUMBER(MATCH(AQ$3+1-AQ$2&"-"&$AG14,$AD$4:$AD$103,0)),$AF14,"")),"") | AR14: =IFERROR(IF(AQ14="","",IF(INDEX($X$4:$X$103,MATCH(AR$3+1-AR$2&"-"&$AG14,$AD$4:$AD$103,0),1)>=AR$2,$AF14,"")),"") | AS14: =IFERROR(IF(AQ14="","",IF(INDEX($X$4:$X$103,MATCH(AS$3+1-AS$2&"-"&$AG14,$AD$4:$AD$103,0),1)>=AS$2,$AF14,"")),"") | AT14: =IFERROR(IF(AQ14="","",IF(INDEX($X$4:$X$103,MATCH(AT$3+1-AT$2&"-"&$AG14,$AD$4:$AD$103,0),1)>=AT$2,$AF14,"")),"") | AU14: =IFERROR(IF(AQ14="","",IF(INDEX($X$4:$X$103,MATCH(AU$3+1-AU$2&"-"&$AG14,$AD$4:$AD$103,0),1)>=AU$2,$AF14,"")),"") | AV14: =IFERROR(IF(AQ14="","",IF(INDEX($X$4:$X$103,MATCH(AV$3+1-AV$2&"-"&$AG14,$AD$4:$AD$103,0),1)>=AV$2,$AF14,"")),"") | AZ14: =IFERROR(IF(OR($AF14="",AZ$3>maxCol),"",IF(ISNUMBER(MATCH(AZ$3+1-AZ$2&"-"&$AG14,$AD$4:$AD$103,0)),$AF14,"")),"") | BA14: =IFERROR(IF(AZ14="","",IF(INDEX($X$4:$X$103,MATCH(BA$3+1-BA$2&"-"&$AG14,$AD$4:$AD$103,0),1)>=BA$2,$AF14,"")),"") | BB14: =IFERROR(IF(AZ14="","",IF(INDEX($X$4:$X$103,MATCH(BB$3+1-BB$2&"-"&$AG14,$AD$4:$AD$103,0),1)>=BB$2,$AF14,"")),"") | BC14: =IFERROR(IF(AZ14="","",IF(INDEX($X$4:$X$103,MATCH(BC$3+1-BC$2&"-"&$AG14,$AD$4:$AD$103,0),1)>=BC$2,$AF14,"")),"") | BD14: =IFERROR(IF(AZ14="","",IF(INDEX($X$4:$X$103,MATCH(BD$3+1-BD$2&"-"&$AG14,$AD$4:$AD$103,0),1)>=BD$2,$AF14,"")),"") | BE14: =IFERROR(IF(AZ14="","",IF(INDEX($X$4:$X$103,MATCH(BE$3+1-BE$2&"-"&$AG14,$AD$4:$AD$103,0),1)>=BE$2,$AF14,"")),"") | BI14: =IFERROR(IF(OR($AF14="",BI$3>maxCol),"",IF(ISNUMBER(MATCH(BI$3+1-BI$2&"-"&$AG14,$AD$4:$AD$103,0)),$AF14,"")),"") | BJ14: =IFERROR(IF(BI14="","",IF(INDEX($X$4:$X$103,MATCH(BJ$3+1-BJ$2&"-"&$AG14,$AD$4:$AD$103,0),1)>=BJ$2,$AF14,"")),"") | BK14: =IFERROR(IF(BI14="","",IF(INDEX($X$4:$X$103,MATCH(BK$3+1-BK$2&"-"&$AG14,$AD$4:$AD$103,0),1)>=BK$2,$AF14,"")),"") | BL14: =IFERROR(IF(BI14="","",IF(INDEX($X$4:$X$103,MATCH(BL$3+1-BL$2&"-"&$AG14,$AD$4:$AD$103,0),1)>=BL$2,$AF14,"")),"") | BM14: =IFERROR(IF(BI14="","",IF(INDEX($X$4:$X$103,MATCH(BM$3+1-BM$2&"-"&$AG14,$AD$4:$AD$103,0),1)>=BM$2,$AF14,"")),"") | BN14: =IFERROR(IF(BI14="","",IF(INDEX($X$4:$X$103,MATCH(BN$3+1-BN$2&"-"&$AG14,$AD$4:$AD$103,0),1)>=BN$2,$AF14,"")),"") | BR14: =IFERROR(IF(OR($AF14="",BR$3>maxCol),"",IF(ISNUMBER(MATCH(BR$3+1-BR$2&"-"&$AG14,$AD$4:$AD$103,0)),$AF14,"")),"") | BS14: =IFERROR(IF(BR14="","",IF(INDEX($X$4:$X$103,MATCH(BS$3+1-BS$2&"-"&$AG14,$AD$4:$AD$103,0),1)>=BS$2,$AF14,"")),"") | BT14: =IFERROR(IF(BR14="","",IF(INDEX($X$4:$X$103,MATCH(BT$3+1-BT$2&"-"&$AG14,$AD$4:$AD$103,0),1)>=BT$2,$AF14,"")),"") | BU14: =IFERROR(IF(BR14="","",IF(INDEX($X$4:$X$103,MATCH(BU$3+1-BU$2&"-"&$AG14,$AD$4:$AD$103,0),1)>=BU$2,$AF14,"")),"") | BV14: =IFERROR(IF(BR14="","",IF(INDEX($X$4:$X$103,MATCH(BV$3+1-BV$2&"-"&$AG14,$AD$4:$AD$103,0),1)>=BV$2,$AF14,"")),"") | BW14: =IFERROR(IF(BR14="","",IF(INDEX($X$4:$X$103,MATCH(BW$3+1-BW$2&"-"&$AG14,$AD$4:$AD$103,0),1)>=BW$2,$AF14,"")),"") | CA14: =IFERROR(IF(OR($AF14="",CA$3>maxCol),"",IF(ISNUMBER(MATCH(CA$3+1-CA$2&"-"&$AG14,$AD$4:$AD$103,0)),$AF14,"")),"") | CB14: =IFERROR(IF(CA14="","",IF(INDEX($X$4:$X$103,MATCH(CB$3+1-CB$2&"-"&$AG14,$AD$4:$AD$103,0),1)>=CB$2,$AF14,"")),"") | CC14: =IFERROR(IF(CA14="","",IF(INDEX($X$4:$X$103,MATCH(CC$3+1-CC$2&"-"&$AG14,$AD$4:$AD$103,0),1)>=CC$2,$AF14,"")),"") | CD14: =IFERROR(IF(CA14="","",IF(INDEX($X$4:$X$103,MATCH(CD$3+1-CD$2&"-"&$AG14,$AD$4:$AD$103,0),1)>=CD$2,$AF14,"")),"") | CE14: =IFERROR(IF(CA14="","",IF(INDEX($X$4:$X$103,MATCH(CE$3+1-CE$2&"-"&$AG14,$AD$4:$AD$103,0),1)>=CE$2,$AF14,"")),"") | CF14: =IFERROR(IF(CA14="","",IF(INDEX($X$4:$X$103,MATCH(CF$3+1-CF$2&"-"&$AG14,$AD$4:$AD$103,0),1)>=CF$2,$AF14,"")),"") | CJ14: =IFERROR(IF(OR($AF14="",CJ$3>maxCol),"",IF(ISNUMBER(MATCH(CJ$3+1-CJ$2&"-"&$AG14,$AD$4:$AD$103,0)),$AF14,"")),"") | CK14: =IFERROR(IF(CJ14="","",IF(INDEX($X$4:$X$103,MATCH(CK$3+1-CK$2&"-"&$AG14,$AD$4:$AD$103,0),1)>=CK$2,$AF14,"")),"") | CL14: =IFERROR(IF(CJ14="","",IF(INDEX($X$4:$X$103,MATCH(CL$3+1-CL$2&"-"&$AG14,$AD$4:$AD$103,0),1)>=CL$2,$AF14,"")),"") | CM14: =IFERROR(IF(CJ14="","",IF(INDEX($X$4:$X$103,MATCH(CM$3+1-CM$2&"-"&$AG14,$AD$4:$AD$103,0),1)>=CM$2,$AF14,"")),"") | CN14: =IFERROR(IF(CJ14="","",IF(INDEX($X$4:$X$103,MATCH(CN$3+1-CN$2&"-"&$AG14,$AD$4:$AD$103,0),1)>=CN$2,$AF14,"")),"") | CO14: =IFERROR(IF(CJ14="","",IF(INDEX($X$4:$X$103,MATCH(CO$3+1-CO$2&"-"&$AG14,$AD$4:$AD$103,0),1)>=CO$2,$AF14,"")),"") | CS14: =IFERROR(IF(OR($AF14="",CS$3>maxCol),"",IF(ISNUMBER(MATCH(CS$3+1-CS$2&"-"&$AG14,$AD$4:$AD$103,0)),$AF14,"")),"") | CT14: =IFERROR(IF(CS14="","",IF(INDEX($X$4:$X$103,MATCH(CT$3+1-CT$2&"-"&$AG14,$AD$4:$AD$103,0),1)>=CT$2,$AF14,"")),"") | CU14: =IFERROR(IF(CS14="","",IF(INDEX($X$4:$X$103,MATCH(CU$3+1-CU$2&"-"&$AG14,$AD$4:$AD$103,0),1)>=CU$2,$AF14,"")),"") | CV14: =IFERROR(IF(CS14="","",IF(INDEX($X$4:$X$103,MATCH(CV$3+1-CV$2&"-"&$AG14,$AD$4:$AD$103,0),1)>=CV$2,$AF14,"")),"") | CW14: =IFERROR(IF(CS14="","",IF(INDEX($X$4:$X$103,MATCH(CW$3+1-CW$2&"-"&$AG14,$AD$4:$AD$103,0),1)>=CW$2,$AF14,"")),"") | CX14: =IFERROR(IF(CS14="","",IF(INDEX($X$4:$X$103,MATCH(CX$3+1-CX$2&"-"&$AG14,$AD$4:$AD$103,0),1)>=CX$2,$AF14,"")),"") | DB14: =IFERROR(IF(OR($AF14="",DB$3>maxCol),"",IF(ISNUMBER(MATCH(DB$3+1-DB$2&"-"&$AG14,$AD$4:$AD$103,0)),$AF14,"")),"") | DC14: =IFERROR(IF(DB14="","",IF(INDEX($X$4:$X$103,MATCH(DC$3+1-DC$2&"-"&$AG14,$AD$4:$AD$103,0),1)>=DC$2,$AF14,"")),"") | DD14: =IFERROR(IF(DB14="","",IF(INDEX($X$4:$X$103,MATCH(DD$3+1-DD$2&"-"&$AG14,$AD$4:$AD$103,0),1)>=DD$2,$AF14,"")),"") | DE14: =IFERROR(IF(DB14="","",IF(INDEX($X$4:$X$103,MATCH(DE$3+1-DE$2&"-"&$AG14,$AD$4:$AD$103,0),1)>=DE$2,$AF14,"")),"") | DF14: =IFERROR(IF(DB14="","",IF(INDEX($X$4:$X$103,MATCH(DF$3+1-DF$2&"-"&$AG14,$AD$4:$AD$103,0),1)>=DF$2,$AF14,"")),"") | DG14: =IFERROR(IF(DB14="","",IF(INDEX($X$4:$X$103,MATCH(DG$3+1-DG$2&"-"&$AG14,$AD$4:$AD$103,0),1)>=DG$2,$AF14,"")),"") | DK14: =IFERROR(IF(OR($AF14="",DK$3>maxCol),"",IF(ISNUMBER(MATCH(DK$3+1-DK$2&"-"&$AG14,$AD$4:$AD$103,0)),$AF14,"")),"") | DL14: =IFERROR(IF(DK14="","",IF(INDEX($X$4:$X$103,MATCH(DL$3+1-DL$2&"-"&$AG14,$AD$4:$AD$103,0),1)>=DL$2,$AF14,"")),"") | DM14: =IFERROR(IF(DK14="","",IF(INDEX($X$4:$X$103,MATCH(DM$3+1-DM$2&"-"&$AG14,$AD$4:$AD$103,0),1)>=DM$2,$AF14,"")),"") | DN14: =IFERROR(IF(DK14="","",IF(INDEX($X$4:$X$103,MATCH(DN$3+1-DN$2&"-"&$AG14,$AD$4:$AD$103,0),1)>=DN$2,$AF14,"")),"") | DO14: =IFERROR(IF(DK14="","",IF(INDEX($X$4:$X$103,MATCH(DO$3+1-DO$2&"-"&$AG14,$AD$4:$AD$103,0),1)>=DO$2,$AF14,"")),"") | DP14: =IFERROR(IF(DK14="","",IF(INDEX($X$4:$X$103,MATCH(DP$3+1-DP$2&"-"&$AG14,$AD$4:$AD$103,0),1)>=DP$2,$AF14,"")),"")
B15: =IF(LEN(Settings!E18)>0,Settings!E18,"Empty-"&ROW()) -> Empty-15 | C15: =COUNTIFS($AA$4:$AA$103,$B15,$Z$4:$Z$103,C$3) -> 0 | D15: =COUNTIFS($AA$4:$AA$103,$B15,$Z$4:$Z$103,D$3) -> 0 | E15: =COUNTIFS($AA$4:$AA$103,$B15,$Z$4:$Z$103,E$3) -> 0 | F15: =COUNTIFS($AA$4:$AA$103,$B15,$Z$4:$Z$103,F$3) -> 0 | G15: =COUNTIFS($AA$4:$AA$103,$B15,$Z$4:$Z$103,G$3) -> 0 | H15: =COUNTIFS($AA$4:$AA$103,$B15,$Z$4:$Z$103,H$3) -> 0 | I15: =COUNTIFS($AA$4:$AA$103,$B15,$Z$4:$Z$103,I$3) -> 0 | J15: =COUNTIFS($AA$4:$AA$103,$B15,$Z$4:$Z$103,J$3) -> 0 | ... L15: =COUNTIFS($AA$4:$AA$103,$B15,$Z$4:$Z$103,L$3) -> 0 | M15: =MAX(C15:L15) -> 0 | N15: =IF(M15=0,"",B15) | O15: =IF(M15>0,M15*2+1,M15) -> 0 | P15: =SUM($O$4:O14) -> 20 | Q15: =P16+ROW(startCell) -> 25 | R15: =Q14 -> 25 | T15: 12 | U15: =IFERROR(TRIM(W15&" "&INDEX(Roadmap!B$6:B$105,$T15,1)),"") -> Measure sales results | V15: =IF(LEN(U15)>Y15,LEFT(U15,Y15)&"…",U15) -> Measure sales results | W15: =IFERROR(INDEX(Roadmap!C$6:C$105,$T15,1)&"","") | X15: =IF(LEN(U15)>0,IFERROR(INDEX(Settings!$I$7:$I$9,MATCH(INDEX(Roadmap!D$6:D$105,$T15,1),Settings!$H$7:$H$9,0),1),large),"") -> 6 | Y15: =IFERROR(INDEX(Settings!$J$7:$J$9,MATCH(INDEX(Roadmap!D$6:D$105,$T15,1),Settings!$H$7:$H$9,0),1),300) -> 35 | Z15: =IFERROR(IF(LEN($U15)=0,"",INDEX(Roadmap!E$6:E$105,$T15,1)&""),"") -> Q4 - 2022 | AA15: =IFERROR(IF(LEN($U15)=0,"",INDEX(Roadmap!F$6:F$105,$T15,1)&""),"") -> Marketing | AB15: =IFERROR((MATCH(Z15,$C$3:$L$3,0))*divide+COLUMN(startCell)-divide,"") -> 37 | AC15: =IFERROR(IF(OR(U15="",Z15=""),"",2*COUNTIFS($Z$4:Z15,Z15,$AA$4:AA15,AA15)+INDEX($P$4:$P$16,MATCH(AA15,$B$4:$B$16,0),1)+ROW(startCell)),"") -> 14 | AD15: =AB15&"-"&AC15 -> 37-14 | AF15: =IF(ISNUMBER(MATCH(AG15,$AC$4:$AC$303,0)),MATCH(AG15,$R$4:$R$16,1),"") -> 3 | AG15: =AG14+1 -> 17 | AH15: =IFERROR(IF(OR($AF15="",AH$3>maxCol),"",IF(ISNUMBER(MATCH(AH$3+1-AH$2&"-"&$AG15,$AD$4:$AD$103,0)),$AF15,"")),"") | AI15: =IFERROR(IF(AH15="","",IF(INDEX($X$4:$X$103,MATCH(AI$3+1-AI$2&"-"&$AG15,$AD$4:$AD$103,0),1)>=AI$2,$AF15,"")),"") | AJ15: =IFERROR(IF(AH15="","",IF(INDEX($X$4:$X$103,MATCH(AJ$3+1-AJ$2&"-"&$AG15,$AD$4:$AD$103,0),1)>=AJ$2,$AF15,"")),"") | AK15: =IFERROR(IF(AH15="","",IF(INDEX($X$4:$X$103,MATCH(AK$3+1-AK$2&"-"&$AG15,$AD$4:$AD$103,0),1)>=AK$2,$AF15,"")),"") | AL15: =IFERROR(IF(AH15="","",IF(INDEX($X$4:$X$103,MATCH(AL$3+1-AL$2&"-"&$AG15,$AD$4:$AD$103,0),1)>=AL$2,$AF15,"")),"") | AM15: =IFERROR(IF(AH15="","",IF(INDEX($X$4:$X$103,MATCH(AM$3+1-AM$2&"-"&$AG15,$AD$4:$AD$103,0),1)>=AM$2,$AF15,"")),"") | AQ15: =IFERROR(IF(OR($AF15="",AQ$3>maxCol),"",IF(ISNUMBER(MATCH(AQ$3+1-AQ$2&"-"&$AG15,$AD$4:$AD$103,0)),$AF15,"")),"") | AR15: =IFERROR(IF(AQ15="","",IF(INDEX($X$4:$X$103,MATCH(AR$3+1-AR$2&"-"&$AG15,$AD$4:$AD$103,0),1)>=AR$2,$AF15,"")),"") | AS15: =IFERROR(IF(AQ15="","",IF(INDEX($X$4:$X$103,MATCH(AS$3+1-AS$2&"-"&$AG15,$AD$4:$AD$103,0),1)>=AS$2,$AF15,"")),"") | AT15: =IFERROR(IF(AQ15="","",IF(INDEX($X$4:$X$103,MATCH(AT$3+1-AT$2&"-"&$AG15,$AD$4:$AD$103,0),1)>=AT$2,$AF15,"")),"") | AU15: =IFERROR(IF(AQ15="","",IF(INDEX($X$4:$X$103,MATCH(AU$3+1-AU$2&"-"&$AG15,$AD$4:$AD$103,0),1)>=AU$2,$AF15,"")),"") | AV15: =IFERROR(IF(AQ15="","",IF(INDEX($X$4:$X$103,MATCH(AV$3+1-AV$2&"-"&$AG15,$AD$4:$AD$103,0),1)>=AV$2,$AF15,"")),"") | AZ15: =IFERROR(IF(OR($AF15="",AZ$3>maxCol),"",IF(ISNUMBER(MATCH(AZ$3+1-AZ$2&"-"&$AG15,$AD$4:$AD$103,0)),$AF15,"")),"") -> 3 | BA15: =IFERROR(IF(AZ15="","",IF(INDEX($X$4:$X$103,MATCH(BA$3+1-BA$2&"-"&$AG15,$AD$4:$AD$103,0),1)>=BA$2,$AF15,"")),"") -> 3 | BB15: =IFERROR(IF(AZ15="","",IF(INDEX($X$4:$X$103,MATCH(BB$3+1-BB$2&"-"&$AG15,$AD$4:$AD$103,0),1)>=BB$2,$AF15,"")),"") -> 3 | BC15: =IFERROR(IF(AZ15="","",IF(INDEX($X$4:$X$103,MATCH(BC$3+1-BC$2&"-"&$AG15,$AD$4:$AD$103,0),1)>=BC$2,$AF15,"")),"") -> 3 | BD15: =IFERROR(IF(AZ15="","",IF(INDEX($X$4:$X$103,MATCH(BD$3+1-BD$2&"-"&$AG15,$AD$4:$AD$103,0),1)>=BD$2,$AF15,"")),"") | BE15: =IFERROR(IF(AZ15="","",IF(INDEX($X$4:$X$103,MATCH(BE$3+1-BE$2&"-"&$AG15,$AD$4:$AD$103,0),1)>=BE$2,$AF15,"")),"") | BI15: =IFERROR(IF(OR($AF15="",BI$3>maxCol),"",IF(ISNUMBER(MATCH(BI$3+1-BI$2&"-"&$AG15,$AD$4:$AD$103,0)),$AF15,"")),"") | BJ15: =IFERROR(IF(BI15="","",IF(INDEX($X$4:$X$103,MATCH(BJ$3+1-BJ$2&"-"&$AG15,$AD$4:$AD$103,0),1)>=BJ$2,$AF15,"")),"") | BK15: =IFERROR(IF(BI15="","",IF(INDEX($X$4:$X$103,MATCH(BK$3+1-BK$2&"-"&$AG15,$AD$4:$AD$103,0),1)>=BK$2,$AF15,"")),"") | BL15: =IFERROR(IF(BI15="","",IF(INDEX($X$4:$X$103,MATCH(BL$3+1-BL$2&"-"&$AG15,$AD$4:$AD$103,0),1)>=BL$2,$AF15,"")),"") | BM15: =IFERROR(IF(BI15="","",IF(INDEX($X$4:$X$103,MATCH(BM$3+1-BM$2&"-"&$AG15,$AD$4:$AD$103,0),1)>=BM$2,$AF15,"")),"") | BN15: =IFERROR(IF(BI15="","",IF(INDEX($X$4:$X$103,MATCH(BN$3+1-BN$2&"-"&$AG15,$AD$4:$AD$103,0),1)>=BN$2,$AF15,"")),"") | BR15: =IFERROR(IF(OR($AF15="",BR$3>maxCol),"",IF(ISNUMBER(MATCH(BR$3+1-BR$2&"-"&$AG15,$AD$4:$AD$103,0)),$AF15,"")),"") | BS15: =IFERROR(IF(BR15="","",IF(INDEX($X$4:$X$103,MATCH(BS$3+1-BS$2&"-"&$AG15,$AD$4:$AD$103,0),1)>=BS$2,$AF15,"")),"") | BT15: =IFERROR(IF(BR15="","",IF(INDEX($X$4:$X$103,MATCH(BT$3+1-BT$2&"-"&$AG15,$AD$4:$AD$103,0),1)>=BT$2,$AF15,"")),"") | BU15: =IFERROR(IF(BR15="","",IF(INDEX($X$4:$X$103,MATCH(BU$3+1-BU$2&"-"&$AG15,$AD$4:$AD$103,0),1)>=BU$2,$AF15,"")),"") | BV15: =IFERROR(IF(BR15="","",IF(INDEX($X$4:$X$103,MATCH(BV$3+1-BV$2&"-"&$AG15,$AD$4:$AD$103,0),1)>=BV$2,$AF15,"")),"") | BW15: =IFERROR(IF(BR15="","",IF(INDEX($X$4:$X$103,MATCH(BW$3+1-BW$2&"-"&$AG15,$AD$4:$AD$103,0),1)>=BW$2,$AF15,"")),"") | CA15: =IFERROR(IF(OR($AF15="",CA$3>maxCol),"",IF(ISNUMBER(MATCH(CA$3+1-CA$2&"-"&$AG15,$AD$4:$AD$103,0)),$AF15,"")),"") | CB15: =IFERROR(IF(CA15="","",IF(INDEX($X$4:$X$103,MATCH(CB$3+1-CB$2&"-"&$AG15,$AD$4:$AD$103,0),1)>=CB$2,$AF15,"")),"") | CC15: =IFERROR(IF(CA15="","",IF(INDEX($X$4:$X$103,MATCH(CC$3+1-CC$2&"-"&$AG15,$AD$4:$AD$103,0),1)>=CC$2,$AF15,"")),"") | CD15: =IFERROR(IF(CA15="","",IF(INDEX($X$4:$X$103,MATCH(CD$3+1-CD$2&"-"&$AG15,$AD$4:$AD$103,0),1)>=CD$2,$AF15,"")),"") | CE15: =IFERROR(IF(CA15="","",IF(INDEX($X$4:$X$103,MATCH(CE$3+1-CE$2&"-"&$AG15,$AD$4:$AD$103,0),1)>=CE$2,$AF15,"")),"") | CF15: =IFERROR(IF(CA15="","",IF(INDEX($X$4:$X$103,MATCH(CF$3+1-CF$2&"-"&$AG15,$AD$4:$AD$103,0),1)>=CF$2,$AF15,"")),"") | CJ15: =IFERROR(IF(OR($AF15="",CJ$3>maxCol),"",IF(ISNUMBER(MATCH(CJ$3+1-CJ$2&"-"&$AG15,$AD$4:$AD$103,0)),$AF15,"")),"") | CK15: =IFERROR(IF(CJ15="","",IF(INDEX($X$4:$X$103,MATCH(CK$3+1-CK$2&"-"&$AG15,$AD$4:$AD$103,0),1)>=CK$2,$AF15,"")),"") | CL15: =IFERROR(IF(CJ15="","",IF(INDEX($X$4:$X$103,MATCH(CL$3+1-CL$2&"-"&$AG15,$AD$4:$AD$103,0),1)>=CL$2,$AF15,"")),"") | CM15: =IFERROR(IF(CJ15="","",IF(INDEX($X$4:$X$103,MATCH(CM$3+1-CM$2&"-"&$AG15,$AD$4:$AD$103,0),1)>=CM$2,$AF15,"")),"") | CN15: =IFERROR(IF(CJ15="","",IF(INDEX($X$4:$X$103,MATCH(CN$3+1-CN$2&"-"&$AG15,$AD$4:$AD$103,0),1)>=CN$2,$AF15,"")),"") | CO15: =IFERROR(IF(CJ15="","",IF(INDEX($X$4:$X$103,MATCH(CO$3+1-CO$2&"-"&$AG15,$AD$4:$AD$103,0),1)>=CO$2,$AF15,"")),"") | CS15: =IFERROR(IF(OR($AF15="",CS$3>maxCol),"",IF(ISNUMBER(MATCH(CS$3+1-CS$2&"-"&$AG15,$AD$4:$AD$103,0)),$AF15,"")),"") | CT15: =IFERROR(IF(CS15="","",IF(INDEX($X$4:$X$103,MATCH(CT$3+1-CT$2&"-"&$AG15,$AD$4:$AD$103,0),1)>=CT$2,$AF15,"")),"") | CU15: =IFERROR(IF(CS15="","",IF(INDEX($X$4:$X$103,MATCH(CU$3+1-CU$2&"-"&$AG15,$AD$4:$AD$103,0),1)>=CU$2,$AF15,"")),"") | CV15: =IFERROR(IF(CS15="","",IF(INDEX($X$4:$X$103,MATCH(CV$3+1-CV$2&"-"&$AG15,$AD$4:$AD$103,0),1)>=CV$2,$AF15,"")),"") | CW15: =IFERROR(IF(CS15="","",IF(INDEX($X$4:$X$103,MATCH(CW$3+1-CW$2&"-"&$AG15,$AD$4:$AD$103,0),1)>=CW$2,$AF15,"")),"") | CX15: =IFERROR(IF(CS15="","",IF(INDEX($X$4:$X$103,MATCH(CX$3+1-CX$2&"-"&$AG15,$AD$4:$AD$103,0),1)>=CX$2,$AF15,"")),"") | DB15: =IFERROR(IF(OR($AF15="",DB$3>maxCol),"",IF(ISNUMBER(MATCH(DB$3+1-DB$2&"-"&$AG15,$AD$4:$AD$103,0)),$AF15,"")),"") | DC15: =IFERROR(IF(DB15="","",IF(INDEX($X$4:$X$103,MATCH(DC$3+1-DC$2&"-"&$AG15,$AD$4:$AD$103,0),1)>=DC$2,$AF15,"")),"") | DD15: =IFERROR(IF(DB15="","",IF(INDEX($X$4:$X$103,MATCH(DD$3+1-DD$2&"-"&$AG15,$AD$4:$AD$103,0),1)>=DD$2,$AF15,"")),"") | DE15: =IFERROR(IF(DB15="","",IF(INDEX($X$4:$X$103,MATCH(DE$3+1-DE$2&"-"&$AG15,$AD$4:$AD$103,0),1)>=DE$2,$AF15,"")),"") | DF15: =IFERROR(IF(DB15="","",IF(INDEX($X$4:$X$103,MATCH(DF$3+1-DF$2&"-"&$AG15,$AD$4:$AD$103,0),1)>=DF$2,$AF15,"")),"") | DG15: =IFERROR(IF(DB15="","",IF(INDEX($X$4:$X$103,MATCH(DG$3+1-DG$2&"-"&$AG15,$AD$4:$AD$103,0),1)>=DG$2,$AF15,"")),"") | DK15: =IFERROR(IF(OR($AF15="",DK$3>maxCol),"",IF(ISNUMBER(MATCH(DK$3+1-DK$2&"-"&$AG15,$AD$4:$AD$103,0)),$AF15,"")),"") | DL15: =IFERROR(IF(DK15="","",IF(INDEX($X$4:$X$103,MATCH(DL$3+1-DL$2&"-"&$AG15,$AD$4:$AD$103,0),1)>=DL$2,$AF15,"")),"") | DM15: =IFERROR(IF(DK15="","",IF(INDEX($X$4:$X$103,MATCH(DM$3+1-DM$2&"-"&$AG15,$AD$4:$AD$103,0),1)>=DM$2,$AF15,"")),"") | DN15: =IFERROR(IF(DK15="","",IF(INDEX($X$4:$X$103,MATCH(DN$3+1-DN$2&"-"&$AG15,$AD$4:$AD$103,0),1)>=DN$2,$AF15,"")),"") | DO15: =IFERROR(IF(DK15="","",IF(INDEX($X$4:$X$103,MATCH(DO$3+1-DO$2&"-"&$AG15,$AD$4:$AD$103,0),1)>=DO$2,$AF15,"")),"") | DP15: =IFERROR(IF(DK15="","",IF(INDEX($X$4:$X$103,MATCH(DP$3+1-DP$2&"-"&$AG15,$AD$4:$AD$103,0),1)>=DP$2,$AF15,"")),"")
B16: ="" | C16: =COUNTIFS($AA$4:$AA$103,$B16,$Z$4:$Z$103,C$3) -> 0 | D16: =COUNTIFS($AA$4:$AA$103,$B16,$Z$4:$Z$103,D$3) -> 0 | E16: =COUNTIFS($AA$4:$AA$103,$B16,$Z$4:$Z$103,E$3) -> 0 | F16: =COUNTIFS($AA$4:$AA$103,$B16,$Z$4:$Z$103,F$3) -> 0 | G16: =COUNTIFS($AA$4:$AA$103,$B16,$Z$4:$Z$103,G$3) -> 0 | H16: =COUNTIFS($AA$4:$AA$103,$B16,$Z$4:$Z$103,H$3) -> 0 | I16: =COUNTIFS($AA$4:$AA$103,$B16,$Z$4:$Z$103,I$3) -> 0 | J16: =COUNTIFS($AA$4:$AA$103,$B16,$Z$4:$Z$103,J$3) -> 0 | ... L16: =COUNTIFS($AA$4:$AA$103,$B16,$Z$4:$Z$103,L$3) -> 0 | M16: =MAX(C16:L16) -> 0 | N16: =IF(M16=0,"",IF(LEN(B16)=0,"Not Labeled",B16)) | O16: =IF(M16>0,M16*2+1,M16) -> 0 | P16: =SUM($O$4:O15) -> 20 | Q16: =P17+ROW(startCell) -> 25 | R16: =Q15 -> 25 | T16: 13 | U16: =IFERROR(TRIM(W16&" "&INDEX(Roadmap!B$6:B$105,$T16,1)),"") -> Continues Tests | V16: =IF(LEN(U16)>Y16,LEFT(U16,Y16)&"…",U16) -> Continues Tests | W16: =IFERROR(INDEX(Roadmap!C$6:C$105,$T16,1)&"","") | X16: =IF(LEN(U16)>0,IFERROR(INDEX(Settings!$I$7:$I$9,MATCH(INDEX(Roadmap!D$6:D$105,$T16,1),Settings!$H$7:$H$9,0),1),large),"") -> 6 | Y16: =IFERROR(INDEX(Settings!$J$7:$J$9,MATCH(INDEX(Roadmap!D$6:D$105,$T16,1),Settings!$H$7:$H$9,0),1),300) -> 35 | Z16: =IFERROR(IF(LEN($U16)=0,"",INDEX(Roadmap!E$6:E$105,$T16,1)&""),"") -> Q4 - 2022 | AA16: =IFERROR(IF(LEN($U16)=0,"",INDEX(Roadmap!F$6:F$105,$T16,1)&""),"") -> Quality A. | AB16: =IFERROR((MATCH(Z16,$C$3:$L$3,0))*divide+COLUMN(startCell)-divide,"") -> 37 | AC16: =IFERROR(IF(OR(U16="",Z16=""),"",2*COUNTIFS($Z$4:Z16,Z16,$AA$4:AA16,AA16)+INDEX($P$4:$P$16,MATCH(AA16,$B$4:$B$16,0),1)+ROW(startCell)),"") -> 22 | AD16: =AB16&"-"&AC16 -> 37-22 | AF16: =IF(ISNUMBER(MATCH(AG16,$AC$4:$AC$303,0)),MATCH(AG16,$R$4:$R$16,1),"") | AG16: =AG15+1 -> 18 | AH16: =IFERROR(IF(OR($AF16="",AH$3>maxCol),"",IF(ISNUMBER(MATCH(AH$3+1-AH$2&"-"&$AG16,$AD$4:$AD$103,0)),$AF16,"")),"") | AI16: =IFERROR(IF(AH16="","",IF(INDEX($X$4:$X$103,MATCH(AI$3+1-AI$2&"-"&$AG16,$AD$4:$AD$103,0),1)>=AI$2,$AF16,"")),"") | AJ16: =IFERROR(IF(AH16="","",IF(INDEX($X$4:$X$103,MATCH(AJ$3+1-AJ$2&"-"&$AG16,$AD$4:$AD$103,0),1)>=AJ$2,$AF16,"")),"") | AK16: =IFERROR(IF(AH16="","",IF(INDEX($X$4:$X$103,MATCH(AK$3+1-AK$2&"-"&$AG16,$AD$4:$AD$103,0),1)>=AK$2,$AF16,"")),"") | AL16: =IFERROR(IF(AH16="","",IF(INDEX($X$4:$X$103,MATCH(AL$3+1-AL$2&"-"&$AG16,$AD$4:$AD$103,0),1)>=AL$2,$AF16,"")),"") | AM16: =IFERROR(IF(AH16="","",IF(INDEX($X$4:$X$103,MATCH(AM$3+1-AM$2&"-"&$AG16,$AD$4:$AD$103,0),1)>=AM$2,$AF16,"")),"") | AQ16: =IFERROR(IF(OR($AF16="",AQ$3>maxCol),"",IF(ISNUMBER(MATCH(AQ$3+1-AQ$2&"-"&$AG16,$AD$4:$AD$103,0)),$AF16,"")),"") | AR16: =IFERROR(IF(AQ16="","",IF(INDEX($X$4:$X$103,MATCH(AR$3+1-AR$2&"-"&$AG16,$AD$4:$AD$103,0),1)>=AR$2,$AF16,"")),"") | AS16: =IFERROR(IF(AQ16="","",IF(INDEX($X$4:$X$103,MATCH(AS$3+1-AS$2&"-"&$AG16,$AD$4:$AD$103,0),1)>=AS$2,$AF16,"")),"") | AT16: =IFERROR(IF(AQ16="","",IF(INDEX($X$4:$X$103,MATCH(AT$3+1-AT$2&"-"&$AG16,$AD$4:$AD$103,0),1)>=AT$2,$AF16,"")),"") | AU16: =IFERROR(IF(AQ16="","",IF(INDEX($X$4:$X$103,MATCH(AU$3+1-AU$2&"-"&$AG16,$AD$4:$AD$103,0),1)>=AU$2,$AF16,"")),"") | AV16: =IFERROR(IF(AQ16="","",IF(INDEX($X$4:$X$103,MATCH(AV$3+1-AV$2&"-"&$AG16,$AD$4:$AD$103,0),1)>=AV$2,$AF16,"")),"") | AZ16: =IFERROR(IF(OR($AF16="",AZ$3>maxCol),"",IF(ISNUMBER(MATCH(AZ$3+1-AZ$2&"-"&$AG16,$AD$4:$AD$103,0)),$AF16,"")),"") | BA16: =IFERROR(IF(AZ16="","",IF(INDEX($X$4:$X$103,MATCH(BA$3+1-BA$2&"-"&$AG16,$AD$4:$AD$103,0),1)>=BA$2,$AF16,"")),"") | BB16: =IFERROR(IF(AZ16="","",IF(INDEX($X$4:$X$103,MATCH(BB$3+1-BB$2&"-"&$AG16,$AD$4:$AD$103,0),1)>=BB$2,$AF16,"")),"") | BC16: =IFERROR(IF(AZ16="","",IF(INDEX($X$4:$X$103,MATCH(BC$3+1-BC$2&"-"&$AG16,$AD$4:$AD$103,0),1)>=BC$2,$AF16,"")),"") | BD16: =IFERROR(IF(AZ16="","",IF(INDEX($X$4:$X$103,MATCH(BD$3+1-BD$2&"-"&$AG16,$AD$4:$AD$103,0),1)>=BD$2,$AF16,"")),"") | BE16: =IFERROR(IF(AZ16="","",IF(INDEX($X$4:$X$103,MATCH(BE$3+1-BE$2&"-"&$AG16,$AD$4:$AD$103,0),1)>=BE$2,$AF16,"")),"") | BI16: =IFERROR(IF(OR($AF16="",BI$3>maxCol),"",IF(ISNUMBER(MATCH(BI$3+1-BI$2&"-"&$AG16,$AD$4:$AD$103,0)),$AF16,"")),"") | BJ16: =IFERROR(IF(BI16="","",IF(INDEX($X$4:$X$103,MATCH(BJ$3+1-BJ$2&"-"&$AG16,$AD$4:$AD$103,0),1)>=BJ$2,$AF16,"")),"") | BK16: =IFERROR(IF(BI16="","",IF(INDEX($X$4:$X$103,MATCH(BK$3+1-BK$2&"-"&$AG16,$AD$4:$AD$103,0),1)>=BK$2,$AF16,"")),"") | BL16: =IFERROR(IF(BI16="","",IF(INDEX($X$4:$X$103,MATCH(BL$3+1-BL$2&"-"&$AG16,$AD$4:$AD$103,0),1)>=BL$2,$AF16,"")),"") | BM16: =IFERROR(IF(BI16="","",IF(INDEX($X$4:$X$103,MATCH(BM$3+1-BM$2&"-"&$AG16,$AD$4:$AD$103,0),1)>=BM$2,$AF16,"")),"") | BN16: =IFERROR(IF(BI16="","",IF(INDEX($X$4:$X$103,MATCH(BN$3+1-BN$2&"-"&$AG16,$AD$4:$AD$103,0),1)>=BN$2,$AF16,"")),"") | BR16: =IFERROR(IF(OR($AF16="",BR$3>maxCol),"",IF(ISNUMBER(MATCH(BR$3+1-BR$2&"-"&$AG16,$AD$4:$AD$103,0)),$AF16,"")),"") | BS16: =IFERROR(IF(BR16="","",IF(INDEX($X$4:$X$103,MATCH(BS$3+1-BS$2&"-"&$AG16,$AD$4:$AD$103,0),1)>=BS$2,$AF16,"")),"") | BT16: =IFERROR(IF(BR16="","",IF(INDEX($X$4:$X$103,MATCH(BT$3+1-BT$2&"-"&$AG16,$AD$4:$AD$103,0),1)>=BT$2,$AF16,"")),"") | BU16: =IFERROR(IF(BR16="","",IF(INDEX($X$4:$X$103,MATCH(BU$3+1-BU$2&"-"&$AG16,$AD$4:$AD$103,0),1)>=BU$2,$AF16,"")),"") | BV16: =IFERROR(IF(BR16="","",IF(INDEX($X$4:$X$103,MATCH(BV$3+1-BV$2&"-"&$AG16,$AD$4:$AD$103,0),1)>=BV$2,$AF16,"")),"") | BW16: =IFERROR(IF(BR16="","",IF(INDEX($X$4:$X$103,MATCH(BW$3+1-BW$2&"-"&$AG16,$AD$4:$AD$103,0),1)>=BW$2,$AF16,"")),"") | CA16: =IFERROR(IF(OR($AF16="",CA$3>maxCol),"",IF(ISNUMBER(MATCH(CA$3+1-CA$2&"-"&$AG16,$AD$4:$AD$103,0)),$AF16,"")),"") | CB16: =IFERROR(IF(CA16="","",IF(INDEX($X$4:$X$103,MATCH(CB$3+1-CB$2&"-"&$AG16,$AD$4:$AD$103,0),1)>=CB$2,$AF16,"")),"") | CC16: =IFERROR(IF(CA16="","",IF(INDEX($X$4:$X$103,MATCH(CC$3+1-CC$2&"-"&$AG16,$AD$4:$AD$103,0),1)>=CC$2,$AF16,"")),"") | CD16: =IFERROR(IF(CA16="","",IF(INDEX($X$4:$X$103,MATCH(CD$3+1-CD$2&"-"&$AG16,$AD$4:$AD$103,0),1)>=CD$2,$AF16,"")),"") | CE16: =IFERROR(IF(CA16="","",IF(INDEX($X$4:$X$103,MATCH(CE$3+1-CE$2&"-"&$AG16,$AD$4:$AD$103,0),1)>=CE$2,$AF16,"")),"") | CF16: =IFERROR(IF(CA16="","",IF(INDEX($X$4:$X$103,MATCH(CF$3+1-CF$2&"-"&$AG16,$AD$4:$AD$103,0),1)>=CF$2,$AF16,"")),"") | CJ16: =IFERROR(IF(OR($AF16="",CJ$3>maxCol),"",IF(ISNUMBER(MATCH(CJ$3+1-CJ$2&"-"&$AG16,$AD$4:$AD$103,0)),$AF16,"")),"") | CK16: =IFERROR(IF(CJ16="","",IF(INDEX($X$4:$X$103,MATCH(CK$3+1-CK$2&"-"&$AG16,$AD$4:$AD$103,0),1)>=CK$2,$AF16,"")),"") | CL16: =IFERROR(IF(CJ16="","",IF(INDEX($X$4:$X$103,MATCH(CL$3+1-CL$2&"-"&$AG16,$AD$4:$AD$103,0),1)>=CL$2,$AF16,"")),"") | CM16: =IFERROR(IF(CJ16="","",IF(INDEX($X$4:$X$103,MATCH(CM$3+1-CM$2&"-"&$AG16,$AD$4:$AD$103,0),1)>=CM$2,$AF16,"")),"") | CN16: =IFERROR(IF(CJ16="","",IF(INDEX($X$4:$X$103,MATCH(CN$3+1-CN$2&"-"&$AG16,$AD$4:$AD$103,0),1)>=CN$2,$AF16,"")),"") | CO16: =IFERROR(IF(CJ16="","",IF(INDEX($X$4:$X$103,MATCH(CO$3+1-CO$2&"-"&$AG16,$AD$4:$AD$103,0),1)>=CO$2,$AF16,"")),"") | CS16: =IFERROR(IF(OR($AF16="",CS$3>maxCol),"",IF(ISNUMBER(MATCH(CS$3+1-CS$2&"-"&$AG16,$AD$4:$AD$103,0)),$AF16,"")),"") | CT16: =IFERROR(IF(CS16="","",IF(INDEX($X$4:$X$103,MATCH(CT$3+1-CT$2&"-"&$AG16,$AD$4:$AD$103,0),1)>=CT$2,$AF16,"")),"") | CU16: =IFERROR(IF(CS16="","",IF(INDEX($X$4:$X$103,MATCH(CU$3+1-CU$2&"-"&$AG16,$AD$4:$AD$103,0),1)>=CU$2,$AF16,"")),"") | CV16: =IFERROR(IF(CS16="","",IF(INDEX($X$4:$X$103,MATCH(CV$3+1-CV$2&"-"&$AG16,$AD$4:$AD$103,0),1)>=CV$2,$AF16,"")),"") | CW16: =IFERROR(IF(CS16="","",IF(INDEX($X$4:$X$103,MATCH(CW$3+1-CW$2&"-"&$AG16,$AD$4:$AD$103,0),1)>=CW$2,$AF16,"")),"") | CX16: =IFERROR(IF(CS16="","",IF(INDEX($X$4:$X$103,MATCH(CX$3+1-CX$2&"-"&$AG16,$AD$4:$AD$103,0),1)>=CX$2,$AF16,"")),"") | DB16: =IFERROR(IF(OR($AF16="",DB$3>maxCol),"",IF(ISNUMBER(MATCH(DB$3+1-DB$2&"-"&$AG16,$AD$4:$AD$103,0)),$AF16,"")),"") | DC16: =IFERROR(IF(DB16="","",IF(INDEX($X$4:$X$103,MATCH(DC$3+1-DC$2&"-"&$AG16,$AD$4:$AD$103,0),1)>=DC$2,$AF16,"")),"") | DD16: =IFERROR(IF(DB16="","",IF(INDEX($X$4:$X$103,MATCH(DD$3+1-DD$2&"-"&$AG16,$AD$4:$AD$103,0),1)>=DD$2,$AF16,"")),"") | DE16: =IFERROR(IF(DB16="","",IF(INDEX($X$4:$X$103,MATCH(DE$3+1-DE$2&"-"&$AG16,$AD$4:$AD$103,0),1)>=DE$2,$AF16,"")),"") | DF16: =IFERROR(IF(DB16="","",IF(INDEX($X$4:$X$103,MATCH(DF$3+1-DF$2&"-"&$AG16,$AD$4:$AD$103,0),1)>=DF$2,$AF16,"")),"") | DG16: =IFERROR(IF(DB16="","",IF(INDEX($X$4:$X$103,MATCH(DG$3+1-DG$2&"-"&$AG16,$AD$4:$AD$103,0),1)>=DG$2,$AF16,"")),"") | DK16: =IFERROR(IF(OR($AF16="",DK$3>maxCol),"",IF(ISNUMBER(MATCH(DK$3+1-DK$2&"-"&$AG16,$AD$4:$AD$103,0)),$AF16,"")),"") | DL16: =IFERROR(IF(DK16="","",IF(INDEX($X$4:$X$103,MATCH(DL$3+1-DL$2&"-"&$AG16,$AD$4:$AD$103,0),1)>=DL$2,$AF16,"")),"") | DM16: =IFERROR(IF(DK16="","",IF(INDEX($X$4:$X$103,MATCH(DM$3+1-DM$2&"-"&$AG16,$AD$4:$AD$103,0),1)>=DM$2,$AF16,"")),"") | DN16: =IFERROR(IF(DK16="","",IF(INDEX($X$4:$X$103,MATCH(DN$3+1-DN$2&"-"&$AG16,$AD$4:$AD$103,0),1)>=DN$2,$AF16,"")),"") | DO16: =IFERROR(IF(DK16="","",IF(INDEX($X$4:$X$103,MATCH(DO$3+1-DO$2&"-"&$AG16,$AD$4:$AD$103,0),1)>=DO$2,$AF16,"")),"") | DP16: =IFERROR(IF(DK16="","",IF(INDEX($X$4:$X$103,MATCH(DP$3+1-DP$2&"-"&$AG16,$AD$4:$AD$103,0),1)>=DP$2,$AF16,"")),"")
B17: Empty | M17: =215-P17 -> 195 | N17: =IF(M17=0,"",B17) -> Empty | O17: =IF(M17>0,M17+1,M17) -> 196 | P17: =SUM($O$4:O16) -> 20 | R17: =Q16 -> 25 | T17: 14 | U17: =IFERROR(TRIM(W17&" "&INDEX(Roadmap!B$6:B$105,$T17,1)),"") -> ★ Final release | V17: =IF(LEN(U17)>Y17,LEFT(U17,Y17)&"…",U17) -> ★ Final release | W17: =IFERROR(INDEX(Roadmap!C$6:C$105,$T17,1)&"","") -> ★ | X17: =IF(LEN(U17)>0,IFERROR(INDEX(Settings!$I$7:$I$9,MATCH(INDEX(Roadmap!D$6:D$105,$T17,1),Settings!$H$7:$H$9,0),1),large),"") -> 4 | Y17: =IFERROR(INDEX(Settings!$J$7:$J$9,MATCH(INDEX(Roadmap!D$6:D$105,$T17,1),Settings!$H$7:$H$9,0),1),300) -> 30 | Z17: =IFERROR(IF(LEN($U17)=0,"",INDEX(Roadmap!E$6:E$105,$T17,1)&""),"") -> Q4 - 2022 | AA17: =IFERROR(IF(LEN($U17)=0,"",INDEX(Roadmap!F$6:F$105,$T17,1)&""),"") -> R&D Team | AB17: =IFERROR((MATCH(Z17,$C$3:$L$3,0))*divide+COLUMN(startCell)-divide,"") -> 37 | AC17: =IFERROR(IF(OR(U17="",Z17=""),"",2*COUNTIFS($Z$4:Z17,Z17,$AA$4:AA17,AA17)+INDEX($P$4:$P$16,MATCH(AA17,$B$4:$B$16,0),1)+ROW(startCell)),"") -> 7 | AD17: =AB17&"-"&AC17 -> 37-7 | AF17: =IF(ISNUMBER(MATCH(AG17,$AC$4:$AC$303,0)),MATCH(AG17,$R$4:$R$16,1),"") -> 3 | AG17: =AG16+1 -> 19 | AH17: =IFERROR(IF(OR($AF17="",AH$3>maxCol),"",IF(ISNUMBER(MATCH(AH$3+1-AH$2&"-"&$AG17,$AD$4:$AD$103,0)),$AF17,"")),"") | AI17: =IFERROR(IF(AH17="","",IF(INDEX($X$4:$X$103,MATCH(AI$3+1-AI$2&"-"&$AG17,$AD$4:$AD$103,0),1)>=AI$2,$AF17,"")),"") | AJ17: =IFERROR(IF(AH17="","",IF(INDEX($X$4:$X$103,MATCH(AJ$3+1-AJ$2&"-"&$AG17,$AD$4:$AD$103,0),1)>=AJ$2,$AF17,"")),"") | AK17: =IFERROR(IF(AH17="","",IF(INDEX($X$4:$X$103,MATCH(AK$3+1-AK$2&"-"&$AG17,$AD$4:$AD$103,0),1)>=AK$2,$AF17,"")),"") | AL17: =IFERROR(IF(AH17="","",IF(INDEX($X$4:$X$103,MATCH(AL$3+1-AL$2&"-"&$AG17,$AD$4:$AD$103,0),1)>=AL$2,$AF17,"")),"") | AM17: =IFERROR(IF(AH17="","",IF(INDEX($X$4:$X$103,MATCH(AM$3+1-AM$2&"-"&$AG17,$AD$4:$AD$103,0),1)>=AM$2,$AF17,"")),"") | AQ17: =IFERROR(IF(OR($AF17="",AQ$3>maxCol),"",IF(ISNUMBER(MATCH(AQ$3+1-AQ$2&"-"&$AG17,$AD$4:$AD$103,0)),$AF17,"")),"") | AR17: =IFERROR(IF(AQ17="","",IF(INDEX($X$4:$X$103,MATCH(AR$3+1-AR$2&"-"&$AG17,$AD$4:$AD$103,0),1)>=AR$2,$AF17,"")),"") | AS17: =IFERROR(IF(AQ17="","",IF(INDEX($X$4:$X$103,MATCH(AS$3+1-AS$2&"-"&$AG17,$AD$4:$AD$103,0),1)>=AS$2,$AF17,"")),"") | AT17: =IFERROR(IF(AQ17="","",IF(INDEX($X$4:$X$103,MATCH(AT$3+1-AT$2&"-"&$AG17,$AD$4:$AD$103,0),1)>=AT$2,$AF17,"")),"") | AU17: =IFERROR(IF(AQ17="","",IF(INDEX($X$4:$X$103,MATCH(AU$3+1-AU$2&"-"&$AG17,$AD$4:$AD$103,0),1)>=AU$2,$AF17,"")),"") | AV17: =IFERROR(IF(AQ17="","",IF(INDEX($X$4:$X$103,MATCH(AV$3+1-AV$2&"-"&$AG17,$AD$4:$AD$103,0),1)>=AV$2,$AF17,"")),"") | AZ17: =IFERROR(IF(OR($AF17="",AZ$3>maxCol),"",IF(ISNUMBER(MATCH(AZ$3+1-AZ$2&"-"&$AG17,$AD$4:$AD$103,0)),$AF17,"")),"") -> 3 | BA17: =IFERROR(IF(AZ17="","",IF(INDEX($X$4:$X$103,MATCH(BA$3+1-BA$2&"-"&$AG17,$AD$4:$AD$103,0),1)>=BA$2,$AF17,"")),"") -> 3 | BB17: =IFERROR(IF(AZ17="","",IF(INDEX($X$4:$X$103,MATCH(BB$3+1-BB$2&"-"&$AG17,$AD$4:$AD$103,0),1)>=BB$2,$AF17,"")),"") -> 3 | BC17: =IFERROR(IF(AZ17="","",IF(INDEX($X$4:$X$103,MATCH(BC$3+1-BC$2&"-"&$AG17,$AD$4:$AD$103,0),1)>=BC$2,$AF17,"")),"") -> 3 | BD17: =IFERROR(IF(AZ17="","",IF(INDEX($X$4:$X$103,MATCH(BD$3+1-BD$2&"-"&$AG17,$AD$4:$AD$103,0),1)>=BD$2,$AF17,"")),"") -> 3 | BE17: =IFERROR(IF(AZ17="","",IF(INDEX($X$4:$X$103,MATCH(BE$3+1-BE$2&"-"&$AG17,$AD$4:$AD$103,0),1)>=BE$2,$AF17,"")),"") -> 3 | BI17: =IFERROR(IF(OR($AF17="",BI$3>maxCol),"",IF(ISNUMBER(MATCH(BI$3+1-BI$2&"-"&$AG17,$AD$4:$AD$103,0)),$AF17,"")),"") | BJ17: =IFERROR(IF(BI17="","",IF(INDEX($X$4:$X$103,MATCH(BJ$3+1-BJ$2&"-"&$AG17,$AD$4:$AD$103,0),1)>=BJ$2,$AF17,"")),"") | BK17: =IFERROR(IF(BI17="","",IF(INDEX($X$4:$X$103,MATCH(BK$3+1-BK$2&"-"&$AG17,$AD$4:$AD$103,0),1)>=BK$2,$AF17,"")),"") | BL17: =IFERROR(IF(BI17="","",IF(INDEX($X$4:$X$103,MATCH(BL$3+1-BL$2&"-"&$AG17,$AD$4:$AD$103,0),1)>=BL$2,$AF17,"")),"") | BM17: =IFERROR(IF(BI17="","",IF(INDEX($X$4:$X$103,MATCH(BM$3+1-BM$2&"-"&$AG17,$AD$4:$AD$103,0),1)>=BM$2,$AF17,"")),"") | BN17: =IFERROR(IF(BI17="","",IF(INDEX($X$4:$X$103,MATCH(BN$3+1-BN$2&"-"&$AG17,$AD$4:$AD$103,0),1)>=BN$2,$AF17,"")),"") | BR17: =IFERROR(IF(OR($AF17="",BR$3>maxCol),"",IF(ISNUMBER(MATCH(BR$3+1-BR$2&"-"&$AG17,$AD$4:$AD$103,0)),$AF17,"")),"") | BS17: =IFERROR(IF(BR17="","",IF(INDEX($X$4:$X$103,MATCH(BS$3+1-BS$2&"-"&$AG17,$AD$4:$AD$103,0),1)>=BS$2,$AF17,"")),"") | BT17: =IFERROR(IF(BR17="","",IF(INDEX($X$4:$X$103,MATCH(BT$3+1-BT$2&"-"&$AG17,$AD$4:$AD$103,0),1)>=BT$2,$AF17,"")),"") | BU17: =IFERROR(IF(BR17="","",IF(INDEX($X$4:$X$103,MATCH(BU$3+1-BU$2&"-"&$AG17,$AD$4:$AD$103,0),1)>=BU$2,$AF17,"")),"") | BV17: =IFERROR(IF(BR17="","",IF(INDEX($X$4:$X$103,MATCH(BV$3+1-BV$2&"-"&$AG17,$AD$4:$AD$103,0),1)>=BV$2,$AF17,"")),"") | BW17: =IFERROR(IF(BR17="","",IF(INDEX($X$4:$X$103,MATCH(BW$3+1-BW$2&"-"&$AG17,$AD$4:$AD$103,0),1)>=BW$2,$AF17,"")),"") | CA17: =IFERROR(IF(OR($AF17="",CA$3>maxCol),"",IF(ISNUMBER(MATCH(CA$3+1-CA$2&"-"&$AG17,$AD$4:$AD$103,0)),$AF17,"")),"") | CB17: =IFERROR(IF(CA17="","",IF(INDEX($X$4:$X$103,MATCH(CB$3+1-CB$2&"-"&$AG17,$AD$4:$AD$103,0),1)>=CB$2,$AF17,"")),"") | CC17: =IFERROR(IF(CA17="","",IF(INDEX($X$4:$X$103,MATCH(CC$3+1-CC$2&"-"&$AG17,$AD$4:$AD$103,0),1)>=CC$2,$AF17,"")),"") | CD17: =IFERROR(IF(CA17="","",IF(INDEX($X$4:$X$103,MATCH(CD$3+1-CD$2&"-"&$AG17,$AD$4:$AD$103,0),1)>=CD$2,$AF17,"")),"") | CE17: =IFERROR(IF(CA17="","",IF(INDEX($X$4:$X$103,MATCH(CE$3+1-CE$2&"-"&$AG17,$AD$4:$AD$103,0),1)>=CE$2,$AF17,"")),"") | CF17: =IFERROR(IF(CA17="","",IF(INDEX($X$4:$X$103,MATCH(CF$3+1-CF$2&"-"&$AG17,$AD$4:$AD$103,0),1)>=CF$2,$AF17,"")),"") | CJ17: =IFERROR(IF(OR($AF17="",CJ$3>maxCol),"",IF(ISNUMBER(MATCH(CJ$3+1-CJ$2&"-"&$AG17,$AD$4:$AD$103,0)),$AF17,"")),"") | CK17: =IFERROR(IF(CJ17="","",IF(INDEX($X$4:$X$103,MATCH(CK$3+1-CK$2&"-"&$AG17,$AD$4:$AD$103,0),1)>=CK$2,$AF17,"")),"") | CL17: =IFERROR(IF(CJ17="","",IF(INDEX($X$4:$X$103,MATCH(CL$3+1-CL$2&"-"&$AG17,$AD$4:$AD$103,0),1)>=CL$2,$AF17,"")),"") | CM17: =IFERROR(IF(CJ17="","",IF(INDEX($X$4:$X$103,MATCH(CM$3+1-CM$2&"-"&$AG17,$AD$4:$AD$103,0),1)>=CM$2,$AF17,"")),"") | CN17: =IFERROR(IF(CJ17="","",IF(INDEX($X$4:$X$103,MATCH(CN$3+1-CN$2&"-"&$AG17,$AD$4:$AD$103,0),1)>=CN$2,$AF17,"")),"") | CO17: =IFERROR(IF(CJ17="","",IF(INDEX($X$4:$X$103,MATCH(CO$3+1-CO$2&"-"&$AG17,$AD$4:$AD$103,0),1)>=CO$2,$AF17,"")),"") | CS17: =IFERROR(IF(OR($AF17="",CS$3>maxCol),"",IF(ISNUMBER(MATCH(CS$3+1-CS$2&"-"&$AG17,$AD$4:$AD$103,0)),$AF17,"")),"") | CT17: =IFERROR(IF(CS17="","",IF(INDEX($X$4:$X$103,MATCH(CT$3+1-CT$2&"-"&$AG17,$AD$4:$AD$103,0),1)>=CT$2,$AF17,"")),"") | CU17: =IFERROR(IF(CS17="","",IF(INDEX($X$4:$X$103,MATCH(CU$3+1-CU$2&"-"&$AG17,$AD$4:$AD$103,0),1)>=CU$2,$AF17,"")),"") | CV17: =IFERROR(IF(CS17="","",IF(INDEX($X$4:$X$103,MATCH(CV$3+1-CV$2&"-"&$AG17,$AD$4:$AD$103,0),1)>=CV$2,$AF17,"")),"") | CW17: =IFERROR(IF(CS17="","",IF(INDEX($X$4:$X$103,MATCH(CW$3+1-CW$2&"-"&$AG17,$AD$4:$AD$103,0),1)>=CW$2,$AF17,"")),"") | CX17: =IFERROR(IF(CS17="","",IF(INDEX($X$4:$X$103,MATCH(CX$3+1-CX$2&"-"&$AG17,$AD$4:$AD$103,0),1)>=CX$2,$AF17,"")),"") | DB17: =IFERROR(IF(OR($AF17="",DB$3>maxCol),"",IF(ISNUMBER(MATCH(DB$3+1-DB$2&"-"&$AG17,$AD$4:$AD$103,0)),$AF17,"")),"") | DC17: =IFERROR(IF(DB17="","",IF(INDEX($X$4:$X$103,MATCH(DC$3+1-DC$2&"-"&$AG17,$AD$4:$AD$103,0),1)>=DC$2,$AF17,"")),"") | DD17: =IFERROR(IF(DB17="","",IF(INDEX($X$4:$X$103,MATCH(DD$3+1-DD$2&"-"&$AG17,$AD$4:$AD$103,0),1)>=DD$2,$AF17,"")),"") | DE17: =IFERROR(IF(DB17="","",IF(INDEX($X$4:$X$103,MATCH(DE$3+1-DE$2&"-"&$AG17,$AD$4:$AD$103,0),1)>=DE$2,$AF17,"")),"") | DF17: =IFERROR(IF(DB17="","",IF(INDEX($X$4:$X$103,MATCH(DF$3+1-DF$2&"-"&$AG17,$AD$4:$AD$103,0),1)>=DF$2,$AF17,"")),"") | DG17: =IFERROR(IF(DB17="","",IF(INDEX($X$4:$X$103,MATCH(DG$3+1-DG$2&"-"&$AG17,$AD$4:$AD$103,0),1)>=DG$2,$AF17,"")),"") | DK17: =IFERROR(IF(OR($AF17="",DK$3>maxCol),"",IF(ISNUMBER(MATCH(DK$3+1-DK$2&"-"&$AG17,$AD$4:$AD$103,0)),$AF17,"")),"") | DL17: =IFERROR(IF(DK17="","",IF(INDEX($X$4:$X$103,MATCH(DL$3+1-DL$2&"-"&$AG17,$AD$4:$AD$103,0),1)>=DL$2,$AF17,"")),"") | DM17: =IFERROR(IF(DK17="","",IF(INDEX($X$4:$X$103,MATCH(DM$3+1-DM$2&"-"&$AG17,$AD$4:$AD$103,0),1)>=DM$2,$AF17,"")),"") | DN17: =IFERROR(IF(DK17="","",IF(INDEX($X$4:$X$103,MATCH(DN$3+1-DN$2&"-"&$AG17,$AD$4:$AD$103,0),1)>=DN$2,$AF17,"")),"") | DO17: =IFERROR(IF(DK17="","",IF(INDEX($X$4:$X$103,MATCH(DO$3+1-DO$2&"-"&$AG17,$AD$4:$AD$103,0),1)>=DO$2,$AF17,"")),"") | DP17: =IFERROR(IF(DK17="","",IF(INDEX($X$4:$X$103,MATCH(DP$3+1-DP$2&"-"&$AG17,$AD$4:$AD$103,0),1)>=DP$2,$AF17,"")),"")
T18: 15 | U18: =IFERROR(TRIM(W18&" "&INDEX(Roadmap!B$6:B$105,$T18,1)),"") | V18: =IF(LEN(U18)>Y18,LEFT(U18,Y18)&"…",U18) | W18: =IFERROR(INDEX(Roadmap!C$6:C$105,$T18,1)&"","") | X18: =IF(LEN(U18)>0,IFERROR(INDEX(Settings!$I$7:$I$9,MATCH(INDEX(Roadmap!D$6:D$105,$T18,1),Settings!$H$7:$H$9,0),1),large),"") | Y18: =IFERROR(INDEX(Settings!$J$7:$J$9,MATCH(INDEX(Roadmap!D$6:D$105,$T18,1),Settings!$H$7:$H$9,0),1),300) -> 300 | Z18: =IFERROR(IF(LEN($U18)=0,"",INDEX(Roadmap!E$6:E$105,$T18,1)&""),"") | AA18: =IFERROR(IF(LEN($U18)=0,"",INDEX(Roadmap!F$6:F$105,$T18,1)&""),"") | AB18: =IFERROR((MATCH(Z18,$C$3:$L$3,0))*divide+COLUMN(startCell)-divide,"") | AC18: =IFERROR(IF(OR(U18="",Z18=""),"",2*COUNTIFS($Z$4:Z18,Z18,$AA$4:AA18,AA18)+INDEX($P$4:$P$16,MATCH(AA18,$B$4:$B$16,0),1)+ROW(startCell)),"") | AD18: =AB18&"-"&AC18 -> - | AF18: =IF(ISNUMBER(MATCH(AG18,$AC$4:$AC$303,0)),MATCH(AG18,$R$4:$R$16,1),"") | AG18: =AG17+1 -> 20 | AH18: =IFERROR(IF(OR($AF18="",AH$3>maxCol),"",IF(ISNUMBER(MATCH(AH$3+1-AH$2&"-"&$AG18,$AD$4:$AD$103,0)),$AF18,"")),"") | AI18: =IFERROR(IF(AH18="","",IF(INDEX($X$4:$X$103,MATCH(AI$3+1-AI$2&"-"&$AG18,$AD$4:$AD$103,0),1)>=AI$2,$AF18,"")),"") | AJ18: =IFERROR(IF(AH18="","",IF(INDEX($X$4:$X$103,MATCH(AJ$3+1-AJ$2&"-"&$AG18,$AD$4:$AD$103,0),1)>=AJ$2,$AF18,"")),"") | AK18: =IFERROR(IF(AH18="","",IF(INDEX($X$4:$X$103,MATCH(AK$3+1-AK$2&"-"&$AG18,$AD$4:$AD$103,0),1)>=AK$2,$AF18,"")),"") | AL18: =IFERROR(IF(AH18="","",IF(INDEX($X$4:$X$103,MATCH(AL$3+1-AL$2&"-"&$AG18,$AD$4:$AD$103,0),1)>=AL$2,$AF18,"")),"") | AM18: =IFERROR(IF(AH18="","",IF(INDEX($X$4:$X$103,MATCH(AM$3+1-AM$2&"-"&$AG18,$AD$4:$AD$103,0),1)>=AM$2,$AF18,"")),"") | AQ18: =IFERROR(IF(OR($AF18="",AQ$3>maxCol),"",IF(ISNUMBER(MATCH(AQ$3+1-AQ$2&"-"&$AG18,$AD$4:$AD$103,0)),$AF18,"")),"") | AR18: =IFERROR(IF(AQ18="","",IF(INDEX($X$4:$X$103,MATCH(AR$3+1-AR$2&"-"&$AG18,$AD$4:$AD$103,0),1)>=AR$2,$AF18,"")),"") | AS18: =IFERROR(IF(AQ18="","",IF(INDEX($X$4:$X$103,MATCH(AS$3+1-AS$2&"-"&$AG18,$AD$4:$AD$103,0),1)>=AS$2,$AF18,"")),"") | AT18: =IFERROR(IF(AQ18="","",IF(INDEX($X$4:$X$103,MATCH(AT$3+1-AT$2&"-"&$AG18,$AD$4:$AD$103,0),1)>=AT$2,$AF18,"")),"") | AU18: =IFERROR(IF(AQ18="","",IF(INDEX($X$4:$X$103,MATCH(AU$3+1-AU$2&"-"&$AG18,$AD$4:$AD$103,0),1)>=AU$2,$AF18,"")),"") | AV18: =IFERROR(IF(AQ18="","",IF(INDEX($X$4:$X$103,MATCH(AV$3+1-AV$2&"-"&$AG18,$AD$4:$AD$103,0),1)>=AV$2,$AF18,"")),"") | AZ18: =IFERROR(IF(OR($AF18="",AZ$3>maxCol),"",IF(ISNUMBER(MATCH(AZ$3+1-AZ$2&"-"&$AG18,$AD$4:$AD$103,0)),$AF18,"")),"") | BA18: =IFERROR(IF(AZ18="","",IF(INDEX($X$4:$X$103,MATCH(BA$3+1-BA$2&"-"&$AG18,$AD$4:$AD$103,0),1)>=BA$2,$AF18,"")),"") | BB18: =IFERROR(IF(AZ18="","",IF(INDEX($X$4:$X$103,MATCH(BB$3+1-BB$2&"-"&$AG18,$AD$4:$AD$103,0),1)>=BB$2,$AF18,"")),"") | BC18: =IFERROR(IF(AZ18="","",IF(INDEX($X$4:$X$103,MATCH(BC$3+1-BC$2&"-"&$AG18,$AD$4:$AD$103,0),1)>=BC$2,$AF18,"")),"") | BD18: =IFERROR(IF(AZ18="","",IF(INDEX($X$4:$X$103,MATCH(BD$3+1-BD$2&"-"&$AG18,$AD$4:$AD$103,0),1)>=BD$2,$AF18,"")),"") | BE18: =IFERROR(IF(AZ18="","",IF(INDEX($X$4:$X$103,MATCH(BE$3+1-BE$2&"-"&$AG18,$AD$4:$AD$103,0),1)>=BE$2,$AF18,"")),"") | BI18: =IFERROR(IF(OR($AF18="",BI$3>maxCol),"",IF(ISNUMBER(MATCH(BI$3+1-BI$2&"-"&$AG18,$AD$4:$AD$103,0)),$AF18,"")),"") | BJ18: =IFERROR(IF(BI18="","",IF(INDEX($X$4:$X$103,MATCH(BJ$3+1-BJ$2&"-"&$AG18,$AD$4:$AD$103,0),1)>=BJ$2,$AF18,"")),"") | BK18: =IFERROR(IF(BI18="","",IF(INDEX($X$4:$X$103,MATCH(BK$3+1-BK$2&"-"&$AG18,$AD$4:$AD$103,0),1)>=BK$2,$AF18,"")),"") | BL18: =IFERROR(IF(BI18="","",IF(INDEX($X$4:$X$103,MATCH(BL$3+1-BL$2&"-"&$AG18,$AD$4:$AD$103,0),1)>=BL$2,$AF18,"")),"") | BM18: =IFERROR(IF(BI18="","",IF(INDEX($X$4:$X$103,MATCH(BM$3+1-BM$2&"-"&$AG18,$AD$4:$AD$103,0),1)>=BM$2,$AF18,"")),"") | BN18: =IFERROR(IF(BI18="","",IF(INDEX($X$4:$X$103,MATCH(BN$3+1-BN$2&"-"&$AG18,$AD$4:$AD$103,0),1)>=BN$2,$AF18,"")),"") | BR18: =IFERROR(IF(OR($AF18="",BR$3>maxCol),"",IF(ISNUMBER(MATCH(BR$3+1-BR$2&"-"&$AG18,$AD$4:$AD$103,0)),$AF18,"")),"") | BS18: =IFERROR(IF(BR18="","",IF(INDEX($X$4:$X$103,MATCH(BS$3+1-BS$2&"-"&$AG18,$AD$4:$AD$103,0),1)>=BS$2,$AF18,"")),"") | BT18: =IFERROR(IF(BR18="","",IF(INDEX($X$4:$X$103,MATCH(BT$3+1-BT$2&"-"&$AG18,$AD$4:$AD$103,0),1)>=BT$2,$AF18,"")),"") | BU18: =IFERROR(IF(BR18="","",IF(INDEX($X$4:$X$103,MATCH(BU$3+1-BU$2&"-"&$AG18,$AD$4:$AD$103,0),1)>=BU$2,$AF18,"")),"") | BV18: =IFERROR(IF(BR18="","",IF(INDEX($X$4:$X$103,MATCH(BV$3+1-BV$2&"-"&$AG18,$AD$4:$AD$103,0),1)>=BV$2,$AF18,"")),"") | BW18: =IFERROR(IF(BR18="","",IF(INDEX($X$4:$X$103,MATCH(BW$3+1-BW$2&"-"&$AG18,$AD$4:$AD$103,0),1)>=BW$2,$AF18,"")),"") | CA18: =IFERROR(IF(OR($AF18="",CA$3>maxCol),"",IF(ISNUMBER(MATCH(CA$3+1-CA$2&"-"&$AG18,$AD$4:$AD$103,0)),$AF18,"")),"") | CB18: =IFERROR(IF(CA18="","",IF(INDEX($X$4:$X$103,MATCH(CB$3+1-CB$2&"-"&$AG18,$AD$4:$AD$103,0),1)>=CB$2,$AF18,"")),"") | CC18: =IFERROR(IF(CA18="","",IF(INDEX($X$4:$X$103,MATCH(CC$3+1-CC$2&"-"&$AG18,$AD$4:$AD$103,0),1)>=CC$2,$AF18,"")),"") | CD18: =IFERROR(IF(CA18="","",IF(INDEX($X$4:$X$103,MATCH(CD$3+1-CD$2&"-"&$AG18,$AD$4:$AD$103,0),1)>=CD$2,$AF18,"")),"") | CE18: =IFERROR(IF(CA18="","",IF(INDEX($X$4:$X$103,MATCH(CE$3+1-CE$2&"-"&$AG18,$AD$4:$AD$103,0),1)>=CE$2,$AF18,"")),"") | CF18: =IFERROR(IF(CA18="","",IF(INDEX($X$4:$X$103,MATCH(CF$3+1-CF$2&"-"&$AG18,$AD$4:$AD$103,0),1)>=CF$2,$AF18,"")),"") | CJ18: =IFERROR(IF(OR($AF18="",CJ$3>maxCol),"",IF(ISNUMBER(MATCH(CJ$3+1-CJ$2&"-"&$AG18,$AD$4:$AD$103,0)),$AF18,"")),"") | CK18: =IFERROR(IF(CJ18="","",IF(INDEX($X$4:$X$103,MATCH(CK$3+1-CK$2&"-"&$AG18,$AD$4:$AD$103,0),1)>=CK$2,$AF18,"")),"") | CL18: =IFERROR(IF(CJ18="","",IF(INDEX($X$4:$X$103,MATCH(CL$3+1-CL$2&"-"&$AG18,$AD$4:$AD$103,0),1)>=CL$2,$AF18,"")),"") | CM18: =IFERROR(IF(CJ18="","",IF(INDEX($X$4:$X$103,MATCH(CM$3+1-CM$2&"-"&$AG18,$AD$4:$AD$103,0),1)>=CM$2,$AF18,"")),"") | CN18: =IFERROR(IF(CJ18="","",IF(INDEX($X$4:$X$103,MATCH(CN$3+1-CN$2&"-"&$AG18,$AD$4:$AD$103,0),1)>=CN$2,$AF18,"")),"") | CO18: =IFERROR(IF(CJ18="","",IF(INDEX($X$4:$X$103,MATCH(CO$3+1-CO$2&"-"&$AG18,$AD$4:$AD$103,0),1)>=CO$2,$AF18,"")),"") | CS18: =IFERROR(IF(OR($AF18="",CS$3>maxCol),"",IF(ISNUMBER(MATCH(CS$3+1-CS$2&"-"&$AG18,$AD$4:$AD$103,0)),$AF18,"")),"") | CT18: =IFERROR(IF(CS18="","",IF(INDEX($X$4:$X$103,MATCH(CT$3+1-CT$2&"-"&$AG18,$AD$4:$AD$103,0),1)>=CT$2,$AF18,"")),"") | CU18: =IFERROR(IF(CS18="","",IF(INDEX($X$4:$X$103,MATCH(CU$3+1-CU$2&"-"&$AG18,$AD$4:$AD$103,0),1)>=CU$2,$AF18,"")),"") | CV18: =IFERROR(IF(CS18="","",IF(INDEX($X$4:$X$103,MATCH(CV$3+1-CV$2&"-"&$AG18,$AD$4:$AD$103,0),1)>=CV$2,$AF18,"")),"") | CW18: =IFERROR(IF(CS18="","",IF(INDEX($X$4:$X$103,MATCH(CW$3+1-CW$2&"-"&$AG18,$AD$4:$AD$103,0),1)>=CW$2,$AF18,"")),"") | CX18: =IFERROR(IF(CS18="","",IF(INDEX($X$4:$X$103,MATCH(CX$3+1-CX$2&"-"&$AG18,$AD$4:$AD$103,0),1)>=CX$2,$AF18,"")),"") | DB18: =IFERROR(IF(OR($AF18="",DB$3>maxCol),"",IF(ISNUMBER(MATCH(DB$3+1-DB$2&"-"&$AG18,$AD$4:$AD$103,0)),$AF18,"")),"") | DC18: =IFERROR(IF(DB18="","",IF(INDEX($X$4:$X$103,MATCH(DC$3+1-DC$2&"-"&$AG18,$AD$4:$AD$103,0),1)>=DC$2,$AF18,"")),"") | DD18: =IFERROR(IF(DB18="","",IF(INDEX($X$4:$X$103,MATCH(DD$3+1-DD$2&"-"&$AG18,$AD$4:$AD$103,0),1)>=DD$2,$AF18,"")),"") | DE18: =IFERROR(IF(DB18="","",IF(INDEX($X$4:$X$103,MATCH(DE$3+1-DE$2&"-"&$AG18,$AD$4:$AD$103,0),1)>=DE$2,$AF18,"")),"") | DF18: =IFERROR(IF(DB18="","",IF(INDEX($X$4:$X$103,MATCH(DF$3+1-DF$2&"-"&$AG18,$AD$4:$AD$103,0),1)>=DF$2,$AF18,"")),"") | DG18: =IFERROR(IF(DB18="","",IF(INDEX($X$4:$X$103,MATCH(DG$3+1-DG$2&"-"&$AG18,$AD$4:$AD$103,0),1)>=DG$2,$AF18,"")),"") | DK18: =IFERROR(IF(OR($AF18="",DK$3>maxCol),"",IF(ISNUMBER(MATCH(DK$3+1-DK$2&"-"&$AG18,$AD$4:$AD$103,0)),$AF18,"")),"") | DL18: =IFERROR(IF(DK18="","",IF(INDEX($X$4:$X$103,MATCH(DL$3+1-DL$2&"-"&$AG18,$AD$4:$AD$103,0),1)>=DL$2,$AF18,"")),"") | DM18: =IFERROR(IF(DK18="","",IF(INDEX($X$4:$X$103,MATCH(DM$3+1-DM$2&"-"&$AG18,$AD$4:$AD$103,0),1)>=DM$2,$AF18,"")),"") | DN18: =IFERROR(IF(DK18="","",IF(INDEX($X$4:$X$103,MATCH(DN$3+1-DN$2&"-"&$AG18,$AD$4:$AD$103,0),1)>=DN$2,$AF18,"")),"") | DO18: =IFERROR(IF(DK18="","",IF(INDEX($X$4:$X$103,MATCH(DO$3+1-DO$2&"-"&$AG18,$AD$4:$AD$103,0),1)>=DO$2,$AF18,"")),"") | DP18: =IFERROR(IF(DK18="","",IF(INDEX($X$4:$X$103,MATCH(DP$3+1-DP$2&"-"&$AG18,$AD$4:$AD$103,0),1)>=DP$2,$AF18,"")),"")
B19: Division | C19: 9 | E19: Max Col Formatting: | F19: =MAX(AB4:AB103)+divide-4 -> 42 | T19: 16 | U19: =IFERROR(TRIM(W19&" "&INDEX(Roadmap!B$6:B$105,$T19,1)),"") | V19: =IF(LEN(U19)>Y19,LEFT(U19,Y19)&"…",U19) | W19: =IFERROR(INDEX(Roadmap!C$6:C$105,$T19,1)&"","") | X19: =IF(LEN(U19)>0,IFERROR(INDEX(Settings!$I$7:$I$9,MATCH(INDEX(Roadmap!D$6:D$105,$T19,1),Settings!$H$7:$H$9,0),1),large),"") | Y19: =IFERROR(INDEX(Settings!$J$7:$J$9,MATCH(INDEX(Roadmap!D$6:D$105,$T19,1),Settings!$H$7:$H$9,0),1),300) -> 300 | Z19: =IFERROR(IF(LEN($U19)=0,"",INDEX(Roadmap!E$6:E$105,$T19,1)&""),"") | AA19: =IFERROR(IF(LEN($U19)=0,"",INDEX(Roadmap!F$6:F$105,$T19,1)&""),"") | AB19: =IFERROR((MATCH(Z19,$C$3:$L$3,0))*divide+COLUMN(startCell)-divide,"") | AC19: =IFERROR(IF(OR(U19="",Z19=""),"",2*COUNTIFS($Z$4:Z19,Z19,$AA$4:AA19,AA19)+INDEX($P$4:$P$16,MATCH(AA19,$B$4:$B$16,0),1)+ROW(startCell)),"") | AD19: =AB19&"-"&AC19 -> - | AF19: =IF(ISNUMBER(MATCH(AG19,$AC$4:$AC$303,0)),MATCH(AG19,$R$4:$R$16,1),"") | AG19: =AG18+1 -> 21 | AH19: =IFERROR(IF(OR($AF19="",AH$3>maxCol),"",IF(ISNUMBER(MATCH(AH$3+1-AH$2&"-"&$AG19,$AD$4:$AD$103,0)),$AF19,"")),"") | AI19: =IFERROR(IF(AH19="","",IF(INDEX($X$4:$X$103,MATCH(AI$3+1-AI$2&"-"&$AG19,$AD$4:$AD$103,0),1)>=AI$2,$AF19,"")),"") | AJ19: =IFERROR(IF(AH19="","",IF(INDEX($X$4:$X$103,MATCH(AJ$3+1-AJ$2&"-"&$AG19,$AD$4:$AD$103,0),1)>=AJ$2,$AF19,"")),"") | AK19: =IFERROR(IF(AH19="","",IF(INDEX($X$4:$X$103,MATCH(AK$3+1-AK$2&"-"&$AG19,$AD$4:$AD$103,0),1)>=AK$2,$AF19,"")),"") | AL19: =IFERROR(IF(AH19="","",IF(INDEX($X$4:$X$103,MATCH(AL$3+1-AL$2&"-"&$AG19,$AD$4:$AD$103,0),1)>=AL$2,$AF19,"")),"") | AM19: =IFERROR(IF(AH19="","",IF(INDEX($X$4:$X$103,MATCH(AM$3+1-AM$2&"-"&$AG19,$AD$4:$AD$103,0),1)>=AM$2,$AF19,"")),"") | AQ19: =IFERROR(IF(OR($AF19="",AQ$3>maxCol),"",IF(ISNUMBER(MATCH(AQ$3+1-AQ$2&"-"&$AG19,$AD$4:$AD$103,0)),$AF19,"")),"") | AR19: =IFERROR(IF(AQ19="","",IF(INDEX($X$4:$X$103,MATCH(AR$3+1-AR$2&"-"&$AG19,$AD$4:$AD$103,0),1)>=AR$2,$AF19,"")),"") | AS19: =IFERROR(IF(AQ19="","",IF(INDEX($X$4:$X$103,MATCH(AS$3+1-AS$2&"-"&$AG19,$AD$4:$AD$103,0),1)>=AS$2,$AF19,"")),"") | AT19: =IFERROR(IF(AQ19="","",IF(INDEX($X$4:$X$103,MATCH(AT$3+1-AT$2&"-"&$AG19,$AD$4:$AD$103,0),1)>=AT$2,$AF19,"")),"") | AU19: =IFERROR(IF(AQ19="","",IF(INDEX($X$4:$X$103,MATCH(AU$3+1-AU$2&"-"&$AG19,$AD$4:$AD$103,0),1)>=AU$2,$AF19,"")),"") | AV19: =IFERROR(IF(AQ19="","",IF(INDEX($X$4:$X$103,MATCH(AV$3+1-AV$2&"-"&$AG19,$AD$4:$AD$103,0),1)>=AV$2,$AF19,"")),"") | AZ19: =IFERROR(IF(OR($AF19="",AZ$3>maxCol),"",IF(ISNUMBER(MATCH(AZ$3+1-AZ$2&"-"&$AG19,$AD$4:$AD$103,0)),$AF19,"")),"") | BA19: =IFERROR(IF(AZ19="","",IF(INDEX($X$4:$X$103,MATCH(BA$3+1-BA$2&"-"&$AG19,$AD$4:$AD$103,0),1)>=BA$2,$AF19,"")),"") | BB19: =IFERROR(IF(AZ19="","",IF(INDEX($X$4:$X$103,MATCH(BB$3+1-BB$2&"-"&$AG19,$AD$4:$AD$103,0),1)>=BB$2,$AF19,"")),"") | BC19: =IFERROR(IF(AZ19="","",IF(INDEX($X$4:$X$103,MATCH(BC$3+1-BC$2&"-"&$AG19,$AD$4:$AD$103,0),1)>=BC$2,$AF19,"")),"") | BD19: =IFERROR(IF(AZ19="","",IF(INDEX($X$4:$X$103,MATCH(BD$3+1-BD$2&"-"&$AG19,$AD$4:$AD$103,0),1)>=BD$2,$AF19,"")),"") | BE19: =IFERROR(IF(AZ19="","",IF(INDEX($X$4:$X$103,MATCH(BE$3+1-BE$2&"-"&$AG19,$AD$4:$AD$103,0),1)>=BE$2,$AF19,"")),"") | BI19: =IFERROR(IF(OR($AF19="",BI$3>maxCol),"",IF(ISNUMBER(MATCH(BI$3+1-BI$2&"-"&$AG19,$AD$4:$AD$103,0)),$AF19,"")),"") | BJ19: =IFERROR(IF(BI19="","",IF(INDEX($X$4:$X$103,MATCH(BJ$3+1-BJ$2&"-"&$AG19,$AD$4:$AD$103,0),1)>=BJ$2,$AF19,"")),"") | BK19: =IFERROR(IF(BI19="","",IF(INDEX($X$4:$X$103,MATCH(BK$3+1-BK$2&"-"&$AG19,$AD$4:$AD$103,0),1)>=BK$2,$AF19,"")),"") | BL19: =IFERROR(IF(BI19="","",IF(INDEX($X$4:$X$103,MATCH(BL$3+1-BL$2&"-"&$AG19,$AD$4:$AD$103,0),1)>=BL$2,$AF19,"")),"") | BM19: =IFERROR(IF(BI19="","",IF(INDEX($X$4:$X$103,MATCH(BM$3+1-BM$2&"-"&$AG19,$AD$4:$AD$103,0),1)>=BM$2,$AF19,"")),"") | BN19: =IFERROR(IF(BI19="","",IF(INDEX($X$4:$X$103,MATCH(BN$3+1-BN$2&"-"&$AG19,$AD$4:$AD$103,0),1)>=BN$2,$AF19,"")),"") | BR19: =IFERROR(IF(OR($AF19="",BR$3>maxCol),"",IF(ISNUMBER(MATCH(BR$3+1-BR$2&"-"&$AG19,$AD$4:$AD$103,0)),$AF19,"")),"") | BS19: =IFERROR(IF(BR19="","",IF(INDEX($X$4:$X$103,MATCH(BS$3+1-BS$2&"-"&$AG19,$AD$4:$AD$103,0),1)>=BS$2,$AF19,"")),"") | BT19: =IFERROR(IF(BR19="","",IF(INDEX($X$4:$X$103,MATCH(BT$3+1-BT$2&"-"&$AG19,$AD$4:$AD$103,0),1)>=BT$2,$AF19,"")),"") | BU19: =IFERROR(IF(BR19="","",IF(INDEX($X$4:$X$103,MATCH(BU$3+1-BU$2&"-"&$AG19,$AD$4:$AD$103,0),1)>=BU$2,$AF19,"")),"") | BV19: =IFERROR(IF(BR19="","",IF(INDEX($X$4:$X$103,MATCH(BV$3+1-BV$2&"-"&$AG19,$AD$4:$AD$103,0),1)>=BV$2,$AF19,"")),"") | BW19: =IFERROR(IF(BR19="","",IF(INDEX($X$4:$X$103,MATCH(BW$3+1-BW$2&"-"&$AG19,$AD$4:$AD$103,0),1)>=BW$2,$AF19,"")),"") | CA19: =IFERROR(IF(OR($AF19="",CA$3>maxCol),"",IF(ISNUMBER(MATCH(CA$3+1-CA$2&"-"&$AG19,$AD$4:$AD$103,0)),$AF19,"")),"") | CB19: =IFERROR(IF(CA19="","",IF(INDEX($X$4:$X$103,MATCH(CB$3+1-CB$2&"-"&$AG19,$AD$4:$AD$103,0),1)>=CB$2,$AF19,"")),"") | CC19: =IFERROR(IF(CA19="","",IF(INDEX($X$4:$X$103,MATCH(CC$3+1-CC$2&"-"&$AG19,$AD$4:$AD$103,0),1)>=CC$2,$AF19,"")),"") | CD19: =IFERROR(IF(CA19="","",IF(INDEX($X$4:$X$103,MATCH(CD$3+1-CD$2&"-"&$AG19,$AD$4:$AD$103,0),1)>=CD$2,$AF19,"")),"") | CE19: =IFERROR(IF(CA19="","",IF(INDEX($X$4:$X$103,MATCH(CE$3+1-CE$2&"-"&$AG19,$AD$4:$AD$103,0),1)>=CE$2,$AF19,"")),"") | CF19: =IFERROR(IF(CA19="","",IF(INDEX($X$4:$X$103,MATCH(CF$3+1-CF$2&"-"&$AG19,$AD$4:$AD$103,0),1)>=CF$2,$AF19,"")),"") | CJ19: =IFERROR(IF(OR($AF19="",CJ$3>maxCol),"",IF(ISNUMBER(MATCH(CJ$3+1-CJ$2&"-"&$AG19,$AD$4:$AD$103,0)),$AF19,"")),"") | CK19: =IFERROR(IF(CJ19="","",IF(INDEX($X$4:$X$103,MATCH(CK$3+1-CK$2&"-"&$AG19,$AD$4:$AD$103,0),1)>=CK$2,$AF19,"")),"") | CL19: =IFERROR(IF(CJ19="","",IF(INDEX($X$4:$X$103,MATCH(CL$3+1-CL$2&"-"&$AG19,$AD$4:$AD$103,0),1)>=CL$2,$AF19,"")),"") | CM19: =IFERROR(IF(CJ19="","",IF(INDEX($X$4:$X$103,MATCH(CM$3+1-CM$2&"-"&$AG19,$AD$4:$AD$103,0),1)>=CM$2,$AF19,"")),"") | CN19: =IFERROR(IF(CJ19="","",IF(INDEX($X$4:$X$103,MATCH(CN$3+1-CN$2&"-"&$AG19,$AD$4:$AD$103,0),1)>=CN$2,$AF19,"")),"") | CO19: =IFERROR(IF(CJ19="","",IF(INDEX($X$4:$X$103,MATCH(CO$3+1-CO$2&"-"&$AG19,$AD$4:$AD$103,0),1)>=CO$2,$AF19,"")),"") | CS19: =IFERROR(IF(OR($AF19="",CS$3>maxCol),"",IF(ISNUMBER(MATCH(CS$3+1-CS$2&"-"&$AG19,$AD$4:$AD$103,0)),$AF19,"")),"") | CT19: =IFERROR(IF(CS19="","",IF(INDEX($X$4:$X$103,MATCH(CT$3+1-CT$2&"-"&$AG19,$AD$4:$AD$103,0),1)>=CT$2,$AF19,"")),"") | CU19: =IFERROR(IF(CS19="","",IF(INDEX($X$4:$X$103,MATCH(CU$3+1-CU$2&"-"&$AG19,$AD$4:$AD$103,0),1)>=CU$2,$AF19,"")),"") | CV19: =IFERROR(IF(CS19="","",IF(INDEX($X$4:$X$103,MATCH(CV$3+1-CV$2&"-"&$AG19,$AD$4:$AD$103,0),1)>=CV$2,$AF19,"")),"") | CW19: =IFERROR(IF(CS19="","",IF(INDEX($X$4:$X$103,MATCH(CW$3+1-CW$2&"-"&$AG19,$AD$4:$AD$103,0),1)>=CW$2,$AF19,"")),"") | CX19: =IFERROR(IF(CS19="","",IF(INDEX($X$4:$X$103,MATCH(CX$3+1-CX$2&"-"&$AG19,$AD$4:$AD$103,0),1)>=CX$2,$AF19,"")),"") | DB19: =IFERROR(IF(OR($AF19="",DB$3>maxCol),"",IF(ISNUMBER(MATCH(DB$3+1-DB$2&"-"&$AG19,$AD$4:$AD$103,0)),$AF19,"")),"") | DC19: =IFERROR(IF(DB19="","",IF(INDEX($X$4:$X$103,MATCH(DC$3+1-DC$2&"-"&$AG19,$AD$4:$AD$103,0),1)>=DC$2,$AF19,"")),"") | DD19: =IFERROR(IF(DB19="","",IF(INDEX($X$4:$X$103,MATCH(DD$3+1-DD$2&"-"&$AG19,$AD$4:$AD$103,0),1)>=DD$2,$AF19,"")),"") | DE19: =IFERROR(IF(DB19="","",IF(INDEX($X$4:$X$103,MATCH(DE$3+1-DE$2&"-"&$AG19,$AD$4:$AD$103,0),1)>=DE$2,$AF19,"")),"") | DF19: =IFERROR(IF(DB19="","",IF(INDEX($X$4:$X$103,MATCH(DF$3+1-DF$2&"-"&$AG19,$AD$4:$AD$103,0),1)>=DF$2,$AF19,"")),"") | DG19: =IFERROR(IF(DB19="","",IF(INDEX($X$4:$X$103,MATCH(DG$3+1-DG$2&"-"&$AG19,$AD$4:$AD$103,0),1)>=DG$2,$AF19,"")),"") | DK19: =IFERROR(IF(OR($AF19="",DK$3>maxCol),"",IF(ISNUMBER(MATCH(DK$3+1-DK$2&"-"&$AG19,$AD$4:$AD$103,0)),$AF19,"")),"") | DL19: =IFERROR(IF(DK19="","",IF(INDEX($X$4:$X$103,MATCH(DL$3+1-DL$2&"-"&$AG19,$AD$4:$AD$103,0),1)>=DL$2,$AF19,"")),"") | DM19: =IFERROR(IF(DK19="","",IF(INDEX($X$4:$X$103,MATCH(DM$3+1-DM$2&"-"&$AG19,$AD$4:$AD$103,0),1)>=DM$2,$AF19,"")),"") | DN19: =IFERROR(IF(DK19="","",IF(INDEX($X$4:$X$103,MATCH(DN$3+1-DN$2&"-"&$AG19,$AD$4:$AD$103,0),1)>=DN$2,$AF19,"")),"") | DO19: =IFERROR(IF(DK19="","",IF(INDEX($X$4:$X$103,MATCH(DO$3+1-DO$2&"-"&$AG19,$AD$4:$AD$103,0),1)>=DO$2,$AF19,"")),"") | DP19: =IFERROR(IF(DK19="","",IF(INDEX($X$4:$X$103,MATCH(DP$3+1-DP$2&"-"&$AG19,$AD$4:$AD$103,0),1)>=DP$2,$AF19,"")),"")
T20: 17 | U20: =IFERROR(TRIM(W20&" "&INDEX(Roadmap!B$6:B$105,$T20,1)),"") | V20: =IF(LEN(U20)>Y20,LEFT(U20,Y20)&"…",U20) | W20: =IFERROR(INDEX(Roadmap!C$6:C$105,$T20,1)&"","") | X20: =IF(LEN(U20)>0,IFERROR(INDEX(Settings!$I$7:$I$9,MATCH(INDEX(Roadmap!D$6:D$105,$T20,1),Settings!$H$7:$H$9,0),1),large),"") | Y20: =IFERROR(INDEX(Settings!$J$7:$J$9,MATCH(INDEX(Roadmap!D$6:D$105,$T20,1),Settings!$H$7:$H$9,0),1),300) -> 300 | Z20: =IFERROR(IF(LEN($U20)=0,"",INDEX(Roadmap!E$6:E$105,$T20,1)&""),"") | AA20: =IFERROR(IF(LEN($U20)=0,"",INDEX(Roadmap!F$6:F$105,$T20,1)&""),"") | AB20: =IFERROR((MATCH(Z20,$C$3:$L$3,0))*divide+COLUMN(startCell)-divide,"") | AC20: =IFERROR(IF(OR(U20="",Z20=""),"",2*COUNTIFS($Z$4:Z20,Z20,$AA$4:AA20,AA20)+INDEX($P$4:$P$16,MATCH(AA20,$B$4:$B$16,0),1)+ROW(startCell)),"") | AD20: =AB20&"-"&AC20 -> - | AF20: =IF(ISNUMBER(MATCH(AG20,$AC$4:$AC$303,0)),MATCH(AG20,$R$4:$R$16,1),"") -> 4 | AG20: =AG19+1 -> 22 | AH20: =IFERROR(IF(OR($AF20="",AH$3>maxCol),"",IF(ISNUMBER(MATCH(AH$3+1-AH$2&"-"&$AG20,$AD$4:$AD$103,0)),$AF20,"")),"") | AI20: =IFERROR(IF(AH20="","",IF(INDEX($X$4:$X$103,MATCH(AI$3+1-AI$2&"-"&$AG20,$AD$4:$AD$103,0),1)>=AI$2,$AF20,"")),"") | AJ20: =IFERROR(IF(AH20="","",IF(INDEX($X$4:$X$103,MATCH(AJ$3+1-AJ$2&"-"&$AG20,$AD$4:$AD$103,0),1)>=AJ$2,$AF20,"")),"") | AK20: =IFERROR(IF(AH20="","",IF(INDEX($X$4:$X$103,MATCH(AK$3+1-AK$2&"-"&$AG20,$AD$4:$AD$103,0),1)>=AK$2,$AF20,"")),"") | AL20: =IFERROR(IF(AH20="","",IF(INDEX($X$4:$X$103,MATCH(AL$3+1-AL$2&"-"&$AG20,$AD$4:$AD$103,0),1)>=AL$2,$AF20,"")),"") | AM20: =IFERROR(IF(AH20="","",IF(INDEX($X$4:$X$103,MATCH(AM$3+1-AM$2&"-"&$AG20,$AD$4:$AD$103,0),1)>=AM$2,$AF20,"")),"") | AQ20: =IFERROR(IF(OR($AF20="",AQ$3>maxCol),"",IF(ISNUMBER(MATCH(AQ$3+1-AQ$2&"-"&$AG20,$AD$4:$AD$103,0)),$AF20,"")),"") -> 4 | AR20: =IFERROR(IF(AQ20="","",IF(INDEX($X$4:$X$103,MATCH(AR$3+1-AR$2&"-"&$AG20,$AD$4:$AD$103,0),1)>=AR$2,$AF20,"")),"") -> 4 | AS20: =IFERROR(IF(AQ20="","",IF(INDEX($X$4:$X$103,MATCH(AS$3+1-AS$2&"-"&$AG20,$AD$4:$AD$103,0),1)>=AS$2,$AF20,"")),"") -> 4 | AT20: =IFERROR(IF(AQ20="","",IF(INDEX($X$4:$X$103,MATCH(AT$3+1-AT$2&"-"&$AG20,$AD$4:$AD$103,0),1)>=AT$2,$AF20,"")),"") -> 4 | AU20: =IFERROR(IF(AQ20="","",IF(INDEX($X$4:$X$103,MATCH(AU$3+1-AU$2&"-"&$AG20,$AD$4:$AD$103,0),1)>=AU$2,$AF20,"")),"") -> 4 | AV20: =IFERROR(IF(AQ20="","",IF(INDEX($X$4:$X$103,MATCH(AV$3+1-AV$2&"-"&$AG20,$AD$4:$AD$103,0),1)>=AV$2,$AF20,"")),"") -> 4 | AZ20: =IFERROR(IF(OR($AF20="",AZ$3>maxCol),"",IF(ISNUMBER(MATCH(AZ$3+1-AZ$2&"-"&$AG20,$AD$4:$AD$103,0)),$AF20,"")),"") | BA20: =IFERROR(IF(AZ20="","",IF(INDEX($X$4:$X$103,MATCH(BA$3+1-BA$2&"-"&$AG20,$AD$4:$AD$103,0),1)>=BA$2,$AF20,"")),"") | BB20: =IFERROR(IF(AZ20="","",IF(INDEX($X$4:$X$103,MATCH(BB$3+1-BB$2&"-"&$AG20,$AD$4:$AD$103,0),1)>=BB$2,$AF20,"")),"") | BC20: =IFERROR(IF(AZ20="","",IF(INDEX($X$4:$X$103,MATCH(BC$3+1-BC$2&"-"&$AG20,$AD$4:$AD$103,0),1)>=BC$2,$AF20,"")),"") | BD20: =IFERROR(IF(AZ20="","",IF(INDEX($X$4:$X$103,MATCH(BD$3+1-BD$2&"-"&$AG20,$AD$4:$AD$103,0),1)>=BD$2,$AF20,"")),"") | BE20: =IFERROR(IF(AZ20="","",IF(INDEX($X$4:$X$103,MATCH(BE$3+1-BE$2&"-"&$AG20,$AD$4:$AD$103,0),1)>=BE$2,$AF20,"")),"") | BI20: =IFERROR(IF(OR($AF20="",BI$3>maxCol),"",IF(ISNUMBER(MATCH(BI$3+1-BI$2&"-"&$AG20,$AD$4:$AD$103,0)),$AF20,"")),"") -> 4 | BJ20: =IFERROR(IF(BI20="","",IF(INDEX($X$4:$X$103,MATCH(BJ$3+1-BJ$2&"-"&$AG20,$AD$4:$AD$103,0),1)>=BJ$2,$AF20,"")),"") -> 4 | BK20: =IFERROR(IF(BI20="","",IF(INDEX($X$4:$X$103,MATCH(BK$3+1-BK$2&"-"&$AG20,$AD$4:$AD$103,0),1)>=BK$2,$AF20,"")),"") -> 4 | BL20: =IFERROR(IF(BI20="","",IF(INDEX($X$4:$X$103,MATCH(BL$3+1-BL$2&"-"&$AG20,$AD$4:$AD$103,0),1)>=BL$2,$AF20,"")),"") -> 4 | BM20: =IFERROR(IF(BI20="","",IF(INDEX($X$4:$X$103,MATCH(BM$3+1-BM$2&"-"&$AG20,$AD$4:$AD$103,0),1)>=BM$2,$AF20,"")),"") -> 4 | BN20: =IFERROR(IF(BI20="","",IF(INDEX($X$4:$X$103,MATCH(BN$3+1-BN$2&"-"&$AG20,$AD$4:$AD$103,0),1)>=BN$2,$AF20,"")),"") -> 4 | BR20: =IFERROR(IF(OR($AF20="",BR$3>maxCol),"",IF(ISNUMBER(MATCH(BR$3+1-BR$2&"-"&$AG20,$AD$4:$AD$103,0)),$AF20,"")),"") | BS20: =IFERROR(IF(BR20="","",IF(INDEX($X$4:$X$103,MATCH(BS$3+1-BS$2&"-"&$AG20,$AD$4:$AD$103,0),1)>=BS$2,$AF20,"")),"") | BT20: =IFERROR(IF(BR20="","",IF(INDEX($X$4:$X$103,MATCH(BT$3+1-BT$2&"-"&$AG20,$AD$4:$AD$103,0),1)>=BT$2,$AF20,"")),"") | BU20: =IFERROR(IF(BR20="","",IF(INDEX($X$4:$X$103,MATCH(BU$3+1-BU$2&"-"&$AG20,$AD$4:$AD$103,0),1)>=BU$2,$AF20,"")),"") | BV20: =IFERROR(IF(BR20="","",IF(INDEX($X$4:$X$103,MATCH(BV$3+1-BV$2&"-"&$AG20,$AD$4:$AD$103,0),1)>=BV$2,$AF20,"")),"") | BW20: =IFERROR(IF(BR20="","",IF(INDEX($X$4:$X$103,MATCH(BW$3+1-BW$2&"-"&$AG20,$AD$4:$AD$103,0),1)>=BW$2,$AF20,"")),"") | CA20: =IFERROR(IF(OR($AF20="",CA$3>maxCol),"",IF(ISNUMBER(MATCH(CA$3+1-CA$2&"-"&$AG20,$AD$4:$AD$103,0)),$AF20,"")),"") | CB20: =IFERROR(IF(CA20="","",IF(INDEX($X$4:$X$103,MATCH(CB$3+1-CB$2&"-"&$AG20,$AD$4:$AD$103,0),1)>=CB$2,$AF20,"")),"") | CC20: =IFERROR(IF(CA20="","",IF(INDEX($X$4:$X$103,MATCH(CC$3+1-CC$2&"-"&$AG20,$AD$4:$AD$103,0),1)>=CC$2,$AF20,"")),"") | CD20: =IFERROR(IF(CA20="","",IF(INDEX($X$4:$X$103,MATCH(CD$3+1-CD$2&"-"&$AG20,$AD$4:$AD$103,0),1)>=CD$2,$AF20,"")),"") | CE20: =IFERROR(IF(CA20="","",IF(INDEX($X$4:$X$103,MATCH(CE$3+1-CE$2&"-"&$AG20,$AD$4:$AD$103,0),1)>=CE$2,$AF20,"")),"") | CF20: =IFERROR(IF(CA20="","",IF(INDEX($X$4:$X$103,MATCH(CF$3+1-CF$2&"-"&$AG20,$AD$4:$AD$103,0),1)>=CF$2,$AF20,"")),"") | CJ20: =IFERROR(IF(OR($AF20="",CJ$3>maxCol),"",IF(ISNUMBER(MATCH(CJ$3+1-CJ$2&"-"&$AG20,$AD$4:$AD$103,0)),$AF20,"")),"") | CK20: =IFERROR(IF(CJ20="","",IF(INDEX($X$4:$X$103,MATCH(CK$3+1-CK$2&"-"&$AG20,$AD$4:$AD$103,0),1)>=CK$2,$AF20,"")),"") | CL20: =IFERROR(IF(CJ20="","",IF(INDEX($X$4:$X$103,MATCH(CL$3+1-CL$2&"-"&$AG20,$AD$4:$AD$103,0),1)>=CL$2,$AF20,"")),"") | CM20: =IFERROR(IF(CJ20="","",IF(INDEX($X$4:$X$103,MATCH(CM$3+1-CM$2&"-"&$AG20,$AD$4:$AD$103,0),1)>=CM$2,$AF20,"")),"") | CN20: =IFERROR(IF(CJ20="","",IF(INDEX($X$4:$X$103,MATCH(CN$3+1-CN$2&"-"&$AG20,$AD$4:$AD$103,0),1)>=CN$2,$AF20,"")),"") | CO20: =IFERROR(IF(CJ20="","",IF(INDEX($X$4:$X$103,MATCH(CO$3+1-CO$2&"-"&$AG20,$AD$4:$AD$103,0),1)>=CO$2,$AF20,"")),"") | CS20: =IFERROR(IF(OR($AF20="",CS$3>maxCol),"",IF(ISNUMBER(MATCH(CS$3+1-CS$2&"-"&$AG20,$AD$4:$AD$103,0)),$AF20,"")),"") | CT20: =IFERROR(IF(CS20="","",IF(INDEX($X$4:$X$103,MATCH(CT$3+1-CT$2&"-"&$AG20,$AD$4:$AD$103,0),1)>=CT$2,$AF20,"")),"") | CU20: =IFERROR(IF(CS20="","",IF(INDEX($X$4:$X$103,MATCH(CU$3+1-CU$2&"-"&$AG20,$AD$4:$AD$103,0),1)>=CU$2,$AF20,"")),"") | CV20: =IFERROR(IF(CS20="","",IF(INDEX($X$4:$X$103,MATCH(CV$3+1-CV$2&"-"&$AG20,$AD$4:$AD$103,0),1)>=CV$2,$AF20,"")),"") | CW20: =IFERROR(IF(CS20="","",IF(INDEX($X$4:$X$103,MATCH(CW$3+1-CW$2&"-"&$AG20,$AD$4:$AD$103,0),1)>=CW$2,$AF20,"")),"") | CX20: =IFERROR(IF(CS20="","",IF(INDEX($X$4:$X$103,MATCH(CX$3+1-CX$2&"-"&$AG20,$AD$4:$AD$103,0),1)>=CX$2,$AF20,"")),"") | DB20: =IFERROR(IF(OR($AF20="",DB$3>maxCol),"",IF(ISNUMBER(MATCH(DB$3+1-DB$2&"-"&$AG20,$AD$4:$AD$103,0)),$AF20,"")),"") | DC20: =IFERROR(IF(DB20="","",IF(INDEX($X$4:$X$103,MATCH(DC$3+1-DC$2&"-"&$AG20,$AD$4:$AD$103,0),1)>=DC$2,$AF20,"")),"") | DD20: =IFERROR(IF(DB20="","",IF(INDEX($X$4:$X$103,MATCH(DD$3+1-DD$2&"-"&$AG20,$AD$4:$AD$103,0),1)>=DD$2,$AF20,"")),"") | DE20: =IFERROR(IF(DB20="","",IF(INDEX($X$4:$X$103,MATCH(DE$3+1-DE$2&"-"&$AG20,$AD$4:$AD$103,0),1)>=DE$2,$AF20,"")),"") | DF20: =IFERROR(IF(DB20="","",IF(INDEX($X$4:$X$103,MATCH(DF$3+1-DF$2&"-"&$AG20,$AD$4:$AD$103,0),1)>=DF$2,$AF20,"")),"") | DG20: =IFERROR(IF(DB20="","",IF(INDEX($X$4:$X$103,MATCH(DG$3+1-DG$2&"-"&$AG20,$AD$4:$AD$103,0),1)>=DG$2,$AF20,"")),"") | DK20: =IFERROR(IF(OR($AF20="",DK$3>maxCol),"",IF(ISNUMBER(MATCH(DK$3+1-DK$2&"-"&$AG20,$AD$4:$AD$103,0)),$AF20,"")),"") | DL20: =IFERROR(IF(DK20="","",IF(INDEX($X$4:$X$103,MATCH(DL$3+1-DL$2&"-"&$AG20,$AD$4:$AD$103,0),1)>=DL$2,$AF20,"")),"") | DM20: =IFERROR(IF(DK20="","",IF(INDEX($X$4:$X$103,MATCH(DM$3+1-DM$2&"-"&$AG20,$AD$4:$AD$103,0),1)>=DM$2,$AF20,"")),"") | DN20: =IFERROR(IF(DK20="","",IF(INDEX($X$4:$X$103,MATCH(DN$3+1-DN$2&"-"&$AG20,$AD$4:$AD$103,0),1)>=DN$2,$AF20,"")),"") | DO20: =IFERROR(IF(DK20="","",IF(INDEX($X$4:$X$103,MATCH(DO$3+1-DO$2&"-"&$AG20,$AD$4:$AD$103,0),1)>=DO$2,$AF20,"")),"") | DP20: =IFERROR(IF(DK20="","",IF(INDEX($X$4:$X$103,MATCH(DP$3+1-DP$2&"-"&$AG20,$AD$4:$AD$103,0),1)>=DP$2,$AF20,"")),"")
B21: Milestone | T21: 18 | U21: =IFERROR(TRIM(W21&" "&INDEX(Roadmap!B$6:B$105,$T21,1)),"") | V21: =IF(LEN(U21)>Y21,LEFT(U21,Y21)&"…",U21) | W21: =IFERROR(INDEX(Roadmap!C$6:C$105,$T21,1)&"","") | X21: =IF(LEN(U21)>0,IFERROR(INDEX(Settings!$I$7:$I$9,MATCH(INDEX(Roadmap!D$6:D$105,$T21,1),Settings!$H$7:$H$9,0),1),large),"") | Y21: =IFERROR(INDEX(Settings!$J$7:$J$9,MATCH(INDEX(Roadmap!D$6:D$105,$T21,1),Settings!$H$7:$H$9,0),1),300) -> 300 | Z21: =IFERROR(IF(LEN($U21)=0,"",INDEX(Roadmap!E$6:E$105,$T21,1)&""),"") | AA21: =IFERROR(IF(LEN($U21)=0,"",INDEX(Roadmap!F$6:F$105,$T21,1)&""),"") | AB21: =IFERROR((MATCH(Z21,$C$3:$L$3,0))*divide+COLUMN(startCell)-divide,"") | AC21: =IFERROR(IF(OR(U21="",Z21=""),"",2*COUNTIFS($Z$4:Z21,Z21,$AA$4:AA21,AA21)+INDEX($P$4:$P$16,MATCH(AA21,$B$4:$B$16,0),1)+ROW(startCell)),"") | AD21: =AB21&"-"&AC21 -> - | AF21: =IF(ISNUMBER(MATCH(AG21,$AC$4:$AC$303,0)),MATCH(AG21,$R$4:$R$16,1),"") | AG21: =AG20+1 -> 23 | AH21: =IFERROR(IF(OR($AF21="",AH$3>maxCol),"",IF(ISNUMBER(MATCH(AH$3+1-AH$2&"-"&$AG21,$AD$4:$AD$103,0)),$AF21,"")),"") | AI21: =IFERROR(IF(AH21="","",IF(INDEX($X$4:$X$103,MATCH(AI$3+1-AI$2&"-"&$AG21,$AD$4:$AD$103,0),1)>=AI$2,$AF21,"")),"") | AJ21: =IFERROR(IF(AH21="","",IF(INDEX($X$4:$X$103,MATCH(AJ$3+1-AJ$2&"-"&$AG21,$AD$4:$AD$103,0),1)>=AJ$2,$AF21,"")),"") | AK21: =IFERROR(IF(AH21="","",IF(INDEX($X$4:$X$103,MATCH(AK$3+1-AK$2&"-"&$AG21,$AD$4:$AD$103,0),1)>=AK$2,$AF21,"")),"") | AL21: =IFERROR(IF(AH21="","",IF(INDEX($X$4:$X$103,MATCH(AL$3+1-AL$2&"-"&$AG21,$AD$4:$AD$103,0),1)>=AL$2,$AF21,"")),"") | AM21: =IFERROR(IF(AH21="","",IF(INDEX($X$4:$X$103,MATCH(AM$3+1-AM$2&"-"&$AG21,$AD$4:$AD$103,0),1)>=AM$2,$AF21,"")),"") | AQ21: =IFERROR(IF(OR($AF21="",AQ$3>maxCol),"",IF(ISNUMBER(MATCH(AQ$3+1-AQ$2&"-"&$AG21,$AD$4:$AD$103,0)),$AF21,"")),"") | AR21: =IFERROR(IF(AQ21="","",IF(INDEX($X$4:$X$103,MATCH(AR$3+1-AR$2&"-"&$AG21,$AD$4:$AD$103,0),1)>=AR$2,$AF21,"")),"") | AS21: =IFERROR(IF(AQ21="","",IF(INDEX($X$4:$X$103,MATCH(AS$3+1-AS$2&"-"&$AG21,$AD$4:$AD$103,0),1)>=AS$2,$AF21,"")),"") | AT21: =IFERROR(IF(AQ21="","",IF(INDEX($X$4:$X$103,MATCH(AT$3+1-AT$2&"-"&$AG21,$AD$4:$AD$103,0),1)>=AT$2,$AF21,"")),"") | AU21: =IFERROR(IF(AQ21="","",IF(INDEX($X$4:$X$103,MATCH(AU$3+1-AU$2&"-"&$AG21,$AD$4:$AD$103,0),1)>=AU$2,$AF21,"")),"") | AV21: =IFERROR(IF(AQ21="","",IF(INDEX($X$4:$X$103,MATCH(AV$3+1-AV$2&"-"&$AG21,$AD$4:$AD$103,0),1)>=AV$2,$AF21,"")),"") | AZ21: =IFERROR(IF(OR($AF21="",AZ$3>maxCol),"",IF(ISNUMBER(MATCH(AZ$3+1-AZ$2&"-"&$AG21,$AD$4:$AD$103,0)),$AF21,"")),"") | BA21: =IFERROR(IF(AZ21="","",IF(INDEX($X$4:$X$103,MATCH(BA$3+1-BA$2&"-"&$AG21,$AD$4:$AD$103,0),1)>=BA$2,$AF21,"")),"") | BB21: =IFERROR(IF(AZ21="","",IF(INDEX($X$4:$X$103,MATCH(BB$3+1-BB$2&"-"&$AG21,$AD$4:$AD$103,0),1)>=BB$2,$AF21,"")),"") | BC21: =IFERROR(IF(AZ21="","",IF(INDEX($X$4:$X$103,MATCH(BC$3+1-BC$2&"-"&$AG21,$AD$4:$AD$103,0),1)>=BC$2,$AF21,"")),"") | BD21: =IFERROR(IF(AZ21="","",IF(INDEX($X$4:$X$103,MATCH(BD$3+1-BD$2&"-"&$AG21,$AD$4:$AD$103,0),1)>=BD$2,$AF21,"")),"") | BE21: =IFERROR(IF(AZ21="","",IF(INDEX($X$4:$X$103,MATCH(BE$3+1-BE$2&"-"&$AG21,$AD$4:$AD$103,0),1)>=BE$2,$AF21,"")),"") | BI21: =IFERROR(IF(OR($AF21="",BI$3>maxCol),"",IF(ISNUMBER(MATCH(BI$3+1-BI$2&"-"&$AG21,$AD$4:$AD$103,0)),$AF21,"")),"") | BJ21: =IFERROR(IF(BI21="","",IF(INDEX($X$4:$X$103,MATCH(BJ$3+1-BJ$2&"-"&$AG21,$AD$4:$AD$103,0),1)>=BJ$2,$AF21,"")),"") | BK21: =IFERROR(IF(BI21="","",IF(INDEX($X$4:$X$103,MATCH(BK$3+1-BK$2&"-"&$AG21,$AD$4:$AD$103,0),1)>=BK$2,$AF21,"")),"") | BL21: =IFERROR(IF(BI21="","",IF(INDEX($X$4:$X$103,MATCH(BL$3+1-BL$2&"-"&$AG21,$AD$4:$AD$103,0),1)>=BL$2,$AF21,"")),"") | BM21: =IFERROR(IF(BI21="","",IF(INDEX($X$4:$X$103,MATCH(BM$3+1-BM$2&"-"&$AG21,$AD$4:$AD$103,0),1)>=BM$2,$AF21,"")),"") | BN21: =IFERROR(IF(BI21="","",IF(INDEX($X$4:$X$103,MATCH(BN$3+1-BN$2&"-"&$AG21,$AD$4:$AD$103,0),1)>=BN$2,$AF21,"")),"") | BR21: =IFERROR(IF(OR($AF21="",BR$3>maxCol),"",IF(ISNUMBER(MATCH(BR$3+1-BR$2&"-"&$AG21,$AD$4:$AD$103,0)),$AF21,"")),"") | BS21: =IFERROR(IF(BR21="","",IF(INDEX($X$4:$X$103,MATCH(BS$3+1-BS$2&"-"&$AG21,$AD$4:$AD$103,0),1)>=BS$2,$AF21,"")),"") | BT21: =IFERROR(IF(BR21="","",IF(INDEX($X$4:$X$103,MATCH(BT$3+1-BT$2&"-"&$AG21,$AD$4:$AD$103,0),1)>=BT$2,$AF21,"")),"") | BU21: =IFERROR(IF(BR21="","",IF(INDEX($X$4:$X$103,MATCH(BU$3+1-BU$2&"-"&$AG21,$AD$4:$AD$103,0),1)>=BU$2,$AF21,"")),"") | BV21: =IFERROR(IF(BR21="","",IF(INDEX($X$4:$X$103,MATCH(BV$3+1-BV$2&"-"&$AG21,$AD$4:$AD$103,0),1)>=BV$2,$AF21,"")),"") | BW21: =IFERROR(IF(BR21="","",IF(INDEX($X$4:$X$103,MATCH(BW$3+1-BW$2&"-"&$AG21,$AD$4:$AD$103,0),1)>=BW$2,$AF21,"")),"") | CA21: =IFERROR(IF(OR($AF21="",CA$3>maxCol),"",IF(ISNUMBER(MATCH(CA$3+1-CA$2&"-"&$AG21,$AD$4:$AD$103,0)),$AF21,"")),"") | CB21: =IFERROR(IF(CA21="","",IF(INDEX($X$4:$X$103,MATCH(CB$3+1-CB$2&"-"&$AG21,$AD$4:$AD$103,0),1)>=CB$2,$AF21,"")),"") | CC21: =IFERROR(IF(CA21="","",IF(INDEX($X$4:$X$103,MATCH(CC$3+1-CC$2&"-"&$AG21,$AD$4:$AD$103,0),1)>=CC$2,$AF21,"")),"") | CD21: =IFERROR(IF(CA21="","",IF(INDEX($X$4:$X$103,MATCH(CD$3+1-CD$2&"-"&$AG21,$AD$4:$AD$103,0),1)>=CD$2,$AF21,"")),"") | CE21: =IFERROR(IF(CA21="","",IF(INDEX($X$4:$X$103,MATCH(CE$3+1-CE$2&"-"&$AG21,$AD$4:$AD$103,0),1)>=CE$2,$AF21,"")),"") | CF21: =IFERROR(IF(CA21="","",IF(INDEX($X$4:$X$103,MATCH(CF$3+1-CF$2&"-"&$AG21,$AD$4:$AD$103,0),1)>=CF$2,$AF21,"")),"") | CJ21: =IFERROR(IF(OR($AF21="",CJ$3>maxCol),"",IF(ISNUMBER(MATCH(CJ$3+1-CJ$2&"-"&$AG21,$AD$4:$AD$103,0)),$AF21,"")),"") | CK21: =IFERROR(IF(CJ21="","",IF(INDEX($X$4:$X$103,MATCH(CK$3+1-CK$2&"-"&$AG21,$AD$4:$AD$103,0),1)>=CK$2,$AF21,"")),"") | CL21: =IFERROR(IF(CJ21="","",IF(INDEX($X$4:$X$103,MATCH(CL$3+1-CL$2&"-"&$AG21,$AD$4:$AD$103,0),1)>=CL$2,$AF21,"")),"") | CM21: =IFERROR(IF(CJ21="","",IF(INDEX($X$4:$X$103,MATCH(CM$3+1-CM$2&"-"&$AG21,$AD$4:$AD$103,0),1)>=CM$2,$AF21,"")),"") | CN21: =IFERROR(IF(CJ21="","",IF(INDEX($X$4:$X$103,MATCH(CN$3+1-CN$2&"-"&$AG21,$AD$4:$AD$103,0),1)>=CN$2,$AF21,"")),"") | CO21: =IFERROR(IF(CJ21="","",IF(INDEX($X$4:$X$103,MATCH(CO$3+1-CO$2&"-"&$AG21,$AD$4:$AD$103,0),1)>=CO$2,$AF21,"")),"") | CS21: =IFERROR(IF(OR($AF21="",CS$3>maxCol),"",IF(ISNUMBER(MATCH(CS$3+1-CS$2&"-"&$AG21,$AD$4:$AD$103,0)),$AF21,"")),"") | CT21: =IFERROR(IF(CS21="","",IF(INDEX($X$4:$X$103,MATCH(CT$3+1-CT$2&"-"&$AG21,$AD$4:$AD$103,0),1)>=CT$2,$AF21,"")),"") | CU21: =IFERROR(IF(CS21="","",IF(INDEX($X$4:$X$103,MATCH(CU$3+1-CU$2&"-"&$AG21,$AD$4:$AD$103,0),1)>=CU$2,$AF21,"")),"") | CV21: =IFERROR(IF(CS21="","",IF(INDEX($X$4:$X$103,MATCH(CV$3+1-CV$2&"-"&$AG21,$AD$4:$AD$103,0),1)>=CV$2,$AF21,"")),"") | CW21: =IFERROR(IF(CS21="","",IF(INDEX($X$4:$X$103,MATCH(CW$3+1-CW$2&"-"&$AG21,$AD$4:$AD$103,0),1)>=CW$2,$AF21,"")),"") | CX21: =IFERROR(IF(CS21="","",IF(INDEX($X$4:$X$103,MATCH(CX$3+1-CX$2&"-"&$AG21,$AD$4:$AD$103,0),1)>=CX$2,$AF21,"")),"") | DB21: =IFERROR(IF(OR($AF21="",DB$3>maxCol),"",IF(ISNUMBER(MATCH(DB$3+1-DB$2&"-"&$AG21,$AD$4:$AD$103,0)),$AF21,"")),"") | DC21: =IFERROR(IF(DB21="","",IF(INDEX($X$4:$X$103,MATCH(DC$3+1-DC$2&"-"&$AG21,$AD$4:$AD$103,0),1)>=DC$2,$AF21,"")),"") | DD21: =IFERROR(IF(DB21="","",IF(INDEX($X$4:$X$103,MATCH(DD$3+1-DD$2&"-"&$AG21,$AD$4:$AD$103,0),1)>=DD$2,$AF21,"")),"") | DE21: =IFERROR(IF(DB21="","",IF(INDEX($X$4:$X$103,MATCH(DE$3+1-DE$2&"-"&$AG21,$AD$4:$AD$103,0),1)>=DE$2,$AF21,"")),"") | DF21: =IFERROR(IF(DB21="","",IF(INDEX($X$4:$X$103,MATCH(DF$3+1-DF$2&"-"&$AG21,$AD$4:$AD$103,0),1)>=DF$2,$AF21,"")),"") | DG21: =IFERROR(IF(DB21="","",IF(INDEX($X$4:$X$103,MATCH(DG$3+1-DG$2&"-"&$AG21,$AD$4:$AD$103,0),1)>=DG$2,$AF21,"")),"") | DK21: =IFERROR(IF(OR($AF21="",DK$3>maxCol),"",IF(ISNUMBER(MATCH(DK$3+1-DK$2&"-"&$AG21,$AD$4:$AD$103,0)),$AF21,"")),"") | DL21: =IFERROR(IF(DK21="","",IF(INDEX($X$4:$X$103,MATCH(DL$3+1-DL$2&"-"&$AG21,$AD$4:$AD$103,0),1)>=DL$2,$AF21,"")),"") | DM21: =IFERROR(IF(DK21="","",IF(INDEX($X$4:$X$103,MATCH(DM$3+1-DM$2&"-"&$AG21,$AD$4:$AD$103,0),1)>=DM$2,$AF21,"")),"") | DN21: =IFERROR(IF(DK21="","",IF(INDEX($X$4:$X$103,MATCH(DN$3+1-DN$2&"-"&$AG21,$AD$4:$AD$103,0),1)>=DN$2,$AF21,"")),"") | DO21: =IFERROR(IF(DK21="","",IF(INDEX($X$4:$X$103,MATCH(DO$3+1-DO$2&"-"&$AG21,$AD$4:$AD$103,0),1)>=DO$2,$AF21,"")),"") | DP21: =IFERROR(IF(DK21="","",IF(INDEX($X$4:$X$103,MATCH(DP$3+1-DP$2&"-"&$AG21,$AD$4:$AD$103,0),1)>=DP$2,$AF21,"")),"")
T22: 19 | U22: =IFERROR(TRIM(W22&" "&INDEX(Roadmap!B$6:B$105,$T22,1)),"") | V22: =IF(LEN(U22)>Y22,LEFT(U22,Y22)&"…",U22) | W22: =IFERROR(INDEX(Roadmap!C$6:C$105,$T22,1)&"","") | X22: =IF(LEN(U22)>0,IFERROR(INDEX(Settings!$I$7:$I$9,MATCH(INDEX(Roadmap!D$6:D$105,$T22,1),Settings!$H$7:$H$9,0),1),large),"") | Y22: =IFERROR(INDEX(Settings!$J$7:$J$9,MATCH(INDEX(Roadmap!D$6:D$105,$T22,1),Settings!$H$7:$H$9,0),1),300) -> 300 | Z22: =IFERROR(IF(LEN($U22)=0,"",INDEX(Roadmap!E$6:E$105,$T22,1)&""),"") | AA22: =IFERROR(IF(LEN($U22)=0,"",INDEX(Roadmap!F$6:F$105,$T22,1)&""),"") | AB22: =IFERROR((MATCH(Z22,$C$3:$L$3,0))*divide+COLUMN(startCell)-divide,"") | AC22: =IFERROR(IF(OR(U22="",Z22=""),"",2*COUNTIFS($Z$4:Z22,Z22,$AA$4:AA22,AA22)+INDEX($P$4:$P$16,MATCH(AA22,$B$4:$B$16,0),1)+ROW(startCell)),"") | AD22: =AB22&"-"&AC22 -> - | AF22: =IF(ISNUMBER(MATCH(AG22,$AC$4:$AC$303,0)),MATCH(AG22,$R$4:$R$16,1),"") -> 4 | AG22: =AG21+1 -> 24 | AH22: =IFERROR(IF(OR($AF22="",AH$3>maxCol),"",IF(ISNUMBER(MATCH(AH$3+1-AH$2&"-"&$AG22,$AD$4:$AD$103,0)),$AF22,"")),"") | AI22: =IFERROR(IF(AH22="","",IF(INDEX($X$4:$X$103,MATCH(AI$3+1-AI$2&"-"&$AG22,$AD$4:$AD$103,0),1)>=AI$2,$AF22,"")),"") | AJ22: =IFERROR(IF(AH22="","",IF(INDEX($X$4:$X$103,MATCH(AJ$3+1-AJ$2&"-"&$AG22,$AD$4:$AD$103,0),1)>=AJ$2,$AF22,"")),"") | AK22: =IFERROR(IF(AH22="","",IF(INDEX($X$4:$X$103,MATCH(AK$3+1-AK$2&"-"&$AG22,$AD$4:$AD$103,0),1)>=AK$2,$AF22,"")),"") | AL22: =IFERROR(IF(AH22="","",IF(INDEX($X$4:$X$103,MATCH(AL$3+1-AL$2&"-"&$AG22,$AD$4:$AD$103,0),1)>=AL$2,$AF22,"")),"") | AM22: =IFERROR(IF(AH22="","",IF(INDEX($X$4:$X$103,MATCH(AM$3+1-AM$2&"-"&$AG22,$AD$4:$AD$103,0),1)>=AM$2,$AF22,"")),"") | AQ22: =IFERROR(IF(OR($AF22="",AQ$3>maxCol),"",IF(ISNUMBER(MATCH(AQ$3+1-AQ$2&"-"&$AG22,$AD$4:$AD$103,0)),$AF22,"")),"") -> 4 | AR22: =IFERROR(IF(AQ22="","",IF(INDEX($X$4:$X$103,MATCH(AR$3+1-AR$2&"-"&$AG22,$AD$4:$AD$103,0),1)>=AR$2,$AF22,"")),"") -> 4 | AS22: =IFERROR(IF(AQ22="","",IF(INDEX($X$4:$X$103,MATCH(AS$3+1-AS$2&"-"&$AG22,$AD$4:$AD$103,0),1)>=AS$2,$AF22,"")),"") -> 4 | AT22: =IFERROR(IF(AQ22="","",IF(INDEX($X$4:$X$103,MATCH(AT$3+1-AT$2&"-"&$AG22,$AD$4:$AD$103,0),1)>=AT$2,$AF22,"")),"") -> 4 | AU22: =IFERROR(IF(AQ22="","",IF(INDEX($X$4:$X$103,MATCH(AU$3+1-AU$2&"-"&$AG22,$AD$4:$AD$103,0),1)>=AU$2,$AF22,"")),"") | AV22: =IFERROR(IF(AQ22="","",IF(INDEX($X$4:$X$103,MATCH(AV$3+1-AV$2&"-"&$AG22,$AD$4:$AD$103,0),1)>=AV$2,$AF22,"")),"") | AZ22: =IFERROR(IF(OR($AF22="",AZ$3>maxCol),"",IF(ISNUMBER(MATCH(AZ$3+1-AZ$2&"-"&$AG22,$AD$4:$AD$103,0)),$AF22,"")),"") | BA22: =IFERROR(IF(AZ22="","",IF(INDEX($X$4:$X$103,MATCH(BA$3+1-BA$2&"-"&$AG22,$AD$4:$AD$103,0),1)>=BA$2,$AF22,"")),"") | BB22: =IFERROR(IF(AZ22="","",IF(INDEX($X$4:$X$103,MATCH(BB$3+1-BB$2&"-"&$AG22,$AD$4:$AD$103,0),1)>=BB$2,$AF22,"")),"") | BC22: =IFERROR(IF(AZ22="","",IF(INDEX($X$4:$X$103,MATCH(BC$3+1-BC$2&"-"&$AG22,$AD$4:$AD$103,0),1)>=BC$2,$AF22,"")),"") | BD22: =IFERROR(IF(AZ22="","",IF(INDEX($X$4:$X$103,MATCH(BD$3+1-BD$2&"-"&$AG22,$AD$4:$AD$103,0),1)>=BD$2,$AF22,"")),"") | BE22: =IFERROR(IF(AZ22="","",IF(INDEX($X$4:$X$103,MATCH(BE$3+1-BE$2&"-"&$AG22,$AD$4:$AD$103,0),1)>=BE$2,$AF22,"")),"") | BI22: =IFERROR(IF(OR($AF22="",BI$3>maxCol),"",IF(ISNUMBER(MATCH(BI$3+1-BI$2&"-"&$AG22,$AD$4:$AD$103,0)),$AF22,"")),"") | BJ22: =IFERROR(IF(BI22="","",IF(INDEX($X$4:$X$103,MATCH(BJ$3+1-BJ$2&"-"&$AG22,$AD$4:$AD$103,0),1)>=BJ$2,$AF22,"")),"") | BK22: =IFERROR(IF(BI22="","",IF(INDEX($X$4:$X$103,MATCH(BK$3+1-BK$2&"-"&$AG22,$AD$4:$AD$103,0),1)>=BK$2,$AF22,"")),"") | BL22: =IFERROR(IF(BI22="","",IF(INDEX($X$4:$X$103,MATCH(BL$3+1-BL$2&"-"&$AG22,$AD$4:$AD$103,0),1)>=BL$2,$AF22,"")),"") | BM22: =IFERROR(IF(BI22="","",IF(INDEX($X$4:$X$103,MATCH(BM$3+1-BM$2&"-"&$AG22,$AD$4:$AD$103,0),1)>=BM$2,$AF22,"")),"") | BN22: =IFERROR(IF(BI22="","",IF(INDEX($X$4:$X$103,MATCH(BN$3+1-BN$2&"-"&$AG22,$AD$4:$AD$103,0),1)>=BN$2,$AF22,"")),"") | BR22: =IFERROR(IF(OR($AF22="",BR$3>maxCol),"",IF(ISNUMBER(MATCH(BR$3+1-BR$2&"-"&$AG22,$AD$4:$AD$103,0)),$AF22,"")),"") | BS22: =IFERROR(IF(BR22="","",IF(INDEX($X$4:$X$103,MATCH(BS$3+1-BS$2&"-"&$AG22,$AD$4:$AD$103,0),1)>=BS$2,$AF22,"")),"") | BT22: =IFERROR(IF(BR22="","",IF(INDEX($X$4:$X$103,MATCH(BT$3+1-BT$2&"-"&$AG22,$AD$4:$AD$103,0),1)>=BT$2,$AF22,"")),"") | BU22: =IFERROR(IF(BR22="","",IF(INDEX($X$4:$X$103,MATCH(BU$3+1-BU$2&"-"&$AG22,$AD$4:$AD$103,0),1)>=BU$2,$AF22,"")),"") | BV22: =IFERROR(IF(BR22="","",IF(INDEX($X$4:$X$103,MATCH(BV$3+1-BV$2&"-"&$AG22,$AD$4:$AD$103,0),1)>=BV$2,$AF22,"")),"") | BW22: =IFERROR(IF(BR22="","",IF(INDEX($X$4:$X$103,MATCH(BW$3+1-BW$2&"-"&$AG22,$AD$4:$AD$103,0),1)>=BW$2,$AF22,"")),"") | CA22: =IFERROR(IF(OR($AF22="",CA$3>maxCol),"",IF(ISNUMBER(MATCH(CA$3+1-CA$2&"-"&$AG22,$AD$4:$AD$103,0)),$AF22,"")),"") | CB22: =IFERROR(IF(CA22="","",IF(INDEX($X$4:$X$103,MATCH(CB$3+1-CB$2&"-"&$AG22,$AD$4:$AD$103,0),1)>=CB$2,$AF22,"")),"") | CC22: =IFERROR(IF(CA22="","",IF(INDEX($X$4:$X$103,MATCH(CC$3+1-CC$2&"-"&$AG22,$AD$4:$AD$103,0),1)>=CC$2,$AF22,"")),"") | CD22: =IFERROR(IF(CA22="","",IF(INDEX($X$4:$X$103,MATCH(CD$3+1-CD$2&"-"&$AG22,$AD$4:$AD$103,0),1)>=CD$2,$AF22,"")),"") | CE22: =IFERROR(IF(CA22="","",IF(INDEX($X$4:$X$103,MATCH(CE$3+1-CE$2&"-"&$AG22,$AD$4:$AD$103,0),1)>=CE$2,$AF22,"")),"") | CF22: =IFERROR(IF(CA22="","",IF(INDEX($X$4:$X$103,MATCH(CF$3+1-CF$2&"-"&$AG22,$AD$4:$AD$103,0),1)>=CF$2,$AF22,"")),"") | CJ22: =IFERROR(IF(OR($AF22="",CJ$3>maxCol),"",IF(ISNUMBER(MATCH(CJ$3+1-CJ$2&"-"&$AG22,$AD$4:$AD$103,0)),$AF22,"")),"") | CK22: =IFERROR(IF(CJ22="","",IF(INDEX($X$4:$X$103,MATCH(CK$3+1-CK$2&"-"&$AG22,$AD$4:$AD$103,0),1)>=CK$2,$AF22,"")),"") | CL22: =IFERROR(IF(CJ22="","",IF(INDEX($X$4:$X$103,MATCH(CL$3+1-CL$2&"-"&$AG22,$AD$4:$AD$103,0),1)>=CL$2,$AF22,"")),"") | CM22: =IFERROR(IF(CJ22="","",IF(INDEX($X$4:$X$103,MATCH(CM$3+1-CM$2&"-"&$AG22,$AD$4:$AD$103,0),1)>=CM$2,$AF22,"")),"") | CN22: =IFERROR(IF(CJ22="","",IF(INDEX($X$4:$X$103,MATCH(CN$3+1-CN$2&"-"&$AG22,$AD$4:$AD$103,0),1)>=CN$2,$AF22,"")),"") | CO22: =IFERROR(IF(CJ22="","",IF(INDEX($X$4:$X$103,MATCH(CO$3+1-CO$2&"-"&$AG22,$AD$4:$AD$103,0),1)>=CO$2,$AF22,"")),"") | CS22: =IFERROR(IF(OR($AF22="",CS$3>maxCol),"",IF(ISNUMBER(MATCH(CS$3+1-CS$2&"-"&$AG22,$AD$4:$AD$103,0)),$AF22,"")),"") | CT22: =IFERROR(IF(CS22="","",IF(INDEX($X$4:$X$103,MATCH(CT$3+1-CT$2&"-"&$AG22,$AD$4:$AD$103,0),1)>=CT$2,$AF22,"")),"") | CU22: =IFERROR(IF(CS22="","",IF(INDEX($X$4:$X$103,MATCH(CU$3+1-CU$2&"-"&$AG22,$AD$4:$AD$103,0),1)>=CU$2,$AF22,"")),"") | CV22: =IFERROR(IF(CS22="","",IF(INDEX($X$4:$X$103,MATCH(CV$3+1-CV$2&"-"&$AG22,$AD$4:$AD$103,0),1)>=CV$2,$AF22,"")),"") | CW22: =IFERROR(IF(CS22="","",IF(INDEX($X$4:$X$103,MATCH(CW$3+1-CW$2&"-"&$AG22,$AD$4:$AD$103,0),1)>=CW$2,$AF22,"")),"") | CX22: =IFERROR(IF(CS22="","",IF(INDEX($X$4:$X$103,MATCH(CX$3+1-CX$2&"-"&$AG22,$AD$4:$AD$103,0),1)>=CX$2,$AF22,"")),"") | DB22: =IFERROR(IF(OR($AF22="",DB$3>maxCol),"",IF(ISNUMBER(MATCH(DB$3+1-DB$2&"-"&$AG22,$AD$4:$AD$103,0)),$AF22,"")),"") | DC22: =IFERROR(IF(DB22="","",IF(INDEX($X$4:$X$103,MATCH(DC$3+1-DC$2&"-"&$AG22,$AD$4:$AD$103,0),1)>=DC$2,$AF22,"")),"") | DD22: =IFERROR(IF(DB22="","",IF(INDEX($X$4:$X$103,MATCH(DD$3+1-DD$2&"-"&$AG22,$AD$4:$AD$103,0),1)>=DD$2,$AF22,"")),"") | DE22: =IFERROR(IF(DB22="","",IF(INDEX($X$4:$X$103,MATCH(DE$3+1-DE$2&"-"&$AG22,$AD$4:$AD$103,0),1)>=DE$2,$AF22,"")),"") | DF22: =IFERROR(IF(DB22="","",IF(INDEX($X$4:$X$103,MATCH(DF$3+1-DF$2&"-"&$AG22,$AD$4:$AD$103,0),1)>=DF$2,$AF22,"")),"") | DG22: =IFERROR(IF(DB22="","",IF(INDEX($X$4:$X$103,MATCH(DG$3+1-DG$2&"-"&$AG22,$AD$4:$AD$103,0),1)>=DG$2,$AF22,"")),"") | DK22: =IFERROR(IF(OR($AF22="",DK$3>maxCol),"",IF(ISNUMBER(MATCH(DK$3+1-DK$2&"-"&$AG22,$AD$4:$AD$103,0)),$AF22,"")),"") | DL22: =IFERROR(IF(DK22="","",IF(INDEX($X$4:$X$103,MATCH(DL$3+1-DL$2&"-"&$AG22,$AD$4:$AD$103,0),1)>=DL$2,$AF22,"")),"") | DM22: =IFERROR(IF(DK22="","",IF(INDEX($X$4:$X$103,MATCH(DM$3+1-DM$2&"-"&$AG22,$AD$4:$AD$103,0),1)>=DM$2,$AF22,"")),"") | DN22: =IFERROR(IF(DK22="","",IF(INDEX($X$4:$X$103,MATCH(DN$3+1-DN$2&"-"&$AG22,$AD$4:$AD$103,0),1)>=DN$2,$AF22,"")),"") | DO22: =IFERROR(IF(DK22="","",IF(INDEX($X$4:$X$103,MATCH(DO$3+1-DO$2&"-"&$AG22,$AD$4:$AD$103,0),1)>=DO$2,$AF22,"")),"") | DP22: =IFERROR(IF(DK22="","",IF(INDEX($X$4:$X$103,MATCH(DP$3+1-DP$2&"-"&$AG22,$AD$4:$AD$103,0),1)>=DP$2,$AF22,"")),"")
