Workbook
Name dropdown: OFFSET(Calculation!$AL$7,ROW(RAM!$B1)-1-ROW(RAM!$B$7),-INDEX(Calculation!$T$7:$T$206,ROW(RAM!$B1)-ROW(RAM!$B$7),1),1,1+INDEX(Calculation!$T$7:$T$206,ROW(RAM!$B1)-ROW(RAM!$B$7),1))
Name option: WBS!$F$5
Name personF: Calculation!$AT$17
Name positions: Calculation!$W$7:$W$206
Name roleF: Calculation!$AT$16
Name startCell: WBS!$C$11

Sheet RAM
B2: RESPONSIBILITY ASSIGNMENT MATRIX
B3: RAM CHART
D5: =IF(INDEX(Settings!$C$7:$C$106,COLUMN(D5)-COLUMN($C$5),1)="","",INDEX(Settings!$C$7:$C$106,COLUMN(D5)-COLUMN($C$5),1)) -> Walt Disney | E5: =IF(INDEX(Settings!$C$7:$C$106,COLUMN(E5)-COLUMN($C$5),1)="","",INDEX(Settings!$C$7:$C$106,COLUMN(E5)-COLUMN($C$5),1)) -> Mikey Mouse | F5: =IF(INDEX(Settings!$C$7:$C$106,COLUMN(F5)-COLUMN($C$5),1)="","",INDEX(Settings!$C$7:$C$106,COLUMN(F5)-COLUMN($C$5),1)) -> Cinderella | G5: =IF(INDEX(Settings!$C$7:$C$106,COLUMN(G5)-COLUMN($C$5),1)="","",INDEX(Settings!$C$7:$C$106,COLUMN(G5)-COLUMN($C$5),1)) -> Mouse | H5: =IF(INDEX(Settings!$C$7:$C$106,COLUMN(H5)-COLUMN($C$5),1)="","",INDEX(Settings!$C$7:$C$106,COLUMN(H5)-COLUMN($C$5),1)) -> Bird | I5: =IF(INDEX(Settings!$C$7:$C$106,COLUMN(I5)-COLUMN($C$5),1)="","",INDEX(Settings!$C$7:$C$106,COLUMN(I5)-COLUMN($C$5),1)) -> Fairy godmother | J5: =IF(INDEX(Settings!$C$7:$C$106,COLUMN(J5)-COLUMN($C$5),1)="","",INDEX(Settings!$C$7:$C$106,COLUMN(J5)-COLUMN($C$5),1)) -> Prince charming | K5: =IF(INDEX(Settings!$C$7:$C$106,COLUMN(K5)-COLUMN($C$5),1)="","",INDEX(Settings!$C$7:$C$106,COLUMN(K5)-COLUMN($C$5),1)) | ... CY5: =IF(INDEX(Settings!$C$7:$C$106,COLUMN(CY5)-COLUMN($C$5),1)="","",INDEX(Settings!$C$7:$C$106,COLUMN(CY5)-COLUMN($C$5),1))
B6: ID | C6: TASK DESCRIPTION | D6: =IF(INDEX(Settings!$E$7:$E$106,COLUMN(D5)-COLUMN($C$5),1)="","",INDEX(Settings!$E$7:$E$106,COLUMN(D5)-COLUMN($C$5),1)) -> CEO | E6: =IF(INDEX(Settings!$E$7:$E$106,COLUMN(E5)-COLUMN($C$5),1)="","",INDEX(Settings!$E$7:$E$106,COLUMN(E5)-COLUMN($C$5),1)) -> PM | F6: =IF(INDEX(Settings!$E$7:$E$106,COLUMN(F5)-COLUMN($C$5),1)="","",INDEX(Settings!$E$7:$E$106,COLUMN(F5)-COLUMN($C$5),1)) -> PS | G6: =IF(INDEX(Settings!$E$7:$E$106,COLUMN(G5)-COLUMN($C$5),1)="","",INDEX(Settings!$E$7:$E$106,COLUMN(G5)-COLUMN($C$5),1)) -> LW | H6: =IF(INDEX(Settings!$E$7:$E$106,COLUMN(H5)-COLUMN($C$5),1)="","",INDEX(Settings!$E$7:$E$106,COLUMN(H5)-COLUMN($C$5),1)) -> LW | I6: =IF(INDEX(Settings!$E$7:$E$106,COLUMN(I5)-COLUMN($C$5),1)="","",INDEX(Settings!$E$7:$E$106,COLUMN(I5)-COLUMN($C$5),1)) -> D | J6: =IF(INDEX(Settings!$E$7:$E$106,COLUMN(J5)-COLUMN($C$5),1)="","",INDEX(Settings!$E$7:$E$106,COLUMN(J5)-COLUMN($C$5),1)) -> Mc | K6: =IF(INDEX(Settings!$E$7:$E$106,COLUMN(K5)-COLUMN($C$5),1)="","",INDEX(Settings!$E$7:$E$106,COLUMN(K5)-COLUMN($C$5),1)) | ... CY6: =IF(INDEX(Settings!$E$7:$E$106,COLUMN(CY5)-COLUMN($C$5),1)="","",INDEX(Settings!$E$7:$E$106,COLUMN(CY5)-COLUMN($C$5),1))
B7: =IF(C7="","",1) -> 1 | C7: Hire new person | D7: P
B8: 1.1 | C8: Create job description | E8: P
B9: 1.2 | C9: Publish info about job | G9: P
B10: 1.3 | C10: Call candidate | D10: Ap | E10: P | G10: Ap
B11: 1.4 | C11: Make an interview
B12: 1.5 | C12: Take decision | D12: O
B13: 2 | C13: Prepare new years party | H13: Ap | J13: P
B14: 2.1 | C14: Check budget | F14: V | G14: Ap
B15: 2.1.1 | C15: Check options withing budget | E15: O | I15: V
B16: 2.1.2 | C16: Check gifts options
B17: 2.2 | C17: Call few places | J17: O
B18: 2.3 | C18: Decide and make reservation | I18: V
B19: 2.4 | C19: Sent invitations
B20: 3 | C20: New task | F20: V | J20: O
B21: 3.1 | C21: sub task 1 | H21: P
B22: 3.2 | C22: sub task 2

Sheet WBS
D2: RESPONSIBILITY ASSIGNMENT MATRIX
D3: WORK BREAKDOWN STRUCTURE
D5: CHART CONTENTS | F5: ID - Title | H5: HIGHLIGHT FILTERS → | J5: ROLE ASSIGNED | L5: All | N5: PERSON | P5: All
D9: PROJECT NAME | L9: RESPONSIBLE | N9: Walt Disney | P9: DATE | R9: 44551
C10: 1 | D10: 2 | E10: 3 | F10: 4 | G10: 5 | H10: 6 | I10: 7 | J10: 8 | K10: 9 | L10: 10 | M10: 11 | N10: 12 | O10: 13 | P10: 14 | Q10: 15 | R10: 16 | S10: 17 | T10: 18 | U10: 19 | V10: 20 | W10: 21 | X10: 22 | Y10: 23 | Z10: 24 | AA10: 25 | AB10: 26 | AC10: 27 | AD10: 28 | AE10: 29 | AF10: 30 | AG10: 31 | AH10: 32 | AI10: 33 | AJ10: 34 | AK10: 35 | AL10: 36 | AM10: 37 | AN10: 38 | AO10: 39 | AP10: 40 | AQ10: 41 | AR10: 42 | AS10: 43 | AT10: 44 | AU10: 45 | AV10: 46 | AW10: 47 | AX10: 48 | AY10: 49 | AZ10: 50 | BA10: 51 | BB10: 52 | BC10: 53 | BD10: 54 | BE10: 55 | BF10: 56 | BG10: 57 | BH10: 58 | BI10: 59 | BJ10: 60 | BK10: 61 | BL10: 62 | BM10: 63 | BN10: 64 | BO10: 65 | BP10: 66 | BQ10: 67 | BR10: 68 | BS10: 69 | BT10: 70 | BU10: 71 | BV10: 72 | BW10: 73 | BX10: 74 | BY10: 75 | BZ10: 76 | CA10: 77 | CB10: 78 | CC10: 79 | CD10: 80 | CE10: 81 | CF10: 82 | CG10: 83 | CH10: 84 | CI10: 85 | CJ10: 86 | CK10: 87 | CL10: 88 | CM10: 89 | CN10: 90 | CO10: 91 | CP10: 92 | CQ10: 93 | CR10: 94 | CS10: 95 | CT10: 96 | CU10: 97 | CV10: 98 | CW10: 99 | CX10: 100 | CY10: 101 | CZ10: 102
B11: 1
B12: 2 | D12: =IFERROR(INDEX(Calculation!$Q$7:$Q$206,MATCH($B12&" "&D$10,positions,0),1), IFERROR(INDEX(Calculation!$R$7:$R$206,MATCH($B11&" "&D$10,positions,0),1), IF(AND(ROW(D12)>12,OR(AND(E13<>"",E13<>"-"),AND(D13="-",C12=""))),"-",""))) -> 1 - Hire new person | E12: =IFERROR(INDEX(Calculation!$Q$7:$Q$206,MATCH($B12&" "&E$10,positions,0),1), IFERROR(INDEX(Calculation!$R$7:$R$206,MATCH($B11&" "&E$10,positions,0),1), IF(AND(ROW(E12)>12,OR(AND(F13<>"",F13<>"-"),AND(E13="-",D12=""))),"-",""))) | F12: =IFERROR(INDEX(Calculation!$Q$7:$Q$206,MATCH($B12&" "&F$10,positions,0),1), IFERROR(INDEX(Calculation!$R$7:$R$206,MATCH($B11&" "&F$10,positions,0),1), IF(AND(ROW(F12)>12,OR(AND(G13<>"",G13<>"-"),AND(F13="-",E12=""))),"-",""))) | G12: =IFERROR(INDEX(Calculation!$Q$7:$Q$206,MATCH($B12&" "&G$10,positions,0),1), IFERROR(INDEX(Calculation!$R$7:$R$206,MATCH($B11&" "&G$10,positions,0),1), IF(AND(ROW(G12)>12,OR(AND(H13<>"",H13<>"-"),AND(G13="-",F12=""))),"-",""))) | H12: =IFERROR(INDEX(Calculation!$Q$7:$Q$206,MATCH($B12&" "&H$10,positions,0),1), IFERROR(INDEX(Calculation!$R$7:$R$206,MATCH($B11&" "&H$10,positions,0),1), IF(AND(ROW(H12)>12,OR(AND(I13<>"",I13<>"-"),AND(H13="-",G12=""))),"-",""))) -> 2 - Prepare new years party | I12: =IFERROR(INDEX(Calculation!$Q$7:$Q$206,MATCH($B12&" "&I$10,positions,0),1), IFERROR(INDEX(Calculation!$R$7:$R$206,MATCH($B11&" "&I$10,positions,0),1), IF(AND(ROW(I12)>12,OR(AND(J13<>"",J13<>"-"),AND(I13="-",H12=""))),"-",""))) | J12: =IFERROR(INDEX(Calculation!$Q$7:$Q$206,MATCH($B12&" "&J$10,positions,0),1), IFERROR(INDEX(Calculation!$R$7:$R$206,MATCH($B11&" "&J$10,positions,0),1), IF(AND(ROW(J12)>12,OR(AND(K13<>"",K13<>"-"),AND(J13="-",I12=""))),"-",""))) | K12: =IFERROR(INDEX(Calculation!$Q$7:$Q$206,MATCH($B12&" "&K$10,positions,0),1), IFERROR(INDEX(Calculation!$R$7:$R$206,MATCH($B11&" "&K$10,positions,0),1), IF(AND(ROW(K12)>12,OR(AND(L13<>"",L13<>"-"),AND(K13="-",J12=""))),"-",""))) | ... CZ12: =IFERROR(INDEX(Calculation!$Q$7:$Q$206,MATCH($B12&" "&CZ$10,positions,0),1), IFERROR(INDEX(Calculation!$R$7:$R$206,MATCH($B11&" "&CZ$10,positions,0),1), IF(AND(ROW(CZ12)>12,OR(AND(DA13<>"",DA13<>"-"),AND(CZ13="-",CY12=""))),"-","")))
B13: 3 | D13: =IFERROR(INDEX(Calculation!$Q$7:$Q$206,MATCH($B13&" "&D$10,positions,0),1), IFERROR(INDEX(Calculation!$R$7:$R$206,MATCH($B12&" "&D$10,positions,0),1), IF(AND(ROW(D13)>12,OR(AND(E14<>"",E14<>"-"),AND(D14="-",C13=""))),"-",""))) | E13: =IFERROR(INDEX(Calculation!$Q$7:$Q$206,MATCH($B13&" "&E$10,positions,0),1), IFERROR(INDEX(Calculation!$R$7:$R$206,MATCH($B12&" "&E$10,positions,0),1), IF(AND(ROW(E13)>12,OR(AND(F14<>"",F14<>"-"),AND(E14="-",D13=""))),"-",""))) -> - | F13: =IFERROR(INDEX(Calculation!$Q$7:$Q$206,MATCH($B13&" "&F$10,positions,0),1), IFERROR(INDEX(Calculation!$R$7:$R$206,MATCH($B12&" "&F$10,positions,0),1), IF(AND(ROW(F13)>12,OR(AND(G14<>"",G14<>"-"),AND(F14="-",E13=""))),"-",""))) | G13: =IFERROR(INDEX(Calculation!$Q$7:$Q$206,MATCH($B13&" "&G$10,positions,0),1), IFERROR(INDEX(Calculation!$R$7:$R$206,MATCH($B12&" "&G$10,positions,0),1), IF(AND(ROW(G13)>12,OR(AND(H14<>"",H14<>"-"),AND(G14="-",F13=""))),"-",""))) | H13: =IFERROR(INDEX(Calculation!$Q$7:$Q$206,MATCH($B13&" "&H$10,positions,0),1), IFERROR(INDEX(Calculation!$R$7:$R$206,MATCH($B12&" "&H$10,positions,0),1), IF(AND(ROW(H13)>12,OR(AND(I14<>"",I14<>"-"),AND(H14="-",G13=""))),"-",""))) | I13: =IFERROR(INDEX(Calculation!$Q$7:$Q$206,MATCH($B13&" "&I$10,positions,0),1), IFERROR(INDEX(Calculation!$R$7:$R$206,MATCH($B12&" "&I$10,positions,0),1), IF(AND(ROW(I13)>12,OR(AND(J14<>"",J14<>"-"),AND(I14="-",H13=""))),"-",""))) -> - | J13: =IFERROR(INDEX(Calculation!$Q$7:$Q$206,MATCH($B13&" "&J$10,positions,0),1), IFERROR(INDEX(Calculation!$R$7:$R$206,MATCH($B12&" "&J$10,positions,0),1), IF(AND(ROW(J13)>12,OR(AND(K14<>"",K14<>"-"),AND(J14="-",I13=""))),"-",""))) | K13: =IFERROR(INDEX(Calculation!$Q$7:$Q$206,MATCH($B13&" "&K$10,positions,0),1), IFERROR(INDEX(Calculation!$R$7:$R$206,MATCH($B12&" "&K$10,positions,0),1), IF(AND(ROW(K13)>12,OR(AND(L14<>"",L14<>"-"),AND(K14="-",J13=""))),"-",""))) | ... CZ13: =IFERROR(INDEX(Calculation!$Q$7:$Q$206,MATCH($B13&" "&CZ$10,positions,0),1), IFERROR(INDEX(Calculation!$R$7:$R$206,MATCH($B12&" "&CZ$10,positions,0),1), IF(AND(ROW(CZ13)>12,OR(AND(DA14<>"",DA14<>"-"),AND(CZ14="-",CY13=""))),"-","")))
B14: 4 | D14: =IFERROR(INDEX(Calculation!$Q$7:$Q$206,MATCH($B14&" "&D$10,positions,0),1), IFERROR(INDEX(Calculation!$R$7:$R$206,MATCH($B13&" "&D$10,positions,0),1), IF(AND(ROW(D14)>12,OR(AND(E15<>"",E15<>"-"),AND(D15="-",C14=""))),"-",""))) | E14: =IFERROR(INDEX(Calculation!$Q$7:$Q$206,MATCH($B14&" "&E$10,positions,0),1), IFERROR(INDEX(Calculation!$R$7:$R$206,MATCH($B13&" "&E$10,positions,0),1), IF(AND(ROW(E14)>12,OR(AND(F15<>"",F15<>"-"),AND(E15="-",D14=""))),"-",""))) -> - | F14: =IFERROR(INDEX(Calculation!$Q$7:$Q$206,MATCH($B14&" "&F$10,positions,0),1), IFERROR(INDEX(Calculation!$R$7:$R$206,MATCH($B13&" "&F$10,positions,0),1), IF(AND(ROW(F14)>12,OR(AND(G15<>"",G15<>"-"),AND(F15="-",E14=""))),"-",""))) -> 1.1 - Create job description | G14: =IFERROR(INDEX(Calculation!$Q$7:$Q$206,MATCH($B14&" "&G$10,positions,0),1), IFERROR(INDEX(Calculation!$R$7:$R$206,MATCH($B13&" "&G$10,positions,0),1), IF(AND(ROW(G14)>12,OR(AND(H15<>"",H15<>"-"),AND(G15="-",F14=""))),"-",""))) | H14: =IFERROR(INDEX(Calculation!$Q$7:$Q$206,MATCH($B14&" "&H$10,positions,0),1), IFERROR(INDEX(Calculation!$R$7:$R$206,MATCH($B13&" "&H$10,positions,0),1), IF(AND(ROW(H14)>12,OR(AND(I15<>"",I15<>"-"),AND(H15="-",G14=""))),"-",""))) | I14: =IFERROR(INDEX(Calculation!$Q$7:$Q$206,MATCH($B14&" "&I$10,positions,0),1), IFERROR(INDEX(Calculation!$R$7:$R$206,MATCH($B13&" "&I$10,positions,0),1), IF(AND(ROW(I14)>12,OR(AND(J15<>"",J15<>"-"),AND(I15="-",H14=""))),"-",""))) -> - | J14: =IFERROR(INDEX(Calculation!$Q$7:$Q$206,MATCH($B14&" "&J$10,positions,0),1), IFERROR(INDEX(Calculation!$R$7:$R$206,MATCH($B13&" "&J$10,positions,0),1), IF(AND(ROW(J14)>12,OR(AND(K15<>"",K15<>"-"),AND(J15="-",I14=""))),"-",""))) -> 2.1 - Check budget | K14: =IFERROR(INDEX(Calculation!$Q$7:$Q$206,MATCH($B14&" "&K$10,positions,0),1), IFERROR(INDEX(Calculation!$R$7:$R$206,MATCH($B13&" "&K$10,positions,0),1), IF(AND(ROW(K14)>12,OR(AND(L15<>"",L15<>"-"),AND(K15="-",J14=""))),"-",""))) | ... CZ14: =IFERROR(INDEX(Calculation!$Q$7:$Q$206,MATCH($B14&" "&CZ$10,positions,0),1), IFERROR(INDEX(Calculation!$R$7:$R$206,MATCH($B13&" "&CZ$10,positions,0),1), IF(AND(ROW(CZ14)>12,OR(AND(DA15<>"",DA15<>"-"),AND(CZ15="-",CY14=""))),"-","")))
B15: 5 | D15: =IFERROR(INDEX(Calculation!$Q$7:$Q$206,MATCH($B15&" "&D$10,positions,0),1), IFERROR(INDEX(Calculation!$R$7:$R$206,MATCH($B14&" "&D$10,positions,0),1), IF(AND(ROW(D15)>12,OR(AND(E16<>"",E16<>"-"),AND(D16="-",C15=""))),"-",""))) | E15: =IFERROR(INDEX(Calculation!$Q$7:$Q$206,MATCH($B15&" "&E$10,positions,0),1), IFERROR(INDEX(Calculation!$R$7:$R$206,MATCH($B14&" "&E$10,positions,0),1), IF(AND(ROW(E15)>12,OR(AND(F16<>"",F16<>"-"),AND(E16="-",D15=""))),"-",""))) -> - | F15: =IFERROR(INDEX(Calculation!$Q$7:$Q$206,MATCH($B15&" "&F$10,positions,0),1), IFERROR(INDEX(Calculation!$R$7:$R$206,MATCH($B14&" "&F$10,positions,0),1), IF(AND(ROW(F15)>12,OR(AND(G16<>"",G16<>"-"),AND(F16="-",E15=""))),"-",""))) | G15: =IFERROR(INDEX(Calculation!$Q$7:$Q$206,MATCH($B15&" "&G$10,positions,0),1), IFERROR(INDEX(Calculation!$R$7:$R$206,MATCH($B14&" "&G$10,positions,0),1), IF(AND(ROW(G15)>12,OR(AND(H16<>"",H16<>"-"),AND(G16="-",F15=""))),"-",""))) | H15: =IFERROR(INDEX(Calculation!$Q$7:$Q$206,MATCH($B15&" "&H$10,positions,0),1), IFERROR(INDEX(Calculation!$R$7:$R$206,MATCH($B14&" "&H$10,positions,0),1), IF(AND(ROW(H15)>12,OR(AND(I16<>"",I16<>"-"),AND(H16="-",G15=""))),"-",""))) | I15: =IFERROR(INDEX(Calculation!$Q$7:$Q$206,MATCH($B15&" "&I$10,positions,0),1), IFERROR(INDEX(Calculation!$R$7:$R$206,MATCH($B14&" "&I$10,positions,0),1), IF(AND(ROW(I15)>12,OR(AND(J16<>"",J16<>"-"),AND(I16="-",H15=""))),"-",""))) -> - | J15: =IFERROR(INDEX(Calculation!$Q$7:$Q$206,MATCH($B15&" "&J$10,positions,0),1), IFERROR(INDEX(Calculation!$R$7:$R$206,MATCH($B14&" "&J$10,positions,0),1), IF(AND(ROW(J15)>12,OR(AND(K16<>"",K16<>"-"),AND(J16="-",I15=""))),"-",""))) | K15: =IFERROR(INDEX(Calculation!$Q$7:$Q$206,MATCH($B15&" "&K$10,positions,0),1), IFERROR(INDEX(Calculation!$R$7:$R$206,MATCH($B14&" "&K$10,positions,0),1), IF(AND(ROW(K15)>12,OR(AND(L16<>"",L16<>"-"),AND(K16="-",J15=""))),"-",""))) -> - | ... CZ15: =IFERROR(INDEX(Calculation!$Q$7:$Q$206,MATCH($B15&" "&CZ$10,positions,0),1), IFERROR(INDEX(Calculation!$R$7:$R$206,MATCH($B14&" "&CZ$10,positions,0),1), IF(AND(ROW(CZ15)>12,OR(AND(DA16<>"",DA16<>"-"),AND(CZ16="-",CY15=""))),"-","")))
B16: 6 | D16: =IFERROR(INDEX(Calculation!$Q$7:$Q$206,MATCH($B16&" "&D$10,positions,0),1), IFERROR(INDEX(Calculation!$R$7:$R$206,MATCH($B15&" "&D$10,positions,0),1), IF(AND(ROW(D16)>12,OR(AND(E17<>"",E17<>"-"),AND(D17="-",C16=""))),"-",""))) | E16: =IFERROR(INDEX(Calculation!$Q$7:$Q$206,MATCH($B16&" "&E$10,positions,0),1), IFERROR(INDEX(Calculation!$R$7:$R$206,MATCH($B15&" "&E$10,positions,0),1), IF(AND(ROW(E16)>12,OR(AND(F17<>"",F17<>"-"),AND(E17="-",D16=""))),"-",""))) -> - | F16: =IFERROR(INDEX(Calculation!$Q$7:$Q$206,MATCH($B16&" "&F$10,positions,0),1), IFERROR(INDEX(Calculation!$R$7:$R$206,MATCH($B15&" "&F$10,positions,0),1), IF(AND(ROW(F16)>12,OR(AND(G17<>"",G17<>"-"),AND(F17="-",E16=""))),"-",""))) -> 1.2 - Publish info about job | G16: =IFERROR(INDEX(Calculation!$Q$7:$Q$206,MATCH($B16&" "&G$10,positions,0),1), IFERROR(INDEX(Calculation!$R$7:$R$206,MATCH($B15&" "&G$10,positions,0),1), IF(AND(ROW(G16)>12,OR(AND(H17<>"",H17<>"-"),AND(G17="-",F16=""))),"-",""))) | H16: =IFERROR(INDEX(Calculation!$Q$7:$Q$206,MATCH($B16&" "&H$10,positions,0),1), IFERROR(INDEX(Calculation!$R$7:$R$206,MATCH($B15&" "&H$10,positions,0),1), IF(AND(ROW(H16)>12,OR(AND(I17<>"",I17<>"-"),AND(H17="-",G16=""))),"-",""))) | I16: =IFERROR(INDEX(Calculation!$Q$7:$Q$206,MATCH($B16&" "&I$10,positions,0),1), IFERROR(INDEX(Calculation!$R$7:$R$206,MATCH($B15&" "&I$10,positions,0),1), IF(AND(ROW(I16)>12,OR(AND(J17<>"",J17<>"-"),AND(I17="-",H16=""))),"-",""))) -> - | J16: =IFERROR(INDEX(Calculation!$Q$7:$Q$206,MATCH($B16&" "&J$10,positions,0),1), IFERROR(INDEX(Calculation!$R$7:$R$206,MATCH($B15&" "&J$10,positions,0),1), IF(AND(ROW(J16)>12,OR(AND(K17<>"",K17<>"-"),AND(J17="-",I16=""))),"-",""))) | K16: =IFERROR(INDEX(Calculation!$Q$7:$Q$206,MATCH($B16&" "&K$10,positions,0),1), IFERROR(INDEX(Calculation!$R$7:$R$206,MATCH($B15&" "&K$10,positions,0),1), IF(AND(ROW(K16)>12,OR(AND(L17<>"",L17<>"-"),AND(K17="-",J16=""))),"-",""))) -> - | ... CZ16: =IFERROR(INDEX(Calculation!$Q$7:$Q$206,MATCH($B16&" "&CZ$10,positions,0),1), IFERROR(INDEX(Calculation!$R$7:$R$206,MATCH($B15&" "&CZ$10,positions,0),1), IF(AND(ROW(CZ16)>12,OR(AND(DA17<>"",DA17<>"-"),AND(CZ17="-",CY16=""))),"-","")))
B17: 7 | D17: =IFERROR(INDEX(Calculation!$Q$7:$Q$206,MATCH($B17&" "&D$10,positions,0),1), IFERROR(INDEX(Calculation!$R$7:$R$206,MATCH($B16&" "&D$10,positions,0),1), IF(AND(ROW(D17)>12,OR(AND(E18<>"",E18<>"-"),AND(D18="-",C17=""))),"-",""))) | E17: =IFERROR(INDEX(Calculation!$Q$7:$Q$206,MATCH($B17&" "&E$10,positions,0),1), IFERROR(INDEX(Calculation!$R$7:$R$206,MATCH($B16&" "&E$10,positions,0),1), IF(AND(ROW(E17)>12,OR(AND(F18<>"",F18<>"-"),AND(E18="-",D17=""))),"-",""))) -> - | F17: =IFERROR(INDEX(Calculation!$Q$7:$Q$206,MATCH($B17&" "&F$10,positions,0),1), IFERROR(INDEX(Calculation!$R$7:$R$206,MATCH($B16&" "&F$10,positions,0),1), IF(AND(ROW(F17)>12,OR(AND(G18<>"",G18<>"-"),AND(F18="-",E17=""))),"-",""))) | G17: =IFERROR(INDEX(Calculation!$Q$7:$Q$206,MATCH($B17&" "&G$10,positions,0),1), IFERROR(INDEX(Calculation!$R$7:$R$206,MATCH($B16&" "&G$10,positions,0),1), IF(AND(ROW(G17)>12,OR(AND(H18<>"",H18<>"-"),AND(G18="-",F17=""))),"-",""))) | H17: =IFERROR(INDEX(Calculation!$Q$7:$Q$206,MATCH($B17&" "&H$10,positions,0),1), IFERROR(INDEX(Calculation!$R$7:$R$206,MATCH($B16&" "&H$10,positions,0),1), IF(AND(ROW(H17)>12,OR(AND(I18<>"",I18<>"-"),AND(H18="-",G17=""))),"-",""))) | I17: =IFERROR(INDEX(Calculation!$Q$7:$Q$206,MATCH($B17&" "&I$10,positions,0),1), IFERROR(INDEX(Calculation!$R$7:$R$206,MATCH($B16&" "&I$10,positions,0),1), IF(AND(ROW(I17)>12,OR(AND(J18<>"",J18<>"-"),AND(I18="-",H17=""))),"-",""))) -> - | J17: =IFERROR(INDEX(Calculation!$Q$7:$Q$206,MATCH($B17&" "&J$10,positions,0),1), IFERROR(INDEX(Calculation!$R$7:$R$206,MATCH($B16&" "&J$10,positions,0),1), IF(AND(ROW(J17)>12,OR(AND(K18<>"",K18<>"-"),AND(J18="-",I17=""))),"-",""))) | K17: =IFERROR(INDEX(Calculation!$Q$7:$Q$206,MATCH($B17&" "&K$10,positions,0),1), IFERROR(INDEX(Calculation!$R$7:$R$206,MATCH($B16&" "&K$10,positions,0),1), IF(AND(ROW(K17)>12,OR(AND(L18<>"",L18<>"-"),AND(K18="-",J17=""))),"-",""))) -> - | ... CZ17: =IFERROR(INDEX(Calculation!$Q$7:$Q$206,MATCH($B17&" "&CZ$10,positions,0),1), IFERROR(INDEX(Calculation!$R$7:$R$206,MATCH($B16&" "&CZ$10,positions,0),1), IF(AND(ROW(CZ17)>12,OR(AND(DA18<>"",DA18<>"-"),AND(CZ18="-",CY17=""))),"-","")))
B18: 8 | D18: =IFERROR(INDEX(Calculation!$Q$7:$Q$206,MATCH($B18&" "&D$10,positions,0),1), IFERROR(INDEX(Calculation!$R$7:$R$206,MATCH($B17&" "&D$10,positions,0),1), IF(AND(ROW(D18)>12,OR(AND(E19<>"",E19<>"-"),AND(D19="-",C18=""))),"-",""))) | E18: =IFERROR(INDEX(Calculation!$Q$7:$Q$206,MATCH($B18&" "&E$10,positions,0),1), IFERROR(INDEX(Calculation!$R$7:$R$206,MATCH($B17&" "&E$10,positions,0),1), IF(AND(ROW(E18)>12,OR(AND(F19<>"",F19<>"-"),AND(E19="-",D18=""))),"-",""))) -> - | F18: =IFERROR(INDEX(Calculation!$Q$7:$Q$206,MATCH($B18&" "&F$10,positions,0),1), IFERROR(INDEX(Calculation!$R$7:$R$206,MATCH($B17&" "&F$10,positions,0),1), IF(AND(ROW(F18)>12,OR(AND(G19<>"",G19<>"-"),AND(F19="-",E18=""))),"-",""))) -> 1.3 - Call candidate | G18: =IFERROR(INDEX(Calculation!$Q$7:$Q$206,MATCH($B18&" "&G$10,positions,0),1), IFERROR(INDEX(Calculation!$R$7:$R$206,MATCH($B17&" "&G$10,positions,0),1), IF(AND(ROW(G18)>12,OR(AND(H19<>"",H19<>"-"),AND(G19="-",F18=""))),"-",""))) | H18: =IFERROR(INDEX(Calculation!$Q$7:$Q$206,MATCH($B18&" "&H$10,positions,0),1), IFERROR(INDEX(Calculation!$R$7:$R$206,MATCH($B17&" "&H$10,positions,0),1), IF(AND(ROW(H18)>12,OR(AND(I19<>"",I19<>"-"),AND(H19="-",G18=""))),"-",""))) | I18: =IFERROR(INDEX(Calculation!$Q$7:$Q$206,MATCH($B18&" "&I$10,positions,0),1), IFERROR(INDEX(Calculation!$R$7:$R$206,MATCH($B17&" "&I$10,positions,0),1), IF(AND(ROW(I18)>12,OR(AND(J19<>"",J19<>"-"),AND(I19="-",H18=""))),"-",""))) -> - | J18: =IFERROR(INDEX(Calculation!$Q$7:$Q$206,MATCH($B18&" "&J$10,positions,0),1), IFERROR(INDEX(Calculation!$R$7:$R$206,MATCH($B17&" "&J$10,positions,0),1), IF(AND(ROW(J18)>12,OR(AND(K19<>"",K19<>"-"),AND(J19="-",I18=""))),"-",""))) | K18: =IFERROR(INDEX(Calculation!$Q$7:$Q$206,MATCH($B18&" "&K$10,positions,0),1), IFERROR(INDEX(Calculation!$R$7:$R$206,MATCH($B17&" "&K$10,positions,0),1), IF(AND(ROW(K18)>12,OR(AND(L19<>"",L19<>"-"),AND(K19="-",J18=""))),"-",""))) | ... CZ18: =IFERROR(INDEX(Calculation!$Q$7:$Q$206,MATCH($B18&" "&CZ$10,positions,0),1), IFERROR(INDEX(Calculation!$R$7:$R$206,MATCH($B17&" "&CZ$10,positions,0),1), IF(AND(ROW(CZ18)>12,OR(AND(DA19<>"",DA19<>"-"),AND(CZ19="-",CY18=""))),"-","")))
B19: 9 | D19: =IFERROR(INDEX(Calculation!$Q$7:$Q$206,MATCH($B19&" "&D$10,positions,0),1), IFERROR(INDEX(Calculation!$R$7:$R$206,MATCH($B18&" "&D$10,positions,0),1), IF(AND(ROW(D19)>12,OR(AND(E20<>"",E20<>"-"),AND(D20="-",C19=""))),"-",""))) | E19: =IFERROR(INDEX(Calculation!$Q$7:$Q$206,MATCH($B19&" "&E$10,positions,0),1), IFERROR(INDEX(Calculation!$R$7:$R$206,MATCH($B18&" "&E$10,positions,0),1), IF(AND(ROW(E19)>12,OR(AND(F20<>"",F20<>"-"),AND(E20="-",D19=""))),"-",""))) -> - | F19: =IFERROR(INDEX(Calculation!$Q$7:$Q$206,MATCH($B19&" "&F$10,positions,0),1), IFERROR(INDEX(Calculation!$R$7:$R$206,MATCH($B18&" "&F$10,positions,0),1), IF(AND(ROW(F19)>12,OR(AND(G20<>"",G20<>"-"),AND(F20="-",E19=""))),"-",""))) | G19: =IFERROR(INDEX(Calculation!$Q$7:$Q$206,MATCH($B19&" "&G$10,positions,0),1), IFERROR(INDEX(Calculation!$R$7:$R$206,MATCH($B18&" "&G$10,positions,0),1), IF(AND(ROW(G19)>12,OR(AND(H20<>"",H20<>"-"),AND(G20="-",F19=""))),"-",""))) | H19: =IFERROR(INDEX(Calculation!$Q$7:$Q$206,MATCH($B19&" "&H$10,positions,0),1), IFERROR(INDEX(Calculation!$R$7:$R$206,MATCH($B18&" "&H$10,positions,0),1), IF(AND(ROW(H19)>12,OR(AND(I20<>"",I20<>"-"),AND(H20="-",G19=""))),"-",""))) | I19: =IFERROR(INDEX(Calculation!$Q$7:$Q$206,MATCH($B19&" "&I$10,positions,0),1), IFERROR(INDEX(Calculation!$R$7:$R$206,MATCH($B18&" "&I$10,positions,0),1), IF(AND(ROW(I19)>12,OR(AND(J20<>"",J20<>"-"),AND(I20="-",H19=""))),"-",""))) -> - | J19: =IFERROR(INDEX(Calculation!$Q$7:$Q$206,MATCH($B19&" "&J$10,positions,0),1), IFERROR(INDEX(Calculation!$R$7:$R$206,MATCH($B18&" "&J$10,positions,0),1), IF(AND(ROW(J19)>12,OR(AND(K20<>"",K20<>"-"),AND(J20="-",I19=""))),"-",""))) | K19: =IFERROR(INDEX(Calculation!$Q$7:$Q$206,MATCH($B19&" "&K$10,positions,0),1), IFERROR(INDEX(Calculation!$R$7:$R$206,MATCH($B18&" "&K$10,positions,0),1), IF(AND(ROW(K19)>12,OR(AND(L20<>"",L20<>"-"),AND(K20="-",J19=""))),"-",""))) | ... CZ19: =IFERROR(INDEX(Calculation!$Q$7:$Q$206,MATCH($B19&" "&CZ$10,positions,0),1), IFERROR(INDEX(Calculation!$R$7:$R$206,MATCH($B18&" "&CZ$10,positions,0),1), IF(AND(ROW(CZ19)>12,OR(AND(DA20<>"",DA20<>"-"),AND(CZ20="-",CY19=""))),"-","")))
B20: 10 | D20: =IFERROR(INDEX(Calculation!$Q$7:$Q$206,MATCH($B20&" "&D$10,positions,0),1), IFERROR(INDEX(Calculation!$R$7:$R$206,MATCH($B19&" "&D$10,positions,0),1), IF(AND(ROW(D20)>12,OR(AND(E21<>"",E21<>"-"),AND(D21="-",C20=""))),"-",""))) | E20: =IFERROR(INDEX(Calculation!$Q$7:$Q$206,MATCH($B20&" "&E$10,positions,0),1), IFERROR(INDEX(Calculation!$R$7:$R$206,MATCH($B19&" "&E$10,positions,0),1), IF(AND(ROW(E20)>12,OR(AND(F21<>"",F21<>"-"),AND(E21="-",D20=""))),"-",""))) -> - | F20: =IFERROR(INDEX(Calculation!$Q$7:$Q$206,MATCH($B20&" "&F$10,positions,0),1), IFERROR(INDEX(Calculation!$R$7:$R$206,MATCH($B19&" "&F$10,positions,0),1), IF(AND(ROW(F20)>12,OR(AND(G21<>"",G21<>"-"),AND(F21="-",E20=""))),"-",""))) -> 1.4 - Make an interview | G20: =IFERROR(INDEX(Calculation!$Q$7:$Q$206,MATCH($B20&" "&G$10,positions,0),1), IFERROR(INDEX(Calculation!$R$7:$R$206,MATCH($B19&" "&G$10,positions,0),1), IF(AND(ROW(G20)>12,OR(AND(H21<>"",H21<>"-"),AND(G21="-",F20=""))),"-",""))) | H20: =IFERROR(INDEX(Calculation!$Q$7:$Q$206,MATCH($B20&" "&H$10,positions,0),1), IFERROR(INDEX(Calculation!$R$7:$R$206,MATCH($B19&" "&H$10,positions,0),1), IF(AND(ROW(H20)>12,OR(AND(I21<>"",I21<>"-"),AND(H21="-",G20=""))),"-",""))) | I20: =IFERROR(INDEX(Calculation!$Q$7:$Q$206,MATCH($B20&" "&I$10,positions,0),1), IFERROR(INDEX(Calculation!$R$7:$R$206,MATCH($B19&" "&I$10,positions,0),1), IF(AND(ROW(I20)>12,OR(AND(J21<>"",J21<>"-"),AND(I21="-",H20=""))),"-",""))) -> - | J20: =IFERROR(INDEX(Calculation!$Q$7:$Q$206,MATCH($B20&" "&J$10,positions,0),1), IFERROR(INDEX(Calculation!$R$7:$R$206,MATCH($B19&" "&J$10,positions,0),1), IF(AND(ROW(J20)>12,OR(AND(K21<>"",K21<>"-"),AND(J21="-",I20=""))),"-",""))) -> 2.2 - Call few places | K20: =IFERROR(INDEX(Calculation!$Q$7:$Q$206,MATCH($B20&" "&K$10,positions,0),1), IFERROR(INDEX(Calculation!$R$7:$R$206,MATCH($B19&" "&K$10,positions,0),1), IF(AND(ROW(K20)>12,OR(AND(L21<>"",L21<>"-"),AND(K21="-",J20=""))),"-",""))) | ... CZ20: =IFERROR(INDEX(Calculation!$Q$7:$Q$206,MATCH($B20&" "&CZ$10,positions,0),1), IFERROR(INDEX(Calculation!$R$7:$R$206,MATCH($B19&" "&CZ$10,positions,0),1), IF(AND(ROW(CZ20)>12,OR(AND(DA21<>"",DA21<>"-"),AND(CZ21="-",CY20=""))),"-","")))
B21: 11 | D21: =IFERROR(INDEX(Calculation!$Q$7:$Q$206,MATCH($B21&" "&D$10,positions,0),1), IFERROR(INDEX(Calculation!$R$7:$R$206,MATCH($B20&" "&D$10,positions,0),1), IF(AND(ROW(D21)>12,OR(AND(E22<>"",E22<>"-"),AND(D22="-",C21=""))),"-",""))) | E21: =IFERROR(INDEX(Calculation!$Q$7:$Q$206,MATCH($B21&" "&E$10,positions,0),1), IFERROR(INDEX(Calculation!$R$7:$R$206,MATCH($B20&" "&E$10,positions,0),1), IF(AND(ROW(E21)>12,OR(AND(F22<>"",F22<>"-"),AND(E22="-",D21=""))),"-",""))) -> - | F21: =IFERROR(INDEX(Calculation!$Q$7:$Q$206,MATCH($B21&" "&F$10,positions,0),1), IFERROR(INDEX(Calculation!$R$7:$R$206,MATCH($B20&" "&F$10,positions,0),1), IF(AND(ROW(F21)>12,OR(AND(G22<>"",G22<>"-"),AND(F22="-",E21=""))),"-",""))) | G21: =IFERROR(INDEX(Calculation!$Q$7:$Q$206,MATCH($B21&" "&G$10,positions,0),1), IFERROR(INDEX(Calculation!$R$7:$R$206,MATCH($B20&" "&G$10,positions,0),1), IF(AND(ROW(G21)>12,OR(AND(H22<>"",H22<>"-"),AND(G22="-",F21=""))),"-",""))) | H21: =IFERROR(INDEX(Calculation!$Q$7:$Q$206,MATCH($B21&" "&H$10,positions,0),1), IFERROR(INDEX(Calculation!$R$7:$R$206,MATCH($B20&" "&H$10,positions,0),1), IF(AND(ROW(H21)>12,OR(AND(I22<>"",I22<>"-"),AND(H22="-",G21=""))),"-",""))) | I21: =IFERROR(INDEX(Calculation!$Q$7:$Q$206,MATCH($B21&" "&I$10,positions,0),1), IFERROR(INDEX(Calculation!$R$7:$R$206,MATCH($B20&" "&I$10,positions,0),1), IF(AND(ROW(I21)>12,OR(AND(J22<>"",J22<>"-"),AND(I22="-",H21=""))),"-",""))) -> - | J21: =IFERROR(INDEX(Calculation!$Q$7:$Q$206,MATCH($B21&" "&J$10,positions,0),1), IFERROR(INDEX(Calculation!$R$7:$R$206,MATCH($B20&" "&J$10,positions,0),1), IF(AND(ROW(J21)>12,OR(AND(K22<>"",K22<>"-"),AND(J22="-",I21=""))),"-",""))) | K21: =IFERROR(INDEX(Calculation!$Q$7:$Q$206,MATCH($B21&" "&K$10,positions,0),1), IFERROR(INDEX(Calculation!$R$7:$R$206,MATCH($B20&" "&K$10,positions,0),1), IF(AND(ROW(K21)>12,OR(AND(L22<>"",L22<>"-"),AND(K22="-",J21=""))),"-",""))) | ... CZ21: =IFERROR(INDEX(Calculation!$Q$7:$Q$206,MATCH($B21&" "&CZ$10,positions,0),1), IFERROR(INDEX(Calculation!$R$7:$R$206,MATCH($B20&" "&CZ$10,positions,0),1), IF(AND(ROW(CZ21)>12,OR(AND(DA22<>"",DA22<>"-"),AND(CZ22="-",CY21=""))),"-","")))
B22: 12 | D22: =IFERROR(INDEX(Calculation!$Q$7:$Q$206,MATCH($B22&" "&D$10,positions,0),1), IFERROR(INDEX(Calculation!$R$7:$R$206,MATCH($B21&" "&D$10,positions,0),1), IF(AND(ROW(D22)>12,OR(AND(E23<>"",E23<>"-"),AND(D23="-",C22=""))),"-",""))) | E22: =IFERROR(INDEX(Calculation!$Q$7:$Q$206,MATCH($B22&" "&E$10,positions,0),1), IFERROR(INDEX(Calculation!$R$7:$R$206,MATCH($B21&" "&E$10,positions,0),1), IF(AND(ROW(E22)>12,OR(AND(F23<>"",F23<>"-"),AND(E23="-",D22=""))),"-",""))) | F22: =IFERROR(INDEX(Calculation!$Q$7:$Q$206,MATCH($B22&" "&F$10,positions,0),1), IFERROR(INDEX(Calculation!$R$7:$R$206,MATCH($B21&" "&F$10,positions,0),1), IF(AND(ROW(F22)>12,OR(AND(G23<>"",G23<>"-"),AND(F23="-",E22=""))),"-",""))) -> 1.5 - Take decision | G22: =IFERROR(INDEX(Calculation!$Q$7:$Q$206,MATCH($B22&" "&G$10,positions,0),1), IFERROR(INDEX(Calculation!$R$7:$R$206,MATCH($B21&" "&G$10,positions,0),1), IF(AND(ROW(G22)>12,OR(AND(H23<>"",H23<>"-"),AND(G23="-",F22=""))),"-",""))) | H22: =IFERROR(INDEX(Calculation!$Q$7:$Q$206,MATCH($B22&" "&H$10,positions,0),1), IFERROR(INDEX(Calculation!$R$7:$R$206,MATCH($B21&" "&H$10,positions,0),1), IF(AND(ROW(H22)>12,OR(AND(I23<>"",I23<>"-"),AND(H23="-",G22=""))),"-",""))) | I22: =IFERROR(INDEX(Calculation!$Q$7:$Q$206,MATCH($B22&" "&I$10,positions,0),1), IFERROR(INDEX(Calculation!$R$7:$R$206,MATCH($B21&" "&I$10,positions,0),1), IF(AND(ROW(I22)>12,OR(AND(J23<>"",J23<>"-"),AND(I23="-",H22=""))),"-",""))) -> - | J22: =IFERROR(INDEX(Calculation!$Q$7:$Q$206,MATCH($B22&" "&J$10,positions,0),1), IFERROR(INDEX(Calculation!$R$7:$R$206,MATCH($B21&" "&J$10,positions,0),1), IF(AND(ROW(J22)>12,OR(AND(K23<>"",K23<>"-"),AND(J23="-",I22=""))),"-",""))) -> 2.3 - Decide and make reservation | K22: =IFERROR(INDEX(Calculation!$Q$7:$Q$206,MATCH($B22&" "&K$10,positions,0),1), IFERROR(INDEX(Calculation!$R$7:$R$206,MATCH($B21&" "&K$10,positions,0),1), IF(AND(ROW(K22)>12,OR(AND(L23<>"",L23<>"-"),AND(K23="-",J22=""))),"-",""))) | ... CZ22: =IFERROR(INDEX(Calculation!$Q$7:$Q$206,MATCH($B22&" "&CZ$10,positions,0),1), IFERROR(INDEX(Calculation!$R$7:$R$206,MATCH($B21&" "&CZ$10,positions,0),1), IF(AND(ROW(CZ22)>12,OR(AND(DA23<>"",DA23<>"-"),AND(CZ23="-",CY22=""))),"-","")))
B23: 13 | D23: =IFERROR(INDEX(Calculation!$Q$7:$Q$206,MATCH($B23&" "&D$10,positions,0),1), IFERROR(INDEX(Calculation!$R$7:$R$206,MATCH($B22&" "&D$10,positions,0),1), IF(AND(ROW(D23)>12,OR(AND(E24<>"",E24<>"-"),AND(D24="-",C23=""))),"-",""))) | E23: =IFERROR(INDEX(Calculation!$Q$7:$Q$206,MATCH($B23&" "&E$10,positions,0),1), IFERROR(INDEX(Calculation!$R$7:$R$206,MATCH($B22&" "&E$10,positions,0),1), IF(AND(ROW(E23)>12,OR(AND(F24<>"",F24<>"-"),AND(E24="-",D23=""))),"-",""))) | F23: =IFERROR(INDEX(Calculation!$Q$7:$Q$206,MATCH($B23&" "&F$10,positions,0),1), IFERROR(INDEX(Calculation!$R$7:$R$206,MATCH($B22&" "&F$10,positions,0),1), IF(AND(ROW(F23)>12,OR(AND(G24<>"",G24<>"-"),AND(F24="-",E23=""))),"-",""))) | G23: =IFERROR(INDEX(Calculation!$Q$7:$Q$206,MATCH($B23&" "&G$10,positions,0),1), IFERROR(INDEX(Calculation!$R$7:$R$206,MATCH($B22&" "&G$10,positions,0),1), IF(AND(ROW(G23)>12,OR(AND(H24<>"",H24<>"-"),AND(G24="-",F23=""))),"-",""))) | H23: =IFERROR(INDEX(Calculation!$Q$7:$Q$206,MATCH($B23&" "&H$10,positions,0),1), IFERROR(INDEX(Calculation!$R$7:$R$206,MATCH($B22&" "&H$10,positions,0),1), IF(AND(ROW(H23)>12,OR(AND(I24<>"",I24<>"-"),AND(H24="-",G23=""))),"-",""))) | I23: =IFERROR(INDEX(Calculation!$Q$7:$Q$206,MATCH($B23&" "&I$10,positions,0),1), IFERROR(INDEX(Calculation!$R$7:$R$206,MATCH($B22&" "&I$10,positions,0),1), IF(AND(ROW(I23)>12,OR(AND(J24<>"",J24<>"-"),AND(I24="-",H23=""))),"-",""))) -> - | J23: =IFERROR(INDEX(Calculation!$Q$7:$Q$206,MATCH($B23&" "&J$10,positions,0),1), IFERROR(INDEX(Calculation!$R$7:$R$206,MATCH($B22&" "&J$10,positions,0),1), IF(AND(ROW(J23)>12,OR(AND(K24<>"",K24<>"-"),AND(J24="-",I23=""))),"-",""))) | K23: =IFERROR(INDEX(Calculation!$Q$7:$Q$206,MATCH($B23&" "&K$10,positions,0),1), IFERROR(INDEX(Calculation!$R$7:$R$206,MATCH($B22&" "&K$10,positions,0),1), IF(AND(ROW(K23)>12,OR(AND(L24<>"",L24<>"-"),AND(K24="-",J23=""))),"-",""))) | ... CZ23: =IFERROR(INDEX(Calculation!$Q$7:$Q$206,MATCH($B23&" "&CZ$10,positions,0),1), IFERROR(INDEX(Calculation!$R$7:$R$206,MATCH($B22&" "&CZ$10,positions,0),1), IF(AND(ROW(CZ23)>12,OR(AND(DA24<>"",DA24<>"-"),AND(CZ24="-",CY23=""))),"-","")))
... B110: 100 | D110: =IFERROR(INDEX(Calculation!$Q$7:$Q$206,MATCH($B110&" "&D$10,positions,0),1), IFERROR(INDEX(Calculation!$R$7:$R$206,MATCH($B109&" "&D$10,positions,0),1), IF(AND(ROW(D110)>12,OR(AND(E111<>"",E111<>"-"),AND(D111="-",C110=""))),"-",""))) | E110: =IFERROR(INDEX(Calculation!$Q$7:$Q$206,MATCH($B110&" "&E$10,positions,0),1), IFERROR(INDEX(Calculation!$R$7:$R$206,MATCH($B109&" "&E$10,positions,0),1), IF(AND(ROW(E110)>12,OR(AND(F111<>"",F111<>"-"),AND(E111="-",D110=""))),"-",""))) | F110: =IFERROR(INDEX(Calculation!$Q$7:$Q$206,MATCH($B110&" "&F$10,positions,0),1), IFERROR(INDEX(Calculation!$R$7:$R$206,MATCH($B109&" "&F$10,positions,0),1), IF(AND(ROW(F110)>12,OR(AND(G111<>"",G111<>"-"),AND(F111="-",E110=""))),"-",""))) | G110: =IFERROR(INDEX(Calculation!$Q$7:$Q$206,MATCH($B110&" "&G$10,positions,0),1), IFERROR(INDEX(Calculation!$R$7:$R$206,MATCH($B109&" "&G$10,positions,0),1), IF(AND(ROW(G110)>12,OR(AND(H111<>"",H111<>"-"),AND(G111="-",F110=""))),"-",""))) | H110: =IFERROR(INDEX(Calculation!$Q$7:$Q$206,MATCH($B110&" "&H$10,positions,0),1), IFERROR(INDEX(Calculation!$R$7:$R$206,MATCH($B109&" "&H$10,positions,0),1), IF(AND(ROW(H110)>12,OR(AND(I111<>"",I111<>"-"),AND(H111="-",G110=""))),"-",""))) | I110: =IFERROR(INDEX(Calculation!$Q$7:$Q$206,MATCH($B110&" "&I$10,positions,0),1), IFERROR(INDEX(Calculation!$R$7:$R$206,MATCH($B109&" "&I$10,positions,0),1), IF(AND(ROW(I110)>12,OR(AND(J111<>"",J111<>"-"),AND(I111="-",H110=""))),"-",""))) | J110: =IFERROR(INDEX(Calculation!$Q$7:$Q$206,MATCH($B110&" "&J$10,positions,0),1), IFERROR(INDEX(Calculation!$R$7:$R$206,MATCH($B109&" "&J$10,positions,0),1), IF(AND(ROW(J110)>12,OR(AND(K111<>"",K111<>"-"),AND(J111="-",I110=""))),"-",""))) | K110: =IFERROR(INDEX(Calculation!$Q$7:$Q$206,MATCH($B110&" "&K$10,positions,0),1), IFERROR(INDEX(Calculation!$R$7:$R$206,MATCH($B109&" "&K$10,positions,0),1), IF(AND(ROW(K110)>12,OR(AND(L111<>"",L111<>"-"),AND(K111="-",J110=""))),"-",""))) | ... CZ110: =IFERROR(INDEX(Calculation!$Q$7:$Q$206,MATCH($B110&" "&CZ$10,positions,0),1), IFERROR(INDEX(Calculation!$R$7:$R$206,MATCH($B109&" "&CZ$10,positions,0),1), IF(AND(ROW(CZ110)>12,OR(AND(DA111<>"",DA111<>"-"),AND(CZ111="-",CY110=""))),"-","")))

Sheet Settings
B2: RESPONSIBILITY ASSIGNMENT MATRIX
B3: SETTINGS
C6: NAME | D6: POSITION | E6: SHORTCUT | G6: ASSIGNMENT CATEGORIES
C7: Walt Disney | D7: CEO | E7: CEO | G7: P | H7: Participant
C8: Mikey Mouse | D8: Project Manager | E8: PM | G8: Ap | H8: Approval
C9: Cinderella | D9: Production supervisor | E9: PS | G9: V | H9: Verification
C10: Mouse | D10: Line worker | E10: LW | G10: O | H10: Opinion
C11: Bird | D11: Line worker | E11: LW
C12: Fairy godmother | D12: Director | E12: D
C13: Prince charming | D13: Main character | E13: Mc

Sheet Calculation
U3: Position of the WBS elements | AC3: Dropdown list per row
T5: Rows between next tasks | U5: =INDEX(AT7:AT14,MATCH(option,AS7:AS14,0),1) -> 2 | X5: Helpers to calculate position Y of the task in WBS | AS5: Chosen Option no: | AT5: =MATCH(option,AS7:AS14,0) -> 3
B6: ALL ROWS | C6: ID | D6: Title | E6: Role1 | F6: Role2 | G6: Role3 | H6: Role4 | I6: Role5 | J6: Role | K6: Person1 | L6: Person2 | M6: Person3 | N6: Person4 | O6: Person5 | P6: Person | Q6: Final1 | R6: Final2 | S6: Highlight - Filter | T6: Level | U6: x | V6: y | W6: X - Y | X6: Helper1 | Y6: Helper2 | Z6: Helper3 | AA6: Helper4 | AC6: 9 | AD6: 8 | AE6: 7 | AF6: 6 | AG6: 5 | AH6: 4 | AI6: 3 | AJ6: level -1 | AK6: Same Level | AL6: Up level | AM6: Helpers | AQ6: Lists of categories | AS6: WBS Option | AT6: Distance between rows | AW6: All | AX6: All
B7: 1 | C7: {=IFERROR(IF(INDEX(RAM!$B$7:$B$205,B7,1)=0,"",INDEX(RAM!$B$7:$B$205,B7,1)),"")} -> 1 | D7: =IFERROR(IF(C7="","",IF(INDEX(RAM!$C$7:$C$205,B7,1)="","-/-",INDEX(RAM!$C$7:$C$205,B7,1))),"") -> Hire new person | E7: {=IFERROR(IF(C7="","",INDEX(RAM!$D$7:$CY$205,B7,SMALL(IF(INDEX(RAM!$D$7:$CY$205,B7,)<>"",COLUMN(RAM!$D$7:$CY$205)-3,""),1))),"")} -> P | F7: {=IFERROR(IF(C7="","",INDEX(RAM!$D$7:$CY$205,B7,SMALL(IF(INDEX(RAM!$D$7:$CY$205,B7,)<>"",COLUMN(RAM!$D$7:$CY$205)-3,""),2))),"")} | G7: {=IFERROR(IF(C7="","",INDEX(RAM!$D$7:$CY$205,B7,SMALL(IF(INDEX(RAM!$D$7:$CY$205,B7,)<>"",COLUMN(RAM!$D$7:$CY$205)-3,""),3))),"")} | H7: {=IFERROR(IF(C7="","",INDEX(RAM!$D$7:$CY$205,B7,SMALL(IF(INDEX(RAM!$D$7:$CY$205,B7,)<>"",COLUMN(RAM!$D$7:$CY$205)-3,""),4))),"")} | I7: {=IFERROR(IF(C7="","",INDEX(RAM!$D$7:$CY$205,B7,SMALL(IF(INDEX(RAM!$D$7:$CY$205,B7,)<>"",COLUMN(RAM!$D$7:$CY$205)-3,""),5))),"")} | J7: =IF(LEN(E7)=0,"-/-",TRIM(E7 & " " &F7& " " & G7 & " " & H7 & " " &I7)) -> P | K7: {=IFERROR(IF(C7="","",INDEX(RAM!$D$5:$CY$5,1,SMALL(IF(INDEX(RAM!$D$7:$CY$205,B7,)<>"",COLUMN(RAM!$D$7:$CY$205)-3,""),1))),"")} -> Walt Disney | L7: {=IFERROR(IF(C7="","",INDEX(RAM!$D$5:$CY$5,1,SMALL(IF(INDEX(RAM!$D$7:$CY$205,B7,)<>"",COLUMN(RAM!$D$7:$CY$205)-3,""),2))),"")} | M7: {=IFERROR(IF(C7="","",INDEX(RAM!$D$5:$CY$5,1,SMALL(IF(INDEX(RAM!$D$7:$CY$205,B7,)<>"",COLUMN(RAM!$D$7:$CY$205)-3,""),3))),"")} | N7: {=IFERROR(IF(C7="","",INDEX(RAM!$D$5:$CY$5,1,SMALL(IF(INDEX(RAM!$D$7:$CY$205,B7,)<>"",COLUMN(RAM!$D$7:$CY$205)-3,""),4))),"")} | O7: {=IFERROR(IF(C7="","",INDEX(RAM!$D$5:$CY$5,1,SMALL(IF(INDEX(RAM!$D$7:$CY$205,B7,)<>"",COLUMN(RAM!$D$7:$CY$205)-3,""),5))),"")} | P7: =IF(LEN(K7)=0,"-/---", IF(K7<>"",K7&", ","")&IF(L7<>"",L7&", ","")&IF(M7<>"",M7&", ","")&IF(N7<>"",N7&", ","")&IF(O7<>"",O7&", ","")) -> Walt Disney, | Q7: =IF(OR($AT$5=1,$AT$5=4,$AT$5=6),D7,IF($AT$5=2,C7&" ",C7& " - "&D7)) -> 1 - Hire new person | R7: =IF(C7="","", IF(OR($AT$5=4,$AT$5=5),J7&" ",IF(OR($AT$5=6,$AT$5=7),LEFT(P7,LEN(P7)-2),IF($AT$5=8,IF(LEN(E7&K7)=0,"-/-",SUBSTITUTE(E7&"-"&K7&" "&F7&"-"&L7&" "&G7&"-"&M7&" "&H7&"-"&N7&" "&I7&"-"&O7&" ","- ","")),"")))) | S7: =IF(roleF="",1,IF(ISNUMBER(MATCH(roleF,INDEX(RAM!$D$7:$CY$205,B7,),0)),1,0))*IF(personF="",1,IF(INDEX(INDEX(RAM!$D$7:$CY$205,B7,),1,personF)<>"",IF(roleF="",1,IF(ISNUMBER(MATCH(roleF,INDEX(RAM!$D$7:$CY$205,B7,personF),0)),1,0)),0)) -> 1 | T7: =IF(LEN(C7)>0,LEN(C7)-LEN(SUBSTITUTE(C7,".",""))+1,"") -> 1 | U7: =IF(C7="","",IF(T7=1,2,U6+$U$5)) -> 2 | V7: =IF(T7="","",2*(T7+X7)) -> 2 | W7: =U7&" "&V7 -> 2 2 | X7: =IF(T7="","",IF(T7=1,Y7+0*(COUNTIF($T$7:T7,1)-1),X6)) -> 0 | Y7: =IF(C7="","",INDEX($AA$7:$AA$106,IF(T7=1,C7,LEFT(C7,SEARCH(".",C7,1)-1)),1)) -> 0 | Z7: {=IF(C7="","",MAX(IF(ISNUMBER(SEARCH(" "&B7," "&$C$7:$C$206)),$T$7:$T$206,0)))} -> 2 | AA7: 0 | AC7: =IF($T7<AC$6,"",INDEX(AD$7:AD$206,MATCH(AD7,AE$7:AE$206,0),1)) | AD7: =IF($T7<AD$6,"",INDEX(AE$7:AE$206,MATCH(AE7,AF$7:AF$206,0),1)) | AE7: =IF($T7<AE$6,"",INDEX(AF$7:AF$206,MATCH(AF7,AG$7:AG$206,0),1)) | AF7: =IF($T7<AF$6,"",INDEX(AG$7:AG$206,MATCH(AG7,AH$7:AH$206,0),1)) | AG7: =IF($T7<AG$6,"",INDEX(AH$7:AH$206,MATCH(AH7,AI$7:AI$206,0),1)) | AH7: =IF($T7<AH$6,"",INDEX(AI$7:AI$206,MATCH(AI7,AJ$7:AJ$206,0),1)) | AI7: =IF($T7<AI$6,"",INDEX(AJ$7:AJ$206,MATCH(AJ7,AK$7:AK$206,0),1)) | AJ7: =IFERROR(IF(C7<>"",IF(AN7=1,AM7+1,LEFT(AM7,SEARCH(";",SUBSTITUTE(AM7,".",";",AN7-1),1))& RIGHT(AM7,LEN(AM7)-SEARCH(";",SUBSTITUTE(AM7,".",";",AN7-1),1)) +1 ),""),"") | AK7: =IFERROR(IF(C7<>"",IF(T7=1,C7+1,LEFT(C7,SEARCH(";",SUBSTITUTE(C7,".",";",T7-1),1))& RIGHT(C7,LEN(C7)-SEARCH(";",SUBSTITUTE(C7,".",";",T7-1),1)) +1 ),""),"") -> 2 | AL7: =IFERROR(IF(C7<>"",C7 &".1",""),"") -> 1.1 | AM7: =IFERROR(LEFT(C7,SEARCH(";",SUBSTITUTE(C7,".",";",T7-1),1)-1),"") | AN7: =IFERROR(T7-1,"") -> 0 | AQ7: =IF(Settings!G7="","",Settings!G7&" - "&Settings!H7) -> P - Participant | AS7: Title | AT7: 2 | AW7: =Settings!C7 -> Walt Disney | AX7: =Settings!H7 -> Participant
B8: 2 | C8: {=IFERROR(IF(INDEX(RAM!$B$7:$B$205,B8,1)=0,"",INDEX(RAM!$B$7:$B$205,B8,1)),"")} -> 1.1 | D8: =IFERROR(IF(C8="","",IF(INDEX(RAM!$C$7:$C$205,B8,1)="","-/-",INDEX(RAM!$C$7:$C$205,B8,1))),"") -> Create job description | E8: {=IFERROR(IF(C8="","",INDEX(RAM!$D$7:$CY$205,B8,SMALL(IF(INDEX(RAM!$D$7:$CY$205,B8,)<>"",COLUMN(RAM!$D$7:$CY$205)-3,""),1))),"")} -> P | F8: {=IFERROR(IF(C8="","",INDEX(RAM!$D$7:$CY$205,B8,SMALL(IF(INDEX(RAM!$D$7:$CY$205,B8,)<>"",COLUMN(RAM!$D$7:$CY$205)-3,""),2))),"")} | G8: {=IFERROR(IF(C8="","",INDEX(RAM!$D$7:$CY$205,B8,SMALL(IF(INDEX(RAM!$D$7:$CY$205,B8,)<>"",COLUMN(RAM!$D$7:$CY$205)-3,""),3))),"")} | H8: {=IFERROR(IF(C8="","",INDEX(RAM!$D$7:$CY$205,B8,SMALL(IF(INDEX(RAM!$D$7:$CY$205,B8,)<>"",COLUMN(RAM!$D$7:$CY$205)-3,""),4))),"")} | I8: {=IFERROR(IF(C8="","",INDEX(RAM!$D$7:$CY$205,B8,SMALL(IF(INDEX(RAM!$D$7:$CY$205,B8,)<>"",COLUMN(RAM!$D$7:$CY$205)-3,""),5))),"")} | J8: =IF(LEN(E8)=0,"-/-",TRIM(E8 & " " &F8& " " & G8 & " " & H8 & " " &I8)) -> P | K8: {=IFERROR(IF(C8="","",INDEX(RAM!$D$5:$CY$5,1,SMALL(IF(INDEX(RAM!$D$7:$CY$205,B8,)<>"",COLUMN(RAM!$D$7:$CY$205)-3,""),1))),"")} -> Mikey Mouse | L8: {=IFERROR(IF(C8="","",INDEX(RAM!$D$5:$CY$5,1,SMALL(IF(INDEX(RAM!$D$7:$CY$205,B8,)<>"",COLUMN(RAM!$D$7:$CY$205)-3,""),2))),"")} | M8: {=IFERROR(IF(C8="","",INDEX(RAM!$D$5:$CY$5,1,SMALL(IF(INDEX(RAM!$D$7:$CY$205,B8,)<>"",COLUMN(RAM!$D$7:$CY$205)-3,""),3))),"")} | N8: {=IFERROR(IF(C8="","",INDEX(RAM!$D$5:$CY$5,1,SMALL(IF(INDEX(RAM!$D$7:$CY$205,B8,)<>"",COLUMN(RAM!$D$7:$CY$205)-3,""),4))),"")} | O8: {=IFERROR(IF(C8="","",INDEX(RAM!$D$5:$CY$5,1,SMALL(IF(INDEX(RAM!$D$7:$CY$205,B8,)<>"",COLUMN(RAM!$D$7:$CY$205)-3,""),5))),"")} | P8: =IF(LEN(K8)=0,"-/---", IF(K8<>"",K8&", ","")&IF(L8<>"",L8&", ","")&IF(M8<>"",M8&", ","")&IF(N8<>"",N8&", ","")&IF(O8<>"",O8&", ","")) -> Mikey Mouse, | Q8: =IF(OR($AT$5=1,$AT$5=4,$AT$5=6),D8,IF($AT$5=2,C8&" ",C8& " - "&D8)) -> 1.1 - Create job description | R8: =IF(C8="","", IF(OR($AT$5=4,$AT$5=5),J8&" ",IF(OR($AT$5=6,$AT$5=7),LEFT(P8,LEN(P8)-2),IF($AT$5=8,IF(LEN(E8&K8)=0,"-/-",SUBSTITUTE(E8&"-"&K8&" "&F8&"-"&L8&" "&G8&"-"&M8&" "&H8&"-"&N8&" "&I8&"-"&O8&" ","- ","")),"")))) | S8: =IF(roleF="",1,IF(ISNUMBER(MATCH(roleF,INDEX(RAM!$D$7:$CY$205,B8,),0)),1,0))*IF(personF="",1,IF(INDEX(INDEX(RAM!$D$7:$CY$205,B8,),1,personF)<>"",IF(roleF="",1,IF(ISNUMBER(MATCH(roleF,INDEX(RAM!$D$7:$CY$205,B8,personF),0)),1,0)),0)) -> 1 | T8: =IF(LEN(C8)>0,LEN(C8)-LEN(SUBSTITUTE(C8,".",""))+1,"") -> 2 | U8: =IF(C8="","",IF(T8=1,2,U7+$U$5)) -> 4 | V8: =IF(T8="","",2*(T8+X8)) -> 4 | W8: =U8&" "&V8 -> 4 4 | X8: =IF(T8="","",IF(T8=1,Y8+0*(COUNTIF($T$7:T8,1)-1),X7)) -> 0 | Y8: =IF(C8="","",INDEX($AA$7:$AA$106,IF(T8=1,C8,LEFT(C8,SEARCH(".",C8,1)-1)),1)) -> 0 | Z8: {=IF(C8="","",MAX(IF(ISNUMBER(SEARCH(" "&B8," "&$C$7:$C$206)),$T$7:$T$206,0)))} -> 3 | AA8: =IF(OR(Z8=0,Z8=""),"",AA7+Z7) -> 2 | AC8: =IF($T8<AC$6,"",INDEX(AD$7:AD$206,MATCH(AD8,AE$7:AE$206,0),1)) | AD8: =IF($T8<AD$6,"",INDEX(AE$7:AE$206,MATCH(AE8,AF$7:AF$206,0),1)) | AE8: =IF($T8<AE$6,"",INDEX(AF$7:AF$206,MATCH(AF8,AG$7:AG$206,0),1)) | AF8: =IF($T8<AF$6,"",INDEX(AG$7:AG$206,MATCH(AG8,AH$7:AH$206,0),1)) | AG8: =IF($T8<AG$6,"",INDEX(AH$7:AH$206,MATCH(AH8,AI$7:AI$206,0),1)) | AH8: =IF($T8<AH$6,"",INDEX(AI$7:AI$206,MATCH(AI8,AJ$7:AJ$206,0),1)) | AI8: =IF($T8<AI$6,"",INDEX(AJ$7:AJ$206,MATCH(AJ8,AK$7:AK$206,0),1)) | AJ8: =IFERROR(IF(C8<>"",IF(AN8=1,AM8+1,LEFT(AM8,SEARCH(";",SUBSTITUTE(AM8,".",";",AN8-1),1))& RIGHT(AM8,LEN(AM8)-SEARCH(";",SUBSTITUTE(AM8,".",";",AN8-1),1)) +1 ),""),"") -> 2 | AK8: =IFERROR(IF(C8<>"",IF(T8=1,C8+1,LEFT(C8,SEARCH(";",SUBSTITUTE(C8,".",";",T8-1),1))& RIGHT(C8,LEN(C8)-SEARCH(";",SUBSTITUTE(C8,".",";",T8-1),1)) +1 ),""),"") -> 1.2 | AL8: =IFERROR(IF(C8<>"",C8 &".1",""),"") -> 1.1.1 | AM8: =IFERROR(LEFT(C8,SEARCH(";",SUBSTITUTE(C8,".",";",T8-1),1)-1),"") -> 1 | AN8: =IFERROR(T8-1,"") -> 1 | AQ8: =IF(Settings!G8="","",Settings!G8&" - "&Settings!H8) -> Ap - Approval | AS8: ID | AT8: 2 | AW8: =Settings!C8 -> Mikey Mouse | AX8: =Settings!H8 -> Approval
B9: 3 | C9: {=IFERROR(IF(INDEX(RAM!$B$7:$B$205,B9,1)=0,"",INDEX(RAM!$B$7:$B$205,B9,1)),"")} -> 1.2 | D9: =IFERROR(IF(C9="","",IF(INDEX(RAM!$C$7:$C$205,B9,1)="","-/-",INDEX(RAM!$C$7:$C$205,B9,1))),"") -> Publish info about job | E9: {=IFERROR(IF(C9="","",INDEX(RAM!$D$7:$CY$205,B9,SMALL(IF(INDEX(RAM!$D$7:$CY$205,B9,)<>"",COLUMN(RAM!$D$7:$CY$205)-3,""),1))),"")} -> P | F9: {=IFERROR(IF(C9="","",INDEX(RAM!$D$7:$CY$205,B9,SMALL(IF(INDEX(RAM!$D$7:$CY$205,B9,)<>"",COLUMN(RAM!$D$7:$CY$205)-3,""),2))),"")} | G9: {=IFERROR(IF(C9="","",INDEX(RAM!$D$7:$CY$205,B9,SMALL(IF(INDEX(RAM!$D$7:$CY$205,B9,)<>"",COLUMN(RAM!$D$7:$CY$205)-3,""),3))),"")} | H9: {=IFERROR(IF(C9="","",INDEX(RAM!$D$7:$CY$205,B9,SMALL(IF(INDEX(RAM!$D$7:$CY$205,B9,)<>"",COLUMN(RAM!$D$7:$CY$205)-3,""),4))),"")} | I9: {=IFERROR(IF(C9="","",INDEX(RAM!$D$7:$CY$205,B9,SMALL(IF(INDEX(RAM!$D$7:$CY$205,B9,)<>"",COLUMN(RAM!$D$7:$CY$205)-3,""),5))),"")} | J9: =IF(LEN(E9)=0,"-/-",TRIM(E9 & " " &F9& " " & G9 & " " & H9 & " " &I9)) -> P | K9: {=IFERROR(IF(C9="","",INDEX(RAM!$D$5:$CY$5,1,SMALL(IF(INDEX(RAM!$D$7:$CY$205,B9,)<>"",COLUMN(RAM!$D$7:$CY$205)-3,""),1))),"")} -> Mouse | L9: {=IFERROR(IF(C9="","",INDEX(RAM!$D$5:$CY$5,1,SMALL(IF(INDEX(RAM!$D$7:$CY$205,B9,)<>"",COLUMN(RAM!$D$7:$CY$205)-3,""),2))),"")} | M9: {=IFERROR(IF(C9="","",INDEX(RAM!$D$5:$CY$5,1,SMALL(IF(INDEX(RAM!$D$7:$CY$205,B9,)<>"",COLUMN(RAM!$D$7:$CY$205)-3,""),3))),"")} | N9: {=IFERROR(IF(C9="","",INDEX(RAM!$D$5:$CY$5,1,SMALL(IF(INDEX(RAM!$D$7:$CY$205,B9,)<>"",COLUMN(RAM!$D$7:$CY$205)-3,""),4))),"")} | O9: {=IFERROR(IF(C9="","",INDEX(RAM!$D$5:$CY$5,1,SMALL(IF(INDEX(RAM!$D$7:$CY$205,B9,)<>"",COLUMN(RAM!$D$7:$CY$205)-3,""),5))),"")} | P9: =IF(LEN(K9)=0,"-/---", IF(K9<>"",K9&", ","")&IF(L9<>"",L9&", ","")&IF(M9<>"",M9&", ","")&IF(N9<>"",N9&", ","")&IF(O9<>"",O9&", ","")) -> Mouse, | Q9: =IF(OR($AT$5=1,$AT$5=4,$AT$5=6),D9,IF($AT$5=2,C9&" ",C9& " - "&D9)) -> 1.2 - Publish info about job | R9: =IF(C9="","", IF(OR($AT$5=4,$AT$5=5),J9&" ",IF(OR($AT$5=6,$AT$5=7),LEFT(P9,LEN(P9)-2),IF($AT$5=8,IF(LEN(E9&K9)=0,"-/-",SUBSTITUTE(E9&"-"&K9&" "&F9&"-"&L9&" "&G9&"-"&M9&" "&H9&"-"&N9&" "&I9&"-"&O9&" ","- ","")),"")))) | S9: =IF(roleF="",1,IF(ISNUMBER(MATCH(roleF,INDEX(RAM!$D$7:$CY$205,B9,),0)),1,0))*IF(personF="",1,IF(INDEX(INDEX(RAM!$D$7:$CY$205,B9,),1,personF)<>"",IF(roleF="",1,IF(ISNUMBER(MATCH(roleF,INDEX(RAM!$D$7:$CY$205,B9,personF),0)),1,0)),0)) -> 1 | T9: =IF(LEN(C9)>0,LEN(C9)-LEN(SUBSTITUTE(C9,".",""))+1,"") -> 2 | U9: =IF(C9="","",IF(T9=1,2,U8+$U$5)) -> 6 | V9: =IF(T9="","",2*(T9+X9)) -> 4 | W9: =U9&" "&V9 -> 6 4 | X9: =IF(T9="","",IF(T9=1,Y9+0*(COUNTIF($T$7:T9,1)-1),X8)) -> 0 | Y9: =IF(C9="","",INDEX($AA$7:$AA$106,IF(T9=1,C9,LEFT(C9,SEARCH(".",C9,1)-1)),1)) -> 0 | Z9: {=IF(C9="","",MAX(IF(ISNUMBER(SEARCH(" "&B9," "&$C$7:$C$206)),$T$7:$T$206,0)))} -> 2 | AA9: =IF(OR(Z9=0,Z9=""),"",AA8+Z8) -> 5 | AC9: =IF($T9<AC$6,"",INDEX(AD$7:AD$206,MATCH(AD9,AE$7:AE$206,0),1)) | AD9: =IF($T9<AD$6,"",INDEX(AE$7:AE$206,MATCH(AE9,AF$7:AF$206,0),1)) | AE9: =IF($T9<AE$6,"",INDEX(AF$7:AF$206,MATCH(AF9,AG$7:AG$206,0),1)) | AF9: =IF($T9<AF$6,"",INDEX(AG$7:AG$206,MATCH(AG9,AH$7:AH$206,0),1)) | AG9: =IF($T9<AG$6,"",INDEX(AH$7:AH$206,MATCH(AH9,AI$7:AI$206,0),1)) | AH9: =IF($T9<AH$6,"",INDEX(AI$7:AI$206,MATCH(AI9,AJ$7:AJ$206,0),1)) | AI9: =IF($T9<AI$6,"",INDEX(AJ$7:AJ$206,MATCH(AJ9,AK$7:AK$206,0),1)) | AJ9: =IFERROR(IF(C9<>"",IF(AN9=1,AM9+1,LEFT(AM9,SEARCH(";",SUBSTITUTE(AM9,".",";",AN9-1),1))& RIGHT(AM9,LEN(AM9)-SEARCH(";",SUBSTITUTE(AM9,".",";",AN9-1),1)) +1 ),""),"") -> 2 | AK9: =IFERROR(IF(C9<>"",IF(T9=1,C9+1,LEFT(C9,SEARCH(";",SUBSTITUTE(C9,".",";",T9-1),1))& RIGHT(C9,LEN(C9)-SEARCH(";",SUBSTITUTE(C9,".",";",T9-1),1)) +1 ),""),"") -> 1.3 | AL9: =IFERROR(IF(C9<>"",C9 &".1",""),"") -> 1.2.1 | AM9: =IFERROR(LEFT(C9,SEARCH(";",SUBSTITUTE(C9,".",";",T9-1),1)-1),"") -> 1 | AN9: =IFERROR(T9-1,"") -> 1 | AQ9: =IF(Settings!G9="","",Settings!G9&" - "&Settings!H9) -> V - Verification | AS9: ID - Title | AT9: 2 | AW9: =Settings!C9 -> Cinderella | AX9: =Settings!H9 -> Verification
B10: 4 | C10: {=IFERROR(IF(INDEX(RAM!$B$7:$B$205,B10,1)=0,"",INDEX(RAM!$B$7:$B$205,B10,1)),"")} -> 1.3 | D10: =IFERROR(IF(C10="","",IF(INDEX(RAM!$C$7:$C$205,B10,1)="","-/-",INDEX(RAM!$C$7:$C$205,B10,1))),"") -> Call candidate | E10: {=IFERROR(IF(C10="","",INDEX(RAM!$D$7:$CY$205,B10,SMALL(IF(INDEX(RAM!$D$7:$CY$205,B10,)<>"",COLUMN(RAM!$D$7:$CY$205)-3,""),1))),"")} -> Ap | F10: {=IFERROR(IF(C10="","",INDEX(RAM!$D$7:$CY$205,B10,SMALL(IF(INDEX(RAM!$D$7:$CY$205,B10,)<>"",COLUMN(RAM!$D$7:$CY$205)-3,""),2))),"")} -> P | G10: {=IFERROR(IF(C10="","",INDEX(RAM!$D$7:$CY$205,B10,SMALL(IF(INDEX(RAM!$D$7:$CY$205,B10,)<>"",COLUMN(RAM!$D$7:$CY$205)-3,""),3))),"")} -> Ap | H10: {=IFERROR(IF(C10="","",INDEX(RAM!$D$7:$CY$205,B10,SMALL(IF(INDEX(RAM!$D$7:$CY$205,B10,)<>"",COLUMN(RAM!$D$7:$CY$205)-3,""),4))),"")} | I10: {=IFERROR(IF(C10="","",INDEX(RAM!$D$7:$CY$205,B10,SMALL(IF(INDEX(RAM!$D$7:$CY$205,B10,)<>"",COLUMN(RAM!$D$7:$CY$205)-3,""),5))),"")} | J10: =IF(LEN(E10)=0,"-/-",TRIM(E10 & " " &F10& " " & G10 & " " & H10 & " " &I10)) -> Ap P Ap | K10: {=IFERROR(IF(C10="","",INDEX(RAM!$D$5:$CY$5,1,SMALL(IF(INDEX(RAM!$D$7:$CY$205,B10,)<>"",COLUMN(RAM!$D$7:$CY$205)-3,""),1))),"")} -> Walt Disney | L10: {=IFERROR(IF(C10="","",INDEX(RAM!$D$5:$CY$5,1,SMALL(IF(INDEX(RAM!$D$7:$CY$205,B10,)<>"",COLUMN(RAM!$D$7:$CY$205)-3,""),2))),"")} -> Mikey Mouse | M10: {=IFERROR(IF(C10="","",INDEX(RAM!$D$5:$CY$5,1,SMALL(IF(INDEX(RAM!$D$7:$CY$205,B10,)<>"",COLUMN(RAM!$D$7:$CY$205)-3,""),3))),"")} -> Mouse | N10: {=IFERROR(IF(C10="","",INDEX(RAM!$D$5:$CY$5,1,SMALL(IF(INDEX(RAM!$D$7:$CY$205,B10,)<>"",COLUMN(RAM!$D$7:$CY$205)-3,""),4))),"")} | O10: {=IFERROR(IF(C10="","",INDEX(RAM!$D$5:$CY$5,1,SMALL(IF(INDEX(RAM!$D$7:$CY$205,B10,)<>"",COLUMN(RAM!$D$7:$CY$205)-3,""),5))),"")} | P10: =IF(LEN(K10)=0,"-/---", IF(K10<>"",K10&", ","")&IF(L10<>"",L10&", ","")&IF(M10<>"",M10&", ","")&IF(N10<>"",N10&", ","")&IF(O10<>"",O10&", ","")) -> Walt Disney, Mikey Mouse, Mouse, | Q10: =IF(OR($AT$5=1,$AT$5=4,$AT$5=6),D10,IF($AT$5=2,C10&" ",C10& " - "&D10)) -> 1.3 - Call candidate | R10: =IF(C10="","", IF(OR($AT$5=4,$AT$5=5),J10&" ",IF(OR($AT$5=6,$AT$5=7),LEFT(P10,LEN(P10)-2),IF($AT$5=8,IF(LEN(E10&K10)=0,"-/-",SUBSTITUTE(E10&"-"&K10&" "&F10&"-"&L10&" "&G10&"-"&M10&" "&H10&"-"&N10&" "&I10&"-"&O10&" ","- ","")),"")))) | S10: =IF(roleF="",1,IF(ISNUMBER(MATCH(roleF,INDEX(RAM!$D$7:$CY$205,B10,),0)),1,0))*IF(personF="",1,IF(INDEX(INDEX(RAM!$D$7:$CY$205,B10,),1,personF)<>"",IF(roleF="",1,IF(ISNUMBER(MATCH(roleF,INDEX(RAM!$D$7:$CY$205,B10,personF),0)),1,0)),0)) -> 1 | T10: =IF(LEN(C10)>0,LEN(C10)-LEN(SUBSTITUTE(C10,".",""))+1,"") -> 2 | U10: =IF(C10="","",IF(T10=1,2,U9+$U$5)) -> 8 | V10: =IF(T10="","",2*(T10+X10)) -> 4 | W10: =U10&" "&V10 -> 8 4 | X10: =IF(T10="","",IF(T10=1,Y10+0*(COUNTIF($T$7:T10,1)-1),X9)) -> 0 | Y10: =IF(C10="","",INDEX($AA$7:$AA$106,IF(T10=1,C10,LEFT(C10,SEARCH(".",C10,1)-1)),1)) -> 0 | Z10: {=IF(C10="","",MAX(IF(ISNUMBER(SEARCH(" "&B10," "&$C$7:$C$206)),$T$7:$T$206,0)))} -> 0 | AA10: =IF(OR(Z10=0,Z10=""),"",AA9+Z9) | AC10: =IF($T10<AC$6,"",INDEX(AD$7:AD$206,MATCH(AD10,AE$7:AE$206,0),1)) | AD10: =IF($T10<AD$6,"",INDEX(AE$7:AE$206,MATCH(AE10,AF$7:AF$206,0),1)) | AE10: =IF($T10<AE$6,"",INDEX(AF$7:AF$206,MATCH(AF10,AG$7:AG$206,0),1)) | AF10: =IF($T10<AF$6,"",INDEX(AG$7:AG$206,MATCH(AG10,AH$7:AH$206,0),1)) | AG10: =IF($T10<AG$6,"",INDEX(AH$7:AH$206,MATCH(AH10,AI$7:AI$206,0),1)) | AH10: =IF($T10<AH$6,"",INDEX(AI$7:AI$206,MATCH(AI10,AJ$7:AJ$206,0),1)) | AI10: =IF($T10<AI$6,"",INDEX(AJ$7:AJ$206,MATCH(AJ10,AK$7:AK$206,0),1)) | AJ10: =IFERROR(IF(C10<>"",IF(AN10=1,AM10+1,LEFT(AM10,SEARCH(";",SUBSTITUTE(AM10,".",";",AN10-1),1))& RIGHT(AM10,LEN(AM10)-SEARCH(";",SUBSTITUTE(AM10,".",";",AN10-1),1)) +1 ),""),"") -> 2 | AK10: =IFERROR(IF(C10<>"",IF(T10=1,C10+1,LEFT(C10,SEARCH(";",SUBSTITUTE(C10,".",";",T10-1),1))& RIGHT(C10,LEN(C10)-SEARCH(";",SUBSTITUTE(C10,".",";",T10-1),1)) +1 ),""),"") -> 1.4 | AL10: =IFERROR(IF(C10<>"",C10 &".1",""),"") -> 1.3.1 | AM10: =IFERROR(LEFT(C10,SEARCH(";",SUBSTITUTE(C10,".",";",T10-1),1)-1),"") -> 1 | AN10: =IFERROR(T10-1,"") -> 1 | AQ10: =IF(Settings!G10="","",Settings!G10&" - "&Settings!H10) -> O - Opinion | AS10: Title - Roles Assigned | AT10: 3 | AW10: =Settings!C10 -> Mouse | AX10: =Settings!H10 -> Opinion
B11: 5 | C11: {=IFERROR(IF(INDEX(RAM!$B$7:$B$205,B11,1)=0,"",INDEX(RAM!$B$7:$B$205,B11,1)),"")} -> 1.4 | D11: =IFERROR(IF(C11="","",IF(INDEX(RAM!$C$7:$C$205,B11,1)="","-/-",INDEX(RAM!$C$7:$C$205,B11,1))),"") -> Make an interview | E11: {=IFERROR(IF(C11="","",INDEX(RAM!$D$7:$CY$205,B11,SMALL(IF(INDEX(RAM!$D$7:$CY$205,B11,)<>"",COLUMN(RAM!$D$7:$CY$205)-3,""),1))),"")} | F11: {=IFERROR(IF(C11="","",INDEX(RAM!$D$7:$CY$205,B11,SMALL(IF(INDEX(RAM!$D$7:$CY$205,B11,)<>"",COLUMN(RAM!$D$7:$CY$205)-3,""),2))),"")} | G11: {=IFERROR(IF(C11="","",INDEX(RAM!$D$7:$CY$205,B11,SMALL(IF(INDEX(RAM!$D$7:$CY$205,B11,)<>"",COLUMN(RAM!$D$7:$CY$205)-3,""),3))),"")} | H11: {=IFERROR(IF(C11="","",INDEX(RAM!$D$7:$CY$205,B11,SMALL(IF(INDEX(RAM!$D$7:$CY$205,B11,)<>"",COLUMN(RAM!$D$7:$CY$205)-3,""),4))),"")} | I11: {=IFERROR(IF(C11="","",INDEX(RAM!$D$7:$CY$205,B11,SMALL(IF(INDEX(RAM!$D$7:$CY$205,B11,)<>"",COLUMN(RAM!$D$7:$CY$205)-3,""),5))),"")} | J11: =IF(LEN(E11)=0,"-/-",TRIM(E11 & " " &F11& " " & G11 & " " & H11 & " " &I11)) -> -/- | K11: {=IFERROR(IF(C11="","",INDEX(RAM!$D$5:$CY$5,1,SMALL(IF(INDEX(RAM!$D$7:$CY$205,B11,)<>"",COLUMN(RAM!$D$7:$CY$205)-3,""),1))),"")} | L11: {=IFERROR(IF(C11="","",INDEX(RAM!$D$5:$CY$5,1,SMALL(IF(INDEX(RAM!$D$7:$CY$205,B11,)<>"",COLUMN(RAM!$D$7:$CY$205)-3,""),2))),"")} | M11: {=IFERROR(IF(C11="","",INDEX(RAM!$D$5:$CY$5,1,SMALL(IF(INDEX(RAM!$D$7:$CY$205,B11,)<>"",COLUMN(RAM!$D$7:$CY$205)-3,""),3))),"")} | N11: {=IFERROR(IF(C11="","",INDEX(RAM!$D$5:$CY$5,1,SMALL(IF(INDEX(RAM!$D$7:$CY$205,B11,)<>"",COLUMN(RAM!$D$7:$CY$205)-3,""),4))),"")} | O11: {=IFERROR(IF(C11="","",INDEX(RAM!$D$5:$CY$5,1,SMALL(IF(INDEX(RAM!$D$7:$CY$205,B11,)<>"",COLUMN(RAM!$D$7:$CY$205)-3,""),5))),"")} | P11: =IF(LEN(K11)=0,"-/---", IF(K11<>"",K11&", ","")&IF(L11<>"",L11&", ","")&IF(M11<>"",M11&", ","")&IF(N11<>"",N11&", ","")&IF(O11<>"",O11&", ","")) -> -/--- | Q11: =IF(OR($AT$5=1,$AT$5=4,$AT$5=6),D11,IF($AT$5=2,C11&" ",C11& " - "&D11)) -> 1.4 - Make an interview | R11: =IF(C11="","", IF(OR($AT$5=4,$AT$5=5),J11&" ",IF(OR($AT$5=6,$AT$5=7),LEFT(P11,LEN(P11)-2),IF($AT$5=8,IF(LEN(E11&K11)=0,"-/-",SUBSTITUTE(E11&"-"&K11&" "&F11&"-"&L11&" "&G11&"-"&M11&" "&H11&"-"&N11&" "&I11&"-"&O11&" ","- ","")),"")))) | S11: =IF(roleF="",1,IF(ISNUMBER(MATCH(roleF,INDEX(RAM!$D$7:$CY$205,B11,),0)),1,0))*IF(personF="",1,IF(INDEX(INDEX(RAM!$D$7:$CY$205,B11,),1,personF)<>"",IF(roleF="",1,IF(ISNUMBER(MATCH(roleF,INDEX(RAM!$D$7:$CY$205,B11,personF),0)),1,0)),0)) -> 1 | T11: =IF(LEN(C11)>0,LEN(C11)-LEN(SUBSTITUTE(C11,".",""))+1,"") -> 2 | U11: =IF(C11="","",IF(T11=1,2,U10+$U$5)) -> 10 | V11: =IF(T11="","",2*(T11+X11)) -> 4 | W11: =U11&" "&V11 -> 10 4 | X11: =IF(T11="","",IF(T11=1,Y11+0*(COUNTIF($T$7:T11,1)-1),X10)) -> 0 | Y11: =IF(C11="","",INDEX($AA$7:$AA$106,IF(T11=1,C11,LEFT(C11,SEARCH(".",C11,1)-1)),1)) -> 0 | Z11: {=IF(C11="","",MAX(IF(ISNUMBER(SEARCH(" "&B11," "&$C$7:$C$206)),$T$7:$T$206,0)))} -> 0 | AA11: =IF(OR(Z11=0,Z11=""),"",AA10+Z10) | AC11: =IF($T11<AC$6,"",INDEX(AD$7:AD$206,MATCH(AD11,AE$7:AE$206,0),1)) | AD11: =IF($T11<AD$6,"",INDEX(AE$7:AE$206,MATCH(AE11,AF$7:AF$206,0),1)) | AE11: =IF($T11<AE$6,"",INDEX(AF$7:AF$206,MATCH(AF11,AG$7:AG$206,0),1)) | AF11: =IF($T11<AF$6,"",INDEX(AG$7:AG$206,MATCH(AG11,AH$7:AH$206,0),1)) | AG11: =IF($T11<AG$6,"",INDEX(AH$7:AH$206,MATCH(AH11,AI$7:AI$206,0),1)) | AH11: =IF($T11<AH$6,"",INDEX(AI$7:AI$206,MATCH(AI11,AJ$7:AJ$206,0),1)) | AI11: =IF($T11<AI$6,"",INDEX(AJ$7:AJ$206,MATCH(AJ11,AK$7:AK$206,0),1)) | AJ11: =IFERROR(IF(C11<>"",IF(AN11=1,AM11+1,LEFT(AM11,SEARCH(";",SUBSTITUTE(AM11,".",";",AN11-1),1))& RIGHT(AM11,LEN(AM11)-SEARCH(";",SUBSTITUTE(AM11,".",";",AN11-1),1)) +1 ),""),"") -> 2 | AK11: =IFERROR(IF(C11<>"",IF(T11=1,C11+1,LEFT(C11,SEARCH(";",SUBSTITUTE(C11,".",";",T11-1),1))& RIGHT(C11,LEN(C11)-SEARCH(";",SUBSTITUTE(C11,".",";",T11-1),1)) +1 ),""),"") -> 1.5 | AL11: =IFERROR(IF(C11<>"",C11 &".1",""),"") -> 1.4.1 | AM11: =IFERROR(LEFT(C11,SEARCH(";",SUBSTITUTE(C11,".",";",T11-1),1)-1),"") -> 1 | AN11: =IFERROR(T11-1,"") -> 1 | AQ11: =IF(Settings!G11="","",Settings!G11&" - "&Settings!H11) | AS11: ID - Title - Roles Assigned | AT11: 3 | AW11: =Settings!C11 -> Bird | AX11: =Settings!H11 -> 0
B12: 6 | C12: {=IFERROR(IF(INDEX(RAM!$B$7:$B$205,B12,1)=0,"",INDEX(RAM!$B$7:$B$205,B12,1)),"")} -> 1.5 | D12: =IFERROR(IF(C12="","",IF(INDEX(RAM!$C$7:$C$205,B12,1)="","-/-",INDEX(RAM!$C$7:$C$205,B12,1))),"") -> Take decision | E12: {=IFERROR(IF(C12="","",INDEX(RAM!$D$7:$CY$205,B12,SMALL(IF(INDEX(RAM!$D$7:$CY$205,B12,)<>"",COLUMN(RAM!$D$7:$CY$205)-3,""),1))),"")} -> O | F12: {=IFERROR(IF(C12="","",INDEX(RAM!$D$7:$CY$205,B12,SMALL(IF(INDEX(RAM!$D$7:$CY$205,B12,)<>"",COLUMN(RAM!$D$7:$CY$205)-3,""),2))),"")} | G12: {=IFERROR(IF(C12="","",INDEX(RAM!$D$7:$CY$205,B12,SMALL(IF(INDEX(RAM!$D$7:$CY$205,B12,)<>"",COLUMN(RAM!$D$7:$CY$205)-3,""),3))),"")} | H12: {=IFERROR(IF(C12="","",INDEX(RAM!$D$7:$CY$205,B12,SMALL(IF(INDEX(RAM!$D$7:$CY$205,B12,)<>"",COLUMN(RAM!$D$7:$CY$205)-3,""),4))),"")} | I12: {=IFERROR(IF(C12="","",INDEX(RAM!$D$7:$CY$205,B12,SMALL(IF(INDEX(RAM!$D$7:$CY$205,B12,)<>"",COLUMN(RAM!$D$7:$CY$205)-3,""),5))),"")} | J12: =IF(LEN(E12)=0,"-/-",TRIM(E12 & " " &F12& " " & G12 & " " & H12 & " " &I12)) -> O | K12: {=IFERROR(IF(C12="","",INDEX(RAM!$D$5:$CY$5,1,SMALL(IF(INDEX(RAM!$D$7:$CY$205,B12,)<>"",COLUMN(RAM!$D$7:$CY$205)-3,""),1))),"")} -> Walt Disney | L12: {=IFERROR(IF(C12="","",INDEX(RAM!$D$5:$CY$5,1,SMALL(IF(INDEX(RAM!$D$7:$CY$205,B12,)<>"",COLUMN(RAM!$D$7:$CY$205)-3,""),2))),"")} | M12: {=IFERROR(IF(C12="","",INDEX(RAM!$D$5:$CY$5,1,SMALL(IF(INDEX(RAM!$D$7:$CY$205,B12,)<>"",COLUMN(RAM!$D$7:$CY$205)-3,""),3))),"")} | N12: {=IFERROR(IF(C12="","",INDEX(RAM!$D$5:$CY$5,1,SMALL(IF(INDEX(RAM!$D$7:$CY$205,B12,)<>"",COLUMN(RAM!$D$7:$CY$205)-3,""),4))),"")} | O12: {=IFERROR(IF(C12="","",INDEX(RAM!$D$5:$CY$5,1,SMALL(IF(INDEX(RAM!$D$7:$CY$205,B12,)<>"",COLUMN(RAM!$D$7:$CY$205)-3,""),5))),"")} | P12: =IF(LEN(K12)=0,"-/---", IF(K12<>"",K12&", ","")&IF(L12<>"",L12&", ","")&IF(M12<>"",M12&", ","")&IF(N12<>"",N12&", ","")&IF(O12<>"",O12&", ","")) -> Walt Disney, | Q12: =IF(OR($AT$5=1,$AT$5=4,$AT$5=6),D12,IF($AT$5=2,C12&" ",C12& " - "&D12)) -> 1.5 - Take decision | R12: =IF(C12="","", IF(OR($AT$5=4,$AT$5=5),J12&" ",IF(OR($AT$5=6,$AT$5=7),LEFT(P12,LEN(P12)-2),IF($AT$5=8,IF(LEN(E12&K12)=0,"-/-",SUBSTITUTE(E12&"-"&K12&" "&F12&"-"&L12&" "&G12&"-"&M12&" "&H12&"-"&N12&" "&I12&"-"&O12&" ","- ","")),"")))) | S12: =IF(roleF="",1,IF(ISNUMBER(MATCH(roleF,INDEX(RAM!$D$7:$CY$205,B12,),0)),1,0))*IF(personF="",1,IF(INDEX(INDEX(RAM!$D$7:$CY$205,B12,),1,personF)<>"",IF(roleF="",1,IF(ISNUMBER(MATCH(roleF,INDEX(RAM!$D$7:$CY$205,B12,personF),0)),1,0)),0)) -> 1 | T12: =IF(LEN(C12)>0,LEN(C12)-LEN(SUBSTITUTE(C12,".",""))+1,"") -> 2 | U12: =IF(C12="","",IF(T12=1,2,U11+$U$5)) -> 12 | V12: =IF(T12="","",2*(T12+X12)) -> 4 | W12: =U12&" "&V12 -> 12 4 | X12: =IF(T12="","",IF(T12=1,Y12+0*(COUNTIF($T$7:T12,1)-1),X11)) -> 0 | Y12: =IF(C12="","",INDEX($AA$7:$AA$106,IF(T12=1,C12,LEFT(C12,SEARCH(".",C12,1)-1)),1)) -> 0 | Z12: {=IF(C12="","",MAX(IF(ISNUMBER(SEARCH(" "&B12," "&$C$7:$C$206)),$T$7:$T$206,0)))} -> 0 | AA12: =IF(OR(Z12=0,Z12=""),"",AA11+Z11) | AC12: =IF($T12<AC$6,"",INDEX(AD$7:AD$206,MATCH(AD12,AE$7:AE$206,0),1)) | AD12: =IF($T12<AD$6,"",INDEX(AE$7:AE$206,MATCH(AE12,AF$7:AF$206,0),1)) | AE12: =IF($T12<AE$6,"",INDEX(AF$7:AF$206,MATCH(AF12,AG$7:AG$206,0),1)) | AF12: =IF($T12<AF$6,"",INDEX(AG$7:AG$206,MATCH(AG12,AH$7:AH$206,0),1)) | AG12: =IF($T12<AG$6,"",INDEX(AH$7:AH$206,MATCH(AH12,AI$7:AI$206,0),1)) | AH12: =IF($T12<AH$6,"",INDEX(AI$7:AI$206,MATCH(AI12,AJ$7:AJ$206,0),1)) | AI12: =IF($T12<AI$6,"",INDEX(AJ$7:AJ$206,MATCH(AJ12,AK$7:AK$206,0),1)) | AJ12: =IFERROR(IF(C12<>"",IF(AN12=1,AM12+1,LEFT(AM12,SEARCH(";",SUBSTITUTE(AM12,".",";",AN12-1),1))& RIGHT(AM12,LEN(AM12)-SEARCH(";",SUBSTITUTE(AM12,".",";",AN12-1),1)) +1 ),""),"") -> 2 | AK12: =IFERROR(IF(C12<>"",IF(T12=1,C12+1,LEFT(C12,SEARCH(";",SUBSTITUTE(C12,".",";",T12-1),1))& RIGHT(C12,LEN(C12)-SEARCH(";",SUBSTITUTE(C12,".",";",T12-1),1)) +1 ),""),"") -> 1.6 | AL12: =IFERROR(IF(C12<>"",C12 &".1",""),"") -> 1.5.1 | AM12: =IFERROR(LEFT(C12,SEARCH(";",SUBSTITUTE(C12,".",";",T12-1),1)-1),"") -> 1 | AN12: =IFERROR(T12-1,"") -> 1 | AQ12: =IF(Settings!G12="","",Settings!G12&" - "&Settings!H12) | AS12: Title - Person | AT12: 3 | AW12: =Settings!C12 -> Fairy godmother | AX12: =Settings!H12 -> 0
