Workbook
Name dropdown: OFFSET(Calculation!$AL$7,ROW(RAM!$B1)-1-ROW(RAM!$B$7),-INDEX(Calculation!$T$7:$T$206,ROW(RAM!$B1)-ROW(RAM!$B$7),1),1,1+INDEX(Calculation!$T$7:$T$206,ROW(RAM!$B1)-ROW(RAM!$B$7),1))
Name option: WBS!$F$5
Name personF: Calculation!$AT$17
Name positions: Calculation!$W$7:$W$206
Name roleF: Calculation!$AT$16
Name startCell: WBS!$C$11

Sheet RAM
B2: RESPONSIBILITY ASSIGNMENT MATRIX
B3: RAM CHART
D5: =IF(INDEX(Settings!$C$7:$C$106,COLUMN(D5)-COLUMN($C$5),1)="","",INDEX(Settings!$C$7:$C$106,COLUMN(D5)-COLUMN($C$5),1)) -> Walt Disney | E5: =IF(INDEX(Settings!$C$7:$C$106,COLUMN(E5)-COLUMN($C$5),1)="","",INDEX(Settings!$C$7:$C$106,COLUMN(E5)-COLUMN($C$5),1)) -> Mikey Mouse | F5: =IF(INDEX(Settings!$C$7:$C$106,COLUMN(F5)-COLUMN($C$5),1)="","",INDEX(Settings!$C$7:$C$106,COLUMN(F5)-COLUMN($C$5),1)) -> Cinderella | G5: =IF(INDEX(Settings!$C$7:$C$106,COLUMN(G5)-COLUMN($C$5),1)="","",INDEX(Settings!$C$7:$C$106,COLUMN(G5)-COLUMN($C$5),1)) -> Mouse | H5: =IF(INDEX(Settings!$C$7:$C$106,COLUMN(H5)-COLUMN($C$5),1)="","",INDEX(Settings!$C$7:$C$106,COLUMN(H5)-COLUMN($C$5),1)) -> Bird | I5: =IF(INDEX(Settings!$C$7:$C$106,COLUMN(I5)-COLUMN($C$5),1)="","",INDEX(Settings!$C$7:$C$106,COLUMN(I5)-COLUMN($C$5),1)) -> Fairy godmother | J5: =IF(INDEX(Settings!$C$7:$C$106,COLUMN(J5)-COLUMN($C$5),1)="","",INDEX(Settings!$C$7:$C$106,COLUMN(J5)-COLUMN($C$5),1)) -> Prince charming | K5: =IF(INDEX(Settings!$C$7:$C$106,COLUMN(K5)-COLUMN($C$5),1)="","",INDEX(Settings!$C$7:$C$106,COLUMN(K5)-COLUMN($C$5),1)) | ... CY5: =IF(INDEX(Settings!$C$7:$C$106,COLUMN(CY5)-COLUMN($C$5),1)="","",INDEX(Settings!$C$7:$C$106,COLUMN(CY5)-COLUMN($C$5),1))
B6: ID | C6: TASK DESCRIPTION | D6: =IF(INDEX(Settings!$E$7:$E$106,COLUMN(D5)-COLUMN($C$5),1)="","",INDEX(Settings!$E$7:$E$106,COLUMN(D5)-COLUMN($C$5),1)) -> CEO | E6: =IF(INDEX(Settings!$E$7:$E$106,COLUMN(E5)-COLUMN($C$5),1)="","",INDEX(Settings!$E$7:$E$106,COLUMN(E5)-COLUMN($C$5),1)) -> PM | F6: =IF(INDEX(Settings!$E$7:$E$106,COLUMN(F5)-COLUMN($C$5),1)="","",INDEX(Settings!$E$7:$E$106,COLUMN(F5)-COLUMN($C$5),1)) -> PS | G6: =IF(INDEX(Settings!$E$7:$E$106,COLUMN(G5)-COLUMN($C$5),1)="","",INDEX(Settings!$E$7:$E$106,COLUMN(G5)-COLUMN($C$5),1)) -> LW | H6: =IF(INDEX(Settings!$E$7:$E$106,COLUMN(H5)-COLUMN($C$5),1)="","",INDEX(Settings!$E$7:$E$106,COLUMN(H5)-COLUMN($C$5),1)) -> LW | I6: =IF(INDEX(Settings!$E$7:$E$106,COLUMN(I5)-COLUMN($C$5),1)="","",INDEX(Settings!$E$7:$E$106,COLUMN(I5)-COLUMN($C$5),1)) -> D | J6: =IF(INDEX(Settings!$E$7:$E$106,COLUMN(J5)-COLUMN($C$5),1)="","",INDEX(Settings!$E$7:$E$106,COLUMN(J5)-COLUMN($C$5),1)) -> Mc | K6: =IF(INDEX(Settings!$E$7:$E$106,COLUMN(K5)-COLUMN($C$5),1)="","",INDEX(Settings!$E$7:$E$106,COLUMN(K5)-COLUMN($C$5),1)) | ... CY6: =IF(INDEX(Settings!$E$7:$E$106,COLUMN(CY5)-COLUMN($C$5),1)="","",INDEX(Settings!$E$7:$E$106,COLUMN(CY5)-COLUMN($C$5),1))
B7: =IF(C7="","",1) -> 1 | C7: Hire new person | D7: P
B8: 1.1 | C8: Create job description | E8: P
B9: 1.2 | C9: Publish info about job | G9: P
B10: 1.3 | C10: Call candidate | D10: Ap | E10: P | G10: Ap
B11: 1.4 | C11: Make an interview
B12: 1.5 | C12: Take decision | D12: O
B13: 2 | C13: Prepare new years party | H13: Ap | J13: P
B14: 2.1 | C14: Check budget | F14: V | G14: Ap
B15: 2.1.1 | C15: Check options withing budget | E15: O | I15: V
B16: 2.1.2 | C16: Check gifts options
B17: 2.2 | C17: Call few places | J17: O
B18: 2.3 | C18: Decide and make reservation | I18: V
B19: 2.4 | C19: Sent invitations
B20: 3 | C20: New task | F20: V | J20: O
B21: 3.1 | C21: sub task 1 | H21: P
B22: 3.2 | C22: sub task 2

Sheet WBS
D2: RESPONSIBILITY ASSIGNMENT MATRIX
D3: WORK BREAKDOWN STRUCTURE
D5: CHART CONTENTS | F5: ID - Title | H5: HIGHLIGHT FILTERS → | J5: ROLE ASSIGNED | L5: All | N5: PERSON | P5: All
D9: PROJECT NAME | L9: RESPONSIBLE | N9: Walt Disney | P9: DATE | R9: 44551
C10: 1 | D10: 2 | E10: 3 | F10: 4 | G10: 5 | H10: 6 | I10: 7 | J10: 8 | K10: 9 | L10: 10 | M10: 11 | N10: 12 | O10: 13 | P10: 14 | Q10: 15 | R10: 16 | S10: 17 | T10: 18 | U10: 19 | V10: 20 | W10: 21 | X10: 22 | Y10: 23 | Z10: 24 | AA10: 25 | AB10: 26 | AC10: 27 | AD10: 28 | AE10: 29 | AF10: 30 | AG10: 31 | AH10: 32 | AI10: 33 | AJ10: 34 | AK10: 35 | AL10: 36 | AM10: 37 | AN10: 38 | AO10: 39 | AP10: 40 | AQ10: 41 | AR10: 42 | AS10: 43 | AT10: 44 | AU10: 45 | AV10: 46 | AW10: 47 | AX10: 48 | AY10: 49 | AZ10: 50 | BA10: 51 | BB10: 52 | BC10: 53 | BD10: 54 | BE10: 55 | BF10: 56 | BG10: 57 | BH10: 58 | BI10: 59 | BJ10: 60 | BK10: 61 | BL10: 62 | BM10: 63 | BN10: 64 | BO10: 65 | BP10: 66 | BQ10: 67 | BR10: 68 | BS10: 69 | BT10: 70 | BU10: 71 | BV10: 72 | BW10: 73 | BX10: 74 | BY10: 75 | BZ10: 76 | CA10: 77 | CB10: 78 | CC10: 79 | CD10: 80 | CE10: 81 | CF10: 82 | CG10: 83 | CH10: 84 | CI10: 85 | CJ10: 86 | CK10: 87 | CL10: 88 | CM10: 89 | CN10: 90 | CO10: 91 | CP10: 92 | CQ10: 93 | CR10: 94 | CS10: 95 | CT10: 96 | CU10: 97 | CV10: 98 | CW10: 99 | CX10: 100 | CY10: 101 | CZ10: 102
B11: 1
B12: 2 | D12: =IFERROR(INDEX(Calculation!$Q$7:$Q$206,MATCH($B12&" "&D$10,positions,0),1), IFERROR(INDEX(Calculation!$R$7:$R$206,MATCH($B11&" "&D$10,positions,0),1), IF(AND(ROW(D12)>12,OR(AND(E13<>"",E13<>"-"),AND(D13="-",C12=""))),"-",""))) -> 1 - Hire new person | E12: =IFERROR(INDEX(Calculation!$Q$7:$Q$206,MATCH($B12&" "&E$10,positions,0),1), IFERROR(INDEX(Calculation!$R$7:$R$206,MATCH($B11&" "&E$10,positions,0),1), IF(AND(ROW(E12)>12,OR(AND(F13<>"",F13<>"-"),AND(E13="-",D12=""))),"-",""))) | F12: =IFERROR(INDEX(Calculation!$Q$7:$Q$206,MATCH($B12&" "&F$10,positions,0),1), IFERROR(INDEX(Calculation!$R$7:$R$206,MATCH($B11&" "&F$10,positions,0),1), IF(AND(ROW(F12)>12,OR(AND(G13<>"",G13<>"-"),AND(F13="-",E12=""))),"-",""))) | G12: =IFERROR(INDEX(Calculation!$Q$7:$Q$206,MATCH($B12&" "&G$10,positions,0),1), IFERROR(INDEX(Calculation!$R$7:$R$206,MATCH($B11&" "&G$10,positions,0),1), IF(AND(ROW(G12)>12,OR(AND(H13<>"",H13<>"-"),AND(G13="-",F12=""))),"-",""))) | H12: =IFERROR(INDEX(Calculation!$Q$7:$Q$206,MATCH($B12&" "&H$10,positions,0),1), IFERROR(INDEX(Calculation!$R$7:$R$206,MATCH($B11&" "&H$10,positions,0),1), IF(AND(ROW(H12)>12,OR(AND(I13<>"",I13<>"-"),AND(H13="-",G12=""))),"-",""))) -> 2 - Prepare new years party | I12: =IFERROR(INDEX(Calculation!$Q$7:$Q$206,MATCH($B12&" "&I$10,positions,0),1), IFERROR(INDEX(Calculation!$R$7:$R$206,MATCH($B11&" "&I$10,positions,0),1), IF(AND(ROW(I12)>12,OR(AND(J13<>"",J13<>"-"),AND(I13="-",H12=""))),"-",""))) | J12: =IFERROR(INDEX(Calculation!$Q$7:$Q$206,MATCH($B12&" "&J$10,positions,0),1), IFERROR(INDEX(Calculation!$R$7:$R$206,MATCH($B11&" "&J$10,positions,0),1), IF(AND(ROW(J12)>12,OR(AND(K13<>"",K13<>"-"),AND(J13="-",I12=""))),"-",""))) | K12: =IFERROR(INDEX(Calculation!$Q$7:$Q$206,MATCH($B12&" "&K$10,positions,0),1), IFERROR(INDEX(Calculation!$R$7:$R$206,MATCH($B11&" "&K$10,positions,0),1), IF(AND(ROW(K12)>12,OR(AND(L13<>"",L13<>"-"),AND(K13="-",J12=""))),"-",""))) | ... CZ12: =IFERROR(INDEX(Calculation!$Q$7:$Q$206,MATCH($B12&" "&CZ$10,positions,0),1), IFERROR(INDEX(Calculation!$R$7:$R$206,MATCH($B11&" "&CZ$10,positions,0),1), IF(AND(ROW(CZ12)>12,OR(AND(DA13<>"",DA13<>"-"),AND(CZ13="-",CY12=""))),"-","")))
B13: 3 | D13: =IFERROR(INDEX(Calculation!$Q$7:$Q$206,MATCH($B13&" "&D$10,positions,0),1), IFERROR(INDEX(Calculation!$R$7:$R$206,MATCH($B12&" "&D$10,positions,0),1), IF(AND(ROW(D13)>12,OR(AND(E14<>"",E14<>"-"),AND(D14="-",C13=""))),"-",""))) | E13: =IFERROR(INDEX(Calculation!$Q$7:$Q$206,MATCH($B13&" "&E$10,positions,0),1), IFERROR(INDEX(Calculation!$R$7:$R$206,MATCH($B12&" "&E$10,positions,0),1), IF(AND(ROW(E13)>12,OR(AND(F14<>"",F14<>"-"),AND(E14="-",D13=""))),"-",""))) -> - | F13: =IFERROR(INDEX(Calculation!$Q$7:$Q$206,MATCH($B13&" "&F$10,positions,0),1), IFERROR(INDEX(Calculation!$R$7:$R$206,MATCH($B12&" "&F$10,positions,0),1), IF(AND(ROW(F13)>12,OR(AND(G14<>"",G14<>"-"),AND(F14="-",E13=""))),"-",""))) | G13: =IFERROR(INDEX(Calculation!$Q$7:$Q$206,MATCH($B13&" "&G$10,positions,0),1), IFERROR(INDEX(Calculation!$R$7:$R$206,MATCH($B12&" "&G$10,positions,0),1), IF(AND(ROW(G13)>12,OR(AND(H14<>"",H14<>"-"),AND(G14="-",F13=""))),"-",""))) | H13: =IFERROR(INDEX(Calculation!$Q$7:$Q$206,MATCH($B13&" "&H$10,positions,0),1), IFERROR(INDEX(Calculation!$R$7:$R$206,MATCH($B12&" "&H$10,positions,0),1), IF(AND(ROW(H13)>12,OR(AND(I14<>"",I14<>"-"),AND(H14="-",G13=""))),"-",""))) | I13: =IFERROR(INDEX(Calculation!$Q$7:$Q$206,MATCH($B13&" "&I$10,positions,0),1), IFERROR(INDEX(Calculation!$R$7:$R$206,MATCH($B12&" "&I$10,positions,0),1), IF(AND(ROW(I13)>12,OR(AND(J14<>"",J14<>"-"),AND(I14="-",H13=""))),"-",""))) -> - | J13: =IFERROR(INDEX(Calculation!$Q$7:$Q$206,MATCH($B13&" "&J$10,positions,0),1), IFERROR(INDEX(Calculation!$R$7:$R$206,MATCH($B12&" "&J$10,positions,0),1), IF(AND(ROW(J13)>12,OR(AND(K14<>"",K14<>"-"),AND(J14="-",I13=""))),"-",""))) | K13: =IFERROR(INDEX(Calculation!$Q$7:$Q$206,MATCH($B13&" "&K$10,positions,0),1), IFERROR(INDEX(Calculation!$R$7:$R$206,MATCH($B12&" "&K$10,positions,0),1), IF(AND(ROW(K13)>12,OR(AND(L14<>"",L14<>"-"),AND(K14="-",J13=""))),"-",""))) | ... CZ13: =IFERROR(INDEX(Calculation!$Q$7:$Q$206,MATCH($B13&" "&CZ$10,positions,0),1), IFERROR(INDEX(Calculation!$R$7:$R$206,MATCH($B12&" "&CZ$10,positions,0),1), IF(AND(ROW(CZ13)>12,OR(AND(DA14<>"",DA14<>"-"),AND(CZ14="-",CY13=""))),"-","")))
B14: 4 | D14: =IFERROR(INDEX(Calculation!$Q$7:$Q$206,MATCH($B14&" "&D$10,positions,0),1), IFERROR(INDEX(Calculation!$R$7:$R$206,MATCH($B13&" "&D$10,positions,0),1), IF(AND(ROW(D14)>12,OR(AND(E15<>"",E15<>"-"),AND(D15="-",C14=""))),"-",""))) | E14: =IFERROR(INDEX(Calculation!$Q$7:$Q$206,MATCH($B14&" "&E$10,positions,0),1), IFERROR(INDEX(Calculation!$R$7:$R$206,MATCH($B13&" "&E$10,positions,0),1), IF(AND(ROW(E14)>12,OR(AND(F15<>"",F15<>"-"),AND(E15="-",D14=""))),"-",""))) -> - | F14: =IFERROR(INDEX(Calculation!$Q$7:$Q$206,MATCH($B14&" "&F$10,positions,0),1), IFERROR(INDEX(Calculation!$R$7:$R$206,MATCH($B13&" "&F$10,positions,0),1), IF(AND(ROW(F14)>12,OR(AND(G15<>"",G15<>"-"),AND(F15="-",E14=""))),"-",""))) -> 1.1 - Create job description | G14: =IFERROR(INDEX(Calculation!$Q$7:$Q$206,MATCH($B14&" "&G$10,positions,0),1), IFERROR(INDEX(Calculation!$R$7:$R$206,MATCH($B13&" "&G$10,positions,0),1), IF(AND(ROW(G14)>12,OR(AND(H15<>"",H15<>"-"),AND(G15="-",F14=""))),"-",""))) | H14: =IFERROR(INDEX(Calculation!$Q$7:$Q$206,MATCH($B14&" "&H$10,positions,0),1), IFERROR(INDEX(Calculation!$R$7:$R$206,MATCH($B13&" "&H$10,positions,0),1), IF(AND(ROW(H14)>12,OR(AND(I15<>"",I15<>"-"),AND(H15="-",G14=""))),"-",""))) | I14: =IFERROR(INDEX(Calculation!$Q$7:$Q$206,MATCH($B14&" "&I$10,positions,0),1), IFERROR(INDEX(Calculation!$R$7:$R$206,MATCH($B13&" "&I$10,positions,0),1), IF(AND(ROW(I14)>12,OR(AND(J15<>"",J15<>"-"),AND(I15="-",H14=""))),"-",""))) -> - | J14: =IFERROR(INDEX(Calculation!$Q$7:$Q$206,MATCH($B14&" "&J$10,positions,0),1), IFERROR(INDEX(Calculation!$R$7:$R$206,MATCH($B13&" "&J$10,positions,0),1), IF(AND(ROW(J14)>12,OR(AND(K15<>"",K15<>"-"),AND(J15="-",I14=""))),"-",""))) -> 2.1 - Check budget | K14: =IFERROR(INDEX(Calculation!$Q$7:$Q$206,MATCH($B14&" "&K$10,positions,0),1), IFERROR(INDEX(Calculation!$R$7:$R$206,MATCH($B13&" "&K$10,positions,0),1), IF(AND(ROW(K14)>12,OR(AND(L15<>"",L15<>"-"),AND(K15="-",J14=""))),"-",""))) | ... CZ14: =IFERROR(INDEX(Calculation!$Q$7:$Q$206,MATCH($B14&" "&CZ$10,positions,0),1), IFERROR(INDEX(Calculation!$R$7:$R$206,MATCH($B13&" "&CZ$10,positions,0),1), IF(AND(ROW(CZ14)>12,OR(AND(DA15<>"",DA15<>"-"),AND(CZ15="-",CY14=""))),"-","")))
B15: 5 | D15: =IFERROR(INDEX(Calculation!$Q$7:$Q$206,MATCH($B15&" "&D$10,positions,0),1), IFERROR(INDEX(Calculation!$R$7:$R$206,MATCH($B14&" "&D$10,positions,0),1), IF(AND(ROW(D15)>12,OR(AND(E16<>"",E16<>"-"),AND(D16="-",C15=""))),"-",""))) | E15: =IFERROR(INDEX(Calculation!$Q$7:$Q$206,MATCH($B15&" "&E$10,positions,0),1), IFERROR(INDEX(Calculation!$R$7:$R$206,MATCH($B14&" "&E$10,positions,0),1), IF(AND(ROW(E15)>12,OR(AND(F16<>"",F16<>"-"),AND(E16="-",D15=""))),"-",""))) -> - | F15: =IFERROR(INDEX(Calculation!$Q$7:$Q$206,MATCH($B15&" "&F$10,positions,0),1), IFERROR(INDEX(Calculation!$R$7:$R$206,MATCH($B14&" "&F$10,positions,0),1), IF(AND(ROW(F15)>12,OR(AND(G16<>"",G16<>"-"),AND(F16="-",E15=""))),"-",""))) | G15: =IFERROR(INDEX(Calculation!$Q$7:$Q$206,MATCH($B15&" "&G$10,positions,0),1), IFERROR(INDEX(Calculation!$R$7:$R$206,MATCH($B14&" "&G$10,positions,0),1), IF(AND(ROW(G15)>12,OR(AND(H16<>"",H16<>"-"),AND(G16="-",F15=""))),"-",""))) | H15: =IFERROR(INDEX(Calculation!$Q$7:$Q$206,MATCH($B15&" "&H$10,positions,0),1), IFERROR(INDEX(Calculation!$R$7:$R$206,MATCH($B14&" "&H$10,positions,0),1), IF(AND(ROW(H15)>12,OR(AND(I16<>"",I16<>"-"),AND(H16="-",G15=""))),"-",""))) | I15: =IFERROR(INDEX(Calculation!$Q$7:$Q$206,MATCH($B15&" "&I$10,positions,0),1), IFERROR(INDEX(Calculation!$R$7:$R$206,MATCH($B14&" "&I$10,positions,0),1), IF(AND(ROW(I15)>12,OR(AND(J16<>"",J16<>"-"),AND(I16="-",H15=""))),"-",""))) -> - | J15: =IFERROR(INDEX(Calculation!$Q$7:$Q$206,MATCH($B15&" "&J$10,positions,0),1), IFERROR(INDEX(Calculation!$R$7:$R$206,MATCH($B14&" "&J$10,positions,0),1), IF(AND(ROW(J15)>12,OR(AND(K16<>"",K16<>"-"),AND(J16="-",I15=""))),"-",""))) | K15: =IFERROR(INDEX(Calculation!$Q$7:$Q$206,MATCH($B15&" "&K$10,positions,0),1), IFERROR(INDEX(Calculation!$R$7:$R$206,MATCH($B14&" "&K$10,positions,0),1), IF(AND(ROW(K15)>12,OR(AND(L16<>"",L16<>"-"),AND(K16="-",J15=""))),"-",""))) -> - | ... CZ15: =IFERROR(INDEX(Calculation!$Q$7:$Q$206,MATCH($B15&" "&CZ$10,positions,0),1), IFERROR(INDEX(Calculation!$R$7:$R$206,MATCH($B14&" "&CZ$10,positions,0),1), IF(AND(ROW(CZ15)>12,OR(AND(DA16<>"",DA16<>"-"),AND(CZ16="-",CY15=""))),"-","")))
B16: 6 | D16: =IFERROR(INDEX(Calculation!$Q$7:$Q$206,MATCH($B16&" "&D$10,positions,0),1), IFERROR(INDEX(Calculation!$R$7:$R$206,MATCH($B15&" "&D$10,positions,0),1), IF(AND(ROW(D16)>12,OR(AND(E17<>"",E17<>"-"),AND(D17="-",C16=""))),"-",""))) | E16: =IFERROR(INDEX(Calculation!$Q$7:$Q$206,MATCH($B16&" "&E$10,positions,0),1), IFERROR(INDEX(Calculation!$R$7:$R$206,MATCH($B15&" "&E$10,positions,0),1), IF(AND(ROW(E16)>12,OR(AND(F17<>"",F17<>"-"),AND(E17="-",D16=""))),"-",""))) -> - | F16: =IFERROR(INDEX(Calculation!$Q$7:$Q$206,MATCH($B16&" "&F$10,positions,0),1), IFERROR(INDEX(Calculation!$R$7:$R$206,MATCH($B15&" "&F$10,positions,0),1), IF(AND(ROW(F16)>12,OR(AND(G17<>"",G17<>"-"),AND(F17="-",E16=""))),"-",""))) -> 1.2 - Publish info about job | G16: =IFERROR(INDEX(Calculation!$Q$7:$Q$206,MATCH($B16&" "&G$10,positions,0),1), IFERROR(INDEX(Calculation!$R$7:$R$206,MATCH($B15&" "&G$10,positions,0),1), IF(AND(ROW(G16)>12,OR(AND(H17<>"",H17<>"-"),AND(G17="-",F16=""))),"-",""))) | H16: =IFERROR(INDEX(Calculation!$Q$7:$Q$206,MATCH($B16&" "&H$10,positions,0),1), IFERROR(INDEX(Calculation!$R$7:$R$206,MATCH($B15&" "&H$10,positions,0),1), IF(AND(ROW(H16)>12,OR(AND(I17<>"",I17<>"-"),AND(H17="-",G16=""))),"-",""))) | I16: =IFERROR(INDEX(Calculation!$Q$7:$Q$206,MATCH($B16&" "&I$10,positions,0),1), IFERROR(INDEX(Calculation!$R$7:$R$206,MATCH($B15&" "&I$10,positions,0),1), IF(AND(ROW(I16)>12,OR(AND(J17<>"",J17<>"-"),AND(I17="-",H16=""))),"-",""))) -> - | J16: =IFERROR(INDEX(Calculation!$Q$7:$Q$206,MATCH($B16&" "&J$10,positions,0),1), IFERROR(INDEX(Calculation!$R$7:$R$206,MATCH($B15&" "&J$10,positions,0),1), IF(AND(ROW(J16)>12,OR(AND(K17<>"",K17<>"-"),AND(J17="-",I16=""))),"-",""))) | K16: =IFERROR(INDEX(Calculation!$Q$7:$Q$206,MATCH($B16&" "&K$10,positions,0),1), IFERROR(INDEX(Calculation!$R$7:$R$206,MATCH($B15&" "&K$10,positions,0),1), IF(AND(ROW(K16)>12,OR(AND(L17<>"",L17<>"-"),AND(K17="-",J16=""))),"-",""))) -> - | ... CZ16: =IFERROR(INDEX(Calculation!$Q$7:$Q$206,MATCH($B16&" "&CZ$10,positions,0),1), IFERROR(INDEX(Calculation!$R$7:$R$206,MATCH($B15&" "&CZ$10,positions,0),1), IF(AND(ROW(CZ16)>12,OR(AND(DA17<>"",DA17<>"-"),AND(CZ17="-",CY16=""))),"-","")))
B17: 7 | D17: =IFERROR(INDEX(Calculation!$Q$7:$Q$206,MATCH($B17&" "&D$10,positions,0),1), IFERROR(INDEX(Calculation!$R$7:$R$206,MATCH($B16&" "&D$10,positions,0),1), IF(AND(ROW(D17)>12,OR(AND(E18<>"",E18<>"-"),AND(D18="-",C17=""))),"-",""))) | E17: =IFERROR(INDEX(Calculation!$Q$7:$Q$206,MATCH($B17&" "&E$10,positions,0),1), IFERROR(INDEX(Calculation!$R$7:$R$206,MATCH($B16&" "&E$10,positions,0),1), IF(AND(ROW(E17)>12,OR(AND(F18<>"",F18<>"-"),AND(E18="-",D17=""))),"-",""))) -> - | F17: =IFERROR(INDEX(Calculation!$Q$7:$Q$206,MATCH($B17&" "&F$10,positions,0),1), IFERROR(INDEX(Calculation!$R$7:$R$206,MATCH($B16&" "&F$10,positions,0),1), IF(AND(ROW(F17)>12,OR(AND(G18<>"",G18<>"-"),AND(F18="-",E17=""))),"-",""))) | G17: =IFERROR(INDEX(Calculation!$Q$7:$Q$206,MATCH($B17&" "&G$10,positions,0),1), IFERROR(INDEX(Calculation!$R$7:$R$206,MATCH($B16&" "&G$10,positions,0),1), IF(AND(ROW(G17)>12,OR(AND(H18<>"",H18<>"-"),AND(G18="-",F17=""))),"-",""))) | H17: =IFERROR(INDEX(Calculation!$Q$7:$Q$206,MATCH($B17&" "&H$10,positions,0),1), IFERROR(INDEX(Calculation!$R$7:$R$206,MATCH($B16&" "&H$10,positions,0),1), IF(AND(ROW(H17)>12,OR(AND(I18<>"",I18<>"-"),AND(H18="-",G17=""))),"-",""))) | I17: =IFERROR(INDEX(Calculation!$Q$7:$Q$206,MATCH($B17&" "&I$10,positions,0),1), IFERROR(INDEX(Calculation!$R$7:$R$206,MATCH($B16&" "&I$10,positions,0),1), IF(AND(ROW(I17)>12,OR(AND(J18<>"",J18<>"-"),AND(I18="-",H17=""))),"-",""))) -> - | J17: =IFERROR(INDEX(Calculation!$Q$7:$Q$206,MATCH($B17&" "&J$10,positions,0),1), IFERROR(INDEX(Calculation!$R$7:$R$206,MATCH($B16&" "&J$10,positions,0),1), IF(AND(ROW(J17)>12,OR(AND(K18<>"",K18<>"-"),AND(J18="-",I17=""))),"-",""))) | K17: =IFERROR(INDEX(Calculation!$Q$7:$Q$206,MATCH($B17&" "&K$10,positions,0),1), IFERROR(INDEX(Calculation!$R$7:$R$206,MATCH($B16&" "&K$10,positions,0),1), IF(AND(ROW(K17)>12,OR(AND(L18<>"",L18<>"-"),AND(K18="-",J17=""))),"-",""))) -> - | ... CZ17: =IFERROR(INDEX(Calculation!$Q$7:$Q$206,MATCH($B17&" "&CZ$10,positions,0),1), IFERROR(INDEX(Calculation!$R$7:$R$206,MATCH($B16&" "&CZ$10,positions,0),1), IF(AND(ROW(CZ17)>12,OR(AND(DA18<>"",DA18<>"-"),AND(CZ18="-",CY17=""))),"-","")))
B18: 8 | D18: =IFERROR(INDEX(Calculation!$Q$7:$Q$206,MATCH($B18&" "&D$10,positions,0),1), IFERROR(INDEX(Calculation!$R$7:$R$206,MATCH($B17&" "&D$10,positions,0),1), IF(AND(ROW(D18)>12,OR(AND(E19<>"",E19<>"-"),AND(D19="-",C18=""))),"-",""))) | E18: =IFERROR(INDEX(Calculation!$Q$7:$Q$206,MATCH($B18&" "&E$10,positions,0),1), IFERROR(INDEX(Calculation!$R$7:$R$206,MATCH($B17&" "&E$10,positions,0),1), IF(AND(ROW(E18)>12,OR(AND(F19<>"",F19<>"-"),AND(E19="-",D18=""))),"-",""))) -> - | F18: =IFERROR(INDEX(Calculation!$Q$7:$Q$206,MATCH($B18&" "&F$10,positions,0),1), IFERROR(INDEX(Calculation!$R$7:$R$206,MATCH($B17&" "&F$10,positions,0),1), IF(AND(ROW(F18)>12,OR(AND(G19<>"",G19<>"-"),AND(F19="-",E18=""))),"-",""))) -> 1.3 - Call candidate | G18: =IFERROR(INDEX(Calculation!$Q$7:$Q$206,MATCH($B18&" "&G$10,positions,0),1), IFERROR(INDEX(Calculation!$R$7:$R$206,MATCH($B17&" "&G$10,positions,0),1), IF(AND(ROW(G18)>12,OR(AND(H19<>"",H19<>"-"),AND(G19="-",F18=""))),"-",""))) | H18: =IFERROR(INDEX(Calculation!$Q$7:$Q$206,MATCH($B18&" "&H$10,positions,0),1), IFERROR(INDEX(Calculation!$R$7:$R$206,MATCH($B17&" "&H$10,positions,0),1), IF(AND(ROW(H18)>12,OR(AND(I19<>"",I19<>"-"),AND(H19="-",G18=""))),"-",""))) | I18: =IFERROR(INDEX(Calculation!$Q$7:$Q$206,MATCH($B18&" "&I$10,positions,0),1), IFERROR(INDEX(Calculation!$R$7:$R$206,MATCH($B17&" "&I$10,positions,0),1), IF(AND(ROW(I18)>12,OR(AND(J19<>"",J19<>"-"),AND(I19="-",H18=""))),"-",""))) -> - | J18: =IFERROR(INDEX(Calculation!$Q$7:$Q$206,MATCH($B18&" "&J$10,positions,0),1), IFERROR(INDEX(Calculation!$R$7:$R$206,MATCH($B17&" "&J$10,positions,0),1), IF(AND(ROW(J18)>12,OR(AND(K19<>"",K19<>"-"),AND(J19="-",I18=""))),"-",""))) | K18: =IFERROR(INDEX(Calculation!$Q$7:$Q$206,MATCH($B18&" "&K$10,positions,0),1), IFERROR(INDEX(Calculation!$R$7:$R$206,MATCH($B17&" "&K$10,positions,0),1), IF(AND(ROW(K18)>12,OR(AND(L19<>"",L19<>"-"),AND(K19="-",J18=""))),"-",""))) | ... CZ18: =IFERROR(INDEX(Calculation!$Q$7:$Q$206,MATCH($B18&" "&CZ$10,positions,0),1), IFERROR(INDEX(Calculation!$R$7:$R$206,MATCH($B17&" "&CZ$10,positions,0),1), IF(AND(ROW(CZ18)>12,OR(AND(DA19<>"",DA19<>"-"),AND(CZ19="-",CY18=""))),"-","")))
B19: 9 | D19: =IFERROR(INDEX(Calculation!$Q$7:$Q$206,MATCH($B19&" "&D$10,positions,0),1), IFERROR(INDEX(Calculation!$R$7:$R$206,MATCH($B18&" "&D$10,positions,0),1), IF(AND(ROW(D19)>12,OR(AND(E20<>"",E20<>"-"),AND(D20="-",C19=""))),"-",""))) | E19: =IFERROR(INDEX(Calculation!$Q$7:$Q$206,MATCH($B19&" "&E$10,positions,0),1), IFERROR(INDEX(Calculation!$R$7:$R$206,MATCH($B18&" "&E$10,positions,0),1), IF(AND(ROW(E19)>12,OR(AND(F20<>"",F20<>"-"),AND(E20="-",D19=""))),"-",""))) -> - | F19: =IFERROR(INDEX(Calculation!$Q$7:$Q$206,MATCH($B19&" "&F$10,positions,0),1), IFERROR(INDEX(Calculation!$R$7:$R$206,MATCH($B18&" "&F$10,positions,0),1), IF(AND(ROW(F19)>12,OR(AND(G20<>"",G20<>"-"),AND(F20="-",E19=""))),"-",""))) | G19: =IFERROR(INDEX(Calculation!$Q$7:$Q$206,MATCH($B19&" "&G$10,positions,0),1), IFERROR(INDEX(Calculation!$R$7:$R$206,MATCH($B18&" "&G$10,positions,0),1), IF(AND(ROW(G19)>12,OR(AND(H20<>"",H20<>"-"),AND(G20="-",F19=""))),"-",""))) | H19: =IFERROR(INDEX(Calculation!$Q$7:$Q$206,MATCH($B19&" "&H$10,positions,0),1), IFERROR(INDEX(Calculation!$R$7:$R$206,MATCH($B18&" "&H$10,positions,0),1), IF(AND(ROW(H19)>12,OR(AND(I20<>"",I20<>"-"),AND(H20="-",G19=""))),"-",""))) | I19: =IFERROR(INDEX(Calculation!$Q$7:$Q$206,MATCH($B19&" "&I$10,positions,0),1), IFERROR(INDEX(Calculation!$R$7:$R$206,MATCH($B18&" "&I$10,positions,0),1), IF(AND(ROW(I19)>12,OR(AND(J20<>"",J20<>"-"),AND(I20="-",H19=""))),"-",""))) -> - | J19: =IFERROR(INDEX(Calculation!$Q$7:$Q$206,MATCH($B19&" "&J$10,positions,0),1), IFERROR(INDEX(Calculation!$R$7:$R$206,MATCH($B18&" "&J$10,positions,0),1), IF(AND(ROW(J19)>12,OR(AND(K20<>"",K20<>"-"),AND(J20="-",I19=""))),"-",""))) | K19: =IFERROR(INDEX(Calculation!$Q$7:$Q$206,MATCH($B19&" "&K$10,positions,0),1), IFERROR(INDEX(Calculation!$R$7:$R$206,MATCH($B18&" "&K$10,positions,0),1), IF(AND(ROW(K19)>12,OR(AND(L20<>"",L20<>"-"),AND(K20="-",J19=""))),"-",""))) | ... CZ19: =IFERROR(INDEX(Calculation!$Q$7:$Q$206,MATCH($B19&" "&CZ$10,positions,0),1), IFERROR(INDEX(Calculation!$R$7:$R$206,MATCH($B18&" "&CZ$10,positions,0),1), IF(AND(ROW(CZ19)>12,OR(AND(DA20<>"",DA20<>"-"),AND(CZ20="-",CY19=""))),"-","")))
B20: 10 | D20: =IFERROR(INDEX(Calculation!$Q$7:$Q$206,MATCH($B20&" "&D$10,positions,0),1), IFERROR(INDEX(Calculation!$R$7:$R$206,MATCH($B19&" "&D$10,positions,0),1), IF(AND(ROW(D20)>12,OR(AND(E21<>"",E21<>"-"),AND(D21="-",C20=""))),"-",""))) | E20: =IFERROR(INDEX(Calculation!$Q$7:$Q$206,MATCH($B20&" "&E$10,positions,0),1), IFERROR(INDEX(Calculation!$R$7:$R$206,MATCH($B19&" "&E$10,positions,0),1), IF(AND(ROW(E20)>12,OR(AND(F21<>"",F21<>"-"),AND(E21="-",D20=""))),"-",""))) -> - | F20: =IFERROR(INDEX(Calculation!$Q$7:$Q$206,MATCH($B20&" "&F$10,positions,0),1), IFERROR(INDEX(Calculation!$R$7:$R$206,MATCH($B19&" "&F$10,positions,0),1), IF(AND(ROW(F20)>12,OR(AND(G21<>"",G21<>"-"),AND(F21="-",E20=""))),"-",""))) -> 1.4 - Make an interview | G20: =IFERROR(INDEX(Calculation!$Q$7:$Q$206,MATCH($B20&" "&G$10,positions,0),1), IFERROR(INDEX(Calculation!$R$7:$R$206,MATCH($B19&" "&G$10,positions,0),1), IF(AND(ROW(G20)>12,OR(AND(H21<>"",H21<>"-"),AND(G21="-",F20=""))),"-",""))) | H20: =IFERROR(INDEX(Calculation!$Q$7:$Q$206,MATCH($B20&" "&H$10,positions,0),1), IFERROR(INDEX(Calculation!$R$7:$R$206,MATCH($B19&" "&H$10,positions,0),1), IF(AND(ROW(H20)>12,OR(AND(I21<>"",I21<>"-"),AND(H21="-",G20=""))),"-",""))) | I20: =IFERROR(INDEX(Calculation!$Q$7:$Q$206,MATCH($B20&" "&I$10,positions,0),1), IFERROR(INDEX(Calculation!$R$7:$R$206,MATCH($B19&" "&I$10,positions,0),1), IF(AND(ROW(I20)>12,OR(AND(J21<>"",J21<>"-"),AND(I21="-",H20=""))),"-",""))) -> - | J20: =IFERROR(INDEX(Calculation!$Q$7:$Q$206,MATCH($B20&" "&J$10,positions,0),1), IFERROR(INDEX(Calculation!$R$7:$R$206,MATCH($B19&" "&J$10,positions,0),1), IF(AND(ROW(J20)>12,OR(AND(K21<>"",K21<>"-"),AND(J21="-",I20=""))),"-",""))) -> 2.2 - Call few places | K20: =IFERROR(INDEX(Calculation!$Q$7:$Q$206,MATCH($B20&" "&K$10,positions,0),1), IFERROR(INDEX(Calculation!$R$7:$R$206,MATCH($B19&" "&K$10,positions,0),1), IF(AND(ROW(K20)>12,OR(AND(L21<>"",L21<>"-"),AND(K21="-",J20=""))),"-",""))) | ... CZ20: =IFERROR(INDEX(Calculation!$Q$7:$Q$206,MATCH($B20&" "&CZ$10,positions,0),1), IFERROR(INDEX(Calculation!$R$7:$R$206,MATCH($B19&" "&CZ$10,positions,0),1), IF(AND(ROW(CZ20)>12,OR(AND(DA21<>"",DA21<>"-"),AND(CZ21="-",CY20=""))),"-","")))
B21: 11 | D21: =IFERROR(INDEX(Calculation!$Q$7:$Q$206,MATCH($B21&" "&D$10,positions,0),1), IFERROR(INDEX(Calculation!$R$7:$R$206,MATCH($B20&" "&D$10,positions,0),1), IF(AND(ROW(D21)>12,OR(AND(E22<>"",E22<>"-"),AND(D22="-",C21=""))),"-",""))) | E21: =IFERROR(INDEX(Calculation!$Q$7:$Q$206,MATCH($B21&" "&E$10,positions,0),1), IFERROR(INDEX(Calculation!$R$7:$R$206,MATCH($B20&" "&E$10,positions,0),1), IF(AND(ROW(E21)>12,OR(AND(F22<>"",F22<>"-"),AND(E22="-",D21=""))),"-",""))) -> - | F21: =IFERROR(INDEX(Calculation!$Q$7:$Q$206,MATCH($B21&" "&F$10,positions,0),1), IFERROR(INDEX(Calculation!$R$7:$R$206,MATCH($B20&" "&F$10,positions,0),1), IF(AND(ROW(F21)>12,OR(AND(G22<>"",G22<>"-"),AND(F22="-",E21=""))),"-",""))) | G21: =IFERROR(INDEX(Calculation!$Q$7:$Q$206,MATCH($B21&" "&G$10,positions,0),1), IFERROR(INDEX(Calculation!$R$7:$R$206,MATCH($B20&" "&G$10,positions,0),1), IF(AND(ROW(G21)>12,OR(AND(H22<>"",H22<>"-"),AND(G22="-",F21=""))),"-",""))) | H21: =IFERROR(INDEX(Calculation!$Q$7:$Q$206,MATCH($B21&" "&H$10,positions,0),1), IFERROR(INDEX(Calculation!$R$7:$R$206,MATCH($B20&" "&H$10,positions,0),1), IF(AND(ROW(H21)>12,OR(AND(I22<>"",I22<>"-"),AND(H22="-",G21=""))),"-",""))) | I21: =IFERROR(INDEX(Calculation!$Q$7:$Q$206,MATCH($B21&" "&I$10,positions,0),1), IFERROR(INDEX(Calculation!$R$7:$R$206,MATCH($B20&" "&I$10,positions,0),1), IF(AND(ROW(I21)>12,OR(AND(J22<>"",J22<>"-"),AND(I22="-",H21=""))),"-",""))) -> - | J21: =IFERROR(INDEX(Calculation!$Q$7:$Q$206,MATCH($B21&" "&J$10,positions,0),1), IFERROR(INDEX(Calculation!$R$7:$R$206,MATCH($B20&" "&J$10,positions,0),1), IF(AND(ROW(J21)>12,OR(AND(K22<>"",K22<>"-"),AND(J22="-",I21=""))),"-",""))) | K21: =IFERROR(INDEX(Calculation!$Q$7:$Q$206,MATCH($B21&" "&K$10,positions,0),1), IFERROR(INDEX(Calculation!$R$7:$R$206,MATCH($B20&" "&K$10,positions,0),1), IF(AND(ROW(K21)>12,OR(AND(L22<>"",L22<>"-"),AND(K22="-",J21=""))),"-",""))) | ... CZ21: =IFERROR(INDEX(Calculation!$Q$7:$Q$206,MATCH($B21&" "&CZ$10,positions,0),1), IFERROR(INDEX(Calculation!$R$7:$R$206,MATCH($B20&" "&CZ$10,positions,0),1), IF(AND(ROW(CZ21)>12,OR(AND(DA22<>"",DA22<>"-"),AND(CZ22="-",CY21=""))),"-","")))
B22: 12 | D22: =IFERROR(INDEX(Calculation!$Q$7:$Q$206,MATCH($B22&" "&D$10,positions,0),1), IFERROR(INDEX(Calculation!$R$7:$R$206,MATCH($B21&" "&D$10,positions,0),1), IF(AND(ROW(D22)>12,OR(AND(E23<>"",E23<>"-"),AND(D23="-",C22=""))),"-",""))) | E22: =IFERROR(INDEX(Calculation!$Q$7:$Q$206,MATCH($B22&" "&E$10,positions,0),1), IFERROR(INDEX(Calculation!$R$7:$R$206,MATCH($B21&" "&E$10,positions,0),1), IF(AND(ROW(E22)>12,OR(AND(F23<>"",F23<>"-"),AND(E23="-",D22=""))),"-",""))) | F22: =IFERROR(INDEX(Calculation!$Q$7:$Q$206,MATCH($B22&" "&F$10,positions,0),1), IFERROR(INDEX(Calculation!$R$7:$R$206,MATCH($B21&" "&F$10,positions,0),1), IF(AND(ROW(F22)>12,OR(AND(G23<>"",G23<>"-"),AND(F23="-",E22=""))),"-",""))) -> 1.5 - Take decision | G22: =IFERROR(INDEX(Calculation!$Q$7:$Q$206,MATCH($B22&" "&G$10,positions,0),1), IFERROR(INDEX(Calculation!$R$7:$R$206,MATCH($B21&" "&G$10,positions,0),1), IF(AND(ROW(G22)>12,OR(AND(H23<>"",H23<>"-"),AND(G23="-",F22=""))),"-",""))) | H22: =IFERROR(INDEX(Calculation!$Q$7:$Q$206,MATCH($B22&" "&H$10,positions,0),1), IFERROR(INDEX(Calculation!$R$7:$R$206,MATCH($B21&" "&H$10,positions,0),1), IF(AND(ROW(H22)>12,OR(AND(I23<>"",I23<>"-"),AND(H23="-",G22=""))),"-",""))) | I22: =IFERROR(INDEX(Calculation!$Q$7:$Q$206,MATCH($B22&" "&I$10,positions,0),1), IFERROR(INDEX(Calculation!$R$7:$R$206,MATCH($B21&" "&I$10,positions,0),1), IF(AND(ROW(I22)>12,OR(AND(J23<>"",J23<>"-"),AND(I23="-",H22=""))),"-",""))) -> - | J22: =IFERROR(INDEX(Calculation!$Q$7:$Q$206,MATCH($B22&" "&J$10,positions,0),1), IFERROR(INDEX(Calculation!$R$7:$R$206,MATCH($B21&" "&J$10,positions,0),1), IF(AND(ROW(J22)>12,OR(AND(K23<>"",K23<>"-"),AND(J23="-",I22=""))),"-",""))) -> 2.3 - Decide and make reservation | K22: =IFERROR(INDEX(Calculation!$Q$7:$Q$206,MATCH($B22&" "&K$10,positions,0),1), IFERROR(INDEX(Calculation!$R$7:$R$206,MATCH($B21&" "&K$10,positions,0),1), IF(AND(ROW(K22)>12,OR(AND(L23<>"",L23<>"-"),AND(K23="-",J22=""))),"-",""))) | ... CZ22: =IFERROR(INDEX(Calculation!$Q$7:$Q$206,MATCH($B22&" "&CZ$10,positions,0),1), IFERROR(INDEX(Calculation!$R$7:$R$206,MATCH($B21&" "&CZ$10,positions,0),1), IF(AND(ROW(CZ22)>12,OR(AND(DA23<>"",DA23<>"-"),AND(CZ23="-",CY22=""))),"-","")))
B23: 13 | D23: =IFERROR(INDEX(Calculation!$Q$7:$Q$206,MATCH($B23&" "&D$10,positions,0),1), IFERROR(INDEX(Calculation!$R$7:$R$206,MATCH($B22&" "&D$10,positions,0),1), IF(AND(ROW(D23)>12,OR(AND(E24<>"",E24<>"-"),AND(D24="-",C23=""))),"-",""))) | E23: =IFERROR(INDEX(Calculation!$Q$7:$Q$206,MATCH($B23&" "&E$10,positions,0),1), IFERROR(INDEX(Calculation!$R$7:$R$206,MATCH($B22&" "&E$10,positions,0),1), IF(AND(ROW(E23)>12,OR(AND(F24<>"",F24<>"-"),AND(E24="-",D23=""))),"-",""))) | F23: =IFERROR(INDEX(Calculation!$Q$7:$Q$206,MATCH($B23&" "&F$10,positions,0),1), IFERROR(INDEX(Calculation!$R$7:$R$206,MATCH($B22&" "&F$10,positions,0),1), IF(AND(ROW(F23)>12,OR(AND(G24<>"",G24<>"-"),AND(F24="-",E23=""))),"-",""))) | G23: =IFERROR(INDEX(Calculation!$Q$7:$Q$206,MATCH($B23&" "&G$10,positions,0),1), IFERROR(INDEX(Calculation!$R$7:$R$206,MATCH($B22&" "&G$10,positions,0),1), IF(AND(ROW(G23)>12,OR(AND(H24<>"",H24<>"-"),AND(G24="-",F23=""))),"-",""))) | H23: =IFERROR(INDEX(Calculation!$Q$7:$Q$206,MATCH($B23&" "&H$10,positions,0),1), IFERROR(INDEX(Calculation!$R$7:$R$206,MATCH($B22&" "&H$10,positions,0),1), IF(AND(ROW(H23)>12,OR(AND(I24<>"",I24<>"-"),AND(H24="-",G23=""))),"-",""))) | I23: =IFERROR(INDEX(Calculation!$Q$7:$Q$206,MATCH($B23&" "&I$10,positions,0),1), IFERROR(INDEX(Calculation!$R$7:$R$206,MATCH($B22&" "&I$10,positions,0),1), IF(AND(ROW(I23)>12,OR(AND(J24<>"",J24<>"-"),AND(I24="-",H23=""))),"-",""))) -> - | J23: =IFERROR(INDEX(Calculation!$Q$7:$Q$206,MATCH($B23&" "&J$10,positions,0),1), IFERROR(INDEX(Calculation!$R$7:$R$206,MATCH($B22&" "&J$10,positions,0),1), IF(AND(ROW(J23)>12,OR(AND(K24<>"",K24<>"-"),AND(J24="-",I23=""))),"-",""))) | K23: =IFERROR(INDEX(Calculation!$Q$7:$Q$206,MATCH($B23&" "&K$10,positions,0),1), IFERROR(INDEX(Calculation!$R$7:$R$206,MATCH($B22&" "&K$10,positions,0),1), IF(AND(ROW(K23)>12,OR(AND(L24<>"",L24<>"-"),AND(K24="-",J23=""))),"-",""))) | ... CZ23: =IFERROR(INDEX(Calculation!$Q$7:$Q$206,MATCH($B23&" "&CZ$10,positions,0),1), IFERROR(INDEX(Calculation!$R$7:$R$206,MATCH($B22&" "&CZ$10,positions,0),1), IF(AND(ROW(CZ23)>12,OR(AND(DA24<>"",DA24<>"-"),AND(CZ24="-",CY23=""))),"-","")))
... B110: 100 | D110: =IFERROR(INDEX(Calculation!$Q$7:$Q$206,MATCH($B110&" "&D$10,positions,0),1), IFERROR(INDEX(Calculation!$R$7:$R$206,MATCH($B109&" "&D$10,positions,0),1), IF(AND(ROW(D110)>12,OR(AND(E111<>"",E111<>"-"),AND(D111="-",C110=""))),"-",""))) | E110: =IFERROR(INDEX(Calculation!$Q$7:$Q$206,MATCH($B110&" "&E$10,positions,0),1), IFERROR(INDEX(Calculation!$R$7:$R$206,MATCH($B109&" "&E$10,positions,0),1), IF(AND(ROW(E110)>12,OR(AND(F111<>"",F111<>"-"),AND(E111="-",D110=""))),"-",""))) | F110: =IFERROR(INDEX(Calculation!$Q$7:$Q$206,MATCH($B110&" "&F$10,positions,0),1), IFERROR(INDEX(Calculation!$R$7:$R$206,MATCH($B109&" "&F$10,positions,0),1), IF(AND(ROW(F110)>12,OR(AND(G111<>"",G111<>"-"),AND(F111="-",E110=""))),"-",""))) | G110: =IFERROR(INDEX(Calculation!$Q$7:$Q$206,MATCH($B110&" "&G$10,positions,0),1), IFERROR(INDEX(Calculation!$R$7:$R$206,MATCH($B109&" "&G$10,positions,0),1), IF(AND(ROW(G110)>12,OR(AND(H111<>"",H111<>"-"),AND(G111="-",F110=""))),"-",""))) | H110: =IFERROR(INDEX(Calculation!$Q$7:$Q$206,MATCH($B110&" "&H$10,positions,0),1), IFERROR(INDEX(Calculation!$R$7:$R$206,MATCH($B109&" "&H$10,positions,0),1), IF(AND(ROW(H110)>12,OR(AND(I111<>"",I111<>"-"),AND(H111="-",G110=""))),"-",""))) | I110: =IFERROR(INDEX(Calculation!$Q$7:$Q$206,MATCH($B110&" "&I$10,positions,0),1), IFERROR(INDEX(Calculation!$R$7:$R$206,MATCH($B109&" "&I$10,positions,0),1), IF(AND(ROW(I110)>12,OR(AND(J111<>"",J111<>"-"),AND(I111="-",H110=""))),"-",""))) | J110: =IFERROR(INDEX(Calculation!$Q$7:$Q$206,MATCH($B110&" "&J$10,positions,0),1), IFERROR(INDEX(Calculation!$R$7:$R$206,MATCH($B109&" "&J$10,positions,0),1), IF(AND(ROW(J110)>12,OR(AND(K111<>"",K111<>"-"),AND(J111="-",I110=""))),"-",""))) | K110: =IFERROR(INDEX(Calculation!$Q$7:$Q$206,MATCH($B110&" "&K$10,positions,0),1), IFERROR(INDEX(Calculation!$R$7:$R$206,MATCH($B109&" "&K$10,positions,0),1), IF(AND(ROW(K110)>12,OR(AND(L111<>"",L111<>"-"),AND(K111="-",J110=""))),"-",""))) | ... CZ110: =IFERROR(INDEX(Calculation!$Q$7:$Q$206,MATCH($B110&" "&CZ$10,positions,0),1), IFERROR(INDEX(Calculation!$R$7:$R$206,MATCH($B109&" "&CZ$10,positions,0),1), IF(AND(ROW(CZ110)>12,OR(AND(DA111<>"",DA111<>"-"),AND(CZ111="-",CY110=""))),"-","")))

Sheet Settings
B2: RESPONSIBILITY ASSIGNMENT MATRIX
B3: SETTINGS
C6: NAME | D6: POSITION | E6: SHORTCUT | G6: ASSIGNMENT CATEGORIES
C7: Walt Disney | D7: CEO | E7: CEO | G7: P | H7: Participant
C8: Mikey Mouse | D8: Project Manager | E8: PM | G8: Ap | H8: Approval
C9: Cinderella | D9: Production supervisor | E9: PS | G9: V | H9: Verification
C10: Mouse | D10: Line worker | E10: LW | G10: O | H10: Opinion
C11: Bird | D11: Line worker | E11: LW
C12: Fairy godmother | D12: Director | E12: D
C13: Prince charming | D13: Main character | E13: Mc

Sheet Calculation
U3: Position of the WBS elements | AC3: Dropdown list per row
T5: Rows between next tasks | U5: =INDEX(AT7:AT14,MATCH(option,AS7:AS14,0),1) -> 2 | X5: Helpers to calculate position Y of the task in WBS | AS5: Chosen Option no: | AT5: =MATCH(option,AS7:AS14,0) -> 3
B6: ALL ROWS | C6: ID | D6: Title | E6: Role1 | F6: Role2 | G6: Role3 | H6: Role4 | I6: Role5 | J6: Role | K6: Person1 | L6: Person2 | M6: Person3 | N6: Person4 | O6: Person5 | P6: Person | Q6: Final1 | R6: Final2 | S6: Highlight - Filter | T6: Level | U6: x | V6: y | W6: X - Y | X6: Helper1 | Y6: Helper2 | Z6: Helper3 | AA6: Helper4 | AC6: 9 | AD6: 8 | AE6: 7 | AF6: 6 | AG6: 5 | AH6: 4 | AI6: 3 | AJ6: level -1 | AK6: Same Level | AL6: Up level | AM6: Helpers | AQ6: Lists of categories | AS6: WBS Option | AT6: Distance between rows | AW6: All | AX6: All
B7: 1 | C7: {=IFERROR(IF(INDEX(RAM!$B$7:$B$205,B7,1)=0,"",INDEX(RAM!$B$7:$B$205,B7,1)),"")} -> 1 | D7: =IFERROR(IF(C7="","",IF(INDEX(RAM!$C$7:$C$205,B7,1)="","-/-",INDEX(RAM!$C$7:$C$205,B7,1))),"") -> Hire new person | E7: {=IFERROR(IF(C7="","",INDEX(RAM!$D$7:$CY$205,B7,SMALL(IF(INDEX(RAM!$D$7:$CY$205,B7,)<>"",COLUMN(RAM!$D$7:$CY$205)-3,""),1))),"")} -> P | F7: {=IFERROR(IF(C7="","",INDEX(RAM!$D$7:$CY$205,B7,SMALL(IF(INDEX(RAM!$D$7:$CY$205,B7,)<>"",COLUMN(RAM!$D$7:$CY$205)-3,""),2))),"")} | G7: {=IFERROR(IF(C7="","",INDEX(RAM!$D$7:$CY$205,B7,SMALL(IF(INDEX(RAM!$D$7:$CY$205,B7,)<>"",COLUMN(RAM!$D$7:$CY$205)-3,""),3))),"")} | H7: {=IFERROR(IF(C7="","",INDEX(RAM!$D$7:$CY$205,B7,SMALL(IF(INDEX(RAM!$D$7:$CY$205,B7,)<>"",COLUMN(RAM!$D$7:$CY$205)-3,""),4))),"")} | I7: {=IFERROR(IF(C7="","",INDEX(RAM!$D$7:$CY$205,B7,SMALL(IF(INDEX(RAM!$D$7:$CY$205,B7,)<>"",COLUMN(RAM!$D$7:$CY$205)-3,""),5))),"")} | J7: =IF(LEN(E7)=0,"-/-",TRIM(E7 & " " &F7& " " & G7 & " " & H7 & " " &I7)) -> P | K7: {=IFERROR(IF(C7="","",INDEX(RAM!$D$5:$CY$5,1,SMALL(IF(INDEX(RAM!$D$7:$CY$205,B7,)<>"",COLUMN(RAM!$D$7:$CY$205)-3,""),1))),"")} -> Walt Disney | L7: {=IFERROR(IF(C7="","",INDEX(RAM!$D$5:$CY$5,1,SMALL(IF(INDEX(RAM!$D$7:$CY$205,B7,)<>"",COLUMN(RAM!$D$7:$CY$205)-3,""),2))),"")} | M7: {=IFERROR(IF(C7="","",INDEX(RAM!$D$5:$CY$5,1,SMALL(IF(INDEX(RAM!$D$7:$CY$205,B7,)<>"",COLUMN(RAM!$D$7:$CY$205)-3,""),3))),"")} | N7: {=IFERROR(IF(C7="","",INDEX(RAM!$D$5:$CY$5,1,SMALL(IF(INDEX(RAM!$D$7:$CY$205,B7,)<>"",COLUMN(RAM!$D$7:$CY$205)-3,""),4))),"")} | O7: {=IFERROR(IF(C7="","",INDEX(RAM!$D$5:$CY$5,1,SMALL(IF(INDEX(RAM!$D$7:$CY$205,B7,)<>"",COLUMN(RAM!$D$7:$CY$205)-3,""),5))),"")} | P7: =IF(LEN(K7)=0,"-/---", IF(K7<>"",K7&", ","")&IF(L7<>"",L7&", ","")&IF(M7<>"",M7&", ","")&IF(N7<>"",N7&", ","")&IF(O7<>"",O7&", ","")) -> Walt Disney, | Q7: =IF(OR($AT$5=1,$AT$5=4,$AT$5=6),D7,IF($AT$5=2,C7&" ",C7& " - "&D7)) -> 1 - Hire new person | R7: =IF(C7="","", IF(OR($AT$5=4,$AT$5=5),J7&" ",IF(OR($AT$5=6,$AT$5=7),LEFT(P7,LEN(P7)-2),IF($AT$5=8,IF(LEN(E7&K7)=0,"-/-",SUBSTITUTE(E7&"-"&K7&" "&F7&"-"&L7&" "&G7&"-"&M7&" "&H7&"-"&N7&" "&I7&"-"&O7&" ","- ","")),"")))) | S7: =IF(roleF="",1,IF(ISNUMBER(MATCH(roleF,INDEX(RAM!$D$7:$CY$205,B7,),0)),1,0))*IF(personF="",1,IF(INDEX(INDEX(RAM!$D$7:$CY$205,B7,),1,personF)<>"",IF(roleF="",1,IF(ISNUMBER(MATCH(roleF,INDEX(RAM!$D$7:$CY$205,B7,personF),0)),1,0)),0)) -> 1 | T7: =IF(LEN(C7)>0,LEN(C7)-LEN(SUBSTITUTE(C7,".",""))+1,"") -> 1 | U7: =IF(C7="","",IF(T7=1,2,U6+$U$5)) -> 2 | V7: =IF(T7="","",2*(T7+X7)) -> 2 | W7: =U7&" "&V7 -> 2 2 | X7: =IF(T7="","",IF(T7=1,Y7+0*(COUNTIF($T$7:T7,1)-1),X6)) -> 0 | Y7: =IF(C7="","",INDEX($AA$7:$AA$106,IF(T7=1,C7,LEFT(C7,SEARCH(".",C7,1)-1)),1)) -> 0 | Z7: {=IF(C7="","",MAX(IF(ISNUMBER(SEARCH(" "&B7," "&$C$7:$C$206)),$T$7:$T$206,0)))} -> 2 | AA7: 0 | AC7: =IF($T7<AC$6,"",INDEX(AD$7:AD$206,MATCH(AD7,AE$7:AE$206,0),1)) | AD7: =IF($T7<AD$6,"",INDEX(AE$7:AE$206,MATCH(AE7,AF$7:AF$206,0),1)) | AE7: =IF($T7<AE$6,"",INDEX(AF$7:AF$206,MATCH(AF7,AG$7:AG$206,0),1)) | AF7: =IF($T7<AF$6,"",INDEX(AG$7:AG$206,MATCH(AG7,AH$7:AH$206,0),1)) | AG7: =IF($T7<AG$6,"",INDEX(AH$7:AH$206,MATCH(AH7,AI$7:AI$206,0),1)) | AH7: =IF($T7<AH$6,"",INDEX(AI$7:AI$206,MATCH(AI7,AJ$7:AJ$206,0),1)) | AI7: =IF($T7<AI$6,"",INDEX(AJ$7:AJ$206,MATCH(AJ7,AK$7:AK$206,0),1)) | AJ7: =IFERROR(IF(C7<>"",IF(AN7=1,AM7+1,LEFT(AM7,SEARCH(";",SUBSTITUTE(AM7,".",";",AN7-1),1))& RIGHT(AM7,LEN(AM7)-SEARCH(";",SUBSTITUTE(AM7,".",";",AN7-1),1)) +1 ),""),"") | AK7: =IFERROR(IF(C7<>"",IF(T7=1,C7+1,LEFT(C7,SEARCH(";",SUBSTITUTE(C7,".",";",T7-1),1))& RIGHT(C7,LEN(C7)-SEARCH(";",SUBSTITUTE(C7,".",";",T7-1),1)) +1 ),""),"") -> 2 | AL7: =IFERROR(IF(C7<>"",C7 &".1",""),"") -> 1.1 | AM7: =IFERROR(LEFT(C7,SEARCH(";",SUBSTITUTE(C7,".",";",T7-1),1)-1),"") | AN7: =IFERROR(T7-1,"") -> 0 | AQ7: =IF(Settings!G7="","",Settings!G7&" - "&Settings!H7) -> P - Participant | AS7: Title | AT7: 2 | AW7: =Settings!C7 -> Walt Disney | AX7: =Settings!H7 -> Participant
B8: 2 | C8: {=IFERROR(IF(INDEX(RAM!$B$7:$B$205,B8,1)=0,"",INDEX(RAM!$B$7:$B$205,B8,1)),"")} -> 1.1 | D8: =IFERROR(IF(C8="","",IF(INDEX(RAM!$C$7:$C$205,B8,1)="","-/-",INDEX(RAM!$C$7:$C$205,B8,1))),"") -> Create job description | E8: {=IFERROR(IF(C8="","",INDEX(RAM!$D$7:$CY$205,B8,SMALL(IF(INDEX(RAM!$D$7:$CY$205,B8,)<>"",COLUMN(RAM!$D$7:$CY$205)-3,""),1))),"")} -> P | F8: {=IFERROR(IF(C8="","",INDEX(RAM!$D$7:$CY$205,B8,SMALL(IF(INDEX(RAM!$D$7:$CY$205,B8,)<>"",COLUMN(RAM!$D$7:$CY$205)-3,""),2))),"")} | G8: {=IFERROR(IF(C8="","",INDEX(RAM!$D$7:$CY$205,B8,SMALL(IF(INDEX(RAM!$D$7:$CY$205,B8,)<>"",COLUMN(RAM!$D$7:$CY$205)-3,""),3))),"")} | H8: {=IFERROR(IF(C8="","",INDEX(RAM!$D$7:$CY$205,B8,SMALL(IF(INDEX(RAM!$D$7:$CY$205,B8,)<>"",COLUMN(RAM!$D$7:$CY$205)-3,""),4))),"")} | I8: {=IFERROR(IF(C8="","",INDEX(RAM!$D$7:$CY$205,B8,SMALL(IF(INDEX(RAM!$D$7:$CY$205,B8,)<>"",COLUMN(RAM!$D$7:$CY$205)-3,""),5))),"")} | J8: =IF(LEN(E8)=0,"-/-",TRIM(E8 & " " &F8& " " & G8 & " " & H8 & " " &I8)) -> P | K8: {=IFERROR(IF(C8="","",INDEX(RAM!$D$5:$CY$5,1,SMALL(IF(INDEX(RAM!$D$7:$CY$205,B8,)<>"",COLUMN(RAM!$D$7:$CY$205)-3,""),1))),"")} -> Mikey Mouse | L8: {=IFERROR(IF(C8="","",INDEX(RAM!$D$5:$CY$5,1,SMALL(IF(INDEX(RAM!$D$7:$CY$205,B8,)<>"",COLUMN(RAM!$D$7:$CY$205)-3,""),2))),"")} | M8: {=IFERROR(IF(C8="","",INDEX(RAM!$D$5:$CY$5,1,SMALL(IF(INDEX(RAM!$D$7:$CY$205,B8,)<>"",COLUMN(RAM!$D$7:$CY$205)-3,""),3))),"")} | N8: {=IFERROR(IF(C8="","",INDEX(RAM!$D$5:$CY$5,1,SMALL(IF(INDEX(RAM!$D$7:$CY$205,B8,)<>"",COLUMN(RAM!$D$7:$CY$205)-3,""),4))),"")} | O8: {=IFERROR(IF(C8="","",INDEX(RAM!$D$5:$CY$5,1,SMALL(IF(INDEX(RAM!$D$7:$CY$205,B8,)<>"",COLUMN(RAM!$D$7:$CY$205)-3,""),5))),"")} | P8: =IF(LEN(K8)=0,"-/---", IF(K8<>"",K8&", ","")&IF(L8<>"",L8&", ","")&IF(M8<>"",M8&", ","")&IF(N8<>"",N8&", ","")&IF(O8<>"",O8&", ","")) -> Mikey Mouse, | Q8: =IF(OR($AT$5=1,$AT$5=4,$AT$5=6),D8,IF($AT$5=2,C8&" ",C8& " - "&D8)) -> 1.1 - Create job description | R8: =IF(C8="","", IF(OR($AT$5=4,$AT$5=5),J8&" ",IF(OR($AT$5=6,$AT$5=7),LEFT(P8,LEN(P8)-2),IF($AT$5=8,IF(LEN(E8&K8)=0,"-/-",SUBSTITUTE(E8&"-"&K8&" "&F8&"-"&L8&" "&G8&"-"&M8&" "&H8&"-"&N8&" "&I8&"-"&O8&" ","- ","")),"")))) | S8: =IF(roleF="",1,IF(ISNUMBER(MATCH(roleF,INDEX(RAM!$D$7:$CY$205,B8,),0)),1,0))*IF(personF="",1,IF(INDEX(INDEX(RAM!$D$7:$CY$205,B8,),1,personF)<>"",IF(roleF="",1,IF(ISNUMBER(MATCH(roleF,INDEX(RAM!$D$7:$CY$205,B8,personF),0)),1,0)),0)) -> 1 | T8: =IF(LEN(C8)>0,LEN(C8)-LEN(SUBSTITUTE(C8,".",""))+1,"") -> 2 | U8: =IF(C8="","",IF(T8=1,2,U7+$U$5)) -> 4 | V8: =IF(T8="","",2*(T8+X8)) -> 4 | W8: =U8&" "&V8 -> 4 4 | X8: =IF(T8="","",IF(T8=1,Y8+0*(COUNTIF($T$7:T8,1)-1),X7)) -> 0 | Y8: =IF(C8="","",INDEX($AA$7:$AA$106,IF(T8=1,C8,LEFT(C8,SEARCH(".",C8,1)-1)),1)) -> 0 | Z8: {=IF(C8="","",MAX(IF(ISNUMBER(SEARCH(" "&B8," "&$C$7:$C$206)),$T$7:$T$206,0)))} -> 3 | AA8: =IF(OR(Z8=0,Z8=""),"",AA7+Z7) -> 2 | AC8: =IF($T8<AC$6,"",INDEX(AD$7:AD$206,MATCH(AD8,AE$7:AE$206,0),1)) | AD8: =IF($T8<AD$6,"",INDEX(AE$7:AE$206,MATCH(AE8,AF$7:AF$206,0),1)) | AE8: =IF($T8<AE$6,"",INDEX(AF$7:AF$206,MATCH(AF8,AG$7:AG$206,0),1)) | AF8: =IF($T8<AF$6,"",INDEX(AG$7:AG$206,MATCH(AG8,AH$7:AH$206,0),1)) | AG8: =IF($T8<AG$6,"",INDEX(AH$7:AH$206,MATCH(AH8,AI$7:AI$206,0),1)) | AH8: =IF($T8<AH$6,"",INDEX(AI$7:AI$206,MATCH(AI8,AJ$7:AJ$206,0),1)) | AI8: =IF($T8<AI$6,"",INDEX(AJ$7:AJ$206,MATCH(AJ8,AK$7:AK$206,0),1)) | AJ8: =IFERROR(IF(C8<>"",IF(AN8=1,AM8+1,LEFT(AM8,SEARCH(";",SUBSTITUTE(AM8,".",";",AN8-1),1))& RIGHT(AM8,LEN(AM8)-SEARCH(";",SUBSTITUTE(AM8,".",";",AN8-1),1)) +1 ),""),"") -> 2 | AK8: =IFERROR(IF(C8<>"",IF(T8=1,C8+1,LEFT(C8,SEARCH(";",SUBSTITUTE(C8,".",";",T8-1),1))& RIGHT(C8,LEN(C8)-SEARCH(";",SUBSTITUTE(C8,".",";",T8-1),1)) +1 ),""),"") -> 1.2 | AL8: =IFERROR(IF(C8<>"",C8 &".1",""),"") -> 1.1.1 | AM8: =IFERROR(LEFT(C8,SEARCH(";",SUBSTITUTE(C8,".",";",T8-1),1)-1),"") -> 1 | AN8: =IFERROR(T8-1,"") -> 1 | AQ8: =IF(Settings!G8="","",Settings!G8&" - "&Settings!H8) -> Ap - Approval | AS8: ID | AT8: 2 | AW8: =Settings!C8 -> Mikey Mouse | AX8: =Settings!H8 -> Approval
B9: 3 | C9: {=IFERROR(IF(INDEX(RAM!$B$7:$B$205,B9,1)=0,"",INDEX(RAM!$B$7:$B$205,B9,1)),"")} -> 1.2 | D9: =IFERROR(IF(C9="","",IF(INDEX(RAM!$C$7:$C$205,B9,1)="","-/-",INDEX(RAM!$C$7:$C$205,B9,1))),"") -> Publish info about job | E9: {=IFERROR(IF(C9="","",INDEX(RAM!$D$7:$CY$205,B9,SMALL(IF(INDEX(RAM!$D$7:$CY$205,B9,)<>"",COLUMN(RAM!$D$7:$CY$205)-3,""),1))),"")} -> P | F9: {=IFERROR(IF(C9="","",INDEX(RAM!$D$7:$CY$205,B9,SMALL(IF(INDEX(RAM!$D$7:$CY$205,B9,)<>"",COLUMN(RAM!$D$7:$CY$205)-3,""),2))),"")} | G9: {=IFERROR(IF(C9="","",INDEX(RAM!$D$7:$CY$205,B9,SMALL(IF(INDEX(RAM!$D$7:$CY$205,B9,)<>"",COLUMN(RAM!$D$7:$CY$205)-3,""),3))),"")} | H9: {=IFERROR(IF(C9="","",INDEX(RAM!$D$7:$CY$205,B9,SMALL(IF(INDEX(RAM!$D$7:$CY$205,B9,)<>"",COLUMN(RAM!$D$7:$CY$205)-3,""),4))),"")} | I9: {=IFERROR(IF(C9="","",INDEX(RAM!$D$7:$CY$205,B9,SMALL(IF(INDEX(RAM!$D$7:$CY$205,B9,)<>"",COLUMN(RAM!$D$7:$CY$205)-3,""),5))),"")} | J9: =IF(LEN(E9)=0,"-/-",TRIM(E9 & " " &F9& " " & G9 & " " & H9 & " " &I9)) -> P | K9: {=IFERROR(IF(C9="","",INDEX(RAM!$D$5:$CY$5,1,SMALL(IF(INDEX(RAM!$D$7:$CY$205,B9,)<>"",COLUMN(RAM!$D$7:$CY$205)-3,""),1))),"")} -> Mouse | L9: {=IFERROR(IF(C9="","",INDEX(RAM!$D$5:$CY$5,1,SMALL(IF(INDEX(RAM!$D$7:$CY$205,B9,)<>"",COLUMN(RAM!$D$7:$CY$205)-3,""),2))),"")} | M9: {=IFERROR(IF(C9="","",INDEX(RAM!$D$5:$CY$5,1,SMALL(IF(INDEX(RAM!$D$7:$CY$205,B9,)<>"",COLUMN(RAM!$D$7:$CY$205)-3,""),3))),"")} | N9: {=IFERROR(IF(C9="","",INDEX(RAM!$D$5:$CY$5,1,SMALL(IF(INDEX(RAM!$D$7:$CY$205,B9,)<>"",COLUMN(RAM!$D$7:$CY$205)-3,""),4))),"")} | O9: {=IFERROR(IF(C9="","",INDEX(RAM!$D$5:$CY$5,1,SMALL(IF(INDEX(RAM!$D$7:$CY$205,B9,)<>"",COLUMN(RAM!$D$7:$CY$205)-3,""),5))),"")} | P9: =IF(LEN(K9)=0,"-/---", IF(K9<>"",K9&", ","")&IF(L9<>"",L9&", ","")&IF(M9<>"",M9&", ","")&IF(N9<>"",N9&", ","")&IF(O9<>"",O9&", ","")) -> Mouse, | Q9: =IF(OR($AT$5=1,$AT$5=4,$AT$5=6),D9,IF($AT$5=2,C9&" ",C9& " - "&D9)) -> 1.2 - Publish info about job | R9: =IF(C9="","", IF(OR($AT$5=4,$AT$5=5),J9&" ",IF(OR($AT$5=6,$AT$5=7),LEFT(P9,LEN(P9)-2),IF($AT$5=8,IF(LEN(E9&K9)=0,"-/-",SUBSTITUTE(E9&"-"&K9&" "&F9&"-"&L9&" "&G9&"-"&M9&" "&H9&"-"&N9&" "&I9&"-"&O9&" ","- ","")),"")))) | S9: =IF(roleF="",1,IF(ISNUMBER(MATCH(roleF,INDEX(RAM!$D$7:$CY$205,B9,),0)),1,0))*IF(personF="",1,IF(INDEX(INDEX(RAM!$D$7:$CY$205,B9,),1,personF)<>"",IF(roleF="",1,IF(ISNUMBER(MATCH(roleF,INDEX(RAM!$D$7:$CY$205,B9,personF),0)),1,0)),0)) -> 1 | T9: =IF(LEN(C9)>0,LEN(C9)-LEN(SUBSTITUTE(C9,".",""))+1,"") -> 2 | U9: =IF(C9="","",IF(T9=1,2,U8+$U$5)) -> 6 | V9: =IF(T9="","",2*(T9+X9)) -> 4 | W9: =U9&" "&V9 -> 6 4 | X9: =IF(T9="","",IF(T9=1,Y9+0*(COUNTIF($T$7:T9,1)-1),X8)) -> 0 | Y9: =IF(C9="","",INDEX($AA$7:$AA$106,IF(T9=1,C9,LEFT(C9,SEARCH(".",C9,1)-1)),1)) -> 0 | Z9: {=IF(C9="","",MAX(IF(ISNUMBER(SEARCH(" "&B9," "&$C$7:$C$206)),$T$7:$T$206,0)))} -> 2 | AA9: =IF(OR(Z9=0,Z9=""),"",AA8+Z8) -> 5 | AC9: =IF($T9<AC$6,"",INDEX(AD$7:AD$206,MATCH(AD9,AE$7:AE$206,0),1)) | AD9: =IF($T9<AD$6,"",INDEX(AE$7:AE$206,MATCH(AE9,AF$7:AF$206,0),1)) | AE9: =IF($T9<AE$6,"",INDEX(AF$7:AF$206,MATCH(AF9,AG$7:AG$206,0),1)) | AF9: =IF($T9<AF$6,"",INDEX(AG$7:AG$206,MATCH(AG9,AH$7:AH$206,0),1)) | AG9: =IF($T9<AG$6,"",INDEX(AH$7:AH$206,MATCH(AH9,AI$7:AI$206,0),1)) | AH9: =IF($T9<AH$6,"",INDEX(AI$7:AI$206,MATCH(AI9,AJ$7:AJ$206,0),1)) | AI9: =IF($T9<AI$6,"",INDEX(AJ$7:AJ$206,MATCH(AJ9,AK$7:AK$206,0),1)) | AJ9: =IFERROR(IF(C9<>"",IF(AN9=1,AM9+1,LEFT(AM9,SEARCH(";",SUBSTITUTE(AM9,".",";",AN9-1),1))& RIGHT(AM9,LEN(AM9)-SEARCH(";",SUBSTITUTE(AM9,".",";",AN9-1),1)) +1 ),""),"") -> 2 | AK9: =IFERROR(IF(C9<>"",IF(T9=1,C9+1,LEFT(C9,SEARCH(";",SUBSTITUTE(C9,".",";",T9-1),1))& RIGHT(C9,LEN(C9)-SEARCH(";",SUBSTITUTE(C9,".",";",T9-1),1)) +1 ),""),"") -> 1.3 | AL9: =IFERROR(IF(C9<>"",C9 &".1",""),"") -> 1.2.1 | AM9: =IFERROR(LEFT(C9,SEARCH(";",SUBSTITUTE(C9,".",";",T9-1),1)-1),"") -> 1 | AN9: =IFERROR(T9-1,"") -> 1 | AQ9: =IF(Settings!G9="","",Settings!G9&" - "&Settings!H9) -> V - Verification | AS9: ID - Title | AT9: 2 | AW9: =Settings!C9 -> Cinderella | AX9: =Settings!H9 -> Verification
B10: 4 | C10: {=IFERROR(IF(INDEX(RAM!$B$7:$B$205,B10,1)=0,"",INDEX(RAM!$B$7:$B$205,B10,1)),"")} -> 1.3 | D10: =IFERROR(IF(C10="","",IF(INDEX(RAM!$C$7:$C$205,B10,1)="","-/-",INDEX(RAM!$C$7:$C$205,B10,1))),"") -> Call candidate | E10: {=IFERROR(IF(C10="","",INDEX(RAM!$D$7:$CY$205,B10,SMALL(IF(INDEX(RAM!$D$7:$CY$205,B10,)<>"",COLUMN(RAM!$D$7:$CY$205)-3,""),1))),"")} -> Ap | F10: {=IFERROR(IF(C10="","",INDEX(RAM!$D$7:$CY$205,B10,SMALL(IF(INDEX(RAM!$D$7:$CY$205,B10,)<>"",COLUMN(RAM!$D$7:$CY$205)-3,""),2))),"")} -> P | G10: {=IFERROR(IF(C10="","",INDEX(RAM!$D$7:$CY$205,B10,SMALL(IF(INDEX(RAM!$D$7:$CY$205,B10,)<>"",COLUMN(RAM!$D$7:$CY$205)-3,""),3))),"")} -> Ap | H10: {=IFERROR(IF(C10="","",INDEX(RAM!$D$7:$CY$205,B10,SMALL(IF(INDEX(RAM!$D$7:$CY$205,B10,)<>"",COLUMN(RAM!$D$7:$CY$205)-3,""),4))),"")} | I10: {=IFERROR(IF(C10="","",INDEX(RAM!$D$7:$CY$205,B10,SMALL(IF(INDEX(RAM!$D$7:$CY$205,B10,)<>"",COLUMN(RAM!$D$7:$CY$205)-3,""),5))),"")} | J10: =IF(LEN(E10)=0,"-/-",TRIM(E10 & " " &F10& " " & G10 & " " & H10 & " " &I10)) -> Ap P Ap | K10: {=IFERROR(IF(C10="","",INDEX(RAM!$D$5:$CY$5,1,SMALL(IF(INDEX(RAM!$D$7:$CY$205,B10,)<>"",COLUMN(RAM!$D$7:$CY$205)-3,""),1))),"")} -> Walt Disney | L10: {=IFERROR(IF(C10="","",INDEX(RAM!$D$5:$CY$5,1,SMALL(IF(INDEX(RAM!$D$7:$CY$205,B10,)<>"",COLUMN(RAM!$D$7:$CY$205)-3,""),2))),"")} -> Mikey Mouse | M10: {=IFERROR(IF(C10="","",INDEX(RAM!$D$5:$CY$5,1,SMALL(IF(INDEX(RAM!$D$7:$CY$205,B10,)<>"",COLUMN(RAM!$D$7:$CY$205)-3,""),3))),"")} -> Mouse | N10: {=IFERROR(IF(C10="","",INDEX(RAM!$D$5:$CY$5,1,SMALL(IF(INDEX(RAM!$D$7:$CY$205,B10,)<>"",COLUMN(RAM!$D$7:$CY$205)-3,""),4))),"")} | O10: {=IFERROR(IF(C10="","",INDEX(RAM!$D$5:$CY$5,1,SMALL(IF(INDEX(RAM!$D$7:$CY$205,B10,)<>"",COLUMN(RAM!$D$7:$CY$205)-3,""),5))),"")} | P10: =IF(LEN(K10)=0,"-/---", IF(K10<>"",K10&", ","")&IF(L10<>"",L10&", ","")&IF(M10<>"",M10&", ","")&IF(N10<>"",N10&", ","")&IF(O10<>"",O10&", ","")) -> Walt Disney, Mikey Mouse, Mouse, | Q10: =IF(OR($AT$5=1,$AT$5=4,$AT$5=6),D10,IF($AT$5=2,C10&" ",C10& " - "&D10)) -> 1.3 - Call candidate | R10: =IF(C10="","", IF(OR($AT$5=4,$AT$5=5),J10&" ",IF(OR($AT$5=6,$AT$5=7),LEFT(P10,LEN(P10)-2),IF($AT$5=8,IF(LEN(E10&K10)=0,"-/-",SUBSTITUTE(E10&"-"&K10&" "&F10&"-"&L10&" "&G10&"-"&M10&" "&H10&"-"&N10&" "&I10&"-"&O10&" ","- ","")),"")))) | S10: =IF(roleF="",1,IF(ISNUMBER(MATCH(roleF,INDEX(RAM!$D$7:$CY$205,B10,),0)),1,0))*IF(personF="",1,IF(INDEX(INDEX(RAM!$D$7:$CY$205,B10,),1,personF)<>"",IF(roleF="",1,IF(ISNUMBER(MATCH(roleF,INDEX(RAM!$D$7:$CY$205,B10,personF),0)),1,0)),0)) -> 1 | T10: =IF(LEN(C10)>0,LEN(C10)-LEN(SUBSTITUTE(C10,".",""))+1,"") -> 2 | U10: =IF(C10="","",IF(T10=1,2,U9+$U$5)) -> 8 | V10: =IF(T10="","",2*(T10+X10)) -> 4 | W10: =U10&" "&V10 -> 8 4 | X10: =IF(T10="","",IF(T10=1,Y10+0*(COUNTIF($T$7:T10,1)-1),X9)) -> 0 | Y10: =IF(C10="","",INDEX($AA$7:$AA$106,IF(T10=1,C10,LEFT(C10,SEARCH(".",C10,1)-1)),1)) -> 0 | Z10: {=IF(C10="","",MAX(IF(ISNUMBER(SEARCH(" "&B10," "&$C$7:$C$206)),$T$7:$T$206,0)))} -> 0 | AA10: =IF(OR(Z10=0,Z10=""),"",AA9+Z9) | AC10: =IF($T10<AC$6,"",INDEX(AD$7:AD$206,MATCH(AD10,AE$7:AE$206,0),1)) | AD10: =IF($T10<AD$6,"",INDEX(AE$7:AE$206,MATCH(AE10,AF$7:AF$206,0),1)) | AE10: =IF($T10<AE$6,"",INDEX(AF$7:AF$206,MATCH(AF10,AG$7:AG$206,0),1)) | AF10: =IF($T10<AF$6,"",INDEX(AG$7:AG$206,MATCH(AG10,AH$7:AH$206,0),1)) | AG10: =IF($T10<AG$6,"",INDEX(AH$7:AH$206,MATCH(AH10,AI$7:AI$206,0),1)) | AH10: =IF($T10<AH$6,"",INDEX(AI$7:AI$206,MATCH(AI10,AJ$7:AJ$206,0),1)) | AI10: =IF($T10<AI$6,"",INDEX(AJ$7:AJ$206,MATCH(AJ10,AK$7:AK$206,0),1)) | AJ10: =IFERROR(IF(C10<>"",IF(AN10=1,AM10+1,LEFT(AM10,SEARCH(";",SUBSTITUTE(AM10,".",";",AN10-1),1))& RIGHT(AM10,LEN(AM10)-SEARCH(";",SUBSTITUTE(AM10,".",";",AN10-1),1)) +1 ),""),"") -> 2 | AK10: =IFERROR(IF(C10<>"",IF(T10=1,C10+1,LEFT(C10,SEARCH(";",SUBSTITUTE(C10,".",";",T10-1),1))& RIGHT(C10,LEN(C10)-SEARCH(";",SUBSTITUTE(C10,".",";",T10-1),1)) +1 ),""),"") -> 1.4 | AL10: =IFERROR(IF(C10<>"",C10 &".1",""),"") -> 1.3.1 | AM10: =IFERROR(LEFT(C10,SEARCH(";",SUBSTITUTE(C10,".",";",T10-1),1)-1),"") -> 1 | AN10: =IFERROR(T10-1,"") -> 1 | AQ10: =IF(Settings!G10="","",Settings!G10&" - "&Settings!H10) -> O - Opinion | AS10: Title - Roles Assigned | AT10: 3 | AW10: =Settings!C10 -> Mouse | AX10: =Settings!H10 -> Opinion
B11: 5 | C11: {=IFERROR(IF(INDEX(RAM!$B$7:$B$205,B11,1)=0,"",INDEX(RAM!$B$7:$B$205,B11,1)),"")} -> 1.4 | D11: =IFERROR(IF(C11="","",IF(INDEX(RAM!$C$7:$C$205,B11,1)="","-/-",INDEX(RAM!$C$7:$C$205,B11,1))),"") -> Make an interview | E11: {=IFERROR(IF(C11="","",INDEX(RAM!$D$7:$CY$205,B11,SMALL(IF(INDEX(RAM!$D$7:$CY$205,B11,)<>"",COLUMN(RAM!$D$7:$CY$205)-3,""),1))),"")} | F11: {=IFERROR(IF(C11="","",INDEX(RAM!$D$7:$CY$205,B11,SMALL(IF(INDEX(RAM!$D$7:$CY$205,B11,)<>"",COLUMN(RAM!$D$7:$CY$205)-3,""),2))),"")} | G11: {=IFERROR(IF(C11="","",INDEX(RAM!$D$7:$CY$205,B11,SMALL(IF(INDEX(RAM!$D$7:$CY$205,B11,)<>"",COLUMN(RAM!$D$7:$CY$205)-3,""),3))),"")} | H11: {=IFERROR(IF(C11="","",INDEX(RAM!$D$7:$CY$205,B11,SMALL(IF(INDEX(RAM!$D$7:$CY$205,B11,)<>"",COLUMN(RAM!$D$7:$CY$205)-3,""),4))),"")} | I11: {=IFERROR(IF(C11="","",INDEX(RAM!$D$7:$CY$205,B11,SMALL(IF(INDEX(RAM!$D$7:$CY$205,B11,)<>"",COLUMN(RAM!$D$7:$CY$205)-3,""),5))),"")} | J11: =IF(LEN(E11)=0,"-/-",TRIM(E11 & " " &F11& " " & G11 & " " & H11 & " " &I11)) -> -/- | K11: {=IFERROR(IF(C11="","",INDEX(RAM!$D$5:$CY$5,1,SMALL(IF(INDEX(RAM!$D$7:$CY$205,B11,)<>"",COLUMN(RAM!$D$7:$CY$205)-3,""),1))),"")} | L11: {=IFERROR(IF(C11="","",INDEX(RAM!$D$5:$CY$5,1,SMALL(IF(INDEX(RAM!$D$7:$CY$205,B11,)<>"",COLUMN(RAM!$D$7:$CY$205)-3,""),2))),"")} | M11: {=IFERROR(IF(C11="","",INDEX(RAM!$D$5:$CY$5,1,SMALL(IF(INDEX(RAM!$D$7:$CY$205,B11,)<>"",COLUMN(RAM!$D$7:$CY$205)-3,""),3))),"")} | N11: {=IFERROR(IF(C11="","",INDEX(RAM!$D$5:$CY$5,1,SMALL(IF(INDEX(RAM!$D$7:$CY$205,B11,)<>"",COLUMN(RAM!$D$7:$CY$205)-3,""),4))),"")} | O11: {=IFERROR(IF(C11="","",INDEX(RAM!$D$5:$CY$5,1,SMALL(IF(INDEX(RAM!$D$7:$CY$205,B11,)<>"",COLUMN(RAM!$D$7:$CY$205)-3,""),5))),"")} | P11: =IF(LEN(K11)=0,"-/---", IF(K11<>"",K11&", ","")&IF(L11<>"",L11&", ","")&IF(M11<>"",M11&", ","")&IF(N11<>"",N11&", ","")&IF(O11<>"",O11&", ","")) -> -/--- | Q11: =IF(OR($AT$5=1,$AT$5=4,$AT$5=6),D11,IF($AT$5=2,C11&" ",C11& " - "&D11)) -> 1.4 - Make an interview | R11: =IF(C11="","", IF(OR($AT$5=4,$AT$5=5),J11&" ",IF(OR($AT$5=6,$AT$5=7),LEFT(P11,LEN(P11)-2),IF($AT$5=8,IF(LEN(E11&K11)=0,"-/-",SUBSTITUTE(E11&"-"&K11&" "&F11&"-"&L11&" "&G11&"-"&M11&" "&H11&"-"&N11&" "&I11&"-"&O11&" ","- ","")),"")))) | S11: =IF(roleF="",1,IF(ISNUMBER(MATCH(roleF,INDEX(RAM!$D$7:$CY$205,B11,),0)),1,0))*IF(personF="",1,IF(INDEX(INDEX(RAM!$D$7:$CY$205,B11,),1,personF)<>"",IF(roleF="",1,IF(ISNUMBER(MATCH(roleF,INDEX(RAM!$D$7:$CY$205,B11,personF),0)),1,0)),0)) -> 1 | T11: =IF(LEN(C11)>0,LEN(C11)-LEN(SUBSTITUTE(C11,".",""))+1,"") -> 2 | U11: =IF(C11="","",IF(T11=1,2,U10+$U$5)) -> 10 | V11: =IF(T11="","",2*(T11+X11)) -> 4 | W11: =U11&" "&V11 -> 10 4 | X11: =IF(T11="","",IF(T11=1,Y11+0*(COUNTIF($T$7:T11,1)-1),X10)) -> 0 | Y11: =IF(C11="","",INDEX($AA$7:$AA$106,IF(T11=1,C11,LEFT(C11,SEARCH(".",C11,1)-1)),1)) -> 0 | Z11: {=IF(C11="","",MAX(IF(ISNUMBER(SEARCH(" "&B11," "&$C$7:$C$206)),$T$7:$T$206,0)))} -> 0 | AA11: =IF(OR(Z11=0,Z11=""),"",AA10+Z10) | AC11: =IF($T11<AC$6,"",INDEX(AD$7:AD$206,MATCH(AD11,AE$7:AE$206,0),1)) | AD11: =IF($T11<AD$6,"",INDEX(AE$7:AE$206,MATCH(AE11,AF$7:AF$206,0),1)) | AE11: =IF($T11<AE$6,"",INDEX(AF$7:AF$206,MATCH(AF11,AG$7:AG$206,0),1)) | AF11: =IF($T11<AF$6,"",INDEX(AG$7:AG$206,MATCH(AG11,AH$7:AH$206,0),1)) | AG11: =IF($T11<AG$6,"",INDEX(AH$7:AH$206,MATCH(AH11,AI$7:AI$206,0),1)) | AH11: =IF($T11<AH$6,"",INDEX(AI$7:AI$206,MATCH(AI11,AJ$7:AJ$206,0),1)) | AI11: =IF($T11<AI$6,"",INDEX(AJ$7:AJ$206,MATCH(AJ11,AK$7:AK$206,0),1)) | AJ11: =IFERROR(IF(C11<>"",IF(AN11=1,AM11+1,LEFT(AM11,SEARCH(";",SUBSTITUTE(AM11,".",";",AN11-1),1))& RIGHT(AM11,LEN(AM11)-SEARCH(";",SUBSTITUTE(AM11,".",";",AN11-1),1)) +1 ),""),"") -> 2 | AK11: =IFERROR(IF(C11<>"",IF(T11=1,C11+1,LEFT(C11,SEARCH(";",SUBSTITUTE(C11,".",";",T11-1),1))& RIGHT(C11,LEN(C11)-SEARCH(";",SUBSTITUTE(C11,".",";",T11-1),1)) +1 ),""),"") -> 1.5 | AL11: =IFERROR(IF(C11<>"",C11 &".1",""),"") -> 1.4.1 | AM11: =IFERROR(LEFT(C11,SEARCH(";",SUBSTITUTE(C11,".",";",T11-1),1)-1),"") -> 1 | AN11: =IFERROR(T11-1,"") -> 1 | AQ11: =IF(Settings!G11="","",Settings!G11&" - "&Settings!H11) | AS11: ID - Title - Roles Assigned | AT11: 3 | AW11: =Settings!C11 -> Bird | AX11: =Settings!H11 -> 0
B12: 6 | C12: {=IFERROR(IF(INDEX(RAM!$B$7:$B$205,B12,1)=0,"",INDEX(RAM!$B$7:$B$205,B12,1)),"")} -> 1.5 | D12: =IFERROR(IF(C12="","",IF(INDEX(RAM!$C$7:$C$205,B12,1)="","-/-",INDEX(RAM!$C$7:$C$205,B12,1))),"") -> Take decision | E12: {=IFERROR(IF(C12="","",INDEX(RAM!$D$7:$CY$205,B12,SMALL(IF(INDEX(RAM!$D$7:$CY$205,B12,)<>"",COLUMN(RAM!$D$7:$CY$205)-3,""),1))),"")} -> O | F12: {=IFERROR(IF(C12="","",INDEX(RAM!$D$7:$CY$205,B12,SMALL(IF(INDEX(RAM!$D$7:$CY$205,B12,)<>"",COLUMN(RAM!$D$7:$CY$205)-3,""),2))),"")} | G12: {=IFERROR(IF(C12="","",INDEX(RAM!$D$7:$CY$205,B12,SMALL(IF(INDEX(RAM!$D$7:$CY$205,B12,)<>"",COLUMN(RAM!$D$7:$CY$205)-3,""),3))),"")} | H12: {=IFERROR(IF(C12="","",INDEX(RAM!$D$7:$CY$205,B12,SMALL(IF(INDEX(RAM!$D$7:$CY$205,B12,)<>"",COLUMN(RAM!$D$7:$CY$205)-3,""),4))),"")} | I12: {=IFERROR(IF(C12="","",INDEX(RAM!$D$7:$CY$205,B12,SMALL(IF(INDEX(RAM!$D$7:$CY$205,B12,)<>"",COLUMN(RAM!$D$7:$CY$205)-3,""),5))),"")} | J12: =IF(LEN(E12)=0,"-/-",TRIM(E12 & " " &F12& " " & G12 & " " & H12 & " " &I12)) -> O | K12: {=IFERROR(IF(C12="","",INDEX(RAM!$D$5:$CY$5,1,SMALL(IF(INDEX(RAM!$D$7:$CY$205,B12,)<>"",COLUMN(RAM!$D$7:$CY$205)-3,""),1))),"")} -> Walt Disney | L12: {=IFERROR(IF(C12="","",INDEX(RAM!$D$5:$CY$5,1,SMALL(IF(INDEX(RAM!$D$7:$CY$205,B12,)<>"",COLUMN(RAM!$D$7:$CY$205)-3,""),2))),"")} | M12: {=IFERROR(IF(C12="","",INDEX(RAM!$D$5:$CY$5,1,SMALL(IF(INDEX(RAM!$D$7:$CY$205,B12,)<>"",COLUMN(RAM!$D$7:$CY$205)-3,""),3))),"")} | N12: {=IFERROR(IF(C12="","",INDEX(RAM!$D$5:$CY$5,1,SMALL(IF(INDEX(RAM!$D$7:$CY$205,B12,)<>"",COLUMN(RAM!$D$7:$CY$205)-3,""),4))),"")} | O12: {=IFERROR(IF(C12="","",INDEX(RAM!$D$5:$CY$5,1,SMALL(IF(INDEX(RAM!$D$7:$CY$205,B12,)<>"",COLUMN(RAM!$D$7:$CY$205)-3,""),5))),"")} | P12: =IF(LEN(K12)=0,"-/---", IF(K12<>"",K12&", ","")&IF(L12<>"",L12&", ","")&IF(M12<>"",M12&", ","")&IF(N12<>"",N12&", ","")&IF(O12<>"",O12&", ","")) -> Walt Disney, | Q12: =IF(OR($AT$5=1,$AT$5=4,$AT$5=6),D12,IF($AT$5=2,C12&" ",C12& " - "&D12)) -> 1.5 - Take decision | R12: =IF(C12="","", IF(OR($AT$5=4,$AT$5=5),J12&" ",IF(OR($AT$5=6,$AT$5=7),LEFT(P12,LEN(P12)-2),IF($AT$5=8,IF(LEN(E12&K12)=0,"-/-",SUBSTITUTE(E12&"-"&K12&" "&F12&"-"&L12&" "&G12&"-"&M12&" "&H12&"-"&N12&" "&I12&"-"&O12&" ","- ","")),"")))) | S12: =IF(roleF="",1,IF(ISNUMBER(MATCH(roleF,INDEX(RAM!$D$7:$CY$205,B12,),0)),1,0))*IF(personF="",1,IF(INDEX(INDEX(RAM!$D$7:$CY$205,B12,),1,personF)<>"",IF(roleF="",1,IF(ISNUMBER(MATCH(roleF,INDEX(RAM!$D$7:$CY$205,B12,personF),0)),1,0)),0)) -> 1 | T12: =IF(LEN(C12)>0,LEN(C12)-LEN(SUBSTITUTE(C12,".",""))+1,"") -> 2 | U12: =IF(C12="","",IF(T12=1,2,U11+$U$5)) -> 12 | V12: =IF(T12="","",2*(T12+X12)) -> 4 | W12: =U12&" "&V12 -> 12 4 | X12: =IF(T12="","",IF(T12=1,Y12+0*(COUNTIF($T$7:T12,1)-1),X11)) -> 0 | Y12: =IF(C12="","",INDEX($AA$7:$AA$106,IF(T12=1,C12,LEFT(C12,SEARCH(".",C12,1)-1)),1)) -> 0 | Z12: {=IF(C12="","",MAX(IF(ISNUMBER(SEARCH(" "&B12," "&$C$7:$C$206)),$T$7:$T$206,0)))} -> 0 | AA12: =IF(OR(Z12=0,Z12=""),"",AA11+Z11) | AC12: =IF($T12<AC$6,"",INDEX(AD$7:AD$206,MATCH(AD12,AE$7:AE$206,0),1)) | AD12: =IF($T12<AD$6,"",INDEX(AE$7:AE$206,MATCH(AE12,AF$7:AF$206,0),1)) | AE12: =IF($T12<AE$6,"",INDEX(AF$7:AF$206,MATCH(AF12,AG$7:AG$206,0),1)) | AF12: =IF($T12<AF$6,"",INDEX(AG$7:AG$206,MATCH(AG12,AH$7:AH$206,0),1)) | AG12: =IF($T12<AG$6,"",INDEX(AH$7:AH$206,MATCH(AH12,AI$7:AI$206,0),1)) | AH12: =IF($T12<AH$6,"",INDEX(AI$7:AI$206,MATCH(AI12,AJ$7:AJ$206,0),1)) | AI12: =IF($T12<AI$6,"",INDEX(AJ$7:AJ$206,MATCH(AJ12,AK$7:AK$206,0),1)) | AJ12: =IFERROR(IF(C12<>"",IF(AN12=1,AM12+1,LEFT(AM12,SEARCH(";",SUBSTITUTE(AM12,".",";",AN12-1),1))& RIGHT(AM12,LEN(AM12)-SEARCH(";",SUBSTITUTE(AM12,".",";",AN12-1),1)) +1 ),""),"") -> 2 | AK12: =IFERROR(IF(C12<>"",IF(T12=1,C12+1,LEFT(C12,SEARCH(";",SUBSTITUTE(C12,".",";",T12-1),1))& RIGHT(C12,LEN(C12)-SEARCH(";",SUBSTITUTE(C12,".",";",T12-1),1)) +1 ),""),"") -> 1.6 | AL12: =IFERROR(IF(C12<>"",C12 &".1",""),"") -> 1.5.1 | AM12: =IFERROR(LEFT(C12,SEARCH(";",SUBSTITUTE(C12,".",";",T12-1),1)-1),"") -> 1 | AN12: =IFERROR(T12-1,"") -> 1 | AQ12: =IF(Settings!G12="","",Settings!G12&" - "&Settings!H12) | AS12: Title - Person | AT12: 3 | AW12: =Settings!C12 -> Fairy godmother | AX12: =Settings!H12 -> 0
B13: 7 | C13: {=IFERROR(IF(INDEX(RAM!$B$7:$B$205,B13,1)=0,"",INDEX(RAM!$B$7:$B$205,B13,1)),"")} -> 2 | D13: =IFERROR(IF(C13="","",IF(INDEX(RAM!$C$7:$C$205,B13,1)="","-/-",INDEX(RAM!$C$7:$C$205,B13,1))),"") -> Prepare new years party | E13: {=IFERROR(IF(C13="","",INDEX(RAM!$D$7:$CY$205,B13,SMALL(IF(INDEX(RAM!$D$7:$CY$205,B13,)<>"",COLUMN(RAM!$D$7:$CY$205)-3,""),1))),"")} -> Ap | F13: {=IFERROR(IF(C13="","",INDEX(RAM!$D$7:$CY$205,B13,SMALL(IF(INDEX(RAM!$D$7:$CY$205,B13,)<>"",COLUMN(RAM!$D$7:$CY$205)-3,""),2))),"")} -> P | G13: {=IFERROR(IF(C13="","",INDEX(RAM!$D$7:$CY$205,B13,SMALL(IF(INDEX(RAM!$D$7:$CY$205,B13,)<>"",COLUMN(RAM!$D$7:$CY$205)-3,""),3))),"")} | H13: {=IFERROR(IF(C13="","",INDEX(RAM!$D$7:$CY$205,B13,SMALL(IF(INDEX(RAM!$D$7:$CY$205,B13,)<>"",COLUMN(RAM!$D$7:$CY$205)-3,""),4))),"")} | I13: {=IFERROR(IF(C13="","",INDEX(RAM!$D$7:$CY$205,B13,SMALL(IF(INDEX(RAM!$D$7:$CY$205,B13,)<>"",COLUMN(RAM!$D$7:$CY$205)-3,""),5))),"")} | J13: =IF(LEN(E13)=0,"-/-",TRIM(E13 & " " &F13& " " & G13 & " " & H13 & " " &I13)) -> Ap P | K13: {=IFERROR(IF(C13="","",INDEX(RAM!$D$5:$CY$5,1,SMALL(IF(INDEX(RAM!$D$7:$CY$205,B13,)<>"",COLUMN(RAM!$D$7:$CY$205)-3,""),1))),"")} -> Bird | L13: {=IFERROR(IF(C13="","",INDEX(RAM!$D$5:$CY$5,1,SMALL(IF(INDEX(RAM!$D$7:$CY$205,B13,)<>"",COLUMN(RAM!$D$7:$CY$205)-3,""),2))),"")} -> Prince charming | M13: {=IFERROR(IF(C13="","",INDEX(RAM!$D$5:$CY$5,1,SMALL(IF(INDEX(RAM!$D$7:$CY$205,B13,)<>"",COLUMN(RAM!$D$7:$CY$205)-3,""),3))),"")} | N13: {=IFERROR(IF(C13="","",INDEX(RAM!$D$5:$CY$5,1,SMALL(IF(INDEX(RAM!$D$7:$CY$205,B13,)<>"",COLUMN(RAM!$D$7:$CY$205)-3,""),4))),"")} | O13: {=IFERROR(IF(C13="","",INDEX(RAM!$D$5:$CY$5,1,SMALL(IF(INDEX(RAM!$D$7:$CY$205,B13,)<>"",COLUMN(RAM!$D$7:$CY$205)-3,""),5))),"")} | P13: =IF(LEN(K13)=0,"-/---", IF(K13<>"",K13&", ","")&IF(L13<>"",L13&", ","")&IF(M13<>"",M13&", ","")&IF(N13<>"",N13&", ","")&IF(O13<>"",O13&", ","")) -> Bird, Prince charming, | Q13: =IF(OR($AT$5=1,$AT$5=4,$AT$5=6),D13,IF($AT$5=2,C13&" ",C13& " - "&D13)) -> 2 - Prepare new years party | R13: =IF(C13="","", IF(OR($AT$5=4,$AT$5=5),J13&" ",IF(OR($AT$5=6,$AT$5=7),LEFT(P13,LEN(P13)-2),IF($AT$5=8,IF(LEN(E13&K13)=0,"-/-",SUBSTITUTE(E13&"-"&K13&" "&F13&"-"&L13&" "&G13&"-"&M13&" "&H13&"-"&N13&" "&I13&"-"&O13&" ","- ","")),"")))) | S13: =IF(roleF="",1,IF(ISNUMBER(MATCH(roleF,INDEX(RAM!$D$7:$CY$205,B13,),0)),1,0))*IF(personF="",1,IF(INDEX(INDEX(RAM!$D$7:$CY$205,B13,),1,personF)<>"",IF(roleF="",1,IF(ISNUMBER(MATCH(roleF,INDEX(RAM!$D$7:$CY$205,B13,personF),0)),1,0)),0)) -> 1 | T13: =IF(LEN(C13)>0,LEN(C13)-LEN(SUBSTITUTE(C13,".",""))+1,"") -> 1 | U13: =IF(C13="","",IF(T13=1,2,U12+$U$5)) -> 2 | V13: =IF(T13="","",2*(T13+X13)) -> 6 | W13: =U13&" "&V13 -> 2 6 | X13: =IF(T13="","",IF(T13=1,Y13+0*(COUNTIF($T$7:T13,1)-1),X12)) -> 2 | Y13: =IF(C13="","",INDEX($AA$7:$AA$106,IF(T13=1,C13,LEFT(C13,SEARCH(".",C13,1)-1)),1)) -> 2 | Z13: {=IF(C13="","",MAX(IF(ISNUMBER(SEARCH(" "&B13," "&$C$7:$C$206)),$T$7:$T$206,0)))} -> 0 | AA13: =IF(OR(Z13=0,Z13=""),"",AA12+Z12) | AC13: =IF($T13<AC$6,"",INDEX(AD$7:AD$206,MATCH(AD13,AE$7:AE$206,0),1)) | AD13: =IF($T13<AD$6,"",INDEX(AE$7:AE$206,MATCH(AE13,AF$7:AF$206,0),1)) | AE13: =IF($T13<AE$6,"",INDEX(AF$7:AF$206,MATCH(AF13,AG$7:AG$206,0),1)) | AF13: =IF($T13<AF$6,"",INDEX(AG$7:AG$206,MATCH(AG13,AH$7:AH$206,0),1)) | AG13: =IF($T13<AG$6,"",INDEX(AH$7:AH$206,MATCH(AH13,AI$7:AI$206,0),1)) | AH13: =IF($T13<AH$6,"",INDEX(AI$7:AI$206,MATCH(AI13,AJ$7:AJ$206,0),1)) | AI13: =IF($T13<AI$6,"",INDEX(AJ$7:AJ$206,MATCH(AJ13,AK$7:AK$206,0),1)) | AJ13: =IFERROR(IF(C13<>"",IF(AN13=1,AM13+1,LEFT(AM13,SEARCH(";",SUBSTITUTE(AM13,".",";",AN13-1),1))& RIGHT(AM13,LEN(AM13)-SEARCH(";",SUBSTITUTE(AM13,".",";",AN13-1),1)) +1 ),""),"") | AK13: =IFERROR(IF(C13<>"",IF(T13=1,C13+1,LEFT(C13,SEARCH(";",SUBSTITUTE(C13,".",";",T13-1),1))& RIGHT(C13,LEN(C13)-SEARCH(";",SUBSTITUTE(C13,".",";",T13-1),1)) +1 ),""),"") -> 3 | AL13: =IFERROR(IF(C13<>"",C13 &".1",""),"") -> 2.1 | AM13: =IFERROR(LEFT(C13,SEARCH(";",SUBSTITUTE(C13,".",";",T13-1),1)-1),"") | AN13: =IFERROR(T13-1,"") -> 0 | AQ13: =IF(Settings!G13="","",Settings!G13&" - "&Settings!H13) | AS13: ID - Title - Person | AT13: 3 | AW13: =Settings!C13 -> Prince charming | AX13: =Settings!H13 -> 0
B14: 8 | C14: {=IFERROR(IF(INDEX(RAM!$B$7:$B$205,B14,1)=0,"",INDEX(RAM!$B$7:$B$205,B14,1)),"")} -> 2.1 | D14: =IFERROR(IF(C14="","",IF(INDEX(RAM!$C$7:$C$205,B14,1)="","-/-",INDEX(RAM!$C$7:$C$205,B14,1))),"") -> Check budget | E14: {=IFERROR(IF(C14="","",INDEX(RAM!$D$7:$CY$205,B14,SMALL(IF(INDEX(RAM!$D$7:$CY$205,B14,)<>"",COLUMN(RAM!$D$7:$CY$205)-3,""),1))),"")} -> V | F14: {=IFERROR(IF(C14="","",INDEX(RAM!$D$7:$CY$205,B14,SMALL(IF(INDEX(RAM!$D$7:$CY$205,B14,)<>"",COLUMN(RAM!$D$7:$CY$205)-3,""),2))),"")} -> Ap | G14: {=IFERROR(IF(C14="","",INDEX(RAM!$D$7:$CY$205,B14,SMALL(IF(INDEX(RAM!$D$7:$CY$205,B14,)<>"",COLUMN(RAM!$D$7:$CY$205)-3,""),3))),"")} | H14: {=IFERROR(IF(C14="","",INDEX(RAM!$D$7:$CY$205,B14,SMALL(IF(INDEX(RAM!$D$7:$CY$205,B14,)<>"",COLUMN(RAM!$D$7:$CY$205)-3,""),4))),"")} | I14: {=IFERROR(IF(C14="","",INDEX(RAM!$D$7:$CY$205,B14,SMALL(IF(INDEX(RAM!$D$7:$CY$205,B14,)<>"",COLUMN(RAM!$D$7:$CY$205)-3,""),5))),"")} | J14: =IF(LEN(E14)=0,"-/-",TRIM(E14 & " " &F14& " " & G14 & " " & H14 & " " &I14)) -> V Ap | K14: {=IFERROR(IF(C14="","",INDEX(RAM!$D$5:$CY$5,1,SMALL(IF(INDEX(RAM!$D$7:$CY$205,B14,)<>"",COLUMN(RAM!$D$7:$CY$205)-3,""),1))),"")} -> Cinderella | L14: {=IFERROR(IF(C14="","",INDEX(RAM!$D$5:$CY$5,1,SMALL(IF(INDEX(RAM!$D$7:$CY$205,B14,)<>"",COLUMN(RAM!$D$7:$CY$205)-3,""),2))),"")} -> Mouse | M14: {=IFERROR(IF(C14="","",INDEX(RAM!$D$5:$CY$5,1,SMALL(IF(INDEX(RAM!$D$7:$CY$205,B14,)<>"",COLUMN(RAM!$D$7:$CY$205)-3,""),3))),"")} | N14: {=IFERROR(IF(C14="","",INDEX(RAM!$D$5:$CY$5,1,SMALL(IF(INDEX(RAM!$D$7:$CY$205,B14,)<>"",COLUMN(RAM!$D$7:$CY$205)-3,""),4))),"")} | O14: {=IFERROR(IF(C14="","",INDEX(RAM!$D$5:$CY$5,1,SMALL(IF(INDEX(RAM!$D$7:$CY$205,B14,)<>"",COLUMN(RAM!$D$7:$CY$205)-3,""),5))),"")} | P14: =IF(LEN(K14)=0,"-/---", IF(K14<>"",K14&", ","")&IF(L14<>"",L14&", ","")&IF(M14<>"",M14&", ","")&IF(N14<>"",N14&", ","")&IF(O14<>"",O14&", ","")) -> Cinderella, Mouse, | Q14: =IF(OR($AT$5=1,$AT$5=4,$AT$5=6),D14,IF($AT$5=2,C14&" ",C14& " - "&D14)) -> 2.1 - Check budget | R14: =IF(C14="","", IF(OR($AT$5=4,$AT$5=5),J14&" ",IF(OR($AT$5=6,$AT$5=7),LEFT(P14,LEN(P14)-2),IF($AT$5=8,IF(LEN(E14&K14)=0,"-/-",SUBSTITUTE(E14&"-"&K14&" "&F14&"-"&L14&" "&G14&"-"&M14&" "&H14&"-"&N14&" "&I14&"-"&O14&" ","- ","")),"")))) | S14: =IF(roleF="",1,IF(ISNUMBER(MATCH(roleF,INDEX(RAM!$D$7:$CY$205,B14,),0)),1,0))*IF(personF="",1,IF(INDEX(INDEX(RAM!$D$7:$CY$205,B14,),1,personF)<>"",IF(roleF="",1,IF(ISNUMBER(MATCH(roleF,INDEX(RAM!$D$7:$CY$205,B14,personF),0)),1,0)),0)) -> 1 | T14: =IF(LEN(C14)>0,LEN(C14)-LEN(SUBSTITUTE(C14,".",""))+1,"") -> 2 | U14: =IF(C14="","",IF(T14=1,2,U13+$U$5)) -> 4 | V14: =IF(T14="","",2*(T14+X14)) -> 8 | W14: =U14&" "&V14 -> 4 8 | X14: =IF(T14="","",IF(T14=1,Y14+0*(COUNTIF($T$7:T14,1)-1),X13)) -> 2 | Y14: =IF(C14="","",INDEX($AA$7:$AA$106,IF(T14=1,C14,LEFT(C14,SEARCH(".",C14,1)-1)),1)) -> 2 | Z14: {=IF(C14="","",MAX(IF(ISNUMBER(SEARCH(" "&B14," "&$C$7:$C$206)),$T$7:$T$206,0)))} -> 0 | AA14: =IF(OR(Z14=0,Z14=""),"",AA13+Z13) | AC14: =IF($T14<AC$6,"",INDEX(AD$7:AD$206,MATCH(AD14,AE$7:AE$206,0),1)) | AD14: =IF($T14<AD$6,"",INDEX(AE$7:AE$206,MATCH(AE14,AF$7:AF$206,0),1)) | AE14: =IF($T14<AE$6,"",INDEX(AF$7:AF$206,MATCH(AF14,AG$7:AG$206,0),1)) | AF14: =IF($T14<AF$6,"",INDEX(AG$7:AG$206,MATCH(AG14,AH$7:AH$206,0),1)) | AG14: =IF($T14<AG$6,"",INDEX(AH$7:AH$206,MATCH(AH14,AI$7:AI$206,0),1)) | AH14: =IF($T14<AH$6,"",INDEX(AI$7:AI$206,MATCH(AI14,AJ$7:AJ$206,0),1)) | AI14: =IF($T14<AI$6,"",INDEX(AJ$7:AJ$206,MATCH(AJ14,AK$7:AK$206,0),1)) | AJ14: =IFERROR(IF(C14<>"",IF(AN14=1,AM14+1,LEFT(AM14,SEARCH(";",SUBSTITUTE(AM14,".",";",AN14-1),1))& RIGHT(AM14,LEN(AM14)-SEARCH(";",SUBSTITUTE(AM14,".",";",AN14-1),1)) +1 ),""),"") -> 3 | AK14: =IFERROR(IF(C14<>"",IF(T14=1,C14+1,LEFT(C14,SEARCH(";",SUBSTITUTE(C14,".",";",T14-1),1))& RIGHT(C14,LEN(C14)-SEARCH(";",SUBSTITUTE(C14,".",";",T14-1),1)) +1 ),""),"") -> 2.2 | AL14: =IFERROR(IF(C14<>"",C14 &".1",""),"") -> 2.1.1 | AM14: =IFERROR(LEFT(C14,SEARCH(";",SUBSTITUTE(C14,".",";",T14-1),1)-1),"") -> 2 | AN14: =IFERROR(T14-1,"") -> 1 | AQ14: =IF(Settings!G14="","",Settings!G14&" - "&Settings!H14) | AS14: ID - Title - Roles Assigned - Person | AT14: 3 | AW14: =Settings!C14 -> 0 | AX14: =Settings!H14 -> 0
B15: 9 | C15: {=IFERROR(IF(INDEX(RAM!$B$7:$B$205,B15,1)=0,"",INDEX(RAM!$B$7:$B$205,B15,1)),"")} -> 2.1.1 | D15: =IFERROR(IF(C15="","",IF(INDEX(RAM!$C$7:$C$205,B15,1)="","-/-",INDEX(RAM!$C$7:$C$205,B15,1))),"") -> Check options withing budget | E15: {=IFERROR(IF(C15="","",INDEX(RAM!$D$7:$CY$205,B15,SMALL(IF(INDEX(RAM!$D$7:$CY$205,B15,)<>"",COLUMN(RAM!$D$7:$CY$205)-3,""),1))),"")} -> O | F15: {=IFERROR(IF(C15="","",INDEX(RAM!$D$7:$CY$205,B15,SMALL(IF(INDEX(RAM!$D$7:$CY$205,B15,)<>"",COLUMN(RAM!$D$7:$CY$205)-3,""),2))),"")} -> V | G15: {=IFERROR(IF(C15="","",INDEX(RAM!$D$7:$CY$205,B15,SMALL(IF(INDEX(RAM!$D$7:$CY$205,B15,)<>"",COLUMN(RAM!$D$7:$CY$205)-3,""),3))),"")} | H15: {=IFERROR(IF(C15="","",INDEX(RAM!$D$7:$CY$205,B15,SMALL(IF(INDEX(RAM!$D$7:$CY$205,B15,)<>"",COLUMN(RAM!$D$7:$CY$205)-3,""),4))),"")} | I15: {=IFERROR(IF(C15="","",INDEX(RAM!$D$7:$CY$205,B15,SMALL(IF(INDEX(RAM!$D$7:$CY$205,B15,)<>"",COLUMN(RAM!$D$7:$CY$205)-3,""),5))),"")} | J15: =IF(LEN(E15)=0,"-/-",TRIM(E15 & " " &F15& " " & G15 & " " & H15 & " " &I15)) -> O V | K15: {=IFERROR(IF(C15="","",INDEX(RAM!$D$5:$CY$5,1,SMALL(IF(INDEX(RAM!$D$7:$CY$205,B15,)<>"",COLUMN(RAM!$D$7:$CY$205)-3,""),1))),"")} -> Mikey Mouse | L15: {=IFERROR(IF(C15="","",INDEX(RAM!$D$5:$CY$5,1,SMALL(IF(INDEX(RAM!$D$7:$CY$205,B15,)<>"",COLUMN(RAM!$D$7:$CY$205)-3,""),2))),"")} -> Fairy godmother | M15: {=IFERROR(IF(C15="","",INDEX(RAM!$D$5:$CY$5,1,SMALL(IF(INDEX(RAM!$D$7:$CY$205,B15,)<>"",COLUMN(RAM!$D$7:$CY$205)-3,""),3))),"")} | N15: {=IFERROR(IF(C15="","",INDEX(RAM!$D$5:$CY$5,1,SMALL(IF(INDEX(RAM!$D$7:$CY$205,B15,)<>"",COLUMN(RAM!$D$7:$CY$205)-3,""),4))),"")} | O15: {=IFERROR(IF(C15="","",INDEX(RAM!$D$5:$CY$5,1,SMALL(IF(INDEX(RAM!$D$7:$CY$205,B15,)<>"",COLUMN(RAM!$D$7:$CY$205)-3,""),5))),"")} | P15: =IF(LEN(K15)=0,"-/---", IF(K15<>"",K15&", ","")&IF(L15<>"",L15&", ","")&IF(M15<>"",M15&", ","")&IF(N15<>"",N15&", ","")&IF(O15<>"",O15&", ","")) -> Mikey Mouse, Fairy godmother, | Q15: =IF(OR($AT$5=1,$AT$5=4,$AT$5=6),D15,IF($AT$5=2,C15&" ",C15& " - "&D15)) -> 2.1.1 - Check options withing budget | R15: =IF(C15="","", IF(OR($AT$5=4,$AT$5=5),J15&" ",IF(OR($AT$5=6,$AT$5=7),LEFT(P15,LEN(P15)-2),IF($AT$5=8,IF(LEN(E15&K15)=0,"-/-",SUBSTITUTE(E15&"-"&K15&" "&F15&"-"&L15&" "&G15&"-"&M15&" "&H15&"-"&N15&" "&I15&"-"&O15&" ","- ","")),"")))) | S15: =IF(roleF="",1,IF(ISNUMBER(MATCH(roleF,INDEX(RAM!$D$7:$CY$205,B15,),0)),1,0))*IF(personF="",1,IF(INDEX(INDEX(RAM!$D$7:$CY$205,B15,),1,personF)<>"",IF(roleF="",1,IF(ISNUMBER(MATCH(roleF,INDEX(RAM!$D$7:$CY$205,B15,personF),0)),1,0)),0)) -> 1 | T15: =IF(LEN(C15)>0,LEN(C15)-LEN(SUBSTITUTE(C15,".",""))+1,"") -> 3 | U15: =IF(C15="","",IF(T15=1,2,U14+$U$5)) -> 6 | V15: =IF(T15="","",2*(T15+X15)) -> 10 | W15: =U15&" "&V15 -> 6 10 | X15: =IF(T15="","",IF(T15=1,Y15+0*(COUNTIF($T$7:T15,1)-1),X14)) -> 2 | Y15: =IF(C15="","",INDEX($AA$7:$AA$106,IF(T15=1,C15,LEFT(C15,SEARCH(".",C15,1)-1)),1)) -> 2 | Z15: {=IF(C15="","",MAX(IF(ISNUMBER(SEARCH(" "&B15," "&$C$7:$C$206)),$T$7:$T$206,0)))} -> 0 | AA15: =IF(OR(Z15=0,Z15=""),"",AA14+Z14) | AC15: =IF($T15<AC$6,"",INDEX(AD$7:AD$206,MATCH(AD15,AE$7:AE$206,0),1)) | AD15: =IF($T15<AD$6,"",INDEX(AE$7:AE$206,MATCH(AE15,AF$7:AF$206,0),1)) | AE15: =IF($T15<AE$6,"",INDEX(AF$7:AF$206,MATCH(AF15,AG$7:AG$206,0),1)) | AF15: =IF($T15<AF$6,"",INDEX(AG$7:AG$206,MATCH(AG15,AH$7:AH$206,0),1)) | AG15: =IF($T15<AG$6,"",INDEX(AH$7:AH$206,MATCH(AH15,AI$7:AI$206,0),1)) | AH15: =IF($T15<AH$6,"",INDEX(AI$7:AI$206,MATCH(AI15,AJ$7:AJ$206,0),1)) | AI15: =IF($T15<AI$6,"",INDEX(AJ$7:AJ$206,MATCH(AJ15,AK$7:AK$206,0),1)) -> 3 | AJ15: =IFERROR(IF(C15<>"",IF(AN15=1,AM15+1,LEFT(AM15,SEARCH(";",SUBSTITUTE(AM15,".",";",AN15-1),1))& RIGHT(AM15,LEN(AM15)-SEARCH(";",SUBSTITUTE(AM15,".",";",AN15-1),1)) +1 ),""),"") -> 2.2 | AK15: =IFERROR(IF(C15<>"",IF(T15=1,C15+1,LEFT(C15,SEARCH(";",SUBSTITUTE(C15,".",";",T15-1),1))& RIGHT(C15,LEN(C15)-SEARCH(";",SUBSTITUTE(C15,".",";",T15-1),1)) +1 ),""),"") -> 2.1.2 | AL15: =IFERROR(IF(C15<>"",C15 &".1",""),"") -> 2.1.1.1 | AM15: =IFERROR(LEFT(C15,SEARCH(";",SUBSTITUTE(C15,".",";",T15-1),1)-1),"") -> 2.1 | AN15: =IFERROR(T15-1,"") -> 2 | AQ15: =IF(Settings!G15="","",Settings!G15&" - "&Settings!H15) | AW15: =Settings!C15 -> 0 | AX15: =Settings!H15 -> 0
B16: 10 | C16: {=IFERROR(IF(INDEX(RAM!$B$7:$B$205,B16,1)=0,"",INDEX(RAM!$B$7:$B$205,B16,1)),"")} -> 2.1.2 | D16: =IFERROR(IF(C16="","",IF(INDEX(RAM!$C$7:$C$205,B16,1)="","-/-",INDEX(RAM!$C$7:$C$205,B16,1))),"") -> Check gifts options | E16: {=IFERROR(IF(C16="","",INDEX(RAM!$D$7:$CY$205,B16,SMALL(IF(INDEX(RAM!$D$7:$CY$205,B16,)<>"",COLUMN(RAM!$D$7:$CY$205)-3,""),1))),"")} | F16: {=IFERROR(IF(C16="","",INDEX(RAM!$D$7:$CY$205,B16,SMALL(IF(INDEX(RAM!$D$7:$CY$205,B16,)<>"",COLUMN(RAM!$D$7:$CY$205)-3,""),2))),"")} | G16: {=IFERROR(IF(C16="","",INDEX(RAM!$D$7:$CY$205,B16,SMALL(IF(INDEX(RAM!$D$7:$CY$205,B16,)<>"",COLUMN(RAM!$D$7:$CY$205)-3,""),3))),"")} | H16: {=IFERROR(IF(C16="","",INDEX(RAM!$D$7:$CY$205,B16,SMALL(IF(INDEX(RAM!$D$7:$CY$205,B16,)<>"",COLUMN(RAM!$D$7:$CY$205)-3,""),4))),"")} | I16: {=IFERROR(IF(C16="","",INDEX(RAM!$D$7:$CY$205,B16,SMALL(IF(INDEX(RAM!$D$7:$CY$205,B16,)<>"",COLUMN(RAM!$D$7:$CY$205)-3,""),5))),"")} | J16: =IF(LEN(E16)=0,"-/-",TRIM(E16 & " " &F16& " " & G16 & " " & H16 & " " &I16)) -> -/- | K16: {=IFERROR(IF(C16="","",INDEX(RAM!$D$5:$CY$5,1,SMALL(IF(INDEX(RAM!$D$7:$CY$205,B16,)<>"",COLUMN(RAM!$D$7:$CY$205)-3,""),1))),"")} | L16: {=IFERROR(IF(C16="","",INDEX(RAM!$D$5:$CY$5,1,SMALL(IF(INDEX(RAM!$D$7:$CY$205,B16,)<>"",COLUMN(RAM!$D$7:$CY$205)-3,""),2))),"")} | M16: {=IFERROR(IF(C16="","",INDEX(RAM!$D$5:$CY$5,1,SMALL(IF(INDEX(RAM!$D$7:$CY$205,B16,)<>"",COLUMN(RAM!$D$7:$CY$205)-3,""),3))),"")} | N16: {=IFERROR(IF(C16="","",INDEX(RAM!$D$5:$CY$5,1,SMALL(IF(INDEX(RAM!$D$7:$CY$205,B16,)<>"",COLUMN(RAM!$D$7:$CY$205)-3,""),4))),"")} | O16: {=IFERROR(IF(C16="","",INDEX(RAM!$D$5:$CY$5,1,SMALL(IF(INDEX(RAM!$D$7:$CY$205,B16,)<>"",COLUMN(RAM!$D$7:$CY$205)-3,""),5))),"")} | P16: =IF(LEN(K16)=0,"-/---", IF(K16<>"",K16&", ","")&IF(L16<>"",L16&", ","")&IF(M16<>"",M16&", ","")&IF(N16<>"",N16&", ","")&IF(O16<>"",O16&", ","")) -> -/--- | Q16: =IF(OR($AT$5=1,$AT$5=4,$AT$5=6),D16,IF($AT$5=2,C16&" ",C16& " - "&D16)) -> 2.1.2 - Check gifts options | R16: =IF(C16="","", IF(OR($AT$5=4,$AT$5=5),J16&" ",IF(OR($AT$5=6,$AT$5=7),LEFT(P16,LEN(P16)-2),IF($AT$5=8,IF(LEN(E16&K16)=0,"-/-",SUBSTITUTE(E16&"-"&K16&" "&F16&"-"&L16&" "&G16&"-"&M16&" "&H16&"-"&N16&" "&I16&"-"&O16&" ","- ","")),"")))) | S16: =IF(roleF="",1,IF(ISNUMBER(MATCH(roleF,INDEX(RAM!$D$7:$CY$205,B16,),0)),1,0))*IF(personF="",1,IF(INDEX(INDEX(RAM!$D$7:$CY$205,B16,),1,personF)<>"",IF(roleF="",1,IF(ISNUMBER(MATCH(roleF,INDEX(RAM!$D$7:$CY$205,B16,personF),0)),1,0)),0)) -> 1 | T16: =IF(LEN(C16)>0,LEN(C16)-LEN(SUBSTITUTE(C16,".",""))+1,"") -> 3 | U16: =IF(C16="","",IF(T16=1,2,U15+$U$5)) -> 8 | V16: =IF(T16="","",2*(T16+X16)) -> 10 | W16: =U16&" "&V16 -> 8 10 | X16: =IF(T16="","",IF(T16=1,Y16+0*(COUNTIF($T$7:T16,1)-1),X15)) -> 2 | Y16: =IF(C16="","",INDEX($AA$7:$AA$106,IF(T16=1,C16,LEFT(C16,SEARCH(".",C16,1)-1)),1)) -> 2 | Z16: {=IF(C16="","",MAX(IF(ISNUMBER(SEARCH(" "&B16," "&$C$7:$C$206)),$T$7:$T$206,0)))} -> 0 | AA16: =IF(OR(Z16=0,Z16=""),"",AA15+Z15) | AC16: =IF($T16<AC$6,"",INDEX(AD$7:AD$206,MATCH(AD16,AE$7:AE$206,0),1)) | AD16: =IF($T16<AD$6,"",INDEX(AE$7:AE$206,MATCH(AE16,AF$7:AF$206,0),1)) | AE16: =IF($T16<AE$6,"",INDEX(AF$7:AF$206,MATCH(AF16,AG$7:AG$206,0),1)) | AF16: =IF($T16<AF$6,"",INDEX(AG$7:AG$206,MATCH(AG16,AH$7:AH$206,0),1)) | AG16: =IF($T16<AG$6,"",INDEX(AH$7:AH$206,MATCH(AH16,AI$7:AI$206,0),1)) | AH16: =IF($T16<AH$6,"",INDEX(AI$7:AI$206,MATCH(AI16,AJ$7:AJ$206,0),1)) | AI16: =IF($T16<AI$6,"",INDEX(AJ$7:AJ$206,MATCH(AJ16,AK$7:AK$206,0),1)) -> 3 | AJ16: =IFERROR(IF(C16<>"",IF(AN16=1,AM16+1,LEFT(AM16,SEARCH(";",SUBSTITUTE(AM16,".",";",AN16-1),1))& RIGHT(AM16,LEN(AM16)-SEARCH(";",SUBSTITUTE(AM16,".",";",AN16-1),1)) +1 ),""),"") -> 2.2 | AK16: =IFERROR(IF(C16<>"",IF(T16=1,C16+1,LEFT(C16,SEARCH(";",SUBSTITUTE(C16,".",";",T16-1),1))& RIGHT(C16,LEN(C16)-SEARCH(";",SUBSTITUTE(C16,".",";",T16-1),1)) +1 ),""),"") -> 2.1.3 | AL16: =IFERROR(IF(C16<>"",C16 &".1",""),"") -> 2.1.2.1 | AM16: =IFERROR(LEFT(C16,SEARCH(";",SUBSTITUTE(C16,".",";",T16-1),1)-1),"") -> 2.1 | AN16: =IFERROR(T16-1,"") -> 2 | AQ16: =IF(Settings!G16="","",Settings!G16&" - "&Settings!H16) | AS16: Role filter | AT16: =IF(OR(WBS!L5="",WBS!L5="All"),"",INDEX(Settings!$G$7:$G$16,MATCH(WBS!L5,Settings!$H$7:$H$16,0),1)) | AW16: =Settings!C16 -> 0 | AX16: =Settings!H16 -> 0
B17: 11 | C17: {=IFERROR(IF(INDEX(RAM!$B$7:$B$205,B17,1)=0,"",INDEX(RAM!$B$7:$B$205,B17,1)),"")} -> 2.2 | D17: =IFERROR(IF(C17="","",IF(INDEX(RAM!$C$7:$C$205,B17,1)="","-/-",INDEX(RAM!$C$7:$C$205,B17,1))),"") -> Call few places | E17: {=IFERROR(IF(C17="","",INDEX(RAM!$D$7:$CY$205,B17,SMALL(IF(INDEX(RAM!$D$7:$CY$205,B17,)<>"",COLUMN(RAM!$D$7:$CY$205)-3,""),1))),"")} -> O | F17: {=IFERROR(IF(C17="","",INDEX(RAM!$D$7:$CY$205,B17,SMALL(IF(INDEX(RAM!$D$7:$CY$205,B17,)<>"",COLUMN(RAM!$D$7:$CY$205)-3,""),2))),"")} | G17: {=IFERROR(IF(C17="","",INDEX(RAM!$D$7:$CY$205,B17,SMALL(IF(INDEX(RAM!$D$7:$CY$205,B17,)<>"",COLUMN(RAM!$D$7:$CY$205)-3,""),3))),"")} | H17: {=IFERROR(IF(C17="","",INDEX(RAM!$D$7:$CY$205,B17,SMALL(IF(INDEX(RAM!$D$7:$CY$205,B17,)<>"",COLUMN(RAM!$D$7:$CY$205)-3,""),4))),"")} | I17: {=IFERROR(IF(C17="","",INDEX(RAM!$D$7:$CY$205,B17,SMALL(IF(INDEX(RAM!$D$7:$CY$205,B17,)<>"",COLUMN(RAM!$D$7:$CY$205)-3,""),5))),"")} | J17: =IF(LEN(E17)=0,"-/-",TRIM(E17 & " " &F17& " " & G17 & " " & H17 & " " &I17)) -> O | K17: {=IFERROR(IF(C17="","",INDEX(RAM!$D$5:$CY$5,1,SMALL(IF(INDEX(RAM!$D$7:$CY$205,B17,)<>"",COLUMN(RAM!$D$7:$CY$205)-3,""),1))),"")} -> Prince charming | L17: {=IFERROR(IF(C17="","",INDEX(RAM!$D$5:$CY$5,1,SMALL(IF(INDEX(RAM!$D$7:$CY$205,B17,)<>"",COLUMN(RAM!$D$7:$CY$205)-3,""),2))),"")} | M17: {=IFERROR(IF(C17="","",INDEX(RAM!$D$5:$CY$5,1,SMALL(IF(INDEX(RAM!$D$7:$CY$205,B17,)<>"",COLUMN(RAM!$D$7:$CY$205)-3,""),3))),"")} | N17: {=IFERROR(IF(C17="","",INDEX(RAM!$D$5:$CY$5,1,SMALL(IF(INDEX(RAM!$D$7:$CY$205,B17,)<>"",COLUMN(RAM!$D$7:$CY$205)-3,""),4))),"")} | O17: {=IFERROR(IF(C17="","",INDEX(RAM!$D$5:$CY$5,1,SMALL(IF(INDEX(RAM!$D$7:$CY$205,B17,)<>"",COLUMN(RAM!$D$7:$CY$205)-3,""),5))),"")} | P17: =IF(LEN(K17)=0,"-/---", IF(K17<>"",K17&", ","")&IF(L17<>"",L17&", ","")&IF(M17<>"",M17&", ","")&IF(N17<>"",N17&", ","")&IF(O17<>"",O17&", ","")) -> Prince charming, | Q17: =IF(OR($AT$5=1,$AT$5=4,$AT$5=6),D17,IF($AT$5=2,C17&" ",C17& " - "&D17)) -> 2.2 - Call few places | R17: =IF(C17="","", IF(OR($AT$5=4,$AT$5=5),J17&" ",IF(OR($AT$5=6,$AT$5=7),LEFT(P17,LEN(P17)-2),IF($AT$5=8,IF(LEN(E17&K17)=0,"-/-",SUBSTITUTE(E17&"-"&K17&" "&F17&"-"&L17&" "&G17&"-"&M17&" "&H17&"-"&N17&" "&I17&"-"&O17&" ","- ","")),"")))) | S17: =IF(roleF="",1,IF(ISNUMBER(MATCH(roleF,INDEX(RAM!$D$7:$CY$205,B17,),0)),1,0))*IF(personF="",1,IF(INDEX(INDEX(RAM!$D$7:$CY$205,B17,),1,personF)<>"",IF(roleF="",1,IF(ISNUMBER(MATCH(roleF,INDEX(RAM!$D$7:$CY$205,B17,personF),0)),1,0)),0)) -> 1 | T17: =IF(LEN(C17)>0,LEN(C17)-LEN(SUBSTITUTE(C17,".",""))+1,"") -> 2 | U17: =IF(C17="","",IF(T17=1,2,U16+$U$5)) -> 10 | V17: =IF(T17="","",2*(T17+X17)) -> 8 | W17: =U17&" "&V17 -> 10 8 | X17: =IF(T17="","",IF(T17=1,Y17+0*(COUNTIF($T$7:T17,1)-1),X16)) -> 2 | Y17: =IF(C17="","",INDEX($AA$7:$AA$106,IF(T17=1,C17,LEFT(C17,SEARCH(".",C17,1)-1)),1)) -> 2 | Z17: {=IF(C17="","",MAX(IF(ISNUMBER(SEARCH(" "&B17," "&$C$7:$C$206)),$T$7:$T$206,0)))} -> 0 | AA17: =IF(OR(Z17=0,Z17=""),"",AA16+Z16) | AC17: =IF($T17<AC$6,"",INDEX(AD$7:AD$206,MATCH(AD17,AE$7:AE$206,0),1)) | AD17: =IF($T17<AD$6,"",INDEX(AE$7:AE$206,MATCH(AE17,AF$7:AF$206,0),1)) | AE17: =IF($T17<AE$6,"",INDEX(AF$7:AF$206,MATCH(AF17,AG$7:AG$206,0),1)) | AF17: =IF($T17<AF$6,"",INDEX(AG$7:AG$206,MATCH(AG17,AH$7:AH$206,0),1)) | AG17: =IF($T17<AG$6,"",INDEX(AH$7:AH$206,MATCH(AH17,AI$7:AI$206,0),1)) | AH17: =IF($T17<AH$6,"",INDEX(AI$7:AI$206,MATCH(AI17,AJ$7:AJ$206,0),1)) | AI17: =IF($T17<AI$6,"",INDEX(AJ$7:AJ$206,MATCH(AJ17,AK$7:AK$206,0),1)) | AJ17: =IFERROR(IF(C17<>"",IF(AN17=1,AM17+1,LEFT(AM17,SEARCH(";",SUBSTITUTE(AM17,".",";",AN17-1),1))& RIGHT(AM17,LEN(AM17)-SEARCH(";",SUBSTITUTE(AM17,".",";",AN17-1),1)) +1 ),""),"") -> 3 | AK17: =IFERROR(IF(C17<>"",IF(T17=1,C17+1,LEFT(C17,SEARCH(";",SUBSTITUTE(C17,".",";",T17-1),1))& RIGHT(C17,LEN(C17)-SEARCH(";",SUBSTITUTE(C17,".",";",T17-1),1)) +1 ),""),"") -> 2.3 | AL17: =IFERROR(IF(C17<>"",C17 &".1",""),"") -> 2.2.1 | AM17: =IFERROR(LEFT(C17,SEARCH(";",SUBSTITUTE(C17,".",";",T17-1),1)-1),"") -> 2 | AN17: =IFERROR(T17-1,"") -> 1 | AQ17: =AQ7&AQ8&AQ9&AQ10&AQ11&AQ12&AQ13&AQ14&AQ15&AQ16 -> P - ParticipantAp - ApprovalV - VerificationO - Opinion | AS17: Person filter | AT17: =IF(OR(WBS!P5="",WBS!P5="All"),"",MATCH(WBS!P5,AW7:AW106,0)) | AW17: =Settings!C17 -> 0
B18: 12 | C18: {=IFERROR(IF(INDEX(RAM!$B$7:$B$205,B18,1)=0,"",INDEX(RAM!$B$7:$B$205,B18,1)),"")} -> 2.3 | D18: =IFERROR(IF(C18="","",IF(INDEX(RAM!$C$7:$C$205,B18,1)="","-/-",INDEX(RAM!$C$7:$C$205,B18,1))),"") -> Decide and make reservation | E18: {=IFERROR(IF(C18="","",INDEX(RAM!$D$7:$CY$205,B18,SMALL(IF(INDEX(RAM!$D$7:$CY$205,B18,)<>"",COLUMN(RAM!$D$7:$CY$205)-3,""),1))),"")} -> V | F18: {=IFERROR(IF(C18="","",INDEX(RAM!$D$7:$CY$205,B18,SMALL(IF(INDEX(RAM!$D$7:$CY$205,B18,)<>"",COLUMN(RAM!$D$7:$CY$205)-3,""),2))),"")} | G18: {=IFERROR(IF(C18="","",INDEX(RAM!$D$7:$CY$205,B18,SMALL(IF(INDEX(RAM!$D$7:$CY$205,B18,)<>"",COLUMN(RAM!$D$7:$CY$205)-3,""),3))),"")} | H18: {=IFERROR(IF(C18="","",INDEX(RAM!$D$7:$CY$205,B18,SMALL(IF(INDEX(RAM!$D$7:$CY$205,B18,)<>"",COLUMN(RAM!$D$7:$CY$205)-3,""),4))),"")} | I18: {=IFERROR(IF(C18="","",INDEX(RAM!$D$7:$CY$205,B18,SMALL(IF(INDEX(RAM!$D$7:$CY$205,B18,)<>"",COLUMN(RAM!$D$7:$CY$205)-3,""),5))),"")} | J18: =IF(LEN(E18)=0,"-/-",TRIM(E18 & " " &F18& " " & G18 & " " & H18 & " " &I18)) -> V | K18: {=IFERROR(IF(C18="","",INDEX(RAM!$D$5:$CY$5,1,SMALL(IF(INDEX(RAM!$D$7:$CY$205,B18,)<>"",COLUMN(RAM!$D$7:$CY$205)-3,""),1))),"")} -> Fairy godmother | L18: {=IFERROR(IF(C18="","",INDEX(RAM!$D$5:$CY$5,1,SMALL(IF(INDEX(RAM!$D$7:$CY$205,B18,)<>"",COLUMN(RAM!$D$7:$CY$205)-3,""),2))),"")} | M18: {=IFERROR(IF(C18="","",INDEX(RAM!$D$5:$CY$5,1,SMALL(IF(INDEX(RAM!$D$7:$CY$205,B18,)<>"",COLUMN(RAM!$D$7:$CY$205)-3,""),3))),"")} | N18: {=IFERROR(IF(C18="","",INDEX(RAM!$D$5:$CY$5,1,SMALL(IF(INDEX(RAM!$D$7:$CY$205,B18,)<>"",COLUMN(RAM!$D$7:$CY$205)-3,""),4))),"")} | O18: {=IFERROR(IF(C18="","",INDEX(RAM!$D$5:$CY$5,1,SMALL(IF(INDEX(RAM!$D$7:$CY$205,B18,)<>"",COLUMN(RAM!$D$7:$CY$205)-3,""),5))),"")} | P18: =IF(LEN(K18)=0,"-/---", IF(K18<>"",K18&", ","")&IF(L18<>"",L18&", ","")&IF(M18<>"",M18&", ","")&IF(N18<>"",N18&", ","")&IF(O18<>"",O18&", ","")) -> Fairy godmother, | Q18: =IF(OR($AT$5=1,$AT$5=4,$AT$5=6),D18,IF($AT$5=2,C18&" ",C18& " - "&D18)) -> 2.3 - Decide and make reservation | R18: =IF(C18="","", IF(OR($AT$5=4,$AT$5=5),J18&" ",IF(OR($AT$5=6,$AT$5=7),LEFT(P18,LEN(P18)-2),IF($AT$5=8,IF(LEN(E18&K18)=0,"-/-",SUBSTITUTE(E18&"-"&K18&" "&F18&"-"&L18&" "&G18&"-"&M18&" "&H18&"-"&N18&" "&I18&"-"&O18&" ","- ","")),"")))) | S18: =IF(roleF="",1,IF(ISNUMBER(MATCH(roleF,INDEX(RAM!$D$7:$CY$205,B18,),0)),1,0))*IF(personF="",1,IF(INDEX(INDEX(RAM!$D$7:$CY$205,B18,),1,personF)<>"",IF(roleF="",1,IF(ISNUMBER(MATCH(roleF,INDEX(RAM!$D$7:$CY$205,B18,personF),0)),1,0)),0)) -> 1 | T18: =IF(LEN(C18)>0,LEN(C18)-LEN(SUBSTITUTE(C18,".",""))+1,"") -> 2 | U18: =IF(C18="","",IF(T18=1,2,U17+$U$5)) -> 12 | V18: =IF(T18="","",2*(T18+X18)) -> 8 | W18: =U18&" "&V18 -> 12 8 | X18: =IF(T18="","",IF(T18=1,Y18+0*(COUNTIF($T$7:T18,1)-1),X17)) -> 2 | Y18: =IF(C18="","",INDEX($AA$7:$AA$106,IF(T18=1,C18,LEFT(C18,SEARCH(".",C18,1)-1)),1)) -> 2 | Z18: {=IF(C18="","",MAX(IF(ISNUMBER(SEARCH(" "&B18," "&$C$7:$C$206)),$T$7:$T$206,0)))} -> 0 | AA18: =IF(OR(Z18=0,Z18=""),"",AA17+Z17) | AC18: =IF($T18<AC$6,"",INDEX(AD$7:AD$206,MATCH(AD18,AE$7:AE$206,0),1)) | AD18: =IF($T18<AD$6,"",INDEX(AE$7:AE$206,MATCH(AE18,AF$7:AF$206,0),1)) | AE18: =IF($T18<AE$6,"",INDEX(AF$7:AF$206,MATCH(AF18,AG$7:AG$206,0),1)) | AF18: =IF($T18<AF$6,"",INDEX(AG$7:AG$206,MATCH(AG18,AH$7:AH$206,0),1)) | AG18: =IF($T18<AG$6,"",INDEX(AH$7:AH$206,MATCH(AH18,AI$7:AI$206,0),1)) | AH18: =IF($T18<AH$6,"",INDEX(AI$7:AI$206,MATCH(AI18,AJ$7:AJ$206,0),1)) | AI18: =IF($T18<AI$6,"",INDEX(AJ$7:AJ$206,MATCH(AJ18,AK$7:AK$206,0),1)) | AJ18: =IFERROR(IF(C18<>"",IF(AN18=1,AM18+1,LEFT(AM18,SEARCH(";",SUBSTITUTE(AM18,".",";",AN18-1),1))& RIGHT(AM18,LEN(AM18)-SEARCH(";",SUBSTITUTE(AM18,".",";",AN18-1),1)) +1 ),""),"") -> 3 | AK18: =IFERROR(IF(C18<>"",IF(T18=1,C18+1,LEFT(C18,SEARCH(";",SUBSTITUTE(C18,".",";",T18-1),1))& RIGHT(C18,LEN(C18)-SEARCH(";",SUBSTITUTE(C18,".",";",T18-1),1)) +1 ),""),"") -> 2.4 | AL18: =IFERROR(IF(C18<>"",C18 &".1",""),"") -> 2.3.1 | AM18: =IFERROR(LEFT(C18,SEARCH(";",SUBSTITUTE(C18,".",";",T18-1),1)-1),"") -> 2 | AN18: =IFERROR(T18-1,"") -> 1 | AP18: Legend1: | AQ18: =LEFT(AQ7,17)&CHAR(10)&LEFT(AQ9,17)&CHAR(10)&LEFT(AQ11,17)&CHAR(10)&LEFT(AQ13,17)&CHAR(10)&LEFT(AQ15,17) -> P - Participant V - Verification | AW18: =Settings!C18 -> 0
B19: 13 | C19: {=IFERROR(IF(INDEX(RAM!$B$7:$B$205,B19,1)=0,"",INDEX(RAM!$B$7:$B$205,B19,1)),"")} -> 2.4 | D19: =IFERROR(IF(C19="","",IF(INDEX(RAM!$C$7:$C$205,B19,1)="","-/-",INDEX(RAM!$C$7:$C$205,B19,1))),"") -> Sent invitations | E19: {=IFERROR(IF(C19="","",INDEX(RAM!$D$7:$CY$205,B19,SMALL(IF(INDEX(RAM!$D$7:$CY$205,B19,)<>"",COLUMN(RAM!$D$7:$CY$205)-3,""),1))),"")} | F19: {=IFERROR(IF(C19="","",INDEX(RAM!$D$7:$CY$205,B19,SMALL(IF(INDEX(RAM!$D$7:$CY$205,B19,)<>"",COLUMN(RAM!$D$7:$CY$205)-3,""),2))),"")} | G19: {=IFERROR(IF(C19="","",INDEX(RAM!$D$7:$CY$205,B19,SMALL(IF(INDEX(RAM!$D$7:$CY$205,B19,)<>"",COLUMN(RAM!$D$7:$CY$205)-3,""),3))),"")} | H19: {=IFERROR(IF(C19="","",INDEX(RAM!$D$7:$CY$205,B19,SMALL(IF(INDEX(RAM!$D$7:$CY$205,B19,)<>"",COLUMN(RAM!$D$7:$CY$205)-3,""),4))),"")} | I19: {=IFERROR(IF(C19="","",INDEX(RAM!$D$7:$CY$205,B19,SMALL(IF(INDEX(RAM!$D$7:$CY$205,B19,)<>"",COLUMN(RAM!$D$7:$CY$205)-3,""),5))),"")} | J19: =IF(LEN(E19)=0,"-/-",TRIM(E19 & " " &F19& " " & G19 & " " & H19 & " " &I19)) -> -/- | K19: {=IFERROR(IF(C19="","",INDEX(RAM!$D$5:$CY$5,1,SMALL(IF(INDEX(RAM!$D$7:$CY$205,B19,)<>"",COLUMN(RAM!$D$7:$CY$205)-3,""),1))),"")} | L19: {=IFERROR(IF(C19="","",INDEX(RAM!$D$5:$CY$5,1,SMALL(IF(INDEX(RAM!$D$7:$CY$205,B19,)<>"",COLUMN(RAM!$D$7:$CY$205)-3,""),2))),"")} | M19: {=IFERROR(IF(C19="","",INDEX(RAM!$D$5:$CY$5,1,SMALL(IF(INDEX(RAM!$D$7:$CY$205,B19,)<>"",COLUMN(RAM!$D$7:$CY$205)-3,""),3))),"")} | N19: {=IFERROR(IF(C19="","",INDEX(RAM!$D$5:$CY$5,1,SMALL(IF(INDEX(RAM!$D$7:$CY$205,B19,)<>"",COLUMN(RAM!$D$7:$CY$205)-3,""),4))),"")} | O19: {=IFERROR(IF(C19="","",INDEX(RAM!$D$5:$CY$5,1,SMALL(IF(INDEX(RAM!$D$7:$CY$205,B19,)<>"",COLUMN(RAM!$D$7:$CY$205)-3,""),5))),"")} | P19: =IF(LEN(K19)=0,"-/---", IF(K19<>"",K19&", ","")&IF(L19<>"",L19&", ","")&IF(M19<>"",M19&", ","")&IF(N19<>"",N19&", ","")&IF(O19<>"",O19&", ","")) -> -/--- | Q19: =IF(OR($AT$5=1,$AT$5=4,$AT$5=6),D19,IF($AT$5=2,C19&" ",C19& " - "&D19)) -> 2.4 - Sent invitations | R19: =IF(C19="","", IF(OR($AT$5=4,$AT$5=5),J19&" ",IF(OR($AT$5=6,$AT$5=7),LEFT(P19,LEN(P19)-2),IF($AT$5=8,IF(LEN(E19&K19)=0,"-/-",SUBSTITUTE(E19&"-"&K19&" "&F19&"-"&L19&" "&G19&"-"&M19&" "&H19&"-"&N19&" "&I19&"-"&O19&" ","- ","")),"")))) | S19: =IF(roleF="",1,IF(ISNUMBER(MATCH(roleF,INDEX(RAM!$D$7:$CY$205,B19,),0)),1,0))*IF(personF="",1,IF(INDEX(INDEX(RAM!$D$7:$CY$205,B19,),1,personF)<>"",IF(roleF="",1,IF(ISNUMBER(MATCH(roleF,INDEX(RAM!$D$7:$CY$205,B19,personF),0)),1,0)),0)) -> 1 | T19: =IF(LEN(C19)>0,LEN(C19)-LEN(SUBSTITUTE(C19,".",""))+1,"") -> 2 | U19: =IF(C19="","",IF(T19=1,2,U18+$U$5)) -> 14 | V19: =IF(T19="","",2*(T19+X19)) -> 8 | W19: =U19&" "&V19 -> 14 8 | X19: =IF(T19="","",IF(T19=1,Y19+0*(COUNTIF($T$7:T19,1)-1),X18)) -> 2 | Y19: =IF(C19="","",INDEX($AA$7:$AA$106,IF(T19=1,C19,LEFT(C19,SEARCH(".",C19,1)-1)),1)) -> 2 | Z19: {=IF(C19="","",MAX(IF(ISNUMBER(SEARCH(" "&B19," "&$C$7:$C$206)),$T$7:$T$206,0)))} -> 0 | AA19: =IF(OR(Z19=0,Z19=""),"",AA18+Z18) | AC19: =IF($T19<AC$6,"",INDEX(AD$7:AD$206,MATCH(AD19,AE$7:AE$206,0),1)) | AD19: =IF($T19<AD$6,"",INDEX(AE$7:AE$206,MATCH(AE19,AF$7:AF$206,0),1)) | AE19: =IF($T19<AE$6,"",INDEX(AF$7:AF$206,MATCH(AF19,AG$7:AG$206,0),1)) | AF19: =IF($T19<AF$6,"",INDEX(AG$7:AG$206,MATCH(AG19,AH$7:AH$206,0),1)) | AG19: =IF($T19<AG$6,"",INDEX(AH$7:AH$206,MATCH(AH19,AI$7:AI$206,0),1)) | AH19: =IF($T19<AH$6,"",INDEX(AI$7:AI$206,MATCH(AI19,AJ$7:AJ$206,0),1)) | AI19: =IF($T19<AI$6,"",INDEX(AJ$7:AJ$206,MATCH(AJ19,AK$7:AK$206,0),1)) | AJ19: =IFERROR(IF(C19<>"",IF(AN19=1,AM19+1,LEFT(AM19,SEARCH(";",SUBSTITUTE(AM19,".",";",AN19-1),1))& RIGHT(AM19,LEN(AM19)-SEARCH(";",SUBSTITUTE(AM19,".",";",AN19-1),1)) +1 ),""),"") -> 3 | AK19: =IFERROR(IF(C19<>"",IF(T19=1,C19+1,LEFT(C19,SEARCH(";",SUBSTITUTE(C19,".",";",T19-1),1))& RIGHT(C19,LEN(C19)-SEARCH(";",SUBSTITUTE(C19,".",";",T19-1),1)) +1 ),""),"") -> 2.5 | AL19: =IFERROR(IF(C19<>"",C19 &".1",""),"") -> 2.4.1 | AM19: =IFERROR(LEFT(C19,SEARCH(";",SUBSTITUTE(C19,".",";",T19-1),1)-1),"") -> 2 | AN19: =IFERROR(T19-1,"") -> 1 | AP19: Legend2: | AQ19: =LEFT(AQ8,17)&CHAR(10)&LEFT(AQ10,17)&CHAR(10)&LEFT(AQ12,17)&CHAR(10)&LEFT(AQ14,17)&CHAR(10)&LEFT(AQ16,17) -> Ap - Approval O - Opinion | AW19: =Settings!C19 -> 0
B20: 14 | C20: {=IFERROR(IF(INDEX(RAM!$B$7:$B$205,B20,1)=0,"",INDEX(RAM!$B$7:$B$205,B20,1)),"")} -> 3 | D20: =IFERROR(IF(C20="","",IF(INDEX(RAM!$C$7:$C$205,B20,1)="","-/-",INDEX(RAM!$C$7:$C$205,B20,1))),"") -> New task | E20: {=IFERROR(IF(C20="","",INDEX(RAM!$D$7:$CY$205,B20,SMALL(IF(INDEX(RAM!$D$7:$CY$205,B20,)<>"",COLUMN(RAM!$D$7:$CY$205)-3,""),1))),"")} -> V | F20: {=IFERROR(IF(C20="","",INDEX(RAM!$D$7:$CY$205,B20,SMALL(IF(INDEX(RAM!$D$7:$CY$205,B20,)<>"",COLUMN(RAM!$D$7:$CY$205)-3,""),2))),"")} -> O | G20: {=IFERROR(IF(C20="","",INDEX(RAM!$D$7:$CY$205,B20,SMALL(IF(INDEX(RAM!$D$7:$CY$205,B20,)<>"",COLUMN(RAM!$D$7:$CY$205)-3,""),3))),"")} | H20: {=IFERROR(IF(C20="","",INDEX(RAM!$D$7:$CY$205,B20,SMALL(IF(INDEX(RAM!$D$7:$CY$205,B20,)<>"",COLUMN(RAM!$D$7:$CY$205)-3,""),4))),"")} | I20: {=IFERROR(IF(C20="","",INDEX(RAM!$D$7:$CY$205,B20,SMALL(IF(INDEX(RAM!$D$7:$CY$205,B20,)<>"",COLUMN(RAM!$D$7:$CY$205)-3,""),5))),"")} | J20: =IF(LEN(E20)=0,"-/-",TRIM(E20 & " " &F20& " " & G20 & " " & H20 & " " &I20)) -> V O | K20: {=IFERROR(IF(C20="","",INDEX(RAM!$D$5:$CY$5,1,SMALL(IF(INDEX(RAM!$D$7:$CY$205,B20,)<>"",COLUMN(RAM!$D$7:$CY$205)-3,""),1))),"")} -> Cinderella | L20: {=IFERROR(IF(C20="","",INDEX(RAM!$D$5:$CY$5,1,SMALL(IF(INDEX(RAM!$D$7:$CY$205,B20,)<>"",COLUMN(RAM!$D$7:$CY$205)-3,""),2))),"")} -> Prince charming | M20: {=IFERROR(IF(C20="","",INDEX(RAM!$D$5:$CY$5,1,SMALL(IF(INDEX(RAM!$D$7:$CY$205,B20,)<>"",COLUMN(RAM!$D$7:$CY$205)-3,""),3))),"")} | N20: {=IFERROR(IF(C20="","",INDEX(RAM!$D$5:$CY$5,1,SMALL(IF(INDEX(RAM!$D$7:$CY$205,B20,)<>"",COLUMN(RAM!$D$7:$CY$205)-3,""),4))),"")} | O20: {=IFERROR(IF(C20="","",INDEX(RAM!$D$5:$CY$5,1,SMALL(IF(INDEX(RAM!$D$7:$CY$205,B20,)<>"",COLUMN(RAM!$D$7:$CY$205)-3,""),5))),"")} | P20: =IF(LEN(K20)=0,"-/---", IF(K20<>"",K20&", ","")&IF(L20<>"",L20&", ","")&IF(M20<>"",M20&", ","")&IF(N20<>"",N20&", ","")&IF(O20<>"",O20&", ","")) -> Cinderella, Prince charming, | Q20: =IF(OR($AT$5=1,$AT$5=4,$AT$5=6),D20,IF($AT$5=2,C20&" ",C20& " - "&D20)) -> 3 - New task | R20: =IF(C20="","", IF(OR($AT$5=4,$AT$5=5),J20&" ",IF(OR($AT$5=6,$AT$5=7),LEFT(P20,LEN(P20)-2),IF($AT$5=8,IF(LEN(E20&K20)=0,"-/-",SUBSTITUTE(E20&"-"&K20&" "&F20&"-"&L20&" "&G20&"-"&M20&" "&H20&"-"&N20&" "&I20&"-"&O20&" ","- ","")),"")))) | S20: =IF(roleF="",1,IF(ISNUMBER(MATCH(roleF,INDEX(RAM!$D$7:$CY$205,B20,),0)),1,0))*IF(personF="",1,IF(INDEX(INDEX(RAM!$D$7:$CY$205,B20,),1,personF)<>"",IF(roleF="",1,IF(ISNUMBER(MATCH(roleF,INDEX(RAM!$D$7:$CY$205,B20,personF),0)),1,0)),0)) -> 1 | T20: =IF(LEN(C20)>0,LEN(C20)-LEN(SUBSTITUTE(C20,".",""))+1,"") -> 1 | U20: =IF(C20="","",IF(T20=1,2,U19+$U$5)) -> 2 | V20: =IF(T20="","",2*(T20+X20)) -> 12 | W20: =U20&" "&V20 -> 2 12 | X20: =IF(T20="","",IF(T20=1,Y20+0*(COUNTIF($T$7:T20,1)-1),X19)) -> 5 | Y20: =IF(C20="","",INDEX($AA$7:$AA$106,IF(T20=1,C20,LEFT(C20,SEARCH(".",C20,1)-1)),1)) -> 5 | Z20: {=IF(C20="","",MAX(IF(ISNUMBER(SEARCH(" "&B20," "&$C$7:$C$206)),$T$7:$T$206,0)))} -> 0 | AA20: =IF(OR(Z20=0,Z20=""),"",AA19+Z19) | AC20: =IF($T20<AC$6,"",INDEX(AD$7:AD$206,MATCH(AD20,AE$7:AE$206,0),1)) | AD20: =IF($T20<AD$6,"",INDEX(AE$7:AE$206,MATCH(AE20,AF$7:AF$206,0),1)) | AE20: =IF($T20<AE$6,"",INDEX(AF$7:AF$206,MATCH(AF20,AG$7:AG$206,0),1)) | AF20: =IF($T20<AF$6,"",INDEX(AG$7:AG$206,MATCH(AG20,AH$7:AH$206,0),1)) | AG20: =IF($T20<AG$6,"",INDEX(AH$7:AH$206,MATCH(AH20,AI$7:AI$206,0),1)) | AH20: =IF($T20<AH$6,"",INDEX(AI$7:AI$206,MATCH(AI20,AJ$7:AJ$206,0),1)) | AI20: =IF($T20<AI$6,"",INDEX(AJ$7:AJ$206,MATCH(AJ20,AK$7:AK$206,0),1)) | AJ20: =IFERROR(IF(C20<>"",IF(AN20=1,AM20+1,LEFT(AM20,SEARCH(";",SUBSTITUTE(AM20,".",";",AN20-1),1))& RIGHT(AM20,LEN(AM20)-SEARCH(";",SUBSTITUTE(AM20,".",";",AN20-1),1)) +1 ),""),"") | AK20: =IFERROR(IF(C20<>"",IF(T20=1,C20+1,LEFT(C20,SEARCH(";",SUBSTITUTE(C20,".",";",T20-1),1))& RIGHT(C20,LEN(C20)-SEARCH(";",SUBSTITUTE(C20,".",";",T20-1),1)) +1 ),""),"") -> 4 | AL20: =IFERROR(IF(C20<>"",C20 &".1",""),"") -> 3.1 | AM20: =IFERROR(LEFT(C20,SEARCH(";",SUBSTITUTE(C20,".",";",T20-1),1)-1),"") | AN20: =IFERROR(T20-1,"") -> 0 | AS20: X | AT20: Y | AW20: =Settings!C20 -> 0
B21: 15 | C21: {=IFERROR(IF(INDEX(RAM!$B$7:$B$205,B21,1)=0,"",INDEX(RAM!$B$7:$B$205,B21,1)),"")} -> 3.1 | D21: =IFERROR(IF(C21="","",IF(INDEX(RAM!$C$7:$C$205,B21,1)="","-/-",INDEX(RAM!$C$7:$C$205,B21,1))),"") -> sub task 1 | E21: {=IFERROR(IF(C21="","",INDEX(RAM!$D$7:$CY$205,B21,SMALL(IF(INDEX(RAM!$D$7:$CY$205,B21,)<>"",COLUMN(RAM!$D$7:$CY$205)-3,""),1))),"")} -> P | F21: {=IFERROR(IF(C21="","",INDEX(RAM!$D$7:$CY$205,B21,SMALL(IF(INDEX(RAM!$D$7:$CY$205,B21,)<>"",COLUMN(RAM!$D$7:$CY$205)-3,""),2))),"")} | G21: {=IFERROR(IF(C21="","",INDEX(RAM!$D$7:$CY$205,B21,SMALL(IF(INDEX(RAM!$D$7:$CY$205,B21,)<>"",COLUMN(RAM!$D$7:$CY$205)-3,""),3))),"")} | H21: {=IFERROR(IF(C21="","",INDEX(RAM!$D$7:$CY$205,B21,SMALL(IF(INDEX(RAM!$D$7:$CY$205,B21,)<>"",COLUMN(RAM!$D$7:$CY$205)-3,""),4))),"")} | I21: {=IFERROR(IF(C21="","",INDEX(RAM!$D$7:$CY$205,B21,SMALL(IF(INDEX(RAM!$D$7:$CY$205,B21,)<>"",COLUMN(RAM!$D$7:$CY$205)-3,""),5))),"")} | J21: =IF(LEN(E21)=0,"-/-",TRIM(E21 & " " &F21& " " & G21 & " " & H21 & " " &I21)) -> P | K21: {=IFERROR(IF(C21="","",INDEX(RAM!$D$5:$CY$5,1,SMALL(IF(INDEX(RAM!$D$7:$CY$205,B21,)<>"",COLUMN(RAM!$D$7:$CY$205)-3,""),1))),"")} -> Bird | L21: {=IFERROR(IF(C21="","",INDEX(RAM!$D$5:$CY$5,1,SMALL(IF(INDEX(RAM!$D$7:$CY$205,B21,)<>"",COLUMN(RAM!$D$7:$CY$205)-3,""),2))),"")} | M21: {=IFERROR(IF(C21="","",INDEX(RAM!$D$5:$CY$5,1,SMALL(IF(INDEX(RAM!$D$7:$CY$205,B21,)<>"",COLUMN(RAM!$D$7:$CY$205)-3,""),3))),"")} | N21: {=IFERROR(IF(C21="","",INDEX(RAM!$D$5:$CY$5,1,SMALL(IF(INDEX(RAM!$D$7:$CY$205,B21,)<>"",COLUMN(RAM!$D$7:$CY$205)-3,""),4))),"")} | O21: {=IFERROR(IF(C21="","",INDEX(RAM!$D$5:$CY$5,1,SMALL(IF(INDEX(RAM!$D$7:$CY$205,B21,)<>"",COLUMN(RAM!$D$7:$CY$205)-3,""),5))),"")} | P21: =IF(LEN(K21)=0,"-/---", IF(K21<>"",K21&", ","")&IF(L21<>"",L21&", ","")&IF(M21<>"",M21&", ","")&IF(N21<>"",N21&", ","")&IF(O21<>"",O21&", ","")) -> Bird, | Q21: =IF(OR($AT$5=1,$AT$5=4,$AT$5=6),D21,IF($AT$5=2,C21&" ",C21& " - "&D21)) -> 3.1 - sub task 1 | R21: =IF(C21="","", IF(OR($AT$5=4,$AT$5=5),J21&" ",IF(OR($AT$5=6,$AT$5=7),LEFT(P21,LEN(P21)-2),IF($AT$5=8,IF(LEN(E21&K21)=0,"-/-",SUBSTITUTE(E21&"-"&K21&" "&F21&"-"&L21&" "&G21&"-"&M21&" "&H21&"-"&N21&" "&I21&"-"&O21&" ","- ","")),"")))) | S21: =IF(roleF="",1,IF(ISNUMBER(MATCH(roleF,INDEX(RAM!$D$7:$CY$205,B21,),0)),1,0))*IF(personF="",1,IF(INDEX(INDEX(RAM!$D$7:$CY$205,B21,),1,personF)<>"",IF(roleF="",1,IF(ISNUMBER(MATCH(roleF,INDEX(RAM!$D$7:$CY$205,B21,personF),0)),1,0)),0)) -> 1 | T21: =IF(LEN(C21)>0,LEN(C21)-LEN(SUBSTITUTE(C21,".",""))+1,"") -> 2 | U21: =IF(C21="","",IF(T21=1,2,U20+$U$5)) -> 4 | V21: =IF(T21="","",2*(T21+X21)) -> 14 | W21: =U21&" "&V21 -> 4 14 | X21: =IF(T21="","",IF(T21=1,Y21+0*(COUNTIF($T$7:T21,1)-1),X20)) -> 5 | Y21: =IF(C21="","",INDEX($AA$7:$AA$106,IF(T21=1,C21,LEFT(C21,SEARCH(".",C21,1)-1)),1)) -> 5 | Z21: {=IF(C21="","",MAX(IF(ISNUMBER(SEARCH(" "&B21," "&$C$7:$C$206)),$T$7:$T$206,0)))} -> 0 | AA21: =IF(OR(Z21=0,Z21=""),"",AA20+Z20) | AC21: =IF($T21<AC$6,"",INDEX(AD$7:AD$206,MATCH(AD21,AE$7:AE$206,0),1)) | AD21: =IF($T21<AD$6,"",INDEX(AE$7:AE$206,MATCH(AE21,AF$7:AF$206,0),1)) | AE21: =IF($T21<AE$6,"",INDEX(AF$7:AF$206,MATCH(AF21,AG$7:AG$206,0),1)) | AF21: =IF($T21<AF$6,"",INDEX(AG$7:AG$206,MATCH(AG21,AH$7:AH$206,0),1)) | AG21: =IF($T21<AG$6,"",INDEX(AH$7:AH$206,MATCH(AH21,AI$7:AI$206,0),1)) | AH21: =IF($T21<AH$6,"",INDEX(AI$7:AI$206,MATCH(AI21,AJ$7:AJ$206,0),1)) | AI21: =IF($T21<AI$6,"",INDEX(AJ$7:AJ$206,MATCH(AJ21,AK$7:AK$206,0),1)) | AJ21: =IFERROR(IF(C21<>"",IF(AN21=1,AM21+1,LEFT(AM21,SEARCH(";",SUBSTITUTE(AM21,".",";",AN21-1),1))& RIGHT(AM21,LEN(AM21)-SEARCH(";",SUBSTITUTE(AM21,".",";",AN21-1),1)) +1 ),""),"") -> 4 | AK21: =IFERROR(IF(C21<>"",IF(T21=1,C21+1,LEFT(C21,SEARCH(";",SUBSTITUTE(C21,".",";",T21-1),1))& RIGHT(C21,LEN(C21)-SEARCH(";",SUBSTITUTE(C21,".",";",T21-1),1)) +1 ),""),"") -> 3.2 | AL21: =IFERROR(IF(C21<>"",C21 &".1",""),"") -> 3.1.1 | AM21: =IFERROR(LEFT(C21,SEARCH(";",SUBSTITUTE(C21,".",";",T21-1),1)-1),"") -> 3 | AN21: =IFERROR(T21-1,"") -> 1 | AQ21: WBS Print max row and column: | AS21: =MAX(U7:U206)+ROW(startCell)-8+U5 -> 19 | AT21: =IF(MAX(V7:V206)<18,18, MAX(V7:V206)+2) -> 18 | AW21: =Settings!C21 -> 0
B22: 16 | C22: {=IFERROR(IF(INDEX(RAM!$B$7:$B$205,B22,1)=0,"",INDEX(RAM!$B$7:$B$205,B22,1)),"")} -> 3.2 | D22: =IFERROR(IF(C22="","",IF(INDEX(RAM!$C$7:$C$205,B22,1)="","-/-",INDEX(RAM!$C$7:$C$205,B22,1))),"") -> sub task 2 | E22: {=IFERROR(IF(C22="","",INDEX(RAM!$D$7:$CY$205,B22,SMALL(IF(INDEX(RAM!$D$7:$CY$205,B22,)<>"",COLUMN(RAM!$D$7:$CY$205)-3,""),1))),"")} | F22: {=IFERROR(IF(C22="","",INDEX(RAM!$D$7:$CY$205,B22,SMALL(IF(INDEX(RAM!$D$7:$CY$205,B22,)<>"",COLUMN(RAM!$D$7:$CY$205)-3,""),2))),"")} | G22: {=IFERROR(IF(C22="","",INDEX(RAM!$D$7:$CY$205,B22,SMALL(IF(INDEX(RAM!$D$7:$CY$205,B22,)<>"",COLUMN(RAM!$D$7:$CY$205)-3,""),3))),"")} | H22: {=IFERROR(IF(C22="","",INDEX(RAM!$D$7:$CY$205,B22,SMALL(IF(INDEX(RAM!$D$7:$CY$205,B22,)<>"",COLUMN(RAM!$D$7:$CY$205)-3,""),4))),"")} | I22: {=IFERROR(IF(C22="","",INDEX(RAM!$D$7:$CY$205,B22,SMALL(IF(INDEX(RAM!$D$7:$CY$205,B22,)<>"",COLUMN(RAM!$D$7:$CY$205)-3,""),5))),"")} | J22: =IF(LEN(E22)=0,"-/-",TRIM(E22 & " " &F22& " " & G22 & " " & H22 & " " &I22)) -> -/- | K22: {=IFERROR(IF(C22="","",INDEX(RAM!$D$5:$CY$5,1,SMALL(IF(INDEX(RAM!$D$7:$CY$205,B22,)<>"",COLUMN(RAM!$D$7:$CY$205)-3,""),1))),"")} | L22: {=IFERROR(IF(C22="","",INDEX(RAM!$D$5:$CY$5,1,SMALL(IF(INDEX(RAM!$D$7:$CY$205,B22,)<>"",COLUMN(RAM!$D$7:$CY$205)-3,""),2))),"")} | M22: {=IFERROR(IF(C22="","",INDEX(RAM!$D$5:$CY$5,1,SMALL(IF(INDEX(RAM!$D$7:$CY$205,B22,)<>"",COLUMN(RAM!$D$7:$CY$205)-3,""),3))),"")} | N22: {=IFERROR(IF(C22="","",INDEX(RAM!$D$5:$CY$5,1,SMALL(IF(INDEX(RAM!$D$7:$CY$205,B22,)<>"",COLUMN(RAM!$D$7:$CY$205)-3,""),4))),"")} | O22: {=IFERROR(IF(C22="","",INDEX(RAM!$D$5:$CY$5,1,SMALL(IF(INDEX(RAM!$D$7:$CY$205,B22,)<>"",COLUMN(RAM!$D$7:$CY$205)-3,""),5))),"")} | P22: =IF(LEN(K22)=0,"-/---", IF(K22<>"",K22&", ","")&IF(L22<>"",L22&", ","")&IF(M22<>"",M22&", ","")&IF(N22<>"",N22&", ","")&IF(O22<>"",O22&", ","")) -> -/--- | Q22: =IF(OR($AT$5=1,$AT$5=4,$AT$5=6),D22,IF($AT$5=2,C22&" ",C22& " - "&D22)) -> 3.2 - sub task 2 | R22: =IF(C22="","", IF(OR($AT$5=4,$AT$5=5),J22&" ",IF(OR($AT$5=6,$AT$5=7),LEFT(P22,LEN(P22)-2),IF($AT$5=8,IF(LEN(E22&K22)=0,"-/-",SUBSTITUTE(E22&"-"&K22&" "&F22&"-"&L22&" "&G22&"-"&M22&" "&H22&"-"&N22&" "&I22&"-"&O22&" ","- ","")),"")))) | S22: =IF(roleF="",1,IF(ISNUMBER(MATCH(roleF,INDEX(RAM!$D$7:$CY$205,B22,),0)),1,0))*IF(personF="",1,IF(INDEX(INDEX(RAM!$D$7:$CY$205,B22,),1,personF)<>"",IF(roleF="",1,IF(ISNUMBER(MATCH(roleF,INDEX(RAM!$D$7:$CY$205,B22,personF),0)),1,0)),0)) -> 1 | T22: =IF(LEN(C22)>0,LEN(C22)-LEN(SUBSTITUTE(C22,".",""))+1,"") -> 2 | U22: =IF(C22="","",IF(T22=1,2,U21+$U$5)) -> 6 | V22: =IF(T22="","",2*(T22+X22)) -> 14 | W22: =U22&" "&V22 -> 6 14 | X22: =IF(T22="","",IF(T22=1,Y22+0*(COUNTIF($T$7:T22,1)-1),X21)) -> 5 | Y22: =IF(C22="","",INDEX($AA$7:$AA$106,IF(T22=1,C22,LEFT(C22,SEARCH(".",C22,1)-1)),1)) -> 5 | Z22: {=IF(C22="","",MAX(IF(ISNUMBER(SEARCH(" "&B22," "&$C$7:$C$206)),$T$7:$T$206,0)))} -> 0 | AA22: =IF(OR(Z22=0,Z22=""),"",AA21+Z21) | AC22: =IF($T22<AC$6,"",INDEX(AD$7:AD$206,MATCH(AD22,AE$7:AE$206,0),1)) | AD22: =IF($T22<AD$6,"",INDEX(AE$7:AE$206,MATCH(AE22,AF$7:AF$206,0),1)) | AE22: =IF($T22<AE$6,"",INDEX(AF$7:AF$206,MATCH(AF22,AG$7:AG$206,0),1)) | AF22: =IF($T22<AF$6,"",INDEX(AG$7:AG$206,MATCH(AG22,AH$7:AH$206,0),1)) | AG22: =IF($T22<AG$6,"",INDEX(AH$7:AH$206,MATCH(AH22,AI$7:AI$206,0),1)) | AH22: =IF($T22<AH$6,"",INDEX(AI$7:AI$206,MATCH(AI22,AJ$7:AJ$206,0),1)) | AI22: =IF($T22<AI$6,"",INDEX(AJ$7:AJ$206,MATCH(AJ22,AK$7:AK$206,0),1)) | AJ22: =IFERROR(IF(C22<>"",IF(AN22=1,AM22+1,LEFT(AM22,SEARCH(";",SUBSTITUTE(AM22,".",";",AN22-1),1))& RIGHT(AM22,LEN(AM22)-SEARCH(";",SUBSTITUTE(AM22,".",";",AN22-1),1)) +1 ),""),"") -> 4 | AK22: =IFERROR(IF(C22<>"",IF(T22=1,C22+1,LEFT(C22,SEARCH(";",SUBSTITUTE(C22,".",";",T22-1),1))& RIGHT(C22,LEN(C22)-SEARCH(";",SUBSTITUTE(C22,".",";",T22-1),1)) +1 ),""),"") -> 3.3 | AL22: =IFERROR(IF(C22<>"",C22 &".1",""),"") -> 3.2.1 | AM22: =IFERROR(LEFT(C22,SEARCH(";",SUBSTITUTE(C22,".",";",T22-1),1)-1),"") -> 3 | AN22: =IFERROR(T22-1,"") -> 1 | AQ22: RAM Print area: | AS22: =COUNTA(Settings!C6:C106)+4 -> 12 | AT22: =COUNTA(D7:D206)-COUNTIF(D7:D206,"")+2 -> 18 | AW22: =Settings!C22 -> 0
B23: 17 | C23: {=IFERROR(IF(INDEX(RAM!$B$7:$B$205,B23,1)=0,"",INDEX(RAM!$B$7:$B$205,B23,1)),"")} | D23: =IFERROR(IF(C23="","",IF(INDEX(RAM!$C$7:$C$205,B23,1)="","-/-",INDEX(RAM!$C$7:$C$205,B23,1))),"") | E23: {=IFERROR(IF(C23="","",INDEX(RAM!$D$7:$CY$205,B23,SMALL(IF(INDEX(RAM!$D$7:$CY$205,B23,)<>"",COLUMN(RAM!$D$7:$CY$205)-3,""),1))),"")} | F23: {=IFERROR(IF(C23="","",INDEX(RAM!$D$7:$CY$205,B23,SMALL(IF(INDEX(RAM!$D$7:$CY$205,B23,)<>"",COLUMN(RAM!$D$7:$CY$205)-3,""),2))),"")} | G23: {=IFERROR(IF(C23="","",INDEX(RAM!$D$7:$CY$205,B23,SMALL(IF(INDEX(RAM!$D$7:$CY$205,B23,)<>"",COLUMN(RAM!$D$7:$CY$205)-3,""),3))),"")} | H23: {=IFERROR(IF(C23="","",INDEX(RAM!$D$7:$CY$205,B23,SMALL(IF(INDEX(RAM!$D$7:$CY$205,B23,)<>"",COLUMN(RAM!$D$7:$CY$205)-3,""),4))),"")} | I23: {=IFERROR(IF(C23="","",INDEX(RAM!$D$7:$CY$205,B23,SMALL(IF(INDEX(RAM!$D$7:$CY$205,B23,)<>"",COLUMN(RAM!$D$7:$CY$205)-3,""),5))),"")} | J23: =IF(LEN(E23)=0,"-/-",TRIM(E23 & " " &F23& " " & G23 & " " & H23 & " " &I23)) -> -/- | K23: {=IFERROR(IF(C23="","",INDEX(RAM!$D$5:$CY$5,1,SMALL(IF(INDEX(RAM!$D$7:$CY$205,B23,)<>"",COLUMN(RAM!$D$7:$CY$205)-3,""),1))),"")} | L23: {=IFERROR(IF(C23="","",INDEX(RAM!$D$5:$CY$5,1,SMALL(IF(INDEX(RAM!$D$7:$CY$205,B23,)<>"",COLUMN(RAM!$D$7:$CY$205)-3,""),2))),"")} | M23: {=IFERROR(IF(C23="","",INDEX(RAM!$D$5:$CY$5,1,SMALL(IF(INDEX(RAM!$D$7:$CY$205,B23,)<>"",COLUMN(RAM!$D$7:$CY$205)-3,""),3))),"")} | N23: {=IFERROR(IF(C23="","",INDEX(RAM!$D$5:$CY$5,1,SMALL(IF(INDEX(RAM!$D$7:$CY$205,B23,)<>"",COLUMN(RAM!$D$7:$CY$205)-3,""),4))),"")} | O23: {=IFERROR(IF(C23="","",INDEX(RAM!$D$5:$CY$5,1,SMALL(IF(INDEX(RAM!$D$7:$CY$205,B23,)<>"",COLUMN(RAM!$D$7:$CY$205)-3,""),5))),"")} | P23: =IF(LEN(K23)=0,"-/---", IF(K23<>"",K23&", ","")&IF(L23<>"",L23&", ","")&IF(M23<>"",M23&", ","")&IF(N23<>"",N23&", ","")&IF(O23<>"",O23&", ","")) -> -/--- | Q23: =IF(OR($AT$5=1,$AT$5=4,$AT$5=6),D23,IF($AT$5=2,C23&" ",C23& " - "&D23)) -> - | R23: =IF(C23="","", IF(OR($AT$5=4,$AT$5=5),J23&" ",IF(OR($AT$5=6,$AT$5=7),LEFT(P23,LEN(P23)-2),IF($AT$5=8,IF(LEN(E23&K23)=0,"-/-",SUBSTITUTE(E23&"-"&K23&" "&F23&"-"&L23&" "&G23&"-"&M23&" "&H23&"-"&N23&" "&I23&"-"&O23&" ","- ","")),"")))) | S23: =IF(roleF="",1,IF(ISNUMBER(MATCH(roleF,INDEX(RAM!$D$7:$CY$205,B23,),0)),1,0))*IF(personF="",1,IF(INDEX(INDEX(RAM!$D$7:$CY$205,B23,),1,personF)<>"",IF(roleF="",1,IF(ISNUMBER(MATCH(roleF,INDEX(RAM!$D$7:$CY$205,B23,personF),0)),1,0)),0)) -> 1 | T23: =IF(LEN(C23)>0,LEN(C23)-LEN(SUBSTITUTE(C23,".",""))+1,"") | U23: =IF(C23="","",IF(T23=1,2,U22+$U$5)) | V23: =IF(T23="","",2*(T23+X23)) | W23: =U23&" "&V23 | X23: =IF(T23="","",IF(T23=1,Y23+0*(COUNTIF($T$7:T23,1)-1),X22)) | Y23: =IF(C23="","",INDEX($AA$7:$AA$106,IF(T23=1,C23,LEFT(C23,SEARCH(".",C23,1)-1)),1)) | Z23: {=IF(C23="","",MAX(IF(ISNUMBER(SEARCH(" "&B23," "&$C$7:$C$206)),$T$7:$T$206,0)))} | AA23: =IF(OR(Z23=0,Z23=""),"",AA22+Z22) | AC23: =IF($T23<AC$6,"",INDEX(AD$7:AD$206,MATCH(AD23,AE$7:AE$206,0),1)) | AD23: =IF($T23<AD$6,"",INDEX(AE$7:AE$206,MATCH(AE23,AF$7:AF$206,0),1)) | AE23: =IF($T23<AE$6,"",INDEX(AF$7:AF$206,MATCH(AF23,AG$7:AG$206,0),1)) | AF23: =IF($T23<AF$6,"",INDEX(AG$7:AG$206,MATCH(AG23,AH$7:AH$206,0),1)) | AG23: =IF($T23<AG$6,"",INDEX(AH$7:AH$206,MATCH(AH23,AI$7:AI$206,0),1)) | AH23: =IF($T23<AH$6,"",INDEX(AI$7:AI$206,MATCH(AI23,AJ$7:AJ$206,0),1)) | AI23: =IF($T23<AI$6,"",INDEX(AJ$7:AJ$206,MATCH(AJ23,AK$7:AK$206,0),1)) | AJ23: =IFERROR(IF(C23<>"",IF(AN23=1,AM23+1,LEFT(AM23,SEARCH(";",SUBSTITUTE(AM23,".",";",AN23-1),1))& RIGHT(AM23,LEN(AM23)-SEARCH(";",SUBSTITUTE(AM23,".",";",AN23-1),1)) +1 ),""),"") | AK23: =IFERROR(IF(C23<>"",IF(T23=1,C23+1,LEFT(C23,SEARCH(";",SUBSTITUTE(C23,".",";",T23-1),1))& RIGHT(C23,LEN(C23)-SEARCH(";",SUBSTITUTE(C23,".",";",T23-1),1)) +1 ),""),"") | AL23: =IFERROR(IF(C23<>"",C23 &".1",""),"") | AM23: =IFERROR(LEFT(C23,SEARCH(";",SUBSTITUTE(C23,".",";",T23-1),1)-1),"") | AN23: =IFERROR(T23-1,"") | AW23: =Settings!C23 -> 0
B24: 18 | C24: {=IFERROR(IF(INDEX(RAM!$B$7:$B$205,B24,1)=0,"",INDEX(RAM!$B$7:$B$205,B24,1)),"")} | D24: =IFERROR(IF(C24="","",IF(INDEX(RAM!$C$7:$C$205,B24,1)="","-/-",INDEX(RAM!$C$7:$C$205,B24,1))),"") | E24: {=IFERROR(IF(C24="","",INDEX(RAM!$D$7:$CY$205,B24,SMALL(IF(INDEX(RAM!$D$7:$CY$205,B24,)<>"",COLUMN(RAM!$D$7:$CY$205)-3,""),1))),"")} | F24: {=IFERROR(IF(C24="","",INDEX(RAM!$D$7:$CY$205,B24,SMALL(IF(INDEX(RAM!$D$7:$CY$205,B24,)<>"",COLUMN(RAM!$D$7:$CY$205)-3,""),2))),"")} | G24: {=IFERROR(IF(C24="","",INDEX(RAM!$D$7:$CY$205,B24,SMALL(IF(INDEX(RAM!$D$7:$CY$205,B24,)<>"",COLUMN(RAM!$D$7:$CY$205)-3,""),3))),"")} | H24: {=IFERROR(IF(C24="","",INDEX(RAM!$D$7:$CY$205,B24,SMALL(IF(INDEX(RAM!$D$7:$CY$205,B24,)<>"",COLUMN(RAM!$D$7:$CY$205)-3,""),4))),"")} | I24: {=IFERROR(IF(C24="","",INDEX(RAM!$D$7:$CY$205,B24,SMALL(IF(INDEX(RAM!$D$7:$CY$205,B24,)<>"",COLUMN(RAM!$D$7:$CY$205)-3,""),5))),"")} | J24: =IF(LEN(E24)=0,"-/-",TRIM(E24 & " " &F24& " " & G24 & " " & H24 & " " &I24)) -> -/- | K24: {=IFERROR(IF(C24="","",INDEX(RAM!$D$5:$CY$5,1,SMALL(IF(INDEX(RAM!$D$7:$CY$205,B24,)<>"",COLUMN(RAM!$D$7:$CY$205)-3,""),1))),"")} | L24: {=IFERROR(IF(C24="","",INDEX(RAM!$D$5:$CY$5,1,SMALL(IF(INDEX(RAM!$D$7:$CY$205,B24,)<>"",COLUMN(RAM!$D$7:$CY$205)-3,""),2))),"")} | M24: {=IFERROR(IF(C24="","",INDEX(RAM!$D$5:$CY$5,1,SMALL(IF(INDEX(RAM!$D$7:$CY$205,B24,)<>"",COLUMN(RAM!$D$7:$CY$205)-3,""),3))),"")} | N24: {=IFERROR(IF(C24="","",INDEX(RAM!$D$5:$CY$5,1,SMALL(IF(INDEX(RAM!$D$7:$CY$205,B24,)<>"",COLUMN(RAM!$D$7:$CY$205)-3,""),4))),"")} | O24: {=IFERROR(IF(C24="","",INDEX(RAM!$D$5:$CY$5,1,SMALL(IF(INDEX(RAM!$D$7:$CY$205,B24,)<>"",COLUMN(RAM!$D$7:$CY$205)-3,""),5))),"")} | P24: =IF(LEN(K24)=0,"-/---", IF(K24<>"",K24&", ","")&IF(L24<>"",L24&", ","")&IF(M24<>"",M24&", ","")&IF(N24<>"",N24&", ","")&IF(O24<>"",O24&", ","")) -> -/--- | Q24: =IF(OR($AT$5=1,$AT$5=4,$AT$5=6),D24,IF($AT$5=2,C24&" ",C24& " - "&D24)) -> - | R24: =IF(C24="","", IF(OR($AT$5=4,$AT$5=5),J24&" ",IF(OR($AT$5=6,$AT$5=7),LEFT(P24,LEN(P24)-2),IF($AT$5=8,IF(LEN(E24&K24)=0,"-/-",SUBSTITUTE(E24&"-"&K24&" "&F24&"-"&L24&" "&G24&"-"&M24&" "&H24&"-"&N24&" "&I24&"-"&O24&" ","- ","")),"")))) | S24: =IF(roleF="",1,IF(ISNUMBER(MATCH(roleF,INDEX(RAM!$D$7:$CY$205,B24,),0)),1,0))*IF(personF="",1,IF(INDEX(INDEX(RAM!$D$7:$CY$205,B24,),1,personF)<>"",IF(roleF="",1,IF(ISNUMBER(MATCH(roleF,INDEX(RAM!$D$7:$CY$205,B24,personF),0)),1,0)),0)) -> 1 | T24: =IF(LEN(C24)>0,LEN(C24)-LEN(SUBSTITUTE(C24,".",""))+1,"") | U24: =IF(C24="","",IF(T24=1,2,U23+$U$5)) | V24: =IF(T24="","",2*(T24+X24)) | W24: =U24&" "&V24 | X24: =IF(T24="","",IF(T24=1,Y24+0*(COUNTIF($T$7:T24,1)-1),X23)) | Y24: =IF(C24="","",INDEX($AA$7:$AA$106,IF(T24=1,C24,LEFT(C24,SEARCH(".",C24,1)-1)),1)) | Z24: {=IF(C24="","",MAX(IF(ISNUMBER(SEARCH(" "&B24," "&$C$7:$C$206)),$T$7:$T$206,0)))} | AA24: =IF(OR(Z24=0,Z24=""),"",AA23+Z23) | AC24: =IF($T24<AC$6,"",INDEX(AD$7:AD$206,MATCH(AD24,AE$7:AE$206,0),1)) | AD24: =IF($T24<AD$6,"",INDEX(AE$7:AE$206,MATCH(AE24,AF$7:AF$206,0),1)) | AE24: =IF($T24<AE$6,"",INDEX(AF$7:AF$206,MATCH(AF24,AG$7:AG$206,0),1)) | AF24: =IF($T24<AF$6,"",INDEX(AG$7:AG$206,MATCH(AG24,AH$7:AH$206,0),1)) | AG24: =IF($T24<AG$6,"",INDEX(AH$7:AH$206,MATCH(AH24,AI$7:AI$206,0),1)) | AH24: =IF($T24<AH$6,"",INDEX(AI$7:AI$206,MATCH(AI24,AJ$7:AJ$206,0),1)) | AI24: =IF($T24<AI$6,"",INDEX(AJ$7:AJ$206,MATCH(AJ24,AK$7:AK$206,0),1)) | AJ24: =IFERROR(IF(C24<>"",IF(AN24=1,AM24+1,LEFT(AM24,SEARCH(";",SUBSTITUTE(AM24,".",";",AN24-1),1))& RIGHT(AM24,LEN(AM24)-SEARCH(";",SUBSTITUTE(AM24,".",";",AN24-1),1)) +1 ),""),"") | AK24: =IFERROR(IF(C24<>"",IF(T24=1,C24+1,LEFT(C24,SEARCH(";",SUBSTITUTE(C24,".",";",T24-1),1))& RIGHT(C24,LEN(C24)-SEARCH(";",SUBSTITUTE(C24,".",";",T24-1),1)) +1 ),""),"") | AL24: =IFERROR(IF(C24<>"",C24 &".1",""),"") | AM24: =IFERROR(LEFT(C24,SEARCH(";",SUBSTITUTE(C24,".",";",T24-1),1)-1),"") | AN24: =IFERROR(T24-1,"") | AS24: Roles | AW24: =Settings!C24 -> 0
B25: 19 | C25: {=IFERROR(IF(INDEX(RAM!$B$7:$B$205,B25,1)=0,"",INDEX(RAM!$B$7:$B$205,B25,1)),"")} | D25: =IFERROR(IF(C25="","",IF(INDEX(RAM!$C$7:$C$205,B25,1)="","-/-",INDEX(RAM!$C$7:$C$205,B25,1))),"") | E25: {=IFERROR(IF(C25="","",INDEX(RAM!$D$7:$CY$205,B25,SMALL(IF(INDEX(RAM!$D$7:$CY$205,B25,)<>"",COLUMN(RAM!$D$7:$CY$205)-3,""),1))),"")} | F25: {=IFERROR(IF(C25="","",INDEX(RAM!$D$7:$CY$205,B25,SMALL(IF(INDEX(RAM!$D$7:$CY$205,B25,)<>"",COLUMN(RAM!$D$7:$CY$205)-3,""),2))),"")} | G25: {=IFERROR(IF(C25="","",INDEX(RAM!$D$7:$CY$205,B25,SMALL(IF(INDEX(RAM!$D$7:$CY$205,B25,)<>"",COLUMN(RAM!$D$7:$CY$205)-3,""),3))),"")} | H25: {=IFERROR(IF(C25="","",INDEX(RAM!$D$7:$CY$205,B25,SMALL(IF(INDEX(RAM!$D$7:$CY$205,B25,)<>"",COLUMN(RAM!$D$7:$CY$205)-3,""),4))),"")} | I25: {=IFERROR(IF(C25="","",INDEX(RAM!$D$7:$CY$205,B25,SMALL(IF(INDEX(RAM!$D$7:$CY$205,B25,)<>"",COLUMN(RAM!$D$7:$CY$205)-3,""),5))),"")} | J25: =IF(LEN(E25)=0,"-/-",TRIM(E25 & " " &F25& " " & G25 & " " & H25 & " " &I25)) -> -/- | K25: {=IFERROR(IF(C25="","",INDEX(RAM!$D$5:$CY$5,1,SMALL(IF(INDEX(RAM!$D$7:$CY$205,B25,)<>"",COLUMN(RAM!$D$7:$CY$205)-3,""),1))),"")} | L25: {=IFERROR(IF(C25="","",INDEX(RAM!$D$5:$CY$5,1,SMALL(IF(INDEX(RAM!$D$7:$CY$205,B25,)<>"",COLUMN(RAM!$D$7:$CY$205)-3,""),2))),"")} | M25: {=IFERROR(IF(C25="","",INDEX(RAM!$D$5:$CY$5,1,SMALL(IF(INDEX(RAM!$D$7:$CY$205,B25,)<>"",COLUMN(RAM!$D$7:$CY$205)-3,""),3))),"")} | N25: {=IFERROR(IF(C25="","",INDEX(RAM!$D$5:$CY$5,1,SMALL(IF(INDEX(RAM!$D$7:$CY$205,B25,)<>"",COLUMN(RAM!$D$7:$CY$205)-3,""),4))),"")} | O25: {=IFERROR(IF(C25="","",INDEX(RAM!$D$5:$CY$5,1,SMALL(IF(INDEX(RAM!$D$7:$CY$205,B25,)<>"",COLUMN(RAM!$D$7:$CY$205)-3,""),5))),"")} | P25: =IF(LEN(K25)=0,"-/---", IF(K25<>"",K25&", ","")&IF(L25<>"",L25&", ","")&IF(M25<>"",M25&", ","")&IF(N25<>"",N25&", ","")&IF(O25<>"",O25&", ","")) -> -/--- | Q25: =IF(OR($AT$5=1,$AT$5=4,$AT$5=6),D25,IF($AT$5=2,C25&" ",C25& " - "&D25)) -> - | R25: =IF(C25="","", IF(OR($AT$5=4,$AT$5=5),J25&" ",IF(OR($AT$5=6,$AT$5=7),LEFT(P25,LEN(P25)-2),IF($AT$5=8,IF(LEN(E25&K25)=0,"-/-",SUBSTITUTE(E25&"-"&K25&" "&F25&"-"&L25&" "&G25&"-"&M25&" "&H25&"-"&N25&" "&I25&"-"&O25&" ","- ","")),"")))) | S25: =IF(roleF="",1,IF(ISNUMBER(MATCH(roleF,INDEX(RAM!$D$7:$CY$205,B25,),0)),1,0))*IF(personF="",1,IF(INDEX(INDEX(RAM!$D$7:$CY$205,B25,),1,personF)<>"",IF(roleF="",1,IF(ISNUMBER(MATCH(roleF,INDEX(RAM!$D$7:$CY$205,B25,personF),0)),1,0)),0)) -> 1 | T25: =IF(LEN(C25)>0,LEN(C25)-LEN(SUBSTITUTE(C25,".",""))+1,"") | U25: =IF(C25="","",IF(T25=1,2,U24+$U$5)) | V25: =IF(T25="","",2*(T25+X25)) | W25: =U25&" "&V25 | X25: =IF(T25="","",IF(T25=1,Y25+0*(COUNTIF($T$7:T25,1)-1),X24)) | Y25: =IF(C25="","",INDEX($AA$7:$AA$106,IF(T25=1,C25,LEFT(C25,SEARCH(".",C25,1)-1)),1)) | Z25: {=IF(C25="","",MAX(IF(ISNUMBER(SEARCH(" "&B25," "&$C$7:$C$206)),$T$7:$T$206,0)))} | AA25: =IF(OR(Z25=0,Z25=""),"",AA24+Z24) | AC25: =IF($T25<AC$6,"",INDEX(AD$7:AD$206,MATCH(AD25,AE$7:AE$206,0),1)) | AD25: =IF($T25<AD$6,"",INDEX(AE$7:AE$206,MATCH(AE25,AF$7:AF$206,0),1)) | AE25: =IF($T25<AE$6,"",INDEX(AF$7:AF$206,MATCH(AF25,AG$7:AG$206,0),1)) | AF25: =IF($T25<AF$6,"",INDEX(AG$7:AG$206,MATCH(AG25,AH$7:AH$206,0),1)) | AG25: =IF($T25<AG$6,"",INDEX(AH$7:AH$206,MATCH(AH25,AI$7:AI$206,0),1)) | AH25: =IF($T25<AH$6,"",INDEX(AI$7:AI$206,MATCH(AI25,AJ$7:AJ$206,0),1)) | AI25: =IF($T25<AI$6,"",INDEX(AJ$7:AJ$206,MATCH(AJ25,AK$7:AK$206,0),1)) | AJ25: =IFERROR(IF(C25<>"",IF(AN25=1,AM25+1,LEFT(AM25,SEARCH(";",SUBSTITUTE(AM25,".",";",AN25-1),1))& RIGHT(AM25,LEN(AM25)-SEARCH(";",SUBSTITUTE(AM25,".",";",AN25-1),1)) +1 ),""),"") | AK25: =IFERROR(IF(C25<>"",IF(T25=1,C25+1,LEFT(C25,SEARCH(";",SUBSTITUTE(C25,".",";",T25-1),1))& RIGHT(C25,LEN(C25)-SEARCH(";",SUBSTITUTE(C25,".",";",T25-1),1)) +1 ),""),"") | AL25: =IFERROR(IF(C25<>"",C25 &".1",""),"") | AM25: =IFERROR(LEFT(C25,SEARCH(";",SUBSTITUTE(C25,".",";",T25-1),1)-1),"") | AN25: =IFERROR(T25-1,"") | AS25: =TRIM(Settings!G7) -> P | AW25: =Settings!C25 -> 0
B26: 20 | C26: {=IFERROR(IF(INDEX(RAM!$B$7:$B$205,B26,1)=0,"",INDEX(RAM!$B$7:$B$205,B26,1)),"")} | D26: =IFERROR(IF(C26="","",IF(INDEX(RAM!$C$7:$C$205,B26,1)="","-/-",INDEX(RAM!$C$7:$C$205,B26,1))),"") | E26: {=IFERROR(IF(C26="","",INDEX(RAM!$D$7:$CY$205,B26,SMALL(IF(INDEX(RAM!$D$7:$CY$205,B26,)<>"",COLUMN(RAM!$D$7:$CY$205)-3,""),1))),"")} | F26: {=IFERROR(IF(C26="","",INDEX(RAM!$D$7:$CY$205,B26,SMALL(IF(INDEX(RAM!$D$7:$CY$205,B26,)<>"",COLUMN(RAM!$D$7:$CY$205)-3,""),2))),"")} | G26: {=IFERROR(IF(C26="","",INDEX(RAM!$D$7:$CY$205,B26,SMALL(IF(INDEX(RAM!$D$7:$CY$205,B26,)<>"",COLUMN(RAM!$D$7:$CY$205)-3,""),3))),"")} | H26: {=IFERROR(IF(C26="","",INDEX(RAM!$D$7:$CY$205,B26,SMALL(IF(INDEX(RAM!$D$7:$CY$205,B26,)<>"",COLUMN(RAM!$D$7:$CY$205)-3,""),4))),"")} | I26: {=IFERROR(IF(C26="","",INDEX(RAM!$D$7:$CY$205,B26,SMALL(IF(INDEX(RAM!$D$7:$CY$205,B26,)<>"",COLUMN(RAM!$D$7:$CY$205)-3,""),5))),"")} | J26: =IF(LEN(E26)=0,"-/-",TRIM(E26 & " " &F26& " " & G26 & " " & H26 & " " &I26)) -> -/- | K26: {=IFERROR(IF(C26="","",INDEX(RAM!$D$5:$CY$5,1,SMALL(IF(INDEX(RAM!$D$7:$CY$205,B26,)<>"",COLUMN(RAM!$D$7:$CY$205)-3,""),1))),"")} | L26: {=IFERROR(IF(C26="","",INDEX(RAM!$D$5:$CY$5,1,SMALL(IF(INDEX(RAM!$D$7:$CY$205,B26,)<>"",COLUMN(RAM!$D$7:$CY$205)-3,""),2))),"")} | M26: {=IFERROR(IF(C26="","",INDEX(RAM!$D$5:$CY$5,1,SMALL(IF(INDEX(RAM!$D$7:$CY$205,B26,)<>"",COLUMN(RAM!$D$7:$CY$205)-3,""),3))),"")} | N26: {=IFERROR(IF(C26="","",INDEX(RAM!$D$5:$CY$5,1,SMALL(IF(INDEX(RAM!$D$7:$CY$205,B26,)<>"",COLUMN(RAM!$D$7:$CY$205)-3,""),4))),"")} | O26: {=IFERROR(IF(C26="","",INDEX(RAM!$D$5:$CY$5,1,SMALL(IF(INDEX(RAM!$D$7:$CY$205,B26,)<>"",COLUMN(RAM!$D$7:$CY$205)-3,""),5))),"")} | P26: =IF(LEN(K26)=0,"-/---", IF(K26<>"",K26&", ","")&IF(L26<>"",L26&", ","")&IF(M26<>"",M26&", ","")&IF(N26<>"",N26&", ","")&IF(O26<>"",O26&", ","")) -> -/--- | Q26: =IF(OR($AT$5=1,$AT$5=4,$AT$5=6),D26,IF($AT$5=2,C26&" ",C26& " - "&D26)) -> - | R26: =IF(C26="","", IF(OR($AT$5=4,$AT$5=5),J26&" ",IF(OR($AT$5=6,$AT$5=7),LEFT(P26,LEN(P26)-2),IF($AT$5=8,IF(LEN(E26&K26)=0,"-/-",SUBSTITUTE(E26&"-"&K26&" "&F26&"-"&L26&" "&G26&"-"&M26&" "&H26&"-"&N26&" "&I26&"-"&O26&" ","- ","")),"")))) | S26: =IF(roleF="",1,IF(ISNUMBER(MATCH(roleF,INDEX(RAM!$D$7:$CY$205,B26,),0)),1,0))*IF(personF="",1,IF(INDEX(INDEX(RAM!$D$7:$CY$205,B26,),1,personF)<>"",IF(roleF="",1,IF(ISNUMBER(MATCH(roleF,INDEX(RAM!$D$7:$CY$205,B26,personF),0)),1,0)),0)) -> 1 | T26: =IF(LEN(C26)>0,LEN(C26)-LEN(SUBSTITUTE(C26,".",""))+1,"") | U26: =IF(C26="","",IF(T26=1,2,U25+$U$5)) | V26: =IF(T26="","",2*(T26+X26)) | W26: =U26&" "&V26 | X26: =IF(T26="","",IF(T26=1,Y26+0*(COUNTIF($T$7:T26,1)-1),X25)) | Y26: =IF(C26="","",INDEX($AA$7:$AA$106,IF(T26=1,C26,LEFT(C26,SEARCH(".",C26,1)-1)),1)) | Z26: {=IF(C26="","",MAX(IF(ISNUMBER(SEARCH(" "&B26," "&$C$7:$C$206)),$T$7:$T$206,0)))} | AA26: =IF(OR(Z26=0,Z26=""),"",AA25+Z25) | AC26: =IF($T26<AC$6,"",INDEX(AD$7:AD$206,MATCH(AD26,AE$7:AE$206,0),1)) | AD26: =IF($T26<AD$6,"",INDEX(AE$7:AE$206,MATCH(AE26,AF$7:AF$206,0),1)) | AE26: =IF($T26<AE$6,"",INDEX(AF$7:AF$206,MATCH(AF26,AG$7:AG$206,0),1)) | AF26: =IF($T26<AF$6,"",INDEX(AG$7:AG$206,MATCH(AG26,AH$7:AH$206,0),1)) | AG26: =IF($T26<AG$6,"",INDEX(AH$7:AH$206,MATCH(AH26,AI$7:AI$206,0),1)) | AH26: =IF($T26<AH$6,"",INDEX(AI$7:AI$206,MATCH(AI26,AJ$7:AJ$206,0),1)) | AI26: =IF($T26<AI$6,"",INDEX(AJ$7:AJ$206,MATCH(AJ26,AK$7:AK$206,0),1)) | AJ26: =IFERROR(IF(C26<>"",IF(AN26=1,AM26+1,LEFT(AM26,SEARCH(";",SUBSTITUTE(AM26,".",";",AN26-1),1))& RIGHT(AM26,LEN(AM26)-SEARCH(";",SUBSTITUTE(AM26,".",";",AN26-1),1)) +1 ),""),"") | AK26: =IFERROR(IF(C26<>"",IF(T26=1,C26+1,LEFT(C26,SEARCH(";",SUBSTITUTE(C26,".",";",T26-1),1))& RIGHT(C26,LEN(C26)-SEARCH(";",SUBSTITUTE(C26,".",";",T26-1),1)) +1 ),""),"") | AL26: =IFERROR(IF(C26<>"",C26 &".1",""),"") | AM26: =IFERROR(LEFT(C26,SEARCH(";",SUBSTITUTE(C26,".",";",T26-1),1)-1),"") | AN26: =IFERROR(T26-1,"") | AS26: =TRIM(Settings!G8) -> Ap | AW26: =Settings!C26 -> 0
B27: 21 | C27: {=IFERROR(IF(INDEX(RAM!$B$7:$B$205,B27,1)=0,"",INDEX(RAM!$B$7:$B$205,B27,1)),"")} | D27: =IFERROR(IF(C27="","",IF(INDEX(RAM!$C$7:$C$205,B27,1)="","-/-",INDEX(RAM!$C$7:$C$205,B27,1))),"") | E27: {=IFERROR(IF(C27="","",INDEX(RAM!$D$7:$CY$205,B27,SMALL(IF(INDEX(RAM!$D$7:$CY$205,B27,)<>"",COLUMN(RAM!$D$7:$CY$205)-3,""),1))),"")} | F27: {=IFERROR(IF(C27="","",INDEX(RAM!$D$7:$CY$205,B27,SMALL(IF(INDEX(RAM!$D$7:$CY$205,B27,)<>"",COLUMN(RAM!$D$7:$CY$205)-3,""),2))),"")} | G27: {=IFERROR(IF(C27="","",INDEX(RAM!$D$7:$CY$205,B27,SMALL(IF(INDEX(RAM!$D$7:$CY$205,B27,)<>"",COLUMN(RAM!$D$7:$CY$205)-3,""),3))),"")} | H27: {=IFERROR(IF(C27="","",INDEX(RAM!$D$7:$CY$205,B27,SMALL(IF(INDEX(RAM!$D$7:$CY$205,B27,)<>"",COLUMN(RAM!$D$7:$CY$205)-3,""),4))),"")} | I27: {=IFERROR(IF(C27="","",INDEX(RAM!$D$7:$CY$205,B27,SMALL(IF(INDEX(RAM!$D$7:$CY$205,B27,)<>"",COLUMN(RAM!$D$7:$CY$205)-3,""),5))),"")} | J27: =IF(LEN(E27)=0,"-/-",TRIM(E27 & " " &F27& " " & G27 & " " & H27 & " " &I27)) -> -/- | K27: {=IFERROR(IF(C27="","",INDEX(RAM!$D$5:$CY$5,1,SMALL(IF(INDEX(RAM!$D$7:$CY$205,B27,)<>"",COLUMN(RAM!$D$7:$CY$205)-3,""),1))),"")} | L27: {=IFERROR(IF(C27="","",INDEX(RAM!$D$5:$CY$5,1,SMALL(IF(INDEX(RAM!$D$7:$CY$205,B27,)<>"",COLUMN(RAM!$D$7:$CY$205)-3,""),2))),"")} | M27: {=IFERROR(IF(C27="","",INDEX(RAM!$D$5:$CY$5,1,SMALL(IF(INDEX(RAM!$D$7:$CY$205,B27,)<>"",COLUMN(RAM!$D$7:$CY$205)-3,""),3))),"")} | N27: {=IFERROR(IF(C27="","",INDEX(RAM!$D$5:$CY$5,1,SMALL(IF(INDEX(RAM!$D$7:$CY$205,B27,)<>"",COLUMN(RAM!$D$7:$CY$205)-3,""),4))),"")} | O27: {=IFERROR(IF(C27="","",INDEX(RAM!$D$5:$CY$5,1,SMALL(IF(INDEX(RAM!$D$7:$CY$205,B27,)<>"",COLUMN(RAM!$D$7:$CY$205)-3,""),5))),"")} | P27: =IF(LEN(K27)=0,"-/---", IF(K27<>"",K27&", ","")&IF(L27<>"",L27&", ","")&IF(M27<>"",M27&", ","")&IF(N27<>"",N27&", ","")&IF(O27<>"",O27&", ","")) -> -/--- | Q27: =IF(OR($AT$5=1,$AT$5=4,$AT$5=6),D27,IF($AT$5=2,C27&" ",C27& " - "&D27)) -> - | R27: =IF(C27="","", IF(OR($AT$5=4,$AT$5=5),J27&" ",IF(OR($AT$5=6,$AT$5=7),LEFT(P27,LEN(P27)-2),IF($AT$5=8,IF(LEN(E27&K27)=0,"-/-",SUBSTITUTE(E27&"-"&K27&" "&F27&"-"&L27&" "&G27&"-"&M27&" "&H27&"-"&N27&" "&I27&"-"&O27&" ","- ","")),"")))) | S27: =IF(roleF="",1,IF(ISNUMBER(MATCH(roleF,INDEX(RAM!$D$7:$CY$205,B27,),0)),1,0))*IF(personF="",1,IF(INDEX(INDEX(RAM!$D$7:$CY$205,B27,),1,personF)<>"",IF(roleF="",1,IF(ISNUMBER(MATCH(roleF,INDEX(RAM!$D$7:$CY$205,B27,personF),0)),1,0)),0)) -> 1 | T27: =IF(LEN(C27)>0,LEN(C27)-LEN(SUBSTITUTE(C27,".",""))+1,"") | U27: =IF(C27="","",IF(T27=1,2,U26+$U$5)) | V27: =IF(T27="","",2*(T27+X27)) | W27: =U27&" "&V27 | X27: =IF(T27="","",IF(T27=1,Y27+0*(COUNTIF($T$7:T27,1)-1),X26)) | Y27: =IF(C27="","",INDEX($AA$7:$AA$106,IF(T27=1,C27,LEFT(C27,SEARCH(".",C27,1)-1)),1)) | Z27: {=IF(C27="","",MAX(IF(ISNUMBER(SEARCH(" "&B27," "&$C$7:$C$206)),$T$7:$T$206,0)))} | AA27: =IF(OR(Z27=0,Z27=""),"",AA26+Z26) | AC27: =IF($T27<AC$6,"",INDEX(AD$7:AD$206,MATCH(AD27,AE$7:AE$206,0),1)) | AD27: =IF($T27<AD$6,"",INDEX(AE$7:AE$206,MATCH(AE27,AF$7:AF$206,0),1)) | AE27: =IF($T27<AE$6,"",INDEX(AF$7:AF$206,MATCH(AF27,AG$7:AG$206,0),1)) | AF27: =IF($T27<AF$6,"",INDEX(AG$7:AG$206,MATCH(AG27,AH$7:AH$206,0),1)) | AG27: =IF($T27<AG$6,"",INDEX(AH$7:AH$206,MATCH(AH27,AI$7:AI$206,0),1)) | AH27: =IF($T27<AH$6,"",INDEX(AI$7:AI$206,MATCH(AI27,AJ$7:AJ$206,0),1)) | AI27: =IF($T27<AI$6,"",INDEX(AJ$7:AJ$206,MATCH(AJ27,AK$7:AK$206,0),1)) | AJ27: =IFERROR(IF(C27<>"",IF(AN27=1,AM27+1,LEFT(AM27,SEARCH(";",SUBSTITUTE(AM27,".",";",AN27-1),1))& RIGHT(AM27,LEN(AM27)-SEARCH(";",SUBSTITUTE(AM27,".",";",AN27-1),1)) +1 ),""),"") | AK27: =IFERROR(IF(C27<>"",IF(T27=1,C27+1,LEFT(C27,SEARCH(";",SUBSTITUTE(C27,".",";",T27-1),1))& RIGHT(C27,LEN(C27)-SEARCH(";",SUBSTITUTE(C27,".",";",T27-1),1)) +1 ),""),"") | AL27: =IFERROR(IF(C27<>"",C27 &".1",""),"") | AM27: =IFERROR(LEFT(C27,SEARCH(";",SUBSTITUTE(C27,".",";",T27-1),1)-1),"") | AN27: =IFERROR(T27-1,"") | AS27: =TRIM(Settings!G9) -> V | AW27: =Settings!C27 -> 0
B28: 22 | C28: {=IFERROR(IF(INDEX(RAM!$B$7:$B$205,B28,1)=0,"",INDEX(RAM!$B$7:$B$205,B28,1)),"")} | D28: =IFERROR(IF(C28="","",IF(INDEX(RAM!$C$7:$C$205,B28,1)="","-/-",INDEX(RAM!$C$7:$C$205,B28,1))),"") | E28: {=IFERROR(IF(C28="","",INDEX(RAM!$D$7:$CY$205,B28,SMALL(IF(INDEX(RAM!$D$7:$CY$205,B28,)<>"",COLUMN(RAM!$D$7:$CY$205)-3,""),1))),"")} | F28: {=IFERROR(IF(C28="","",INDEX(RAM!$D$7:$CY$205,B28,SMALL(IF(INDEX(RAM!$D$7:$CY$205,B28,)<>"",COLUMN(RAM!$D$7:$CY$205)-3,""),2))),"")} | G28: {=IFERROR(IF(C28="","",INDEX(RAM!$D$7:$CY$205,B28,SMALL(IF(INDEX(RAM!$D$7:$CY$205,B28,)<>"",COLUMN(RAM!$D$7:$CY$205)-3,""),3))),"")} | H28: {=IFERROR(IF(C28="","",INDEX(RAM!$D$7:$CY$205,B28,SMALL(IF(INDEX(RAM!$D$7:$CY$205,B28,)<>"",COLUMN(RAM!$D$7:$CY$205)-3,""),4))),"")} | I28: {=IFERROR(IF(C28="","",INDEX(RAM!$D$7:$CY$205,B28,SMALL(IF(INDEX(RAM!$D$7:$CY$205,B28,)<>"",COLUMN(RAM!$D$7:$CY$205)-3,""),5))),"")} | J28: =IF(LEN(E28)=0,"-/-",TRIM(E28 & " " &F28& " " & G28 & " " & H28 & " " &I28)) -> -/- | K28: {=IFERROR(IF(C28="","",INDEX(RAM!$D$5:$CY$5,1,SMALL(IF(INDEX(RAM!$D$7:$CY$205,B28,)<>"",COLUMN(RAM!$D$7:$CY$205)-3,""),1))),"")} | L28: {=IFERROR(IF(C28="","",INDEX(RAM!$D$5:$CY$5,1,SMALL(IF(INDEX(RAM!$D$7:$CY$205,B28,)<>"",COLUMN(RAM!$D$7:$CY$205)-3,""),2))),"")} | M28: {=IFERROR(IF(C28="","",INDEX(RAM!$D$5:$CY$5,1,SMALL(IF(INDEX(RAM!$D$7:$CY$205,B28,)<>"",COLUMN(RAM!$D$7:$CY$205)-3,""),3))),"")} | N28: {=IFERROR(IF(C28="","",INDEX(RAM!$D$5:$CY$5,1,SMALL(IF(INDEX(RAM!$D$7:$CY$205,B28,)<>"",COLUMN(RAM!$D$7:$CY$205)-3,""),4))),"")} | O28: {=IFERROR(IF(C28="","",INDEX(RAM!$D$5:$CY$5,1,SMALL(IF(INDEX(RAM!$D$7:$CY$205,B28,)<>"",COLUMN(RAM!$D$7:$CY$205)-3,""),5))),"")} | P28: =IF(LEN(K28)=0,"-/---", IF(K28<>"",K28&", ","")&IF(L28<>"",L28&", ","")&IF(M28<>"",M28&", ","")&IF(N28<>"",N28&", ","")&IF(O28<>"",O28&", ","")) -> -/--- | Q28: =IF(OR($AT$5=1,$AT$5=4,$AT$5=6),D28,IF($AT$5=2,C28&" ",C28& " - "&D28)) -> - | R28: =IF(C28="","", IF(OR($AT$5=4,$AT$5=5),J28&" ",IF(OR($AT$5=6,$AT$5=7),LEFT(P28,LEN(P28)-2),IF($AT$5=8,IF(LEN(E28&K28)=0,"-/-",SUBSTITUTE(E28&"-"&K28&" "&F28&"-"&L28&" "&G28&"-"&M28&" "&H28&"-"&N28&" "&I28&"-"&O28&" ","- ","")),"")))) | S28: =IF(roleF="",1,IF(ISNUMBER(MATCH(roleF,INDEX(RAM!$D$7:$CY$205,B28,),0)),1,0))*IF(personF="",1,IF(INDEX(INDEX(RAM!$D$7:$CY$205,B28,),1,personF)<>"",IF(roleF="",1,IF(ISNUMBER(MATCH(roleF,INDEX(RAM!$D$7:$CY$205,B28,personF),0)),1,0)),0)) -> 1 | T28: =IF(LEN(C28)>0,LEN(C28)-LEN(SUBSTITUTE(C28,".",""))+1,"") | U28: =IF(C28="","",IF(T28=1,2,U27+$U$5)) | V28: =IF(T28="","",2*(T28+X28)) | W28: =U28&" "&V28 | X28: =IF(T28="","",IF(T28=1,Y28+0*(COUNTIF($T$7:T28,1)-1),X27)) | Y28: =IF(C28="","",INDEX($AA$7:$AA$106,IF(T28=1,C28,LEFT(C28,SEARCH(".",C28,1)-1)),1)) | Z28: {=IF(C28="","",MAX(IF(ISNUMBER(SEARCH(" "&B28," "&$C$7:$C$206)),$T$7:$T$206,0)))} | AA28: =IF(OR(Z28=0,Z28=""),"",AA27+Z27) | AC28: =IF($T28<AC$6,"",INDEX(AD$7:AD$206,MATCH(AD28,AE$7:AE$206,0),1)) | AD28: =IF($T28<AD$6,"",INDEX(AE$7:AE$206,MATCH(AE28,AF$7:AF$206,0),1)) | AE28: =IF($T28<AE$6,"",INDEX(AF$7:AF$206,MATCH(AF28,AG$7:AG$206,0),1)) | AF28: =IF($T28<AF$6,"",INDEX(AG$7:AG$206,MATCH(AG28,AH$7:AH$206,0),1)) | AG28: =IF($T28<AG$6,"",INDEX(AH$7:AH$206,MATCH(AH28,AI$7:AI$206,0),1)) | AH28: =IF($T28<AH$6,"",INDEX(AI$7:AI$206,MATCH(AI28,AJ$7:AJ$206,0),1)) | AI28: =IF($T28<AI$6,"",INDEX(AJ$7:AJ$206,MATCH(AJ28,AK$7:AK$206,0),1)) | AJ28: =IFERROR(IF(C28<>"",IF(AN28=1,AM28+1,LEFT(AM28,SEARCH(";",SUBSTITUTE(AM28,".",";",AN28-1),1))& RIGHT(AM28,LEN(AM28)-SEARCH(";",SUBSTITUTE(AM28,".",";",AN28-1),1)) +1 ),""),"") | AK28: =IFERROR(IF(C28<>"",IF(T28=1,C28+1,LEFT(C28,SEARCH(";",SUBSTITUTE(C28,".",";",T28-1),1))& RIGHT(C28,LEN(C28)-SEARCH(";",SUBSTITUTE(C28,".",";",T28-1),1)) +1 ),""),"") | AL28: =IFERROR(IF(C28<>"",C28 &".1",""),"") | AM28: =IFERROR(LEFT(C28,SEARCH(";",SUBSTITUTE(C28,".",";",T28-1),1)-1),"") | AN28: =IFERROR(T28-1,"") | AS28: =TRIM(Settings!G10) -> O | AW28: =Settings!C28 -> 0
B29: 23 | C29: {=IFERROR(IF(INDEX(RAM!$B$7:$B$205,B29,1)=0,"",INDEX(RAM!$B$7:$B$205,B29,1)),"")} | D29: =IFERROR(IF(C29="","",IF(INDEX(RAM!$C$7:$C$205,B29,1)="","-/-",INDEX(RAM!$C$7:$C$205,B29,1))),"") | E29: {=IFERROR(IF(C29="","",INDEX(RAM!$D$7:$CY$205,B29,SMALL(IF(INDEX(RAM!$D$7:$CY$205,B29,)<>"",COLUMN(RAM!$D$7:$CY$205)-3,""),1))),"")} | F29: {=IFERROR(IF(C29="","",INDEX(RAM!$D$7:$CY$205,B29,SMALL(IF(INDEX(RAM!$D$7:$CY$205,B29,)<>"",COLUMN(RAM!$D$7:$CY$205)-3,""),2))),"")} | G29: {=IFERROR(IF(C29="","",INDEX(RAM!$D$7:$CY$205,B29,SMALL(IF(INDEX(RAM!$D$7:$CY$205,B29,)<>"",COLUMN(RAM!$D$7:$CY$205)-3,""),3))),"")} | H29: {=IFERROR(IF(C29="","",INDEX(RAM!$D$7:$CY$205,B29,SMALL(IF(INDEX(RAM!$D$7:$CY$205,B29,)<>"",COLUMN(RAM!$D$7:$CY$205)-3,""),4))),"")} | I29: {=IFERROR(IF(C29="","",INDEX(RAM!$D$7:$CY$205,B29,SMALL(IF(INDEX(RAM!$D$7:$CY$205,B29,)<>"",COLUMN(RAM!$D$7:$CY$205)-3,""),5))),"")} | J29: =IF(LEN(E29)=0,"-/-",TRIM(E29 & " " &F29& " " & G29 & " " & H29 & " " &I29)) -> -/- | K29: {=IFERROR(IF(C29="","",INDEX(RAM!$D$5:$CY$5,1,SMALL(IF(INDEX(RAM!$D$7:$CY$205,B29,)<>"",COLUMN(RAM!$D$7:$CY$205)-3,""),1))),"")} | L29: {=IFERROR(IF(C29="","",INDEX(RAM!$D$5:$CY$5,1,SMALL(IF(INDEX(RAM!$D$7:$CY$205,B29,)<>"",COLUMN(RAM!$D$7:$CY$205)-3,""),2))),"")} | M29: {=IFERROR(IF(C29="","",INDEX(RAM!$D$5:$CY$5,1,SMALL(IF(INDEX(RAM!$D$7:$CY$205,B29,)<>"",COLUMN(RAM!$D$7:$CY$205)-3,""),3))),"")} | N29: {=IFERROR(IF(C29="","",INDEX(RAM!$D$5:$CY$5,1,SMALL(IF(INDEX(RAM!$D$7:$CY$205,B29,)<>"",COLUMN(RAM!$D$7:$CY$205)-3,""),4))),"")} | O29: {=IFERROR(IF(C29="","",INDEX(RAM!$D$5:$CY$5,1,SMALL(IF(INDEX(RAM!$D$7:$CY$205,B29,)<>"",COLUMN(RAM!$D$7:$CY$205)-3,""),5))),"")} | P29: =IF(LEN(K29)=0,"-/---", IF(K29<>"",K29&", ","")&IF(L29<>"",L29&", ","")&IF(M29<>"",M29&", ","")&IF(N29<>"",N29&", ","")&IF(O29<>"",O29&", ","")) -> -/--- | Q29: =IF(OR($AT$5=1,$AT$5=4,$AT$5=6),D29,IF($AT$5=2,C29&" ",C29& " - "&D29)) -> - | R29: =IF(C29="","", IF(OR($AT$5=4,$AT$5=5),J29&" ",IF(OR($AT$5=6,$AT$5=7),LEFT(P29,LEN(P29)-2),IF($AT$5=8,IF(LEN(E29&K29)=0,"-/-",SUBSTITUTE(E29&"-"&K29&" "&F29&"-"&L29&" "&G29&"-"&M29&" "&H29&"-"&N29&" "&I29&"-"&O29&" ","- ","")),"")))) | S29: =IF(roleF="",1,IF(ISNUMBER(MATCH(roleF,INDEX(RAM!$D$7:$CY$205,B29,),0)),1,0))*IF(personF="",1,IF(INDEX(INDEX(RAM!$D$7:$CY$205,B29,),1,personF)<>"",IF(roleF="",1,IF(ISNUMBER(MATCH(roleF,INDEX(RAM!$D$7:$CY$205,B29,personF),0)),1,0)),0)) -> 1 | T29: =IF(LEN(C29)>0,LEN(C29)-LEN(SUBSTITUTE(C29,".",""))+1,"") | U29: =IF(C29="","",IF(T29=1,2,U28+$U$5)) | V29: =IF(T29="","",2*(T29+X29)) | W29: =U29&" "&V29 | X29: =IF(T29="","",IF(T29=1,Y29+0*(COUNTIF($T$7:T29,1)-1),X28)) | Y29: =IF(C29="","",INDEX($AA$7:$AA$106,IF(T29=1,C29,LEFT(C29,SEARCH(".",C29,1)-1)),1)) | Z29: {=IF(C29="","",MAX(IF(ISNUMBER(SEARCH(" "&B29," "&$C$7:$C$206)),$T$7:$T$206,0)))} | AA29: =IF(OR(Z29=0,Z29=""),"",AA28+Z28) | AC29: =IF($T29<AC$6,"",INDEX(AD$7:AD$206,MATCH(AD29,AE$7:AE$206,0),1)) | AD29: =IF($T29<AD$6,"",INDEX(AE$7:AE$206,MATCH(AE29,AF$7:AF$206,0),1)) | AE29: =IF($T29<AE$6,"",INDEX(AF$7:AF$206,MATCH(AF29,AG$7:AG$206,0),1)) | AF29: =IF($T29<AF$6,"",INDEX(AG$7:AG$206,MATCH(AG29,AH$7:AH$206,0),1)) | AG29: =IF($T29<AG$6,"",INDEX(AH$7:AH$206,MATCH(AH29,AI$7:AI$206,0),1)) | AH29: =IF($T29<AH$6,"",INDEX(AI$7:AI$206,MATCH(AI29,AJ$7:AJ$206,0),1)) | AI29: =IF($T29<AI$6,"",INDEX(AJ$7:AJ$206,MATCH(AJ29,AK$7:AK$206,0),1)) | AJ29: =IFERROR(IF(C29<>"",IF(AN29=1,AM29+1,LEFT(AM29,SEARCH(";",SUBSTITUTE(AM29,".",";",AN29-1),1))& RIGHT(AM29,LEN(AM29)-SEARCH(";",SUBSTITUTE(AM29,".",";",AN29-1),1)) +1 ),""),"") | AK29: =IFERROR(IF(C29<>"",IF(T29=1,C29+1,LEFT(C29,SEARCH(";",SUBSTITUTE(C29,".",";",T29-1),1))& RIGHT(C29,LEN(C29)-SEARCH(";",SUBSTITUTE(C29,".",";",T29-1),1)) +1 ),""),"") | AL29: =IFERROR(IF(C29<>"",C29 &".1",""),"") | AM29: =IFERROR(LEFT(C29,SEARCH(";",SUBSTITUTE(C29,".",";",T29-1),1)-1),"") | AN29: =IFERROR(T29-1,"") | AS29: =TRIM(Settings!G11) | AW29: =Settings!C29 -> 0
B30: 24 | C30: {=IFERROR(IF(INDEX(RAM!$B$7:$B$205,B30,1)=0,"",INDEX(RAM!$B$7:$B$205,B30,1)),"")} | D30: =IFERROR(IF(C30="","",IF(INDEX(RAM!$C$7:$C$205,B30,1)="","-/-",INDEX(RAM!$C$7:$C$205,B30,1))),"") | E30: {=IFERROR(IF(C30="","",INDEX(RAM!$D$7:$CY$205,B30,SMALL(IF(INDEX(RAM!$D$7:$CY$205,B30,)<>"",COLUMN(RAM!$D$7:$CY$205)-3,""),1))),"")} | F30: {=IFERROR(IF(C30="","",INDEX(RAM!$D$7:$CY$205,B30,SMALL(IF(INDEX(RAM!$D$7:$CY$205,B30,)<>"",COLUMN(RAM!$D$7:$CY$205)-3,""),2))),"")} | G30: {=IFERROR(IF(C30="","",INDEX(RAM!$D$7:$CY$205,B30,SMALL(IF(INDEX(RAM!$D$7:$CY$205,B30,)<>"",COLUMN(RAM!$D$7:$CY$205)-3,""),3))),"")} | H30: {=IFERROR(IF(C30="","",INDEX(RAM!$D$7:$CY$205,B30,SMALL(IF(INDEX(RAM!$D$7:$CY$205,B30,)<>"",COLUMN(RAM!$D$7:$CY$205)-3,""),4))),"")} | I30: {=IFERROR(IF(C30="","",INDEX(RAM!$D$7:$CY$205,B30,SMALL(IF(INDEX(RAM!$D$7:$CY$205,B30,)<>"",COLUMN(RAM!$D$7:$CY$205)-3,""),5))),"")} | J30: =IF(LEN(E30)=0,"-/-",TRIM(E30 & " " &F30& " " & G30 & " " & H30 & " " &I30)) -> -/- | K30: {=IFERROR(IF(C30="","",INDEX(RAM!$D$5:$CY$5,1,SMALL(IF(INDEX(RAM!$D$7:$CY$205,B30,)<>"",COLUMN(RAM!$D$7:$CY$205)-3,""),1))),"")} | L30: {=IFERROR(IF(C30="","",INDEX(RAM!$D$5:$CY$5,1,SMALL(IF(INDEX(RAM!$D$7:$CY$205,B30,)<>"",COLUMN(RAM!$D$7:$CY$205)-3,""),2))),"")} | M30: {=IFERROR(IF(C30="","",INDEX(RAM!$D$5:$CY$5,1,SMALL(IF(INDEX(RAM!$D$7:$CY$205,B30,)<>"",COLUMN(RAM!$D$7:$CY$205)-3,""),3))),"")} | N30: {=IFERROR(IF(C30="","",INDEX(RAM!$D$5:$CY$5,1,SMALL(IF(INDEX(RAM!$D$7:$CY$205,B30,)<>"",COLUMN(RAM!$D$7:$CY$205)-3,""),4))),"")} | O30: {=IFERROR(IF(C30="","",INDEX(RAM!$D$5:$CY$5,1,SMALL(IF(INDEX(RAM!$D$7:$CY$205,B30,)<>"",COLUMN(RAM!$D$7:$CY$205)-3,""),5))),"")} | P30: =IF(LEN(K30)=0,"-/---", IF(K30<>"",K30&", ","")&IF(L30<>"",L30&", ","")&IF(M30<>"",M30&", ","")&IF(N30<>"",N30&", ","")&IF(O30<>"",O30&", ","")) -> -/--- | Q30: =IF(OR($AT$5=1,$AT$5=4,$AT$5=6),D30,IF($AT$5=2,C30&" ",C30& " - "&D30)) -> - | R30: =IF(C30="","", IF(OR($AT$5=4,$AT$5=5),J30&" ",IF(OR($AT$5=6,$AT$5=7),LEFT(P30,LEN(P30)-2),IF($AT$5=8,IF(LEN(E30&K30)=0,"-/-",SUBSTITUTE(E30&"-"&K30&" "&F30&"-"&L30&" "&G30&"-"&M30&" "&H30&"-"&N30&" "&I30&"-"&O30&" ","- ","")),"")))) | S30: =IF(roleF="",1,IF(ISNUMBER(MATCH(roleF,INDEX(RAM!$D$7:$CY$205,B30,),0)),1,0))*IF(personF="",1,IF(INDEX(INDEX(RAM!$D$7:$CY$205,B30,),1,personF)<>"",IF(roleF="",1,IF(ISNUMBER(MATCH(roleF,INDEX(RAM!$D$7:$CY$205,B30,personF),0)),1,0)),0)) -> 1 | T30: =IF(LEN(C30)>0,LEN(C30)-LEN(SUBSTITUTE(C30,".",""))+1,"") | U30: =IF(C30="","",IF(T30=1,2,U29+$U$5)) | V30: =IF(T30="","",2*(T30+X30)) | W30: =U30&" "&V30 | X30: =IF(T30="","",IF(T30=1,Y30+0*(COUNTIF($T$7:T30,1)-1),X29)) | Y30: =IF(C30="","",INDEX($AA$7:$AA$106,IF(T30=1,C30,LEFT(C30,SEARCH(".",C30,1)-1)),1)) | Z30: {=IF(C30="","",MAX(IF(ISNUMBER(SEARCH(" "&B30," "&$C$7:$C$206)),$T$7:$T$206,0)))} | AA30: =IF(OR(Z30=0,Z30=""),"",AA29+Z29) | AC30: =IF($T30<AC$6,"",INDEX(AD$7:AD$206,MATCH(AD30,AE$7:AE$206,0),1)) | AD30: =IF($T30<AD$6,"",INDEX(AE$7:AE$206,MATCH(AE30,AF$7:AF$206,0),1)) | AE30: =IF($T30<AE$6,"",INDEX(AF$7:AF$206,MATCH(AF30,AG$7:AG$206,0),1)) | AF30: =IF($T30<AF$6,"",INDEX(AG$7:AG$206,MATCH(AG30,AH$7:AH$206,0),1)) | AG30: =IF($T30<AG$6,"",INDEX(AH$7:AH$206,MATCH(AH30,AI$7:AI$206,0),1)) | AH30: =IF($T30<AH$6,"",INDEX(AI$7:AI$206,MATCH(AI30,AJ$7:AJ$206,0),1)) | AI30: =IF($T30<AI$6,"",INDEX(AJ$7:AJ$206,MATCH(AJ30,AK$7:AK$206,0),1)) | AJ30: =IFERROR(IF(C30<>"",IF(AN30=1,AM30+1,LEFT(AM30,SEARCH(";",SUBSTITUTE(AM30,".",";",AN30-1),1))& RIGHT(AM30,LEN(AM30)-SEARCH(";",SUBSTITUTE(AM30,".",";",AN30-1),1)) +1 ),""),"") | AK30: =IFERROR(IF(C30<>"",IF(T30=1,C30+1,LEFT(C30,SEARCH(";",SUBSTITUTE(C30,".",";",T30-1),1))& RIGHT(C30,LEN(C30)-SEARCH(";",SUBSTITUTE(C30,".",";",T30-1),1)) +1 ),""),"") | AL30: =IFERROR(IF(C30<>"",C30 &".1",""),"") | AM30: =IFERROR(LEFT(C30,SEARCH(";",SUBSTITUTE(C30,".",";",T30-1),1)-1),"") | AN30: =IFERROR(T30-1,"") | AS30: =TRIM(Settings!G12) | AW30: =Settings!C30 -> 0
B31: 25 | C31: {=IFERROR(IF(INDEX(RAM!$B$7:$B$205,B31,1)=0,"",INDEX(RAM!$B$7:$B$205,B31,1)),"")} | D31: =IFERROR(IF(C31="","",IF(INDEX(RAM!$C$7:$C$205,B31,1)="","-/-",INDEX(RAM!$C$7:$C$205,B31,1))),"") | E31: {=IFERROR(IF(C31="","",INDEX(RAM!$D$7:$CY$205,B31,SMALL(IF(INDEX(RAM!$D$7:$CY$205,B31,)<>"",COLUMN(RAM!$D$7:$CY$205)-3,""),1))),"")} | F31: {=IFERROR(IF(C31="","",INDEX(RAM!$D$7:$CY$205,B31,SMALL(IF(INDEX(RAM!$D$7:$CY$205,B31,)<>"",COLUMN(RAM!$D$7:$CY$205)-3,""),2))),"")} | G31: {=IFERROR(IF(C31="","",INDEX(RAM!$D$7:$CY$205,B31,SMALL(IF(INDEX(RAM!$D$7:$CY$205,B31,)<>"",COLUMN(RAM!$D$7:$CY$205)-3,""),3))),"")} | H31: {=IFERROR(IF(C31="","",INDEX(RAM!$D$7:$CY$205,B31,SMALL(IF(INDEX(RAM!$D$7:$CY$205,B31,)<>"",COLUMN(RAM!$D$7:$CY$205)-3,""),4))),"")} | I31: {=IFERROR(IF(C31="","",INDEX(RAM!$D$7:$CY$205,B31,SMALL(IF(INDEX(RAM!$D$7:$CY$205,B31,)<>"",COLUMN(RAM!$D$7:$CY$205)-3,""),5))),"")} | J31: =IF(LEN(E31)=0,"-/-",TRIM(E31 & " " &F31& " " & G31 & " " & H31 & " " &I31)) -> -/- | K31: {=IFERROR(IF(C31="","",INDEX(RAM!$D$5:$CY$5,1,SMALL(IF(INDEX(RAM!$D$7:$CY$205,B31,)<>"",COLUMN(RAM!$D$7:$CY$205)-3,""),1))),"")} | L31: {=IFERROR(IF(C31="","",INDEX(RAM!$D$5:$CY$5,1,SMALL(IF(INDEX(RAM!$D$7:$CY$205,B31,)<>"",COLUMN(RAM!$D$7:$CY$205)-3,""),2))),"")} | M31: {=IFERROR(IF(C31="","",INDEX(RAM!$D$5:$CY$5,1,SMALL(IF(INDEX(RAM!$D$7:$CY$205,B31,)<>"",COLUMN(RAM!$D$7:$CY$205)-3,""),3))),"")} | N31: {=IFERROR(IF(C31="","",INDEX(RAM!$D$5:$CY$5,1,SMALL(IF(INDEX(RAM!$D$7:$CY$205,B31,)<>"",COLUMN(RAM!$D$7:$CY$205)-3,""),4))),"")} | O31: {=IFERROR(IF(C31="","",INDEX(RAM!$D$5:$CY$5,1,SMALL(IF(INDEX(RAM!$D$7:$CY$205,B31,)<>"",COLUMN(RAM!$D$7:$CY$205)-3,""),5))),"")} | P31: =IF(LEN(K31)=0,"-/---", IF(K31<>"",K31&", ","")&IF(L31<>"",L31&", ","")&IF(M31<>"",M31&", ","")&IF(N31<>"",N31&", ","")&IF(O31<>"",O31&", ","")) -> -/--- | Q31: =IF(OR($AT$5=1,$AT$5=4,$AT$5=6),D31,IF($AT$5=2,C31&" ",C31& " - "&D31)) -> - | R31: =IF(C31="","", IF(OR($AT$5=4,$AT$5=5),J31&" ",IF(OR($AT$5=6,$AT$5=7),LEFT(P31,LEN(P31)-2),IF($AT$5=8,IF(LEN(E31&K31)=0,"-/-",SUBSTITUTE(E31&"-"&K31&" "&F31&"-"&L31&" "&G31&"-"&M31&" "&H31&"-"&N31&" "&I31&"-"&O31&" ","- ","")),"")))) | S31: =IF(roleF="",1,IF(ISNUMBER(MATCH(roleF,INDEX(RAM!$D$7:$CY$205,B31,),0)),1,0))*IF(personF="",1,IF(INDEX(INDEX(RAM!$D$7:$CY$205,B31,),1,personF)<>"",IF(roleF="",1,IF(ISNUMBER(MATCH(roleF,INDEX(RAM!$D$7:$CY$205,B31,personF),0)),1,0)),0)) -> 1 | T31: =IF(LEN(C31)>0,LEN(C31)-LEN(SUBSTITUTE(C31,".",""))+1,"") | U31: =IF(C31="","",IF(T31=1,2,U30+$U$5)) | V31: =IF(T31="","",2*(T31+X31)) | W31: =U31&" "&V31 | X31: =IF(T31="","",IF(T31=1,Y31+0*(COUNTIF($T$7:T31,1)-1),X30)) | Y31: =IF(C31="","",INDEX($AA$7:$AA$106,IF(T31=1,C31,LEFT(C31,SEARCH(".",C31,1)-1)),1)) | Z31: {=IF(C31="","",MAX(IF(ISNUMBER(SEARCH(" "&B31," "&$C$7:$C$206)),$T$7:$T$206,0)))} | AA31: =IF(OR(Z31=0,Z31=""),"",AA30+Z30) | AC31: =IF($T31<AC$6,"",INDEX(AD$7:AD$206,MATCH(AD31,AE$7:AE$206,0),1)) | AD31: =IF($T31<AD$6,"",INDEX(AE$7:AE$206,MATCH(AE31,AF$7:AF$206,0),1)) | AE31: =IF($T31<AE$6,"",INDEX(AF$7:AF$206,MATCH(AF31,AG$7:AG$206,0),1)) | AF31: =IF($T31<AF$6,"",INDEX(AG$7:AG$206,MATCH(AG31,AH$7:AH$206,0),1)) | AG31: =IF($T31<AG$6,"",INDEX(AH$7:AH$206,MATCH(AH31,AI$7:AI$206,0),1)) | AH31: =IF($T31<AH$6,"",INDEX(AI$7:AI$206,MATCH(AI31,AJ$7:AJ$206,0),1)) | AI31: =IF($T31<AI$6,"",INDEX(AJ$7:AJ$206,MATCH(AJ31,AK$7:AK$206,0),1)) | AJ31: =IFERROR(IF(C31<>"",IF(AN31=1,AM31+1,LEFT(AM31,SEARCH(";",SUBSTITUTE(AM31,".",";",AN31-1),1))& RIGHT(AM31,LEN(AM31)-SEARCH(";",SUBSTITUTE(AM31,".",";",AN31-1),1)) +1 ),""),"") | AK31: =IFERROR(IF(C31<>"",IF(T31=1,C31+1,LEFT(C31,SEARCH(";",SUBSTITUTE(C31,".",";",T31-1),1))& RIGHT(C31,LEN(C31)-SEARCH(";",SUBSTITUTE(C31,".",";",T31-1),1)) +1 ),""),"") | AL31: =IFERROR(IF(C31<>"",C31 &".1",""),"") | AM31: =IFERROR(LEFT(C31,SEARCH(";",SUBSTITUTE(C31,".",";",T31-1),1)-1),"") | AN31: =IFERROR(T31-1,"") | AS31: =TRIM(Settings!G13) | AW31: =Settings!C31 -> 0
B32: 26 | C32: {=IFERROR(IF(INDEX(RAM!$B$7:$B$205,B32,1)=0,"",INDEX(RAM!$B$7:$B$205,B32,1)),"")} | D32: =IFERROR(IF(C32="","",IF(INDEX(RAM!$C$7:$C$205,B32,1)="","-/-",INDEX(RAM!$C$7:$C$205,B32,1))),"") | E32: {=IFERROR(IF(C32="","",INDEX(RAM!$D$7:$CY$205,B32,SMALL(IF(INDEX(RAM!$D$7:$CY$205,B32,)<>"",COLUMN(RAM!$D$7:$CY$205)-3,""),1))),"")} | F32: {=IFERROR(IF(C32="","",INDEX(RAM!$D$7:$CY$205,B32,SMALL(IF(INDEX(RAM!$D$7:$CY$205,B32,)<>"",COLUMN(RAM!$D$7:$CY$205)-3,""),2))),"")} | G32: {=IFERROR(IF(C32="","",INDEX(RAM!$D$7:$CY$205,B32,SMALL(IF(INDEX(RAM!$D$7:$CY$205,B32,)<>"",COLUMN(RAM!$D$7:$CY$205)-3,""),3))),"")} | H32: {=IFERROR(IF(C32="","",INDEX(RAM!$D$7:$CY$205,B32,SMALL(IF(INDEX(RAM!$D$7:$CY$205,B32,)<>"",COLUMN(RAM!$D$7:$CY$205)-3,""),4))),"")} | I32: {=IFERROR(IF(C32="","",INDEX(RAM!$D$7:$CY$205,B32,SMALL(IF(INDEX(RAM!$D$7:$CY$205,B32,)<>"",COLUMN(RAM!$D$7:$CY$205)-3,""),5))),"")} | J32: =IF(LEN(E32)=0,"-/-",TRIM(E32 & " " &F32& " " & G32 & " " & H32 & " " &I32)) -> -/- | K32: {=IFERROR(IF(C32="","",INDEX(RAM!$D$5:$CY$5,1,SMALL(IF(INDEX(RAM!$D$7:$CY$205,B32,)<>"",COLUMN(RAM!$D$7:$CY$205)-3,""),1))),"")} | L32: {=IFERROR(IF(C32="","",INDEX(RAM!$D$5:$CY$5,1,SMALL(IF(INDEX(RAM!$D$7:$CY$205,B32,)<>"",COLUMN(RAM!$D$7:$CY$205)-3,""),2))),"")} | M32: {=IFERROR(IF(C32="","",INDEX(RAM!$D$5:$CY$5,1,SMALL(IF(INDEX(RAM!$D$7:$CY$205,B32,)<>"",COLUMN(RAM!$D$7:$CY$205)-3,""),3))),"")} | N32: {=IFERROR(IF(C32="","",INDEX(RAM!$D$5:$CY$5,1,SMALL(IF(INDEX(RAM!$D$7:$CY$205,B32,)<>"",COLUMN(RAM!$D$7:$CY$205)-3,""),4))),"")} | O32: {=IFERROR(IF(C32="","",INDEX(RAM!$D$5:$CY$5,1,SMALL(IF(INDEX(RAM!$D$7:$CY$205,B32,)<>"",COLUMN(RAM!$D$7:$CY$205)-3,""),5))),"")} | P32: =IF(LEN(K32)=0,"-/---", IF(K32<>"",K32&", ","")&IF(L32<>"",L32&", ","")&IF(M32<>"",M32&", ","")&IF(N32<>"",N32&", ","")&IF(O32<>"",O32&", ","")) -> -/--- | Q32: =IF(OR($AT$5=1,$AT$5=4,$AT$5=6),D32,IF($AT$5=2,C32&" ",C32& " - "&D32)) -> - | R32: =IF(C32="","", IF(OR($AT$5=4,$AT$5=5),J32&" ",IF(OR($AT$5=6,$AT$5=7),LEFT(P32,LEN(P32)-2),IF($AT$5=8,IF(LEN(E32&K32)=0,"-/-",SUBSTITUTE(E32&"-"&K32&" "&F32&"-"&L32&" "&G32&"-"&M32&" "&H32&"-"&N32&" "&I32&"-"&O32&" ","- ","")),"")))) | S32: =IF(roleF="",1,IF(ISNUMBER(MATCH(roleF,INDEX(RAM!$D$7:$CY$205,B32,),0)),1,0))*IF(personF="",1,IF(INDEX(INDEX(RAM!$D$7:$CY$205,B32,),1,personF)<>"",IF(roleF="",1,IF(ISNUMBER(MATCH(roleF,INDEX(RAM!$D$7:$CY$205,B32,personF),0)),1,0)),0)) -> 1 | T32: =IF(LEN(C32)>0,LEN(C32)-LEN(SUBSTITUTE(C32,".",""))+1,"") | U32: =IF(C32="","",IF(T32=1,2,U31+$U$5)) | V32: =IF(T32="","",2*(T32+X32)) | W32: =U32&" "&V32 | X32: =IF(T32="","",IF(T32=1,Y32+0*(COUNTIF($T$7:T32,1)-1),X31)) | Y32: =IF(C32="","",INDEX($AA$7:$AA$106,IF(T32=1,C32,LEFT(C32,SEARCH(".",C32,1)-1)),1)) | Z32: {=IF(C32="","",MAX(IF(ISNUMBER(SEARCH(" "&B32," "&$C$7:$C$206)),$T$7:$T$206,0)))} | AA32: =IF(OR(Z32=0,Z32=""),"",AA31+Z31) | AC32: =IF($T32<AC$6,"",INDEX(AD$7:AD$206,MATCH(AD32,AE$7:AE$206,0),1)) | AD32: =IF($T32<AD$6,"",INDEX(AE$7:AE$206,MATCH(AE32,AF$7:AF$206,0),1)) | AE32: =IF($T32<AE$6,"",INDEX(AF$7:AF$206,MATCH(AF32,AG$7:AG$206,0),1)) | AF32: =IF($T32<AF$6,"",INDEX(AG$7:AG$206,MATCH(AG32,AH$7:AH$206,0),1)) | AG32: =IF($T32<AG$6,"",INDEX(AH$7:AH$206,MATCH(AH32,AI$7:AI$206,0),1)) | AH32: =IF($T32<AH$6,"",INDEX(AI$7:AI$206,MATCH(AI32,AJ$7:AJ$206,0),1)) | AI32: =IF($T32<AI$6,"",INDEX(AJ$7:AJ$206,MATCH(AJ32,AK$7:AK$206,0),1)) | AJ32: =IFERROR(IF(C32<>"",IF(AN32=1,AM32+1,LEFT(AM32,SEARCH(";",SUBSTITUTE(AM32,".",";",AN32-1),1))& RIGHT(AM32,LEN(AM32)-SEARCH(";",SUBSTITUTE(AM32,".",";",AN32-1),1)) +1 ),""),"") | AK32: =IFERROR(IF(C32<>"",IF(T32=1,C32+1,LEFT(C32,SEARCH(";",SUBSTITUTE(C32,".",";",T32-1),1))& RIGHT(C32,LEN(C32)-SEARCH(";",SUBSTITUTE(C32,".",";",T32-1),1)) +1 ),""),"") | AL32: =IFERROR(IF(C32<>"",C32 &".1",""),"") | AM32: =IFERROR(LEFT(C32,SEARCH(";",SUBSTITUTE(C32,".",";",T32-1),1)-1),"") | AN32: =IFERROR(T32-1,"") | AS32: =TRIM(Settings!G14) | AW32: =Settings!C32 -> 0
B33: 27 | C33: {=IFERROR(IF(INDEX(RAM!$B$7:$B$205,B33,1)=0,"",INDEX(RAM!$B$7:$B$205,B33,1)),"")} | D33: =IFERROR(IF(C33="","",IF(INDEX(RAM!$C$7:$C$205,B33,1)="","-/-",INDEX(RAM!$C$7:$C$205,B33,1))),"") | E33: {=IFERROR(IF(C33="","",INDEX(RAM!$D$7:$CY$205,B33,SMALL(IF(INDEX(RAM!$D$7:$CY$205,B33,)<>"",COLUMN(RAM!$D$7:$CY$205)-3,""),1))),"")} | F33: {=IFERROR(IF(C33="","",INDEX(RAM!$D$7:$CY$205,B33,SMALL(IF(INDEX(RAM!$D$7:$CY$205,B33,)<>"",COLUMN(RAM!$D$7:$CY$205)-3,""),2))),"")} | G33: {=IFERROR(IF(C33="","",INDEX(RAM!$D$7:$CY$205,B33,SMALL(IF(INDEX(RAM!$D$7:$CY$205,B33,)<>"",COLUMN(RAM!$D$7:$CY$205)-3,""),3))),"")} | H33: {=IFERROR(IF(C33="","",INDEX(RAM!$D$7:$CY$205,B33,SMALL(IF(INDEX(RAM!$D$7:$CY$205,B33,)<>"",COLUMN(RAM!$D$7:$CY$205)-3,""),4))),"")} | I33: {=IFERROR(IF(C33="","",INDEX(RAM!$D$7:$CY$205,B33,SMALL(IF(INDEX(RAM!$D$7:$CY$205,B33,)<>"",COLUMN(RAM!$D$7:$CY$205)-3,""),5))),"")} | J33: =IF(LEN(E33)=0,"-/-",TRIM(E33 & " " &F33& " " & G33 & " " & H33 & " " &I33)) -> -/- | K33: {=IFERROR(IF(C33="","",INDEX(RAM!$D$5:$CY$5,1,SMALL(IF(INDEX(RAM!$D$7:$CY$205,B33,)<>"",COLUMN(RAM!$D$7:$CY$205)-3,""),1))),"")} | L33: {=IFERROR(IF(C33="","",INDEX(RAM!$D$5:$CY$5,1,SMALL(IF(INDEX(RAM!$D$7:$CY$205,B33,)<>"",COLUMN(RAM!$D$7:$CY$205)-3,""),2))),"")} | M33: {=IFERROR(IF(C33="","",INDEX(RAM!$D$5:$CY$5,1,SMALL(IF(INDEX(RAM!$D$7:$CY$205,B33,)<>"",COLUMN(RAM!$D$7:$CY$205)-3,""),3))),"")} | N33: {=IFERROR(IF(C33="","",INDEX(RAM!$D$5:$CY$5,1,SMALL(IF(INDEX(RAM!$D$7:$CY$205,B33,)<>"",COLUMN(RAM!$D$7:$CY$205)-3,""),4))),"")} | O33: {=IFERROR(IF(C33="","",INDEX(RAM!$D$5:$CY$5,1,SMALL(IF(INDEX(RAM!$D$7:$CY$205,B33,)<>"",COLUMN(RAM!$D$7:$CY$205)-3,""),5))),"")} | P33: =IF(LEN(K33)=0,"-/---", IF(K33<>"",K33&", ","")&IF(L33<>"",L33&", ","")&IF(M33<>"",M33&", ","")&IF(N33<>"",N33&", ","")&IF(O33<>"",O33&", ","")) -> -/--- | Q33: =IF(OR($AT$5=1,$AT$5=4,$AT$5=6),D33,IF($AT$5=2,C33&" ",C33& " - "&D33)) -> - | R33: =IF(C33="","", IF(OR($AT$5=4,$AT$5=5),J33&" ",IF(OR($AT$5=6,$AT$5=7),LEFT(P33,LEN(P33)-2),IF($AT$5=8,IF(LEN(E33&K33)=0,"-/-",SUBSTITUTE(E33&"-"&K33&" "&F33&"-"&L33&" "&G33&"-"&M33&" "&H33&"-"&N33&" "&I33&"-"&O33&" ","- ","")),"")))) | S33: =IF(roleF="",1,IF(ISNUMBER(MATCH(roleF,INDEX(RAM!$D$7:$CY$205,B33,),0)),1,0))*IF(personF="",1,IF(INDEX(INDEX(RAM!$D$7:$CY$205,B33,),1,personF)<>"",IF(roleF="",1,IF(ISNUMBER(MATCH(roleF,INDEX(RAM!$D$7:$CY$205,B33,personF),0)),1,0)),0)) -> 1 | T33: =IF(LEN(C33)>0,LEN(C33)-LEN(SUBSTITUTE(C33,".",""))+1,"") | U33: =IF(C33="","",IF(T33=1,2,U32+$U$5)) | V33: =IF(T33="","",2*(T33+X33)) | W33: =U33&" "&V33 | X33: =IF(T33="","",IF(T33=1,Y33+0*(COUNTIF($T$7:T33,1)-1),X32)) | Y33: =IF(C33="","",INDEX($AA$7:$AA$106,IF(T33=1,C33,LEFT(C33,SEARCH(".",C33,1)-1)),1)) | Z33: {=IF(C33="","",MAX(IF(ISNUMBER(SEARCH(" "&B33," "&$C$7:$C$206)),$T$7:$T$206,0)))} | AA33: =IF(OR(Z33=0,Z33=""),"",AA32+Z32) | AC33: =IF($T33<AC$6,"",INDEX(AD$7:AD$206,MATCH(AD33,AE$7:AE$206,0),1)) | AD33: =IF($T33<AD$6,"",INDEX(AE$7:AE$206,MATCH(AE33,AF$7:AF$206,0),1)) | AE33: =IF($T33<AE$6,"",INDEX(AF$7:AF$206,MATCH(AF33,AG$7:AG$206,0),1)) | AF33: =IF($T33<AF$6,"",INDEX(AG$7:AG$206,MATCH(AG33,AH$7:AH$206,0),1)) | AG33: =IF($T33<AG$6,"",INDEX(AH$7:AH$206,MATCH(AH33,AI$7:AI$206,0),1)) | AH33: =IF($T33<AH$6,"",INDEX(AI$7:AI$206,MATCH(AI33,AJ$7:AJ$206,0),1)) | AI33: =IF($T33<AI$6,"",INDEX(AJ$7:AJ$206,MATCH(AJ33,AK$7:AK$206,0),1)) | AJ33: =IFERROR(IF(C33<>"",IF(AN33=1,AM33+1,LEFT(AM33,SEARCH(";",SUBSTITUTE(AM33,".",";",AN33-1),1))& RIGHT(AM33,LEN(AM33)-SEARCH(";",SUBSTITUTE(AM33,".",";",AN33-1),1)) +1 ),""),"") | AK33: =IFERROR(IF(C33<>"",IF(T33=1,C33+1,LEFT(C33,SEARCH(";",SUBSTITUTE(C33,".",";",T33-1),1))& RIGHT(C33,LEN(C33)-SEARCH(";",SUBSTITUTE(C33,".",";",T33-1),1)) +1 ),""),"") | AL33: =IFERROR(IF(C33<>"",C33 &".1",""),"") | AM33: =IFERROR(LEFT(C33,SEARCH(";",SUBSTITUTE(C33,".",";",T33-1),1)-1),"") | AN33: =IFERROR(T33-1,"") | AS33: =TRIM(Settings!G15) | AW33: =Settings!C33 -> 0
B34: 28 | C34: {=IFERROR(IF(INDEX(RAM!$B$7:$B$205,B34,1)=0,"",INDEX(RAM!$B$7:$B$205,B34,1)),"")} | D34: =IFERROR(IF(C34="","",IF(INDEX(RAM!$C$7:$C$205,B34,1)="","-/-",INDEX(RAM!$C$7:$C$205,B34,1))),"") | E34: {=IFERROR(IF(C34="","",INDEX(RAM!$D$7:$CY$205,B34,SMALL(IF(INDEX(RAM!$D$7:$CY$205,B34,)<>"",COLUMN(RAM!$D$7:$CY$205)-3,""),1))),"")} | F34: {=IFERROR(IF(C34="","",INDEX(RAM!$D$7:$CY$205,B34,SMALL(IF(INDEX(RAM!$D$7:$CY$205,B34,)<>"",COLUMN(RAM!$D$7:$CY$205)-3,""),2))),"")} | G34: {=IFERROR(IF(C34="","",INDEX(RAM!$D$7:$CY$205,B34,SMALL(IF(INDEX(RAM!$D$7:$CY$205,B34,)<>"",COLUMN(RAM!$D$7:$CY$205)-3,""),3))),"")} | H34: {=IFERROR(IF(C34="","",INDEX(RAM!$D$7:$CY$205,B34,SMALL(IF(INDEX(RAM!$D$7:$CY$205,B34,)<>"",COLUMN(RAM!$D$7:$CY$205)-3,""),4))),"")} | I34: {=IFERROR(IF(C34="","",INDEX(RAM!$D$7:$CY$205,B34,SMALL(IF(INDEX(RAM!$D$7:$CY$205,B34,)<>"",COLUMN(RAM!$D$7:$CY$205)-3,""),5))),"")} | J34: =IF(LEN(E34)=0,"-/-",TRIM(E34 & " " &F34& " " & G34 & " " & H34 & " " &I34)) -> -/- | K34: {=IFERROR(IF(C34="","",INDEX(RAM!$D$5:$CY$5,1,SMALL(IF(INDEX(RAM!$D$7:$CY$205,B34,)<>"",COLUMN(RAM!$D$7:$CY$205)-3,""),1))),"")} | L34: {=IFERROR(IF(C34="","",INDEX(RAM!$D$5:$CY$5,1,SMALL(IF(INDEX(RAM!$D$7:$CY$205,B34,)<>"",COLUMN(RAM!$D$7:$CY$205)-3,""),2))),"")} | M34: {=IFERROR(IF(C34="","",INDEX(RAM!$D$5:$CY$5,1,SMALL(IF(INDEX(RAM!$D$7:$CY$205,B34,)<>"",COLUMN(RAM!$D$7:$CY$205)-3,""),3))),"")} | N34: {=IFERROR(IF(C34="","",INDEX(RAM!$D$5:$CY$5,1,SMALL(IF(INDEX(RAM!$D$7:$CY$205,B34,)<>"",COLUMN(RAM!$D$7:$CY$205)-3,""),4))),"")} | O34: {=IFERROR(IF(C34="","",INDEX(RAM!$D$5:$CY$5,1,SMALL(IF(INDEX(RAM!$D$7:$CY$205,B34,)<>"",COLUMN(RAM!$D$7:$CY$205)-3,""),5))),"")} | P34: =IF(LEN(K34)=0,"-/---", IF(K34<>"",K34&", ","")&IF(L34<>"",L34&", ","")&IF(M34<>"",M34&", ","")&IF(N34<>"",N34&", ","")&IF(O34<>"",O34&", ","")) -> -/--- | Q34: =IF(OR($AT$5=1,$AT$5=4,$AT$5=6),D34,IF($AT$5=2,C34&" ",C34& " - "&D34)) -> - | R34: =IF(C34="","", IF(OR($AT$5=4,$AT$5=5),J34&" ",IF(OR($AT$5=6,$AT$5=7),LEFT(P34,LEN(P34)-2),IF($AT$5=8,IF(LEN(E34&K34)=0,"-/-",SUBSTITUTE(E34&"-"&K34&" "&F34&"-"&L34&" "&G34&"-"&M34&" "&H34&"-"&N34&" "&I34&"-"&O34&" ","- ","")),"")))) | S34: =IF(roleF="",1,IF(ISNUMBER(MATCH(roleF,INDEX(RAM!$D$7:$CY$205,B34,),0)),1,0))*IF(personF="",1,IF(INDEX(INDEX(RAM!$D$7:$CY$205,B34,),1,personF)<>"",IF(roleF="",1,IF(ISNUMBER(MATCH(roleF,INDEX(RAM!$D$7:$CY$205,B34,personF),0)),1,0)),0)) -> 1 | T34: =IF(LEN(C34)>0,LEN(C34)-LEN(SUBSTITUTE(C34,".",""))+1,"") | U34: =IF(C34="","",IF(T34=1,2,U33+$U$5)) | V34: =IF(T34="","",2*(T34+X34)) | W34: =U34&" "&V34 | X34: =IF(T34="","",IF(T34=1,Y34+0*(COUNTIF($T$7:T34,1)-1),X33)) | Y34: =IF(C34="","",INDEX($AA$7:$AA$106,IF(T34=1,C34,LEFT(C34,SEARCH(".",C34,1)-1)),1)) | Z34: {=IF(C34="","",MAX(IF(ISNUMBER(SEARCH(" "&B34," "&$C$7:$C$206)),$T$7:$T$206,0)))} | AA34: =IF(OR(Z34=0,Z34=""),"",AA33+Z33) | AC34: =IF($T34<AC$6,"",INDEX(AD$7:AD$206,MATCH(AD34,AE$7:AE$206,0),1)) | AD34: =IF($T34<AD$6,"",INDEX(AE$7:AE$206,MATCH(AE34,AF$7:AF$206,0),1)) | AE34: =IF($T34<AE$6,"",INDEX(AF$7:AF$206,MATCH(AF34,AG$7:AG$206,0),1)) | AF34: =IF($T34<AF$6,"",INDEX(AG$7:AG$206,MATCH(AG34,AH$7:AH$206,0),1)) | AG34: =IF($T34<AG$6,"",INDEX(AH$7:AH$206,MATCH(AH34,AI$7:AI$206,0),1)) | AH34: =IF($T34<AH$6,"",INDEX(AI$7:AI$206,MATCH(AI34,AJ$7:AJ$206,0),1)) | AI34: =IF($T34<AI$6,"",INDEX(AJ$7:AJ$206,MATCH(AJ34,AK$7:AK$206,0),1)) | AJ34: =IFERROR(IF(C34<>"",IF(AN34=1,AM34+1,LEFT(AM34,SEARCH(";",SUBSTITUTE(AM34,".",";",AN34-1),1))& RIGHT(AM34,LEN(AM34)-SEARCH(";",SUBSTITUTE(AM34,".",";",AN34-1),1)) +1 ),""),"") | AK34: =IFERROR(IF(C34<>"",IF(T34=1,C34+1,LEFT(C34,SEARCH(";",SUBSTITUTE(C34,".",";",T34-1),1))& RIGHT(C34,LEN(C34)-SEARCH(";",SUBSTITUTE(C34,".",";",T34-1),1)) +1 ),""),"") | AL34: =IFERROR(IF(C34<>"",C34 &".1",""),"") | AM34: =IFERROR(LEFT(C34,SEARCH(";",SUBSTITUTE(C34,".",";",T34-1),1)-1),"") | AN34: =IFERROR(T34-1,"") | AS34: =TRIM(Settings!G16) | AW34: =Settings!C34 -> 0
B35: 29 | C35: {=IFERROR(IF(INDEX(RAM!$B$7:$B$205,B35,1)=0,"",INDEX(RAM!$B$7:$B$205,B35,1)),"")} | D35: =IFERROR(IF(C35="","",IF(INDEX(RAM!$C$7:$C$205,B35,1)="","-/-",INDEX(RAM!$C$7:$C$205,B35,1))),"") | E35: {=IFERROR(IF(C35="","",INDEX(RAM!$D$7:$CY$205,B35,SMALL(IF(INDEX(RAM!$D$7:$CY$205,B35,)<>"",COLUMN(RAM!$D$7:$CY$205)-3,""),1))),"")} | F35: {=IFERROR(IF(C35="","",INDEX(RAM!$D$7:$CY$205,B35,SMALL(IF(INDEX(RAM!$D$7:$CY$205,B35,)<>"",COLUMN(RAM!$D$7:$CY$205)-3,""),2))),"")} | G35: {=IFERROR(IF(C35="","",INDEX(RAM!$D$7:$CY$205,B35,SMALL(IF(INDEX(RAM!$D$7:$CY$205,B35,)<>"",COLUMN(RAM!$D$7:$CY$205)-3,""),3))),"")} | H35: {=IFERROR(IF(C35="","",INDEX(RAM!$D$7:$CY$205,B35,SMALL(IF(INDEX(RAM!$D$7:$CY$205,B35,)<>"",COLUMN(RAM!$D$7:$CY$205)-3,""),4))),"")} | I35: {=IFERROR(IF(C35="","",INDEX(RAM!$D$7:$CY$205,B35,SMALL(IF(INDEX(RAM!$D$7:$CY$205,B35,)<>"",COLUMN(RAM!$D$7:$CY$205)-3,""),5))),"")} | J35: =IF(LEN(E35)=0,"-/-",TRIM(E35 & " " &F35& " " & G35 & " " & H35 & " " &I35)) -> -/- | K35: {=IFERROR(IF(C35="","",INDEX(RAM!$D$5:$CY$5,1,SMALL(IF(INDEX(RAM!$D$7:$CY$205,B35,)<>"",COLUMN(RAM!$D$7:$CY$205)-3,""),1))),"")} | L35: {=IFERROR(IF(C35="","",INDEX(RAM!$D$5:$CY$5,1,SMALL(IF(INDEX(RAM!$D$7:$CY$205,B35,)<>"",COLUMN(RAM!$D$7:$CY$205)-3,""),2))),"")} | M35: {=IFERROR(IF(C35="","",INDEX(RAM!$D$5:$CY$5,1,SMALL(IF(INDEX(RAM!$D$7:$CY$205,B35,)<>"",COLUMN(RAM!$D$7:$CY$205)-3,""),3))),"")} | N35: {=IFERROR(IF(C35="","",INDEX(RAM!$D$5:$CY$5,1,SMALL(IF(INDEX(RAM!$D$7:$CY$205,B35,)<>"",COLUMN(RAM!$D$7:$CY$205)-3,""),4))),"")} | O35: {=IFERROR(IF(C35="","",INDEX(RAM!$D$5:$CY$5,1,SMALL(IF(INDEX(RAM!$D$7:$CY$205,B35,)<>"",COLUMN(RAM!$D$7:$CY$205)-3,""),5))),"")} | P35: =IF(LEN(K35)=0,"-/---", IF(K35<>"",K35&", ","")&IF(L35<>"",L35&", ","")&IF(M35<>"",M35&", ","")&IF(N35<>"",N35&", ","")&IF(O35<>"",O35&", ","")) -> -/--- | Q35: =IF(OR($AT$5=1,$AT$5=4,$AT$5=6),D35,IF($AT$5=2,C35&" ",C35& " - "&D35)) -> - | R35: =IF(C35="","", IF(OR($AT$5=4,$AT$5=5),J35&" ",IF(OR($AT$5=6,$AT$5=7),LEFT(P35,LEN(P35)-2),IF($AT$5=8,IF(LEN(E35&K35)=0,"-/-",SUBSTITUTE(E35&"-"&K35&" "&F35&"-"&L35&" "&G35&"-"&M35&" "&H35&"-"&N35&" "&I35&"-"&O35&" ","- ","")),"")))) | S35: =IF(roleF="",1,IF(ISNUMBER(MATCH(roleF,INDEX(RAM!$D$7:$CY$205,B35,),0)),1,0))*IF(personF="",1,IF(INDEX(INDEX(RAM!$D$7:$CY$205,B35,),1,personF)<>"",IF(roleF="",1,IF(ISNUMBER(MATCH(roleF,INDEX(RAM!$D$7:$CY$205,B35,personF),0)),1,0)),0)) -> 1 | T35: =IF(LEN(C35)>0,LEN(C35)-LEN(SUBSTITUTE(C35,".",""))+1,"") | U35: =IF(C35="","",IF(T35=1,2,U34+$U$5)) | V35: =IF(T35="","",2*(T35+X35)) | W35: =U35&" "&V35 | X35: =IF(T35="","",IF(T35=1,Y35+0*(COUNTIF($T$7:T35,1)-1),X34)) | Y35: =IF(C35="","",INDEX($AA$7:$AA$106,IF(T35=1,C35,LEFT(C35,SEARCH(".",C35,1)-1)),1)) | Z35: {=IF(C35="","",MAX(IF(ISNUMBER(SEARCH(" "&B35," "&$C$7:$C$206)),$T$7:$T$206,0)))} | AA35: =IF(OR(Z35=0,Z35=""),"",AA34+Z34) | AC35: =IF($T35<AC$6,"",INDEX(AD$7:AD$206,MATCH(AD35,AE$7:AE$206,0),1)) | AD35: =IF($T35<AD$6,"",INDEX(AE$7:AE$206,MATCH(AE35,AF$7:AF$206,0),1)) | AE35: =IF($T35<AE$6,"",INDEX(AF$7:AF$206,MATCH(AF35,AG$7:AG$206,0),1)) | AF35: =IF($T35<AF$6,"",INDEX(AG$7:AG$206,MATCH(AG35,AH$7:AH$206,0),1)) | AG35: =IF($T35<AG$6,"",INDEX(AH$7:AH$206,MATCH(AH35,AI$7:AI$206,0),1)) | AH35: =IF($T35<AH$6,"",INDEX(AI$7:AI$206,MATCH(AI35,AJ$7:AJ$206,0),1)) | AI35: =IF($T35<AI$6,"",INDEX(AJ$7:AJ$206,MATCH(AJ35,AK$7:AK$206,0),1)) | AJ35: =IFERROR(IF(C35<>"",IF(AN35=1,AM35+1,LEFT(AM35,SEARCH(";",SUBSTITUTE(AM35,".",";",AN35-1),1))& RIGHT(AM35,LEN(AM35)-SEARCH(";",SUBSTITUTE(AM35,".",";",AN35-1),1)) +1 ),""),"") | AK35: =IFERROR(IF(C35<>"",IF(T35=1,C35+1,LEFT(C35,SEARCH(";",SUBSTITUTE(C35,".",";",T35-1),1))& RIGHT(C35,LEN(C35)-SEARCH(";",SUBSTITUTE(C35,".",";",T35-1),1)) +1 ),""),"") | AL35: =IFERROR(IF(C35<>"",C35 &".1",""),"") | AM35: =IFERROR(LEFT(C35,SEARCH(";",SUBSTITUTE(C35,".",";",T35-1),1)-1),"") | AN35: =IFERROR(T35-1,"") | AS35: =COUNTA(Settings!G7:G16) -> 4 | AW35: =Settings!C35 -> 0
B36: 30 | C36: {=IFERROR(IF(INDEX(RAM!$B$7:$B$205,B36,1)=0,"",INDEX(RAM!$B$7:$B$205,B36,1)),"")} | D36: =IFERROR(IF(C36="","",IF(INDEX(RAM!$C$7:$C$205,B36,1)="","-/-",INDEX(RAM!$C$7:$C$205,B36,1))),"") | E36: {=IFERROR(IF(C36="","",INDEX(RAM!$D$7:$CY$205,B36,SMALL(IF(INDEX(RAM!$D$7:$CY$205,B36,)<>"",COLUMN(RAM!$D$7:$CY$205)-3,""),1))),"")} | F36: {=IFERROR(IF(C36="","",INDEX(RAM!$D$7:$CY$205,B36,SMALL(IF(INDEX(RAM!$D$7:$CY$205,B36,)<>"",COLUMN(RAM!$D$7:$CY$205)-3,""),2))),"")} | G36: {=IFERROR(IF(C36="","",INDEX(RAM!$D$7:$CY$205,B36,SMALL(IF(INDEX(RAM!$D$7:$CY$205,B36,)<>"",COLUMN(RAM!$D$7:$CY$205)-3,""),3))),"")} | H36: {=IFERROR(IF(C36="","",INDEX(RAM!$D$7:$CY$205,B36,SMALL(IF(INDEX(RAM!$D$7:$CY$205,B36,)<>"",COLUMN(RAM!$D$7:$CY$205)-3,""),4))),"")} | I36: {=IFERROR(IF(C36="","",INDEX(RAM!$D$7:$CY$205,B36,SMALL(IF(INDEX(RAM!$D$7:$CY$205,B36,)<>"",COLUMN(RAM!$D$7:$CY$205)-3,""),5))),"")} | J36: =IF(LEN(E36)=0,"-/-",TRIM(E36 & " " &F36& " " & G36 & " " & H36 & " " &I36)) -> -/- | K36: {=IFERROR(IF(C36="","",INDEX(RAM!$D$5:$CY$5,1,SMALL(IF(INDEX(RAM!$D$7:$CY$205,B36,)<>"",COLUMN(RAM!$D$7:$CY$205)-3,""),1))),"")} | L36: {=IFERROR(IF(C36="","",INDEX(RAM!$D$5:$CY$5,1,SMALL(IF(INDEX(RAM!$D$7:$CY$205,B36,)<>"",COLUMN(RAM!$D$7:$CY$205)-3,""),2))),"")} | M36: {=IFERROR(IF(C36="","",INDEX(RAM!$D$5:$CY$5,1,SMALL(IF(INDEX(RAM!$D$7:$CY$205,B36,)<>"",COLUMN(RAM!$D$7:$CY$205)-3,""),3))),"")} | N36: {=IFERROR(IF(C36="","",INDEX(RAM!$D$5:$CY$5,1,SMALL(IF(INDEX(RAM!$D$7:$CY$205,B36,)<>"",COLUMN(RAM!$D$7:$CY$205)-3,""),4))),"")} | O36: {=IFERROR(IF(C36="","",INDEX(RAM!$D$5:$CY$5,1,SMALL(IF(INDEX(RAM!$D$7:$CY$205,B36,)<>"",COLUMN(RAM!$D$7:$CY$205)-3,""),5))),"")} | P36: =IF(LEN(K36)=0,"-/---", IF(K36<>"",K36&", ","")&IF(L36<>"",L36&", ","")&IF(M36<>"",M36&", ","")&IF(N36<>"",N36&", ","")&IF(O36<>"",O36&", ","")) -> -/--- | Q36: =IF(OR($AT$5=1,$AT$5=4,$AT$5=6),D36,IF($AT$5=2,C36&" ",C36& " - "&D36)) -> - | R36: =IF(C36="","", IF(OR($AT$5=4,$AT$5=5),J36&" ",IF(OR($AT$5=6,$AT$5=7),LEFT(P36,LEN(P36)-2),IF($AT$5=8,IF(LEN(E36&K36)=0,"-/-",SUBSTITUTE(E36&"-"&K36&" "&F36&"-"&L36&" "&G36&"-"&M36&" "&H36&"-"&N36&" "&I36&"-"&O36&" ","- ","")),"")))) | S36: =IF(roleF="",1,IF(ISNUMBER(MATCH(roleF,INDEX(RAM!$D$7:$CY$205,B36,),0)),1,0))*IF(personF="",1,IF(INDEX(INDEX(RAM!$D$7:$CY$205,B36,),1,personF)<>"",IF(roleF="",1,IF(ISNUMBER(MATCH(roleF,INDEX(RAM!$D$7:$CY$205,B36,personF),0)),1,0)),0)) -> 1 | T36: =IF(LEN(C36)>0,LEN(C36)-LEN(SUBSTITUTE(C36,".",""))+1,"") | U36: =IF(C36="","",IF(T36=1,2,U35+$U$5)) | V36: =IF(T36="","",2*(T36+X36)) | W36: =U36&" "&V36 | X36: =IF(T36="","",IF(T36=1,Y36+0*(COUNTIF($T$7:T36,1)-1),X35)) | Y36: =IF(C36="","",INDEX($AA$7:$AA$106,IF(T36=1,C36,LEFT(C36,SEARCH(".",C36,1)-1)),1)) | Z36: {=IF(C36="","",MAX(IF(ISNUMBER(SEARCH(" "&B36," "&$C$7:$C$206)),$T$7:$T$206,0)))} | AA36: =IF(OR(Z36=0,Z36=""),"",AA35+Z35) | AC36: =IF($T36<AC$6,"",INDEX(AD$7:AD$206,MATCH(AD36,AE$7:AE$206,0),1)) | AD36: =IF($T36<AD$6,"",INDEX(AE$7:AE$206,MATCH(AE36,AF$7:AF$206,0),1)) | AE36: =IF($T36<AE$6,"",INDEX(AF$7:AF$206,MATCH(AF36,AG$7:AG$206,0),1)) | AF36: =IF($T36<AF$6,"",INDEX(AG$7:AG$206,MATCH(AG36,AH$7:AH$206,0),1)) | AG36: =IF($T36<AG$6,"",INDEX(AH$7:AH$206,MATCH(AH36,AI$7:AI$206,0),1)) | AH36: =IF($T36<AH$6,"",INDEX(AI$7:AI$206,MATCH(AI36,AJ$7:AJ$206,0),1)) | AI36: =IF($T36<AI$6,"",INDEX(AJ$7:AJ$206,MATCH(AJ36,AK$7:AK$206,0),1)) | AJ36: =IFERROR(IF(C36<>"",IF(AN36=1,AM36+1,LEFT(AM36,SEARCH(";",SUBSTITUTE(AM36,".",";",AN36-1),1))& RIGHT(AM36,LEN(AM36)-SEARCH(";",SUBSTITUTE(AM36,".",";",AN36-1),1)) +1 ),""),"") | AK36: =IFERROR(IF(C36<>"",IF(T36=1,C36+1,LEFT(C36,SEARCH(";",SUBSTITUTE(C36,".",";",T36-1),1))& RIGHT(C36,LEN(C36)-SEARCH(";",SUBSTITUTE(C36,".",";",T36-1),1)) +1 ),""),"") | AL36: =IFERROR(IF(C36<>"",C36 &".1",""),"") | AM36: =IFERROR(LEFT(C36,SEARCH(";",SUBSTITUTE(C36,".",";",T36-1),1)-1),"") | AN36: =IFERROR(T36-1,"") | AW36: =Settings!C36 -> 0
B37: 31 | C37: {=IFERROR(IF(INDEX(RAM!$B$7:$B$205,B37,1)=0,"",INDEX(RAM!$B$7:$B$205,B37,1)),"")} | D37: =IFERROR(IF(C37="","",IF(INDEX(RAM!$C$7:$C$205,B37,1)="","-/-",INDEX(RAM!$C$7:$C$205,B37,1))),"") | E37: {=IFERROR(IF(C37="","",INDEX(RAM!$D$7:$CY$205,B37,SMALL(IF(INDEX(RAM!$D$7:$CY$205,B37,)<>"",COLUMN(RAM!$D$7:$CY$205)-3,""),1))),"")} | F37: {=IFERROR(IF(C37="","",INDEX(RAM!$D$7:$CY$205,B37,SMALL(IF(INDEX(RAM!$D$7:$CY$205,B37,)<>"",COLUMN(RAM!$D$7:$CY$205)-3,""),2))),"")} | G37: {=IFERROR(IF(C37="","",INDEX(RAM!$D$7:$CY$205,B37,SMALL(IF(INDEX(RAM!$D$7:$CY$205,B37,)<>"",COLUMN(RAM!$D$7:$CY$205)-3,""),3))),"")} | H37: {=IFERROR(IF(C37="","",INDEX(RAM!$D$7:$CY$205,B37,SMALL(IF(INDEX(RAM!$D$7:$CY$205,B37,)<>"",COLUMN(RAM!$D$7:$CY$205)-3,""),4))),"")} | I37: {=IFERROR(IF(C37="","",INDEX(RAM!$D$7:$CY$205,B37,SMALL(IF(INDEX(RAM!$D$7:$CY$205,B37,)<>"",COLUMN(RAM!$D$7:$CY$205)-3,""),5))),"")} | J37: =IF(LEN(E37)=0,"-/-",TRIM(E37 & " " &F37& " " & G37 & " " & H37 & " " &I37)) -> -/- | K37: {=IFERROR(IF(C37="","",INDEX(RAM!$D$5:$CY$5,1,SMALL(IF(INDEX(RAM!$D$7:$CY$205,B37,)<>"",COLUMN(RAM!$D$7:$CY$205)-3,""),1))),"")} | L37: {=IFERROR(IF(C37="","",INDEX(RAM!$D$5:$CY$5,1,SMALL(IF(INDEX(RAM!$D$7:$CY$205,B37,)<>"",COLUMN(RAM!$D$7:$CY$205)-3,""),2))),"")} | M37: {=IFERROR(IF(C37="","",INDEX(RAM!$D$5:$CY$5,1,SMALL(IF(INDEX(RAM!$D$7:$CY$205,B37,)<>"",COLUMN(RAM!$D$7:$CY$205)-3,""),3))),"")} | N37: {=IFERROR(IF(C37="","",INDEX(RAM!$D$5:$CY$5,1,SMALL(IF(INDEX(RAM!$D$7:$CY$205,B37,)<>"",COLUMN(RAM!$D$7:$CY$205)-3,""),4))),"")} | O37: {=IFERROR(IF(C37="","",INDEX(RAM!$D$5:$CY$5,1,SMALL(IF(INDEX(RAM!$D$7:$CY$205,B37,)<>"",COLUMN(RAM!$D$7:$CY$205)-3,""),5))),"")} | P37: =IF(LEN(K37)=0,"-/---", IF(K37<>"",K37&", ","")&IF(L37<>"",L37&", ","")&IF(M37<>"",M37&", ","")&IF(N37<>"",N37&", ","")&IF(O37<>"",O37&", ","")) -> -/--- | Q37: =IF(OR($AT$5=1,$AT$5=4,$AT$5=6),D37,IF($AT$5=2,C37&" ",C37& " - "&D37)) -> - | R37: =IF(C37="","", IF(OR($AT$5=4,$AT$5=5),J37&" ",IF(OR($AT$5=6,$AT$5=7),LEFT(P37,LEN(P37)-2),IF($AT$5=8,IF(LEN(E37&K37)=0,"-/-",SUBSTITUTE(E37&"-"&K37&" "&F37&"-"&L37&" "&G37&"-"&M37&" "&H37&"-"&N37&" "&I37&"-"&O37&" ","- ","")),"")))) | S37: =IF(roleF="",1,IF(ISNUMBER(MATCH(roleF,INDEX(RAM!$D$7:$CY$205,B37,),0)),1,0))*IF(personF="",1,IF(INDEX(INDEX(RAM!$D$7:$CY$205,B37,),1,personF)<>"",IF(roleF="",1,IF(ISNUMBER(MATCH(roleF,INDEX(RAM!$D$7:$CY$205,B37,personF),0)),1,0)),0)) -> 1 | T37: =IF(LEN(C37)>0,LEN(C37)-LEN(SUBSTITUTE(C37,".",""))+1,"") | U37: =IF(C37="","",IF(T37=1,2,U36+$U$5)) | V37: =IF(T37="","",2*(T37+X37)) | W37: =U37&" "&V37 | X37: =IF(T37="","",IF(T37=1,Y37+0*(COUNTIF($T$7:T37,1)-1),X36)) | Y37: =IF(C37="","",INDEX($AA$7:$AA$106,IF(T37=1,C37,LEFT(C37,SEARCH(".",C37,1)-1)),1)) | Z37: {=IF(C37="","",MAX(IF(ISNUMBER(SEARCH(" "&B37," "&$C$7:$C$206)),$T$7:$T$206,0)))} | AA37: =IF(OR(Z37=0,Z37=""),"",AA36+Z36) | AC37: =IF($T37<AC$6,"",INDEX(AD$7:AD$206,MATCH(AD37,AE$7:AE$206,0),1)) | AD37: =IF($T37<AD$6,"",INDEX(AE$7:AE$206,MATCH(AE37,AF$7:AF$206,0),1)) | AE37: =IF($T37<AE$6,"",INDEX(AF$7:AF$206,MATCH(AF37,AG$7:AG$206,0),1)) | AF37: =IF($T37<AF$6,"",INDEX(AG$7:AG$206,MATCH(AG37,AH$7:AH$206,0),1)) | AG37: =IF($T37<AG$6,"",INDEX(AH$7:AH$206,MATCH(AH37,AI$7:AI$206,0),1)) | AH37: =IF($T37<AH$6,"",INDEX(AI$7:AI$206,MATCH(AI37,AJ$7:AJ$206,0),1)) | AI37: =IF($T37<AI$6,"",INDEX(AJ$7:AJ$206,MATCH(AJ37,AK$7:AK$206,0),1)) | AJ37: =IFERROR(IF(C37<>"",IF(AN37=1,AM37+1,LEFT(AM37,SEARCH(";",SUBSTITUTE(AM37,".",";",AN37-1),1))& RIGHT(AM37,LEN(AM37)-SEARCH(";",SUBSTITUTE(AM37,".",";",AN37-1),1)) +1 ),""),"") | AK37: =IFERROR(IF(C37<>"",IF(T37=1,C37+1,LEFT(C37,SEARCH(";",SUBSTITUTE(C37,".",";",T37-1),1))& RIGHT(C37,LEN(C37)-SEARCH(";",SUBSTITUTE(C37,".",";",T37-1),1)) +1 ),""),"") | AL37: =IFERROR(IF(C37<>"",C37 &".1",""),"") | AM37: =IFERROR(LEFT(C37,SEARCH(";",SUBSTITUTE(C37,".",";",T37-1),1)-1),"") | AN37: =IFERROR(T37-1,"") | AW37: =Settings!C37 -> 0
B38: 32 | C38: {=IFERROR(IF(INDEX(RAM!$B$7:$B$205,B38,1)=0,"",INDEX(RAM!$B$7:$B$205,B38,1)),"")} | D38: =IFERROR(IF(C38="","",IF(INDEX(RAM!$C$7:$C$205,B38,1)="","-/-",INDEX(RAM!$C$7:$C$205,B38,1))),"") | E38: {=IFERROR(IF(C38="","",INDEX(RAM!$D$7:$CY$205,B38,SMALL(IF(INDEX(RAM!$D$7:$CY$205,B38,)<>"",COLUMN(RAM!$D$7:$CY$205)-3,""),1))),"")} | F38: {=IFERROR(IF(C38="","",INDEX(RAM!$D$7:$CY$205,B38,SMALL(IF(INDEX(RAM!$D$7:$CY$205,B38,)<>"",COLUMN(RAM!$D$7:$CY$205)-3,""),2))),"")} | G38: {=IFERROR(IF(C38="","",INDEX(RAM!$D$7:$CY$205,B38,SMALL(IF(INDEX(RAM!$D$7:$CY$205,B38,)<>"",COLUMN(RAM!$D$7:$CY$205)-3,""),3))),"")} | H38: {=IFERROR(IF(C38="","",INDEX(RAM!$D$7:$CY$205,B38,SMALL(IF(INDEX(RAM!$D$7:$CY$205,B38,)<>"",COLUMN(RAM!$D$7:$CY$205)-3,""),4))),"")} | I38: {=IFERROR(IF(C38="","",INDEX(RAM!$D$7:$CY$205,B38,SMALL(IF(INDEX(RAM!$D$7:$CY$205,B38,)<>"",COLUMN(RAM!$D$7:$CY$205)-3,""),5))),"")} | J38: =IF(LEN(E38)=0,"-/-",TRIM(E38 & " " &F38& " " & G38 & " " & H38 & " " &I38)) -> -/- | K38: {=IFERROR(IF(C38="","",INDEX(RAM!$D$5:$CY$5,1,SMALL(IF(INDEX(RAM!$D$7:$CY$205,B38,)<>"",COLUMN(RAM!$D$7:$CY$205)-3,""),1))),"")} | L38: {=IFERROR(IF(C38="","",INDEX(RAM!$D$5:$CY$5,1,SMALL(IF(INDEX(RAM!$D$7:$CY$205,B38,)<>"",COLUMN(RAM!$D$7:$CY$205)-3,""),2))),"")} | M38: {=IFERROR(IF(C38="","",INDEX(RAM!$D$5:$CY$5,1,SMALL(IF(INDEX(RAM!$D$7:$CY$205,B38,)<>"",COLUMN(RAM!$D$7:$CY$205)-3,""),3))),"")} | N38: {=IFERROR(IF(C38="","",INDEX(RAM!$D$5:$CY$5,1,SMALL(IF(INDEX(RAM!$D$7:$CY$205,B38,)<>"",COLUMN(RAM!$D$7:$CY$205)-3,""),4))),"")} | O38: {=IFERROR(IF(C38="","",INDEX(RAM!$D$5:$CY$5,1,SMALL(IF(INDEX(RAM!$D$7:$CY$205,B38,)<>"",COLUMN(RAM!$D$7:$CY$205)-3,""),5))),"")} | P38: =IF(LEN(K38)=0,"-/---", IF(K38<>"",K38&", ","")&IF(L38<>"",L38&", ","")&IF(M38<>"",M38&", ","")&IF(N38<>"",N38&", ","")&IF(O38<>"",O38&", ","")) -> -/--- | Q38: =IF(OR($AT$5=1,$AT$5=4,$AT$5=6),D38,IF($AT$5=2,C38&" ",C38& " - "&D38)) -> - | R38: =IF(C38="","", IF(OR($AT$5=4,$AT$5=5),J38&" ",IF(OR($AT$5=6,$AT$5=7),LEFT(P38,LEN(P38)-2),IF($AT$5=8,IF(LEN(E38&K38)=0,"-/-",SUBSTITUTE(E38&"-"&K38&" "&F38&"-"&L38&" "&G38&"-"&M38&" "&H38&"-"&N38&" "&I38&"-"&O38&" ","- ","")),"")))) | S38: =IF(roleF="",1,IF(ISNUMBER(MATCH(roleF,INDEX(RAM!$D$7:$CY$205,B38,),0)),1,0))*IF(personF="",1,IF(INDEX(INDEX(RAM!$D$7:$CY$205,B38,),1,personF)<>"",IF(roleF="",1,IF(ISNUMBER(MATCH(roleF,INDEX(RAM!$D$7:$CY$205,B38,personF),0)),1,0)),0)) -> 1 | T38: =IF(LEN(C38)>0,LEN(C38)-LEN(SUBSTITUTE(C38,".",""))+1,"") | U38: =IF(C38="","",IF(T38=1,2,U37+$U$5)) | V38: =IF(T38="","",2*(T38+X38)) | W38: =U38&" "&V38 | X38: =IF(T38="","",IF(T38=1,Y38+0*(COUNTIF($T$7:T38,1)-1),X37)) | Y38: =IF(C38="","",INDEX($AA$7:$AA$106,IF(T38=1,C38,LEFT(C38,SEARCH(".",C38,1)-1)),1)) | Z38: {=IF(C38="","",MAX(IF(ISNUMBER(SEARCH(" "&B38," "&$C$7:$C$206)),$T$7:$T$206,0)))} | AA38: =IF(OR(Z38=0,Z38=""),"",AA37+Z37) | AC38: =IF($T38<AC$6,"",INDEX(AD$7:AD$206,MATCH(AD38,AE$7:AE$206,0),1)) | AD38: =IF($T38<AD$6,"",INDEX(AE$7:AE$206,MATCH(AE38,AF$7:AF$206,0),1)) | AE38: =IF($T38<AE$6,"",INDEX(AF$7:AF$206,MATCH(AF38,AG$7:AG$206,0),1)) | AF38: =IF($T38<AF$6,"",INDEX(AG$7:AG$206,MATCH(AG38,AH$7:AH$206,0),1)) | AG38: =IF($T38<AG$6,"",INDEX(AH$7:AH$206,MATCH(AH38,AI$7:AI$206,0),1)) | AH38: =IF($T38<AH$6,"",INDEX(AI$7:AI$206,MATCH(AI38,AJ$7:AJ$206,0),1)) | AI38: =IF($T38<AI$6,"",INDEX(AJ$7:AJ$206,MATCH(AJ38,AK$7:AK$206,0),1)) | AJ38: =IFERROR(IF(C38<>"",IF(AN38=1,AM38+1,LEFT(AM38,SEARCH(";",SUBSTITUTE(AM38,".",";",AN38-1),1))& RIGHT(AM38,LEN(AM38)-SEARCH(";",SUBSTITUTE(AM38,".",";",AN38-1),1)) +1 ),""),"") | AK38: =IFERROR(IF(C38<>"",IF(T38=1,C38+1,LEFT(C38,SEARCH(";",SUBSTITUTE(C38,".",";",T38-1),1))& RIGHT(C38,LEN(C38)-SEARCH(";",SUBSTITUTE(C38,".",";",T38-1),1)) +1 ),""),"") | AL38: =IFERROR(IF(C38<>"",C38 &".1",""),"") | AM38: =IFERROR(LEFT(C38,SEARCH(";",SUBSTITUTE(C38,".",";",T38-1),1)-1),"") | AN38: =IFERROR(T38-1,"") | AW38: =Settings!C38 -> 0
B39: 33 | C39: {=IFERROR(IF(INDEX(RAM!$B$7:$B$205,B39,1)=0,"",INDEX(RAM!$B$7:$B$205,B39,1)),"")} | D39: =IFERROR(IF(C39="","",IF(INDEX(RAM!$C$7:$C$205,B39,1)="","-/-",INDEX(RAM!$C$7:$C$205,B39,1))),"") | E39: {=IFERROR(IF(C39="","",INDEX(RAM!$D$7:$CY$205,B39,SMALL(IF(INDEX(RAM!$D$7:$CY$205,B39,)<>"",COLUMN(RAM!$D$7:$CY$205)-3,""),1))),"")} | F39: {=IFERROR(IF(C39="","",INDEX(RAM!$D$7:$CY$205,B39,SMALL(IF(INDEX(RAM!$D$7:$CY$205,B39,)<>"",COLUMN(RAM!$D$7:$CY$205)-3,""),2))),"")} | G39: {=IFERROR(IF(C39="","",INDEX(RAM!$D$7:$CY$205,B39,SMALL(IF(INDEX(RAM!$D$7:$CY$205,B39,)<>"",COLUMN(RAM!$D$7:$CY$205)-3,""),3))),"")} | H39: {=IFERROR(IF(C39="","",INDEX(RAM!$D$7:$CY$205,B39,SMALL(IF(INDEX(RAM!$D$7:$CY$205,B39,)<>"",COLUMN(RAM!$D$7:$CY$205)-3,""),4))),"")} | I39: {=IFERROR(IF(C39="","",INDEX(RAM!$D$7:$CY$205,B39,SMALL(IF(INDEX(RAM!$D$7:$CY$205,B39,)<>"",COLUMN(RAM!$D$7:$CY$205)-3,""),5))),"")} | J39: =IF(LEN(E39)=0,"-/-",TRIM(E39 & " " &F39& " " & G39 & " " & H39 & " " &I39)) -> -/- | K39: {=IFERROR(IF(C39="","",INDEX(RAM!$D$5:$CY$5,1,SMALL(IF(INDEX(RAM!$D$7:$CY$205,B39,)<>"",COLUMN(RAM!$D$7:$CY$205)-3,""),1))),"")} | L39: {=IFERROR(IF(C39="","",INDEX(RAM!$D$5:$CY$5,1,SMALL(IF(INDEX(RAM!$D$7:$CY$205,B39,)<>"",COLUMN(RAM!$D$7:$CY$205)-3,""),2))),"")} | M39: {=IFERROR(IF(C39="","",INDEX(RAM!$D$5:$CY$5,1,SMALL(IF(INDEX(RAM!$D$7:$CY$205,B39,)<>"",COLUMN(RAM!$D$7:$CY$205)-3,""),3))),"")} | N39: {=IFERROR(IF(C39="","",INDEX(RAM!$D$5:$CY$5,1,SMALL(IF(INDEX(RAM!$D$7:$CY$205,B39,)<>"",COLUMN(RAM!$D$7:$CY$205)-3,""),4))),"")} | O39: {=IFERROR(IF(C39="","",INDEX(RAM!$D$5:$CY$5,1,SMALL(IF(INDEX(RAM!$D$7:$CY$205,B39,)<>"",COLUMN(RAM!$D$7:$CY$205)-3,""),5))),"")} | P39: =IF(LEN(K39)=0,"-/---", IF(K39<>"",K39&", ","")&IF(L39<>"",L39&", ","")&IF(M39<>"",M39&", ","")&IF(N39<>"",N39&", ","")&IF(O39<>"",O39&", ","")) -> -/--- | Q39: =IF(OR($AT$5=1,$AT$5=4,$AT$5=6),D39,IF($AT$5=2,C39&" ",C39& " - "&D39)) -> - | R39: =IF(C39="","", IF(OR($AT$5=4,$AT$5=5),J39&" ",IF(OR($AT$5=6,$AT$5=7),LEFT(P39,LEN(P39)-2),IF($AT$5=8,IF(LEN(E39&K39)=0,"-/-",SUBSTITUTE(E39&"-"&K39&" "&F39&"-"&L39&" "&G39&"-"&M39&" "&H39&"-"&N39&" "&I39&"-"&O39&" ","- ","")),"")))) | S39: =IF(roleF="",1,IF(ISNUMBER(MATCH(roleF,INDEX(RAM!$D$7:$CY$205,B39,),0)),1,0))*IF(personF="",1,IF(INDEX(INDEX(RAM!$D$7:$CY$205,B39,),1,personF)<>"",IF(roleF="",1,IF(ISNUMBER(MATCH(roleF,INDEX(RAM!$D$7:$CY$205,B39,personF),0)),1,0)),0)) -> 1 | T39: =IF(LEN(C39)>0,LEN(C39)-LEN(SUBSTITUTE(C39,".",""))+1,"") | U39: =IF(C39="","",IF(T39=1,2,U38+$U$5)) | V39: =IF(T39="","",2*(T39+X39)) | W39: =U39&" "&V39 | X39: =IF(T39="","",IF(T39=1,Y39+0*(COUNTIF($T$7:T39,1)-1),X38)) | Y39: =IF(C39="","",INDEX($AA$7:$AA$106,IF(T39=1,C39,LEFT(C39,SEARCH(".",C39,1)-1)),1)) | Z39: {=IF(C39="","",MAX(IF(ISNUMBER(SEARCH(" "&B39," "&$C$7:$C$206)),$T$7:$T$206,0)))} | AA39: =IF(OR(Z39=0,Z39=""),"",AA38+Z38) | AC39: =IF($T39<AC$6,"",INDEX(AD$7:AD$206,MATCH(AD39,AE$7:AE$206,0),1)) | AD39: =IF($T39<AD$6,"",INDEX(AE$7:AE$206,MATCH(AE39,AF$7:AF$206,0),1)) | AE39: =IF($T39<AE$6,"",INDEX(AF$7:AF$206,MATCH(AF39,AG$7:AG$206,0),1)) | AF39: =IF($T39<AF$6,"",INDEX(AG$7:AG$206,MATCH(AG39,AH$7:AH$206,0),1)) | AG39: =IF($T39<AG$6,"",INDEX(AH$7:AH$206,MATCH(AH39,AI$7:AI$206,0),1)) | AH39: =IF($T39<AH$6,"",INDEX(AI$7:AI$206,MATCH(AI39,AJ$7:AJ$206,0),1)) | AI39: =IF($T39<AI$6,"",INDEX(AJ$7:AJ$206,MATCH(AJ39,AK$7:AK$206,0),1)) | AJ39: =IFERROR(IF(C39<>"",IF(AN39=1,AM39+1,LEFT(AM39,SEARCH(";",SUBSTITUTE(AM39,".",";",AN39-1),1))& RIGHT(AM39,LEN(AM39)-SEARCH(";",SUBSTITUTE(AM39,".",";",AN39-1),1)) +1 ),""),"") | AK39: =IFERROR(IF(C39<>"",IF(T39=1,C39+1,LEFT(C39,SEARCH(";",SUBSTITUTE(C39,".",";",T39-1),1))& RIGHT(C39,LEN(C39)-SEARCH(";",SUBSTITUTE(C39,".",";",T39-1),1)) +1 ),""),"") | AL39: =IFERROR(IF(C39<>"",C39 &".1",""),"") | AM39: =IFERROR(LEFT(C39,SEARCH(";",SUBSTITUTE(C39,".",";",T39-1),1)-1),"") | AN39: =IFERROR(T39-1,"") | AW39: =Settings!C39 -> 0
B40: 34 | C40: {=IFERROR(IF(INDEX(RAM!$B$7:$B$205,B40,1)=0,"",INDEX(RAM!$B$7:$B$205,B40,1)),"")} | D40: =IFERROR(IF(C40="","",IF(INDEX(RAM!$C$7:$C$205,B40,1)="","-/-",INDEX(RAM!$C$7:$C$205,B40,1))),"") | E40: {=IFERROR(IF(C40="","",INDEX(RAM!$D$7:$CY$205,B40,SMALL(IF(INDEX(RAM!$D$7:$CY$205,B40,)<>"",COLUMN(RAM!$D$7:$CY$205)-3,""),1))),"")} | F40: {=IFERROR(IF(C40="","",INDEX(RAM!$D$7:$CY$205,B40,SMALL(IF(INDEX(RAM!$D$7:$CY$205,B40,)<>"",COLUMN(RAM!$D$7:$CY$205)-3,""),2))),"")} | G40: {=IFERROR(IF(C40="","",INDEX(RAM!$D$7:$CY$205,B40,SMALL(IF(INDEX(RAM!$D$7:$CY$205,B40,)<>"",COLUMN(RAM!$D$7:$CY$205)-3,""),3))),"")} | H40: {=IFERROR(IF(C40="","",INDEX(RAM!$D$7:$CY$205,B40,SMALL(IF(INDEX(RAM!$D$7:$CY$205,B40,)<>"",COLUMN(RAM!$D$7:$CY$205)-3,""),4))),"")} | I40: {=IFERROR(IF(C40="","",INDEX(RAM!$D$7:$CY$205,B40,SMALL(IF(INDEX(RAM!$D$7:$CY$205,B40,)<>"",COLUMN(RAM!$D$7:$CY$205)-3,""),5))),"")} | J40: =IF(LEN(E40)=0,"-/-",TRIM(E40 & " " &F40& " " & G40 & " " & H40 & " " &I40)) -> -/- | K40: {=IFERROR(IF(C40="","",INDEX(RAM!$D$5:$CY$5,1,SMALL(IF(INDEX(RAM!$D$7:$CY$205,B40,)<>"",COLUMN(RAM!$D$7:$CY$205)-3,""),1))),"")} | L40: {=IFERROR(IF(C40="","",INDEX(RAM!$D$5:$CY$5,1,SMALL(IF(INDEX(RAM!$D$7:$CY$205,B40,)<>"",COLUMN(RAM!$D$7:$CY$205)-3,""),2))),"")} | M40: {=IFERROR(IF(C40="","",INDEX(RAM!$D$5:$CY$5,1,SMALL(IF(INDEX(RAM!$D$7:$CY$205,B40,)<>"",COLUMN(RAM!$D$7:$CY$205)-3,""),3))),"")} | N40: {=IFERROR(IF(C40="","",INDEX(RAM!$D$5:$CY$5,1,SMALL(IF(INDEX(RAM!$D$7:$CY$205,B40,)<>"",COLUMN(RAM!$D$7:$CY$205)-3,""),4))),"")} | O40: {=IFERROR(IF(C40="","",INDEX(RAM!$D$5:$CY$5,1,SMALL(IF(INDEX(RAM!$D$7:$CY$205,B40,)<>"",COLUMN(RAM!$D$7:$CY$205)-3,""),5))),"")} | P40: =IF(LEN(K40)=0,"-/---", IF(K40<>"",K40&", ","")&IF(L40<>"",L40&", ","")&IF(M40<>"",M40&", ","")&IF(N40<>"",N40&", ","")&IF(O40<>"",O40&", ","")) -> -/--- | Q40: =IF(OR($AT$5=1,$AT$5=4,$AT$5=6),D40,IF($AT$5=2,C40&" ",C40& " - "&D40)) -> - | R40: =IF(C40="","", IF(OR($AT$5=4,$AT$5=5),J40&" ",IF(OR($AT$5=6,$AT$5=7),LEFT(P40,LEN(P40)-2),IF($AT$5=8,IF(LEN(E40&K40)=0,"-/-",SUBSTITUTE(E40&"-"&K40&" "&F40&"-"&L40&" "&G40&"-"&M40&" "&H40&"-"&N40&" "&I40&"-"&O40&" ","- ","")),"")))) | S40: =IF(roleF="",1,IF(ISNUMBER(MATCH(roleF,INDEX(RAM!$D$7:$CY$205,B40,),0)),1,0))*IF(personF="",1,IF(INDEX(INDEX(RAM!$D$7:$CY$205,B40,),1,personF)<>"",IF(roleF="",1,IF(ISNUMBER(MATCH(roleF,INDEX(RAM!$D$7:$CY$205,B40,personF),0)),1,0)),0)) -> 1 | T40: =IF(LEN(C40)>0,LEN(C40)-LEN(SUBSTITUTE(C40,".",""))+1,"") | U40: =IF(C40="","",IF(T40=1,2,U39+$U$5)) | V40: =IF(T40="","",2*(T40+X40)) | W40: =U40&" "&V40 | X40: =IF(T40="","",IF(T40=1,Y40+0*(COUNTIF($T$7:T40,1)-1),X39)) | Y40: =IF(C40="","",INDEX($AA$7:$AA$106,IF(T40=1,C40,LEFT(C40,SEARCH(".",C40,1)-1)),1)) | Z40: {=IF(C40="","",MAX(IF(ISNUMBER(SEARCH(" "&B40," "&$C$7:$C$206)),$T$7:$T$206,0)))} | AA40: =IF(OR(Z40=0,Z40=""),"",AA39+Z39) | AC40: =IF($T40<AC$6,"",INDEX(AD$7:AD$206,MATCH(AD40,AE$7:AE$206,0),1)) | AD40: =IF($T40<AD$6,"",INDEX(AE$7:AE$206,MATCH(AE40,AF$7:AF$206,0),1)) | AE40: =IF($T40<AE$6,"",INDEX(AF$7:AF$206,MATCH(AF40,AG$7:AG$206,0),1)) | AF40: =IF($T40<AF$6,"",INDEX(AG$7:AG$206,MATCH(AG40,AH$7:AH$206,0),1)) | AG40: =IF($T40<AG$6,"",INDEX(AH$7:AH$206,MATCH(AH40,AI$7:AI$206,0),1)) | AH40: =IF($T40<AH$6,"",INDEX(AI$7:AI$206,MATCH(AI40,AJ$7:AJ$206,0),1)) | AI40: =IF($T40<AI$6,"",INDEX(AJ$7:AJ$206,MATCH(AJ40,AK$7:AK$206,0),1)) | AJ40: =IFERROR(IF(C40<>"",IF(AN40=1,AM40+1,LEFT(AM40,SEARCH(";",SUBSTITUTE(AM40,".",";",AN40-1),1))& RIGHT(AM40,LEN(AM40)-SEARCH(";",SUBSTITUTE(AM40,".",";",AN40-1),1)) +1 ),""),"") | AK40: =IFERROR(IF(C40<>"",IF(T40=1,C40+1,LEFT(C40,SEARCH(";",SUBSTITUTE(C40,".",";",T40-1),1))& RIGHT(C40,LEN(C40)-SEARCH(";",SUBSTITUTE(C40,".",";",T40-1),1)) +1 ),""),"") | AL40: =IFERROR(IF(C40<>"",C40 &".1",""),"") | AM40: =IFERROR(LEFT(C40,SEARCH(";",SUBSTITUTE(C40,".",";",T40-1),1)-1),"") | AN40: =IFERROR(T40-1,"") | AW40: =Settings!C40 -> 0
B41: 35 | C41: {=IFERROR(IF(INDEX(RAM!$B$7:$B$205,B41,1)=0,"",INDEX(RAM!$B$7:$B$205,B41,1)),"")} | D41: =IFERROR(IF(C41="","",IF(INDEX(RAM!$C$7:$C$205,B41,1)="","-/-",INDEX(RAM!$C$7:$C$205,B41,1))),"") | E41: {=IFERROR(IF(C41="","",INDEX(RAM!$D$7:$CY$205,B41,SMALL(IF(INDEX(RAM!$D$7:$CY$205,B41,)<>"",COLUMN(RAM!$D$7:$CY$205)-3,""),1))),"")} | F41: {=IFERROR(IF(C41="","",INDEX(RAM!$D$7:$CY$205,B41,SMALL(IF(INDEX(RAM!$D$7:$CY$205,B41,)<>"",COLUMN(RAM!$D$7:$CY$205)-3,""),2))),"")} | G41: {=IFERROR(IF(C41="","",INDEX(RAM!$D$7:$CY$205,B41,SMALL(IF(INDEX(RAM!$D$7:$CY$205,B41,)<>"",COLUMN(RAM!$D$7:$CY$205)-3,""),3))),"")} | H41: {=IFERROR(IF(C41="","",INDEX(RAM!$D$7:$CY$205,B41,SMALL(IF(INDEX(RAM!$D$7:$CY$205,B41,)<>"",COLUMN(RAM!$D$7:$CY$205)-3,""),4))),"")} | I41: {=IFERROR(IF(C41="","",INDEX(RAM!$D$7:$CY$205,B41,SMALL(IF(INDEX(RAM!$D$7:$CY$205,B41,)<>"",COLUMN(RAM!$D$7:$CY$205)-3,""),5))),"")} | J41: =IF(LEN(E41)=0,"-/-",TRIM(E41 & " " &F41& " " & G41 & " " & H41 & " " &I41)) -> -/- | K41: {=IFERROR(IF(C41="","",INDEX(RAM!$D$5:$CY$5,1,SMALL(IF(INDEX(RAM!$D$7:$CY$205,B41,)<>"",COLUMN(RAM!$D$7:$CY$205)-3,""),1))),"")} | L41: {=IFERROR(IF(C41="","",INDEX(RAM!$D$5:$CY$5,1,SMALL(IF(INDEX(RAM!$D$7:$CY$205,B41,)<>"",COLUMN(RAM!$D$7:$CY$205)-3,""),2))),"")} | M41: {=IFERROR(IF(C41="","",INDEX(RAM!$D$5:$CY$5,1,SMALL(IF(INDEX(RAM!$D$7:$CY$205,B41,)<>"",COLUMN(RAM!$D$7:$CY$205)-3,""),3))),"")} | N41: {=IFERROR(IF(C41="","",INDEX(RAM!$D$5:$CY$5,1,SMALL(IF(INDEX(RAM!$D$7:$CY$205,B41,)<>"",COLUMN(RAM!$D$7:$CY$205)-3,""),4))),"")} | O41: {=IFERROR(IF(C41="","",INDEX(RAM!$D$5:$CY$5,1,SMALL(IF(INDEX(RAM!$D$7:$CY$205,B41,)<>"",COLUMN(RAM!$D$7:$CY$205)-3,""),5))),"")} | P41: =IF(LEN(K41)=0,"-/---", IF(K41<>"",K41&", ","")&IF(L41<>"",L41&", ","")&IF(M41<>"",M41&", ","")&IF(N41<>"",N41&", ","")&IF(O41<>"",O41&", ","")) -> -/--- | Q41: =IF(OR($AT$5=1,$AT$5=4,$AT$5=6),D41,IF($AT$5=2,C41&" ",C41& " - "&D41)) -> - | R41: =IF(C41="","", IF(OR($AT$5=4,$AT$5=5),J41&" ",IF(OR($AT$5=6,$AT$5=7),LEFT(P41,LEN(P41)-2),IF($AT$5=8,IF(LEN(E41&K41)=0,"-/-",SUBSTITUTE(E41&"-"&K41&" "&F41&"-"&L41&" "&G41&"-"&M41&" "&H41&"-"&N41&" "&I41&"-"&O41&" ","- ","")),"")))) | S41: =IF(roleF="",1,IF(ISNUMBER(MATCH(roleF,INDEX(RAM!$D$7:$CY$205,B41,),0)),1,0))*IF(personF="",1,IF(INDEX(INDEX(RAM!$D$7:$CY$205,B41,),1,personF)<>"",IF(roleF="",1,IF(ISNUMBER(MATCH(roleF,INDEX(RAM!$D$7:$CY$205,B41,personF),0)),1,0)),0)) -> 1 | T41: =IF(LEN(C41)>0,LEN(C41)-LEN(SUBSTITUTE(C41,".",""))+1,"") | U41: =IF(C41="","",IF(T41=1,2,U40+$U$5)) | V41: =IF(T41="","",2*(T41+X41)) | W41: =U41&" "&V41 | X41: =IF(T41="","",IF(T41=1,Y41+0*(COUNTIF($T$7:T41,1)-1),X40)) | Y41: =IF(C41="","",INDEX($AA$7:$AA$106,IF(T41=1,C41,LEFT(C41,SEARCH(".",C41,1)-1)),1)) | Z41: {=IF(C41="","",MAX(IF(ISNUMBER(SEARCH(" "&B41," "&$C$7:$C$206)),$T$7:$T$206,0)))} | AA41: =IF(OR(Z41=0,Z41=""),"",AA40+Z40) | AC41: =IF($T41<AC$6,"",INDEX(AD$7:AD$206,MATCH(AD41,AE$7:AE$206,0),1)) | AD41: =IF($T41<AD$6,"",INDEX(AE$7:AE$206,MATCH(AE41,AF$7:AF$206,0),1)) | AE41: =IF($T41<AE$6,"",INDEX(AF$7:AF$206,MATCH(AF41,AG$7:AG$206,0),1)) | AF41: =IF($T41<AF$6,"",INDEX(AG$7:AG$206,MATCH(AG41,AH$7:AH$206,0),1)) | AG41: =IF($T41<AG$6,"",INDEX(AH$7:AH$206,MATCH(AH41,AI$7:AI$206,0),1)) | AH41: =IF($T41<AH$6,"",INDEX(AI$7:AI$206,MATCH(AI41,AJ$7:AJ$206,0),1)) | AI41: =IF($T41<AI$6,"",INDEX(AJ$7:AJ$206,MATCH(AJ41,AK$7:AK$206,0),1)) | AJ41: =IFERROR(IF(C41<>"",IF(AN41=1,AM41+1,LEFT(AM41,SEARCH(";",SUBSTITUTE(AM41,".",";",AN41-1),1))& RIGHT(AM41,LEN(AM41)-SEARCH(";",SUBSTITUTE(AM41,".",";",AN41-1),1)) +1 ),""),"") | AK41: =IFERROR(IF(C41<>"",IF(T41=1,C41+1,LEFT(C41,SEARCH(";",SUBSTITUTE(C41,".",";",T41-1),1))& RIGHT(C41,LEN(C41)-SEARCH(";",SUBSTITUTE(C41,".",";",T41-1),1)) +1 ),""),"") | AL41: =IFERROR(IF(C41<>"",C41 &".1",""),"") | AM41: =IFERROR(LEFT(C41,SEARCH(";",SUBSTITUTE(C41,".",";",T41-1),1)-1),"") | AN41: =IFERROR(T41-1,"") | AW41: =Settings!C41 -> 0
B42: 36 | C42: {=IFERROR(IF(INDEX(RAM!$B$7:$B$205,B42,1)=0,"",INDEX(RAM!$B$7:$B$205,B42,1)),"")} | D42: =IFERROR(IF(C42="","",IF(INDEX(RAM!$C$7:$C$205,B42,1)="","-/-",INDEX(RAM!$C$7:$C$205,B42,1))),"") | E42: {=IFERROR(IF(C42="","",INDEX(RAM!$D$7:$CY$205,B42,SMALL(IF(INDEX(RAM!$D$7:$CY$205,B42,)<>"",COLUMN(RAM!$D$7:$CY$205)-3,""),1))),"")} | F42: {=IFERROR(IF(C42="","",INDEX(RAM!$D$7:$CY$205,B42,SMALL(IF(INDEX(RAM!$D$7:$CY$205,B42,)<>"",COLUMN(RAM!$D$7:$CY$205)-3,""),2))),"")} | G42: {=IFERROR(IF(C42="","",INDEX(RAM!$D$7:$CY$205,B42,SMALL(IF(INDEX(RAM!$D$7:$CY$205,B42,)<>"",COLUMN(RAM!$D$7:$CY$205)-3,""),3))),"")} | H42: {=IFERROR(IF(C42="","",INDEX(RAM!$D$7:$CY$205,B42,SMALL(IF(INDEX(RAM!$D$7:$CY$205,B42,)<>"",COLUMN(RAM!$D$7:$CY$205)-3,""),4))),"")} | I42: {=IFERROR(IF(C42="","",INDEX(RAM!$D$7:$CY$205,B42,SMALL(IF(INDEX(RAM!$D$7:$CY$205,B42,)<>"",COLUMN(RAM!$D$7:$CY$205)-3,""),5))),"")} | J42: =IF(LEN(E42)=0,"-/-",TRIM(E42 & " " &F42& " " & G42 & " " & H42 & " " &I42)) -> -/- | K42: {=IFERROR(IF(C42="","",INDEX(RAM!$D$5:$CY$5,1,SMALL(IF(INDEX(RAM!$D$7:$CY$205,B42,)<>"",COLUMN(RAM!$D$7:$CY$205)-3,""),1))),"")} | L42: {=IFERROR(IF(C42="","",INDEX(RAM!$D$5:$CY$5,1,SMALL(IF(INDEX(RAM!$D$7:$CY$205,B42,)<>"",COLUMN(RAM!$D$7:$CY$205)-3,""),2))),"")} | M42: {=IFERROR(IF(C42="","",INDEX(RAM!$D$5:$CY$5,1,SMALL(IF(INDEX(RAM!$D$7:$CY$205,B42,)<>"",COLUMN(RAM!$D$7:$CY$205)-3,""),3))),"")} | N42: {=IFERROR(IF(C42="","",INDEX(RAM!$D$5:$CY$5,1,SMALL(IF(INDEX(RAM!$D$7:$CY$205,B42,)<>"",COLUMN(RAM!$D$7:$CY$205)-3,""),4))),"")} | O42: {=IFERROR(IF(C42="","",INDEX(RAM!$D$5:$CY$5,1,SMALL(IF(INDEX(RAM!$D$7:$CY$205,B42,)<>"",COLUMN(RAM!$D$7:$CY$205)-3,""),5))),"")} | P42: =IF(LEN(K42)=0,"-/---", IF(K42<>"",K42&", ","")&IF(L42<>"",L42&", ","")&IF(M42<>"",M42&", ","")&IF(N42<>"",N42&", ","")&IF(O42<>"",O42&", ","")) -> -/--- | Q42: =IF(OR($AT$5=1,$AT$5=4,$AT$5=6),D42,IF($AT$5=2,C42&" ",C42& " - "&D42)) -> - | R42: =IF(C42="","", IF(OR($AT$5=4,$AT$5=5),J42&" ",IF(OR($AT$5=6,$AT$5=7),LEFT(P42,LEN(P42)-2),IF($AT$5=8,IF(LEN(E42&K42)=0,"-/-",SUBSTITUTE(E42&"-"&K42&" "&F42&"-"&L42&" "&G42&"-"&M42&" "&H42&"-"&N42&" "&I42&"-"&O42&" ","- ","")),"")))) | S42: =IF(roleF="",1,IF(ISNUMBER(MATCH(roleF,INDEX(RAM!$D$7:$CY$205,B42,),0)),1,0))*IF(personF="",1,IF(INDEX(INDEX(RAM!$D$7:$CY$205,B42,),1,personF)<>"",IF(roleF="",1,IF(ISNUMBER(MATCH(roleF,INDEX(RAM!$D$7:$CY$205,B42,personF),0)),1,0)),0)) -> 1 | T42: =IF(LEN(C42)>0,LEN(C42)-LEN(SUBSTITUTE(C42,".",""))+1,"") | U42: =IF(C42="","",IF(T42=1,2,U41+$U$5)) | V42: =IF(T42="","",2*(T42+X42)) | W42: =U42&" "&V42 | X42: =IF(T42="","",IF(T42=1,Y42+0*(COUNTIF($T$7:T42,1)-1),X41)) | Y42: =IF(C42="","",INDEX($AA$7:$AA$106,IF(T42=1,C42,LEFT(C42,SEARCH(".",C42,1)-1)),1)) | Z42: {=IF(C42="","",MAX(IF(ISNUMBER(SEARCH(" "&B42," "&$C$7:$C$206)),$T$7:$T$206,0)))} | AA42: =IF(OR(Z42=0,Z42=""),"",AA41+Z41) | AC42: =IF($T42<AC$6,"",INDEX(AD$7:AD$206,MATCH(AD42,AE$7:AE$206,0),1)) | AD42: =IF($T42<AD$6,"",INDEX(AE$7:AE$206,MATCH(AE42,AF$7:AF$206,0),1)) | AE42: =IF($T42<AE$6,"",INDEX(AF$7:AF$206,MATCH(AF42,AG$7:AG$206,0),1)) | AF42: =IF($T42<AF$6,"",INDEX(AG$7:AG$206,MATCH(AG42,AH$7:AH$206,0),1)) | AG42: =IF($T42<AG$6,"",INDEX(AH$7:AH$206,MATCH(AH42,AI$7:AI$206,0),1)) | AH42: =IF($T42<AH$6,"",INDEX(AI$7:AI$206,MATCH(AI42,AJ$7:AJ$206,0),1)) | AI42: =IF($T42<AI$6,"",INDEX(AJ$7:AJ$206,MATCH(AJ42,AK$7:AK$206,0),1)) | AJ42: =IFERROR(IF(C42<>"",IF(AN42=1,AM42+1,LEFT(AM42,SEARCH(";",SUBSTITUTE(AM42,".",";",AN42-1),1))& RIGHT(AM42,LEN(AM42)-SEARCH(";",SUBSTITUTE(AM42,".",";",AN42-1),1)) +1 ),""),"") | AK42: =IFERROR(IF(C42<>"",IF(T42=1,C42+1,LEFT(C42,SEARCH(";",SUBSTITUTE(C42,".",";",T42-1),1))& RIGHT(C42,LEN(C42)-SEARCH(";",SUBSTITUTE(C42,".",";",T42-1),1)) +1 ),""),"") | AL42: =IFERROR(IF(C42<>"",C42 &".1",""),"") | AM42: =IFERROR(LEFT(C42,SEARCH(";",SUBSTITUTE(C42,".",";",T42-1),1)-1),"") | AN42: =IFERROR(T42-1,"") | AW42: =Settings!C42 -> 0
B43: 37 | C43: {=IFERROR(IF(INDEX(RAM!$B$7:$B$205,B43,1)=0,"",INDEX(RAM!$B$7:$B$205,B43,1)),"")} | D43: =IFERROR(IF(C43="","",IF(INDEX(RAM!$C$7:$C$205,B43,1)="","-/-",INDEX(RAM!$C$7:$C$205,B43,1))),"") | E43: {=IFERROR(IF(C43="","",INDEX(RAM!$D$7:$CY$205,B43,SMALL(IF(INDEX(RAM!$D$7:$CY$205,B43,)<>"",COLUMN(RAM!$D$7:$CY$205)-3,""),1))),"")} | F43: {=IFERROR(IF(C43="","",INDEX(RAM!$D$7:$CY$205,B43,SMALL(IF(INDEX(RAM!$D$7:$CY$205,B43,)<>"",COLUMN(RAM!$D$7:$CY$205)-3,""),2))),"")} | G43: {=IFERROR(IF(C43="","",INDEX(RAM!$D$7:$CY$205,B43,SMALL(IF(INDEX(RAM!$D$7:$CY$205,B43,)<>"",COLUMN(RAM!$D$7:$CY$205)-3,""),3))),"")} | H43: {=IFERROR(IF(C43="","",INDEX(RAM!$D$7:$CY$205,B43,SMALL(IF(INDEX(RAM!$D$7:$CY$205,B43,)<>"",COLUMN(RAM!$D$7:$CY$205)-3,""),4))),"")} | I43: {=IFERROR(IF(C43="","",INDEX(RAM!$D$7:$CY$205,B43,SMALL(IF(INDEX(RAM!$D$7:$CY$205,B43,)<>"",COLUMN(RAM!$D$7:$CY$205)-3,""),5))),"")} | J43: =IF(LEN(E43)=0,"-/-",TRIM(E43 & " " &F43& " " & G43 & " " & H43 & " " &I43)) -> -/- | K43: {=IFERROR(IF(C43="","",INDEX(RAM!$D$5:$CY$5,1,SMALL(IF(INDEX(RAM!$D$7:$CY$205,B43,)<>"",COLUMN(RAM!$D$7:$CY$205)-3,""),1))),"")} | L43: {=IFERROR(IF(C43="","",INDEX(RAM!$D$5:$CY$5,1,SMALL(IF(INDEX(RAM!$D$7:$CY$205,B43,)<>"",COLUMN(RAM!$D$7:$CY$205)-3,""),2))),"")} | M43: {=IFERROR(IF(C43="","",INDEX(RAM!$D$5:$CY$5,1,SMALL(IF(INDEX(RAM!$D$7:$CY$205,B43,)<>"",COLUMN(RAM!$D$7:$CY$205)-3,""),3))),"")} | N43: {=IFERROR(IF(C43="","",INDEX(RAM!$D$5:$CY$5,1,SMALL(IF(INDEX(RAM!$D$7:$CY$205,B43,)<>"",COLUMN(RAM!$D$7:$CY$205)-3,""),4))),"")} | O43: {=IFERROR(IF(C43="","",INDEX(RAM!$D$5:$CY$5,1,SMALL(IF(INDEX(RAM!$D$7:$CY$205,B43,)<>"",COLUMN(RAM!$D$7:$CY$205)-3,""),5))),"")} | P43: =IF(LEN(K43)=0,"-/---", IF(K43<>"",K43&", ","")&IF(L43<>"",L43&", ","")&IF(M43<>"",M43&", ","")&IF(N43<>"",N43&", ","")&IF(O43<>"",O43&", ","")) -> -/--- | Q43: =IF(OR($AT$5=1,$AT$5=4,$AT$5=6),D43,IF($AT$5=2,C43&" ",C43& " - "&D43)) -> - | R43: =IF(C43="","", IF(OR($AT$5=4,$AT$5=5),J43&" ",IF(OR($AT$5=6,$AT$5=7),LEFT(P43,LEN(P43)-2),IF($AT$5=8,IF(LEN(E43&K43)=0,"-/-",SUBSTITUTE(E43&"-"&K43&" "&F43&"-"&L43&" "&G43&"-"&M43&" "&H43&"-"&N43&" "&I43&"-"&O43&" ","- ","")),"")))) | S43: =IF(roleF="",1,IF(ISNUMBER(MATCH(roleF,INDEX(RAM!$D$7:$CY$205,B43,),0)),1,0))*IF(personF="",1,IF(INDEX(INDEX(RAM!$D$7:$CY$205,B43,),1,personF)<>"",IF(roleF="",1,IF(ISNUMBER(MATCH(roleF,INDEX(RAM!$D$7:$CY$205,B43,personF),0)),1,0)),0)) -> 1 | T43: =IF(LEN(C43)>0,LEN(C43)-LEN(SUBSTITUTE(C43,".",""))+1,"") | U43: =IF(C43="","",IF(T43=1,2,U42+$U$5)) | V43: =IF(T43="","",2*(T43+X43)) | W43: =U43&" "&V43 | X43: =IF(T43="","",IF(T43=1,Y43+0*(COUNTIF($T$7:T43,1)-1),X42)) | Y43: =IF(C43="","",INDEX($AA$7:$AA$106,IF(T43=1,C43,LEFT(C43,SEARCH(".",C43,1)-1)),1)) | Z43: {=IF(C43="","",MAX(IF(ISNUMBER(SEARCH(" "&B43," "&$C$7:$C$206)),$T$7:$T$206,0)))} | AA43: =IF(OR(Z43=0,Z43=""),"",AA42+Z42) | AC43: =IF($T43<AC$6,"",INDEX(AD$7:AD$206,MATCH(AD43,AE$7:AE$206,0),1)) | AD43: =IF($T43<AD$6,"",INDEX(AE$7:AE$206,MATCH(AE43,AF$7:AF$206,0),1)) | AE43: =IF($T43<AE$6,"",INDEX(AF$7:AF$206,MATCH(AF43,AG$7:AG$206,0),1)) | AF43: =IF($T43<AF$6,"",INDEX(AG$7:AG$206,MATCH(AG43,AH$7:AH$206,0),1)) | AG43: =IF($T43<AG$6,"",INDEX(AH$7:AH$206,MATCH(AH43,AI$7:AI$206,0),1)) | AH43: =IF($T43<AH$6,"",INDEX(AI$7:AI$206,MATCH(AI43,AJ$7:AJ$206,0),1)) | AI43: =IF($T43<AI$6,"",INDEX(AJ$7:AJ$206,MATCH(AJ43,AK$7:AK$206,0),1)) | AJ43: =IFERROR(IF(C43<>"",IF(AN43=1,AM43+1,LEFT(AM43,SEARCH(";",SUBSTITUTE(AM43,".",";",AN43-1),1))& RIGHT(AM43,LEN(AM43)-SEARCH(";",SUBSTITUTE(AM43,".",";",AN43-1),1)) +1 ),""),"") | AK43: =IFERROR(IF(C43<>"",IF(T43=1,C43+1,LEFT(C43,SEARCH(";",SUBSTITUTE(C43,".",";",T43-1),1))& RIGHT(C43,LEN(C43)-SEARCH(";",SUBSTITUTE(C43,".",";",T43-1),1)) +1 ),""),"") | AL43: =IFERROR(IF(C43<>"",C43 &".1",""),"") | AM43: =IFERROR(LEFT(C43,SEARCH(";",SUBSTITUTE(C43,".",";",T43-1),1)-1),"") | AN43: =IFERROR(T43-1,"") | AW43: =Settings!C43 -> 0
B44: 38 | C44: {=IFERROR(IF(INDEX(RAM!$B$7:$B$205,B44,1)=0,"",INDEX(RAM!$B$7:$B$205,B44,1)),"")} | D44: =IFERROR(IF(C44="","",IF(INDEX(RAM!$C$7:$C$205,B44,1)="","-/-",INDEX(RAM!$C$7:$C$205,B44,1))),"") | E44: {=IFERROR(IF(C44="","",INDEX(RAM!$D$7:$CY$205,B44,SMALL(IF(INDEX(RAM!$D$7:$CY$205,B44,)<>"",COLUMN(RAM!$D$7:$CY$205)-3,""),1))),"")} | F44: {=IFERROR(IF(C44="","",INDEX(RAM!$D$7:$CY$205,B44,SMALL(IF(INDEX(RAM!$D$7:$CY$205,B44,)<>"",COLUMN(RAM!$D$7:$CY$205)-3,""),2))),"")} | G44: {=IFERROR(IF(C44="","",INDEX(RAM!$D$7:$CY$205,B44,SMALL(IF(INDEX(RAM!$D$7:$CY$205,B44,)<>"",COLUMN(RAM!$D$7:$CY$205)-3,""),3))),"")} | H44: {=IFERROR(IF(C44="","",INDEX(RAM!$D$7:$CY$205,B44,SMALL(IF(INDEX(RAM!$D$7:$CY$205,B44,)<>"",COLUMN(RAM!$D$7:$CY$205)-3,""),4))),"")} | I44: {=IFERROR(IF(C44="","",INDEX(RAM!$D$7:$CY$205,B44,SMALL(IF(INDEX(RAM!$D$7:$CY$205,B44,)<>"",COLUMN(RAM!$D$7:$CY$205)-3,""),5))),"")} | J44: =IF(LEN(E44)=0,"-/-",TRIM(E44 & " " &F44& " " & G44 & " " & H44 & " " &I44)) -> -/- | K44: {=IFERROR(IF(C44="","",INDEX(RAM!$D$5:$CY$5,1,SMALL(IF(INDEX(RAM!$D$7:$CY$205,B44,)<>"",COLUMN(RAM!$D$7:$CY$205)-3,""),1))),"")} | L44: {=IFERROR(IF(C44="","",INDEX(RAM!$D$5:$CY$5,1,SMALL(IF(INDEX(RAM!$D$7:$CY$205,B44,)<>"",COLUMN(RAM!$D$7:$CY$205)-3,""),2))),"")} | M44: {=IFERROR(IF(C44="","",INDEX(RAM!$D$5:$CY$5,1,SMALL(IF(INDEX(RAM!$D$7:$CY$205,B44,)<>"",COLUMN(RAM!$D$7:$CY$205)-3,""),3))),"")} | N44: {=IFERROR(IF(C44="","",INDEX(RAM!$D$5:$CY$5,1,SMALL(IF(INDEX(RAM!$D$7:$CY$205,B44,)<>"",COLUMN(RAM!$D$7:$CY$205)-3,""),4))),"")} | O44: {=IFERROR(IF(C44="","",INDEX(RAM!$D$5:$CY$5,1,SMALL(IF(INDEX(RAM!$D$7:$CY$205,B44,)<>"",COLUMN(RAM!$D$7:$CY$205)-3,""),5))),"")} | P44: =IF(LEN(K44)=0,"-/---", IF(K44<>"",K44&", ","")&IF(L44<>"",L44&", ","")&IF(M44<>"",M44&", ","")&IF(N44<>"",N44&", ","")&IF(O44<>"",O44&", ","")) -> -/--- | Q44: =IF(OR($AT$5=1,$AT$5=4,$AT$5=6),D44,IF($AT$5=2,C44&" ",C44& " - "&D44)) -> - | R44: =IF(C44="","", IF(OR($AT$5=4,$AT$5=5),J44&" ",IF(OR($AT$5=6,$AT$5=7),LEFT(P44,LEN(P44)-2),IF($AT$5=8,IF(LEN(E44&K44)=0,"-/-",SUBSTITUTE(E44&"-"&K44&" "&F44&"-"&L44&" "&G44&"-"&M44&" "&H44&"-"&N44&" "&I44&"-"&O44&" ","- ","")),"")))) | S44: =IF(roleF="",1,IF(ISNUMBER(MATCH(roleF,INDEX(RAM!$D$7:$CY$205,B44,),0)),1,0))*IF(personF="",1,IF(INDEX(INDEX(RAM!$D$7:$CY$205,B44,),1,personF)<>"",IF(roleF="",1,IF(ISNUMBER(MATCH(roleF,INDEX(RAM!$D$7:$CY$205,B44,personF),0)),1,0)),0)) -> 1 | T44: =IF(LEN(C44)>0,LEN(C44)-LEN(SUBSTITUTE(C44,".",""))+1,"") | U44: =IF(C44="","",IF(T44=1,2,U43+$U$5)) | V44: =IF(T44="","",2*(T44+X44)) | W44: =U44&" "&V44 | X44: =IF(T44="","",IF(T44=1,Y44+0*(COUNTIF($T$7:T44,1)-1),X43)) | Y44: =IF(C44="","",INDEX($AA$7:$AA$106,IF(T44=1,C44,LEFT(C44,SEARCH(".",C44,1)-1)),1)) | Z44: {=IF(C44="","",MAX(IF(ISNUMBER(SEARCH(" "&B44," "&$C$7:$C$206)),$T$7:$T$206,0)))} | AA44: =IF(OR(Z44=0,Z44=""),"",AA43+Z43) | AC44: =IF($T44<AC$6,"",INDEX(AD$7:AD$206,MATCH(AD44,AE$7:AE$206,0),1)) | AD44: =IF($T44<AD$6,"",INDEX(AE$7:AE$206,MATCH(AE44,AF$7:AF$206,0),1)) | AE44: =IF($T44<AE$6,"",INDEX(AF$7:AF$206,MATCH(AF44,AG$7:AG$206,0),1)) | AF44: =IF($T44<AF$6,"",INDEX(AG$7:AG$206,MATCH(AG44,AH$7:AH$206,0),1)) | AG44: =IF($T44<AG$6,"",INDEX(AH$7:AH$206,MATCH(AH44,AI$7:AI$206,0),1)) | AH44: =IF($T44<AH$6,"",INDEX(AI$7:AI$206,MATCH(AI44,AJ$7:AJ$206,0),1)) | AI44: =IF($T44<AI$6,"",INDEX(AJ$7:AJ$206,MATCH(AJ44,AK$7:AK$206,0),1)) | AJ44: =IFERROR(IF(C44<>"",IF(AN44=1,AM44+1,LEFT(AM44,SEARCH(";",SUBSTITUTE(AM44,".",";",AN44-1),1))& RIGHT(AM44,LEN(AM44)-SEARCH(";",SUBSTITUTE(AM44,".",";",AN44-1),1)) +1 ),""),"") | AK44: =IFERROR(IF(C44<>"",IF(T44=1,C44+1,LEFT(C44,SEARCH(";",SUBSTITUTE(C44,".",";",T44-1),1))& RIGHT(C44,LEN(C44)-SEARCH(";",SUBSTITUTE(C44,".",";",T44-1),1)) +1 ),""),"") | AL44: =IFERROR(IF(C44<>"",C44 &".1",""),"") | AM44: =IFERROR(LEFT(C44,SEARCH(";",SUBSTITUTE(C44,".",";",T44-1),1)-1),"") | AN44: =IFERROR(T44-1,"") | AW44: =Settings!C44 -> 0
B45: 39 | C45: {=IFERROR(IF(INDEX(RAM!$B$7:$B$205,B45,1)=0,"",INDEX(RAM!$B$7:$B$205,B45,1)),"")} | D45: =IFERROR(IF(C45="","",IF(INDEX(RAM!$C$7:$C$205,B45,1)="","-/-",INDEX(RAM!$C$7:$C$205,B45,1))),"") | E45: {=IFERROR(IF(C45="","",INDEX(RAM!$D$7:$CY$205,B45,SMALL(IF(INDEX(RAM!$D$7:$CY$205,B45,)<>"",COLUMN(RAM!$D$7:$CY$205)-3,""),1))),"")} | F45: {=IFERROR(IF(C45="","",INDEX(RAM!$D$7:$CY$205,B45,SMALL(IF(INDEX(RAM!$D$7:$CY$205,B45,)<>"",COLUMN(RAM!$D$7:$CY$205)-3,""),2))),"")} | G45: {=IFERROR(IF(C45="","",INDEX(RAM!$D$7:$CY$205,B45,SMALL(IF(INDEX(RAM!$D$7:$CY$205,B45,)<>"",COLUMN(RAM!$D$7:$CY$205)-3,""),3))),"")} | H45: {=IFERROR(IF(C45="","",INDEX(RAM!$D$7:$CY$205,B45,SMALL(IF(INDEX(RAM!$D$7:$CY$205,B45,)<>"",COLUMN(RAM!$D$7:$CY$205)-3,""),4))),"")} | I45: {=IFERROR(IF(C45="","",INDEX(RAM!$D$7:$CY$205,B45,SMALL(IF(INDEX(RAM!$D$7:$CY$205,B45,)<>"",COLUMN(RAM!$D$7:$CY$205)-3,""),5))),"")} | J45: =IF(LEN(E45)=0,"-/-",TRIM(E45 & " " &F45& " " & G45 & " " & H45 & " " &I45)) -> -/- | K45: {=IFERROR(IF(C45="","",INDEX(RAM!$D$5:$CY$5,1,SMALL(IF(INDEX(RAM!$D$7:$CY$205,B45,)<>"",COLUMN(RAM!$D$7:$CY$205)-3,""),1))),"")} | L45: {=IFERROR(IF(C45="","",INDEX(RAM!$D$5:$CY$5,1,SMALL(IF(INDEX(RAM!$D$7:$CY$205,B45,)<>"",COLUMN(RAM!$D$7:$CY$205)-3,""),2))),"")} | M45: {=IFERROR(IF(C45="","",INDEX(RAM!$D$5:$CY$5,1,SMALL(IF(INDEX(RAM!$D$7:$CY$205,B45,)<>"",COLUMN(RAM!$D$7:$CY$205)-3,""),3))),"")} | N45: {=IFERROR(IF(C45="","",INDEX(RAM!$D$5:$CY$5,1,SMALL(IF(INDEX(RAM!$D$7:$CY$205,B45,)<>"",COLUMN(RAM!$D$7:$CY$205)-3,""),4))),"")} | O45: {=IFERROR(IF(C45="","",INDEX(RAM!$D$5:$CY$5,1,SMALL(IF(INDEX(RAM!$D$7:$CY$205,B45,)<>"",COLUMN(RAM!$D$7:$CY$205)-3,""),5))),"")} | P45: =IF(LEN(K45)=0,"-/---", IF(K45<>"",K45&", ","")&IF(L45<>"",L45&", ","")&IF(M45<>"",M45&", ","")&IF(N45<>"",N45&", ","")&IF(O45<>"",O45&", ","")) -> -/--- | Q45: =IF(OR($AT$5=1,$AT$5=4,$AT$5=6),D45,IF($AT$5=2,C45&" ",C45& " - "&D45)) -> - | R45: =IF(C45="","", IF(OR($AT$5=4,$AT$5=5),J45&" ",IF(OR($AT$5=6,$AT$5=7),LEFT(P45,LEN(P45)-2),IF($AT$5=8,IF(LEN(E45&K45)=0,"-/-",SUBSTITUTE(E45&"-"&K45&" "&F45&"-"&L45&" "&G45&"-"&M45&" "&H45&"-"&N45&" "&I45&"-"&O45&" ","- ","")),"")))) | S45: =IF(roleF="",1,IF(ISNUMBER(MATCH(roleF,INDEX(RAM!$D$7:$CY$205,B45,),0)),1,0))*IF(personF="",1,IF(INDEX(INDEX(RAM!$D$7:$CY$205,B45,),1,personF)<>"",IF(roleF="",1,IF(ISNUMBER(MATCH(roleF,INDEX(RAM!$D$7:$CY$205,B45,personF),0)),1,0)),0)) -> 1 | T45: =IF(LEN(C45)>0,LEN(C45)-LEN(SUBSTITUTE(C45,".",""))+1,"") | U45: =IF(C45="","",IF(T45=1,2,U44+$U$5)) | V45: =IF(T45="","",2*(T45+X45)) | W45: =U45&" "&V45 | X45: =IF(T45="","",IF(T45=1,Y45+0*(COUNTIF($T$7:T45,1)-1),X44)) | Y45: =IF(C45="","",INDEX($AA$7:$AA$106,IF(T45=1,C45,LEFT(C45,SEARCH(".",C45,1)-1)),1)) | Z45: {=IF(C45="","",MAX(IF(ISNUMBER(SEARCH(" "&B45," "&$C$7:$C$206)),$T$7:$T$206,0)))} | AA45: =IF(OR(Z45=0,Z45=""),"",AA44+Z44) | AC45: =IF($T45<AC$6,"",INDEX(AD$7:AD$206,MATCH(AD45,AE$7:AE$206,0),1)) | AD45: =IF($T45<AD$6,"",INDEX(AE$7:AE$206,MATCH(AE45,AF$7:AF$206,0),1)) | AE45: =IF($T45<AE$6,"",INDEX(AF$7:AF$206,MATCH(AF45,AG$7:AG$206,0),1)) | AF45: =IF($T45<AF$6,"",INDEX(AG$7:AG$206,MATCH(AG45,AH$7:AH$206,0),1)) | AG45: =IF($T45<AG$6,"",INDEX(AH$7:AH$206,MATCH(AH45,AI$7:AI$206,0),1)) | AH45: =IF($T45<AH$6,"",INDEX(AI$7:AI$206,MATCH(AI45,AJ$7:AJ$206,0),1)) | AI45: =IF($T45<AI$6,"",INDEX(AJ$7:AJ$206,MATCH(AJ45,AK$7:AK$206,0),1)) | AJ45: =IFERROR(IF(C45<>"",IF(AN45=1,AM45+1,LEFT(AM45,SEARCH(";",SUBSTITUTE(AM45,".",";",AN45-1),1))& RIGHT(AM45,LEN(AM45)-SEARCH(";",SUBSTITUTE(AM45,".",";",AN45-1),1)) +1 ),""),"") | AK45: =IFERROR(IF(C45<>"",IF(T45=1,C45+1,LEFT(C45,SEARCH(";",SUBSTITUTE(C45,".",";",T45-1),1))& RIGHT(C45,LEN(C45)-SEARCH(";",SUBSTITUTE(C45,".",";",T45-1),1)) +1 ),""),"") | AL45: =IFERROR(IF(C45<>"",C45 &".1",""),"") | AM45: =IFERROR(LEFT(C45,SEARCH(";",SUBSTITUTE(C45,".",";",T45-1),1)-1),"") | AN45: =IFERROR(T45-1,"") | AW45: =Settings!C45 -> 0
B46: 40 | C46: {=IFERROR(IF(INDEX(RAM!$B$7:$B$205,B46,1)=0,"",INDEX(RAM!$B$7:$B$205,B46,1)),"")} | D46: =IFERROR(IF(C46="","",IF(INDEX(RAM!$C$7:$C$205,B46,1)="","-/-",INDEX(RAM!$C$7:$C$205,B46,1))),"") | E46: {=IFERROR(IF(C46="","",INDEX(RAM!$D$7:$CY$205,B46,SMALL(IF(INDEX(RAM!$D$7:$CY$205,B46,)<>"",COLUMN(RAM!$D$7:$CY$205)-3,""),1))),"")} | F46: {=IFERROR(IF(C46="","",INDEX(RAM!$D$7:$CY$205,B46,SMALL(IF(INDEX(RAM!$D$7:$CY$205,B46,)<>"",COLUMN(RAM!$D$7:$CY$205)-3,""),2))),"")} | G46: {=IFERROR(IF(C46="","",INDEX(RAM!$D$7:$CY$205,B46,SMALL(IF(INDEX(RAM!$D$7:$CY$205,B46,)<>"",COLUMN(RAM!$D$7:$CY$205)-3,""),3))),"")} | H46: {=IFERROR(IF(C46="","",INDEX(RAM!$D$7:$CY$205,B46,SMALL(IF(INDEX(RAM!$D$7:$CY$205,B46,)<>"",COLUMN(RAM!$D$7:$CY$205)-3,""),4))),"")} | I46: {=IFERROR(IF(C46="","",INDEX(RAM!$D$7:$CY$205,B46,SMALL(IF(INDEX(RAM!$D$7:$CY$205,B46,)<>"",COLUMN(RAM!$D$7:$CY$205)-3,""),5))),"")} | J46: =IF(LEN(E46)=0,"-/-",TRIM(E46 & " " &F46& " " & G46 & " " & H46 & " " &I46)) -> -/- | K46: {=IFERROR(IF(C46="","",INDEX(RAM!$D$5:$CY$5,1,SMALL(IF(INDEX(RAM!$D$7:$CY$205,B46,)<>"",COLUMN(RAM!$D$7:$CY$205)-3,""),1))),"")} | L46: {=IFERROR(IF(C46="","",INDEX(RAM!$D$5:$CY$5,1,SMALL(IF(INDEX(RAM!$D$7:$CY$205,B46,)<>"",COLUMN(RAM!$D$7:$CY$205)-3,""),2))),"")} | M46: {=IFERROR(IF(C46="","",INDEX(RAM!$D$5:$CY$5,1,SMALL(IF(INDEX(RAM!$D$7:$CY$205,B46,)<>"",COLUMN(RAM!$D$7:$CY$205)-3,""),3))),"")} | N46: {=IFERROR(IF(C46="","",INDEX(RAM!$D$5:$CY$5,1,SMALL(IF(INDEX(RAM!$D$7:$CY$205,B46,)<>"",COLUMN(RAM!$D$7:$CY$205)-3,""),4))),"")} | O46: {=IFERROR(IF(C46="","",INDEX(RAM!$D$5:$CY$5,1,SMALL(IF(INDEX(RAM!$D$7:$CY$205,B46,)<>"",COLUMN(RAM!$D$7:$CY$205)-3,""),5))),"")} | P46: =IF(LEN(K46)=0,"-/---", IF(K46<>"",K46&", ","")&IF(L46<>"",L46&", ","")&IF(M46<>"",M46&", ","")&IF(N46<>"",N46&", ","")&IF(O46<>"",O46&", ","")) -> -/--- | Q46: =IF(OR($AT$5=1,$AT$5=4,$AT$5=6),D46,IF($AT$5=2,C46&" ",C46& " - "&D46)) -> - | R46: =IF(C46="","", IF(OR($AT$5=4,$AT$5=5),J46&" ",IF(OR($AT$5=6,$AT$5=7),LEFT(P46,LEN(P46)-2),IF($AT$5=8,IF(LEN(E46&K46)=0,"-/-",SUBSTITUTE(E46&"-"&K46&" "&F46&"-"&L46&" "&G46&"-"&M46&" "&H46&"-"&N46&" "&I46&"-"&O46&" ","- ","")),"")))) | S46: =IF(roleF="",1,IF(ISNUMBER(MATCH(roleF,INDEX(RAM!$D$7:$CY$205,B46,),0)),1,0))*IF(personF="",1,IF(INDEX(INDEX(RAM!$D$7:$CY$205,B46,),1,personF)<>"",IF(roleF="",1,IF(ISNUMBER(MATCH(roleF,INDEX(RAM!$D$7:$CY$205,B46,personF),0)),1,0)),0)) -> 1 | T46: =IF(LEN(C46)>0,LEN(C46)-LEN(SUBSTITUTE(C46,".",""))+1,"") | U46: =IF(C46="","",IF(T46=1,2,U45+$U$5)) | V46: =IF(T46="","",2*(T46+X46)) | W46: =U46&" "&V46 | X46: =IF(T46="","",IF(T46=1,Y46+0*(COUNTIF($T$7:T46,1)-1),X45)) | Y46: =IF(C46="","",INDEX($AA$7:$AA$106,IF(T46=1,C46,LEFT(C46,SEARCH(".",C46,1)-1)),1)) | Z46: {=IF(C46="","",MAX(IF(ISNUMBER(SEARCH(" "&B46," "&$C$7:$C$206)),$T$7:$T$206,0)))} | AA46: =IF(OR(Z46=0,Z46=""),"",AA45+Z45) | AC46: =IF($T46<AC$6,"",INDEX(AD$7:AD$206,MATCH(AD46,AE$7:AE$206,0),1)) | AD46: =IF($T46<AD$6,"",INDEX(AE$7:AE$206,MATCH(AE46,AF$7:AF$206,0),1)) | AE46: =IF($T46<AE$6,"",INDEX(AF$7:AF$206,MATCH(AF46,AG$7:AG$206,0),1)) | AF46: =IF($T46<AF$6,"",INDEX(AG$7:AG$206,MATCH(AG46,AH$7:AH$206,0),1)) | AG46: =IF($T46<AG$6,"",INDEX(AH$7:AH$206,MATCH(AH46,AI$7:AI$206,0),1)) | AH46: =IF($T46<AH$6,"",INDEX(AI$7:AI$206,MATCH(AI46,AJ$7:AJ$206,0),1)) | AI46: =IF($T46<AI$6,"",INDEX(AJ$7:AJ$206,MATCH(AJ46,AK$7:AK$206,0),1)) | AJ46: =IFERROR(IF(C46<>"",IF(AN46=1,AM46+1,LEFT(AM46,SEARCH(";",SUBSTITUTE(AM46,".",";",AN46-1),1))& RIGHT(AM46,LEN(AM46)-SEARCH(";",SUBSTITUTE(AM46,".",";",AN46-1),1)) +1 ),""),"") | AK46: =IFERROR(IF(C46<>"",IF(T46=1,C46+1,LEFT(C46,SEARCH(";",SUBSTITUTE(C46,".",";",T46-1),1))& RIGHT(C46,LEN(C46)-SEARCH(";",SUBSTITUTE(C46,".",";",T46-1),1)) +1 ),""),"") | AL46: =IFERROR(IF(C46<>"",C46 &".1",""),"") | AM46: =IFERROR(LEFT(C46,SEARCH(";",SUBSTITUTE(C46,".",";",T46-1),1)-1),"") | AN46: =IFERROR(T46-1,"") | AW46: =Settings!C46 -> 0
B47: 41 | C47: {=IFERROR(IF(INDEX(RAM!$B$7:$B$205,B47,1)=0,"",INDEX(RAM!$B$7:$B$205,B47,1)),"")} | D47: =IFERROR(IF(C47="","",IF(INDEX(RAM!$C$7:$C$205,B47,1)="","-/-",INDEX(RAM!$C$7:$C$205,B47,1))),"") | E47: {=IFERROR(IF(C47="","",INDEX(RAM!$D$7:$CY$205,B47,SMALL(IF(INDEX(RAM!$D$7:$CY$205,B47,)<>"",COLUMN(RAM!$D$7:$CY$205)-3,""),1))),"")} | F47: {=IFERROR(IF(C47="","",INDEX(RAM!$D$7:$CY$205,B47,SMALL(IF(INDEX(RAM!$D$7:$CY$205,B47,)<>"",COLUMN(RAM!$D$7:$CY$205)-3,""),2))),"")} | G47: {=IFERROR(IF(C47="","",INDEX(RAM!$D$7:$CY$205,B47,SMALL(IF(INDEX(RAM!$D$7:$CY$205,B47,)<>"",COLUMN(RAM!$D$7:$CY$205)-3,""),3))),"")} | H47: {=IFERROR(IF(C47="","",INDEX(RAM!$D$7:$CY$205,B47,SMALL(IF(INDEX(RAM!$D$7:$CY$205,B47,)<>"",COLUMN(RAM!$D$7:$CY$205)-3,""),4))),"")} | I47: {=IFERROR(IF(C47="","",INDEX(RAM!$D$7:$CY$205,B47,SMALL(IF(INDEX(RAM!$D$7:$CY$205,B47,)<>"",COLUMN(RAM!$D$7:$CY$205)-3,""),5))),"")} | J47: =IF(LEN(E47)=0,"-/-",TRIM(E47 & " " &F47& " " & G47 & " " & H47 & " " &I47)) -> -/- | K47: {=IFERROR(IF(C47="","",INDEX(RAM!$D$5:$CY$5,1,SMALL(IF(INDEX(RAM!$D$7:$CY$205,B47,)<>"",COLUMN(RAM!$D$7:$CY$205)-3,""),1))),"")} | L47: {=IFERROR(IF(C47="","",INDEX(RAM!$D$5:$CY$5,1,SMALL(IF(INDEX(RAM!$D$7:$CY$205,B47,)<>"",COLUMN(RAM!$D$7:$CY$205)-3,""),2))),"")} | M47: {=IFERROR(IF(C47="","",INDEX(RAM!$D$5:$CY$5,1,SMALL(IF(INDEX(RAM!$D$7:$CY$205,B47,)<>"",COLUMN(RAM!$D$7:$CY$205)-3,""),3))),"")} | N47: {=IFERROR(IF(C47="","",INDEX(RAM!$D$5:$CY$5,1,SMALL(IF(INDEX(RAM!$D$7:$CY$205,B47,)<>"",COLUMN(RAM!$D$7:$CY$205)-3,""),4))),"")} | O47: {=IFERROR(IF(C47="","",INDEX(RAM!$D$5:$CY$5,1,SMALL(IF(INDEX(RAM!$D$7:$CY$205,B47,)<>"",COLUMN(RAM!$D$7:$CY$205)-3,""),5))),"")} | P47: =IF(LEN(K47)=0,"-/---", IF(K47<>"",K47&", ","")&IF(L47<>"",L47&", ","")&IF(M47<>"",M47&", ","")&IF(N47<>"",N47&", ","")&IF(O47<>"",O47&", ","")) -> -/--- | Q47: =IF(OR($AT$5=1,$AT$5=4,$AT$5=6),D47,IF($AT$5=2,C47&" ",C47& " - "&D47)) -> - | R47: =IF(C47="","", IF(OR($AT$5=4,$AT$5=5),J47&" ",IF(OR($AT$5=6,$AT$5=7),LEFT(P47,LEN(P47)-2),IF($AT$5=8,IF(LEN(E47&K47)=0,"-/-",SUBSTITUTE(E47&"-"&K47&" "&F47&"-"&L47&" "&G47&"-"&M47&" "&H47&"-"&N47&" "&I47&"-"&O47&" ","- ","")),"")))) | S47: =IF(roleF="",1,IF(ISNUMBER(MATCH(roleF,INDEX(RAM!$D$7:$CY$205,B47,),0)),1,0))*IF(personF="",1,IF(INDEX(INDEX(RAM!$D$7:$CY$205,B47,),1,personF)<>"",IF(roleF="",1,IF(ISNUMBER(MATCH(roleF,INDEX(RAM!$D$7:$CY$205,B47,personF),0)),1,0)),0)) -> 1 | T47: =IF(LEN(C47)>0,LEN(C47)-LEN(SUBSTITUTE(C47,".",""))+1,"") | U47: =IF(C47="","",IF(T47=1,2,U46+$U$5)) | V47: =IF(T47="","",2*(T47+X47)) | W47: =U47&" "&V47 | X47: =IF(T47="","",IF(T47=1,Y47+0*(COUNTIF($T$7:T47,1)-1),X46)) | Y47: =IF(C47="","",INDEX($AA$7:$AA$106,IF(T47=1,C47,LEFT(C47,SEARCH(".",C47,1)-1)),1)) | Z47: {=IF(C47="","",MAX(IF(ISNUMBER(SEARCH(" "&B47," "&$C$7:$C$206)),$T$7:$T$206,0)))} | AA47: =IF(OR(Z47=0,Z47=""),"",AA46+Z46) | AC47: =IF($T47<AC$6,"",INDEX(AD$7:AD$206,MATCH(AD47,AE$7:AE$206,0),1)) | AD47: =IF($T47<AD$6,"",INDEX(AE$7:AE$206,MATCH(AE47,AF$7:AF$206,0),1)) | AE47: =IF($T47<AE$6,"",INDEX(AF$7:AF$206,MATCH(AF47,AG$7:AG$206,0),1)) | AF47: =IF($T47<AF$6,"",INDEX(AG$7:AG$206,MATCH(AG47,AH$7:AH$206,0),1)) | AG47: =IF($T47<AG$6,"",INDEX(AH$7:AH$206,MATCH(AH47,AI$7:AI$206,0),1)) | AH47: =IF($T47<AH$6,"",INDEX(AI$7:AI$206,MATCH(AI47,AJ$7:AJ$206,0),1)) | AI47: =IF($T47<AI$6,"",INDEX(AJ$7:AJ$206,MATCH(AJ47,AK$7:AK$206,0),1)) | AJ47: =IFERROR(IF(C47<>"",IF(AN47=1,AM47+1,LEFT(AM47,SEARCH(";",SUBSTITUTE(AM47,".",";",AN47-1),1))& RIGHT(AM47,LEN(AM47)-SEARCH(";",SUBSTITUTE(AM47,".",";",AN47-1),1)) +1 ),""),"") | AK47: =IFERROR(IF(C47<>"",IF(T47=1,C47+1,LEFT(C47,SEARCH(";",SUBSTITUTE(C47,".",";",T47-1),1))& RIGHT(C47,LEN(C47)-SEARCH(";",SUBSTITUTE(C47,".",";",T47-1),1)) +1 ),""),"") | AL47: =IFERROR(IF(C47<>"",C47 &".1",""),"") | AM47: =IFERROR(LEFT(C47,SEARCH(";",SUBSTITUTE(C47,".",";",T47-1),1)-1),"") | AN47: =IFERROR(T47-1,"") | AW47: =Settings!C47 -> 0
