Workbook
Name Dynamic_Options: OFFSET(Calc!$B$6,,,1,Calc!$C$2)
Name Dynamic_Values: OFFSET(Calc!$B$7,,,1,Calc!$C$3)

Sheet Dashboard
B2: DECISION MATRIX TEMPLATE
B3: DASHBOARD
E6: RATINGS
C7: Criterion | D7: Weight | E7: Snake | F7: Dog | G7: Cat | H7: Fish
C8: Personal Preferences | D8: 5 | E8: 3 | F8: 5 | G8: 4 | H8: 3
C9: Cleanliness | D9: 4 | E9: 1 | F9: 4 | G9: 3 | H9: 5
C10: Cuteness | D10: 3 | E10: 2 | F10: 5 | G10: 4 | H10: 2
C11: Friendliness | D11: 6 | E11: 3 | F11: 5 | G11: 3 | H11: 2
C12: Nurture costs | D12: 2 | E12: 3 | F12: 1 | G12: 3 | H12: 4
C13: Needs to go out ? | D13: 5 | E13: 5 | F13: 1 | G13: 2 | H13: 5
C28: Total | D28: =IFERROR(IF(SUM(D8:D27)=0,"-",SUM(D8:D27)),"-") -> 25 | E28: =IFERROR(IF(LEN(E7)=0,"-",SUMPRODUCT($D$8:$D$27,E$8:E$27)/SUM($D$8:$D$27)),"-") -> 2.96 | F28: =IFERROR(IF(LEN(F7)=0,"-",SUMPRODUCT($D$8:$D$27,F$8:F$27)/SUM($D$8:$D$27)),"-") -> 3.72 | G28: =IFERROR(IF(LEN(G7)=0,"-",SUMPRODUCT($D$8:$D$27,G$8:G$27)/SUM($D$8:$D$27)),"-") -> 3.12 | H28: =IFERROR(IF(LEN(H7)=0,"-",SUMPRODUCT($D$8:$D$27,H$8:H$27)/SUM($D$8:$D$27)),"-") -> 3.44 | I28: =IFERROR(IF(LEN(I7)=0,"-",SUMPRODUCT($D$8:$D$27,I$8:I$27)/SUM($D$8:$D$27)),"-") -> - | J28: =IFERROR(IF(LEN(J7)=0,"-",SUMPRODUCT($D$8:$D$27,J$8:J$27)/SUM($D$8:$D$27)),"-") -> - | K28: =IFERROR(IF(LEN(K7)=0,"-",SUMPRODUCT($D$8:$D$27,K$8:K$27)/SUM($D$8:$D$27)),"-") -> - | L28: =IFERROR(IF(LEN(L7)=0,"-",SUMPRODUCT($D$8:$D$27,L$8:L$27)/SUM($D$8:$D$27)),"-") -> -
E38: =IF(LEN(E7)=0,"",E7) -> Snake | F38: =IF(LEN(F7)=0,"",F7) -> Dog | G38: =IF(LEN(G7)=0,"",G7) -> Cat | H38: =IF(LEN(H7)=0,"",H7) -> Fish | I38: =IF(LEN(I7)=0,"",I7) | J38: =IF(LEN(J7)=0,"",J7) | K38: =IF(LEN(K7)=0,"",K7) | L38: =IF(LEN(L7)=0,"",L7)

Sheet Calc
B2: Option Dyn. | C2: =COUNTIF(B6:I6,"<>"&0) -> 4
B3: Value Dyn. | C3: 8
B6: =Dashboard!E7 -> Snake | C6: =Dashboard!F7 -> Dog | D6: =Dashboard!G7 -> Cat | E6: =Dashboard!H7 -> Fish | F6: =Dashboard!I7 -> 0 | G6: =Dashboard!J7 -> 0 | H6: =Dashboard!K7 -> 0 | I6: =Dashboard!L7 -> 0
B7: =Dashboard!E28 -> 2.96 | C7: =Dashboard!F28 -> 3.72 | D7: =Dashboard!G28 -> 3.12 | E7: =IF(Dashboard!H28="-",0,Dashboard!H28) -> 3.44 | F7: =IF(Dashboard!I28="-",0,Dashboard!I28) -> 0 | G7: =IF(Dashboard!J28="-",0,Dashboard!J28) -> 0 | H7: =IF(Dashboard!K28="-",0,Dashboard!K28) -> 0 | I7: =IF(Dashboard!L28="-",0,Dashboard!L28) -> 0
