Workbook

Sheet Dashboard
B2: DAILY-WEEKLY-MONTHLY TASK LIST TEMPLATE
B3: DASHBOARD

Sheet DailyToDoList
D2: DAILY-WEEKLY-MONTHLY TASK LIST TEMPLATE
D3: DAILY
D12: To Do List | E12: Status
C13: 1 | D13: Buy theatre ticket | E13: Complete | F13: =IF(ISBLANK($E13),"",IF($E13=Calc!$C$12,2,IF($E13=Calc!$C$11,1,0))) -> 2
C14: 2 | D14: Go to shopping | E14: Not Started | F14: =IF(ISBLANK($E14),"",IF($E14=Calc!$C$12,2,IF($E14=Calc!$C$11,1,0))) -> 0
C15: 3 | D15: Visit the website of | E15: In Progress | F15: =IF(ISBLANK($E15),"",IF($E15=Calc!$C$12,2,IF($E15=Calc!$C$11,1,0))) -> 1
C16: 4 | D16: Call mom | E16: Complete | F16: =IF(ISBLANK($E16),"",IF($E16=Calc!$C$12,2,IF($E16=Calc!$C$11,1,0))) -> 2
C17: 5 | D17: Complete the personal to-do list | E17: In Progress | F17: =IF(ISBLANK($E17),"",IF($E17=Calc!$C$12,2,IF($E17=Calc!$C$11,1,0))) -> 1
C18: 6 | F18: =IF(ISBLANK($E18),"",IF($E18=Calc!$C$12,2,IF($E18=Calc!$C$11,1,0)))
C19: 7 | F19: =IF(ISBLANK($E19),"",IF($E19=Calc!$C$12,2,IF($E19=Calc!$C$11,1,0)))
C20: 8 | F20: =IF(ISBLANK($E20),"",IF($E20=Calc!$C$12,2,IF($E20=Calc!$C$11,1,0)))
C21: 9 | F21: =IF(ISBLANK($E21),"",IF($E21=Calc!$C$12,2,IF($E21=Calc!$C$11,1,0)))
C22: 10 | F22: =IF(ISBLANK($E22),"",IF($E22=Calc!$C$12,2,IF($E22=Calc!$C$11,1,0)))
C23: 11
C24: 12
C25: 13
C26: 14
C27: 15
C28: 16
C29: 17
C30: 18
C31: 19
C32: 20
C33: 21
C34: 22
... C112: 100

Sheet WeeklyToDoList
C2: DAILY-WEEKLY-MONTHLY TASK LIST TEMPLATE
C3: WEEKLY
D12: DAYS | H12: DAILY PROGRESS
D14: MONDAY
C15: Number | D15: To Do | E15: Status
C16: 1 | D16: Clean the desks | E16: Complete | F16: =IF(ISBLANK($E16),"",IF($E16=Calc!$C$12,2,IF($E16=Calc!$C$11,1,0))) -> 2
C17: 2 | D17: Take the chairs downstairs | E17: Not Started | F17: =IF(ISBLANK($E17),"",IF($E17=Calc!$C$12,2,IF($E17=Calc!$C$11,1,0))) -> 0
C18: 3 | D18: Write more tasks here | E18: In Progress | F18: =IF(ISBLANK($E18),"",IF($E18=Calc!$C$12,2,IF($E18=Calc!$C$11,1,0))) -> 1
C19: 4 | D19: Update the resume | E19: Complete | F19: =IF(ISBLANK($E19),"",IF($E19=Calc!$C$12,2,IF($E19=Calc!$C$11,1,0))) -> 2
C20: 5 | F20: =IF(ISBLANK($E20),"",IF($E20=Calc!$C$12,2,IF($E20=Calc!$C$11,1,0)))
C21: 6
C22: 7
C23: 8
C24: 9
C25: 10
C26: 11
C27: 12
C28: 13
C29: 14
C30: 15
C31: 16
C32: 17
... C115: 100
D117: TUESDAY
C118: Number | D118: To Do | E118: Status
C119: 1 | D119: Visit the website of | E119: Complete | F119: =IF(ISBLANK($E119),"",IF($E119=Calc!$C$12,2,IF($E119=Calc!$C$11,1,0))) -> 2
C120: 2 | D120: Check our free and paid products | E120: In Progress | F120: =IF(ISBLANK($E120),"",IF($E120=Calc!$C$12,2,IF($E120=Calc!$C$11,1,0))) -> 1
C121: 3 | D121: Share our products on social media | E121: Complete | F121: =IF(ISBLANK($E121),"",IF($E121=Calc!$C$12,2,IF($E121=Calc!$C$11,1,0))) -> 2
C122: 4 | D122: Increase clickthrough rate by 0.1% | E122: Complete | F122: =IF(ISBLANK($E122),"",IF($E122=Calc!$C$12,2,IF($E122=Calc!$C$11,1,0))) -> 2
C123: 5 | F123: =IF(ISBLANK($E123),"",IF($E123=Calc!$C$12,2,IF($E123=Calc!$C$11,1,0)))
C124: 6
C125: 7
C126: 8
C127: 9
C128: 10
C129: 11
C130: 12
C131: 13
C132: 14
C133: 15
C134: 16
C135: 17
... C218: 100
D220: WEDNESDAY
C221: Number | D221: To Do | E221: Status
C222: 1 | D222: Create a financial monthly reporting template | E222: Not Started | F222: =IF(ISBLANK($E222),"",IF($E222=Calc!$C$12,2,IF($E222=Calc!$C$11,1,0))) -> 0
C223: 2 | D223: Develop an inventory management tool in excel | E223: In Progress | F223: =IF(ISBLANK($E223),"",IF($E223=Calc!$C$12,2,IF($E223=Calc!$C$11,1,0))) -> 1
C224: 3 | D224: Finish developing the printable invoice template | E224: Complete | F224: =IF(ISBLANK($E224),"",IF($E224=Calc!$C$12,2,IF($E224=Calc!$C$11,1,0))) -> 2
C225: 4 | D225: Create an employee attendance management tool | E225: In Progress | F225: =IF(ISBLANK($E225),"",IF($E225=Calc!$C$12,2,IF($E225=Calc!$C$11,1,0))) -> 1
C226: 5 | F226: =IF(ISBLANK($E226),"",IF($E226=Calc!$C$12,2,IF($E226=Calc!$C$11,1,0)))
C227: 6
C228: 7
C229: 8
C230: 9
C231: 10
C232: 11
C233: 12
C234: 13
C235: 14
C236: 15
C237: 16
C238: 17
... C321: 100
D323: THURSDAY
C324: Number | D324: To Do | E324: Status
C325: 1 | D325: Clean the desks | E325: In Progress | F325: =IF(ISBLANK($E325),"",IF($E325=Calc!$C$12,2,IF($E325=Calc!$C$11,1,0))) -> 1
C326: 2 | D326: Take the chairs downstairs | E326: Complete | F326: =IF(ISBLANK($E326),"",IF($E326=Calc!$C$12,2,IF($E326=Calc!$C$11,1,0))) -> 2
C327: 3 | D327: Get the elevator to the 11th floor, and back to ground level | E327: Complete | F327: =IF(ISBLANK($E327),"",IF($E327=Calc!$C$12,2,IF($E327=Calc!$C$11,1,0))) -> 2
C328: 4 | D328: Write more tasks here | E328: Complete | F328: =IF(ISBLANK($E328),"",IF($E328=Calc!$C$12,2,IF($E328=Calc!$C$11,1,0))) -> 2
C329: 5 | F329: =IF(ISBLANK($E329),"",IF($E329=Calc!$C$12,2,IF($E329=Calc!$C$11,1,0)))
C330: 6
C331: 7
C332: 8
C333: 9
C334: 10
C335: 11
C336: 12
C337: 13
C338: 14
C339: 15
C340: 16
C341: 17
... C424: 100
D426: FRIDAY
C427: Number | D427: To Do | E427: Status
C428: 1 | D428: Get ready for weekly meeting | E428: In Progress | F428: =IF(ISBLANK($E428),"",IF($E428=Calc!$C$12,2,IF($E428=Calc!$C$11,1,0))) -> 1
C429: 2 | D429: Take a walk with the dog | E429: Complete | F429: =IF(ISBLANK($E429),"",IF($E429=Calc!$C$12,2,IF($E429=Calc!$C$11,1,0))) -> 2
C430: 3 | D430: Make a reservation for dinner | E430: Not Started | F430: =IF(ISBLANK($E430),"",IF($E430=Calc!$C$12,2,IF($E430=Calc!$C$11,1,0))) -> 0
C431: 4 | D431: Take documents to school | E431: In Progress | F431: =IF(ISBLANK($E431),"",IF($E431=Calc!$C$12,2,IF($E431=Calc!$C$11,1,0))) -> 1
C432: 5 | F432: =IF(ISBLANK($E432),"",IF($E432=Calc!$C$12,2,IF($E432=Calc!$C$11,1,0)))
C433: 6
C434: 7
C435: 8
C436: 9
C437: 10
C438: 11
C439: 12
C440: 13
C441: 14
C442: 15
...

Sheet MonthlyToDoList
C2: DAILY-WEEKLY-MONTHLY TASK LIST TEMPLATE
C3: MONTHLY
I6: June
C12: MONTHS | K12: MONTHLY PROGRESS
C14: JANUARY
C15: Number | D15: To Do | E15: Entry Date | F15: Deadline | G15: Days Left | H15: Status
C16: 1 | D16: Get ready for annual meeting | E16: 44937 | F16: 44954 | G16: =IF(ISBLANK($F16),"",IF($H16=Calc!$C$12,"―",$F16-Calc!$S$2)) -> ― | H16: Complete | I16: =IF(ISBLANK($H16),"",IF($H16=Calc!$C$12,2,IF($H16=Calc!$C$11,1,0))) -> 2
C17: 2 | D17: Finish the first chapter in the game | E17: 44937 | F17: 44955 | G17: =IF(ISBLANK($F17),"",IF($H17=Calc!$C$12,"―",$F17-Calc!$S$2)) -> 4 | H17: Not Started | I17: =IF(ISBLANK($H17),"",IF($H17=Calc!$C$12,2,IF($H17=Calc!$C$11,1,0))) -> 0
C18: 3 | D18: Get the concert ticket | E18: 44937 | F18: 44956 | G18: =IF(ISBLANK($F18),"",IF($H18=Calc!$C$12,"―",$F18-Calc!$S$2)) -> ― | H18: Complete | I18: =IF(ISBLANK($H18),"",IF($H18=Calc!$C$12,2,IF($H18=Calc!$C$11,1,0))) -> 2
C19: 4 | D19: Read half of the book | E19: 44937 | F19: 44957 | G19: =IF(ISBLANK($F19),"",IF($H19=Calc!$C$12,"―",$F19-Calc!$S$2)) -> ― | H19: Complete | I19: =IF(ISBLANK($H19),"",IF($H19=Calc!$C$12,2,IF($H19=Calc!$C$11,1,0))) -> 2
C20: 5 | G20: =IF(ISBLANK($F20),"",IF($H20=Calc!$C$12,"―",$F20-Calc!$S$2)) | I20: =IF(ISBLANK($H20),"",IF($H20=Calc!$C$12,2,IF($H20=Calc!$C$11,1,0)))
C21: 6
C22: 7
C23: 8
C24: 9
C25: 10
C26: 11
C27: 12
C28: 13
C29: 14
C30: 15
C31: 16
C32: 17
... C115: 100
C117: FEBRUARY
C118: Number | D118: To Do | E118: Entry Date | F118: Deadline | G118: Days Left | H118: Status
C119: 1 | D119: Visit the website of | E119: 44937 | F119: 44954 | G119: =IF(ISBLANK($F119),"",IF($H119=Calc!$C$12,"―",$F119-Calc!$S$2)) -> 3 | H119: In Progress | I119: =IF(ISBLANK($H119),"",IF($H119=Calc!$C$12,2,IF($H119=Calc!$C$11,1,0))) -> 1
C120: 2 | D120: Check our free and paid products | E120: 44937 | F120: 44955 | G120: =IF(ISBLANK($F120),"",IF($H120=Calc!$C$12,"―",$F120-Calc!$S$2)) -> ― | H120: Complete | I120: =IF(ISBLANK($H120),"",IF($H120=Calc!$C$12,2,IF($H120=Calc!$C$11,1,0))) -> 2
C121: 3 | D121: Share our products on social media | E121: 44937 | F121: 44956 | G121: =IF(ISBLANK($F121),"",IF($H121=Calc!$C$12,"―",$F121-Calc!$S$2)) -> ― | H121: Complete | I121: =IF(ISBLANK($H121),"",IF($H121=Calc!$C$12,2,IF($H121=Calc!$C$11,1,0))) -> 2
C122: 4 | D122: Increase clickthrough rate by 0.1% | E122: 44937 | F122: 44957 | G122: =IF(ISBLANK($F122),"",IF($H122=Calc!$C$12,"―",$F122-Calc!$S$2)) -> 6 | H122: In Progress | I122: =IF(ISBLANK($H122),"",IF($H122=Calc!$C$12,2,IF($H122=Calc!$C$11,1,0))) -> 1
C123: 5 | G123: =IF(ISBLANK($F123),"",IF($H123=Calc!$C$12,"―",$F123-Calc!$S$2)) | I123: =IF(ISBLANK($H123),"",IF($H123=Calc!$C$12,2,IF($H123=Calc!$C$11,1,0)))
C124: 6
C125: 7
C126: 8
C127: 9
C128: 10
C129: 11
C130: 12
C131: 13
C132: 14
C133: 15
C134: 16
C135: 17
... C218: 100
C220: MARCH
C221: Number | D221: To Do | E221: Entry Date | F221: Deadline | G221: Days Left | H221: Status
C222: 1 | D222: Prepare presentation files | E222: 44937 | F222: 44954 | G222: =IF(ISBLANK($F222),"",IF($H222=Calc!$C$12,"―",$F222-Calc!$S$2)) -> ― | H222: Complete | I222: =IF(ISBLANK($H222),"",IF($H222=Calc!$C$12,2,IF($H222=Calc!$C$11,1,0))) -> 2
C223: 2 | D223: Make hotel reservations | E223: 44937 | F223: 44955 | G223: =IF(ISBLANK($F223),"",IF($H223=Calc!$C$12,"―",$F223-Calc!$S$2)) -> 4 | H223: In Progress | I223: =IF(ISBLANK($H223),"",IF($H223=Calc!$C$12,2,IF($H223=Calc!$C$11,1,0))) -> 1
C224: 3 | D224: Take care of the trees in the garden | E224: 44937 | F224: 44956 | G224: =IF(ISBLANK($F224),"",IF($H224=Calc!$C$12,"―",$F224-Calc!$S$2)) -> 5 | H224: In Progress | I224: =IF(ISBLANK($H224),"",IF($H224=Calc!$C$12,2,IF($H224=Calc!$C$11,1,0))) -> 1
C225: 4 | D225: Prepare a to-do list | E225: 44937 | F225: 44957 | G225: =IF(ISBLANK($F225),"",IF($H225=Calc!$C$12,"―",$F225-Calc!$S$2)) -> 6 | H225: Not Started | I225: =IF(ISBLANK($H225),"",IF($H225=Calc!$C$12,2,IF($H225=Calc!$C$11,1,0))) -> 0
C226: 5 | G226: =IF(ISBLANK($F226),"",IF($H226=Calc!$C$12,"―",$F226-Calc!$S$2)) | I226: =IF(ISBLANK($H226),"",IF($H226=Calc!$C$12,2,IF($H226=Calc!$C$11,1,0)))
C227: 6
C228: 7
C229: 8
C230: 9
C231: 10
C232: 11
C233: 12
C234: 13
C235: 14
C236: 15
C237: 16
C238: 17
... C321: 100
C323: APRIL
C324: Number | D324: To Do | E324: Entry Date | F324: Deadline | G324: Days Left | H324: Status
C325: 1 | D325: Buy a new phone | E325: 44937 | F325: 44954 | G325: =IF(ISBLANK($F325),"",IF($H325=Calc!$C$12,"―",$F325-Calc!$S$2)) -> ― | H325: Complete | I325: =IF(ISBLANK($H325),"",IF($H325=Calc!$C$12,2,IF($H325=Calc!$C$11,1,0))) -> 2
C326: 2 | D326: Complete the renovation of the tables | E326: 44937 | F326: 44955 | G326: =IF(ISBLANK($F326),"",IF($H326=Calc!$C$12,"―",$F326-Calc!$S$2)) -> 4 | H326: In Progress | I326: =IF(ISBLANK($H326),"",IF($H326=Calc!$C$12,2,IF($H326=Calc!$C$11,1,0))) -> 1
C327: 3 | D327: Tighten the door hinge | E327: 44937 | F327: 44956 | G327: =IF(ISBLANK($F327),"",IF($H327=Calc!$C$12,"―",$F327-Calc!$S$2)) -> ― | H327: Complete | I327: =IF(ISBLANK($H327),"",IF($H327=Calc!$C$12,2,IF($H327=Calc!$C$11,1,0))) -> 2
C328: 4 | D328: Watch at least 5 documentaries | E328: 44937 | F328: 44957 | G328: =IF(ISBLANK($F328),"",IF($H328=Calc!$C$12,"―",$F328-Calc!$S$2)) -> ― | H328: Complete | I328: =IF(ISBLANK($H328),"",IF($H328=Calc!$C$12,2,IF($H328=Calc!$C$11,1,0))) -> 2
C329: 5 | G329: =IF(ISBLANK($F329),"",IF($H329=Calc!$C$12,"―",$F329-Calc!$S$2)) | I329: =IF(ISBLANK($H329),"",IF($H329=Calc!$C$12,2,IF($H329=Calc!$C$11,1,0)))
C330: 6
C331: 7
C332: 8
C333: 9
C334: 10
C335: 11
C336: 12
C337: 13
C338: 14
C339: 15
C340: 16
C341: 17
... C424: 100
C426: MAY
C427: Number | D427: To Do | E427: Entry Date | F427: Deadline | G427: Days Left | H427: Status
C428: 1 | D428: Join the gym | E428: 44937 | F428: 44954 | G428: =IF(ISBLANK($F428),"",IF($H428=Calc!$C$12,"―",$F428-Calc!$S$2)) -> ― | H428: Complete | I428: =IF(ISBLANK($H428),"",IF($H428=Calc!$C$12,2,IF($H428=Calc!$C$11,1,0))) -> 2
C429: 2 | D429: Start swimming lesson | E429: 44937 | F429: 44955 | G429: =IF(ISBLANK($F429),"",IF($H429=Calc!$C$12,"―",$F429-Calc!$S$2)) -> 4 | H429: In Progress | I429: =IF(ISBLANK($H429),"",IF($H429=Calc!$C$12,2,IF($H429=Calc!$C$11,1,0))) -> 1
C430: 3 | D430: Repair the bike | E430: 44937 | F430: 44956 | G430: =IF(ISBLANK($F430),"",IF($H430=Calc!$C$12,"―",$F430-Calc!$S$2)) -> 5 | H430: Not Started | I430: =IF(ISBLANK($H430),"",IF($H430=Calc!$C$12,2,IF($H430=Calc!$C$11,1,0))) -> 0
C431: 4 | D431: Clean the garage | E431: 44937 | F431: 44957 | G431: =IF(ISBLANK($F431),"",IF($H431=Calc!$C$12,"―",$F431-Calc!$S$2)) -> 6 | H431: In Progress | I431: =IF(ISBLANK($H431),"",IF($H431=Calc!$C$12,2,IF($H431=Calc!$C$11,1,0))) -> 1
C432: 5 | G432: =IF(ISBLANK($F432),"",IF($H432=Calc!$C$12,"―",$F432-Calc!$S$2)) | I432: =IF(ISBLANK($H432),"",IF($H432=Calc!$C$12,2,IF($H432=Calc!$C$11,1,0)))
C433: 6
C434: 7
C435: 8
C436: 9
C437: 10
C438: 11
C439: 12
C440: 13
C441: 14
...

Sheet Calc
R2: Today: | S2: =TODAY() -> 44951
B3: DAILY | I3: WEEKLY | Q3: MONTHLY
C6: Red | D6: Yellow | E6: Green | F6: TOTAL | J6: Days | K6: Total Completed | L6: Total in Process | M6: Total Not Started | N6: Total Tasks | R6: Days | S6: Total Completed | T6: Total in Process | U6: Total Not Started | V6: Total Tasks
C7: =IFERROR(IF($D$12=0,0,$D$12/$D$13),"") -> 0.4 | D7: =IF(AND($C$7>0.4,$C$7<=0.6),$C$7,0) -> 0 | E7: =IF($C$7>0.6,$C$7,0) -> 0 | F7: 1 | J7: Monday | K7: =IFERROR(COUNTIF(WeeklyToDoList!$E$16:$E$20,$C$12),"") -> 2 | L7: =IFERROR(COUNTIF(WeeklyToDoList!$E$16:$E$20,$C$11),"") -> 1 | M7: =IFERROR(COUNTIF(WeeklyToDoList!$E$16:$E$20,$C$10),"") -> 1 | N7: =IFERROR(COUNTA(WeeklyToDoList!$E$16:$E$20),"") -> 4 | R7: January | S7: =COUNTIF(MonthlyToDoList!$H$16:$H$20,$C$12) -> 3 | T7: =COUNTIF(MonthlyToDoList!$H$16:$H$20,$C$11) -> 0 | U7: =COUNTIF(MonthlyToDoList!$H$16:$H$20,$C$10) -> 1 | V7: =IFERROR(COUNTA(MonthlyToDoList!$H$16:$H$20),"") -> 4
J8: Tuesday | K8: =IFERROR(COUNTIF(WeeklyToDoList!$E$119:$E$123,$C$12),"") -> 3 | L8: =IFERROR(COUNTIF(WeeklyToDoList!$E$119:$E$123,$C$11),"") -> 1 | M8: =IFERROR(COUNTIF(WeeklyToDoList!$E$119:$E$123,$C$10),"") -> 0 | N8: =IFERROR(COUNTA(WeeklyToDoList!$E$119:$E$123),"") -> 4 | R8: February | S8: =COUNTIF(MonthlyToDoList!$H$119:$H$123,$C$12) -> 2 | T8: =COUNTIF(MonthlyToDoList!$H$119:$H$123,$C$11) -> 2 | U8: =COUNTIF(MonthlyToDoList!$H$119:$H$123,$C$10) -> 0 | V8: =IFERROR(COUNTA(MonthlyToDoList!$H$119:$H$123),"") -> 4
C9: Status | D9: # | J9: Wednesday | K9: =IFERROR(COUNTIF(WeeklyToDoList!$E$222:$E$226,$C$12),"") -> 1 | L9: =IFERROR(COUNTIF(WeeklyToDoList!$E$222:$E$226,$C$11),"") -> 2 | M9: =IFERROR(COUNTIF(WeeklyToDoList!$E$222:$E$226,$C$10),"") -> 1 | N9: =IFERROR(COUNTA(WeeklyToDoList!$E$222:$E$226),"") -> 4 | R9: March | S9: =COUNTIF(MonthlyToDoList!$H$222:$H$226,$C$12) -> 1 | T9: =COUNTIF(MonthlyToDoList!$H$222:$H$226,$C$11) -> 2 | U9: =COUNTIF(MonthlyToDoList!$H$222:$H$226,$C$10) -> 1 | V9: =IFERROR(COUNTA(MonthlyToDoList!$H$222:$H$226),"") -> 4
C10: Not Started | D10: =IFERROR(COUNTIF(DailyToDoList!$E$13:$E$22,$C10),"") -> 1 | J10: Thursday | K10: =IFERROR(COUNTIF(WeeklyToDoList!$E$325:$E$329,$C$12),"") -> 3 | L10: =IFERROR(COUNTIF(WeeklyToDoList!$E$325:$E$329,$C$11),"") -> 1 | M10: =IFERROR(COUNTIF(WeeklyToDoList!$E$325:$E$329,$C$10),"") -> 0 | N10: =IFERROR(COUNTA(WeeklyToDoList!$E$325:$E$329),"") -> 4 | R10: April | S10: =COUNTIF(MonthlyToDoList!$H$325:$H$329,$C$12) -> 3 | T10: =COUNTIF(MonthlyToDoList!$H$325:$H$329,$C$11) -> 1 | U10: =COUNTIF(MonthlyToDoList!$H$325:$H$329,$C$10) -> 0 | V10: =IFERROR(COUNTA(MonthlyToDoList!$H$325:$H$329),"") -> 4
C11: In Progress | D11: =IFERROR(COUNTIF(DailyToDoList!$E$13:$E$22,$C11),"") -> 2 | J11: Friday | K11: =IFERROR(COUNTIF(WeeklyToDoList!$E$428:$E$432,$C$12),"") -> 1 | L11: =IFERROR(COUNTIF(WeeklyToDoList!$E$428:$E$432,$C$11),"") -> 2 | M11: =IFERROR(COUNTIF(WeeklyToDoList!$E$428:$E$432,$C$10),"") -> 1 | N11: =IFERROR(COUNTA(WeeklyToDoList!$E$428:$E$432),"") -> 4 | R11: May | S11: =COUNTIF(MonthlyToDoList!$H$428:$H$432,$C$12) -> 1 | T11: =COUNTIF(MonthlyToDoList!$H$428:$H$432,$C$11) -> 2 | U11: =COUNTIF(MonthlyToDoList!$H$428:$H$432,$C$10) -> 1 | V11: =IFERROR(COUNTA(MonthlyToDoList!$H$428:$H$432),"") -> 4
C12: Complete | D12: =IFERROR(COUNTIF(DailyToDoList!$E$13:$E$22,$C12),"") -> 2 | J12: Saturday | K12: =IFERROR(COUNTIF(WeeklyToDoList!$E$531:$E$535,$C$12),"") -> 2 | L12: =IFERROR(COUNTIF(WeeklyToDoList!$E$531:$E$535,$C$11),"") -> 1 | M12: =IFERROR(COUNTIF(WeeklyToDoList!$E$531:$E$535,$C$10),"") -> 1 | N12: =IFERROR(COUNTA(WeeklyToDoList!$E$531:$E$535),"") -> 4 | R12: June | S12: =COUNTIF(MonthlyToDoList!$H$531:$H$535,$C$12) -> 3 | T12: =COUNTIF(MonthlyToDoList!$H$531:$H$535,$C$11) -> 0 | U12: =COUNTIF(MonthlyToDoList!$H$531:$H$535,$C$10) -> 1 | V12: =IFERROR(COUNTA(MonthlyToDoList!$H$531:$H$535),"") -> 4
C13: Total Tasks | D13: =IFERROR(COUNTIF(DailyToDoList!$E$13:$E$22,"?*"),"") -> 5 | J13: Sunday | K13: =IFERROR(COUNTIF(WeeklyToDoList!$E$634:$E$638,$C$12),"") -> 2 | L13: =IFERROR(COUNTIF(WeeklyToDoList!$E$634:$E$638,$C$11),"") -> 2 | M13: =IFERROR(COUNTIF(WeeklyToDoList!$E$634:$E$638,$C$10),"") -> 0 | N13: =IFERROR(COUNTA(WeeklyToDoList!$E$634:$E$638),"") -> 4 | R13: July | S13: =COUNTIF(MonthlyToDoList!$H$634:$H$638,$C$12) -> 1 | T13: =COUNTIF(MonthlyToDoList!$H$634:$H$638,$C$11) -> 2 | U13: =COUNTIF(MonthlyToDoList!$H$634:$H$638,$C$10) -> 1 | V13: =IFERROR(COUNTA(MonthlyToDoList!$H$634:$H$638),"") -> 4
J14: Total | K14: =IFERROR(SUM($K$7:$K$13),"") -> 14 | L14: =IFERROR(SUM($L$7:$L$13),"") -> 10 | M14: =IFERROR(SUM($M$7:$M$13),"") -> 4 | N14: =IFERROR(SUM($N$7:$N$13),"") -> 28 | R14: August | S14: =COUNTIF(MonthlyToDoList!$H$737:$H$741,$C$12) -> 4 | T14: =COUNTIF(MonthlyToDoList!$H$737:$H$741,$C$11) -> 0 | U14: =COUNTIF(MonthlyToDoList!$H$737:$H$741,$C$10) -> 0 | V14: =IFERROR(COUNTA(MonthlyToDoList!$H$737:$H$741),"") -> 4
R15: September | S15: =COUNTIF(MonthlyToDoList!$H$840:$H$844,$C$12) -> 2 | T15: =COUNTIF(MonthlyToDoList!$H$840:$H$844,$C$11) -> 1 | U15: =COUNTIF(MonthlyToDoList!$H$840:$H$844,$C$10) -> 1 | V15: =IFERROR(COUNTA(MonthlyToDoList!$H$840:$H$844),"") -> 4
J16: Red | K16: Yellow | L16: Green | M16: TOTAL | R16: October | S16: =COUNTIF(MonthlyToDoList!$H$943:$H$947,$C$12) -> 3 | T16: =COUNTIF(MonthlyToDoList!$H$943:$H$947,$C$11) -> 0 | U16: =COUNTIF(MonthlyToDoList!$H$943:$H$947,$C$10) -> 1 | V16: =IFERROR(COUNTA(MonthlyToDoList!$H$943:$H$947),"") -> 4
J17: =IFERROR(Calc!$K$14/$N$14,"") -> 0.5 | K17: =IFERROR(IF(AND($J$17>0.4,$J$17<=0.6),$J$17,""),"") -> 0.5 | L17: =IFERROR(IF($J$17>0.6,$J$17,""),"") | M17: 1 | R17: November | S17: =COUNTIF(MonthlyToDoList!$H$1046:$H$1050,$C$12) -> 2 | T17: =COUNTIF(MonthlyToDoList!$H$1046:$H$1050,$C$11) -> 1 | U17: =COUNTIF(MonthlyToDoList!$H$1046:$H$1050,$C$10) -> 1 | V17: =IFERROR(COUNTA(MonthlyToDoList!$H$1046:$H$1050),"") -> 4
R18: December | S18: =COUNTIF(MonthlyToDoList!$H$1149:$H$1153,$C$12) -> 1 | T18: =COUNTIF(MonthlyToDoList!$H$1149:$H$1153,$C$11) -> 2 | U18: =COUNTIF(MonthlyToDoList!$H$1149:$H$1153,$C$10) -> 1 | V18: =IFERROR(COUNTA(MonthlyToDoList!$H$1149:$H$1153),"") -> 4
B19: DASHBOARD | J19: MONDAY | M19: TUESDAY | R19: Total | S19: =IFERROR(SUM($S$7:$S$18),"") -> 26 | T19: =IFERROR(SUM(T7:T18),"") -> 13 | U19: =IFERROR(SUM(U7:U18),"") -> 9 | V19: =IFERROR(SUM(V7:V18),"") -> 48
J20: =$C$12 -> Complete | K20: =IFERROR(COUNTIF(WeeklyToDoList!$E$16:$E$20,$C$12),"") -> 2 | M20: =$C$12 -> Complete | N20: =IFERROR(COUNTIF(WeeklyToDoList!$E$119:$E$123,$C$12),"") -> 3
C21: DAILY | E21: WEEKLY | J21: Total | K21: =IFERROR(COUNTA(WeeklyToDoList!$E$16:$E$20),"") -> 4 | M21: Total | N21: =IFERROR(COUNTA(WeeklyToDoList!$E$119:$E$123),"") -> 4 | R21: YEARLY
C22: Status | D22: # | E22: Status | F22: # | R22: Red | S22: Yellow | T22: Green | U22: TOTAL
C23: =$C10 -> Not Started | D23: =$D$10 -> 1 | E23: =$C10 -> Not Started | F23: =$M$14 -> 4 | J23: % complete | K23: =IFERROR($K$20/$K$21,"") -> 0.5 | M23: % complete | N23: =IFERROR(N20/N21,"") -> 0.75 | R23: =IFERROR(Calc!$S$19/$V$19,"") -> 0.54166667 | S23: =IFERROR(IF(AND($R$23>0.4,$R$23<=0.6),$R$23,""),"") -> 0.54166667 | T23: =IFERROR(IF($R$23>0.6,$R$23,""),"") | U23: 1
C24: =$C11 -> In Progress | D24: =$D$11 -> 2 | E24: =$C11 -> In Progress | F24: =$L$14 -> 10 | J24: % total | K24: =IFERROR(100%-$K$23,"") -> 0.5 | M24: % total | N24: =IFERROR(100%-N23,"") -> 0.25
C25: =$C12 -> Complete | D25: =$D$12 -> 2 | E25: =$C12 -> Complete | F25: =$K$14 -> 14 | R25: SELECTED MONTH
C26: =$C13 -> Total Tasks | D26: =$D$13 -> 5 | E26: =$C13 -> Total Tasks | F26: =$N$14 -> 28 | R26: M Tasks | S26: M Completed | T26: M In Process | U26: M Not Started
J27: WEDNESDAY | M27: THURSDAY | R27: =IFERROR(SUMIF($R$7:$R$18,MonthlyToDoList!$I$6,$V$7:$V$18),"") -> 4 | S27: =IFERROR(SUMIF($R$7:$R$18,MonthlyToDoList!$I$6,S7:S18),"") -> 3 | T27: =IFERROR(SUMIF($R$7:$R$18,MonthlyToDoList!$I$6,T7:T18),"") -> 0 | U27: =IFERROR(SUMIF($R$7:$R$18,MonthlyToDoList!$I$6,U7:U18),"") -> 1
J28: =$C$12 -> Complete | K28: =IFERROR(COUNTIF(WeeklyToDoList!$E$222:$E$226,$C$12),"") -> 1 | M28: =$C$12 -> Complete | N28: =IFERROR(COUNTIF(WeeklyToDoList!$E$325:$E$329,$C$12),"") -> 3
D29: MONTHLY | J29: Total | K29: =IFERROR(COUNTA(WeeklyToDoList!$E$222:$E$226),"") -> 4 | M29: Total | N29: =IFERROR(COUNTA(WeeklyToDoList!$E$325:$E$329),"") -> 4 | R29: SELECTED MONTH
D30: Status | E30: # | R30: Red | S30: Yellow | T30: Green | U30: TOTAL
D31: =C10 -> Not Started | E31: =$U$19 -> 9 | J31: % complete | K31: =IFERROR(K28/K29,"") -> 0.25 | M31: % complete | N31: =IFERROR(N28/N29,"") -> 0.75 | R31: =IFERROR($S$27/$R$27,"") -> 0.75 | S31: =IFERROR(IF(AND($R$31>0.4,$R$31<=0.6),$R$31,""),"") | T31: =IFERROR(IF($R$31>0.6,$R$31,""),"") -> 0.75 | U31: 1
D32: =C11 -> In Progress | E32: =$T$19 -> 13 | J32: % total | K32: =IFERROR(100%-K31,"") -> 0.75 | M32: % total | N32: =IFERROR(100%-N31,"") -> 0.25
D33: =C12 -> Complete | E33: =$S$19 -> 26 | R33: JANUARY | U33: FEBRUARY
D34: =C13 -> Total Tasks | E34: =$V$19 -> 48 | R34: =$C$12 -> Complete | S34: =COUNTIF(MonthlyToDoList!$H$16:$H$20,$C$12) -> 3 | U34: =$C$12 -> Complete | V34: =COUNTIF(MonthlyToDoList!$H$119:$H$123,$C$12) -> 2
J35: FRIDAY | M35: SATURDAY | R35: Total | S35: =IFERROR(COUNTA(MonthlyToDoList!$H$16:$H$20),"") -> 4 | U35: Total | V35: =IFERROR(COUNTA(MonthlyToDoList!$H$119:$H$123),"") -> 4
J36: =$C$12 -> Complete | K36: =IFERROR(COUNTIF(WeeklyToDoList!$E$428:$E$432,$C$12),"") -> 1 | M36: =$C$12 -> Complete | N36: =IFERROR(COUNTIF(WeeklyToDoList!$E$531:$E$535,$C$12),"") -> 2
B37: PRINT AREA CALCULATION | J37: Total | K37: =IFERROR(COUNTA(WeeklyToDoList!$E$428:$E$432),"") -> 4 | M37: Total | N37: =IFERROR(COUNTA(WeeklyToDoList!$E$531:$E$535),"") -> 4 | R37: % complete | S37: =IFERROR(S34/S35,"") -> 0.75 | U37: % complete | V37: =IFERROR(V34/V35,"") -> 0.5
R38: % total | S38: =IFERROR(100%-S37,"") -> 0.25 | U38: % total | V38: =IFERROR(100%-V37,"") -> 0.5
C39: DAILY | E39: {=MAX(IF(LEN(DailyToDoList!$D$1:$D$112)>0,ROW(DailyToDoList!$D$1:$D$112),""),32)} -> 32 | J39: % complete | K39: =IFERROR(K36/K37,"") -> 0.25 | M39: % complete | N39: =IFERROR(N36/N37,"") -> 0.5
J40: % total | K40: =IFERROR(100%-K39,"") -> 0.75 | M40: % total | N40: =IFERROR(100%-N39,"") -> 0.5
R41: MARCH | U41: APRIL
J42: SUNDAY | R42: =$C$12 -> Complete | S42: =COUNTIF(MonthlyToDoList!$H$222:$H$226,$C$12) -> 1 | U42: =$C$12 -> Complete | V42: =COUNTIF(MonthlyToDoList!$H$325:$H$329,$C$12) -> 3
J43: =$C$12 -> Complete | K43: =IFERROR(COUNTIF(WeeklyToDoList!$E$634:$E$638,$C$12),"") -> 2 | R43: Total | S43: =IFERROR(COUNTA(MonthlyToDoList!$H$222:$H$226),"") -> 4 | U43: Total | V43: =IFERROR(COUNTA(MonthlyToDoList!$H$325:$H$329),"") -> 4
J44: Total | K44: =IFERROR(COUNTA(WeeklyToDoList!$E$634:$E$638),"") -> 4
R45: % complete | S45: =IFERROR(S42/S43,"") -> 0.25 | U45: % complete | V45: =IFERROR(V42/V43,"") -> 0.75
J46: % complete | K46: =IFERROR(K43/K44,"") -> 0.5 | R46: % total | S46: =IFERROR(100%-S45,"") -> 0.75 | U46: % total | V46: =IFERROR(100%-V45,"") -> 0.25
J47: % total | K47: =IFERROR(100%-K46,"") -> 0.5
R49: MAY | U49: JUNE
R50: =$C$12 -> Complete | S50: =COUNTIF(MonthlyToDoList!$H$428:$H$432,$C$12) -> 1 | U50: =$C$12 -> Complete | V50: =COUNTIF(MonthlyToDoList!$H$531:$H$535,$C$12) -> 3
R51: Total | S51: =IFERROR(COUNTA(MonthlyToDoList!$H$428:$H$432),"") -> 4 | U51: Total | V51: =IFERROR(COUNTA(MonthlyToDoList!$H$531:$H$535),"") -> 4
R53: % complete | S53: =IFERROR(S50/S51,"") -> 0.25 | U53: % complete | V53: =IFERROR(V50/V51,"") -> 0.75
R54: % total | S54: =IFERROR(100%-S53,"") -> 0.75 | U54: % total | V54: =IFERROR(100%-V53,"") -> 0.25
R57: JULY | U57: AUGUST
R58: =$C$12 -> Complete | S58: =COUNTIF(MonthlyToDoList!$H$634:$H$638,$C$12) -> 1 | U58: =$C$12 -> Complete | V58: =COUNTIF(MonthlyToDoList!$H$737:$H$741,$C$12) -> 4
R59: Total | S59: =IFERROR(COUNTA(MonthlyToDoList!$H$634:$H$638),"") -> 4 | U59: Total | V59: =IFERROR(COUNTA(MonthlyToDoList!$H$737:$H$741),"") -> 4
R61: % complete | S61: =IFERROR(S58/S59,"") -> 0.25 | U61: % complete | V61: =IFERROR(V58/V59,"") -> 1
R62: % total | S62: =IFERROR(100%-S61,"") -> 0.75 | U62: % total | V62: =IFERROR(100%-V61,"") -> 0
R65: SEPTEMBER | U65: OCTOBER
R66: =$C$12 -> Complete | S66: =COUNTIF(MonthlyToDoList!$H$840:$H$844,$C$12) -> 2 | U66: =$C$12 -> Complete | V66: =COUNTIF(MonthlyToDoList!$H$943:$H$947,$C$12) -> 3
R67: Total | S67: =IFERROR(COUNTA(MonthlyToDoList!$H$840:$H$844),"") -> 4 | U67: Total | V67: =IFERROR(COUNTA(MonthlyToDoList!$H$943:$H$947),"") -> 4
R69: % complete | S69: =IFERROR(S66/S67,"") -> 0.5 | U69: % complete | V69: =IFERROR(V66/V67,"") -> 0.75
R70: % total | S70: =IFERROR(100%-S69,"") -> 0.5 | U70: % total | V70: =IFERROR(100%-V69,"") -> 0.25
R73: NOVEMBER | U73: DECEMBER
R74: =$C$12 -> Complete | S74: =COUNTIF(MonthlyToDoList!$H$1046:$H$1050,$C$12) -> 2 | U74: =$C$12 -> Complete | V74: =COUNTIF(MonthlyToDoList!$H$1149:$H$1153,$C$12) -> 1
R75: Total | S75: =IFERROR(COUNTA(MonthlyToDoList!$H$1046:$H$1050),"") -> 4 | U75: Total | V75: =IFERROR(COUNTA(MonthlyToDoList!$H$1149:$H$1153),"") -> 4
R77: % complete | S77: =IFERROR(S74/S75,"") -> 0.5 | U77: % complete | V77: =IFERROR(V74/V75,"") -> 0.25
R78: % total | S78: =IFERROR(100%-S77,"") -> 0.5 | U78: % total | V78: =IFERROR(100%-V77,"") -> 0.75
