Workbook
Name code_report: Calc!$L$24
Name setting: Dashboard!$K$8
Name status: Charts!$E$13
Name task_type: Charts!$E$10

Sheet Dashboard
C2: ACTION PRIORITY MATRIX
C3: DASHBOARD
C6: Low Effort | D6: High Effort | F6: ACTIONS
B7: High Impact | C7: {=IFERROR(IF(setting="Remove",INDEX(Calc!$C$7:$C$21,SMALL(IF((LEN(Calc!$C$7:$C$21)>0)*(Calc!$B$7:$B$21="Yes"),ROW(Calc!$C$7:$C$21)-ROW(Calc!$C$6),""),ROW(Calc!$C7)-ROW(Calc!$C$6))),Calc!$C7),"")} -> Social media management | D7: {=IFERROR(IF(setting="Remove",INDEX(Calc!$D$7:$D$21,SMALL(IF((LEN(Calc!$D$7:$D$21)>0)*(Calc!$E$7:$E$21="Yes"),ROW(Calc!$D$7:$D$21)-ROW(Calc!$D$6),""),ROW(Calc!$D7)-ROW(Calc!$D$6))),Calc!$D7),"")} -> Manage inventory & orders | F7: Description | G7: Impact | H7: Effort | I7: Status | K7: Finished Tasks
C8: {=IFERROR(IF(setting="Remove",INDEX(Calc!$C$7:$C$21,SMALL(IF((LEN(Calc!$C$7:$C$21)>0)*(Calc!$B$7:$B$21="Yes"),ROW(Calc!$C$7:$C$21)-ROW(Calc!$C$6),""),ROW(Calc!$C8)-ROW(Calc!$C$6))),Calc!$C8),"")} -> Tracking competitor SEO | D8: {=IFERROR(IF(setting="Remove",INDEX(Calc!$D$7:$D$21,SMALL(IF((LEN(Calc!$D$7:$D$21)>0)*(Calc!$E$7:$E$21="Yes"),ROW(Calc!$D$7:$D$21)-ROW(Calc!$D$6),""),ROW(Calc!$D8)-ROW(Calc!$D$6))),Calc!$D8),"")} -> Mobile app development | E8: =IFERROR(IF(COUNTIF($F$8:$F8,$F8)>1,"!",""),"") | F8: Tracking competitors' prices | G8: Low | H8: Low | I8: In Progress | K8: Cross out
C9: {=IFERROR(IF(setting="Remove",INDEX(Calc!$C$7:$C$21,SMALL(IF((LEN(Calc!$C$7:$C$21)>0)*(Calc!$B$7:$B$21="Yes"),ROW(Calc!$C$7:$C$21)-ROW(Calc!$C$6),""),ROW(Calc!$C9)-ROW(Calc!$C$6))),Calc!$C9),"")} | D9: {=IFERROR(IF(setting="Remove",INDEX(Calc!$D$7:$D$21,SMALL(IF((LEN(Calc!$D$7:$D$21)>0)*(Calc!$E$7:$E$21="Yes"),ROW(Calc!$D$7:$D$21)-ROW(Calc!$D$6),""),ROW(Calc!$D9)-ROW(Calc!$D$6))),Calc!$D9),"")} -> Refund process development | E9: =IFERROR(IF(COUNTIF($F$8:$F9,$F9)>1,"!",""),"") | F9: Social media management | G9: High | H9: Low | I9: Not Started
C10: {=IFERROR(IF(setting="Remove",INDEX(Calc!$C$7:$C$21,SMALL(IF((LEN(Calc!$C$7:$C$21)>0)*(Calc!$B$7:$B$21="Yes"),ROW(Calc!$C$7:$C$21)-ROW(Calc!$C$6),""),ROW(Calc!$C10)-ROW(Calc!$C$6))),Calc!$C10),"")} | D10: {=IFERROR(IF(setting="Remove",INDEX(Calc!$D$7:$D$21,SMALL(IF((LEN(Calc!$D$7:$D$21)>0)*(Calc!$E$7:$E$21="Yes"),ROW(Calc!$D$7:$D$21)-ROW(Calc!$D$6),""),ROW(Calc!$D10)-ROW(Calc!$D$6))),Calc!$D10),"")} | E10: =IFERROR(IF(COUNTIF($F$8:$F10,$F10)>1,"!",""),"") | F10: Tracking competitor social media | G10: Low | H10: Low | I10: Not Started
C11: {=IFERROR(IF(setting="Remove",INDEX(Calc!$C$7:$C$21,SMALL(IF((LEN(Calc!$C$7:$C$21)>0)*(Calc!$B$7:$B$21="Yes"),ROW(Calc!$C$7:$C$21)-ROW(Calc!$C$6),""),ROW(Calc!$C11)-ROW(Calc!$C$6))),Calc!$C11),"")} | D11: {=IFERROR(IF(setting="Remove",INDEX(Calc!$D$7:$D$21,SMALL(IF((LEN(Calc!$D$7:$D$21)>0)*(Calc!$E$7:$E$21="Yes"),ROW(Calc!$D$7:$D$21)-ROW(Calc!$D$6),""),ROW(Calc!$D11)-ROW(Calc!$D$6))),Calc!$D11),"")} | E11: =IFERROR(IF(COUNTIF($F$8:$F11,$F11)>1,"!",""),"") | F11: Creating contents for social media and blog | G11: Low | H11: Low | I11: Done
C12: {=IFERROR(IF(setting="Remove",INDEX(Calc!$C$7:$C$21,SMALL(IF((LEN(Calc!$C$7:$C$21)>0)*(Calc!$B$7:$B$21="Yes"),ROW(Calc!$C$7:$C$21)-ROW(Calc!$C$6),""),ROW(Calc!$C12)-ROW(Calc!$C$6))),Calc!$C12),"")} | D12: {=IFERROR(IF(setting="Remove",INDEX(Calc!$D$7:$D$21,SMALL(IF((LEN(Calc!$D$7:$D$21)>0)*(Calc!$E$7:$E$21="Yes"),ROW(Calc!$D$7:$D$21)-ROW(Calc!$D$6),""),ROW(Calc!$D12)-ROW(Calc!$D$6))),Calc!$D12),"")} | E12: =IFERROR(IF(COUNTIF($F$8:$F12,$F12)>1,"!",""),"") | F12: Uploading products | G12: Low | H12: High | I12: Not Started
C13: {=IFERROR(IF(setting="Remove",INDEX(Calc!$C$7:$C$21,SMALL(IF((LEN(Calc!$C$7:$C$21)>0)*(Calc!$B$7:$B$21="Yes"),ROW(Calc!$C$7:$C$21)-ROW(Calc!$C$6),""),ROW(Calc!$C13)-ROW(Calc!$C$6))),Calc!$C13),"")} | D13: {=IFERROR(IF(setting="Remove",INDEX(Calc!$D$7:$D$21,SMALL(IF((LEN(Calc!$D$7:$D$21)>0)*(Calc!$E$7:$E$21="Yes"),ROW(Calc!$D$7:$D$21)-ROW(Calc!$D$6),""),ROW(Calc!$D13)-ROW(Calc!$D$6))),Calc!$D13),"")} | E13: =IFERROR(IF(COUNTIF($F$8:$F13,$F13)>1,"!",""),"") | F13: Website maintenance | G13: Low | H13: High | I13: In Progress
C14: {=IFERROR(IF(setting="Remove",INDEX(Calc!$C$7:$C$21,SMALL(IF((LEN(Calc!$C$7:$C$21)>0)*(Calc!$B$7:$B$21="Yes"),ROW(Calc!$C$7:$C$21)-ROW(Calc!$C$6),""),ROW(Calc!$C14)-ROW(Calc!$C$6))),Calc!$C14),"")} | D14: {=IFERROR(IF(setting="Remove",INDEX(Calc!$D$7:$D$21,SMALL(IF((LEN(Calc!$D$7:$D$21)>0)*(Calc!$E$7:$E$21="Yes"),ROW(Calc!$D$7:$D$21)-ROW(Calc!$D$6),""),ROW(Calc!$D14)-ROW(Calc!$D$6))),Calc!$D14),"")} | E14: =IFERROR(IF(COUNTIF($F$8:$F14,$F14)>1,"!",""),"") | F14: Manage inventory & orders | G14: High | H14: High | I14: In Progress
C15: {=IFERROR(IF(setting="Remove",INDEX(Calc!$C$7:$C$21,SMALL(IF((LEN(Calc!$C$7:$C$21)>0)*(Calc!$B$7:$B$21="Yes"),ROW(Calc!$C$7:$C$21)-ROW(Calc!$C$6),""),ROW(Calc!$C15)-ROW(Calc!$C$6))),Calc!$C15),"")} | D15: {=IFERROR(IF(setting="Remove",INDEX(Calc!$D$7:$D$21,SMALL(IF((LEN(Calc!$D$7:$D$21)>0)*(Calc!$E$7:$E$21="Yes"),ROW(Calc!$D$7:$D$21)-ROW(Calc!$D$6),""),ROW(Calc!$D15)-ROW(Calc!$D$6))),Calc!$D15),"")} | E15: =IFERROR(IF(COUNTIF($F$8:$F15,$F15)>1,"!",""),"") | F15: Tracking competitor SEO | G15: High | H15: Low | I15: Done
C16: {=IFERROR(IF(setting="Remove",INDEX(Calc!$C$7:$C$21,SMALL(IF((LEN(Calc!$C$7:$C$21)>0)*(Calc!$B$7:$B$21="Yes"),ROW(Calc!$C$7:$C$21)-ROW(Calc!$C$6),""),ROW(Calc!$C16)-ROW(Calc!$C$6))),Calc!$C16),"")} | D16: {=IFERROR(IF(setting="Remove",INDEX(Calc!$D$7:$D$21,SMALL(IF((LEN(Calc!$D$7:$D$21)>0)*(Calc!$E$7:$E$21="Yes"),ROW(Calc!$D$7:$D$21)-ROW(Calc!$D$6),""),ROW(Calc!$D16)-ROW(Calc!$D$6))),Calc!$D16),"")} | E16: =IFERROR(IF(COUNTIF($F$8:$F16,$F16)>1,"!",""),"") | F16: Mobile app development | G16: High | H16: High | I16: In Progress
C17: {=IFERROR(IF(setting="Remove",INDEX(Calc!$C$7:$C$21,SMALL(IF((LEN(Calc!$C$7:$C$21)>0)*(Calc!$B$7:$B$21="Yes"),ROW(Calc!$C$7:$C$21)-ROW(Calc!$C$6),""),ROW(Calc!$C17)-ROW(Calc!$C$6))),Calc!$C17),"")} | D17: {=IFERROR(IF(setting="Remove",INDEX(Calc!$D$7:$D$21,SMALL(IF((LEN(Calc!$D$7:$D$21)>0)*(Calc!$E$7:$E$21="Yes"),ROW(Calc!$D$7:$D$21)-ROW(Calc!$D$6),""),ROW(Calc!$D17)-ROW(Calc!$D$6))),Calc!$D17),"")} | E17: =IFERROR(IF(COUNTIF($F$8:$F17,$F17)>1,"!",""),"") | F17: Refund process development | G17: High | H17: High | I17: In Progress
C18: {=IFERROR(IF(setting="Remove",INDEX(Calc!$C$7:$C$21,SMALL(IF((LEN(Calc!$C$7:$C$21)>0)*(Calc!$B$7:$B$21="Yes"),ROW(Calc!$C$7:$C$21)-ROW(Calc!$C$6),""),ROW(Calc!$C18)-ROW(Calc!$C$6))),Calc!$C18),"")} | D18: {=IFERROR(IF(setting="Remove",INDEX(Calc!$D$7:$D$21,SMALL(IF((LEN(Calc!$D$7:$D$21)>0)*(Calc!$E$7:$E$21="Yes"),ROW(Calc!$D$7:$D$21)-ROW(Calc!$D$6),""),ROW(Calc!$D18)-ROW(Calc!$D$6))),Calc!$D18),"")} | E18: =IFERROR(IF(COUNTIF($F$8:$F18,$F18)>1,"!",""),"")
C19: {=IFERROR(IF(setting="Remove",INDEX(Calc!$C$7:$C$21,SMALL(IF((LEN(Calc!$C$7:$C$21)>0)*(Calc!$B$7:$B$21="Yes"),ROW(Calc!$C$7:$C$21)-ROW(Calc!$C$6),""),ROW(Calc!$C19)-ROW(Calc!$C$6))),Calc!$C19),"")} | D19: {=IFERROR(IF(setting="Remove",INDEX(Calc!$D$7:$D$21,SMALL(IF((LEN(Calc!$D$7:$D$21)>0)*(Calc!$E$7:$E$21="Yes"),ROW(Calc!$D$7:$D$21)-ROW(Calc!$D$6),""),ROW(Calc!$D19)-ROW(Calc!$D$6))),Calc!$D19),"")} | E19: =IFERROR(IF(COUNTIF($F$8:$F19,$F19)>1,"!",""),"")
C20: {=IFERROR(IF(setting="Remove",INDEX(Calc!$C$7:$C$21,SMALL(IF((LEN(Calc!$C$7:$C$21)>0)*(Calc!$B$7:$B$21="Yes"),ROW(Calc!$C$7:$C$21)-ROW(Calc!$C$6),""),ROW(Calc!$C20)-ROW(Calc!$C$6))),Calc!$C20),"")} | D20: {=IFERROR(IF(setting="Remove",INDEX(Calc!$D$7:$D$21,SMALL(IF((LEN(Calc!$D$7:$D$21)>0)*(Calc!$E$7:$E$21="Yes"),ROW(Calc!$D$7:$D$21)-ROW(Calc!$D$6),""),ROW(Calc!$D20)-ROW(Calc!$D$6))),Calc!$D20),"")} | E20: =IFERROR(IF(COUNTIF($F$8:$F20,$F20)>1,"!",""),"")
C21: {=IFERROR(IF(setting="Remove",INDEX(Calc!$C$7:$C$21,SMALL(IF((LEN(Calc!$C$7:$C$21)>0)*(Calc!$B$7:$B$21="Yes"),ROW(Calc!$C$7:$C$21)-ROW(Calc!$C$6),""),ROW(Calc!$C21)-ROW(Calc!$C$6))),Calc!$C21),"")} | D21: {=IFERROR(IF(setting="Remove",INDEX(Calc!$D$7:$D$21,SMALL(IF((LEN(Calc!$D$7:$D$21)>0)*(Calc!$E$7:$E$21="Yes"),ROW(Calc!$D$7:$D$21)-ROW(Calc!$D$6),""),ROW(Calc!$D21)-ROW(Calc!$D$6))),Calc!$D21),"")} | E21: =IFERROR(IF(COUNTIF($F$8:$F21,$F21)>1,"!",""),"")
B22: Low Impact | C22: {=IFERROR(IF(setting="Remove",INDEX(Calc!$C$22:$C$36,SMALL(IF((LEN(Calc!$C$22:$C$36)>0)*(Calc!$B$22:$B$36="Yes"),ROW(Calc!$C$22:$C$36)-ROW(Calc!$C$21),""),ROW(Calc!$C22)-ROW(Calc!$C$21))),Calc!$C22),"")} -> Tracking competitors' prices | D22: {=IFERROR(IF(setting="Remove",INDEX(Calc!$D$22:$D$36,SMALL(IF((LEN(Calc!$D$22:$D$36)>0)*(Calc!$E$22:$E$36="Yes"),ROW(Calc!$D$22:$D$36)-ROW(Calc!$D$21),""),ROW(Calc!$D22)-ROW(Calc!$D$21))),Calc!$D22),"")} -> Uploading products
C23: {=IFERROR(IF(setting="Remove",INDEX(Calc!$C$22:$C$36,SMALL(IF((LEN(Calc!$C$22:$C$36)>0)*(Calc!$B$22:$B$36="Yes"),ROW(Calc!$C$22:$C$36)-ROW(Calc!$C$21),""),ROW(Calc!$C23)-ROW(Calc!$C$21))),Calc!$C23),"")} -> Tracking competitor social media | D23: {=IFERROR(IF(setting="Remove",INDEX(Calc!$D$22:$D$36,SMALL(IF((LEN(Calc!$D$22:$D$36)>0)*(Calc!$E$22:$E$36="Yes"),ROW(Calc!$D$22:$D$36)-ROW(Calc!$D$21),""),ROW(Calc!$D23)-ROW(Calc!$D$21))),Calc!$D23),"")} -> Website maintenance
C24: {=IFERROR(IF(setting="Remove",INDEX(Calc!$C$22:$C$36,SMALL(IF((LEN(Calc!$C$22:$C$36)>0)*(Calc!$B$22:$B$36="Yes"),ROW(Calc!$C$22:$C$36)-ROW(Calc!$C$21),""),ROW(Calc!$C24)-ROW(Calc!$C$21))),Calc!$C24),"")} -> Creating contents for social media and blog | D24: {=IFERROR(IF(setting="Remove",INDEX(Calc!$D$22:$D$36,SMALL(IF((LEN(Calc!$D$22:$D$36)>0)*(Calc!$E$22:$E$36="Yes"),ROW(Calc!$D$22:$D$36)-ROW(Calc!$D$21),""),ROW(Calc!$D24)-ROW(Calc!$D$21))),Calc!$D24),"")}
C25: {=IFERROR(IF(setting="Remove",INDEX(Calc!$C$22:$C$36,SMALL(IF((LEN(Calc!$C$22:$C$36)>0)*(Calc!$B$22:$B$36="Yes"),ROW(Calc!$C$22:$C$36)-ROW(Calc!$C$21),""),ROW(Calc!$C25)-ROW(Calc!$C$21))),Calc!$C25),"")} | D25: {=IFERROR(IF(setting="Remove",INDEX(Calc!$D$22:$D$36,SMALL(IF((LEN(Calc!$D$22:$D$36)>0)*(Calc!$E$22:$E$36="Yes"),ROW(Calc!$D$22:$D$36)-ROW(Calc!$D$21),""),ROW(Calc!$D25)-ROW(Calc!$D$21))),Calc!$D25),"")}
C26: {=IFERROR(IF(setting="Remove",INDEX(Calc!$C$22:$C$36,SMALL(IF((LEN(Calc!$C$22:$C$36)>0)*(Calc!$B$22:$B$36="Yes"),ROW(Calc!$C$22:$C$36)-ROW(Calc!$C$21),""),ROW(Calc!$C26)-ROW(Calc!$C$21))),Calc!$C26),"")} | D26: {=IFERROR(IF(setting="Remove",INDEX(Calc!$D$22:$D$36,SMALL(IF((LEN(Calc!$D$22:$D$36)>0)*(Calc!$E$22:$E$36="Yes"),ROW(Calc!$D$22:$D$36)-ROW(Calc!$D$21),""),ROW(Calc!$D26)-ROW(Calc!$D$21))),Calc!$D26),"")}
C27: {=IFERROR(IF(setting="Remove",INDEX(Calc!$C$22:$C$36,SMALL(IF((LEN(Calc!$C$22:$C$36)>0)*(Calc!$B$22:$B$36="Yes"),ROW(Calc!$C$22:$C$36)-ROW(Calc!$C$21),""),ROW(Calc!$C27)-ROW(Calc!$C$21))),Calc!$C27),"")} | D27: {=IFERROR(IF(setting="Remove",INDEX(Calc!$D$22:$D$36,SMALL(IF((LEN(Calc!$D$22:$D$36)>0)*(Calc!$E$22:$E$36="Yes"),ROW(Calc!$D$22:$D$36)-ROW(Calc!$D$21),""),ROW(Calc!$D27)-ROW(Calc!$D$21))),Calc!$D27),"")}
C28: {=IFERROR(IF(setting="Remove",INDEX(Calc!$C$22:$C$36,SMALL(IF((LEN(Calc!$C$22:$C$36)>0)*(Calc!$B$22:$B$36="Yes"),ROW(Calc!$C$22:$C$36)-ROW(Calc!$C$21),""),ROW(Calc!$C28)-ROW(Calc!$C$21))),Calc!$C28),"")} | D28: {=IFERROR(IF(setting="Remove",INDEX(Calc!$D$22:$D$36,SMALL(IF((LEN(Calc!$D$22:$D$36)>0)*(Calc!$E$22:$E$36="Yes"),ROW(Calc!$D$22:$D$36)-ROW(Calc!$D$21),""),ROW(Calc!$D28)-ROW(Calc!$D$21))),Calc!$D28),"")}
C29: {=IFERROR(IF(setting="Remove",INDEX(Calc!$C$22:$C$36,SMALL(IF((LEN(Calc!$C$22:$C$36)>0)*(Calc!$B$22:$B$36="Yes"),ROW(Calc!$C$22:$C$36)-ROW(Calc!$C$21),""),ROW(Calc!$C29)-ROW(Calc!$C$21))),Calc!$C29),"")} | D29: {=IFERROR(IF(setting="Remove",INDEX(Calc!$D$22:$D$36,SMALL(IF((LEN(Calc!$D$22:$D$36)>0)*(Calc!$E$22:$E$36="Yes"),ROW(Calc!$D$22:$D$36)-ROW(Calc!$D$21),""),ROW(Calc!$D29)-ROW(Calc!$D$21))),Calc!$D29),"")}
C30: {=IFERROR(IF(setting="Remove",INDEX(Calc!$C$22:$C$36,SMALL(IF((LEN(Calc!$C$22:$C$36)>0)*(Calc!$B$22:$B$36="Yes"),ROW(Calc!$C$22:$C$36)-ROW(Calc!$C$21),""),ROW(Calc!$C30)-ROW(Calc!$C$21))),Calc!$C30),"")} | D30: {=IFERROR(IF(setting="Remove",INDEX(Calc!$D$22:$D$36,SMALL(IF((LEN(Calc!$D$22:$D$36)>0)*(Calc!$E$22:$E$36="Yes"),ROW(Calc!$D$22:$D$36)-ROW(Calc!$D$21),""),ROW(Calc!$D30)-ROW(Calc!$D$21))),Calc!$D30),"")}
C31: {=IFERROR(IF(setting="Remove",INDEX(Calc!$C$22:$C$36,SMALL(IF((LEN(Calc!$C$22:$C$36)>0)*(Calc!$B$22:$B$36="Yes"),ROW(Calc!$C$22:$C$36)-ROW(Calc!$C$21),""),ROW(Calc!$C31)-ROW(Calc!$C$21))),Calc!$C31),"")} | D31: {=IFERROR(IF(setting="Remove",INDEX(Calc!$D$22:$D$36,SMALL(IF((LEN(Calc!$D$22:$D$36)>0)*(Calc!$E$22:$E$36="Yes"),ROW(Calc!$D$22:$D$36)-ROW(Calc!$D$21),""),ROW(Calc!$D31)-ROW(Calc!$D$21))),Calc!$D31),"")}
C32: {=IFERROR(IF(setting="Remove",INDEX(Calc!$C$22:$C$36,SMALL(IF((LEN(Calc!$C$22:$C$36)>0)*(Calc!$B$22:$B$36="Yes"),ROW(Calc!$C$22:$C$36)-ROW(Calc!$C$21),""),ROW(Calc!$C32)-ROW(Calc!$C$21))),Calc!$C32),"")} | D32: {=IFERROR(IF(setting="Remove",INDEX(Calc!$D$22:$D$36,SMALL(IF((LEN(Calc!$D$22:$D$36)>0)*(Calc!$E$22:$E$36="Yes"),ROW(Calc!$D$22:$D$36)-ROW(Calc!$D$21),""),ROW(Calc!$D32)-ROW(Calc!$D$21))),Calc!$D32),"")}
C33: {=IFERROR(IF(setting="Remove",INDEX(Calc!$C$22:$C$36,SMALL(IF((LEN(Calc!$C$22:$C$36)>0)*(Calc!$B$22:$B$36="Yes"),ROW(Calc!$C$22:$C$36)-ROW(Calc!$C$21),""),ROW(Calc!$C33)-ROW(Calc!$C$21))),Calc!$C33),"")} | D33: {=IFERROR(IF(setting="Remove",INDEX(Calc!$D$22:$D$36,SMALL(IF((LEN(Calc!$D$22:$D$36)>0)*(Calc!$E$22:$E$36="Yes"),ROW(Calc!$D$22:$D$36)-ROW(Calc!$D$21),""),ROW(Calc!$D33)-ROW(Calc!$D$21))),Calc!$D33),"")}
C34: {=IFERROR(IF(setting="Remove",INDEX(Calc!$C$22:$C$36,SMALL(IF((LEN(Calc!$C$22:$C$36)>0)*(Calc!$B$22:$B$36="Yes"),ROW(Calc!$C$22:$C$36)-ROW(Calc!$C$21),""),ROW(Calc!$C34)-ROW(Calc!$C$21))),Calc!$C34),"")} | D34: {=IFERROR(IF(setting="Remove",INDEX(Calc!$D$22:$D$36,SMALL(IF((LEN(Calc!$D$22:$D$36)>0)*(Calc!$E$22:$E$36="Yes"),ROW(Calc!$D$22:$D$36)-ROW(Calc!$D$21),""),ROW(Calc!$D34)-ROW(Calc!$D$21))),Calc!$D34),"")}
... C36: {=IFERROR(IF(setting="Remove",INDEX(Calc!$C$22:$C$36,SMALL(IF((LEN(Calc!$C$22:$C$36)>0)*(Calc!$B$22:$B$36="Yes"),ROW(Calc!$C$22:$C$36)-ROW(Calc!$C$21),""),ROW(Calc!$C36)-ROW(Calc!$C$21))),Calc!$C36),"")} | D36: {=IFERROR(IF(setting="Remove",INDEX(Calc!$D$22:$D$36,SMALL(IF((LEN(Calc!$D$22:$D$36)>0)*(Calc!$E$22:$E$36="Yes"),ROW(Calc!$D$22:$D$36)-ROW(Calc!$D$21),""),ROW(Calc!$D36)-ROW(Calc!$D$21))),Calc!$D36),"")}

Sheet Charts
C2: ACTION PRIORITY MATRIX
C3: CHARTS
E7: FILTERS | G7: ACTIONS
E9: Task Type | G9: {=IFERROR(INDEX(Dashboard!$F$8:$F$21,SMALL(IF((LEN(Dashboard!$F$8:$F$21)>0)*(Calc!$I$14:$I$27=code_report),ROW(Dashboard!$F$8:$F$21)-ROW(Dashboard!$F$7),""),ROW(Dashboard!F8)-ROW(Dashboard!$F$7))),"")} -> Manage inventory & orders
E10: Major Projects | G10: {=IFERROR(INDEX(Dashboard!$F$8:$F$21,SMALL(IF((LEN(Dashboard!$F$8:$F$21)>0)*(Calc!$I$14:$I$27=code_report),ROW(Dashboard!$F$8:$F$21)-ROW(Dashboard!$F$7),""),ROW(Dashboard!F9)-ROW(Dashboard!$F$7))),"")} -> Mobile app development
G11: {=IFERROR(INDEX(Dashboard!$F$8:$F$21,SMALL(IF((LEN(Dashboard!$F$8:$F$21)>0)*(Calc!$I$14:$I$27=code_report),ROW(Dashboard!$F$8:$F$21)-ROW(Dashboard!$F$7),""),ROW(Dashboard!F10)-ROW(Dashboard!$F$7))),"")} -> Refund process development
E12: Status | G12: {=IFERROR(INDEX(Dashboard!$F$8:$F$21,SMALL(IF((LEN(Dashboard!$F$8:$F$21)>0)*(Calc!$I$14:$I$27=code_report),ROW(Dashboard!$F$8:$F$21)-ROW(Dashboard!$F$7),""),ROW(Dashboard!F11)-ROW(Dashboard!$F$7))),"")}
E13: In Progress | G13: {=IFERROR(INDEX(Dashboard!$F$8:$F$21,SMALL(IF((LEN(Dashboard!$F$8:$F$21)>0)*(Calc!$I$14:$I$27=code_report),ROW(Dashboard!$F$8:$F$21)-ROW(Dashboard!$F$7),""),ROW(Dashboard!F12)-ROW(Dashboard!$F$7))),"")}
G14: {=IFERROR(INDEX(Dashboard!$F$8:$F$21,SMALL(IF((LEN(Dashboard!$F$8:$F$21)>0)*(Calc!$I$14:$I$27=code_report),ROW(Dashboard!$F$8:$F$21)-ROW(Dashboard!$F$7),""),ROW(Dashboard!F13)-ROW(Dashboard!$F$7))),"")}
G15: {=IFERROR(INDEX(Dashboard!$F$8:$F$21,SMALL(IF((LEN(Dashboard!$F$8:$F$21)>0)*(Calc!$I$14:$I$27=code_report),ROW(Dashboard!$F$8:$F$21)-ROW(Dashboard!$F$7),""),ROW(Dashboard!F14)-ROW(Dashboard!$F$7))),"")}
G16: {=IFERROR(INDEX(Dashboard!$F$8:$F$21,SMALL(IF((LEN(Dashboard!$F$8:$F$21)>0)*(Calc!$I$14:$I$27=code_report),ROW(Dashboard!$F$8:$F$21)-ROW(Dashboard!$F$7),""),ROW(Dashboard!F15)-ROW(Dashboard!$F$7))),"")}
G17: {=IFERROR(INDEX(Dashboard!$F$8:$F$21,SMALL(IF((LEN(Dashboard!$F$8:$F$21)>0)*(Calc!$I$14:$I$27=code_report),ROW(Dashboard!$F$8:$F$21)-ROW(Dashboard!$F$7),""),ROW(Dashboard!F16)-ROW(Dashboard!$F$7))),"")}
G18: {=IFERROR(INDEX(Dashboard!$F$8:$F$21,SMALL(IF((LEN(Dashboard!$F$8:$F$21)>0)*(Calc!$I$14:$I$27=code_report),ROW(Dashboard!$F$8:$F$21)-ROW(Dashboard!$F$7),""),ROW(Dashboard!F17)-ROW(Dashboard!$F$7))),"")}
G19: {=IFERROR(INDEX(Dashboard!$F$8:$F$21,SMALL(IF((LEN(Dashboard!$F$8:$F$21)>0)*(Calc!$I$14:$I$27=code_report),ROW(Dashboard!$F$8:$F$21)-ROW(Dashboard!$F$7),""),ROW(Dashboard!F18)-ROW(Dashboard!$F$7))),"")}
G20: {=IFERROR(INDEX(Dashboard!$F$8:$F$21,SMALL(IF((LEN(Dashboard!$F$8:$F$21)>0)*(Calc!$I$14:$I$27=code_report),ROW(Dashboard!$F$8:$F$21)-ROW(Dashboard!$F$7),""),ROW(Dashboard!F19)-ROW(Dashboard!$F$7))),"")}
G21: {=IFERROR(INDEX(Dashboard!$F$8:$F$21,SMALL(IF((LEN(Dashboard!$F$8:$F$21)>0)*(Calc!$I$14:$I$27=code_report),ROW(Dashboard!$F$8:$F$21)-ROW(Dashboard!$F$7),""),ROW(Dashboard!F20)-ROW(Dashboard!$F$7))),"")}
G22: {=IFERROR(INDEX(Dashboard!$F$8:$F$21,SMALL(IF((LEN(Dashboard!$F$8:$F$21)>0)*(Calc!$I$14:$I$27=code_report),ROW(Dashboard!$F$8:$F$21)-ROW(Dashboard!$F$7),""),ROW(Dashboard!F21)-ROW(Dashboard!$F$7))),"")}
G23: {=IFERROR(INDEX(Dashboard!$F$8:$F$21,SMALL(IF((LEN(Dashboard!$F$8:$F$21)>0)*(Calc!$I$14:$I$27=code_report),ROW(Dashboard!$F$8:$F$21)-ROW(Dashboard!$F$7),""),ROW(Dashboard!F22)-ROW(Dashboard!$F$7))),"")}
G24: {=IFERROR(INDEX(Dashboard!$F$8:$F$21,SMALL(IF((LEN(Dashboard!$F$8:$F$21)>0)*(Calc!$I$14:$I$27=code_report),ROW(Dashboard!$F$8:$F$21)-ROW(Dashboard!$F$7),""),ROW(Dashboard!F23)-ROW(Dashboard!$F$7))),"")}
G25: {=IFERROR(INDEX(Dashboard!$F$8:$F$21,SMALL(IF((LEN(Dashboard!$F$8:$F$21)>0)*(Calc!$I$14:$I$27=code_report),ROW(Dashboard!$F$8:$F$21)-ROW(Dashboard!$F$7),""),ROW(Dashboard!F24)-ROW(Dashboard!$F$7))),"")}
... G37: {=IFERROR(INDEX(Dashboard!$F$8:$F$21,SMALL(IF((LEN(Dashboard!$F$8:$F$21)>0)*(Calc!$I$14:$I$27=code_report),ROW(Dashboard!$F$8:$F$21)-ROW(Dashboard!$F$7),""),ROW(Dashboard!F36)-ROW(Dashboard!$F$7))),"")}

Sheet Calc
B7: =IFERROR(IF(INDEX(Dashboard!$F$8:$I$21,MATCH(Calc!$C7,Dashboard!$F$8:$F$21,0),MATCH("Status",Dashboard!$F$7:$I$7,0))="Done","No","Yes"),"") -> Yes | C7: {=IFERROR(INDEX(Dashboard!$F$8:$F$21,SMALL(IF((LEN(Dashboard!$F$8:$F$21)>0)*(Calc!$G$14:$G$27=1),ROW(Dashboard!$F$8:$F$21)-ROW(Dashboard!$F$7),""),ROW(Dashboard!F8)-ROW(Dashboard!$F$7))),"")} -> Social media management | D7: {=IFERROR(INDEX(Dashboard!$F$8:$F$21,SMALL(IF((LEN(Dashboard!$F$8:$F$21)>0)*(Calc!$G$14:$G$27=2),ROW(Dashboard!$F$8:$F$21)-ROW(Dashboard!$F$7),""),ROW(Dashboard!F8)-ROW(Dashboard!$F$7))),"")} -> Manage inventory & orders | E7: =IFERROR(IF(INDEX(Dashboard!$F$8:$I$21,MATCH(Calc!$D7,Dashboard!$F$8:$F$21,0),MATCH("Status",Dashboard!$F$7:$I$7,0))="Done","No","Yes"),"") -> Yes | I7: Quick Wins | J7: Major Projects | K7: Fill-Ins | L7: Thankless Tasks
B8: =IFERROR(IF(INDEX(Dashboard!$F$8:$I$21,MATCH(Calc!$C8,Dashboard!$F$8:$F$21,0),MATCH("Status",Dashboard!$F$7:$I$7,0))="Done","No","Yes"),"") -> No | C8: {=IFERROR(INDEX(Dashboard!$F$8:$F$21,SMALL(IF((LEN(Dashboard!$F$8:$F$21)>0)*(Calc!$G$14:$G$27=1),ROW(Dashboard!$F$8:$F$21)-ROW(Dashboard!$F$7),""),ROW(Dashboard!F9)-ROW(Dashboard!$F$7))),"")} -> Tracking competitor SEO | D8: {=IFERROR(INDEX(Dashboard!$F$8:$F$21,SMALL(IF((LEN(Dashboard!$F$8:$F$21)>0)*(Calc!$G$14:$G$27=2),ROW(Dashboard!$F$8:$F$21)-ROW(Dashboard!$F$7),""),ROW(Dashboard!F9)-ROW(Dashboard!$F$7))),"")} -> Mobile app development | E8: =IFERROR(IF(INDEX(Dashboard!$F$8:$I$21,MATCH(Calc!$D8,Dashboard!$F$8:$F$21,0),MATCH("Status",Dashboard!$F$7:$I$7,0))="Done","No","Yes"),"") -> Yes | H8: Total | I8: =SUM($I$9:$I$11) -> 2 | J8: =SUM($J$9:$J$11) -> 3 | K8: =SUM($K$9:$K$11) -> 3 | L8: =SUM($L$9:$L$11) -> 2
B9: =IFERROR(IF(INDEX(Dashboard!$F$8:$I$21,MATCH(Calc!$C9,Dashboard!$F$8:$F$21,0),MATCH("Status",Dashboard!$F$7:$I$7,0))="Done","No","Yes"),"") | C9: {=IFERROR(INDEX(Dashboard!$F$8:$F$21,SMALL(IF((LEN(Dashboard!$F$8:$F$21)>0)*(Calc!$G$14:$G$27=1),ROW(Dashboard!$F$8:$F$21)-ROW(Dashboard!$F$7),""),ROW(Dashboard!F10)-ROW(Dashboard!$F$7))),"")} | D9: {=IFERROR(INDEX(Dashboard!$F$8:$F$21,SMALL(IF((LEN(Dashboard!$F$8:$F$21)>0)*(Calc!$G$14:$G$27=2),ROW(Dashboard!$F$8:$F$21)-ROW(Dashboard!$F$7),""),ROW(Dashboard!F10)-ROW(Dashboard!$F$7))),"")} -> Refund process development | E9: =IFERROR(IF(INDEX(Dashboard!$F$8:$I$21,MATCH(Calc!$D9,Dashboard!$F$8:$F$21,0),MATCH("Status",Dashboard!$F$7:$I$7,0))="Done","No","Yes"),"") -> Yes | G9: Not Started | H9: =IFERROR(SUM($I$9:$L$9),"") -> 3 | I9: =IFERROR(COUNTIFS(Calc!$G$14:$G$27,1,Calc!$H$14:$H$27,1),"") -> 1 | J9: =IFERROR(COUNTIFS(Calc!$G$14:$G$27,2,Calc!$H$14:$H$27,1),"") -> 0 | K9: =IFERROR(COUNTIFS(Calc!$G$14:$G$27,3,Calc!$H$14:$H$27,1),"") -> 1 | L9: =IFERROR(COUNTIFS(Calc!$G$14:$G$27,4,Calc!$H$14:$H$27,1),"") -> 1
B10: =IFERROR(IF(INDEX(Dashboard!$F$8:$I$21,MATCH(Calc!$C10,Dashboard!$F$8:$F$21,0),MATCH("Status",Dashboard!$F$7:$I$7,0))="Done","No","Yes"),"") | C10: {=IFERROR(INDEX(Dashboard!$F$8:$F$21,SMALL(IF((LEN(Dashboard!$F$8:$F$21)>0)*(Calc!$G$14:$G$27=1),ROW(Dashboard!$F$8:$F$21)-ROW(Dashboard!$F$7),""),ROW(Dashboard!F11)-ROW(Dashboard!$F$7))),"")} | D10: {=IFERROR(INDEX(Dashboard!$F$8:$F$21,SMALL(IF((LEN(Dashboard!$F$8:$F$21)>0)*(Calc!$G$14:$G$27=2),ROW(Dashboard!$F$8:$F$21)-ROW(Dashboard!$F$7),""),ROW(Dashboard!F11)-ROW(Dashboard!$F$7))),"")} | E10: =IFERROR(IF(INDEX(Dashboard!$F$8:$I$21,MATCH(Calc!$D10,Dashboard!$F$8:$F$21,0),MATCH("Status",Dashboard!$F$7:$I$7,0))="Done","No","Yes"),"") | G10: In Progress | H10: =IFERROR(SUM($I$10:$L$10),"") -> 5 | I10: =IFERROR(COUNTIFS(Calc!$G$14:$G$27,1,Calc!$H$14:$H$27,2),"") -> 0 | J10: =IFERROR(COUNTIFS(Calc!$G$14:$G$27,2,Calc!$H$14:$H$27,2),"") -> 3 | K10: =IFERROR(COUNTIFS(Calc!$G$14:$G$27,3,Calc!$H$14:$H$27,2),"") -> 1 | L10: =IFERROR(COUNTIFS(Calc!$G$14:$G$27,4,Calc!$H$14:$H$27,2),"") -> 1
B11: =IFERROR(IF(INDEX(Dashboard!$F$8:$I$21,MATCH(Calc!$C11,Dashboard!$F$8:$F$21,0),MATCH("Status",Dashboard!$F$7:$I$7,0))="Done","No","Yes"),"") | C11: {=IFERROR(INDEX(Dashboard!$F$8:$F$21,SMALL(IF((LEN(Dashboard!$F$8:$F$21)>0)*(Calc!$G$14:$G$27=1),ROW(Dashboard!$F$8:$F$21)-ROW(Dashboard!$F$7),""),ROW(Dashboard!F12)-ROW(Dashboard!$F$7))),"")} | D11: {=IFERROR(INDEX(Dashboard!$F$8:$F$21,SMALL(IF((LEN(Dashboard!$F$8:$F$21)>0)*(Calc!$G$14:$G$27=2),ROW(Dashboard!$F$8:$F$21)-ROW(Dashboard!$F$7),""),ROW(Dashboard!F12)-ROW(Dashboard!$F$7))),"")} | E11: =IFERROR(IF(INDEX(Dashboard!$F$8:$I$21,MATCH(Calc!$D11,Dashboard!$F$8:$F$21,0),MATCH("Status",Dashboard!$F$7:$I$7,0))="Done","No","Yes"),"") | G11: Done | H11: =IFERROR(SUM($I$11:$L$11),"") -> 2 | I11: =IFERROR(COUNTIFS(Calc!$G$14:$G$27,1,Calc!$H$14:$H$27,3),"") -> 1 | J11: =IFERROR(COUNTIFS(Calc!$G$14:$G$27,2,Calc!$H$14:$H$27,3),"") -> 0 | K11: =IFERROR(COUNTIFS(Calc!$G$14:$G$27,3,Calc!$H$14:$H$27,3),"") -> 1 | L11: =IFERROR(COUNTIFS(Calc!$G$14:$G$27,4,Calc!$H$14:$H$27,3),"") -> 0
B12: =IFERROR(IF(INDEX(Dashboard!$F$8:$I$21,MATCH(Calc!$C12,Dashboard!$F$8:$F$21,0),MATCH("Status",Dashboard!$F$7:$I$7,0))="Done","No","Yes"),"") | C12: {=IFERROR(INDEX(Dashboard!$F$8:$F$21,SMALL(IF((LEN(Dashboard!$F$8:$F$21)>0)*(Calc!$G$14:$G$27=1),ROW(Dashboard!$F$8:$F$21)-ROW(Dashboard!$F$7),""),ROW(Dashboard!F13)-ROW(Dashboard!$F$7))),"")} | D12: {=IFERROR(INDEX(Dashboard!$F$8:$F$21,SMALL(IF((LEN(Dashboard!$F$8:$F$21)>0)*(Calc!$G$14:$G$27=2),ROW(Dashboard!$F$8:$F$21)-ROW(Dashboard!$F$7),""),ROW(Dashboard!F13)-ROW(Dashboard!$F$7))),"")} | E12: =IFERROR(IF(INDEX(Dashboard!$F$8:$I$21,MATCH(Calc!$D12,Dashboard!$F$8:$F$21,0),MATCH("Status",Dashboard!$F$7:$I$7,0))="Done","No","Yes"),"")
B13: =IFERROR(IF(INDEX(Dashboard!$F$8:$I$21,MATCH(Calc!$C13,Dashboard!$F$8:$F$21,0),MATCH("Status",Dashboard!$F$7:$I$7,0))="Done","No","Yes"),"") | C13: {=IFERROR(INDEX(Dashboard!$F$8:$F$21,SMALL(IF((LEN(Dashboard!$F$8:$F$21)>0)*(Calc!$G$14:$G$27=1),ROW(Dashboard!$F$8:$F$21)-ROW(Dashboard!$F$7),""),ROW(Dashboard!F14)-ROW(Dashboard!$F$7))),"")} | D13: {=IFERROR(INDEX(Dashboard!$F$8:$F$21,SMALL(IF((LEN(Dashboard!$F$8:$F$21)>0)*(Calc!$G$14:$G$27=2),ROW(Dashboard!$F$8:$F$21)-ROW(Dashboard!$F$7),""),ROW(Dashboard!F14)-ROW(Dashboard!$F$7))),"")} | E13: =IFERROR(IF(INDEX(Dashboard!$F$8:$I$21,MATCH(Calc!$D13,Dashboard!$F$8:$F$21,0),MATCH("Status",Dashboard!$F$7:$I$7,0))="Done","No","Yes"),"") | G13: Task Type | H13: Status | I13: Code | K13: Task Type | L13: Num
B14: =IFERROR(IF(INDEX(Dashboard!$F$8:$I$21,MATCH(Calc!$C14,Dashboard!$F$8:$F$21,0),MATCH("Status",Dashboard!$F$7:$I$7,0))="Done","No","Yes"),"") | C14: {=IFERROR(INDEX(Dashboard!$F$8:$F$21,SMALL(IF((LEN(Dashboard!$F$8:$F$21)>0)*(Calc!$G$14:$G$27=1),ROW(Dashboard!$F$8:$F$21)-ROW(Dashboard!$F$7),""),ROW(Dashboard!F15)-ROW(Dashboard!$F$7))),"")} | D14: {=IFERROR(INDEX(Dashboard!$F$8:$F$21,SMALL(IF((LEN(Dashboard!$F$8:$F$21)>0)*(Calc!$G$14:$G$27=2),ROW(Dashboard!$F$8:$F$21)-ROW(Dashboard!$F$7),""),ROW(Dashboard!F15)-ROW(Dashboard!$F$7))),"")} | E14: =IFERROR(IF(INDEX(Dashboard!$F$8:$I$21,MATCH(Calc!$D14,Dashboard!$F$8:$F$21,0),MATCH("Status",Dashboard!$F$7:$I$7,0))="Done","No","Yes"),"") | G14: =IFERROR(IF(AND(Dashboard!G8="High",Dashboard!H8="Low"),1,IF(AND(Dashboard!G8="High",Dashboard!H8="High"),2,IF(AND(Dashboard!G8="Low",Dashboard!H8="Low"),3,IF(AND(Dashboard!G8="Low",Dashboard!H8="High"),4,"")))),"") -> 3 | H14: =IFERROR(IF(Dashboard!I8="Not started",1,IF(Dashboard!I8="In progress",2,IF(Dashboard!I8="Done",3,""))),"") -> 2 | I14: =IFERROR(G14&H14,"") -> 32 | K14: Quick Wins | L14: 1
B15: =IFERROR(IF(INDEX(Dashboard!$F$8:$I$21,MATCH(Calc!$C15,Dashboard!$F$8:$F$21,0),MATCH("Status",Dashboard!$F$7:$I$7,0))="Done","No","Yes"),"") | C15: {=IFERROR(INDEX(Dashboard!$F$8:$F$21,SMALL(IF((LEN(Dashboard!$F$8:$F$21)>0)*(Calc!$G$14:$G$27=1),ROW(Dashboard!$F$8:$F$21)-ROW(Dashboard!$F$7),""),ROW(Dashboard!F16)-ROW(Dashboard!$F$7))),"")} | D15: {=IFERROR(INDEX(Dashboard!$F$8:$F$21,SMALL(IF((LEN(Dashboard!$F$8:$F$21)>0)*(Calc!$G$14:$G$27=2),ROW(Dashboard!$F$8:$F$21)-ROW(Dashboard!$F$7),""),ROW(Dashboard!F16)-ROW(Dashboard!$F$7))),"")} | E15: =IFERROR(IF(INDEX(Dashboard!$F$8:$I$21,MATCH(Calc!$D15,Dashboard!$F$8:$F$21,0),MATCH("Status",Dashboard!$F$7:$I$7,0))="Done","No","Yes"),"") | G15: =IFERROR(IF(AND(Dashboard!G9="High",Dashboard!H9="Low"),1,IF(AND(Dashboard!G9="High",Dashboard!H9="High"),2,IF(AND(Dashboard!G9="Low",Dashboard!H9="Low"),3,IF(AND(Dashboard!G9="Low",Dashboard!H9="High"),4,"")))),"") -> 1 | H15: =IFERROR(IF(Dashboard!I9="Not started",1,IF(Dashboard!I9="In progress",2,IF(Dashboard!I9="Done",3,""))),"") -> 1 | I15: =IFERROR(G15&H15,"") -> 11 | K15: Major Projects | L15: 2
B16: =IFERROR(IF(INDEX(Dashboard!$F$8:$I$21,MATCH(Calc!$C16,Dashboard!$F$8:$F$21,0),MATCH("Status",Dashboard!$F$7:$I$7,0))="Done","No","Yes"),"") | C16: {=IFERROR(INDEX(Dashboard!$F$8:$F$21,SMALL(IF((LEN(Dashboard!$F$8:$F$21)>0)*(Calc!$G$14:$G$27=1),ROW(Dashboard!$F$8:$F$21)-ROW(Dashboard!$F$7),""),ROW(Dashboard!F17)-ROW(Dashboard!$F$7))),"")} | D16: {=IFERROR(INDEX(Dashboard!$F$8:$F$21,SMALL(IF((LEN(Dashboard!$F$8:$F$21)>0)*(Calc!$G$14:$G$27=2),ROW(Dashboard!$F$8:$F$21)-ROW(Dashboard!$F$7),""),ROW(Dashboard!F17)-ROW(Dashboard!$F$7))),"")} | E16: =IFERROR(IF(INDEX(Dashboard!$F$8:$I$21,MATCH(Calc!$D16,Dashboard!$F$8:$F$21,0),MATCH("Status",Dashboard!$F$7:$I$7,0))="Done","No","Yes"),"") | G16: =IFERROR(IF(AND(Dashboard!G10="High",Dashboard!H10="Low"),1,IF(AND(Dashboard!G10="High",Dashboard!H10="High"),2,IF(AND(Dashboard!G10="Low",Dashboard!H10="Low"),3,IF(AND(Dashboard!G10="Low",Dashboard!H10="High"),4,"")))),"") -> 3 | H16: =IFERROR(IF(Dashboard!I10="Not started",1,IF(Dashboard!I10="In progress",2,IF(Dashboard!I10="Done",3,""))),"") -> 1 | I16: =IFERROR(G16&H16,"") -> 31 | K16: Fills-In | L16: 3
B17: =IFERROR(IF(INDEX(Dashboard!$F$8:$I$21,MATCH(Calc!$C17,Dashboard!$F$8:$F$21,0),MATCH("Status",Dashboard!$F$7:$I$7,0))="Done","No","Yes"),"") | C17: {=IFERROR(INDEX(Dashboard!$F$8:$F$21,SMALL(IF((LEN(Dashboard!$F$8:$F$21)>0)*(Calc!$G$14:$G$27=1),ROW(Dashboard!$F$8:$F$21)-ROW(Dashboard!$F$7),""),ROW(Dashboard!F18)-ROW(Dashboard!$F$7))),"")} | D17: {=IFERROR(INDEX(Dashboard!$F$8:$F$21,SMALL(IF((LEN(Dashboard!$F$8:$F$21)>0)*(Calc!$G$14:$G$27=2),ROW(Dashboard!$F$8:$F$21)-ROW(Dashboard!$F$7),""),ROW(Dashboard!F18)-ROW(Dashboard!$F$7))),"")} | E17: =IFERROR(IF(INDEX(Dashboard!$F$8:$I$21,MATCH(Calc!$D17,Dashboard!$F$8:$F$21,0),MATCH("Status",Dashboard!$F$7:$I$7,0))="Done","No","Yes"),"") | G17: =IFERROR(IF(AND(Dashboard!G11="High",Dashboard!H11="Low"),1,IF(AND(Dashboard!G11="High",Dashboard!H11="High"),2,IF(AND(Dashboard!G11="Low",Dashboard!H11="Low"),3,IF(AND(Dashboard!G11="Low",Dashboard!H11="High"),4,"")))),"") -> 3 | H17: =IFERROR(IF(Dashboard!I11="Not started",1,IF(Dashboard!I11="In progress",2,IF(Dashboard!I11="Done",3,""))),"") -> 3 | I17: =IFERROR(G17&H17,"") -> 33 | K17: Thankless Tasks | L17: 4
B18: =IFERROR(IF(INDEX(Dashboard!$F$8:$I$21,MATCH(Calc!$C18,Dashboard!$F$8:$F$21,0),MATCH("Status",Dashboard!$F$7:$I$7,0))="Done","No","Yes"),"") | C18: {=IFERROR(INDEX(Dashboard!$F$8:$F$21,SMALL(IF((LEN(Dashboard!$F$8:$F$21)>0)*(Calc!$G$14:$G$27=1),ROW(Dashboard!$F$8:$F$21)-ROW(Dashboard!$F$7),""),ROW(Dashboard!F19)-ROW(Dashboard!$F$7))),"")} | D18: {=IFERROR(INDEX(Dashboard!$F$8:$F$21,SMALL(IF((LEN(Dashboard!$F$8:$F$21)>0)*(Calc!$G$14:$G$27=2),ROW(Dashboard!$F$8:$F$21)-ROW(Dashboard!$F$7),""),ROW(Dashboard!F19)-ROW(Dashboard!$F$7))),"")} | E18: =IFERROR(IF(INDEX(Dashboard!$F$8:$I$21,MATCH(Calc!$D18,Dashboard!$F$8:$F$21,0),MATCH("Status",Dashboard!$F$7:$I$7,0))="Done","No","Yes"),"") | G18: =IFERROR(IF(AND(Dashboard!G12="High",Dashboard!H12="Low"),1,IF(AND(Dashboard!G12="High",Dashboard!H12="High"),2,IF(AND(Dashboard!G12="Low",Dashboard!H12="Low"),3,IF(AND(Dashboard!G12="Low",Dashboard!H12="High"),4,"")))),"") -> 4 | H18: =IFERROR(IF(Dashboard!I12="Not started",1,IF(Dashboard!I12="In progress",2,IF(Dashboard!I12="Done",3,""))),"") -> 1 | I18: =IFERROR(G18&H18,"") -> 41
B19: =IFERROR(IF(INDEX(Dashboard!$F$8:$I$21,MATCH(Calc!$C19,Dashboard!$F$8:$F$21,0),MATCH("Status",Dashboard!$F$7:$I$7,0))="Done","No","Yes"),"") | C19: {=IFERROR(INDEX(Dashboard!$F$8:$F$21,SMALL(IF((LEN(Dashboard!$F$8:$F$21)>0)*(Calc!$G$14:$G$27=1),ROW(Dashboard!$F$8:$F$21)-ROW(Dashboard!$F$7),""),ROW(Dashboard!F20)-ROW(Dashboard!$F$7))),"")} | D19: {=IFERROR(INDEX(Dashboard!$F$8:$F$21,SMALL(IF((LEN(Dashboard!$F$8:$F$21)>0)*(Calc!$G$14:$G$27=2),ROW(Dashboard!$F$8:$F$21)-ROW(Dashboard!$F$7),""),ROW(Dashboard!F20)-ROW(Dashboard!$F$7))),"")} | E19: =IFERROR(IF(INDEX(Dashboard!$F$8:$I$21,MATCH(Calc!$D19,Dashboard!$F$8:$F$21,0),MATCH("Status",Dashboard!$F$7:$I$7,0))="Done","No","Yes"),"") | G19: =IFERROR(IF(AND(Dashboard!G13="High",Dashboard!H13="Low"),1,IF(AND(Dashboard!G13="High",Dashboard!H13="High"),2,IF(AND(Dashboard!G13="Low",Dashboard!H13="Low"),3,IF(AND(Dashboard!G13="Low",Dashboard!H13="High"),4,"")))),"") -> 4 | H19: =IFERROR(IF(Dashboard!I13="Not started",1,IF(Dashboard!I13="In progress",2,IF(Dashboard!I13="Done",3,""))),"") -> 2 | I19: =IFERROR(G19&H19,"") -> 42 | K19: Status | L19: Num
B20: =IFERROR(IF(INDEX(Dashboard!$F$8:$I$21,MATCH(Calc!$C20,Dashboard!$F$8:$F$21,0),MATCH("Status",Dashboard!$F$7:$I$7,0))="Done","No","Yes"),"") | C20: {=IFERROR(INDEX(Dashboard!$F$8:$F$21,SMALL(IF((LEN(Dashboard!$F$8:$F$21)>0)*(Calc!$G$14:$G$27=1),ROW(Dashboard!$F$8:$F$21)-ROW(Dashboard!$F$7),""),ROW(Dashboard!F21)-ROW(Dashboard!$F$7))),"")} | D20: {=IFERROR(INDEX(Dashboard!$F$8:$F$21,SMALL(IF((LEN(Dashboard!$F$8:$F$21)>0)*(Calc!$G$14:$G$27=2),ROW(Dashboard!$F$8:$F$21)-ROW(Dashboard!$F$7),""),ROW(Dashboard!F21)-ROW(Dashboard!$F$7))),"")} | E20: =IFERROR(IF(INDEX(Dashboard!$F$8:$I$21,MATCH(Calc!$D20,Dashboard!$F$8:$F$21,0),MATCH("Status",Dashboard!$F$7:$I$7,0))="Done","No","Yes"),"") | G20: =IFERROR(IF(AND(Dashboard!G14="High",Dashboard!H14="Low"),1,IF(AND(Dashboard!G14="High",Dashboard!H14="High"),2,IF(AND(Dashboard!G14="Low",Dashboard!H14="Low"),3,IF(AND(Dashboard!G14="Low",Dashboard!H14="High"),4,"")))),"") -> 2 | H20: =IFERROR(IF(Dashboard!I14="Not started",1,IF(Dashboard!I14="In progress",2,IF(Dashboard!I14="Done",3,""))),"") -> 2 | I20: =IFERROR(G20&H20,"") -> 22 | K20: Not started | L20: 1
B21: =IFERROR(IF(INDEX(Dashboard!$F$8:$I$21,MATCH(Calc!$C21,Dashboard!$F$8:$F$21,0),MATCH("Status",Dashboard!$F$7:$I$7,0))="Done","No","Yes"),"") | C21: {=IFERROR(INDEX(Dashboard!$F$8:$F$21,SMALL(IF((LEN(Dashboard!$F$8:$F$21)>0)*(Calc!$G$14:$G$27=1),ROW(Dashboard!$F$8:$F$21)-ROW(Dashboard!$F$7),""),ROW(Dashboard!F22)-ROW(Dashboard!$F$7))),"")} | D21: {=IFERROR(INDEX(Dashboard!$F$8:$F$21,SMALL(IF((LEN(Dashboard!$F$8:$F$21)>0)*(Calc!$G$14:$G$27=2),ROW(Dashboard!$F$8:$F$21)-ROW(Dashboard!$F$7),""),ROW(Dashboard!F22)-ROW(Dashboard!$F$7))),"")} | E21: =IFERROR(IF(INDEX(Dashboard!$F$8:$I$21,MATCH(Calc!$D21,Dashboard!$F$8:$F$21,0),MATCH("Status",Dashboard!$F$7:$I$7,0))="Done","No","Yes"),"") | G21: =IFERROR(IF(AND(Dashboard!G15="High",Dashboard!H15="Low"),1,IF(AND(Dashboard!G15="High",Dashboard!H15="High"),2,IF(AND(Dashboard!G15="Low",Dashboard!H15="Low"),3,IF(AND(Dashboard!G15="Low",Dashboard!H15="High"),4,"")))),"") -> 1 | H21: =IFERROR(IF(Dashboard!I15="Not started",1,IF(Dashboard!I15="In progress",2,IF(Dashboard!I15="Done",3,""))),"") -> 3 | I21: =IFERROR(G21&H21,"") -> 13 | K21: In progress | L21: 2
B22: =IFERROR(IF(INDEX(Dashboard!$F$8:$I$21,MATCH(Calc!$C22,Dashboard!$F$8:$F$21,0),MATCH("Status",Dashboard!$F$7:$I$7,0))="Done","No","Yes"),"") -> Yes | C22: {=IFERROR(INDEX(Dashboard!$F$8:$F$21,SMALL(IF((LEN(Dashboard!$F$8:$F$21)>0)*(Calc!$G$14:$G$27=3),ROW(Dashboard!$F$8:$F$21)-ROW(Dashboard!$F$7),""),ROW(Dashboard!F8)-ROW(Dashboard!$F$7))),"")} -> Tracking competitors' prices | D22: {=IFERROR(INDEX(Dashboard!$F$8:$F$21,SMALL(IF((LEN(Dashboard!$F$8:$F$21)>0)*(Calc!$G$14:$G$27=4),ROW(Dashboard!$F$8:$F$21)-ROW(Dashboard!$F$7),""),ROW(Dashboard!F8)-ROW(Dashboard!$F$7))),"")} -> Uploading products | E22: =IFERROR(IF(INDEX(Dashboard!$F$8:$I$21,MATCH(Calc!$D22,Dashboard!$F$8:$F$21,0),MATCH("Status",Dashboard!$F$7:$I$7,0))="Done","No","Yes"),"") -> Yes | G22: =IFERROR(IF(AND(Dashboard!G16="High",Dashboard!H16="Low"),1,IF(AND(Dashboard!G16="High",Dashboard!H16="High"),2,IF(AND(Dashboard!G16="Low",Dashboard!H16="Low"),3,IF(AND(Dashboard!G16="Low",Dashboard!H16="High"),4,"")))),"") -> 2 | H22: =IFERROR(IF(Dashboard!I16="Not started",1,IF(Dashboard!I16="In progress",2,IF(Dashboard!I16="Done",3,""))),"") -> 2 | I22: =IFERROR(G22&H22,"") -> 22 | K22: Done | L22: 3
B23: =IFERROR(IF(INDEX(Dashboard!$F$8:$I$21,MATCH(Calc!$C23,Dashboard!$F$8:$F$21,0),MATCH("Status",Dashboard!$F$7:$I$7,0))="Done","No","Yes"),"") -> Yes | C23: {=IFERROR(INDEX(Dashboard!$F$8:$F$21,SMALL(IF((LEN(Dashboard!$F$8:$F$21)>0)*(Calc!$G$14:$G$27=3),ROW(Dashboard!$F$8:$F$21)-ROW(Dashboard!$F$7),""),ROW(Dashboard!F9)-ROW(Dashboard!$F$7))),"")} -> Tracking competitor social media | D23: {=IFERROR(INDEX(Dashboard!$F$8:$F$21,SMALL(IF((LEN(Dashboard!$F$8:$F$21)>0)*(Calc!$G$14:$G$27=4),ROW(Dashboard!$F$8:$F$21)-ROW(Dashboard!$F$7),""),ROW(Dashboard!F9)-ROW(Dashboard!$F$7))),"")} -> Website maintenance | E23: =IFERROR(IF(INDEX(Dashboard!$F$8:$I$21,MATCH(Calc!$D23,Dashboard!$F$8:$F$21,0),MATCH("Status",Dashboard!$F$7:$I$7,0))="Done","No","Yes"),"") -> Yes | G23: =IFERROR(IF(AND(Dashboard!G17="High",Dashboard!H17="Low"),1,IF(AND(Dashboard!G17="High",Dashboard!H17="High"),2,IF(AND(Dashboard!G17="Low",Dashboard!H17="Low"),3,IF(AND(Dashboard!G17="Low",Dashboard!H17="High"),4,"")))),"") -> 2 | H23: =IFERROR(IF(Dashboard!I17="Not started",1,IF(Dashboard!I17="In progress",2,IF(Dashboard!I17="Done",3,""))),"") -> 2 | I23: =IFERROR(G23&H23,"") -> 22
B24: =IFERROR(IF(INDEX(Dashboard!$F$8:$I$21,MATCH(Calc!$C24,Dashboard!$F$8:$F$21,0),MATCH("Status",Dashboard!$F$7:$I$7,0))="Done","No","Yes"),"") -> No | C24: {=IFERROR(INDEX(Dashboard!$F$8:$F$21,SMALL(IF((LEN(Dashboard!$F$8:$F$21)>0)*(Calc!$G$14:$G$27=3),ROW(Dashboard!$F$8:$F$21)-ROW(Dashboard!$F$7),""),ROW(Dashboard!F10)-ROW(Dashboard!$F$7))),"")} -> Creating contents for social media and blog | D24: {=IFERROR(INDEX(Dashboard!$F$8:$F$21,SMALL(IF((LEN(Dashboard!$F$8:$F$21)>0)*(Calc!$G$14:$G$27=4),ROW(Dashboard!$F$8:$F$21)-ROW(Dashboard!$F$7),""),ROW(Dashboard!F10)-ROW(Dashboard!$F$7))),"")} | E24: =IFERROR(IF(INDEX(Dashboard!$F$8:$I$21,MATCH(Calc!$D24,Dashboard!$F$8:$F$21,0),MATCH("Status",Dashboard!$F$7:$I$7,0))="Done","No","Yes"),"") | G24: =IFERROR(IF(AND(Dashboard!G18="High",Dashboard!H18="Low"),1,IF(AND(Dashboard!G18="High",Dashboard!H18="High"),2,IF(AND(Dashboard!G18="Low",Dashboard!H18="Low"),3,IF(AND(Dashboard!G18="Low",Dashboard!H18="High"),4,"")))),"") | H24: =IFERROR(IF(Dashboard!I18="Not started",1,IF(Dashboard!I18="In progress",2,IF(Dashboard!I18="Done",3,""))),"") | I24: =IFERROR(G24&H24,"") | K24: Code for Report | L24: =INDEX($K$14:$L$17,MATCH(task_type,Calc!$K$14:$K$17,0),2)&INDEX($K$20:$L$22,MATCH(status,Calc!K20:K22,0),2) -> 22
B25: =IFERROR(IF(INDEX(Dashboard!$F$8:$I$21,MATCH(Calc!$C25,Dashboard!$F$8:$F$21,0),MATCH("Status",Dashboard!$F$7:$I$7,0))="Done","No","Yes"),"") | C25: {=IFERROR(INDEX(Dashboard!$F$8:$F$21,SMALL(IF((LEN(Dashboard!$F$8:$F$21)>0)*(Calc!$G$14:$G$27=3),ROW(Dashboard!$F$8:$F$21)-ROW(Dashboard!$F$7),""),ROW(Dashboard!F11)-ROW(Dashboard!$F$7))),"")} | D25: {=IFERROR(INDEX(Dashboard!$F$8:$F$21,SMALL(IF((LEN(Dashboard!$F$8:$F$21)>0)*(Calc!$G$14:$G$27=4),ROW(Dashboard!$F$8:$F$21)-ROW(Dashboard!$F$7),""),ROW(Dashboard!F11)-ROW(Dashboard!$F$7))),"")} | E25: =IFERROR(IF(INDEX(Dashboard!$F$8:$I$21,MATCH(Calc!$D25,Dashboard!$F$8:$F$21,0),MATCH("Status",Dashboard!$F$7:$I$7,0))="Done","No","Yes"),"") | G25: =IFERROR(IF(AND(Dashboard!G19="High",Dashboard!H19="Low"),1,IF(AND(Dashboard!G19="High",Dashboard!H19="High"),2,IF(AND(Dashboard!G19="Low",Dashboard!H19="Low"),3,IF(AND(Dashboard!G19="Low",Dashboard!H19="High"),4,"")))),"") | H25: =IFERROR(IF(Dashboard!I19="Not started",1,IF(Dashboard!I19="In progress",2,IF(Dashboard!I19="Done",3,""))),"") | I25: =IFERROR(G25&H25,"")
B26: =IFERROR(IF(INDEX(Dashboard!$F$8:$I$21,MATCH(Calc!$C26,Dashboard!$F$8:$F$21,0),MATCH("Status",Dashboard!$F$7:$I$7,0))="Done","No","Yes"),"") | C26: {=IFERROR(INDEX(Dashboard!$F$8:$F$21,SMALL(IF((LEN(Dashboard!$F$8:$F$21)>0)*(Calc!$G$14:$G$27=3),ROW(Dashboard!$F$8:$F$21)-ROW(Dashboard!$F$7),""),ROW(Dashboard!F12)-ROW(Dashboard!$F$7))),"")} | D26: {=IFERROR(INDEX(Dashboard!$F$8:$F$21,SMALL(IF((LEN(Dashboard!$F$8:$F$21)>0)*(Calc!$G$14:$G$27=4),ROW(Dashboard!$F$8:$F$21)-ROW(Dashboard!$F$7),""),ROW(Dashboard!F12)-ROW(Dashboard!$F$7))),"")} | E26: =IFERROR(IF(INDEX(Dashboard!$F$8:$I$21,MATCH(Calc!$D26,Dashboard!$F$8:$F$21,0),MATCH("Status",Dashboard!$F$7:$I$7,0))="Done","No","Yes"),"") | G26: =IFERROR(IF(AND(Dashboard!G20="High",Dashboard!H20="Low"),1,IF(AND(Dashboard!G20="High",Dashboard!H20="High"),2,IF(AND(Dashboard!G20="Low",Dashboard!H20="Low"),3,IF(AND(Dashboard!G20="Low",Dashboard!H20="High"),4,"")))),"") | H26: =IFERROR(IF(Dashboard!I20="Not started",1,IF(Dashboard!I20="In progress",2,IF(Dashboard!I20="Done",3,""))),"") | I26: =IFERROR(G26&H26,"")
B27: =IFERROR(IF(INDEX(Dashboard!$F$8:$I$21,MATCH(Calc!$C27,Dashboard!$F$8:$F$21,0),MATCH("Status",Dashboard!$F$7:$I$7,0))="Done","No","Yes"),"") | C27: {=IFERROR(INDEX(Dashboard!$F$8:$F$21,SMALL(IF((LEN(Dashboard!$F$8:$F$21)>0)*(Calc!$G$14:$G$27=3),ROW(Dashboard!$F$8:$F$21)-ROW(Dashboard!$F$7),""),ROW(Dashboard!F13)-ROW(Dashboard!$F$7))),"")} | D27: {=IFERROR(INDEX(Dashboard!$F$8:$F$21,SMALL(IF((LEN(Dashboard!$F$8:$F$21)>0)*(Calc!$G$14:$G$27=4),ROW(Dashboard!$F$8:$F$21)-ROW(Dashboard!$F$7),""),ROW(Dashboard!F13)-ROW(Dashboard!$F$7))),"")} | E27: =IFERROR(IF(INDEX(Dashboard!$F$8:$I$21,MATCH(Calc!$D27,Dashboard!$F$8:$F$21,0),MATCH("Status",Dashboard!$F$7:$I$7,0))="Done","No","Yes"),"") | G27: =IFERROR(IF(AND(Dashboard!G21="High",Dashboard!H21="Low"),1,IF(AND(Dashboard!G21="High",Dashboard!H21="High"),2,IF(AND(Dashboard!G21="Low",Dashboard!H21="Low"),3,IF(AND(Dashboard!G21="Low",Dashboard!H21="High"),4,"")))),"") | H27: =IFERROR(IF(Dashboard!I21="Not started",1,IF(Dashboard!I21="In progress",2,IF(Dashboard!I21="Done",3,""))),"") | I27: =IFERROR(G27&H27,"")
B28: =IFERROR(IF(INDEX(Dashboard!$F$8:$I$21,MATCH(Calc!$C28,Dashboard!$F$8:$F$21,0),MATCH("Status",Dashboard!$F$7:$I$7,0))="Done","No","Yes"),"") | C28: {=IFERROR(INDEX(Dashboard!$F$8:$F$21,SMALL(IF((LEN(Dashboard!$F$8:$F$21)>0)*(Calc!$G$14:$G$27=3),ROW(Dashboard!$F$8:$F$21)-ROW(Dashboard!$F$7),""),ROW(Dashboard!F14)-ROW(Dashboard!$F$7))),"")} | D28: {=IFERROR(INDEX(Dashboard!$F$8:$F$21,SMALL(IF((LEN(Dashboard!$F$8:$F$21)>0)*(Calc!$G$14:$G$27=4),ROW(Dashboard!$F$8:$F$21)-ROW(Dashboard!$F$7),""),ROW(Dashboard!F14)-ROW(Dashboard!$F$7))),"")} | E28: =IFERROR(IF(INDEX(Dashboard!$F$8:$I$21,MATCH(Calc!$D28,Dashboard!$F$8:$F$21,0),MATCH("Status",Dashboard!$F$7:$I$7,0))="Done","No","Yes"),"")
B29: =IFERROR(IF(INDEX(Dashboard!$F$8:$I$21,MATCH(Calc!$C29,Dashboard!$F$8:$F$21,0),MATCH("Status",Dashboard!$F$7:$I$7,0))="Done","No","Yes"),"") | C29: {=IFERROR(INDEX(Dashboard!$F$8:$F$21,SMALL(IF((LEN(Dashboard!$F$8:$F$21)>0)*(Calc!$G$14:$G$27=3),ROW(Dashboard!$F$8:$F$21)-ROW(Dashboard!$F$7),""),ROW(Dashboard!F15)-ROW(Dashboard!$F$7))),"")} | D29: {=IFERROR(INDEX(Dashboard!$F$8:$F$21,SMALL(IF((LEN(Dashboard!$F$8:$F$21)>0)*(Calc!$G$14:$G$27=4),ROW(Dashboard!$F$8:$F$21)-ROW(Dashboard!$F$7),""),ROW(Dashboard!F15)-ROW(Dashboard!$F$7))),"")} | E29: =IFERROR(IF(INDEX(Dashboard!$F$8:$I$21,MATCH(Calc!$D29,Dashboard!$F$8:$F$21,0),MATCH("Status",Dashboard!$F$7:$I$7,0))="Done","No","Yes"),"")
B30: =IFERROR(IF(INDEX(Dashboard!$F$8:$I$21,MATCH(Calc!$C30,Dashboard!$F$8:$F$21,0),MATCH("Status",Dashboard!$F$7:$I$7,0))="Done","No","Yes"),"") | C30: {=IFERROR(INDEX(Dashboard!$F$8:$F$21,SMALL(IF((LEN(Dashboard!$F$8:$F$21)>0)*(Calc!$G$14:$G$27=3),ROW(Dashboard!$F$8:$F$21)-ROW(Dashboard!$F$7),""),ROW(Dashboard!F16)-ROW(Dashboard!$F$7))),"")} | D30: {=IFERROR(INDEX(Dashboard!$F$8:$F$21,SMALL(IF((LEN(Dashboard!$F$8:$F$21)>0)*(Calc!$G$14:$G$27=4),ROW(Dashboard!$F$8:$F$21)-ROW(Dashboard!$F$7),""),ROW(Dashboard!F16)-ROW(Dashboard!$F$7))),"")} | E30: =IFERROR(IF(INDEX(Dashboard!$F$8:$I$21,MATCH(Calc!$D30,Dashboard!$F$8:$F$21,0),MATCH("Status",Dashboard!$F$7:$I$7,0))="Done","No","Yes"),"")
B31: =IFERROR(IF(INDEX(Dashboard!$F$8:$I$21,MATCH(Calc!$C31,Dashboard!$F$8:$F$21,0),MATCH("Status",Dashboard!$F$7:$I$7,0))="Done","No","Yes"),"") | C31: {=IFERROR(INDEX(Dashboard!$F$8:$F$21,SMALL(IF((LEN(Dashboard!$F$8:$F$21)>0)*(Calc!$G$14:$G$27=3),ROW(Dashboard!$F$8:$F$21)-ROW(Dashboard!$F$7),""),ROW(Dashboard!F17)-ROW(Dashboard!$F$7))),"")} | D31: {=IFERROR(INDEX(Dashboard!$F$8:$F$21,SMALL(IF((LEN(Dashboard!$F$8:$F$21)>0)*(Calc!$G$14:$G$27=4),ROW(Dashboard!$F$8:$F$21)-ROW(Dashboard!$F$7),""),ROW(Dashboard!F17)-ROW(Dashboard!$F$7))),"")} | E31: =IFERROR(IF(INDEX(Dashboard!$F$8:$I$21,MATCH(Calc!$D31,Dashboard!$F$8:$F$21,0),MATCH("Status",Dashboard!$F$7:$I$7,0))="Done","No","Yes"),"")
B32: =IFERROR(IF(INDEX(Dashboard!$F$8:$I$21,MATCH(Calc!$C32,Dashboard!$F$8:$F$21,0),MATCH("Status",Dashboard!$F$7:$I$7,0))="Done","No","Yes"),"") | C32: {=IFERROR(INDEX(Dashboard!$F$8:$F$21,SMALL(IF((LEN(Dashboard!$F$8:$F$21)>0)*(Calc!$G$14:$G$27=3),ROW(Dashboard!$F$8:$F$21)-ROW(Dashboard!$F$7),""),ROW(Dashboard!F18)-ROW(Dashboard!$F$7))),"")} | D32: {=IFERROR(INDEX(Dashboard!$F$8:$F$21,SMALL(IF((LEN(Dashboard!$F$8:$F$21)>0)*(Calc!$G$14:$G$27=4),ROW(Dashboard!$F$8:$F$21)-ROW(Dashboard!$F$7),""),ROW(Dashboard!F18)-ROW(Dashboard!$F$7))),"")} | E32: =IFERROR(IF(INDEX(Dashboard!$F$8:$I$21,MATCH(Calc!$D32,Dashboard!$F$8:$F$21,0),MATCH("Status",Dashboard!$F$7:$I$7,0))="Done","No","Yes"),"")
B33: =IFERROR(IF(INDEX(Dashboard!$F$8:$I$21,MATCH(Calc!$C33,Dashboard!$F$8:$F$21,0),MATCH("Status",Dashboard!$F$7:$I$7,0))="Done","No","Yes"),"") | C33: {=IFERROR(INDEX(Dashboard!$F$8:$F$21,SMALL(IF((LEN(Dashboard!$F$8:$F$21)>0)*(Calc!$G$14:$G$27=3),ROW(Dashboard!$F$8:$F$21)-ROW(Dashboard!$F$7),""),ROW(Dashboard!F19)-ROW(Dashboard!$F$7))),"")} | D33: {=IFERROR(INDEX(Dashboard!$F$8:$F$21,SMALL(IF((LEN(Dashboard!$F$8:$F$21)>0)*(Calc!$G$14:$G$27=4),ROW(Dashboard!$F$8:$F$21)-ROW(Dashboard!$F$7),""),ROW(Dashboard!F19)-ROW(Dashboard!$F$7))),"")} | E33: =IFERROR(IF(INDEX(Dashboard!$F$8:$I$21,MATCH(Calc!$D33,Dashboard!$F$8:$F$21,0),MATCH("Status",Dashboard!$F$7:$I$7,0))="Done","No","Yes"),"")
B34: =IFERROR(IF(INDEX(Dashboard!$F$8:$I$21,MATCH(Calc!$C34,Dashboard!$F$8:$F$21,0),MATCH("Status",Dashboard!$F$7:$I$7,0))="Done","No","Yes"),"") | C34: {=IFERROR(INDEX(Dashboard!$F$8:$F$21,SMALL(IF((LEN(Dashboard!$F$8:$F$21)>0)*(Calc!$G$14:$G$27=3),ROW(Dashboard!$F$8:$F$21)-ROW(Dashboard!$F$7),""),ROW(Dashboard!F20)-ROW(Dashboard!$F$7))),"")} | D34: {=IFERROR(INDEX(Dashboard!$F$8:$F$21,SMALL(IF((LEN(Dashboard!$F$8:$F$21)>0)*(Calc!$G$14:$G$27=4),ROW(Dashboard!$F$8:$F$21)-ROW(Dashboard!$F$7),""),ROW(Dashboard!F20)-ROW(Dashboard!$F$7))),"")} | E34: =IFERROR(IF(INDEX(Dashboard!$F$8:$I$21,MATCH(Calc!$D34,Dashboard!$F$8:$F$21,0),MATCH("Status",Dashboard!$F$7:$I$7,0))="Done","No","Yes"),"")
B35: =IFERROR(IF(INDEX(Dashboard!$F$8:$I$21,MATCH(Calc!$C35,Dashboard!$F$8:$F$21,0),MATCH("Status",Dashboard!$F$7:$I$7,0))="Done","No","Yes"),"") | C35: {=IFERROR(INDEX(Dashboard!$F$8:$F$21,SMALL(IF((LEN(Dashboard!$F$8:$F$21)>0)*(Calc!$G$14:$G$27=3),ROW(Dashboard!$F$8:$F$21)-ROW(Dashboard!$F$7),""),ROW(Dashboard!F21)-ROW(Dashboard!$F$7))),"")} | D35: {=IFERROR(INDEX(Dashboard!$F$8:$F$21,SMALL(IF((LEN(Dashboard!$F$8:$F$21)>0)*(Calc!$G$14:$G$27=4),ROW(Dashboard!$F$8:$F$21)-ROW(Dashboard!$F$7),""),ROW(Dashboard!F21)-ROW(Dashboard!$F$7))),"")} | E35: =IFERROR(IF(INDEX(Dashboard!$F$8:$I$21,MATCH(Calc!$D35,Dashboard!$F$8:$F$21,0),MATCH("Status",Dashboard!$F$7:$I$7,0))="Done","No","Yes"),"")
B36: =IFERROR(IF(INDEX(Dashboard!$F$8:$I$21,MATCH(Calc!$C36,Dashboard!$F$8:$F$21,0),MATCH("Status",Dashboard!$F$7:$I$7,0))="Done","No","Yes"),"") | C36: {=IFERROR(INDEX(Dashboard!$F$8:$F$21,SMALL(IF((LEN(Dashboard!$F$8:$F$21)>0)*(Calc!$G$14:$G$27=3),ROW(Dashboard!$F$8:$F$21)-ROW(Dashboard!$F$7),""),ROW(Dashboard!F22)-ROW(Dashboard!$F$7))),"")} | D36: {=IFERROR(INDEX(Dashboard!$F$8:$F$21,SMALL(IF((LEN(Dashboard!$F$8:$F$21)>0)*(Calc!$G$14:$G$27=4),ROW(Dashboard!$F$8:$F$21)-ROW(Dashboard!$F$7),""),ROW(Dashboard!F22)-ROW(Dashboard!$F$7))),"")} | E36: =IFERROR(IF(INDEX(Dashboard!$F$8:$I$21,MATCH(Calc!$D36,Dashboard!$F$8:$F$21,0),MATCH("Status",Dashboard!$F$7:$I$7,0))="Done","No","Yes"),"")
