Workbook
Name AllExam: OFFSET(Calc!$L$6,0,0,MAX(Calc!$C$10,1),1)
Name AllHomework: OFFSET(Calc!$K$6,0,0,MAX(Calc!$C$10,1),1)
Name Courses: OFFSET(Calc!$J$6,0,0,MAX(Calc!$C$10,1),1)
Name StExam: OFFSET(Calc!$S$7,0,0,MAX(Calc!$C$10,1),1)
Name StHomework: OFFSET(Calc!$W$7,0,0,MAX(Calc!$C$10,1),1)

Sheet Dashboard
C2: TEACHER LESSON PLAN TEMPLATE
C3: DASHBOARD
C7: NAVIGATION MENU
C16: DASHBOARD
C18: Student Number
C19: =IFERROR(Calc!C12,"") -> 15
C21: Lesson Number
C22: =IFERROR(Calc!C10,"") -> 5
C24: Exam Average
C25: =IFERROR(Calc!L16,"") -> 72.488889
C27: Homework Average
C28: =IFERROR(Calc!K16,"") -> 74.186667
C31: Student | D31: Patrick Swayze
C33: Lessons | D33: Homework | E33: Exam
C34: =IFERROR(IF(LEN(Lists!H6)=0,"",Lists!H6),"") -> Mathematics | D34: =IFERROR(IF(LEN(C34)=0,"",Calc!W7),"") -> 28 | E34: =IFERROR(IF(LEN(C34)=0,"",Calc!S7),"") -> 19.333333
C35: =IFERROR(IF(LEN(Lists!H7)=0,"",Lists!H7),"") -> Physics | D35: =IFERROR(IF(LEN(C35)=0,"",Calc!W8),"") -> 82 | E35: =IFERROR(IF(LEN(C35)=0,"",Calc!S8),"") -> 46.666667
C36: =IFERROR(IF(LEN(Lists!H8)=0,"",Lists!H8),"") -> Geometry | D36: =IFERROR(IF(LEN(C36)=0,"",Calc!W9),"") -> 77.666667 | E36: =IFERROR(IF(LEN(C36)=0,"",Calc!S9),"") -> 75.666667
C37: =IFERROR(IF(LEN(Lists!H9)=0,"",Lists!H9),"") -> Chemistry | D37: =IFERROR(IF(LEN(C37)=0,"",Calc!W10),"") -> 76.666667 | E37: =IFERROR(IF(LEN(C37)=0,"",Calc!S10),"") -> 93
C38: =IFERROR(IF(LEN(Lists!H10)=0,"",Lists!H10),"") -> Biology | D38: =IFERROR(IF(LEN(C38)=0,"",Calc!W11),"") -> 74.666667 | E38: =IFERROR(IF(LEN(C38)=0,"",Calc!S11),"") -> 81.666667
C39: =IFERROR(IF(LEN(Lists!H11)=0,"",Lists!H11),"") | D39: =IFERROR(IF(LEN(C39)=0,"",Calc!W12),"") | E39: =IFERROR(IF(LEN(C39)=0,"",Calc!S12),"")
C40: =IFERROR(IF(LEN(Lists!H12)=0,"",Lists!H12),"") | D40: =IFERROR(IF(LEN(C40)=0,"",Calc!W13),"") | E40: =IFERROR(IF(LEN(C40)=0,"",Calc!S13),"")
C41: =IFERROR(IF(LEN(Lists!H13)=0,"",Lists!H13),"") | D41: =IFERROR(IF(LEN(C41)=0,"",Calc!W14),"") | E41: =IFERROR(IF(LEN(C41)=0,"",Calc!S14),"")
C42: =IFERROR(IF(LEN(Lists!H14)=0,"",Lists!H14),"") | D42: =IFERROR(IF(LEN(C42)=0,"",Calc!W15),"") | E42: =IFERROR(IF(LEN(C42)=0,"",Calc!S15),"")
C43: =IFERROR(IF(LEN(Lists!H15)=0,"",Lists!H15),"") | D43: =IFERROR(IF(LEN(C43)=0,"",Calc!W16),"") | E43: =IFERROR(IF(LEN(C43)=0,"",Calc!S16),"")
C44: AVERAGE | D44: =IFERROR(AVERAGE(D34:D43),"") -> 67.8 | E44: =IFERROR(AVERAGE(E34:E43),"") -> 63.266667
C46: Best Lesson | D46: =IFERROR(IF(LEN(Calc!P19)=0,"",Calc!P19),"") -> Chemistry
C48: Worst Lesson | D48: =IFERROR(IF(LEN(Calc!P20)=0,"",Calc!P20),"") -> Mathematics
C50: ATTENDANCE TRACKER
C52: =Calc!Z5 -> Present | E52: =IFERROR(Calc!Z18,"") -> 81
C54: =Calc!AA5 -> Tardy | E54: =IFERROR(Calc!AA18,"") -> 6
C56: =Calc!AB5 -> Excused | E56: =IFERROR(Calc!AB18,"") -> 2
C58: =Calc!AC5 -> Unexcused | E58: =IFERROR(Calc!AC18,"") -> 0

Sheet Lists
C2: TEACHER LESSON PLAN TEMPLATE
C3: STUDENT & LESSON LISTS
B5: # | C5: Student Name | D5: Studen Number | E5: Class | F5: Special Notes About the Student | H5: Lesson List
B6: 1 | C6: Patrick Swayze | D6: 101 | E6: 10A | F6: This student is good at visual stuff. | H6: Mathematics
B7: 2 | C7: Benicio Del Toro | D7: 102 | E7: 10A | H7: Physics
B8: 3 | C8: Harvey Kietel | D8: 103 | E8: 10A | H8: Geometry
B9: 4 | C9: Ed Harris | D9: 104 | E9: 10A | H9: Chemistry
B10: 5 | C10: Charles Laughton | D10: 105 | E10: 10A | H10: Biology
B11: 6 | C11: James Caan | D11: 106 | E11: 10A
B12: 7 | C12: Robert Downey Jr. | D12: 107 | E12: 10A | F12: This student comes from long distance.
B13: 8 | C13: Alec Guiness | D13: 108 | E13: 10A
B14: 9 | C14: Viggo Mortensen | D14: 109 | E14: 10A
B15: 10 | C15: Kylian Mbappe | D15: 110 | E15: 10A
B16: 11 | C16: Jessica Alba | D16: 111 | E16: 10B
B17: 12 | C17: Emma Stone | D17: 112 | E17: 10B
B18: 13 | C18: Scarlett Johansson | D18: 113 | E18: 10B
B19: 14 | C19: Mila Kunis | D19: 114 | E19: 10B
B20: 15 | C20: Charlize Theron | D20: 115 | E20: 10B
B21: 16
B22: 17
B23: 18
B24: 19
B25: 20
B26: 21
B27: 22
B28: 23
B29: 24
B30: 25
B31: 26
B32: 27
... B105: 100

Sheet DailyPlan
C2: TEACHER LESSON PLAN TEMPLATE
C3: DAILY PLAN
C7: Date | D7: 44673 | F7: =Calc!E16 -> Total | G7: =Calc!F5 -> Not Started | H7: =Calc!G5 -> In Progress | I7: =Calc!H5 -> Done
C8: Class | D8: 10C | F8: =IFERROR(SUM(G8:I8),"") -> 6 | G8: =Calc!F16 -> 3 | H8: =Calc!G16 -> 1 | I8: =Calc!H16 -> 2
C10: Subjects | D10: Topic 1 | E10: Topic 2 | F10: Topic 3 | G10: Topic 4 | H10: Topic 5 | I10: Completion
C12: Mathematics | D12: Multiplication table | E12: Multiplication exercises | F12: Double digit multiplication | I12: =IFERROR(COUNTIFS(D12:H12,"?*",D13:H13,Calc!$B$8)/COUNTIF(D12:H12,"?*"),"") -> 0.33333333
C13: Status | D13: Not Started | E13: Done | F13: In Progress | I13: =IFERROR(IF(I12>0,I12,""),"") -> 0.33333333
C15: Physics | D15: Newton's Second Law | E15: Acceleration | F15: Mass of objects | I15: =IFERROR(COUNTIFS(D15:H15,"?*",D16:H16,Calc!$B$8)/COUNTIF(D15:H15,"?*"),"") -> 0.33333333
C16: Status | D16: Not Started | E16: Not Started | F16: Done | I16: =IFERROR(IF(I15>0,I15,""),"") -> 0.33333333
I18: =IFERROR(COUNTIFS(D18:H18,"?*",D19:H19,Calc!$B$8)/COUNTIF(D18:H18,"?*"),"")
C19: Status | I19: =IFERROR(IF(I18>0,I18,""),"")
I21: =IFERROR(COUNTIFS(D21:H21,"?*",D22:H22,Calc!$B$8)/COUNTIF(D21:H21,"?*"),"")
C22: Status | I22: =IFERROR(IF(I21>0,I21,""),"")
I24: =IFERROR(COUNTIFS(D24:H24,"?*",D25:H25,Calc!$B$8)/COUNTIF(D24:H24,"?*"),"")
C25: Status | I25: =IFERROR(IF(I24>0,I24,""),"")
I27: =IFERROR(COUNTIFS(D27:H27,"?*",D28:H28,Calc!$B$8)/COUNTIF(D27:H27,"?*"),"")
C28: Status | I28: =IFERROR(IF(I27>0,I27,""),"")
I30: =IFERROR(COUNTIFS(D30:H30,"?*",D31:H31,Calc!$B$8)/COUNTIF(D30:H30,"?*"),"")
C31: Status | I31: =IFERROR(IF(I30>0,I30,""),"")
I33: =IFERROR(COUNTIFS(D33:H33,"?*",D34:H34,Calc!$B$8)/COUNTIF(D33:H33,"?*"),"")
C34: Status | I34: =IFERROR(IF(I33>0,I33,""),"")
I36: =IFERROR(COUNTIFS(D36:H36,"?*",D37:H37,Calc!$B$8)/COUNTIF(D36:H36,"?*"),"")
C37: Status | I37: =IFERROR(IF(I36>0,I36,""),"")
I39: =IFERROR(COUNTIFS(D39:H39,"?*",D40:H40,Calc!$B$8)/COUNTIF(D39:H39,"?*"),"")
C40: Status | I40: =IFERROR(IF(I39>0,I39,""),"")

Sheet WeeklyPlan
C2: TEACHER LESSON PLAN TEMPLATE
C3: WEEKLY PLAN
C7: Week of | D7: 44673
D9: Mathematics | E9: Geometry | F9: Biology | G9: Physics
D11: Equations | E11: Triangles | F11: Animal Cells | G11: Try parallel connections
D12: Probability | E12: Circles | F12: Plant Cells
C13: MONDAY | D13: Integrals | F13: Genetics
D17: Classroom exercises | E17: Rectangles
C19: TUESDAY
C25: WEDNESDAY
C31: THURSDAY
C37: FRIDAY
C43: SATURDAY
C49: SUNDAY

Sheet Homework
C2: TEACHER LESSON PLAN TEMPLATE
C3: HOMEWORK RESULTS
E6: =IFERROR(IF(LEN(Lists!H6)=0,"",Lists!H6),"") -> Mathematics | H6: =IFERROR(IF(LEN(Lists!H7)=0,"",Lists!H7),"") -> Physics | K6: =IFERROR(IF(LEN(Lists!H8)=0,"",Lists!H8),"") -> Geometry | N6: =IFERROR(IF(LEN(Lists!H9)=0,"",Lists!H9),"") -> Chemistry | Q6: =IFERROR(IF(LEN(Lists!H10)=0,"",Lists!H10),"") -> Biology | T6: =IFERROR(IF(LEN(Lists!H11)=0,"",Lists!H11),"") | W6: =IFERROR(IF(LEN(Lists!H12)=0,"",Lists!H12),"") | Z6: =IFERROR(IF(LEN(Lists!H13)=0,"",Lists!H13),"") | AC6: =IFERROR(IF(LEN(Lists!H14)=0,"",Lists!H14),"") | AF6: =IFERROR(IF(LEN(Lists!H15)=0,"",Lists!H15),"")
E7: Average: | G7: =IFERROR(AVERAGE(E9:G28),"") -> 72.288889 | H7: Average: | J7: =IFERROR(AVERAGE(H9:J28),"") -> 74.688889 | K7: Average: | M7: =IFERROR(AVERAGE(K9:M28),"") -> 75.044444 | N7: Average: | P7: =IFERROR(AVERAGE(N9:P28),"") -> 74.8 | Q7: Average: | S7: =IFERROR(AVERAGE(Q9:S28),"") -> 74.111111 | T7: Average: | V7: =IFERROR(AVERAGE(T9:V28),"") | W7: Average: | Y7: =IFERROR(AVERAGE(W9:Y28),"") | Z7: Average: | AB7: =IFERROR(AVERAGE(Z9:AB28),"") | AC7: Average: | AE7: =IFERROR(AVERAGE(AC9:AE28),"") | AF7: Average: | AH7: =IFERROR(AVERAGE(AF9:AH28),"")
C8: # | D8: Students Name | E8: H1 | F8: H2 | G8: H3 | H8: H1 | I8: H2 | J8: H3 | K8: H1 | L8: H2 | M8: H3 | N8: H1 | O8: H2 | P8: H3 | Q8: H1 | R8: H2 | S8: H3 | T8: H1 | U8: H2 | V8: H3 | W8: H1 | X8: H2 | Y8: H3 | Z8: H1 | AA8: H2 | AB8: H3 | AC8: H1 | AD8: H2 | AE8: H3 | AF8: H1 | AG8: H2 | AH8: H3
C9: 1 | D9: =IFERROR(IF(LEN(INDEX(Lists!$C$6:$C$105,MATCH($C9,Lists!$B$6:$B$105,0)))=0,"",INDEX(Lists!$C$6:$C$105,MATCH($C9,Lists!$B$6:$B$105,0))),"") -> Patrick Swayze | E9: 84 | F9: 0 | G9: 0 | H9: 84 | I9: 79 | J9: 83 | K9: 79 | L9: 82 | M9: 72 | N9: 73 | O9: 78 | P9: 79 | Q9: 67 | R9: 81 | S9: 76
C10: 2 | D10: =IFERROR(IF(LEN(INDEX(Lists!$C$6:$C$105,MATCH($C10,Lists!$B$6:$B$105,0)))=0,"",INDEX(Lists!$C$6:$C$105,MATCH($C10,Lists!$B$6:$B$105,0))),"") -> Benicio Del Toro | E10: 72 | F10: 81 | G10: 80 | H10: 71 | I10: 84 | J10: 66 | K10: 67 | L10: 84 | M10: 82 | N10: 69 | O10: 75 | P10: 67 | Q10: 73 | R10: 70 | S10: 69
C11: 3 | D11: =IFERROR(IF(LEN(INDEX(Lists!$C$6:$C$105,MATCH($C11,Lists!$B$6:$B$105,0)))=0,"",INDEX(Lists!$C$6:$C$105,MATCH($C11,Lists!$B$6:$B$105,0))),"") -> Harvey Kietel | E11: 74 | F11: 81 | G11: 77 | H11: 68 | I11: 67 | J11: 68 | K11: 84 | L11: 79 | M11: 75 | N11: 79 | O11: 79 | P11: 80 | Q11: 72 | R11: 84 | S11: 74
C12: 4 | D12: =IFERROR(IF(LEN(INDEX(Lists!$C$6:$C$105,MATCH($C12,Lists!$B$6:$B$105,0)))=0,"",INDEX(Lists!$C$6:$C$105,MATCH($C12,Lists!$B$6:$B$105,0))),"") -> Ed Harris | E12: 83 | F12: 76 | G12: 68 | H12: 77 | I12: 74 | J12: 71 | K12: 79 | L12: 83 | M12: 71 | N12: 82 | O12: 74 | P12: 66 | Q12: 76 | R12: 70 | S12: 71
C13: 5 | D13: =IFERROR(IF(LEN(INDEX(Lists!$C$6:$C$105,MATCH($C13,Lists!$B$6:$B$105,0)))=0,"",INDEX(Lists!$C$6:$C$105,MATCH($C13,Lists!$B$6:$B$105,0))),"") -> Charles Laughton | E13: 82 | F13: 67 | G13: 68 | H13: 69 | I13: 73 | J13: 80 | K13: 79 | L13: 79 | M13: 73 | N13: 75 | O13: 69 | P13: 66 | Q13: 76 | R13: 68 | S13: 76
C14: 6 | D14: =IFERROR(IF(LEN(INDEX(Lists!$C$6:$C$105,MATCH($C14,Lists!$B$6:$B$105,0)))=0,"",INDEX(Lists!$C$6:$C$105,MATCH($C14,Lists!$B$6:$B$105,0))),"") -> James Caan | E14: 71 | F14: 83 | G14: 77 | H14: 84 | I14: 74 | J14: 68 | K14: 70 | L14: 70 | M14: 66 | N14: 67 | O14: 76 | P14: 81 | Q14: 77 | R14: 67 | S14: 74
C15: 7 | D15: =IFERROR(IF(LEN(INDEX(Lists!$C$6:$C$105,MATCH($C15,Lists!$B$6:$B$105,0)))=0,"",INDEX(Lists!$C$6:$C$105,MATCH($C15,Lists!$B$6:$B$105,0))),"") -> Robert Downey Jr. | E15: 71 | F15: 77 | G15: 66 | H15: 67 | I15: 84 | J15: 77 | K15: 84 | L15: 77 | M15: 70 | N15: 81 | O15: 66 | P15: 71 | Q15: 68 | R15: 84 | S15: 74
C16: 8 | D16: =IFERROR(IF(LEN(INDEX(Lists!$C$6:$C$105,MATCH($C16,Lists!$B$6:$B$105,0)))=0,"",INDEX(Lists!$C$6:$C$105,MATCH($C16,Lists!$B$6:$B$105,0))),"") -> Alec Guiness | E16: 83 | F16: 71 | G16: 84 | H16: 83 | I16: 78 | J16: 68 | K16: 74 | L16: 75 | M16: 74 | N16: 70 | O16: 74 | P16: 72 | Q16: 84 | R16: 80 | S16: 81
C17: 9 | D17: =IFERROR(IF(LEN(INDEX(Lists!$C$6:$C$105,MATCH($C17,Lists!$B$6:$B$105,0)))=0,"",INDEX(Lists!$C$6:$C$105,MATCH($C17,Lists!$B$6:$B$105,0))),"") -> Viggo Mortensen | E17: 79 | F17: 66 | G17: 70 | H17: 72 | I17: 69 | J17: 84 | K17: 75 | L17: 78 | M17: 79 | N17: 84 | O17: 78 | P17: 67 | Q17: 70 | R17: 72 | S17: 66
C18: 10 | D18: =IFERROR(IF(LEN(INDEX(Lists!$C$6:$C$105,MATCH($C18,Lists!$B$6:$B$105,0)))=0,"",INDEX(Lists!$C$6:$C$105,MATCH($C18,Lists!$B$6:$B$105,0))),"") -> Kylian Mbappe | E18: 74 | F18: 69 | G18: 78 | H18: 69 | I18: 67 | J18: 71 | K18: 70 | L18: 74 | M18: 75 | N18: 83 | O18: 79 | P18: 80 | Q18: 69 | R18: 72 | S18: 68
C19: 11 | D19: =IFERROR(IF(LEN(INDEX(Lists!$C$6:$C$105,MATCH($C19,Lists!$B$6:$B$105,0)))=0,"",INDEX(Lists!$C$6:$C$105,MATCH($C19,Lists!$B$6:$B$105,0))),"") -> Jessica Alba | E19: 83 | F19: 81 | G19: 84 | H19: 72 | I19: 79 | J19: 77 | K19: 83 | L19: 76 | M19: 67 | N19: 74 | O19: 81 | P19: 80 | Q19: 84 | R19: 83 | S19: 78
C20: 12 | D20: =IFERROR(IF(LEN(INDEX(Lists!$C$6:$C$105,MATCH($C20,Lists!$B$6:$B$105,0)))=0,"",INDEX(Lists!$C$6:$C$105,MATCH($C20,Lists!$B$6:$B$105,0))),"") -> Emma Stone | E20: 78 | F20: 78 | G20: 79 | H20: 80 | I20: 84 | J20: 77 | K20: 68 | L20: 66 | M20: 69 | N20: 73 | O20: 68 | P20: 73 | Q20: 74 | R20: 77 | S20: 82
... C23: 15 | D23: =IFERROR(IF(LEN(INDEX(Lists!$C$6:$C$105,MATCH($C23,Lists!$B$6:$B$105,0)))=0,"",INDEX(Lists!$C$6:$C$105,MATCH($C23,Lists!$B$6:$B$105,0))),"") -> Charlize Theron | E23: 78 | F23: 72 | G23: 67 | H23: 72 | I23: 74 | J23: 68 | K23: 68 | L23: 84 | M23: 67 | N23: 83 | O23: 76 | P23: 69 | Q23: 72 | R23: 67 | S23: 71
C24: 16 | D24: =IFERROR(IF(LEN(INDEX(Lists!$C$6:$C$105,MATCH($C24,Lists!$B$6:$B$105,0)))=0,"",INDEX(Lists!$C$6:$C$105,MATCH($C24,Lists!$B$6:$B$105,0))),"")
C25: 17 | D25: =IFERROR(IF(LEN(INDEX(Lists!$C$6:$C$105,MATCH($C25,Lists!$B$6:$B$105,0)))=0,"",INDEX(Lists!$C$6:$C$105,MATCH($C25,Lists!$B$6:$B$105,0))),"")
C26: 18 | D26: =IFERROR(IF(LEN(INDEX(Lists!$C$6:$C$105,MATCH($C26,Lists!$B$6:$B$105,0)))=0,"",INDEX(Lists!$C$6:$C$105,MATCH($C26,Lists!$B$6:$B$105,0))),"")
C27: 19 | D27: =IFERROR(IF(LEN(INDEX(Lists!$C$6:$C$105,MATCH($C27,Lists!$B$6:$B$105,0)))=0,"",INDEX(Lists!$C$6:$C$105,MATCH($C27,Lists!$B$6:$B$105,0))),"")
C28: 20 | D28: =IFERROR(IF(LEN(INDEX(Lists!$C$6:$C$105,MATCH($C28,Lists!$B$6:$B$105,0)))=0,"",INDEX(Lists!$C$6:$C$105,MATCH($C28,Lists!$B$6:$B$105,0))),"")

Sheet Exams
C2: TEACHER LESSON PLAN TEMPLATE
C3: EXAM RESULTS
E6: =IFERROR(IF(LEN(Lists!H6)=0,"",Lists!H6),"") -> Mathematics | H6: =IFERROR(IF(LEN(Lists!H7)=0,"",Lists!H7),"") -> Physics | K6: =IFERROR(IF(LEN(Lists!H8)=0,"",Lists!H8),"") -> Geometry | N6: =IFERROR(IF(LEN(Lists!H9)=0,"",Lists!H9),"") -> Chemistry | Q6: =IFERROR(IF(LEN(Lists!H10)=0,"",Lists!H10),"") -> Biology | T6: =IFERROR(IF(LEN(Lists!H11)=0,"",Lists!H11),"") | W6: =IFERROR(IF(LEN(Lists!H12)=0,"",Lists!H12),"") | Z6: =IFERROR(IF(LEN(Lists!H13)=0,"",Lists!H13),"") | AC6: =IFERROR(IF(LEN(Lists!H14)=0,"",Lists!H14),"") | AF6: =IFERROR(IF(LEN(Lists!H15)=0,"",Lists!H15),"")
E7: Average: | G7: =IFERROR(AVERAGE(E9:G28),"") -> 70.022222 | H7: Average: | J7: =IFERROR(AVERAGE(H9:J28),"") -> 47.844444 | K7: Average: | M7: =IFERROR(AVERAGE(K9:M28),"") -> 75.822222 | N7: Average: | P7: =IFERROR(AVERAGE(N9:P28),"") -> 93.066667 | Q7: Average: | S7: =IFERROR(AVERAGE(Q9:S28),"") -> 75.688889 | T7: Average: | V7: =IFERROR(AVERAGE(T9:V28),"") | W7: Average: | Y7: =IFERROR(AVERAGE(W9:Y28),"") | Z7: Average: | AB7: =IFERROR(AVERAGE(Z9:AB28),"") | AC7: Average: | AE7: =IFERROR(AVERAGE(AC9:AE28),"") | AF7: Average: | AH7: =IFERROR(AVERAGE(AF9:AH28),"")
C8: # | D8: Students Name | E8: 1rd | F8: 2nd | G8: 3rd | H8: 1rd | I8: 2nd | J8: 3rd | K8: 1rd | L8: 2nd | M8: 3rd | N8: 1rd | O8: 2nd | P8: 3rd | Q8: 1rd | R8: 2nd | S8: 3rd | T8: 1rd | U8: 2nd | V8: 3rd | W8: 1rd | X8: 2nd | Y8: 3rd | Z8: 1rd | AA8: 2nd | AB8: 3rd | AC8: 1rd | AD8: 2nd | AE8: 3rd | AF8: 1rd | AG8: 2nd | AH8: 3rd
C9: 1 | D9: =IFERROR(IF(LEN(INDEX(Lists!$C$6:$C$105,MATCH($C9,Lists!$B$6:$B$105,0)))=0,"",INDEX(Lists!$C$6:$C$105,MATCH($C9,Lists!$B$6:$B$105,0))),"") -> Patrick Swayze | E9: 58 | F9: 0 | G9: 0 | H9: 43 | I9: 44 | J9: 53 | K9: 91 | L9: 65 | M9: 71 | N9: 93 | O9: 99 | P9: 87 | Q9: 99 | R9: 84 | S9: 62
C10: 2 | D10: =IFERROR(IF(LEN(INDEX(Lists!$C$6:$C$105,MATCH($C10,Lists!$B$6:$B$105,0)))=0,"",INDEX(Lists!$C$6:$C$105,MATCH($C10,Lists!$B$6:$B$105,0))),"") -> Benicio Del Toro | E10: 64 | F10: 55 | G10: 64 | H10: 43 | I10: 45 | J10: 55 | K10: 82 | L10: 65 | M10: 86 | N10: 90 | O10: 89 | P10: 89 | Q10: 73 | R10: 63 | S10: 70
C11: 3 | D11: =IFERROR(IF(LEN(INDEX(Lists!$C$6:$C$105,MATCH($C11,Lists!$B$6:$B$105,0)))=0,"",INDEX(Lists!$C$6:$C$105,MATCH($C11,Lists!$B$6:$B$105,0))),"") -> Harvey Kietel | E11: 85 | F11: 73 | G11: 86 | H11: 47 | I11: 47 | J11: 43 | K11: 88 | L11: 79 | M11: 96 | N11: 99 | O11: 100 | P11: 97 | Q11: 65 | R11: 97 | S11: 90
C12: 4 | D12: =IFERROR(IF(LEN(INDEX(Lists!$C$6:$C$105,MATCH($C12,Lists!$B$6:$B$105,0)))=0,"",INDEX(Lists!$C$6:$C$105,MATCH($C12,Lists!$B$6:$B$105,0))),"") -> Ed Harris | E12: 75 | F12: 80 | G12: 85 | H12: 52 | I12: 47 | J12: 48 | K12: 86 | L12: 90 | M12: 64 | N12: 87 | O12: 98 | P12: 90 | Q12: 58 | R12: 55 | S12: 97
C13: 5 | D13: =IFERROR(IF(LEN(INDEX(Lists!$C$6:$C$105,MATCH($C13,Lists!$B$6:$B$105,0)))=0,"",INDEX(Lists!$C$6:$C$105,MATCH($C13,Lists!$B$6:$B$105,0))),"") -> Charles Laughton | E13: 55 | F13: 74 | G13: 69 | H13: 50 | I13: 48 | J13: 47 | K13: 96 | L13: 83 | M13: 59 | N13: 98 | O13: 88 | P13: 89 | Q13: 98 | R13: 75 | S13: 77
C14: 6 | D14: =IFERROR(IF(LEN(INDEX(Lists!$C$6:$C$105,MATCH($C14,Lists!$B$6:$B$105,0)))=0,"",INDEX(Lists!$C$6:$C$105,MATCH($C14,Lists!$B$6:$B$105,0))),"") -> James Caan | E14: 98 | F14: 53 | G14: 70 | H14: 45 | I14: 48 | J14: 49 | K14: 87 | L14: 71 | M14: 79 | N14: 90 | O14: 93 | P14: 89 | Q14: 51 | R14: 59 | S14: 66
C15: 7 | D15: =IFERROR(IF(LEN(INDEX(Lists!$C$6:$C$105,MATCH($C15,Lists!$B$6:$B$105,0)))=0,"",INDEX(Lists!$C$6:$C$105,MATCH($C15,Lists!$B$6:$B$105,0))),"") -> Robert Downey Jr. | E15: 53 | F15: 59 | G15: 96 | H15: 45 | I15: 43 | J15: 52 | K15: 72 | L15: 71 | M15: 73 | N15: 99 | O15: 98 | P15: 91 | Q15: 62 | R15: 71 | S15: 82
C16: 8 | D16: =IFERROR(IF(LEN(INDEX(Lists!$C$6:$C$105,MATCH($C16,Lists!$B$6:$B$105,0)))=0,"",INDEX(Lists!$C$6:$C$105,MATCH($C16,Lists!$B$6:$B$105,0))),"") -> Alec Guiness | E16: 55 | F16: 57 | G16: 74 | H16: 51 | I16: 53 | J16: 52 | K16: 72 | L16: 67 | M16: 76 | N16: 87 | O16: 93 | P16: 99 | Q16: 84 | R16: 59 | S16: 94
C17: 9 | D17: =IFERROR(IF(LEN(INDEX(Lists!$C$6:$C$105,MATCH($C17,Lists!$B$6:$B$105,0)))=0,"",INDEX(Lists!$C$6:$C$105,MATCH($C17,Lists!$B$6:$B$105,0))),"") -> Viggo Mortensen | E17: 71 | F17: 97 | G17: 80 | H17: 49 | I17: 45 | J17: 43 | K17: 84 | L17: 62 | M17: 70 | N17: 87 | O17: 97 | P17: 94 | Q17: 82 | R17: 75 | S17: 77
C18: 10 | D18: =IFERROR(IF(LEN(INDEX(Lists!$C$6:$C$105,MATCH($C18,Lists!$B$6:$B$105,0)))=0,"",INDEX(Lists!$C$6:$C$105,MATCH($C18,Lists!$B$6:$B$105,0))),"") -> Kylian Mbappe | E18: 85 | F18: 57 | G18: 53 | H18: 51 | I18: 53 | J18: 51 | K18: 61 | L18: 90 | M18: 95 | N18: 93 | O18: 98 | P18: 100 | Q18: 57 | R18: 57 | S18: 78
C19: 11 | D19: =IFERROR(IF(LEN(INDEX(Lists!$C$6:$C$105,MATCH($C19,Lists!$B$6:$B$105,0)))=0,"",INDEX(Lists!$C$6:$C$105,MATCH($C19,Lists!$B$6:$B$105,0))),"") -> Jessica Alba | E19: 93 | F19: 76 | G19: 88 | H19: 45 | I19: 48 | J19: 45 | K19: 59 | L19: 63 | M19: 70 | N19: 91 | O19: 91 | P19: 90 | Q19: 100 | R19: 81 | S19: 95
C20: 12 | D20: =IFERROR(IF(LEN(INDEX(Lists!$C$6:$C$105,MATCH($C20,Lists!$B$6:$B$105,0)))=0,"",INDEX(Lists!$C$6:$C$105,MATCH($C20,Lists!$B$6:$B$105,0))),"") -> Emma Stone | E20: 91 | F20: 82 | G20: 96 | H20: 43 | I20: 51 | J20: 50 | K20: 80 | L20: 72 | M20: 59 | N20: 87 | O20: 98 | P20: 100 | Q20: 98 | R20: 75 | S20: 67
... C23: 15 | D23: =IFERROR(IF(LEN(INDEX(Lists!$C$6:$C$105,MATCH($C23,Lists!$B$6:$B$105,0)))=0,"",INDEX(Lists!$C$6:$C$105,MATCH($C23,Lists!$B$6:$B$105,0))),"") -> Charlize Theron | E23: 61 | F23: 77 | G23: 96 | H23: 44 | I23: 50 | J23: 50 | K23: 82 | L23: 60 | M23: 91 | N23: 87 | O23: 87 | P23: 91 | Q23: 58 | R23: 88 | S23: 95
C24: 16 | D24: =IFERROR(IF(LEN(INDEX(Lists!$C$6:$C$105,MATCH($C24,Lists!$B$6:$B$105,0)))=0,"",INDEX(Lists!$C$6:$C$105,MATCH($C24,Lists!$B$6:$B$105,0))),"")
C25: 17 | D25: =IFERROR(IF(LEN(INDEX(Lists!$C$6:$C$105,MATCH($C25,Lists!$B$6:$B$105,0)))=0,"",INDEX(Lists!$C$6:$C$105,MATCH($C25,Lists!$B$6:$B$105,0))),"")
C26: 18 | D26: =IFERROR(IF(LEN(INDEX(Lists!$C$6:$C$105,MATCH($C26,Lists!$B$6:$B$105,0)))=0,"",INDEX(Lists!$C$6:$C$105,MATCH($C26,Lists!$B$6:$B$105,0))),"")
C27: 19 | D27: =IFERROR(IF(LEN(INDEX(Lists!$C$6:$C$105,MATCH($C27,Lists!$B$6:$B$105,0)))=0,"",INDEX(Lists!$C$6:$C$105,MATCH($C27,Lists!$B$6:$B$105,0))),"")
C28: 20 | D28: =IFERROR(IF(LEN(INDEX(Lists!$C$6:$C$105,MATCH($C28,Lists!$B$6:$B$105,0)))=0,"",INDEX(Lists!$C$6:$C$105,MATCH($C28,Lists!$B$6:$B$105,0))),"")

Sheet January
C2: TEACHER LESSON PLAN TEMPLATE
C3: ATTENDANCE - JANUARY
AN6: TOTALS
C7: MONTHS | E7: # | F7: Students Name | G7: Class | H7: 1 | I7: 2 | J7: 3 | K7: 4 | L7: 5 | M7: 6 | N7: 7 | O7: 8 | P7: 9 | Q7: 10 | R7: 11 | S7: 12 | T7: 13 | U7: 14 | V7: 15 | W7: 16 | X7: 17 | Y7: 18 | Z7: 19 | AA7: 20 | AB7: 21 | AC7: 22 | AD7: 23 | AE7: 24 | AF7: 25 | AG7: 26 | AH7: 27 | AI7: 28 | AJ7: 29 | AK7: 30 | AL7: 31 | AN7: =Calc!B17 -> Present | AO7: =Calc!B18 -> Tardy | AP7: =Calc!B19 -> Excused | AQ7: =Calc!B20 -> Unexcused
E8: 1 | F8: =IFERROR(IF(LEN(INDEX(Lists!$C$6:$C$105,MATCH($E8,Lists!$B$6:$B$105,0)))=0,"",INDEX(Lists!$C$6:$C$105,MATCH($E8,Lists!$B$6:$B$105,0))),"") -> Patrick Swayze | G8: =IFERROR(IF(LEN(INDEX(Lists!$E$6:$E$105,MATCH($E8,Lists!$B$6:$B$105,0)))=0,"",INDEX(Lists!$E$6:$E$105,MATCH($E8,Lists!$B$6:$B$105,0))),"") -> 10A | H8: P | I8: P | J8: P | K8: P | N8: P | O8: P | P8: P | Q8: P | R8: P | U8: P | V8: P | W8: P | X8: E | Y8: P | AB8: P | AC8: P | AD8: P | AE8: T | AF8: P | AI8: P | AJ8: P | AK8: P | AL8: P | AN8: =IFERROR(IF(LEN(F8)=0,"",COUNTIF($H8:$AL8,Calc!$C$17)),"") -> 21 | AO8: =IFERROR(IF(LEN(F8)=0,"",COUNTIF($H8:$AL8,Calc!$C$18)),"") -> 1 | AP8: =IFERROR(IF(LEN(F8)=0,"",COUNTIF($H8:$AL8,Calc!$C$19)),"") -> 1 | AQ8: =IFERROR(IF(LEN(F8)=0,"",COUNTIF($H8:$AL8,Calc!$C$20)),"") -> 0
C9: JANUARY | E9: 2 | F9: =IFERROR(IF(LEN(INDEX(Lists!$C$6:$C$105,MATCH($E9,Lists!$B$6:$B$105,0)))=0,"",INDEX(Lists!$C$6:$C$105,MATCH($E9,Lists!$B$6:$B$105,0))),"") -> Benicio Del Toro | G9: =IFERROR(IF(LEN(INDEX(Lists!$E$6:$E$105,MATCH($E9,Lists!$B$6:$B$105,0)))=0,"",INDEX(Lists!$E$6:$E$105,MATCH($E9,Lists!$B$6:$B$105,0))),"") -> 10A | H9: P | I9: P | J9: E | K9: P | N9: P | O9: P | P9: U | Q9: P | R9: P | U9: P | V9: U | W9: E | X9: P | Y9: P | AB9: P | AC9: P | AD9: P | AE9: P | AF9: P | AI9: P | AJ9: P | AK9: P | AL9: P | AN9: =IFERROR(IF(LEN(F9)=0,"",COUNTIF($H9:$AL9,Calc!$C$17)),"") -> 19 | AO9: =IFERROR(IF(LEN(F9)=0,"",COUNTIF($H9:$AL9,Calc!$C$18)),"") -> 0 | AP9: =IFERROR(IF(LEN(F9)=0,"",COUNTIF($H9:$AL9,Calc!$C$19)),"") -> 2 | AQ9: =IFERROR(IF(LEN(F9)=0,"",COUNTIF($H9:$AL9,Calc!$C$20)),"") -> 2
C10: FEBRUARY | E10: 3 | F10: =IFERROR(IF(LEN(INDEX(Lists!$C$6:$C$105,MATCH($E10,Lists!$B$6:$B$105,0)))=0,"",INDEX(Lists!$C$6:$C$105,MATCH($E10,Lists!$B$6:$B$105,0))),"") -> Harvey Kietel | G10: =IFERROR(IF(LEN(INDEX(Lists!$E$6:$E$105,MATCH($E10,Lists!$B$6:$B$105,0)))=0,"",INDEX(Lists!$E$6:$E$105,MATCH($E10,Lists!$B$6:$B$105,0))),"") -> 10A | H10: P | I10: P | J10: P | K10: P | N10: P | O10: P | P10: P | Q10: P | R10: P | U10: P | V10: P | W10: P | X10: P | Y10: P | AB10: P | AC10: P | AD10: P | AE10: P | AF10: P | AI10: P | AJ10: P | AK10: P | AL10: P | AN10: =IFERROR(IF(LEN(F10)=0,"",COUNTIF($H10:$AL10,Calc!$C$17)),"") -> 23 | AO10: =IFERROR(IF(LEN(F10)=0,"",COUNTIF($H10:$AL10,Calc!$C$18)),"") -> 0 | AP10: =IFERROR(IF(LEN(F10)=0,"",COUNTIF($H10:$AL10,Calc!$C$19)),"") -> 0 | AQ10: =IFERROR(IF(LEN(F10)=0,"",COUNTIF($H10:$AL10,Calc!$C$20)),"") -> 0
C11: MARCH | E11: 4 | F11: =IFERROR(IF(LEN(INDEX(Lists!$C$6:$C$105,MATCH($E11,Lists!$B$6:$B$105,0)))=0,"",INDEX(Lists!$C$6:$C$105,MATCH($E11,Lists!$B$6:$B$105,0))),"") -> Ed Harris | G11: =IFERROR(IF(LEN(INDEX(Lists!$E$6:$E$105,MATCH($E11,Lists!$B$6:$B$105,0)))=0,"",INDEX(Lists!$E$6:$E$105,MATCH($E11,Lists!$B$6:$B$105,0))),"") -> 10A | H11: P | I11: P | J11: T | K11: P | N11: P | O11: P | P11: E | Q11: P | R11: P | U11: P | V11: P | W11: P | X11: P | Y11: P | AB11: P | AC11: P | AD11: P | AE11: U | AF11: P | AI11: U | AJ11: P | AK11: P | AL11: P | AN11: =IFERROR(IF(LEN(F11)=0,"",COUNTIF($H11:$AL11,Calc!$C$17)),"") -> 19 | AO11: =IFERROR(IF(LEN(F11)=0,"",COUNTIF($H11:$AL11,Calc!$C$18)),"") -> 1 | AP11: =IFERROR(IF(LEN(F11)=0,"",COUNTIF($H11:$AL11,Calc!$C$19)),"") -> 1 | AQ11: =IFERROR(IF(LEN(F11)=0,"",COUNTIF($H11:$AL11,Calc!$C$20)),"") -> 2
C12: APRIL | E12: 5 | F12: =IFERROR(IF(LEN(INDEX(Lists!$C$6:$C$105,MATCH($E12,Lists!$B$6:$B$105,0)))=0,"",INDEX(Lists!$C$6:$C$105,MATCH($E12,Lists!$B$6:$B$105,0))),"") -> Charles Laughton | G12: =IFERROR(IF(LEN(INDEX(Lists!$E$6:$E$105,MATCH($E12,Lists!$B$6:$B$105,0)))=0,"",INDEX(Lists!$E$6:$E$105,MATCH($E12,Lists!$B$6:$B$105,0))),"") -> 10A | H12: P | I12: P | J12: P | K12: P | N12: P | O12: P | P12: P | Q12: P | R12: P | U12: P | V12: P | W12: P | X12: P | Y12: P | AB12: P | AC12: P | AD12: P | AE12: E | AF12: P | AI12: P | AJ12: E | AK12: P | AL12: P | AN12: =IFERROR(IF(LEN(F12)=0,"",COUNTIF($H12:$AL12,Calc!$C$17)),"") -> 21 | AO12: =IFERROR(IF(LEN(F12)=0,"",COUNTIF($H12:$AL12,Calc!$C$18)),"") -> 0 | AP12: =IFERROR(IF(LEN(F12)=0,"",COUNTIF($H12:$AL12,Calc!$C$19)),"") -> 2 | AQ12: =IFERROR(IF(LEN(F12)=0,"",COUNTIF($H12:$AL12,Calc!$C$20)),"") -> 0
C13: MAY | E13: 6 | F13: =IFERROR(IF(LEN(INDEX(Lists!$C$6:$C$105,MATCH($E13,Lists!$B$6:$B$105,0)))=0,"",INDEX(Lists!$C$6:$C$105,MATCH($E13,Lists!$B$6:$B$105,0))),"") -> James Caan | G13: =IFERROR(IF(LEN(INDEX(Lists!$E$6:$E$105,MATCH($E13,Lists!$B$6:$B$105,0)))=0,"",INDEX(Lists!$E$6:$E$105,MATCH($E13,Lists!$B$6:$B$105,0))),"") -> 10A | H13: P | I13: P | J13: P | K13: P | N13: P | O13: P | P13: P | Q13: P | R13: P | U13: P | V13: P | W13: P | X13: P | Y13: U | AB13: P | AC13: P | AD13: P | AE13: P | AF13: P | AI13: P | AJ13: P | AK13: P | AL13: P | AN13: =IFERROR(IF(LEN(F13)=0,"",COUNTIF($H13:$AL13,Calc!$C$17)),"") -> 22 | AO13: =IFERROR(IF(LEN(F13)=0,"",COUNTIF($H13:$AL13,Calc!$C$18)),"") -> 0 | AP13: =IFERROR(IF(LEN(F13)=0,"",COUNTIF($H13:$AL13,Calc!$C$19)),"") -> 0 | AQ13: =IFERROR(IF(LEN(F13)=0,"",COUNTIF($H13:$AL13,Calc!$C$20)),"") -> 1
C14: JUNE | E14: 7 | F14: =IFERROR(IF(LEN(INDEX(Lists!$C$6:$C$105,MATCH($E14,Lists!$B$6:$B$105,0)))=0,"",INDEX(Lists!$C$6:$C$105,MATCH($E14,Lists!$B$6:$B$105,0))),"") -> Robert Downey Jr. | G14: =IFERROR(IF(LEN(INDEX(Lists!$E$6:$E$105,MATCH($E14,Lists!$B$6:$B$105,0)))=0,"",INDEX(Lists!$E$6:$E$105,MATCH($E14,Lists!$B$6:$B$105,0))),"") -> 10A | H14: P | I14: P | J14: P | K14: P | N14: P | O14: P | P14: T | Q14: P | R14: P | U14: P | V14: P | W14: P | X14: P | Y14: P | AB14: P | AC14: P | AD14: P | AE14: P | AF14: P | AI14: P | AJ14: P | AK14: P | AL14: P | AN14: =IFERROR(IF(LEN(F14)=0,"",COUNTIF($H14:$AL14,Calc!$C$17)),"") -> 22 | AO14: =IFERROR(IF(LEN(F14)=0,"",COUNTIF($H14:$AL14,Calc!$C$18)),"") -> 1 | AP14: =IFERROR(IF(LEN(F14)=0,"",COUNTIF($H14:$AL14,Calc!$C$19)),"") -> 0 | AQ14: =IFERROR(IF(LEN(F14)=0,"",COUNTIF($H14:$AL14,Calc!$C$20)),"") -> 0
C15: JULY | E15: 8 | F15: =IFERROR(IF(LEN(INDEX(Lists!$C$6:$C$105,MATCH($E15,Lists!$B$6:$B$105,0)))=0,"",INDEX(Lists!$C$6:$C$105,MATCH($E15,Lists!$B$6:$B$105,0))),"") -> Alec Guiness | G15: =IFERROR(IF(LEN(INDEX(Lists!$E$6:$E$105,MATCH($E15,Lists!$B$6:$B$105,0)))=0,"",INDEX(Lists!$E$6:$E$105,MATCH($E15,Lists!$B$6:$B$105,0))),"") -> 10A | H15: P | I15: P | J15: P | K15: P | N15: P | O15: P | P15: P | Q15: P | R15: P | U15: P | V15: P | W15: P | X15: P | Y15: P | AB15: P | AC15: P | AD15: P | AE15: P | AF15: P | AI15: P | AJ15: P | AK15: P | AL15: P | AN15: =IFERROR(IF(LEN(F15)=0,"",COUNTIF($H15:$AL15,Calc!$C$17)),"") -> 23 | AO15: =IFERROR(IF(LEN(F15)=0,"",COUNTIF($H15:$AL15,Calc!$C$18)),"") -> 0 | AP15: =IFERROR(IF(LEN(F15)=0,"",COUNTIF($H15:$AL15,Calc!$C$19)),"") -> 0 | AQ15: =IFERROR(IF(LEN(F15)=0,"",COUNTIF($H15:$AL15,Calc!$C$20)),"") -> 0
C16: AUGUST | E16: 9 | F16: =IFERROR(IF(LEN(INDEX(Lists!$C$6:$C$105,MATCH($E16,Lists!$B$6:$B$105,0)))=0,"",INDEX(Lists!$C$6:$C$105,MATCH($E16,Lists!$B$6:$B$105,0))),"") -> Viggo Mortensen | G16: =IFERROR(IF(LEN(INDEX(Lists!$E$6:$E$105,MATCH($E16,Lists!$B$6:$B$105,0)))=0,"",INDEX(Lists!$E$6:$E$105,MATCH($E16,Lists!$B$6:$B$105,0))),"") -> 10A | H16: P | I16: P | J16: P | K16: P | N16: P | O16: P | P16: P | Q16: P | R16: P | U16: P | V16: P | W16: P | X16: P | Y16: P | AB16: P | AC16: P | AD16: P | AE16: P | AF16: P | AI16: P | AJ16: P | AK16: P | AL16: P | AN16: =IFERROR(IF(LEN(F16)=0,"",COUNTIF($H16:$AL16,Calc!$C$17)),"") -> 23 | AO16: =IFERROR(IF(LEN(F16)=0,"",COUNTIF($H16:$AL16,Calc!$C$18)),"") -> 0 | AP16: =IFERROR(IF(LEN(F16)=0,"",COUNTIF($H16:$AL16,Calc!$C$19)),"") -> 0 | AQ16: =IFERROR(IF(LEN(F16)=0,"",COUNTIF($H16:$AL16,Calc!$C$20)),"") -> 0
C17: SEPTEMBER | E17: 10 | F17: =IFERROR(IF(LEN(INDEX(Lists!$C$6:$C$105,MATCH($E17,Lists!$B$6:$B$105,0)))=0,"",INDEX(Lists!$C$6:$C$105,MATCH($E17,Lists!$B$6:$B$105,0))),"") -> Kylian Mbappe | G17: =IFERROR(IF(LEN(INDEX(Lists!$E$6:$E$105,MATCH($E17,Lists!$B$6:$B$105,0)))=0,"",INDEX(Lists!$E$6:$E$105,MATCH($E17,Lists!$B$6:$B$105,0))),"") -> 10A | H17: P | I17: P | J17: P | K17: P | N17: P | O17: P | P17: P | Q17: P | R17: P | U17: P | V17: P | W17: P | X17: P | Y17: T | AB17: P | AC17: P | AD17: P | AE17: P | AF17: P | AI17: P | AJ17: P | AK17: P | AL17: P | AN17: =IFERROR(IF(LEN(F17)=0,"",COUNTIF($H17:$AL17,Calc!$C$17)),"") -> 22 | AO17: =IFERROR(IF(LEN(F17)=0,"",COUNTIF($H17:$AL17,Calc!$C$18)),"") -> 1 | AP17: =IFERROR(IF(LEN(F17)=0,"",COUNTIF($H17:$AL17,Calc!$C$19)),"") -> 0 | AQ17: =IFERROR(IF(LEN(F17)=0,"",COUNTIF($H17:$AL17,Calc!$C$20)),"") -> 0
C18: OCTOBER | E18: 11 | F18: =IFERROR(IF(LEN(INDEX(Lists!$C$6:$C$105,MATCH($E18,Lists!$B$6:$B$105,0)))=0,"",INDEX(Lists!$C$6:$C$105,MATCH($E18,Lists!$B$6:$B$105,0))),"") -> Jessica Alba | G18: =IFERROR(IF(LEN(INDEX(Lists!$E$6:$E$105,MATCH($E18,Lists!$B$6:$B$105,0)))=0,"",INDEX(Lists!$E$6:$E$105,MATCH($E18,Lists!$B$6:$B$105,0))),"") -> 10B | H18: P | I18: P | J18: P | K18: P | N18: P | O18: P | P18: P | Q18: E | R18: P | U18: P | V18: P | W18: P | X18: P | Y18: P | AB18: P | AC18: P | AD18: P | AE18: P | AF18: T | AI18: P | AJ18: P | AK18: E | AL18: P | AN18: =IFERROR(IF(LEN(F18)=0,"",COUNTIF($H18:$AL18,Calc!$C$17)),"") -> 20 | AO18: =IFERROR(IF(LEN(F18)=0,"",COUNTIF($H18:$AL18,Calc!$C$18)),"") -> 1 | AP18: =IFERROR(IF(LEN(F18)=0,"",COUNTIF($H18:$AL18,Calc!$C$19)),"") -> 2 | AQ18: =IFERROR(IF(LEN(F18)=0,"",COUNTIF($H18:$AL18,Calc!$C$20)),"") -> 0
C19: NOVEMBER | E19: 12 | F19: =IFERROR(IF(LEN(INDEX(Lists!$C$6:$C$105,MATCH($E19,Lists!$B$6:$B$105,0)))=0,"",INDEX(Lists!$C$6:$C$105,MATCH($E19,Lists!$B$6:$B$105,0))),"") -> Emma Stone | G19: =IFERROR(IF(LEN(INDEX(Lists!$E$6:$E$105,MATCH($E19,Lists!$B$6:$B$105,0)))=0,"",INDEX(Lists!$E$6:$E$105,MATCH($E19,Lists!$B$6:$B$105,0))),"") -> 10B | H19: P | I19: P | J19: P | K19: P | N19: P | O19: P | P19: P | Q19: P | R19: P | U19: P | V19: P | W19: P | X19: P | Y19: P | AB19: P | AC19: P | AD19: P | AE19: P | AF19: P | AI19: P | AJ19: P | AK19: P | AL19: P | AN19: =IFERROR(IF(LEN(F19)=0,"",COUNTIF($H19:$AL19,Calc!$C$17)),"") -> 23 | AO19: =IFERROR(IF(LEN(F19)=0,"",COUNTIF($H19:$AL19,Calc!$C$18)),"") -> 0 | AP19: =IFERROR(IF(LEN(F19)=0,"",COUNTIF($H19:$AL19,Calc!$C$19)),"") -> 0 | AQ19: =IFERROR(IF(LEN(F19)=0,"",COUNTIF($H19:$AL19,Calc!$C$20)),"") -> 0
C20: DECEMBER | E20: 13 | F20: =IFERROR(IF(LEN(INDEX(Lists!$C$6:$C$105,MATCH($E20,Lists!$B$6:$B$105,0)))=0,"",INDEX(Lists!$C$6:$C$105,MATCH($E20,Lists!$B$6:$B$105,0))),"") -> Scarlett Johansson | G20: =IFERROR(IF(LEN(INDEX(Lists!$E$6:$E$105,MATCH($E20,Lists!$B$6:$B$105,0)))=0,"",INDEX(Lists!$E$6:$E$105,MATCH($E20,Lists!$B$6:$B$105,0))),"") -> 10B | H20: P | I20: P | J20: P | K20: P | N20: P | O20: P | P20: P | Q20: P | R20: P | U20: P | V20: P | W20: P | X20: E | Y20: P | AB20: P | AC20: E | AD20: P | AE20: P | AF20: P | AI20: P | AJ20: P | AK20: P | AL20: P | AN20: =IFERROR(IF(LEN(F20)=0,"",COUNTIF($H20:$AL20,Calc!$C$17)),"") -> 21 | AO20: =IFERROR(IF(LEN(F20)=0,"",COUNTIF($H20:$AL20,Calc!$C$18)),"") -> 0 | AP20: =IFERROR(IF(LEN(F20)=0,"",COUNTIF($H20:$AL20,Calc!$C$19)),"") -> 2 | AQ20: =IFERROR(IF(LEN(F20)=0,"",COUNTIF($H20:$AL20,Calc!$C$20)),"") -> 0
E21: 14 | F21: =IFERROR(IF(LEN(INDEX(Lists!$C$6:$C$105,MATCH($E21,Lists!$B$6:$B$105,0)))=0,"",INDEX(Lists!$C$6:$C$105,MATCH($E21,Lists!$B$6:$B$105,0))),"") -> Mila Kunis | G21: =IFERROR(IF(LEN(INDEX(Lists!$E$6:$E$105,MATCH($E21,Lists!$B$6:$B$105,0)))=0,"",INDEX(Lists!$E$6:$E$105,MATCH($E21,Lists!$B$6:$B$105,0))),"") -> 10B | H21: P | I21: E | J21: P | K21: U | N21: P | O21: P | P21: P | Q21: P | R21: P | U21: P | V21: P | W21: P | X21: P | Y21: P | AB21: P | AC21: P | AD21: P | AE21: P | AF21: P | AI21: P | AJ21: P | AK21: P | AL21: P | AN21: =IFERROR(IF(LEN(F21)=0,"",COUNTIF($H21:$AL21,Calc!$C$17)),"") -> 21 | AO21: =IFERROR(IF(LEN(F21)=0,"",COUNTIF($H21:$AL21,Calc!$C$18)),"") -> 0 | AP21: =IFERROR(IF(LEN(F21)=0,"",COUNTIF($H21:$AL21,Calc!$C$19)),"") -> 1 | AQ21: =IFERROR(IF(LEN(F21)=0,"",COUNTIF($H21:$AL21,Calc!$C$20)),"") -> 1
E22: 15 | F22: =IFERROR(IF(LEN(INDEX(Lists!$C$6:$C$105,MATCH($E22,Lists!$B$6:$B$105,0)))=0,"",INDEX(Lists!$C$6:$C$105,MATCH($E22,Lists!$B$6:$B$105,0))),"") -> Charlize Theron | G22: =IFERROR(IF(LEN(INDEX(Lists!$E$6:$E$105,MATCH($E22,Lists!$B$6:$B$105,0)))=0,"",INDEX(Lists!$E$6:$E$105,MATCH($E22,Lists!$B$6:$B$105,0))),"") -> 10B | H22: P | I22: P | J22: P | K22: P | N22: P | O22: P | P22: P | Q22: U | R22: P | U22: P | V22: P | W22: P | X22: P | Y22: P | AB22: P | AC22: P | AD22: P | AE22: P | AF22: P | AI22: P | AJ22: U | AK22: T | AL22: P | AN22: =IFERROR(IF(LEN(F22)=0,"",COUNTIF($H22:$AL22,Calc!$C$17)),"") -> 20 | AO22: =IFERROR(IF(LEN(F22)=0,"",COUNTIF($H22:$AL22,Calc!$C$18)),"") -> 1 | AP22: =IFERROR(IF(LEN(F22)=0,"",COUNTIF($H22:$AL22,Calc!$C$19)),"") -> 0 | AQ22: =IFERROR(IF(LEN(F22)=0,"",COUNTIF($H22:$AL22,Calc!$C$20)),"") -> 2
E23: 16 | F23: =IFERROR(IF(LEN(INDEX(Lists!$C$6:$C$105,MATCH($E23,Lists!$B$6:$B$105,0)))=0,"",INDEX(Lists!$C$6:$C$105,MATCH($E23,Lists!$B$6:$B$105,0))),"") | G23: =IFERROR(IF(LEN(INDEX(Lists!$E$6:$E$105,MATCH($E23,Lists!$B$6:$B$105,0)))=0,"",INDEX(Lists!$E$6:$E$105,MATCH($E23,Lists!$B$6:$B$105,0))),"") | AN23: =IFERROR(IF(LEN(F23)=0,"",COUNTIF($H23:$AL23,Calc!$C$17)),"") | AO23: =IFERROR(IF(LEN(F23)=0,"",COUNTIF($H23:$AL23,Calc!$C$18)),"") | AP23: =IFERROR(IF(LEN(F23)=0,"",COUNTIF($H23:$AL23,Calc!$C$19)),"") | AQ23: =IFERROR(IF(LEN(F23)=0,"",COUNTIF($H23:$AL23,Calc!$C$20)),"")
E24: 17 | F24: =IFERROR(IF(LEN(INDEX(Lists!$C$6:$C$105,MATCH($E24,Lists!$B$6:$B$105,0)))=0,"",INDEX(Lists!$C$6:$C$105,MATCH($E24,Lists!$B$6:$B$105,0))),"") | G24: =IFERROR(IF(LEN(INDEX(Lists!$E$6:$E$105,MATCH($E24,Lists!$B$6:$B$105,0)))=0,"",INDEX(Lists!$E$6:$E$105,MATCH($E24,Lists!$B$6:$B$105,0))),"") | AN24: =IFERROR(IF(LEN(F24)=0,"",COUNTIF($H24:$AL24,Calc!$C$17)),"") | AO24: =IFERROR(IF(LEN(F24)=0,"",COUNTIF($H24:$AL24,Calc!$C$18)),"") | AP24: =IFERROR(IF(LEN(F24)=0,"",COUNTIF($H24:$AL24,Calc!$C$19)),"") | AQ24: =IFERROR(IF(LEN(F24)=0,"",COUNTIF($H24:$AL24,Calc!$C$20)),"")
E25: 18 | F25: =IFERROR(IF(LEN(INDEX(Lists!$C$6:$C$105,MATCH($E25,Lists!$B$6:$B$105,0)))=0,"",INDEX(Lists!$C$6:$C$105,MATCH($E25,Lists!$B$6:$B$105,0))),"") | G25: =IFERROR(IF(LEN(INDEX(Lists!$E$6:$E$105,MATCH($E25,Lists!$B$6:$B$105,0)))=0,"",INDEX(Lists!$E$6:$E$105,MATCH($E25,Lists!$B$6:$B$105,0))),"") | AN25: =IFERROR(IF(LEN(F25)=0,"",COUNTIF($H25:$AL25,Calc!$C$17)),"") | AO25: =IFERROR(IF(LEN(F25)=0,"",COUNTIF($H25:$AL25,Calc!$C$18)),"") | AP25: =IFERROR(IF(LEN(F25)=0,"",COUNTIF($H25:$AL25,Calc!$C$19)),"") | AQ25: =IFERROR(IF(LEN(F25)=0,"",COUNTIF($H25:$AL25,Calc!$C$20)),"")
E26: 19 | F26: =IFERROR(IF(LEN(INDEX(Lists!$C$6:$C$105,MATCH($E26,Lists!$B$6:$B$105,0)))=0,"",INDEX(Lists!$C$6:$C$105,MATCH($E26,Lists!$B$6:$B$105,0))),"") | G26: =IFERROR(IF(LEN(INDEX(Lists!$E$6:$E$105,MATCH($E26,Lists!$B$6:$B$105,0)))=0,"",INDEX(Lists!$E$6:$E$105,MATCH($E26,Lists!$B$6:$B$105,0))),"") | AN26: =IFERROR(IF(LEN(F26)=0,"",COUNTIF($H26:$AL26,Calc!$C$17)),"") | AO26: =IFERROR(IF(LEN(F26)=0,"",COUNTIF($H26:$AL26,Calc!$C$18)),"") | AP26: =IFERROR(IF(LEN(F26)=0,"",COUNTIF($H26:$AL26,Calc!$C$19)),"") | AQ26: =IFERROR(IF(LEN(F26)=0,"",COUNTIF($H26:$AL26,Calc!$C$20)),"")
E27: 20 | F27: =IFERROR(IF(LEN(INDEX(Lists!$C$6:$C$105,MATCH($E27,Lists!$B$6:$B$105,0)))=0,"",INDEX(Lists!$C$6:$C$105,MATCH($E27,Lists!$B$6:$B$105,0))),"") | G27: =IFERROR(IF(LEN(INDEX(Lists!$E$6:$E$105,MATCH($E27,Lists!$B$6:$B$105,0)))=0,"",INDEX(Lists!$E$6:$E$105,MATCH($E27,Lists!$B$6:$B$105,0))),"") | AN27: =IFERROR(IF(LEN(F27)=0,"",COUNTIF($H27:$AL27,Calc!$C$17)),"") | AO27: =IFERROR(IF(LEN(F27)=0,"",COUNTIF($H27:$AL27,Calc!$C$18)),"") | AP27: =IFERROR(IF(LEN(F27)=0,"",COUNTIF($H27:$AL27,Calc!$C$19)),"") | AQ27: =IFERROR(IF(LEN(F27)=0,"",COUNTIF($H27:$AL27,Calc!$C$20)),"")

Sheet February
C2: TEACHER LESSON PLAN TEMPLATE
C3: ATTENDANCE - FEBRUARY
AN6: TOTALS
C7: MONTHS | E7: # | F7: Students Name | G7: Class | H7: 1 | I7: 2 | J7: 3 | K7: 4 | L7: 5 | M7: 6 | N7: 7 | O7: 8 | P7: 9 | Q7: 10 | R7: 11 | S7: 12 | T7: 13 | U7: 14 | V7: 15 | W7: 16 | X7: 17 | Y7: 18 | Z7: 19 | AA7: 20 | AB7: 21 | AC7: 22 | AD7: 23 | AE7: 24 | AF7: 25 | AG7: 26 | AH7: 27 | AI7: 28 | AJ7: 29 | AN7: =Calc!B17 -> Present | AO7: =Calc!B18 -> Tardy | AP7: =Calc!B19 -> Excused | AQ7: =Calc!B20 -> Unexcused
E8: 1 | F8: =IFERROR(IF(LEN(INDEX(Lists!$C$6:$C$105,MATCH($E8,Lists!$B$6:$B$105,0)))=0,"",INDEX(Lists!$C$6:$C$105,MATCH($E8,Lists!$B$6:$B$105,0))),"") -> Patrick Swayze | G8: =IFERROR(IF(LEN(INDEX(Lists!$E$6:$E$105,MATCH($E8,Lists!$B$6:$B$105,0)))=0,"",INDEX(Lists!$E$6:$E$105,MATCH($E8,Lists!$B$6:$B$105,0))),"") -> 10A | H8: P | I8: P | J8: P | K8: P | N8: P | O8: P | P8: P | Q8: P | R8: P | U8: P | V8: P | W8: P | X8: E | Y8: P | AB8: P | AC8: P | AD8: P | AE8: T | AF8: P | AI8: P | AJ8: P | AN8: =IFERROR(IF(LEN(F8)=0,"",COUNTIF($H8:$AJ8,Calc!$C$17)),"") -> 19 | AO8: =IFERROR(IF(LEN(F8)=0,"",COUNTIF($H8:$AJ8,Calc!$C$18)),"") -> 1 | AP8: =IFERROR(IF(LEN(F8)=0,"",COUNTIF($H8:$AJ8,Calc!$C$19)),"") -> 1 | AQ8: =IFERROR(IF(LEN(F8)=0,"",COUNTIF($H8:$AJ8,Calc!$C$20)),"") -> 0
C9: JANUARY | E9: 2 | F9: =IFERROR(IF(LEN(INDEX(Lists!$C$6:$C$105,MATCH($E9,Lists!$B$6:$B$105,0)))=0,"",INDEX(Lists!$C$6:$C$105,MATCH($E9,Lists!$B$6:$B$105,0))),"") -> Benicio Del Toro | G9: =IFERROR(IF(LEN(INDEX(Lists!$E$6:$E$105,MATCH($E9,Lists!$B$6:$B$105,0)))=0,"",INDEX(Lists!$E$6:$E$105,MATCH($E9,Lists!$B$6:$B$105,0))),"") -> 10A | H9: P | I9: P | J9: E | K9: P | N9: P | O9: P | P9: U | Q9: P | R9: P | U9: P | V9: U | W9: E | X9: P | Y9: P | AB9: P | AC9: P | AD9: P | AE9: P | AF9: P | AI9: P | AJ9: P | AN9: =IFERROR(IF(LEN(F9)=0,"",COUNTIF($H9:$AJ9,Calc!$C$17)),"") -> 17 | AO9: =IFERROR(IF(LEN(F9)=0,"",COUNTIF($H9:$AJ9,Calc!$C$18)),"") -> 0 | AP9: =IFERROR(IF(LEN(F9)=0,"",COUNTIF($H9:$AJ9,Calc!$C$19)),"") -> 2 | AQ9: =IFERROR(IF(LEN(F9)=0,"",COUNTIF($H9:$AJ9,Calc!$C$20)),"") -> 2
C10: FEBRUARY | E10: 3 | F10: =IFERROR(IF(LEN(INDEX(Lists!$C$6:$C$105,MATCH($E10,Lists!$B$6:$B$105,0)))=0,"",INDEX(Lists!$C$6:$C$105,MATCH($E10,Lists!$B$6:$B$105,0))),"") -> Harvey Kietel | G10: =IFERROR(IF(LEN(INDEX(Lists!$E$6:$E$105,MATCH($E10,Lists!$B$6:$B$105,0)))=0,"",INDEX(Lists!$E$6:$E$105,MATCH($E10,Lists!$B$6:$B$105,0))),"") -> 10A | H10: P | I10: P | J10: P | K10: P | N10: P | O10: P | P10: P | Q10: P | R10: P | U10: P | V10: P | W10: P | X10: P | Y10: P | AB10: P | AC10: P | AD10: P | AE10: P | AF10: P | AI10: P | AJ10: P | AN10: =IFERROR(IF(LEN(F10)=0,"",COUNTIF($H10:$AJ10,Calc!$C$17)),"") -> 21 | AO10: =IFERROR(IF(LEN(F10)=0,"",COUNTIF($H10:$AJ10,Calc!$C$18)),"") -> 0 | AP10: =IFERROR(IF(LEN(F10)=0,"",COUNTIF($H10:$AJ10,Calc!$C$19)),"") -> 0 | AQ10: =IFERROR(IF(LEN(F10)=0,"",COUNTIF($H10:$AJ10,Calc!$C$20)),"") -> 0
C11: MARCH | E11: 4 | F11: =IFERROR(IF(LEN(INDEX(Lists!$C$6:$C$105,MATCH($E11,Lists!$B$6:$B$105,0)))=0,"",INDEX(Lists!$C$6:$C$105,MATCH($E11,Lists!$B$6:$B$105,0))),"") -> Ed Harris | G11: =IFERROR(IF(LEN(INDEX(Lists!$E$6:$E$105,MATCH($E11,Lists!$B$6:$B$105,0)))=0,"",INDEX(Lists!$E$6:$E$105,MATCH($E11,Lists!$B$6:$B$105,0))),"") -> 10A | H11: P | I11: P | J11: T | K11: P | N11: P | O11: P | P11: E | Q11: P | R11: P | U11: P | V11: P | W11: P | X11: P | Y11: P | AB11: P | AC11: P | AD11: P | AE11: U | AF11: P | AI11: U | AJ11: P | AN11: =IFERROR(IF(LEN(F11)=0,"",COUNTIF($H11:$AJ11,Calc!$C$17)),"") -> 17 | AO11: =IFERROR(IF(LEN(F11)=0,"",COUNTIF($H11:$AJ11,Calc!$C$18)),"") -> 1 | AP11: =IFERROR(IF(LEN(F11)=0,"",COUNTIF($H11:$AJ11,Calc!$C$19)),"") -> 1 | AQ11: =IFERROR(IF(LEN(F11)=0,"",COUNTIF($H11:$AJ11,Calc!$C$20)),"") -> 2
C12: APRIL | E12: 5 | F12: =IFERROR(IF(LEN(INDEX(Lists!$C$6:$C$105,MATCH($E12,Lists!$B$6:$B$105,0)))=0,"",INDEX(Lists!$C$6:$C$105,MATCH($E12,Lists!$B$6:$B$105,0))),"") -> Charles Laughton | G12: =IFERROR(IF(LEN(INDEX(Lists!$E$6:$E$105,MATCH($E12,Lists!$B$6:$B$105,0)))=0,"",INDEX(Lists!$E$6:$E$105,MATCH($E12,Lists!$B$6:$B$105,0))),"") -> 10A | H12: P | I12: P | J12: P | K12: P | N12: P | O12: P | P12: P | Q12: P | R12: P | U12: P | V12: P | W12: P | X12: P | Y12: P | AB12: P | AC12: P | AD12: P | AE12: E | AF12: P | AI12: P | AJ12: E | AN12: =IFERROR(IF(LEN(F12)=0,"",COUNTIF($H12:$AJ12,Calc!$C$17)),"") -> 19 | AO12: =IFERROR(IF(LEN(F12)=0,"",COUNTIF($H12:$AJ12,Calc!$C$18)),"") -> 0 | AP12: =IFERROR(IF(LEN(F12)=0,"",COUNTIF($H12:$AJ12,Calc!$C$19)),"") -> 2 | AQ12: =IFERROR(IF(LEN(F12)=0,"",COUNTIF($H12:$AJ12,Calc!$C$20)),"") -> 0
C13: MAY | E13: 6 | F13: =IFERROR(IF(LEN(INDEX(Lists!$C$6:$C$105,MATCH($E13,Lists!$B$6:$B$105,0)))=0,"",INDEX(Lists!$C$6:$C$105,MATCH($E13,Lists!$B$6:$B$105,0))),"") -> James Caan | G13: =IFERROR(IF(LEN(INDEX(Lists!$E$6:$E$105,MATCH($E13,Lists!$B$6:$B$105,0)))=0,"",INDEX(Lists!$E$6:$E$105,MATCH($E13,Lists!$B$6:$B$105,0))),"") -> 10A | H13: P | I13: P | J13: P | K13: P | N13: P | O13: P | P13: P | Q13: P | R13: P | U13: P | V13: P | W13: P | X13: P | Y13: U | AB13: P | AC13: P | AD13: P | AE13: P | AF13: P | AI13: P | AJ13: P | AN13: =IFERROR(IF(LEN(F13)=0,"",COUNTIF($H13:$AJ13,Calc!$C$17)),"") -> 20 | AO13: =IFERROR(IF(LEN(F13)=0,"",COUNTIF($H13:$AJ13,Calc!$C$18)),"") -> 0 | AP13: =IFERROR(IF(LEN(F13)=0,"",COUNTIF($H13:$AJ13,Calc!$C$19)),"") -> 0 | AQ13: =IFERROR(IF(LEN(F13)=0,"",COUNTIF($H13:$AJ13,Calc!$C$20)),"") -> 1
C14: JUNE | E14: 7 | F14: =IFERROR(IF(LEN(INDEX(Lists!$C$6:$C$105,MATCH($E14,Lists!$B$6:$B$105,0)))=0,"",INDEX(Lists!$C$6:$C$105,MATCH($E14,Lists!$B$6:$B$105,0))),"") -> Robert Downey Jr. | G14: =IFERROR(IF(LEN(INDEX(Lists!$E$6:$E$105,MATCH($E14,Lists!$B$6:$B$105,0)))=0,"",INDEX(Lists!$E$6:$E$105,MATCH($E14,Lists!$B$6:$B$105,0))),"") -> 10A | H14: P | I14: P | J14: P | K14: P | N14: P | O14: P | P14: T | Q14: P | R14: P | U14: P | V14: P | W14: P | X14: P | Y14: P | AB14: P | AC14: P | AD14: P | AE14: P | AF14: P | AI14: P | AJ14: P | AN14: =IFERROR(IF(LEN(F14)=0,"",COUNTIF($H14:$AJ14,Calc!$C$17)),"") -> 20 | AO14: =IFERROR(IF(LEN(F14)=0,"",COUNTIF($H14:$AJ14,Calc!$C$18)),"") -> 1 | AP14: =IFERROR(IF(LEN(F14)=0,"",COUNTIF($H14:$AJ14,Calc!$C$19)),"") -> 0 | AQ14: =IFERROR(IF(LEN(F14)=0,"",COUNTIF($H14:$AJ14,Calc!$C$20)),"") -> 0
C15: JULY | E15: 8 | F15: =IFERROR(IF(LEN(INDEX(Lists!$C$6:$C$105,MATCH($E15,Lists!$B$6:$B$105,0)))=0,"",INDEX(Lists!$C$6:$C$105,MATCH($E15,Lists!$B$6:$B$105,0))),"") -> Alec Guiness | G15: =IFERROR(IF(LEN(INDEX(Lists!$E$6:$E$105,MATCH($E15,Lists!$B$6:$B$105,0)))=0,"",INDEX(Lists!$E$6:$E$105,MATCH($E15,Lists!$B$6:$B$105,0))),"") -> 10A | H15: P | I15: P | J15: P | K15: P | N15: P | O15: P | P15: P | Q15: P | R15: P | U15: P | V15: P | W15: P | X15: P | Y15: P | AB15: P | AC15: P | AD15: P | AE15: P | AF15: P | AI15: P | AJ15: P | AN15: =IFERROR(IF(LEN(F15)=0,"",COUNTIF($H15:$AJ15,Calc!$C$17)),"") -> 21 | AO15: =IFERROR(IF(LEN(F15)=0,"",COUNTIF($H15:$AJ15,Calc!$C$18)),"") -> 0 | AP15: =IFERROR(IF(LEN(F15)=0,"",COUNTIF($H15:$AJ15,Calc!$C$19)),"") -> 0 | AQ15: =IFERROR(IF(LEN(F15)=0,"",COUNTIF($H15:$AJ15,Calc!$C$20)),"") -> 0
C16: AUGUST | E16: 9 | F16: =IFERROR(IF(LEN(INDEX(Lists!$C$6:$C$105,MATCH($E16,Lists!$B$6:$B$105,0)))=0,"",INDEX(Lists!$C$6:$C$105,MATCH($E16,Lists!$B$6:$B$105,0))),"") -> Viggo Mortensen | G16: =IFERROR(IF(LEN(INDEX(Lists!$E$6:$E$105,MATCH($E16,Lists!$B$6:$B$105,0)))=0,"",INDEX(Lists!$E$6:$E$105,MATCH($E16,Lists!$B$6:$B$105,0))),"") -> 10A | H16: P | I16: P | J16: P | K16: P | N16: P | O16: P | P16: P | Q16: P | R16: P | U16: P | V16: P | W16: P | X16: P | Y16: P | AB16: P | AC16: P | AD16: P | AE16: P | AF16: P | AI16: P | AJ16: P | AN16: =IFERROR(IF(LEN(F16)=0,"",COUNTIF($H16:$AJ16,Calc!$C$17)),"") -> 21 | AO16: =IFERROR(IF(LEN(F16)=0,"",COUNTIF($H16:$AJ16,Calc!$C$18)),"") -> 0 | AP16: =IFERROR(IF(LEN(F16)=0,"",COUNTIF($H16:$AJ16,Calc!$C$19)),"") -> 0 | AQ16: =IFERROR(IF(LEN(F16)=0,"",COUNTIF($H16:$AJ16,Calc!$C$20)),"") -> 0
C17: SEPTEMBER | E17: 10 | F17: =IFERROR(IF(LEN(INDEX(Lists!$C$6:$C$105,MATCH($E17,Lists!$B$6:$B$105,0)))=0,"",INDEX(Lists!$C$6:$C$105,MATCH($E17,Lists!$B$6:$B$105,0))),"") -> Kylian Mbappe | G17: =IFERROR(IF(LEN(INDEX(Lists!$E$6:$E$105,MATCH($E17,Lists!$B$6:$B$105,0)))=0,"",INDEX(Lists!$E$6:$E$105,MATCH($E17,Lists!$B$6:$B$105,0))),"") -> 10A | H17: P | I17: P | J17: P | K17: P | N17: P | O17: P | P17: P | Q17: P | R17: P | U17: P | V17: P | W17: P | X17: P | Y17: T | AB17: P | AC17: P | AD17: P | AE17: P | AF17: P | AI17: P | AJ17: P | AN17: =IFERROR(IF(LEN(F17)=0,"",COUNTIF($H17:$AJ17,Calc!$C$17)),"") -> 20 | AO17: =IFERROR(IF(LEN(F17)=0,"",COUNTIF($H17:$AJ17,Calc!$C$18)),"") -> 1 | AP17: =IFERROR(IF(LEN(F17)=0,"",COUNTIF($H17:$AJ17,Calc!$C$19)),"") -> 0 | AQ17: =IFERROR(IF(LEN(F17)=0,"",COUNTIF($H17:$AJ17,Calc!$C$20)),"") -> 0
C18: OCTOBER | E18: 11 | F18: =IFERROR(IF(LEN(INDEX(Lists!$C$6:$C$105,MATCH($E18,Lists!$B$6:$B$105,0)))=0,"",INDEX(Lists!$C$6:$C$105,MATCH($E18,Lists!$B$6:$B$105,0))),"") -> Jessica Alba | G18: =IFERROR(IF(LEN(INDEX(Lists!$E$6:$E$105,MATCH($E18,Lists!$B$6:$B$105,0)))=0,"",INDEX(Lists!$E$6:$E$105,MATCH($E18,Lists!$B$6:$B$105,0))),"") -> 10B | H18: P | I18: P | J18: P | K18: P | N18: P | O18: P | P18: P | Q18: E | R18: P | U18: P | V18: P | W18: P | X18: P | Y18: P | AB18: P | AC18: P | AD18: P | AE18: P | AF18: T | AI18: P | AJ18: P | AN18: =IFERROR(IF(LEN(F18)=0,"",COUNTIF($H18:$AJ18,Calc!$C$17)),"") -> 19 | AO18: =IFERROR(IF(LEN(F18)=0,"",COUNTIF($H18:$AJ18,Calc!$C$18)),"") -> 1 | AP18: =IFERROR(IF(LEN(F18)=0,"",COUNTIF($H18:$AJ18,Calc!$C$19)),"") -> 1 | AQ18: =IFERROR(IF(LEN(F18)=0,"",COUNTIF($H18:$AJ18,Calc!$C$20)),"") -> 0
C19: NOVEMBER | E19: 12 | F19: =IFERROR(IF(LEN(INDEX(Lists!$C$6:$C$105,MATCH($E19,Lists!$B$6:$B$105,0)))=0,"",INDEX(Lists!$C$6:$C$105,MATCH($E19,Lists!$B$6:$B$105,0))),"") -> Emma Stone | G19: =IFERROR(IF(LEN(INDEX(Lists!$E$6:$E$105,MATCH($E19,Lists!$B$6:$B$105,0)))=0,"",INDEX(Lists!$E$6:$E$105,MATCH($E19,Lists!$B$6:$B$105,0))),"") -> 10B | H19: P | I19: P | J19: P | K19: P | N19: P | O19: P | P19: P | Q19: P | R19: P | U19: P | V19: P | W19: P | X19: P | Y19: P | AB19: P | AC19: P | AD19: P | AE19: P | AF19: P | AI19: P | AJ19: P | AN19: =IFERROR(IF(LEN(F19)=0,"",COUNTIF($H19:$AJ19,Calc!$C$17)),"") -> 21 | AO19: =IFERROR(IF(LEN(F19)=0,"",COUNTIF($H19:$AJ19,Calc!$C$18)),"") -> 0 | AP19: =IFERROR(IF(LEN(F19)=0,"",COUNTIF($H19:$AJ19,Calc!$C$19)),"") -> 0 | AQ19: =IFERROR(IF(LEN(F19)=0,"",COUNTIF($H19:$AJ19,Calc!$C$20)),"") -> 0
C20: DECEMBER | E20: 13 | F20: =IFERROR(IF(LEN(INDEX(Lists!$C$6:$C$105,MATCH($E20,Lists!$B$6:$B$105,0)))=0,"",INDEX(Lists!$C$6:$C$105,MATCH($E20,Lists!$B$6:$B$105,0))),"") -> Scarlett Johansson | G20: =IFERROR(IF(LEN(INDEX(Lists!$E$6:$E$105,MATCH($E20,Lists!$B$6:$B$105,0)))=0,"",INDEX(Lists!$E$6:$E$105,MATCH($E20,Lists!$B$6:$B$105,0))),"") -> 10B | H20: P | I20: P | J20: P | K20: P | N20: P | O20: P | P20: P | Q20: P | R20: P | U20: P | V20: P | W20: P | X20: E | Y20: P | AB20: P | AC20: E | AD20: P | AE20: P | AF20: P | AI20: P | AJ20: P | AN20: =IFERROR(IF(LEN(F20)=0,"",COUNTIF($H20:$AJ20,Calc!$C$17)),"") -> 19 | AO20: =IFERROR(IF(LEN(F20)=0,"",COUNTIF($H20:$AJ20,Calc!$C$18)),"") -> 0 | AP20: =IFERROR(IF(LEN(F20)=0,"",COUNTIF($H20:$AJ20,Calc!$C$19)),"") -> 2 | AQ20: =IFERROR(IF(LEN(F20)=0,"",COUNTIF($H20:$AJ20,Calc!$C$20)),"") -> 0
E21: 14 | F21: =IFERROR(IF(LEN(INDEX(Lists!$C$6:$C$105,MATCH($E21,Lists!$B$6:$B$105,0)))=0,"",INDEX(Lists!$C$6:$C$105,MATCH($E21,Lists!$B$6:$B$105,0))),"") -> Mila Kunis | G21: =IFERROR(IF(LEN(INDEX(Lists!$E$6:$E$105,MATCH($E21,Lists!$B$6:$B$105,0)))=0,"",INDEX(Lists!$E$6:$E$105,MATCH($E21,Lists!$B$6:$B$105,0))),"") -> 10B | H21: P | I21: E | J21: P | K21: U | N21: P | O21: P | P21: P | Q21: P | R21: P | U21: P | V21: P | W21: P | X21: P | Y21: P | AB21: P | AC21: P | AD21: P | AE21: P | AF21: P | AI21: P | AJ21: P | AN21: =IFERROR(IF(LEN(F21)=0,"",COUNTIF($H21:$AJ21,Calc!$C$17)),"") -> 19 | AO21: =IFERROR(IF(LEN(F21)=0,"",COUNTIF($H21:$AJ21,Calc!$C$18)),"") -> 0 | AP21: =IFERROR(IF(LEN(F21)=0,"",COUNTIF($H21:$AJ21,Calc!$C$19)),"") -> 1 | AQ21: =IFERROR(IF(LEN(F21)=0,"",COUNTIF($H21:$AJ21,Calc!$C$20)),"") -> 1
E22: 15 | F22: =IFERROR(IF(LEN(INDEX(Lists!$C$6:$C$105,MATCH($E22,Lists!$B$6:$B$105,0)))=0,"",INDEX(Lists!$C$6:$C$105,MATCH($E22,Lists!$B$6:$B$105,0))),"") -> Charlize Theron | G22: =IFERROR(IF(LEN(INDEX(Lists!$E$6:$E$105,MATCH($E22,Lists!$B$6:$B$105,0)))=0,"",INDEX(Lists!$E$6:$E$105,MATCH($E22,Lists!$B$6:$B$105,0))),"") -> 10B | H22: P | I22: P | J22: P | K22: P | N22: P | O22: P | P22: P | Q22: U | R22: P | U22: P | V22: P | W22: P | X22: P | Y22: P | AB22: P | AC22: P | AD22: P | AE22: P | AF22: P | AI22: P | AJ22: U | AN22: =IFERROR(IF(LEN(F22)=0,"",COUNTIF($H22:$AJ22,Calc!$C$17)),"") -> 19 | AO22: =IFERROR(IF(LEN(F22)=0,"",COUNTIF($H22:$AJ22,Calc!$C$18)),"") -> 0 | AP22: =IFERROR(IF(LEN(F22)=0,"",COUNTIF($H22:$AJ22,Calc!$C$19)),"") -> 0 | AQ22: =IFERROR(IF(LEN(F22)=0,"",COUNTIF($H22:$AJ22,Calc!$C$20)),"") -> 2
E23: 16 | F23: =IFERROR(IF(LEN(INDEX(Lists!$C$6:$C$105,MATCH($E23,Lists!$B$6:$B$105,0)))=0,"",INDEX(Lists!$C$6:$C$105,MATCH($E23,Lists!$B$6:$B$105,0))),"") | G23: =IFERROR(IF(LEN(INDEX(Lists!$E$6:$E$105,MATCH($E23,Lists!$B$6:$B$105,0)))=0,"",INDEX(Lists!$E$6:$E$105,MATCH($E23,Lists!$B$6:$B$105,0))),"") | AN23: =IFERROR(IF(LEN(F23)=0,"",COUNTIF($H23:$AJ23,Calc!$C$17)),"") | AO23: =IFERROR(IF(LEN(F23)=0,"",COUNTIF($H23:$AJ23,Calc!$C$18)),"") | AP23: =IFERROR(IF(LEN(F23)=0,"",COUNTIF($H23:$AJ23,Calc!$C$19)),"") | AQ23: =IFERROR(IF(LEN(F23)=0,"",COUNTIF($H23:$AJ23,Calc!$C$20)),"")
E24: 17 | F24: =IFERROR(IF(LEN(INDEX(Lists!$C$6:$C$105,MATCH($E24,Lists!$B$6:$B$105,0)))=0,"",INDEX(Lists!$C$6:$C$105,MATCH($E24,Lists!$B$6:$B$105,0))),"") | G24: =IFERROR(IF(LEN(INDEX(Lists!$E$6:$E$105,MATCH($E24,Lists!$B$6:$B$105,0)))=0,"",INDEX(Lists!$E$6:$E$105,MATCH($E24,Lists!$B$6:$B$105,0))),"") | AN24: =IFERROR(IF(LEN(F24)=0,"",COUNTIF($H24:$AJ24,Calc!$C$17)),"") | AO24: =IFERROR(IF(LEN(F24)=0,"",COUNTIF($H24:$AJ24,Calc!$C$18)),"") | AP24: =IFERROR(IF(LEN(F24)=0,"",COUNTIF($H24:$AJ24,Calc!$C$19)),"") | AQ24: =IFERROR(IF(LEN(F24)=0,"",COUNTIF($H24:$AJ24,Calc!$C$20)),"")
E25: 18 | F25: =IFERROR(IF(LEN(INDEX(Lists!$C$6:$C$105,MATCH($E25,Lists!$B$6:$B$105,0)))=0,"",INDEX(Lists!$C$6:$C$105,MATCH($E25,Lists!$B$6:$B$105,0))),"") | G25: =IFERROR(IF(LEN(INDEX(Lists!$E$6:$E$105,MATCH($E25,Lists!$B$6:$B$105,0)))=0,"",INDEX(Lists!$E$6:$E$105,MATCH($E25,Lists!$B$6:$B$105,0))),"") | AN25: =IFERROR(IF(LEN(F25)=0,"",COUNTIF($H25:$AJ25,Calc!$C$17)),"") | AO25: =IFERROR(IF(LEN(F25)=0,"",COUNTIF($H25:$AJ25,Calc!$C$18)),"") | AP25: =IFERROR(IF(LEN(F25)=0,"",COUNTIF($H25:$AJ25,Calc!$C$19)),"") | AQ25: =IFERROR(IF(LEN(F25)=0,"",COUNTIF($H25:$AJ25,Calc!$C$20)),"")
E26: 19 | F26: =IFERROR(IF(LEN(INDEX(Lists!$C$6:$C$105,MATCH($E26,Lists!$B$6:$B$105,0)))=0,"",INDEX(Lists!$C$6:$C$105,MATCH($E26,Lists!$B$6:$B$105,0))),"") | G26: =IFERROR(IF(LEN(INDEX(Lists!$E$6:$E$105,MATCH($E26,Lists!$B$6:$B$105,0)))=0,"",INDEX(Lists!$E$6:$E$105,MATCH($E26,Lists!$B$6:$B$105,0))),"") | AN26: =IFERROR(IF(LEN(F26)=0,"",COUNTIF($H26:$AJ26,Calc!$C$17)),"") | AO26: =IFERROR(IF(LEN(F26)=0,"",COUNTIF($H26:$AJ26,Calc!$C$18)),"") | AP26: =IFERROR(IF(LEN(F26)=0,"",COUNTIF($H26:$AJ26,Calc!$C$19)),"") | AQ26: =IFERROR(IF(LEN(F26)=0,"",COUNTIF($H26:$AJ26,Calc!$C$20)),"")
E27: 20 | F27: =IFERROR(IF(LEN(INDEX(Lists!$C$6:$C$105,MATCH($E27,Lists!$B$6:$B$105,0)))=0,"",INDEX(Lists!$C$6:$C$105,MATCH($E27,Lists!$B$6:$B$105,0))),"") | G27: =IFERROR(IF(LEN(INDEX(Lists!$E$6:$E$105,MATCH($E27,Lists!$B$6:$B$105,0)))=0,"",INDEX(Lists!$E$6:$E$105,MATCH($E27,Lists!$B$6:$B$105,0))),"") | AN27: =IFERROR(IF(LEN(F27)=0,"",COUNTIF($H27:$AJ27,Calc!$C$17)),"") | AO27: =IFERROR(IF(LEN(F27)=0,"",COUNTIF($H27:$AJ27,Calc!$C$18)),"") | AP27: =IFERROR(IF(LEN(F27)=0,"",COUNTIF($H27:$AJ27,Calc!$C$19)),"") | AQ27: =IFERROR(IF(LEN(F27)=0,"",COUNTIF($H27:$AJ27,Calc!$C$20)),"")

Sheet March
C2: TEACHER LESSON PLAN TEMPLATE
C3: ATTENDANCE - MARCH
AN6: TOTALS
C7: MONTHS | E7: # | F7: Students Name | G7: Class | H7: 1 | I7: 2 | J7: 3 | K7: 4 | L7: 5 | M7: 6 | N7: 7 | O7: 8 | P7: 9 | Q7: 10 | R7: 11 | S7: 12 | T7: 13 | U7: 14 | V7: 15 | W7: 16 | X7: 17 | Y7: 18 | Z7: 19 | AA7: 20 | AB7: 21 | AC7: 22 | AD7: 23 | AE7: 24 | AF7: 25 | AG7: 26 | AH7: 27 | AI7: 28 | AJ7: 29 | AK7: 30 | AL7: 31 | AN7: =Calc!B17 -> Present | AO7: =Calc!B18 -> Tardy | AP7: =Calc!B19 -> Excused | AQ7: =Calc!B20 -> Unexcused
E8: 1 | F8: =IFERROR(IF(LEN(INDEX(Lists!$C$6:$C$105,MATCH($E8,Lists!$B$6:$B$105,0)))=0,"",INDEX(Lists!$C$6:$C$105,MATCH($E8,Lists!$B$6:$B$105,0))),"") -> Patrick Swayze | G8: =IFERROR(IF(LEN(INDEX(Lists!$E$6:$E$105,MATCH($E8,Lists!$B$6:$B$105,0)))=0,"",INDEX(Lists!$E$6:$E$105,MATCH($E8,Lists!$B$6:$B$105,0))),"") -> 10A | H8: P | I8: P | J8: P | K8: T | N8: P | O8: P | P8: T | Q8: P | R8: P | U8: P | V8: P | W8: P | X8: P | Y8: P | AB8: P | AC8: P | AD8: P | AE8: P | AF8: P | AI8: P | AJ8: P | AK8: P | AL8: P | AN8: =IFERROR(IF(LEN(F8)=0,"",COUNTIF($H8:$AL8,Calc!$C$17)),"") -> 21 | AO8: =IFERROR(IF(LEN(F8)=0,"",COUNTIF($H8:$AL8,Calc!$C$18)),"") -> 2 | AP8: =IFERROR(IF(LEN(F8)=0,"",COUNTIF($H8:$AL8,Calc!$C$19)),"") -> 0 | AQ8: =IFERROR(IF(LEN(F8)=0,"",COUNTIF($H8:$AL8,Calc!$C$20)),"") -> 0
C9: JANUARY | E9: 2 | F9: =IFERROR(IF(LEN(INDEX(Lists!$C$6:$C$105,MATCH($E9,Lists!$B$6:$B$105,0)))=0,"",INDEX(Lists!$C$6:$C$105,MATCH($E9,Lists!$B$6:$B$105,0))),"") -> Benicio Del Toro | G9: =IFERROR(IF(LEN(INDEX(Lists!$E$6:$E$105,MATCH($E9,Lists!$B$6:$B$105,0)))=0,"",INDEX(Lists!$E$6:$E$105,MATCH($E9,Lists!$B$6:$B$105,0))),"") -> 10A | H9: P | I9: P | J9: P | K9: P | N9: P | O9: P | P9: P | Q9: P | R9: P | U9: P | V9: U | W9: P | X9: P | Y9: P | AB9: P | AC9: P | AD9: P | AE9: P | AF9: P | AI9: E | AJ9: P | AK9: P | AL9: P | AN9: =IFERROR(IF(LEN(F9)=0,"",COUNTIF($H9:$AL9,Calc!$C$17)),"") -> 21 | AO9: =IFERROR(IF(LEN(F9)=0,"",COUNTIF($H9:$AL9,Calc!$C$18)),"") -> 0 | AP9: =IFERROR(IF(LEN(F9)=0,"",COUNTIF($H9:$AL9,Calc!$C$19)),"") -> 1 | AQ9: =IFERROR(IF(LEN(F9)=0,"",COUNTIF($H9:$AL9,Calc!$C$20)),"") -> 1
C10: FEBRUARY | E10: 3 | F10: =IFERROR(IF(LEN(INDEX(Lists!$C$6:$C$105,MATCH($E10,Lists!$B$6:$B$105,0)))=0,"",INDEX(Lists!$C$6:$C$105,MATCH($E10,Lists!$B$6:$B$105,0))),"") -> Harvey Kietel | G10: =IFERROR(IF(LEN(INDEX(Lists!$E$6:$E$105,MATCH($E10,Lists!$B$6:$B$105,0)))=0,"",INDEX(Lists!$E$6:$E$105,MATCH($E10,Lists!$B$6:$B$105,0))),"") -> 10A | H10: P | I10: P | J10: U | K10: P | N10: P | O10: P | P10: P | Q10: P | R10: P | U10: P | V10: P | W10: P | X10: P | Y10: P | AB10: P | AC10: P | AD10: U | AE10: P | AF10: P | AI10: P | AJ10: P | AK10: P | AL10: P | AN10: =IFERROR(IF(LEN(F10)=0,"",COUNTIF($H10:$AL10,Calc!$C$17)),"") -> 21 | AO10: =IFERROR(IF(LEN(F10)=0,"",COUNTIF($H10:$AL10,Calc!$C$18)),"") -> 0 | AP10: =IFERROR(IF(LEN(F10)=0,"",COUNTIF($H10:$AL10,Calc!$C$19)),"") -> 0 | AQ10: =IFERROR(IF(LEN(F10)=0,"",COUNTIF($H10:$AL10,Calc!$C$20)),"") -> 2
C11: MARCH | E11: 4 | F11: =IFERROR(IF(LEN(INDEX(Lists!$C$6:$C$105,MATCH($E11,Lists!$B$6:$B$105,0)))=0,"",INDEX(Lists!$C$6:$C$105,MATCH($E11,Lists!$B$6:$B$105,0))),"") -> Ed Harris | G11: =IFERROR(IF(LEN(INDEX(Lists!$E$6:$E$105,MATCH($E11,Lists!$B$6:$B$105,0)))=0,"",INDEX(Lists!$E$6:$E$105,MATCH($E11,Lists!$B$6:$B$105,0))),"") -> 10A | H11: P | I11: P | J11: P | K11: P | N11: P | O11: P | P11: P | Q11: P | R11: P | U11: P | V11: P | W11: P | X11: P | Y11: T | AB11: P | AC11: P | AD11: P | AE11: P | AF11: P | AI11: P | AJ11: P | AK11: P | AL11: P | AN11: =IFERROR(IF(LEN(F11)=0,"",COUNTIF($H11:$AL11,Calc!$C$17)),"") -> 22 | AO11: =IFERROR(IF(LEN(F11)=0,"",COUNTIF($H11:$AL11,Calc!$C$18)),"") -> 1 | AP11: =IFERROR(IF(LEN(F11)=0,"",COUNTIF($H11:$AL11,Calc!$C$19)),"") -> 0 | AQ11: =IFERROR(IF(LEN(F11)=0,"",COUNTIF($H11:$AL11,Calc!$C$20)),"") -> 0
C12: APRIL | E12: 5 | F12: =IFERROR(IF(LEN(INDEX(Lists!$C$6:$C$105,MATCH($E12,Lists!$B$6:$B$105,0)))=0,"",INDEX(Lists!$C$6:$C$105,MATCH($E12,Lists!$B$6:$B$105,0))),"") -> Charles Laughton | G12: =IFERROR(IF(LEN(INDEX(Lists!$E$6:$E$105,MATCH($E12,Lists!$B$6:$B$105,0)))=0,"",INDEX(Lists!$E$6:$E$105,MATCH($E12,Lists!$B$6:$B$105,0))),"") -> 10A | H12: P | I12: P | J12: P | K12: P | N12: P | O12: P | P12: P | Q12: E | R12: P | U12: P | V12: P | W12: P | X12: P | Y12: P | AB12: P | AC12: P | AD12: P | AE12: P | AF12: T | AI12: P | AJ12: P | AK12: E | AL12: P | AN12: =IFERROR(IF(LEN(F12)=0,"",COUNTIF($H12:$AL12,Calc!$C$17)),"") -> 20 | AO12: =IFERROR(IF(LEN(F12)=0,"",COUNTIF($H12:$AL12,Calc!$C$18)),"") -> 1 | AP12: =IFERROR(IF(LEN(F12)=0,"",COUNTIF($H12:$AL12,Calc!$C$19)),"") -> 2 | AQ12: =IFERROR(IF(LEN(F12)=0,"",COUNTIF($H12:$AL12,Calc!$C$20)),"") -> 0
C13: MAY | E13: 6 | F13: =IFERROR(IF(LEN(INDEX(Lists!$C$6:$C$105,MATCH($E13,Lists!$B$6:$B$105,0)))=0,"",INDEX(Lists!$C$6:$C$105,MATCH($E13,Lists!$B$6:$B$105,0))),"") -> James Caan | G13: =IFERROR(IF(LEN(INDEX(Lists!$E$6:$E$105,MATCH($E13,Lists!$B$6:$B$105,0)))=0,"",INDEX(Lists!$E$6:$E$105,MATCH($E13,Lists!$B$6:$B$105,0))),"") -> 10A | H13: P | I13: P | J13: P | K13: P | N13: P | O13: P | P13: P | Q13: P | R13: P | U13: P | V13: P | W13: P | X13: P | Y13: P | AB13: P | AC13: P | AD13: P | AE13: P | AF13: P | AI13: P | AJ13: P | AK13: P | AL13: P | AN13: =IFERROR(IF(LEN(F13)=0,"",COUNTIF($H13:$AL13,Calc!$C$17)),"") -> 23 | AO13: =IFERROR(IF(LEN(F13)=0,"",COUNTIF($H13:$AL13,Calc!$C$18)),"") -> 0 | AP13: =IFERROR(IF(LEN(F13)=0,"",COUNTIF($H13:$AL13,Calc!$C$19)),"") -> 0 | AQ13: =IFERROR(IF(LEN(F13)=0,"",COUNTIF($H13:$AL13,Calc!$C$20)),"") -> 0
C14: JUNE | E14: 7 | F14: =IFERROR(IF(LEN(INDEX(Lists!$C$6:$C$105,MATCH($E14,Lists!$B$6:$B$105,0)))=0,"",INDEX(Lists!$C$6:$C$105,MATCH($E14,Lists!$B$6:$B$105,0))),"") -> Robert Downey Jr. | G14: =IFERROR(IF(LEN(INDEX(Lists!$E$6:$E$105,MATCH($E14,Lists!$B$6:$B$105,0)))=0,"",INDEX(Lists!$E$6:$E$105,MATCH($E14,Lists!$B$6:$B$105,0))),"") -> 10A | H14: P | I14: P | J14: P | K14: P | N14: P | O14: P | P14: P | Q14: P | R14: P | U14: P | V14: P | W14: P | X14: E | Y14: P | AB14: P | AC14: E | AD14: P | AE14: P | AF14: P | AI14: P | AJ14: P | AK14: P | AL14: P | AN14: =IFERROR(IF(LEN(F14)=0,"",COUNTIF($H14:$AL14,Calc!$C$17)),"") -> 21 | AO14: =IFERROR(IF(LEN(F14)=0,"",COUNTIF($H14:$AL14,Calc!$C$18)),"") -> 0 | AP14: =IFERROR(IF(LEN(F14)=0,"",COUNTIF($H14:$AL14,Calc!$C$19)),"") -> 2 | AQ14: =IFERROR(IF(LEN(F14)=0,"",COUNTIF($H14:$AL14,Calc!$C$20)),"") -> 0
C15: JULY | E15: 8 | F15: =IFERROR(IF(LEN(INDEX(Lists!$C$6:$C$105,MATCH($E15,Lists!$B$6:$B$105,0)))=0,"",INDEX(Lists!$C$6:$C$105,MATCH($E15,Lists!$B$6:$B$105,0))),"") -> Alec Guiness | G15: =IFERROR(IF(LEN(INDEX(Lists!$E$6:$E$105,MATCH($E15,Lists!$B$6:$B$105,0)))=0,"",INDEX(Lists!$E$6:$E$105,MATCH($E15,Lists!$B$6:$B$105,0))),"") -> 10A | H15: P | I15: P | J15: P | K15: P | N15: P | O15: P | P15: P | Q15: P | R15: P | U15: P | V15: U | W15: P | X15: P | Y15: P | AB15: P | AC15: P | AD15: P | AE15: P | AF15: P | AI15: E | AJ15: P | AK15: P | AL15: P | AN15: =IFERROR(IF(LEN(F15)=0,"",COUNTIF($H15:$AL15,Calc!$C$17)),"") -> 21 | AO15: =IFERROR(IF(LEN(F15)=0,"",COUNTIF($H15:$AL15,Calc!$C$18)),"") -> 0 | AP15: =IFERROR(IF(LEN(F15)=0,"",COUNTIF($H15:$AL15,Calc!$C$19)),"") -> 1 | AQ15: =IFERROR(IF(LEN(F15)=0,"",COUNTIF($H15:$AL15,Calc!$C$20)),"") -> 1
C16: AUGUST | E16: 9 | F16: =IFERROR(IF(LEN(INDEX(Lists!$C$6:$C$105,MATCH($E16,Lists!$B$6:$B$105,0)))=0,"",INDEX(Lists!$C$6:$C$105,MATCH($E16,Lists!$B$6:$B$105,0))),"") -> Viggo Mortensen | G16: =IFERROR(IF(LEN(INDEX(Lists!$E$6:$E$105,MATCH($E16,Lists!$B$6:$B$105,0)))=0,"",INDEX(Lists!$E$6:$E$105,MATCH($E16,Lists!$B$6:$B$105,0))),"") -> 10A | H16: P | I16: P | J16: U | K16: P | N16: P | O16: P | P16: P | Q16: P | R16: P | U16: P | V16: P | W16: P | X16: P | Y16: P | AB16: P | AC16: P | AD16: U | AE16: P | AF16: P | AI16: P | AJ16: P | AK16: P | AL16: P | AN16: =IFERROR(IF(LEN(F16)=0,"",COUNTIF($H16:$AL16,Calc!$C$17)),"") -> 21 | AO16: =IFERROR(IF(LEN(F16)=0,"",COUNTIF($H16:$AL16,Calc!$C$18)),"") -> 0 | AP16: =IFERROR(IF(LEN(F16)=0,"",COUNTIF($H16:$AL16,Calc!$C$19)),"") -> 0 | AQ16: =IFERROR(IF(LEN(F16)=0,"",COUNTIF($H16:$AL16,Calc!$C$20)),"") -> 2
C17: SEPTEMBER | E17: 10 | F17: =IFERROR(IF(LEN(INDEX(Lists!$C$6:$C$105,MATCH($E17,Lists!$B$6:$B$105,0)))=0,"",INDEX(Lists!$C$6:$C$105,MATCH($E17,Lists!$B$6:$B$105,0))),"") -> Kylian Mbappe | G17: =IFERROR(IF(LEN(INDEX(Lists!$E$6:$E$105,MATCH($E17,Lists!$B$6:$B$105,0)))=0,"",INDEX(Lists!$E$6:$E$105,MATCH($E17,Lists!$B$6:$B$105,0))),"") -> 10A | H17: P | I17: P | J17: P | K17: P | N17: P | O17: P | P17: P | Q17: P | R17: P | U17: P | V17: P | W17: P | X17: P | Y17: T | AB17: P | AC17: P | AD17: P | AE17: P | AF17: P | AI17: P | AJ17: P | AK17: P | AL17: P | AN17: =IFERROR(IF(LEN(F17)=0,"",COUNTIF($H17:$AL17,Calc!$C$17)),"") -> 22 | AO17: =IFERROR(IF(LEN(F17)=0,"",COUNTIF($H17:$AL17,Calc!$C$18)),"") -> 1 | AP17: =IFERROR(IF(LEN(F17)=0,"",COUNTIF($H17:$AL17,Calc!$C$19)),"") -> 0 | AQ17: =IFERROR(IF(LEN(F17)=0,"",COUNTIF($H17:$AL17,Calc!$C$20)),"") -> 0
C18: OCTOBER | E18: 11 | F18: =IFERROR(IF(LEN(INDEX(Lists!$C$6:$C$105,MATCH($E18,Lists!$B$6:$B$105,0)))=0,"",INDEX(Lists!$C$6:$C$105,MATCH($E18,Lists!$B$6:$B$105,0))),"") -> Jessica Alba | G18: =IFERROR(IF(LEN(INDEX(Lists!$E$6:$E$105,MATCH($E18,Lists!$B$6:$B$105,0)))=0,"",INDEX(Lists!$E$6:$E$105,MATCH($E18,Lists!$B$6:$B$105,0))),"") -> 10B | H18: P | I18: P | J18: P | K18: P | N18: P | O18: P | P18: P | Q18: E | R18: P | U18: P | V18: P | W18: P | X18: P | Y18: P | AB18: P | AC18: P | AD18: P | AE18: P | AF18: T | AI18: P | AJ18: P | AK18: E | AL18: P | AN18: =IFERROR(IF(LEN(F18)=0,"",COUNTIF($H18:$AL18,Calc!$C$17)),"") -> 20 | AO18: =IFERROR(IF(LEN(F18)=0,"",COUNTIF($H18:$AL18,Calc!$C$18)),"") -> 1 | AP18: =IFERROR(IF(LEN(F18)=0,"",COUNTIF($H18:$AL18,Calc!$C$19)),"") -> 2 | AQ18: =IFERROR(IF(LEN(F18)=0,"",COUNTIF($H18:$AL18,Calc!$C$20)),"") -> 0
C19: NOVEMBER | E19: 12 | F19: =IFERROR(IF(LEN(INDEX(Lists!$C$6:$C$105,MATCH($E19,Lists!$B$6:$B$105,0)))=0,"",INDEX(Lists!$C$6:$C$105,MATCH($E19,Lists!$B$6:$B$105,0))),"") -> Emma Stone | G19: =IFERROR(IF(LEN(INDEX(Lists!$E$6:$E$105,MATCH($E19,Lists!$B$6:$B$105,0)))=0,"",INDEX(Lists!$E$6:$E$105,MATCH($E19,Lists!$B$6:$B$105,0))),"") -> 10B | H19: P | I19: P | J19: P | K19: P | N19: P | O19: P | P19: P | Q19: P | R19: P | U19: P | V19: P | W19: P | X19: P | Y19: P | AB19: P | AC19: P | AD19: P | AE19: P | AF19: P | AI19: P | AJ19: P | AK19: P | AL19: P | AN19: =IFERROR(IF(LEN(F19)=0,"",COUNTIF($H19:$AL19,Calc!$C$17)),"") -> 23 | AO19: =IFERROR(IF(LEN(F19)=0,"",COUNTIF($H19:$AL19,Calc!$C$18)),"") -> 0 | AP19: =IFERROR(IF(LEN(F19)=0,"",COUNTIF($H19:$AL19,Calc!$C$19)),"") -> 0 | AQ19: =IFERROR(IF(LEN(F19)=0,"",COUNTIF($H19:$AL19,Calc!$C$20)),"") -> 0
C20: DECEMBER | E20: 13 | F20: =IFERROR(IF(LEN(INDEX(Lists!$C$6:$C$105,MATCH($E20,Lists!$B$6:$B$105,0)))=0,"",INDEX(Lists!$C$6:$C$105,MATCH($E20,Lists!$B$6:$B$105,0))),"") -> Scarlett Johansson | G20: =IFERROR(IF(LEN(INDEX(Lists!$E$6:$E$105,MATCH($E20,Lists!$B$6:$B$105,0)))=0,"",INDEX(Lists!$E$6:$E$105,MATCH($E20,Lists!$B$6:$B$105,0))),"") -> 10B | H20: P | I20: P | J20: P | K20: P | N20: P | O20: P | P20: P | Q20: P | R20: P | U20: P | V20: P | W20: P | X20: E | Y20: P | AB20: P | AC20: E | AD20: P | AE20: P | AF20: P | AI20: P | AJ20: P | AK20: P | AL20: P | AN20: =IFERROR(IF(LEN(F20)=0,"",COUNTIF($H20:$AL20,Calc!$C$17)),"") -> 21 | AO20: =IFERROR(IF(LEN(F20)=0,"",COUNTIF($H20:$AL20,Calc!$C$18)),"") -> 0 | AP20: =IFERROR(IF(LEN(F20)=0,"",COUNTIF($H20:$AL20,Calc!$C$19)),"") -> 2 | AQ20: =IFERROR(IF(LEN(F20)=0,"",COUNTIF($H20:$AL20,Calc!$C$20)),"") -> 0
E21: 14 | F21: =IFERROR(IF(LEN(INDEX(Lists!$C$6:$C$105,MATCH($E21,Lists!$B$6:$B$105,0)))=0,"",INDEX(Lists!$C$6:$C$105,MATCH($E21,Lists!$B$6:$B$105,0))),"") -> Mila Kunis | G21: =IFERROR(IF(LEN(INDEX(Lists!$E$6:$E$105,MATCH($E21,Lists!$B$6:$B$105,0)))=0,"",INDEX(Lists!$E$6:$E$105,MATCH($E21,Lists!$B$6:$B$105,0))),"") -> 10B | H21: P | I21: E | J21: P | K21: U | N21: P | O21: P | P21: P | Q21: P | R21: P | U21: P | V21: P | W21: P | X21: P | Y21: P | AB21: P | AC21: P | AD21: P | AE21: P | AF21: P | AI21: P | AJ21: P | AK21: P | AL21: P | AN21: =IFERROR(IF(LEN(F21)=0,"",COUNTIF($H21:$AL21,Calc!$C$17)),"") -> 21 | AO21: =IFERROR(IF(LEN(F21)=0,"",COUNTIF($H21:$AL21,Calc!$C$18)),"") -> 0 | AP21: =IFERROR(IF(LEN(F21)=0,"",COUNTIF($H21:$AL21,Calc!$C$19)),"") -> 1 | AQ21: =IFERROR(IF(LEN(F21)=0,"",COUNTIF($H21:$AL21,Calc!$C$20)),"") -> 1
E22: 15 | F22: =IFERROR(IF(LEN(INDEX(Lists!$C$6:$C$105,MATCH($E22,Lists!$B$6:$B$105,0)))=0,"",INDEX(Lists!$C$6:$C$105,MATCH($E22,Lists!$B$6:$B$105,0))),"") -> Charlize Theron | G22: =IFERROR(IF(LEN(INDEX(Lists!$E$6:$E$105,MATCH($E22,Lists!$B$6:$B$105,0)))=0,"",INDEX(Lists!$E$6:$E$105,MATCH($E22,Lists!$B$6:$B$105,0))),"") -> 10B | H22: P | I22: P | J22: P | K22: P | N22: P | O22: P | P22: P | Q22: U | R22: P | U22: P | V22: P | W22: P | X22: P | Y22: P | AB22: P | AC22: P | AD22: P | AE22: P | AF22: P | AI22: P | AJ22: U | AK22: T | AL22: P | AN22: =IFERROR(IF(LEN(F22)=0,"",COUNTIF($H22:$AL22,Calc!$C$17)),"") -> 20 | AO22: =IFERROR(IF(LEN(F22)=0,"",COUNTIF($H22:$AL22,Calc!$C$18)),"") -> 1 | AP22: =IFERROR(IF(LEN(F22)=0,"",COUNTIF($H22:$AL22,Calc!$C$19)),"") -> 0 | AQ22: =IFERROR(IF(LEN(F22)=0,"",COUNTIF($H22:$AL22,Calc!$C$20)),"") -> 2
E23: 16 | F23: =IFERROR(IF(LEN(INDEX(Lists!$C$6:$C$105,MATCH($E23,Lists!$B$6:$B$105,0)))=0,"",INDEX(Lists!$C$6:$C$105,MATCH($E23,Lists!$B$6:$B$105,0))),"") | G23: =IFERROR(IF(LEN(INDEX(Lists!$E$6:$E$105,MATCH($E23,Lists!$B$6:$B$105,0)))=0,"",INDEX(Lists!$E$6:$E$105,MATCH($E23,Lists!$B$6:$B$105,0))),"") | AN23: =IFERROR(IF(LEN(F23)=0,"",COUNTIF($H23:$AL23,Calc!$C$17)),"") | AO23: =IFERROR(IF(LEN(F23)=0,"",COUNTIF($H23:$AL23,Calc!$C$18)),"") | AP23: =IFERROR(IF(LEN(F23)=0,"",COUNTIF($H23:$AL23,Calc!$C$19)),"") | AQ23: =IFERROR(IF(LEN(F23)=0,"",COUNTIF($H23:$AL23,Calc!$C$20)),"")
E24: 17 | F24: =IFERROR(IF(LEN(INDEX(Lists!$C$6:$C$105,MATCH($E24,Lists!$B$6:$B$105,0)))=0,"",INDEX(Lists!$C$6:$C$105,MATCH($E24,Lists!$B$6:$B$105,0))),"") | G24: =IFERROR(IF(LEN(INDEX(Lists!$E$6:$E$105,MATCH($E24,Lists!$B$6:$B$105,0)))=0,"",INDEX(Lists!$E$6:$E$105,MATCH($E24,Lists!$B$6:$B$105,0))),"") | AN24: =IFERROR(IF(LEN(F24)=0,"",COUNTIF($H24:$AL24,Calc!$C$17)),"") | AO24: =IFERROR(IF(LEN(F24)=0,"",COUNTIF($H24:$AL24,Calc!$C$18)),"") | AP24: =IFERROR(IF(LEN(F24)=0,"",COUNTIF($H24:$AL24,Calc!$C$19)),"") | AQ24: =IFERROR(IF(LEN(F24)=0,"",COUNTIF($H24:$AL24,Calc!$C$20)),"")
E25: 18 | F25: =IFERROR(IF(LEN(INDEX(Lists!$C$6:$C$105,MATCH($E25,Lists!$B$6:$B$105,0)))=0,"",INDEX(Lists!$C$6:$C$105,MATCH($E25,Lists!$B$6:$B$105,0))),"") | G25: =IFERROR(IF(LEN(INDEX(Lists!$E$6:$E$105,MATCH($E25,Lists!$B$6:$B$105,0)))=0,"",INDEX(Lists!$E$6:$E$105,MATCH($E25,Lists!$B$6:$B$105,0))),"") | AN25: =IFERROR(IF(LEN(F25)=0,"",COUNTIF($H25:$AL25,Calc!$C$17)),"") | AO25: =IFERROR(IF(LEN(F25)=0,"",COUNTIF($H25:$AL25,Calc!$C$18)),"") | AP25: =IFERROR(IF(LEN(F25)=0,"",COUNTIF($H25:$AL25,Calc!$C$19)),"") | AQ25: =IFERROR(IF(LEN(F25)=0,"",COUNTIF($H25:$AL25,Calc!$C$20)),"")
E26: 19 | F26: =IFERROR(IF(LEN(INDEX(Lists!$C$6:$C$105,MATCH($E26,Lists!$B$6:$B$105,0)))=0,"",INDEX(Lists!$C$6:$C$105,MATCH($E26,Lists!$B$6:$B$105,0))),"") | G26: =IFERROR(IF(LEN(INDEX(Lists!$E$6:$E$105,MATCH($E26,Lists!$B$6:$B$105,0)))=0,"",INDEX(Lists!$E$6:$E$105,MATCH($E26,Lists!$B$6:$B$105,0))),"") | AN26: =IFERROR(IF(LEN(F26)=0,"",COUNTIF($H26:$AL26,Calc!$C$17)),"") | AO26: =IFERROR(IF(LEN(F26)=0,"",COUNTIF($H26:$AL26,Calc!$C$18)),"") | AP26: =IFERROR(IF(LEN(F26)=0,"",COUNTIF($H26:$AL26,Calc!$C$19)),"") | AQ26: =IFERROR(IF(LEN(F26)=0,"",COUNTIF($H26:$AL26,Calc!$C$20)),"")
E27: 20 | F27: =IFERROR(IF(LEN(INDEX(Lists!$C$6:$C$105,MATCH($E27,Lists!$B$6:$B$105,0)))=0,"",INDEX(Lists!$C$6:$C$105,MATCH($E27,Lists!$B$6:$B$105,0))),"") | G27: =IFERROR(IF(LEN(INDEX(Lists!$E$6:$E$105,MATCH($E27,Lists!$B$6:$B$105,0)))=0,"",INDEX(Lists!$E$6:$E$105,MATCH($E27,Lists!$B$6:$B$105,0))),"") | AN27: =IFERROR(IF(LEN(F27)=0,"",COUNTIF($H27:$AL27,Calc!$C$17)),"") | AO27: =IFERROR(IF(LEN(F27)=0,"",COUNTIF($H27:$AL27,Calc!$C$18)),"") | AP27: =IFERROR(IF(LEN(F27)=0,"",COUNTIF($H27:$AL27,Calc!$C$19)),"") | AQ27: =IFERROR(IF(LEN(F27)=0,"",COUNTIF($H27:$AL27,Calc!$C$20)),"")

Sheet April
C2: TEACHER LESSON PLAN TEMPLATE
C3: ATTENDANCE - APRIL
AN6: TOTALS
C7: MONTHS | E7: # | F7: Students Name | G7: Class | H7: 1 | I7: 2 | J7: 3 | K7: 4 | L7: 5 | M7: 6 | N7: 7 | O7: 8 | P7: 9 | Q7: 10 | R7: 11 | S7: 12 | T7: 13 | U7: 14 | V7: 15 | W7: 16 | X7: 17 | Y7: 18 | Z7: 19 | AA7: 20 | AB7: 21 | AC7: 22 | AD7: 23 | AE7: 24 | AF7: 25 | AG7: 26 | AH7: 27 | AI7: 28 | AJ7: 29 | AK7: 30 | AN7: =Calc!B17 -> Present | AO7: =Calc!B18 -> Tardy | AP7: =Calc!B19 -> Excused | AQ7: =Calc!B20 -> Unexcused
E8: 1 | F8: =IFERROR(IF(LEN(INDEX(Lists!$C$6:$C$105,MATCH($E8,Lists!$B$6:$B$105,0)))=0,"",INDEX(Lists!$C$6:$C$105,MATCH($E8,Lists!$B$6:$B$105,0))),"") -> Patrick Swayze | G8: =IFERROR(IF(LEN(INDEX(Lists!$E$6:$E$105,MATCH($E8,Lists!$B$6:$B$105,0)))=0,"",INDEX(Lists!$E$6:$E$105,MATCH($E8,Lists!$B$6:$B$105,0))),"") -> 10A | H8: P | I8: P | J8: P | K8: T | L8: P | O8: P | P8: T | Q8: P | R8: P | S8: P | V8: P | W8: P | X8: P | Y8: P | Z8: P | AC8: P | AD8: P | AE8: P | AF8: P | AG8: P | AJ8: P | AK8: P | AN8: =IFERROR(IF(LEN(F8)=0,"",COUNTIF($H8:$AK8,Calc!$C$17)),"") -> 20 | AO8: =IFERROR(IF(LEN(F8)=0,"",COUNTIF($H8:$AK8,Calc!$C$18)),"") -> 2 | AP8: =IFERROR(IF(LEN(F8)=0,"",COUNTIF($H8:$AK8,Calc!$C$19)),"") -> 0 | AQ8: =IFERROR(IF(LEN(F8)=0,"",COUNTIF($H8:$AK8,Calc!$C$20)),"") -> 0
C9: JANUARY | E9: 2 | F9: =IFERROR(IF(LEN(INDEX(Lists!$C$6:$C$105,MATCH($E9,Lists!$B$6:$B$105,0)))=0,"",INDEX(Lists!$C$6:$C$105,MATCH($E9,Lists!$B$6:$B$105,0))),"") -> Benicio Del Toro | G9: =IFERROR(IF(LEN(INDEX(Lists!$E$6:$E$105,MATCH($E9,Lists!$B$6:$B$105,0)))=0,"",INDEX(Lists!$E$6:$E$105,MATCH($E9,Lists!$B$6:$B$105,0))),"") -> 10A | H9: P | I9: P | J9: P | K9: P | L9: P | O9: P | P9: P | Q9: P | R9: P | S9: P | V9: U | W9: P | X9: P | Y9: P | Z9: P | AC9: P | AD9: P | AE9: P | AF9: P | AG9: E | AJ9: P | AK9: P | AN9: =IFERROR(IF(LEN(F9)=0,"",COUNTIF($H9:$AK9,Calc!$C$17)),"") -> 20 | AO9: =IFERROR(IF(LEN(F9)=0,"",COUNTIF($H9:$AK9,Calc!$C$18)),"") -> 0 | AP9: =IFERROR(IF(LEN(F9)=0,"",COUNTIF($H9:$AK9,Calc!$C$19)),"") -> 1 | AQ9: =IFERROR(IF(LEN(F9)=0,"",COUNTIF($H9:$AK9,Calc!$C$20)),"") -> 1
C10: FEBRUARY | E10: 3 | F10: =IFERROR(IF(LEN(INDEX(Lists!$C$6:$C$105,MATCH($E10,Lists!$B$6:$B$105,0)))=0,"",INDEX(Lists!$C$6:$C$105,MATCH($E10,Lists!$B$6:$B$105,0))),"") -> Harvey Kietel | G10: =IFERROR(IF(LEN(INDEX(Lists!$E$6:$E$105,MATCH($E10,Lists!$B$6:$B$105,0)))=0,"",INDEX(Lists!$E$6:$E$105,MATCH($E10,Lists!$B$6:$B$105,0))),"") -> 10A | H10: P | I10: P | J10: P | K10: P | L10: P | O10: P | P10: P | Q10: P | R10: P | S10: P | V10: P | W10: P | X10: P | Y10: P | Z10: P | AC10: P | AD10: P | AE10: P | AF10: P | AG10: P | AJ10: P | AK10: P | AN10: =IFERROR(IF(LEN(F10)=0,"",COUNTIF($H10:$AK10,Calc!$C$17)),"") -> 22 | AO10: =IFERROR(IF(LEN(F10)=0,"",COUNTIF($H10:$AK10,Calc!$C$18)),"") -> 0 | AP10: =IFERROR(IF(LEN(F10)=0,"",COUNTIF($H10:$AK10,Calc!$C$19)),"") -> 0 | AQ10: =IFERROR(IF(LEN(F10)=0,"",COUNTIF($H10:$AK10,Calc!$C$20)),"") -> 0
C11: MARCH | E11: 4 | F11: =IFERROR(IF(LEN(INDEX(Lists!$C$6:$C$105,MATCH($E11,Lists!$B$6:$B$105,0)))=0,"",INDEX(Lists!$C$6:$C$105,MATCH($E11,Lists!$B$6:$B$105,0))),"") -> Ed Harris | G11: =IFERROR(IF(LEN(INDEX(Lists!$E$6:$E$105,MATCH($E11,Lists!$B$6:$B$105,0)))=0,"",INDEX(Lists!$E$6:$E$105,MATCH($E11,Lists!$B$6:$B$105,0))),"") -> 10A | H11: P | I11: P | J11: P | K11: P | L11: P | O11: P | P11: P | Q11: P | R11: P | S11: P | V11: P | W11: P | X11: E | Y11: P | Z11: P | AC11: E | AD11: P | AE11: P | AF11: P | AG11: P | AJ11: P | AK11: P | AN11: =IFERROR(IF(LEN(F11)=0,"",COUNTIF($H11:$AK11,Calc!$C$17)),"") -> 20 | AO11: =IFERROR(IF(LEN(F11)=0,"",COUNTIF($H11:$AK11,Calc!$C$18)),"") -> 0 | AP11: =IFERROR(IF(LEN(F11)=0,"",COUNTIF($H11:$AK11,Calc!$C$19)),"") -> 2 | AQ11: =IFERROR(IF(LEN(F11)=0,"",COUNTIF($H11:$AK11,Calc!$C$20)),"") -> 0
C12: APRIL | E12: 5 | F12: =IFERROR(IF(LEN(INDEX(Lists!$C$6:$C$105,MATCH($E12,Lists!$B$6:$B$105,0)))=0,"",INDEX(Lists!$C$6:$C$105,MATCH($E12,Lists!$B$6:$B$105,0))),"") -> Charles Laughton | G12: =IFERROR(IF(LEN(INDEX(Lists!$E$6:$E$105,MATCH($E12,Lists!$B$6:$B$105,0)))=0,"",INDEX(Lists!$E$6:$E$105,MATCH($E12,Lists!$B$6:$B$105,0))),"") -> 10A | H12: P | I12: E | J12: P | K12: U | L12: P | O12: P | P12: P | Q12: P | R12: P | S12: P | V12: P | W12: P | X12: P | Y12: P | Z12: P | AC12: P | AD12: P | AE12: P | AF12: P | AG12: P | AJ12: P | AK12: P | AN12: =IFERROR(IF(LEN(F12)=0,"",COUNTIF($H12:$AK12,Calc!$C$17)),"") -> 20 | AO12: =IFERROR(IF(LEN(F12)=0,"",COUNTIF($H12:$AK12,Calc!$C$18)),"") -> 0 | AP12: =IFERROR(IF(LEN(F12)=0,"",COUNTIF($H12:$AK12,Calc!$C$19)),"") -> 1 | AQ12: =IFERROR(IF(LEN(F12)=0,"",COUNTIF($H12:$AK12,Calc!$C$20)),"") -> 1
C13: MAY | E13: 6 | F13: =IFERROR(IF(LEN(INDEX(Lists!$C$6:$C$105,MATCH($E13,Lists!$B$6:$B$105,0)))=0,"",INDEX(Lists!$C$6:$C$105,MATCH($E13,Lists!$B$6:$B$105,0))),"") -> James Caan | G13: =IFERROR(IF(LEN(INDEX(Lists!$E$6:$E$105,MATCH($E13,Lists!$B$6:$B$105,0)))=0,"",INDEX(Lists!$E$6:$E$105,MATCH($E13,Lists!$B$6:$B$105,0))),"") -> 10A | H13: P | I13: P | J13: P | K13: P | L13: P | O13: P | P13: P | Q13: U | R13: P | S13: P | V13: P | W13: P | X13: P | Y13: P | Z13: P | AC13: P | AD13: P | AE13: P | AF13: P | AG13: P | AJ13: U | AK13: T | AN13: =IFERROR(IF(LEN(F13)=0,"",COUNTIF($H13:$AK13,Calc!$C$17)),"") -> 19 | AO13: =IFERROR(IF(LEN(F13)=0,"",COUNTIF($H13:$AK13,Calc!$C$18)),"") -> 1 | AP13: =IFERROR(IF(LEN(F13)=0,"",COUNTIF($H13:$AK13,Calc!$C$19)),"") -> 0 | AQ13: =IFERROR(IF(LEN(F13)=0,"",COUNTIF($H13:$AK13,Calc!$C$20)),"") -> 2
C14: JUNE | E14: 7 | F14: =IFERROR(IF(LEN(INDEX(Lists!$C$6:$C$105,MATCH($E14,Lists!$B$6:$B$105,0)))=0,"",INDEX(Lists!$C$6:$C$105,MATCH($E14,Lists!$B$6:$B$105,0))),"") -> Robert Downey Jr. | G14: =IFERROR(IF(LEN(INDEX(Lists!$E$6:$E$105,MATCH($E14,Lists!$B$6:$B$105,0)))=0,"",INDEX(Lists!$E$6:$E$105,MATCH($E14,Lists!$B$6:$B$105,0))),"") -> 10A | H14: P | I14: P | J14: P | K14: T | L14: P | O14: P | P14: T | Q14: P | R14: P | S14: P | V14: P | W14: P | X14: P | Y14: P | Z14: P | AC14: P | AD14: P | AE14: P | AF14: P | AG14: P | AJ14: P | AK14: P | AN14: =IFERROR(IF(LEN(F14)=0,"",COUNTIF($H14:$AK14,Calc!$C$17)),"") -> 20 | AO14: =IFERROR(IF(LEN(F14)=0,"",COUNTIF($H14:$AK14,Calc!$C$18)),"") -> 2 | AP14: =IFERROR(IF(LEN(F14)=0,"",COUNTIF($H14:$AK14,Calc!$C$19)),"") -> 0 | AQ14: =IFERROR(IF(LEN(F14)=0,"",COUNTIF($H14:$AK14,Calc!$C$20)),"") -> 0
C15: JULY | E15: 8 | F15: =IFERROR(IF(LEN(INDEX(Lists!$C$6:$C$105,MATCH($E15,Lists!$B$6:$B$105,0)))=0,"",INDEX(Lists!$C$6:$C$105,MATCH($E15,Lists!$B$6:$B$105,0))),"") -> Alec Guiness | G15: =IFERROR(IF(LEN(INDEX(Lists!$E$6:$E$105,MATCH($E15,Lists!$B$6:$B$105,0)))=0,"",INDEX(Lists!$E$6:$E$105,MATCH($E15,Lists!$B$6:$B$105,0))),"") -> 10A | H15: P | I15: P | J15: P | K15: P | L15: P | O15: P | P15: P | Q15: P | R15: P | S15: P | V15: U | W15: P | X15: P | Y15: P | Z15: P | AC15: P | AD15: P | AE15: P | AF15: P | AG15: E | AJ15: P | AK15: P | AN15: =IFERROR(IF(LEN(F15)=0,"",COUNTIF($H15:$AK15,Calc!$C$17)),"") -> 20 | AO15: =IFERROR(IF(LEN(F15)=0,"",COUNTIF($H15:$AK15,Calc!$C$18)),"") -> 0 | AP15: =IFERROR(IF(LEN(F15)=0,"",COUNTIF($H15:$AK15,Calc!$C$19)),"") -> 1 | AQ15: =IFERROR(IF(LEN(F15)=0,"",COUNTIF($H15:$AK15,Calc!$C$20)),"") -> 1
C16: AUGUST | E16: 9 | F16: =IFERROR(IF(LEN(INDEX(Lists!$C$6:$C$105,MATCH($E16,Lists!$B$6:$B$105,0)))=0,"",INDEX(Lists!$C$6:$C$105,MATCH($E16,Lists!$B$6:$B$105,0))),"") -> Viggo Mortensen | G16: =IFERROR(IF(LEN(INDEX(Lists!$E$6:$E$105,MATCH($E16,Lists!$B$6:$B$105,0)))=0,"",INDEX(Lists!$E$6:$E$105,MATCH($E16,Lists!$B$6:$B$105,0))),"") -> 10A | H16: P | I16: P | J16: U | K16: P | L16: P | O16: P | P16: P | Q16: P | R16: P | S16: P | V16: P | W16: P | X16: P | Y16: P | Z16: P | AC16: P | AD16: U | AE16: P | AF16: P | AG16: P | AJ16: P | AK16: P | AN16: =IFERROR(IF(LEN(F16)=0,"",COUNTIF($H16:$AK16,Calc!$C$17)),"") -> 20 | AO16: =IFERROR(IF(LEN(F16)=0,"",COUNTIF($H16:$AK16,Calc!$C$18)),"") -> 0 | AP16: =IFERROR(IF(LEN(F16)=0,"",COUNTIF($H16:$AK16,Calc!$C$19)),"") -> 0 | AQ16: =IFERROR(IF(LEN(F16)=0,"",COUNTIF($H16:$AK16,Calc!$C$20)),"") -> 2
C17: SEPTEMBER | E17: 10 | F17: =IFERROR(IF(LEN(INDEX(Lists!$C$6:$C$105,MATCH($E17,Lists!$B$6:$B$105,0)))=0,"",INDEX(Lists!$C$6:$C$105,MATCH($E17,Lists!$B$6:$B$105,0))),"") -> Kylian Mbappe | G17: =IFERROR(IF(LEN(INDEX(Lists!$E$6:$E$105,MATCH($E17,Lists!$B$6:$B$105,0)))=0,"",INDEX(Lists!$E$6:$E$105,MATCH($E17,Lists!$B$6:$B$105,0))),"") -> 10A | H17: P | I17: P | J17: P | K17: P | L17: P | O17: P | P17: P | Q17: P | R17: P | S17: P | V17: P | W17: P | X17: P | Y17: T | Z17: P | AC17: P | AD17: P | AE17: P | AF17: P | AG17: P | AJ17: P | AK17: P | AN17: =IFERROR(IF(LEN(F17)=0,"",COUNTIF($H17:$AK17,Calc!$C$17)),"") -> 21 | AO17: =IFERROR(IF(LEN(F17)=0,"",COUNTIF($H17:$AK17,Calc!$C$18)),"") -> 1 | AP17: =IFERROR(IF(LEN(F17)=0,"",COUNTIF($H17:$AK17,Calc!$C$19)),"") -> 0 | AQ17: =IFERROR(IF(LEN(F17)=0,"",COUNTIF($H17:$AK17,Calc!$C$20)),"") -> 0
C18: OCTOBER | E18: 11 | F18: =IFERROR(IF(LEN(INDEX(Lists!$C$6:$C$105,MATCH($E18,Lists!$B$6:$B$105,0)))=0,"",INDEX(Lists!$C$6:$C$105,MATCH($E18,Lists!$B$6:$B$105,0))),"") -> Jessica Alba | G18: =IFERROR(IF(LEN(INDEX(Lists!$E$6:$E$105,MATCH($E18,Lists!$B$6:$B$105,0)))=0,"",INDEX(Lists!$E$6:$E$105,MATCH($E18,Lists!$B$6:$B$105,0))),"") -> 10B | H18: P | I18: P | J18: U | K18: P | L18: P | O18: P | P18: P | Q18: P | R18: P | S18: P | V18: P | W18: P | X18: P | Y18: P | Z18: P | AC18: P | AD18: U | AE18: P | AF18: P | AG18: P | AJ18: P | AK18: P | AN18: =IFERROR(IF(LEN(F18)=0,"",COUNTIF($H18:$AK18,Calc!$C$17)),"") -> 20 | AO18: =IFERROR(IF(LEN(F18)=0,"",COUNTIF($H18:$AK18,Calc!$C$18)),"") -> 0 | AP18: =IFERROR(IF(LEN(F18)=0,"",COUNTIF($H18:$AK18,Calc!$C$19)),"") -> 0 | AQ18: =IFERROR(IF(LEN(F18)=0,"",COUNTIF($H18:$AK18,Calc!$C$20)),"") -> 2
C19: NOVEMBER | E19: 12 | F19: =IFERROR(IF(LEN(INDEX(Lists!$C$6:$C$105,MATCH($E19,Lists!$B$6:$B$105,0)))=0,"",INDEX(Lists!$C$6:$C$105,MATCH($E19,Lists!$B$6:$B$105,0))),"") -> Emma Stone | G19: =IFERROR(IF(LEN(INDEX(Lists!$E$6:$E$105,MATCH($E19,Lists!$B$6:$B$105,0)))=0,"",INDEX(Lists!$E$6:$E$105,MATCH($E19,Lists!$B$6:$B$105,0))),"") -> 10B | H19: P | I19: P | J19: P | K19: P | L19: P | O19: P | P19: P | Q19: E | R19: P | S19: P | V19: P | W19: P | X19: P | Y19: P | Z19: P | AC19: P | AD19: P | AE19: P | AF19: T | AG19: P | AJ19: P | AK19: E | AN19: =IFERROR(IF(LEN(F19)=0,"",COUNTIF($H19:$AK19,Calc!$C$17)),"") -> 19 | AO19: =IFERROR(IF(LEN(F19)=0,"",COUNTIF($H19:$AK19,Calc!$C$18)),"") -> 1 | AP19: =IFERROR(IF(LEN(F19)=0,"",COUNTIF($H19:$AK19,Calc!$C$19)),"") -> 2 | AQ19: =IFERROR(IF(LEN(F19)=0,"",COUNTIF($H19:$AK19,Calc!$C$20)),"") -> 0
C20: DECEMBER | E20: 13 | F20: =IFERROR(IF(LEN(INDEX(Lists!$C$6:$C$105,MATCH($E20,Lists!$B$6:$B$105,0)))=0,"",INDEX(Lists!$C$6:$C$105,MATCH($E20,Lists!$B$6:$B$105,0))),"") -> Scarlett Johansson | G20: =IFERROR(IF(LEN(INDEX(Lists!$E$6:$E$105,MATCH($E20,Lists!$B$6:$B$105,0)))=0,"",INDEX(Lists!$E$6:$E$105,MATCH($E20,Lists!$B$6:$B$105,0))),"") -> 10B | H20: P | I20: P | J20: P | K20: P | L20: P | O20: P | P20: P | Q20: P | R20: P | S20: P | V20: P | W20: P | X20: P | Y20: P | Z20: P | AC20: P | AD20: P | AE20: P | AF20: P | AG20: P | AJ20: P | AK20: P | AN20: =IFERROR(IF(LEN(F20)=0,"",COUNTIF($H20:$AK20,Calc!$C$17)),"") -> 22 | AO20: =IFERROR(IF(LEN(F20)=0,"",COUNTIF($H20:$AK20,Calc!$C$18)),"") -> 0 | AP20: =IFERROR(IF(LEN(F20)=0,"",COUNTIF($H20:$AK20,Calc!$C$19)),"") -> 0 | AQ20: =IFERROR(IF(LEN(F20)=0,"",COUNTIF($H20:$AK20,Calc!$C$20)),"") -> 0
E21: 14 | F21: =IFERROR(IF(LEN(INDEX(Lists!$C$6:$C$105,MATCH($E21,Lists!$B$6:$B$105,0)))=0,"",INDEX(Lists!$C$6:$C$105,MATCH($E21,Lists!$B$6:$B$105,0))),"") -> Mila Kunis | G21: =IFERROR(IF(LEN(INDEX(Lists!$E$6:$E$105,MATCH($E21,Lists!$B$6:$B$105,0)))=0,"",INDEX(Lists!$E$6:$E$105,MATCH($E21,Lists!$B$6:$B$105,0))),"") -> 10B | H21: P | I21: P | J21: P | K21: P | L21: P | O21: P | P21: P | Q21: P | R21: P | S21: P | V21: P | W21: P | X21: E | Y21: P | Z21: P | AC21: E | AD21: P | AE21: P | AF21: P | AG21: P | AJ21: P | AK21: P | AN21: =IFERROR(IF(LEN(F21)=0,"",COUNTIF($H21:$AK21,Calc!$C$17)),"") -> 20 | AO21: =IFERROR(IF(LEN(F21)=0,"",COUNTIF($H21:$AK21,Calc!$C$18)),"") -> 0 | AP21: =IFERROR(IF(LEN(F21)=0,"",COUNTIF($H21:$AK21,Calc!$C$19)),"") -> 2 | AQ21: =IFERROR(IF(LEN(F21)=0,"",COUNTIF($H21:$AK21,Calc!$C$20)),"") -> 0
E22: 15 | F22: =IFERROR(IF(LEN(INDEX(Lists!$C$6:$C$105,MATCH($E22,Lists!$B$6:$B$105,0)))=0,"",INDEX(Lists!$C$6:$C$105,MATCH($E22,Lists!$B$6:$B$105,0))),"") -> Charlize Theron | G22: =IFERROR(IF(LEN(INDEX(Lists!$E$6:$E$105,MATCH($E22,Lists!$B$6:$B$105,0)))=0,"",INDEX(Lists!$E$6:$E$105,MATCH($E22,Lists!$B$6:$B$105,0))),"") -> 10B | H22: P | I22: P | J22: P | K22: P | L22: P | O22: P | P22: P | Q22: U | R22: P | S22: P | V22: P | W22: P | X22: P | Y22: P | Z22: P | AC22: P | AD22: P | AE22: P | AF22: P | AG22: P | AJ22: U | AK22: T | AN22: =IFERROR(IF(LEN(F22)=0,"",COUNTIF($H22:$AK22,Calc!$C$17)),"") -> 19 | AO22: =IFERROR(IF(LEN(F22)=0,"",COUNTIF($H22:$AK22,Calc!$C$18)),"") -> 1 | AP22: =IFERROR(IF(LEN(F22)=0,"",COUNTIF($H22:$AK22,Calc!$C$19)),"") -> 0 | AQ22: =IFERROR(IF(LEN(F22)=0,"",COUNTIF($H22:$AK22,Calc!$C$20)),"") -> 2
E23: 16 | F23: =IFERROR(IF(LEN(INDEX(Lists!$C$6:$C$105,MATCH($E23,Lists!$B$6:$B$105,0)))=0,"",INDEX(Lists!$C$6:$C$105,MATCH($E23,Lists!$B$6:$B$105,0))),"") | G23: =IFERROR(IF(LEN(INDEX(Lists!$E$6:$E$105,MATCH($E23,Lists!$B$6:$B$105,0)))=0,"",INDEX(Lists!$E$6:$E$105,MATCH($E23,Lists!$B$6:$B$105,0))),"") | AN23: =IFERROR(IF(LEN(F23)=0,"",COUNTIF($H23:$AK23,Calc!$C$17)),"") | AO23: =IFERROR(IF(LEN(F23)=0,"",COUNTIF($H23:$AK23,Calc!$C$18)),"") | AP23: =IFERROR(IF(LEN(F23)=0,"",COUNTIF($H23:$AK23,Calc!$C$19)),"") | AQ23: =IFERROR(IF(LEN(F23)=0,"",COUNTIF($H23:$AK23,Calc!$C$20)),"")
E24: 17 | F24: =IFERROR(IF(LEN(INDEX(Lists!$C$6:$C$105,MATCH($E24,Lists!$B$6:$B$105,0)))=0,"",INDEX(Lists!$C$6:$C$105,MATCH($E24,Lists!$B$6:$B$105,0))),"") | G24: =IFERROR(IF(LEN(INDEX(Lists!$E$6:$E$105,MATCH($E24,Lists!$B$6:$B$105,0)))=0,"",INDEX(Lists!$E$6:$E$105,MATCH($E24,Lists!$B$6:$B$105,0))),"") | AN24: =IFERROR(IF(LEN(F24)=0,"",COUNTIF($H24:$AK24,Calc!$C$17)),"") | AO24: =IFERROR(IF(LEN(F24)=0,"",COUNTIF($H24:$AK24,Calc!$C$18)),"") | AP24: =IFERROR(IF(LEN(F24)=0,"",COUNTIF($H24:$AK24,Calc!$C$19)),"") | AQ24: =IFERROR(IF(LEN(F24)=0,"",COUNTIF($H24:$AK24,Calc!$C$20)),"")
E25: 18 | F25: =IFERROR(IF(LEN(INDEX(Lists!$C$6:$C$105,MATCH($E25,Lists!$B$6:$B$105,0)))=0,"",INDEX(Lists!$C$6:$C$105,MATCH($E25,Lists!$B$6:$B$105,0))),"") | G25: =IFERROR(IF(LEN(INDEX(Lists!$E$6:$E$105,MATCH($E25,Lists!$B$6:$B$105,0)))=0,"",INDEX(Lists!$E$6:$E$105,MATCH($E25,Lists!$B$6:$B$105,0))),"") | AN25: =IFERROR(IF(LEN(F25)=0,"",COUNTIF($H25:$AK25,Calc!$C$17)),"") | AO25: =IFERROR(IF(LEN(F25)=0,"",COUNTIF($H25:$AK25,Calc!$C$18)),"") | AP25: =IFERROR(IF(LEN(F25)=0,"",COUNTIF($H25:$AK25,Calc!$C$19)),"") | AQ25: =IFERROR(IF(LEN(F25)=0,"",COUNTIF($H25:$AK25,Calc!$C$20)),"")
E26: 19 | F26: =IFERROR(IF(LEN(INDEX(Lists!$C$6:$C$105,MATCH($E26,Lists!$B$6:$B$105,0)))=0,"",INDEX(Lists!$C$6:$C$105,MATCH($E26,Lists!$B$6:$B$105,0))),"") | G26: =IFERROR(IF(LEN(INDEX(Lists!$E$6:$E$105,MATCH($E26,Lists!$B$6:$B$105,0)))=0,"",INDEX(Lists!$E$6:$E$105,MATCH($E26,Lists!$B$6:$B$105,0))),"") | AN26: =IFERROR(IF(LEN(F26)=0,"",COUNTIF($H26:$AK26,Calc!$C$17)),"") | AO26: =IFERROR(IF(LEN(F26)=0,"",COUNTIF($H26:$AK26,Calc!$C$18)),"") | AP26: =IFERROR(IF(LEN(F26)=0,"",COUNTIF($H26:$AK26,Calc!$C$19)),"") | AQ26: =IFERROR(IF(LEN(F26)=0,"",COUNTIF($H26:$AK26,Calc!$C$20)),"")
E27: 20 | F27: =IFERROR(IF(LEN(INDEX(Lists!$C$6:$C$105,MATCH($E27,Lists!$B$6:$B$105,0)))=0,"",INDEX(Lists!$C$6:$C$105,MATCH($E27,Lists!$B$6:$B$105,0))),"") | G27: =IFERROR(IF(LEN(INDEX(Lists!$E$6:$E$105,MATCH($E27,Lists!$B$6:$B$105,0)))=0,"",INDEX(Lists!$E$6:$E$105,MATCH($E27,Lists!$B$6:$B$105,0))),"") | AN27: =IFERROR(IF(LEN(F27)=0,"",COUNTIF($H27:$AK27,Calc!$C$17)),"") | AO27: =IFERROR(IF(LEN(F27)=0,"",COUNTIF($H27:$AK27,Calc!$C$18)),"") | AP27: =IFERROR(IF(LEN(F27)=0,"",COUNTIF($H27:$AK27,Calc!$C$19)),"") | AQ27: =IFERROR(IF(LEN(F27)=0,"",COUNTIF($H27:$AK27,Calc!$C$20)),"")
H28: P | I28: P | J28: P | K28: P | L28: P | O28: P | P28: P | Q28: U | R28: P | S28: P | V28: P | W28: P | X28: P | Y28: P | Z28: P | AC28: P | AD28: P | AE28: P | AF28: P | AG28: P | AJ28: U | AK28: T
H29: P | I29: P | J29: P | K29: T | L29: P | O29: P | P29: T | Q29: P | R29: P | S29: P | V29: P | W29: P | X29: P | Y29: P | Z29: P | AC29: P | AD29: P | AE29: P | AF29: P | AG29: P | AJ29: P | AK29: P
H30: P | I30: P | J30: P | K30: P | L30: P | O30: P | P30: P | Q30: P | R30: P | S30: P | V30: U | W30: P | X30: P | Y30: P | Z30: P | AC30: P | AD30: P | AE30: P | AF30: P | AG30: E | AJ30: P | AK30: P
H31: P | I31: P | J31: U | K31: P | L31: P | O31: P | P31: P | Q31: P | R31: P | S31: P | V31: P | W31: P | X31: P | Y31: P | Z31: P | AC31: P | AD31: U | AE31: P | AF31: P | AG31: P | AJ31: P | AK31: P
H32: P | I32: P | J32: P | K32: P | L32: P | O32: P | P32: P | Q32: E | R32: P | S32: P | V32: P | W32: P | X32: P | Y32: P | Z32: P | AC32: P | AD32: P | AE32: P | AF32: T | AG32: P | AJ32: P | AK32: E
H33: P | I33: P | J33: P | K33: P | L33: P | O33: P | P33: P | Q33: P | R33: P | S33: P | V33: P | W33: P | X33: P | Y33: P | Z33: P | AC33: P | AD33: P | AE33: P | AF33: P | AG33: P | AJ33: P | AK33: P
H34: P | I34: P | J34: P | K34: P | L34: P | O34: P | P34: P | Q34: P | R34: P | S34: P | V34: P | W34: P | X34: E | Y34: P | Z34: P | AC34: E | AD34: P | AE34: P | AF34: P | AG34: P | AJ34: P | AK34: P
H35: P | I35: E | J35: P | K35: U | L35: P | O35: P | P35: P | Q35: P | R35: P | S35: P | V35: P | W35: P | X35: P | Y35: P | Z35: P | AC35: P | AD35: P | AE35: P | AF35: P | AG35: P | AJ35: P | AK35: P
H36: P | I36: P | J36: P | K36: P | L36: P | O36: P | P36: P | Q36: U | R36: P | S36: P | V36: P | W36: P | X36: P | Y36: P | Z36: P | AC36: P | AD36: P | AE36: P | AF36: P | AG36: P | AJ36: U | AK36: T
H37: T | I37: P | J37: P | K37: P | L37: P | O37: P | P37: P | Q37: P | R37: P | S37: P | V37: P | W37: E | X37: T | Y37: P | Z37: P | AC37: P | AD37: P | AE37: P | AF37: P | AG37: P | AJ37: P | AK37: P

Sheet May
C2: TEACHER LESSON PLAN TEMPLATE
C3: ATTENDANCE - MAY
AN6: TOTALS
C7: MONTHS | E7: # | F7: Students Name | G7: Class | H7: 1 | I7: 2 | J7: 3 | K7: 4 | L7: 5 | M7: 6 | N7: 7 | O7: 8 | P7: 9 | Q7: 10 | R7: 11 | S7: 12 | T7: 13 | U7: 14 | V7: 15 | W7: 16 | X7: 17 | Y7: 18 | Z7: 19 | AA7: 20 | AB7: 21 | AC7: 22 | AD7: 23 | AE7: 24 | AF7: 25 | AG7: 26 | AH7: 27 | AI7: 28 | AJ7: 29 | AK7: 30 | AL7: 31 | AN7: =Calc!B17 -> Present | AO7: =Calc!B18 -> Tardy | AP7: =Calc!B19 -> Excused | AQ7: =Calc!B20 -> Unexcused
E8: 1 | F8: =IFERROR(IF(LEN(INDEX(Lists!$C$6:$C$105,MATCH($E8,Lists!$B$6:$B$105,0)))=0,"",INDEX(Lists!$C$6:$C$105,MATCH($E8,Lists!$B$6:$B$105,0))),"") -> Patrick Swayze | G8: =IFERROR(IF(LEN(INDEX(Lists!$E$6:$E$105,MATCH($E8,Lists!$B$6:$B$105,0)))=0,"",INDEX(Lists!$E$6:$E$105,MATCH($E8,Lists!$B$6:$B$105,0))),"") -> 10A | AN8: =IFERROR(IF(LEN(F8)=0,"",COUNTIF($H8:$AL8,Calc!$C$17)),"") -> 0 | AO8: =IFERROR(IF(LEN(F8)=0,"",COUNTIF($H8:$AL8,Calc!$C$18)),"") -> 0 | AP8: =IFERROR(IF(LEN(F8)=0,"",COUNTIF($H8:$AL8,Calc!$C$19)),"") -> 0 | AQ8: =IFERROR(IF(LEN(F8)=0,"",COUNTIF($H8:$AL8,Calc!$C$20)),"") -> 0
C9: JANUARY | E9: 2 | F9: =IFERROR(IF(LEN(INDEX(Lists!$C$6:$C$105,MATCH($E9,Lists!$B$6:$B$105,0)))=0,"",INDEX(Lists!$C$6:$C$105,MATCH($E9,Lists!$B$6:$B$105,0))),"") -> Benicio Del Toro | G9: =IFERROR(IF(LEN(INDEX(Lists!$E$6:$E$105,MATCH($E9,Lists!$B$6:$B$105,0)))=0,"",INDEX(Lists!$E$6:$E$105,MATCH($E9,Lists!$B$6:$B$105,0))),"") -> 10A | AN9: =IFERROR(IF(LEN(F9)=0,"",COUNTIF($H9:$AL9,Calc!$C$17)),"") -> 0 | AO9: =IFERROR(IF(LEN(F9)=0,"",COUNTIF($H9:$AL9,Calc!$C$18)),"") -> 0 | AP9: =IFERROR(IF(LEN(F9)=0,"",COUNTIF($H9:$AL9,Calc!$C$19)),"") -> 0 | AQ9: =IFERROR(IF(LEN(F9)=0,"",COUNTIF($H9:$AL9,Calc!$C$20)),"") -> 0
C10: FEBRUARY | E10: 3 | F10: =IFERROR(IF(LEN(INDEX(Lists!$C$6:$C$105,MATCH($E10,Lists!$B$6:$B$105,0)))=0,"",INDEX(Lists!$C$6:$C$105,MATCH($E10,Lists!$B$6:$B$105,0))),"") -> Harvey Kietel | G10: =IFERROR(IF(LEN(INDEX(Lists!$E$6:$E$105,MATCH($E10,Lists!$B$6:$B$105,0)))=0,"",INDEX(Lists!$E$6:$E$105,MATCH($E10,Lists!$B$6:$B$105,0))),"") -> 10A | AN10: =IFERROR(IF(LEN(F10)=0,"",COUNTIF($H10:$AL10,Calc!$C$17)),"") -> 0 | AO10: =IFERROR(IF(LEN(F10)=0,"",COUNTIF($H10:$AL10,Calc!$C$18)),"") -> 0 | AP10: =IFERROR(IF(LEN(F10)=0,"",COUNTIF($H10:$AL10,Calc!$C$19)),"") -> 0 | AQ10: =IFERROR(IF(LEN(F10)=0,"",COUNTIF($H10:$AL10,Calc!$C$20)),"") -> 0
C11: MARCH | E11: 4 | F11: =IFERROR(IF(LEN(INDEX(Lists!$C$6:$C$105,MATCH($E11,Lists!$B$6:$B$105,0)))=0,"",INDEX(Lists!$C$6:$C$105,MATCH($E11,Lists!$B$6:$B$105,0))),"") -> Ed Harris | G11: =IFERROR(IF(LEN(INDEX(Lists!$E$6:$E$105,MATCH($E11,Lists!$B$6:$B$105,0)))=0,"",INDEX(Lists!$E$6:$E$105,MATCH($E11,Lists!$B$6:$B$105,0))),"") -> 10A | AN11: =IFERROR(IF(LEN(F11)=0,"",COUNTIF($H11:$AL11,Calc!$C$17)),"") -> 0 | AO11: =IFERROR(IF(LEN(F11)=0,"",COUNTIF($H11:$AL11,Calc!$C$18)),"") -> 0 | AP11: =IFERROR(IF(LEN(F11)=0,"",COUNTIF($H11:$AL11,Calc!$C$19)),"") -> 0 | AQ11: =IFERROR(IF(LEN(F11)=0,"",COUNTIF($H11:$AL11,Calc!$C$20)),"") -> 0
C12: APRIL | E12: 5 | F12: =IFERROR(IF(LEN(INDEX(Lists!$C$6:$C$105,MATCH($E12,Lists!$B$6:$B$105,0)))=0,"",INDEX(Lists!$C$6:$C$105,MATCH($E12,Lists!$B$6:$B$105,0))),"") -> Charles Laughton | G12: =IFERROR(IF(LEN(INDEX(Lists!$E$6:$E$105,MATCH($E12,Lists!$B$6:$B$105,0)))=0,"",INDEX(Lists!$E$6:$E$105,MATCH($E12,Lists!$B$6:$B$105,0))),"") -> 10A | AN12: =IFERROR(IF(LEN(F12)=0,"",COUNTIF($H12:$AL12,Calc!$C$17)),"") -> 0 | AO12: =IFERROR(IF(LEN(F12)=0,"",COUNTIF($H12:$AL12,Calc!$C$18)),"") -> 0 | AP12: =IFERROR(IF(LEN(F12)=0,"",COUNTIF($H12:$AL12,Calc!$C$19)),"") -> 0 | AQ12: =IFERROR(IF(LEN(F12)=0,"",COUNTIF($H12:$AL12,Calc!$C$20)),"") -> 0
C13: MAY | E13: 6 | F13: =IFERROR(IF(LEN(INDEX(Lists!$C$6:$C$105,MATCH($E13,Lists!$B$6:$B$105,0)))=0,"",INDEX(Lists!$C$6:$C$105,MATCH($E13,Lists!$B$6:$B$105,0))),"") -> James Caan | G13: =IFERROR(IF(LEN(INDEX(Lists!$E$6:$E$105,MATCH($E13,Lists!$B$6:$B$105,0)))=0,"",INDEX(Lists!$E$6:$E$105,MATCH($E13,Lists!$B$6:$B$105,0))),"") -> 10A | AN13: =IFERROR(IF(LEN(F13)=0,"",COUNTIF($H13:$AL13,Calc!$C$17)),"") -> 0 | AO13: =IFERROR(IF(LEN(F13)=0,"",COUNTIF($H13:$AL13,Calc!$C$18)),"") -> 0 | AP13: =IFERROR(IF(LEN(F13)=0,"",COUNTIF($H13:$AL13,Calc!$C$19)),"") -> 0 | AQ13: =IFERROR(IF(LEN(F13)=0,"",COUNTIF($H13:$AL13,Calc!$C$20)),"") -> 0
C14: JUNE | E14: 7 | F14: =IFERROR(IF(LEN(INDEX(Lists!$C$6:$C$105,MATCH($E14,Lists!$B$6:$B$105,0)))=0,"",INDEX(Lists!$C$6:$C$105,MATCH($E14,Lists!$B$6:$B$105,0))),"") -> Robert Downey Jr. | G14: =IFERROR(IF(LEN(INDEX(Lists!$E$6:$E$105,MATCH($E14,Lists!$B$6:$B$105,0)))=0,"",INDEX(Lists!$E$6:$E$105,MATCH($E14,Lists!$B$6:$B$105,0))),"") -> 10A | AN14: =IFERROR(IF(LEN(F14)=0,"",COUNTIF($H14:$AL14,Calc!$C$17)),"") -> 0 | AO14: =IFERROR(IF(LEN(F14)=0,"",COUNTIF($H14:$AL14,Calc!$C$18)),"") -> 0 | AP14: =IFERROR(IF(LEN(F14)=0,"",COUNTIF($H14:$AL14,Calc!$C$19)),"") -> 0 | AQ14: =IFERROR(IF(LEN(F14)=0,"",COUNTIF($H14:$AL14,Calc!$C$20)),"") -> 0
C15: JULY | E15: 8 | F15: =IFERROR(IF(LEN(INDEX(Lists!$C$6:$C$105,MATCH($E15,Lists!$B$6:$B$105,0)))=0,"",INDEX(Lists!$C$6:$C$105,MATCH($E15,Lists!$B$6:$B$105,0))),"") -> Alec Guiness | G15: =IFERROR(IF(LEN(INDEX(Lists!$E$6:$E$105,MATCH($E15,Lists!$B$6:$B$105,0)))=0,"",INDEX(Lists!$E$6:$E$105,MATCH($E15,Lists!$B$6:$B$105,0))),"") -> 10A | AN15: =IFERROR(IF(LEN(F15)=0,"",COUNTIF($H15:$AL15,Calc!$C$17)),"") -> 0 | AO15: =IFERROR(IF(LEN(F15)=0,"",COUNTIF($H15:$AL15,Calc!$C$18)),"") -> 0 | AP15: =IFERROR(IF(LEN(F15)=0,"",COUNTIF($H15:$AL15,Calc!$C$19)),"") -> 0 | AQ15: =IFERROR(IF(LEN(F15)=0,"",COUNTIF($H15:$AL15,Calc!$C$20)),"") -> 0
C16: AUGUST | E16: 9 | F16: =IFERROR(IF(LEN(INDEX(Lists!$C$6:$C$105,MATCH($E16,Lists!$B$6:$B$105,0)))=0,"",INDEX(Lists!$C$6:$C$105,MATCH($E16,Lists!$B$6:$B$105,0))),"") -> Viggo Mortensen | G16: =IFERROR(IF(LEN(INDEX(Lists!$E$6:$E$105,MATCH($E16,Lists!$B$6:$B$105,0)))=0,"",INDEX(Lists!$E$6:$E$105,MATCH($E16,Lists!$B$6:$B$105,0))),"") -> 10A | AN16: =IFERROR(IF(LEN(F16)=0,"",COUNTIF($H16:$AL16,Calc!$C$17)),"") -> 0 | AO16: =IFERROR(IF(LEN(F16)=0,"",COUNTIF($H16:$AL16,Calc!$C$18)),"") -> 0 | AP16: =IFERROR(IF(LEN(F16)=0,"",COUNTIF($H16:$AL16,Calc!$C$19)),"") -> 0 | AQ16: =IFERROR(IF(LEN(F16)=0,"",COUNTIF($H16:$AL16,Calc!$C$20)),"") -> 0
C17: SEPTEMBER | E17: 10 | F17: =IFERROR(IF(LEN(INDEX(Lists!$C$6:$C$105,MATCH($E17,Lists!$B$6:$B$105,0)))=0,"",INDEX(Lists!$C$6:$C$105,MATCH($E17,Lists!$B$6:$B$105,0))),"") -> Kylian Mbappe | G17: =IFERROR(IF(LEN(INDEX(Lists!$E$6:$E$105,MATCH($E17,Lists!$B$6:$B$105,0)))=0,"",INDEX(Lists!$E$6:$E$105,MATCH($E17,Lists!$B$6:$B$105,0))),"") -> 10A | AN17: =IFERROR(IF(LEN(F17)=0,"",COUNTIF($H17:$AL17,Calc!$C$17)),"") -> 0 | AO17: =IFERROR(IF(LEN(F17)=0,"",COUNTIF($H17:$AL17,Calc!$C$18)),"") -> 0 | AP17: =IFERROR(IF(LEN(F17)=0,"",COUNTIF($H17:$AL17,Calc!$C$19)),"") -> 0 | AQ17: =IFERROR(IF(LEN(F17)=0,"",COUNTIF($H17:$AL17,Calc!$C$20)),"") -> 0
C18: OCTOBER | E18: 11 | F18: =IFERROR(IF(LEN(INDEX(Lists!$C$6:$C$105,MATCH($E18,Lists!$B$6:$B$105,0)))=0,"",INDEX(Lists!$C$6:$C$105,MATCH($E18,Lists!$B$6:$B$105,0))),"") -> Jessica Alba | G18: =IFERROR(IF(LEN(INDEX(Lists!$E$6:$E$105,MATCH($E18,Lists!$B$6:$B$105,0)))=0,"",INDEX(Lists!$E$6:$E$105,MATCH($E18,Lists!$B$6:$B$105,0))),"") -> 10B | AN18: =IFERROR(IF(LEN(F18)=0,"",COUNTIF($H18:$AL18,Calc!$C$17)),"") -> 0 | AO18: =IFERROR(IF(LEN(F18)=0,"",COUNTIF($H18:$AL18,Calc!$C$18)),"") -> 0 | AP18: =IFERROR(IF(LEN(F18)=0,"",COUNTIF($H18:$AL18,Calc!$C$19)),"") -> 0 | AQ18: =IFERROR(IF(LEN(F18)=0,"",COUNTIF($H18:$AL18,Calc!$C$20)),"") -> 0
C19: NOVEMBER | E19: 12 | F19: =IFERROR(IF(LEN(INDEX(Lists!$C$6:$C$105,MATCH($E19,Lists!$B$6:$B$105,0)))=0,"",INDEX(Lists!$C$6:$C$105,MATCH($E19,Lists!$B$6:$B$105,0))),"") -> Emma Stone | G19: =IFERROR(IF(LEN(INDEX(Lists!$E$6:$E$105,MATCH($E19,Lists!$B$6:$B$105,0)))=0,"",INDEX(Lists!$E$6:$E$105,MATCH($E19,Lists!$B$6:$B$105,0))),"") -> 10B | AN19: =IFERROR(IF(LEN(F19)=0,"",COUNTIF($H19:$AL19,Calc!$C$17)),"") -> 0 | AO19: =IFERROR(IF(LEN(F19)=0,"",COUNTIF($H19:$AL19,Calc!$C$18)),"") -> 0 | AP19: =IFERROR(IF(LEN(F19)=0,"",COUNTIF($H19:$AL19,Calc!$C$19)),"") -> 0 | AQ19: =IFERROR(IF(LEN(F19)=0,"",COUNTIF($H19:$AL19,Calc!$C$20)),"") -> 0
C20: DECEMBER | E20: 13 | F20: =IFERROR(IF(LEN(INDEX(Lists!$C$6:$C$105,MATCH($E20,Lists!$B$6:$B$105,0)))=0,"",INDEX(Lists!$C$6:$C$105,MATCH($E20,Lists!$B$6:$B$105,0))),"") -> Scarlett Johansson | G20: =IFERROR(IF(LEN(INDEX(Lists!$E$6:$E$105,MATCH($E20,Lists!$B$6:$B$105,0)))=0,"",INDEX(Lists!$E$6:$E$105,MATCH($E20,Lists!$B$6:$B$105,0))),"") -> 10B | AN20: =IFERROR(IF(LEN(F20)=0,"",COUNTIF($H20:$AL20,Calc!$C$17)),"") -> 0 | AO20: =IFERROR(IF(LEN(F20)=0,"",COUNTIF($H20:$AL20,Calc!$C$18)),"") -> 0 | AP20: =IFERROR(IF(LEN(F20)=0,"",COUNTIF($H20:$AL20,Calc!$C$19)),"") -> 0 | AQ20: =IFERROR(IF(LEN(F20)=0,"",COUNTIF($H20:$AL20,Calc!$C$20)),"") -> 0
E21: 14 | F21: =IFERROR(IF(LEN(INDEX(Lists!$C$6:$C$105,MATCH($E21,Lists!$B$6:$B$105,0)))=0,"",INDEX(Lists!$C$6:$C$105,MATCH($E21,Lists!$B$6:$B$105,0))),"") -> Mila Kunis | G21: =IFERROR(IF(LEN(INDEX(Lists!$E$6:$E$105,MATCH($E21,Lists!$B$6:$B$105,0)))=0,"",INDEX(Lists!$E$6:$E$105,MATCH($E21,Lists!$B$6:$B$105,0))),"") -> 10B | AN21: =IFERROR(IF(LEN(F21)=0,"",COUNTIF($H21:$AL21,Calc!$C$17)),"") -> 0 | AO21: =IFERROR(IF(LEN(F21)=0,"",COUNTIF($H21:$AL21,Calc!$C$18)),"") -> 0 | AP21: =IFERROR(IF(LEN(F21)=0,"",COUNTIF($H21:$AL21,Calc!$C$19)),"") -> 0 | AQ21: =IFERROR(IF(LEN(F21)=0,"",COUNTIF($H21:$AL21,Calc!$C$20)),"") -> 0
E22: 15 | F22: =IFERROR(IF(LEN(INDEX(Lists!$C$6:$C$105,MATCH($E22,Lists!$B$6:$B$105,0)))=0,"",INDEX(Lists!$C$6:$C$105,MATCH($E22,Lists!$B$6:$B$105,0))),"") -> Charlize Theron | G22: =IFERROR(IF(LEN(INDEX(Lists!$E$6:$E$105,MATCH($E22,Lists!$B$6:$B$105,0)))=0,"",INDEX(Lists!$E$6:$E$105,MATCH($E22,Lists!$B$6:$B$105,0))),"") -> 10B | AN22: =IFERROR(IF(LEN(F22)=0,"",COUNTIF($H22:$AL22,Calc!$C$17)),"") -> 0 | AO22: =IFERROR(IF(LEN(F22)=0,"",COUNTIF($H22:$AL22,Calc!$C$18)),"") -> 0 | AP22: =IFERROR(IF(LEN(F22)=0,"",COUNTIF($H22:$AL22,Calc!$C$19)),"") -> 0 | AQ22: =IFERROR(IF(LEN(F22)=0,"",COUNTIF($H22:$AL22,Calc!$C$20)),"") -> 0
E23: 16 | F23: =IFERROR(IF(LEN(INDEX(Lists!$C$6:$C$105,MATCH($E23,Lists!$B$6:$B$105,0)))=0,"",INDEX(Lists!$C$6:$C$105,MATCH($E23,Lists!$B$6:$B$105,0))),"") | G23: =IFERROR(IF(LEN(INDEX(Lists!$E$6:$E$105,MATCH($E23,Lists!$B$6:$B$105,0)))=0,"",INDEX(Lists!$E$6:$E$105,MATCH($E23,Lists!$B$6:$B$105,0))),"") | AN23: =IFERROR(IF(LEN(F23)=0,"",COUNTIF($H23:$AL23,Calc!$C$17)),"") | AO23: =IFERROR(IF(LEN(F23)=0,"",COUNTIF($H23:$AL23,Calc!$C$18)),"") | AP23: =IFERROR(IF(LEN(F23)=0,"",COUNTIF($H23:$AL23,Calc!$C$19)),"") | AQ23: =IFERROR(IF(LEN(F23)=0,"",COUNTIF($H23:$AL23,Calc!$C$20)),"")
E24: 17 | F24: =IFERROR(IF(LEN(INDEX(Lists!$C$6:$C$105,MATCH($E24,Lists!$B$6:$B$105,0)))=0,"",INDEX(Lists!$C$6:$C$105,MATCH($E24,Lists!$B$6:$B$105,0))),"") | G24: =IFERROR(IF(LEN(INDEX(Lists!$E$6:$E$105,MATCH($E24,Lists!$B$6:$B$105,0)))=0,"",INDEX(Lists!$E$6:$E$105,MATCH($E24,Lists!$B$6:$B$105,0))),"") | AN24: =IFERROR(IF(LEN(F24)=0,"",COUNTIF($H24:$AL24,Calc!$C$17)),"") | AO24: =IFERROR(IF(LEN(F24)=0,"",COUNTIF($H24:$AL24,Calc!$C$18)),"") | AP24: =IFERROR(IF(LEN(F24)=0,"",COUNTIF($H24:$AL24,Calc!$C$19)),"") | AQ24: =IFERROR(IF(LEN(F24)=0,"",COUNTIF($H24:$AL24,Calc!$C$20)),"")
E25: 18 | F25: =IFERROR(IF(LEN(INDEX(Lists!$C$6:$C$105,MATCH($E25,Lists!$B$6:$B$105,0)))=0,"",INDEX(Lists!$C$6:$C$105,MATCH($E25,Lists!$B$6:$B$105,0))),"") | G25: =IFERROR(IF(LEN(INDEX(Lists!$E$6:$E$105,MATCH($E25,Lists!$B$6:$B$105,0)))=0,"",INDEX(Lists!$E$6:$E$105,MATCH($E25,Lists!$B$6:$B$105,0))),"") | AN25: =IFERROR(IF(LEN(F25)=0,"",COUNTIF($H25:$AL25,Calc!$C$17)),"") | AO25: =IFERROR(IF(LEN(F25)=0,"",COUNTIF($H25:$AL25,Calc!$C$18)),"") | AP25: =IFERROR(IF(LEN(F25)=0,"",COUNTIF($H25:$AL25,Calc!$C$19)),"") | AQ25: =IFERROR(IF(LEN(F25)=0,"",COUNTIF($H25:$AL25,Calc!$C$20)),"")
E26: 19 | F26: =IFERROR(IF(LEN(INDEX(Lists!$C$6:$C$105,MATCH($E26,Lists!$B$6:$B$105,0)))=0,"",INDEX(Lists!$C$6:$C$105,MATCH($E26,Lists!$B$6:$B$105,0))),"") | G26: =IFERROR(IF(LEN(INDEX(Lists!$E$6:$E$105,MATCH($E26,Lists!$B$6:$B$105,0)))=0,"",INDEX(Lists!$E$6:$E$105,MATCH($E26,Lists!$B$6:$B$105,0))),"") | AN26: =IFERROR(IF(LEN(F26)=0,"",COUNTIF($H26:$AL26,Calc!$C$17)),"") | AO26: =IFERROR(IF(LEN(F26)=0,"",COUNTIF($H26:$AL26,Calc!$C$18)),"") | AP26: =IFERROR(IF(LEN(F26)=0,"",COUNTIF($H26:$AL26,Calc!$C$19)),"") | AQ26: =IFERROR(IF(LEN(F26)=0,"",COUNTIF($H26:$AL26,Calc!$C$20)),"")
E27: 20 | F27: =IFERROR(IF(LEN(INDEX(Lists!$C$6:$C$105,MATCH($E27,Lists!$B$6:$B$105,0)))=0,"",INDEX(Lists!$C$6:$C$105,MATCH($E27,Lists!$B$6:$B$105,0))),"") | G27: =IFERROR(IF(LEN(INDEX(Lists!$E$6:$E$105,MATCH($E27,Lists!$B$6:$B$105,0)))=0,"",INDEX(Lists!$E$6:$E$105,MATCH($E27,Lists!$B$6:$B$105,0))),"") | AN27: =IFERROR(IF(LEN(F27)=0,"",COUNTIF($H27:$AL27,Calc!$C$17)),"") | AO27: =IFERROR(IF(LEN(F27)=0,"",COUNTIF($H27:$AL27,Calc!$C$18)),"") | AP27: =IFERROR(IF(LEN(F27)=0,"",COUNTIF($H27:$AL27,Calc!$C$19)),"") | AQ27: =IFERROR(IF(LEN(F27)=0,"",COUNTIF($H27:$AL27,Calc!$C$20)),"")

Sheet June
C2: TEACHER LESSON PLAN TEMPLATE
C3: ATTENDANCE - JUNE
AN6: TOTALS
C7: MONTHS | E7: # | F7: Students Name | G7: Class | H7: 1 | I7: 2 | J7: 3 | K7: 4 | L7: 5 | M7: 6 | N7: 7 | O7: 8 | P7: 9 | Q7: 10 | R7: 11 | S7: 12 | T7: 13 | U7: 14 | V7: 15 | W7: 16 | X7: 17 | Y7: 18 | Z7: 19 | AA7: 20 | AB7: 21 | AC7: 22 | AD7: 23 | AE7: 24 | AF7: 25 | AG7: 26 | AH7: 27 | AI7: 28 | AJ7: 29 | AK7: 30 | AN7: =Calc!B17 -> Present | AO7: =Calc!B18 -> Tardy | AP7: =Calc!B19 -> Excused | AQ7: =Calc!B20 -> Unexcused
E8: 1 | F8: =IFERROR(IF(LEN(INDEX(Lists!$C$6:$C$105,MATCH($E8,Lists!$B$6:$B$105,0)))=0,"",INDEX(Lists!$C$6:$C$105,MATCH($E8,Lists!$B$6:$B$105,0))),"") -> Patrick Swayze | G8: =IFERROR(IF(LEN(INDEX(Lists!$E$6:$E$105,MATCH($E8,Lists!$B$6:$B$105,0)))=0,"",INDEX(Lists!$E$6:$E$105,MATCH($E8,Lists!$B$6:$B$105,0))),"") -> 10A | AN8: =IFERROR(IF(LEN(F8)=0,"",COUNTIF($H8:$AK8,Calc!$C$17)),"") -> 0 | AO8: =IFERROR(IF(LEN(F8)=0,"",COUNTIF($H8:$AK8,Calc!$C$18)),"") -> 0 | AP8: =IFERROR(IF(LEN(F8)=0,"",COUNTIF($H8:$AK8,Calc!$C$19)),"") -> 0 | AQ8: =IFERROR(IF(LEN(F8)=0,"",COUNTIF($H8:$AK8,Calc!$C$20)),"") -> 0
C9: JANUARY | E9: 2 | F9: =IFERROR(IF(LEN(INDEX(Lists!$C$6:$C$105,MATCH($E9,Lists!$B$6:$B$105,0)))=0,"",INDEX(Lists!$C$6:$C$105,MATCH($E9,Lists!$B$6:$B$105,0))),"") -> Benicio Del Toro | G9: =IFERROR(IF(LEN(INDEX(Lists!$E$6:$E$105,MATCH($E9,Lists!$B$6:$B$105,0)))=0,"",INDEX(Lists!$E$6:$E$105,MATCH($E9,Lists!$B$6:$B$105,0))),"") -> 10A | AN9: =IFERROR(IF(LEN(F9)=0,"",COUNTIF($H9:$AK9,Calc!$C$17)),"") -> 0 | AO9: =IFERROR(IF(LEN(F9)=0,"",COUNTIF($H9:$AK9,Calc!$C$18)),"") -> 0 | AP9: =IFERROR(IF(LEN(F9)=0,"",COUNTIF($H9:$AK9,Calc!$C$19)),"") -> 0 | AQ9: =IFERROR(IF(LEN(F9)=0,"",COUNTIF($H9:$AK9,Calc!$C$20)),"") -> 0
C10: FEBRUARY | E10: 3 | F10: =IFERROR(IF(LEN(INDEX(Lists!$C$6:$C$105,MATCH($E10,Lists!$B$6:$B$105,0)))=0,"",INDEX(Lists!$C$6:$C$105,MATCH($E10,Lists!$B$6:$B$105,0))),"") -> Harvey Kietel | G10: =IFERROR(IF(LEN(INDEX(Lists!$E$6:$E$105,MATCH($E10,Lists!$B$6:$B$105,0)))=0,"",INDEX(Lists!$E$6:$E$105,MATCH($E10,Lists!$B$6:$B$105,0))),"") -> 10A | AN10: =IFERROR(IF(LEN(F10)=0,"",COUNTIF($H10:$AK10,Calc!$C$17)),"") -> 0 | AO10: =IFERROR(IF(LEN(F10)=0,"",COUNTIF($H10:$AK10,Calc!$C$18)),"") -> 0 | AP10: =IFERROR(IF(LEN(F10)=0,"",COUNTIF($H10:$AK10,Calc!$C$19)),"") -> 0 | AQ10: =IFERROR(IF(LEN(F10)=0,"",COUNTIF($H10:$AK10,Calc!$C$20)),"") -> 0
C11: MARCH | E11: 4 | F11: =IFERROR(IF(LEN(INDEX(Lists!$C$6:$C$105,MATCH($E11,Lists!$B$6:$B$105,0)))=0,"",INDEX(Lists!$C$6:$C$105,MATCH($E11,Lists!$B$6:$B$105,0))),"") -> Ed Harris | G11: =IFERROR(IF(LEN(INDEX(Lists!$E$6:$E$105,MATCH($E11,Lists!$B$6:$B$105,0)))=0,"",INDEX(Lists!$E$6:$E$105,MATCH($E11,Lists!$B$6:$B$105,0))),"") -> 10A | AN11: =IFERROR(IF(LEN(F11)=0,"",COUNTIF($H11:$AK11,Calc!$C$17)),"") -> 0 | AO11: =IFERROR(IF(LEN(F11)=0,"",COUNTIF($H11:$AK11,Calc!$C$18)),"") -> 0 | AP11: =IFERROR(IF(LEN(F11)=0,"",COUNTIF($H11:$AK11,Calc!$C$19)),"") -> 0 | AQ11: =IFERROR(IF(LEN(F11)=0,"",COUNTIF($H11:$AK11,Calc!$C$20)),"") -> 0
C12: APRIL | E12: 5 | F12: =IFERROR(IF(LEN(INDEX(Lists!$C$6:$C$105,MATCH($E12,Lists!$B$6:$B$105,0)))=0,"",INDEX(Lists!$C$6:$C$105,MATCH($E12,Lists!$B$6:$B$105,0))),"") -> Charles Laughton | G12: =IFERROR(IF(LEN(INDEX(Lists!$E$6:$E$105,MATCH($E12,Lists!$B$6:$B$105,0)))=0,"",INDEX(Lists!$E$6:$E$105,MATCH($E12,Lists!$B$6:$B$105,0))),"") -> 10A | AN12: =IFERROR(IF(LEN(F12)=0,"",COUNTIF($H12:$AK12,Calc!$C$17)),"") -> 0 | AO12: =IFERROR(IF(LEN(F12)=0,"",COUNTIF($H12:$AK12,Calc!$C$18)),"") -> 0 | AP12: =IFERROR(IF(LEN(F12)=0,"",COUNTIF($H12:$AK12,Calc!$C$19)),"") -> 0 | AQ12: =IFERROR(IF(LEN(F12)=0,"",COUNTIF($H12:$AK12,Calc!$C$20)),"") -> 0
C13: MAY | E13: 6 | F13: =IFERROR(IF(LEN(INDEX(Lists!$C$6:$C$105,MATCH($E13,Lists!$B$6:$B$105,0)))=0,"",INDEX(Lists!$C$6:$C$105,MATCH($E13,Lists!$B$6:$B$105,0))),"") -> James Caan | G13: =IFERROR(IF(LEN(INDEX(Lists!$E$6:$E$105,MATCH($E13,Lists!$B$6:$B$105,0)))=0,"",INDEX(Lists!$E$6:$E$105,MATCH($E13,Lists!$B$6:$B$105,0))),"") -> 10A | AN13: =IFERROR(IF(LEN(F13)=0,"",COUNTIF($H13:$AK13,Calc!$C$17)),"") -> 0 | AO13: =IFERROR(IF(LEN(F13)=0,"",COUNTIF($H13:$AK13,Calc!$C$18)),"") -> 0 | AP13: =IFERROR(IF(LEN(F13)=0,"",COUNTIF($H13:$AK13,Calc!$C$19)),"") -> 0 | AQ13: =IFERROR(IF(LEN(F13)=0,"",COUNTIF($H13:$AK13,Calc!$C$20)),"") -> 0
C14: JUNE | E14: 7 | F14: =IFERROR(IF(LEN(INDEX(Lists!$C$6:$C$105,MATCH($E14,Lists!$B$6:$B$105,0)))=0,"",INDEX(Lists!$C$6:$C$105,MATCH($E14,Lists!$B$6:$B$105,0))),"") -> Robert Downey Jr. | G14: =IFERROR(IF(LEN(INDEX(Lists!$E$6:$E$105,MATCH($E14,Lists!$B$6:$B$105,0)))=0,"",INDEX(Lists!$E$6:$E$105,MATCH($E14,Lists!$B$6:$B$105,0))),"") -> 10A | AN14: =IFERROR(IF(LEN(F14)=0,"",COUNTIF($H14:$AK14,Calc!$C$17)),"") -> 0 | AO14: =IFERROR(IF(LEN(F14)=0,"",COUNTIF($H14:$AK14,Calc!$C$18)),"") -> 0 | AP14: =IFERROR(IF(LEN(F14)=0,"",COUNTIF($H14:$AK14,Calc!$C$19)),"") -> 0 | AQ14: =IFERROR(IF(LEN(F14)=0,"",COUNTIF($H14:$AK14,Calc!$C$20)),"") -> 0
C15: JULY | E15: 8 | F15: =IFERROR(IF(LEN(INDEX(Lists!$C$6:$C$105,MATCH($E15,Lists!$B$6:$B$105,0)))=0,"",INDEX(Lists!$C$6:$C$105,MATCH($E15,Lists!$B$6:$B$105,0))),"") -> Alec Guiness | G15: =IFERROR(IF(LEN(INDEX(Lists!$E$6:$E$105,MATCH($E15,Lists!$B$6:$B$105,0)))=0,"",INDEX(Lists!$E$6:$E$105,MATCH($E15,Lists!$B$6:$B$105,0))),"") -> 10A | AN15: =IFERROR(IF(LEN(F15)=0,"",COUNTIF($H15:$AK15,Calc!$C$17)),"") -> 0 | AO15: =IFERROR(IF(LEN(F15)=0,"",COUNTIF($H15:$AK15,Calc!$C$18)),"") -> 0 | AP15: =IFERROR(IF(LEN(F15)=0,"",COUNTIF($H15:$AK15,Calc!$C$19)),"") -> 0 | AQ15: =IFERROR(IF(LEN(F15)=0,"",COUNTIF($H15:$AK15,Calc!$C$20)),"") -> 0
C16: AUGUST | E16: 9 | F16: =IFERROR(IF(LEN(INDEX(Lists!$C$6:$C$105,MATCH($E16,Lists!$B$6:$B$105,0)))=0,"",INDEX(Lists!$C$6:$C$105,MATCH($E16,Lists!$B$6:$B$105,0))),"") -> Viggo Mortensen | G16: =IFERROR(IF(LEN(INDEX(Lists!$E$6:$E$105,MATCH($E16,Lists!$B$6:$B$105,0)))=0,"",INDEX(Lists!$E$6:$E$105,MATCH($E16,Lists!$B$6:$B$105,0))),"") -> 10A | AN16: =IFERROR(IF(LEN(F16)=0,"",COUNTIF($H16:$AK16,Calc!$C$17)),"") -> 0 | AO16: =IFERROR(IF(LEN(F16)=0,"",COUNTIF($H16:$AK16,Calc!$C$18)),"") -> 0 | AP16: =IFERROR(IF(LEN(F16)=0,"",COUNTIF($H16:$AK16,Calc!$C$19)),"") -> 0 | AQ16: =IFERROR(IF(LEN(F16)=0,"",COUNTIF($H16:$AK16,Calc!$C$20)),"") -> 0
C17: SEPTEMBER | E17: 10 | F17: =IFERROR(IF(LEN(INDEX(Lists!$C$6:$C$105,MATCH($E17,Lists!$B$6:$B$105,0)))=0,"",INDEX(Lists!$C$6:$C$105,MATCH($E17,Lists!$B$6:$B$105,0))),"") -> Kylian Mbappe | G17: =IFERROR(IF(LEN(INDEX(Lists!$E$6:$E$105,MATCH($E17,Lists!$B$6:$B$105,0)))=0,"",INDEX(Lists!$E$6:$E$105,MATCH($E17,Lists!$B$6:$B$105,0))),"") -> 10A | AN17: =IFERROR(IF(LEN(F17)=0,"",COUNTIF($H17:$AK17,Calc!$C$17)),"") -> 0 | AO17: =IFERROR(IF(LEN(F17)=0,"",COUNTIF($H17:$AK17,Calc!$C$18)),"") -> 0 | AP17: =IFERROR(IF(LEN(F17)=0,"",COUNTIF($H17:$AK17,Calc!$C$19)),"") -> 0 | AQ17: =IFERROR(IF(LEN(F17)=0,"",COUNTIF($H17:$AK17,Calc!$C$20)),"") -> 0
C18: OCTOBER | E18: 11 | F18: =IFERROR(IF(LEN(INDEX(Lists!$C$6:$C$105,MATCH($E18,Lists!$B$6:$B$105,0)))=0,"",INDEX(Lists!$C$6:$C$105,MATCH($E18,Lists!$B$6:$B$105,0))),"") -> Jessica Alba | G18: =IFERROR(IF(LEN(INDEX(Lists!$E$6:$E$105,MATCH($E18,Lists!$B$6:$B$105,0)))=0,"",INDEX(Lists!$E$6:$E$105,MATCH($E18,Lists!$B$6:$B$105,0))),"") -> 10B | AN18: =IFERROR(IF(LEN(F18)=0,"",COUNTIF($H18:$AK18,Calc!$C$17)),"") -> 0 | AO18: =IFERROR(IF(LEN(F18)=0,"",COUNTIF($H18:$AK18,Calc!$C$18)),"") -> 0 | AP18: =IFERROR(IF(LEN(F18)=0,"",COUNTIF($H18:$AK18,Calc!$C$19)),"") -> 0 | AQ18: =IFERROR(IF(LEN(F18)=0,"",COUNTIF($H18:$AK18,Calc!$C$20)),"") -> 0
C19: NOVEMBER | E19: 12 | F19: =IFERROR(IF(LEN(INDEX(Lists!$C$6:$C$105,MATCH($E19,Lists!$B$6:$B$105,0)))=0,"",INDEX(Lists!$C$6:$C$105,MATCH($E19,Lists!$B$6:$B$105,0))),"") -> Emma Stone | G19: =IFERROR(IF(LEN(INDEX(Lists!$E$6:$E$105,MATCH($E19,Lists!$B$6:$B$105,0)))=0,"",INDEX(Lists!$E$6:$E$105,MATCH($E19,Lists!$B$6:$B$105,0))),"") -> 10B | AN19: =IFERROR(IF(LEN(F19)=0,"",COUNTIF($H19:$AK19,Calc!$C$17)),"") -> 0 | AO19: =IFERROR(IF(LEN(F19)=0,"",COUNTIF($H19:$AK19,Calc!$C$18)),"") -> 0 | AP19: =IFERROR(IF(LEN(F19)=0,"",COUNTIF($H19:$AK19,Calc!$C$19)),"") -> 0 | AQ19: =IFERROR(IF(LEN(F19)=0,"",COUNTIF($H19:$AK19,Calc!$C$20)),"") -> 0
C20: DECEMBER | E20: 13 | F20: =IFERROR(IF(LEN(INDEX(Lists!$C$6:$C$105,MATCH($E20,Lists!$B$6:$B$105,0)))=0,"",INDEX(Lists!$C$6:$C$105,MATCH($E20,Lists!$B$6:$B$105,0))),"") -> Scarlett Johansson | G20: =IFERROR(IF(LEN(INDEX(Lists!$E$6:$E$105,MATCH($E20,Lists!$B$6:$B$105,0)))=0,"",INDEX(Lists!$E$6:$E$105,MATCH($E20,Lists!$B$6:$B$105,0))),"") -> 10B | AN20: =IFERROR(IF(LEN(F20)=0,"",COUNTIF($H20:$AK20,Calc!$C$17)),"") -> 0 | AO20: =IFERROR(IF(LEN(F20)=0,"",COUNTIF($H20:$AK20,Calc!$C$18)),"") -> 0 | AP20: =IFERROR(IF(LEN(F20)=0,"",COUNTIF($H20:$AK20,Calc!$C$19)),"") -> 0 | AQ20: =IFERROR(IF(LEN(F20)=0,"",COUNTIF($H20:$AK20,Calc!$C$20)),"") -> 0
E21: 14 | F21: =IFERROR(IF(LEN(INDEX(Lists!$C$6:$C$105,MATCH($E21,Lists!$B$6:$B$105,0)))=0,"",INDEX(Lists!$C$6:$C$105,MATCH($E21,Lists!$B$6:$B$105,0))),"") -> Mila Kunis | G21: =IFERROR(IF(LEN(INDEX(Lists!$E$6:$E$105,MATCH($E21,Lists!$B$6:$B$105,0)))=0,"",INDEX(Lists!$E$6:$E$105,MATCH($E21,Lists!$B$6:$B$105,0))),"") -> 10B | AN21: =IFERROR(IF(LEN(F21)=0,"",COUNTIF($H21:$AK21,Calc!$C$17)),"") -> 0 | AO21: =IFERROR(IF(LEN(F21)=0,"",COUNTIF($H21:$AK21,Calc!$C$18)),"") -> 0 | AP21: =IFERROR(IF(LEN(F21)=0,"",COUNTIF($H21:$AK21,Calc!$C$19)),"") -> 0 | AQ21: =IFERROR(IF(LEN(F21)=0,"",COUNTIF($H21:$AK21,Calc!$C$20)),"") -> 0
E22: 15 | F22: =IFERROR(IF(LEN(INDEX(Lists!$C$6:$C$105,MATCH($E22,Lists!$B$6:$B$105,0)))=0,"",INDEX(Lists!$C$6:$C$105,MATCH($E22,Lists!$B$6:$B$105,0))),"") -> Charlize Theron | G22: =IFERROR(IF(LEN(INDEX(Lists!$E$6:$E$105,MATCH($E22,Lists!$B$6:$B$105,0)))=0,"",INDEX(Lists!$E$6:$E$105,MATCH($E22,Lists!$B$6:$B$105,0))),"") -> 10B | AN22: =IFERROR(IF(LEN(F22)=0,"",COUNTIF($H22:$AK22,Calc!$C$17)),"") -> 0 | AO22: =IFERROR(IF(LEN(F22)=0,"",COUNTIF($H22:$AK22,Calc!$C$18)),"") -> 0 | AP22: =IFERROR(IF(LEN(F22)=0,"",COUNTIF($H22:$AK22,Calc!$C$19)),"") -> 0 | AQ22: =IFERROR(IF(LEN(F22)=0,"",COUNTIF($H22:$AK22,Calc!$C$20)),"") -> 0
E23: 16 | F23: =IFERROR(IF(LEN(INDEX(Lists!$C$6:$C$105,MATCH($E23,Lists!$B$6:$B$105,0)))=0,"",INDEX(Lists!$C$6:$C$105,MATCH($E23,Lists!$B$6:$B$105,0))),"") | G23: =IFERROR(IF(LEN(INDEX(Lists!$E$6:$E$105,MATCH($E23,Lists!$B$6:$B$105,0)))=0,"",INDEX(Lists!$E$6:$E$105,MATCH($E23,Lists!$B$6:$B$105,0))),"") | AN23: =IFERROR(IF(LEN(F23)=0,"",COUNTIF($H23:$AK23,Calc!$C$17)),"") | AO23: =IFERROR(IF(LEN(F23)=0,"",COUNTIF($H23:$AK23,Calc!$C$18)),"") | AP23: =IFERROR(IF(LEN(F23)=0,"",COUNTIF($H23:$AK23,Calc!$C$19)),"") | AQ23: =IFERROR(IF(LEN(F23)=0,"",COUNTIF($H23:$AK23,Calc!$C$20)),"")
E24: 17 | F24: =IFERROR(IF(LEN(INDEX(Lists!$C$6:$C$105,MATCH($E24,Lists!$B$6:$B$105,0)))=0,"",INDEX(Lists!$C$6:$C$105,MATCH($E24,Lists!$B$6:$B$105,0))),"") | G24: =IFERROR(IF(LEN(INDEX(Lists!$E$6:$E$105,MATCH($E24,Lists!$B$6:$B$105,0)))=0,"",INDEX(Lists!$E$6:$E$105,MATCH($E24,Lists!$B$6:$B$105,0))),"") | AN24: =IFERROR(IF(LEN(F24)=0,"",COUNTIF($H24:$AK24,Calc!$C$17)),"") | AO24: =IFERROR(IF(LEN(F24)=0,"",COUNTIF($H24:$AK24,Calc!$C$18)),"") | AP24: =IFERROR(IF(LEN(F24)=0,"",COUNTIF($H24:$AK24,Calc!$C$19)),"") | AQ24: =IFERROR(IF(LEN(F24)=0,"",COUNTIF($H24:$AK24,Calc!$C$20)),"")
E25: 18 | F25: =IFERROR(IF(LEN(INDEX(Lists!$C$6:$C$105,MATCH($E25,Lists!$B$6:$B$105,0)))=0,"",INDEX(Lists!$C$6:$C$105,MATCH($E25,Lists!$B$6:$B$105,0))),"") | G25: =IFERROR(IF(LEN(INDEX(Lists!$E$6:$E$105,MATCH($E25,Lists!$B$6:$B$105,0)))=0,"",INDEX(Lists!$E$6:$E$105,MATCH($E25,Lists!$B$6:$B$105,0))),"") | AN25: =IFERROR(IF(LEN(F25)=0,"",COUNTIF($H25:$AK25,Calc!$C$17)),"") | AO25: =IFERROR(IF(LEN(F25)=0,"",COUNTIF($H25:$AK25,Calc!$C$18)),"") | AP25: =IFERROR(IF(LEN(F25)=0,"",COUNTIF($H25:$AK25,Calc!$C$19)),"") | AQ25: =IFERROR(IF(LEN(F25)=0,"",COUNTIF($H25:$AK25,Calc!$C$20)),"")
E26: 19 | F26: =IFERROR(IF(LEN(INDEX(Lists!$C$6:$C$105,MATCH($E26,Lists!$B$6:$B$105,0)))=0,"",INDEX(Lists!$C$6:$C$105,MATCH($E26,Lists!$B$6:$B$105,0))),"") | G26: =IFERROR(IF(LEN(INDEX(Lists!$E$6:$E$105,MATCH($E26,Lists!$B$6:$B$105,0)))=0,"",INDEX(Lists!$E$6:$E$105,MATCH($E26,Lists!$B$6:$B$105,0))),"") | AN26: =IFERROR(IF(LEN(F26)=0,"",COUNTIF($H26:$AK26,Calc!$C$17)),"") | AO26: =IFERROR(IF(LEN(F26)=0,"",COUNTIF($H26:$AK26,Calc!$C$18)),"") | AP26: =IFERROR(IF(LEN(F26)=0,"",COUNTIF($H26:$AK26,Calc!$C$19)),"") | AQ26: =IFERROR(IF(LEN(F26)=0,"",COUNTIF($H26:$AK26,Calc!$C$20)),"")
E27: 20 | F27: =IFERROR(IF(LEN(INDEX(Lists!$C$6:$C$105,MATCH($E27,Lists!$B$6:$B$105,0)))=0,"",INDEX(Lists!$C$6:$C$105,MATCH($E27,Lists!$B$6:$B$105,0))),"") | G27: =IFERROR(IF(LEN(INDEX(Lists!$E$6:$E$105,MATCH($E27,Lists!$B$6:$B$105,0)))=0,"",INDEX(Lists!$E$6:$E$105,MATCH($E27,Lists!$B$6:$B$105,0))),"") | AN27: =IFERROR(IF(LEN(F27)=0,"",COUNTIF($H27:$AK27,Calc!$C$17)),"") | AO27: =IFERROR(IF(LEN(F27)=0,"",COUNTIF($H27:$AK27,Calc!$C$18)),"") | AP27: =IFERROR(IF(LEN(F27)=0,"",COUNTIF($H27:$AK27,Calc!$C$19)),"") | AQ27: =IFERROR(IF(LEN(F27)=0,"",COUNTIF($H27:$AK27,Calc!$C$20)),"")

Sheet July
C2: TEACHER LESSON PLAN TEMPLATE
C3: ATTENDANCE - JULY
AN6: TOTALS
C7: MONTHS | E7: # | F7: Students Name | G7: Class | H7: 1 | I7: 2 | J7: 3 | K7: 4 | L7: 5 | M7: 6 | N7: 7 | O7: 8 | P7: 9 | Q7: 10 | R7: 11 | S7: 12 | T7: 13 | U7: 14 | V7: 15 | W7: 16 | X7: 17 | Y7: 18 | Z7: 19 | AA7: 20 | AB7: 21 | AC7: 22 | AD7: 23 | AE7: 24 | AF7: 25 | AG7: 26 | AH7: 27 | AI7: 28 | AJ7: 29 | AK7: 30 | AL7: 31 | AN7: =Calc!B17 -> Present | AO7: =Calc!B18 -> Tardy | AP7: =Calc!B19 -> Excused | AQ7: =Calc!B20 -> Unexcused
E8: 1 | F8: =IFERROR(IF(LEN(INDEX(Lists!$C$6:$C$105,MATCH($E8,Lists!$B$6:$B$105,0)))=0,"",INDEX(Lists!$C$6:$C$105,MATCH($E8,Lists!$B$6:$B$105,0))),"") -> Patrick Swayze | G8: =IFERROR(IF(LEN(INDEX(Lists!$E$6:$E$105,MATCH($E8,Lists!$B$6:$B$105,0)))=0,"",INDEX(Lists!$E$6:$E$105,MATCH($E8,Lists!$B$6:$B$105,0))),"") -> 10A | AN8: =IFERROR(IF(LEN(F8)=0,"",COUNTIF($H8:$AL8,Calc!$C$17)),"") -> 0 | AO8: =IFERROR(IF(LEN(F8)=0,"",COUNTIF($H8:$AL8,Calc!$C$18)),"") -> 0 | AP8: =IFERROR(IF(LEN(F8)=0,"",COUNTIF($H8:$AL8,Calc!$C$19)),"") -> 0 | AQ8: =IFERROR(IF(LEN(F8)=0,"",COUNTIF($H8:$AL8,Calc!$C$20)),"") -> 0
C9: JANUARY | E9: 2 | F9: =IFERROR(IF(LEN(INDEX(Lists!$C$6:$C$105,MATCH($E9,Lists!$B$6:$B$105,0)))=0,"",INDEX(Lists!$C$6:$C$105,MATCH($E9,Lists!$B$6:$B$105,0))),"") -> Benicio Del Toro | G9: =IFERROR(IF(LEN(INDEX(Lists!$E$6:$E$105,MATCH($E9,Lists!$B$6:$B$105,0)))=0,"",INDEX(Lists!$E$6:$E$105,MATCH($E9,Lists!$B$6:$B$105,0))),"") -> 10A | AN9: =IFERROR(IF(LEN(F9)=0,"",COUNTIF($H9:$AL9,Calc!$C$17)),"") -> 0 | AO9: =IFERROR(IF(LEN(F9)=0,"",COUNTIF($H9:$AL9,Calc!$C$18)),"") -> 0 | AP9: =IFERROR(IF(LEN(F9)=0,"",COUNTIF($H9:$AL9,Calc!$C$19)),"") -> 0 | AQ9: =IFERROR(IF(LEN(F9)=0,"",COUNTIF($H9:$AL9,Calc!$C$20)),"") -> 0
C10: FEBRUARY | E10: 3 | F10: =IFERROR(IF(LEN(INDEX(Lists!$C$6:$C$105,MATCH($E10,Lists!$B$6:$B$105,0)))=0,"",INDEX(Lists!$C$6:$C$105,MATCH($E10,Lists!$B$6:$B$105,0))),"") -> Harvey Kietel | G10: =IFERROR(IF(LEN(INDEX(Lists!$E$6:$E$105,MATCH($E10,Lists!$B$6:$B$105,0)))=0,"",INDEX(Lists!$E$6:$E$105,MATCH($E10,Lists!$B$6:$B$105,0))),"") -> 10A | AN10: =IFERROR(IF(LEN(F10)=0,"",COUNTIF($H10:$AL10,Calc!$C$17)),"") -> 0 | AO10: =IFERROR(IF(LEN(F10)=0,"",COUNTIF($H10:$AL10,Calc!$C$18)),"") -> 0 | AP10: =IFERROR(IF(LEN(F10)=0,"",COUNTIF($H10:$AL10,Calc!$C$19)),"") -> 0 | AQ10: =IFERROR(IF(LEN(F10)=0,"",COUNTIF($H10:$AL10,Calc!$C$20)),"") -> 0
C11: MARCH | E11: 4 | F11: =IFERROR(IF(LEN(INDEX(Lists!$C$6:$C$105,MATCH($E11,Lists!$B$6:$B$105,0)))=0,"",INDEX(Lists!$C$6:$C$105,MATCH($E11,Lists!$B$6:$B$105,0))),"") -> Ed Harris | G11: =IFERROR(IF(LEN(INDEX(Lists!$E$6:$E$105,MATCH($E11,Lists!$B$6:$B$105,0)))=0,"",INDEX(Lists!$E$6:$E$105,MATCH($E11,Lists!$B$6:$B$105,0))),"") -> 10A | AN11: =IFERROR(IF(LEN(F11)=0,"",COUNTIF($H11:$AL11,Calc!$C$17)),"") -> 0 | AO11: =IFERROR(IF(LEN(F11)=0,"",COUNTIF($H11:$AL11,Calc!$C$18)),"") -> 0 | AP11: =IFERROR(IF(LEN(F11)=0,"",COUNTIF($H11:$AL11,Calc!$C$19)),"") -> 0 | AQ11: =IFERROR(IF(LEN(F11)=0,"",COUNTIF($H11:$AL11,Calc!$C$20)),"") -> 0
C12: APRIL | E12: 5 | F12: =IFERROR(IF(LEN(INDEX(Lists!$C$6:$C$105,MATCH($E12,Lists!$B$6:$B$105,0)))=0,"",INDEX(Lists!$C$6:$C$105,MATCH($E12,Lists!$B$6:$B$105,0))),"") -> Charles Laughton | G12: =IFERROR(IF(LEN(INDEX(Lists!$E$6:$E$105,MATCH($E12,Lists!$B$6:$B$105,0)))=0,"",INDEX(Lists!$E$6:$E$105,MATCH($E12,Lists!$B$6:$B$105,0))),"") -> 10A | AN12: =IFERROR(IF(LEN(F12)=0,"",COUNTIF($H12:$AL12,Calc!$C$17)),"") -> 0 | AO12: =IFERROR(IF(LEN(F12)=0,"",COUNTIF($H12:$AL12,Calc!$C$18)),"") -> 0 | AP12: =IFERROR(IF(LEN(F12)=0,"",COUNTIF($H12:$AL12,Calc!$C$19)),"") -> 0 | AQ12: =IFERROR(IF(LEN(F12)=0,"",COUNTIF($H12:$AL12,Calc!$C$20)),"") -> 0
C13: MAY | E13: 6 | F13: =IFERROR(IF(LEN(INDEX(Lists!$C$6:$C$105,MATCH($E13,Lists!$B$6:$B$105,0)))=0,"",INDEX(Lists!$C$6:$C$105,MATCH($E13,Lists!$B$6:$B$105,0))),"") -> James Caan | G13: =IFERROR(IF(LEN(INDEX(Lists!$E$6:$E$105,MATCH($E13,Lists!$B$6:$B$105,0)))=0,"",INDEX(Lists!$E$6:$E$105,MATCH($E13,Lists!$B$6:$B$105,0))),"") -> 10A | AN13: =IFERROR(IF(LEN(F13)=0,"",COUNTIF($H13:$AL13,Calc!$C$17)),"") -> 0 | AO13: =IFERROR(IF(LEN(F13)=0,"",COUNTIF($H13:$AL13,Calc!$C$18)),"") -> 0 | AP13: =IFERROR(IF(LEN(F13)=0,"",COUNTIF($H13:$AL13,Calc!$C$19)),"") -> 0 | AQ13: =IFERROR(IF(LEN(F13)=0,"",COUNTIF($H13:$AL13,Calc!$C$20)),"") -> 0
C14: JUNE | E14: 7 | F14: =IFERROR(IF(LEN(INDEX(Lists!$C$6:$C$105,MATCH($E14,Lists!$B$6:$B$105,0)))=0,"",INDEX(Lists!$C$6:$C$105,MATCH($E14,Lists!$B$6:$B$105,0))),"") -> Robert Downey Jr. | G14: =IFERROR(IF(LEN(INDEX(Lists!$E$6:$E$105,MATCH($E14,Lists!$B$6:$B$105,0)))=0,"",INDEX(Lists!$E$6:$E$105,MATCH($E14,Lists!$B$6:$B$105,0))),"") -> 10A | AN14: =IFERROR(IF(LEN(F14)=0,"",COUNTIF($H14:$AL14,Calc!$C$17)),"") -> 0 | AO14: =IFERROR(IF(LEN(F14)=0,"",COUNTIF($H14:$AL14,Calc!$C$18)),"") -> 0 | AP14: =IFERROR(IF(LEN(F14)=0,"",COUNTIF($H14:$AL14,Calc!$C$19)),"") -> 0 | AQ14: =IFERROR(IF(LEN(F14)=0,"",COUNTIF($H14:$AL14,Calc!$C$20)),"") -> 0
C15: JULY | E15: 8 | F15: =IFERROR(IF(LEN(INDEX(Lists!$C$6:$C$105,MATCH($E15,Lists!$B$6:$B$105,0)))=0,"",INDEX(Lists!$C$6:$C$105,MATCH($E15,Lists!$B$6:$B$105,0))),"") -> Alec Guiness | G15: =IFERROR(IF(LEN(INDEX(Lists!$E$6:$E$105,MATCH($E15,Lists!$B$6:$B$105,0)))=0,"",INDEX(Lists!$E$6:$E$105,MATCH($E15,Lists!$B$6:$B$105,0))),"") -> 10A | AN15: =IFERROR(IF(LEN(F15)=0,"",COUNTIF($H15:$AL15,Calc!$C$17)),"") -> 0 | AO15: =IFERROR(IF(LEN(F15)=0,"",COUNTIF($H15:$AL15,Calc!$C$18)),"") -> 0 | AP15: =IFERROR(IF(LEN(F15)=0,"",COUNTIF($H15:$AL15,Calc!$C$19)),"") -> 0 | AQ15: =IFERROR(IF(LEN(F15)=0,"",COUNTIF($H15:$AL15,Calc!$C$20)),"") -> 0
C16: AUGUST | E16: 9 | F16: =IFERROR(IF(LEN(INDEX(Lists!$C$6:$C$105,MATCH($E16,Lists!$B$6:$B$105,0)))=0,"",INDEX(Lists!$C$6:$C$105,MATCH($E16,Lists!$B$6:$B$105,0))),"") -> Viggo Mortensen | G16: =IFERROR(IF(LEN(INDEX(Lists!$E$6:$E$105,MATCH($E16,Lists!$B$6:$B$105,0)))=0,"",INDEX(Lists!$E$6:$E$105,MATCH($E16,Lists!$B$6:$B$105,0))),"") -> 10A | AN16: =IFERROR(IF(LEN(F16)=0,"",COUNTIF($H16:$AL16,Calc!$C$17)),"") -> 0 | AO16: =IFERROR(IF(LEN(F16)=0,"",COUNTIF($H16:$AL16,Calc!$C$18)),"") -> 0 | AP16: =IFERROR(IF(LEN(F16)=0,"",COUNTIF($H16:$AL16,Calc!$C$19)),"") -> 0 | AQ16: =IFERROR(IF(LEN(F16)=0,"",COUNTIF($H16:$AL16,Calc!$C$20)),"") -> 0
C17: SEPTEMBER | E17: 10 | F17: =IFERROR(IF(LEN(INDEX(Lists!$C$6:$C$105,MATCH($E17,Lists!$B$6:$B$105,0)))=0,"",INDEX(Lists!$C$6:$C$105,MATCH($E17,Lists!$B$6:$B$105,0))),"") -> Kylian Mbappe | G17: =IFERROR(IF(LEN(INDEX(Lists!$E$6:$E$105,MATCH($E17,Lists!$B$6:$B$105,0)))=0,"",INDEX(Lists!$E$6:$E$105,MATCH($E17,Lists!$B$6:$B$105,0))),"") -> 10A | AN17: =IFERROR(IF(LEN(F17)=0,"",COUNTIF($H17:$AL17,Calc!$C$17)),"") -> 0 | AO17: =IFERROR(IF(LEN(F17)=0,"",COUNTIF($H17:$AL17,Calc!$C$18)),"") -> 0 | AP17: =IFERROR(IF(LEN(F17)=0,"",COUNTIF($H17:$AL17,Calc!$C$19)),"") -> 0 | AQ17: =IFERROR(IF(LEN(F17)=0,"",COUNTIF($H17:$AL17,Calc!$C$20)),"") -> 0
C18: OCTOBER | E18: 11 | F18: =IFERROR(IF(LEN(INDEX(Lists!$C$6:$C$105,MATCH($E18,Lists!$B$6:$B$105,0)))=0,"",INDEX(Lists!$C$6:$C$105,MATCH($E18,Lists!$B$6:$B$105,0))),"") -> Jessica Alba | G18: =IFERROR(IF(LEN(INDEX(Lists!$E$6:$E$105,MATCH($E18,Lists!$B$6:$B$105,0)))=0,"",INDEX(Lists!$E$6:$E$105,MATCH($E18,Lists!$B$6:$B$105,0))),"") -> 10B | AN18: =IFERROR(IF(LEN(F18)=0,"",COUNTIF($H18:$AL18,Calc!$C$17)),"") -> 0 | AO18: =IFERROR(IF(LEN(F18)=0,"",COUNTIF($H18:$AL18,Calc!$C$18)),"") -> 0 | AP18: =IFERROR(IF(LEN(F18)=0,"",COUNTIF($H18:$AL18,Calc!$C$19)),"") -> 0 | AQ18: =IFERROR(IF(LEN(F18)=0,"",COUNTIF($H18:$AL18,Calc!$C$20)),"") -> 0
C19: NOVEMBER | E19: 12 | F19: =IFERROR(IF(LEN(INDEX(Lists!$C$6:$C$105,MATCH($E19,Lists!$B$6:$B$105,0)))=0,"",INDEX(Lists!$C$6:$C$105,MATCH($E19,Lists!$B$6:$B$105,0))),"") -> Emma Stone | G19: =IFERROR(IF(LEN(INDEX(Lists!$E$6:$E$105,MATCH($E19,Lists!$B$6:$B$105,0)))=0,"",INDEX(Lists!$E$6:$E$105,MATCH($E19,Lists!$B$6:$B$105,0))),"") -> 10B | AN19: =IFERROR(IF(LEN(F19)=0,"",COUNTIF($H19:$AL19,Calc!$C$17)),"") -> 0 | AO19: =IFERROR(IF(LEN(F19)=0,"",COUNTIF($H19:$AL19,Calc!$C$18)),"") -> 0 | AP19: =IFERROR(IF(LEN(F19)=0,"",COUNTIF($H19:$AL19,Calc!$C$19)),"") -> 0 | AQ19: =IFERROR(IF(LEN(F19)=0,"",COUNTIF($H19:$AL19,Calc!$C$20)),"") -> 0
C20: DECEMBER | E20: 13 | F20: =IFERROR(IF(LEN(INDEX(Lists!$C$6:$C$105,MATCH($E20,Lists!$B$6:$B$105,0)))=0,"",INDEX(Lists!$C$6:$C$105,MATCH($E20,Lists!$B$6:$B$105,0))),"") -> Scarlett Johansson | G20: =IFERROR(IF(LEN(INDEX(Lists!$E$6:$E$105,MATCH($E20,Lists!$B$6:$B$105,0)))=0,"",INDEX(Lists!$E$6:$E$105,MATCH($E20,Lists!$B$6:$B$105,0))),"") -> 10B | AN20: =IFERROR(IF(LEN(F20)=0,"",COUNTIF($H20:$AL20,Calc!$C$17)),"") -> 0 | AO20: =IFERROR(IF(LEN(F20)=0,"",COUNTIF($H20:$AL20,Calc!$C$18)),"") -> 0 | AP20: =IFERROR(IF(LEN(F20)=0,"",COUNTIF($H20:$AL20,Calc!$C$19)),"") -> 0 | AQ20: =IFERROR(IF(LEN(F20)=0,"",COUNTIF($H20:$AL20,Calc!$C$20)),"") -> 0
E21: 14 | F21: =IFERROR(IF(LEN(INDEX(Lists!$C$6:$C$105,MATCH($E21,Lists!$B$6:$B$105,0)))=0,"",INDEX(Lists!$C$6:$C$105,MATCH($E21,Lists!$B$6:$B$105,0))),"") -> Mila Kunis | G21: =IFERROR(IF(LEN(INDEX(Lists!$E$6:$E$105,MATCH($E21,Lists!$B$6:$B$105,0)))=0,"",INDEX(Lists!$E$6:$E$105,MATCH($E21,Lists!$B$6:$B$105,0))),"") -> 10B | AN21: =IFERROR(IF(LEN(F21)=0,"",COUNTIF($H21:$AL21,Calc!$C$17)),"") -> 0 | AO21: =IFERROR(IF(LEN(F21)=0,"",COUNTIF($H21:$AL21,Calc!$C$18)),"") -> 0 | AP21: =IFERROR(IF(LEN(F21)=0,"",COUNTIF($H21:$AL21,Calc!$C$19)),"") -> 0 | AQ21: =IFERROR(IF(LEN(F21)=0,"",COUNTIF($H21:$AL21,Calc!$C$20)),"") -> 0
E22: 15 | F22: =IFERROR(IF(LEN(INDEX(Lists!$C$6:$C$105,MATCH($E22,Lists!$B$6:$B$105,0)))=0,"",INDEX(Lists!$C$6:$C$105,MATCH($E22,Lists!$B$6:$B$105,0))),"") -> Charlize Theron | G22: =IFERROR(IF(LEN(INDEX(Lists!$E$6:$E$105,MATCH($E22,Lists!$B$6:$B$105,0)))=0,"",INDEX(Lists!$E$6:$E$105,MATCH($E22,Lists!$B$6:$B$105,0))),"") -> 10B | AN22: =IFERROR(IF(LEN(F22)=0,"",COUNTIF($H22:$AL22,Calc!$C$17)),"") -> 0 | AO22: =IFERROR(IF(LEN(F22)=0,"",COUNTIF($H22:$AL22,Calc!$C$18)),"") -> 0 | AP22: =IFERROR(IF(LEN(F22)=0,"",COUNTIF($H22:$AL22,Calc!$C$19)),"") -> 0 | AQ22: =IFERROR(IF(LEN(F22)=0,"",COUNTIF($H22:$AL22,Calc!$C$20)),"") -> 0
E23: 16 | F23: =IFERROR(IF(LEN(INDEX(Lists!$C$6:$C$105,MATCH($E23,Lists!$B$6:$B$105,0)))=0,"",INDEX(Lists!$C$6:$C$105,MATCH($E23,Lists!$B$6:$B$105,0))),"") | G23: =IFERROR(IF(LEN(INDEX(Lists!$E$6:$E$105,MATCH($E23,Lists!$B$6:$B$105,0)))=0,"",INDEX(Lists!$E$6:$E$105,MATCH($E23,Lists!$B$6:$B$105,0))),"") | AN23: =IFERROR(IF(LEN(F23)=0,"",COUNTIF($H23:$AL23,Calc!$C$17)),"") | AO23: =IFERROR(IF(LEN(F23)=0,"",COUNTIF($H23:$AL23,Calc!$C$18)),"") | AP23: =IFERROR(IF(LEN(F23)=0,"",COUNTIF($H23:$AL23,Calc!$C$19)),"") | AQ23: =IFERROR(IF(LEN(F23)=0,"",COUNTIF($H23:$AL23,Calc!$C$20)),"")
E24: 17 | F24: =IFERROR(IF(LEN(INDEX(Lists!$C$6:$C$105,MATCH($E24,Lists!$B$6:$B$105,0)))=0,"",INDEX(Lists!$C$6:$C$105,MATCH($E24,Lists!$B$6:$B$105,0))),"") | G24: =IFERROR(IF(LEN(INDEX(Lists!$E$6:$E$105,MATCH($E24,Lists!$B$6:$B$105,0)))=0,"",INDEX(Lists!$E$6:$E$105,MATCH($E24,Lists!$B$6:$B$105,0))),"") | AN24: =IFERROR(IF(LEN(F24)=0,"",COUNTIF($H24:$AL24,Calc!$C$17)),"") | AO24: =IFERROR(IF(LEN(F24)=0,"",COUNTIF($H24:$AL24,Calc!$C$18)),"") | AP24: =IFERROR(IF(LEN(F24)=0,"",COUNTIF($H24:$AL24,Calc!$C$19)),"") | AQ24: =IFERROR(IF(LEN(F24)=0,"",COUNTIF($H24:$AL24,Calc!$C$20)),"")
E25: 18 | F25: =IFERROR(IF(LEN(INDEX(Lists!$C$6:$C$105,MATCH($E25,Lists!$B$6:$B$105,0)))=0,"",INDEX(Lists!$C$6:$C$105,MATCH($E25,Lists!$B$6:$B$105,0))),"") | G25: =IFERROR(IF(LEN(INDEX(Lists!$E$6:$E$105,MATCH($E25,Lists!$B$6:$B$105,0)))=0,"",INDEX(Lists!$E$6:$E$105,MATCH($E25,Lists!$B$6:$B$105,0))),"") | AN25: =IFERROR(IF(LEN(F25)=0,"",COUNTIF($H25:$AL25,Calc!$C$17)),"") | AO25: =IFERROR(IF(LEN(F25)=0,"",COUNTIF($H25:$AL25,Calc!$C$18)),"") | AP25: =IFERROR(IF(LEN(F25)=0,"",COUNTIF($H25:$AL25,Calc!$C$19)),"") | AQ25: =IFERROR(IF(LEN(F25)=0,"",COUNTIF($H25:$AL25,Calc!$C$20)),"")
E26: 19 | F26: =IFERROR(IF(LEN(INDEX(Lists!$C$6:$C$105,MATCH($E26,Lists!$B$6:$B$105,0)))=0,"",INDEX(Lists!$C$6:$C$105,MATCH($E26,Lists!$B$6:$B$105,0))),"") | G26: =IFERROR(IF(LEN(INDEX(Lists!$E$6:$E$105,MATCH($E26,Lists!$B$6:$B$105,0)))=0,"",INDEX(Lists!$E$6:$E$105,MATCH($E26,Lists!$B$6:$B$105,0))),"") | AN26: =IFERROR(IF(LEN(F26)=0,"",COUNTIF($H26:$AL26,Calc!$C$17)),"") | AO26: =IFERROR(IF(LEN(F26)=0,"",COUNTIF($H26:$AL26,Calc!$C$18)),"") | AP26: =IFERROR(IF(LEN(F26)=0,"",COUNTIF($H26:$AL26,Calc!$C$19)),"") | AQ26: =IFERROR(IF(LEN(F26)=0,"",COUNTIF($H26:$AL26,Calc!$C$20)),"")
E27: 20 | F27: =IFERROR(IF(LEN(INDEX(Lists!$C$6:$C$105,MATCH($E27,Lists!$B$6:$B$105,0)))=0,"",INDEX(Lists!$C$6:$C$105,MATCH($E27,Lists!$B$6:$B$105,0))),"") | G27: =IFERROR(IF(LEN(INDEX(Lists!$E$6:$E$105,MATCH($E27,Lists!$B$6:$B$105,0)))=0,"",INDEX(Lists!$E$6:$E$105,MATCH($E27,Lists!$B$6:$B$105,0))),"") | AN27: =IFERROR(IF(LEN(F27)=0,"",COUNTIF($H27:$AL27,Calc!$C$17)),"") | AO27: =IFERROR(IF(LEN(F27)=0,"",COUNTIF($H27:$AL27,Calc!$C$18)),"") | AP27: =IFERROR(IF(LEN(F27)=0,"",COUNTIF($H27:$AL27,Calc!$C$19)),"") | AQ27: =IFERROR(IF(LEN(F27)=0,"",COUNTIF($H27:$AL27,Calc!$C$20)),"")

Sheet August
C2: TEACHER LESSON PLAN TEMPLATE
C3: ATTENDANCE - AUGUST
AN6: TOTALS
C7: MONTHS | E7: # | F7: Students Name | G7: Class | H7: 1 | I7: 2 | J7: 3 | K7: 4 | L7: 5 | M7: 6 | N7: 7 | O7: 8 | P7: 9 | Q7: 10 | R7: 11 | S7: 12 | T7: 13 | U7: 14 | V7: 15 | W7: 16 | X7: 17 | Y7: 18 | Z7: 19 | AA7: 20 | AB7: 21 | AC7: 22 | AD7: 23 | AE7: 24 | AF7: 25 | AG7: 26 | AH7: 27 | AI7: 28 | AJ7: 29 | AK7: 30 | AL7: 31 | AN7: =Calc!B17 -> Present | AO7: =Calc!B18 -> Tardy | AP7: =Calc!B19 -> Excused | AQ7: =Calc!B20 -> Unexcused
E8: 1 | F8: =IFERROR(IF(LEN(INDEX(Lists!$C$6:$C$105,MATCH($E8,Lists!$B$6:$B$105,0)))=0,"",INDEX(Lists!$C$6:$C$105,MATCH($E8,Lists!$B$6:$B$105,0))),"") -> Patrick Swayze | G8: =IFERROR(IF(LEN(INDEX(Lists!$E$6:$E$105,MATCH($E8,Lists!$B$6:$B$105,0)))=0,"",INDEX(Lists!$E$6:$E$105,MATCH($E8,Lists!$B$6:$B$105,0))),"") -> 10A | AN8: =IFERROR(IF(LEN(F8)=0,"",COUNTIF($H8:$AL8,Calc!$C$17)),"") -> 0 | AO8: =IFERROR(IF(LEN(F8)=0,"",COUNTIF($H8:$AL8,Calc!$C$18)),"") -> 0 | AP8: =IFERROR(IF(LEN(F8)=0,"",COUNTIF($H8:$AL8,Calc!$C$19)),"") -> 0 | AQ8: =IFERROR(IF(LEN(F8)=0,"",COUNTIF($H8:$AL8,Calc!$C$20)),"") -> 0
C9: JANUARY | E9: 2 | F9: =IFERROR(IF(LEN(INDEX(Lists!$C$6:$C$105,MATCH($E9,Lists!$B$6:$B$105,0)))=0,"",INDEX(Lists!$C$6:$C$105,MATCH($E9,Lists!$B$6:$B$105,0))),"") -> Benicio Del Toro | G9: =IFERROR(IF(LEN(INDEX(Lists!$E$6:$E$105,MATCH($E9,Lists!$B$6:$B$105,0)))=0,"",INDEX(Lists!$E$6:$E$105,MATCH($E9,Lists!$B$6:$B$105,0))),"") -> 10A | AN9: =IFERROR(IF(LEN(F9)=0,"",COUNTIF($H9:$AL9,Calc!$C$17)),"") -> 0 | AO9: =IFERROR(IF(LEN(F9)=0,"",COUNTIF($H9:$AL9,Calc!$C$18)),"") -> 0 | AP9: =IFERROR(IF(LEN(F9)=0,"",COUNTIF($H9:$AL9,Calc!$C$19)),"") -> 0 | AQ9: =IFERROR(IF(LEN(F9)=0,"",COUNTIF($H9:$AL9,Calc!$C$20)),"") -> 0
C10: FEBRUARY | E10: 3 | F10: =IFERROR(IF(LEN(INDEX(Lists!$C$6:$C$105,MATCH($E10,Lists!$B$6:$B$105,0)))=0,"",INDEX(Lists!$C$6:$C$105,MATCH($E10,Lists!$B$6:$B$105,0))),"") -> Harvey Kietel | G10: =IFERROR(IF(LEN(INDEX(Lists!$E$6:$E$105,MATCH($E10,Lists!$B$6:$B$105,0)))=0,"",INDEX(Lists!$E$6:$E$105,MATCH($E10,Lists!$B$6:$B$105,0))),"") -> 10A | AN10: =IFERROR(IF(LEN(F10)=0,"",COUNTIF($H10:$AL10,Calc!$C$17)),"") -> 0 | AO10: =IFERROR(IF(LEN(F10)=0,"",COUNTIF($H10:$AL10,Calc!$C$18)),"") -> 0 | AP10: =IFERROR(IF(LEN(F10)=0,"",COUNTIF($H10:$AL10,Calc!$C$19)),"") -> 0 | AQ10: =IFERROR(IF(LEN(F10)=0,"",COUNTIF($H10:$AL10,Calc!$C$20)),"") -> 0
C11: MARCH | E11: 4 | F11: =IFERROR(IF(LEN(INDEX(Lists!$C$6:$C$105,MATCH($E11,Lists!$B$6:$B$105,0)))=0,"",INDEX(Lists!$C$6:$C$105,MATCH($E11,Lists!$B$6:$B$105,0))),"") -> Ed Harris | G11: =IFERROR(IF(LEN(INDEX(Lists!$E$6:$E$105,MATCH($E11,Lists!$B$6:$B$105,0)))=0,"",INDEX(Lists!$E$6:$E$105,MATCH($E11,Lists!$B$6:$B$105,0))),"") -> 10A | AN11: =IFERROR(IF(LEN(F11)=0,"",COUNTIF($H11:$AL11,Calc!$C$17)),"") -> 0 | AO11: =IFERROR(IF(LEN(F11)=0,"",COUNTIF($H11:$AL11,Calc!$C$18)),"") -> 0 | AP11: =IFERROR(IF(LEN(F11)=0,"",COUNTIF($H11:$AL11,Calc!$C$19)),"") -> 0 | AQ11: =IFERROR(IF(LEN(F11)=0,"",COUNTIF($H11:$AL11,Calc!$C$20)),"") -> 0
C12: APRIL | E12: 5 | F12: =IFERROR(IF(LEN(INDEX(Lists!$C$6:$C$105,MATCH($E12,Lists!$B$6:$B$105,0)))=0,"",INDEX(Lists!$C$6:$C$105,MATCH($E12,Lists!$B$6:$B$105,0))),"") -> Charles Laughton | G12: =IFERROR(IF(LEN(INDEX(Lists!$E$6:$E$105,MATCH($E12,Lists!$B$6:$B$105,0)))=0,"",INDEX(Lists!$E$6:$E$105,MATCH($E12,Lists!$B$6:$B$105,0))),"") -> 10A | AN12: =IFERROR(IF(LEN(F12)=0,"",COUNTIF($H12:$AL12,Calc!$C$17)),"") -> 0 | AO12: =IFERROR(IF(LEN(F12)=0,"",COUNTIF($H12:$AL12,Calc!$C$18)),"") -> 0 | AP12: =IFERROR(IF(LEN(F12)=0,"",COUNTIF($H12:$AL12,Calc!$C$19)),"") -> 0 | AQ12: =IFERROR(IF(LEN(F12)=0,"",COUNTIF($H12:$AL12,Calc!$C$20)),"") -> 0
C13: MAY | E13: 6 | F13: =IFERROR(IF(LEN(INDEX(Lists!$C$6:$C$105,MATCH($E13,Lists!$B$6:$B$105,0)))=0,"",INDEX(Lists!$C$6:$C$105,MATCH($E13,Lists!$B$6:$B$105,0))),"") -> James Caan | G13: =IFERROR(IF(LEN(INDEX(Lists!$E$6:$E$105,MATCH($E13,Lists!$B$6:$B$105,0)))=0,"",INDEX(Lists!$E$6:$E$105,MATCH($E13,Lists!$B$6:$B$105,0))),"") -> 10A | AN13: =IFERROR(IF(LEN(F13)=0,"",COUNTIF($H13:$AL13,Calc!$C$17)),"") -> 0 | AO13: =IFERROR(IF(LEN(F13)=0,"",COUNTIF($H13:$AL13,Calc!$C$18)),"") -> 0 | AP13: =IFERROR(IF(LEN(F13)=0,"",COUNTIF($H13:$AL13,Calc!$C$19)),"") -> 0 | AQ13: =IFERROR(IF(LEN(F13)=0,"",COUNTIF($H13:$AL13,Calc!$C$20)),"") -> 0
C14: JUNE | E14: 7 | F14: =IFERROR(IF(LEN(INDEX(Lists!$C$6:$C$105,MATCH($E14,Lists!$B$6:$B$105,0)))=0,"",INDEX(Lists!$C$6:$C$105,MATCH($E14,Lists!$B$6:$B$105,0))),"") -> Robert Downey Jr. | G14: =IFERROR(IF(LEN(INDEX(Lists!$E$6:$E$105,MATCH($E14,Lists!$B$6:$B$105,0)))=0,"",INDEX(Lists!$E$6:$E$105,MATCH($E14,Lists!$B$6:$B$105,0))),"") -> 10A | AN14: =IFERROR(IF(LEN(F14)=0,"",COUNTIF($H14:$AL14,Calc!$C$17)),"") -> 0 | AO14: =IFERROR(IF(LEN(F14)=0,"",COUNTIF($H14:$AL14,Calc!$C$18)),"") -> 0 | AP14: =IFERROR(IF(LEN(F14)=0,"",COUNTIF($H14:$AL14,Calc!$C$19)),"") -> 0 | AQ14: =IFERROR(IF(LEN(F14)=0,"",COUNTIF($H14:$AL14,Calc!$C$20)),"") -> 0
C15: JULY | E15: 8 | F15: =IFERROR(IF(LEN(INDEX(Lists!$C$6:$C$105,MATCH($E15,Lists!$B$6:$B$105,0)))=0,"",INDEX(Lists!$C$6:$C$105,MATCH($E15,Lists!$B$6:$B$105,0))),"") -> Alec Guiness | G15: =IFERROR(IF(LEN(INDEX(Lists!$E$6:$E$105,MATCH($E15,Lists!$B$6:$B$105,0)))=0,"",INDEX(Lists!$E$6:$E$105,MATCH($E15,Lists!$B$6:$B$105,0))),"") -> 10A | AN15: =IFERROR(IF(LEN(F15)=0,"",COUNTIF($H15:$AL15,Calc!$C$17)),"") -> 0 | AO15: =IFERROR(IF(LEN(F15)=0,"",COUNTIF($H15:$AL15,Calc!$C$18)),"") -> 0 | AP15: =IFERROR(IF(LEN(F15)=0,"",COUNTIF($H15:$AL15,Calc!$C$19)),"") -> 0 | AQ15: =IFERROR(IF(LEN(F15)=0,"",COUNTIF($H15:$AL15,Calc!$C$20)),"") -> 0
C16: AUGUST | E16: 9 | F16: =IFERROR(IF(LEN(INDEX(Lists!$C$6:$C$105,MATCH($E16,Lists!$B$6:$B$105,0)))=0,"",INDEX(Lists!$C$6:$C$105,MATCH($E16,Lists!$B$6:$B$105,0))),"") -> Viggo Mortensen | G16: =IFERROR(IF(LEN(INDEX(Lists!$E$6:$E$105,MATCH($E16,Lists!$B$6:$B$105,0)))=0,"",INDEX(Lists!$E$6:$E$105,MATCH($E16,Lists!$B$6:$B$105,0))),"") -> 10A | AN16: =IFERROR(IF(LEN(F16)=0,"",COUNTIF($H16:$AL16,Calc!$C$17)),"") -> 0 | AO16: =IFERROR(IF(LEN(F16)=0,"",COUNTIF($H16:$AL16,Calc!$C$18)),"") -> 0 | AP16: =IFERROR(IF(LEN(F16)=0,"",COUNTIF($H16:$AL16,Calc!$C$19)),"") -> 0 | AQ16: =IFERROR(IF(LEN(F16)=0,"",COUNTIF($H16:$AL16,Calc!$C$20)),"") -> 0
C17: SEPTEMBER | E17: 10 | F17: =IFERROR(IF(LEN(INDEX(Lists!$C$6:$C$105,MATCH($E17,Lists!$B$6:$B$105,0)))=0,"",INDEX(Lists!$C$6:$C$105,MATCH($E17,Lists!$B$6:$B$105,0))),"") -> Kylian Mbappe | G17: =IFERROR(IF(LEN(INDEX(Lists!$E$6:$E$105,MATCH($E17,Lists!$B$6:$B$105,0)))=0,"",INDEX(Lists!$E$6:$E$105,MATCH($E17,Lists!$B$6:$B$105,0))),"") -> 10A | AN17: =IFERROR(IF(LEN(F17)=0,"",COUNTIF($H17:$AL17,Calc!$C$17)),"") -> 0 | AO17: =IFERROR(IF(LEN(F17)=0,"",COUNTIF($H17:$AL17,Calc!$C$18)),"") -> 0 | AP17: =IFERROR(IF(LEN(F17)=0,"",COUNTIF($H17:$AL17,Calc!$C$19)),"") -> 0 | AQ17: =IFERROR(IF(LEN(F17)=0,"",COUNTIF($H17:$AL17,Calc!$C$20)),"") -> 0
C18: OCTOBER | E18: 11 | F18: =IFERROR(IF(LEN(INDEX(Lists!$C$6:$C$105,MATCH($E18,Lists!$B$6:$B$105,0)))=0,"",INDEX(Lists!$C$6:$C$105,MATCH($E18,Lists!$B$6:$B$105,0))),"") -> Jessica Alba | G18: =IFERROR(IF(LEN(INDEX(Lists!$E$6:$E$105,MATCH($E18,Lists!$B$6:$B$105,0)))=0,"",INDEX(Lists!$E$6:$E$105,MATCH($E18,Lists!$B$6:$B$105,0))),"") -> 10B | AN18: =IFERROR(IF(LEN(F18)=0,"",COUNTIF($H18:$AL18,Calc!$C$17)),"") -> 0 | AO18: =IFERROR(IF(LEN(F18)=0,"",COUNTIF($H18:$AL18,Calc!$C$18)),"") -> 0 | AP18: =IFERROR(IF(LEN(F18)=0,"",COUNTIF($H18:$AL18,Calc!$C$19)),"") -> 0 | AQ18: =IFERROR(IF(LEN(F18)=0,"",COUNTIF($H18:$AL18,Calc!$C$20)),"") -> 0
C19: NOVEMBER | E19: 12 | F19: =IFERROR(IF(LEN(INDEX(Lists!$C$6:$C$105,MATCH($E19,Lists!$B$6:$B$105,0)))=0,"",INDEX(Lists!$C$6:$C$105,MATCH($E19,Lists!$B$6:$B$105,0))),"") -> Emma Stone | G19: =IFERROR(IF(LEN(INDEX(Lists!$E$6:$E$105,MATCH($E19,Lists!$B$6:$B$105,0)))=0,"",INDEX(Lists!$E$6:$E$105,MATCH($E19,Lists!$B$6:$B$105,0))),"") -> 10B | AN19: =IFERROR(IF(LEN(F19)=0,"",COUNTIF($H19:$AL19,Calc!$C$17)),"") -> 0 | AO19: =IFERROR(IF(LEN(F19)=0,"",COUNTIF($H19:$AL19,Calc!$C$18)),"") -> 0 | AP19: =IFERROR(IF(LEN(F19)=0,"",COUNTIF($H19:$AL19,Calc!$C$19)),"") -> 0 | AQ19: =IFERROR(IF(LEN(F19)=0,"",COUNTIF($H19:$AL19,Calc!$C$20)),"") -> 0
C20: DECEMBER | E20: 13 | F20: =IFERROR(IF(LEN(INDEX(Lists!$C$6:$C$105,MATCH($E20,Lists!$B$6:$B$105,0)))=0,"",INDEX(Lists!$C$6:$C$105,MATCH($E20,Lists!$B$6:$B$105,0))),"") -> Scarlett Johansson | G20: =IFERROR(IF(LEN(INDEX(Lists!$E$6:$E$105,MATCH($E20,Lists!$B$6:$B$105,0)))=0,"",INDEX(Lists!$E$6:$E$105,MATCH($E20,Lists!$B$6:$B$105,0))),"") -> 10B | AN20: =IFERROR(IF(LEN(F20)=0,"",COUNTIF($H20:$AL20,Calc!$C$17)),"") -> 0 | AO20: =IFERROR(IF(LEN(F20)=0,"",COUNTIF($H20:$AL20,Calc!$C$18)),"") -> 0 | AP20: =IFERROR(IF(LEN(F20)=0,"",COUNTIF($H20:$AL20,Calc!$C$19)),"") -> 0 | AQ20: =IFERROR(IF(LEN(F20)=0,"",COUNTIF($H20:$AL20,Calc!$C$20)),"") -> 0
E21: 14 | F21: =IFERROR(IF(LEN(INDEX(Lists!$C$6:$C$105,MATCH($E21,Lists!$B$6:$B$105,0)))=0,"",INDEX(Lists!$C$6:$C$105,MATCH($E21,Lists!$B$6:$B$105,0))),"") -> Mila Kunis | G21: =IFERROR(IF(LEN(INDEX(Lists!$E$6:$E$105,MATCH($E21,Lists!$B$6:$B$105,0)))=0,"",INDEX(Lists!$E$6:$E$105,MATCH($E21,Lists!$B$6:$B$105,0))),"") -> 10B | AN21: =IFERROR(IF(LEN(F21)=0,"",COUNTIF($H21:$AL21,Calc!$C$17)),"") -> 0 | AO21: =IFERROR(IF(LEN(F21)=0,"",COUNTIF($H21:$AL21,Calc!$C$18)),"") -> 0 | AP21: =IFERROR(IF(LEN(F21)=0,"",COUNTIF($H21:$AL21,Calc!$C$19)),"") -> 0 | AQ21: =IFERROR(IF(LEN(F21)=0,"",COUNTIF($H21:$AL21,Calc!$C$20)),"") -> 0
E22: 15 | F22: =IFERROR(IF(LEN(INDEX(Lists!$C$6:$C$105,MATCH($E22,Lists!$B$6:$B$105,0)))=0,"",INDEX(Lists!$C$6:$C$105,MATCH($E22,Lists!$B$6:$B$105,0))),"") -> Charlize Theron | G22: =IFERROR(IF(LEN(INDEX(Lists!$E$6:$E$105,MATCH($E22,Lists!$B$6:$B$105,0)))=0,"",INDEX(Lists!$E$6:$E$105,MATCH($E22,Lists!$B$6:$B$105,0))),"") -> 10B | AN22: =IFERROR(IF(LEN(F22)=0,"",COUNTIF($H22:$AL22,Calc!$C$17)),"") -> 0 | AO22: =IFERROR(IF(LEN(F22)=0,"",COUNTIF($H22:$AL22,Calc!$C$18)),"") -> 0 | AP22: =IFERROR(IF(LEN(F22)=0,"",COUNTIF($H22:$AL22,Calc!$C$19)),"") -> 0 | AQ22: =IFERROR(IF(LEN(F22)=0,"",COUNTIF($H22:$AL22,Calc!$C$20)),"") -> 0
E23: 16 | F23: =IFERROR(IF(LEN(INDEX(Lists!$C$6:$C$105,MATCH($E23,Lists!$B$6:$B$105,0)))=0,"",INDEX(Lists!$C$6:$C$105,MATCH($E23,Lists!$B$6:$B$105,0))),"") | G23: =IFERROR(IF(LEN(INDEX(Lists!$E$6:$E$105,MATCH($E23,Lists!$B$6:$B$105,0)))=0,"",INDEX(Lists!$E$6:$E$105,MATCH($E23,Lists!$B$6:$B$105,0))),"") | AN23: =IFERROR(IF(LEN(F23)=0,"",COUNTIF($H23:$AL23,Calc!$C$17)),"") | AO23: =IFERROR(IF(LEN(F23)=0,"",COUNTIF($H23:$AL23,Calc!$C$18)),"") | AP23: =IFERROR(IF(LEN(F23)=0,"",COUNTIF($H23:$AL23,Calc!$C$19)),"") | AQ23: =IFERROR(IF(LEN(F23)=0,"",COUNTIF($H23:$AL23,Calc!$C$20)),"")
E24: 17 | F24: =IFERROR(IF(LEN(INDEX(Lists!$C$6:$C$105,MATCH($E24,Lists!$B$6:$B$105,0)))=0,"",INDEX(Lists!$C$6:$C$105,MATCH($E24,Lists!$B$6:$B$105,0))),"") | G24: =IFERROR(IF(LEN(INDEX(Lists!$E$6:$E$105,MATCH($E24,Lists!$B$6:$B$105,0)))=0,"",INDEX(Lists!$E$6:$E$105,MATCH($E24,Lists!$B$6:$B$105,0))),"") | AN24: =IFERROR(IF(LEN(F24)=0,"",COUNTIF($H24:$AL24,Calc!$C$17)),"") | AO24: =IFERROR(IF(LEN(F24)=0,"",COUNTIF($H24:$AL24,Calc!$C$18)),"") | AP24: =IFERROR(IF(LEN(F24)=0,"",COUNTIF($H24:$AL24,Calc!$C$19)),"") | AQ24: =IFERROR(IF(LEN(F24)=0,"",COUNTIF($H24:$AL24,Calc!$C$20)),"")
E25: 18 | F25: =IFERROR(IF(LEN(INDEX(Lists!$C$6:$C$105,MATCH($E25,Lists!$B$6:$B$105,0)))=0,"",INDEX(Lists!$C$6:$C$105,MATCH($E25,Lists!$B$6:$B$105,0))),"") | G25: =IFERROR(IF(LEN(INDEX(Lists!$E$6:$E$105,MATCH($E25,Lists!$B$6:$B$105,0)))=0,"",INDEX(Lists!$E$6:$E$105,MATCH($E25,Lists!$B$6:$B$105,0))),"") | AN25: =IFERROR(IF(LEN(F25)=0,"",COUNTIF($H25:$AL25,Calc!$C$17)),"") | AO25: =IFERROR(IF(LEN(F25)=0,"",COUNTIF($H25:$AL25,Calc!$C$18)),"") | AP25: =IFERROR(IF(LEN(F25)=0,"",COUNTIF($H25:$AL25,Calc!$C$19)),"") | AQ25: =IFERROR(IF(LEN(F25)=0,"",COUNTIF($H25:$AL25,Calc!$C$20)),"")
E26: 19 | F26: =IFERROR(IF(LEN(INDEX(Lists!$C$6:$C$105,MATCH($E26,Lists!$B$6:$B$105,0)))=0,"",INDEX(Lists!$C$6:$C$105,MATCH($E26,Lists!$B$6:$B$105,0))),"") | G26: =IFERROR(IF(LEN(INDEX(Lists!$E$6:$E$105,MATCH($E26,Lists!$B$6:$B$105,0)))=0,"",INDEX(Lists!$E$6:$E$105,MATCH($E26,Lists!$B$6:$B$105,0))),"") | AN26: =IFERROR(IF(LEN(F26)=0,"",COUNTIF($H26:$AL26,Calc!$C$17)),"") | AO26: =IFERROR(IF(LEN(F26)=0,"",COUNTIF($H26:$AL26,Calc!$C$18)),"") | AP26: =IFERROR(IF(LEN(F26)=0,"",COUNTIF($H26:$AL26,Calc!$C$19)),"") | AQ26: =IFERROR(IF(LEN(F26)=0,"",COUNTIF($H26:$AL26,Calc!$C$20)),"")
E27: 20 | F27: =IFERROR(IF(LEN(INDEX(Lists!$C$6:$C$105,MATCH($E27,Lists!$B$6:$B$105,0)))=0,"",INDEX(Lists!$C$6:$C$105,MATCH($E27,Lists!$B$6:$B$105,0))),"") | G27: =IFERROR(IF(LEN(INDEX(Lists!$E$6:$E$105,MATCH($E27,Lists!$B$6:$B$105,0)))=0,"",INDEX(Lists!$E$6:$E$105,MATCH($E27,Lists!$B$6:$B$105,0))),"") | AN27: =IFERROR(IF(LEN(F27)=0,"",COUNTIF($H27:$AL27,Calc!$C$17)),"") | AO27: =IFERROR(IF(LEN(F27)=0,"",COUNTIF($H27:$AL27,Calc!$C$18)),"") | AP27: =IFERROR(IF(LEN(F27)=0,"",COUNTIF($H27:$AL27,Calc!$C$19)),"") | AQ27: =IFERROR(IF(LEN(F27)=0,"",COUNTIF($H27:$AL27,Calc!$C$20)),"")

Sheet September
C2: TEACHER LESSON PLAN TEMPLATE
C3: ATTENDANCE - SEPTEMBER
AN6: TOTALS
C7: MONTHS | E7: # | F7: Students Name | G7: Class | H7: 1 | I7: 2 | J7: 3 | K7: 4 | L7: 5 | M7: 6 | N7: 7 | O7: 8 | P7: 9 | Q7: 10 | R7: 11 | S7: 12 | T7: 13 | U7: 14 | V7: 15 | W7: 16 | X7: 17 | Y7: 18 | Z7: 19 | AA7: 20 | AB7: 21 | AC7: 22 | AD7: 23 | AE7: 24 | AF7: 25 | AG7: 26 | AH7: 27 | AI7: 28 | AJ7: 29 | AK7: 30 | AN7: =Calc!B17 -> Present | AO7: =Calc!B18 -> Tardy | AP7: =Calc!B19 -> Excused | AQ7: =Calc!B20 -> Unexcused
E8: 1 | F8: =IFERROR(IF(LEN(INDEX(Lists!$C$6:$C$105,MATCH($E8,Lists!$B$6:$B$105,0)))=0,"",INDEX(Lists!$C$6:$C$105,MATCH($E8,Lists!$B$6:$B$105,0))),"") -> Patrick Swayze | G8: =IFERROR(IF(LEN(INDEX(Lists!$E$6:$E$105,MATCH($E8,Lists!$B$6:$B$105,0)))=0,"",INDEX(Lists!$E$6:$E$105,MATCH($E8,Lists!$B$6:$B$105,0))),"") -> 10A | AN8: =IFERROR(IF(LEN(F8)=0,"",COUNTIF($H8:$AK8,Calc!$C$17)),"") -> 0 | AO8: =IFERROR(IF(LEN(F8)=0,"",COUNTIF($H8:$AK8,Calc!$C$18)),"") -> 0 | AP8: =IFERROR(IF(LEN(F8)=0,"",COUNTIF($H8:$AK8,Calc!$C$19)),"") -> 0 | AQ8: =IFERROR(IF(LEN(F8)=0,"",COUNTIF($H8:$AK8,Calc!$C$20)),"") -> 0
C9: JANUARY | E9: 2 | F9: =IFERROR(IF(LEN(INDEX(Lists!$C$6:$C$105,MATCH($E9,Lists!$B$6:$B$105,0)))=0,"",INDEX(Lists!$C$6:$C$105,MATCH($E9,Lists!$B$6:$B$105,0))),"") -> Benicio Del Toro | G9: =IFERROR(IF(LEN(INDEX(Lists!$E$6:$E$105,MATCH($E9,Lists!$B$6:$B$105,0)))=0,"",INDEX(Lists!$E$6:$E$105,MATCH($E9,Lists!$B$6:$B$105,0))),"") -> 10A | AN9: =IFERROR(IF(LEN(F9)=0,"",COUNTIF($H9:$AK9,Calc!$C$17)),"") -> 0 | AO9: =IFERROR(IF(LEN(F9)=0,"",COUNTIF($H9:$AK9,Calc!$C$18)),"") -> 0 | AP9: =IFERROR(IF(LEN(F9)=0,"",COUNTIF($H9:$AK9,Calc!$C$19)),"") -> 0 | AQ9: =IFERROR(IF(LEN(F9)=0,"",COUNTIF($H9:$AK9,Calc!$C$20)),"") -> 0
C10: FEBRUARY | E10: 3 | F10: =IFERROR(IF(LEN(INDEX(Lists!$C$6:$C$105,MATCH($E10,Lists!$B$6:$B$105,0)))=0,"",INDEX(Lists!$C$6:$C$105,MATCH($E10,Lists!$B$6:$B$105,0))),"") -> Harvey Kietel | G10: =IFERROR(IF(LEN(INDEX(Lists!$E$6:$E$105,MATCH($E10,Lists!$B$6:$B$105,0)))=0,"",INDEX(Lists!$E$6:$E$105,MATCH($E10,Lists!$B$6:$B$105,0))),"") -> 10A | AN10: =IFERROR(IF(LEN(F10)=0,"",COUNTIF($H10:$AK10,Calc!$C$17)),"") -> 0 | AO10: =IFERROR(IF(LEN(F10)=0,"",COUNTIF($H10:$AK10,Calc!$C$18)),"") -> 0 | AP10: =IFERROR(IF(LEN(F10)=0,"",COUNTIF($H10:$AK10,Calc!$C$19)),"") -> 0 | AQ10: =IFERROR(IF(LEN(F10)=0,"",COUNTIF($H10:$AK10,Calc!$C$20)),"") -> 0
C11: MARCH | E11: 4 | F11: =IFERROR(IF(LEN(INDEX(Lists!$C$6:$C$105,MATCH($E11,Lists!$B$6:$B$105,0)))=0,"",INDEX(Lists!$C$6:$C$105,MATCH($E11,Lists!$B$6:$B$105,0))),"") -> Ed Harris | G11: =IFERROR(IF(LEN(INDEX(Lists!$E$6:$E$105,MATCH($E11,Lists!$B$6:$B$105,0)))=0,"",INDEX(Lists!$E$6:$E$105,MATCH($E11,Lists!$B$6:$B$105,0))),"") -> 10A | AN11: =IFERROR(IF(LEN(F11)=0,"",COUNTIF($H11:$AK11,Calc!$C$17)),"") -> 0 | AO11: =IFERROR(IF(LEN(F11)=0,"",COUNTIF($H11:$AK11,Calc!$C$18)),"") -> 0 | AP11: =IFERROR(IF(LEN(F11)=0,"",COUNTIF($H11:$AK11,Calc!$C$19)),"") -> 0 | AQ11: =IFERROR(IF(LEN(F11)=0,"",COUNTIF($H11:$AK11,Calc!$C$20)),"") -> 0
C12: APRIL | E12: 5 | F12: =IFERROR(IF(LEN(INDEX(Lists!$C$6:$C$105,MATCH($E12,Lists!$B$6:$B$105,0)))=0,"",INDEX(Lists!$C$6:$C$105,MATCH($E12,Lists!$B$6:$B$105,0))),"") -> Charles Laughton | G12: =IFERROR(IF(LEN(INDEX(Lists!$E$6:$E$105,MATCH($E12,Lists!$B$6:$B$105,0)))=0,"",INDEX(Lists!$E$6:$E$105,MATCH($E12,Lists!$B$6:$B$105,0))),"") -> 10A | AN12: =IFERROR(IF(LEN(F12)=0,"",COUNTIF($H12:$AK12,Calc!$C$17)),"") -> 0 | AO12: =IFERROR(IF(LEN(F12)=0,"",COUNTIF($H12:$AK12,Calc!$C$18)),"") -> 0 | AP12: =IFERROR(IF(LEN(F12)=0,"",COUNTIF($H12:$AK12,Calc!$C$19)),"") -> 0 | AQ12: =IFERROR(IF(LEN(F12)=0,"",COUNTIF($H12:$AK12,Calc!$C$20)),"") -> 0
C13: MAY | E13: 6 | F13: =IFERROR(IF(LEN(INDEX(Lists!$C$6:$C$105,MATCH($E13,Lists!$B$6:$B$105,0)))=0,"",INDEX(Lists!$C$6:$C$105,MATCH($E13,Lists!$B$6:$B$105,0))),"") -> James Caan | G13: =IFERROR(IF(LEN(INDEX(Lists!$E$6:$E$105,MATCH($E13,Lists!$B$6:$B$105,0)))=0,"",INDEX(Lists!$E$6:$E$105,MATCH($E13,Lists!$B$6:$B$105,0))),"") -> 10A | AN13: =IFERROR(IF(LEN(F13)=0,"",COUNTIF($H13:$AK13,Calc!$C$17)),"") -> 0 | AO13: =IFERROR(IF(LEN(F13)=0,"",COUNTIF($H13:$AK13,Calc!$C$18)),"") -> 0 | AP13: =IFERROR(IF(LEN(F13)=0,"",COUNTIF($H13:$AK13,Calc!$C$19)),"") -> 0 | AQ13: =IFERROR(IF(LEN(F13)=0,"",COUNTIF($H13:$AK13,Calc!$C$20)),"") -> 0
C14: JUNE | E14: 7 | F14: =IFERROR(IF(LEN(INDEX(Lists!$C$6:$C$105,MATCH($E14,Lists!$B$6:$B$105,0)))=0,"",INDEX(Lists!$C$6:$C$105,MATCH($E14,Lists!$B$6:$B$105,0))),"") -> Robert Downey Jr. | G14: =IFERROR(IF(LEN(INDEX(Lists!$E$6:$E$105,MATCH($E14,Lists!$B$6:$B$105,0)))=0,"",INDEX(Lists!$E$6:$E$105,MATCH($E14,Lists!$B$6:$B$105,0))),"") -> 10A | AN14: =IFERROR(IF(LEN(F14)=0,"",COUNTIF($H14:$AK14,Calc!$C$17)),"") -> 0 | AO14: =IFERROR(IF(LEN(F14)=0,"",COUNTIF($H14:$AK14,Calc!$C$18)),"") -> 0 | AP14: =IFERROR(IF(LEN(F14)=0,"",COUNTIF($H14:$AK14,Calc!$C$19)),"") -> 0 | AQ14: =IFERROR(IF(LEN(F14)=0,"",COUNTIF($H14:$AK14,Calc!$C$20)),"") -> 0
C15: JULY | E15: 8 | F15: =IFERROR(IF(LEN(INDEX(Lists!$C$6:$C$105,MATCH($E15,Lists!$B$6:$B$105,0)))=0,"",INDEX(Lists!$C$6:$C$105,MATCH($E15,Lists!$B$6:$B$105,0))),"") -> Alec Guiness | G15: =IFERROR(IF(LEN(INDEX(Lists!$E$6:$E$105,MATCH($E15,Lists!$B$6:$B$105,0)))=0,"",INDEX(Lists!$E$6:$E$105,MATCH($E15,Lists!$B$6:$B$105,0))),"") -> 10A | AN15: =IFERROR(IF(LEN(F15)=0,"",COUNTIF($H15:$AK15,Calc!$C$17)),"") -> 0 | AO15: =IFERROR(IF(LEN(F15)=0,"",COUNTIF($H15:$AK15,Calc!$C$18)),"") -> 0 | AP15: =IFERROR(IF(LEN(F15)=0,"",COUNTIF($H15:$AK15,Calc!$C$19)),"") -> 0 | AQ15: =IFERROR(IF(LEN(F15)=0,"",COUNTIF($H15:$AK15,Calc!$C$20)),"") -> 0
C16: AUGUST | E16: 9 | F16: =IFERROR(IF(LEN(INDEX(Lists!$C$6:$C$105,MATCH($E16,Lists!$B$6:$B$105,0)))=0,"",INDEX(Lists!$C$6:$C$105,MATCH($E16,Lists!$B$6:$B$105,0))),"") -> Viggo Mortensen | G16: =IFERROR(IF(LEN(INDEX(Lists!$E$6:$E$105,MATCH($E16,Lists!$B$6:$B$105,0)))=0,"",INDEX(Lists!$E$6:$E$105,MATCH($E16,Lists!$B$6:$B$105,0))),"") -> 10A | AN16: =IFERROR(IF(LEN(F16)=0,"",COUNTIF($H16:$AK16,Calc!$C$17)),"") -> 0 | AO16: =IFERROR(IF(LEN(F16)=0,"",COUNTIF($H16:$AK16,Calc!$C$18)),"") -> 0 | AP16: =IFERROR(IF(LEN(F16)=0,"",COUNTIF($H16:$AK16,Calc!$C$19)),"") -> 0 | AQ16: =IFERROR(IF(LEN(F16)=0,"",COUNTIF($H16:$AK16,Calc!$C$20)),"") -> 0
C17: SEPTEMBER | E17: 10 | F17: =IFERROR(IF(LEN(INDEX(Lists!$C$6:$C$105,MATCH($E17,Lists!$B$6:$B$105,0)))=0,"",INDEX(Lists!$C$6:$C$105,MATCH($E17,Lists!$B$6:$B$105,0))),"") -> Kylian Mbappe | G17: =IFERROR(IF(LEN(INDEX(Lists!$E$6:$E$105,MATCH($E17,Lists!$B$6:$B$105,0)))=0,"",INDEX(Lists!$E$6:$E$105,MATCH($E17,Lists!$B$6:$B$105,0))),"") -> 10A | AN17: =IFERROR(IF(LEN(F17)=0,"",COUNTIF($H17:$AK17,Calc!$C$17)),"") -> 0 | AO17: =IFERROR(IF(LEN(F17)=0,"",COUNTIF($H17:$AK17,Calc!$C$18)),"") -> 0 | AP17: =IFERROR(IF(LEN(F17)=0,"",COUNTIF($H17:$AK17,Calc!$C$19)),"") -> 0 | AQ17: =IFERROR(IF(LEN(F17)=0,"",COUNTIF($H17:$AK17,Calc!$C$20)),"") -> 0
C18: OCTOBER | E18: 11 | F18: =IFERROR(IF(LEN(INDEX(Lists!$C$6:$C$105,MATCH($E18,Lists!$B$6:$B$105,0)))=0,"",INDEX(Lists!$C$6:$C$105,MATCH($E18,Lists!$B$6:$B$105,0))),"") -> Jessica Alba | G18: =IFERROR(IF(LEN(INDEX(Lists!$E$6:$E$105,MATCH($E18,Lists!$B$6:$B$105,0)))=0,"",INDEX(Lists!$E$6:$E$105,MATCH($E18,Lists!$B$6:$B$105,0))),"") -> 10B | AN18: =IFERROR(IF(LEN(F18)=0,"",COUNTIF($H18:$AK18,Calc!$C$17)),"") -> 0 | AO18: =IFERROR(IF(LEN(F18)=0,"",COUNTIF($H18:$AK18,Calc!$C$18)),"") -> 0 | AP18: =IFERROR(IF(LEN(F18)=0,"",COUNTIF($H18:$AK18,Calc!$C$19)),"") -> 0 | AQ18: =IFERROR(IF(LEN(F18)=0,"",COUNTIF($H18:$AK18,Calc!$C$20)),"") -> 0
C19: NOVEMBER | E19: 12 | F19: =IFERROR(IF(LEN(INDEX(Lists!$C$6:$C$105,MATCH($E19,Lists!$B$6:$B$105,0)))=0,"",INDEX(Lists!$C$6:$C$105,MATCH($E19,Lists!$B$6:$B$105,0))),"") -> Emma Stone | G19: =IFERROR(IF(LEN(INDEX(Lists!$E$6:$E$105,MATCH($E19,Lists!$B$6:$B$105,0)))=0,"",INDEX(Lists!$E$6:$E$105,MATCH($E19,Lists!$B$6:$B$105,0))),"") -> 10B | AN19: =IFERROR(IF(LEN(F19)=0,"",COUNTIF($H19:$AK19,Calc!$C$17)),"") -> 0 | AO19: =IFERROR(IF(LEN(F19)=0,"",COUNTIF($H19:$AK19,Calc!$C$18)),"") -> 0 | AP19: =IFERROR(IF(LEN(F19)=0,"",COUNTIF($H19:$AK19,Calc!$C$19)),"") -> 0 | AQ19: =IFERROR(IF(LEN(F19)=0,"",COUNTIF($H19:$AK19,Calc!$C$20)),"") -> 0
C20: DECEMBER | E20: 13 | F20: =IFERROR(IF(LEN(INDEX(Lists!$C$6:$C$105,MATCH($E20,Lists!$B$6:$B$105,0)))=0,"",INDEX(Lists!$C$6:$C$105,MATCH($E20,Lists!$B$6:$B$105,0))),"") -> Scarlett Johansson | G20: =IFERROR(IF(LEN(INDEX(Lists!$E$6:$E$105,MATCH($E20,Lists!$B$6:$B$105,0)))=0,"",INDEX(Lists!$E$6:$E$105,MATCH($E20,Lists!$B$6:$B$105,0))),"") -> 10B | AN20: =IFERROR(IF(LEN(F20)=0,"",COUNTIF($H20:$AK20,Calc!$C$17)),"") -> 0 | AO20: =IFERROR(IF(LEN(F20)=0,"",COUNTIF($H20:$AK20,Calc!$C$18)),"") -> 0 | AP20: =IFERROR(IF(LEN(F20)=0,"",COUNTIF($H20:$AK20,Calc!$C$19)),"") -> 0 | AQ20: =IFERROR(IF(LEN(F20)=0,"",COUNTIF($H20:$AK20,Calc!$C$20)),"") -> 0
E21: 14 | F21: =IFERROR(IF(LEN(INDEX(Lists!$C$6:$C$105,MATCH($E21,Lists!$B$6:$B$105,0)))=0,"",INDEX(Lists!$C$6:$C$105,MATCH($E21,Lists!$B$6:$B$105,0))),"") -> Mila Kunis | G21: =IFERROR(IF(LEN(INDEX(Lists!$E$6:$E$105,MATCH($E21,Lists!$B$6:$B$105,0)))=0,"",INDEX(Lists!$E$6:$E$105,MATCH($E21,Lists!$B$6:$B$105,0))),"") -> 10B | AN21: =IFERROR(IF(LEN(F21)=0,"",COUNTIF($H21:$AK21,Calc!$C$17)),"") -> 0 | AO21: =IFERROR(IF(LEN(F21)=0,"",COUNTIF($H21:$AK21,Calc!$C$18)),"") -> 0 | AP21: =IFERROR(IF(LEN(F21)=0,"",COUNTIF($H21:$AK21,Calc!$C$19)),"") -> 0 | AQ21: =IFERROR(IF(LEN(F21)=0,"",COUNTIF($H21:$AK21,Calc!$C$20)),"") -> 0
E22: 15 | F22: =IFERROR(IF(LEN(INDEX(Lists!$C$6:$C$105,MATCH($E22,Lists!$B$6:$B$105,0)))=0,"",INDEX(Lists!$C$6:$C$105,MATCH($E22,Lists!$B$6:$B$105,0))),"") -> Charlize Theron | G22: =IFERROR(IF(LEN(INDEX(Lists!$E$6:$E$105,MATCH($E22,Lists!$B$6:$B$105,0)))=0,"",INDEX(Lists!$E$6:$E$105,MATCH($E22,Lists!$B$6:$B$105,0))),"") -> 10B | AN22: =IFERROR(IF(LEN(F22)=0,"",COUNTIF($H22:$AK22,Calc!$C$17)),"") -> 0 | AO22: =IFERROR(IF(LEN(F22)=0,"",COUNTIF($H22:$AK22,Calc!$C$18)),"") -> 0 | AP22: =IFERROR(IF(LEN(F22)=0,"",COUNTIF($H22:$AK22,Calc!$C$19)),"") -> 0 | AQ22: =IFERROR(IF(LEN(F22)=0,"",COUNTIF($H22:$AK22,Calc!$C$20)),"") -> 0
E23: 16 | F23: =IFERROR(IF(LEN(INDEX(Lists!$C$6:$C$105,MATCH($E23,Lists!$B$6:$B$105,0)))=0,"",INDEX(Lists!$C$6:$C$105,MATCH($E23,Lists!$B$6:$B$105,0))),"") | G23: =IFERROR(IF(LEN(INDEX(Lists!$E$6:$E$105,MATCH($E23,Lists!$B$6:$B$105,0)))=0,"",INDEX(Lists!$E$6:$E$105,MATCH($E23,Lists!$B$6:$B$105,0))),"") | AN23: =IFERROR(IF(LEN(F23)=0,"",COUNTIF($H23:$AK23,Calc!$C$17)),"") | AO23: =IFERROR(IF(LEN(F23)=0,"",COUNTIF($H23:$AK23,Calc!$C$18)),"") | AP23: =IFERROR(IF(LEN(F23)=0,"",COUNTIF($H23:$AK23,Calc!$C$19)),"") | AQ23: =IFERROR(IF(LEN(F23)=0,"",COUNTIF($H23:$AK23,Calc!$C$20)),"")
E24: 17 | F24: =IFERROR(IF(LEN(INDEX(Lists!$C$6:$C$105,MATCH($E24,Lists!$B$6:$B$105,0)))=0,"",INDEX(Lists!$C$6:$C$105,MATCH($E24,Lists!$B$6:$B$105,0))),"") | G24: =IFERROR(IF(LEN(INDEX(Lists!$E$6:$E$105,MATCH($E24,Lists!$B$6:$B$105,0)))=0,"",INDEX(Lists!$E$6:$E$105,MATCH($E24,Lists!$B$6:$B$105,0))),"") | AN24: =IFERROR(IF(LEN(F24)=0,"",COUNTIF($H24:$AK24,Calc!$C$17)),"") | AO24: =IFERROR(IF(LEN(F24)=0,"",COUNTIF($H24:$AK24,Calc!$C$18)),"") | AP24: =IFERROR(IF(LEN(F24)=0,"",COUNTIF($H24:$AK24,Calc!$C$19)),"") | AQ24: =IFERROR(IF(LEN(F24)=0,"",COUNTIF($H24:$AK24,Calc!$C$20)),"")
E25: 18 | F25: =IFERROR(IF(LEN(INDEX(Lists!$C$6:$C$105,MATCH($E25,Lists!$B$6:$B$105,0)))=0,"",INDEX(Lists!$C$6:$C$105,MATCH($E25,Lists!$B$6:$B$105,0))),"") | G25: =IFERROR(IF(LEN(INDEX(Lists!$E$6:$E$105,MATCH($E25,Lists!$B$6:$B$105,0)))=0,"",INDEX(Lists!$E$6:$E$105,MATCH($E25,Lists!$B$6:$B$105,0))),"") | AN25: =IFERROR(IF(LEN(F25)=0,"",COUNTIF($H25:$AK25,Calc!$C$17)),"") | AO25: =IFERROR(IF(LEN(F25)=0,"",COUNTIF($H25:$AK25,Calc!$C$18)),"") | AP25: =IFERROR(IF(LEN(F25)=0,"",COUNTIF($H25:$AK25,Calc!$C$19)),"") | AQ25: =IFERROR(IF(LEN(F25)=0,"",COUNTIF($H25:$AK25,Calc!$C$20)),"")
E26: 19 | F26: =IFERROR(IF(LEN(INDEX(Lists!$C$6:$C$105,MATCH($E26,Lists!$B$6:$B$105,0)))=0,"",INDEX(Lists!$C$6:$C$105,MATCH($E26,Lists!$B$6:$B$105,0))),"") | G26: =IFERROR(IF(LEN(INDEX(Lists!$E$6:$E$105,MATCH($E26,Lists!$B$6:$B$105,0)))=0,"",INDEX(Lists!$E$6:$E$105,MATCH($E26,Lists!$B$6:$B$105,0))),"") | AN26: =IFERROR(IF(LEN(F26)=0,"",COUNTIF($H26:$AK26,Calc!$C$17)),"") | AO26: =IFERROR(IF(LEN(F26)=0,"",COUNTIF($H26:$AK26,Calc!$C$18)),"") | AP26: =IFERROR(IF(LEN(F26)=0,"",COUNTIF($H26:$AK26,Calc!$C$19)),"") | AQ26: =IFERROR(IF(LEN(F26)=0,"",COUNTIF($H26:$AK26,Calc!$C$20)),"")
E27: 20 | F27: =IFERROR(IF(LEN(INDEX(Lists!$C$6:$C$105,MATCH($E27,Lists!$B$6:$B$105,0)))=0,"",INDEX(Lists!$C$6:$C$105,MATCH($E27,Lists!$B$6:$B$105,0))),"") | G27: =IFERROR(IF(LEN(INDEX(Lists!$E$6:$E$105,MATCH($E27,Lists!$B$6:$B$105,0)))=0,"",INDEX(Lists!$E$6:$E$105,MATCH($E27,Lists!$B$6:$B$105,0))),"") | AN27: =IFERROR(IF(LEN(F27)=0,"",COUNTIF($H27:$AK27,Calc!$C$17)),"") | AO27: =IFERROR(IF(LEN(F27)=0,"",COUNTIF($H27:$AK27,Calc!$C$18)),"") | AP27: =IFERROR(IF(LEN(F27)=0,"",COUNTIF($H27:$AK27,Calc!$C$19)),"") | AQ27: =IFERROR(IF(LEN(F27)=0,"",COUNTIF($H27:$AK27,Calc!$C$20)),"")

Sheet October
C2: TEACHER LESSON PLAN TEMPLATE
C3: ATTENDANCE - OCTOBER
AN6: TOTALS
C7: MONTHS | E7: # | F7: Students Name | G7: Class | H7: 1 | I7: 2 | J7: 3 | K7: 4 | L7: 5 | M7: 6 | N7: 7 | O7: 8 | P7: 9 | Q7: 10 | R7: 11 | S7: 12 | T7: 13 | U7: 14 | V7: 15 | W7: 16 | X7: 17 | Y7: 18 | Z7: 19 | AA7: 20 | AB7: 21 | AC7: 22 | AD7: 23 | AE7: 24 | AF7: 25 | AG7: 26 | AH7: 27 | AI7: 28 | AJ7: 29 | AK7: 30 | AL7: 31 | AN7: =Calc!B17 -> Present | AO7: =Calc!B18 -> Tardy | AP7: =Calc!B19 -> Excused | AQ7: =Calc!B20 -> Unexcused
E8: 1 | F8: =IFERROR(IF(LEN(INDEX(Lists!$C$6:$C$105,MATCH($E8,Lists!$B$6:$B$105,0)))=0,"",INDEX(Lists!$C$6:$C$105,MATCH($E8,Lists!$B$6:$B$105,0))),"") -> Patrick Swayze | G8: =IFERROR(IF(LEN(INDEX(Lists!$E$6:$E$105,MATCH($E8,Lists!$B$6:$B$105,0)))=0,"",INDEX(Lists!$E$6:$E$105,MATCH($E8,Lists!$B$6:$B$105,0))),"") -> 10A | AN8: =IFERROR(IF(LEN(F8)=0,"",COUNTIF($H8:$AL8,Calc!$C$17)),"") -> 0 | AO8: =IFERROR(IF(LEN(F8)=0,"",COUNTIF($H8:$AL8,Calc!$C$18)),"") -> 0 | AP8: =IFERROR(IF(LEN(F8)=0,"",COUNTIF($H8:$AL8,Calc!$C$19)),"") -> 0 | AQ8: =IFERROR(IF(LEN(F8)=0,"",COUNTIF($H8:$AL8,Calc!$C$20)),"") -> 0
C9: JANUARY | E9: 2 | F9: =IFERROR(IF(LEN(INDEX(Lists!$C$6:$C$105,MATCH($E9,Lists!$B$6:$B$105,0)))=0,"",INDEX(Lists!$C$6:$C$105,MATCH($E9,Lists!$B$6:$B$105,0))),"") -> Benicio Del Toro | G9: =IFERROR(IF(LEN(INDEX(Lists!$E$6:$E$105,MATCH($E9,Lists!$B$6:$B$105,0)))=0,"",INDEX(Lists!$E$6:$E$105,MATCH($E9,Lists!$B$6:$B$105,0))),"") -> 10A | AN9: =IFERROR(IF(LEN(F9)=0,"",COUNTIF($H9:$AL9,Calc!$C$17)),"") -> 0 | AO9: =IFERROR(IF(LEN(F9)=0,"",COUNTIF($H9:$AL9,Calc!$C$18)),"") -> 0 | AP9: =IFERROR(IF(LEN(F9)=0,"",COUNTIF($H9:$AL9,Calc!$C$19)),"") -> 0 | AQ9: =IFERROR(IF(LEN(F9)=0,"",COUNTIF($H9:$AL9,Calc!$C$20)),"") -> 0
C10: FEBRUARY | E10: 3 | F10: =IFERROR(IF(LEN(INDEX(Lists!$C$6:$C$105,MATCH($E10,Lists!$B$6:$B$105,0)))=0,"",INDEX(Lists!$C$6:$C$105,MATCH($E10,Lists!$B$6:$B$105,0))),"") -> Harvey Kietel | G10: =IFERROR(IF(LEN(INDEX(Lists!$E$6:$E$105,MATCH($E10,Lists!$B$6:$B$105,0)))=0,"",INDEX(Lists!$E$6:$E$105,MATCH($E10,Lists!$B$6:$B$105,0))),"") -> 10A | AN10: =IFERROR(IF(LEN(F10)=0,"",COUNTIF($H10:$AL10,Calc!$C$17)),"") -> 0 | AO10: =IFERROR(IF(LEN(F10)=0,"",COUNTIF($H10:$AL10,Calc!$C$18)),"") -> 0 | AP10: =IFERROR(IF(LEN(F10)=0,"",COUNTIF($H10:$AL10,Calc!$C$19)),"") -> 0 | AQ10: =IFERROR(IF(LEN(F10)=0,"",COUNTIF($H10:$AL10,Calc!$C$20)),"") -> 0
C11: MARCH | E11: 4 | F11: =IFERROR(IF(LEN(INDEX(Lists!$C$6:$C$105,MATCH($E11,Lists!$B$6:$B$105,0)))=0,"",INDEX(Lists!$C$6:$C$105,MATCH($E11,Lists!$B$6:$B$105,0))),"") -> Ed Harris | G11: =IFERROR(IF(LEN(INDEX(Lists!$E$6:$E$105,MATCH($E11,Lists!$B$6:$B$105,0)))=0,"",INDEX(Lists!$E$6:$E$105,MATCH($E11,Lists!$B$6:$B$105,0))),"") -> 10A | AN11: =IFERROR(IF(LEN(F11)=0,"",COUNTIF($H11:$AL11,Calc!$C$17)),"") -> 0 | AO11: =IFERROR(IF(LEN(F11)=0,"",COUNTIF($H11:$AL11,Calc!$C$18)),"") -> 0 | AP11: =IFERROR(IF(LEN(F11)=0,"",COUNTIF($H11:$AL11,Calc!$C$19)),"") -> 0 | AQ11: =IFERROR(IF(LEN(F11)=0,"",COUNTIF($H11:$AL11,Calc!$C$20)),"") -> 0
C12: APRIL | E12: 5 | F12: =IFERROR(IF(LEN(INDEX(Lists!$C$6:$C$105,MATCH($E12,Lists!$B$6:$B$105,0)))=0,"",INDEX(Lists!$C$6:$C$105,MATCH($E12,Lists!$B$6:$B$105,0))),"") -> Charles Laughton | G12: =IFERROR(IF(LEN(INDEX(Lists!$E$6:$E$105,MATCH($E12,Lists!$B$6:$B$105,0)))=0,"",INDEX(Lists!$E$6:$E$105,MATCH($E12,Lists!$B$6:$B$105,0))),"") -> 10A | AN12: =IFERROR(IF(LEN(F12)=0,"",COUNTIF($H12:$AL12,Calc!$C$17)),"") -> 0 | AO12: =IFERROR(IF(LEN(F12)=0,"",COUNTIF($H12:$AL12,Calc!$C$18)),"") -> 0 | AP12: =IFERROR(IF(LEN(F12)=0,"",COUNTIF($H12:$AL12,Calc!$C$19)),"") -> 0 | AQ12: =IFERROR(IF(LEN(F12)=0,"",COUNTIF($H12:$AL12,Calc!$C$20)),"") -> 0
C13: MAY | E13: 6 | F13: =IFERROR(IF(LEN(INDEX(Lists!$C$6:$C$105,MATCH($E13,Lists!$B$6:$B$105,0)))=0,"",INDEX(Lists!$C$6:$C$105,MATCH($E13,Lists!$B$6:$B$105,0))),"") -> James Caan | G13: =IFERROR(IF(LEN(INDEX(Lists!$E$6:$E$105,MATCH($E13,Lists!$B$6:$B$105,0)))=0,"",INDEX(Lists!$E$6:$E$105,MATCH($E13,Lists!$B$6:$B$105,0))),"") -> 10A | AN13: =IFERROR(IF(LEN(F13)=0,"",COUNTIF($H13:$AL13,Calc!$C$17)),"") -> 0 | AO13: =IFERROR(IF(LEN(F13)=0,"",COUNTIF($H13:$AL13,Calc!$C$18)),"") -> 0 | AP13: =IFERROR(IF(LEN(F13)=0,"",COUNTIF($H13:$AL13,Calc!$C$19)),"") -> 0 | AQ13: =IFERROR(IF(LEN(F13)=0,"",COUNTIF($H13:$AL13,Calc!$C$20)),"") -> 0
C14: JUNE | E14: 7 | F14: =IFERROR(IF(LEN(INDEX(Lists!$C$6:$C$105,MATCH($E14,Lists!$B$6:$B$105,0)))=0,"",INDEX(Lists!$C$6:$C$105,MATCH($E14,Lists!$B$6:$B$105,0))),"") -> Robert Downey Jr. | G14: =IFERROR(IF(LEN(INDEX(Lists!$E$6:$E$105,MATCH($E14,Lists!$B$6:$B$105,0)))=0,"",INDEX(Lists!$E$6:$E$105,MATCH($E14,Lists!$B$6:$B$105,0))),"") -> 10A | AN14: =IFERROR(IF(LEN(F14)=0,"",COUNTIF($H14:$AL14,Calc!$C$17)),"") -> 0 | AO14: =IFERROR(IF(LEN(F14)=0,"",COUNTIF($H14:$AL14,Calc!$C$18)),"") -> 0 | AP14: =IFERROR(IF(LEN(F14)=0,"",COUNTIF($H14:$AL14,Calc!$C$19)),"") -> 0 | AQ14: =IFERROR(IF(LEN(F14)=0,"",COUNTIF($H14:$AL14,Calc!$C$20)),"") -> 0
C15: JULY | E15: 8 | F15: =IFERROR(IF(LEN(INDEX(Lists!$C$6:$C$105,MATCH($E15,Lists!$B$6:$B$105,0)))=0,"",INDEX(Lists!$C$6:$C$105,MATCH($E15,Lists!$B$6:$B$105,0))),"") -> Alec Guiness | G15: =IFERROR(IF(LEN(INDEX(Lists!$E$6:$E$105,MATCH($E15,Lists!$B$6:$B$105,0)))=0,"",INDEX(Lists!$E$6:$E$105,MATCH($E15,Lists!$B$6:$B$105,0))),"") -> 10A | AN15: =IFERROR(IF(LEN(F15)=0,"",COUNTIF($H15:$AL15,Calc!$C$17)),"") -> 0 | AO15: =IFERROR(IF(LEN(F15)=0,"",COUNTIF($H15:$AL15,Calc!$C$18)),"") -> 0 | AP15: =IFERROR(IF(LEN(F15)=0,"",COUNTIF($H15:$AL15,Calc!$C$19)),"") -> 0 | AQ15: =IFERROR(IF(LEN(F15)=0,"",COUNTIF($H15:$AL15,Calc!$C$20)),"") -> 0
C16: AUGUST | E16: 9 | F16: =IFERROR(IF(LEN(INDEX(Lists!$C$6:$C$105,MATCH($E16,Lists!$B$6:$B$105,0)))=0,"",INDEX(Lists!$C$6:$C$105,MATCH($E16,Lists!$B$6:$B$105,0))),"") -> Viggo Mortensen | G16: =IFERROR(IF(LEN(INDEX(Lists!$E$6:$E$105,MATCH($E16,Lists!$B$6:$B$105,0)))=0,"",INDEX(Lists!$E$6:$E$105,MATCH($E16,Lists!$B$6:$B$105,0))),"") -> 10A | AN16: =IFERROR(IF(LEN(F16)=0,"",COUNTIF($H16:$AL16,Calc!$C$17)),"") -> 0 | AO16: =IFERROR(IF(LEN(F16)=0,"",COUNTIF($H16:$AL16,Calc!$C$18)),"") -> 0 | AP16: =IFERROR(IF(LEN(F16)=0,"",COUNTIF($H16:$AL16,Calc!$C$19)),"") -> 0 | AQ16: =IFERROR(IF(LEN(F16)=0,"",COUNTIF($H16:$AL16,Calc!$C$20)),"") -> 0
C17: SEPTEMBER | E17: 10 | F17: =IFERROR(IF(LEN(INDEX(Lists!$C$6:$C$105,MATCH($E17,Lists!$B$6:$B$105,0)))=0,"",INDEX(Lists!$C$6:$C$105,MATCH($E17,Lists!$B$6:$B$105,0))),"") -> Kylian Mbappe | G17: =IFERROR(IF(LEN(INDEX(Lists!$E$6:$E$105,MATCH($E17,Lists!$B$6:$B$105,0)))=0,"",INDEX(Lists!$E$6:$E$105,MATCH($E17,Lists!$B$6:$B$105,0))),"") -> 10A | AN17: =IFERROR(IF(LEN(F17)=0,"",COUNTIF($H17:$AL17,Calc!$C$17)),"") -> 0 | AO17: =IFERROR(IF(LEN(F17)=0,"",COUNTIF($H17:$AL17,Calc!$C$18)),"") -> 0 | AP17: =IFERROR(IF(LEN(F17)=0,"",COUNTIF($H17:$AL17,Calc!$C$19)),"") -> 0 | AQ17: =IFERROR(IF(LEN(F17)=0,"",COUNTIF($H17:$AL17,Calc!$C$20)),"") -> 0
C18: OCTOBER | E18: 11 | F18: =IFERROR(IF(LEN(INDEX(Lists!$C$6:$C$105,MATCH($E18,Lists!$B$6:$B$105,0)))=0,"",INDEX(Lists!$C$6:$C$105,MATCH($E18,Lists!$B$6:$B$105,0))),"") -> Jessica Alba | G18: =IFERROR(IF(LEN(INDEX(Lists!$E$6:$E$105,MATCH($E18,Lists!$B$6:$B$105,0)))=0,"",INDEX(Lists!$E$6:$E$105,MATCH($E18,Lists!$B$6:$B$105,0))),"") -> 10B | AN18: =IFERROR(IF(LEN(F18)=0,"",COUNTIF($H18:$AL18,Calc!$C$17)),"") -> 0 | AO18: =IFERROR(IF(LEN(F18)=0,"",COUNTIF($H18:$AL18,Calc!$C$18)),"") -> 0 | AP18: =IFERROR(IF(LEN(F18)=0,"",COUNTIF($H18:$AL18,Calc!$C$19)),"") -> 0 | AQ18: =IFERROR(IF(LEN(F18)=0,"",COUNTIF($H18:$AL18,Calc!$C$20)),"") -> 0
C19: NOVEMBER | E19: 12 | F19: =IFERROR(IF(LEN(INDEX(Lists!$C$6:$C$105,MATCH($E19,Lists!$B$6:$B$105,0)))=0,"",INDEX(Lists!$C$6:$C$105,MATCH($E19,Lists!$B$6:$B$105,0))),"") -> Emma Stone | G19: =IFERROR(IF(LEN(INDEX(Lists!$E$6:$E$105,MATCH($E19,Lists!$B$6:$B$105,0)))=0,"",INDEX(Lists!$E$6:$E$105,MATCH($E19,Lists!$B$6:$B$105,0))),"") -> 10B | AN19: =IFERROR(IF(LEN(F19)=0,"",COUNTIF($H19:$AL19,Calc!$C$17)),"") -> 0 | AO19: =IFERROR(IF(LEN(F19)=0,"",COUNTIF($H19:$AL19,Calc!$C$18)),"") -> 0 | AP19: =IFERROR(IF(LEN(F19)=0,"",COUNTIF($H19:$AL19,Calc!$C$19)),"") -> 0 | AQ19: =IFERROR(IF(LEN(F19)=0,"",COUNTIF($H19:$AL19,Calc!$C$20)),"") -> 0
C20: DECEMBER | E20: 13 | F20: =IFERROR(IF(LEN(INDEX(Lists!$C$6:$C$105,MATCH($E20,Lists!$B$6:$B$105,0)))=0,"",INDEX(Lists!$C$6:$C$105,MATCH($E20,Lists!$B$6:$B$105,0))),"") -> Scarlett Johansson | G20: =IFERROR(IF(LEN(INDEX(Lists!$E$6:$E$105,MATCH($E20,Lists!$B$6:$B$105,0)))=0,"",INDEX(Lists!$E$6:$E$105,MATCH($E20,Lists!$B$6:$B$105,0))),"") -> 10B | AN20: =IFERROR(IF(LEN(F20)=0,"",COUNTIF($H20:$AL20,Calc!$C$17)),"") -> 0 | AO20: =IFERROR(IF(LEN(F20)=0,"",COUNTIF($H20:$AL20,Calc!$C$18)),"") -> 0 | AP20: =IFERROR(IF(LEN(F20)=0,"",COUNTIF($H20:$AL20,Calc!$C$19)),"") -> 0 | AQ20: =IFERROR(IF(LEN(F20)=0,"",COUNTIF($H20:$AL20,Calc!$C$20)),"") -> 0
E21: 14 | F21: =IFERROR(IF(LEN(INDEX(Lists!$C$6:$C$105,MATCH($E21,Lists!$B$6:$B$105,0)))=0,"",INDEX(Lists!$C$6:$C$105,MATCH($E21,Lists!$B$6:$B$105,0))),"") -> Mila Kunis | G21: =IFERROR(IF(LEN(INDEX(Lists!$E$6:$E$105,MATCH($E21,Lists!$B$6:$B$105,0)))=0,"",INDEX(Lists!$E$6:$E$105,MATCH($E21,Lists!$B$6:$B$105,0))),"") -> 10B | AN21: =IFERROR(IF(LEN(F21)=0,"",COUNTIF($H21:$AL21,Calc!$C$17)),"") -> 0 | AO21: =IFERROR(IF(LEN(F21)=0,"",COUNTIF($H21:$AL21,Calc!$C$18)),"") -> 0 | AP21: =IFERROR(IF(LEN(F21)=0,"",COUNTIF($H21:$AL21,Calc!$C$19)),"") -> 0 | AQ21: =IFERROR(IF(LEN(F21)=0,"",COUNTIF($H21:$AL21,Calc!$C$20)),"") -> 0
E22: 15 | F22: =IFERROR(IF(LEN(INDEX(Lists!$C$6:$C$105,MATCH($E22,Lists!$B$6:$B$105,0)))=0,"",INDEX(Lists!$C$6:$C$105,MATCH($E22,Lists!$B$6:$B$105,0))),"") -> Charlize Theron | G22: =IFERROR(IF(LEN(INDEX(Lists!$E$6:$E$105,MATCH($E22,Lists!$B$6:$B$105,0)))=0,"",INDEX(Lists!$E$6:$E$105,MATCH($E22,Lists!$B$6:$B$105,0))),"") -> 10B | AN22: =IFERROR(IF(LEN(F22)=0,"",COUNTIF($H22:$AL22,Calc!$C$17)),"") -> 0 | AO22: =IFERROR(IF(LEN(F22)=0,"",COUNTIF($H22:$AL22,Calc!$C$18)),"") -> 0 | AP22: =IFERROR(IF(LEN(F22)=0,"",COUNTIF($H22:$AL22,Calc!$C$19)),"") -> 0 | AQ22: =IFERROR(IF(LEN(F22)=0,"",COUNTIF($H22:$AL22,Calc!$C$20)),"") -> 0
E23: 16 | F23: =IFERROR(IF(LEN(INDEX(Lists!$C$6:$C$105,MATCH($E23,Lists!$B$6:$B$105,0)))=0,"",INDEX(Lists!$C$6:$C$105,MATCH($E23,Lists!$B$6:$B$105,0))),"") | G23: =IFERROR(IF(LEN(INDEX(Lists!$E$6:$E$105,MATCH($E23,Lists!$B$6:$B$105,0)))=0,"",INDEX(Lists!$E$6:$E$105,MATCH($E23,Lists!$B$6:$B$105,0))),"") | AN23: =IFERROR(IF(LEN(F23)=0,"",COUNTIF($H23:$AL23,Calc!$C$17)),"") | AO23: =IFERROR(IF(LEN(F23)=0,"",COUNTIF($H23:$AL23,Calc!$C$18)),"") | AP23: =IFERROR(IF(LEN(F23)=0,"",COUNTIF($H23:$AL23,Calc!$C$19)),"") | AQ23: =IFERROR(IF(LEN(F23)=0,"",COUNTIF($H23:$AL23,Calc!$C$20)),"")
E24: 17 | F24: =IFERROR(IF(LEN(INDEX(Lists!$C$6:$C$105,MATCH($E24,Lists!$B$6:$B$105,0)))=0,"",INDEX(Lists!$C$6:$C$105,MATCH($E24,Lists!$B$6:$B$105,0))),"") | G24: =IFERROR(IF(LEN(INDEX(Lists!$E$6:$E$105,MATCH($E24,Lists!$B$6:$B$105,0)))=0,"",INDEX(Lists!$E$6:$E$105,MATCH($E24,Lists!$B$6:$B$105,0))),"") | AN24: =IFERROR(IF(LEN(F24)=0,"",COUNTIF($H24:$AL24,Calc!$C$17)),"") | AO24: =IFERROR(IF(LEN(F24)=0,"",COUNTIF($H24:$AL24,Calc!$C$18)),"") | AP24: =IFERROR(IF(LEN(F24)=0,"",COUNTIF($H24:$AL24,Calc!$C$19)),"") | AQ24: =IFERROR(IF(LEN(F24)=0,"",COUNTIF($H24:$AL24,Calc!$C$20)),"")
E25: 18 | F25: =IFERROR(IF(LEN(INDEX(Lists!$C$6:$C$105,MATCH($E25,Lists!$B$6:$B$105,0)))=0,"",INDEX(Lists!$C$6:$C$105,MATCH($E25,Lists!$B$6:$B$105,0))),"") | G25: =IFERROR(IF(LEN(INDEX(Lists!$E$6:$E$105,MATCH($E25,Lists!$B$6:$B$105,0)))=0,"",INDEX(Lists!$E$6:$E$105,MATCH($E25,Lists!$B$6:$B$105,0))),"") | AN25: =IFERROR(IF(LEN(F25)=0,"",COUNTIF($H25:$AL25,Calc!$C$17)),"") | AO25: =IFERROR(IF(LEN(F25)=0,"",COUNTIF($H25:$AL25,Calc!$C$18)),"") | AP25: =IFERROR(IF(LEN(F25)=0,"",COUNTIF($H25:$AL25,Calc!$C$19)),"") | AQ25: =IFERROR(IF(LEN(F25)=0,"",COUNTIF($H25:$AL25,Calc!$C$20)),"")
E26: 19 | F26: =IFERROR(IF(LEN(INDEX(Lists!$C$6:$C$105,MATCH($E26,Lists!$B$6:$B$105,0)))=0,"",INDEX(Lists!$C$6:$C$105,MATCH($E26,Lists!$B$6:$B$105,0))),"") | G26: =IFERROR(IF(LEN(INDEX(Lists!$E$6:$E$105,MATCH($E26,Lists!$B$6:$B$105,0)))=0,"",INDEX(Lists!$E$6:$E$105,MATCH($E26,Lists!$B$6:$B$105,0))),"") | AN26: =IFERROR(IF(LEN(F26)=0,"",COUNTIF($H26:$AL26,Calc!$C$17)),"") | AO26: =IFERROR(IF(LEN(F26)=0,"",COUNTIF($H26:$AL26,Calc!$C$18)),"") | AP26: =IFERROR(IF(LEN(F26)=0,"",COUNTIF($H26:$AL26,Calc!$C$19)),"") | AQ26: =IFERROR(IF(LEN(F26)=0,"",COUNTIF($H26:$AL26,Calc!$C$20)),"")
E27: 20 | F27: =IFERROR(IF(LEN(INDEX(Lists!$C$6:$C$105,MATCH($E27,Lists!$B$6:$B$105,0)))=0,"",INDEX(Lists!$C$6:$C$105,MATCH($E27,Lists!$B$6:$B$105,0))),"") | G27: =IFERROR(IF(LEN(INDEX(Lists!$E$6:$E$105,MATCH($E27,Lists!$B$6:$B$105,0)))=0,"",INDEX(Lists!$E$6:$E$105,MATCH($E27,Lists!$B$6:$B$105,0))),"") | AN27: =IFERROR(IF(LEN(F27)=0,"",COUNTIF($H27:$AL27,Calc!$C$17)),"") | AO27: =IFERROR(IF(LEN(F27)=0,"",COUNTIF($H27:$AL27,Calc!$C$18)),"") | AP27: =IFERROR(IF(LEN(F27)=0,"",COUNTIF($H27:$AL27,Calc!$C$19)),"") | AQ27: =IFERROR(IF(LEN(F27)=0,"",COUNTIF($H27:$AL27,Calc!$C$20)),"")

Sheet November
C2: TEACHER LESSON PLAN TEMPLATE
C3: ATTENDANCE - NOVEMBER
AN6: TOTALS
C7: MONTHS | E7: # | F7: Students Name | G7: Class | H7: 1 | I7: 2 | J7: 3 | K7: 4 | L7: 5 | M7: 6 | N7: 7 | O7: 8 | P7: 9 | Q7: 10 | R7: 11 | S7: 12 | T7: 13 | U7: 14 | V7: 15 | W7: 16 | X7: 17 | Y7: 18 | Z7: 19 | AA7: 20 | AB7: 21 | AC7: 22 | AD7: 23 | AE7: 24 | AF7: 25 | AG7: 26 | AH7: 27 | AI7: 28 | AJ7: 29 | AK7: 30 | AN7: =Calc!B17 -> Present | AO7: =Calc!B18 -> Tardy | AP7: =Calc!B19 -> Excused | AQ7: =Calc!B20 -> Unexcused
E8: 1 | F8: =IFERROR(IF(LEN(INDEX(Lists!$C$6:$C$105,MATCH($E8,Lists!$B$6:$B$105,0)))=0,"",INDEX(Lists!$C$6:$C$105,MATCH($E8,Lists!$B$6:$B$105,0))),"") -> Patrick Swayze | G8: =IFERROR(IF(LEN(INDEX(Lists!$E$6:$E$105,MATCH($E8,Lists!$B$6:$B$105,0)))=0,"",INDEX(Lists!$E$6:$E$105,MATCH($E8,Lists!$B$6:$B$105,0))),"") -> 10A | AN8: =IFERROR(IF(LEN(F8)=0,"",COUNTIF($H8:$AK8,Calc!$C$17)),"") -> 0 | AO8: =IFERROR(IF(LEN(F8)=0,"",COUNTIF($H8:$AK8,Calc!$C$18)),"") -> 0 | AP8: =IFERROR(IF(LEN(F8)=0,"",COUNTIF($H8:$AK8,Calc!$C$19)),"") -> 0 | AQ8: =IFERROR(IF(LEN(F8)=0,"",COUNTIF($H8:$AK8,Calc!$C$20)),"") -> 0
C9: JANUARY | E9: 2 | F9: =IFERROR(IF(LEN(INDEX(Lists!$C$6:$C$105,MATCH($E9,Lists!$B$6:$B$105,0)))=0,"",INDEX(Lists!$C$6:$C$105,MATCH($E9,Lists!$B$6:$B$105,0))),"") -> Benicio Del Toro | G9: =IFERROR(IF(LEN(INDEX(Lists!$E$6:$E$105,MATCH($E9,Lists!$B$6:$B$105,0)))=0,"",INDEX(Lists!$E$6:$E$105,MATCH($E9,Lists!$B$6:$B$105,0))),"") -> 10A | AN9: =IFERROR(IF(LEN(F9)=0,"",COUNTIF($H9:$AK9,Calc!$C$17)),"") -> 0 | AO9: =IFERROR(IF(LEN(F9)=0,"",COUNTIF($H9:$AK9,Calc!$C$18)),"") -> 0 | AP9: =IFERROR(IF(LEN(F9)=0,"",COUNTIF($H9:$AK9,Calc!$C$19)),"") -> 0 | AQ9: =IFERROR(IF(LEN(F9)=0,"",COUNTIF($H9:$AK9,Calc!$C$20)),"") -> 0
C10: FEBRUARY | E10: 3 | F10: =IFERROR(IF(LEN(INDEX(Lists!$C$6:$C$105,MATCH($E10,Lists!$B$6:$B$105,0)))=0,"",INDEX(Lists!$C$6:$C$105,MATCH($E10,Lists!$B$6:$B$105,0))),"") -> Harvey Kietel | G10: =IFERROR(IF(LEN(INDEX(Lists!$E$6:$E$105,MATCH($E10,Lists!$B$6:$B$105,0)))=0,"",INDEX(Lists!$E$6:$E$105,MATCH($E10,Lists!$B$6:$B$105,0))),"") -> 10A | AN10: =IFERROR(IF(LEN(F10)=0,"",COUNTIF($H10:$AK10,Calc!$C$17)),"") -> 0 | AO10: =IFERROR(IF(LEN(F10)=0,"",COUNTIF($H10:$AK10,Calc!$C$18)),"") -> 0 | AP10: =IFERROR(IF(LEN(F10)=0,"",COUNTIF($H10:$AK10,Calc!$C$19)),"") -> 0 | AQ10: =IFERROR(IF(LEN(F10)=0,"",COUNTIF($H10:$AK10,Calc!$C$20)),"") -> 0
C11: MARCH | E11: 4 | F11: =IFERROR(IF(LEN(INDEX(Lists!$C$6:$C$105,MATCH($E11,Lists!$B$6:$B$105,0)))=0,"",INDEX(Lists!$C$6:$C$105,MATCH($E11,Lists!$B$6:$B$105,0))),"") -> Ed Harris | G11: =IFERROR(IF(LEN(INDEX(Lists!$E$6:$E$105,MATCH($E11,Lists!$B$6:$B$105,0)))=0,"",INDEX(Lists!$E$6:$E$105,MATCH($E11,Lists!$B$6:$B$105,0))),"") -> 10A | AN11: =IFERROR(IF(LEN(F11)=0,"",COUNTIF($H11:$AK11,Calc!$C$17)),"") -> 0 | AO11: =IFERROR(IF(LEN(F11)=0,"",COUNTIF($H11:$AK11,Calc!$C$18)),"") -> 0 | AP11: =IFERROR(IF(LEN(F11)=0,"",COUNTIF($H11:$AK11,Calc!$C$19)),"") -> 0 | AQ11: =IFERROR(IF(LEN(F11)=0,"",COUNTIF($H11:$AK11,Calc!$C$20)),"") -> 0
C12: APRIL | E12: 5 | F12: =IFERROR(IF(LEN(INDEX(Lists!$C$6:$C$105,MATCH($E12,Lists!$B$6:$B$105,0)))=0,"",INDEX(Lists!$C$6:$C$105,MATCH($E12,Lists!$B$6:$B$105,0))),"") -> Charles Laughton | G12: =IFERROR(IF(LEN(INDEX(Lists!$E$6:$E$105,MATCH($E12,Lists!$B$6:$B$105,0)))=0,"",INDEX(Lists!$E$6:$E$105,MATCH($E12,Lists!$B$6:$B$105,0))),"") -> 10A | AN12: =IFERROR(IF(LEN(F12)=0,"",COUNTIF($H12:$AK12,Calc!$C$17)),"") -> 0 | AO12: =IFERROR(IF(LEN(F12)=0,"",COUNTIF($H12:$AK12,Calc!$C$18)),"") -> 0 | AP12: =IFERROR(IF(LEN(F12)=0,"",COUNTIF($H12:$AK12,Calc!$C$19)),"") -> 0 | AQ12: =IFERROR(IF(LEN(F12)=0,"",COUNTIF($H12:$AK12,Calc!$C$20)),"") -> 0
C13: MAY | E13: 6 | F13: =IFERROR(IF(LEN(INDEX(Lists!$C$6:$C$105,MATCH($E13,Lists!$B$6:$B$105,0)))=0,"",INDEX(Lists!$C$6:$C$105,MATCH($E13,Lists!$B$6:$B$105,0))),"") -> James Caan | G13: =IFERROR(IF(LEN(INDEX(Lists!$E$6:$E$105,MATCH($E13,Lists!$B$6:$B$105,0)))=0,"",INDEX(Lists!$E$6:$E$105,MATCH($E13,Lists!$B$6:$B$105,0))),"") -> 10A | AN13: =IFERROR(IF(LEN(F13)=0,"",COUNTIF($H13:$AK13,Calc!$C$17)),"") -> 0 | AO13: =IFERROR(IF(LEN(F13)=0,"",COUNTIF($H13:$AK13,Calc!$C$18)),"") -> 0 | AP13: =IFERROR(IF(LEN(F13)=0,"",COUNTIF($H13:$AK13,Calc!$C$19)),"") -> 0 | AQ13: =IFERROR(IF(LEN(F13)=0,"",COUNTIF($H13:$AK13,Calc!$C$20)),"") -> 0
C14: JUNE | E14: 7 | F14: =IFERROR(IF(LEN(INDEX(Lists!$C$6:$C$105,MATCH($E14,Lists!$B$6:$B$105,0)))=0,"",INDEX(Lists!$C$6:$C$105,MATCH($E14,Lists!$B$6:$B$105,0))),"") -> Robert Downey Jr. | G14: =IFERROR(IF(LEN(INDEX(Lists!$E$6:$E$105,MATCH($E14,Lists!$B$6:$B$105,0)))=0,"",INDEX(Lists!$E$6:$E$105,MATCH($E14,Lists!$B$6:$B$105,0))),"") -> 10A | AN14: =IFERROR(IF(LEN(F14)=0,"",COUNTIF($H14:$AK14,Calc!$C$17)),"") -> 0 | AO14: =IFERROR(IF(LEN(F14)=0,"",COUNTIF($H14:$AK14,Calc!$C$18)),"") -> 0 | AP14: =IFERROR(IF(LEN(F14)=0,"",COUNTIF($H14:$AK14,Calc!$C$19)),"") -> 0 | AQ14: =IFERROR(IF(LEN(F14)=0,"",COUNTIF($H14:$AK14,Calc!$C$20)),"") -> 0
C15: JULY | E15: 8 | F15: =IFERROR(IF(LEN(INDEX(Lists!$C$6:$C$105,MATCH($E15,Lists!$B$6:$B$105,0)))=0,"",INDEX(Lists!$C$6:$C$105,MATCH($E15,Lists!$B$6:$B$105,0))),"") -> Alec Guiness | G15: =IFERROR(IF(LEN(INDEX(Lists!$E$6:$E$105,MATCH($E15,Lists!$B$6:$B$105,0)))=0,"",INDEX(Lists!$E$6:$E$105,MATCH($E15,Lists!$B$6:$B$105,0))),"") -> 10A | AN15: =IFERROR(IF(LEN(F15)=0,"",COUNTIF($H15:$AK15,Calc!$C$17)),"") -> 0 | AO15: =IFERROR(IF(LEN(F15)=0,"",COUNTIF($H15:$AK15,Calc!$C$18)),"") -> 0 | AP15: =IFERROR(IF(LEN(F15)=0,"",COUNTIF($H15:$AK15,Calc!$C$19)),"") -> 0 | AQ15: =IFERROR(IF(LEN(F15)=0,"",COUNTIF($H15:$AK15,Calc!$C$20)),"") -> 0
C16: AUGUST | E16: 9 | F16: =IFERROR(IF(LEN(INDEX(Lists!$C$6:$C$105,MATCH($E16,Lists!$B$6:$B$105,0)))=0,"",INDEX(Lists!$C$6:$C$105,MATCH($E16,Lists!$B$6:$B$105,0))),"") -> Viggo Mortensen | G16: =IFERROR(IF(LEN(INDEX(Lists!$E$6:$E$105,MATCH($E16,Lists!$B$6:$B$105,0)))=0,"",INDEX(Lists!$E$6:$E$105,MATCH($E16,Lists!$B$6:$B$105,0))),"") -> 10A | AN16: =IFERROR(IF(LEN(F16)=0,"",COUNTIF($H16:$AK16,Calc!$C$17)),"") -> 0 | AO16: =IFERROR(IF(LEN(F16)=0,"",COUNTIF($H16:$AK16,Calc!$C$18)),"") -> 0 | AP16: =IFERROR(IF(LEN(F16)=0,"",COUNTIF($H16:$AK16,Calc!$C$19)),"") -> 0 | AQ16: =IFERROR(IF(LEN(F16)=0,"",COUNTIF($H16:$AK16,Calc!$C$20)),"") -> 0
C17: SEPTEMBER | E17: 10 | F17: =IFERROR(IF(LEN(INDEX(Lists!$C$6:$C$105,MATCH($E17,Lists!$B$6:$B$105,0)))=0,"",INDEX(Lists!$C$6:$C$105,MATCH($E17,Lists!$B$6:$B$105,0))),"") -> Kylian Mbappe | G17: =IFERROR(IF(LEN(INDEX(Lists!$E$6:$E$105,MATCH($E17,Lists!$B$6:$B$105,0)))=0,"",INDEX(Lists!$E$6:$E$105,MATCH($E17,Lists!$B$6:$B$105,0))),"") -> 10A | AN17: =IFERROR(IF(LEN(F17)=0,"",COUNTIF($H17:$AK17,Calc!$C$17)),"") -> 0 | AO17: =IFERROR(IF(LEN(F17)=0,"",COUNTIF($H17:$AK17,Calc!$C$18)),"") -> 0 | AP17: =IFERROR(IF(LEN(F17)=0,"",COUNTIF($H17:$AK17,Calc!$C$19)),"") -> 0 | AQ17: =IFERROR(IF(LEN(F17)=0,"",COUNTIF($H17:$AK17,Calc!$C$20)),"") -> 0
C18: OCTOBER | E18: 11 | F18: =IFERROR(IF(LEN(INDEX(Lists!$C$6:$C$105,MATCH($E18,Lists!$B$6:$B$105,0)))=0,"",INDEX(Lists!$C$6:$C$105,MATCH($E18,Lists!$B$6:$B$105,0))),"") -> Jessica Alba | G18: =IFERROR(IF(LEN(INDEX(Lists!$E$6:$E$105,MATCH($E18,Lists!$B$6:$B$105,0)))=0,"",INDEX(Lists!$E$6:$E$105,MATCH($E18,Lists!$B$6:$B$105,0))),"") -> 10B | AN18: =IFERROR(IF(LEN(F18)=0,"",COUNTIF($H18:$AK18,Calc!$C$17)),"") -> 0 | AO18: =IFERROR(IF(LEN(F18)=0,"",COUNTIF($H18:$AK18,Calc!$C$18)),"") -> 0 | AP18: =IFERROR(IF(LEN(F18)=0,"",COUNTIF($H18:$AK18,Calc!$C$19)),"") -> 0 | AQ18: =IFERROR(IF(LEN(F18)=0,"",COUNTIF($H18:$AK18,Calc!$C$20)),"") -> 0
C19: NOVEMBER | E19: 12 | F19: =IFERROR(IF(LEN(INDEX(Lists!$C$6:$C$105,MATCH($E19,Lists!$B$6:$B$105,0)))=0,"",INDEX(Lists!$C$6:$C$105,MATCH($E19,Lists!$B$6:$B$105,0))),"") -> Emma Stone | G19: =IFERROR(IF(LEN(INDEX(Lists!$E$6:$E$105,MATCH($E19,Lists!$B$6:$B$105,0)))=0,"",INDEX(Lists!$E$6:$E$105,MATCH($E19,Lists!$B$6:$B$105,0))),"") -> 10B | AN19: =IFERROR(IF(LEN(F19)=0,"",COUNTIF($H19:$AK19,Calc!$C$17)),"") -> 0 | AO19: =IFERROR(IF(LEN(F19)=0,"",COUNTIF($H19:$AK19,Calc!$C$18)),"") -> 0 | AP19: =IFERROR(IF(LEN(F19)=0,"",COUNTIF($H19:$AK19,Calc!$C$19)),"") -> 0 | AQ19: =IFERROR(IF(LEN(F19)=0,"",COUNTIF($H19:$AK19,Calc!$C$20)),"") -> 0
C20: DECEMBER | E20: 13 | F20: =IFERROR(IF(LEN(INDEX(Lists!$C$6:$C$105,MATCH($E20,Lists!$B$6:$B$105,0)))=0,"",INDEX(Lists!$C$6:$C$105,MATCH($E20,Lists!$B$6:$B$105,0))),"") -> Scarlett Johansson | G20: =IFERROR(IF(LEN(INDEX(Lists!$E$6:$E$105,MATCH($E20,Lists!$B$6:$B$105,0)))=0,"",INDEX(Lists!$E$6:$E$105,MATCH($E20,Lists!$B$6:$B$105,0))),"") -> 10B | AN20: =IFERROR(IF(LEN(F20)=0,"",COUNTIF($H20:$AK20,Calc!$C$17)),"") -> 0 | AO20: =IFERROR(IF(LEN(F20)=0,"",COUNTIF($H20:$AK20,Calc!$C$18)),"") -> 0 | AP20: =IFERROR(IF(LEN(F20)=0,"",COUNTIF($H20:$AK20,Calc!$C$19)),"") -> 0 | AQ20: =IFERROR(IF(LEN(F20)=0,"",COUNTIF($H20:$AK20,Calc!$C$20)),"") -> 0
E21: 14 | F21: =IFERROR(IF(LEN(INDEX(Lists!$C$6:$C$105,MATCH($E21,Lists!$B$6:$B$105,0)))=0,"",INDEX(Lists!$C$6:$C$105,MATCH($E21,Lists!$B$6:$B$105,0))),"") -> Mila Kunis | G21: =IFERROR(IF(LEN(INDEX(Lists!$E$6:$E$105,MATCH($E21,Lists!$B$6:$B$105,0)))=0,"",INDEX(Lists!$E$6:$E$105,MATCH($E21,Lists!$B$6:$B$105,0))),"") -> 10B | AN21: =IFERROR(IF(LEN(F21)=0,"",COUNTIF($H21:$AK21,Calc!$C$17)),"") -> 0 | AO21: =IFERROR(IF(LEN(F21)=0,"",COUNTIF($H21:$AK21,Calc!$C$18)),"") -> 0 | AP21: =IFERROR(IF(LEN(F21)=0,"",COUNTIF($H21:$AK21,Calc!$C$19)),"") -> 0 | AQ21: =IFERROR(IF(LEN(F21)=0,"",COUNTIF($H21:$AK21,Calc!$C$20)),"") -> 0
E22: 15 | F22: =IFERROR(IF(LEN(INDEX(Lists!$C$6:$C$105,MATCH($E22,Lists!$B$6:$B$105,0)))=0,"",INDEX(Lists!$C$6:$C$105,MATCH($E22,Lists!$B$6:$B$105,0))),"") -> Charlize Theron | G22: =IFERROR(IF(LEN(INDEX(Lists!$E$6:$E$105,MATCH($E22,Lists!$B$6:$B$105,0)))=0,"",INDEX(Lists!$E$6:$E$105,MATCH($E22,Lists!$B$6:$B$105,0))),"") -> 10B | AN22: =IFERROR(IF(LEN(F22)=0,"",COUNTIF($H22:$AK22,Calc!$C$17)),"") -> 0 | AO22: =IFERROR(IF(LEN(F22)=0,"",COUNTIF($H22:$AK22,Calc!$C$18)),"") -> 0 | AP22: =IFERROR(IF(LEN(F22)=0,"",COUNTIF($H22:$AK22,Calc!$C$19)),"") -> 0 | AQ22: =IFERROR(IF(LEN(F22)=0,"",COUNTIF($H22:$AK22,Calc!$C$20)),"") -> 0
E23: 16 | F23: =IFERROR(IF(LEN(INDEX(Lists!$C$6:$C$105,MATCH($E23,Lists!$B$6:$B$105,0)))=0,"",INDEX(Lists!$C$6:$C$105,MATCH($E23,Lists!$B$6:$B$105,0))),"") | G23: =IFERROR(IF(LEN(INDEX(Lists!$E$6:$E$105,MATCH($E23,Lists!$B$6:$B$105,0)))=0,"",INDEX(Lists!$E$6:$E$105,MATCH($E23,Lists!$B$6:$B$105,0))),"") | AN23: =IFERROR(IF(LEN(F23)=0,"",COUNTIF($H23:$AK23,Calc!$C$17)),"") | AO23: =IFERROR(IF(LEN(F23)=0,"",COUNTIF($H23:$AK23,Calc!$C$18)),"") | AP23: =IFERROR(IF(LEN(F23)=0,"",COUNTIF($H23:$AK23,Calc!$C$19)),"") | AQ23: =IFERROR(IF(LEN(F23)=0,"",COUNTIF($H23:$AK23,Calc!$C$20)),"")
E24: 17 | F24: =IFERROR(IF(LEN(INDEX(Lists!$C$6:$C$105,MATCH($E24,Lists!$B$6:$B$105,0)))=0,"",INDEX(Lists!$C$6:$C$105,MATCH($E24,Lists!$B$6:$B$105,0))),"") | G24: =IFERROR(IF(LEN(INDEX(Lists!$E$6:$E$105,MATCH($E24,Lists!$B$6:$B$105,0)))=0,"",INDEX(Lists!$E$6:$E$105,MATCH($E24,Lists!$B$6:$B$105,0))),"") | AN24: =IFERROR(IF(LEN(F24)=0,"",COUNTIF($H24:$AK24,Calc!$C$17)),"") | AO24: =IFERROR(IF(LEN(F24)=0,"",COUNTIF($H24:$AK24,Calc!$C$18)),"") | AP24: =IFERROR(IF(LEN(F24)=0,"",COUNTIF($H24:$AK24,Calc!$C$19)),"") | AQ24: =IFERROR(IF(LEN(F24)=0,"",COUNTIF($H24:$AK24,Calc!$C$20)),"")
E25: 18 | F25: =IFERROR(IF(LEN(INDEX(Lists!$C$6:$C$105,MATCH($E25,Lists!$B$6:$B$105,0)))=0,"",INDEX(Lists!$C$6:$C$105,MATCH($E25,Lists!$B$6:$B$105,0))),"") | G25: =IFERROR(IF(LEN(INDEX(Lists!$E$6:$E$105,MATCH($E25,Lists!$B$6:$B$105,0)))=0,"",INDEX(Lists!$E$6:$E$105,MATCH($E25,Lists!$B$6:$B$105,0))),"") | AN25: =IFERROR(IF(LEN(F25)=0,"",COUNTIF($H25:$AK25,Calc!$C$17)),"") | AO25: =IFERROR(IF(LEN(F25)=0,"",COUNTIF($H25:$AK25,Calc!$C$18)),"") | AP25: =IFERROR(IF(LEN(F25)=0,"",COUNTIF($H25:$AK25,Calc!$C$19)),"") | AQ25: =IFERROR(IF(LEN(F25)=0,"",COUNTIF($H25:$AK25,Calc!$C$20)),"")
E26: 19 | F26: =IFERROR(IF(LEN(INDEX(Lists!$C$6:$C$105,MATCH($E26,Lists!$B$6:$B$105,0)))=0,"",INDEX(Lists!$C$6:$C$105,MATCH($E26,Lists!$B$6:$B$105,0))),"") | G26: =IFERROR(IF(LEN(INDEX(Lists!$E$6:$E$105,MATCH($E26,Lists!$B$6:$B$105,0)))=0,"",INDEX(Lists!$E$6:$E$105,MATCH($E26,Lists!$B$6:$B$105,0))),"") | AN26: =IFERROR(IF(LEN(F26)=0,"",COUNTIF($H26:$AK26,Calc!$C$17)),"") | AO26: =IFERROR(IF(LEN(F26)=0,"",COUNTIF($H26:$AK26,Calc!$C$18)),"") | AP26: =IFERROR(IF(LEN(F26)=0,"",COUNTIF($H26:$AK26,Calc!$C$19)),"") | AQ26: =IFERROR(IF(LEN(F26)=0,"",COUNTIF($H26:$AK26,Calc!$C$20)),"")
E27: 20 | F27: =IFERROR(IF(LEN(INDEX(Lists!$C$6:$C$105,MATCH($E27,Lists!$B$6:$B$105,0)))=0,"",INDEX(Lists!$C$6:$C$105,MATCH($E27,Lists!$B$6:$B$105,0))),"") | G27: =IFERROR(IF(LEN(INDEX(Lists!$E$6:$E$105,MATCH($E27,Lists!$B$6:$B$105,0)))=0,"",INDEX(Lists!$E$6:$E$105,MATCH($E27,Lists!$B$6:$B$105,0))),"") | AN27: =IFERROR(IF(LEN(F27)=0,"",COUNTIF($H27:$AK27,Calc!$C$17)),"") | AO27: =IFERROR(IF(LEN(F27)=0,"",COUNTIF($H27:$AK27,Calc!$C$18)),"") | AP27: =IFERROR(IF(LEN(F27)=0,"",COUNTIF($H27:$AK27,Calc!$C$19)),"") | AQ27: =IFERROR(IF(LEN(F27)=0,"",COUNTIF($H27:$AK27,Calc!$C$20)),"")

Sheet December
C2: TEACHER LESSON PLAN TEMPLATE
C3: ATTENDANCE - DECEMBER
AN6: TOTALS
C7: MONTHS | E7: # | F7: Students Name | G7: Class | H7: 1 | I7: 2 | J7: 3 | K7: 4 | L7: 5 | M7: 6 | N7: 7 | O7: 8 | P7: 9 | Q7: 10 | R7: 11 | S7: 12 | T7: 13 | U7: 14 | V7: 15 | W7: 16 | X7: 17 | Y7: 18 | Z7: 19 | AA7: 20 | AB7: 21 | AC7: 22 | AD7: 23 | AE7: 24 | AF7: 25 | AG7: 26 | AH7: 27 | AI7: 28 | AJ7: 29 | AK7: 30 | AL7: 31 | AN7: =Calc!B17 -> Present | AO7: =Calc!B18 -> Tardy | AP7: =Calc!B19 -> Excused | AQ7: =Calc!B20 -> Unexcused
E8: 1 | F8: =IFERROR(IF(LEN(INDEX(Lists!$C$6:$C$105,MATCH($E8,Lists!$B$6:$B$105,0)))=0,"",INDEX(Lists!$C$6:$C$105,MATCH($E8,Lists!$B$6:$B$105,0))),"") -> Patrick Swayze | G8: =IFERROR(IF(LEN(INDEX(Lists!$E$6:$E$105,MATCH($E8,Lists!$B$6:$B$105,0)))=0,"",INDEX(Lists!$E$6:$E$105,MATCH($E8,Lists!$B$6:$B$105,0))),"") -> 10A | AN8: =IFERROR(IF(LEN(F8)=0,"",COUNTIF($H8:$AL8,Calc!$C$17)),"") -> 0 | AO8: =IFERROR(IF(LEN(F8)=0,"",COUNTIF($H8:$AL8,Calc!$C$18)),"") -> 0 | AP8: =IFERROR(IF(LEN(F8)=0,"",COUNTIF($H8:$AL8,Calc!$C$19)),"") -> 0 | AQ8: =IFERROR(IF(LEN(F8)=0,"",COUNTIF($H8:$AL8,Calc!$C$20)),"") -> 0
C9: JANUARY | E9: 2 | F9: =IFERROR(IF(LEN(INDEX(Lists!$C$6:$C$105,MATCH($E9,Lists!$B$6:$B$105,0)))=0,"",INDEX(Lists!$C$6:$C$105,MATCH($E9,Lists!$B$6:$B$105,0))),"") -> Benicio Del Toro | G9: =IFERROR(IF(LEN(INDEX(Lists!$E$6:$E$105,MATCH($E9,Lists!$B$6:$B$105,0)))=0,"",INDEX(Lists!$E$6:$E$105,MATCH($E9,Lists!$B$6:$B$105,0))),"") -> 10A | AN9: =IFERROR(IF(LEN(F9)=0,"",COUNTIF($H9:$AL9,Calc!$C$17)),"") -> 0 | AO9: =IFERROR(IF(LEN(F9)=0,"",COUNTIF($H9:$AL9,Calc!$C$18)),"") -> 0 | AP9: =IFERROR(IF(LEN(F9)=0,"",COUNTIF($H9:$AL9,Calc!$C$19)),"") -> 0 | AQ9: =IFERROR(IF(LEN(F9)=0,"",COUNTIF($H9:$AL9,Calc!$C$20)),"") -> 0
C10: FEBRUARY | E10: 3 | F10: =IFERROR(IF(LEN(INDEX(Lists!$C$6:$C$105,MATCH($E10,Lists!$B$6:$B$105,0)))=0,"",INDEX(Lists!$C$6:$C$105,MATCH($E10,Lists!$B$6:$B$105,0))),"") -> Harvey Kietel | G10: =IFERROR(IF(LEN(INDEX(Lists!$E$6:$E$105,MATCH($E10,Lists!$B$6:$B$105,0)))=0,"",INDEX(Lists!$E$6:$E$105,MATCH($E10,Lists!$B$6:$B$105,0))),"") -> 10A | AN10: =IFERROR(IF(LEN(F10)=0,"",COUNTIF($H10:$AL10,Calc!$C$17)),"") -> 0 | AO10: =IFERROR(IF(LEN(F10)=0,"",COUNTIF($H10:$AL10,Calc!$C$18)),"") -> 0 | AP10: =IFERROR(IF(LEN(F10)=0,"",COUNTIF($H10:$AL10,Calc!$C$19)),"") -> 0 | AQ10: =IFERROR(IF(LEN(F10)=0,"",COUNTIF($H10:$AL10,Calc!$C$20)),"") -> 0
C11: MARCH | E11: 4 | F11: =IFERROR(IF(LEN(INDEX(Lists!$C$6:$C$105,MATCH($E11,Lists!$B$6:$B$105,0)))=0,"",INDEX(Lists!$C$6:$C$105,MATCH($E11,Lists!$B$6:$B$105,0))),"") -> Ed Harris | G11: =IFERROR(IF(LEN(INDEX(Lists!$E$6:$E$105,MATCH($E11,Lists!$B$6:$B$105,0)))=0,"",INDEX(Lists!$E$6:$E$105,MATCH($E11,Lists!$B$6:$B$105,0))),"") -> 10A | AN11: =IFERROR(IF(LEN(F11)=0,"",COUNTIF($H11:$AL11,Calc!$C$17)),"") -> 0 | AO11: =IFERROR(IF(LEN(F11)=0,"",COUNTIF($H11:$AL11,Calc!$C$18)),"") -> 0 | AP11: =IFERROR(IF(LEN(F11)=0,"",COUNTIF($H11:$AL11,Calc!$C$19)),"") -> 0 | AQ11: =IFERROR(IF(LEN(F11)=0,"",COUNTIF($H11:$AL11,Calc!$C$20)),"") -> 0
C12: APRIL | E12: 5 | F12: =IFERROR(IF(LEN(INDEX(Lists!$C$6:$C$105,MATCH($E12,Lists!$B$6:$B$105,0)))=0,"",INDEX(Lists!$C$6:$C$105,MATCH($E12,Lists!$B$6:$B$105,0))),"") -> Charles Laughton | G12: =IFERROR(IF(LEN(INDEX(Lists!$E$6:$E$105,MATCH($E12,Lists!$B$6:$B$105,0)))=0,"",INDEX(Lists!$E$6:$E$105,MATCH($E12,Lists!$B$6:$B$105,0))),"") -> 10A | AN12: =IFERROR(IF(LEN(F12)=0,"",COUNTIF($H12:$AL12,Calc!$C$17)),"") -> 0 | AO12: =IFERROR(IF(LEN(F12)=0,"",COUNTIF($H12:$AL12,Calc!$C$18)),"") -> 0 | AP12: =IFERROR(IF(LEN(F12)=0,"",COUNTIF($H12:$AL12,Calc!$C$19)),"") -> 0 | AQ12: =IFERROR(IF(LEN(F12)=0,"",COUNTIF($H12:$AL12,Calc!$C$20)),"") -> 0
C13: MAY | E13: 6 | F13: =IFERROR(IF(LEN(INDEX(Lists!$C$6:$C$105,MATCH($E13,Lists!$B$6:$B$105,0)))=0,"",INDEX(Lists!$C$6:$C$105,MATCH($E13,Lists!$B$6:$B$105,0))),"") -> James Caan | G13: =IFERROR(IF(LEN(INDEX(Lists!$E$6:$E$105,MATCH($E13,Lists!$B$6:$B$105,0)))=0,"",INDEX(Lists!$E$6:$E$105,MATCH($E13,Lists!$B$6:$B$105,0))),"") -> 10A | AN13: =IFERROR(IF(LEN(F13)=0,"",COUNTIF($H13:$AL13,Calc!$C$17)),"") -> 0 | AO13: =IFERROR(IF(LEN(F13)=0,"",COUNTIF($H13:$AL13,Calc!$C$18)),"") -> 0 | AP13: =IFERROR(IF(LEN(F13)=0,"",COUNTIF($H13:$AL13,Calc!$C$19)),"") -> 0 | AQ13: =IFERROR(IF(LEN(F13)=0,"",COUNTIF($H13:$AL13,Calc!$C$20)),"") -> 0
C14: JUNE | E14: 7 | F14: =IFERROR(IF(LEN(INDEX(Lists!$C$6:$C$105,MATCH($E14,Lists!$B$6:$B$105,0)))=0,"",INDEX(Lists!$C$6:$C$105,MATCH($E14,Lists!$B$6:$B$105,0))),"") -> Robert Downey Jr. | G14: =IFERROR(IF(LEN(INDEX(Lists!$E$6:$E$105,MATCH($E14,Lists!$B$6:$B$105,0)))=0,"",INDEX(Lists!$E$6:$E$105,MATCH($E14,Lists!$B$6:$B$105,0))),"") -> 10A | AN14: =IFERROR(IF(LEN(F14)=0,"",COUNTIF($H14:$AL14,Calc!$C$17)),"") -> 0 | AO14: =IFERROR(IF(LEN(F14)=0,"",COUNTIF($H14:$AL14,Calc!$C$18)),"") -> 0 | AP14: =IFERROR(IF(LEN(F14)=0,"",COUNTIF($H14:$AL14,Calc!$C$19)),"") -> 0 | AQ14: =IFERROR(IF(LEN(F14)=0,"",COUNTIF($H14:$AL14,Calc!$C$20)),"") -> 0
C15: JULY | E15: 8 | F15: =IFERROR(IF(LEN(INDEX(Lists!$C$6:$C$105,MATCH($E15,Lists!$B$6:$B$105,0)))=0,"",INDEX(Lists!$C$6:$C$105,MATCH($E15,Lists!$B$6:$B$105,0))),"") -> Alec Guiness | G15: =IFERROR(IF(LEN(INDEX(Lists!$E$6:$E$105,MATCH($E15,Lists!$B$6:$B$105,0)))=0,"",INDEX(Lists!$E$6:$E$105,MATCH($E15,Lists!$B$6:$B$105,0))),"") -> 10A | AN15: =IFERROR(IF(LEN(F15)=0,"",COUNTIF($H15:$AL15,Calc!$C$17)),"") -> 0 | AO15: =IFERROR(IF(LEN(F15)=0,"",COUNTIF($H15:$AL15,Calc!$C$18)),"") -> 0 | AP15: =IFERROR(IF(LEN(F15)=0,"",COUNTIF($H15:$AL15,Calc!$C$19)),"") -> 0 | AQ15: =IFERROR(IF(LEN(F15)=0,"",COUNTIF($H15:$AL15,Calc!$C$20)),"") -> 0
C16: AUGUST | E16: 9 | F16: =IFERROR(IF(LEN(INDEX(Lists!$C$6:$C$105,MATCH($E16,Lists!$B$6:$B$105,0)))=0,"",INDEX(Lists!$C$6:$C$105,MATCH($E16,Lists!$B$6:$B$105,0))),"") -> Viggo Mortensen | G16: =IFERROR(IF(LEN(INDEX(Lists!$E$6:$E$105,MATCH($E16,Lists!$B$6:$B$105,0)))=0,"",INDEX(Lists!$E$6:$E$105,MATCH($E16,Lists!$B$6:$B$105,0))),"") -> 10A | AN16: =IFERROR(IF(LEN(F16)=0,"",COUNTIF($H16:$AL16,Calc!$C$17)),"") -> 0 | AO16: =IFERROR(IF(LEN(F16)=0,"",COUNTIF($H16:$AL16,Calc!$C$18)),"") -> 0 | AP16: =IFERROR(IF(LEN(F16)=0,"",COUNTIF($H16:$AL16,Calc!$C$19)),"") -> 0 | AQ16: =IFERROR(IF(LEN(F16)=0,"",COUNTIF($H16:$AL16,Calc!$C$20)),"") -> 0
C17: SEPTEMBER | E17: 10 | F17: =IFERROR(IF(LEN(INDEX(Lists!$C$6:$C$105,MATCH($E17,Lists!$B$6:$B$105,0)))=0,"",INDEX(Lists!$C$6:$C$105,MATCH($E17,Lists!$B$6:$B$105,0))),"") -> Kylian Mbappe | G17: =IFERROR(IF(LEN(INDEX(Lists!$E$6:$E$105,MATCH($E17,Lists!$B$6:$B$105,0)))=0,"",INDEX(Lists!$E$6:$E$105,MATCH($E17,Lists!$B$6:$B$105,0))),"") -> 10A | AN17: =IFERROR(IF(LEN(F17)=0,"",COUNTIF($H17:$AL17,Calc!$C$17)),"") -> 0 | AO17: =IFERROR(IF(LEN(F17)=0,"",COUNTIF($H17:$AL17,Calc!$C$18)),"") -> 0 | AP17: =IFERROR(IF(LEN(F17)=0,"",COUNTIF($H17:$AL17,Calc!$C$19)),"") -> 0 | AQ17: =IFERROR(IF(LEN(F17)=0,"",COUNTIF($H17:$AL17,Calc!$C$20)),"") -> 0
C18: OCTOBER | E18: 11 | F18: =IFERROR(IF(LEN(INDEX(Lists!$C$6:$C$105,MATCH($E18,Lists!$B$6:$B$105,0)))=0,"",INDEX(Lists!$C$6:$C$105,MATCH($E18,Lists!$B$6:$B$105,0))),"") -> Jessica Alba | G18: =IFERROR(IF(LEN(INDEX(Lists!$E$6:$E$105,MATCH($E18,Lists!$B$6:$B$105,0)))=0,"",INDEX(Lists!$E$6:$E$105,MATCH($E18,Lists!$B$6:$B$105,0))),"") -> 10B | AN18: =IFERROR(IF(LEN(F18)=0,"",COUNTIF($H18:$AL18,Calc!$C$17)),"") -> 0 | AO18: =IFERROR(IF(LEN(F18)=0,"",COUNTIF($H18:$AL18,Calc!$C$18)),"") -> 0 | AP18: =IFERROR(IF(LEN(F18)=0,"",COUNTIF($H18:$AL18,Calc!$C$19)),"") -> 0 | AQ18: =IFERROR(IF(LEN(F18)=0,"",COUNTIF($H18:$AL18,Calc!$C$20)),"") -> 0
C19: NOVEMBER | E19: 12 | F19: =IFERROR(IF(LEN(INDEX(Lists!$C$6:$C$105,MATCH($E19,Lists!$B$6:$B$105,0)))=0,"",INDEX(Lists!$C$6:$C$105,MATCH($E19,Lists!$B$6:$B$105,0))),"") -> Emma Stone | G19: =IFERROR(IF(LEN(INDEX(Lists!$E$6:$E$105,MATCH($E19,Lists!$B$6:$B$105,0)))=0,"",INDEX(Lists!$E$6:$E$105,MATCH($E19,Lists!$B$6:$B$105,0))),"") -> 10B | AN19: =IFERROR(IF(LEN(F19)=0,"",COUNTIF($H19:$AL19,Calc!$C$17)),"") -> 0 | AO19: =IFERROR(IF(LEN(F19)=0,"",COUNTIF($H19:$AL19,Calc!$C$18)),"") -> 0 | AP19: =IFERROR(IF(LEN(F19)=0,"",COUNTIF($H19:$AL19,Calc!$C$19)),"") -> 0 | AQ19: =IFERROR(IF(LEN(F19)=0,"",COUNTIF($H19:$AL19,Calc!$C$20)),"") -> 0
C20: DECEMBER | E20: 13 | F20: =IFERROR(IF(LEN(INDEX(Lists!$C$6:$C$105,MATCH($E20,Lists!$B$6:$B$105,0)))=0,"",INDEX(Lists!$C$6:$C$105,MATCH($E20,Lists!$B$6:$B$105,0))),"") -> Scarlett Johansson | G20: =IFERROR(IF(LEN(INDEX(Lists!$E$6:$E$105,MATCH($E20,Lists!$B$6:$B$105,0)))=0,"",INDEX(Lists!$E$6:$E$105,MATCH($E20,Lists!$B$6:$B$105,0))),"") -> 10B | AN20: =IFERROR(IF(LEN(F20)=0,"",COUNTIF($H20:$AL20,Calc!$C$17)),"") -> 0 | AO20: =IFERROR(IF(LEN(F20)=0,"",COUNTIF($H20:$AL20,Calc!$C$18)),"") -> 0 | AP20: =IFERROR(IF(LEN(F20)=0,"",COUNTIF($H20:$AL20,Calc!$C$19)),"") -> 0 | AQ20: =IFERROR(IF(LEN(F20)=0,"",COUNTIF($H20:$AL20,Calc!$C$20)),"") -> 0
E21: 14 | F21: =IFERROR(IF(LEN(INDEX(Lists!$C$6:$C$105,MATCH($E21,Lists!$B$6:$B$105,0)))=0,"",INDEX(Lists!$C$6:$C$105,MATCH($E21,Lists!$B$6:$B$105,0))),"") -> Mila Kunis | G21: =IFERROR(IF(LEN(INDEX(Lists!$E$6:$E$105,MATCH($E21,Lists!$B$6:$B$105,0)))=0,"",INDEX(Lists!$E$6:$E$105,MATCH($E21,Lists!$B$6:$B$105,0))),"") -> 10B | AN21: =IFERROR(IF(LEN(F21)=0,"",COUNTIF($H21:$AL21,Calc!$C$17)),"") -> 0 | AO21: =IFERROR(IF(LEN(F21)=0,"",COUNTIF($H21:$AL21,Calc!$C$18)),"") -> 0 | AP21: =IFERROR(IF(LEN(F21)=0,"",COUNTIF($H21:$AL21,Calc!$C$19)),"") -> 0 | AQ21: =IFERROR(IF(LEN(F21)=0,"",COUNTIF($H21:$AL21,Calc!$C$20)),"") -> 0
E22: 15 | F22: =IFERROR(IF(LEN(INDEX(Lists!$C$6:$C$105,MATCH($E22,Lists!$B$6:$B$105,0)))=0,"",INDEX(Lists!$C$6:$C$105,MATCH($E22,Lists!$B$6:$B$105,0))),"") -> Charlize Theron | G22: =IFERROR(IF(LEN(INDEX(Lists!$E$6:$E$105,MATCH($E22,Lists!$B$6:$B$105,0)))=0,"",INDEX(Lists!$E$6:$E$105,MATCH($E22,Lists!$B$6:$B$105,0))),"") -> 10B | AN22: =IFERROR(IF(LEN(F22)=0,"",COUNTIF($H22:$AL22,Calc!$C$17)),"") -> 0 | AO22: =IFERROR(IF(LEN(F22)=0,"",COUNTIF($H22:$AL22,Calc!$C$18)),"") -> 0 | AP22: =IFERROR(IF(LEN(F22)=0,"",COUNTIF($H22:$AL22,Calc!$C$19)),"") -> 0 | AQ22: =IFERROR(IF(LEN(F22)=0,"",COUNTIF($H22:$AL22,Calc!$C$20)),"") -> 0
E23: 16 | F23: =IFERROR(IF(LEN(INDEX(Lists!$C$6:$C$105,MATCH($E23,Lists!$B$6:$B$105,0)))=0,"",INDEX(Lists!$C$6:$C$105,MATCH($E23,Lists!$B$6:$B$105,0))),"") | G23: =IFERROR(IF(LEN(INDEX(Lists!$E$6:$E$105,MATCH($E23,Lists!$B$6:$B$105,0)))=0,"",INDEX(Lists!$E$6:$E$105,MATCH($E23,Lists!$B$6:$B$105,0))),"") | AN23: =IFERROR(IF(LEN(F23)=0,"",COUNTIF($H23:$AL23,Calc!$C$17)),"") | AO23: =IFERROR(IF(LEN(F23)=0,"",COUNTIF($H23:$AL23,Calc!$C$18)),"") | AP23: =IFERROR(IF(LEN(F23)=0,"",COUNTIF($H23:$AL23,Calc!$C$19)),"") | AQ23: =IFERROR(IF(LEN(F23)=0,"",COUNTIF($H23:$AL23,Calc!$C$20)),"")
E24: 17 | F24: =IFERROR(IF(LEN(INDEX(Lists!$C$6:$C$105,MATCH($E24,Lists!$B$6:$B$105,0)))=0,"",INDEX(Lists!$C$6:$C$105,MATCH($E24,Lists!$B$6:$B$105,0))),"") | G24: =IFERROR(IF(LEN(INDEX(Lists!$E$6:$E$105,MATCH($E24,Lists!$B$6:$B$105,0)))=0,"",INDEX(Lists!$E$6:$E$105,MATCH($E24,Lists!$B$6:$B$105,0))),"") | AN24: =IFERROR(IF(LEN(F24)=0,"",COUNTIF($H24:$AL24,Calc!$C$17)),"") | AO24: =IFERROR(IF(LEN(F24)=0,"",COUNTIF($H24:$AL24,Calc!$C$18)),"") | AP24: =IFERROR(IF(LEN(F24)=0,"",COUNTIF($H24:$AL24,Calc!$C$19)),"") | AQ24: =IFERROR(IF(LEN(F24)=0,"",COUNTIF($H24:$AL24,Calc!$C$20)),"")
E25: 18 | F25: =IFERROR(IF(LEN(INDEX(Lists!$C$6:$C$105,MATCH($E25,Lists!$B$6:$B$105,0)))=0,"",INDEX(Lists!$C$6:$C$105,MATCH($E25,Lists!$B$6:$B$105,0))),"") | G25: =IFERROR(IF(LEN(INDEX(Lists!$E$6:$E$105,MATCH($E25,Lists!$B$6:$B$105,0)))=0,"",INDEX(Lists!$E$6:$E$105,MATCH($E25,Lists!$B$6:$B$105,0))),"") | AN25: =IFERROR(IF(LEN(F25)=0,"",COUNTIF($H25:$AL25,Calc!$C$17)),"") | AO25: =IFERROR(IF(LEN(F25)=0,"",COUNTIF($H25:$AL25,Calc!$C$18)),"") | AP25: =IFERROR(IF(LEN(F25)=0,"",COUNTIF($H25:$AL25,Calc!$C$19)),"") | AQ25: =IFERROR(IF(LEN(F25)=0,"",COUNTIF($H25:$AL25,Calc!$C$20)),"")
E26: 19 | F26: =IFERROR(IF(LEN(INDEX(Lists!$C$6:$C$105,MATCH($E26,Lists!$B$6:$B$105,0)))=0,"",INDEX(Lists!$C$6:$C$105,MATCH($E26,Lists!$B$6:$B$105,0))),"") | G26: =IFERROR(IF(LEN(INDEX(Lists!$E$6:$E$105,MATCH($E26,Lists!$B$6:$B$105,0)))=0,"",INDEX(Lists!$E$6:$E$105,MATCH($E26,Lists!$B$6:$B$105,0))),"") | AN26: =IFERROR(IF(LEN(F26)=0,"",COUNTIF($H26:$AL26,Calc!$C$17)),"") | AO26: =IFERROR(IF(LEN(F26)=0,"",COUNTIF($H26:$AL26,Calc!$C$18)),"") | AP26: =IFERROR(IF(LEN(F26)=0,"",COUNTIF($H26:$AL26,Calc!$C$19)),"") | AQ26: =IFERROR(IF(LEN(F26)=0,"",COUNTIF($H26:$AL26,Calc!$C$20)),"")
E27: 20 | F27: =IFERROR(IF(LEN(INDEX(Lists!$C$6:$C$105,MATCH($E27,Lists!$B$6:$B$105,0)))=0,"",INDEX(Lists!$C$6:$C$105,MATCH($E27,Lists!$B$6:$B$105,0))),"") | G27: =IFERROR(IF(LEN(INDEX(Lists!$E$6:$E$105,MATCH($E27,Lists!$B$6:$B$105,0)))=0,"",INDEX(Lists!$E$6:$E$105,MATCH($E27,Lists!$B$6:$B$105,0))),"") | AN27: =IFERROR(IF(LEN(F27)=0,"",COUNTIF($H27:$AL27,Calc!$C$17)),"") | AO27: =IFERROR(IF(LEN(F27)=0,"",COUNTIF($H27:$AL27,Calc!$C$18)),"") | AP27: =IFERROR(IF(LEN(F27)=0,"",COUNTIF($H27:$AL27,Calc!$C$19)),"") | AQ27: =IFERROR(IF(LEN(F27)=0,"",COUNTIF($H27:$AL27,Calc!$C$20)),"")

Sheet Calc
B3: General Info | E3: Daily Plan Chart | J3: Overall Averages | N3: Student-Based Charts | Y3: Attendance Tracker
B5: Completion Dropdown | E5: Subjects | F5: =B6 -> Not Started | G5: =B7 -> In Progress | H5: =B8 -> Done | J5: Courses | K5: All Homework | L5: All Exam | N5: Selected # | O5: =IFERROR(INDEX(Lists!B6:B105,MATCH(Dashboard!D31,Lists!C6:C105,0)),1) -> 1 | P5: St Exam | T5: St Homework | Y5: Months: | Z5: =Calc!B17 -> Present | AA5: =Calc!B18 -> Tardy | AB5: =Calc!B19 -> Excused | AC5: =Calc!B20 -> Unexcused
B6: Not Started | E6: 1 | F6: =IFERROR(COUNTIFS(DailyPlan!$D$12:$H$12,"?*",DailyPlan!$D$13:$H$13,Calc!F$5),"") -> 1 | G6: =IFERROR(COUNTIFS(DailyPlan!$D$12:$H$12,"?*",DailyPlan!$D$13:$H$13,Calc!G$5),"") -> 1 | H6: =IFERROR(COUNTIFS(DailyPlan!$D$12:$H$12,"?*",DailyPlan!$D$13:$H$13,Calc!H$5),"") -> 1 | J6: =IFERROR(IF(LEN(Lists!H6)=0,"",Lists!H6),"") -> Mathematics | K6: =Homework!$G$7 -> 72.288889 | L6: =Exams!$G$7 -> 70.022222 | N6: Helper | O6: Couses | P6: 1 | Q6: 2 | R6: 3 | S6: Avr. | T6: 1 | U6: 2 | V6: 3 | W6: Avr. | Y6: January | Z6: =IFERROR(INDEX(INDIRECT($Y6&"!$AN$8:$AQ$27"),Calc!$O$5,MATCH(Z$5,Calc!$B$17:$B$20,0)),"") -> 21 | AA6: =IFERROR(INDEX(INDIRECT($Y6&"!$AN$8:$AQ$27"),Calc!$O$5,MATCH(AA$5,Calc!$B$17:$B$20,0)),"") -> 1 | AB6: =IFERROR(INDEX(INDIRECT($Y6&"!$AN$8:$AQ$27"),Calc!$O$5,MATCH(AB$5,Calc!$B$17:$B$20,0)),"") -> 1 | AC6: =IFERROR(INDEX(INDIRECT($Y6&"!$AN$8:$AQ$27"),Calc!$O$5,MATCH(AC$5,Calc!$B$17:$B$20,0)),"") -> 0
B7: In Progress | E7: 2 | F7: =IFERROR(COUNTIFS(DailyPlan!$D$15:$H$15,"?*",DailyPlan!$D$16:$H$16,Calc!F$5),"") -> 2 | G7: =IFERROR(COUNTIFS(DailyPlan!$D$15:$H$15,"?*",DailyPlan!$D$16:$H$16,Calc!G$5),"") -> 0 | H7: =IFERROR(COUNTIFS(DailyPlan!$D$15:$H$15,"?*",DailyPlan!$D$16:$H$16,Calc!H$5),"") -> 1 | J7: =IFERROR(IF(LEN(Lists!H7)=0,"",Lists!H7),"") -> Physics | K7: =Homework!$J$7 -> 74.688889 | L7: =Exams!$J$7 -> 47.844444 | N7: 0 | O7: =IFERROR(IF(LEN(Lists!H6)=0,"",Lists!H6),"") -> Mathematics | P7: =IFERROR(IF(LEN(INDEX(Exams!$E$9:$AH$28,$O$5,P$6+$N7))=0,"",INDEX(Exams!$E$9:$AH$28,$O$5,P$6+$N7)),"") -> 58 | Q7: =IFERROR(IF(LEN(INDEX(Exams!$E$9:$AH$28,$O$5,Q$6+$N7))=0,"",INDEX(Exams!$E$9:$AH$28,$O$5,Q$6+$N7)),"") -> 0 | R7: =IFERROR(IF(LEN(INDEX(Exams!$E$9:$AH$28,$O$5,R$6+$N7))=0,"",INDEX(Exams!$E$9:$AH$28,$O$5,R$6+$N7)),"") -> 0 | S7: =IFERROR(SUM(P7:R7)/COUNT(P7:R7),"") -> 19.333333 | T7: =IFERROR(IF(LEN(INDEX(Homework!$E$9:$AH$28,$O$5,P$6+$N7))=0,"",INDEX(Homework!$E$9:$AH$28,$O$5,T$6+$N7)),"") -> 84 | U7: =IFERROR(IF(LEN(INDEX(Homework!$E$9:$AH$28,$O$5,Q$6+$N7))=0,"",INDEX(Homework!$E$9:$AH$28,$O$5,U$6+$N7)),"") -> 0 | V7: =IFERROR(IF(LEN(INDEX(Homework!$E$9:$AH$28,$O$5,R$6+$N7))=0,"",INDEX(Homework!$E$9:$AH$28,$O$5,V$6+$N7)),"") -> 0 | W7: =IFERROR(SUM(T7:V7)/COUNT(T7:V7),"") -> 28 | Y7: February | Z7: =IFERROR(INDEX(INDIRECT($Y7&"!$AN$8:$AQ$27"),Calc!$O$5,MATCH(Z$5,Calc!$B$17:$B$20,0)),"") -> 19 | AA7: =IFERROR(INDEX(INDIRECT($Y7&"!$AN$8:$AQ$27"),Calc!$O$5,MATCH(AA$5,Calc!$B$17:$B$20,0)),"") -> 1 | AB7: =IFERROR(INDEX(INDIRECT($Y7&"!$AN$8:$AQ$27"),Calc!$O$5,MATCH(AB$5,Calc!$B$17:$B$20,0)),"") -> 1 | AC7: =IFERROR(INDEX(INDIRECT($Y7&"!$AN$8:$AQ$27"),Calc!$O$5,MATCH(AC$5,Calc!$B$17:$B$20,0)),"") -> 0
B8: Done | E8: 3 | F8: =IFERROR(COUNTIFS(DailyPlan!$D$18:$H$18,"?*",DailyPlan!$D$19:$H$19,Calc!F$5),"") -> 0 | G8: =IFERROR(COUNTIFS(DailyPlan!$D$18:$H$18,"?*",DailyPlan!$D$19:$H$19,Calc!G$5),"") -> 0 | H8: =IFERROR(COUNTIFS(DailyPlan!$D$18:$H$18,"?*",DailyPlan!$D$19:$H$19,Calc!H$5),"") -> 0 | J8: =IFERROR(IF(LEN(Lists!H8)=0,"",Lists!H8),"") -> Geometry | K8: =Homework!$M$7 -> 75.044444 | L8: =Exams!$M$7 -> 75.822222 | N8: 3 | O8: =IFERROR(IF(LEN(Lists!H7)=0,"",Lists!H7),"") -> Physics | P8: =IFERROR(IF(LEN(INDEX(Exams!$E$9:$AH$28,$O$5,P$6+$N8))=0,"",INDEX(Exams!$E$9:$AH$28,$O$5,P$6+$N8)),"") -> 43 | Q8: =IFERROR(IF(LEN(INDEX(Exams!$E$9:$AH$28,$O$5,Q$6+$N8))=0,"",INDEX(Exams!$E$9:$AH$28,$O$5,Q$6+$N8)),"") -> 44 | R8: =IFERROR(IF(LEN(INDEX(Exams!$E$9:$AH$28,$O$5,R$6+$N8))=0,"",INDEX(Exams!$E$9:$AH$28,$O$5,R$6+$N8)),"") -> 53 | S8: =IFERROR(SUM(P8:R8)/COUNT(P8:R8),"") -> 46.666667 | T8: =IFERROR(IF(LEN(INDEX(Homework!$E$9:$AH$28,$O$5,P$6+$N8))=0,"",INDEX(Homework!$E$9:$AH$28,$O$5,T$6+$N8)),"") -> 84 | U8: =IFERROR(IF(LEN(INDEX(Homework!$E$9:$AH$28,$O$5,Q$6+$N8))=0,"",INDEX(Homework!$E$9:$AH$28,$O$5,U$6+$N8)),"") -> 79 | V8: =IFERROR(IF(LEN(INDEX(Homework!$E$9:$AH$28,$O$5,R$6+$N8))=0,"",INDEX(Homework!$E$9:$AH$28,$O$5,V$6+$N8)),"") -> 83 | W8: =IFERROR(SUM(T8:V8)/COUNT(T8:V8),"") -> 82 | Y8: March | Z8: =IFERROR(INDEX(INDIRECT($Y8&"!$AN$8:$AQ$27"),Calc!$O$5,MATCH(Z$5,Calc!$B$17:$B$20,0)),"") -> 21 | AA8: =IFERROR(INDEX(INDIRECT($Y8&"!$AN$8:$AQ$27"),Calc!$O$5,MATCH(AA$5,Calc!$B$17:$B$20,0)),"") -> 2 | AB8: =IFERROR(INDEX(INDIRECT($Y8&"!$AN$8:$AQ$27"),Calc!$O$5,MATCH(AB$5,Calc!$B$17:$B$20,0)),"") -> 0 | AC8: =IFERROR(INDEX(INDIRECT($Y8&"!$AN$8:$AQ$27"),Calc!$O$5,MATCH(AC$5,Calc!$B$17:$B$20,0)),"") -> 0
E9: 4 | F9: =IFERROR(COUNTIFS(DailyPlan!$D$21:$H$21,"?*",DailyPlan!$D$22:$H$22,Calc!F$5),"") -> 0 | G9: =IFERROR(COUNTIFS(DailyPlan!$D$21:$H$21,"?*",DailyPlan!$D$22:$H$22,Calc!G$5),"") -> 0 | H9: =IFERROR(COUNTIFS(DailyPlan!$D$21:$H$21,"?*",DailyPlan!$D$22:$H$22,Calc!H$5),"") -> 0 | J9: =IFERROR(IF(LEN(Lists!H9)=0,"",Lists!H9),"") -> Chemistry | K9: =Homework!$P$7 -> 74.8 | L9: =Exams!$P$7 -> 93.066667 | N9: 6 | O9: =IFERROR(IF(LEN(Lists!H8)=0,"",Lists!H8),"") -> Geometry | P9: =IFERROR(IF(LEN(INDEX(Exams!$E$9:$AH$28,$O$5,P$6+$N9))=0,"",INDEX(Exams!$E$9:$AH$28,$O$5,P$6+$N9)),"") -> 91 | Q9: =IFERROR(IF(LEN(INDEX(Exams!$E$9:$AH$28,$O$5,Q$6+$N9))=0,"",INDEX(Exams!$E$9:$AH$28,$O$5,Q$6+$N9)),"") -> 65 | R9: =IFERROR(IF(LEN(INDEX(Exams!$E$9:$AH$28,$O$5,R$6+$N9))=0,"",INDEX(Exams!$E$9:$AH$28,$O$5,R$6+$N9)),"") -> 71 | S9: =IFERROR(SUM(P9:R9)/COUNT(P9:R9),"") -> 75.666667 | T9: =IFERROR(IF(LEN(INDEX(Homework!$E$9:$AH$28,$O$5,P$6+$N9))=0,"",INDEX(Homework!$E$9:$AH$28,$O$5,T$6+$N9)),"") -> 79 | U9: =IFERROR(IF(LEN(INDEX(Homework!$E$9:$AH$28,$O$5,Q$6+$N9))=0,"",INDEX(Homework!$E$9:$AH$28,$O$5,U$6+$N9)),"") -> 82 | V9: =IFERROR(IF(LEN(INDEX(Homework!$E$9:$AH$28,$O$5,R$6+$N9))=0,"",INDEX(Homework!$E$9:$AH$28,$O$5,V$6+$N9)),"") -> 72 | W9: =IFERROR(SUM(T9:V9)/COUNT(T9:V9),"") -> 77.666667 | Y9: April | Z9: =IFERROR(INDEX(INDIRECT($Y9&"!$AN$8:$AQ$27"),Calc!$O$5,MATCH(Z$5,Calc!$B$17:$B$20,0)),"") -> 20 | AA9: =IFERROR(INDEX(INDIRECT($Y9&"!$AN$8:$AQ$27"),Calc!$O$5,MATCH(AA$5,Calc!$B$17:$B$20,0)),"") -> 2 | AB9: =IFERROR(INDEX(INDIRECT($Y9&"!$AN$8:$AQ$27"),Calc!$O$5,MATCH(AB$5,Calc!$B$17:$B$20,0)),"") -> 0 | AC9: =IFERROR(INDEX(INDIRECT($Y9&"!$AN$8:$AQ$27"),Calc!$O$5,MATCH(AC$5,Calc!$B$17:$B$20,0)),"") -> 0
B10: Lesson Number | C10: =IFERROR(COUNTIF(Lists!H6:H15,"?*"),20) -> 5 | E10: 5 | F10: =IFERROR(COUNTIFS(DailyPlan!$D$24:$H$24,"?*",DailyPlan!$D$25:$H$25,Calc!F$5),"") -> 0 | G10: =IFERROR(COUNTIFS(DailyPlan!$D$24:$H$24,"?*",DailyPlan!$D$25:$H$25,Calc!G$5),"") -> 0 | H10: =IFERROR(COUNTIFS(DailyPlan!$D$24:$H$24,"?*",DailyPlan!$D$25:$H$25,Calc!H$5),"") -> 0 | J10: =IFERROR(IF(LEN(Lists!H10)=0,"",Lists!H10),"") -> Biology | K10: =Homework!$S$7 -> 74.111111 | L10: =Exams!$S$7 -> 75.688889 | N10: 9 | O10: =IFERROR(IF(LEN(Lists!H9)=0,"",Lists!H9),"") -> Chemistry | P10: =IFERROR(IF(LEN(INDEX(Exams!$E$9:$AH$28,$O$5,P$6+$N10))=0,"",INDEX(Exams!$E$9:$AH$28,$O$5,P$6+$N10)),"") -> 93 | Q10: =IFERROR(IF(LEN(INDEX(Exams!$E$9:$AH$28,$O$5,Q$6+$N10))=0,"",INDEX(Exams!$E$9:$AH$28,$O$5,Q$6+$N10)),"") -> 99 | R10: =IFERROR(IF(LEN(INDEX(Exams!$E$9:$AH$28,$O$5,R$6+$N10))=0,"",INDEX(Exams!$E$9:$AH$28,$O$5,R$6+$N10)),"") -> 87 | S10: =IFERROR(SUM(P10:R10)/COUNT(P10:R10),"") -> 93 | T10: =IFERROR(IF(LEN(INDEX(Homework!$E$9:$AH$28,$O$5,P$6+$N10))=0,"",INDEX(Homework!$E$9:$AH$28,$O$5,T$6+$N10)),"") -> 73 | U10: =IFERROR(IF(LEN(INDEX(Homework!$E$9:$AH$28,$O$5,Q$6+$N10))=0,"",INDEX(Homework!$E$9:$AH$28,$O$5,U$6+$N10)),"") -> 78 | V10: =IFERROR(IF(LEN(INDEX(Homework!$E$9:$AH$28,$O$5,R$6+$N10))=0,"",INDEX(Homework!$E$9:$AH$28,$O$5,V$6+$N10)),"") -> 79 | W10: =IFERROR(SUM(T10:V10)/COUNT(T10:V10),"") -> 76.666667 | Y10: May | Z10: =IFERROR(INDEX(INDIRECT($Y10&"!$AN$8:$AQ$27"),Calc!$O$5,MATCH(Z$5,Calc!$B$17:$B$20,0)),"") -> 0 | AA10: =IFERROR(INDEX(INDIRECT($Y10&"!$AN$8:$AQ$27"),Calc!$O$5,MATCH(AA$5,Calc!$B$17:$B$20,0)),"") -> 0 | AB10: =IFERROR(INDEX(INDIRECT($Y10&"!$AN$8:$AQ$27"),Calc!$O$5,MATCH(AB$5,Calc!$B$17:$B$20,0)),"") -> 0 | AC10: =IFERROR(INDEX(INDIRECT($Y10&"!$AN$8:$AQ$27"),Calc!$O$5,MATCH(AC$5,Calc!$B$17:$B$20,0)),"") -> 0
