Workbook

Sheet Dashboard
E2: PERIODIC TABLE WORKSHEET
E3: DASHBOARD
C6: Periodic Table of the Elements
D7: 1 | AL7: 18
D8: =HYPERLINK("#'Elements'!A"&5+(E8-1)*9," ") | E8: 1 | AL8: =HYPERLINK("#'Elements'!A"&5+(AM8-1)*9," ") | AM8: 2
C9: 1 | D9: =HYPERLINK("#'Elements'!A"&5+(E8-1)*9,INDEX(Calc!$B$5:$B$122,E8)) -> H | E9: =HYPERLINK("#'Elements'!A"&5+(E8-1)*9," ") | F9: 2 | AB9: 13 | AD9: 14 | AF9: 15 | AH9: 16 | AJ9: 17 | AL9: =HYPERLINK("#'Elements'!A"&5+(AM8-1)*9,INDEX(Calc!$B$5:$B$122,AM8)) -> He | AM9: =HYPERLINK("#'Elements'!A"&5+(AM8-1)*9," ")
D10: =HYPERLINK("#'Elements'!A"&5+(E10-1)*9," ") | E10: 3 | F10: =HYPERLINK("#'Elements'!A"&5+(G10-1)*9," ") | G10: 4 | AB10: =HYPERLINK("#'Elements'!A"&5+(AC10-1)*9," ") | AC10: 5 | AD10: =HYPERLINK("#'Elements'!A"&5+(AE10-1)*9," ") | AE10: 6 | AF10: =HYPERLINK("#'Elements'!A"&5+(AG10-1)*9," ") | AG10: 7 | AH10: =HYPERLINK("#'Elements'!A"&5+(AI10-1)*9," ") | AI10: 8 | AJ10: =HYPERLINK("#'Elements'!A"&5+(AK10-1)*9," ") | AK10: 9 | AL10: =HYPERLINK("#'Elements'!A"&5+(AM10-1)*9," ") | AM10: 10
C11: 2 | D11: =HYPERLINK("#'Elements'!A"&5+(E10-1)*9,INDEX(Calc!$B$5:$B$122,E10)) -> Li | E11: =HYPERLINK("#'Elements'!A"&5+(E10-1)*9," ") | F11: =HYPERLINK("#'Elements'!A"&5+(G10-1)*9,INDEX(Calc!$B$5:$B$122,G10)) -> Be | G11: =HYPERLINK("#'Elements'!A"&5+(G10-1)*9," ") | AB11: =HYPERLINK("#'Elements'!A"&5+(AC10-1)*9,INDEX(Calc!$B$5:$B$122,AC10)) -> B | AC11: =HYPERLINK("#'Elements'!A"&5+(AC10-1)*9," ") | AD11: =HYPERLINK("#'Elements'!A"&5+(AE10-1)*9,INDEX(Calc!$B$5:$B$122,AE10)) -> C | AE11: =HYPERLINK("#'Elements'!A"&5+(AE10-1)*9," ") | AF11: =HYPERLINK("#'Elements'!A"&5+(AG10-1)*9,INDEX(Calc!$B$5:$B$122,AG10)) -> N | AG11: =HYPERLINK("#'Elements'!A"&5+(AG10-1)*9," ") | AH11: =HYPERLINK("#'Elements'!A"&5+(AI10-1)*9,INDEX(Calc!$B$5:$B$122,AI10)) -> O | AI11: =HYPERLINK("#'Elements'!A"&5+(AI10-1)*9," ") | AJ11: =HYPERLINK("#'Elements'!A"&5+(AK10-1)*9,INDEX(Calc!$B$5:$B$122,AK10)) -> F | AK11: =HYPERLINK("#'Elements'!A"&5+(AK10-1)*9," ") | AL11: =HYPERLINK("#'Elements'!A"&5+(AM10-1)*9,INDEX(Calc!$B$5:$B$122,AM10)) -> Ne | AM11: =HYPERLINK("#'Elements'!A"&5+(AM10-1)*9," ")
D12: =HYPERLINK("#'Elements'!A"&5+(E12-1)*9," ") | E12: 11 | F12: =HYPERLINK("#'Elements'!A"&5+(G12-1)*9," ") | G12: 12 | AB12: =HYPERLINK("#'Elements'!A"&5+(AC12-1)*9," ") | AC12: 13 | AD12: =HYPERLINK("#'Elements'!A"&5+(AE12-1)*9," ") | AE12: 14 | AF12: =HYPERLINK("#'Elements'!A"&5+(AG12-1)*9," ") | AG12: 15 | AH12: =HYPERLINK("#'Elements'!A"&5+(AI12-1)*9," ") | AI12: 16 | AJ12: =HYPERLINK("#'Elements'!A"&5+(AK12-1)*9," ") | AK12: 17 | AL12: =HYPERLINK("#'Elements'!A"&5+(AM12-1)*9," ") | AM12: 18
C13: 3 | D13: =HYPERLINK("#'Elements'!A"&5+(E12-1)*9,INDEX(Calc!$B$5:$B$122,E12)) -> Na | E13: =HYPERLINK("#'Elements'!A"&5+(E12-1)*9," ") | F13: =HYPERLINK("#'Elements'!A"&5+(G12-1)*9,INDEX(Calc!$B$5:$B$122,G12)) -> Mg | G13: =HYPERLINK("#'Elements'!A"&5+(G12-1)*9," ") | H13: 3 | J13: 4 | L13: 5 | N13: 6 | P13: 7 | R13: 8 | T13: 9 | V13: 10 | X13: 11 | Z13: 12 | AB13: =HYPERLINK("#'Elements'!A"&5+(AC12-1)*9,INDEX(Calc!$B$5:$B$122,AC12)) -> Al | AC13: =HYPERLINK("#'Elements'!A"&5+(AC12-1)*9," ") | AD13: =HYPERLINK("#'Elements'!A"&5+(AE12-1)*9,INDEX(Calc!$B$5:$B$122,AE12)) -> Si | AE13: =HYPERLINK("#'Elements'!A"&5+(AE12-1)*9," ") | AF13: =HYPERLINK("#'Elements'!A"&5+(AG12-1)*9,INDEX(Calc!$B$5:$B$122,AG12)) -> P | AG13: =HYPERLINK("#'Elements'!A"&5+(AG12-1)*9," ") | AH13: =HYPERLINK("#'Elements'!A"&5+(AI12-1)*9,INDEX(Calc!$B$5:$B$122,AI12)) -> S | AI13: =HYPERLINK("#'Elements'!A"&5+(AI12-1)*9," ") | AJ13: =HYPERLINK("#'Elements'!A"&5+(AK12-1)*9,INDEX(Calc!$B$5:$B$122,AK12)) -> Cl | AK13: =HYPERLINK("#'Elements'!A"&5+(AK12-1)*9," ") | AL13: =HYPERLINK("#'Elements'!A"&5+(AM12-1)*9,INDEX(Calc!$B$5:$B$122,AM12)) -> Ar | AM13: =HYPERLINK("#'Elements'!A"&5+(AM12-1)*9," ")
D14: =HYPERLINK("#'Elements'!A"&5+(E14-1)*9," ") | E14: 19 | F14: =HYPERLINK("#'Elements'!A"&5+(G14-1)*9," ") | G14: 20 | H14: =HYPERLINK("#'Elements'!A"&5+(I14-1)*9," ") | I14: 21 | J14: =HYPERLINK("#'Elements'!A"&5+(K14-1)*9," ") | K14: 22 | L14: =HYPERLINK("#'Elements'!A"&5+(M14-1)*9," ") | M14: 23 | N14: =HYPERLINK("#'Elements'!A"&5+(O14-1)*9," ") | O14: 24 | P14: =HYPERLINK("#'Elements'!A"&5+(Q14-1)*9," ") | Q14: 25 | R14: =HYPERLINK("#'Elements'!A"&5+(S14-1)*9," ") | S14: 26 | T14: =HYPERLINK("#'Elements'!A"&5+(U14-1)*9," ") | U14: 27 | V14: =HYPERLINK("#'Elements'!A"&5+(W14-1)*9," ") | W14: 28 | X14: =HYPERLINK("#'Elements'!A"&5+(Y14-1)*9," ") | Y14: 29 | Z14: =HYPERLINK("#'Elements'!A"&5+(AA14-1)*9," ") | AA14: 30 | AB14: =HYPERLINK("#'Elements'!A"&5+(AC14-1)*9," ") | AC14: 31 | AD14: =HYPERLINK("#'Elements'!A"&5+(AE14-1)*9," ") | AE14: 32 | AF14: =HYPERLINK("#'Elements'!A"&5+(AG14-1)*9," ") | AG14: 33 | AH14: =HYPERLINK("#'Elements'!A"&5+(AI14-1)*9," ") | AI14: 34 | AJ14: =HYPERLINK("#'Elements'!A"&5+(AK14-1)*9," ") | AK14: 35 | AL14: =HYPERLINK("#'Elements'!A"&5+(AM14-1)*9," ") | AM14: 36
C15: 4 | D15: =HYPERLINK("#'Elements'!A"&5+(E14-1)*9,INDEX(Calc!$B$5:$B$122,E14)) -> K | E15: =HYPERLINK("#'Elements'!A"&5+(E14-1)*9," ") | F15: =HYPERLINK("#'Elements'!A"&5+(G14-1)*9,INDEX(Calc!$B$5:$B$122,G14)) -> Ca | G15: =HYPERLINK("#'Elements'!A"&5+(G14-1)*9," ") | H15: =HYPERLINK("#'Elements'!A"&5+(I14-1)*9,INDEX(Calc!$B$5:$B$122,I14)) -> Sc | I15: =HYPERLINK("#'Elements'!A"&5+(I14-1)*9," ") | J15: =HYPERLINK("#'Elements'!A"&5+(K14-1)*9,INDEX(Calc!$B$5:$B$122,K14)) -> Ti | K15: =HYPERLINK("#'Elements'!A"&5+(K14-1)*9," ") | L15: =HYPERLINK("#'Elements'!A"&5+(M14-1)*9,INDEX(Calc!$B$5:$B$122,M14)) -> V | M15: =HYPERLINK("#'Elements'!A"&5+(M14-1)*9," ") | N15: =HYPERLINK("#'Elements'!A"&5+(O14-1)*9,INDEX(Calc!$B$5:$B$122,O14)) -> Cr | O15: =HYPERLINK("#'Elements'!A"&5+(O14-1)*9," ") | P15: =HYPERLINK("#'Elements'!A"&5+(Q14-1)*9,INDEX(Calc!$B$5:$B$122,Q14)) -> Mn | Q15: =HYPERLINK("#'Elements'!A"&5+(Q14-1)*9," ") | R15: =HYPERLINK("#'Elements'!A"&5+(S14-1)*9,INDEX(Calc!$B$5:$B$122,S14)) -> Fe | S15: =HYPERLINK("#'Elements'!A"&5+(S14-1)*9," ") | T15: =HYPERLINK("#'Elements'!A"&5+(U14-1)*9,INDEX(Calc!$B$5:$B$122,U14)) -> Co | U15: =HYPERLINK("#'Elements'!A"&5+(U14-1)*9," ") | V15: =HYPERLINK("#'Elements'!A"&5+(W14-1)*9,INDEX(Calc!$B$5:$B$122,W14)) -> Ni | W15: =HYPERLINK("#'Elements'!A"&5+(W14-1)*9," ") | X15: =HYPERLINK("#'Elements'!A"&5+(Y14-1)*9,INDEX(Calc!$B$5:$B$122,Y14)) -> Cu | Y15: =HYPERLINK("#'Elements'!A"&5+(Y14-1)*9," ") | Z15: =HYPERLINK("#'Elements'!A"&5+(AA14-1)*9,INDEX(Calc!$B$5:$B$122,AA14)) -> Zn | AA15: =HYPERLINK("#'Elements'!A"&5+(AA14-1)*9," ") | AB15: =HYPERLINK("#'Elements'!A"&5+(AC14-1)*9,INDEX(Calc!$B$5:$B$122,AC14)) -> Ga | AC15: =HYPERLINK("#'Elements'!A"&5+(AC14-1)*9," ") | AD15: =HYPERLINK("#'Elements'!A"&5+(AE14-1)*9,INDEX(Calc!$B$5:$B$122,AE14)) -> Ge | AE15: =HYPERLINK("#'Elements'!A"&5+(AE14-1)*9," ") | AF15: =HYPERLINK("#'Elements'!A"&5+(AG14-1)*9,INDEX(Calc!$B$5:$B$122,AG14)) -> As | AG15: =HYPERLINK("#'Elements'!A"&5+(AG14-1)*9," ") | AH15: =HYPERLINK("#'Elements'!A"&5+(AI14-1)*9,INDEX(Calc!$B$5:$B$122,AI14)) -> Se | AI15: =HYPERLINK("#'Elements'!A"&5+(AI14-1)*9," ") | AJ15: =HYPERLINK("#'Elements'!A"&5+(AK14-1)*9,INDEX(Calc!$B$5:$B$122,AK14)) -> Br | AK15: =HYPERLINK("#'Elements'!A"&5+(AK14-1)*9," ") | AL15: =HYPERLINK("#'Elements'!A"&5+(AM14-1)*9,INDEX(Calc!$B$5:$B$122,AM14)) -> Kr | AM15: =HYPERLINK("#'Elements'!A"&5+(AM14-1)*9," ")
D16: =HYPERLINK("#'Elements'!A"&5+(E16-1)*9," ") | E16: 37 | F16: =HYPERLINK("#'Elements'!A"&5+(G16-1)*9," ") | G16: 38 | H16: =HYPERLINK("#'Elements'!A"&5+(I16-1)*9," ") | I16: 39 | J16: =HYPERLINK("#'Elements'!A"&5+(K16-1)*9," ") | K16: 40 | L16: =HYPERLINK("#'Elements'!A"&5+(M16-1)*9," ") | M16: 41 | N16: =HYPERLINK("#'Elements'!A"&5+(O16-1)*9," ") | O16: 42 | P16: =HYPERLINK("#'Elements'!A"&5+(Q16-1)*9," ") | Q16: 43 | R16: =HYPERLINK("#'Elements'!A"&5+(S16-1)*9," ") | S16: 44 | T16: =HYPERLINK("#'Elements'!A"&5+(U16-1)*9," ") | U16: 45 | V16: =HYPERLINK("#'Elements'!A"&5+(W16-1)*9," ") | W16: 46 | X16: =HYPERLINK("#'Elements'!A"&5+(Y16-1)*9," ") | Y16: 47 | Z16: =HYPERLINK("#'Elements'!A"&5+(AA16-1)*9," ") | AA16: 48 | AB16: =HYPERLINK("#'Elements'!A"&5+(AC16-1)*9," ") | AC16: 49 | AD16: =HYPERLINK("#'Elements'!A"&5+(AE16-1)*9," ") | AE16: 50 | AF16: =HYPERLINK("#'Elements'!A"&5+(AG16-1)*9," ") | AG16: 51 | AH16: =HYPERLINK("#'Elements'!A"&5+(AI16-1)*9," ") | AI16: 52 | AJ16: =HYPERLINK("#'Elements'!A"&5+(AK16-1)*9," ") | AK16: 53 | AL16: =HYPERLINK("#'Elements'!A"&5+(AM16-1)*9," ") | AM16: 54
C17: 5 | D17: =HYPERLINK("#'Elements'!A"&5+(E16-1)*9,INDEX(Calc!$B$5:$B$122,E16)) -> Rb | E17: =HYPERLINK("#'Elements'!A"&5+(E16-1)*9," ") | F17: =HYPERLINK("#'Elements'!A"&5+(G16-1)*9,INDEX(Calc!$B$5:$B$122,G16)) -> Sr | G17: =HYPERLINK("#'Elements'!A"&5+(G16-1)*9," ") | H17: =HYPERLINK("#'Elements'!A"&5+(I16-1)*9,INDEX(Calc!$B$5:$B$122,I16)) -> Y | I17: =HYPERLINK("#'Elements'!A"&5+(I16-1)*9," ") | J17: =HYPERLINK("#'Elements'!A"&5+(K16-1)*9,INDEX(Calc!$B$5:$B$122,K16)) -> Zr | K17: =HYPERLINK("#'Elements'!A"&5+(K16-1)*9," ") | L17: =HYPERLINK("#'Elements'!A"&5+(M16-1)*9,INDEX(Calc!$B$5:$B$122,M16)) -> Nb | M17: =HYPERLINK("#'Elements'!A"&5+(M16-1)*9," ") | N17: =HYPERLINK("#'Elements'!A"&5+(O16-1)*9,INDEX(Calc!$B$5:$B$122,O16)) -> Mo | O17: =HYPERLINK("#'Elements'!A"&5+(O16-1)*9," ") | P17: =HYPERLINK("#'Elements'!A"&5+(Q16-1)*9,INDEX(Calc!$B$5:$B$122,Q16)) -> Tc | Q17: =HYPERLINK("#'Elements'!A"&5+(Q16-1)*9," ") | R17: =HYPERLINK("#'Elements'!A"&5+(S16-1)*9,INDEX(Calc!$B$5:$B$122,S16)) -> Ru | S17: =HYPERLINK("#'Elements'!A"&5+(S16-1)*9," ") | T17: =HYPERLINK("#'Elements'!A"&5+(U16-1)*9,INDEX(Calc!$B$5:$B$122,U16)) -> Rh | U17: =HYPERLINK("#'Elements'!A"&5+(U16-1)*9," ") | V17: =HYPERLINK("#'Elements'!A"&5+(W16-1)*9,INDEX(Calc!$B$5:$B$122,W16)) -> Pd | W17: =HYPERLINK("#'Elements'!A"&5+(W16-1)*9," ") | X17: =HYPERLINK("#'Elements'!A"&5+(Y16-1)*9,INDEX(Calc!$B$5:$B$122,Y16)) -> Ag | Y17: =HYPERLINK("#'Elements'!A"&5+(Y16-1)*9," ") | Z17: =HYPERLINK("#'Elements'!A"&5+(AA16-1)*9,INDEX(Calc!$B$5:$B$122,AA16)) -> Cd | AA17: =HYPERLINK("#'Elements'!A"&5+(AA16-1)*9," ") | AB17: =HYPERLINK("#'Elements'!A"&5+(AC16-1)*9,INDEX(Calc!$B$5:$B$122,AC16)) -> In | AC17: =HYPERLINK("#'Elements'!A"&5+(AC16-1)*9," ") | AD17: =HYPERLINK("#'Elements'!A"&5+(AE16-1)*9,INDEX(Calc!$B$5:$B$122,AE16)) -> Sn | AE17: =HYPERLINK("#'Elements'!A"&5+(AE16-1)*9," ") | AF17: =HYPERLINK("#'Elements'!A"&5+(AG16-1)*9,INDEX(Calc!$B$5:$B$122,AG16)) -> Sb | AG17: =HYPERLINK("#'Elements'!A"&5+(AG16-1)*9," ") | AH17: =HYPERLINK("#'Elements'!A"&5+(AI16-1)*9,INDEX(Calc!$B$5:$B$122,AI16)) -> Te | AI17: =HYPERLINK("#'Elements'!A"&5+(AI16-1)*9," ") | AJ17: =HYPERLINK("#'Elements'!A"&5+(AK16-1)*9,INDEX(Calc!$B$5:$B$122,AK16)) -> I | AK17: =HYPERLINK("#'Elements'!A"&5+(AK16-1)*9," ") | AL17: =HYPERLINK("#'Elements'!A"&5+(AM16-1)*9,INDEX(Calc!$B$5:$B$122,AM16)) -> Xe | AM17: =HYPERLINK("#'Elements'!A"&5+(AM16-1)*9," ")
D18: =HYPERLINK("#'Elements'!A"&5+(E18-1)*9," ") | E18: 55 | F18: =HYPERLINK("#'Elements'!A"&5+(G18-1)*9," ") | G18: 56 | J18: =HYPERLINK("#'Elements'!A"&5+(K18-1)*9," ") | K18: 72 | L18: =HYPERLINK("#'Elements'!A"&5+(M18-1)*9," ") | M18: 73 | N18: =HYPERLINK("#'Elements'!A"&5+(O18-1)*9," ") | O18: 74 | P18: =HYPERLINK("#'Elements'!A"&5+(Q18-1)*9," ") | Q18: 75 | R18: =HYPERLINK("#'Elements'!A"&5+(S18-1)*9," ") | S18: 76 | T18: =HYPERLINK("#'Elements'!A"&5+(U18-1)*9," ") | U18: 77 | V18: =HYPERLINK("#'Elements'!A"&5+(W18-1)*9," ") | W18: 78 | X18: =HYPERLINK("#'Elements'!A"&5+(Y18-1)*9," ") | Y18: 79 | Z18: =HYPERLINK("#'Elements'!A"&5+(AA18-1)*9," ") | AA18: 80 | AB18: =HYPERLINK("#'Elements'!A"&5+(AC18-1)*9," ") | AC18: 81 | AD18: =HYPERLINK("#'Elements'!A"&5+(AE18-1)*9," ") | AE18: 82 | AF18: =HYPERLINK("#'Elements'!A"&5+(AG18-1)*9," ") | AG18: 83 | AH18: =HYPERLINK("#'Elements'!A"&5+(AI18-1)*9," ") | AI18: 84 | AJ18: =HYPERLINK("#'Elements'!A"&5+(AK18-1)*9," ") | AK18: 85 | AL18: =HYPERLINK("#'Elements'!A"&5+(AM18-1)*9," ") | AM18: 86
C19: 6 | D19: =HYPERLINK("#'Elements'!A"&5+(E18-1)*9,INDEX(Calc!$B$5:$B$122,E18)) -> Cs | E19: =HYPERLINK("#'Elements'!A"&5+(E18-1)*9," ") | F19: =HYPERLINK("#'Elements'!A"&5+(G18-1)*9,INDEX(Calc!$B$5:$B$122,G18)) -> Ba | G19: =HYPERLINK("#'Elements'!A"&5+(G18-1)*9," ") | J19: =HYPERLINK("#'Elements'!A"&5+(K18-1)*9,INDEX(Calc!$B$5:$B$122,K18)) -> Hf | K19: =HYPERLINK("#'Elements'!A"&5+(K18-1)*9," ") | L19: =HYPERLINK("#'Elements'!A"&5+(M18-1)*9,INDEX(Calc!$B$5:$B$122,M18)) -> Ta | M19: =HYPERLINK("#'Elements'!A"&5+(M18-1)*9," ") | N19: =HYPERLINK("#'Elements'!A"&5+(O18-1)*9,INDEX(Calc!$B$5:$B$122,O18)) -> W | O19: =HYPERLINK("#'Elements'!A"&5+(O18-1)*9," ") | P19: =HYPERLINK("#'Elements'!A"&5+(Q18-1)*9,INDEX(Calc!$B$5:$B$122,Q18)) -> Re | Q19: =HYPERLINK("#'Elements'!A"&5+(Q18-1)*9," ") | R19: =HYPERLINK("#'Elements'!A"&5+(S18-1)*9,INDEX(Calc!$B$5:$B$122,S18)) -> Os | S19: =HYPERLINK("#'Elements'!A"&5+(S18-1)*9," ") | T19: =HYPERLINK("#'Elements'!A"&5+(U18-1)*9,INDEX(Calc!$B$5:$B$122,U18)) -> Ir | U19: =HYPERLINK("#'Elements'!A"&5+(U18-1)*9," ") | V19: =HYPERLINK("#'Elements'!A"&5+(W18-1)*9,INDEX(Calc!$B$5:$B$122,W18)) -> Pt | W19: =HYPERLINK("#'Elements'!A"&5+(W18-1)*9," ") | X19: =HYPERLINK("#'Elements'!A"&5+(Y18-1)*9,INDEX(Calc!$B$5:$B$122,Y18)) -> Au | Y19: =HYPERLINK("#'Elements'!A"&5+(Y18-1)*9," ") | Z19: =HYPERLINK("#'Elements'!A"&5+(AA18-1)*9,INDEX(Calc!$B$5:$B$122,AA18)) -> Hg | AA19: =HYPERLINK("#'Elements'!A"&5+(AA18-1)*9," ") | AB19: =HYPERLINK("#'Elements'!A"&5+(AC18-1)*9,INDEX(Calc!$B$5:$B$122,AC18)) -> Tl | AC19: =HYPERLINK("#'Elements'!A"&5+(AC18-1)*9," ") | AD19: =HYPERLINK("#'Elements'!A"&5+(AE18-1)*9,INDEX(Calc!$B$5:$B$122,AE18)) -> Pb | AE19: =HYPERLINK("#'Elements'!A"&5+(AE18-1)*9," ") | AF19: =HYPERLINK("#'Elements'!A"&5+(AG18-1)*9,INDEX(Calc!$B$5:$B$122,AG18)) -> Bi | AG19: =HYPERLINK("#'Elements'!A"&5+(AG18-1)*9," ") | AH19: =HYPERLINK("#'Elements'!A"&5+(AI18-1)*9,INDEX(Calc!$B$5:$B$122,AI18)) -> Po | AI19: =HYPERLINK("#'Elements'!A"&5+(AI18-1)*9," ") | AJ19: =HYPERLINK("#'Elements'!A"&5+(AK18-1)*9,INDEX(Calc!$B$5:$B$122,AK18)) -> At | AK19: =HYPERLINK("#'Elements'!A"&5+(AK18-1)*9," ") | AL19: =HYPERLINK("#'Elements'!A"&5+(AM18-1)*9,INDEX(Calc!$B$5:$B$122,AM18)) -> Rn | AM19: =HYPERLINK("#'Elements'!A"&5+(AM18-1)*9," ")
D20: =HYPERLINK("#'Elements'!A"&5+(E20-1)*9," ") | E20: 87 | F20: =HYPERLINK("#'Elements'!A"&5+(G20-1)*9," ") | G20: 88 | J20: =HYPERLINK("#'Elements'!A"&5+(K20-1)*9," ") | K20: 104 | L20: =HYPERLINK("#'Elements'!A"&5+(M20-1)*9," ") | M20: 105 | N20: =HYPERLINK("#'Elements'!A"&5+(O20-1)*9," ") | O20: 106 | P20: =HYPERLINK("#'Elements'!A"&5+(Q20-1)*9," ") | Q20: 107 | R20: =HYPERLINK("#'Elements'!A"&5+(S20-1)*9," ") | S20: 108 | T20: =HYPERLINK("#'Elements'!A"&5+(U20-1)*9," ") | U20: 109 | V20: =HYPERLINK("#'Elements'!A"&5+(W20-1)*9," ") | W20: 110 | X20: =HYPERLINK("#'Elements'!A"&5+(Y20-1)*9," ") | Y20: 111 | Z20: =HYPERLINK("#'Elements'!A"&5+(AA20-1)*9," ") | AA20: 112 | AB20: =HYPERLINK("#'Elements'!A"&5+(AC20-1)*9," ") | AC20: 113 | AD20: =HYPERLINK("#'Elements'!A"&5+(AE20-1)*9,"") | AE20: 114 | AF20: =HYPERLINK("#'Elements'!A"&5+(AG20-1)*9,"") | AG20: 115 | AH20: =HYPERLINK("#'Elements'!A"&5+(AI20-1)*9,"") | AI20: 116 | AJ20: =HYPERLINK("#'Elements'!A"&5+(AK20-1)*9,"") | AK20: 117 | AL20: =HYPERLINK("#'Elements'!A"&5+(AM20-1)*9,"") | AM20: 118
C21: 7 | D21: =HYPERLINK("#'Elements'!A"&5+(E20-1)*9,INDEX(Calc!$B$5:$B$122,E20)) -> Fr | E21: =HYPERLINK("#'Elements'!A"&5+(E20-1)*9," ") | F21: =HYPERLINK("#'Elements'!A"&5+(G20-1)*9,INDEX(Calc!$B$5:$B$122,G20)) -> Ra | G21: =HYPERLINK("#'Elements'!A"&5+(G20-1)*9," ") | J21: =HYPERLINK("#'Elements'!A"&5+(K20-1)*9,INDEX(Calc!$B$5:$B$122,K20)) -> Rf | K21: =HYPERLINK("#'Elements'!A"&5+(K20-1)*9," ") | L21: =HYPERLINK("#'Elements'!A"&5+(M20-1)*9,INDEX(Calc!$B$5:$B$122,M20)) -> Db | M21: =HYPERLINK("#'Elements'!A"&5+(M20-1)*9," ") | N21: =HYPERLINK("#'Elements'!A"&5+(O20-1)*9,INDEX(Calc!$B$5:$B$122,O20)) -> Sg | O21: =HYPERLINK("#'Elements'!A"&5+(O20-1)*9," ") | P21: =HYPERLINK("#'Elements'!A"&5+(Q20-1)*9,INDEX(Calc!$B$5:$B$122,Q20)) -> Bh | Q21: =HYPERLINK("#'Elements'!A"&5+(Q20-1)*9," ") | R21: =HYPERLINK("#'Elements'!A"&5+(S20-1)*9,INDEX(Calc!$B$5:$B$122,S20)) -> Hs | S21: =HYPERLINK("#'Elements'!A"&5+(S20-1)*9," ") | T21: =HYPERLINK("#'Elements'!A"&5+(U20-1)*9,INDEX(Calc!$B$5:$B$122,U20)) -> Mt | U21: =HYPERLINK("#'Elements'!A"&5+(U20-1)*9," ") | V21: =HYPERLINK("#'Elements'!A"&5+(W20-1)*9,INDEX(Calc!$B$5:$B$122,W20)) -> Ds | W21: =HYPERLINK("#'Elements'!A"&5+(W20-1)*9," ") | X21: =HYPERLINK("#'Elements'!A"&5+(Y20-1)*9,INDEX(Calc!$B$5:$B$122,Y20)) -> Rg | Y21: =HYPERLINK("#'Elements'!A"&5+(Y20-1)*9," ") | Z21: =HYPERLINK("#'Elements'!A"&5+(AA20-1)*9,INDEX(Calc!$B$5:$B$122,AA20)) -> Cn | AA21: =HYPERLINK("#'Elements'!A"&5+(AA20-1)*9," ") | AB21: =HYPERLINK("#'Elements'!A"&5+(AC20-1)*9,INDEX(Calc!$B$5:$B$122,AC20)) -> Nh | AC21: =HYPERLINK("#'Elements'!A"&5+(AC20-1)*9," ") | AD21: =HYPERLINK("#'Elements'!A"&5+(AE20-1)*9,INDEX(Calc!$B$5:$B$122,AE20)) -> Fl | AE21: =HYPERLINK("#'Elements'!A"&5+(AE20-1)*9,"") | AF21: =HYPERLINK("#'Elements'!A"&5+(AG20-1)*9,INDEX(Calc!$B$5:$B$122,AG20)) -> Mc | AG21: =HYPERLINK("#'Elements'!A"&5+(AG20-1)*9,"") | AH21: =HYPERLINK("#'Elements'!A"&5+(AI20-1)*9,INDEX(Calc!$B$5:$B$122,AI20)) -> Lv | AI21: =HYPERLINK("#'Elements'!A"&5+(AI20-1)*9,"") | AJ21: =HYPERLINK("#'Elements'!A"&5+(AK20-1)*9,INDEX(Calc!$B$5:$B$122,AK20)) -> Ts | AK21: =HYPERLINK("#'Elements'!A"&5+(AK20-1)*9,"") | AL21: =HYPERLINK("#'Elements'!A"&5+(AM20-1)*9,INDEX(Calc!$B$5:$B$122,AM20)) -> Og | AM21: =HYPERLINK("#'Elements'!A"&5+(AM20-1)*9,"")
J23: =HYPERLINK("#'Elements'!A"&5+(K23-1)*9," ") | K23: 57 | L23: =HYPERLINK("#'Elements'!A"&5+(M23-1)*9," ") | M23: 58 | N23: =HYPERLINK("#'Elements'!A"&5+(O23-1)*9," ") | O23: 59 | P23: =HYPERLINK("#'Elements'!A"&5+(Q23-1)*9," ") | Q23: 60 | R23: =HYPERLINK("#'Elements'!A"&5+(S23-1)*9," ") | S23: 61 | T23: =HYPERLINK("#'Elements'!A"&5+(U23-1)*9," ") | U23: 62 | V23: =HYPERLINK("#'Elements'!A"&5+(W23-1)*9," ") | W23: 63 | X23: =HYPERLINK("#'Elements'!A"&5+(Y23-1)*9," ") | Y23: 64 | Z23: =HYPERLINK("#'Elements'!A"&5+(AA23-1)*9," ") | AA23: 65 | AB23: =HYPERLINK("#'Elements'!A"&5+(AC23-1)*9," ") | AC23: 66 | AD23: =HYPERLINK("#'Elements'!A"&5+(AE23-1)*9," ") | AE23: 67 | AF23: =HYPERLINK("#'Elements'!A"&5+(AG23-1)*9," ") | AG23: 68 | AH23: =HYPERLINK("#'Elements'!A"&5+(AI23-1)*9," ") | AI23: 69 | AJ23: =HYPERLINK("#'Elements'!A"&5+(AK23-1)*9," ") | AK23: 70 | AL23: =HYPERLINK("#'Elements'!A"&5+(AM23-1)*9," ") | AM23: 71
I24: 6 | J24: =HYPERLINK("#'Elements'!A"&5+(K23-1)*9,INDEX(Calc!$B$5:$B$122,K23)) -> La | K24: =HYPERLINK("#'Elements'!A"&5+(K23-1)*9," ") | L24: =HYPERLINK("#'Elements'!A"&5+(M23-1)*9,INDEX(Calc!$B$5:$B$122,M23)) -> Ce | M24: =HYPERLINK("#'Elements'!A"&5+(M23-1)*9," ") | N24: =HYPERLINK("#'Elements'!A"&5+(O23-1)*9,INDEX(Calc!$B$5:$B$122,O23)) -> Pr | O24: =HYPERLINK("#'Elements'!A"&5+(O23-1)*9," ") | P24: =HYPERLINK("#'Elements'!A"&5+(Q23-1)*9,INDEX(Calc!$B$5:$B$122,Q23)) -> Nd | Q24: =HYPERLINK("#'Elements'!A"&5+(Q23-1)*9," ") | R24: =HYPERLINK("#'Elements'!A"&5+(S23-1)*9,INDEX(Calc!$B$5:$B$122,S23)) -> Pm | S24: =HYPERLINK("#'Elements'!A"&5+(S23-1)*9," ") | T24: =HYPERLINK("#'Elements'!A"&5+(U23-1)*9,INDEX(Calc!$B$5:$B$122,U23)) -> Sm | U24: =HYPERLINK("#'Elements'!A"&5+(U23-1)*9," ") | V24: =HYPERLINK("#'Elements'!A"&5+(W23-1)*9,INDEX(Calc!$B$5:$B$122,W23)) -> Eu | W24: =HYPERLINK("#'Elements'!A"&5+(W23-1)*9," ") | X24: =HYPERLINK("#'Elements'!A"&5+(Y23-1)*9,INDEX(Calc!$B$5:$B$122,Y23)) -> Gd | Y24: =HYPERLINK("#'Elements'!A"&5+(Y23-1)*9," ") | Z24: =HYPERLINK("#'Elements'!A"&5+(AA23-1)*9,INDEX(Calc!$B$5:$B$122,AA23)) -> Tb | AA24: =HYPERLINK("#'Elements'!A"&5+(AA23-1)*9," ") | AB24: =HYPERLINK("#'Elements'!A"&5+(AC23-1)*9,INDEX(Calc!$B$5:$B$122,AC23)) -> Dy | AC24: =HYPERLINK("#'Elements'!A"&5+(AC23-1)*9," ") | AD24: =HYPERLINK("#'Elements'!A"&5+(AE23-1)*9,INDEX(Calc!$B$5:$B$122,AE23)) -> Ho | AE24: =HYPERLINK("#'Elements'!A"&5+(AE23-1)*9," ") | AF24: =HYPERLINK("#'Elements'!A"&5+(AG23-1)*9,INDEX(Calc!$B$5:$B$122,AG23)) -> Er | AG24: =HYPERLINK("#'Elements'!A"&5+(AG23-1)*9," ") | AH24: =HYPERLINK("#'Elements'!A"&5+(AI23-1)*9,INDEX(Calc!$B$5:$B$122,AI23)) -> Tm | AI24: =HYPERLINK("#'Elements'!A"&5+(AI23-1)*9," ") | AJ24: =HYPERLINK("#'Elements'!A"&5+(AK23-1)*9,INDEX(Calc!$B$5:$B$122,AK23)) -> Yb | AK24: =HYPERLINK("#'Elements'!A"&5+(AK23-1)*9," ") | AL24: =HYPERLINK("#'Elements'!A"&5+(AM23-1)*9,INDEX(Calc!$B$5:$B$122,AM23)) -> Lu | AM24: =HYPERLINK("#'Elements'!A"&5+(AM23-1)*9," ")
J25: =HYPERLINK("#'Elements'!A"&5+(K25-1)*9," ") | K25: 89 | L25: =HYPERLINK("#'Elements'!A"&5+(M25-1)*9," ") | M25: 90 | N25: =HYPERLINK("#'Elements'!A"&5+(O25-1)*9," ") | O25: 91 | P25: =HYPERLINK("#'Elements'!A"&5+(Q25-1)*9," ") | Q25: 92 | R25: =HYPERLINK("#'Elements'!A"&5+(S25-1)*9," ") | S25: 93 | T25: =HYPERLINK("#'Elements'!A"&5+(U25-1)*9," ") | U25: 94 | V25: =HYPERLINK("#'Elements'!A"&5+(W25-1)*9," ") | W25: 95 | X25: =HYPERLINK("#'Elements'!A"&5+(Y25-1)*9," ") | Y25: 96 | Z25: =HYPERLINK("#'Elements'!A"&5+(AA25-1)*9," ") | AA25: 97 | AB25: =HYPERLINK("#'Elements'!A"&5+(AC25-1)*9," ") | AC25: 98 | AD25: =HYPERLINK("#'Elements'!A"&5+(AE25-1)*9," ") | AE25: 99 | AF25: =HYPERLINK("#'Elements'!A"&5+(AG25-1)*9," ") | AG25: 100 | AH25: =HYPERLINK("#'Elements'!A"&5+(AI25-1)*9," ") | AI25: 101 | AJ25: =HYPERLINK("#'Elements'!A"&5+(AK25-1)*9," ") | AK25: 102 | AL25: =HYPERLINK("#'Elements'!A"&5+(AM25-1)*9," ") | AM25: 103
I26: 7 | J26: =HYPERLINK("#'Elements'!A"&5+(K25-1)*9,INDEX(Calc!$B$5:$B$122,K25)) -> Ac | K26: =HYPERLINK("#'Elements'!A"&5+(K25-1)*9," ") | L26: =HYPERLINK("#'Elements'!A"&5+(M25-1)*9,INDEX(Calc!$B$5:$B$122,M25)) -> Th | M26: =HYPERLINK("#'Elements'!A"&5+(M25-1)*9," ") | N26: =HYPERLINK("#'Elements'!A"&5+(O25-1)*9,INDEX(Calc!$B$5:$B$122,O25)) -> Pa | O26: =HYPERLINK("#'Elements'!A"&5+(O25-1)*9," ") | P26: =HYPERLINK("#'Elements'!A"&5+(Q25-1)*9,INDEX(Calc!$B$5:$B$122,Q25)) -> U | Q26: =HYPERLINK("#'Elements'!A"&5+(Q25-1)*9," ") | R26: =HYPERLINK("#'Elements'!A"&5+(S25-1)*9,INDEX(Calc!$B$5:$B$122,S25)) -> Np | S26: =HYPERLINK("#'Elements'!A"&5+(S25-1)*9," ") | T26: =HYPERLINK("#'Elements'!A"&5+(U25-1)*9,INDEX(Calc!$B$5:$B$122,U25)) -> Pu | U26: =HYPERLINK("#'Elements'!A"&5+(U25-1)*9," ") | V26: =HYPERLINK("#'Elements'!A"&5+(W25-1)*9,INDEX(Calc!$B$5:$B$122,W25)) -> Am | W26: =HYPERLINK("#'Elements'!A"&5+(W25-1)*9," ") | X26: =HYPERLINK("#'Elements'!A"&5+(Y25-1)*9,INDEX(Calc!$B$5:$B$122,Y25)) -> Cm | Y26: =HYPERLINK("#'Elements'!A"&5+(Y25-1)*9," ") | Z26: =HYPERLINK("#'Elements'!A"&5+(AA25-1)*9,INDEX(Calc!$B$5:$B$122,AA25)) -> Bk | AA26: =HYPERLINK("#'Elements'!A"&5+(AA25-1)*9," ") | AB26: =HYPERLINK("#'Elements'!A"&5+(AC25-1)*9,INDEX(Calc!$B$5:$B$122,AC25)) -> Cf | AC26: =HYPERLINK("#'Elements'!A"&5+(AC25-1)*9," ") | AD26: =HYPERLINK("#'Elements'!A"&5+(AE25-1)*9,INDEX(Calc!$B$5:$B$122,AE25)) -> Es | AE26: =HYPERLINK("#'Elements'!A"&5+(AE25-1)*9," ") | AF26: =HYPERLINK("#'Elements'!A"&5+(AG25-1)*9,INDEX(Calc!$B$5:$B$122,AG25)) -> Fm | AG26: =HYPERLINK("#'Elements'!A"&5+(AG25-1)*9," ") | AH26: =HYPERLINK("#'Elements'!A"&5+(AI25-1)*9,INDEX(Calc!$B$5:$B$122,AI25)) -> Md | AI26: =HYPERLINK("#'Elements'!A"&5+(AI25-1)*9," ") | AJ26: =HYPERLINK("#'Elements'!A"&5+(AK25-1)*9,INDEX(Calc!$B$5:$B$122,AK25)) -> No | AK26: =HYPERLINK("#'Elements'!A"&5+(AK25-1)*9," ") | AL26: =HYPERLINK("#'Elements'!A"&5+(AM25-1)*9,INDEX(Calc!$B$5:$B$122,AM25)) -> Lr | AM26: =HYPERLINK("#'Elements'!A"&5+(AM25-1)*9," ")
G29: Nonmetals | N29: Inert Gases | S29: Semimetallics | Y29: Lanthanides | AF29: Alkali Metals
G31: Halogens | N31: Other Metals | S31: Transition Metals | Y31: Actinides | AF31: Alkaine - earth metals

Sheet Elements
C2: PERIODIC TABLE WORKSHEET
C3: ELEMENTS INFO
B5: Hydrogen
C6: Chemical symbol | D6: : | E6: H | J6: Description | K6: : | L6: Reactive nonmetal
C7: No. | D7: : | E7: 1 | J7: Atomic mass | K7: : | L7: 1,00794 g/mol
C8: Group | D8: : | E8: 1 | J8: Density at 20°C | K8: : | L8: 0,084 g/l
C9: Period | D9: : | E9: 1 | J9: Melting point °C | K9: : | L9: -259,1 °C
C10: Block | D10: : | E10: s | J10: Boiling point °C | K10: : | L10: -252,9 °C
C11: State at STP | D11: : | E11: Gas | J11: Year of discovery | K11: : | L11: 1766
C12: Occurrence | D12: : | E12: Primordial
B14: Helium
C15: Chemical symbol | D15: : | E15: He | J15: Description | K15: : | L15: Noble gas
C16: No. | D16: : | E16: 2 | J16: Atomic mass | K16: : | L16: 4,002602 g/mol
C17: Group | D17: : | E17: 18 | J17: Density at 20°C | K17: : | L17: 0,17 g/l
C18: Period | D18: : | E18: 1 | J18: Melting point °C | K18: : | L18: -272,2 °C
C19: Block | D19: : | E19: s | J19: Boiling point °C | K19: : | L19: -268,9 °C
C20: State at STP | D20: : | E20: Gas | J20: Year of discovery | K20: : | L20: 1895
C21: Occurrence | D21: : | E21: Primordial
B23: Lithium
C24: Chemical symbol | D24: : | E24: Li | J24: Description | K24: : | L24: Alkali metal
C25: No. | D25: : | E25: 3 | J25: Atomic mass | K25: : | L25: 6,941 g/mol
C26: Group | D26: : | E26: 1 | J26: Density at 20°C | K26: : | L26: 0,53 g/cm3
C27: Period | D27: : | E27: 2 | J27: Melting point °C | K27: : | L27: 180,5 °C
C28: Block | D28: : | E28: s | J28: Boiling point °C | K28: : | L28: 1317 °C
C29: State at STP | D29: : | E29: Solid | J29: Year of discovery | K29: : | L29: 1817
C30: Occurrence | D30: : | E30: Primordial
B32: Beryllium
C33: Chemical symbol | D33: : | E33: Be | J33: Description | K33: : | L33: Alkaline earth metal
C34: No. | D34: : | E34: 4 | J34: Atomic mass | K34: : | L34: 9,012182 g/mol
C35: Group | D35: : | E35: 2 | J35: Density at 20°C | K35: : | L35: 1,85 g/cm3
C36: Period | D36: : | E36: 2 | J36: Melting point °C | K36: : | L36: 1278 °C
C37: Block | D37: : | E37: s | J37: Boiling point °C | K37: : | L37: 2970 °C
C38: State at STP | D38: : | E38: Solid | J38: Year of discovery | K38: : | L38: 1797
C39: Occurrence | D39: : | E39: Primordial
B41: Boron
C42: Chemical symbol | D42: : | E42: B | J42: Description | K42: : | L42: Metalloid
C43: No. | D43: : | E43: 5 | J43: Atomic mass | K43: : | L43: 10,811 g/mol
C44: Group | D44: : | E44: 13 | J44: Density at 20°C | K44: : | L44: 2,46 g/cm3
C45: Period | D45: : | E45: 2 | J45: Melting point °C | K45: : | L45: 2300 °C
C46: Block | D46: : | E46: p | J46: Boiling point °C | K46: : | L46: 2550 °C
C47: State at STP | D47: : | E47: Solid | J47: Year of discovery | K47: : | L47: 1808
C48: Occurrence | D48: : | E48: Primordial
B50: Carbon
C51: Chemical symbol | D51: : | E51: C | J51: Description | K51: : | L51: Reactive nonmetal
C52: No. | D52: : | E52: 6 | J52: Atomic mass | K52: : | L52: 12,011 g/mol
C53: Group | D53: : | E53: 14 | J53: Density at 20°C | K53: : | L53: 3,51 g/cm3
C54: Period | D54: : | E54: 2 | J54: Melting point °C | K54: : | L54: 3550 °C
C55: Block | D55: : | E55: p | J55: Boiling point °C | K55: : | L55: 4827 °C
C56: State at STP | D56: : | E56: Solid | J56: Year of discovery | K56: : | L56: prehistoric
C57: Occurrence | D57: : | E57: Primordial
B59: Nitrogen
C60: Chemical symbol | D60: : | E60: N | J60: Description | K60: : | L60: Reactive nonmetal
C61: No. | D61: : | E61: 7 | J61: Atomic mass | K61: : | L61: 14,00674 g/mol
C62: Group | D62: : | E62: 15 | J62: Density at 20°C | K62: : | L62: 1,17 g/l
C63: Period | D63: : | E63: 2 | J63: Melting point °C | K63: : | L63: -209,9 °C
C64: Block | D64: : | E64: p | J64: Boiling point °C | K64: : | L64: -195,8 °C
C65: State at STP | D65: : | E65: Gas | J65: Year of discovery | K65: : | L65: 1772
C66: Occurrence | D66: : | E66: Primordial
B68: Oxygen
C69: Chemical symbol | D69: : | E69: O | J69: Description | K69: : | L69: Reactive nonmetals
C70: No. | D70: : | E70: 8 | J70: Atomic mass | K70: : | L70: 15,9994 g/mol
C71: Group | D71: : | E71: 16 | J71: Density at 20°C | K71: : | L71: 1,33 g/l
C72: Period | D72: : | E72: 2 | J72: Melting point °C | K72: : | L72: -218,4 °C
C73: Block | D73: : | E73: p | J73: Boiling point °C | K73: : | L73: -182,9 °C
C74: State at STP | D74: : | E74: Gas | J74: Year of discovery | K74: : | L74: 1774
C75: Occurrence | D75: : | E75: Primordial
B77: Fluorine
C78: Chemical symbol | D78: : | E78: F | J78: Description | K78: : | L78: Reactive nonmetal / Halogen
C79: No. | D79: : | E79: 9 | J79: Atomic mass | K79: : | L79: 18,9984032 g/mol
C80: Group | D80: : | E80: 17 | J80: Density at 20°C | K80: : | L80: 1,58 g/l
C81: Period | D81: : | E81: 2 | J81: Melting point °C | K81: : | L81: -219,6 °C
C82: Block | D82: : | E82: p | J82: Boiling point °C | K82: : | L82: -188,1 °C
C83: State at STP | D83: : | E83: Solid | J83: Year of discovery | K83: : | L83: 1886
C84: Occurrence | D84: : | E84: Primordial
B86: Neon
C87: Chemical symbol | D87: : | E87: Ne | J87: Description | K87: : | L87: Noble gas
C88: No. | D88: : | E88: 10 | J88: Atomic mass | K88: : | L88: 20,1797 g/mol
C89: Group | D89: : | E89: 18 | J89: Density at 20°C | K89: : | L89: 0,84 g/l
C90: Period | D90: : | E90: 2 | J90: Melting point °C | K90: : | L90: -248,7 °C
C91: Block | D91: : | E91: p | J91: Boiling point °C | K91: : | L91: -246,1 °C
C92: State at STP | D92: : | E92: Gas | J92: Year of discovery | K92: : | L92: 1898
C93: Occurrence | D93: : | E93: Primordial
B95: Sodium
C96: Chemical symbol | D96: : | E96: Na | J96: Description | K96: : | L96: Alkali metal
C97: No. | D97: : | E97: 11 | J97: Atomic mass | K97: : | L97: 22,989768 g/mol
C98: Group | D98: : | E98: 1 | J98: Density at 20°C | K98: : | L98: 0,97 g/cm3
C99: Period | D99: : | E99: 3 | J99: Melting point °C | K99: : | L99: 97,8 °C
C100: Block | D100: : | E100: s | J100: Boiling point °C | K100: : | L100: 892 °C
C101: State at STP | D101: : | E101: Solid | J101: Year of discovery | K101: : | L101: 1807
C102: Occurrence | D102: : | E102: Primordial
B104: Magnesium
C105: Chemical symbol | D105: : | E105: Mg | J105: Description | K105: : | L105: Alkaline earth metal
C106: No. | D106: : | E106: 12 | J106: Atomic mass | K106: : | L106: 24,305 g/mol
C107: Group | D107: : | E107: 2 | J107: Density at 20°C | K107: : | L107: 1,74 g/cm3
C108: Period | D108: : | E108: 3 | J108: Melting point °C | K108: : | L108: 648,8 °C
C109: Block | D109: : | E109: s | J109: Boiling point °C | K109: : | L109: 1107 °C
C110: State at STP | D110: : | E110: Solid | J110: Year of discovery | K110: : | L110: 1755
C111: Occurrence | D111: : | E111: Primordial
B113: Aluminium
C114: Chemical symbol | D114: : | E114: Al | J114: Description | K114: : | L114: Post-transition metal
...

Sheet Calc
B3: Symbols
B4: All
B5: H
B6: He
B7: Li
B8: Be
B9: B
B10: C
B11: N
B12: O
B13: F
B14: Ne
... B122: Og
