Workbook
Name Dynamic_Database_Height: StandingsCalc!$T$3
Name Dynamic_Standings_Height: StandingsCalc!$W$3
Name maxgameno: Settings!$Q$8
Name maxroundno: Settings!$Q$7
Name maxteamno: Settings!$Q$6
Name nTeams: MAX(3, CEILING(FixtureCode!$C$3, 2))

Sheet Settings
C2: LEAGUE SCHEDULE MAKER
C3: SETTINGS
B5: No | C5: Teams | D5: Venue | F5: SETTINGS | P5: Real Max Team No: | Q5: {=MAX(IF(LEN($C$6:$C$37)>0,$B$6:$B$37,0))} -> 18
B6: 1 | C6: Legal Swamp Twisters | D6: Beaver Stadium | F6: League Name: | G6: Dummy League | P6: Max Team No: | Q6: {=ROUNDUP(MAX(IF(LEN($C$6:$C$37)>0,$B$6:$B$37,0))/2,0)*2} -> 18
B7: 2 | C7: Ancient Crows | D7: Ohio Stadium | F7: Points for Win: | G7: 3 | P7: Max Round No: | Q7: =IF(LEN($G$10)=0," - ",($Q$6-1)*$G$10) -> 17
B8: 3 | C8: Wise Panthers | D8: Kyle Field | F8: Points for Draw: | G8: 1 | P8: Max Game No: | Q8: =Q6/2 -> 9
B9: 4 | C9: South Leaders | D9: Neyland Stadium | F9: Points for Lose | G9: 0
B10: 5 | C10: Kaptain City | D10: Tiger Stadium | F10: Play each other: | G10: 1
B11: 6 | C11: Delta Blazers | D11: Bryant–Denny Stadium
B12: 7 | C12: Real Revolution | D12: Darrell K Royal–Texas Memorial Stadium | F12: TIE BRAKER
B13: 8 | C13: Silver Rangers | D13: Ben Hill Griffin Stadium | F13: Priority | G13: Rule
B14: 9 | C14: Earnest Broncos | D14: Jordan–Hare Stadium | F14: 1 | G14: Points
B15: 10 | C15: Red Sirens | D15: Gaylord Family Oklahoma Memorial Stadium | F15: 2 | G15: Win Rate
B16: 11 | C16: Haunting Bottle Rockets | D16: Memorial Stadium | F16: 3 | G16: GD
B17: 12 | C17: Final Green Gazelles | D17: Neyland Stadium | F17: 4 | G17: GF
B18: 13 | C18: Mighty Patriots | D18: Tiger Stadium | F18: 5
B19: 14 | C19: The Krakens | D19: Bryant–Denny Stadium
B20: 15 | C20: Northern Tan Whackers | D20: Darrell K Royal–Texas Memorial Stadium
B21: 16 | C21: The Classic | D21: Ben Hill Griffin Stadium
B22: 17 | C22: Defiant Jesters | D22: Jordan–Hare Stadium
B23: 18 | C23: Unethical Bison | D23: Gaylord Family Oklahoma Memorial Stadium
B24: 19
B25: 20
B26: 21
B27: 22
B28: 23
B29: 24
B30: 25
B31: 26
B32: 27
B33: 28
B34: 29
B35: 30
... B37: 32

Sheet FixtureCode
B3: Teams: | C3: =Settings!Q6 -> 18 | D3: =IF(ISODD(C3), "Team " & C3+1 & " is a Bye", "")
B4: Round | C4: G1-T1 | D4: G1-T2 | E4: G2-T1 | F4: G2-T2 | G4: G3-T1 | H4: G3-T2 | I4: G4-T1 | J4: G4-T2 | K4: G5-T1 | L4: G5-T2 | M4: G6-T1 | N4: G6-T2 | O4: G7-T1 | P4: G7-T2 | Q4: G8-T1 | R4: G8-T2 | S4: G9-T1 | T4: G9-T2 | U4: G10-T1 | V4: G10-T2 | W4: G11-T1 | X4: G11-T2 | Y4: G12-T1 | Z4: G12-T2 | AA4: G13-T1 | AB4: G13-T2 | AC4: G14-T1 | AD4: G14-T2 | AE4: G15-T1 | AF4: G15-T2 | AG4: G16-T1 | AH4: G16-T2
B5: 1 | C5: =1 -> 1 | D5: =nTeams -> 18 | E5: =C5 + 1 -> 2 | F5: =D5 - 1 -> 17 | G5: =E5 + 1 -> 3 | H5: =F5 - 1 -> 16 | I5: =G5 + 1 -> 4 | J5: =H5 - 1 -> 15 | K5: =I5 + 1 -> 5 | L5: =J5 - 1 -> 14 | M5: =K5 + 1 -> 6 | N5: =L5 - 1 -> 13 | O5: =M5 + 1 -> 7 | P5: =N5 - 1 -> 12 | Q5: =O5 + 1 -> 8 | R5: =P5 - 1 -> 11 | S5: =Q5 + 1 -> 9 | T5: =R5 - 1 -> 10 | U5: =S5 + 1 -> 10 | V5: =T5 - 1 -> 9 | W5: =U5 + 1 -> 11 | X5: =V5 - 1 -> 8 | Y5: =W5 + 1 -> 12 | Z5: =X5 - 1 -> 7 | AA5: =Y5 + 1 -> 13 | AB5: =Z5 - 1 -> 6 | AC5: =AA5 + 1 -> 14 | AD5: =AB5 - 1 -> 5 | AE5: =AC5 + 1 -> 15 | AF5: =AD5 - 1 -> 4 | AG5: =AE5 + 1 -> 16 | AH5: =AF5 - 1 -> 3
B6: =IF(B5+1<=$C$3-1,B5+1,"") -> 2 | C6: =1 -> 1 | D6: =MOD(D5 - 3, nTeams - 1) + 2 -> 17 | E6: =MOD(E5 - 3, nTeams - 1) + 2 -> 18 | F6: =MOD(F5 - 3, nTeams - 1) + 2 -> 16 | G6: =MOD(G5 - 3, nTeams - 1) + 2 -> 2 | H6: =MOD(H5 - 3, nTeams - 1) + 2 -> 15 | I6: =MOD(I5 - 3, nTeams - 1) + 2 -> 3 | J6: =MOD(J5 - 3, nTeams - 1) + 2 -> 14 | K6: =MOD(K5 - 3, nTeams - 1) + 2 -> 4 | ... AH6: =MOD(AH5 - 3, nTeams - 1) + 2 -> 2
B7: =IF(B6+1<=$C$3-1,B6+1,"") -> 3 | C7: =1 -> 1 | D7: =MOD(D6 - 3, nTeams - 1) + 2 -> 16 | E7: =MOD(E6 - 3, nTeams - 1) + 2 -> 17 | F7: =MOD(F6 - 3, nTeams - 1) + 2 -> 15 | G7: =MOD(G6 - 3, nTeams - 1) + 2 -> 18 | H7: =MOD(H6 - 3, nTeams - 1) + 2 -> 14 | I7: =MOD(I6 - 3, nTeams - 1) + 2 -> 2 | J7: =MOD(J6 - 3, nTeams - 1) + 2 -> 13 | K7: =MOD(K6 - 3, nTeams - 1) + 2 -> 3 | ... AH7: =MOD(AH6 - 3, nTeams - 1) + 2 -> 18
B8: =IF(B7+1<=$C$3-1,B7+1,"") -> 4 | C8: =1 -> 1 | D8: =MOD(D7 - 3, nTeams - 1) + 2 -> 15 | E8: =MOD(E7 - 3, nTeams - 1) + 2 -> 16 | F8: =MOD(F7 - 3, nTeams - 1) + 2 -> 14 | G8: =MOD(G7 - 3, nTeams - 1) + 2 -> 17 | H8: =MOD(H7 - 3, nTeams - 1) + 2 -> 13 | I8: =MOD(I7 - 3, nTeams - 1) + 2 -> 18 | J8: =MOD(J7 - 3, nTeams - 1) + 2 -> 12 | K8: =MOD(K7 - 3, nTeams - 1) + 2 -> 2 | ... AH8: =MOD(AH7 - 3, nTeams - 1) + 2 -> 17
B9: =IF(B8="","",IF(B8+1<=$C$3-1,B8+1,"")) -> 5 | C9: =1 -> 1 | D9: =MOD(D8 - 3, nTeams - 1) + 2 -> 14 | E9: =MOD(E8 - 3, nTeams - 1) + 2 -> 15 | F9: =MOD(F8 - 3, nTeams - 1) + 2 -> 13 | G9: =MOD(G8 - 3, nTeams - 1) + 2 -> 16 | H9: =MOD(H8 - 3, nTeams - 1) + 2 -> 12 | I9: =MOD(I8 - 3, nTeams - 1) + 2 -> 17 | J9: =MOD(J8 - 3, nTeams - 1) + 2 -> 11 | K9: =MOD(K8 - 3, nTeams - 1) + 2 -> 18 | ... AH9: =MOD(AH8 - 3, nTeams - 1) + 2 -> 16
B10: =IF(B9="","",IF(B9+1<=$C$3-1,B9+1,"")) -> 6 | C10: =1 -> 1 | D10: =MOD(D9 - 3, nTeams - 1) + 2 -> 13 | E10: =MOD(E9 - 3, nTeams - 1) + 2 -> 14 | F10: =MOD(F9 - 3, nTeams - 1) + 2 -> 12 | G10: =MOD(G9 - 3, nTeams - 1) + 2 -> 15 | H10: =MOD(H9 - 3, nTeams - 1) + 2 -> 11 | I10: =MOD(I9 - 3, nTeams - 1) + 2 -> 16 | J10: =MOD(J9 - 3, nTeams - 1) + 2 -> 10 | K10: =MOD(K9 - 3, nTeams - 1) + 2 -> 17 | ... AH10: =MOD(AH9 - 3, nTeams - 1) + 2 -> 15
B11: =IF(B10="","",IF(B10+1<=$C$3-1,B10+1,"")) -> 7 | C11: =1 -> 1 | D11: =MOD(D10 - 3, nTeams - 1) + 2 -> 12 | E11: =MOD(E10 - 3, nTeams - 1) + 2 -> 13 | F11: =MOD(F10 - 3, nTeams - 1) + 2 -> 11 | G11: =MOD(G10 - 3, nTeams - 1) + 2 -> 14 | H11: =MOD(H10 - 3, nTeams - 1) + 2 -> 10 | I11: =MOD(I10 - 3, nTeams - 1) + 2 -> 15 | J11: =MOD(J10 - 3, nTeams - 1) + 2 -> 9 | K11: =MOD(K10 - 3, nTeams - 1) + 2 -> 16 | ... AH11: =MOD(AH10 - 3, nTeams - 1) + 2 -> 14
B12: =IF(B11="","",IF(B11+1<=$C$3-1,B11+1,"")) -> 8 | C12: =1 -> 1 | D12: =MOD(D11 - 3, nTeams - 1) + 2 -> 11 | E12: =MOD(E11 - 3, nTeams - 1) + 2 -> 12 | F12: =MOD(F11 - 3, nTeams - 1) + 2 -> 10 | G12: =MOD(G11 - 3, nTeams - 1) + 2 -> 13 | H12: =MOD(H11 - 3, nTeams - 1) + 2 -> 9 | I12: =MOD(I11 - 3, nTeams - 1) + 2 -> 14 | J12: =MOD(J11 - 3, nTeams - 1) + 2 -> 8 | K12: =MOD(K11 - 3, nTeams - 1) + 2 -> 15 | ... AH12: =MOD(AH11 - 3, nTeams - 1) + 2 -> 13
B13: =IF(B12="","",IF(B12+1<=$C$3-1,B12+1,"")) -> 9 | C13: =1 -> 1 | D13: =MOD(D12 - 3, nTeams - 1) + 2 -> 10 | E13: =MOD(E12 - 3, nTeams - 1) + 2 -> 11 | F13: =MOD(F12 - 3, nTeams - 1) + 2 -> 9 | G13: =MOD(G12 - 3, nTeams - 1) + 2 -> 12 | H13: =MOD(H12 - 3, nTeams - 1) + 2 -> 8 | I13: =MOD(I12 - 3, nTeams - 1) + 2 -> 13 | J13: =MOD(J12 - 3, nTeams - 1) + 2 -> 7 | K13: =MOD(K12 - 3, nTeams - 1) + 2 -> 14 | ... AH13: =MOD(AH12 - 3, nTeams - 1) + 2 -> 12
B14: =IF(B13="","",IF(B13+1<=$C$3-1,B13+1,"")) -> 10 | C14: =1 -> 1 | D14: =MOD(D13 - 3, nTeams - 1) + 2 -> 9 | E14: =MOD(E13 - 3, nTeams - 1) + 2 -> 10 | F14: =MOD(F13 - 3, nTeams - 1) + 2 -> 8 | G14: =MOD(G13 - 3, nTeams - 1) + 2 -> 11 | H14: =MOD(H13 - 3, nTeams - 1) + 2 -> 7 | I14: =MOD(I13 - 3, nTeams - 1) + 2 -> 12 | J14: =MOD(J13 - 3, nTeams - 1) + 2 -> 6 | K14: =MOD(K13 - 3, nTeams - 1) + 2 -> 13 | ... AH14: =MOD(AH13 - 3, nTeams - 1) + 2 -> 11
B15: =IF(B14="","",IF(B14+1<=$C$3-1,B14+1,"")) -> 11 | C15: =1 -> 1 | D15: =MOD(D14 - 3, nTeams - 1) + 2 -> 8 | E15: =MOD(E14 - 3, nTeams - 1) + 2 -> 9 | F15: =MOD(F14 - 3, nTeams - 1) + 2 -> 7 | G15: =MOD(G14 - 3, nTeams - 1) + 2 -> 10 | H15: =MOD(H14 - 3, nTeams - 1) + 2 -> 6 | I15: =MOD(I14 - 3, nTeams - 1) + 2 -> 11 | J15: =MOD(J14 - 3, nTeams - 1) + 2 -> 5 | K15: =MOD(K14 - 3, nTeams - 1) + 2 -> 12 | ... AH15: =MOD(AH14 - 3, nTeams - 1) + 2 -> 10
B16: =IF(B15="","",IF(B15+1<=$C$3-1,B15+1,"")) -> 12 | C16: =1 -> 1 | D16: =MOD(D15 - 3, nTeams - 1) + 2 -> 7 | E16: =MOD(E15 - 3, nTeams - 1) + 2 -> 8 | F16: =MOD(F15 - 3, nTeams - 1) + 2 -> 6 | G16: =MOD(G15 - 3, nTeams - 1) + 2 -> 9 | H16: =MOD(H15 - 3, nTeams - 1) + 2 -> 5 | I16: =MOD(I15 - 3, nTeams - 1) + 2 -> 10 | J16: =MOD(J15 - 3, nTeams - 1) + 2 -> 4 | K16: =MOD(K15 - 3, nTeams - 1) + 2 -> 11 | ... AH16: =MOD(AH15 - 3, nTeams - 1) + 2 -> 9
B17: =IF(B16="","",IF(B16+1<=$C$3-1,B16+1,"")) -> 13 | C17: =1 -> 1 | D17: =MOD(D16 - 3, nTeams - 1) + 2 -> 6 | E17: =MOD(E16 - 3, nTeams - 1) + 2 -> 7 | F17: =MOD(F16 - 3, nTeams - 1) + 2 -> 5 | G17: =MOD(G16 - 3, nTeams - 1) + 2 -> 8 | H17: =MOD(H16 - 3, nTeams - 1) + 2 -> 4 | I17: =MOD(I16 - 3, nTeams - 1) + 2 -> 9 | J17: =MOD(J16 - 3, nTeams - 1) + 2 -> 3 | K17: =MOD(K16 - 3, nTeams - 1) + 2 -> 10 | ... AH17: =MOD(AH16 - 3, nTeams - 1) + 2 -> 8
B18: =IF(B17="","",IF(B17+1<=$C$3-1,B17+1,"")) -> 14 | C18: =1 -> 1 | D18: =MOD(D17 - 3, nTeams - 1) + 2 -> 5 | E18: =MOD(E17 - 3, nTeams - 1) + 2 -> 6 | F18: =MOD(F17 - 3, nTeams - 1) + 2 -> 4 | G18: =MOD(G17 - 3, nTeams - 1) + 2 -> 7 | H18: =MOD(H17 - 3, nTeams - 1) + 2 -> 3 | I18: =MOD(I17 - 3, nTeams - 1) + 2 -> 8 | J18: =MOD(J17 - 3, nTeams - 1) + 2 -> 2 | K18: =MOD(K17 - 3, nTeams - 1) + 2 -> 9 | ... AH18: =MOD(AH17 - 3, nTeams - 1) + 2 -> 7
B19: =IF(B18="","",IF(B18+1<=$C$3-1,B18+1,"")) -> 15 | C19: =1 -> 1 | D19: =MOD(D18 - 3, nTeams - 1) + 2 -> 4 | E19: =MOD(E18 - 3, nTeams - 1) + 2 -> 5 | F19: =MOD(F18 - 3, nTeams - 1) + 2 -> 3 | G19: =MOD(G18 - 3, nTeams - 1) + 2 -> 6 | H19: =MOD(H18 - 3, nTeams - 1) + 2 -> 2 | I19: =MOD(I18 - 3, nTeams - 1) + 2 -> 7 | J19: =MOD(J18 - 3, nTeams - 1) + 2 -> 18 | K19: =MOD(K18 - 3, nTeams - 1) + 2 -> 8 | ... AH19: =MOD(AH18 - 3, nTeams - 1) + 2 -> 6
B20: =IF(B19="","",IF(B19+1<=$C$3-1,B19+1,"")) -> 16 | C20: =1 -> 1 | D20: =MOD(D19 - 3, nTeams - 1) + 2 -> 3 | E20: =MOD(E19 - 3, nTeams - 1) + 2 -> 4 | F20: =MOD(F19 - 3, nTeams - 1) + 2 -> 2 | G20: =MOD(G19 - 3, nTeams - 1) + 2 -> 5 | H20: =MOD(H19 - 3, nTeams - 1) + 2 -> 18 | I20: =MOD(I19 - 3, nTeams - 1) + 2 -> 6 | J20: =MOD(J19 - 3, nTeams - 1) + 2 -> 17 | K20: =MOD(K19 - 3, nTeams - 1) + 2 -> 7 | ... AH20: =MOD(AH19 - 3, nTeams - 1) + 2 -> 5
... B35: =IF(B34="","",IF(B34+1<=$C$3-1,B34+1,"")) | C35: =1 -> 1 | D35: =MOD(D34 - 3, nTeams - 1) + 2 -> 5 | E35: =MOD(E34 - 3, nTeams - 1) + 2 -> 6 | F35: =MOD(F34 - 3, nTeams - 1) + 2 -> 4 | G35: =MOD(G34 - 3, nTeams - 1) + 2 -> 7 | H35: =MOD(H34 - 3, nTeams - 1) + 2 -> 3 | I35: =MOD(I34 - 3, nTeams - 1) + 2 -> 8 | J35: =MOD(J34 - 3, nTeams - 1) + 2 -> 2 | K35: =MOD(K34 - 3, nTeams - 1) + 2 -> 9 | ... AH35: =MOD(AH34 - 3, nTeams - 1) + 2 -> 7
B36: =MAX($B$5:$B$35)+1 -> 18 | C36: =D5 -> 18 | D36: =C5 -> 1 | E36: =F5 -> 17 | F36: =E5 -> 2 | G36: =H5 -> 16 | H36: =G5 -> 3 | I36: =J5 -> 15 | J36: =I5 -> 4 | K36: =L5 -> 14 | L36: =K5 -> 5 | M36: =N5 -> 13 | N36: =M5 -> 6 | O36: =P5 -> 12 | P36: =O5 -> 7 | Q36: =R5 -> 11 | R36: =Q5 -> 8 | S36: =T5 -> 10 | T36: =S5 -> 9 | U36: =V5 -> 9 | V36: =U5 -> 10 | W36: =X5 -> 8 | X36: =W5 -> 11 | Y36: =Z5 -> 7 | Z36: =Y5 -> 12 | AA36: =AB5 -> 6 | AB36: =AA5 -> 13 | AC36: =AD5 -> 5 | AD36: =AC5 -> 14 | AE36: =AF5 -> 4 | AF36: =AE5 -> 15 | AG36: =AH5 -> 3 | AH36: =AG5 -> 16
B37: =B36+1 -> 19 | C37: =D6 -> 17 | D37: =C6 -> 1 | E37: =F6 -> 16 | F37: =E6 -> 18 | G37: =H6 -> 15 | H37: =G6 -> 2 | I37: =J6 -> 14 | J37: =I6 -> 3 | K37: =L6 -> 13 | L37: =K6 -> 4 | M37: =N6 -> 12 | N37: =M6 -> 5 | O37: =P6 -> 11 | P37: =O6 -> 6 | Q37: =R6 -> 10 | R37: =Q6 -> 7 | S37: =T6 -> 9 | T37: =S6 -> 8 | U37: =V6 -> 8 | V37: =U6 -> 9 | W37: =X6 -> 7 | X37: =W6 -> 10 | Y37: =Z6 -> 6 | Z37: =Y6 -> 11 | AA37: =AB6 -> 5 | AB37: =AA6 -> 12 | AC37: =AD6 -> 4 | AD37: =AC6 -> 13 | AE37: =AF6 -> 3 | AF37: =AE6 -> 14 | AG37: =AH6 -> 2 | AH37: =AG6 -> 15
B38: =B37+1 -> 20 | C38: =D7 -> 16 | D38: =C7 -> 1 | E38: =F7 -> 15 | F38: =E7 -> 17 | G38: =H7 -> 14 | H38: =G7 -> 18 | I38: =J7 -> 13 | J38: =I7 -> 2 | K38: =L7 -> 12 | L38: =K7 -> 3 | M38: =N7 -> 11 | N38: =M7 -> 4 | O38: =P7 -> 10 | P38: =O7 -> 5 | Q38: =R7 -> 9 | R38: =Q7 -> 6 | S38: =T7 -> 8 | T38: =S7 -> 7 | U38: =V7 -> 7 | V38: =U7 -> 8 | W38: =X7 -> 6 | X38: =W7 -> 9 | Y38: =Z7 -> 5 | Z38: =Y7 -> 10 | AA38: =AB7 -> 4 | AB38: =AA7 -> 11 | AC38: =AD7 -> 3 | AD38: =AC7 -> 12 | AE38: =AF7 -> 2 | AF38: =AE7 -> 13 | AG38: =AH7 -> 18 | AH38: =AG7 -> 14
B39: =B38+1 -> 21 | C39: =D8 -> 15 | D39: =C8 -> 1 | E39: =F8 -> 14 | F39: =E8 -> 16 | G39: =H8 -> 13 | H39: =G8 -> 17 | I39: =J8 -> 12 | J39: =I8 -> 18 | K39: =L8 -> 11 | L39: =K8 -> 2 | M39: =N8 -> 10 | N39: =M8 -> 3 | O39: =P8 -> 9 | P39: =O8 -> 4 | Q39: =R8 -> 8 | R39: =Q8 -> 5 | S39: =T8 -> 7 | T39: =S8 -> 6 | U39: =V8 -> 6 | V39: =U8 -> 7 | W39: =X8 -> 5 | X39: =W8 -> 8 | Y39: =Z8 -> 4 | Z39: =Y8 -> 9 | AA39: =AB8 -> 3 | AB39: =AA8 -> 10 | AC39: =AD8 -> 2 | AD39: =AC8 -> 11 | AE39: =AF8 -> 18 | AF39: =AE8 -> 12 | AG39: =AH8 -> 17 | AH39: =AG8 -> 13
B40: =B39+1 -> 22 | C40: =D9 -> 14 | D40: =C9 -> 1 | E40: =F9 -> 13 | F40: =E9 -> 15 | G40: =H9 -> 12 | H40: =G9 -> 16 | I40: =J9 -> 11 | J40: =I9 -> 17 | K40: =L9 -> 10 | L40: =K9 -> 18 | M40: =N9 -> 9 | N40: =M9 -> 2 | O40: =P9 -> 8 | P40: =O9 -> 3 | Q40: =R9 -> 7 | R40: =Q9 -> 4 | S40: =T9 -> 6 | T40: =S9 -> 5 | U40: =V9 -> 5 | V40: =U9 -> 6 | W40: =X9 -> 4 | X40: =W9 -> 7 | Y40: =Z9 -> 3 | Z40: =Y9 -> 8 | AA40: =AB9 -> 2 | AB40: =AA9 -> 9 | AC40: =AD9 -> 18 | AD40: =AC9 -> 10 | AE40: =AF9 -> 17 | AF40: =AE9 -> 11 | AG40: =AH9 -> 16 | AH40: =AG9 -> 12
B41: =B40+1 -> 23 | C41: =D10 -> 13 | D41: =C10 -> 1 | E41: =F10 -> 12 | F41: =E10 -> 14 | G41: =H10 -> 11 | H41: =G10 -> 15 | I41: =J10 -> 10 | J41: =I10 -> 16 | K41: =L10 -> 9 | L41: =K10 -> 17 | M41: =N10 -> 8 | N41: =M10 -> 18 | O41: =P10 -> 7 | P41: =O10 -> 2 | Q41: =R10 -> 6 | R41: =Q10 -> 3 | S41: =T10 -> 5 | T41: =S10 -> 4 | U41: =V10 -> 4 | V41: =U10 -> 5 | W41: =X10 -> 3 | X41: =W10 -> 6 | Y41: =Z10 -> 2 | Z41: =Y10 -> 7 | AA41: =AB10 -> 18 | AB41: =AA10 -> 8 | AC41: =AD10 -> 17 | AD41: =AC10 -> 9 | AE41: =AF10 -> 16 | AF41: =AE10 -> 10 | AG41: =AH10 -> 15 | AH41: =AG10 -> 11
B42: =B41+1 -> 24 | C42: =D11 -> 12 | D42: =C11 -> 1 | E42: =F11 -> 11 | F42: =E11 -> 13 | G42: =H11 -> 10 | H42: =G11 -> 14 | I42: =J11 -> 9 | J42: =I11 -> 15 | K42: =L11 -> 8 | L42: =K11 -> 16 | M42: =N11 -> 7 | N42: =M11 -> 17 | O42: =P11 -> 6 | P42: =O11 -> 18 | Q42: =R11 -> 5 | R42: =Q11 -> 2 | S42: =T11 -> 4 | T42: =S11 -> 3 | U42: =V11 -> 3 | V42: =U11 -> 4 | W42: =X11 -> 2 | X42: =W11 -> 5 | Y42: =Z11 -> 18 | Z42: =Y11 -> 6 | AA42: =AB11 -> 17 | AB42: =AA11 -> 7 | AC42: =AD11 -> 16 | AD42: =AC11 -> 8 | AE42: =AF11 -> 15 | AF42: =AE11 -> 9 | AG42: =AH11 -> 14 | AH42: =AG11 -> 10
B43: =B42+1 -> 25 | C43: =D12 -> 11 | D43: =C12 -> 1 | E43: =F12 -> 10 | F43: =E12 -> 12 | G43: =H12 -> 9 | H43: =G12 -> 13 | I43: =J12 -> 8 | J43: =I12 -> 14 | K43: =L12 -> 7 | L43: =K12 -> 15 | M43: =N12 -> 6 | N43: =M12 -> 16 | O43: =P12 -> 5 | P43: =O12 -> 17 | Q43: =R12 -> 4 | R43: =Q12 -> 18 | S43: =T12 -> 3 | T43: =S12 -> 2 | U43: =V12 -> 2 | V43: =U12 -> 3 | W43: =X12 -> 18 | X43: =W12 -> 4 | Y43: =Z12 -> 17 | Z43: =Y12 -> 5 | AA43: =AB12 -> 16 | AB43: =AA12 -> 6 | AC43: =AD12 -> 15 | AD43: =AC12 -> 7 | AE43: =AF12 -> 14 | AF43: =AE12 -> 8 | AG43: =AH12 -> 13 | AH43: =AG12 -> 9
B44: =B43+1 -> 26 | C44: =D13 -> 10 | D44: =C13 -> 1 | E44: =F13 -> 9 | F44: =E13 -> 11 | G44: =H13 -> 8 | H44: =G13 -> 12 | I44: =J13 -> 7 | J44: =I13 -> 13 | K44: =L13 -> 6 | L44: =K13 -> 14 | M44: =N13 -> 5 | N44: =M13 -> 15 | O44: =P13 -> 4 | P44: =O13 -> 16 | Q44: =R13 -> 3 | R44: =Q13 -> 17 | S44: =T13 -> 2 | T44: =S13 -> 18 | U44: =V13 -> 18 | V44: =U13 -> 2 | W44: =X13 -> 17 | X44: =W13 -> 3 | Y44: =Z13 -> 16 | Z44: =Y13 -> 4 | AA44: =AB13 -> 15 | AB44: =AA13 -> 5 | AC44: =AD13 -> 14 | AD44: =AC13 -> 6 | AE44: =AF13 -> 13 | AF44: =AE13 -> 7 | AG44: =AH13 -> 12 | AH44: =AG13 -> 8
B45: =B44+1 -> 27 | C45: =D14 -> 9 | D45: =C14 -> 1 | E45: =F14 -> 8 | F45: =E14 -> 10 | G45: =H14 -> 7 | H45: =G14 -> 11 | I45: =J14 -> 6 | J45: =I14 -> 12 | K45: =L14 -> 5 | L45: =K14 -> 13 | M45: =N14 -> 4 | N45: =M14 -> 14 | O45: =P14 -> 3 | P45: =O14 -> 15 | Q45: =R14 -> 2 | R45: =Q14 -> 16 | S45: =T14 -> 18 | T45: =S14 -> 17 | U45: =V14 -> 17 | V45: =U14 -> 18 | W45: =X14 -> 16 | X45: =W14 -> 2 | Y45: =Z14 -> 15 | Z45: =Y14 -> 3 | AA45: =AB14 -> 14 | AB45: =AA14 -> 4 | AC45: =AD14 -> 13 | AD45: =AC14 -> 5 | AE45: =AF14 -> 12 | AF45: =AE14 -> 6 | AG45: =AH14 -> 11 | AH45: =AG14 -> 7
B46: =B45+1 -> 28 | C46: =D15 -> 8 | D46: =C15 -> 1 | E46: =F15 -> 7 | F46: =E15 -> 9 | G46: =H15 -> 6 | H46: =G15 -> 10 | I46: =J15 -> 5 | J46: =I15 -> 11 | K46: =L15 -> 4 | L46: =K15 -> 12 | M46: =N15 -> 3 | N46: =M15 -> 13 | O46: =P15 -> 2 | P46: =O15 -> 14 | Q46: =R15 -> 18 | R46: =Q15 -> 15 | S46: =T15 -> 17 | T46: =S15 -> 16 | U46: =V15 -> 16 | V46: =U15 -> 17 | W46: =X15 -> 15 | X46: =W15 -> 18 | Y46: =Z15 -> 14 | Z46: =Y15 -> 2 | AA46: =AB15 -> 13 | AB46: =AA15 -> 3 | AC46: =AD15 -> 12 | AD46: =AC15 -> 4 | AE46: =AF15 -> 11 | AF46: =AE15 -> 5 | AG46: =AH15 -> 10 | AH46: =AG15 -> 6
B47: =B46+1 -> 29 | C47: =D16 -> 7 | D47: =C16 -> 1 | E47: =F16 -> 6 | F47: =E16 -> 8 | G47: =H16 -> 5 | H47: =G16 -> 9 | I47: =J16 -> 4 | J47: =I16 -> 10 | K47: =L16 -> 3 | L47: =K16 -> 11 | M47: =N16 -> 2 | N47: =M16 -> 12 | O47: =P16 -> 18 | P47: =O16 -> 13 | Q47: =R16 -> 17 | R47: =Q16 -> 14 | S47: =T16 -> 16 | T47: =S16 -> 15 | U47: =V16 -> 15 | V47: =U16 -> 16 | W47: =X16 -> 14 | X47: =W16 -> 17 | Y47: =Z16 -> 13 | Z47: =Y16 -> 18 | AA47: =AB16 -> 12 | AB47: =AA16 -> 2 | AC47: =AD16 -> 11 | AD47: =AC16 -> 3 | AE47: =AF16 -> 10 | AF47: =AE16 -> 4 | AG47: =AH16 -> 9 | AH47: =AG16 -> 5
B48: =B47+1 -> 30 | C48: =D17 -> 6 | D48: =C17 -> 1 | E48: =F17 -> 5 | F48: =E17 -> 7 | G48: =H17 -> 4 | H48: =G17 -> 8 | I48: =J17 -> 3 | J48: =I17 -> 9 | K48: =L17 -> 2 | L48: =K17 -> 10 | M48: =N17 -> 18 | N48: =M17 -> 11 | O48: =P17 -> 17 | P48: =O17 -> 12 | Q48: =R17 -> 16 | R48: =Q17 -> 13 | S48: =T17 -> 15 | T48: =S17 -> 14 | U48: =V17 -> 14 | V48: =U17 -> 15 | W48: =X17 -> 13 | X48: =W17 -> 16 | Y48: =Z17 -> 12 | Z48: =Y17 -> 17 | AA48: =AB17 -> 11 | AB48: =AA17 -> 18 | AC48: =AD17 -> 10 | AD48: =AC17 -> 2 | AE48: =AF17 -> 9 | AF48: =AE17 -> 3 | AG48: =AH17 -> 8 | AH48: =AG17 -> 4
... B128: =B127+1 -> 110 | C128: =D97 -> 5 | D128: =C97 -> 1 | E128: =F97 -> 4 | F128: =E97 -> 6 | G128: =H97 -> 3 | H128: =G97 -> 7 | I128: =J97 -> 2 | J128: =I97 -> 8 | K128: =L97 -> 18 | L128: =K97 -> 9 | M128: =N97 -> 17 | N128: =M97 -> 10 | O128: =P97 -> 16 | P128: =O97 -> 11 | Q128: =R97 -> 15 | R128: =Q97 -> 12 | S128: =T97 -> 14 | T128: =S97 -> 13 | U128: =V97 -> 13 | V128: =U97 -> 14 | W128: =X97 -> 12 | X128: =W97 -> 15 | Y128: =Z97 -> 11 | Z128: =Y97 -> 16 | AA128: =AB97 -> 10 | AB128: =AA97 -> 17 | AC128: =AD97 -> 9 | AD128: =AC97 -> 18 | AE128: =AF97 -> 8 | AF128: =AE97 -> 2 | AG128: =AH97 -> 7 | AH128: =AG97 -> 3

Sheet FixtureCalc
C3: Matchday No | D3: Game No | E3: Team 1 No | F3: Team 2 No | G3: Played? | H3: Team 1 Points | I3: Team 2 Points
C4: 1 | D4: 1 | E4: =IF(C4="-","-",IF(D4=maxgameno+2,"blank row 2",IF(D4=maxgameno+1,"blank row 1",INDEX(FixtureCode!$B$4:$AH$128,MATCH($C4,FixtureCode!$B$4:$B$128,0),MATCH("G"&D4&"-T1",FixtureCode!$B$4:$AH$4,0))))) -> 1 | F4: =IF(C4="-","-",IF(D4=maxgameno+2,"blank row 2",IF(D4=maxgameno+1,"blank row 1",INDEX(FixtureCode!$B$4:$AH$128,MATCH($C4,FixtureCode!$B$4:$B$128,0),MATCH("G"&D4&"-T2",FixtureCode!$B$4:$AH$4,0))))) -> 18 | G4: =IF(C4="-","-",IF(AND(ISNUMBER(Fixture!G8),ISNUMBER(Fixture!I8),Fixture!F8<>"BYE",Fixture!J8<>"BYE"),"Yes","-")) -> Yes | H4: =IF(G4="-","-",IF(Fixture!G8>Fixture!I8,Settings!$G$7,IF(Fixture!G8=Fixture!I8,Settings!$G$8,IF(Fixture!G8<Fixture!I8,Settings!$G$9,"-")))) -> 3 | I4: =IF(G4="-","-",IF(Fixture!I8>Fixture!G8,Settings!$G$7,IF(Fixture!I8=Fixture!G8,Settings!$G$8,IF(Fixture!I8<Fixture!G8,Settings!$G$9,"-")))) -> 0
C5: =IF(C4="-","-",IF(D4+1<=maxgameno+2,C4,IF(C4+1<=maxroundno,C4+1,"-"))) -> 1 | D5: =IF(C5="-","-",IF(D4+1<=maxgameno+2,D4+1,1)) -> 2 | E5: =IF(C5="-","-",IF(D5=maxgameno+2,"blank row 2",IF(D5=maxgameno+1,"blank row 1",INDEX(FixtureCode!$B$4:$AH$128,MATCH($C5,FixtureCode!$B$4:$B$128,0),MATCH("G"&D5&"-T1",FixtureCode!$B$4:$AH$4,0))))) -> 2 | F5: =IF(C5="-","-",IF(D5=maxgameno+2,"blank row 2",IF(D5=maxgameno+1,"blank row 1",INDEX(FixtureCode!$B$4:$AH$128,MATCH($C5,FixtureCode!$B$4:$B$128,0),MATCH("G"&D5&"-T2",FixtureCode!$B$4:$AH$4,0))))) -> 17 | G5: =IF(C5="-","-",IF(AND(ISNUMBER(Fixture!G9),ISNUMBER(Fixture!I9),Fixture!F9<>"BYE",Fixture!J9<>"BYE"),"Yes","-")) -> Yes | H5: =IF(G5="-","-",IF(Fixture!G9>Fixture!I9,Settings!$G$7,IF(Fixture!G9=Fixture!I9,Settings!$G$8,IF(Fixture!G9<Fixture!I9,Settings!$G$9,"-")))) -> 1 | I5: =IF(G5="-","-",IF(Fixture!I9>Fixture!G9,Settings!$G$7,IF(Fixture!I9=Fixture!G9,Settings!$G$8,IF(Fixture!I9<Fixture!G9,Settings!$G$9,"-")))) -> 1
C6: =IF(C5="-","-",IF(D5+1<=maxgameno+2,C5,IF(C5+1<=maxroundno,C5+1,"-"))) -> 1 | D6: =IF(C6="-","-",IF(D5+1<=maxgameno+2,D5+1,1)) -> 3 | E6: =IF(C6="-","-",IF(D6=maxgameno+2,"blank row 2",IF(D6=maxgameno+1,"blank row 1",INDEX(FixtureCode!$B$4:$AH$128,MATCH($C6,FixtureCode!$B$4:$B$128,0),MATCH("G"&D6&"-T1",FixtureCode!$B$4:$AH$4,0))))) -> 3 | F6: =IF(C6="-","-",IF(D6=maxgameno+2,"blank row 2",IF(D6=maxgameno+1,"blank row 1",INDEX(FixtureCode!$B$4:$AH$128,MATCH($C6,FixtureCode!$B$4:$B$128,0),MATCH("G"&D6&"-T2",FixtureCode!$B$4:$AH$4,0))))) -> 16 | G6: =IF(C6="-","-",IF(AND(ISNUMBER(Fixture!G10),ISNUMBER(Fixture!I10),Fixture!F10<>"BYE",Fixture!J10<>"BYE"),"Yes","-")) -> Yes | H6: =IF(G6="-","-",IF(Fixture!G10>Fixture!I10,Settings!$G$7,IF(Fixture!G10=Fixture!I10,Settings!$G$8,IF(Fixture!G10<Fixture!I10,Settings!$G$9,"-")))) -> 0 | I6: =IF(G6="-","-",IF(Fixture!I10>Fixture!G10,Settings!$G$7,IF(Fixture!I10=Fixture!G10,Settings!$G$8,IF(Fixture!I10<Fixture!G10,Settings!$G$9,"-")))) -> 3
C7: =IF(C6="-","-",IF(D6+1<=maxgameno+2,C6,IF(C6+1<=maxroundno,C6+1,"-"))) -> 1 | D7: =IF(C7="-","-",IF(D6+1<=maxgameno+2,D6+1,1)) -> 4 | E7: =IF(C7="-","-",IF(D7=maxgameno+2,"blank row 2",IF(D7=maxgameno+1,"blank row 1",INDEX(FixtureCode!$B$4:$AH$128,MATCH($C7,FixtureCode!$B$4:$B$128,0),MATCH("G"&D7&"-T1",FixtureCode!$B$4:$AH$4,0))))) -> 4 | F7: =IF(C7="-","-",IF(D7=maxgameno+2,"blank row 2",IF(D7=maxgameno+1,"blank row 1",INDEX(FixtureCode!$B$4:$AH$128,MATCH($C7,FixtureCode!$B$4:$B$128,0),MATCH("G"&D7&"-T2",FixtureCode!$B$4:$AH$4,0))))) -> 15 | G7: =IF(C7="-","-",IF(AND(ISNUMBER(Fixture!G11),ISNUMBER(Fixture!I11),Fixture!F11<>"BYE",Fixture!J11<>"BYE"),"Yes","-")) -> Yes | H7: =IF(G7="-","-",IF(Fixture!G11>Fixture!I11,Settings!$G$7,IF(Fixture!G11=Fixture!I11,Settings!$G$8,IF(Fixture!G11<Fixture!I11,Settings!$G$9,"-")))) -> 1 | I7: =IF(G7="-","-",IF(Fixture!I11>Fixture!G11,Settings!$G$7,IF(Fixture!I11=Fixture!G11,Settings!$G$8,IF(Fixture!I11<Fixture!G11,Settings!$G$9,"-")))) -> 1
C8: =IF(C7="-","-",IF(D7+1<=maxgameno+2,C7,IF(C7+1<=maxroundno,C7+1,"-"))) -> 1 | D8: =IF(C8="-","-",IF(D7+1<=maxgameno+2,D7+1,1)) -> 5 | E8: =IF(C8="-","-",IF(D8=maxgameno+2,"blank row 2",IF(D8=maxgameno+1,"blank row 1",INDEX(FixtureCode!$B$4:$AH$128,MATCH($C8,FixtureCode!$B$4:$B$128,0),MATCH("G"&D8&"-T1",FixtureCode!$B$4:$AH$4,0))))) -> 5 | F8: =IF(C8="-","-",IF(D8=maxgameno+2,"blank row 2",IF(D8=maxgameno+1,"blank row 1",INDEX(FixtureCode!$B$4:$AH$128,MATCH($C8,FixtureCode!$B$4:$B$128,0),MATCH("G"&D8&"-T2",FixtureCode!$B$4:$AH$4,0))))) -> 14 | G8: =IF(C8="-","-",IF(AND(ISNUMBER(Fixture!G12),ISNUMBER(Fixture!I12),Fixture!F12<>"BYE",Fixture!J12<>"BYE"),"Yes","-")) -> Yes | H8: =IF(G8="-","-",IF(Fixture!G12>Fixture!I12,Settings!$G$7,IF(Fixture!G12=Fixture!I12,Settings!$G$8,IF(Fixture!G12<Fixture!I12,Settings!$G$9,"-")))) -> 3 | I8: =IF(G8="-","-",IF(Fixture!I12>Fixture!G12,Settings!$G$7,IF(Fixture!I12=Fixture!G12,Settings!$G$8,IF(Fixture!I12<Fixture!G12,Settings!$G$9,"-")))) -> 0
C9: =IF(C8="-","-",IF(D8+1<=maxgameno+2,C8,IF(C8+1<=maxroundno,C8+1,"-"))) -> 1 | D9: =IF(C9="-","-",IF(D8+1<=maxgameno+2,D8+1,1)) -> 6 | E9: =IF(C9="-","-",IF(D9=maxgameno+2,"blank row 2",IF(D9=maxgameno+1,"blank row 1",INDEX(FixtureCode!$B$4:$AH$128,MATCH($C9,FixtureCode!$B$4:$B$128,0),MATCH("G"&D9&"-T1",FixtureCode!$B$4:$AH$4,0))))) -> 6 | F9: =IF(C9="-","-",IF(D9=maxgameno+2,"blank row 2",IF(D9=maxgameno+1,"blank row 1",INDEX(FixtureCode!$B$4:$AH$128,MATCH($C9,FixtureCode!$B$4:$B$128,0),MATCH("G"&D9&"-T2",FixtureCode!$B$4:$AH$4,0))))) -> 13 | G9: =IF(C9="-","-",IF(AND(ISNUMBER(Fixture!G13),ISNUMBER(Fixture!I13),Fixture!F13<>"BYE",Fixture!J13<>"BYE"),"Yes","-")) -> Yes | H9: =IF(G9="-","-",IF(Fixture!G13>Fixture!I13,Settings!$G$7,IF(Fixture!G13=Fixture!I13,Settings!$G$8,IF(Fixture!G13<Fixture!I13,Settings!$G$9,"-")))) -> 0 | I9: =IF(G9="-","-",IF(Fixture!I13>Fixture!G13,Settings!$G$7,IF(Fixture!I13=Fixture!G13,Settings!$G$8,IF(Fixture!I13<Fixture!G13,Settings!$G$9,"-")))) -> 3
C10: =IF(C9="-","-",IF(D9+1<=maxgameno+2,C9,IF(C9+1<=maxroundno,C9+1,"-"))) -> 1 | D10: =IF(C10="-","-",IF(D9+1<=maxgameno+2,D9+1,1)) -> 7 | E10: =IF(C10="-","-",IF(D10=maxgameno+2,"blank row 2",IF(D10=maxgameno+1,"blank row 1",INDEX(FixtureCode!$B$4:$AH$128,MATCH($C10,FixtureCode!$B$4:$B$128,0),MATCH("G"&D10&"-T1",FixtureCode!$B$4:$AH$4,0))))) -> 7 | F10: =IF(C10="-","-",IF(D10=maxgameno+2,"blank row 2",IF(D10=maxgameno+1,"blank row 1",INDEX(FixtureCode!$B$4:$AH$128,MATCH($C10,FixtureCode!$B$4:$B$128,0),MATCH("G"&D10&"-T2",FixtureCode!$B$4:$AH$4,0))))) -> 12 | G10: =IF(C10="-","-",IF(AND(ISNUMBER(Fixture!G14),ISNUMBER(Fixture!I14),Fixture!F14<>"BYE",Fixture!J14<>"BYE"),"Yes","-")) -> Yes | H10: =IF(G10="-","-",IF(Fixture!G14>Fixture!I14,Settings!$G$7,IF(Fixture!G14=Fixture!I14,Settings!$G$8,IF(Fixture!G14<Fixture!I14,Settings!$G$9,"-")))) -> 3 | I10: =IF(G10="-","-",IF(Fixture!I14>Fixture!G14,Settings!$G$7,IF(Fixture!I14=Fixture!G14,Settings!$G$8,IF(Fixture!I14<Fixture!G14,Settings!$G$9,"-")))) -> 0
C11: =IF(C10="-","-",IF(D10+1<=maxgameno+2,C10,IF(C10+1<=maxroundno,C10+1,"-"))) -> 1 | D11: =IF(C11="-","-",IF(D10+1<=maxgameno+2,D10+1,1)) -> 8 | E11: =IF(C11="-","-",IF(D11=maxgameno+2,"blank row 2",IF(D11=maxgameno+1,"blank row 1",INDEX(FixtureCode!$B$4:$AH$128,MATCH($C11,FixtureCode!$B$4:$B$128,0),MATCH("G"&D11&"-T1",FixtureCode!$B$4:$AH$4,0))))) -> 8 | F11: =IF(C11="-","-",IF(D11=maxgameno+2,"blank row 2",IF(D11=maxgameno+1,"blank row 1",INDEX(FixtureCode!$B$4:$AH$128,MATCH($C11,FixtureCode!$B$4:$B$128,0),MATCH("G"&D11&"-T2",FixtureCode!$B$4:$AH$4,0))))) -> 11 | G11: =IF(C11="-","-",IF(AND(ISNUMBER(Fixture!G15),ISNUMBER(Fixture!I15),Fixture!F15<>"BYE",Fixture!J15<>"BYE"),"Yes","-")) -> Yes | H11: =IF(G11="-","-",IF(Fixture!G15>Fixture!I15,Settings!$G$7,IF(Fixture!G15=Fixture!I15,Settings!$G$8,IF(Fixture!G15<Fixture!I15,Settings!$G$9,"-")))) -> 1 | I11: =IF(G11="-","-",IF(Fixture!I15>Fixture!G15,Settings!$G$7,IF(Fixture!I15=Fixture!G15,Settings!$G$8,IF(Fixture!I15<Fixture!G15,Settings!$G$9,"-")))) -> 1
C12: =IF(C11="-","-",IF(D11+1<=maxgameno+2,C11,IF(C11+1<=maxroundno,C11+1,"-"))) -> 1 | D12: =IF(C12="-","-",IF(D11+1<=maxgameno+2,D11+1,1)) -> 9 | E12: =IF(C12="-","-",IF(D12=maxgameno+2,"blank row 2",IF(D12=maxgameno+1,"blank row 1",INDEX(FixtureCode!$B$4:$AH$128,MATCH($C12,FixtureCode!$B$4:$B$128,0),MATCH("G"&D12&"-T1",FixtureCode!$B$4:$AH$4,0))))) -> 9 | F12: =IF(C12="-","-",IF(D12=maxgameno+2,"blank row 2",IF(D12=maxgameno+1,"blank row 1",INDEX(FixtureCode!$B$4:$AH$128,MATCH($C12,FixtureCode!$B$4:$B$128,0),MATCH("G"&D12&"-T2",FixtureCode!$B$4:$AH$4,0))))) -> 10 | G12: =IF(C12="-","-",IF(AND(ISNUMBER(Fixture!G16),ISNUMBER(Fixture!I16),Fixture!F16<>"BYE",Fixture!J16<>"BYE"),"Yes","-")) -> Yes | H12: =IF(G12="-","-",IF(Fixture!G16>Fixture!I16,Settings!$G$7,IF(Fixture!G16=Fixture!I16,Settings!$G$8,IF(Fixture!G16<Fixture!I16,Settings!$G$9,"-")))) -> 1 | I12: =IF(G12="-","-",IF(Fixture!I16>Fixture!G16,Settings!$G$7,IF(Fixture!I16=Fixture!G16,Settings!$G$8,IF(Fixture!I16<Fixture!G16,Settings!$G$9,"-")))) -> 1
C13: =IF(C12="-","-",IF(D12+1<=maxgameno+2,C12,IF(C12+1<=maxroundno,C12+1,"-"))) -> 1 | D13: =IF(C13="-","-",IF(D12+1<=maxgameno+2,D12+1,1)) -> 10 | E13: =IF(C13="-","-",IF(D13=maxgameno+2,"blank row 2",IF(D13=maxgameno+1,"blank row 1",INDEX(FixtureCode!$B$4:$AH$128,MATCH($C13,FixtureCode!$B$4:$B$128,0),MATCH("G"&D13&"-T1",FixtureCode!$B$4:$AH$4,0))))) -> blank row 1 | F13: =IF(C13="-","-",IF(D13=maxgameno+2,"blank row 2",IF(D13=maxgameno+1,"blank row 1",INDEX(FixtureCode!$B$4:$AH$128,MATCH($C13,FixtureCode!$B$4:$B$128,0),MATCH("G"&D13&"-T2",FixtureCode!$B$4:$AH$4,0))))) -> blank row 1 | G13: =IF(C13="-","-",IF(AND(ISNUMBER(Fixture!G17),ISNUMBER(Fixture!I17),Fixture!F17<>"BYE",Fixture!J17<>"BYE"),"Yes","-")) -> - | H13: =IF(G13="-","-",IF(Fixture!G17>Fixture!I17,Settings!$G$7,IF(Fixture!G17=Fixture!I17,Settings!$G$8,IF(Fixture!G17<Fixture!I17,Settings!$G$9,"-")))) -> - | I13: =IF(G13="-","-",IF(Fixture!I17>Fixture!G17,Settings!$G$7,IF(Fixture!I17=Fixture!G17,Settings!$G$8,IF(Fixture!I17<Fixture!G17,Settings!$G$9,"-")))) -> -
C14: =IF(C13="-","-",IF(D13+1<=maxgameno+2,C13,IF(C13+1<=maxroundno,C13+1,"-"))) -> 1 | D14: =IF(C14="-","-",IF(D13+1<=maxgameno+2,D13+1,1)) -> 11 | E14: =IF(C14="-","-",IF(D14=maxgameno+2,"blank row 2",IF(D14=maxgameno+1,"blank row 1",INDEX(FixtureCode!$B$4:$AH$128,MATCH($C14,FixtureCode!$B$4:$B$128,0),MATCH("G"&D14&"-T1",FixtureCode!$B$4:$AH$4,0))))) -> blank row 2 | F14: =IF(C14="-","-",IF(D14=maxgameno+2,"blank row 2",IF(D14=maxgameno+1,"blank row 1",INDEX(FixtureCode!$B$4:$AH$128,MATCH($C14,FixtureCode!$B$4:$B$128,0),MATCH("G"&D14&"-T2",FixtureCode!$B$4:$AH$4,0))))) -> blank row 2 | G14: =IF(C14="-","-",IF(AND(ISNUMBER(Fixture!G18),ISNUMBER(Fixture!I18),Fixture!F18<>"BYE",Fixture!J18<>"BYE"),"Yes","-")) -> - | H14: =IF(G14="-","-",IF(Fixture!G18>Fixture!I18,Settings!$G$7,IF(Fixture!G18=Fixture!I18,Settings!$G$8,IF(Fixture!G18<Fixture!I18,Settings!$G$9,"-")))) -> - | I14: =IF(G14="-","-",IF(Fixture!I18>Fixture!G18,Settings!$G$7,IF(Fixture!I18=Fixture!G18,Settings!$G$8,IF(Fixture!I18<Fixture!G18,Settings!$G$9,"-")))) -> -
C15: =IF(C14="-","-",IF(D14+1<=maxgameno+2,C14,IF(C14+1<=maxroundno,C14+1,"-"))) -> 2 | D15: =IF(C15="-","-",IF(D14+1<=maxgameno+2,D14+1,1)) -> 1 | E15: =IF(C15="-","-",IF(D15=maxgameno+2,"blank row 2",IF(D15=maxgameno+1,"blank row 1",INDEX(FixtureCode!$B$4:$AH$128,MATCH($C15,FixtureCode!$B$4:$B$128,0),MATCH("G"&D15&"-T1",FixtureCode!$B$4:$AH$4,0))))) -> 1 | F15: =IF(C15="-","-",IF(D15=maxgameno+2,"blank row 2",IF(D15=maxgameno+1,"blank row 1",INDEX(FixtureCode!$B$4:$AH$128,MATCH($C15,FixtureCode!$B$4:$B$128,0),MATCH("G"&D15&"-T2",FixtureCode!$B$4:$AH$4,0))))) -> 17 | G15: =IF(C15="-","-",IF(AND(ISNUMBER(Fixture!G19),ISNUMBER(Fixture!I19),Fixture!F19<>"BYE",Fixture!J19<>"BYE"),"Yes","-")) -> Yes | H15: =IF(G15="-","-",IF(Fixture!G19>Fixture!I19,Settings!$G$7,IF(Fixture!G19=Fixture!I19,Settings!$G$8,IF(Fixture!G19<Fixture!I19,Settings!$G$9,"-")))) -> 3 | I15: =IF(G15="-","-",IF(Fixture!I19>Fixture!G19,Settings!$G$7,IF(Fixture!I19=Fixture!G19,Settings!$G$8,IF(Fixture!I19<Fixture!G19,Settings!$G$9,"-")))) -> 0
C16: =IF(C15="-","-",IF(D15+1<=maxgameno+2,C15,IF(C15+1<=maxroundno,C15+1,"-"))) -> 2 | D16: =IF(C16="-","-",IF(D15+1<=maxgameno+2,D15+1,1)) -> 2 | E16: =IF(C16="-","-",IF(D16=maxgameno+2,"blank row 2",IF(D16=maxgameno+1,"blank row 1",INDEX(FixtureCode!$B$4:$AH$128,MATCH($C16,FixtureCode!$B$4:$B$128,0),MATCH("G"&D16&"-T1",FixtureCode!$B$4:$AH$4,0))))) -> 18 | F16: =IF(C16="-","-",IF(D16=maxgameno+2,"blank row 2",IF(D16=maxgameno+1,"blank row 1",INDEX(FixtureCode!$B$4:$AH$128,MATCH($C16,FixtureCode!$B$4:$B$128,0),MATCH("G"&D16&"-T2",FixtureCode!$B$4:$AH$4,0))))) -> 16 | G16: =IF(C16="-","-",IF(AND(ISNUMBER(Fixture!G20),ISNUMBER(Fixture!I20),Fixture!F20<>"BYE",Fixture!J20<>"BYE"),"Yes","-")) -> Yes | H16: =IF(G16="-","-",IF(Fixture!G20>Fixture!I20,Settings!$G$7,IF(Fixture!G20=Fixture!I20,Settings!$G$8,IF(Fixture!G20<Fixture!I20,Settings!$G$9,"-")))) -> 0 | I16: =IF(G16="-","-",IF(Fixture!I20>Fixture!G20,Settings!$G$7,IF(Fixture!I20=Fixture!G20,Settings!$G$8,IF(Fixture!I20<Fixture!G20,Settings!$G$9,"-")))) -> 3
... C6129: =IF(C6128="-","-",IF(D6128+1<=maxgameno+2,C6128,IF(C6128+1<=maxroundno,C6128+1,"-"))) -> - | D6129: =IF(C6129="-","-",IF(D6128+1<=maxgameno+2,D6128+1,1)) -> - | E6129: =IF(C6129="-","-",IF(D6129=maxgameno+2,"blank row 2",IF(D6129=maxgameno+1,"blank row 1",INDEX(FixtureCode!$B$4:$AH$128,MATCH($C6129,FixtureCode!$B$4:$B$128,0),MATCH("G"&D6129&"-T1",FixtureCode!$B$4:$AH$4,0))))) -> - | F6129: =IF(C6129="-","-",IF(D6129=maxgameno+2,"blank row 2",IF(D6129=maxgameno+1,"blank row 1",INDEX(FixtureCode!$B$4:$AH$128,MATCH($C6129,FixtureCode!$B$4:$B$128,0),MATCH("G"&D6129&"-T2",FixtureCode!$B$4:$AH$4,0))))) -> - | G6129: =IF(C6129="-","-",IF(AND(ISNUMBER(Fixture!G6133),ISNUMBER(Fixture!I6133),Fixture!F6133<>"BYE",Fixture!J6133<>"BYE"),"Yes","-")) -> - | H6129: =IF(G6129="-","-",IF(Fixture!G6133>Fixture!I6133,Settings!$G$7,IF(Fixture!G6133=Fixture!I6133,Settings!$G$8,IF(Fixture!G6133<Fixture!I6133,Settings!$G$9,"-")))) -> - | I6129: =IF(G6129="-","-",IF(Fixture!I6133>Fixture!G6133,Settings!$G$7,IF(Fixture!I6133=Fixture!G6133,Settings!$G$8,IF(Fixture!I6133<Fixture!G6133,Settings!$G$9,"-")))) -> -

Sheet Fixture
C2: LEAGUE SCHEDULE MAKER
C3: =IF(LEN(Settings!G6)=0,"FIXTURE",UPPER(Settings!G6&" FIXTURE")) -> DUMMY LEAGUE FIXTURE
M5: =IFERROR(IF(COUNTIF($W$8:$W$1750,"← Insert the scores of both teams"),"There are matches without scores",""),"")
C6: DATE / TIME | D6: MATCHWEEK NO | E6: VENUE | F6: HOME TEAM | J6: AWAY TEAM | M6: =IFERROR(IF(COUNTIF($W$8:$W$1750,"← Delete the scores"),"Delete scores without matches",""),"") | S6: Team Name Exists ? | T6: BYE Exists ? | U6: Score exists ? | V6: Matchweek Started ? | W6: Result
C8: 44002.875 | D8: =IFERROR(IF(FixtureCalc!C4="-","",IF(OR(FixtureCalc!E4="blank row 1",FixtureCalc!E4="blank row 2"),"","Matchweek "&FixtureCalc!C4)),"") -> Matchweek 1 | E8: =IFERROR(IF(LEN(INDEX(Settings!$D$6:$D$37,MATCH(Fixture!F8,Settings!$C$6:$C$37,0)))=0,"",INDEX(Settings!$D$6:$D$37,MATCH(Fixture!F8,Settings!$C$6:$C$37,0))),"-") -> Beaver Stadium | F8: =IFERROR(IF(FixtureCalc!C4="-","",IF(OR(FixtureCalc!E4="blank row 1",FixtureCalc!E4="blank row 2"),"", IF(LEN(INDEX(Settings!$C$6:$C$37,FixtureCalc!E4))=0,"BYE",INDEX(Settings!$C$6:$C$37,FixtureCalc!E4)) )),"") -> Legal Swamp Twisters | G8: 3 | I8: 2 | J8: =IFERROR(IF(FixtureCalc!C4="-","",IF(OR(FixtureCalc!F4="blank row 1",FixtureCalc!F4="blank row 2"),"",IF(LEN(INDEX(Settings!$C$6:$C$37,FixtureCalc!F4))=0,"BYE",INDEX(Settings!$C$6:$C$37,FixtureCalc!F4)) )),"") -> Unethical Bison | L8: =IFERROR(IF(LEN(W8)>0,"←",""),"") | S8: =IFERROR(IF(AND(LEN(F8)>0,LEN(J8)>0),"YES","NO"),"") -> YES | T8: =IFERROR(IF(OR(F8="BYE",J8="BYE"),"YES","NO"),"") -> NO | U8: =IF(OR(LEN(G8)=0,LEN(I8)=0),"NO","YES") -> YES | V8: =IF(LEN(D8)=0,0,COUNTIFS($D$8:$D$1750,D8,$G$8:$G$1750,"<>"&"",$I$8:$I$1750,"<>"&"")) -> 9 | W8: =IF(S8="YES",IF(T8="YES",IF(U8="YES","← Delete the scores",""),IF(AND(U8="NO",V8>0),"← Insert the scores of both teams","")),IF(U8="YES","← Delete the scores",""))
C9: 44002.75 | D9: =IFERROR(IF(FixtureCalc!C5="-","",IF(OR(FixtureCalc!E5="blank row 1",FixtureCalc!E5="blank row 2"),"","Matchweek "&FixtureCalc!C5)),"") -> Matchweek 1 | E9: =IFERROR(IF(LEN(INDEX(Settings!$D$6:$D$37,MATCH(Fixture!F9,Settings!$C$6:$C$37,0)))=0,"",INDEX(Settings!$D$6:$D$37,MATCH(Fixture!F9,Settings!$C$6:$C$37,0))),"") -> Ohio Stadium | F9: =IFERROR(IF(FixtureCalc!C5="-","",IF(OR(FixtureCalc!E5="blank row 1",FixtureCalc!E5="blank row 2"),"", IF(LEN(INDEX(Settings!$C$6:$C$37,FixtureCalc!E5))=0,"BYE",INDEX(Settings!$C$6:$C$37,FixtureCalc!E5)) )),"") -> Ancient Crows | G9: 1 | I9: 1 | J9: =IFERROR(IF(FixtureCalc!C5="-","",IF(OR(FixtureCalc!F5="blank row 1",FixtureCalc!F5="blank row 2"),"",IF(LEN(INDEX(Settings!$C$6:$C$37,FixtureCalc!F5))=0,"BYE",INDEX(Settings!$C$6:$C$37,FixtureCalc!F5)) )),"") -> Defiant Jesters | L9: =IFERROR(IF(LEN(W9)>0,"←",""),"") | S9: =IFERROR(IF(AND(LEN(F9)>0,LEN(J9)>0),"YES","NO"),"") -> YES | T9: =IFERROR(IF(OR(F9="BYE",J9="BYE"),"YES","NO"),"") -> NO | U9: =IF(OR(LEN(G9)=0,LEN(I9)=0),"NO","YES") -> YES | V9: =IF(LEN(D9)=0,0,COUNTIFS($D$8:$D$1750,D9,$G$8:$G$1750,"<>"&"",$I$8:$I$1750,"<>"&"")) -> 9 | W9: =IF(S9="YES",IF(T9="YES",IF(U9="YES","← Delete the scores",""),IF(AND(U9="NO",V9>0),"← Insert the scores of both teams","")),IF(U9="YES","← Delete the scores",""))
C10: 44002.906 | D10: =IFERROR(IF(FixtureCalc!C6="-","",IF(OR(FixtureCalc!E6="blank row 1",FixtureCalc!E6="blank row 2"),"","Matchweek "&FixtureCalc!C6)),"") -> Matchweek 1 | E10: =IFERROR(IF(LEN(INDEX(Settings!$D$6:$D$37,MATCH(Fixture!F10,Settings!$C$6:$C$37,0)))=0,"",INDEX(Settings!$D$6:$D$37,MATCH(Fixture!F10,Settings!$C$6:$C$37,0))),"") -> Kyle Field | F10: =IFERROR(IF(FixtureCalc!C6="-","",IF(OR(FixtureCalc!E6="blank row 1",FixtureCalc!E6="blank row 2"),"", IF(LEN(INDEX(Settings!$C$6:$C$37,FixtureCalc!E6))=0,"BYE",INDEX(Settings!$C$6:$C$37,FixtureCalc!E6)) )),"") -> Wise Panthers | G10: 1 | I10: 2 | J10: =IFERROR(IF(FixtureCalc!C6="-","",IF(OR(FixtureCalc!F6="blank row 1",FixtureCalc!F6="blank row 2"),"",IF(LEN(INDEX(Settings!$C$6:$C$37,FixtureCalc!F6))=0,"BYE",INDEX(Settings!$C$6:$C$37,FixtureCalc!F6)) )),"") -> The Classic | L10: =IFERROR(IF(LEN(W10)>0,"←",""),"") | S10: =IFERROR(IF(AND(LEN(F10)>0,LEN(J10)>0),"YES","NO"),"") -> YES | T10: =IFERROR(IF(OR(F10="BYE",J10="BYE"),"YES","NO"),"") -> NO | U10: =IF(OR(LEN(G10)=0,LEN(I10)=0),"NO","YES") -> YES | V10: =IF(LEN(D10)=0,0,COUNTIFS($D$8:$D$1750,D10,$G$8:$G$1750,"<>"&"",$I$8:$I$1750,"<>"&"")) -> 9 | W10: =IF(S10="YES",IF(T10="YES",IF(U10="YES","← Delete the scores",""),IF(AND(U10="NO",V10>0),"← Insert the scores of both teams","")),IF(U10="YES","← Delete the scores",""))
C11: 44002.875 | D11: =IFERROR(IF(FixtureCalc!C7="-","",IF(OR(FixtureCalc!E7="blank row 1",FixtureCalc!E7="blank row 2"),"","Matchweek "&FixtureCalc!C7)),"") -> Matchweek 1 | E11: =IFERROR(IF(LEN(INDEX(Settings!$D$6:$D$37,MATCH(Fixture!F11,Settings!$C$6:$C$37,0)))=0,"",INDEX(Settings!$D$6:$D$37,MATCH(Fixture!F11,Settings!$C$6:$C$37,0))),"") -> Neyland Stadium | F11: =IFERROR(IF(FixtureCalc!C7="-","",IF(OR(FixtureCalc!E7="blank row 1",FixtureCalc!E7="blank row 2"),"", IF(LEN(INDEX(Settings!$C$6:$C$37,FixtureCalc!E7))=0,"BYE",INDEX(Settings!$C$6:$C$37,FixtureCalc!E7)) )),"") -> South Leaders | G11: 2 | I11: 2 | J11: =IFERROR(IF(FixtureCalc!C7="-","",IF(OR(FixtureCalc!F7="blank row 1",FixtureCalc!F7="blank row 2"),"",IF(LEN(INDEX(Settings!$C$6:$C$37,FixtureCalc!F7))=0,"BYE",INDEX(Settings!$C$6:$C$37,FixtureCalc!F7)) )),"") -> Northern Tan Whackers | L11: =IFERROR(IF(LEN(W11)>0,"←",""),"") | S11: =IFERROR(IF(AND(LEN(F11)>0,LEN(J11)>0),"YES","NO"),"") -> YES | T11: =IFERROR(IF(OR(F11="BYE",J11="BYE"),"YES","NO"),"") -> NO | U11: =IF(OR(LEN(G11)=0,LEN(I11)=0),"NO","YES") -> YES | V11: =IF(LEN(D11)=0,0,COUNTIFS($D$8:$D$1750,D11,$G$8:$G$1750,"<>"&"",$I$8:$I$1750,"<>"&"")) -> 9 | W11: =IF(S11="YES",IF(T11="YES",IF(U11="YES","← Delete the scores",""),IF(AND(U11="NO",V11>0),"← Insert the scores of both teams","")),IF(U11="YES","← Delete the scores",""))
C12: 44002.875 | D12: =IFERROR(IF(FixtureCalc!C8="-","",IF(OR(FixtureCalc!E8="blank row 1",FixtureCalc!E8="blank row 2"),"","Matchweek "&FixtureCalc!C8)),"") -> Matchweek 1 | E12: =IFERROR(IF(LEN(INDEX(Settings!$D$6:$D$37,MATCH(Fixture!F12,Settings!$C$6:$C$37,0)))=0,"",INDEX(Settings!$D$6:$D$37,MATCH(Fixture!F12,Settings!$C$6:$C$37,0))),"") -> Tiger Stadium | F12: =IFERROR(IF(FixtureCalc!C8="-","",IF(OR(FixtureCalc!E8="blank row 1",FixtureCalc!E8="blank row 2"),"", IF(LEN(INDEX(Settings!$C$6:$C$37,FixtureCalc!E8))=0,"BYE",INDEX(Settings!$C$6:$C$37,FixtureCalc!E8)) )),"") -> Kaptain City | G12: 2 | I12: 0 | J12: =IFERROR(IF(FixtureCalc!C8="-","",IF(OR(FixtureCalc!F8="blank row 1",FixtureCalc!F8="blank row 2"),"",IF(LEN(INDEX(Settings!$C$6:$C$37,FixtureCalc!F8))=0,"BYE",INDEX(Settings!$C$6:$C$37,FixtureCalc!F8)) )),"") -> The Krakens | L12: =IFERROR(IF(LEN(W12)>0,"←",""),"") | S12: =IFERROR(IF(AND(LEN(F12)>0,LEN(J12)>0),"YES","NO"),"") -> YES | T12: =IFERROR(IF(OR(F12="BYE",J12="BYE"),"YES","NO"),"") -> NO | U12: =IF(OR(LEN(G12)=0,LEN(I12)=0),"NO","YES") -> YES | V12: =IF(LEN(D12)=0,0,COUNTIFS($D$8:$D$1750,D12,$G$8:$G$1750,"<>"&"",$I$8:$I$1750,"<>"&"")) -> 9 | W12: =IF(S12="YES",IF(T12="YES",IF(U12="YES","← Delete the scores",""),IF(AND(U12="NO",V12>0),"← Insert the scores of both teams","")),IF(U12="YES","← Delete the scores",""))
C13: 44002.75 | D13: =IFERROR(IF(FixtureCalc!C9="-","",IF(OR(FixtureCalc!E9="blank row 1",FixtureCalc!E9="blank row 2"),"","Matchweek "&FixtureCalc!C9)),"") -> Matchweek 1 | E13: =IFERROR(IF(LEN(INDEX(Settings!$D$6:$D$37,MATCH(Fixture!F13,Settings!$C$6:$C$37,0)))=0,"",INDEX(Settings!$D$6:$D$37,MATCH(Fixture!F13,Settings!$C$6:$C$37,0))),"") -> Bryant–Denny Stadium | F13: =IFERROR(IF(FixtureCalc!C9="-","",IF(OR(FixtureCalc!E9="blank row 1",FixtureCalc!E9="blank row 2"),"", IF(LEN(INDEX(Settings!$C$6:$C$37,FixtureCalc!E9))=0,"BYE",INDEX(Settings!$C$6:$C$37,FixtureCalc!E9)) )),"") -> Delta Blazers | G13: 3 | I13: 4 | J13: =IFERROR(IF(FixtureCalc!C9="-","",IF(OR(FixtureCalc!F9="blank row 1",FixtureCalc!F9="blank row 2"),"",IF(LEN(INDEX(Settings!$C$6:$C$37,FixtureCalc!F9))=0,"BYE",INDEX(Settings!$C$6:$C$37,FixtureCalc!F9)) )),"") -> Mighty Patriots | L13: =IFERROR(IF(LEN(W13)>0,"←",""),"") | S13: =IFERROR(IF(AND(LEN(F13)>0,LEN(J13)>0),"YES","NO"),"") -> YES | T13: =IFERROR(IF(OR(F13="BYE",J13="BYE"),"YES","NO"),"") -> NO | U13: =IF(OR(LEN(G13)=0,LEN(I13)=0),"NO","YES") -> YES | V13: =IF(LEN(D13)=0,0,COUNTIFS($D$8:$D$1750,D13,$G$8:$G$1750,"<>"&"",$I$8:$I$1750,"<>"&"")) -> 9 | W13: =IF(S13="YES",IF(T13="YES",IF(U13="YES","← Delete the scores",""),IF(AND(U13="NO",V13>0),"← Insert the scores of both teams","")),IF(U13="YES","← Delete the scores",""))
C14: 44002.792 | D14: =IFERROR(IF(FixtureCalc!C10="-","",IF(OR(FixtureCalc!E10="blank row 1",FixtureCalc!E10="blank row 2"),"","Matchweek "&FixtureCalc!C10)),"") -> Matchweek 1 | E14: =IFERROR(IF(LEN(INDEX(Settings!$D$6:$D$37,MATCH(Fixture!F14,Settings!$C$6:$C$37,0)))=0,"",INDEX(Settings!$D$6:$D$37,MATCH(Fixture!F14,Settings!$C$6:$C$37,0))),"") -> Darrell K Royal–Texas Memorial Stadium | F14: =IFERROR(IF(FixtureCalc!C10="-","",IF(OR(FixtureCalc!E10="blank row 1",FixtureCalc!E10="blank row 2"),"", IF(LEN(INDEX(Settings!$C$6:$C$37,FixtureCalc!E10))=0,"BYE",INDEX(Settings!$C$6:$C$37,FixtureCalc!E10)) )),"") -> Real Revolution | G14: 1 | I14: 0 | J14: =IFERROR(IF(FixtureCalc!C10="-","",IF(OR(FixtureCalc!F10="blank row 1",FixtureCalc!F10="blank row 2"),"",IF(LEN(INDEX(Settings!$C$6:$C$37,FixtureCalc!F10))=0,"BYE",INDEX(Settings!$C$6:$C$37,FixtureCalc!F10)) )),"") -> Final Green Gazelles | L14: =IFERROR(IF(LEN(W14)>0,"←",""),"") | S14: =IFERROR(IF(AND(LEN(F14)>0,LEN(J14)>0),"YES","NO"),"") -> YES | T14: =IFERROR(IF(OR(F14="BYE",J14="BYE"),"YES","NO"),"") -> NO | U14: =IF(OR(LEN(G14)=0,LEN(I14)=0),"NO","YES") -> YES | V14: =IF(LEN(D14)=0,0,COUNTIFS($D$8:$D$1750,D14,$G$8:$G$1750,"<>"&"",$I$8:$I$1750,"<>"&"")) -> 9 | W14: =IF(S14="YES",IF(T14="YES",IF(U14="YES","← Delete the scores",""),IF(AND(U14="NO",V14>0),"← Insert the scores of both teams","")),IF(U14="YES","← Delete the scores",""))
C15: 44002.875 | D15: =IFERROR(IF(FixtureCalc!C11="-","",IF(OR(FixtureCalc!E11="blank row 1",FixtureCalc!E11="blank row 2"),"","Matchweek "&FixtureCalc!C11)),"") -> Matchweek 1 | E15: =IFERROR(IF(LEN(INDEX(Settings!$D$6:$D$37,MATCH(Fixture!F15,Settings!$C$6:$C$37,0)))=0,"",INDEX(Settings!$D$6:$D$37,MATCH(Fixture!F15,Settings!$C$6:$C$37,0))),"") -> Ben Hill Griffin Stadium | F15: =IFERROR(IF(FixtureCalc!C11="-","",IF(OR(FixtureCalc!E11="blank row 1",FixtureCalc!E11="blank row 2"),"", IF(LEN(INDEX(Settings!$C$6:$C$37,FixtureCalc!E11))=0,"BYE",INDEX(Settings!$C$6:$C$37,FixtureCalc!E11)) )),"") -> Silver Rangers | G15: 1 | I15: 1 | J15: =IFERROR(IF(FixtureCalc!C11="-","",IF(OR(FixtureCalc!F11="blank row 1",FixtureCalc!F11="blank row 2"),"",IF(LEN(INDEX(Settings!$C$6:$C$37,FixtureCalc!F11))=0,"BYE",INDEX(Settings!$C$6:$C$37,FixtureCalc!F11)) )),"") -> Haunting Bottle Rockets | L15: =IFERROR(IF(LEN(W15)>0,"←",""),"") | S15: =IFERROR(IF(AND(LEN(F15)>0,LEN(J15)>0),"YES","NO"),"") -> YES | T15: =IFERROR(IF(OR(F15="BYE",J15="BYE"),"YES","NO"),"") -> NO | U15: =IF(OR(LEN(G15)=0,LEN(I15)=0),"NO","YES") -> YES | V15: =IF(LEN(D15)=0,0,COUNTIFS($D$8:$D$1750,D15,$G$8:$G$1750,"<>"&"",$I$8:$I$1750,"<>"&"")) -> 9 | W15: =IF(S15="YES",IF(T15="YES",IF(U15="YES","← Delete the scores",""),IF(AND(U15="NO",V15>0),"← Insert the scores of both teams","")),IF(U15="YES","← Delete the scores",""))
C16: 44003.875 | D16: =IFERROR(IF(FixtureCalc!C12="-","",IF(OR(FixtureCalc!E12="blank row 1",FixtureCalc!E12="blank row 2"),"","Matchweek "&FixtureCalc!C12)),"") -> Matchweek 1 | E16: =IFERROR(IF(LEN(INDEX(Settings!$D$6:$D$37,MATCH(Fixture!F16,Settings!$C$6:$C$37,0)))=0,"",INDEX(Settings!$D$6:$D$37,MATCH(Fixture!F16,Settings!$C$6:$C$37,0))),"") -> Jordan–Hare Stadium | F16: =IFERROR(IF(FixtureCalc!C12="-","",IF(OR(FixtureCalc!E12="blank row 1",FixtureCalc!E12="blank row 2"),"", IF(LEN(INDEX(Settings!$C$6:$C$37,FixtureCalc!E12))=0,"BYE",INDEX(Settings!$C$6:$C$37,FixtureCalc!E12)) )),"") -> Earnest Broncos | G16: 1 | I16: 1 | J16: =IFERROR(IF(FixtureCalc!C12="-","",IF(OR(FixtureCalc!F12="blank row 1",FixtureCalc!F12="blank row 2"),"",IF(LEN(INDEX(Settings!$C$6:$C$37,FixtureCalc!F12))=0,"BYE",INDEX(Settings!$C$6:$C$37,FixtureCalc!F12)) )),"") -> Red Sirens | L16: =IFERROR(IF(LEN(W16)>0,"←",""),"") | S16: =IFERROR(IF(AND(LEN(F16)>0,LEN(J16)>0),"YES","NO"),"") -> YES | T16: =IFERROR(IF(OR(F16="BYE",J16="BYE"),"YES","NO"),"") -> NO | U16: =IF(OR(LEN(G16)=0,LEN(I16)=0),"NO","YES") -> YES | V16: =IF(LEN(D16)=0,0,COUNTIFS($D$8:$D$1750,D16,$G$8:$G$1750,"<>"&"",$I$8:$I$1750,"<>"&"")) -> 9 | W16: =IF(S16="YES",IF(T16="YES",IF(U16="YES","← Delete the scores",""),IF(AND(U16="NO",V16>0),"← Insert the scores of both teams","")),IF(U16="YES","← Delete the scores",""))
D17: =IFERROR(IF(FixtureCalc!C13="-","",IF(OR(FixtureCalc!E13="blank row 1",FixtureCalc!E13="blank row 2"),"","Matchweek "&FixtureCalc!C13)),"") | E17: =IFERROR(IF(LEN(INDEX(Settings!$D$6:$D$37,MATCH(Fixture!F17,Settings!$C$6:$C$37,0)))=0,"",INDEX(Settings!$D$6:$D$37,MATCH(Fixture!F17,Settings!$C$6:$C$37,0))),"") | F17: =IFERROR(IF(FixtureCalc!C13="-","",IF(OR(FixtureCalc!E13="blank row 1",FixtureCalc!E13="blank row 2"),"", IF(LEN(INDEX(Settings!$C$6:$C$37,FixtureCalc!E13))=0,"BYE",INDEX(Settings!$C$6:$C$37,FixtureCalc!E13)) )),"") | J17: =IFERROR(IF(FixtureCalc!C13="-","",IF(OR(FixtureCalc!F13="blank row 1",FixtureCalc!F13="blank row 2"),"",IF(LEN(INDEX(Settings!$C$6:$C$37,FixtureCalc!F13))=0,"BYE",INDEX(Settings!$C$6:$C$37,FixtureCalc!F13)) )),"") | L17: =IFERROR(IF(LEN(W17)>0,"←",""),"") | S17: =IFERROR(IF(AND(LEN(F17)>0,LEN(J17)>0),"YES","NO"),"") -> NO | T17: =IFERROR(IF(OR(F17="BYE",J17="BYE"),"YES","NO"),"") -> NO | U17: =IF(OR(LEN(G17)=0,LEN(I17)=0),"NO","YES") -> NO | V17: =IF(LEN(D17)=0,0,COUNTIFS($D$8:$D$1750,D17,$G$8:$G$1750,"<>"&"",$I$8:$I$1750,"<>"&"")) -> 0 | W17: =IF(S17="YES",IF(T17="YES",IF(U17="YES","← Delete the scores",""),IF(AND(U17="NO",V17>0),"← Insert the scores of both teams","")),IF(U17="YES","← Delete the scores",""))
D18: =IFERROR(IF(FixtureCalc!C14="-","",IF(OR(FixtureCalc!E14="blank row 1",FixtureCalc!E14="blank row 2"),"","Matchweek "&FixtureCalc!C14)),"") | E18: =IFERROR(IF(LEN(INDEX(Settings!$D$6:$D$37,MATCH(Fixture!F18,Settings!$C$6:$C$37,0)))=0,"",INDEX(Settings!$D$6:$D$37,MATCH(Fixture!F18,Settings!$C$6:$C$37,0))),"") | F18: =IFERROR(IF(FixtureCalc!C14="-","",IF(OR(FixtureCalc!E14="blank row 1",FixtureCalc!E14="blank row 2"),"", IF(LEN(INDEX(Settings!$C$6:$C$37,FixtureCalc!E14))=0,"BYE",INDEX(Settings!$C$6:$C$37,FixtureCalc!E14)) )),"") | J18: =IFERROR(IF(FixtureCalc!C14="-","",IF(OR(FixtureCalc!F14="blank row 1",FixtureCalc!F14="blank row 2"),"",IF(LEN(INDEX(Settings!$C$6:$C$37,FixtureCalc!F14))=0,"BYE",INDEX(Settings!$C$6:$C$37,FixtureCalc!F14)) )),"") | L18: =IFERROR(IF(LEN(W18)>0,"←",""),"") | S18: =IFERROR(IF(AND(LEN(F18)>0,LEN(J18)>0),"YES","NO"),"") -> NO | T18: =IFERROR(IF(OR(F18="BYE",J18="BYE"),"YES","NO"),"") -> NO | U18: =IF(OR(LEN(G18)=0,LEN(I18)=0),"NO","YES") -> NO | V18: =IF(LEN(D18)=0,0,COUNTIFS($D$8:$D$1750,D18,$G$8:$G$1750,"<>"&"",$I$8:$I$1750,"<>"&"")) -> 0 | W18: =IF(S18="YES",IF(T18="YES",IF(U18="YES","← Delete the scores",""),IF(AND(U18="NO",V18>0),"← Insert the scores of both teams","")),IF(U18="YES","← Delete the scores",""))
C19: 44003.823 | D19: =IFERROR(IF(FixtureCalc!C15="-","",IF(OR(FixtureCalc!E15="blank row 1",FixtureCalc!E15="blank row 2"),"","Matchweek "&FixtureCalc!C15)),"") -> Matchweek 2 | E19: =IFERROR(IF(LEN(INDEX(Settings!$D$6:$D$37,MATCH(Fixture!F19,Settings!$C$6:$C$37,0)))=0,"",INDEX(Settings!$D$6:$D$37,MATCH(Fixture!F19,Settings!$C$6:$C$37,0))),"") -> Beaver Stadium | F19: =IFERROR(IF(FixtureCalc!C15="-","",IF(OR(FixtureCalc!E15="blank row 1",FixtureCalc!E15="blank row 2"),"", IF(LEN(INDEX(Settings!$C$6:$C$37,FixtureCalc!E15))=0,"BYE",INDEX(Settings!$C$6:$C$37,FixtureCalc!E15)) )),"") -> Legal Swamp Twisters | G19: 3 | I19: 2 | J19: =IFERROR(IF(FixtureCalc!C15="-","",IF(OR(FixtureCalc!F15="blank row 1",FixtureCalc!F15="blank row 2"),"",IF(LEN(INDEX(Settings!$C$6:$C$37,FixtureCalc!F15))=0,"BYE",INDEX(Settings!$C$6:$C$37,FixtureCalc!F15)) )),"") -> Defiant Jesters | L19: =IFERROR(IF(LEN(W19)>0,"←",""),"") | S19: =IFERROR(IF(AND(LEN(F19)>0,LEN(J19)>0),"YES","NO"),"") -> YES | T19: =IFERROR(IF(OR(F19="BYE",J19="BYE"),"YES","NO"),"") -> NO | U19: =IF(OR(LEN(G19)=0,LEN(I19)=0),"NO","YES") -> YES | V19: =IF(LEN(D19)=0,0,COUNTIFS($D$8:$D$1750,D19,$G$8:$G$1750,"<>"&"",$I$8:$I$1750,"<>"&"")) -> 9 | W19: =IF(S19="YES",IF(T19="YES",IF(U19="YES","← Delete the scores",""),IF(AND(U19="NO",V19>0),"← Insert the scores of both teams","")),IF(U19="YES","← Delete the scores",""))
C20: 44003.875 | D20: =IFERROR(IF(FixtureCalc!C16="-","",IF(OR(FixtureCalc!E16="blank row 1",FixtureCalc!E16="blank row 2"),"","Matchweek "&FixtureCalc!C16)),"") -> Matchweek 2 | E20: =IFERROR(IF(LEN(INDEX(Settings!$D$6:$D$37,MATCH(Fixture!F20,Settings!$C$6:$C$37,0)))=0,"",INDEX(Settings!$D$6:$D$37,MATCH(Fixture!F20,Settings!$C$6:$C$37,0))),"") -> Gaylord Family Oklahoma Memorial Stadium | F20: =IFERROR(IF(FixtureCalc!C16="-","",IF(OR(FixtureCalc!E16="blank row 1",FixtureCalc!E16="blank row 2"),"", IF(LEN(INDEX(Settings!$C$6:$C$37,FixtureCalc!E16))=0,"BYE",INDEX(Settings!$C$6:$C$37,FixtureCalc!E16)) )),"") -> Unethical Bison | G20: 0 | I20: 4 | J20: =IFERROR(IF(FixtureCalc!C16="-","",IF(OR(FixtureCalc!F16="blank row 1",FixtureCalc!F16="blank row 2"),"",IF(LEN(INDEX(Settings!$C$6:$C$37,FixtureCalc!F16))=0,"BYE",INDEX(Settings!$C$6:$C$37,FixtureCalc!F16)) )),"") -> The Classic | L20: =IFERROR(IF(LEN(W20)>0,"←",""),"") | S20: =IFERROR(IF(AND(LEN(F20)>0,LEN(J20)>0),"YES","NO"),"") -> YES | T20: =IFERROR(IF(OR(F20="BYE",J20="BYE"),"YES","NO"),"") -> NO | U20: =IF(OR(LEN(G20)=0,LEN(I20)=0),"NO","YES") -> YES | V20: =IF(LEN(D20)=0,0,COUNTIFS($D$8:$D$1750,D20,$G$8:$G$1750,"<>"&"",$I$8:$I$1750,"<>"&"")) -> 9 | W20: =IF(S20="YES",IF(T20="YES",IF(U20="YES","← Delete the scores",""),IF(AND(U20="NO",V20>0),"← Insert the scores of both teams","")),IF(U20="YES","← Delete the scores",""))
C21: 44003.875 | D21: =IFERROR(IF(FixtureCalc!C17="-","",IF(OR(FixtureCalc!E17="blank row 1",FixtureCalc!E17="blank row 2"),"","Matchweek "&FixtureCalc!C17)),"") -> Matchweek 2 | E21: =IFERROR(IF(LEN(INDEX(Settings!$D$6:$D$37,MATCH(Fixture!F21,Settings!$C$6:$C$37,0)))=0,"",INDEX(Settings!$D$6:$D$37,MATCH(Fixture!F21,Settings!$C$6:$C$37,0))),"") -> Ohio Stadium | F21: =IFERROR(IF(FixtureCalc!C17="-","",IF(OR(FixtureCalc!E17="blank row 1",FixtureCalc!E17="blank row 2"),"", IF(LEN(INDEX(Settings!$C$6:$C$37,FixtureCalc!E17))=0,"BYE",INDEX(Settings!$C$6:$C$37,FixtureCalc!E17)) )),"") -> Ancient Crows | G21: 1 | I21: 2 | J21: =IFERROR(IF(FixtureCalc!C17="-","",IF(OR(FixtureCalc!F17="blank row 1",FixtureCalc!F17="blank row 2"),"",IF(LEN(INDEX(Settings!$C$6:$C$37,FixtureCalc!F17))=0,"BYE",INDEX(Settings!$C$6:$C$37,FixtureCalc!F17)) )),"") -> Northern Tan Whackers | L21: =IFERROR(IF(LEN(W21)>0,"←",""),"") | S21: =IFERROR(IF(AND(LEN(F21)>0,LEN(J21)>0),"YES","NO"),"") -> YES | T21: =IFERROR(IF(OR(F21="BYE",J21="BYE"),"YES","NO"),"") -> NO | U21: =IF(OR(LEN(G21)=0,LEN(I21)=0),"NO","YES") -> YES | V21: =IF(LEN(D21)=0,0,COUNTIFS($D$8:$D$1750,D21,$G$8:$G$1750,"<>"&"",$I$8:$I$1750,"<>"&"")) -> 9 | W21: =IF(S21="YES",IF(T21="YES",IF(U21="YES","← Delete the scores",""),IF(AND(U21="NO",V21>0),"← Insert the scores of both teams","")),IF(U21="YES","← Delete the scores",""))
C22: 44003.875 | D22: =IFERROR(IF(FixtureCalc!C18="-","",IF(OR(FixtureCalc!E18="blank row 1",FixtureCalc!E18="blank row 2"),"","Matchweek "&FixtureCalc!C18)),"") -> Matchweek 2 | E22: =IFERROR(IF(LEN(INDEX(Settings!$D$6:$D$37,MATCH(Fixture!F22,Settings!$C$6:$C$37,0)))=0,"",INDEX(Settings!$D$6:$D$37,MATCH(Fixture!F22,Settings!$C$6:$C$37,0))),"") -> Kyle Field | F22: =IFERROR(IF(FixtureCalc!C18="-","",IF(OR(FixtureCalc!E18="blank row 1",FixtureCalc!E18="blank row 2"),"", IF(LEN(INDEX(Settings!$C$6:$C$37,FixtureCalc!E18))=0,"BYE",INDEX(Settings!$C$6:$C$37,FixtureCalc!E18)) )),"") -> Wise Panthers | G22: 2 | I22: 2 | J22: =IFERROR(IF(FixtureCalc!C18="-","",IF(OR(FixtureCalc!F18="blank row 1",FixtureCalc!F18="blank row 2"),"",IF(LEN(INDEX(Settings!$C$6:$C$37,FixtureCalc!F18))=0,"BYE",INDEX(Settings!$C$6:$C$37,FixtureCalc!F18)) )),"") -> The Krakens | L22: =IFERROR(IF(LEN(W22)>0,"←",""),"") | S22: =IFERROR(IF(AND(LEN(F22)>0,LEN(J22)>0),"YES","NO"),"") -> YES | T22: =IFERROR(IF(OR(F22="BYE",J22="BYE"),"YES","NO"),"") -> NO | U22: =IF(OR(LEN(G22)=0,LEN(I22)=0),"NO","YES") -> YES | V22: =IF(LEN(D22)=0,0,COUNTIFS($D$8:$D$1750,D22,$G$8:$G$1750,"<>"&"",$I$8:$I$1750,"<>"&"")) -> 9 | W22: =IF(S22="YES",IF(T22="YES",IF(U22="YES","← Delete the scores",""),IF(AND(U22="NO",V22>0),"← Insert the scores of both teams","")),IF(U22="YES","← Delete the scores",""))
C23: 44004.75 | D23: =IFERROR(IF(FixtureCalc!C19="-","",IF(OR(FixtureCalc!E19="blank row 1",FixtureCalc!E19="blank row 2"),"","Matchweek "&FixtureCalc!C19)),"") -> Matchweek 2 | E23: =IFERROR(IF(LEN(INDEX(Settings!$D$6:$D$37,MATCH(Fixture!F23,Settings!$C$6:$C$37,0)))=0,"",INDEX(Settings!$D$6:$D$37,MATCH(Fixture!F23,Settings!$C$6:$C$37,0))),"") -> Neyland Stadium | F23: =IFERROR(IF(FixtureCalc!C19="-","",IF(OR(FixtureCalc!E19="blank row 1",FixtureCalc!E19="blank row 2"),"", IF(LEN(INDEX(Settings!$C$6:$C$37,FixtureCalc!E19))=0,"BYE",INDEX(Settings!$C$6:$C$37,FixtureCalc!E19)) )),"") -> South Leaders | G23: 2 | I23: 0 | J23: =IFERROR(IF(FixtureCalc!C19="-","",IF(OR(FixtureCalc!F19="blank row 1",FixtureCalc!F19="blank row 2"),"",IF(LEN(INDEX(Settings!$C$6:$C$37,FixtureCalc!F19))=0,"BYE",INDEX(Settings!$C$6:$C$37,FixtureCalc!F19)) )),"") -> Mighty Patriots | L23: =IFERROR(IF(LEN(W23)>0,"←",""),"") | S23: =IFERROR(IF(AND(LEN(F23)>0,LEN(J23)>0),"YES","NO"),"") -> YES | T23: =IFERROR(IF(OR(F23="BYE",J23="BYE"),"YES","NO"),"") -> NO | U23: =IF(OR(LEN(G23)=0,LEN(I23)=0),"NO","YES") -> YES | V23: =IF(LEN(D23)=0,0,COUNTIFS($D$8:$D$1750,D23,$G$8:$G$1750,"<>"&"",$I$8:$I$1750,"<>"&"")) -> 9 | W23: =IF(S23="YES",IF(T23="YES",IF(U23="YES","← Delete the scores",""),IF(AND(U23="NO",V23>0),"← Insert the scores of both teams","")),IF(U23="YES","← Delete the scores",""))
C24: 44004.792 | D24: =IFERROR(IF(FixtureCalc!C20="-","",IF(OR(FixtureCalc!E20="blank row 1",FixtureCalc!E20="blank row 2"),"","Matchweek "&FixtureCalc!C20)),"") -> Matchweek 2 | E24: =IFERROR(IF(LEN(INDEX(Settings!$D$6:$D$37,MATCH(Fixture!F24,Settings!$C$6:$C$37,0)))=0,"",INDEX(Settings!$D$6:$D$37,MATCH(Fixture!F24,Settings!$C$6:$C$37,0))),"") -> Tiger Stadium | F24: =IFERROR(IF(FixtureCalc!C20="-","",IF(OR(FixtureCalc!E20="blank row 1",FixtureCalc!E20="blank row 2"),"", IF(LEN(INDEX(Settings!$C$6:$C$37,FixtureCalc!E20))=0,"BYE",INDEX(Settings!$C$6:$C$37,FixtureCalc!E20)) )),"") -> Kaptain City | G24: 3 | I24: 4 | J24: =IFERROR(IF(FixtureCalc!C20="-","",IF(OR(FixtureCalc!F20="blank row 1",FixtureCalc!F20="blank row 2"),"",IF(LEN(INDEX(Settings!$C$6:$C$37,FixtureCalc!F20))=0,"BYE",INDEX(Settings!$C$6:$C$37,FixtureCalc!F20)) )),"") -> Final Green Gazelles | L24: =IFERROR(IF(LEN(W24)>0,"←",""),"") | S24: =IFERROR(IF(AND(LEN(F24)>0,LEN(J24)>0),"YES","NO"),"") -> YES | T24: =IFERROR(IF(OR(F24="BYE",J24="BYE"),"YES","NO"),"") -> NO | U24: =IF(OR(LEN(G24)=0,LEN(I24)=0),"NO","YES") -> YES | V24: =IF(LEN(D24)=0,0,COUNTIFS($D$8:$D$1750,D24,$G$8:$G$1750,"<>"&"",$I$8:$I$1750,"<>"&"")) -> 9 | W24: =IF(S24="YES",IF(T24="YES",IF(U24="YES","← Delete the scores",""),IF(AND(U24="NO",V24>0),"← Insert the scores of both teams","")),IF(U24="YES","← Delete the scores",""))
C25: 44004.896 | D25: =IFERROR(IF(FixtureCalc!C21="-","",IF(OR(FixtureCalc!E21="blank row 1",FixtureCalc!E21="blank row 2"),"","Matchweek "&FixtureCalc!C21)),"") -> Matchweek 2 | E25: =IFERROR(IF(LEN(INDEX(Settings!$D$6:$D$37,MATCH(Fixture!F25,Settings!$C$6:$C$37,0)))=0,"",INDEX(Settings!$D$6:$D$37,MATCH(Fixture!F25,Settings!$C$6:$C$37,0))),"") -> Bryant–Denny Stadium | F25: =IFERROR(IF(FixtureCalc!C21="-","",IF(OR(FixtureCalc!E21="blank row 1",FixtureCalc!E21="blank row 2"),"", IF(LEN(INDEX(Settings!$C$6:$C$37,FixtureCalc!E21))=0,"BYE",INDEX(Settings!$C$6:$C$37,FixtureCalc!E21)) )),"") -> Delta Blazers | G25: 1 | I25: 0 | J25: =IFERROR(IF(FixtureCalc!C21="-","",IF(OR(FixtureCalc!F21="blank row 1",FixtureCalc!F21="blank row 2"),"",IF(LEN(INDEX(Settings!$C$6:$C$37,FixtureCalc!F21))=0,"BYE",INDEX(Settings!$C$6:$C$37,FixtureCalc!F21)) )),"") -> Haunting Bottle Rockets | L25: =IFERROR(IF(LEN(W25)>0,"←",""),"") | S25: =IFERROR(IF(AND(LEN(F25)>0,LEN(J25)>0),"YES","NO"),"") -> YES | T25: =IFERROR(IF(OR(F25="BYE",J25="BYE"),"YES","NO"),"") -> NO | U25: =IF(OR(LEN(G25)=0,LEN(I25)=0),"NO","YES") -> YES | V25: =IF(LEN(D25)=0,0,COUNTIFS($D$8:$D$1750,D25,$G$8:$G$1750,"<>"&"",$I$8:$I$1750,"<>"&"")) -> 9 | W25: =IF(S25="YES",IF(T25="YES",IF(U25="YES","← Delete the scores",""),IF(AND(U25="NO",V25>0),"← Insert the scores of both teams","")),IF(U25="YES","← Delete the scores",""))
C26: 44004.792 | D26: =IFERROR(IF(FixtureCalc!C22="-","",IF(OR(FixtureCalc!E22="blank row 1",FixtureCalc!E22="blank row 2"),"","Matchweek "&FixtureCalc!C22)),"") -> Matchweek 2 | E26: =IFERROR(IF(LEN(INDEX(Settings!$D$6:$D$37,MATCH(Fixture!F26,Settings!$C$6:$C$37,0)))=0,"",INDEX(Settings!$D$6:$D$37,MATCH(Fixture!F26,Settings!$C$6:$C$37,0))),"") -> Darrell K Royal–Texas Memorial Stadium | F26: =IFERROR(IF(FixtureCalc!C22="-","",IF(OR(FixtureCalc!E22="blank row 1",FixtureCalc!E22="blank row 2"),"", IF(LEN(INDEX(Settings!$C$6:$C$37,FixtureCalc!E22))=0,"BYE",INDEX(Settings!$C$6:$C$37,FixtureCalc!E22)) )),"") -> Real Revolution | G26: 3 | I26: 3 | J26: =IFERROR(IF(FixtureCalc!C22="-","",IF(OR(FixtureCalc!F22="blank row 1",FixtureCalc!F22="blank row 2"),"",IF(LEN(INDEX(Settings!$C$6:$C$37,FixtureCalc!F22))=0,"BYE",INDEX(Settings!$C$6:$C$37,FixtureCalc!F22)) )),"") -> Red Sirens | L26: =IFERROR(IF(LEN(W26)>0,"←",""),"") | S26: =IFERROR(IF(AND(LEN(F26)>0,LEN(J26)>0),"YES","NO"),"") -> YES | T26: =IFERROR(IF(OR(F26="BYE",J26="BYE"),"YES","NO"),"") -> NO | U26: =IF(OR(LEN(G26)=0,LEN(I26)=0),"NO","YES") -> YES | V26: =IF(LEN(D26)=0,0,COUNTIFS($D$8:$D$1750,D26,$G$8:$G$1750,"<>"&"",$I$8:$I$1750,"<>"&"")) -> 9 | W26: =IF(S26="YES",IF(T26="YES",IF(U26="YES","← Delete the scores",""),IF(AND(U26="NO",V26>0),"← Insert the scores of both teams","")),IF(U26="YES","← Delete the scores",""))
