Workbook
Name Dynamic_Database_Height: StandingsCalc!$T$3
Name Dynamic_Standings_Height: StandingsCalc!$W$3
Name maxgameno: Settings!$Q$8
Name maxroundno: Settings!$Q$7
Name maxteamno: Settings!$Q$6
Name nTeams: MAX(3, CEILING(FixtureCode!$C$3, 2))

Sheet Settings
C2: LEAGUE SCHEDULE MAKER
C3: SETTINGS
B5: No | C5: Teams | D5: Venue | F5: SETTINGS | P5: Real Max Team No: | Q5: {=MAX(IF(LEN($C$6:$C$37)>0,$B$6:$B$37,0))} -> 18
B6: 1 | C6: Legal Swamp Twisters | D6: Beaver Stadium | F6: League Name: | G6: Dummy League | P6: Max Team No: | Q6: {=ROUNDUP(MAX(IF(LEN($C$6:$C$37)>0,$B$6:$B$37,0))/2,0)*2} -> 18
B7: 2 | C7: Ancient Crows | D7: Ohio Stadium | F7: Points for Win: | G7: 3 | P7: Max Round No: | Q7: =IF(LEN($G$10)=0," - ",($Q$6-1)*$G$10) -> 17
B8: 3 | C8: Wise Panthers | D8: Kyle Field | F8: Points for Draw: | G8: 1 | P8: Max Game No: | Q8: =Q6/2 -> 9
B9: 4 | C9: South Leaders | D9: Neyland Stadium | F9: Points for Lose | G9: 0
B10: 5 | C10: Kaptain City | D10: Tiger Stadium | F10: Play each other: | G10: 1
B11: 6 | C11: Delta Blazers | D11: Bryant–Denny Stadium
B12: 7 | C12: Real Revolution | D12: Darrell K Royal–Texas Memorial Stadium | F12: TIE BRAKER
B13: 8 | C13: Silver Rangers | D13: Ben Hill Griffin Stadium | F13: Priority | G13: Rule
B14: 9 | C14: Earnest Broncos | D14: Jordan–Hare Stadium | F14: 1 | G14: Points
B15: 10 | C15: Red Sirens | D15: Gaylord Family Oklahoma Memorial Stadium | F15: 2 | G15: Win Rate
B16: 11 | C16: Haunting Bottle Rockets | D16: Memorial Stadium | F16: 3 | G16: GD
B17: 12 | C17: Final Green Gazelles | D17: Neyland Stadium | F17: 4 | G17: GF
B18: 13 | C18: Mighty Patriots | D18: Tiger Stadium | F18: 5
B19: 14 | C19: The Krakens | D19: Bryant–Denny Stadium
B20: 15 | C20: Northern Tan Whackers | D20: Darrell K Royal–Texas Memorial Stadium
B21: 16 | C21: The Classic | D21: Ben Hill Griffin Stadium
B22: 17 | C22: Defiant Jesters | D22: Jordan–Hare Stadium
B23: 18 | C23: Unethical Bison | D23: Gaylord Family Oklahoma Memorial Stadium
B24: 19
B25: 20
B26: 21
B27: 22
B28: 23
B29: 24
B30: 25
B31: 26
B32: 27
B33: 28
B34: 29
B35: 30
... B37: 32

Sheet FixtureCode
B3: Teams: | C3: =Settings!Q6 -> 18 | D3: =IF(ISODD(C3), "Team " & C3+1 & " is a Bye", "")
B4: Round | C4: G1-T1 | D4: G1-T2 | E4: G2-T1 | F4: G2-T2 | G4: G3-T1 | H4: G3-T2 | I4: G4-T1 | J4: G4-T2 | K4: G5-T1 | L4: G5-T2 | M4: G6-T1 | N4: G6-T2 | O4: G7-T1 | P4: G7-T2 | Q4: G8-T1 | R4: G8-T2 | S4: G9-T1 | T4: G9-T2 | U4: G10-T1 | V4: G10-T2 | W4: G11-T1 | X4: G11-T2 | Y4: G12-T1 | Z4: G12-T2 | AA4: G13-T1 | AB4: G13-T2 | AC4: G14-T1 | AD4: G14-T2 | AE4: G15-T1 | AF4: G15-T2 | AG4: G16-T1 | AH4: G16-T2
B5: 1 | C5: =1 -> 1 | D5: =nTeams -> 18 | E5: =C5 + 1 -> 2 | F5: =D5 - 1 -> 17 | G5: =E5 + 1 -> 3 | H5: =F5 - 1 -> 16 | I5: =G5 + 1 -> 4 | J5: =H5 - 1 -> 15 | K5: =I5 + 1 -> 5 | L5: =J5 - 1 -> 14 | M5: =K5 + 1 -> 6 | N5: =L5 - 1 -> 13 | O5: =M5 + 1 -> 7 | P5: =N5 - 1 -> 12 | Q5: =O5 + 1 -> 8 | R5: =P5 - 1 -> 11 | S5: =Q5 + 1 -> 9 | T5: =R5 - 1 -> 10 | U5: =S5 + 1 -> 10 | V5: =T5 - 1 -> 9 | W5: =U5 + 1 -> 11 | X5: =V5 - 1 -> 8 | Y5: =W5 + 1 -> 12 | Z5: =X5 - 1 -> 7 | AA5: =Y5 + 1 -> 13 | AB5: =Z5 - 1 -> 6 | AC5: =AA5 + 1 -> 14 | AD5: =AB5 - 1 -> 5 | AE5: =AC5 + 1 -> 15 | AF5: =AD5 - 1 -> 4 | AG5: =AE5 + 1 -> 16 | AH5: =AF5 - 1 -> 3
B6: =IF(B5+1<=$C$3-1,B5+1,"") -> 2 | C6: =1 -> 1 | D6: =MOD(D5 - 3, nTeams - 1) + 2 -> 17 | E6: =MOD(E5 - 3, nTeams - 1) + 2 -> 18 | F6: =MOD(F5 - 3, nTeams - 1) + 2 -> 16 | G6: =MOD(G5 - 3, nTeams - 1) + 2 -> 2 | H6: =MOD(H5 - 3, nTeams - 1) + 2 -> 15 | I6: =MOD(I5 - 3, nTeams - 1) + 2 -> 3 | J6: =MOD(J5 - 3, nTeams - 1) + 2 -> 14 | K6: =MOD(K5 - 3, nTeams - 1) + 2 -> 4 | ... AH6: =MOD(AH5 - 3, nTeams - 1) + 2 -> 2
B7: =IF(B6+1<=$C$3-1,B6+1,"") -> 3 | C7: =1 -> 1 | D7: =MOD(D6 - 3, nTeams - 1) + 2 -> 16 | E7: =MOD(E6 - 3, nTeams - 1) + 2 -> 17 | F7: =MOD(F6 - 3, nTeams - 1) + 2 -> 15 | G7: =MOD(G6 - 3, nTeams - 1) + 2 -> 18 | H7: =MOD(H6 - 3, nTeams - 1) + 2 -> 14 | I7: =MOD(I6 - 3, nTeams - 1) + 2 -> 2 | J7: =MOD(J6 - 3, nTeams - 1) + 2 -> 13 | K7: =MOD(K6 - 3, nTeams - 1) + 2 -> 3 | ... AH7: =MOD(AH6 - 3, nTeams - 1) + 2 -> 18
B8: =IF(B7+1<=$C$3-1,B7+1,"") -> 4 | C8: =1 -> 1 | D8: =MOD(D7 - 3, nTeams - 1) + 2 -> 15 | E8: =MOD(E7 - 3, nTeams - 1) + 2 -> 16 | F8: =MOD(F7 - 3, nTeams - 1) + 2 -> 14 | G8: =MOD(G7 - 3, nTeams - 1) + 2 -> 17 | H8: =MOD(H7 - 3, nTeams - 1) + 2 -> 13 | I8: =MOD(I7 - 3, nTeams - 1) + 2 -> 18 | J8: =MOD(J7 - 3, nTeams - 1) + 2 -> 12 | K8: =MOD(K7 - 3, nTeams - 1) + 2 -> 2 | ... AH8: =MOD(AH7 - 3, nTeams - 1) + 2 -> 17
B9: =IF(B8="","",IF(B8+1<=$C$3-1,B8+1,"")) -> 5 | C9: =1 -> 1 | D9: =MOD(D8 - 3, nTeams - 1) + 2 -> 14 | E9: =MOD(E8 - 3, nTeams - 1) + 2 -> 15 | F9: =MOD(F8 - 3, nTeams - 1) + 2 -> 13 | G9: =MOD(G8 - 3, nTeams - 1) + 2 -> 16 | H9: =MOD(H8 - 3, nTeams - 1) + 2 -> 12 | I9: =MOD(I8 - 3, nTeams - 1) + 2 -> 17 | J9: =MOD(J8 - 3, nTeams - 1) + 2 -> 11 | K9: =MOD(K8 - 3, nTeams - 1) + 2 -> 18 | ... AH9: =MOD(AH8 - 3, nTeams - 1) + 2 -> 16
B10: =IF(B9="","",IF(B9+1<=$C$3-1,B9+1,"")) -> 6 | C10: =1 -> 1 | D10: =MOD(D9 - 3, nTeams - 1) + 2 -> 13 | E10: =MOD(E9 - 3, nTeams - 1) + 2 -> 14 | F10: =MOD(F9 - 3, nTeams - 1) + 2 -> 12 | G10: =MOD(G9 - 3, nTeams - 1) + 2 -> 15 | H10: =MOD(H9 - 3, nTeams - 1) + 2 -> 11 | I10: =MOD(I9 - 3, nTeams - 1) + 2 -> 16 | J10: =MOD(J9 - 3, nTeams - 1) + 2 -> 10 | K10: =MOD(K9 - 3, nTeams - 1) + 2 -> 17 | ... AH10: =MOD(AH9 - 3, nTeams - 1) + 2 -> 15
B11: =IF(B10="","",IF(B10+1<=$C$3-1,B10+1,"")) -> 7 | C11: =1 -> 1 | D11: =MOD(D10 - 3, nTeams - 1) + 2 -> 12 | E11: =MOD(E10 - 3, nTeams - 1) + 2 -> 13 | F11: =MOD(F10 - 3, nTeams - 1) + 2 -> 11 | G11: =MOD(G10 - 3, nTeams - 1) + 2 -> 14 | H11: =MOD(H10 - 3, nTeams - 1) + 2 -> 10 | I11: =MOD(I10 - 3, nTeams - 1) + 2 -> 15 | J11: =MOD(J10 - 3, nTeams - 1) + 2 -> 9 | K11: =MOD(K10 - 3, nTeams - 1) + 2 -> 16 | ... AH11: =MOD(AH10 - 3, nTeams - 1) + 2 -> 14
B12: =IF(B11="","",IF(B11+1<=$C$3-1,B11+1,"")) -> 8 | C12: =1 -> 1 | D12: =MOD(D11 - 3, nTeams - 1) + 2 -> 11 | E12: =MOD(E11 - 3, nTeams - 1) + 2 -> 12 | F12: =MOD(F11 - 3, nTeams - 1) + 2 -> 10 | G12: =MOD(G11 - 3, nTeams - 1) + 2 -> 13 | H12: =MOD(H11 - 3, nTeams - 1) + 2 -> 9 | I12: =MOD(I11 - 3, nTeams - 1) + 2 -> 14 | J12: =MOD(J11 - 3, nTeams - 1) + 2 -> 8 | K12: =MOD(K11 - 3, nTeams - 1) + 2 -> 15 | ... AH12: =MOD(AH11 - 3, nTeams - 1) + 2 -> 13
B13: =IF(B12="","",IF(B12+1<=$C$3-1,B12+1,"")) -> 9 | C13: =1 -> 1 | D13: =MOD(D12 - 3, nTeams - 1) + 2 -> 10 | E13: =MOD(E12 - 3, nTeams - 1) + 2 -> 11 | F13: =MOD(F12 - 3, nTeams - 1) + 2 -> 9 | G13: =MOD(G12 - 3, nTeams - 1) + 2 -> 12 | H13: =MOD(H12 - 3, nTeams - 1) + 2 -> 8 | I13: =MOD(I12 - 3, nTeams - 1) + 2 -> 13 | J13: =MOD(J12 - 3, nTeams - 1) + 2 -> 7 | K13: =MOD(K12 - 3, nTeams - 1) + 2 -> 14 | ... AH13: =MOD(AH12 - 3, nTeams - 1) + 2 -> 12
B14: =IF(B13="","",IF(B13+1<=$C$3-1,B13+1,"")) -> 10 | C14: =1 -> 1 | D14: =MOD(D13 - 3, nTeams - 1) + 2 -> 9 | E14: =MOD(E13 - 3, nTeams - 1) + 2 -> 10 | F14: =MOD(F13 - 3, nTeams - 1) + 2 -> 8 | G14: =MOD(G13 - 3, nTeams - 1) + 2 -> 11 | H14: =MOD(H13 - 3, nTeams - 1) + 2 -> 7 | I14: =MOD(I13 - 3, nTeams - 1) + 2 -> 12 | J14: =MOD(J13 - 3, nTeams - 1) + 2 -> 6 | K14: =MOD(K13 - 3, nTeams - 1) + 2 -> 13 | ... AH14: =MOD(AH13 - 3, nTeams - 1) + 2 -> 11
B15: =IF(B14="","",IF(B14+1<=$C$3-1,B14+1,"")) -> 11 | C15: =1 -> 1 | D15: =MOD(D14 - 3, nTeams - 1) + 2 -> 8 | E15: =MOD(E14 - 3, nTeams - 1) + 2 -> 9 | F15: =MOD(F14 - 3, nTeams - 1) + 2 -> 7 | G15: =MOD(G14 - 3, nTeams - 1) + 2 -> 10 | H15: =MOD(H14 - 3, nTeams - 1) + 2 -> 6 | I15: =MOD(I14 - 3, nTeams - 1) + 2 -> 11 | J15: =MOD(J14 - 3, nTeams - 1) + 2 -> 5 | K15: =MOD(K14 - 3, nTeams - 1) + 2 -> 12 | ... AH15: =MOD(AH14 - 3, nTeams - 1) + 2 -> 10
B16: =IF(B15="","",IF(B15+1<=$C$3-1,B15+1,"")) -> 12 | C16: =1 -> 1 | D16: =MOD(D15 - 3, nTeams - 1) + 2 -> 7 | E16: =MOD(E15 - 3, nTeams - 1) + 2 -> 8 | F16: =MOD(F15 - 3, nTeams - 1) + 2 -> 6 | G16: =MOD(G15 - 3, nTeams - 1) + 2 -> 9 | H16: =MOD(H15 - 3, nTeams - 1) + 2 -> 5 | I16: =MOD(I15 - 3, nTeams - 1) + 2 -> 10 | J16: =MOD(J15 - 3, nTeams - 1) + 2 -> 4 | K16: =MOD(K15 - 3, nTeams - 1) + 2 -> 11 | ... AH16: =MOD(AH15 - 3, nTeams - 1) + 2 -> 9
B17: =IF(B16="","",IF(B16+1<=$C$3-1,B16+1,"")) -> 13 | C17: =1 -> 1 | D17: =MOD(D16 - 3, nTeams - 1) + 2 -> 6 | E17: =MOD(E16 - 3, nTeams - 1) + 2 -> 7 | F17: =MOD(F16 - 3, nTeams - 1) + 2 -> 5 | G17: =MOD(G16 - 3, nTeams - 1) + 2 -> 8 | H17: =MOD(H16 - 3, nTeams - 1) + 2 -> 4 | I17: =MOD(I16 - 3, nTeams - 1) + 2 -> 9 | J17: =MOD(J16 - 3, nTeams - 1) + 2 -> 3 | K17: =MOD(K16 - 3, nTeams - 1) + 2 -> 10 | ... AH17: =MOD(AH16 - 3, nTeams - 1) + 2 -> 8
B18: =IF(B17="","",IF(B17+1<=$C$3-1,B17+1,"")) -> 14 | C18: =1 -> 1 | D18: =MOD(D17 - 3, nTeams - 1) + 2 -> 5 | E18: =MOD(E17 - 3, nTeams - 1) + 2 -> 6 | F18: =MOD(F17 - 3, nTeams - 1) + 2 -> 4 | G18: =MOD(G17 - 3, nTeams - 1) + 2 -> 7 | H18: =MOD(H17 - 3, nTeams - 1) + 2 -> 3 | I18: =MOD(I17 - 3, nTeams - 1) + 2 -> 8 | J18: =MOD(J17 - 3, nTeams - 1) + 2 -> 2 | K18: =MOD(K17 - 3, nTeams - 1) + 2 -> 9 | ... AH18: =MOD(AH17 - 3, nTeams - 1) + 2 -> 7
B19: =IF(B18="","",IF(B18+1<=$C$3-1,B18+1,"")) -> 15 | C19: =1 -> 1 | D19: =MOD(D18 - 3, nTeams - 1) + 2 -> 4 | E19: =MOD(E18 - 3, nTeams - 1) + 2 -> 5 | F19: =MOD(F18 - 3, nTeams - 1) + 2 -> 3 | G19: =MOD(G18 - 3, nTeams - 1) + 2 -> 6 | H19: =MOD(H18 - 3, nTeams - 1) + 2 -> 2 | I19: =MOD(I18 - 3, nTeams - 1) + 2 -> 7 | J19: =MOD(J18 - 3, nTeams - 1) + 2 -> 18 | K19: =MOD(K18 - 3, nTeams - 1) + 2 -> 8 | ... AH19: =MOD(AH18 - 3, nTeams - 1) + 2 -> 6
B20: =IF(B19="","",IF(B19+1<=$C$3-1,B19+1,"")) -> 16 | C20: =1 -> 1 | D20: =MOD(D19 - 3, nTeams - 1) + 2 -> 3 | E20: =MOD(E19 - 3, nTeams - 1) + 2 -> 4 | F20: =MOD(F19 - 3, nTeams - 1) + 2 -> 2 | G20: =MOD(G19 - 3, nTeams - 1) + 2 -> 5 | H20: =MOD(H19 - 3, nTeams - 1) + 2 -> 18 | I20: =MOD(I19 - 3, nTeams - 1) + 2 -> 6 | J20: =MOD(J19 - 3, nTeams - 1) + 2 -> 17 | K20: =MOD(K19 - 3, nTeams - 1) + 2 -> 7 | ... AH20: =MOD(AH19 - 3, nTeams - 1) + 2 -> 5
... B35: =IF(B34="","",IF(B34+1<=$C$3-1,B34+1,"")) | C35: =1 -> 1 | D35: =MOD(D34 - 3, nTeams - 1) + 2 -> 5 | E35: =MOD(E34 - 3, nTeams - 1) + 2 -> 6 | F35: =MOD(F34 - 3, nTeams - 1) + 2 -> 4 | G35: =MOD(G34 - 3, nTeams - 1) + 2 -> 7 | H35: =MOD(H34 - 3, nTeams - 1) + 2 -> 3 | I35: =MOD(I34 - 3, nTeams - 1) + 2 -> 8 | J35: =MOD(J34 - 3, nTeams - 1) + 2 -> 2 | K35: =MOD(K34 - 3, nTeams - 1) + 2 -> 9 | ... AH35: =MOD(AH34 - 3, nTeams - 1) + 2 -> 7
B36: =MAX($B$5:$B$35)+1 -> 18 | C36: =D5 -> 18 | D36: =C5 -> 1 | E36: =F5 -> 17 | F36: =E5 -> 2 | G36: =H5 -> 16 | H36: =G5 -> 3 | I36: =J5 -> 15 | J36: =I5 -> 4 | K36: =L5 -> 14 | L36: =K5 -> 5 | M36: =N5 -> 13 | N36: =M5 -> 6 | O36: =P5 -> 12 | P36: =O5 -> 7 | Q36: =R5 -> 11 | R36: =Q5 -> 8 | S36: =T5 -> 10 | T36: =S5 -> 9 | U36: =V5 -> 9 | V36: =U5 -> 10 | W36: =X5 -> 8 | X36: =W5 -> 11 | Y36: =Z5 -> 7 | Z36: =Y5 -> 12 | AA36: =AB5 -> 6 | AB36: =AA5 -> 13 | AC36: =AD5 -> 5 | AD36: =AC5 -> 14 | AE36: =AF5 -> 4 | AF36: =AE5 -> 15 | AG36: =AH5 -> 3 | AH36: =AG5 -> 16
B37: =B36+1 -> 19 | C37: =D6 -> 17 | D37: =C6 -> 1 | E37: =F6 -> 16 | F37: =E6 -> 18 | G37: =H6 -> 15 | H37: =G6 -> 2 | I37: =J6 -> 14 | J37: =I6 -> 3 | K37: =L6 -> 13 | L37: =K6 -> 4 | M37: =N6 -> 12 | N37: =M6 -> 5 | O37: =P6 -> 11 | P37: =O6 -> 6 | Q37: =R6 -> 10 | R37: =Q6 -> 7 | S37: =T6 -> 9 | T37: =S6 -> 8 | U37: =V6 -> 8 | V37: =U6 -> 9 | W37: =X6 -> 7 | X37: =W6 -> 10 | Y37: =Z6 -> 6 | Z37: =Y6 -> 11 | AA37: =AB6 -> 5 | AB37: =AA6 -> 12 | AC37: =AD6 -> 4 | AD37: =AC6 -> 13 | AE37: =AF6 -> 3 | AF37: =AE6 -> 14 | AG37: =AH6 -> 2 | AH37: =AG6 -> 15
B38: =B37+1 -> 20 | C38: =D7 -> 16 | D38: =C7 -> 1 | E38: =F7 -> 15 | F38: =E7 -> 17 | G38: =H7 -> 14 | H38: =G7 -> 18 | I38: =J7 -> 13 | J38: =I7 -> 2 | K38: =L7 -> 12 | L38: =K7 -> 3 | M38: =N7 -> 11 | N38: =M7 -> 4 | O38: =P7 -> 10 | P38: =O7 -> 5 | Q38: =R7 -> 9 | R38: =Q7 -> 6 | S38: =T7 -> 8 | T38: =S7 -> 7 | U38: =V7 -> 7 | V38: =U7 -> 8 | W38: =X7 -> 6 | X38: =W7 -> 9 | Y38: =Z7 -> 5 | Z38: =Y7 -> 10 | AA38: =AB7 -> 4 | AB38: =AA7 -> 11 | AC38: =AD7 -> 3 | AD38: =AC7 -> 12 | AE38: =AF7 -> 2 | AF38: =AE7 -> 13 | AG38: =AH7 -> 18 | AH38: =AG7 -> 14
B39: =B38+1 -> 21 | C39: =D8 -> 15 | D39: =C8 -> 1 | E39: =F8 -> 14 | F39: =E8 -> 16 | G39: =H8 -> 13 | H39: =G8 -> 17 | I39: =J8 -> 12 | J39: =I8 -> 18 | K39: =L8 -> 11 | L39: =K8 -> 2 | M39: =N8 -> 10 | N39: =M8 -> 3 | O39: =P8 -> 9 | P39: =O8 -> 4 | Q39: =R8 -> 8 | R39: =Q8 -> 5 | S39: =T8 -> 7 | T39: =S8 -> 6 | U39: =V8 -> 6 | V39: =U8 -> 7 | W39: =X8 -> 5 | X39: =W8 -> 8 | Y39: =Z8 -> 4 | Z39: =Y8 -> 9 | AA39: =AB8 -> 3 | AB39: =AA8 -> 10 | AC39: =AD8 -> 2 | AD39: =AC8 -> 11 | AE39: =AF8 -> 18 | AF39: =AE8 -> 12 | AG39: =AH8 -> 17 | AH39: =AG8 -> 13
B40: =B39+1 -> 22 | C40: =D9 -> 14 | D40: =C9 -> 1 | E40: =F9 -> 13 | F40: =E9 -> 15 | G40: =H9 -> 12 | H40: =G9 -> 16 | I40: =J9 -> 11 | J40: =I9 -> 17 | K40: =L9 -> 10 | L40: =K9 -> 18 | M40: =N9 -> 9 | N40: =M9 -> 2 | O40: =P9 -> 8 | P40: =O9 -> 3 | Q40: =R9 -> 7 | R40: =Q9 -> 4 | S40: =T9 -> 6 | T40: =S9 -> 5 | U40: =V9 -> 5 | V40: =U9 -> 6 | W40: =X9 -> 4 | X40: =W9 -> 7 | Y40: =Z9 -> 3 | Z40: =Y9 -> 8 | AA40: =AB9 -> 2 | AB40: =AA9 -> 9 | AC40: =AD9 -> 18 | AD40: =AC9 -> 10 | AE40: =AF9 -> 17 | AF40: =AE9 -> 11 | AG40: =AH9 -> 16 | AH40: =AG9 -> 12
B41: =B40+1 -> 23 | C41: =D10 -> 13 | D41: =C10 -> 1 | E41: =F10 -> 12 | F41: =E10 -> 14 | G41: =H10 -> 11 | H41: =G10 -> 15 | I41: =J10 -> 10 | J41: =I10 -> 16 | K41: =L10 -> 9 | L41: =K10 -> 17 | M41: =N10 -> 8 | N41: =M10 -> 18 | O41: =P10 -> 7 | P41: =O10 -> 2 | Q41: =R10 -> 6 | R41: =Q10 -> 3 | S41: =T10 -> 5 | T41: =S10 -> 4 | U41: =V10 -> 4 | V41: =U10 -> 5 | W41: =X10 -> 3 | X41: =W10 -> 6 | Y41: =Z10 -> 2 | Z41: =Y10 -> 7 | AA41: =AB10 -> 18 | AB41: =AA10 -> 8 | AC41: =AD10 -> 17 | AD41: =AC10 -> 9 | AE41: =AF10 -> 16 | AF41: =AE10 -> 10 | AG41: =AH10 -> 15 | AH41: =AG10 -> 11
B42: =B41+1 -> 24 | C42: =D11 -> 12 | D42: =C11 -> 1 | E42: =F11 -> 11 | F42: =E11 -> 13 | G42: =H11 -> 10 | H42: =G11 -> 14 | I42: =J11 -> 9 | J42: =I11 -> 15 | K42: =L11 -> 8 | L42: =K11 -> 16 | M42: =N11 -> 7 | N42: =M11 -> 17 | O42: =P11 -> 6 | P42: =O11 -> 18 | Q42: =R11 -> 5 | R42: =Q11 -> 2 | S42: =T11 -> 4 | T42: =S11 -> 3 | U42: =V11 -> 3 | V42: =U11 -> 4 | W42: =X11 -> 2 | X42: =W11 -> 5 | Y42: =Z11 -> 18 | Z42: =Y11 -> 6 | AA42: =AB11 -> 17 | AB42: =AA11 -> 7 | AC42: =AD11 -> 16 | AD42: =AC11 -> 8 | AE42: =AF11 -> 15 | AF42: =AE11 -> 9 | AG42: =AH11 -> 14 | AH42: =AG11 -> 10
B43: =B42+1 -> 25 | C43: =D12 -> 11 | D43: =C12 -> 1 | E43: =F12 -> 10 | F43: =E12 -> 12 | G43: =H12 -> 9 | H43: =G12 -> 13 | I43: =J12 -> 8 | J43: =I12 -> 14 | K43: =L12 -> 7 | L43: =K12 -> 15 | M43: =N12 -> 6 | N43: =M12 -> 16 | O43: =P12 -> 5 | P43: =O12 -> 17 | Q43: =R12 -> 4 | R43: =Q12 -> 18 | S43: =T12 -> 3 | T43: =S12 -> 2 | U43: =V12 -> 2 | V43: =U12 -> 3 | W43: =X12 -> 18 | X43: =W12 -> 4 | Y43: =Z12 -> 17 | Z43: =Y12 -> 5 | AA43: =AB12 -> 16 | AB43: =AA12 -> 6 | AC43: =AD12 -> 15 | AD43: =AC12 -> 7 | AE43: =AF12 -> 14 | AF43: =AE12 -> 8 | AG43: =AH12 -> 13 | AH43: =AG12 -> 9
B44: =B43+1 -> 26 | C44: =D13 -> 10 | D44: =C13 -> 1 | E44: =F13 -> 9 | F44: =E13 -> 11 | G44: =H13 -> 8 | H44: =G13 -> 12 | I44: =J13 -> 7 | J44: =I13 -> 13 | K44: =L13 -> 6 | L44: =K13 -> 14 | M44: =N13 -> 5 | N44: =M13 -> 15 | O44: =P13 -> 4 | P44: =O13 -> 16 | Q44: =R13 -> 3 | R44: =Q13 -> 17 | S44: =T13 -> 2 | T44: =S13 -> 18 | U44: =V13 -> 18 | V44: =U13 -> 2 | W44: =X13 -> 17 | X44: =W13 -> 3 | Y44: =Z13 -> 16 | Z44: =Y13 -> 4 | AA44: =AB13 -> 15 | AB44: =AA13 -> 5 | AC44: =AD13 -> 14 | AD44: =AC13 -> 6 | AE44: =AF13 -> 13 | AF44: =AE13 -> 7 | AG44: =AH13 -> 12 | AH44: =AG13 -> 8
B45: =B44+1 -> 27 | C45: =D14 -> 9 | D45: =C14 -> 1 | E45: =F14 -> 8 | F45: =E14 -> 10 | G45: =H14 -> 7 | H45: =G14 -> 11 | I45: =J14 -> 6 | J45: =I14 -> 12 | K45: =L14 -> 5 | L45: =K14 -> 13 | M45: =N14 -> 4 | N45: =M14 -> 14 | O45: =P14 -> 3 | P45: =O14 -> 15 | Q45: =R14 -> 2 | R45: =Q14 -> 16 | S45: =T14 -> 18 | T45: =S14 -> 17 | U45: =V14 -> 17 | V45: =U14 -> 18 | W45: =X14 -> 16 | X45: =W14 -> 2 | Y45: =Z14 -> 15 | Z45: =Y14 -> 3 | AA45: =AB14 -> 14 | AB45: =AA14 -> 4 | AC45: =AD14 -> 13 | AD45: =AC14 -> 5 | AE45: =AF14 -> 12 | AF45: =AE14 -> 6 | AG45: =AH14 -> 11 | AH45: =AG14 -> 7
B46: =B45+1 -> 28 | C46: =D15 -> 8 | D46: =C15 -> 1 | E46: =F15 -> 7 | F46: =E15 -> 9 | G46: =H15 -> 6 | H46: =G15 -> 10 | I46: =J15 -> 5 | J46: =I15 -> 11 | K46: =L15 -> 4 | L46: =K15 -> 12 | M46: =N15 -> 3 | N46: =M15 -> 13 | O46: =P15 -> 2 | P46: =O15 -> 14 | Q46: =R15 -> 18 | R46: =Q15 -> 15 | S46: =T15 -> 17 | T46: =S15 -> 16 | U46: =V15 -> 16 | V46: =U15 -> 17 | W46: =X15 -> 15 | X46: =W15 -> 18 | Y46: =Z15 -> 14 | Z46: =Y15 -> 2 | AA46: =AB15 -> 13 | AB46: =AA15 -> 3 | AC46: =AD15 -> 12 | AD46: =AC15 -> 4 | AE46: =AF15 -> 11 | AF46: =AE15 -> 5 | AG46: =AH15 -> 10 | AH46: =AG15 -> 6
B47: =B46+1 -> 29 | C47: =D16 -> 7 | D47: =C16 -> 1 | E47: =F16 -> 6 | F47: =E16 -> 8 | G47: =H16 -> 5 | H47: =G16 -> 9 | I47: =J16 -> 4 | J47: =I16 -> 10 | K47: =L16 -> 3 | L47: =K16 -> 11 | M47: =N16 -> 2 | N47: =M16 -> 12 | O47: =P16 -> 18 | P47: =O16 -> 13 | Q47: =R16 -> 17 | R47: =Q16 -> 14 | S47: =T16 -> 16 | T47: =S16 -> 15 | U47: =V16 -> 15 | V47: =U16 -> 16 | W47: =X16 -> 14 | X47: =W16 -> 17 | Y47: =Z16 -> 13 | Z47: =Y16 -> 18 | AA47: =AB16 -> 12 | AB47: =AA16 -> 2 | AC47: =AD16 -> 11 | AD47: =AC16 -> 3 | AE47: =AF16 -> 10 | AF47: =AE16 -> 4 | AG47: =AH16 -> 9 | AH47: =AG16 -> 5
B48: =B47+1 -> 30 | C48: =D17 -> 6 | D48: =C17 -> 1 | E48: =F17 -> 5 | F48: =E17 -> 7 | G48: =H17 -> 4 | H48: =G17 -> 8 | I48: =J17 -> 3 | J48: =I17 -> 9 | K48: =L17 -> 2 | L48: =K17 -> 10 | M48: =N17 -> 18 | N48: =M17 -> 11 | O48: =P17 -> 17 | P48: =O17 -> 12 | Q48: =R17 -> 16 | R48: =Q17 -> 13 | S48: =T17 -> 15 | T48: =S17 -> 14 | U48: =V17 -> 14 | V48: =U17 -> 15 | W48: =X17 -> 13 | X48: =W17 -> 16 | Y48: =Z17 -> 12 | Z48: =Y17 -> 17 | AA48: =AB17 -> 11 | AB48: =AA17 -> 18 | AC48: =AD17 -> 10 | AD48: =AC17 -> 2 | AE48: =AF17 -> 9 | AF48: =AE17 -> 3 | AG48: =AH17 -> 8 | AH48: =AG17 -> 4
... B128: =B127+1 -> 110 | C128: =D97 -> 5 | D128: =C97 -> 1 | E128: =F97 -> 4 | F128: =E97 -> 6 | G128: =H97 -> 3 | H128: =G97 -> 7 | I128: =J97 -> 2 | J128: =I97 -> 8 | K128: =L97 -> 18 | L128: =K97 -> 9 | M128: =N97 -> 17 | N128: =M97 -> 10 | O128: =P97 -> 16 | P128: =O97 -> 11 | Q128: =R97 -> 15 | R128: =Q97 -> 12 | S128: =T97 -> 14 | T128: =S97 -> 13 | U128: =V97 -> 13 | V128: =U97 -> 14 | W128: =X97 -> 12 | X128: =W97 -> 15 | Y128: =Z97 -> 11 | Z128: =Y97 -> 16 | AA128: =AB97 -> 10 | AB128: =AA97 -> 17 | AC128: =AD97 -> 9 | AD128: =AC97 -> 18 | AE128: =AF97 -> 8 | AF128: =AE97 -> 2 | AG128: =AH97 -> 7 | AH128: =AG97 -> 3

Sheet FixtureCalc
C3: Matchday No | D3: Game No | E3: Team 1 No | F3: Team 2 No | G3: Played? | H3: Team 1 Points | I3: Team 2 Points
C4: 1 | D4: 1 | E4: =IF(C4="-","-",IF(D4=maxgameno+2,"blank row 2",IF(D4=maxgameno+1,"blank row 1",INDEX(FixtureCode!$B$4:$AH$128,MATCH($C4,FixtureCode!$B$4:$B$128,0),MATCH("G"&D4&"-T1",FixtureCode!$B$4:$AH$4,0))))) -> 1 | F4: =IF(C4="-","-",IF(D4=maxgameno+2,"blank row 2",IF(D4=maxgameno+1,"blank row 1",INDEX(FixtureCode!$B$4:$AH$128,MATCH($C4,FixtureCode!$B$4:$B$128,0),MATCH("G"&D4&"-T2",FixtureCode!$B$4:$AH$4,0))))) -> 18 | G4: =IF(C4="-","-",IF(AND(ISNUMBER(Fixture!G8),ISNUMBER(Fixture!I8),Fixture!F8<>"BYE",Fixture!J8<>"BYE"),"Yes","-")) -> Yes | H4: =IF(G4="-","-",IF(Fixture!G8>Fixture!I8,Settings!$G$7,IF(Fixture!G8=Fixture!I8,Settings!$G$8,IF(Fixture!G8<Fixture!I8,Settings!$G$9,"-")))) -> 3 | I4: =IF(G4="-","-",IF(Fixture!I8>Fixture!G8,Settings!$G$7,IF(Fixture!I8=Fixture!G8,Settings!$G$8,IF(Fixture!I8<Fixture!G8,Settings!$G$9,"-")))) -> 0
C5: =IF(C4="-","-",IF(D4+1<=maxgameno+2,C4,IF(C4+1<=maxroundno,C4+1,"-"))) -> 1 | D5: =IF(C5="-","-",IF(D4+1<=maxgameno+2,D4+1,1)) -> 2 | E5: =IF(C5="-","-",IF(D5=maxgameno+2,"blank row 2",IF(D5=maxgameno+1,"blank row 1",INDEX(FixtureCode!$B$4:$AH$128,MATCH($C5,FixtureCode!$B$4:$B$128,0),MATCH("G"&D5&"-T1",FixtureCode!$B$4:$AH$4,0))))) -> 2 | F5: =IF(C5="-","-",IF(D5=maxgameno+2,"blank row 2",IF(D5=maxgameno+1,"blank row 1",INDEX(FixtureCode!$B$4:$AH$128,MATCH($C5,FixtureCode!$B$4:$B$128,0),MATCH("G"&D5&"-T2",FixtureCode!$B$4:$AH$4,0))))) -> 17 | G5: =IF(C5="-","-",IF(AND(ISNUMBER(Fixture!G9),ISNUMBER(Fixture!I9),Fixture!F9<>"BYE",Fixture!J9<>"BYE"),"Yes","-")) -> Yes | H5: =IF(G5="-","-",IF(Fixture!G9>Fixture!I9,Settings!$G$7,IF(Fixture!G9=Fixture!I9,Settings!$G$8,IF(Fixture!G9<Fixture!I9,Settings!$G$9,"-")))) -> 1 | I5: =IF(G5="-","-",IF(Fixture!I9>Fixture!G9,Settings!$G$7,IF(Fixture!I9=Fixture!G9,Settings!$G$8,IF(Fixture!I9<Fixture!G9,Settings!$G$9,"-")))) -> 1
C6: =IF(C5="-","-",IF(D5+1<=maxgameno+2,C5,IF(C5+1<=maxroundno,C5+1,"-"))) -> 1 | D6: =IF(C6="-","-",IF(D5+1<=maxgameno+2,D5+1,1)) -> 3 | E6: =IF(C6="-","-",IF(D6=maxgameno+2,"blank row 2",IF(D6=maxgameno+1,"blank row 1",INDEX(FixtureCode!$B$4:$AH$128,MATCH($C6,FixtureCode!$B$4:$B$128,0),MATCH("G"&D6&"-T1",FixtureCode!$B$4:$AH$4,0))))) -> 3 | F6: =IF(C6="-","-",IF(D6=maxgameno+2,"blank row 2",IF(D6=maxgameno+1,"blank row 1",INDEX(FixtureCode!$B$4:$AH$128,MATCH($C6,FixtureCode!$B$4:$B$128,0),MATCH("G"&D6&"-T2",FixtureCode!$B$4:$AH$4,0))))) -> 16 | G6: =IF(C6="-","-",IF(AND(ISNUMBER(Fixture!G10),ISNUMBER(Fixture!I10),Fixture!F10<>"BYE",Fixture!J10<>"BYE"),"Yes","-")) -> Yes | H6: =IF(G6="-","-",IF(Fixture!G10>Fixture!I10,Settings!$G$7,IF(Fixture!G10=Fixture!I10,Settings!$G$8,IF(Fixture!G10<Fixture!I10,Settings!$G$9,"-")))) -> 0 | I6: =IF(G6="-","-",IF(Fixture!I10>Fixture!G10,Settings!$G$7,IF(Fixture!I10=Fixture!G10,Settings!$G$8,IF(Fixture!I10<Fixture!G10,Settings!$G$9,"-")))) -> 3
C7: =IF(C6="-","-",IF(D6+1<=maxgameno+2,C6,IF(C6+1<=maxroundno,C6+1,"-"))) -> 1 | D7: =IF(C7="-","-",IF(D6+1<=maxgameno+2,D6+1,1)) -> 4 | E7: =IF(C7="-","-",IF(D7=maxgameno+2,"blank row 2",IF(D7=maxgameno+1,"blank row 1",INDEX(FixtureCode!$B$4:$AH$128,MATCH($C7,FixtureCode!$B$4:$B$128,0),MATCH("G"&D7&"-T1",FixtureCode!$B$4:$AH$4,0))))) -> 4 | F7: =IF(C7="-","-",IF(D7=maxgameno+2,"blank row 2",IF(D7=maxgameno+1,"blank row 1",INDEX(FixtureCode!$B$4:$AH$128,MATCH($C7,FixtureCode!$B$4:$B$128,0),MATCH("G"&D7&"-T2",FixtureCode!$B$4:$AH$4,0))))) -> 15 | G7: =IF(C7="-","-",IF(AND(ISNUMBER(Fixture!G11),ISNUMBER(Fixture!I11),Fixture!F11<>"BYE",Fixture!J11<>"BYE"),"Yes","-")) -> Yes | H7: =IF(G7="-","-",IF(Fixture!G11>Fixture!I11,Settings!$G$7,IF(Fixture!G11=Fixture!I11,Settings!$G$8,IF(Fixture!G11<Fixture!I11,Settings!$G$9,"-")))) -> 1 | I7: =IF(G7="-","-",IF(Fixture!I11>Fixture!G11,Settings!$G$7,IF(Fixture!I11=Fixture!G11,Settings!$G$8,IF(Fixture!I11<Fixture!G11,Settings!$G$9,"-")))) -> 1
C8: =IF(C7="-","-",IF(D7+1<=maxgameno+2,C7,IF(C7+1<=maxroundno,C7+1,"-"))) -> 1 | D8: =IF(C8="-","-",IF(D7+1<=maxgameno+2,D7+1,1)) -> 5 | E8: =IF(C8="-","-",IF(D8=maxgameno+2,"blank row 2",IF(D8=maxgameno+1,"blank row 1",INDEX(FixtureCode!$B$4:$AH$128,MATCH($C8,FixtureCode!$B$4:$B$128,0),MATCH("G"&D8&"-T1",FixtureCode!$B$4:$AH$4,0))))) -> 5 | F8: =IF(C8="-","-",IF(D8=maxgameno+2,"blank row 2",IF(D8=maxgameno+1,"blank row 1",INDEX(FixtureCode!$B$4:$AH$128,MATCH($C8,FixtureCode!$B$4:$B$128,0),MATCH("G"&D8&"-T2",FixtureCode!$B$4:$AH$4,0))))) -> 14 | G8: =IF(C8="-","-",IF(AND(ISNUMBER(Fixture!G12),ISNUMBER(Fixture!I12),Fixture!F12<>"BYE",Fixture!J12<>"BYE"),"Yes","-")) -> Yes | H8: =IF(G8="-","-",IF(Fixture!G12>Fixture!I12,Settings!$G$7,IF(Fixture!G12=Fixture!I12,Settings!$G$8,IF(Fixture!G12<Fixture!I12,Settings!$G$9,"-")))) -> 3 | I8: =IF(G8="-","-",IF(Fixture!I12>Fixture!G12,Settings!$G$7,IF(Fixture!I12=Fixture!G12,Settings!$G$8,IF(Fixture!I12<Fixture!G12,Settings!$G$9,"-")))) -> 0
C9: =IF(C8="-","-",IF(D8+1<=maxgameno+2,C8,IF(C8+1<=maxroundno,C8+1,"-"))) -> 1 | D9: =IF(C9="-","-",IF(D8+1<=maxgameno+2,D8+1,1)) -> 6 | E9: =IF(C9="-","-",IF(D9=maxgameno+2,"blank row 2",IF(D9=maxgameno+1,"blank row 1",INDEX(FixtureCode!$B$4:$AH$128,MATCH($C9,FixtureCode!$B$4:$B$128,0),MATCH("G"&D9&"-T1",FixtureCode!$B$4:$AH$4,0))))) -> 6 | F9: =IF(C9="-","-",IF(D9=maxgameno+2,"blank row 2",IF(D9=maxgameno+1,"blank row 1",INDEX(FixtureCode!$B$4:$AH$128,MATCH($C9,FixtureCode!$B$4:$B$128,0),MATCH("G"&D9&"-T2",FixtureCode!$B$4:$AH$4,0))))) -> 13 | G9: =IF(C9="-","-",IF(AND(ISNUMBER(Fixture!G13),ISNUMBER(Fixture!I13),Fixture!F13<>"BYE",Fixture!J13<>"BYE"),"Yes","-")) -> Yes | H9: =IF(G9="-","-",IF(Fixture!G13>Fixture!I13,Settings!$G$7,IF(Fixture!G13=Fixture!I13,Settings!$G$8,IF(Fixture!G13<Fixture!I13,Settings!$G$9,"-")))) -> 0 | I9: =IF(G9="-","-",IF(Fixture!I13>Fixture!G13,Settings!$G$7,IF(Fixture!I13=Fixture!G13,Settings!$G$8,IF(Fixture!I13<Fixture!G13,Settings!$G$9,"-")))) -> 3
C10: =IF(C9="-","-",IF(D9+1<=maxgameno+2,C9,IF(C9+1<=maxroundno,C9+1,"-"))) -> 1 | D10: =IF(C10="-","-",IF(D9+1<=maxgameno+2,D9+1,1)) -> 7 | E10: =IF(C10="-","-",IF(D10=maxgameno+2,"blank row 2",IF(D10=maxgameno+1,"blank row 1",INDEX(FixtureCode!$B$4:$AH$128,MATCH($C10,FixtureCode!$B$4:$B$128,0),MATCH("G"&D10&"-T1",FixtureCode!$B$4:$AH$4,0))))) -> 7 | F10: =IF(C10="-","-",IF(D10=maxgameno+2,"blank row 2",IF(D10=maxgameno+1,"blank row 1",INDEX(FixtureCode!$B$4:$AH$128,MATCH($C10,FixtureCode!$B$4:$B$128,0),MATCH("G"&D10&"-T2",FixtureCode!$B$4:$AH$4,0))))) -> 12 | G10: =IF(C10="-","-",IF(AND(ISNUMBER(Fixture!G14),ISNUMBER(Fixture!I14),Fixture!F14<>"BYE",Fixture!J14<>"BYE"),"Yes","-")) -> Yes | H10: =IF(G10="-","-",IF(Fixture!G14>Fixture!I14,Settings!$G$7,IF(Fixture!G14=Fixture!I14,Settings!$G$8,IF(Fixture!G14<Fixture!I14,Settings!$G$9,"-")))) -> 3 | I10: =IF(G10="-","-",IF(Fixture!I14>Fixture!G14,Settings!$G$7,IF(Fixture!I14=Fixture!G14,Settings!$G$8,IF(Fixture!I14<Fixture!G14,Settings!$G$9,"-")))) -> 0
C11: =IF(C10="-","-",IF(D10+1<=maxgameno+2,C10,IF(C10+1<=maxroundno,C10+1,"-"))) -> 1 | D11: =IF(C11="-","-",IF(D10+1<=maxgameno+2,D10+1,1)) -> 8 | E11: =IF(C11="-","-",IF(D11=maxgameno+2,"blank row 2",IF(D11=maxgameno+1,"blank row 1",INDEX(FixtureCode!$B$4:$AH$128,MATCH($C11,FixtureCode!$B$4:$B$128,0),MATCH("G"&D11&"-T1",FixtureCode!$B$4:$AH$4,0))))) -> 8 | F11: =IF(C11="-","-",IF(D11=maxgameno+2,"blank row 2",IF(D11=maxgameno+1,"blank row 1",INDEX(FixtureCode!$B$4:$AH$128,MATCH($C11,FixtureCode!$B$4:$B$128,0),MATCH("G"&D11&"-T2",FixtureCode!$B$4:$AH$4,0))))) -> 11 | G11: =IF(C11="-","-",IF(AND(ISNUMBER(Fixture!G15),ISNUMBER(Fixture!I15),Fixture!F15<>"BYE",Fixture!J15<>"BYE"),"Yes","-")) -> Yes | H11: =IF(G11="-","-",IF(Fixture!G15>Fixture!I15,Settings!$G$7,IF(Fixture!G15=Fixture!I15,Settings!$G$8,IF(Fixture!G15<Fixture!I15,Settings!$G$9,"-")))) -> 1 | I11: =IF(G11="-","-",IF(Fixture!I15>Fixture!G15,Settings!$G$7,IF(Fixture!I15=Fixture!G15,Settings!$G$8,IF(Fixture!I15<Fixture!G15,Settings!$G$9,"-")))) -> 1
C12: =IF(C11="-","-",IF(D11+1<=maxgameno+2,C11,IF(C11+1<=maxroundno,C11+1,"-"))) -> 1 | D12: =IF(C12="-","-",IF(D11+1<=maxgameno+2,D11+1,1)) -> 9 | E12: =IF(C12="-","-",IF(D12=maxgameno+2,"blank row 2",IF(D12=maxgameno+1,"blank row 1",INDEX(FixtureCode!$B$4:$AH$128,MATCH($C12,FixtureCode!$B$4:$B$128,0),MATCH("G"&D12&"-T1",FixtureCode!$B$4:$AH$4,0))))) -> 9 | F12: =IF(C12="-","-",IF(D12=maxgameno+2,"blank row 2",IF(D12=maxgameno+1,"blank row 1",INDEX(FixtureCode!$B$4:$AH$128,MATCH($C12,FixtureCode!$B$4:$B$128,0),MATCH("G"&D12&"-T2",FixtureCode!$B$4:$AH$4,0))))) -> 10 | G12: =IF(C12="-","-",IF(AND(ISNUMBER(Fixture!G16),ISNUMBER(Fixture!I16),Fixture!F16<>"BYE",Fixture!J16<>"BYE"),"Yes","-")) -> Yes | H12: =IF(G12="-","-",IF(Fixture!G16>Fixture!I16,Settings!$G$7,IF(Fixture!G16=Fixture!I16,Settings!$G$8,IF(Fixture!G16<Fixture!I16,Settings!$G$9,"-")))) -> 1 | I12: =IF(G12="-","-",IF(Fixture!I16>Fixture!G16,Settings!$G$7,IF(Fixture!I16=Fixture!G16,Settings!$G$8,IF(Fixture!I16<Fixture!G16,Settings!$G$9,"-")))) -> 1
C13: =IF(C12="-","-",IF(D12+1<=maxgameno+2,C12,IF(C12+1<=maxroundno,C12+1,"-"))) -> 1 | D13: =IF(C13="-","-",IF(D12+1<=maxgameno+2,D12+1,1)) -> 10 | E13: =IF(C13="-","-",IF(D13=maxgameno+2,"blank row 2",IF(D13=maxgameno+1,"blank row 1",INDEX(FixtureCode!$B$4:$AH$128,MATCH($C13,FixtureCode!$B$4:$B$128,0),MATCH("G"&D13&"-T1",FixtureCode!$B$4:$AH$4,0))))) -> blank row 1 | F13: =IF(C13="-","-",IF(D13=maxgameno+2,"blank row 2",IF(D13=maxgameno+1,"blank row 1",INDEX(FixtureCode!$B$4:$AH$128,MATCH($C13,FixtureCode!$B$4:$B$128,0),MATCH("G"&D13&"-T2",FixtureCode!$B$4:$AH$4,0))))) -> blank row 1 | G13: =IF(C13="-","-",IF(AND(ISNUMBER(Fixture!G17),ISNUMBER(Fixture!I17),Fixture!F17<>"BYE",Fixture!J17<>"BYE"),"Yes","-")) -> - | H13: =IF(G13="-","-",IF(Fixture!G17>Fixture!I17,Settings!$G$7,IF(Fixture!G17=Fixture!I17,Settings!$G$8,IF(Fixture!G17<Fixture!I17,Settings!$G$9,"-")))) -> - | I13: =IF(G13="-","-",IF(Fixture!I17>Fixture!G17,Settings!$G$7,IF(Fixture!I17=Fixture!G17,Settings!$G$8,IF(Fixture!I17<Fixture!G17,Settings!$G$9,"-")))) -> -
C14: =IF(C13="-","-",IF(D13+1<=maxgameno+2,C13,IF(C13+1<=maxroundno,C13+1,"-"))) -> 1 | D14: =IF(C14="-","-",IF(D13+1<=maxgameno+2,D13+1,1)) -> 11 | E14: =IF(C14="-","-",IF(D14=maxgameno+2,"blank row 2",IF(D14=maxgameno+1,"blank row 1",INDEX(FixtureCode!$B$4:$AH$128,MATCH($C14,FixtureCode!$B$4:$B$128,0),MATCH("G"&D14&"-T1",FixtureCode!$B$4:$AH$4,0))))) -> blank row 2 | F14: =IF(C14="-","-",IF(D14=maxgameno+2,"blank row 2",IF(D14=maxgameno+1,"blank row 1",INDEX(FixtureCode!$B$4:$AH$128,MATCH($C14,FixtureCode!$B$4:$B$128,0),MATCH("G"&D14&"-T2",FixtureCode!$B$4:$AH$4,0))))) -> blank row 2 | G14: =IF(C14="-","-",IF(AND(ISNUMBER(Fixture!G18),ISNUMBER(Fixture!I18),Fixture!F18<>"BYE",Fixture!J18<>"BYE"),"Yes","-")) -> - | H14: =IF(G14="-","-",IF(Fixture!G18>Fixture!I18,Settings!$G$7,IF(Fixture!G18=Fixture!I18,Settings!$G$8,IF(Fixture!G18<Fixture!I18,Settings!$G$9,"-")))) -> - | I14: =IF(G14="-","-",IF(Fixture!I18>Fixture!G18,Settings!$G$7,IF(Fixture!I18=Fixture!G18,Settings!$G$8,IF(Fixture!I18<Fixture!G18,Settings!$G$9,"-")))) -> -
C15: =IF(C14="-","-",IF(D14+1<=maxgameno+2,C14,IF(C14+1<=maxroundno,C14+1,"-"))) -> 2 | D15: =IF(C15="-","-",IF(D14+1<=maxgameno+2,D14+1,1)) -> 1 | E15: =IF(C15="-","-",IF(D15=maxgameno+2,"blank row 2",IF(D15=maxgameno+1,"blank row 1",INDEX(FixtureCode!$B$4:$AH$128,MATCH($C15,FixtureCode!$B$4:$B$128,0),MATCH("G"&D15&"-T1",FixtureCode!$B$4:$AH$4,0))))) -> 1 | F15: =IF(C15="-","-",IF(D15=maxgameno+2,"blank row 2",IF(D15=maxgameno+1,"blank row 1",INDEX(FixtureCode!$B$4:$AH$128,MATCH($C15,FixtureCode!$B$4:$B$128,0),MATCH("G"&D15&"-T2",FixtureCode!$B$4:$AH$4,0))))) -> 17 | G15: =IF(C15="-","-",IF(AND(ISNUMBER(Fixture!G19),ISNUMBER(Fixture!I19),Fixture!F19<>"BYE",Fixture!J19<>"BYE"),"Yes","-")) -> Yes | H15: =IF(G15="-","-",IF(Fixture!G19>Fixture!I19,Settings!$G$7,IF(Fixture!G19=Fixture!I19,Settings!$G$8,IF(Fixture!G19<Fixture!I19,Settings!$G$9,"-")))) -> 3 | I15: =IF(G15="-","-",IF(Fixture!I19>Fixture!G19,Settings!$G$7,IF(Fixture!I19=Fixture!G19,Settings!$G$8,IF(Fixture!I19<Fixture!G19,Settings!$G$9,"-")))) -> 0
C16: =IF(C15="-","-",IF(D15+1<=maxgameno+2,C15,IF(C15+1<=maxroundno,C15+1,"-"))) -> 2 | D16: =IF(C16="-","-",IF(D15+1<=maxgameno+2,D15+1,1)) -> 2 | E16: =IF(C16="-","-",IF(D16=maxgameno+2,"blank row 2",IF(D16=maxgameno+1,"blank row 1",INDEX(FixtureCode!$B$4:$AH$128,MATCH($C16,FixtureCode!$B$4:$B$128,0),MATCH("G"&D16&"-T1",FixtureCode!$B$4:$AH$4,0))))) -> 18 | F16: =IF(C16="-","-",IF(D16=maxgameno+2,"blank row 2",IF(D16=maxgameno+1,"blank row 1",INDEX(FixtureCode!$B$4:$AH$128,MATCH($C16,FixtureCode!$B$4:$B$128,0),MATCH("G"&D16&"-T2",FixtureCode!$B$4:$AH$4,0))))) -> 16 | G16: =IF(C16="-","-",IF(AND(ISNUMBER(Fixture!G20),ISNUMBER(Fixture!I20),Fixture!F20<>"BYE",Fixture!J20<>"BYE"),"Yes","-")) -> Yes | H16: =IF(G16="-","-",IF(Fixture!G20>Fixture!I20,Settings!$G$7,IF(Fixture!G20=Fixture!I20,Settings!$G$8,IF(Fixture!G20<Fixture!I20,Settings!$G$9,"-")))) -> 0 | I16: =IF(G16="-","-",IF(Fixture!I20>Fixture!G20,Settings!$G$7,IF(Fixture!I20=Fixture!G20,Settings!$G$8,IF(Fixture!I20<Fixture!G20,Settings!$G$9,"-")))) -> 3
... C6129: =IF(C6128="-","-",IF(D6128+1<=maxgameno+2,C6128,IF(C6128+1<=maxroundno,C6128+1,"-"))) -> - | D6129: =IF(C6129="-","-",IF(D6128+1<=maxgameno+2,D6128+1,1)) -> - | E6129: =IF(C6129="-","-",IF(D6129=maxgameno+2,"blank row 2",IF(D6129=maxgameno+1,"blank row 1",INDEX(FixtureCode!$B$4:$AH$128,MATCH($C6129,FixtureCode!$B$4:$B$128,0),MATCH("G"&D6129&"-T1",FixtureCode!$B$4:$AH$4,0))))) -> - | F6129: =IF(C6129="-","-",IF(D6129=maxgameno+2,"blank row 2",IF(D6129=maxgameno+1,"blank row 1",INDEX(FixtureCode!$B$4:$AH$128,MATCH($C6129,FixtureCode!$B$4:$B$128,0),MATCH("G"&D6129&"-T2",FixtureCode!$B$4:$AH$4,0))))) -> - | G6129: =IF(C6129="-","-",IF(AND(ISNUMBER(Fixture!G6133),ISNUMBER(Fixture!I6133),Fixture!F6133<>"BYE",Fixture!J6133<>"BYE"),"Yes","-")) -> - | H6129: =IF(G6129="-","-",IF(Fixture!G6133>Fixture!I6133,Settings!$G$7,IF(Fixture!G6133=Fixture!I6133,Settings!$G$8,IF(Fixture!G6133<Fixture!I6133,Settings!$G$9,"-")))) -> - | I6129: =IF(G6129="-","-",IF(Fixture!I6133>Fixture!G6133,Settings!$G$7,IF(Fixture!I6133=Fixture!G6133,Settings!$G$8,IF(Fixture!I6133<Fixture!G6133,Settings!$G$9,"-")))) -> -

Sheet Fixture
C2: LEAGUE SCHEDULE MAKER
C3: =IF(LEN(Settings!G6)=0,"FIXTURE",UPPER(Settings!G6&" FIXTURE")) -> DUMMY LEAGUE FIXTURE
M5: =IFERROR(IF(COUNTIF($W$8:$W$1750,"← Insert the scores of both teams"),"There are matches without scores",""),"")
C6: DATE / TIME | D6: MATCHWEEK NO | E6: VENUE | F6: HOME TEAM | J6: AWAY TEAM | M6: =IFERROR(IF(COUNTIF($W$8:$W$1750,"← Delete the scores"),"Delete scores without matches",""),"") | S6: Team Name Exists ? | T6: BYE Exists ? | U6: Score exists ? | V6: Matchweek Started ? | W6: Result
C8: 44002.875 | D8: =IFERROR(IF(FixtureCalc!C4="-","",IF(OR(FixtureCalc!E4="blank row 1",FixtureCalc!E4="blank row 2"),"","Matchweek "&FixtureCalc!C4)),"") -> Matchweek 1 | E8: =IFERROR(IF(LEN(INDEX(Settings!$D$6:$D$37,MATCH(Fixture!F8,Settings!$C$6:$C$37,0)))=0,"",INDEX(Settings!$D$6:$D$37,MATCH(Fixture!F8,Settings!$C$6:$C$37,0))),"-") -> Beaver Stadium | F8: =IFERROR(IF(FixtureCalc!C4="-","",IF(OR(FixtureCalc!E4="blank row 1",FixtureCalc!E4="blank row 2"),"", IF(LEN(INDEX(Settings!$C$6:$C$37,FixtureCalc!E4))=0,"BYE",INDEX(Settings!$C$6:$C$37,FixtureCalc!E4)) )),"") -> Legal Swamp Twisters | G8: 3 | I8: 2 | J8: =IFERROR(IF(FixtureCalc!C4="-","",IF(OR(FixtureCalc!F4="blank row 1",FixtureCalc!F4="blank row 2"),"",IF(LEN(INDEX(Settings!$C$6:$C$37,FixtureCalc!F4))=0,"BYE",INDEX(Settings!$C$6:$C$37,FixtureCalc!F4)) )),"") -> Unethical Bison | L8: =IFERROR(IF(LEN(W8)>0,"←",""),"") | S8: =IFERROR(IF(AND(LEN(F8)>0,LEN(J8)>0),"YES","NO"),"") -> YES | T8: =IFERROR(IF(OR(F8="BYE",J8="BYE"),"YES","NO"),"") -> NO | U8: =IF(OR(LEN(G8)=0,LEN(I8)=0),"NO","YES") -> YES | V8: =IF(LEN(D8)=0,0,COUNTIFS($D$8:$D$1750,D8,$G$8:$G$1750,"<>"&"",$I$8:$I$1750,"<>"&"")) -> 9 | W8: =IF(S8="YES",IF(T8="YES",IF(U8="YES","← Delete the scores",""),IF(AND(U8="NO",V8>0),"← Insert the scores of both teams","")),IF(U8="YES","← Delete the scores",""))
C9: 44002.75 | D9: =IFERROR(IF(FixtureCalc!C5="-","",IF(OR(FixtureCalc!E5="blank row 1",FixtureCalc!E5="blank row 2"),"","Matchweek "&FixtureCalc!C5)),"") -> Matchweek 1 | E9: =IFERROR(IF(LEN(INDEX(Settings!$D$6:$D$37,MATCH(Fixture!F9,Settings!$C$6:$C$37,0)))=0,"",INDEX(Settings!$D$6:$D$37,MATCH(Fixture!F9,Settings!$C$6:$C$37,0))),"") -> Ohio Stadium | F9: =IFERROR(IF(FixtureCalc!C5="-","",IF(OR(FixtureCalc!E5="blank row 1",FixtureCalc!E5="blank row 2"),"", IF(LEN(INDEX(Settings!$C$6:$C$37,FixtureCalc!E5))=0,"BYE",INDEX(Settings!$C$6:$C$37,FixtureCalc!E5)) )),"") -> Ancient Crows | G9: 1 | I9: 1 | J9: =IFERROR(IF(FixtureCalc!C5="-","",IF(OR(FixtureCalc!F5="blank row 1",FixtureCalc!F5="blank row 2"),"",IF(LEN(INDEX(Settings!$C$6:$C$37,FixtureCalc!F5))=0,"BYE",INDEX(Settings!$C$6:$C$37,FixtureCalc!F5)) )),"") -> Defiant Jesters | L9: =IFERROR(IF(LEN(W9)>0,"←",""),"") | S9: =IFERROR(IF(AND(LEN(F9)>0,LEN(J9)>0),"YES","NO"),"") -> YES | T9: =IFERROR(IF(OR(F9="BYE",J9="BYE"),"YES","NO"),"") -> NO | U9: =IF(OR(LEN(G9)=0,LEN(I9)=0),"NO","YES") -> YES | V9: =IF(LEN(D9)=0,0,COUNTIFS($D$8:$D$1750,D9,$G$8:$G$1750,"<>"&"",$I$8:$I$1750,"<>"&"")) -> 9 | W9: =IF(S9="YES",IF(T9="YES",IF(U9="YES","← Delete the scores",""),IF(AND(U9="NO",V9>0),"← Insert the scores of both teams","")),IF(U9="YES","← Delete the scores",""))
C10: 44002.906 | D10: =IFERROR(IF(FixtureCalc!C6="-","",IF(OR(FixtureCalc!E6="blank row 1",FixtureCalc!E6="blank row 2"),"","Matchweek "&FixtureCalc!C6)),"") -> Matchweek 1 | E10: =IFERROR(IF(LEN(INDEX(Settings!$D$6:$D$37,MATCH(Fixture!F10,Settings!$C$6:$C$37,0)))=0,"",INDEX(Settings!$D$6:$D$37,MATCH(Fixture!F10,Settings!$C$6:$C$37,0))),"") -> Kyle Field | F10: =IFERROR(IF(FixtureCalc!C6="-","",IF(OR(FixtureCalc!E6="blank row 1",FixtureCalc!E6="blank row 2"),"", IF(LEN(INDEX(Settings!$C$6:$C$37,FixtureCalc!E6))=0,"BYE",INDEX(Settings!$C$6:$C$37,FixtureCalc!E6)) )),"") -> Wise Panthers | G10: 1 | I10: 2 | J10: =IFERROR(IF(FixtureCalc!C6="-","",IF(OR(FixtureCalc!F6="blank row 1",FixtureCalc!F6="blank row 2"),"",IF(LEN(INDEX(Settings!$C$6:$C$37,FixtureCalc!F6))=0,"BYE",INDEX(Settings!$C$6:$C$37,FixtureCalc!F6)) )),"") -> The Classic | L10: =IFERROR(IF(LEN(W10)>0,"←",""),"") | S10: =IFERROR(IF(AND(LEN(F10)>0,LEN(J10)>0),"YES","NO"),"") -> YES | T10: =IFERROR(IF(OR(F10="BYE",J10="BYE"),"YES","NO"),"") -> NO | U10: =IF(OR(LEN(G10)=0,LEN(I10)=0),"NO","YES") -> YES | V10: =IF(LEN(D10)=0,0,COUNTIFS($D$8:$D$1750,D10,$G$8:$G$1750,"<>"&"",$I$8:$I$1750,"<>"&"")) -> 9 | W10: =IF(S10="YES",IF(T10="YES",IF(U10="YES","← Delete the scores",""),IF(AND(U10="NO",V10>0),"← Insert the scores of both teams","")),IF(U10="YES","← Delete the scores",""))
C11: 44002.875 | D11: =IFERROR(IF(FixtureCalc!C7="-","",IF(OR(FixtureCalc!E7="blank row 1",FixtureCalc!E7="blank row 2"),"","Matchweek "&FixtureCalc!C7)),"") -> Matchweek 1 | E11: =IFERROR(IF(LEN(INDEX(Settings!$D$6:$D$37,MATCH(Fixture!F11,Settings!$C$6:$C$37,0)))=0,"",INDEX(Settings!$D$6:$D$37,MATCH(Fixture!F11,Settings!$C$6:$C$37,0))),"") -> Neyland Stadium | F11: =IFERROR(IF(FixtureCalc!C7="-","",IF(OR(FixtureCalc!E7="blank row 1",FixtureCalc!E7="blank row 2"),"", IF(LEN(INDEX(Settings!$C$6:$C$37,FixtureCalc!E7))=0,"BYE",INDEX(Settings!$C$6:$C$37,FixtureCalc!E7)) )),"") -> South Leaders | G11: 2 | I11: 2 | J11: =IFERROR(IF(FixtureCalc!C7="-","",IF(OR(FixtureCalc!F7="blank row 1",FixtureCalc!F7="blank row 2"),"",IF(LEN(INDEX(Settings!$C$6:$C$37,FixtureCalc!F7))=0,"BYE",INDEX(Settings!$C$6:$C$37,FixtureCalc!F7)) )),"") -> Northern Tan Whackers | L11: =IFERROR(IF(LEN(W11)>0,"←",""),"") | S11: =IFERROR(IF(AND(LEN(F11)>0,LEN(J11)>0),"YES","NO"),"") -> YES | T11: =IFERROR(IF(OR(F11="BYE",J11="BYE"),"YES","NO"),"") -> NO | U11: =IF(OR(LEN(G11)=0,LEN(I11)=0),"NO","YES") -> YES | V11: =IF(LEN(D11)=0,0,COUNTIFS($D$8:$D$1750,D11,$G$8:$G$1750,"<>"&"",$I$8:$I$1750,"<>"&"")) -> 9 | W11: =IF(S11="YES",IF(T11="YES",IF(U11="YES","← Delete the scores",""),IF(AND(U11="NO",V11>0),"← Insert the scores of both teams","")),IF(U11="YES","← Delete the scores",""))
C12: 44002.875 | D12: =IFERROR(IF(FixtureCalc!C8="-","",IF(OR(FixtureCalc!E8="blank row 1",FixtureCalc!E8="blank row 2"),"","Matchweek "&FixtureCalc!C8)),"") -> Matchweek 1 | E12: =IFERROR(IF(LEN(INDEX(Settings!$D$6:$D$37,MATCH(Fixture!F12,Settings!$C$6:$C$37,0)))=0,"",INDEX(Settings!$D$6:$D$37,MATCH(Fixture!F12,Settings!$C$6:$C$37,0))),"") -> Tiger Stadium | F12: =IFERROR(IF(FixtureCalc!C8="-","",IF(OR(FixtureCalc!E8="blank row 1",FixtureCalc!E8="blank row 2"),"", IF(LEN(INDEX(Settings!$C$6:$C$37,FixtureCalc!E8))=0,"BYE",INDEX(Settings!$C$6:$C$37,FixtureCalc!E8)) )),"") -> Kaptain City | G12: 2 | I12: 0 | J12: =IFERROR(IF(FixtureCalc!C8="-","",IF(OR(FixtureCalc!F8="blank row 1",FixtureCalc!F8="blank row 2"),"",IF(LEN(INDEX(Settings!$C$6:$C$37,FixtureCalc!F8))=0,"BYE",INDEX(Settings!$C$6:$C$37,FixtureCalc!F8)) )),"") -> The Krakens | L12: =IFERROR(IF(LEN(W12)>0,"←",""),"") | S12: =IFERROR(IF(AND(LEN(F12)>0,LEN(J12)>0),"YES","NO"),"") -> YES | T12: =IFERROR(IF(OR(F12="BYE",J12="BYE"),"YES","NO"),"") -> NO | U12: =IF(OR(LEN(G12)=0,LEN(I12)=0),"NO","YES") -> YES | V12: =IF(LEN(D12)=0,0,COUNTIFS($D$8:$D$1750,D12,$G$8:$G$1750,"<>"&"",$I$8:$I$1750,"<>"&"")) -> 9 | W12: =IF(S12="YES",IF(T12="YES",IF(U12="YES","← Delete the scores",""),IF(AND(U12="NO",V12>0),"← Insert the scores of both teams","")),IF(U12="YES","← Delete the scores",""))
C13: 44002.75 | D13: =IFERROR(IF(FixtureCalc!C9="-","",IF(OR(FixtureCalc!E9="blank row 1",FixtureCalc!E9="blank row 2"),"","Matchweek "&FixtureCalc!C9)),"") -> Matchweek 1 | E13: =IFERROR(IF(LEN(INDEX(Settings!$D$6:$D$37,MATCH(Fixture!F13,Settings!$C$6:$C$37,0)))=0,"",INDEX(Settings!$D$6:$D$37,MATCH(Fixture!F13,Settings!$C$6:$C$37,0))),"") -> Bryant–Denny Stadium | F13: =IFERROR(IF(FixtureCalc!C9="-","",IF(OR(FixtureCalc!E9="blank row 1",FixtureCalc!E9="blank row 2"),"", IF(LEN(INDEX(Settings!$C$6:$C$37,FixtureCalc!E9))=0,"BYE",INDEX(Settings!$C$6:$C$37,FixtureCalc!E9)) )),"") -> Delta Blazers | G13: 3 | I13: 4 | J13: =IFERROR(IF(FixtureCalc!C9="-","",IF(OR(FixtureCalc!F9="blank row 1",FixtureCalc!F9="blank row 2"),"",IF(LEN(INDEX(Settings!$C$6:$C$37,FixtureCalc!F9))=0,"BYE",INDEX(Settings!$C$6:$C$37,FixtureCalc!F9)) )),"") -> Mighty Patriots | L13: =IFERROR(IF(LEN(W13)>0,"←",""),"") | S13: =IFERROR(IF(AND(LEN(F13)>0,LEN(J13)>0),"YES","NO"),"") -> YES | T13: =IFERROR(IF(OR(F13="BYE",J13="BYE"),"YES","NO"),"") -> NO | U13: =IF(OR(LEN(G13)=0,LEN(I13)=0),"NO","YES") -> YES | V13: =IF(LEN(D13)=0,0,COUNTIFS($D$8:$D$1750,D13,$G$8:$G$1750,"<>"&"",$I$8:$I$1750,"<>"&"")) -> 9 | W13: =IF(S13="YES",IF(T13="YES",IF(U13="YES","← Delete the scores",""),IF(AND(U13="NO",V13>0),"← Insert the scores of both teams","")),IF(U13="YES","← Delete the scores",""))
C14: 44002.792 | D14: =IFERROR(IF(FixtureCalc!C10="-","",IF(OR(FixtureCalc!E10="blank row 1",FixtureCalc!E10="blank row 2"),"","Matchweek "&FixtureCalc!C10)),"") -> Matchweek 1 | E14: =IFERROR(IF(LEN(INDEX(Settings!$D$6:$D$37,MATCH(Fixture!F14,Settings!$C$6:$C$37,0)))=0,"",INDEX(Settings!$D$6:$D$37,MATCH(Fixture!F14,Settings!$C$6:$C$37,0))),"") -> Darrell K Royal–Texas Memorial Stadium | F14: =IFERROR(IF(FixtureCalc!C10="-","",IF(OR(FixtureCalc!E10="blank row 1",FixtureCalc!E10="blank row 2"),"", IF(LEN(INDEX(Settings!$C$6:$C$37,FixtureCalc!E10))=0,"BYE",INDEX(Settings!$C$6:$C$37,FixtureCalc!E10)) )),"") -> Real Revolution | G14: 1 | I14: 0 | J14: =IFERROR(IF(FixtureCalc!C10="-","",IF(OR(FixtureCalc!F10="blank row 1",FixtureCalc!F10="blank row 2"),"",IF(LEN(INDEX(Settings!$C$6:$C$37,FixtureCalc!F10))=0,"BYE",INDEX(Settings!$C$6:$C$37,FixtureCalc!F10)) )),"") -> Final Green Gazelles | L14: =IFERROR(IF(LEN(W14)>0,"←",""),"") | S14: =IFERROR(IF(AND(LEN(F14)>0,LEN(J14)>0),"YES","NO"),"") -> YES | T14: =IFERROR(IF(OR(F14="BYE",J14="BYE"),"YES","NO"),"") -> NO | U14: =IF(OR(LEN(G14)=0,LEN(I14)=0),"NO","YES") -> YES | V14: =IF(LEN(D14)=0,0,COUNTIFS($D$8:$D$1750,D14,$G$8:$G$1750,"<>"&"",$I$8:$I$1750,"<>"&"")) -> 9 | W14: =IF(S14="YES",IF(T14="YES",IF(U14="YES","← Delete the scores",""),IF(AND(U14="NO",V14>0),"← Insert the scores of both teams","")),IF(U14="YES","← Delete the scores",""))
C15: 44002.875 | D15: =IFERROR(IF(FixtureCalc!C11="-","",IF(OR(FixtureCalc!E11="blank row 1",FixtureCalc!E11="blank row 2"),"","Matchweek "&FixtureCalc!C11)),"") -> Matchweek 1 | E15: =IFERROR(IF(LEN(INDEX(Settings!$D$6:$D$37,MATCH(Fixture!F15,Settings!$C$6:$C$37,0)))=0,"",INDEX(Settings!$D$6:$D$37,MATCH(Fixture!F15,Settings!$C$6:$C$37,0))),"") -> Ben Hill Griffin Stadium | F15: =IFERROR(IF(FixtureCalc!C11="-","",IF(OR(FixtureCalc!E11="blank row 1",FixtureCalc!E11="blank row 2"),"", IF(LEN(INDEX(Settings!$C$6:$C$37,FixtureCalc!E11))=0,"BYE",INDEX(Settings!$C$6:$C$37,FixtureCalc!E11)) )),"") -> Silver Rangers | G15: 1 | I15: 1 | J15: =IFERROR(IF(FixtureCalc!C11="-","",IF(OR(FixtureCalc!F11="blank row 1",FixtureCalc!F11="blank row 2"),"",IF(LEN(INDEX(Settings!$C$6:$C$37,FixtureCalc!F11))=0,"BYE",INDEX(Settings!$C$6:$C$37,FixtureCalc!F11)) )),"") -> Haunting Bottle Rockets | L15: =IFERROR(IF(LEN(W15)>0,"←",""),"") | S15: =IFERROR(IF(AND(LEN(F15)>0,LEN(J15)>0),"YES","NO"),"") -> YES | T15: =IFERROR(IF(OR(F15="BYE",J15="BYE"),"YES","NO"),"") -> NO | U15: =IF(OR(LEN(G15)=0,LEN(I15)=0),"NO","YES") -> YES | V15: =IF(LEN(D15)=0,0,COUNTIFS($D$8:$D$1750,D15,$G$8:$G$1750,"<>"&"",$I$8:$I$1750,"<>"&"")) -> 9 | W15: =IF(S15="YES",IF(T15="YES",IF(U15="YES","← Delete the scores",""),IF(AND(U15="NO",V15>0),"← Insert the scores of both teams","")),IF(U15="YES","← Delete the scores",""))
C16: 44003.875 | D16: =IFERROR(IF(FixtureCalc!C12="-","",IF(OR(FixtureCalc!E12="blank row 1",FixtureCalc!E12="blank row 2"),"","Matchweek "&FixtureCalc!C12)),"") -> Matchweek 1 | E16: =IFERROR(IF(LEN(INDEX(Settings!$D$6:$D$37,MATCH(Fixture!F16,Settings!$C$6:$C$37,0)))=0,"",INDEX(Settings!$D$6:$D$37,MATCH(Fixture!F16,Settings!$C$6:$C$37,0))),"") -> Jordan–Hare Stadium | F16: =IFERROR(IF(FixtureCalc!C12="-","",IF(OR(FixtureCalc!E12="blank row 1",FixtureCalc!E12="blank row 2"),"", IF(LEN(INDEX(Settings!$C$6:$C$37,FixtureCalc!E12))=0,"BYE",INDEX(Settings!$C$6:$C$37,FixtureCalc!E12)) )),"") -> Earnest Broncos | G16: 1 | I16: 1 | J16: =IFERROR(IF(FixtureCalc!C12="-","",IF(OR(FixtureCalc!F12="blank row 1",FixtureCalc!F12="blank row 2"),"",IF(LEN(INDEX(Settings!$C$6:$C$37,FixtureCalc!F12))=0,"BYE",INDEX(Settings!$C$6:$C$37,FixtureCalc!F12)) )),"") -> Red Sirens | L16: =IFERROR(IF(LEN(W16)>0,"←",""),"") | S16: =IFERROR(IF(AND(LEN(F16)>0,LEN(J16)>0),"YES","NO"),"") -> YES | T16: =IFERROR(IF(OR(F16="BYE",J16="BYE"),"YES","NO"),"") -> NO | U16: =IF(OR(LEN(G16)=0,LEN(I16)=0),"NO","YES") -> YES | V16: =IF(LEN(D16)=0,0,COUNTIFS($D$8:$D$1750,D16,$G$8:$G$1750,"<>"&"",$I$8:$I$1750,"<>"&"")) -> 9 | W16: =IF(S16="YES",IF(T16="YES",IF(U16="YES","← Delete the scores",""),IF(AND(U16="NO",V16>0),"← Insert the scores of both teams","")),IF(U16="YES","← Delete the scores",""))
D17: =IFERROR(IF(FixtureCalc!C13="-","",IF(OR(FixtureCalc!E13="blank row 1",FixtureCalc!E13="blank row 2"),"","Matchweek "&FixtureCalc!C13)),"") | E17: =IFERROR(IF(LEN(INDEX(Settings!$D$6:$D$37,MATCH(Fixture!F17,Settings!$C$6:$C$37,0)))=0,"",INDEX(Settings!$D$6:$D$37,MATCH(Fixture!F17,Settings!$C$6:$C$37,0))),"") | F17: =IFERROR(IF(FixtureCalc!C13="-","",IF(OR(FixtureCalc!E13="blank row 1",FixtureCalc!E13="blank row 2"),"", IF(LEN(INDEX(Settings!$C$6:$C$37,FixtureCalc!E13))=0,"BYE",INDEX(Settings!$C$6:$C$37,FixtureCalc!E13)) )),"") | J17: =IFERROR(IF(FixtureCalc!C13="-","",IF(OR(FixtureCalc!F13="blank row 1",FixtureCalc!F13="blank row 2"),"",IF(LEN(INDEX(Settings!$C$6:$C$37,FixtureCalc!F13))=0,"BYE",INDEX(Settings!$C$6:$C$37,FixtureCalc!F13)) )),"") | L17: =IFERROR(IF(LEN(W17)>0,"←",""),"") | S17: =IFERROR(IF(AND(LEN(F17)>0,LEN(J17)>0),"YES","NO"),"") -> NO | T17: =IFERROR(IF(OR(F17="BYE",J17="BYE"),"YES","NO"),"") -> NO | U17: =IF(OR(LEN(G17)=0,LEN(I17)=0),"NO","YES") -> NO | V17: =IF(LEN(D17)=0,0,COUNTIFS($D$8:$D$1750,D17,$G$8:$G$1750,"<>"&"",$I$8:$I$1750,"<>"&"")) -> 0 | W17: =IF(S17="YES",IF(T17="YES",IF(U17="YES","← Delete the scores",""),IF(AND(U17="NO",V17>0),"← Insert the scores of both teams","")),IF(U17="YES","← Delete the scores",""))
D18: =IFERROR(IF(FixtureCalc!C14="-","",IF(OR(FixtureCalc!E14="blank row 1",FixtureCalc!E14="blank row 2"),"","Matchweek "&FixtureCalc!C14)),"") | E18: =IFERROR(IF(LEN(INDEX(Settings!$D$6:$D$37,MATCH(Fixture!F18,Settings!$C$6:$C$37,0)))=0,"",INDEX(Settings!$D$6:$D$37,MATCH(Fixture!F18,Settings!$C$6:$C$37,0))),"") | F18: =IFERROR(IF(FixtureCalc!C14="-","",IF(OR(FixtureCalc!E14="blank row 1",FixtureCalc!E14="blank row 2"),"", IF(LEN(INDEX(Settings!$C$6:$C$37,FixtureCalc!E14))=0,"BYE",INDEX(Settings!$C$6:$C$37,FixtureCalc!E14)) )),"") | J18: =IFERROR(IF(FixtureCalc!C14="-","",IF(OR(FixtureCalc!F14="blank row 1",FixtureCalc!F14="blank row 2"),"",IF(LEN(INDEX(Settings!$C$6:$C$37,FixtureCalc!F14))=0,"BYE",INDEX(Settings!$C$6:$C$37,FixtureCalc!F14)) )),"") | L18: =IFERROR(IF(LEN(W18)>0,"←",""),"") | S18: =IFERROR(IF(AND(LEN(F18)>0,LEN(J18)>0),"YES","NO"),"") -> NO | T18: =IFERROR(IF(OR(F18="BYE",J18="BYE"),"YES","NO"),"") -> NO | U18: =IF(OR(LEN(G18)=0,LEN(I18)=0),"NO","YES") -> NO | V18: =IF(LEN(D18)=0,0,COUNTIFS($D$8:$D$1750,D18,$G$8:$G$1750,"<>"&"",$I$8:$I$1750,"<>"&"")) -> 0 | W18: =IF(S18="YES",IF(T18="YES",IF(U18="YES","← Delete the scores",""),IF(AND(U18="NO",V18>0),"← Insert the scores of both teams","")),IF(U18="YES","← Delete the scores",""))
C19: 44003.823 | D19: =IFERROR(IF(FixtureCalc!C15="-","",IF(OR(FixtureCalc!E15="blank row 1",FixtureCalc!E15="blank row 2"),"","Matchweek "&FixtureCalc!C15)),"") -> Matchweek 2 | E19: =IFERROR(IF(LEN(INDEX(Settings!$D$6:$D$37,MATCH(Fixture!F19,Settings!$C$6:$C$37,0)))=0,"",INDEX(Settings!$D$6:$D$37,MATCH(Fixture!F19,Settings!$C$6:$C$37,0))),"") -> Beaver Stadium | F19: =IFERROR(IF(FixtureCalc!C15="-","",IF(OR(FixtureCalc!E15="blank row 1",FixtureCalc!E15="blank row 2"),"", IF(LEN(INDEX(Settings!$C$6:$C$37,FixtureCalc!E15))=0,"BYE",INDEX(Settings!$C$6:$C$37,FixtureCalc!E15)) )),"") -> Legal Swamp Twisters | G19: 3 | I19: 2 | J19: =IFERROR(IF(FixtureCalc!C15="-","",IF(OR(FixtureCalc!F15="blank row 1",FixtureCalc!F15="blank row 2"),"",IF(LEN(INDEX(Settings!$C$6:$C$37,FixtureCalc!F15))=0,"BYE",INDEX(Settings!$C$6:$C$37,FixtureCalc!F15)) )),"") -> Defiant Jesters | L19: =IFERROR(IF(LEN(W19)>0,"←",""),"") | S19: =IFERROR(IF(AND(LEN(F19)>0,LEN(J19)>0),"YES","NO"),"") -> YES | T19: =IFERROR(IF(OR(F19="BYE",J19="BYE"),"YES","NO"),"") -> NO | U19: =IF(OR(LEN(G19)=0,LEN(I19)=0),"NO","YES") -> YES | V19: =IF(LEN(D19)=0,0,COUNTIFS($D$8:$D$1750,D19,$G$8:$G$1750,"<>"&"",$I$8:$I$1750,"<>"&"")) -> 9 | W19: =IF(S19="YES",IF(T19="YES",IF(U19="YES","← Delete the scores",""),IF(AND(U19="NO",V19>0),"← Insert the scores of both teams","")),IF(U19="YES","← Delete the scores",""))
C20: 44003.875 | D20: =IFERROR(IF(FixtureCalc!C16="-","",IF(OR(FixtureCalc!E16="blank row 1",FixtureCalc!E16="blank row 2"),"","Matchweek "&FixtureCalc!C16)),"") -> Matchweek 2 | E20: =IFERROR(IF(LEN(INDEX(Settings!$D$6:$D$37,MATCH(Fixture!F20,Settings!$C$6:$C$37,0)))=0,"",INDEX(Settings!$D$6:$D$37,MATCH(Fixture!F20,Settings!$C$6:$C$37,0))),"") -> Gaylord Family Oklahoma Memorial Stadium | F20: =IFERROR(IF(FixtureCalc!C16="-","",IF(OR(FixtureCalc!E16="blank row 1",FixtureCalc!E16="blank row 2"),"", IF(LEN(INDEX(Settings!$C$6:$C$37,FixtureCalc!E16))=0,"BYE",INDEX(Settings!$C$6:$C$37,FixtureCalc!E16)) )),"") -> Unethical Bison | G20: 0 | I20: 4 | J20: =IFERROR(IF(FixtureCalc!C16="-","",IF(OR(FixtureCalc!F16="blank row 1",FixtureCalc!F16="blank row 2"),"",IF(LEN(INDEX(Settings!$C$6:$C$37,FixtureCalc!F16))=0,"BYE",INDEX(Settings!$C$6:$C$37,FixtureCalc!F16)) )),"") -> The Classic | L20: =IFERROR(IF(LEN(W20)>0,"←",""),"") | S20: =IFERROR(IF(AND(LEN(F20)>0,LEN(J20)>0),"YES","NO"),"") -> YES | T20: =IFERROR(IF(OR(F20="BYE",J20="BYE"),"YES","NO"),"") -> NO | U20: =IF(OR(LEN(G20)=0,LEN(I20)=0),"NO","YES") -> YES | V20: =IF(LEN(D20)=0,0,COUNTIFS($D$8:$D$1750,D20,$G$8:$G$1750,"<>"&"",$I$8:$I$1750,"<>"&"")) -> 9 | W20: =IF(S20="YES",IF(T20="YES",IF(U20="YES","← Delete the scores",""),IF(AND(U20="NO",V20>0),"← Insert the scores of both teams","")),IF(U20="YES","← Delete the scores",""))
C21: 44003.875 | D21: =IFERROR(IF(FixtureCalc!C17="-","",IF(OR(FixtureCalc!E17="blank row 1",FixtureCalc!E17="blank row 2"),"","Matchweek "&FixtureCalc!C17)),"") -> Matchweek 2 | E21: =IFERROR(IF(LEN(INDEX(Settings!$D$6:$D$37,MATCH(Fixture!F21,Settings!$C$6:$C$37,0)))=0,"",INDEX(Settings!$D$6:$D$37,MATCH(Fixture!F21,Settings!$C$6:$C$37,0))),"") -> Ohio Stadium | F21: =IFERROR(IF(FixtureCalc!C17="-","",IF(OR(FixtureCalc!E17="blank row 1",FixtureCalc!E17="blank row 2"),"", IF(LEN(INDEX(Settings!$C$6:$C$37,FixtureCalc!E17))=0,"BYE",INDEX(Settings!$C$6:$C$37,FixtureCalc!E17)) )),"") -> Ancient Crows | G21: 1 | I21: 2 | J21: =IFERROR(IF(FixtureCalc!C17="-","",IF(OR(FixtureCalc!F17="blank row 1",FixtureCalc!F17="blank row 2"),"",IF(LEN(INDEX(Settings!$C$6:$C$37,FixtureCalc!F17))=0,"BYE",INDEX(Settings!$C$6:$C$37,FixtureCalc!F17)) )),"") -> Northern Tan Whackers | L21: =IFERROR(IF(LEN(W21)>0,"←",""),"") | S21: =IFERROR(IF(AND(LEN(F21)>0,LEN(J21)>0),"YES","NO"),"") -> YES | T21: =IFERROR(IF(OR(F21="BYE",J21="BYE"),"YES","NO"),"") -> NO | U21: =IF(OR(LEN(G21)=0,LEN(I21)=0),"NO","YES") -> YES | V21: =IF(LEN(D21)=0,0,COUNTIFS($D$8:$D$1750,D21,$G$8:$G$1750,"<>"&"",$I$8:$I$1750,"<>"&"")) -> 9 | W21: =IF(S21="YES",IF(T21="YES",IF(U21="YES","← Delete the scores",""),IF(AND(U21="NO",V21>0),"← Insert the scores of both teams","")),IF(U21="YES","← Delete the scores",""))
C22: 44003.875 | D22: =IFERROR(IF(FixtureCalc!C18="-","",IF(OR(FixtureCalc!E18="blank row 1",FixtureCalc!E18="blank row 2"),"","Matchweek "&FixtureCalc!C18)),"") -> Matchweek 2 | E22: =IFERROR(IF(LEN(INDEX(Settings!$D$6:$D$37,MATCH(Fixture!F22,Settings!$C$6:$C$37,0)))=0,"",INDEX(Settings!$D$6:$D$37,MATCH(Fixture!F22,Settings!$C$6:$C$37,0))),"") -> Kyle Field | F22: =IFERROR(IF(FixtureCalc!C18="-","",IF(OR(FixtureCalc!E18="blank row 1",FixtureCalc!E18="blank row 2"),"", IF(LEN(INDEX(Settings!$C$6:$C$37,FixtureCalc!E18))=0,"BYE",INDEX(Settings!$C$6:$C$37,FixtureCalc!E18)) )),"") -> Wise Panthers | G22: 2 | I22: 2 | J22: =IFERROR(IF(FixtureCalc!C18="-","",IF(OR(FixtureCalc!F18="blank row 1",FixtureCalc!F18="blank row 2"),"",IF(LEN(INDEX(Settings!$C$6:$C$37,FixtureCalc!F18))=0,"BYE",INDEX(Settings!$C$6:$C$37,FixtureCalc!F18)) )),"") -> The Krakens | L22: =IFERROR(IF(LEN(W22)>0,"←",""),"") | S22: =IFERROR(IF(AND(LEN(F22)>0,LEN(J22)>0),"YES","NO"),"") -> YES | T22: =IFERROR(IF(OR(F22="BYE",J22="BYE"),"YES","NO"),"") -> NO | U22: =IF(OR(LEN(G22)=0,LEN(I22)=0),"NO","YES") -> YES | V22: =IF(LEN(D22)=0,0,COUNTIFS($D$8:$D$1750,D22,$G$8:$G$1750,"<>"&"",$I$8:$I$1750,"<>"&"")) -> 9 | W22: =IF(S22="YES",IF(T22="YES",IF(U22="YES","← Delete the scores",""),IF(AND(U22="NO",V22>0),"← Insert the scores of both teams","")),IF(U22="YES","← Delete the scores",""))
C23: 44004.75 | D23: =IFERROR(IF(FixtureCalc!C19="-","",IF(OR(FixtureCalc!E19="blank row 1",FixtureCalc!E19="blank row 2"),"","Matchweek "&FixtureCalc!C19)),"") -> Matchweek 2 | E23: =IFERROR(IF(LEN(INDEX(Settings!$D$6:$D$37,MATCH(Fixture!F23,Settings!$C$6:$C$37,0)))=0,"",INDEX(Settings!$D$6:$D$37,MATCH(Fixture!F23,Settings!$C$6:$C$37,0))),"") -> Neyland Stadium | F23: =IFERROR(IF(FixtureCalc!C19="-","",IF(OR(FixtureCalc!E19="blank row 1",FixtureCalc!E19="blank row 2"),"", IF(LEN(INDEX(Settings!$C$6:$C$37,FixtureCalc!E19))=0,"BYE",INDEX(Settings!$C$6:$C$37,FixtureCalc!E19)) )),"") -> South Leaders | G23: 2 | I23: 0 | J23: =IFERROR(IF(FixtureCalc!C19="-","",IF(OR(FixtureCalc!F19="blank row 1",FixtureCalc!F19="blank row 2"),"",IF(LEN(INDEX(Settings!$C$6:$C$37,FixtureCalc!F19))=0,"BYE",INDEX(Settings!$C$6:$C$37,FixtureCalc!F19)) )),"") -> Mighty Patriots | L23: =IFERROR(IF(LEN(W23)>0,"←",""),"") | S23: =IFERROR(IF(AND(LEN(F23)>0,LEN(J23)>0),"YES","NO"),"") -> YES | T23: =IFERROR(IF(OR(F23="BYE",J23="BYE"),"YES","NO"),"") -> NO | U23: =IF(OR(LEN(G23)=0,LEN(I23)=0),"NO","YES") -> YES | V23: =IF(LEN(D23)=0,0,COUNTIFS($D$8:$D$1750,D23,$G$8:$G$1750,"<>"&"",$I$8:$I$1750,"<>"&"")) -> 9 | W23: =IF(S23="YES",IF(T23="YES",IF(U23="YES","← Delete the scores",""),IF(AND(U23="NO",V23>0),"← Insert the scores of both teams","")),IF(U23="YES","← Delete the scores",""))
C24: 44004.792 | D24: =IFERROR(IF(FixtureCalc!C20="-","",IF(OR(FixtureCalc!E20="blank row 1",FixtureCalc!E20="blank row 2"),"","Matchweek "&FixtureCalc!C20)),"") -> Matchweek 2 | E24: =IFERROR(IF(LEN(INDEX(Settings!$D$6:$D$37,MATCH(Fixture!F24,Settings!$C$6:$C$37,0)))=0,"",INDEX(Settings!$D$6:$D$37,MATCH(Fixture!F24,Settings!$C$6:$C$37,0))),"") -> Tiger Stadium | F24: =IFERROR(IF(FixtureCalc!C20="-","",IF(OR(FixtureCalc!E20="blank row 1",FixtureCalc!E20="blank row 2"),"", IF(LEN(INDEX(Settings!$C$6:$C$37,FixtureCalc!E20))=0,"BYE",INDEX(Settings!$C$6:$C$37,FixtureCalc!E20)) )),"") -> Kaptain City | G24: 3 | I24: 4 | J24: =IFERROR(IF(FixtureCalc!C20="-","",IF(OR(FixtureCalc!F20="blank row 1",FixtureCalc!F20="blank row 2"),"",IF(LEN(INDEX(Settings!$C$6:$C$37,FixtureCalc!F20))=0,"BYE",INDEX(Settings!$C$6:$C$37,FixtureCalc!F20)) )),"") -> Final Green Gazelles | L24: =IFERROR(IF(LEN(W24)>0,"←",""),"") | S24: =IFERROR(IF(AND(LEN(F24)>0,LEN(J24)>0),"YES","NO"),"") -> YES | T24: =IFERROR(IF(OR(F24="BYE",J24="BYE"),"YES","NO"),"") -> NO | U24: =IF(OR(LEN(G24)=0,LEN(I24)=0),"NO","YES") -> YES | V24: =IF(LEN(D24)=0,0,COUNTIFS($D$8:$D$1750,D24,$G$8:$G$1750,"<>"&"",$I$8:$I$1750,"<>"&"")) -> 9 | W24: =IF(S24="YES",IF(T24="YES",IF(U24="YES","← Delete the scores",""),IF(AND(U24="NO",V24>0),"← Insert the scores of both teams","")),IF(U24="YES","← Delete the scores",""))
C25: 44004.896 | D25: =IFERROR(IF(FixtureCalc!C21="-","",IF(OR(FixtureCalc!E21="blank row 1",FixtureCalc!E21="blank row 2"),"","Matchweek "&FixtureCalc!C21)),"") -> Matchweek 2 | E25: =IFERROR(IF(LEN(INDEX(Settings!$D$6:$D$37,MATCH(Fixture!F25,Settings!$C$6:$C$37,0)))=0,"",INDEX(Settings!$D$6:$D$37,MATCH(Fixture!F25,Settings!$C$6:$C$37,0))),"") -> Bryant–Denny Stadium | F25: =IFERROR(IF(FixtureCalc!C21="-","",IF(OR(FixtureCalc!E21="blank row 1",FixtureCalc!E21="blank row 2"),"", IF(LEN(INDEX(Settings!$C$6:$C$37,FixtureCalc!E21))=0,"BYE",INDEX(Settings!$C$6:$C$37,FixtureCalc!E21)) )),"") -> Delta Blazers | G25: 1 | I25: 0 | J25: =IFERROR(IF(FixtureCalc!C21="-","",IF(OR(FixtureCalc!F21="blank row 1",FixtureCalc!F21="blank row 2"),"",IF(LEN(INDEX(Settings!$C$6:$C$37,FixtureCalc!F21))=0,"BYE",INDEX(Settings!$C$6:$C$37,FixtureCalc!F21)) )),"") -> Haunting Bottle Rockets | L25: =IFERROR(IF(LEN(W25)>0,"←",""),"") | S25: =IFERROR(IF(AND(LEN(F25)>0,LEN(J25)>0),"YES","NO"),"") -> YES | T25: =IFERROR(IF(OR(F25="BYE",J25="BYE"),"YES","NO"),"") -> NO | U25: =IF(OR(LEN(G25)=0,LEN(I25)=0),"NO","YES") -> YES | V25: =IF(LEN(D25)=0,0,COUNTIFS($D$8:$D$1750,D25,$G$8:$G$1750,"<>"&"",$I$8:$I$1750,"<>"&"")) -> 9 | W25: =IF(S25="YES",IF(T25="YES",IF(U25="YES","← Delete the scores",""),IF(AND(U25="NO",V25>0),"← Insert the scores of both teams","")),IF(U25="YES","← Delete the scores",""))
C26: 44004.792 | D26: =IFERROR(IF(FixtureCalc!C22="-","",IF(OR(FixtureCalc!E22="blank row 1",FixtureCalc!E22="blank row 2"),"","Matchweek "&FixtureCalc!C22)),"") -> Matchweek 2 | E26: =IFERROR(IF(LEN(INDEX(Settings!$D$6:$D$37,MATCH(Fixture!F26,Settings!$C$6:$C$37,0)))=0,"",INDEX(Settings!$D$6:$D$37,MATCH(Fixture!F26,Settings!$C$6:$C$37,0))),"") -> Darrell K Royal–Texas Memorial Stadium | F26: =IFERROR(IF(FixtureCalc!C22="-","",IF(OR(FixtureCalc!E22="blank row 1",FixtureCalc!E22="blank row 2"),"", IF(LEN(INDEX(Settings!$C$6:$C$37,FixtureCalc!E22))=0,"BYE",INDEX(Settings!$C$6:$C$37,FixtureCalc!E22)) )),"") -> Real Revolution | G26: 3 | I26: 3 | J26: =IFERROR(IF(FixtureCalc!C22="-","",IF(OR(FixtureCalc!F22="blank row 1",FixtureCalc!F22="blank row 2"),"",IF(LEN(INDEX(Settings!$C$6:$C$37,FixtureCalc!F22))=0,"BYE",INDEX(Settings!$C$6:$C$37,FixtureCalc!F22)) )),"") -> Red Sirens | L26: =IFERROR(IF(LEN(W26)>0,"←",""),"") | S26: =IFERROR(IF(AND(LEN(F26)>0,LEN(J26)>0),"YES","NO"),"") -> YES | T26: =IFERROR(IF(OR(F26="BYE",J26="BYE"),"YES","NO"),"") -> NO | U26: =IF(OR(LEN(G26)=0,LEN(I26)=0),"NO","YES") -> YES | V26: =IF(LEN(D26)=0,0,COUNTIFS($D$8:$D$1750,D26,$G$8:$G$1750,"<>"&"",$I$8:$I$1750,"<>"&"")) -> 9 | W26: =IF(S26="YES",IF(T26="YES",IF(U26="YES","← Delete the scores",""),IF(AND(U26="NO",V26>0),"← Insert the scores of both teams","")),IF(U26="YES","← Delete the scores",""))
C27: 44004.896 | D27: =IFERROR(IF(FixtureCalc!C23="-","",IF(OR(FixtureCalc!E23="blank row 1",FixtureCalc!E23="blank row 2"),"","Matchweek "&FixtureCalc!C23)),"") -> Matchweek 2 | E27: =IFERROR(IF(LEN(INDEX(Settings!$D$6:$D$37,MATCH(Fixture!F27,Settings!$C$6:$C$37,0)))=0,"",INDEX(Settings!$D$6:$D$37,MATCH(Fixture!F27,Settings!$C$6:$C$37,0))),"") -> Ben Hill Griffin Stadium | F27: =IFERROR(IF(FixtureCalc!C23="-","",IF(OR(FixtureCalc!E23="blank row 1",FixtureCalc!E23="blank row 2"),"", IF(LEN(INDEX(Settings!$C$6:$C$37,FixtureCalc!E23))=0,"BYE",INDEX(Settings!$C$6:$C$37,FixtureCalc!E23)) )),"") -> Silver Rangers | G27: 2 | I27: 2 | J27: =IFERROR(IF(FixtureCalc!C23="-","",IF(OR(FixtureCalc!F23="blank row 1",FixtureCalc!F23="blank row 2"),"",IF(LEN(INDEX(Settings!$C$6:$C$37,FixtureCalc!F23))=0,"BYE",INDEX(Settings!$C$6:$C$37,FixtureCalc!F23)) )),"") -> Earnest Broncos | L27: =IFERROR(IF(LEN(W27)>0,"←",""),"") | S27: =IFERROR(IF(AND(LEN(F27)>0,LEN(J27)>0),"YES","NO"),"") -> YES | T27: =IFERROR(IF(OR(F27="BYE",J27="BYE"),"YES","NO"),"") -> NO | U27: =IF(OR(LEN(G27)=0,LEN(I27)=0),"NO","YES") -> YES | V27: =IF(LEN(D27)=0,0,COUNTIFS($D$8:$D$1750,D27,$G$8:$G$1750,"<>"&"",$I$8:$I$1750,"<>"&"")) -> 9 | W27: =IF(S27="YES",IF(T27="YES",IF(U27="YES","← Delete the scores",""),IF(AND(U27="NO",V27>0),"← Insert the scores of both teams","")),IF(U27="YES","← Delete the scores",""))
D28: =IFERROR(IF(FixtureCalc!C24="-","",IF(OR(FixtureCalc!E24="blank row 1",FixtureCalc!E24="blank row 2"),"","Matchweek "&FixtureCalc!C24)),"") | E28: =IFERROR(IF(LEN(INDEX(Settings!$D$6:$D$37,MATCH(Fixture!F28,Settings!$C$6:$C$37,0)))=0,"",INDEX(Settings!$D$6:$D$37,MATCH(Fixture!F28,Settings!$C$6:$C$37,0))),"") | F28: =IFERROR(IF(FixtureCalc!C24="-","",IF(OR(FixtureCalc!E24="blank row 1",FixtureCalc!E24="blank row 2"),"", IF(LEN(INDEX(Settings!$C$6:$C$37,FixtureCalc!E24))=0,"BYE",INDEX(Settings!$C$6:$C$37,FixtureCalc!E24)) )),"") | J28: =IFERROR(IF(FixtureCalc!C24="-","",IF(OR(FixtureCalc!F24="blank row 1",FixtureCalc!F24="blank row 2"),"",IF(LEN(INDEX(Settings!$C$6:$C$37,FixtureCalc!F24))=0,"BYE",INDEX(Settings!$C$6:$C$37,FixtureCalc!F24)) )),"") | L28: =IFERROR(IF(LEN(W28)>0,"←",""),"") | S28: =IFERROR(IF(AND(LEN(F28)>0,LEN(J28)>0),"YES","NO"),"") -> NO | T28: =IFERROR(IF(OR(F28="BYE",J28="BYE"),"YES","NO"),"") -> NO | U28: =IF(OR(LEN(G28)=0,LEN(I28)=0),"NO","YES") -> NO | V28: =IF(LEN(D28)=0,0,COUNTIFS($D$8:$D$1750,D28,$G$8:$G$1750,"<>"&"",$I$8:$I$1750,"<>"&"")) -> 0 | W28: =IF(S28="YES",IF(T28="YES",IF(U28="YES","← Delete the scores",""),IF(AND(U28="NO",V28>0),"← Insert the scores of both teams","")),IF(U28="YES","← Delete the scores",""))
D29: =IFERROR(IF(FixtureCalc!C25="-","",IF(OR(FixtureCalc!E25="blank row 1",FixtureCalc!E25="blank row 2"),"","Matchweek "&FixtureCalc!C25)),"") | E29: =IFERROR(IF(LEN(INDEX(Settings!$D$6:$D$37,MATCH(Fixture!F29,Settings!$C$6:$C$37,0)))=0,"",INDEX(Settings!$D$6:$D$37,MATCH(Fixture!F29,Settings!$C$6:$C$37,0))),"") | F29: =IFERROR(IF(FixtureCalc!C25="-","",IF(OR(FixtureCalc!E25="blank row 1",FixtureCalc!E25="blank row 2"),"", IF(LEN(INDEX(Settings!$C$6:$C$37,FixtureCalc!E25))=0,"BYE",INDEX(Settings!$C$6:$C$37,FixtureCalc!E25)) )),"") | J29: =IFERROR(IF(FixtureCalc!C25="-","",IF(OR(FixtureCalc!F25="blank row 1",FixtureCalc!F25="blank row 2"),"",IF(LEN(INDEX(Settings!$C$6:$C$37,FixtureCalc!F25))=0,"BYE",INDEX(Settings!$C$6:$C$37,FixtureCalc!F25)) )),"") | L29: =IFERROR(IF(LEN(W29)>0,"←",""),"") | S29: =IFERROR(IF(AND(LEN(F29)>0,LEN(J29)>0),"YES","NO"),"") -> NO | T29: =IFERROR(IF(OR(F29="BYE",J29="BYE"),"YES","NO"),"") -> NO | U29: =IF(OR(LEN(G29)=0,LEN(I29)=0),"NO","YES") -> NO | V29: =IF(LEN(D29)=0,0,COUNTIFS($D$8:$D$1750,D29,$G$8:$G$1750,"<>"&"",$I$8:$I$1750,"<>"&"")) -> 0 | W29: =IF(S29="YES",IF(T29="YES",IF(U29="YES","← Delete the scores",""),IF(AND(U29="NO",V29>0),"← Insert the scores of both teams","")),IF(U29="YES","← Delete the scores",""))
C30: 44004.823 | D30: =IFERROR(IF(FixtureCalc!C26="-","",IF(OR(FixtureCalc!E26="blank row 1",FixtureCalc!E26="blank row 2"),"","Matchweek "&FixtureCalc!C26)),"") -> Matchweek 3 | E30: =IFERROR(IF(LEN(INDEX(Settings!$D$6:$D$37,MATCH(Fixture!F30,Settings!$C$6:$C$37,0)))=0,"",INDEX(Settings!$D$6:$D$37,MATCH(Fixture!F30,Settings!$C$6:$C$37,0))),"") -> Beaver Stadium | F30: =IFERROR(IF(FixtureCalc!C26="-","",IF(OR(FixtureCalc!E26="blank row 1",FixtureCalc!E26="blank row 2"),"", IF(LEN(INDEX(Settings!$C$6:$C$37,FixtureCalc!E26))=0,"BYE",INDEX(Settings!$C$6:$C$37,FixtureCalc!E26)) )),"") -> Legal Swamp Twisters | G30: 1 | I30: 4 | J30: =IFERROR(IF(FixtureCalc!C26="-","",IF(OR(FixtureCalc!F26="blank row 1",FixtureCalc!F26="blank row 2"),"",IF(LEN(INDEX(Settings!$C$6:$C$37,FixtureCalc!F26))=0,"BYE",INDEX(Settings!$C$6:$C$37,FixtureCalc!F26)) )),"") -> The Classic | L30: =IFERROR(IF(LEN(W30)>0,"←",""),"") | S30: =IFERROR(IF(AND(LEN(F30)>0,LEN(J30)>0),"YES","NO"),"") -> YES | T30: =IFERROR(IF(OR(F30="BYE",J30="BYE"),"YES","NO"),"") -> NO | U30: =IF(OR(LEN(G30)=0,LEN(I30)=0),"NO","YES") -> YES | V30: =IF(LEN(D30)=0,0,COUNTIFS($D$8:$D$1750,D30,$G$8:$G$1750,"<>"&"",$I$8:$I$1750,"<>"&"")) -> 9 | W30: =IF(S30="YES",IF(T30="YES",IF(U30="YES","← Delete the scores",""),IF(AND(U30="NO",V30>0),"← Insert the scores of both teams","")),IF(U30="YES","← Delete the scores",""))
C31: 44004.875 | D31: =IFERROR(IF(FixtureCalc!C27="-","",IF(OR(FixtureCalc!E27="blank row 1",FixtureCalc!E27="blank row 2"),"","Matchweek "&FixtureCalc!C27)),"") -> Matchweek 3 | E31: =IFERROR(IF(LEN(INDEX(Settings!$D$6:$D$37,MATCH(Fixture!F31,Settings!$C$6:$C$37,0)))=0,"",INDEX(Settings!$D$6:$D$37,MATCH(Fixture!F31,Settings!$C$6:$C$37,0))),"") -> Jordan–Hare Stadium | F31: =IFERROR(IF(FixtureCalc!C27="-","",IF(OR(FixtureCalc!E27="blank row 1",FixtureCalc!E27="blank row 2"),"", IF(LEN(INDEX(Settings!$C$6:$C$37,FixtureCalc!E27))=0,"BYE",INDEX(Settings!$C$6:$C$37,FixtureCalc!E27)) )),"") -> Defiant Jesters | G31: 3 | I31: 3 | J31: =IFERROR(IF(FixtureCalc!C27="-","",IF(OR(FixtureCalc!F27="blank row 1",FixtureCalc!F27="blank row 2"),"",IF(LEN(INDEX(Settings!$C$6:$C$37,FixtureCalc!F27))=0,"BYE",INDEX(Settings!$C$6:$C$37,FixtureCalc!F27)) )),"") -> Northern Tan Whackers | L31: =IFERROR(IF(LEN(W31)>0,"←",""),"") | S31: =IFERROR(IF(AND(LEN(F31)>0,LEN(J31)>0),"YES","NO"),"") -> YES | T31: =IFERROR(IF(OR(F31="BYE",J31="BYE"),"YES","NO"),"") -> NO | U31: =IF(OR(LEN(G31)=0,LEN(I31)=0),"NO","YES") -> YES | V31: =IF(LEN(D31)=0,0,COUNTIFS($D$8:$D$1750,D31,$G$8:$G$1750,"<>"&"",$I$8:$I$1750,"<>"&"")) -> 9 | W31: =IF(S31="YES",IF(T31="YES",IF(U31="YES","← Delete the scores",""),IF(AND(U31="NO",V31>0),"← Insert the scores of both teams","")),IF(U31="YES","← Delete the scores",""))
C32: 44004.875 | D32: =IFERROR(IF(FixtureCalc!C28="-","",IF(OR(FixtureCalc!E28="blank row 1",FixtureCalc!E28="blank row 2"),"","Matchweek "&FixtureCalc!C28)),"") -> Matchweek 3 | E32: =IFERROR(IF(LEN(INDEX(Settings!$D$6:$D$37,MATCH(Fixture!F32,Settings!$C$6:$C$37,0)))=0,"",INDEX(Settings!$D$6:$D$37,MATCH(Fixture!F32,Settings!$C$6:$C$37,0))),"") -> Gaylord Family Oklahoma Memorial Stadium | F32: =IFERROR(IF(FixtureCalc!C28="-","",IF(OR(FixtureCalc!E28="blank row 1",FixtureCalc!E28="blank row 2"),"", IF(LEN(INDEX(Settings!$C$6:$C$37,FixtureCalc!E28))=0,"BYE",INDEX(Settings!$C$6:$C$37,FixtureCalc!E28)) )),"") -> Unethical Bison | G32: 2 | I32: 3 | J32: =IFERROR(IF(FixtureCalc!C28="-","",IF(OR(FixtureCalc!F28="blank row 1",FixtureCalc!F28="blank row 2"),"",IF(LEN(INDEX(Settings!$C$6:$C$37,FixtureCalc!F28))=0,"BYE",INDEX(Settings!$C$6:$C$37,FixtureCalc!F28)) )),"") -> The Krakens | L32: =IFERROR(IF(LEN(W32)>0,"←",""),"") | S32: =IFERROR(IF(AND(LEN(F32)>0,LEN(J32)>0),"YES","NO"),"") -> YES | T32: =IFERROR(IF(OR(F32="BYE",J32="BYE"),"YES","NO"),"") -> NO | U32: =IF(OR(LEN(G32)=0,LEN(I32)=0),"NO","YES") -> YES | V32: =IF(LEN(D32)=0,0,COUNTIFS($D$8:$D$1750,D32,$G$8:$G$1750,"<>"&"",$I$8:$I$1750,"<>"&"")) -> 9 | W32: =IF(S32="YES",IF(T32="YES",IF(U32="YES","← Delete the scores",""),IF(AND(U32="NO",V32>0),"← Insert the scores of both teams","")),IF(U32="YES","← Delete the scores",""))
C33: 44004.875 | D33: =IFERROR(IF(FixtureCalc!C29="-","",IF(OR(FixtureCalc!E29="blank row 1",FixtureCalc!E29="blank row 2"),"","Matchweek "&FixtureCalc!C29)),"") -> Matchweek 3 | E33: =IFERROR(IF(LEN(INDEX(Settings!$D$6:$D$37,MATCH(Fixture!F33,Settings!$C$6:$C$37,0)))=0,"",INDEX(Settings!$D$6:$D$37,MATCH(Fixture!F33,Settings!$C$6:$C$37,0))),"") -> Ohio Stadium | F33: =IFERROR(IF(FixtureCalc!C29="-","",IF(OR(FixtureCalc!E29="blank row 1",FixtureCalc!E29="blank row 2"),"", IF(LEN(INDEX(Settings!$C$6:$C$37,FixtureCalc!E29))=0,"BYE",INDEX(Settings!$C$6:$C$37,FixtureCalc!E29)) )),"") -> Ancient Crows | G33: 0 | I33: 2 | J33: =IFERROR(IF(FixtureCalc!C29="-","",IF(OR(FixtureCalc!F29="blank row 1",FixtureCalc!F29="blank row 2"),"",IF(LEN(INDEX(Settings!$C$6:$C$37,FixtureCalc!F29))=0,"BYE",INDEX(Settings!$C$6:$C$37,FixtureCalc!F29)) )),"") -> Mighty Patriots | L33: =IFERROR(IF(LEN(W33)>0,"←",""),"") | S33: =IFERROR(IF(AND(LEN(F33)>0,LEN(J33)>0),"YES","NO"),"") -> YES | T33: =IFERROR(IF(OR(F33="BYE",J33="BYE"),"YES","NO"),"") -> NO | U33: =IF(OR(LEN(G33)=0,LEN(I33)=0),"NO","YES") -> YES | V33: =IF(LEN(D33)=0,0,COUNTIFS($D$8:$D$1750,D33,$G$8:$G$1750,"<>"&"",$I$8:$I$1750,"<>"&"")) -> 9 | W33: =IF(S33="YES",IF(T33="YES",IF(U33="YES","← Delete the scores",""),IF(AND(U33="NO",V33>0),"← Insert the scores of both teams","")),IF(U33="YES","← Delete the scores",""))
C34: 44005.75 | D34: =IFERROR(IF(FixtureCalc!C30="-","",IF(OR(FixtureCalc!E30="blank row 1",FixtureCalc!E30="blank row 2"),"","Matchweek "&FixtureCalc!C30)),"") -> Matchweek 3 | E34: =IFERROR(IF(LEN(INDEX(Settings!$D$6:$D$37,MATCH(Fixture!F34,Settings!$C$6:$C$37,0)))=0,"",INDEX(Settings!$D$6:$D$37,MATCH(Fixture!F34,Settings!$C$6:$C$37,0))),"") -> Kyle Field | F34: =IFERROR(IF(FixtureCalc!C30="-","",IF(OR(FixtureCalc!E30="blank row 1",FixtureCalc!E30="blank row 2"),"", IF(LEN(INDEX(Settings!$C$6:$C$37,FixtureCalc!E30))=0,"BYE",INDEX(Settings!$C$6:$C$37,FixtureCalc!E30)) )),"") -> Wise Panthers | G34: 0 | I34: 0 | J34: =IFERROR(IF(FixtureCalc!C30="-","",IF(OR(FixtureCalc!F30="blank row 1",FixtureCalc!F30="blank row 2"),"",IF(LEN(INDEX(Settings!$C$6:$C$37,FixtureCalc!F30))=0,"BYE",INDEX(Settings!$C$6:$C$37,FixtureCalc!F30)) )),"") -> Final Green Gazelles | L34: =IFERROR(IF(LEN(W34)>0,"←",""),"") | S34: =IFERROR(IF(AND(LEN(F34)>0,LEN(J34)>0),"YES","NO"),"") -> YES | T34: =IFERROR(IF(OR(F34="BYE",J34="BYE"),"YES","NO"),"") -> NO | U34: =IF(OR(LEN(G34)=0,LEN(I34)=0),"NO","YES") -> YES | V34: =IF(LEN(D34)=0,0,COUNTIFS($D$8:$D$1750,D34,$G$8:$G$1750,"<>"&"",$I$8:$I$1750,"<>"&"")) -> 9 | W34: =IF(S34="YES",IF(T34="YES",IF(U34="YES","← Delete the scores",""),IF(AND(U34="NO",V34>0),"← Insert the scores of both teams","")),IF(U34="YES","← Delete the scores",""))
C35: 44005.792 | D35: =IFERROR(IF(FixtureCalc!C31="-","",IF(OR(FixtureCalc!E31="blank row 1",FixtureCalc!E31="blank row 2"),"","Matchweek "&FixtureCalc!C31)),"") -> Matchweek 3 | E35: =IFERROR(IF(LEN(INDEX(Settings!$D$6:$D$37,MATCH(Fixture!F35,Settings!$C$6:$C$37,0)))=0,"",INDEX(Settings!$D$6:$D$37,MATCH(Fixture!F35,Settings!$C$6:$C$37,0))),"") -> Neyland Stadium | F35: =IFERROR(IF(FixtureCalc!C31="-","",IF(OR(FixtureCalc!E31="blank row 1",FixtureCalc!E31="blank row 2"),"", IF(LEN(INDEX(Settings!$C$6:$C$37,FixtureCalc!E31))=0,"BYE",INDEX(Settings!$C$6:$C$37,FixtureCalc!E31)) )),"") -> South Leaders | G35: 4 | I35: 4 | J35: =IFERROR(IF(FixtureCalc!C31="-","",IF(OR(FixtureCalc!F31="blank row 1",FixtureCalc!F31="blank row 2"),"",IF(LEN(INDEX(Settings!$C$6:$C$37,FixtureCalc!F31))=0,"BYE",INDEX(Settings!$C$6:$C$37,FixtureCalc!F31)) )),"") -> Haunting Bottle Rockets | L35: =IFERROR(IF(LEN(W35)>0,"←",""),"") | S35: =IFERROR(IF(AND(LEN(F35)>0,LEN(J35)>0),"YES","NO"),"") -> YES | T35: =IFERROR(IF(OR(F35="BYE",J35="BYE"),"YES","NO"),"") -> NO | U35: =IF(OR(LEN(G35)=0,LEN(I35)=0),"NO","YES") -> YES | V35: =IF(LEN(D35)=0,0,COUNTIFS($D$8:$D$1750,D35,$G$8:$G$1750,"<>"&"",$I$8:$I$1750,"<>"&"")) -> 9 | W35: =IF(S35="YES",IF(T35="YES",IF(U35="YES","← Delete the scores",""),IF(AND(U35="NO",V35>0),"← Insert the scores of both teams","")),IF(U35="YES","← Delete the scores",""))
C36: 44005.896 | D36: =IFERROR(IF(FixtureCalc!C32="-","",IF(OR(FixtureCalc!E32="blank row 1",FixtureCalc!E32="blank row 2"),"","Matchweek "&FixtureCalc!C32)),"") -> Matchweek 3 | E36: =IFERROR(IF(LEN(INDEX(Settings!$D$6:$D$37,MATCH(Fixture!F36,Settings!$C$6:$C$37,0)))=0,"",INDEX(Settings!$D$6:$D$37,MATCH(Fixture!F36,Settings!$C$6:$C$37,0))),"") -> Tiger Stadium | F36: =IFERROR(IF(FixtureCalc!C32="-","",IF(OR(FixtureCalc!E32="blank row 1",FixtureCalc!E32="blank row 2"),"", IF(LEN(INDEX(Settings!$C$6:$C$37,FixtureCalc!E32))=0,"BYE",INDEX(Settings!$C$6:$C$37,FixtureCalc!E32)) )),"") -> Kaptain City | G36: 2 | I36: 4 | J36: =IFERROR(IF(FixtureCalc!C32="-","",IF(OR(FixtureCalc!F32="blank row 1",FixtureCalc!F32="blank row 2"),"",IF(LEN(INDEX(Settings!$C$6:$C$37,FixtureCalc!F32))=0,"BYE",INDEX(Settings!$C$6:$C$37,FixtureCalc!F32)) )),"") -> Red Sirens | L36: =IFERROR(IF(LEN(W36)>0,"←",""),"") | S36: =IFERROR(IF(AND(LEN(F36)>0,LEN(J36)>0),"YES","NO"),"") -> YES | T36: =IFERROR(IF(OR(F36="BYE",J36="BYE"),"YES","NO"),"") -> NO | U36: =IF(OR(LEN(G36)=0,LEN(I36)=0),"NO","YES") -> YES | V36: =IF(LEN(D36)=0,0,COUNTIFS($D$8:$D$1750,D36,$G$8:$G$1750,"<>"&"",$I$8:$I$1750,"<>"&"")) -> 9 | W36: =IF(S36="YES",IF(T36="YES",IF(U36="YES","← Delete the scores",""),IF(AND(U36="NO",V36>0),"← Insert the scores of both teams","")),IF(U36="YES","← Delete the scores",""))
C37: 44005.792 | D37: =IFERROR(IF(FixtureCalc!C33="-","",IF(OR(FixtureCalc!E33="blank row 1",FixtureCalc!E33="blank row 2"),"","Matchweek "&FixtureCalc!C33)),"") -> Matchweek 3 | E37: =IFERROR(IF(LEN(INDEX(Settings!$D$6:$D$37,MATCH(Fixture!F37,Settings!$C$6:$C$37,0)))=0,"",INDEX(Settings!$D$6:$D$37,MATCH(Fixture!F37,Settings!$C$6:$C$37,0))),"") -> Bryant–Denny Stadium | F37: =IFERROR(IF(FixtureCalc!C33="-","",IF(OR(FixtureCalc!E33="blank row 1",FixtureCalc!E33="blank row 2"),"", IF(LEN(INDEX(Settings!$C$6:$C$37,FixtureCalc!E33))=0,"BYE",INDEX(Settings!$C$6:$C$37,FixtureCalc!E33)) )),"") -> Delta Blazers | G37: 3 | I37: 3 | J37: =IFERROR(IF(FixtureCalc!C33="-","",IF(OR(FixtureCalc!F33="blank row 1",FixtureCalc!F33="blank row 2"),"",IF(LEN(INDEX(Settings!$C$6:$C$37,FixtureCalc!F33))=0,"BYE",INDEX(Settings!$C$6:$C$37,FixtureCalc!F33)) )),"") -> Earnest Broncos | L37: =IFERROR(IF(LEN(W37)>0,"←",""),"") | S37: =IFERROR(IF(AND(LEN(F37)>0,LEN(J37)>0),"YES","NO"),"") -> YES | T37: =IFERROR(IF(OR(F37="BYE",J37="BYE"),"YES","NO"),"") -> NO | U37: =IF(OR(LEN(G37)=0,LEN(I37)=0),"NO","YES") -> YES | V37: =IF(LEN(D37)=0,0,COUNTIFS($D$8:$D$1750,D37,$G$8:$G$1750,"<>"&"",$I$8:$I$1750,"<>"&"")) -> 9 | W37: =IF(S37="YES",IF(T37="YES",IF(U37="YES","← Delete the scores",""),IF(AND(U37="NO",V37>0),"← Insert the scores of both teams","")),IF(U37="YES","← Delete the scores",""))
C38: 44005.896 | D38: =IFERROR(IF(FixtureCalc!C34="-","",IF(OR(FixtureCalc!E34="blank row 1",FixtureCalc!E34="blank row 2"),"","Matchweek "&FixtureCalc!C34)),"") -> Matchweek 3 | E38: =IFERROR(IF(LEN(INDEX(Settings!$D$6:$D$37,MATCH(Fixture!F38,Settings!$C$6:$C$37,0)))=0,"",INDEX(Settings!$D$6:$D$37,MATCH(Fixture!F38,Settings!$C$6:$C$37,0))),"") -> Darrell K Royal–Texas Memorial Stadium | F38: =IFERROR(IF(FixtureCalc!C34="-","",IF(OR(FixtureCalc!E34="blank row 1",FixtureCalc!E34="blank row 2"),"", IF(LEN(INDEX(Settings!$C$6:$C$37,FixtureCalc!E34))=0,"BYE",INDEX(Settings!$C$6:$C$37,FixtureCalc!E34)) )),"") -> Real Revolution | G38: 4 | I38: 2 | J38: =IFERROR(IF(FixtureCalc!C34="-","",IF(OR(FixtureCalc!F34="blank row 1",FixtureCalc!F34="blank row 2"),"",IF(LEN(INDEX(Settings!$C$6:$C$37,FixtureCalc!F34))=0,"BYE",INDEX(Settings!$C$6:$C$37,FixtureCalc!F34)) )),"") -> Silver Rangers | L38: =IFERROR(IF(LEN(W38)>0,"←",""),"") | S38: =IFERROR(IF(AND(LEN(F38)>0,LEN(J38)>0),"YES","NO"),"") -> YES | T38: =IFERROR(IF(OR(F38="BYE",J38="BYE"),"YES","NO"),"") -> NO | U38: =IF(OR(LEN(G38)=0,LEN(I38)=0),"NO","YES") -> YES | V38: =IF(LEN(D38)=0,0,COUNTIFS($D$8:$D$1750,D38,$G$8:$G$1750,"<>"&"",$I$8:$I$1750,"<>"&"")) -> 9 | W38: =IF(S38="YES",IF(T38="YES",IF(U38="YES","← Delete the scores",""),IF(AND(U38="NO",V38>0),"← Insert the scores of both teams","")),IF(U38="YES","← Delete the scores",""))
D39: =IFERROR(IF(FixtureCalc!C35="-","",IF(OR(FixtureCalc!E35="blank row 1",FixtureCalc!E35="blank row 2"),"","Matchweek "&FixtureCalc!C35)),"") | E39: =IFERROR(IF(LEN(INDEX(Settings!$D$6:$D$37,MATCH(Fixture!F39,Settings!$C$6:$C$37,0)))=0,"",INDEX(Settings!$D$6:$D$37,MATCH(Fixture!F39,Settings!$C$6:$C$37,0))),"") | F39: =IFERROR(IF(FixtureCalc!C35="-","",IF(OR(FixtureCalc!E35="blank row 1",FixtureCalc!E35="blank row 2"),"", IF(LEN(INDEX(Settings!$C$6:$C$37,FixtureCalc!E35))=0,"BYE",INDEX(Settings!$C$6:$C$37,FixtureCalc!E35)) )),"") | J39: =IFERROR(IF(FixtureCalc!C35="-","",IF(OR(FixtureCalc!F35="blank row 1",FixtureCalc!F35="blank row 2"),"",IF(LEN(INDEX(Settings!$C$6:$C$37,FixtureCalc!F35))=0,"BYE",INDEX(Settings!$C$6:$C$37,FixtureCalc!F35)) )),"") | L39: =IFERROR(IF(LEN(W39)>0,"←",""),"") | S39: =IFERROR(IF(AND(LEN(F39)>0,LEN(J39)>0),"YES","NO"),"") -> NO | T39: =IFERROR(IF(OR(F39="BYE",J39="BYE"),"YES","NO"),"") -> NO | U39: =IF(OR(LEN(G39)=0,LEN(I39)=0),"NO","YES") -> NO | V39: =IF(LEN(D39)=0,0,COUNTIFS($D$8:$D$1750,D39,$G$8:$G$1750,"<>"&"",$I$8:$I$1750,"<>"&"")) -> 0 | W39: =IF(S39="YES",IF(T39="YES",IF(U39="YES","← Delete the scores",""),IF(AND(U39="NO",V39>0),"← Insert the scores of both teams","")),IF(U39="YES","← Delete the scores",""))
D40: =IFERROR(IF(FixtureCalc!C36="-","",IF(OR(FixtureCalc!E36="blank row 1",FixtureCalc!E36="blank row 2"),"","Matchweek "&FixtureCalc!C36)),"") | E40: =IFERROR(IF(LEN(INDEX(Settings!$D$6:$D$37,MATCH(Fixture!F40,Settings!$C$6:$C$37,0)))=0,"",INDEX(Settings!$D$6:$D$37,MATCH(Fixture!F40,Settings!$C$6:$C$37,0))),"") | F40: =IFERROR(IF(FixtureCalc!C36="-","",IF(OR(FixtureCalc!E36="blank row 1",FixtureCalc!E36="blank row 2"),"", IF(LEN(INDEX(Settings!$C$6:$C$37,FixtureCalc!E36))=0,"BYE",INDEX(Settings!$C$6:$C$37,FixtureCalc!E36)) )),"") | J40: =IFERROR(IF(FixtureCalc!C36="-","",IF(OR(FixtureCalc!F36="blank row 1",FixtureCalc!F36="blank row 2"),"",IF(LEN(INDEX(Settings!$C$6:$C$37,FixtureCalc!F36))=0,"BYE",INDEX(Settings!$C$6:$C$37,FixtureCalc!F36)) )),"") | L40: =IFERROR(IF(LEN(W40)>0,"←",""),"") | S40: =IFERROR(IF(AND(LEN(F40)>0,LEN(J40)>0),"YES","NO"),"") -> NO | T40: =IFERROR(IF(OR(F40="BYE",J40="BYE"),"YES","NO"),"") -> NO | U40: =IF(OR(LEN(G40)=0,LEN(I40)=0),"NO","YES") -> NO | V40: =IF(LEN(D40)=0,0,COUNTIFS($D$8:$D$1750,D40,$G$8:$G$1750,"<>"&"",$I$8:$I$1750,"<>"&"")) -> 0 | W40: =IF(S40="YES",IF(T40="YES",IF(U40="YES","← Delete the scores",""),IF(AND(U40="NO",V40>0),"← Insert the scores of both teams","")),IF(U40="YES","← Delete the scores",""))
C41: 44005.823 | D41: =IFERROR(IF(FixtureCalc!C37="-","",IF(OR(FixtureCalc!E37="blank row 1",FixtureCalc!E37="blank row 2"),"","Matchweek "&FixtureCalc!C37)),"") -> Matchweek 4 | E41: =IFERROR(IF(LEN(INDEX(Settings!$D$6:$D$37,MATCH(Fixture!F41,Settings!$C$6:$C$37,0)))=0,"",INDEX(Settings!$D$6:$D$37,MATCH(Fixture!F41,Settings!$C$6:$C$37,0))),"") -> Beaver Stadium | F41: =IFERROR(IF(FixtureCalc!C37="-","",IF(OR(FixtureCalc!E37="blank row 1",FixtureCalc!E37="blank row 2"),"", IF(LEN(INDEX(Settings!$C$6:$C$37,FixtureCalc!E37))=0,"BYE",INDEX(Settings!$C$6:$C$37,FixtureCalc!E37)) )),"") -> Legal Swamp Twisters | G41: 0 | I41: 2 | J41: =IFERROR(IF(FixtureCalc!C37="-","",IF(OR(FixtureCalc!F37="blank row 1",FixtureCalc!F37="blank row 2"),"",IF(LEN(INDEX(Settings!$C$6:$C$37,FixtureCalc!F37))=0,"BYE",INDEX(Settings!$C$6:$C$37,FixtureCalc!F37)) )),"") -> Northern Tan Whackers | L41: =IFERROR(IF(LEN(W41)>0,"←",""),"") | S41: =IFERROR(IF(AND(LEN(F41)>0,LEN(J41)>0),"YES","NO"),"") -> YES | T41: =IFERROR(IF(OR(F41="BYE",J41="BYE"),"YES","NO"),"") -> NO | U41: =IF(OR(LEN(G41)=0,LEN(I41)=0),"NO","YES") -> YES | V41: =IF(LEN(D41)=0,0,COUNTIFS($D$8:$D$1750,D41,$G$8:$G$1750,"<>"&"",$I$8:$I$1750,"<>"&"")) -> 9 | W41: =IF(S41="YES",IF(T41="YES",IF(U41="YES","← Delete the scores",""),IF(AND(U41="NO",V41>0),"← Insert the scores of both teams","")),IF(U41="YES","← Delete the scores",""))
C42: 44005.875 | D42: =IFERROR(IF(FixtureCalc!C38="-","",IF(OR(FixtureCalc!E38="blank row 1",FixtureCalc!E38="blank row 2"),"","Matchweek "&FixtureCalc!C38)),"") -> Matchweek 4 | E42: =IFERROR(IF(LEN(INDEX(Settings!$D$6:$D$37,MATCH(Fixture!F42,Settings!$C$6:$C$37,0)))=0,"",INDEX(Settings!$D$6:$D$37,MATCH(Fixture!F42,Settings!$C$6:$C$37,0))),"") -> Ben Hill Griffin Stadium | F42: =IFERROR(IF(FixtureCalc!C38="-","",IF(OR(FixtureCalc!E38="blank row 1",FixtureCalc!E38="blank row 2"),"", IF(LEN(INDEX(Settings!$C$6:$C$37,FixtureCalc!E38))=0,"BYE",INDEX(Settings!$C$6:$C$37,FixtureCalc!E38)) )),"") -> The Classic | G42: 3 | I42: 1 | J42: =IFERROR(IF(FixtureCalc!C38="-","",IF(OR(FixtureCalc!F38="blank row 1",FixtureCalc!F38="blank row 2"),"",IF(LEN(INDEX(Settings!$C$6:$C$37,FixtureCalc!F38))=0,"BYE",INDEX(Settings!$C$6:$C$37,FixtureCalc!F38)) )),"") -> The Krakens | L42: =IFERROR(IF(LEN(W42)>0,"←",""),"") | S42: =IFERROR(IF(AND(LEN(F42)>0,LEN(J42)>0),"YES","NO"),"") -> YES | T42: =IFERROR(IF(OR(F42="BYE",J42="BYE"),"YES","NO"),"") -> NO | U42: =IF(OR(LEN(G42)=0,LEN(I42)=0),"NO","YES") -> YES | V42: =IF(LEN(D42)=0,0,COUNTIFS($D$8:$D$1750,D42,$G$8:$G$1750,"<>"&"",$I$8:$I$1750,"<>"&"")) -> 9 | W42: =IF(S42="YES",IF(T42="YES",IF(U42="YES","← Delete the scores",""),IF(AND(U42="NO",V42>0),"← Insert the scores of both teams","")),IF(U42="YES","← Delete the scores",""))
C43: 44005.875 | D43: =IFERROR(IF(FixtureCalc!C39="-","",IF(OR(FixtureCalc!E39="blank row 1",FixtureCalc!E39="blank row 2"),"","Matchweek "&FixtureCalc!C39)),"") -> Matchweek 4 | E43: =IFERROR(IF(LEN(INDEX(Settings!$D$6:$D$37,MATCH(Fixture!F43,Settings!$C$6:$C$37,0)))=0,"",INDEX(Settings!$D$6:$D$37,MATCH(Fixture!F43,Settings!$C$6:$C$37,0))),"") -> Jordan–Hare Stadium | F43: =IFERROR(IF(FixtureCalc!C39="-","",IF(OR(FixtureCalc!E39="blank row 1",FixtureCalc!E39="blank row 2"),"", IF(LEN(INDEX(Settings!$C$6:$C$37,FixtureCalc!E39))=0,"BYE",INDEX(Settings!$C$6:$C$37,FixtureCalc!E39)) )),"") -> Defiant Jesters | G43: 3 | I43: 3 | J43: =IFERROR(IF(FixtureCalc!C39="-","",IF(OR(FixtureCalc!F39="blank row 1",FixtureCalc!F39="blank row 2"),"",IF(LEN(INDEX(Settings!$C$6:$C$37,FixtureCalc!F39))=0,"BYE",INDEX(Settings!$C$6:$C$37,FixtureCalc!F39)) )),"") -> Mighty Patriots | L43: =IFERROR(IF(LEN(W43)>0,"←",""),"") | S43: =IFERROR(IF(AND(LEN(F43)>0,LEN(J43)>0),"YES","NO"),"") -> YES | T43: =IFERROR(IF(OR(F43="BYE",J43="BYE"),"YES","NO"),"") -> NO | U43: =IF(OR(LEN(G43)=0,LEN(I43)=0),"NO","YES") -> YES | V43: =IF(LEN(D43)=0,0,COUNTIFS($D$8:$D$1750,D43,$G$8:$G$1750,"<>"&"",$I$8:$I$1750,"<>"&"")) -> 9 | W43: =IF(S43="YES",IF(T43="YES",IF(U43="YES","← Delete the scores",""),IF(AND(U43="NO",V43>0),"← Insert the scores of both teams","")),IF(U43="YES","← Delete the scores",""))
C44: 44005.875 | D44: =IFERROR(IF(FixtureCalc!C40="-","",IF(OR(FixtureCalc!E40="blank row 1",FixtureCalc!E40="blank row 2"),"","Matchweek "&FixtureCalc!C40)),"") -> Matchweek 4 | E44: =IFERROR(IF(LEN(INDEX(Settings!$D$6:$D$37,MATCH(Fixture!F44,Settings!$C$6:$C$37,0)))=0,"",INDEX(Settings!$D$6:$D$37,MATCH(Fixture!F44,Settings!$C$6:$C$37,0))),"") -> Gaylord Family Oklahoma Memorial Stadium | F44: =IFERROR(IF(FixtureCalc!C40="-","",IF(OR(FixtureCalc!E40="blank row 1",FixtureCalc!E40="blank row 2"),"", IF(LEN(INDEX(Settings!$C$6:$C$37,FixtureCalc!E40))=0,"BYE",INDEX(Settings!$C$6:$C$37,FixtureCalc!E40)) )),"") -> Unethical Bison | G44: 1 | I44: 0 | J44: =IFERROR(IF(FixtureCalc!C40="-","",IF(OR(FixtureCalc!F40="blank row 1",FixtureCalc!F40="blank row 2"),"",IF(LEN(INDEX(Settings!$C$6:$C$37,FixtureCalc!F40))=0,"BYE",INDEX(Settings!$C$6:$C$37,FixtureCalc!F40)) )),"") -> Final Green Gazelles | L44: =IFERROR(IF(LEN(W44)>0,"←",""),"") | S44: =IFERROR(IF(AND(LEN(F44)>0,LEN(J44)>0),"YES","NO"),"") -> YES | T44: =IFERROR(IF(OR(F44="BYE",J44="BYE"),"YES","NO"),"") -> NO | U44: =IF(OR(LEN(G44)=0,LEN(I44)=0),"NO","YES") -> YES | V44: =IF(LEN(D44)=0,0,COUNTIFS($D$8:$D$1750,D44,$G$8:$G$1750,"<>"&"",$I$8:$I$1750,"<>"&"")) -> 9 | W44: =IF(S44="YES",IF(T44="YES",IF(U44="YES","← Delete the scores",""),IF(AND(U44="NO",V44>0),"← Insert the scores of both teams","")),IF(U44="YES","← Delete the scores",""))
C45: 44006.75 | D45: =IFERROR(IF(FixtureCalc!C41="-","",IF(OR(FixtureCalc!E41="blank row 1",FixtureCalc!E41="blank row 2"),"","Matchweek "&FixtureCalc!C41)),"") -> Matchweek 4 | E45: =IFERROR(IF(LEN(INDEX(Settings!$D$6:$D$37,MATCH(Fixture!F45,Settings!$C$6:$C$37,0)))=0,"",INDEX(Settings!$D$6:$D$37,MATCH(Fixture!F45,Settings!$C$6:$C$37,0))),"") -> Ohio Stadium | F45: =IFERROR(IF(FixtureCalc!C41="-","",IF(OR(FixtureCalc!E41="blank row 1",FixtureCalc!E41="blank row 2"),"", IF(LEN(INDEX(Settings!$C$6:$C$37,FixtureCalc!E41))=0,"BYE",INDEX(Settings!$C$6:$C$37,FixtureCalc!E41)) )),"") -> Ancient Crows | G45: 1 | I45: 3 | J45: =IFERROR(IF(FixtureCalc!C41="-","",IF(OR(FixtureCalc!F41="blank row 1",FixtureCalc!F41="blank row 2"),"",IF(LEN(INDEX(Settings!$C$6:$C$37,FixtureCalc!F41))=0,"BYE",INDEX(Settings!$C$6:$C$37,FixtureCalc!F41)) )),"") -> Haunting Bottle Rockets | L45: =IFERROR(IF(LEN(W45)>0,"←",""),"") | S45: =IFERROR(IF(AND(LEN(F45)>0,LEN(J45)>0),"YES","NO"),"") -> YES | T45: =IFERROR(IF(OR(F45="BYE",J45="BYE"),"YES","NO"),"") -> NO | U45: =IF(OR(LEN(G45)=0,LEN(I45)=0),"NO","YES") -> YES | V45: =IF(LEN(D45)=0,0,COUNTIFS($D$8:$D$1750,D45,$G$8:$G$1750,"<>"&"",$I$8:$I$1750,"<>"&"")) -> 9 | W45: =IF(S45="YES",IF(T45="YES",IF(U45="YES","← Delete the scores",""),IF(AND(U45="NO",V45>0),"← Insert the scores of both teams","")),IF(U45="YES","← Delete the scores",""))
C46: 44006.792 | D46: =IFERROR(IF(FixtureCalc!C42="-","",IF(OR(FixtureCalc!E42="blank row 1",FixtureCalc!E42="blank row 2"),"","Matchweek "&FixtureCalc!C42)),"") -> Matchweek 4 | E46: =IFERROR(IF(LEN(INDEX(Settings!$D$6:$D$37,MATCH(Fixture!F46,Settings!$C$6:$C$37,0)))=0,"",INDEX(Settings!$D$6:$D$37,MATCH(Fixture!F46,Settings!$C$6:$C$37,0))),"") -> Kyle Field | F46: =IFERROR(IF(FixtureCalc!C42="-","",IF(OR(FixtureCalc!E42="blank row 1",FixtureCalc!E42="blank row 2"),"", IF(LEN(INDEX(Settings!$C$6:$C$37,FixtureCalc!E42))=0,"BYE",INDEX(Settings!$C$6:$C$37,FixtureCalc!E42)) )),"") -> Wise Panthers | G46: 4 | I46: 3 | J46: =IFERROR(IF(FixtureCalc!C42="-","",IF(OR(FixtureCalc!F42="blank row 1",FixtureCalc!F42="blank row 2"),"",IF(LEN(INDEX(Settings!$C$6:$C$37,FixtureCalc!F42))=0,"BYE",INDEX(Settings!$C$6:$C$37,FixtureCalc!F42)) )),"") -> Red Sirens | L46: =IFERROR(IF(LEN(W46)>0,"←",""),"") | S46: =IFERROR(IF(AND(LEN(F46)>0,LEN(J46)>0),"YES","NO"),"") -> YES | T46: =IFERROR(IF(OR(F46="BYE",J46="BYE"),"YES","NO"),"") -> NO | U46: =IF(OR(LEN(G46)=0,LEN(I46)=0),"NO","YES") -> YES | V46: =IF(LEN(D46)=0,0,COUNTIFS($D$8:$D$1750,D46,$G$8:$G$1750,"<>"&"",$I$8:$I$1750,"<>"&"")) -> 9 | W46: =IF(S46="YES",IF(T46="YES",IF(U46="YES","← Delete the scores",""),IF(AND(U46="NO",V46>0),"← Insert the scores of both teams","")),IF(U46="YES","← Delete the scores",""))
C47: 44006.896 | D47: =IFERROR(IF(FixtureCalc!C43="-","",IF(OR(FixtureCalc!E43="blank row 1",FixtureCalc!E43="blank row 2"),"","Matchweek "&FixtureCalc!C43)),"") -> Matchweek 4 | E47: =IFERROR(IF(LEN(INDEX(Settings!$D$6:$D$37,MATCH(Fixture!F47,Settings!$C$6:$C$37,0)))=0,"",INDEX(Settings!$D$6:$D$37,MATCH(Fixture!F47,Settings!$C$6:$C$37,0))),"") -> Neyland Stadium | F47: =IFERROR(IF(FixtureCalc!C43="-","",IF(OR(FixtureCalc!E43="blank row 1",FixtureCalc!E43="blank row 2"),"", IF(LEN(INDEX(Settings!$C$6:$C$37,FixtureCalc!E43))=0,"BYE",INDEX(Settings!$C$6:$C$37,FixtureCalc!E43)) )),"") -> South Leaders | G47: 2 | I47: 2 | J47: =IFERROR(IF(FixtureCalc!C43="-","",IF(OR(FixtureCalc!F43="blank row 1",FixtureCalc!F43="blank row 2"),"",IF(LEN(INDEX(Settings!$C$6:$C$37,FixtureCalc!F43))=0,"BYE",INDEX(Settings!$C$6:$C$37,FixtureCalc!F43)) )),"") -> Earnest Broncos | L47: =IFERROR(IF(LEN(W47)>0,"←",""),"") | S47: =IFERROR(IF(AND(LEN(F47)>0,LEN(J47)>0),"YES","NO"),"") -> YES | T47: =IFERROR(IF(OR(F47="BYE",J47="BYE"),"YES","NO"),"") -> NO | U47: =IF(OR(LEN(G47)=0,LEN(I47)=0),"NO","YES") -> YES | V47: =IF(LEN(D47)=0,0,COUNTIFS($D$8:$D$1750,D47,$G$8:$G$1750,"<>"&"",$I$8:$I$1750,"<>"&"")) -> 9 | W47: =IF(S47="YES",IF(T47="YES",IF(U47="YES","← Delete the scores",""),IF(AND(U47="NO",V47>0),"← Insert the scores of both teams","")),IF(U47="YES","← Delete the scores",""))
C48: 44006.792 | D48: =IFERROR(IF(FixtureCalc!C44="-","",IF(OR(FixtureCalc!E44="blank row 1",FixtureCalc!E44="blank row 2"),"","Matchweek "&FixtureCalc!C44)),"") -> Matchweek 4 | E48: =IFERROR(IF(LEN(INDEX(Settings!$D$6:$D$37,MATCH(Fixture!F48,Settings!$C$6:$C$37,0)))=0,"",INDEX(Settings!$D$6:$D$37,MATCH(Fixture!F48,Settings!$C$6:$C$37,0))),"") -> Tiger Stadium | F48: =IFERROR(IF(FixtureCalc!C44="-","",IF(OR(FixtureCalc!E44="blank row 1",FixtureCalc!E44="blank row 2"),"", IF(LEN(INDEX(Settings!$C$6:$C$37,FixtureCalc!E44))=0,"BYE",INDEX(Settings!$C$6:$C$37,FixtureCalc!E44)) )),"") -> Kaptain City | G48: 4 | I48: 0 | J48: =IFERROR(IF(FixtureCalc!C44="-","",IF(OR(FixtureCalc!F44="blank row 1",FixtureCalc!F44="blank row 2"),"",IF(LEN(INDEX(Settings!$C$6:$C$37,FixtureCalc!F44))=0,"BYE",INDEX(Settings!$C$6:$C$37,FixtureCalc!F44)) )),"") -> Silver Rangers | L48: =IFERROR(IF(LEN(W48)>0,"←",""),"") | S48: =IFERROR(IF(AND(LEN(F48)>0,LEN(J48)>0),"YES","NO"),"") -> YES | T48: =IFERROR(IF(OR(F48="BYE",J48="BYE"),"YES","NO"),"") -> NO | U48: =IF(OR(LEN(G48)=0,LEN(I48)=0),"NO","YES") -> YES | V48: =IF(LEN(D48)=0,0,COUNTIFS($D$8:$D$1750,D48,$G$8:$G$1750,"<>"&"",$I$8:$I$1750,"<>"&"")) -> 9 | W48: =IF(S48="YES",IF(T48="YES",IF(U48="YES","← Delete the scores",""),IF(AND(U48="NO",V48>0),"← Insert the scores of both teams","")),IF(U48="YES","← Delete the scores",""))
C49: 44006.896 | D49: =IFERROR(IF(FixtureCalc!C45="-","",IF(OR(FixtureCalc!E45="blank row 1",FixtureCalc!E45="blank row 2"),"","Matchweek "&FixtureCalc!C45)),"") -> Matchweek 4 | E49: =IFERROR(IF(LEN(INDEX(Settings!$D$6:$D$37,MATCH(Fixture!F49,Settings!$C$6:$C$37,0)))=0,"",INDEX(Settings!$D$6:$D$37,MATCH(Fixture!F49,Settings!$C$6:$C$37,0))),"") -> Bryant–Denny Stadium | F49: =IFERROR(IF(FixtureCalc!C45="-","",IF(OR(FixtureCalc!E45="blank row 1",FixtureCalc!E45="blank row 2"),"", IF(LEN(INDEX(Settings!$C$6:$C$37,FixtureCalc!E45))=0,"BYE",INDEX(Settings!$C$6:$C$37,FixtureCalc!E45)) )),"") -> Delta Blazers | G49: 4 | I49: 3 | J49: =IFERROR(IF(FixtureCalc!C45="-","",IF(OR(FixtureCalc!F45="blank row 1",FixtureCalc!F45="blank row 2"),"",IF(LEN(INDEX(Settings!$C$6:$C$37,FixtureCalc!F45))=0,"BYE",INDEX(Settings!$C$6:$C$37,FixtureCalc!F45)) )),"") -> Real Revolution | L49: =IFERROR(IF(LEN(W49)>0,"←",""),"") | S49: =IFERROR(IF(AND(LEN(F49)>0,LEN(J49)>0),"YES","NO"),"") -> YES | T49: =IFERROR(IF(OR(F49="BYE",J49="BYE"),"YES","NO"),"") -> NO | U49: =IF(OR(LEN(G49)=0,LEN(I49)=0),"NO","YES") -> YES | V49: =IF(LEN(D49)=0,0,COUNTIFS($D$8:$D$1750,D49,$G$8:$G$1750,"<>"&"",$I$8:$I$1750,"<>"&"")) -> 9 | W49: =IF(S49="YES",IF(T49="YES",IF(U49="YES","← Delete the scores",""),IF(AND(U49="NO",V49>0),"← Insert the scores of both teams","")),IF(U49="YES","← Delete the scores",""))
D50: =IFERROR(IF(FixtureCalc!C46="-","",IF(OR(FixtureCalc!E46="blank row 1",FixtureCalc!E46="blank row 2"),"","Matchweek "&FixtureCalc!C46)),"") | E50: =IFERROR(IF(LEN(INDEX(Settings!$D$6:$D$37,MATCH(Fixture!F50,Settings!$C$6:$C$37,0)))=0,"",INDEX(Settings!$D$6:$D$37,MATCH(Fixture!F50,Settings!$C$6:$C$37,0))),"") | F50: =IFERROR(IF(FixtureCalc!C46="-","",IF(OR(FixtureCalc!E46="blank row 1",FixtureCalc!E46="blank row 2"),"", IF(LEN(INDEX(Settings!$C$6:$C$37,FixtureCalc!E46))=0,"BYE",INDEX(Settings!$C$6:$C$37,FixtureCalc!E46)) )),"") | J50: =IFERROR(IF(FixtureCalc!C46="-","",IF(OR(FixtureCalc!F46="blank row 1",FixtureCalc!F46="blank row 2"),"",IF(LEN(INDEX(Settings!$C$6:$C$37,FixtureCalc!F46))=0,"BYE",INDEX(Settings!$C$6:$C$37,FixtureCalc!F46)) )),"") | L50: =IFERROR(IF(LEN(W50)>0,"←",""),"") | S50: =IFERROR(IF(AND(LEN(F50)>0,LEN(J50)>0),"YES","NO"),"") -> NO | T50: =IFERROR(IF(OR(F50="BYE",J50="BYE"),"YES","NO"),"") -> NO | U50: =IF(OR(LEN(G50)=0,LEN(I50)=0),"NO","YES") -> NO | V50: =IF(LEN(D50)=0,0,COUNTIFS($D$8:$D$1750,D50,$G$8:$G$1750,"<>"&"",$I$8:$I$1750,"<>"&"")) -> 0 | W50: =IF(S50="YES",IF(T50="YES",IF(U50="YES","← Delete the scores",""),IF(AND(U50="NO",V50>0),"← Insert the scores of both teams","")),IF(U50="YES","← Delete the scores",""))
D51: =IFERROR(IF(FixtureCalc!C47="-","",IF(OR(FixtureCalc!E47="blank row 1",FixtureCalc!E47="blank row 2"),"","Matchweek "&FixtureCalc!C47)),"") | E51: =IFERROR(IF(LEN(INDEX(Settings!$D$6:$D$37,MATCH(Fixture!F51,Settings!$C$6:$C$37,0)))=0,"",INDEX(Settings!$D$6:$D$37,MATCH(Fixture!F51,Settings!$C$6:$C$37,0))),"") | F51: =IFERROR(IF(FixtureCalc!C47="-","",IF(OR(FixtureCalc!E47="blank row 1",FixtureCalc!E47="blank row 2"),"", IF(LEN(INDEX(Settings!$C$6:$C$37,FixtureCalc!E47))=0,"BYE",INDEX(Settings!$C$6:$C$37,FixtureCalc!E47)) )),"") | J51: =IFERROR(IF(FixtureCalc!C47="-","",IF(OR(FixtureCalc!F47="blank row 1",FixtureCalc!F47="blank row 2"),"",IF(LEN(INDEX(Settings!$C$6:$C$37,FixtureCalc!F47))=0,"BYE",INDEX(Settings!$C$6:$C$37,FixtureCalc!F47)) )),"") | L51: =IFERROR(IF(LEN(W51)>0,"←",""),"") | S51: =IFERROR(IF(AND(LEN(F51)>0,LEN(J51)>0),"YES","NO"),"") -> NO | T51: =IFERROR(IF(OR(F51="BYE",J51="BYE"),"YES","NO"),"") -> NO | U51: =IF(OR(LEN(G51)=0,LEN(I51)=0),"NO","YES") -> NO | V51: =IF(LEN(D51)=0,0,COUNTIFS($D$8:$D$1750,D51,$G$8:$G$1750,"<>"&"",$I$8:$I$1750,"<>"&"")) -> 0 | W51: =IF(S51="YES",IF(T51="YES",IF(U51="YES","← Delete the scores",""),IF(AND(U51="NO",V51>0),"← Insert the scores of both teams","")),IF(U51="YES","← Delete the scores",""))
C52: 44006.823 | D52: =IFERROR(IF(FixtureCalc!C48="-","",IF(OR(FixtureCalc!E48="blank row 1",FixtureCalc!E48="blank row 2"),"","Matchweek "&FixtureCalc!C48)),"") -> Matchweek 5 | E52: =IFERROR(IF(LEN(INDEX(Settings!$D$6:$D$37,MATCH(Fixture!F52,Settings!$C$6:$C$37,0)))=0,"",INDEX(Settings!$D$6:$D$37,MATCH(Fixture!F52,Settings!$C$6:$C$37,0))),"") -> Beaver Stadium | F52: =IFERROR(IF(FixtureCalc!C48="-","",IF(OR(FixtureCalc!E48="blank row 1",FixtureCalc!E48="blank row 2"),"", IF(LEN(INDEX(Settings!$C$6:$C$37,FixtureCalc!E48))=0,"BYE",INDEX(Settings!$C$6:$C$37,FixtureCalc!E48)) )),"") -> Legal Swamp Twisters | G52: 4 | I52: 4 | J52: =IFERROR(IF(FixtureCalc!C48="-","",IF(OR(FixtureCalc!F48="blank row 1",FixtureCalc!F48="blank row 2"),"",IF(LEN(INDEX(Settings!$C$6:$C$37,FixtureCalc!F48))=0,"BYE",INDEX(Settings!$C$6:$C$37,FixtureCalc!F48)) )),"") -> The Krakens | L52: =IFERROR(IF(LEN(W52)>0,"←",""),"") | S52: =IFERROR(IF(AND(LEN(F52)>0,LEN(J52)>0),"YES","NO"),"") -> YES | T52: =IFERROR(IF(OR(F52="BYE",J52="BYE"),"YES","NO"),"") -> NO | U52: =IF(OR(LEN(G52)=0,LEN(I52)=0),"NO","YES") -> YES | V52: =IF(LEN(D52)=0,0,COUNTIFS($D$8:$D$1750,D52,$G$8:$G$1750,"<>"&"",$I$8:$I$1750,"<>"&"")) -> 9 | W52: =IF(S52="YES",IF(T52="YES",IF(U52="YES","← Delete the scores",""),IF(AND(U52="NO",V52>0),"← Insert the scores of both teams","")),IF(U52="YES","← Delete the scores",""))
C53: 44006.875 | D53: =IFERROR(IF(FixtureCalc!C49="-","",IF(OR(FixtureCalc!E49="blank row 1",FixtureCalc!E49="blank row 2"),"","Matchweek "&FixtureCalc!C49)),"") -> Matchweek 5 | E53: =IFERROR(IF(LEN(INDEX(Settings!$D$6:$D$37,MATCH(Fixture!F53,Settings!$C$6:$C$37,0)))=0,"",INDEX(Settings!$D$6:$D$37,MATCH(Fixture!F53,Settings!$C$6:$C$37,0))),"") -> Darrell K Royal–Texas Memorial Stadium | F53: =IFERROR(IF(FixtureCalc!C49="-","",IF(OR(FixtureCalc!E49="blank row 1",FixtureCalc!E49="blank row 2"),"", IF(LEN(INDEX(Settings!$C$6:$C$37,FixtureCalc!E49))=0,"BYE",INDEX(Settings!$C$6:$C$37,FixtureCalc!E49)) )),"") -> Northern Tan Whackers | G53: 3 | I53: 0 | J53: =IFERROR(IF(FixtureCalc!C49="-","",IF(OR(FixtureCalc!F49="blank row 1",FixtureCalc!F49="blank row 2"),"",IF(LEN(INDEX(Settings!$C$6:$C$37,FixtureCalc!F49))=0,"BYE",INDEX(Settings!$C$6:$C$37,FixtureCalc!F49)) )),"") -> Mighty Patriots | L53: =IFERROR(IF(LEN(W53)>0,"←",""),"") | S53: =IFERROR(IF(AND(LEN(F53)>0,LEN(J53)>0),"YES","NO"),"") -> YES | T53: =IFERROR(IF(OR(F53="BYE",J53="BYE"),"YES","NO"),"") -> NO | U53: =IF(OR(LEN(G53)=0,LEN(I53)=0),"NO","YES") -> YES | V53: =IF(LEN(D53)=0,0,COUNTIFS($D$8:$D$1750,D53,$G$8:$G$1750,"<>"&"",$I$8:$I$1750,"<>"&"")) -> 9 | W53: =IF(S53="YES",IF(T53="YES",IF(U53="YES","← Delete the scores",""),IF(AND(U53="NO",V53>0),"← Insert the scores of both teams","")),IF(U53="YES","← Delete the scores",""))
C54: 44006.875 | D54: =IFERROR(IF(FixtureCalc!C50="-","",IF(OR(FixtureCalc!E50="blank row 1",FixtureCalc!E50="blank row 2"),"","Matchweek "&FixtureCalc!C50)),"") -> Matchweek 5 | E54: =IFERROR(IF(LEN(INDEX(Settings!$D$6:$D$37,MATCH(Fixture!F54,Settings!$C$6:$C$37,0)))=0,"",INDEX(Settings!$D$6:$D$37,MATCH(Fixture!F54,Settings!$C$6:$C$37,0))),"") -> Ben Hill Griffin Stadium | F54: =IFERROR(IF(FixtureCalc!C50="-","",IF(OR(FixtureCalc!E50="blank row 1",FixtureCalc!E50="blank row 2"),"", IF(LEN(INDEX(Settings!$C$6:$C$37,FixtureCalc!E50))=0,"BYE",INDEX(Settings!$C$6:$C$37,FixtureCalc!E50)) )),"") -> The Classic | G54: 4 | I54: 2 | J54: =IFERROR(IF(FixtureCalc!C50="-","",IF(OR(FixtureCalc!F50="blank row 1",FixtureCalc!F50="blank row 2"),"",IF(LEN(INDEX(Settings!$C$6:$C$37,FixtureCalc!F50))=0,"BYE",INDEX(Settings!$C$6:$C$37,FixtureCalc!F50)) )),"") -> Final Green Gazelles | L54: =IFERROR(IF(LEN(W54)>0,"←",""),"") | S54: =IFERROR(IF(AND(LEN(F54)>0,LEN(J54)>0),"YES","NO"),"") -> YES | T54: =IFERROR(IF(OR(F54="BYE",J54="BYE"),"YES","NO"),"") -> NO | U54: =IF(OR(LEN(G54)=0,LEN(I54)=0),"NO","YES") -> YES | V54: =IF(LEN(D54)=0,0,COUNTIFS($D$8:$D$1750,D54,$G$8:$G$1750,"<>"&"",$I$8:$I$1750,"<>"&"")) -> 9 | W54: =IF(S54="YES",IF(T54="YES",IF(U54="YES","← Delete the scores",""),IF(AND(U54="NO",V54>0),"← Insert the scores of both teams","")),IF(U54="YES","← Delete the scores",""))
C55: 44006.875 | D55: =IFERROR(IF(FixtureCalc!C51="-","",IF(OR(FixtureCalc!E51="blank row 1",FixtureCalc!E51="blank row 2"),"","Matchweek "&FixtureCalc!C51)),"") -> Matchweek 5 | E55: =IFERROR(IF(LEN(INDEX(Settings!$D$6:$D$37,MATCH(Fixture!F55,Settings!$C$6:$C$37,0)))=0,"",INDEX(Settings!$D$6:$D$37,MATCH(Fixture!F55,Settings!$C$6:$C$37,0))),"") -> Jordan–Hare Stadium | F55: =IFERROR(IF(FixtureCalc!C51="-","",IF(OR(FixtureCalc!E51="blank row 1",FixtureCalc!E51="blank row 2"),"", IF(LEN(INDEX(Settings!$C$6:$C$37,FixtureCalc!E51))=0,"BYE",INDEX(Settings!$C$6:$C$37,FixtureCalc!E51)) )),"") -> Defiant Jesters | G55: 0 | I55: 4 | J55: =IFERROR(IF(FixtureCalc!C51="-","",IF(OR(FixtureCalc!F51="blank row 1",FixtureCalc!F51="blank row 2"),"",IF(LEN(INDEX(Settings!$C$6:$C$37,FixtureCalc!F51))=0,"BYE",INDEX(Settings!$C$6:$C$37,FixtureCalc!F51)) )),"") -> Haunting Bottle Rockets | L55: =IFERROR(IF(LEN(W55)>0,"←",""),"") | S55: =IFERROR(IF(AND(LEN(F55)>0,LEN(J55)>0),"YES","NO"),"") -> YES | T55: =IFERROR(IF(OR(F55="BYE",J55="BYE"),"YES","NO"),"") -> NO | U55: =IF(OR(LEN(G55)=0,LEN(I55)=0),"NO","YES") -> YES | V55: =IF(LEN(D55)=0,0,COUNTIFS($D$8:$D$1750,D55,$G$8:$G$1750,"<>"&"",$I$8:$I$1750,"<>"&"")) -> 9 | W55: =IF(S55="YES",IF(T55="YES",IF(U55="YES","← Delete the scores",""),IF(AND(U55="NO",V55>0),"← Insert the scores of both teams","")),IF(U55="YES","← Delete the scores",""))
C56: 44007.75 | D56: =IFERROR(IF(FixtureCalc!C52="-","",IF(OR(FixtureCalc!E52="blank row 1",FixtureCalc!E52="blank row 2"),"","Matchweek "&FixtureCalc!C52)),"") -> Matchweek 5 | E56: =IFERROR(IF(LEN(INDEX(Settings!$D$6:$D$37,MATCH(Fixture!F56,Settings!$C$6:$C$37,0)))=0,"",INDEX(Settings!$D$6:$D$37,MATCH(Fixture!F56,Settings!$C$6:$C$37,0))),"") -> Gaylord Family Oklahoma Memorial Stadium | F56: =IFERROR(IF(FixtureCalc!C52="-","",IF(OR(FixtureCalc!E52="blank row 1",FixtureCalc!E52="blank row 2"),"", IF(LEN(INDEX(Settings!$C$6:$C$37,FixtureCalc!E52))=0,"BYE",INDEX(Settings!$C$6:$C$37,FixtureCalc!E52)) )),"") -> Unethical Bison | G56: 2 | I56: 3 | J56: =IFERROR(IF(FixtureCalc!C52="-","",IF(OR(FixtureCalc!F52="blank row 1",FixtureCalc!F52="blank row 2"),"",IF(LEN(INDEX(Settings!$C$6:$C$37,FixtureCalc!F52))=0,"BYE",INDEX(Settings!$C$6:$C$37,FixtureCalc!F52)) )),"") -> Red Sirens | L56: =IFERROR(IF(LEN(W56)>0,"←",""),"") | S56: =IFERROR(IF(AND(LEN(F56)>0,LEN(J56)>0),"YES","NO"),"") -> YES | T56: =IFERROR(IF(OR(F56="BYE",J56="BYE"),"YES","NO"),"") -> NO | U56: =IF(OR(LEN(G56)=0,LEN(I56)=0),"NO","YES") -> YES | V56: =IF(LEN(D56)=0,0,COUNTIFS($D$8:$D$1750,D56,$G$8:$G$1750,"<>"&"",$I$8:$I$1750,"<>"&"")) -> 9 | W56: =IF(S56="YES",IF(T56="YES",IF(U56="YES","← Delete the scores",""),IF(AND(U56="NO",V56>0),"← Insert the scores of both teams","")),IF(U56="YES","← Delete the scores",""))
C57: 44007.792 | D57: =IFERROR(IF(FixtureCalc!C53="-","",IF(OR(FixtureCalc!E53="blank row 1",FixtureCalc!E53="blank row 2"),"","Matchweek "&FixtureCalc!C53)),"") -> Matchweek 5 | E57: =IFERROR(IF(LEN(INDEX(Settings!$D$6:$D$37,MATCH(Fixture!F57,Settings!$C$6:$C$37,0)))=0,"",INDEX(Settings!$D$6:$D$37,MATCH(Fixture!F57,Settings!$C$6:$C$37,0))),"") -> Ohio Stadium | F57: =IFERROR(IF(FixtureCalc!C53="-","",IF(OR(FixtureCalc!E53="blank row 1",FixtureCalc!E53="blank row 2"),"", IF(LEN(INDEX(Settings!$C$6:$C$37,FixtureCalc!E53))=0,"BYE",INDEX(Settings!$C$6:$C$37,FixtureCalc!E53)) )),"") -> Ancient Crows | G57: 1 | I57: 1 | J57: =IFERROR(IF(FixtureCalc!C53="-","",IF(OR(FixtureCalc!F53="blank row 1",FixtureCalc!F53="blank row 2"),"",IF(LEN(INDEX(Settings!$C$6:$C$37,FixtureCalc!F53))=0,"BYE",INDEX(Settings!$C$6:$C$37,FixtureCalc!F53)) )),"") -> Earnest Broncos | L57: =IFERROR(IF(LEN(W57)>0,"←",""),"") | S57: =IFERROR(IF(AND(LEN(F57)>0,LEN(J57)>0),"YES","NO"),"") -> YES | T57: =IFERROR(IF(OR(F57="BYE",J57="BYE"),"YES","NO"),"") -> NO | U57: =IF(OR(LEN(G57)=0,LEN(I57)=0),"NO","YES") -> YES | V57: =IF(LEN(D57)=0,0,COUNTIFS($D$8:$D$1750,D57,$G$8:$G$1750,"<>"&"",$I$8:$I$1750,"<>"&"")) -> 9 | W57: =IF(S57="YES",IF(T57="YES",IF(U57="YES","← Delete the scores",""),IF(AND(U57="NO",V57>0),"← Insert the scores of both teams","")),IF(U57="YES","← Delete the scores",""))
C58: 44007.896 | D58: =IFERROR(IF(FixtureCalc!C54="-","",IF(OR(FixtureCalc!E54="blank row 1",FixtureCalc!E54="blank row 2"),"","Matchweek "&FixtureCalc!C54)),"") -> Matchweek 5 | E58: =IFERROR(IF(LEN(INDEX(Settings!$D$6:$D$37,MATCH(Fixture!F58,Settings!$C$6:$C$37,0)))=0,"",INDEX(Settings!$D$6:$D$37,MATCH(Fixture!F58,Settings!$C$6:$C$37,0))),"") -> Kyle Field | F58: =IFERROR(IF(FixtureCalc!C54="-","",IF(OR(FixtureCalc!E54="blank row 1",FixtureCalc!E54="blank row 2"),"", IF(LEN(INDEX(Settings!$C$6:$C$37,FixtureCalc!E54))=0,"BYE",INDEX(Settings!$C$6:$C$37,FixtureCalc!E54)) )),"") -> Wise Panthers | G58: 2 | I58: 0 | J58: =IFERROR(IF(FixtureCalc!C54="-","",IF(OR(FixtureCalc!F54="blank row 1",FixtureCalc!F54="blank row 2"),"",IF(LEN(INDEX(Settings!$C$6:$C$37,FixtureCalc!F54))=0,"BYE",INDEX(Settings!$C$6:$C$37,FixtureCalc!F54)) )),"") -> Silver Rangers | L58: =IFERROR(IF(LEN(W58)>0,"←",""),"") | S58: =IFERROR(IF(AND(LEN(F58)>0,LEN(J58)>0),"YES","NO"),"") -> YES | T58: =IFERROR(IF(OR(F58="BYE",J58="BYE"),"YES","NO"),"") -> NO | U58: =IF(OR(LEN(G58)=0,LEN(I58)=0),"NO","YES") -> YES | V58: =IF(LEN(D58)=0,0,COUNTIFS($D$8:$D$1750,D58,$G$8:$G$1750,"<>"&"",$I$8:$I$1750,"<>"&"")) -> 9 | W58: =IF(S58="YES",IF(T58="YES",IF(U58="YES","← Delete the scores",""),IF(AND(U58="NO",V58>0),"← Insert the scores of both teams","")),IF(U58="YES","← Delete the scores",""))
C59: 44007.792 | D59: =IFERROR(IF(FixtureCalc!C55="-","",IF(OR(FixtureCalc!E55="blank row 1",FixtureCalc!E55="blank row 2"),"","Matchweek "&FixtureCalc!C55)),"") -> Matchweek 5 | E59: =IFERROR(IF(LEN(INDEX(Settings!$D$6:$D$37,MATCH(Fixture!F59,Settings!$C$6:$C$37,0)))=0,"",INDEX(Settings!$D$6:$D$37,MATCH(Fixture!F59,Settings!$C$6:$C$37,0))),"") -> Neyland Stadium | F59: =IFERROR(IF(FixtureCalc!C55="-","",IF(OR(FixtureCalc!E55="blank row 1",FixtureCalc!E55="blank row 2"),"", IF(LEN(INDEX(Settings!$C$6:$C$37,FixtureCalc!E55))=0,"BYE",INDEX(Settings!$C$6:$C$37,FixtureCalc!E55)) )),"") -> South Leaders | G59: 0 | I59: 3 | J59: =IFERROR(IF(FixtureCalc!C55="-","",IF(OR(FixtureCalc!F55="blank row 1",FixtureCalc!F55="blank row 2"),"",IF(LEN(INDEX(Settings!$C$6:$C$37,FixtureCalc!F55))=0,"BYE",INDEX(Settings!$C$6:$C$37,FixtureCalc!F55)) )),"") -> Real Revolution | L59: =IFERROR(IF(LEN(W59)>0,"←",""),"") | S59: =IFERROR(IF(AND(LEN(F59)>0,LEN(J59)>0),"YES","NO"),"") -> YES | T59: =IFERROR(IF(OR(F59="BYE",J59="BYE"),"YES","NO"),"") -> NO | U59: =IF(OR(LEN(G59)=0,LEN(I59)=0),"NO","YES") -> YES | V59: =IF(LEN(D59)=0,0,COUNTIFS($D$8:$D$1750,D59,$G$8:$G$1750,"<>"&"",$I$8:$I$1750,"<>"&"")) -> 9 | W59: =IF(S59="YES",IF(T59="YES",IF(U59="YES","← Delete the scores",""),IF(AND(U59="NO",V59>0),"← Insert the scores of both teams","")),IF(U59="YES","← Delete the scores",""))
C60: 44007.896 | D60: =IFERROR(IF(FixtureCalc!C56="-","",IF(OR(FixtureCalc!E56="blank row 1",FixtureCalc!E56="blank row 2"),"","Matchweek "&FixtureCalc!C56)),"") -> Matchweek 5 | E60: =IFERROR(IF(LEN(INDEX(Settings!$D$6:$D$37,MATCH(Fixture!F60,Settings!$C$6:$C$37,0)))=0,"",INDEX(Settings!$D$6:$D$37,MATCH(Fixture!F60,Settings!$C$6:$C$37,0))),"") -> Tiger Stadium | F60: =IFERROR(IF(FixtureCalc!C56="-","",IF(OR(FixtureCalc!E56="blank row 1",FixtureCalc!E56="blank row 2"),"", IF(LEN(INDEX(Settings!$C$6:$C$37,FixtureCalc!E56))=0,"BYE",INDEX(Settings!$C$6:$C$37,FixtureCalc!E56)) )),"") -> Kaptain City | G60: 2 | I60: 4 | J60: =IFERROR(IF(FixtureCalc!C56="-","",IF(OR(FixtureCalc!F56="blank row 1",FixtureCalc!F56="blank row 2"),"",IF(LEN(INDEX(Settings!$C$6:$C$37,FixtureCalc!F56))=0,"BYE",INDEX(Settings!$C$6:$C$37,FixtureCalc!F56)) )),"") -> Delta Blazers | L60: =IFERROR(IF(LEN(W60)>0,"←",""),"") | S60: =IFERROR(IF(AND(LEN(F60)>0,LEN(J60)>0),"YES","NO"),"") -> YES | T60: =IFERROR(IF(OR(F60="BYE",J60="BYE"),"YES","NO"),"") -> NO | U60: =IF(OR(LEN(G60)=0,LEN(I60)=0),"NO","YES") -> YES | V60: =IF(LEN(D60)=0,0,COUNTIFS($D$8:$D$1750,D60,$G$8:$G$1750,"<>"&"",$I$8:$I$1750,"<>"&"")) -> 9 | W60: =IF(S60="YES",IF(T60="YES",IF(U60="YES","← Delete the scores",""),IF(AND(U60="NO",V60>0),"← Insert the scores of both teams","")),IF(U60="YES","← Delete the scores",""))
D61: =IFERROR(IF(FixtureCalc!C57="-","",IF(OR(FixtureCalc!E57="blank row 1",FixtureCalc!E57="blank row 2"),"","Matchweek "&FixtureCalc!C57)),"") | E61: =IFERROR(IF(LEN(INDEX(Settings!$D$6:$D$37,MATCH(Fixture!F61,Settings!$C$6:$C$37,0)))=0,"",INDEX(Settings!$D$6:$D$37,MATCH(Fixture!F61,Settings!$C$6:$C$37,0))),"") | F61: =IFERROR(IF(FixtureCalc!C57="-","",IF(OR(FixtureCalc!E57="blank row 1",FixtureCalc!E57="blank row 2"),"", IF(LEN(INDEX(Settings!$C$6:$C$37,FixtureCalc!E57))=0,"BYE",INDEX(Settings!$C$6:$C$37,FixtureCalc!E57)) )),"") | J61: =IFERROR(IF(FixtureCalc!C57="-","",IF(OR(FixtureCalc!F57="blank row 1",FixtureCalc!F57="blank row 2"),"",IF(LEN(INDEX(Settings!$C$6:$C$37,FixtureCalc!F57))=0,"BYE",INDEX(Settings!$C$6:$C$37,FixtureCalc!F57)) )),"") | L61: =IFERROR(IF(LEN(W61)>0,"←",""),"") | S61: =IFERROR(IF(AND(LEN(F61)>0,LEN(J61)>0),"YES","NO"),"") -> NO | T61: =IFERROR(IF(OR(F61="BYE",J61="BYE"),"YES","NO"),"") -> NO | U61: =IF(OR(LEN(G61)=0,LEN(I61)=0),"NO","YES") -> NO | V61: =IF(LEN(D61)=0,0,COUNTIFS($D$8:$D$1750,D61,$G$8:$G$1750,"<>"&"",$I$8:$I$1750,"<>"&"")) -> 0 | W61: =IF(S61="YES",IF(T61="YES",IF(U61="YES","← Delete the scores",""),IF(AND(U61="NO",V61>0),"← Insert the scores of both teams","")),IF(U61="YES","← Delete the scores",""))
D62: =IFERROR(IF(FixtureCalc!C58="-","",IF(OR(FixtureCalc!E58="blank row 1",FixtureCalc!E58="blank row 2"),"","Matchweek "&FixtureCalc!C58)),"") | E62: =IFERROR(IF(LEN(INDEX(Settings!$D$6:$D$37,MATCH(Fixture!F62,Settings!$C$6:$C$37,0)))=0,"",INDEX(Settings!$D$6:$D$37,MATCH(Fixture!F62,Settings!$C$6:$C$37,0))),"") | F62: =IFERROR(IF(FixtureCalc!C58="-","",IF(OR(FixtureCalc!E58="blank row 1",FixtureCalc!E58="blank row 2"),"", IF(LEN(INDEX(Settings!$C$6:$C$37,FixtureCalc!E58))=0,"BYE",INDEX(Settings!$C$6:$C$37,FixtureCalc!E58)) )),"") | J62: =IFERROR(IF(FixtureCalc!C58="-","",IF(OR(FixtureCalc!F58="blank row 1",FixtureCalc!F58="blank row 2"),"",IF(LEN(INDEX(Settings!$C$6:$C$37,FixtureCalc!F58))=0,"BYE",INDEX(Settings!$C$6:$C$37,FixtureCalc!F58)) )),"") | L62: =IFERROR(IF(LEN(W62)>0,"←",""),"") | S62: =IFERROR(IF(AND(LEN(F62)>0,LEN(J62)>0),"YES","NO"),"") -> NO | T62: =IFERROR(IF(OR(F62="BYE",J62="BYE"),"YES","NO"),"") -> NO | U62: =IF(OR(LEN(G62)=0,LEN(I62)=0),"NO","YES") -> NO | V62: =IF(LEN(D62)=0,0,COUNTIFS($D$8:$D$1750,D62,$G$8:$G$1750,"<>"&"",$I$8:$I$1750,"<>"&"")) -> 0 | W62: =IF(S62="YES",IF(T62="YES",IF(U62="YES","← Delete the scores",""),IF(AND(U62="NO",V62>0),"← Insert the scores of both teams","")),IF(U62="YES","← Delete the scores",""))
C63: 44007.823 | D63: =IFERROR(IF(FixtureCalc!C59="-","",IF(OR(FixtureCalc!E59="blank row 1",FixtureCalc!E59="blank row 2"),"","Matchweek "&FixtureCalc!C59)),"") -> Matchweek 6 | E63: =IFERROR(IF(LEN(INDEX(Settings!$D$6:$D$37,MATCH(Fixture!F63,Settings!$C$6:$C$37,0)))=0,"",INDEX(Settings!$D$6:$D$37,MATCH(Fixture!F63,Settings!$C$6:$C$37,0))),"") -> Beaver Stadium | F63: =IFERROR(IF(FixtureCalc!C59="-","",IF(OR(FixtureCalc!E59="blank row 1",FixtureCalc!E59="blank row 2"),"", IF(LEN(INDEX(Settings!$C$6:$C$37,FixtureCalc!E59))=0,"BYE",INDEX(Settings!$C$6:$C$37,FixtureCalc!E59)) )),"") -> Legal Swamp Twisters | G63: 3 | I63: 3 | J63: =IFERROR(IF(FixtureCalc!C59="-","",IF(OR(FixtureCalc!F59="blank row 1",FixtureCalc!F59="blank row 2"),"",IF(LEN(INDEX(Settings!$C$6:$C$37,FixtureCalc!F59))=0,"BYE",INDEX(Settings!$C$6:$C$37,FixtureCalc!F59)) )),"") -> Mighty Patriots | L63: =IFERROR(IF(LEN(W63)>0,"←",""),"") | S63: =IFERROR(IF(AND(LEN(F63)>0,LEN(J63)>0),"YES","NO"),"") -> YES | T63: =IFERROR(IF(OR(F63="BYE",J63="BYE"),"YES","NO"),"") -> NO | U63: =IF(OR(LEN(G63)=0,LEN(I63)=0),"NO","YES") -> YES | V63: =IF(LEN(D63)=0,0,COUNTIFS($D$8:$D$1750,D63,$G$8:$G$1750,"<>"&"",$I$8:$I$1750,"<>"&"")) -> 9 | W63: =IF(S63="YES",IF(T63="YES",IF(U63="YES","← Delete the scores",""),IF(AND(U63="NO",V63>0),"← Insert the scores of both teams","")),IF(U63="YES","← Delete the scores",""))
C64: 44007.875 | D64: =IFERROR(IF(FixtureCalc!C60="-","",IF(OR(FixtureCalc!E60="blank row 1",FixtureCalc!E60="blank row 2"),"","Matchweek "&FixtureCalc!C60)),"") -> Matchweek 6 | E64: =IFERROR(IF(LEN(INDEX(Settings!$D$6:$D$37,MATCH(Fixture!F64,Settings!$C$6:$C$37,0)))=0,"",INDEX(Settings!$D$6:$D$37,MATCH(Fixture!F64,Settings!$C$6:$C$37,0))),"") -> Bryant–Denny Stadium | F64: =IFERROR(IF(FixtureCalc!C60="-","",IF(OR(FixtureCalc!E60="blank row 1",FixtureCalc!E60="blank row 2"),"", IF(LEN(INDEX(Settings!$C$6:$C$37,FixtureCalc!E60))=0,"BYE",INDEX(Settings!$C$6:$C$37,FixtureCalc!E60)) )),"") -> The Krakens | G64: 3 | I64: 1 | J64: =IFERROR(IF(FixtureCalc!C60="-","",IF(OR(FixtureCalc!F60="blank row 1",FixtureCalc!F60="blank row 2"),"",IF(LEN(INDEX(Settings!$C$6:$C$37,FixtureCalc!F60))=0,"BYE",INDEX(Settings!$C$6:$C$37,FixtureCalc!F60)) )),"") -> Final Green Gazelles | L64: =IFERROR(IF(LEN(W64)>0,"←",""),"") | S64: =IFERROR(IF(AND(LEN(F64)>0,LEN(J64)>0),"YES","NO"),"") -> YES | T64: =IFERROR(IF(OR(F64="BYE",J64="BYE"),"YES","NO"),"") -> NO | U64: =IF(OR(LEN(G64)=0,LEN(I64)=0),"NO","YES") -> YES | V64: =IF(LEN(D64)=0,0,COUNTIFS($D$8:$D$1750,D64,$G$8:$G$1750,"<>"&"",$I$8:$I$1750,"<>"&"")) -> 9 | W64: =IF(S64="YES",IF(T64="YES",IF(U64="YES","← Delete the scores",""),IF(AND(U64="NO",V64>0),"← Insert the scores of both teams","")),IF(U64="YES","← Delete the scores",""))
C65: 44007.875 | D65: =IFERROR(IF(FixtureCalc!C61="-","",IF(OR(FixtureCalc!E61="blank row 1",FixtureCalc!E61="blank row 2"),"","Matchweek "&FixtureCalc!C61)),"") -> Matchweek 6 | E65: =IFERROR(IF(LEN(INDEX(Settings!$D$6:$D$37,MATCH(Fixture!F65,Settings!$C$6:$C$37,0)))=0,"",INDEX(Settings!$D$6:$D$37,MATCH(Fixture!F65,Settings!$C$6:$C$37,0))),"") -> Darrell K Royal–Texas Memorial Stadium | F65: =IFERROR(IF(FixtureCalc!C61="-","",IF(OR(FixtureCalc!E61="blank row 1",FixtureCalc!E61="blank row 2"),"", IF(LEN(INDEX(Settings!$C$6:$C$37,FixtureCalc!E61))=0,"BYE",INDEX(Settings!$C$6:$C$37,FixtureCalc!E61)) )),"") -> Northern Tan Whackers | G65: 2 | I65: 1 | J65: =IFERROR(IF(FixtureCalc!C61="-","",IF(OR(FixtureCalc!F61="blank row 1",FixtureCalc!F61="blank row 2"),"",IF(LEN(INDEX(Settings!$C$6:$C$37,FixtureCalc!F61))=0,"BYE",INDEX(Settings!$C$6:$C$37,FixtureCalc!F61)) )),"") -> Haunting Bottle Rockets | L65: =IFERROR(IF(LEN(W65)>0,"←",""),"") | S65: =IFERROR(IF(AND(LEN(F65)>0,LEN(J65)>0),"YES","NO"),"") -> YES | T65: =IFERROR(IF(OR(F65="BYE",J65="BYE"),"YES","NO"),"") -> NO | U65: =IF(OR(LEN(G65)=0,LEN(I65)=0),"NO","YES") -> YES | V65: =IF(LEN(D65)=0,0,COUNTIFS($D$8:$D$1750,D65,$G$8:$G$1750,"<>"&"",$I$8:$I$1750,"<>"&"")) -> 9 | W65: =IF(S65="YES",IF(T65="YES",IF(U65="YES","← Delete the scores",""),IF(AND(U65="NO",V65>0),"← Insert the scores of both teams","")),IF(U65="YES","← Delete the scores",""))
C66: 44007.875 | D66: =IFERROR(IF(FixtureCalc!C62="-","",IF(OR(FixtureCalc!E62="blank row 1",FixtureCalc!E62="blank row 2"),"","Matchweek "&FixtureCalc!C62)),"") -> Matchweek 6 | E66: =IFERROR(IF(LEN(INDEX(Settings!$D$6:$D$37,MATCH(Fixture!F66,Settings!$C$6:$C$37,0)))=0,"",INDEX(Settings!$D$6:$D$37,MATCH(Fixture!F66,Settings!$C$6:$C$37,0))),"") -> Ben Hill Griffin Stadium | F66: =IFERROR(IF(FixtureCalc!C62="-","",IF(OR(FixtureCalc!E62="blank row 1",FixtureCalc!E62="blank row 2"),"", IF(LEN(INDEX(Settings!$C$6:$C$37,FixtureCalc!E62))=0,"BYE",INDEX(Settings!$C$6:$C$37,FixtureCalc!E62)) )),"") -> The Classic | G66: 4 | I66: 2 | J66: =IFERROR(IF(FixtureCalc!C62="-","",IF(OR(FixtureCalc!F62="blank row 1",FixtureCalc!F62="blank row 2"),"",IF(LEN(INDEX(Settings!$C$6:$C$37,FixtureCalc!F62))=0,"BYE",INDEX(Settings!$C$6:$C$37,FixtureCalc!F62)) )),"") -> Red Sirens | L66: =IFERROR(IF(LEN(W66)>0,"←",""),"") | S66: =IFERROR(IF(AND(LEN(F66)>0,LEN(J66)>0),"YES","NO"),"") -> YES | T66: =IFERROR(IF(OR(F66="BYE",J66="BYE"),"YES","NO"),"") -> NO | U66: =IF(OR(LEN(G66)=0,LEN(I66)=0),"NO","YES") -> YES | V66: =IF(LEN(D66)=0,0,COUNTIFS($D$8:$D$1750,D66,$G$8:$G$1750,"<>"&"",$I$8:$I$1750,"<>"&"")) -> 9 | W66: =IF(S66="YES",IF(T66="YES",IF(U66="YES","← Delete the scores",""),IF(AND(U66="NO",V66>0),"← Insert the scores of both teams","")),IF(U66="YES","← Delete the scores",""))
C67: 44008.75 | D67: =IFERROR(IF(FixtureCalc!C63="-","",IF(OR(FixtureCalc!E63="blank row 1",FixtureCalc!E63="blank row 2"),"","Matchweek "&FixtureCalc!C63)),"") -> Matchweek 6 | E67: =IFERROR(IF(LEN(INDEX(Settings!$D$6:$D$37,MATCH(Fixture!F67,Settings!$C$6:$C$37,0)))=0,"",INDEX(Settings!$D$6:$D$37,MATCH(Fixture!F67,Settings!$C$6:$C$37,0))),"") -> Jordan–Hare Stadium | F67: =IFERROR(IF(FixtureCalc!C63="-","",IF(OR(FixtureCalc!E63="blank row 1",FixtureCalc!E63="blank row 2"),"", IF(LEN(INDEX(Settings!$C$6:$C$37,FixtureCalc!E63))=0,"BYE",INDEX(Settings!$C$6:$C$37,FixtureCalc!E63)) )),"") -> Defiant Jesters | G67: 2 | I67: 1 | J67: =IFERROR(IF(FixtureCalc!C63="-","",IF(OR(FixtureCalc!F63="blank row 1",FixtureCalc!F63="blank row 2"),"",IF(LEN(INDEX(Settings!$C$6:$C$37,FixtureCalc!F63))=0,"BYE",INDEX(Settings!$C$6:$C$37,FixtureCalc!F63)) )),"") -> Earnest Broncos | L67: =IFERROR(IF(LEN(W67)>0,"←",""),"") | S67: =IFERROR(IF(AND(LEN(F67)>0,LEN(J67)>0),"YES","NO"),"") -> YES | T67: =IFERROR(IF(OR(F67="BYE",J67="BYE"),"YES","NO"),"") -> NO | U67: =IF(OR(LEN(G67)=0,LEN(I67)=0),"NO","YES") -> YES | V67: =IF(LEN(D67)=0,0,COUNTIFS($D$8:$D$1750,D67,$G$8:$G$1750,"<>"&"",$I$8:$I$1750,"<>"&"")) -> 9 | W67: =IF(S67="YES",IF(T67="YES",IF(U67="YES","← Delete the scores",""),IF(AND(U67="NO",V67>0),"← Insert the scores of both teams","")),IF(U67="YES","← Delete the scores",""))
C68: 44008.792 | D68: =IFERROR(IF(FixtureCalc!C64="-","",IF(OR(FixtureCalc!E64="blank row 1",FixtureCalc!E64="blank row 2"),"","Matchweek "&FixtureCalc!C64)),"") -> Matchweek 6 | E68: =IFERROR(IF(LEN(INDEX(Settings!$D$6:$D$37,MATCH(Fixture!F68,Settings!$C$6:$C$37,0)))=0,"",INDEX(Settings!$D$6:$D$37,MATCH(Fixture!F68,Settings!$C$6:$C$37,0))),"") -> Gaylord Family Oklahoma Memorial Stadium | F68: =IFERROR(IF(FixtureCalc!C64="-","",IF(OR(FixtureCalc!E64="blank row 1",FixtureCalc!E64="blank row 2"),"", IF(LEN(INDEX(Settings!$C$6:$C$37,FixtureCalc!E64))=0,"BYE",INDEX(Settings!$C$6:$C$37,FixtureCalc!E64)) )),"") -> Unethical Bison | G68: 0 | I68: 1 | J68: =IFERROR(IF(FixtureCalc!C64="-","",IF(OR(FixtureCalc!F64="blank row 1",FixtureCalc!F64="blank row 2"),"",IF(LEN(INDEX(Settings!$C$6:$C$37,FixtureCalc!F64))=0,"BYE",INDEX(Settings!$C$6:$C$37,FixtureCalc!F64)) )),"") -> Silver Rangers | L68: =IFERROR(IF(LEN(W68)>0,"←",""),"") | S68: =IFERROR(IF(AND(LEN(F68)>0,LEN(J68)>0),"YES","NO"),"") -> YES | T68: =IFERROR(IF(OR(F68="BYE",J68="BYE"),"YES","NO"),"") -> NO | U68: =IF(OR(LEN(G68)=0,LEN(I68)=0),"NO","YES") -> YES | V68: =IF(LEN(D68)=0,0,COUNTIFS($D$8:$D$1750,D68,$G$8:$G$1750,"<>"&"",$I$8:$I$1750,"<>"&"")) -> 9 | W68: =IF(S68="YES",IF(T68="YES",IF(U68="YES","← Delete the scores",""),IF(AND(U68="NO",V68>0),"← Insert the scores of both teams","")),IF(U68="YES","← Delete the scores",""))
C69: 44008.896 | D69: =IFERROR(IF(FixtureCalc!C65="-","",IF(OR(FixtureCalc!E65="blank row 1",FixtureCalc!E65="blank row 2"),"","Matchweek "&FixtureCalc!C65)),"") -> Matchweek 6 | E69: =IFERROR(IF(LEN(INDEX(Settings!$D$6:$D$37,MATCH(Fixture!F69,Settings!$C$6:$C$37,0)))=0,"",INDEX(Settings!$D$6:$D$37,MATCH(Fixture!F69,Settings!$C$6:$C$37,0))),"") -> Ohio Stadium | F69: =IFERROR(IF(FixtureCalc!C65="-","",IF(OR(FixtureCalc!E65="blank row 1",FixtureCalc!E65="blank row 2"),"", IF(LEN(INDEX(Settings!$C$6:$C$37,FixtureCalc!E65))=0,"BYE",INDEX(Settings!$C$6:$C$37,FixtureCalc!E65)) )),"") -> Ancient Crows | G69: 2 | I69: 0 | J69: =IFERROR(IF(FixtureCalc!C65="-","",IF(OR(FixtureCalc!F65="blank row 1",FixtureCalc!F65="blank row 2"),"",IF(LEN(INDEX(Settings!$C$6:$C$37,FixtureCalc!F65))=0,"BYE",INDEX(Settings!$C$6:$C$37,FixtureCalc!F65)) )),"") -> Real Revolution | L69: =IFERROR(IF(LEN(W69)>0,"←",""),"") | S69: =IFERROR(IF(AND(LEN(F69)>0,LEN(J69)>0),"YES","NO"),"") -> YES | T69: =IFERROR(IF(OR(F69="BYE",J69="BYE"),"YES","NO"),"") -> NO | U69: =IF(OR(LEN(G69)=0,LEN(I69)=0),"NO","YES") -> YES | V69: =IF(LEN(D69)=0,0,COUNTIFS($D$8:$D$1750,D69,$G$8:$G$1750,"<>"&"",$I$8:$I$1750,"<>"&"")) -> 9 | W69: =IF(S69="YES",IF(T69="YES",IF(U69="YES","← Delete the scores",""),IF(AND(U69="NO",V69>0),"← Insert the scores of both teams","")),IF(U69="YES","← Delete the scores",""))
C70: 44008.792 | D70: =IFERROR(IF(FixtureCalc!C66="-","",IF(OR(FixtureCalc!E66="blank row 1",FixtureCalc!E66="blank row 2"),"","Matchweek "&FixtureCalc!C66)),"") -> Matchweek 6 | E70: =IFERROR(IF(LEN(INDEX(Settings!$D$6:$D$37,MATCH(Fixture!F70,Settings!$C$6:$C$37,0)))=0,"",INDEX(Settings!$D$6:$D$37,MATCH(Fixture!F70,Settings!$C$6:$C$37,0))),"") -> Kyle Field | F70: =IFERROR(IF(FixtureCalc!C66="-","",IF(OR(FixtureCalc!E66="blank row 1",FixtureCalc!E66="blank row 2"),"", IF(LEN(INDEX(Settings!$C$6:$C$37,FixtureCalc!E66))=0,"BYE",INDEX(Settings!$C$6:$C$37,FixtureCalc!E66)) )),"") -> Wise Panthers | G70: 1 | I70: 1 | J70: =IFERROR(IF(FixtureCalc!C66="-","",IF(OR(FixtureCalc!F66="blank row 1",FixtureCalc!F66="blank row 2"),"",IF(LEN(INDEX(Settings!$C$6:$C$37,FixtureCalc!F66))=0,"BYE",INDEX(Settings!$C$6:$C$37,FixtureCalc!F66)) )),"") -> Delta Blazers | L70: =IFERROR(IF(LEN(W70)>0,"←",""),"") | S70: =IFERROR(IF(AND(LEN(F70)>0,LEN(J70)>0),"YES","NO"),"") -> YES | T70: =IFERROR(IF(OR(F70="BYE",J70="BYE"),"YES","NO"),"") -> NO | U70: =IF(OR(LEN(G70)=0,LEN(I70)=0),"NO","YES") -> YES | V70: =IF(LEN(D70)=0,0,COUNTIFS($D$8:$D$1750,D70,$G$8:$G$1750,"<>"&"",$I$8:$I$1750,"<>"&"")) -> 9 | W70: =IF(S70="YES",IF(T70="YES",IF(U70="YES","← Delete the scores",""),IF(AND(U70="NO",V70>0),"← Insert the scores of both teams","")),IF(U70="YES","← Delete the scores",""))
C71: 44008.896 | D71: =IFERROR(IF(FixtureCalc!C67="-","",IF(OR(FixtureCalc!E67="blank row 1",FixtureCalc!E67="blank row 2"),"","Matchweek "&FixtureCalc!C67)),"") -> Matchweek 6 | E71: =IFERROR(IF(LEN(INDEX(Settings!$D$6:$D$37,MATCH(Fixture!F71,Settings!$C$6:$C$37,0)))=0,"",INDEX(Settings!$D$6:$D$37,MATCH(Fixture!F71,Settings!$C$6:$C$37,0))),"") -> Neyland Stadium | F71: =IFERROR(IF(FixtureCalc!C67="-","",IF(OR(FixtureCalc!E67="blank row 1",FixtureCalc!E67="blank row 2"),"", IF(LEN(INDEX(Settings!$C$6:$C$37,FixtureCalc!E67))=0,"BYE",INDEX(Settings!$C$6:$C$37,FixtureCalc!E67)) )),"") -> South Leaders | G71: 1 | I71: 0 | J71: =IFERROR(IF(FixtureCalc!C67="-","",IF(OR(FixtureCalc!F67="blank row 1",FixtureCalc!F67="blank row 2"),"",IF(LEN(INDEX(Settings!$C$6:$C$37,FixtureCalc!F67))=0,"BYE",INDEX(Settings!$C$6:$C$37,FixtureCalc!F67)) )),"") -> Kaptain City | L71: =IFERROR(IF(LEN(W71)>0,"←",""),"") | S71: =IFERROR(IF(AND(LEN(F71)>0,LEN(J71)>0),"YES","NO"),"") -> YES | T71: =IFERROR(IF(OR(F71="BYE",J71="BYE"),"YES","NO"),"") -> NO | U71: =IF(OR(LEN(G71)=0,LEN(I71)=0),"NO","YES") -> YES | V71: =IF(LEN(D71)=0,0,COUNTIFS($D$8:$D$1750,D71,$G$8:$G$1750,"<>"&"",$I$8:$I$1750,"<>"&"")) -> 9 | W71: =IF(S71="YES",IF(T71="YES",IF(U71="YES","← Delete the scores",""),IF(AND(U71="NO",V71>0),"← Insert the scores of both teams","")),IF(U71="YES","← Delete the scores",""))
D72: =IFERROR(IF(FixtureCalc!C68="-","",IF(OR(FixtureCalc!E68="blank row 1",FixtureCalc!E68="blank row 2"),"","Matchweek "&FixtureCalc!C68)),"") | E72: =IFERROR(IF(LEN(INDEX(Settings!$D$6:$D$37,MATCH(Fixture!F72,Settings!$C$6:$C$37,0)))=0,"",INDEX(Settings!$D$6:$D$37,MATCH(Fixture!F72,Settings!$C$6:$C$37,0))),"") | F72: =IFERROR(IF(FixtureCalc!C68="-","",IF(OR(FixtureCalc!E68="blank row 1",FixtureCalc!E68="blank row 2"),"", IF(LEN(INDEX(Settings!$C$6:$C$37,FixtureCalc!E68))=0,"BYE",INDEX(Settings!$C$6:$C$37,FixtureCalc!E68)) )),"") | J72: =IFERROR(IF(FixtureCalc!C68="-","",IF(OR(FixtureCalc!F68="blank row 1",FixtureCalc!F68="blank row 2"),"",IF(LEN(INDEX(Settings!$C$6:$C$37,FixtureCalc!F68))=0,"BYE",INDEX(Settings!$C$6:$C$37,FixtureCalc!F68)) )),"") | L72: =IFERROR(IF(LEN(W72)>0,"←",""),"") | S72: =IFERROR(IF(AND(LEN(F72)>0,LEN(J72)>0),"YES","NO"),"") -> NO | T72: =IFERROR(IF(OR(F72="BYE",J72="BYE"),"YES","NO"),"") -> NO | U72: =IF(OR(LEN(G72)=0,LEN(I72)=0),"NO","YES") -> NO | V72: =IF(LEN(D72)=0,0,COUNTIFS($D$8:$D$1750,D72,$G$8:$G$1750,"<>"&"",$I$8:$I$1750,"<>"&"")) -> 0 | W72: =IF(S72="YES",IF(T72="YES",IF(U72="YES","← Delete the scores",""),IF(AND(U72="NO",V72>0),"← Insert the scores of both teams","")),IF(U72="YES","← Delete the scores",""))
D73: =IFERROR(IF(FixtureCalc!C69="-","",IF(OR(FixtureCalc!E69="blank row 1",FixtureCalc!E69="blank row 2"),"","Matchweek "&FixtureCalc!C69)),"") | E73: =IFERROR(IF(LEN(INDEX(Settings!$D$6:$D$37,MATCH(Fixture!F73,Settings!$C$6:$C$37,0)))=0,"",INDEX(Settings!$D$6:$D$37,MATCH(Fixture!F73,Settings!$C$6:$C$37,0))),"") | F73: =IFERROR(IF(FixtureCalc!C69="-","",IF(OR(FixtureCalc!E69="blank row 1",FixtureCalc!E69="blank row 2"),"", IF(LEN(INDEX(Settings!$C$6:$C$37,FixtureCalc!E69))=0,"BYE",INDEX(Settings!$C$6:$C$37,FixtureCalc!E69)) )),"") | J73: =IFERROR(IF(FixtureCalc!C69="-","",IF(OR(FixtureCalc!F69="blank row 1",FixtureCalc!F69="blank row 2"),"",IF(LEN(INDEX(Settings!$C$6:$C$37,FixtureCalc!F69))=0,"BYE",INDEX(Settings!$C$6:$C$37,FixtureCalc!F69)) )),"") | L73: =IFERROR(IF(LEN(W73)>0,"←",""),"") | S73: =IFERROR(IF(AND(LEN(F73)>0,LEN(J73)>0),"YES","NO"),"") -> NO | T73: =IFERROR(IF(OR(F73="BYE",J73="BYE"),"YES","NO"),"") -> NO | U73: =IF(OR(LEN(G73)=0,LEN(I73)=0),"NO","YES") -> NO | V73: =IF(LEN(D73)=0,0,COUNTIFS($D$8:$D$1750,D73,$G$8:$G$1750,"<>"&"",$I$8:$I$1750,"<>"&"")) -> 0 | W73: =IF(S73="YES",IF(T73="YES",IF(U73="YES","← Delete the scores",""),IF(AND(U73="NO",V73>0),"← Insert the scores of both teams","")),IF(U73="YES","← Delete the scores",""))
C74: 44008.823 | D74: =IFERROR(IF(FixtureCalc!C70="-","",IF(OR(FixtureCalc!E70="blank row 1",FixtureCalc!E70="blank row 2"),"","Matchweek "&FixtureCalc!C70)),"") -> Matchweek 7 | E74: =IFERROR(IF(LEN(INDEX(Settings!$D$6:$D$37,MATCH(Fixture!F74,Settings!$C$6:$C$37,0)))=0,"",INDEX(Settings!$D$6:$D$37,MATCH(Fixture!F74,Settings!$C$6:$C$37,0))),"") -> Beaver Stadium | F74: =IFERROR(IF(FixtureCalc!C70="-","",IF(OR(FixtureCalc!E70="blank row 1",FixtureCalc!E70="blank row 2"),"", IF(LEN(INDEX(Settings!$C$6:$C$37,FixtureCalc!E70))=0,"BYE",INDEX(Settings!$C$6:$C$37,FixtureCalc!E70)) )),"") -> Legal Swamp Twisters | G74: 1 | I74: 2 | J74: =IFERROR(IF(FixtureCalc!C70="-","",IF(OR(FixtureCalc!F70="blank row 1",FixtureCalc!F70="blank row 2"),"",IF(LEN(INDEX(Settings!$C$6:$C$37,FixtureCalc!F70))=0,"BYE",INDEX(Settings!$C$6:$C$37,FixtureCalc!F70)) )),"") -> Final Green Gazelles | L74: =IFERROR(IF(LEN(W74)>0,"←",""),"") | S74: =IFERROR(IF(AND(LEN(F74)>0,LEN(J74)>0),"YES","NO"),"") -> YES | T74: =IFERROR(IF(OR(F74="BYE",J74="BYE"),"YES","NO"),"") -> NO | U74: =IF(OR(LEN(G74)=0,LEN(I74)=0),"NO","YES") -> YES | V74: =IF(LEN(D74)=0,0,COUNTIFS($D$8:$D$1750,D74,$G$8:$G$1750,"<>"&"",$I$8:$I$1750,"<>"&"")) -> 9 | W74: =IF(S74="YES",IF(T74="YES",IF(U74="YES","← Delete the scores",""),IF(AND(U74="NO",V74>0),"← Insert the scores of both teams","")),IF(U74="YES","← Delete the scores",""))
C75: 44008.875 | D75: =IFERROR(IF(FixtureCalc!C71="-","",IF(OR(FixtureCalc!E71="blank row 1",FixtureCalc!E71="blank row 2"),"","Matchweek "&FixtureCalc!C71)),"") -> Matchweek 7 | E75: =IFERROR(IF(LEN(INDEX(Settings!$D$6:$D$37,MATCH(Fixture!F75,Settings!$C$6:$C$37,0)))=0,"",INDEX(Settings!$D$6:$D$37,MATCH(Fixture!F75,Settings!$C$6:$C$37,0))),"") -> Tiger Stadium | F75: =IFERROR(IF(FixtureCalc!C71="-","",IF(OR(FixtureCalc!E71="blank row 1",FixtureCalc!E71="blank row 2"),"", IF(LEN(INDEX(Settings!$C$6:$C$37,FixtureCalc!E71))=0,"BYE",INDEX(Settings!$C$6:$C$37,FixtureCalc!E71)) )),"") -> Mighty Patriots | G75: 0 | I75: 2 | J75: =IFERROR(IF(FixtureCalc!C71="-","",IF(OR(FixtureCalc!F71="blank row 1",FixtureCalc!F71="blank row 2"),"",IF(LEN(INDEX(Settings!$C$6:$C$37,FixtureCalc!F71))=0,"BYE",INDEX(Settings!$C$6:$C$37,FixtureCalc!F71)) )),"") -> Haunting Bottle Rockets | L75: =IFERROR(IF(LEN(W75)>0,"←",""),"") | S75: =IFERROR(IF(AND(LEN(F75)>0,LEN(J75)>0),"YES","NO"),"") -> YES | T75: =IFERROR(IF(OR(F75="BYE",J75="BYE"),"YES","NO"),"") -> NO | U75: =IF(OR(LEN(G75)=0,LEN(I75)=0),"NO","YES") -> YES | V75: =IF(LEN(D75)=0,0,COUNTIFS($D$8:$D$1750,D75,$G$8:$G$1750,"<>"&"",$I$8:$I$1750,"<>"&"")) -> 9 | W75: =IF(S75="YES",IF(T75="YES",IF(U75="YES","← Delete the scores",""),IF(AND(U75="NO",V75>0),"← Insert the scores of both teams","")),IF(U75="YES","← Delete the scores",""))
C76: 44008.875 | D76: =IFERROR(IF(FixtureCalc!C72="-","",IF(OR(FixtureCalc!E72="blank row 1",FixtureCalc!E72="blank row 2"),"","Matchweek "&FixtureCalc!C72)),"") -> Matchweek 7 | E76: =IFERROR(IF(LEN(INDEX(Settings!$D$6:$D$37,MATCH(Fixture!F76,Settings!$C$6:$C$37,0)))=0,"",INDEX(Settings!$D$6:$D$37,MATCH(Fixture!F76,Settings!$C$6:$C$37,0))),"") -> Bryant–Denny Stadium | F76: =IFERROR(IF(FixtureCalc!C72="-","",IF(OR(FixtureCalc!E72="blank row 1",FixtureCalc!E72="blank row 2"),"", IF(LEN(INDEX(Settings!$C$6:$C$37,FixtureCalc!E72))=0,"BYE",INDEX(Settings!$C$6:$C$37,FixtureCalc!E72)) )),"") -> The Krakens | G76: 1 | I76: 4 | J76: =IFERROR(IF(FixtureCalc!C72="-","",IF(OR(FixtureCalc!F72="blank row 1",FixtureCalc!F72="blank row 2"),"",IF(LEN(INDEX(Settings!$C$6:$C$37,FixtureCalc!F72))=0,"BYE",INDEX(Settings!$C$6:$C$37,FixtureCalc!F72)) )),"") -> Red Sirens | L76: =IFERROR(IF(LEN(W76)>0,"←",""),"") | S76: =IFERROR(IF(AND(LEN(F76)>0,LEN(J76)>0),"YES","NO"),"") -> YES | T76: =IFERROR(IF(OR(F76="BYE",J76="BYE"),"YES","NO"),"") -> NO | U76: =IF(OR(LEN(G76)=0,LEN(I76)=0),"NO","YES") -> YES | V76: =IF(LEN(D76)=0,0,COUNTIFS($D$8:$D$1750,D76,$G$8:$G$1750,"<>"&"",$I$8:$I$1750,"<>"&"")) -> 9 | W76: =IF(S76="YES",IF(T76="YES",IF(U76="YES","← Delete the scores",""),IF(AND(U76="NO",V76>0),"← Insert the scores of both teams","")),IF(U76="YES","← Delete the scores",""))
C77: 44008.875 | D77: =IFERROR(IF(FixtureCalc!C73="-","",IF(OR(FixtureCalc!E73="blank row 1",FixtureCalc!E73="blank row 2"),"","Matchweek "&FixtureCalc!C73)),"") -> Matchweek 7 | E77: =IFERROR(IF(LEN(INDEX(Settings!$D$6:$D$37,MATCH(Fixture!F77,Settings!$C$6:$C$37,0)))=0,"",INDEX(Settings!$D$6:$D$37,MATCH(Fixture!F77,Settings!$C$6:$C$37,0))),"") -> Darrell K Royal–Texas Memorial Stadium | F77: =IFERROR(IF(FixtureCalc!C73="-","",IF(OR(FixtureCalc!E73="blank row 1",FixtureCalc!E73="blank row 2"),"", IF(LEN(INDEX(Settings!$C$6:$C$37,FixtureCalc!E73))=0,"BYE",INDEX(Settings!$C$6:$C$37,FixtureCalc!E73)) )),"") -> Northern Tan Whackers | G77: 4 | I77: 2 | J77: =IFERROR(IF(FixtureCalc!C73="-","",IF(OR(FixtureCalc!F73="blank row 1",FixtureCalc!F73="blank row 2"),"",IF(LEN(INDEX(Settings!$C$6:$C$37,FixtureCalc!F73))=0,"BYE",INDEX(Settings!$C$6:$C$37,FixtureCalc!F73)) )),"") -> Earnest Broncos | L77: =IFERROR(IF(LEN(W77)>0,"←",""),"") | S77: =IFERROR(IF(AND(LEN(F77)>0,LEN(J77)>0),"YES","NO"),"") -> YES | T77: =IFERROR(IF(OR(F77="BYE",J77="BYE"),"YES","NO"),"") -> NO | U77: =IF(OR(LEN(G77)=0,LEN(I77)=0),"NO","YES") -> YES | V77: =IF(LEN(D77)=0,0,COUNTIFS($D$8:$D$1750,D77,$G$8:$G$1750,"<>"&"",$I$8:$I$1750,"<>"&"")) -> 9 | W77: =IF(S77="YES",IF(T77="YES",IF(U77="YES","← Delete the scores",""),IF(AND(U77="NO",V77>0),"← Insert the scores of both teams","")),IF(U77="YES","← Delete the scores",""))
C78: 44009.75 | D78: =IFERROR(IF(FixtureCalc!C74="-","",IF(OR(FixtureCalc!E74="blank row 1",FixtureCalc!E74="blank row 2"),"","Matchweek "&FixtureCalc!C74)),"") -> Matchweek 7 | E78: =IFERROR(IF(LEN(INDEX(Settings!$D$6:$D$37,MATCH(Fixture!F78,Settings!$C$6:$C$37,0)))=0,"",INDEX(Settings!$D$6:$D$37,MATCH(Fixture!F78,Settings!$C$6:$C$37,0))),"") -> Ben Hill Griffin Stadium | F78: =IFERROR(IF(FixtureCalc!C74="-","",IF(OR(FixtureCalc!E74="blank row 1",FixtureCalc!E74="blank row 2"),"", IF(LEN(INDEX(Settings!$C$6:$C$37,FixtureCalc!E74))=0,"BYE",INDEX(Settings!$C$6:$C$37,FixtureCalc!E74)) )),"") -> The Classic | G78: 3 | I78: 0 | J78: =IFERROR(IF(FixtureCalc!C74="-","",IF(OR(FixtureCalc!F74="blank row 1",FixtureCalc!F74="blank row 2"),"",IF(LEN(INDEX(Settings!$C$6:$C$37,FixtureCalc!F74))=0,"BYE",INDEX(Settings!$C$6:$C$37,FixtureCalc!F74)) )),"") -> Silver Rangers | L78: =IFERROR(IF(LEN(W78)>0,"←",""),"") | S78: =IFERROR(IF(AND(LEN(F78)>0,LEN(J78)>0),"YES","NO"),"") -> YES | T78: =IFERROR(IF(OR(F78="BYE",J78="BYE"),"YES","NO"),"") -> NO | U78: =IF(OR(LEN(G78)=0,LEN(I78)=0),"NO","YES") -> YES | V78: =IF(LEN(D78)=0,0,COUNTIFS($D$8:$D$1750,D78,$G$8:$G$1750,"<>"&"",$I$8:$I$1750,"<>"&"")) -> 9 | W78: =IF(S78="YES",IF(T78="YES",IF(U78="YES","← Delete the scores",""),IF(AND(U78="NO",V78>0),"← Insert the scores of both teams","")),IF(U78="YES","← Delete the scores",""))
C79: 44009.792 | D79: =IFERROR(IF(FixtureCalc!C75="-","",IF(OR(FixtureCalc!E75="blank row 1",FixtureCalc!E75="blank row 2"),"","Matchweek "&FixtureCalc!C75)),"") -> Matchweek 7 | E79: =IFERROR(IF(LEN(INDEX(Settings!$D$6:$D$37,MATCH(Fixture!F79,Settings!$C$6:$C$37,0)))=0,"",INDEX(Settings!$D$6:$D$37,MATCH(Fixture!F79,Settings!$C$6:$C$37,0))),"") -> Jordan–Hare Stadium | F79: =IFERROR(IF(FixtureCalc!C75="-","",IF(OR(FixtureCalc!E75="blank row 1",FixtureCalc!E75="blank row 2"),"", IF(LEN(INDEX(Settings!$C$6:$C$37,FixtureCalc!E75))=0,"BYE",INDEX(Settings!$C$6:$C$37,FixtureCalc!E75)) )),"") -> Defiant Jesters | G79: 3 | I79: 0 | J79: =IFERROR(IF(FixtureCalc!C75="-","",IF(OR(FixtureCalc!F75="blank row 1",FixtureCalc!F75="blank row 2"),"",IF(LEN(INDEX(Settings!$C$6:$C$37,FixtureCalc!F75))=0,"BYE",INDEX(Settings!$C$6:$C$37,FixtureCalc!F75)) )),"") -> Real Revolution | L79: =IFERROR(IF(LEN(W79)>0,"←",""),"") | S79: =IFERROR(IF(AND(LEN(F79)>0,LEN(J79)>0),"YES","NO"),"") -> YES | T79: =IFERROR(IF(OR(F79="BYE",J79="BYE"),"YES","NO"),"") -> NO | U79: =IF(OR(LEN(G79)=0,LEN(I79)=0),"NO","YES") -> YES | V79: =IF(LEN(D79)=0,0,COUNTIFS($D$8:$D$1750,D79,$G$8:$G$1750,"<>"&"",$I$8:$I$1750,"<>"&"")) -> 9 | W79: =IF(S79="YES",IF(T79="YES",IF(U79="YES","← Delete the scores",""),IF(AND(U79="NO",V79>0),"← Insert the scores of both teams","")),IF(U79="YES","← Delete the scores",""))
C80: 44009.896 | D80: =IFERROR(IF(FixtureCalc!C76="-","",IF(OR(FixtureCalc!E76="blank row 1",FixtureCalc!E76="blank row 2"),"","Matchweek "&FixtureCalc!C76)),"") -> Matchweek 7 | E80: =IFERROR(IF(LEN(INDEX(Settings!$D$6:$D$37,MATCH(Fixture!F80,Settings!$C$6:$C$37,0)))=0,"",INDEX(Settings!$D$6:$D$37,MATCH(Fixture!F80,Settings!$C$6:$C$37,0))),"") -> Gaylord Family Oklahoma Memorial Stadium | F80: =IFERROR(IF(FixtureCalc!C76="-","",IF(OR(FixtureCalc!E76="blank row 1",FixtureCalc!E76="blank row 2"),"", IF(LEN(INDEX(Settings!$C$6:$C$37,FixtureCalc!E76))=0,"BYE",INDEX(Settings!$C$6:$C$37,FixtureCalc!E76)) )),"") -> Unethical Bison | G80: 0 | I80: 2 | J80: =IFERROR(IF(FixtureCalc!C76="-","",IF(OR(FixtureCalc!F76="blank row 1",FixtureCalc!F76="blank row 2"),"",IF(LEN(INDEX(Settings!$C$6:$C$37,FixtureCalc!F76))=0,"BYE",INDEX(Settings!$C$6:$C$37,FixtureCalc!F76)) )),"") -> Delta Blazers | L80: =IFERROR(IF(LEN(W80)>0,"←",""),"") | S80: =IFERROR(IF(AND(LEN(F80)>0,LEN(J80)>0),"YES","NO"),"") -> YES | T80: =IFERROR(IF(OR(F80="BYE",J80="BYE"),"YES","NO"),"") -> NO | U80: =IF(OR(LEN(G80)=0,LEN(I80)=0),"NO","YES") -> YES | V80: =IF(LEN(D80)=0,0,COUNTIFS($D$8:$D$1750,D80,$G$8:$G$1750,"<>"&"",$I$8:$I$1750,"<>"&"")) -> 9 | W80: =IF(S80="YES",IF(T80="YES",IF(U80="YES","← Delete the scores",""),IF(AND(U80="NO",V80>0),"← Insert the scores of both teams","")),IF(U80="YES","← Delete the scores",""))
C81: 44009.792 | D81: =IFERROR(IF(FixtureCalc!C77="-","",IF(OR(FixtureCalc!E77="blank row 1",FixtureCalc!E77="blank row 2"),"","Matchweek "&FixtureCalc!C77)),"") -> Matchweek 7 | E81: =IFERROR(IF(LEN(INDEX(Settings!$D$6:$D$37,MATCH(Fixture!F81,Settings!$C$6:$C$37,0)))=0,"",INDEX(Settings!$D$6:$D$37,MATCH(Fixture!F81,Settings!$C$6:$C$37,0))),"") -> Ohio Stadium | F81: =IFERROR(IF(FixtureCalc!C77="-","",IF(OR(FixtureCalc!E77="blank row 1",FixtureCalc!E77="blank row 2"),"", IF(LEN(INDEX(Settings!$C$6:$C$37,FixtureCalc!E77))=0,"BYE",INDEX(Settings!$C$6:$C$37,FixtureCalc!E77)) )),"") -> Ancient Crows | G81: 3 | I81: 2 | J81: =IFERROR(IF(FixtureCalc!C77="-","",IF(OR(FixtureCalc!F77="blank row 1",FixtureCalc!F77="blank row 2"),"",IF(LEN(INDEX(Settings!$C$6:$C$37,FixtureCalc!F77))=0,"BYE",INDEX(Settings!$C$6:$C$37,FixtureCalc!F77)) )),"") -> Kaptain City | L81: =IFERROR(IF(LEN(W81)>0,"←",""),"") | S81: =IFERROR(IF(AND(LEN(F81)>0,LEN(J81)>0),"YES","NO"),"") -> YES | T81: =IFERROR(IF(OR(F81="BYE",J81="BYE"),"YES","NO"),"") -> NO | U81: =IF(OR(LEN(G81)=0,LEN(I81)=0),"NO","YES") -> YES | V81: =IF(LEN(D81)=0,0,COUNTIFS($D$8:$D$1750,D81,$G$8:$G$1750,"<>"&"",$I$8:$I$1750,"<>"&"")) -> 9 | W81: =IF(S81="YES",IF(T81="YES",IF(U81="YES","← Delete the scores",""),IF(AND(U81="NO",V81>0),"← Insert the scores of both teams","")),IF(U81="YES","← Delete the scores",""))
C82: 44009.896 | D82: =IFERROR(IF(FixtureCalc!C78="-","",IF(OR(FixtureCalc!E78="blank row 1",FixtureCalc!E78="blank row 2"),"","Matchweek "&FixtureCalc!C78)),"") -> Matchweek 7 | E82: =IFERROR(IF(LEN(INDEX(Settings!$D$6:$D$37,MATCH(Fixture!F82,Settings!$C$6:$C$37,0)))=0,"",INDEX(Settings!$D$6:$D$37,MATCH(Fixture!F82,Settings!$C$6:$C$37,0))),"") -> Kyle Field | F82: =IFERROR(IF(FixtureCalc!C78="-","",IF(OR(FixtureCalc!E78="blank row 1",FixtureCalc!E78="blank row 2"),"", IF(LEN(INDEX(Settings!$C$6:$C$37,FixtureCalc!E78))=0,"BYE",INDEX(Settings!$C$6:$C$37,FixtureCalc!E78)) )),"") -> Wise Panthers | G82: 1 | I82: 2 | J82: =IFERROR(IF(FixtureCalc!C78="-","",IF(OR(FixtureCalc!F78="blank row 1",FixtureCalc!F78="blank row 2"),"",IF(LEN(INDEX(Settings!$C$6:$C$37,FixtureCalc!F78))=0,"BYE",INDEX(Settings!$C$6:$C$37,FixtureCalc!F78)) )),"") -> South Leaders | L82: =IFERROR(IF(LEN(W82)>0,"←",""),"") | S82: =IFERROR(IF(AND(LEN(F82)>0,LEN(J82)>0),"YES","NO"),"") -> YES | T82: =IFERROR(IF(OR(F82="BYE",J82="BYE"),"YES","NO"),"") -> NO | U82: =IF(OR(LEN(G82)=0,LEN(I82)=0),"NO","YES") -> YES | V82: =IF(LEN(D82)=0,0,COUNTIFS($D$8:$D$1750,D82,$G$8:$G$1750,"<>"&"",$I$8:$I$1750,"<>"&"")) -> 9 | W82: =IF(S82="YES",IF(T82="YES",IF(U82="YES","← Delete the scores",""),IF(AND(U82="NO",V82>0),"← Insert the scores of both teams","")),IF(U82="YES","← Delete the scores",""))
D83: =IFERROR(IF(FixtureCalc!C79="-","",IF(OR(FixtureCalc!E79="blank row 1",FixtureCalc!E79="blank row 2"),"","Matchweek "&FixtureCalc!C79)),"") | E83: =IFERROR(IF(LEN(INDEX(Settings!$D$6:$D$37,MATCH(Fixture!F83,Settings!$C$6:$C$37,0)))=0,"",INDEX(Settings!$D$6:$D$37,MATCH(Fixture!F83,Settings!$C$6:$C$37,0))),"") | F83: =IFERROR(IF(FixtureCalc!C79="-","",IF(OR(FixtureCalc!E79="blank row 1",FixtureCalc!E79="blank row 2"),"", IF(LEN(INDEX(Settings!$C$6:$C$37,FixtureCalc!E79))=0,"BYE",INDEX(Settings!$C$6:$C$37,FixtureCalc!E79)) )),"") | J83: =IFERROR(IF(FixtureCalc!C79="-","",IF(OR(FixtureCalc!F79="blank row 1",FixtureCalc!F79="blank row 2"),"",IF(LEN(INDEX(Settings!$C$6:$C$37,FixtureCalc!F79))=0,"BYE",INDEX(Settings!$C$6:$C$37,FixtureCalc!F79)) )),"") | L83: =IFERROR(IF(LEN(W83)>0,"←",""),"") | S83: =IFERROR(IF(AND(LEN(F83)>0,LEN(J83)>0),"YES","NO"),"") -> NO | T83: =IFERROR(IF(OR(F83="BYE",J83="BYE"),"YES","NO"),"") -> NO | U83: =IF(OR(LEN(G83)=0,LEN(I83)=0),"NO","YES") -> NO | V83: =IF(LEN(D83)=0,0,COUNTIFS($D$8:$D$1750,D83,$G$8:$G$1750,"<>"&"",$I$8:$I$1750,"<>"&"")) -> 0 | W83: =IF(S83="YES",IF(T83="YES",IF(U83="YES","← Delete the scores",""),IF(AND(U83="NO",V83>0),"← Insert the scores of both teams","")),IF(U83="YES","← Delete the scores",""))
D84: =IFERROR(IF(FixtureCalc!C80="-","",IF(OR(FixtureCalc!E80="blank row 1",FixtureCalc!E80="blank row 2"),"","Matchweek "&FixtureCalc!C80)),"") | E84: =IFERROR(IF(LEN(INDEX(Settings!$D$6:$D$37,MATCH(Fixture!F84,Settings!$C$6:$C$37,0)))=0,"",INDEX(Settings!$D$6:$D$37,MATCH(Fixture!F84,Settings!$C$6:$C$37,0))),"") | F84: =IFERROR(IF(FixtureCalc!C80="-","",IF(OR(FixtureCalc!E80="blank row 1",FixtureCalc!E80="blank row 2"),"", IF(LEN(INDEX(Settings!$C$6:$C$37,FixtureCalc!E80))=0,"BYE",INDEX(Settings!$C$6:$C$37,FixtureCalc!E80)) )),"") | J84: =IFERROR(IF(FixtureCalc!C80="-","",IF(OR(FixtureCalc!F80="blank row 1",FixtureCalc!F80="blank row 2"),"",IF(LEN(INDEX(Settings!$C$6:$C$37,FixtureCalc!F80))=0,"BYE",INDEX(Settings!$C$6:$C$37,FixtureCalc!F80)) )),"") | L84: =IFERROR(IF(LEN(W84)>0,"←",""),"") | S84: =IFERROR(IF(AND(LEN(F84)>0,LEN(J84)>0),"YES","NO"),"") -> NO | T84: =IFERROR(IF(OR(F84="BYE",J84="BYE"),"YES","NO"),"") -> NO | U84: =IF(OR(LEN(G84)=0,LEN(I84)=0),"NO","YES") -> NO | V84: =IF(LEN(D84)=0,0,COUNTIFS($D$8:$D$1750,D84,$G$8:$G$1750,"<>"&"",$I$8:$I$1750,"<>"&"")) -> 0 | W84: =IF(S84="YES",IF(T84="YES",IF(U84="YES","← Delete the scores",""),IF(AND(U84="NO",V84>0),"← Insert the scores of both teams","")),IF(U84="YES","← Delete the scores",""))
C85: 44009.823 | D85: =IFERROR(IF(FixtureCalc!C81="-","",IF(OR(FixtureCalc!E81="blank row 1",FixtureCalc!E81="blank row 2"),"","Matchweek "&FixtureCalc!C81)),"") -> Matchweek 8 | E85: =IFERROR(IF(LEN(INDEX(Settings!$D$6:$D$37,MATCH(Fixture!F85,Settings!$C$6:$C$37,0)))=0,"",INDEX(Settings!$D$6:$D$37,MATCH(Fixture!F85,Settings!$C$6:$C$37,0))),"") -> Beaver Stadium | F85: =IFERROR(IF(FixtureCalc!C81="-","",IF(OR(FixtureCalc!E81="blank row 1",FixtureCalc!E81="blank row 2"),"", IF(LEN(INDEX(Settings!$C$6:$C$37,FixtureCalc!E81))=0,"BYE",INDEX(Settings!$C$6:$C$37,FixtureCalc!E81)) )),"") -> Legal Swamp Twisters | G85: 3 | I85: 3 | J85: =IFERROR(IF(FixtureCalc!C81="-","",IF(OR(FixtureCalc!F81="blank row 1",FixtureCalc!F81="blank row 2"),"",IF(LEN(INDEX(Settings!$C$6:$C$37,FixtureCalc!F81))=0,"BYE",INDEX(Settings!$C$6:$C$37,FixtureCalc!F81)) )),"") -> Haunting Bottle Rockets | L85: =IFERROR(IF(LEN(W85)>0,"←",""),"") | S85: =IFERROR(IF(AND(LEN(F85)>0,LEN(J85)>0),"YES","NO"),"") -> YES | T85: =IFERROR(IF(OR(F85="BYE",J85="BYE"),"YES","NO"),"") -> NO | U85: =IF(OR(LEN(G85)=0,LEN(I85)=0),"NO","YES") -> YES | V85: =IF(LEN(D85)=0,0,COUNTIFS($D$8:$D$1750,D85,$G$8:$G$1750,"<>"&"",$I$8:$I$1750,"<>"&"")) -> 9 | W85: =IF(S85="YES",IF(T85="YES",IF(U85="YES","← Delete the scores",""),IF(AND(U85="NO",V85>0),"← Insert the scores of both teams","")),IF(U85="YES","← Delete the scores",""))
C86: 44009.875 | D86: =IFERROR(IF(FixtureCalc!C82="-","",IF(OR(FixtureCalc!E82="blank row 1",FixtureCalc!E82="blank row 2"),"","Matchweek "&FixtureCalc!C82)),"") -> Matchweek 8 | E86: =IFERROR(IF(LEN(INDEX(Settings!$D$6:$D$37,MATCH(Fixture!F86,Settings!$C$6:$C$37,0)))=0,"",INDEX(Settings!$D$6:$D$37,MATCH(Fixture!F86,Settings!$C$6:$C$37,0))),"") -> Neyland Stadium | F86: =IFERROR(IF(FixtureCalc!C82="-","",IF(OR(FixtureCalc!E82="blank row 1",FixtureCalc!E82="blank row 2"),"", IF(LEN(INDEX(Settings!$C$6:$C$37,FixtureCalc!E82))=0,"BYE",INDEX(Settings!$C$6:$C$37,FixtureCalc!E82)) )),"") -> Final Green Gazelles | G86: 2 | I86: 2 | J86: =IFERROR(IF(FixtureCalc!C82="-","",IF(OR(FixtureCalc!F82="blank row 1",FixtureCalc!F82="blank row 2"),"",IF(LEN(INDEX(Settings!$C$6:$C$37,FixtureCalc!F82))=0,"BYE",INDEX(Settings!$C$6:$C$37,FixtureCalc!F82)) )),"") -> Red Sirens | L86: =IFERROR(IF(LEN(W86)>0,"←",""),"") | S86: =IFERROR(IF(AND(LEN(F86)>0,LEN(J86)>0),"YES","NO"),"") -> YES | T86: =IFERROR(IF(OR(F86="BYE",J86="BYE"),"YES","NO"),"") -> NO | U86: =IF(OR(LEN(G86)=0,LEN(I86)=0),"NO","YES") -> YES | V86: =IF(LEN(D86)=0,0,COUNTIFS($D$8:$D$1750,D86,$G$8:$G$1750,"<>"&"",$I$8:$I$1750,"<>"&"")) -> 9 | W86: =IF(S86="YES",IF(T86="YES",IF(U86="YES","← Delete the scores",""),IF(AND(U86="NO",V86>0),"← Insert the scores of both teams","")),IF(U86="YES","← Delete the scores",""))
C87: 44009.875 | D87: =IFERROR(IF(FixtureCalc!C83="-","",IF(OR(FixtureCalc!E83="blank row 1",FixtureCalc!E83="blank row 2"),"","Matchweek "&FixtureCalc!C83)),"") -> Matchweek 8 | E87: =IFERROR(IF(LEN(INDEX(Settings!$D$6:$D$37,MATCH(Fixture!F87,Settings!$C$6:$C$37,0)))=0,"",INDEX(Settings!$D$6:$D$37,MATCH(Fixture!F87,Settings!$C$6:$C$37,0))),"") -> Tiger Stadium | F87: =IFERROR(IF(FixtureCalc!C83="-","",IF(OR(FixtureCalc!E83="blank row 1",FixtureCalc!E83="blank row 2"),"", IF(LEN(INDEX(Settings!$C$6:$C$37,FixtureCalc!E83))=0,"BYE",INDEX(Settings!$C$6:$C$37,FixtureCalc!E83)) )),"") -> Mighty Patriots | G87: 1 | I87: 0 | J87: =IFERROR(IF(FixtureCalc!C83="-","",IF(OR(FixtureCalc!F83="blank row 1",FixtureCalc!F83="blank row 2"),"",IF(LEN(INDEX(Settings!$C$6:$C$37,FixtureCalc!F83))=0,"BYE",INDEX(Settings!$C$6:$C$37,FixtureCalc!F83)) )),"") -> Earnest Broncos | L87: =IFERROR(IF(LEN(W87)>0,"←",""),"") | S87: =IFERROR(IF(AND(LEN(F87)>0,LEN(J87)>0),"YES","NO"),"") -> YES | T87: =IFERROR(IF(OR(F87="BYE",J87="BYE"),"YES","NO"),"") -> NO | U87: =IF(OR(LEN(G87)=0,LEN(I87)=0),"NO","YES") -> YES | V87: =IF(LEN(D87)=0,0,COUNTIFS($D$8:$D$1750,D87,$G$8:$G$1750,"<>"&"",$I$8:$I$1750,"<>"&"")) -> 9 | W87: =IF(S87="YES",IF(T87="YES",IF(U87="YES","← Delete the scores",""),IF(AND(U87="NO",V87>0),"← Insert the scores of both teams","")),IF(U87="YES","← Delete the scores",""))
C88: 44009.875 | D88: =IFERROR(IF(FixtureCalc!C84="-","",IF(OR(FixtureCalc!E84="blank row 1",FixtureCalc!E84="blank row 2"),"","Matchweek "&FixtureCalc!C84)),"") -> Matchweek 8 | E88: =IFERROR(IF(LEN(INDEX(Settings!$D$6:$D$37,MATCH(Fixture!F88,Settings!$C$6:$C$37,0)))=0,"",INDEX(Settings!$D$6:$D$37,MATCH(Fixture!F88,Settings!$C$6:$C$37,0))),"") -> Bryant–Denny Stadium | F88: =IFERROR(IF(FixtureCalc!C84="-","",IF(OR(FixtureCalc!E84="blank row 1",FixtureCalc!E84="blank row 2"),"", IF(LEN(INDEX(Settings!$C$6:$C$37,FixtureCalc!E84))=0,"BYE",INDEX(Settings!$C$6:$C$37,FixtureCalc!E84)) )),"") -> The Krakens | G88: 3 | I88: 3 | J88: =IFERROR(IF(FixtureCalc!C84="-","",IF(OR(FixtureCalc!F84="blank row 1",FixtureCalc!F84="blank row 2"),"",IF(LEN(INDEX(Settings!$C$6:$C$37,FixtureCalc!F84))=0,"BYE",INDEX(Settings!$C$6:$C$37,FixtureCalc!F84)) )),"") -> Silver Rangers | L88: =IFERROR(IF(LEN(W88)>0,"←",""),"") | S88: =IFERROR(IF(AND(LEN(F88)>0,LEN(J88)>0),"YES","NO"),"") -> YES | T88: =IFERROR(IF(OR(F88="BYE",J88="BYE"),"YES","NO"),"") -> NO | U88: =IF(OR(LEN(G88)=0,LEN(I88)=0),"NO","YES") -> YES | V88: =IF(LEN(D88)=0,0,COUNTIFS($D$8:$D$1750,D88,$G$8:$G$1750,"<>"&"",$I$8:$I$1750,"<>"&"")) -> 9 | W88: =IF(S88="YES",IF(T88="YES",IF(U88="YES","← Delete the scores",""),IF(AND(U88="NO",V88>0),"← Insert the scores of both teams","")),IF(U88="YES","← Delete the scores",""))
C89: 44010.75 | D89: =IFERROR(IF(FixtureCalc!C85="-","",IF(OR(FixtureCalc!E85="blank row 1",FixtureCalc!E85="blank row 2"),"","Matchweek "&FixtureCalc!C85)),"") -> Matchweek 8 | E89: =IFERROR(IF(LEN(INDEX(Settings!$D$6:$D$37,MATCH(Fixture!F89,Settings!$C$6:$C$37,0)))=0,"",INDEX(Settings!$D$6:$D$37,MATCH(Fixture!F89,Settings!$C$6:$C$37,0))),"") -> Darrell K Royal–Texas Memorial Stadium | F89: =IFERROR(IF(FixtureCalc!C85="-","",IF(OR(FixtureCalc!E85="blank row 1",FixtureCalc!E85="blank row 2"),"", IF(LEN(INDEX(Settings!$C$6:$C$37,FixtureCalc!E85))=0,"BYE",INDEX(Settings!$C$6:$C$37,FixtureCalc!E85)) )),"") -> Northern Tan Whackers | G89: 3 | I89: 0 | J89: =IFERROR(IF(FixtureCalc!C85="-","",IF(OR(FixtureCalc!F85="blank row 1",FixtureCalc!F85="blank row 2"),"",IF(LEN(INDEX(Settings!$C$6:$C$37,FixtureCalc!F85))=0,"BYE",INDEX(Settings!$C$6:$C$37,FixtureCalc!F85)) )),"") -> Real Revolution | L89: =IFERROR(IF(LEN(W89)>0,"←",""),"") | S89: =IFERROR(IF(AND(LEN(F89)>0,LEN(J89)>0),"YES","NO"),"") -> YES | T89: =IFERROR(IF(OR(F89="BYE",J89="BYE"),"YES","NO"),"") -> NO | U89: =IF(OR(LEN(G89)=0,LEN(I89)=0),"NO","YES") -> YES | V89: =IF(LEN(D89)=0,0,COUNTIFS($D$8:$D$1750,D89,$G$8:$G$1750,"<>"&"",$I$8:$I$1750,"<>"&"")) -> 9 | W89: =IF(S89="YES",IF(T89="YES",IF(U89="YES","← Delete the scores",""),IF(AND(U89="NO",V89>0),"← Insert the scores of both teams","")),IF(U89="YES","← Delete the scores",""))
C90: 44010.792 | D90: =IFERROR(IF(FixtureCalc!C86="-","",IF(OR(FixtureCalc!E86="blank row 1",FixtureCalc!E86="blank row 2"),"","Matchweek "&FixtureCalc!C86)),"") -> Matchweek 8 | E90: =IFERROR(IF(LEN(INDEX(Settings!$D$6:$D$37,MATCH(Fixture!F90,Settings!$C$6:$C$37,0)))=0,"",INDEX(Settings!$D$6:$D$37,MATCH(Fixture!F90,Settings!$C$6:$C$37,0))),"") -> Ben Hill Griffin Stadium | F90: =IFERROR(IF(FixtureCalc!C86="-","",IF(OR(FixtureCalc!E86="blank row 1",FixtureCalc!E86="blank row 2"),"", IF(LEN(INDEX(Settings!$C$6:$C$37,FixtureCalc!E86))=0,"BYE",INDEX(Settings!$C$6:$C$37,FixtureCalc!E86)) )),"") -> The Classic | G90: 0 | I90: 0 | J90: =IFERROR(IF(FixtureCalc!C86="-","",IF(OR(FixtureCalc!F86="blank row 1",FixtureCalc!F86="blank row 2"),"",IF(LEN(INDEX(Settings!$C$6:$C$37,FixtureCalc!F86))=0,"BYE",INDEX(Settings!$C$6:$C$37,FixtureCalc!F86)) )),"") -> Delta Blazers | L90: =IFERROR(IF(LEN(W90)>0,"←",""),"") | S90: =IFERROR(IF(AND(LEN(F90)>0,LEN(J90)>0),"YES","NO"),"") -> YES | T90: =IFERROR(IF(OR(F90="BYE",J90="BYE"),"YES","NO"),"") -> NO | U90: =IF(OR(LEN(G90)=0,LEN(I90)=0),"NO","YES") -> YES | V90: =IF(LEN(D90)=0,0,COUNTIFS($D$8:$D$1750,D90,$G$8:$G$1750,"<>"&"",$I$8:$I$1750,"<>"&"")) -> 9 | W90: =IF(S90="YES",IF(T90="YES",IF(U90="YES","← Delete the scores",""),IF(AND(U90="NO",V90>0),"← Insert the scores of both teams","")),IF(U90="YES","← Delete the scores",""))
C91: 44010.896 | D91: =IFERROR(IF(FixtureCalc!C87="-","",IF(OR(FixtureCalc!E87="blank row 1",FixtureCalc!E87="blank row 2"),"","Matchweek "&FixtureCalc!C87)),"") -> Matchweek 8 | E91: =IFERROR(IF(LEN(INDEX(Settings!$D$6:$D$37,MATCH(Fixture!F91,Settings!$C$6:$C$37,0)))=0,"",INDEX(Settings!$D$6:$D$37,MATCH(Fixture!F91,Settings!$C$6:$C$37,0))),"") -> Jordan–Hare Stadium | F91: =IFERROR(IF(FixtureCalc!C87="-","",IF(OR(FixtureCalc!E87="blank row 1",FixtureCalc!E87="blank row 2"),"", IF(LEN(INDEX(Settings!$C$6:$C$37,FixtureCalc!E87))=0,"BYE",INDEX(Settings!$C$6:$C$37,FixtureCalc!E87)) )),"") -> Defiant Jesters | G91: 0 | I91: 4 | J91: =IFERROR(IF(FixtureCalc!C87="-","",IF(OR(FixtureCalc!F87="blank row 1",FixtureCalc!F87="blank row 2"),"",IF(LEN(INDEX(Settings!$C$6:$C$37,FixtureCalc!F87))=0,"BYE",INDEX(Settings!$C$6:$C$37,FixtureCalc!F87)) )),"") -> Kaptain City | L91: =IFERROR(IF(LEN(W91)>0,"←",""),"") | S91: =IFERROR(IF(AND(LEN(F91)>0,LEN(J91)>0),"YES","NO"),"") -> YES | T91: =IFERROR(IF(OR(F91="BYE",J91="BYE"),"YES","NO"),"") -> NO | U91: =IF(OR(LEN(G91)=0,LEN(I91)=0),"NO","YES") -> YES | V91: =IF(LEN(D91)=0,0,COUNTIFS($D$8:$D$1750,D91,$G$8:$G$1750,"<>"&"",$I$8:$I$1750,"<>"&"")) -> 9 | W91: =IF(S91="YES",IF(T91="YES",IF(U91="YES","← Delete the scores",""),IF(AND(U91="NO",V91>0),"← Insert the scores of both teams","")),IF(U91="YES","← Delete the scores",""))
C92: 44010.792 | D92: =IFERROR(IF(FixtureCalc!C88="-","",IF(OR(FixtureCalc!E88="blank row 1",FixtureCalc!E88="blank row 2"),"","Matchweek "&FixtureCalc!C88)),"") -> Matchweek 8 | E92: =IFERROR(IF(LEN(INDEX(Settings!$D$6:$D$37,MATCH(Fixture!F92,Settings!$C$6:$C$37,0)))=0,"",INDEX(Settings!$D$6:$D$37,MATCH(Fixture!F92,Settings!$C$6:$C$37,0))),"") -> Gaylord Family Oklahoma Memorial Stadium | F92: =IFERROR(IF(FixtureCalc!C88="-","",IF(OR(FixtureCalc!E88="blank row 1",FixtureCalc!E88="blank row 2"),"", IF(LEN(INDEX(Settings!$C$6:$C$37,FixtureCalc!E88))=0,"BYE",INDEX(Settings!$C$6:$C$37,FixtureCalc!E88)) )),"") -> Unethical Bison | G92: 2 | I92: 3 | J92: =IFERROR(IF(FixtureCalc!C88="-","",IF(OR(FixtureCalc!F88="blank row 1",FixtureCalc!F88="blank row 2"),"",IF(LEN(INDEX(Settings!$C$6:$C$37,FixtureCalc!F88))=0,"BYE",INDEX(Settings!$C$6:$C$37,FixtureCalc!F88)) )),"") -> South Leaders | L92: =IFERROR(IF(LEN(W92)>0,"←",""),"") | S92: =IFERROR(IF(AND(LEN(F92)>0,LEN(J92)>0),"YES","NO"),"") -> YES | T92: =IFERROR(IF(OR(F92="BYE",J92="BYE"),"YES","NO"),"") -> NO | U92: =IF(OR(LEN(G92)=0,LEN(I92)=0),"NO","YES") -> YES | V92: =IF(LEN(D92)=0,0,COUNTIFS($D$8:$D$1750,D92,$G$8:$G$1750,"<>"&"",$I$8:$I$1750,"<>"&"")) -> 9 | W92: =IF(S92="YES",IF(T92="YES",IF(U92="YES","← Delete the scores",""),IF(AND(U92="NO",V92>0),"← Insert the scores of both teams","")),IF(U92="YES","← Delete the scores",""))
C93: 44010.896 | D93: =IFERROR(IF(FixtureCalc!C89="-","",IF(OR(FixtureCalc!E89="blank row 1",FixtureCalc!E89="blank row 2"),"","Matchweek "&FixtureCalc!C89)),"") -> Matchweek 8 | E93: =IFERROR(IF(LEN(INDEX(Settings!$D$6:$D$37,MATCH(Fixture!F93,Settings!$C$6:$C$37,0)))=0,"",INDEX(Settings!$D$6:$D$37,MATCH(Fixture!F93,Settings!$C$6:$C$37,0))),"") -> Ohio Stadium | F93: =IFERROR(IF(FixtureCalc!C89="-","",IF(OR(FixtureCalc!E89="blank row 1",FixtureCalc!E89="blank row 2"),"", IF(LEN(INDEX(Settings!$C$6:$C$37,FixtureCalc!E89))=0,"BYE",INDEX(Settings!$C$6:$C$37,FixtureCalc!E89)) )),"") -> Ancient Crows | G93: 2 | I93: 0 | J93: =IFERROR(IF(FixtureCalc!C89="-","",IF(OR(FixtureCalc!F89="blank row 1",FixtureCalc!F89="blank row 2"),"",IF(LEN(INDEX(Settings!$C$6:$C$37,FixtureCalc!F89))=0,"BYE",INDEX(Settings!$C$6:$C$37,FixtureCalc!F89)) )),"") -> Wise Panthers | L93: =IFERROR(IF(LEN(W93)>0,"←",""),"") | S93: =IFERROR(IF(AND(LEN(F93)>0,LEN(J93)>0),"YES","NO"),"") -> YES | T93: =IFERROR(IF(OR(F93="BYE",J93="BYE"),"YES","NO"),"") -> NO | U93: =IF(OR(LEN(G93)=0,LEN(I93)=0),"NO","YES") -> YES | V93: =IF(LEN(D93)=0,0,COUNTIFS($D$8:$D$1750,D93,$G$8:$G$1750,"<>"&"",$I$8:$I$1750,"<>"&"")) -> 9 | W93: =IF(S93="YES",IF(T93="YES",IF(U93="YES","← Delete the scores",""),IF(AND(U93="NO",V93>0),"← Insert the scores of both teams","")),IF(U93="YES","← Delete the scores",""))
D94: =IFERROR(IF(FixtureCalc!C90="-","",IF(OR(FixtureCalc!E90="blank row 1",FixtureCalc!E90="blank row 2"),"","Matchweek "&FixtureCalc!C90)),"") | E94: =IFERROR(IF(LEN(INDEX(Settings!$D$6:$D$37,MATCH(Fixture!F94,Settings!$C$6:$C$37,0)))=0,"",INDEX(Settings!$D$6:$D$37,MATCH(Fixture!F94,Settings!$C$6:$C$37,0))),"") | F94: =IFERROR(IF(FixtureCalc!C90="-","",IF(OR(FixtureCalc!E90="blank row 1",FixtureCalc!E90="blank row 2"),"", IF(LEN(INDEX(Settings!$C$6:$C$37,FixtureCalc!E90))=0,"BYE",INDEX(Settings!$C$6:$C$37,FixtureCalc!E90)) )),"") | J94: =IFERROR(IF(FixtureCalc!C90="-","",IF(OR(FixtureCalc!F90="blank row 1",FixtureCalc!F90="blank row 2"),"",IF(LEN(INDEX(Settings!$C$6:$C$37,FixtureCalc!F90))=0,"BYE",INDEX(Settings!$C$6:$C$37,FixtureCalc!F90)) )),"") | L94: =IFERROR(IF(LEN(W94)>0,"←",""),"") | S94: =IFERROR(IF(AND(LEN(F94)>0,LEN(J94)>0),"YES","NO"),"") -> NO | T94: =IFERROR(IF(OR(F94="BYE",J94="BYE"),"YES","NO"),"") -> NO | U94: =IF(OR(LEN(G94)=0,LEN(I94)=0),"NO","YES") -> NO | V94: =IF(LEN(D94)=0,0,COUNTIFS($D$8:$D$1750,D94,$G$8:$G$1750,"<>"&"",$I$8:$I$1750,"<>"&"")) -> 0 | W94: =IF(S94="YES",IF(T94="YES",IF(U94="YES","← Delete the scores",""),IF(AND(U94="NO",V94>0),"← Insert the scores of both teams","")),IF(U94="YES","← Delete the scores",""))
D95: =IFERROR(IF(FixtureCalc!C91="-","",IF(OR(FixtureCalc!E91="blank row 1",FixtureCalc!E91="blank row 2"),"","Matchweek "&FixtureCalc!C91)),"") | E95: =IFERROR(IF(LEN(INDEX(Settings!$D$6:$D$37,MATCH(Fixture!F95,Settings!$C$6:$C$37,0)))=0,"",INDEX(Settings!$D$6:$D$37,MATCH(Fixture!F95,Settings!$C$6:$C$37,0))),"") | F95: =IFERROR(IF(FixtureCalc!C91="-","",IF(OR(FixtureCalc!E91="blank row 1",FixtureCalc!E91="blank row 2"),"", IF(LEN(INDEX(Settings!$C$6:$C$37,FixtureCalc!E91))=0,"BYE",INDEX(Settings!$C$6:$C$37,FixtureCalc!E91)) )),"") | J95: =IFERROR(IF(FixtureCalc!C91="-","",IF(OR(FixtureCalc!F91="blank row 1",FixtureCalc!F91="blank row 2"),"",IF(LEN(INDEX(Settings!$C$6:$C$37,FixtureCalc!F91))=0,"BYE",INDEX(Settings!$C$6:$C$37,FixtureCalc!F91)) )),"") | L95: =IFERROR(IF(LEN(W95)>0,"←",""),"") | S95: =IFERROR(IF(AND(LEN(F95)>0,LEN(J95)>0),"YES","NO"),"") -> NO | T95: =IFERROR(IF(OR(F95="BYE",J95="BYE"),"YES","NO"),"") -> NO | U95: =IF(OR(LEN(G95)=0,LEN(I95)=0),"NO","YES") -> NO | V95: =IF(LEN(D95)=0,0,COUNTIFS($D$8:$D$1750,D95,$G$8:$G$1750,"<>"&"",$I$8:$I$1750,"<>"&"")) -> 0 | W95: =IF(S95="YES",IF(T95="YES",IF(U95="YES","← Delete the scores",""),IF(AND(U95="NO",V95>0),"← Insert the scores of both teams","")),IF(U95="YES","← Delete the scores",""))
C96: 44010.823 | D96: =IFERROR(IF(FixtureCalc!C92="-","",IF(OR(FixtureCalc!E92="blank row 1",FixtureCalc!E92="blank row 2"),"","Matchweek "&FixtureCalc!C92)),"") -> Matchweek 9 | E96: =IFERROR(IF(LEN(INDEX(Settings!$D$6:$D$37,MATCH(Fixture!F96,Settings!$C$6:$C$37,0)))=0,"",INDEX(Settings!$D$6:$D$37,MATCH(Fixture!F96,Settings!$C$6:$C$37,0))),"") -> Beaver Stadium | F96: =IFERROR(IF(FixtureCalc!C92="-","",IF(OR(FixtureCalc!E92="blank row 1",FixtureCalc!E92="blank row 2"),"", IF(LEN(INDEX(Settings!$C$6:$C$37,FixtureCalc!E92))=0,"BYE",INDEX(Settings!$C$6:$C$37,FixtureCalc!E92)) )),"") -> Legal Swamp Twisters | G96: 0 | I96: 2 | J96: =IFERROR(IF(FixtureCalc!C92="-","",IF(OR(FixtureCalc!F92="blank row 1",FixtureCalc!F92="blank row 2"),"",IF(LEN(INDEX(Settings!$C$6:$C$37,FixtureCalc!F92))=0,"BYE",INDEX(Settings!$C$6:$C$37,FixtureCalc!F92)) )),"") -> Red Sirens | L96: =IFERROR(IF(LEN(W96)>0,"←",""),"") | S96: =IFERROR(IF(AND(LEN(F96)>0,LEN(J96)>0),"YES","NO"),"") -> YES | T96: =IFERROR(IF(OR(F96="BYE",J96="BYE"),"YES","NO"),"") -> NO | U96: =IF(OR(LEN(G96)=0,LEN(I96)=0),"NO","YES") -> YES | V96: =IF(LEN(D96)=0,0,COUNTIFS($D$8:$D$1750,D96,$G$8:$G$1750,"<>"&"",$I$8:$I$1750,"<>"&"")) -> 9 | W96: =IF(S96="YES",IF(T96="YES",IF(U96="YES","← Delete the scores",""),IF(AND(U96="NO",V96>0),"← Insert the scores of both teams","")),IF(U96="YES","← Delete the scores",""))
C97: 44010.875 | D97: =IFERROR(IF(FixtureCalc!C93="-","",IF(OR(FixtureCalc!E93="blank row 1",FixtureCalc!E93="blank row 2"),"","Matchweek "&FixtureCalc!C93)),"") -> Matchweek 9 | E97: =IFERROR(IF(LEN(INDEX(Settings!$D$6:$D$37,MATCH(Fixture!F97,Settings!$C$6:$C$37,0)))=0,"",INDEX(Settings!$D$6:$D$37,MATCH(Fixture!F97,Settings!$C$6:$C$37,0))),"") -> Memorial Stadium | F97: =IFERROR(IF(FixtureCalc!C93="-","",IF(OR(FixtureCalc!E93="blank row 1",FixtureCalc!E93="blank row 2"),"", IF(LEN(INDEX(Settings!$C$6:$C$37,FixtureCalc!E93))=0,"BYE",INDEX(Settings!$C$6:$C$37,FixtureCalc!E93)) )),"") -> Haunting Bottle Rockets | G97: 4 | I97: 4 | J97: =IFERROR(IF(FixtureCalc!C93="-","",IF(OR(FixtureCalc!F93="blank row 1",FixtureCalc!F93="blank row 2"),"",IF(LEN(INDEX(Settings!$C$6:$C$37,FixtureCalc!F93))=0,"BYE",INDEX(Settings!$C$6:$C$37,FixtureCalc!F93)) )),"") -> Earnest Broncos | L97: =IFERROR(IF(LEN(W97)>0,"←",""),"") | S97: =IFERROR(IF(AND(LEN(F97)>0,LEN(J97)>0),"YES","NO"),"") -> YES | T97: =IFERROR(IF(OR(F97="BYE",J97="BYE"),"YES","NO"),"") -> NO | U97: =IF(OR(LEN(G97)=0,LEN(I97)=0),"NO","YES") -> YES | V97: =IF(LEN(D97)=0,0,COUNTIFS($D$8:$D$1750,D97,$G$8:$G$1750,"<>"&"",$I$8:$I$1750,"<>"&"")) -> 9 | W97: =IF(S97="YES",IF(T97="YES",IF(U97="YES","← Delete the scores",""),IF(AND(U97="NO",V97>0),"← Insert the scores of both teams","")),IF(U97="YES","← Delete the scores",""))
C98: 44010.875 | D98: =IFERROR(IF(FixtureCalc!C94="-","",IF(OR(FixtureCalc!E94="blank row 1",FixtureCalc!E94="blank row 2"),"","Matchweek "&FixtureCalc!C94)),"") -> Matchweek 9 | E98: =IFERROR(IF(LEN(INDEX(Settings!$D$6:$D$37,MATCH(Fixture!F98,Settings!$C$6:$C$37,0)))=0,"",INDEX(Settings!$D$6:$D$37,MATCH(Fixture!F98,Settings!$C$6:$C$37,0))),"") -> Neyland Stadium | F98: =IFERROR(IF(FixtureCalc!C94="-","",IF(OR(FixtureCalc!E94="blank row 1",FixtureCalc!E94="blank row 2"),"", IF(LEN(INDEX(Settings!$C$6:$C$37,FixtureCalc!E94))=0,"BYE",INDEX(Settings!$C$6:$C$37,FixtureCalc!E94)) )),"") -> Final Green Gazelles | G98: 3 | I98: 3 | J98: =IFERROR(IF(FixtureCalc!C94="-","",IF(OR(FixtureCalc!F94="blank row 1",FixtureCalc!F94="blank row 2"),"",IF(LEN(INDEX(Settings!$C$6:$C$37,FixtureCalc!F94))=0,"BYE",INDEX(Settings!$C$6:$C$37,FixtureCalc!F94)) )),"") -> Silver Rangers | L98: =IFERROR(IF(LEN(W98)>0,"←",""),"") | S98: =IFERROR(IF(AND(LEN(F98)>0,LEN(J98)>0),"YES","NO"),"") -> YES | T98: =IFERROR(IF(OR(F98="BYE",J98="BYE"),"YES","NO"),"") -> NO | U98: =IF(OR(LEN(G98)=0,LEN(I98)=0),"NO","YES") -> YES | V98: =IF(LEN(D98)=0,0,COUNTIFS($D$8:$D$1750,D98,$G$8:$G$1750,"<>"&"",$I$8:$I$1750,"<>"&"")) -> 9 | W98: =IF(S98="YES",IF(T98="YES",IF(U98="YES","← Delete the scores",""),IF(AND(U98="NO",V98>0),"← Insert the scores of both teams","")),IF(U98="YES","← Delete the scores",""))
C99: 44010.875 | D99: =IFERROR(IF(FixtureCalc!C95="-","",IF(OR(FixtureCalc!E95="blank row 1",FixtureCalc!E95="blank row 2"),"","Matchweek "&FixtureCalc!C95)),"") -> Matchweek 9 | E99: =IFERROR(IF(LEN(INDEX(Settings!$D$6:$D$37,MATCH(Fixture!F99,Settings!$C$6:$C$37,0)))=0,"",INDEX(Settings!$D$6:$D$37,MATCH(Fixture!F99,Settings!$C$6:$C$37,0))),"") -> Tiger Stadium | F99: =IFERROR(IF(FixtureCalc!C95="-","",IF(OR(FixtureCalc!E95="blank row 1",FixtureCalc!E95="blank row 2"),"", IF(LEN(INDEX(Settings!$C$6:$C$37,FixtureCalc!E95))=0,"BYE",INDEX(Settings!$C$6:$C$37,FixtureCalc!E95)) )),"") -> Mighty Patriots | G99: 0 | I99: 0 | J99: =IFERROR(IF(FixtureCalc!C95="-","",IF(OR(FixtureCalc!F95="blank row 1",FixtureCalc!F95="blank row 2"),"",IF(LEN(INDEX(Settings!$C$6:$C$37,FixtureCalc!F95))=0,"BYE",INDEX(Settings!$C$6:$C$37,FixtureCalc!F95)) )),"") -> Real Revolution | L99: =IFERROR(IF(LEN(W99)>0,"←",""),"") | S99: =IFERROR(IF(AND(LEN(F99)>0,LEN(J99)>0),"YES","NO"),"") -> YES | T99: =IFERROR(IF(OR(F99="BYE",J99="BYE"),"YES","NO"),"") -> NO | U99: =IF(OR(LEN(G99)=0,LEN(I99)=0),"NO","YES") -> YES | V99: =IF(LEN(D99)=0,0,COUNTIFS($D$8:$D$1750,D99,$G$8:$G$1750,"<>"&"",$I$8:$I$1750,"<>"&"")) -> 9 | W99: =IF(S99="YES",IF(T99="YES",IF(U99="YES","← Delete the scores",""),IF(AND(U99="NO",V99>0),"← Insert the scores of both teams","")),IF(U99="YES","← Delete the scores",""))
C100: 44011.75 | D100: =IFERROR(IF(FixtureCalc!C96="-","",IF(OR(FixtureCalc!E96="blank row 1",FixtureCalc!E96="blank row 2"),"","Matchweek "&FixtureCalc!C96)),"") -> Matchweek 9 | E100: =IFERROR(IF(LEN(INDEX(Settings!$D$6:$D$37,MATCH(Fixture!F100,Settings!$C$6:$C$37,0)))=0,"",INDEX(Settings!$D$6:$D$37,MATCH(Fixture!F100,Settings!$C$6:$C$37,0))),"") -> Bryant–Denny Stadium | F100: =IFERROR(IF(FixtureCalc!C96="-","",IF(OR(FixtureCalc!E96="blank row 1",FixtureCalc!E96="blank row 2"),"", IF(LEN(INDEX(Settings!$C$6:$C$37,FixtureCalc!E96))=0,"BYE",INDEX(Settings!$C$6:$C$37,FixtureCalc!E96)) )),"") -> The Krakens | G100: 2 | I100: 4 | J100: =IFERROR(IF(FixtureCalc!C96="-","",IF(OR(FixtureCalc!F96="blank row 1",FixtureCalc!F96="blank row 2"),"",IF(LEN(INDEX(Settings!$C$6:$C$37,FixtureCalc!F96))=0,"BYE",INDEX(Settings!$C$6:$C$37,FixtureCalc!F96)) )),"") -> Delta Blazers | L100: =IFERROR(IF(LEN(W100)>0,"←",""),"") | S100: =IFERROR(IF(AND(LEN(F100)>0,LEN(J100)>0),"YES","NO"),"") -> YES | T100: =IFERROR(IF(OR(F100="BYE",J100="BYE"),"YES","NO"),"") -> NO | U100: =IF(OR(LEN(G100)=0,LEN(I100)=0),"NO","YES") -> YES | V100: =IF(LEN(D100)=0,0,COUNTIFS($D$8:$D$1750,D100,$G$8:$G$1750,"<>"&"",$I$8:$I$1750,"<>"&"")) -> 9 | W100: =IF(S100="YES",IF(T100="YES",IF(U100="YES","← Delete the scores",""),IF(AND(U100="NO",V100>0),"← Insert the scores of both teams","")),IF(U100="YES","← Delete the scores",""))
C101: 44011.792 | D101: =IFERROR(IF(FixtureCalc!C97="-","",IF(OR(FixtureCalc!E97="blank row 1",FixtureCalc!E97="blank row 2"),"","Matchweek "&FixtureCalc!C97)),"") -> Matchweek 9 | E101: =IFERROR(IF(LEN(INDEX(Settings!$D$6:$D$37,MATCH(Fixture!F101,Settings!$C$6:$C$37,0)))=0,"",INDEX(Settings!$D$6:$D$37,MATCH(Fixture!F101,Settings!$C$6:$C$37,0))),"") -> Darrell K Royal–Texas Memorial Stadium | F101: =IFERROR(IF(FixtureCalc!C97="-","",IF(OR(FixtureCalc!E97="blank row 1",FixtureCalc!E97="blank row 2"),"", IF(LEN(INDEX(Settings!$C$6:$C$37,FixtureCalc!E97))=0,"BYE",INDEX(Settings!$C$6:$C$37,FixtureCalc!E97)) )),"") -> Northern Tan Whackers | G101: 1 | I101: 1 | J101: =IFERROR(IF(FixtureCalc!C97="-","",IF(OR(FixtureCalc!F97="blank row 1",FixtureCalc!F97="blank row 2"),"",IF(LEN(INDEX(Settings!$C$6:$C$37,FixtureCalc!F97))=0,"BYE",INDEX(Settings!$C$6:$C$37,FixtureCalc!F97)) )),"") -> Kaptain City | L101: =IFERROR(IF(LEN(W101)>0,"←",""),"") | S101: =IFERROR(IF(AND(LEN(F101)>0,LEN(J101)>0),"YES","NO"),"") -> YES | T101: =IFERROR(IF(OR(F101="BYE",J101="BYE"),"YES","NO"),"") -> NO | U101: =IF(OR(LEN(G101)=0,LEN(I101)=0),"NO","YES") -> YES | V101: =IF(LEN(D101)=0,0,COUNTIFS($D$8:$D$1750,D101,$G$8:$G$1750,"<>"&"",$I$8:$I$1750,"<>"&"")) -> 9 | W101: =IF(S101="YES",IF(T101="YES",IF(U101="YES","← Delete the scores",""),IF(AND(U101="NO",V101>0),"← Insert the scores of both teams","")),IF(U101="YES","← Delete the scores",""))
C102: 44011.896 | D102: =IFERROR(IF(FixtureCalc!C98="-","",IF(OR(FixtureCalc!E98="blank row 1",FixtureCalc!E98="blank row 2"),"","Matchweek "&FixtureCalc!C98)),"") -> Matchweek 9 | E102: =IFERROR(IF(LEN(INDEX(Settings!$D$6:$D$37,MATCH(Fixture!F102,Settings!$C$6:$C$37,0)))=0,"",INDEX(Settings!$D$6:$D$37,MATCH(Fixture!F102,Settings!$C$6:$C$37,0))),"") -> Ben Hill Griffin Stadium | F102: =IFERROR(IF(FixtureCalc!C98="-","",IF(OR(FixtureCalc!E98="blank row 1",FixtureCalc!E98="blank row 2"),"", IF(LEN(INDEX(Settings!$C$6:$C$37,FixtureCalc!E98))=0,"BYE",INDEX(Settings!$C$6:$C$37,FixtureCalc!E98)) )),"") -> The Classic | G102: 0 | I102: 4 | J102: =IFERROR(IF(FixtureCalc!C98="-","",IF(OR(FixtureCalc!F98="blank row 1",FixtureCalc!F98="blank row 2"),"",IF(LEN(INDEX(Settings!$C$6:$C$37,FixtureCalc!F98))=0,"BYE",INDEX(Settings!$C$6:$C$37,FixtureCalc!F98)) )),"") -> South Leaders | L102: =IFERROR(IF(LEN(W102)>0,"←",""),"") | S102: =IFERROR(IF(AND(LEN(F102)>0,LEN(J102)>0),"YES","NO"),"") -> YES | T102: =IFERROR(IF(OR(F102="BYE",J102="BYE"),"YES","NO"),"") -> NO | U102: =IF(OR(LEN(G102)=0,LEN(I102)=0),"NO","YES") -> YES | V102: =IF(LEN(D102)=0,0,COUNTIFS($D$8:$D$1750,D102,$G$8:$G$1750,"<>"&"",$I$8:$I$1750,"<>"&"")) -> 9 | W102: =IF(S102="YES",IF(T102="YES",IF(U102="YES","← Delete the scores",""),IF(AND(U102="NO",V102>0),"← Insert the scores of both teams","")),IF(U102="YES","← Delete the scores",""))
C103: 44011.792 | D103: =IFERROR(IF(FixtureCalc!C99="-","",IF(OR(FixtureCalc!E99="blank row 1",FixtureCalc!E99="blank row 2"),"","Matchweek "&FixtureCalc!C99)),"") -> Matchweek 9 | E103: =IFERROR(IF(LEN(INDEX(Settings!$D$6:$D$37,MATCH(Fixture!F103,Settings!$C$6:$C$37,0)))=0,"",INDEX(Settings!$D$6:$D$37,MATCH(Fixture!F103,Settings!$C$6:$C$37,0))),"") -> Jordan–Hare Stadium | F103: =IFERROR(IF(FixtureCalc!C99="-","",IF(OR(FixtureCalc!E99="blank row 1",FixtureCalc!E99="blank row 2"),"", IF(LEN(INDEX(Settings!$C$6:$C$37,FixtureCalc!E99))=0,"BYE",INDEX(Settings!$C$6:$C$37,FixtureCalc!E99)) )),"") -> Defiant Jesters | G103: 1 | I103: 2 | J103: =IFERROR(IF(FixtureCalc!C99="-","",IF(OR(FixtureCalc!F99="blank row 1",FixtureCalc!F99="blank row 2"),"",IF(LEN(INDEX(Settings!$C$6:$C$37,FixtureCalc!F99))=0,"BYE",INDEX(Settings!$C$6:$C$37,FixtureCalc!F99)) )),"") -> Wise Panthers | L103: =IFERROR(IF(LEN(W103)>0,"←",""),"") | S103: =IFERROR(IF(AND(LEN(F103)>0,LEN(J103)>0),"YES","NO"),"") -> YES | T103: =IFERROR(IF(OR(F103="BYE",J103="BYE"),"YES","NO"),"") -> NO | U103: =IF(OR(LEN(G103)=0,LEN(I103)=0),"NO","YES") -> YES | V103: =IF(LEN(D103)=0,0,COUNTIFS($D$8:$D$1750,D103,$G$8:$G$1750,"<>"&"",$I$8:$I$1750,"<>"&"")) -> 9 | W103: =IF(S103="YES",IF(T103="YES",IF(U103="YES","← Delete the scores",""),IF(AND(U103="NO",V103>0),"← Insert the scores of both teams","")),IF(U103="YES","← Delete the scores",""))
...

Sheet StandingsCalc
C3: Team No | D3: Team Name | E3: Played | F3: Won | G3: Drawn | H3: Lost | I3: Win Rate | J3: GF | K3: GA | L3: GD | M3: Points | N3: Final Score | O3: Final Ranking | S3: Dynamic Fixture Height | T3: {=IFERROR(IF(MAX(IF(LEN(Fixture!$E$8:$E$1750)>0,ROW(Fixture!$E$8:$E$1750)-ROW(Fixture!AB3),2))<=0,1,MAX(IF(LEN(Fixture!$E$8:$E$1750)>0,ROW(Fixture!$E$8:$E$1750)-ROW(Fixture!AB3),2))),1)+1} -> 190 | V3: Dynamic Standings Height | W3: {=IFERROR(IF(MAX(IF(LEN(Standings!$D$7:$D$38)>1,ROW(Standings!$D$7:$D$38)-ROW(Standings!Y3),2))<=0,1,MAX(IF(LEN(Standings!$D$7:$D$38)>1,ROW(Standings!$D$7:$D$38)-ROW(Standings!Y3),2))),1)} -> 21
C4: 1 | D4: =IF(C4="-","-",INDEX(Settings!$C$6:$C$37,C4)) -> Legal Swamp Twisters | E4: =IF(C4="-","-",COUNTIFS(Fixture!$F$8:$F$1750,D4,FixtureCalc!$G$4:$G$1746,"Yes") + COUNTIFS(Fixture!$J$8:$J$1750,D4,FixtureCalc!$G$4:$G$1746,"Yes")) -> 17 | F4: =IF(C4="-","-",COUNTIFS(Fixture!$F$8:$F$1750,D4,FixtureCalc!$H$4:$H$1746,Settings!$G$7) + COUNTIFS(Fixture!$J$8:$J$1750,D4,FixtureCalc!$I$4:$I$1746,Settings!$G$7)) -> 4 | G4: =IF(C4="-","-",COUNTIFS(Fixture!$F$8:$F$1750,D4,FixtureCalc!$H$4:$H$1746,Settings!$G$8) + COUNTIFS(Fixture!$J$8:$J$1750,D4,FixtureCalc!$I$4:$I$1746,Settings!$G$8)) -> 6 | H4: =IF(C4="-","-",E4-F4-G4) -> 7 | I4: =IFERROR(F4/E4,"") -> 0.23529412 | J4: =IF(C4="-","-",SUMIF(Fixture!$F$8:$F$1133,D4,Fixture!$G$8:$G$1133) + SUMIF(Fixture!$J$8:$J$1133,D4,Fixture!$I$8:$I$1133)) -> 33 | K4: =IF(C4="-","-",SUMIF(Fixture!$F$8:$F$1133,D4,Fixture!$I$8:$I$1133) + SUMIF(Fixture!$J$8:$J$1133,D4,Fixture!$G$8:$G$1133)) -> 45 | L4: =IF(C4="-","-",J4-K4) -> -12 | M4: =IF(C4="-","-",F4*Settings!$G$7 + G4*Settings!$G$8+H4*Settings!$G$9) -> 18 | N4: {=IF(C4="-","-",IFERROR(INDEX($C$3:$M$35,ROW(X5)-ROW($X$3),MATCH(Settings!$G$14,StandingsCalc!$C$3:$M$3,0))*10000000000,0) + IFERROR(INDEX($C$3:$M$35,ROW(X5)-ROW($X$3),MATCH(Settings!$G$15,StandingsCalc!$C$3:$M$3,0))*100000000,0) + IFERROR(INDEX($C$3:$M$35,ROW(X5)-ROW($X$3),MATCH(Settings!$G$16,StandingsCalc!$C$3:$M$3,0))*1000000,0)+IFERROR(INDEX($C$3:$M$35,ROW(X5)-ROW($X$3),MATCH(Settings!$G$17,StandingsCalc!$C$3:$M$3,0))*10000,0) +IFERROR(INDEX($C$3:$M$35,ROW(X5)-ROW($X$3),MATCH(Settings!$G$18,StandingsCalc!$C$3:$M$3,0))*100,0) +C4)} -> 1.8001186e+11 | O4: =IF(C4="-","-",RANK(N4,$N$4:$N$35)) -> 12
C5: =IF(C4="-","-",IF(C4+1<=Settings!$Q$5,C4+1,"-")) -> 2 | D5: =IF(C5="-","-",INDEX(Settings!$C$6:$C$37,C5)) -> Ancient Crows | E5: =IF(C5="-","-",COUNTIFS(Fixture!$F$8:$F$1750,D5,FixtureCalc!$G$4:$G$1746,"Yes") + COUNTIFS(Fixture!$J$8:$J$1750,D5,FixtureCalc!$G$4:$G$1746,"Yes")) -> 17 | F5: =IF(C5="-","-",COUNTIFS(Fixture!$F$8:$F$1750,D5,FixtureCalc!$H$4:$H$1746,Settings!$G$7) + COUNTIFS(Fixture!$J$8:$J$1750,D5,FixtureCalc!$I$4:$I$1746,Settings!$G$7)) -> 7 | G5: =IF(C5="-","-",COUNTIFS(Fixture!$F$8:$F$1750,D5,FixtureCalc!$H$4:$H$1746,Settings!$G$8) + COUNTIFS(Fixture!$J$8:$J$1750,D5,FixtureCalc!$I$4:$I$1746,Settings!$G$8)) -> 4 | H5: =IF(C5="-","-",E5-F5-G5) -> 6 | I5: =IFERROR(F5/E5,"") -> 0.41176471 | J5: =IF(C5="-","-",SUMIF(Fixture!$F$8:$F$1133,D5,Fixture!$G$8:$G$1133) + SUMIF(Fixture!$J$8:$J$1133,D5,Fixture!$I$8:$I$1133)) -> 23 | K5: =IF(C5="-","-",SUMIF(Fixture!$F$8:$F$1133,D5,Fixture!$I$8:$I$1133) + SUMIF(Fixture!$J$8:$J$1133,D5,Fixture!$G$8:$G$1133)) -> 25 | L5: =IF(C5="-","-",J5-K5) -> -2 | M5: =IF(C5="-","-",F5*Settings!$G$7 + G5*Settings!$G$8+H5*Settings!$G$9) -> 25 | N5: {=IF(C5="-","-",IFERROR(INDEX($C$3:$M$35,ROW(X6)-ROW($X$3),MATCH(Settings!$G$14,StandingsCalc!$C$3:$M$3,0))*10000000000,0) + IFERROR(INDEX($C$3:$M$35,ROW(X6)-ROW($X$3),MATCH(Settings!$G$15,StandingsCalc!$C$3:$M$3,0))*100000000,0) + IFERROR(INDEX($C$3:$M$35,ROW(X6)-ROW($X$3),MATCH(Settings!$G$16,StandingsCalc!$C$3:$M$3,0))*1000000,0)+IFERROR(INDEX($C$3:$M$35,ROW(X6)-ROW($X$3),MATCH(Settings!$G$17,StandingsCalc!$C$3:$M$3,0))*10000,0) +IFERROR(INDEX($C$3:$M$35,ROW(X6)-ROW($X$3),MATCH(Settings!$G$18,StandingsCalc!$C$3:$M$3,0))*100,0) +C5)} -> 2.5003941e+11 | O5: =IF(C5="-","-",RANK(N5,$N$4:$N$35)) -> 7
C6: =IF(C5="-","-",IF(C5+1<=Settings!$Q$5,C5+1,"-")) -> 3 | D6: =IF(C6="-","-",INDEX(Settings!$C$6:$C$37,C6)) -> Wise Panthers | E6: =IF(C6="-","-",COUNTIFS(Fixture!$F$8:$F$1750,D6,FixtureCalc!$G$4:$G$1746,"Yes") + COUNTIFS(Fixture!$J$8:$J$1750,D6,FixtureCalc!$G$4:$G$1746,"Yes")) -> 17 | F6: =IF(C6="-","-",COUNTIFS(Fixture!$F$8:$F$1750,D6,FixtureCalc!$H$4:$H$1746,Settings!$G$7) + COUNTIFS(Fixture!$J$8:$J$1750,D6,FixtureCalc!$I$4:$I$1746,Settings!$G$7)) -> 8 | G6: =IF(C6="-","-",COUNTIFS(Fixture!$F$8:$F$1750,D6,FixtureCalc!$H$4:$H$1746,Settings!$G$8) + COUNTIFS(Fixture!$J$8:$J$1750,D6,FixtureCalc!$I$4:$I$1746,Settings!$G$8)) -> 4 | H6: =IF(C6="-","-",E6-F6-G6) -> 5 | I6: =IFERROR(F6/E6,"") -> 0.47058824 | J6: =IF(C6="-","-",SUMIF(Fixture!$F$8:$F$1133,D6,Fixture!$G$8:$G$1133) + SUMIF(Fixture!$J$8:$J$1133,D6,Fixture!$I$8:$I$1133)) -> 29 | K6: =IF(C6="-","-",SUMIF(Fixture!$F$8:$F$1133,D6,Fixture!$I$8:$I$1133) + SUMIF(Fixture!$J$8:$J$1133,D6,Fixture!$G$8:$G$1133)) -> 26 | L6: =IF(C6="-","-",J6-K6) -> 3 | M6: =IF(C6="-","-",F6*Settings!$G$7 + G6*Settings!$G$8+H6*Settings!$G$9) -> 28 | N6: {=IF(C6="-","-",IFERROR(INDEX($C$3:$M$35,ROW(X7)-ROW($X$3),MATCH(Settings!$G$14,StandingsCalc!$C$3:$M$3,0))*10000000000,0) + IFERROR(INDEX($C$3:$M$35,ROW(X7)-ROW($X$3),MATCH(Settings!$G$15,StandingsCalc!$C$3:$M$3,0))*100000000,0) + IFERROR(INDEX($C$3:$M$35,ROW(X7)-ROW($X$3),MATCH(Settings!$G$16,StandingsCalc!$C$3:$M$3,0))*1000000,0)+IFERROR(INDEX($C$3:$M$35,ROW(X7)-ROW($X$3),MATCH(Settings!$G$17,StandingsCalc!$C$3:$M$3,0))*10000,0) +IFERROR(INDEX($C$3:$M$35,ROW(X7)-ROW($X$3),MATCH(Settings!$G$18,StandingsCalc!$C$3:$M$3,0))*100,0) +C6)} -> 2.8005035e+11 | O6: =IF(C6="-","-",RANK(N6,$N$4:$N$35)) -> 5
C7: =IF(C6="-","-",IF(C6+1<=Settings!$Q$5,C6+1,"-")) -> 4 | D7: =IF(C7="-","-",INDEX(Settings!$C$6:$C$37,C7)) -> South Leaders | E7: =IF(C7="-","-",COUNTIFS(Fixture!$F$8:$F$1750,D7,FixtureCalc!$G$4:$G$1746,"Yes") + COUNTIFS(Fixture!$J$8:$J$1750,D7,FixtureCalc!$G$4:$G$1746,"Yes")) -> 17 | F7: =IF(C7="-","-",COUNTIFS(Fixture!$F$8:$F$1750,D7,FixtureCalc!$H$4:$H$1746,Settings!$G$7) + COUNTIFS(Fixture!$J$8:$J$1750,D7,FixtureCalc!$I$4:$I$1746,Settings!$G$7)) -> 12 | G7: =IF(C7="-","-",COUNTIFS(Fixture!$F$8:$F$1750,D7,FixtureCalc!$H$4:$H$1746,Settings!$G$8) + COUNTIFS(Fixture!$J$8:$J$1750,D7,FixtureCalc!$I$4:$I$1746,Settings!$G$8)) -> 4 | H7: =IF(C7="-","-",E7-F7-G7) -> 1 | I7: =IFERROR(F7/E7,"") -> 0.70588235 | J7: =IF(C7="-","-",SUMIF(Fixture!$F$8:$F$1133,D7,Fixture!$G$8:$G$1133) + SUMIF(Fixture!$J$8:$J$1133,D7,Fixture!$I$8:$I$1133)) -> 48 | K7: =IF(C7="-","-",SUMIF(Fixture!$F$8:$F$1133,D7,Fixture!$I$8:$I$1133) + SUMIF(Fixture!$J$8:$J$1133,D7,Fixture!$G$8:$G$1133)) -> 25 | L7: =IF(C7="-","-",J7-K7) -> 23 | M7: =IF(C7="-","-",F7*Settings!$G$7 + G7*Settings!$G$8+H7*Settings!$G$9) -> 40 | N7: {=IF(C7="-","-",IFERROR(INDEX($C$3:$M$35,ROW(X8)-ROW($X$3),MATCH(Settings!$G$14,StandingsCalc!$C$3:$M$3,0))*10000000000,0) + IFERROR(INDEX($C$3:$M$35,ROW(X8)-ROW($X$3),MATCH(Settings!$G$15,StandingsCalc!$C$3:$M$3,0))*100000000,0) + IFERROR(INDEX($C$3:$M$35,ROW(X8)-ROW($X$3),MATCH(Settings!$G$16,StandingsCalc!$C$3:$M$3,0))*1000000,0)+IFERROR(INDEX($C$3:$M$35,ROW(X8)-ROW($X$3),MATCH(Settings!$G$17,StandingsCalc!$C$3:$M$3,0))*10000,0) +IFERROR(INDEX($C$3:$M$35,ROW(X8)-ROW($X$3),MATCH(Settings!$G$18,StandingsCalc!$C$3:$M$3,0))*100,0) +C7)} -> 4.0009407e+11 | O7: =IF(C7="-","-",RANK(N7,$N$4:$N$35)) -> 2
C8: =IF(C7="-","-",IF(C7+1<=Settings!$Q$5,C7+1,"-")) -> 5 | D8: =IF(C8="-","-",INDEX(Settings!$C$6:$C$37,C8)) -> Kaptain City | E8: =IF(C8="-","-",COUNTIFS(Fixture!$F$8:$F$1750,D8,FixtureCalc!$G$4:$G$1746,"Yes") + COUNTIFS(Fixture!$J$8:$J$1750,D8,FixtureCalc!$G$4:$G$1746,"Yes")) -> 17 | F8: =IF(C8="-","-",COUNTIFS(Fixture!$F$8:$F$1750,D8,FixtureCalc!$H$4:$H$1746,Settings!$G$7) + COUNTIFS(Fixture!$J$8:$J$1750,D8,FixtureCalc!$I$4:$I$1746,Settings!$G$7)) -> 5 | G8: =IF(C8="-","-",COUNTIFS(Fixture!$F$8:$F$1750,D8,FixtureCalc!$H$4:$H$1746,Settings!$G$8) + COUNTIFS(Fixture!$J$8:$J$1750,D8,FixtureCalc!$I$4:$I$1746,Settings!$G$8)) -> 2 | H8: =IF(C8="-","-",E8-F8-G8) -> 10 | I8: =IFERROR(F8/E8,"") -> 0.29411765 | J8: =IF(C8="-","-",SUMIF(Fixture!$F$8:$F$1133,D8,Fixture!$G$8:$G$1133) + SUMIF(Fixture!$J$8:$J$1133,D8,Fixture!$I$8:$I$1133)) -> 31 | K8: =IF(C8="-","-",SUMIF(Fixture!$F$8:$F$1133,D8,Fixture!$I$8:$I$1133) + SUMIF(Fixture!$J$8:$J$1133,D8,Fixture!$G$8:$G$1133)) -> 36 | L8: =IF(C8="-","-",J8-K8) -> -5 | M8: =IF(C8="-","-",F8*Settings!$G$7 + G8*Settings!$G$8+H8*Settings!$G$9) -> 17 | N8: {=IF(C8="-","-",IFERROR(INDEX($C$3:$M$35,ROW(X9)-ROW($X$3),MATCH(Settings!$G$14,StandingsCalc!$C$3:$M$3,0))*10000000000,0) + IFERROR(INDEX($C$3:$M$35,ROW(X9)-ROW($X$3),MATCH(Settings!$G$15,StandingsCalc!$C$3:$M$3,0))*100000000,0) + IFERROR(INDEX($C$3:$M$35,ROW(X9)-ROW($X$3),MATCH(Settings!$G$16,StandingsCalc!$C$3:$M$3,0))*1000000,0)+IFERROR(INDEX($C$3:$M$35,ROW(X9)-ROW($X$3),MATCH(Settings!$G$17,StandingsCalc!$C$3:$M$3,0))*10000,0) +IFERROR(INDEX($C$3:$M$35,ROW(X9)-ROW($X$3),MATCH(Settings!$G$18,StandingsCalc!$C$3:$M$3,0))*100,0) +C8)} -> 1.7002472e+11 | O8: =IF(C8="-","-",RANK(N8,$N$4:$N$35)) -> 13
C9: =IF(C8="-","-",IF(C8+1<=Settings!$Q$5,C8+1,"-")) -> 6 | D9: =IF(C9="-","-",INDEX(Settings!$C$6:$C$37,C9)) -> Delta Blazers | E9: =IF(C9="-","-",COUNTIFS(Fixture!$F$8:$F$1750,D9,FixtureCalc!$G$4:$G$1746,"Yes") + COUNTIFS(Fixture!$J$8:$J$1750,D9,FixtureCalc!$G$4:$G$1746,"Yes")) -> 17 | F9: =IF(C9="-","-",COUNTIFS(Fixture!$F$8:$F$1750,D9,FixtureCalc!$H$4:$H$1746,Settings!$G$7) + COUNTIFS(Fixture!$J$8:$J$1750,D9,FixtureCalc!$I$4:$I$1746,Settings!$G$7)) -> 8 | G9: =IF(C9="-","-",COUNTIFS(Fixture!$F$8:$F$1750,D9,FixtureCalc!$H$4:$H$1746,Settings!$G$8) + COUNTIFS(Fixture!$J$8:$J$1750,D9,FixtureCalc!$I$4:$I$1746,Settings!$G$8)) -> 5 | H9: =IF(C9="-","-",E9-F9-G9) -> 4 | I9: =IFERROR(F9/E9,"") -> 0.47058824 | J9: =IF(C9="-","-",SUMIF(Fixture!$F$8:$F$1133,D9,Fixture!$G$8:$G$1133) + SUMIF(Fixture!$J$8:$J$1133,D9,Fixture!$I$8:$I$1133)) -> 43 | K9: =IF(C9="-","-",SUMIF(Fixture!$F$8:$F$1133,D9,Fixture!$I$8:$I$1133) + SUMIF(Fixture!$J$8:$J$1133,D9,Fixture!$G$8:$G$1133)) -> 32 | L9: =IF(C9="-","-",J9-K9) -> 11 | M9: =IF(C9="-","-",F9*Settings!$G$7 + G9*Settings!$G$8+H9*Settings!$G$9) -> 29 | N9: {=IF(C9="-","-",IFERROR(INDEX($C$3:$M$35,ROW(X10)-ROW($X$3),MATCH(Settings!$G$14,StandingsCalc!$C$3:$M$3,0))*10000000000,0) + IFERROR(INDEX($C$3:$M$35,ROW(X10)-ROW($X$3),MATCH(Settings!$G$15,StandingsCalc!$C$3:$M$3,0))*100000000,0) + IFERROR(INDEX($C$3:$M$35,ROW(X10)-ROW($X$3),MATCH(Settings!$G$16,StandingsCalc!$C$3:$M$3,0))*1000000,0)+IFERROR(INDEX($C$3:$M$35,ROW(X10)-ROW($X$3),MATCH(Settings!$G$17,StandingsCalc!$C$3:$M$3,0))*10000,0) +IFERROR(INDEX($C$3:$M$35,ROW(X10)-ROW($X$3),MATCH(Settings!$G$18,StandingsCalc!$C$3:$M$3,0))*100,0) +C9)} -> 2.9005849e+11 | O9: =IF(C9="-","-",RANK(N9,$N$4:$N$35)) -> 4
C10: =IF(C9="-","-",IF(C9+1<=Settings!$Q$5,C9+1,"-")) -> 7 | D10: =IF(C10="-","-",INDEX(Settings!$C$6:$C$37,C10)) -> Real Revolution | E10: =IF(C10="-","-",COUNTIFS(Fixture!$F$8:$F$1750,D10,FixtureCalc!$G$4:$G$1746,"Yes") + COUNTIFS(Fixture!$J$8:$J$1750,D10,FixtureCalc!$G$4:$G$1746,"Yes")) -> 17 | F10: =IF(C10="-","-",COUNTIFS(Fixture!$F$8:$F$1750,D10,FixtureCalc!$H$4:$H$1746,Settings!$G$7) + COUNTIFS(Fixture!$J$8:$J$1750,D10,FixtureCalc!$I$4:$I$1746,Settings!$G$7)) -> 8 | G10: =IF(C10="-","-",COUNTIFS(Fixture!$F$8:$F$1750,D10,FixtureCalc!$H$4:$H$1746,Settings!$G$8) + COUNTIFS(Fixture!$J$8:$J$1750,D10,FixtureCalc!$I$4:$I$1746,Settings!$G$8)) -> 3 | H10: =IF(C10="-","-",E10-F10-G10) -> 6 | I10: =IFERROR(F10/E10,"") -> 0.47058824 | J10: =IF(C10="-","-",SUMIF(Fixture!$F$8:$F$1133,D10,Fixture!$G$8:$G$1133) + SUMIF(Fixture!$J$8:$J$1133,D10,Fixture!$I$8:$I$1133)) -> 36 | K10: =IF(C10="-","-",SUMIF(Fixture!$F$8:$F$1133,D10,Fixture!$I$8:$I$1133) + SUMIF(Fixture!$J$8:$J$1133,D10,Fixture!$G$8:$G$1133)) -> 35 | L10: =IF(C10="-","-",J10-K10) -> 1 | M10: =IF(C10="-","-",F10*Settings!$G$7 + G10*Settings!$G$8+H10*Settings!$G$9) -> 27 | N10: {=IF(C10="-","-",IFERROR(INDEX($C$3:$M$35,ROW(X11)-ROW($X$3),MATCH(Settings!$G$14,StandingsCalc!$C$3:$M$3,0))*10000000000,0) + IFERROR(INDEX($C$3:$M$35,ROW(X11)-ROW($X$3),MATCH(Settings!$G$15,StandingsCalc!$C$3:$M$3,0))*100000000,0) + IFERROR(INDEX($C$3:$M$35,ROW(X11)-ROW($X$3),MATCH(Settings!$G$16,StandingsCalc!$C$3:$M$3,0))*1000000,0)+IFERROR(INDEX($C$3:$M$35,ROW(X11)-ROW($X$3),MATCH(Settings!$G$17,StandingsCalc!$C$3:$M$3,0))*10000,0) +IFERROR(INDEX($C$3:$M$35,ROW(X11)-ROW($X$3),MATCH(Settings!$G$18,StandingsCalc!$C$3:$M$3,0))*100,0) +C10)} -> 2.7004842e+11 | O10: =IF(C10="-","-",RANK(N10,$N$4:$N$35)) -> 6
C11: =IF(C10="-","-",IF(C10+1<=Settings!$Q$5,C10+1,"-")) -> 8 | D11: =IF(C11="-","-",INDEX(Settings!$C$6:$C$37,C11)) -> Silver Rangers | E11: =IF(C11="-","-",COUNTIFS(Fixture!$F$8:$F$1750,D11,FixtureCalc!$G$4:$G$1746,"Yes") + COUNTIFS(Fixture!$J$8:$J$1750,D11,FixtureCalc!$G$4:$G$1746,"Yes")) -> 17 | F11: =IF(C11="-","-",COUNTIFS(Fixture!$F$8:$F$1750,D11,FixtureCalc!$H$4:$H$1746,Settings!$G$7) + COUNTIFS(Fixture!$J$8:$J$1750,D11,FixtureCalc!$I$4:$I$1746,Settings!$G$7)) -> 4 | G11: =IF(C11="-","-",COUNTIFS(Fixture!$F$8:$F$1750,D11,FixtureCalc!$H$4:$H$1746,Settings!$G$8) + COUNTIFS(Fixture!$J$8:$J$1750,D11,FixtureCalc!$I$4:$I$1746,Settings!$G$8)) -> 4 | H11: =IF(C11="-","-",E11-F11-G11) -> 9 | I11: =IFERROR(F11/E11,"") -> 0.23529412 | J11: =IF(C11="-","-",SUMIF(Fixture!$F$8:$F$1133,D11,Fixture!$G$8:$G$1133) + SUMIF(Fixture!$J$8:$J$1133,D11,Fixture!$I$8:$I$1133)) -> 25 | K11: =IF(C11="-","-",SUMIF(Fixture!$F$8:$F$1133,D11,Fixture!$I$8:$I$1133) + SUMIF(Fixture!$J$8:$J$1133,D11,Fixture!$G$8:$G$1133)) -> 37 | L11: =IF(C11="-","-",J11-K11) -> -12 | M11: =IF(C11="-","-",F11*Settings!$G$7 + G11*Settings!$G$8+H11*Settings!$G$9) -> 16 | N11: {=IF(C11="-","-",IFERROR(INDEX($C$3:$M$35,ROW(X12)-ROW($X$3),MATCH(Settings!$G$14,StandingsCalc!$C$3:$M$3,0))*10000000000,0) + IFERROR(INDEX($C$3:$M$35,ROW(X12)-ROW($X$3),MATCH(Settings!$G$15,StandingsCalc!$C$3:$M$3,0))*100000000,0) + IFERROR(INDEX($C$3:$M$35,ROW(X12)-ROW($X$3),MATCH(Settings!$G$16,StandingsCalc!$C$3:$M$3,0))*1000000,0)+IFERROR(INDEX($C$3:$M$35,ROW(X12)-ROW($X$3),MATCH(Settings!$G$17,StandingsCalc!$C$3:$M$3,0))*10000,0) +IFERROR(INDEX($C$3:$M$35,ROW(X12)-ROW($X$3),MATCH(Settings!$G$18,StandingsCalc!$C$3:$M$3,0))*100,0) +C11)} -> 1.6001178e+11 | O11: =IF(C11="-","-",RANK(N11,$N$4:$N$35)) -> 16
C12: =IF(C11="-","-",IF(C11+1<=Settings!$Q$5,C11+1,"-")) -> 9 | D12: =IF(C12="-","-",INDEX(Settings!$C$6:$C$37,C12)) -> Earnest Broncos | E12: =IF(C12="-","-",COUNTIFS(Fixture!$F$8:$F$1750,D12,FixtureCalc!$G$4:$G$1746,"Yes") + COUNTIFS(Fixture!$J$8:$J$1750,D12,FixtureCalc!$G$4:$G$1746,"Yes")) -> 17 | F12: =IF(C12="-","-",COUNTIFS(Fixture!$F$8:$F$1750,D12,FixtureCalc!$H$4:$H$1746,Settings!$G$7) + COUNTIFS(Fixture!$J$8:$J$1750,D12,FixtureCalc!$I$4:$I$1746,Settings!$G$7)) -> 2 | G12: =IF(C12="-","-",COUNTIFS(Fixture!$F$8:$F$1750,D12,FixtureCalc!$H$4:$H$1746,Settings!$G$8) + COUNTIFS(Fixture!$J$8:$J$1750,D12,FixtureCalc!$I$4:$I$1746,Settings!$G$8)) -> 9 | H12: =IF(C12="-","-",E12-F12-G12) -> 6 | I12: =IFERROR(F12/E12,"") -> 0.11764706 | J12: =IF(C12="-","-",SUMIF(Fixture!$F$8:$F$1133,D12,Fixture!$G$8:$G$1133) + SUMIF(Fixture!$J$8:$J$1133,D12,Fixture!$I$8:$I$1133)) -> 34 | K12: =IF(C12="-","-",SUMIF(Fixture!$F$8:$F$1133,D12,Fixture!$I$8:$I$1133) + SUMIF(Fixture!$J$8:$J$1133,D12,Fixture!$G$8:$G$1133)) -> 37 | L12: =IF(C12="-","-",J12-K12) -> -3 | M12: =IF(C12="-","-",F12*Settings!$G$7 + G12*Settings!$G$8+H12*Settings!$G$9) -> 15 | N12: {=IF(C12="-","-",IFERROR(INDEX($C$3:$M$35,ROW(X13)-ROW($X$3),MATCH(Settings!$G$14,StandingsCalc!$C$3:$M$3,0))*10000000000,0) + IFERROR(INDEX($C$3:$M$35,ROW(X13)-ROW($X$3),MATCH(Settings!$G$15,StandingsCalc!$C$3:$M$3,0))*100000000,0) + IFERROR(INDEX($C$3:$M$35,ROW(X13)-ROW($X$3),MATCH(Settings!$G$16,StandingsCalc!$C$3:$M$3,0))*1000000,0)+IFERROR(INDEX($C$3:$M$35,ROW(X13)-ROW($X$3),MATCH(Settings!$G$17,StandingsCalc!$C$3:$M$3,0))*10000,0) +IFERROR(INDEX($C$3:$M$35,ROW(X13)-ROW($X$3),MATCH(Settings!$G$18,StandingsCalc!$C$3:$M$3,0))*100,0) +C12)} -> 1.500091e+11 | O12: =IF(C12="-","-",RANK(N12,$N$4:$N$35)) -> 17
C13: =IF(C12="-","-",IF(C12+1<=Settings!$Q$5,C12+1,"-")) -> 10 | D13: =IF(C13="-","-",INDEX(Settings!$C$6:$C$37,C13)) -> Red Sirens | E13: =IF(C13="-","-",COUNTIFS(Fixture!$F$8:$F$1750,D13,FixtureCalc!$G$4:$G$1746,"Yes") + COUNTIFS(Fixture!$J$8:$J$1750,D13,FixtureCalc!$G$4:$G$1746,"Yes")) -> 17 | F13: =IF(C13="-","-",COUNTIFS(Fixture!$F$8:$F$1750,D13,FixtureCalc!$H$4:$H$1746,Settings!$G$7) + COUNTIFS(Fixture!$J$8:$J$1750,D13,FixtureCalc!$I$4:$I$1746,Settings!$G$7)) -> 5 | G13: =IF(C13="-","-",COUNTIFS(Fixture!$F$8:$F$1750,D13,FixtureCalc!$H$4:$H$1746,Settings!$G$8) + COUNTIFS(Fixture!$J$8:$J$1750,D13,FixtureCalc!$I$4:$I$1746,Settings!$G$8)) -> 4 | H13: =IF(C13="-","-",E13-F13-G13) -> 8 | I13: =IFERROR(F13/E13,"") -> 0.29411765 | J13: =IF(C13="-","-",SUMIF(Fixture!$F$8:$F$1133,D13,Fixture!$G$8:$G$1133) + SUMIF(Fixture!$J$8:$J$1133,D13,Fixture!$I$8:$I$1133)) -> 31 | K13: =IF(C13="-","-",SUMIF(Fixture!$F$8:$F$1133,D13,Fixture!$I$8:$I$1133) + SUMIF(Fixture!$J$8:$J$1133,D13,Fixture!$G$8:$G$1133)) -> 36 | L13: =IF(C13="-","-",J13-K13) -> -5 | M13: =IF(C13="-","-",F13*Settings!$G$7 + G13*Settings!$G$8+H13*Settings!$G$9) -> 19 | N13: {=IF(C13="-","-",IFERROR(INDEX($C$3:$M$35,ROW(X14)-ROW($X$3),MATCH(Settings!$G$14,StandingsCalc!$C$3:$M$3,0))*10000000000,0) + IFERROR(INDEX($C$3:$M$35,ROW(X14)-ROW($X$3),MATCH(Settings!$G$15,StandingsCalc!$C$3:$M$3,0))*100000000,0) + IFERROR(INDEX($C$3:$M$35,ROW(X14)-ROW($X$3),MATCH(Settings!$G$16,StandingsCalc!$C$3:$M$3,0))*1000000,0)+IFERROR(INDEX($C$3:$M$35,ROW(X14)-ROW($X$3),MATCH(Settings!$G$17,StandingsCalc!$C$3:$M$3,0))*10000,0) +IFERROR(INDEX($C$3:$M$35,ROW(X14)-ROW($X$3),MATCH(Settings!$G$18,StandingsCalc!$C$3:$M$3,0))*100,0) +C13)} -> 1.9002472e+11 | O13: =IF(C13="-","-",RANK(N13,$N$4:$N$35)) -> 10
C14: =IF(C13="-","-",IF(C13+1<=Settings!$Q$5,C13+1,"-")) -> 11 | D14: =IF(C14="-","-",INDEX(Settings!$C$6:$C$37,C14)) -> Haunting Bottle Rockets | E14: =IF(C14="-","-",COUNTIFS(Fixture!$F$8:$F$1750,D14,FixtureCalc!$G$4:$G$1746,"Yes") + COUNTIFS(Fixture!$J$8:$J$1750,D14,FixtureCalc!$G$4:$G$1746,"Yes")) -> 17 | F14: =IF(C14="-","-",COUNTIFS(Fixture!$F$8:$F$1750,D14,FixtureCalc!$H$4:$H$1746,Settings!$G$7) + COUNTIFS(Fixture!$J$8:$J$1750,D14,FixtureCalc!$I$4:$I$1746,Settings!$G$7)) -> 10 | G14: =IF(C14="-","-",COUNTIFS(Fixture!$F$8:$F$1750,D14,FixtureCalc!$H$4:$H$1746,Settings!$G$8) + COUNTIFS(Fixture!$J$8:$J$1750,D14,FixtureCalc!$I$4:$I$1746,Settings!$G$8)) -> 4 | H14: =IF(C14="-","-",E14-F14-G14) -> 3 | I14: =IFERROR(F14/E14,"") -> 0.58823529 | J14: =IF(C14="-","-",SUMIF(Fixture!$F$8:$F$1133,D14,Fixture!$G$8:$G$1133) + SUMIF(Fixture!$J$8:$J$1133,D14,Fixture!$I$8:$I$1133)) -> 43 | K14: =IF(C14="-","-",SUMIF(Fixture!$F$8:$F$1133,D14,Fixture!$I$8:$I$1133) + SUMIF(Fixture!$J$8:$J$1133,D14,Fixture!$G$8:$G$1133)) -> 25 | L14: =IF(C14="-","-",J14-K14) -> 18 | M14: =IF(C14="-","-",F14*Settings!$G$7 + G14*Settings!$G$8+H14*Settings!$G$9) -> 34 | N14: {=IF(C14="-","-",IFERROR(INDEX($C$3:$M$35,ROW(X15)-ROW($X$3),MATCH(Settings!$G$14,StandingsCalc!$C$3:$M$3,0))*10000000000,0) + IFERROR(INDEX($C$3:$M$35,ROW(X15)-ROW($X$3),MATCH(Settings!$G$15,StandingsCalc!$C$3:$M$3,0))*100000000,0) + IFERROR(INDEX($C$3:$M$35,ROW(X15)-ROW($X$3),MATCH(Settings!$G$16,StandingsCalc!$C$3:$M$3,0))*1000000,0)+IFERROR(INDEX($C$3:$M$35,ROW(X15)-ROW($X$3),MATCH(Settings!$G$17,StandingsCalc!$C$3:$M$3,0))*10000,0) +IFERROR(INDEX($C$3:$M$35,ROW(X15)-ROW($X$3),MATCH(Settings!$G$18,StandingsCalc!$C$3:$M$3,0))*100,0) +C14)} -> 3.4007725e+11 | O14: =IF(C14="-","-",RANK(N14,$N$4:$N$35)) -> 3
C15: =IF(C14="-","-",IF(C14+1<=Settings!$Q$5,C14+1,"-")) -> 12 | D15: =IF(C15="-","-",INDEX(Settings!$C$6:$C$37,C15)) -> Final Green Gazelles | E15: =IF(C15="-","-",COUNTIFS(Fixture!$F$8:$F$1750,D15,FixtureCalc!$G$4:$G$1746,"Yes") + COUNTIFS(Fixture!$J$8:$J$1750,D15,FixtureCalc!$G$4:$G$1746,"Yes")) -> 17 | F15: =IF(C15="-","-",COUNTIFS(Fixture!$F$8:$F$1750,D15,FixtureCalc!$H$4:$H$1746,Settings!$G$7) + COUNTIFS(Fixture!$J$8:$J$1750,D15,FixtureCalc!$I$4:$I$1746,Settings!$G$7)) -> 3 | G15: =IF(C15="-","-",COUNTIFS(Fixture!$F$8:$F$1750,D15,FixtureCalc!$H$4:$H$1746,Settings!$G$8) + COUNTIFS(Fixture!$J$8:$J$1750,D15,FixtureCalc!$I$4:$I$1746,Settings!$G$8)) -> 5 | H15: =IF(C15="-","-",E15-F15-G15) -> 9 | I15: =IFERROR(F15/E15,"") -> 0.17647059 | J15: =IF(C15="-","-",SUMIF(Fixture!$F$8:$F$1133,D15,Fixture!$G$8:$G$1133) + SUMIF(Fixture!$J$8:$J$1133,D15,Fixture!$I$8:$I$1133)) -> 32 | K15: =IF(C15="-","-",SUMIF(Fixture!$F$8:$F$1133,D15,Fixture!$I$8:$I$1133) + SUMIF(Fixture!$J$8:$J$1133,D15,Fixture!$G$8:$G$1133)) -> 42 | L15: =IF(C15="-","-",J15-K15) -> -10 | M15: =IF(C15="-","-",F15*Settings!$G$7 + G15*Settings!$G$8+H15*Settings!$G$9) -> 14 | N15: {=IF(C15="-","-",IFERROR(INDEX($C$3:$M$35,ROW(X16)-ROW($X$3),MATCH(Settings!$G$14,StandingsCalc!$C$3:$M$3,0))*10000000000,0) + IFERROR(INDEX($C$3:$M$35,ROW(X16)-ROW($X$3),MATCH(Settings!$G$15,StandingsCalc!$C$3:$M$3,0))*100000000,0) + IFERROR(INDEX($C$3:$M$35,ROW(X16)-ROW($X$3),MATCH(Settings!$G$16,StandingsCalc!$C$3:$M$3,0))*1000000,0)+IFERROR(INDEX($C$3:$M$35,ROW(X16)-ROW($X$3),MATCH(Settings!$G$17,StandingsCalc!$C$3:$M$3,0))*10000,0) +IFERROR(INDEX($C$3:$M$35,ROW(X16)-ROW($X$3),MATCH(Settings!$G$18,StandingsCalc!$C$3:$M$3,0))*100,0) +C15)} -> 1.4000797e+11 | O15: =IF(C15="-","-",RANK(N15,$N$4:$N$35)) -> 18
C16: =IF(C15="-","-",IF(C15+1<=Settings!$Q$5,C15+1,"-")) -> 13 | D16: =IF(C16="-","-",INDEX(Settings!$C$6:$C$37,C16)) -> Mighty Patriots | E16: =IF(C16="-","-",COUNTIFS(Fixture!$F$8:$F$1750,D16,FixtureCalc!$G$4:$G$1746,"Yes") + COUNTIFS(Fixture!$J$8:$J$1750,D16,FixtureCalc!$G$4:$G$1746,"Yes")) -> 17 | F16: =IF(C16="-","-",COUNTIFS(Fixture!$F$8:$F$1750,D16,FixtureCalc!$H$4:$H$1746,Settings!$G$7) + COUNTIFS(Fixture!$J$8:$J$1750,D16,FixtureCalc!$I$4:$I$1746,Settings!$G$7)) -> 7 | G16: =IF(C16="-","-",COUNTIFS(Fixture!$F$8:$F$1750,D16,FixtureCalc!$H$4:$H$1746,Settings!$G$8) + COUNTIFS(Fixture!$J$8:$J$1750,D16,FixtureCalc!$I$4:$I$1746,Settings!$G$8)) -> 3 | H16: =IF(C16="-","-",E16-F16-G16) -> 7 | I16: =IFERROR(F16/E16,"") -> 0.41176471 | J16: =IF(C16="-","-",SUMIF(Fixture!$F$8:$F$1133,D16,Fixture!$G$8:$G$1133) + SUMIF(Fixture!$J$8:$J$1133,D16,Fixture!$I$8:$I$1133)) -> 26 | K16: =IF(C16="-","-",SUMIF(Fixture!$F$8:$F$1133,D16,Fixture!$I$8:$I$1133) + SUMIF(Fixture!$J$8:$J$1133,D16,Fixture!$G$8:$G$1133)) -> 29 | L16: =IF(C16="-","-",J16-K16) -> -3 | M16: =IF(C16="-","-",F16*Settings!$G$7 + G16*Settings!$G$8+H16*Settings!$G$9) -> 24 | N16: {=IF(C16="-","-",IFERROR(INDEX($C$3:$M$35,ROW(X17)-ROW($X$3),MATCH(Settings!$G$14,StandingsCalc!$C$3:$M$3,0))*10000000000,0) + IFERROR(INDEX($C$3:$M$35,ROW(X17)-ROW($X$3),MATCH(Settings!$G$15,StandingsCalc!$C$3:$M$3,0))*100000000,0) + IFERROR(INDEX($C$3:$M$35,ROW(X17)-ROW($X$3),MATCH(Settings!$G$16,StandingsCalc!$C$3:$M$3,0))*1000000,0)+IFERROR(INDEX($C$3:$M$35,ROW(X17)-ROW($X$3),MATCH(Settings!$G$17,StandingsCalc!$C$3:$M$3,0))*10000,0) +IFERROR(INDEX($C$3:$M$35,ROW(X17)-ROW($X$3),MATCH(Settings!$G$18,StandingsCalc!$C$3:$M$3,0))*100,0) +C16)} -> 2.4003844e+11 | O16: =IF(C16="-","-",RANK(N16,$N$4:$N$35)) -> 8
... C35: =IF(C34="-","-",IF(C34+1<=Settings!$Q$5,C34+1,"-")) -> - | D35: =IF(C35="-","-",INDEX(Settings!$C$6:$C$37,C35)) -> - | E35: =IF(C35="-","-",COUNTIFS(Fixture!$F$8:$F$1750,D35,FixtureCalc!$G$4:$G$1746,"Yes") + COUNTIFS(Fixture!$J$8:$J$1750,D35,FixtureCalc!$G$4:$G$1746,"Yes")) -> - | F35: =IF(C35="-","-",COUNTIFS(Fixture!$F$8:$F$1750,D35,FixtureCalc!$H$4:$H$1746,Settings!$G$7) + COUNTIFS(Fixture!$J$8:$J$1750,D35,FixtureCalc!$I$4:$I$1746,Settings!$G$7)) -> - | G35: =IF(C35="-","-",COUNTIFS(Fixture!$F$8:$F$1750,D35,FixtureCalc!$H$4:$H$1746,Settings!$G$8) + COUNTIFS(Fixture!$J$8:$J$1750,D35,FixtureCalc!$I$4:$I$1746,Settings!$G$8)) -> - | H35: =IF(C35="-","-",E35-F35-G35) -> - | I35: =IFERROR(F35/E35,"") | J35: =IF(C35="-","-",SUMIF(Fixture!$F$8:$F$1133,D35,Fixture!$G$8:$G$1133) + SUMIF(Fixture!$J$8:$J$1133,D35,Fixture!$I$8:$I$1133)) -> - | K35: =IF(C35="-","-",SUMIF(Fixture!$F$8:$F$1133,D35,Fixture!$I$8:$I$1133) + SUMIF(Fixture!$J$8:$J$1133,D35,Fixture!$G$8:$G$1133)) -> - | L35: =IF(C35="-","-",J35-K35) -> - | M35: =IF(C35="-","-",F35*Settings!$G$7 + G35*Settings!$G$8+H35*Settings!$G$9) -> - | N35: {=IF(C35="-","-",IFERROR(INDEX($C$3:$M$35,ROW(X36)-ROW($X$3),MATCH(Settings!$G$14,StandingsCalc!$C$3:$M$3,0))*10000000000,0) + IFERROR(INDEX($C$3:$M$35,ROW(X36)-ROW($X$3),MATCH(Settings!$G$15,StandingsCalc!$C$3:$M$3,0))*100000000,0) + IFERROR(INDEX($C$3:$M$35,ROW(X36)-ROW($X$3),MATCH(Settings!$G$16,StandingsCalc!$C$3:$M$3,0))*1000000,0)+IFERROR(INDEX($C$3:$M$35,ROW(X36)-ROW($X$3),MATCH(Settings!$G$17,StandingsCalc!$C$3:$M$3,0))*10000,0) +IFERROR(INDEX($C$3:$M$35,ROW(X36)-ROW($X$3),MATCH(Settings!$G$18,StandingsCalc!$C$3:$M$3,0))*100,0) +C35)} -> - | O35: =IF(C35="-","-",RANK(N35,$N$4:$N$35)) -> -

Sheet Standings
C2: LEAGUE SCHEDULE MAKER
C3: =IF(LEN(Settings!G6)=0,"STANDINGS",UPPER(Settings!G6&" STANDINGS")) -> DUMMY LEAGUE STANDINGS
C5: Position | D5: Team | E5: =StandingsCalc!E3 -> Played | F5: =StandingsCalc!F3 -> Won | G5: =StandingsCalc!G3 -> Drawn | H5: =StandingsCalc!H3 -> Lost | I5: =StandingsCalc!I3 -> Win Rate | J5: =StandingsCalc!J3 -> GF | K5: =StandingsCalc!K3 -> GA | L5: =StandingsCalc!L3 -> GD | M5: =StandingsCalc!M3 -> Points
C7: 1 | D7: =IFERROR(INDEX(StandingsCalc!D$3:D$35,MATCH($C7,StandingsCalc!$O$3:$O$35,0)),"-") -> Northern Tan Whackers | E7: =IFERROR(INDEX(StandingsCalc!E$3:E$35,MATCH($C7,StandingsCalc!$O$3:$O$35,0)),"-") -> 17 | F7: =IFERROR(INDEX(StandingsCalc!F$3:F$35,MATCH($C7,StandingsCalc!$O$3:$O$35,0)),"-") -> 12 | G7: =IFERROR(INDEX(StandingsCalc!G$3:G$35,MATCH($C7,StandingsCalc!$O$3:$O$35,0)),"-") -> 5 | H7: =IFERROR(INDEX(StandingsCalc!H$3:H$35,MATCH($C7,StandingsCalc!$O$3:$O$35,0)),"-") -> 0 | I7: =IFERROR(IF(E7=0,0,F7/E7),"") -> 0.70588235 | J7: =IFERROR(INDEX(StandingsCalc!J$3:J$35,MATCH($C7,StandingsCalc!$O$3:$O$35,0)),"-") -> 46 | K7: =IFERROR(INDEX(StandingsCalc!K$3:K$35,MATCH($C7,StandingsCalc!$O$3:$O$35,0)),"-") -> 22 | L7: =IFERROR(INDEX(StandingsCalc!L$3:L$35,MATCH($C7,StandingsCalc!$O$3:$O$35,0)),"-") -> 24 | M7: =IFERROR(INDEX(StandingsCalc!M$3:M$35,MATCH($C7,StandingsCalc!$O$3:$O$35,0)),"-") -> 41
C8: 2 | D8: =IFERROR(INDEX(StandingsCalc!D$3:D$35,MATCH($C8,StandingsCalc!$O$3:$O$35,0)),"-") -> South Leaders | E8: =IFERROR(INDEX(StandingsCalc!E$3:E$35,MATCH($C8,StandingsCalc!$O$3:$O$35,0)),"-") -> 17 | F8: =IFERROR(INDEX(StandingsCalc!F$3:F$35,MATCH($C8,StandingsCalc!$O$3:$O$35,0)),"-") -> 12 | G8: =IFERROR(INDEX(StandingsCalc!G$3:G$35,MATCH($C8,StandingsCalc!$O$3:$O$35,0)),"-") -> 4 | H8: =IFERROR(INDEX(StandingsCalc!H$3:H$35,MATCH($C8,StandingsCalc!$O$3:$O$35,0)),"-") -> 1 | I8: =IFERROR(IF(E8=0,0,F8/E8),"") -> 0.70588235 | J8: =IFERROR(INDEX(StandingsCalc!J$3:J$35,MATCH($C8,StandingsCalc!$O$3:$O$35,0)),"-") -> 48 | K8: =IFERROR(INDEX(StandingsCalc!K$3:K$35,MATCH($C8,StandingsCalc!$O$3:$O$35,0)),"-") -> 25 | L8: =IFERROR(INDEX(StandingsCalc!L$3:L$35,MATCH($C8,StandingsCalc!$O$3:$O$35,0)),"-") -> 23 | M8: =IFERROR(INDEX(StandingsCalc!M$3:M$35,MATCH($C8,StandingsCalc!$O$3:$O$35,0)),"-") -> 40
C9: 3 | D9: =IFERROR(INDEX(StandingsCalc!D$3:D$35,MATCH($C9,StandingsCalc!$O$3:$O$35,0)),"-") -> Haunting Bottle Rockets | E9: =IFERROR(INDEX(StandingsCalc!E$3:E$35,MATCH($C9,StandingsCalc!$O$3:$O$35,0)),"-") -> 17 | F9: =IFERROR(INDEX(StandingsCalc!F$3:F$35,MATCH($C9,StandingsCalc!$O$3:$O$35,0)),"-") -> 10 | G9: =IFERROR(INDEX(StandingsCalc!G$3:G$35,MATCH($C9,StandingsCalc!$O$3:$O$35,0)),"-") -> 4 | H9: =IFERROR(INDEX(StandingsCalc!H$3:H$35,MATCH($C9,StandingsCalc!$O$3:$O$35,0)),"-") -> 3 | I9: =IFERROR(IF(E9=0,0,F9/E9),"") -> 0.58823529 | J9: =IFERROR(INDEX(StandingsCalc!J$3:J$35,MATCH($C9,StandingsCalc!$O$3:$O$35,0)),"-") -> 43 | K9: =IFERROR(INDEX(StandingsCalc!K$3:K$35,MATCH($C9,StandingsCalc!$O$3:$O$35,0)),"-") -> 25 | L9: =IFERROR(INDEX(StandingsCalc!L$3:L$35,MATCH($C9,StandingsCalc!$O$3:$O$35,0)),"-") -> 18 | M9: =IFERROR(INDEX(StandingsCalc!M$3:M$35,MATCH($C9,StandingsCalc!$O$3:$O$35,0)),"-") -> 34
C10: 4 | D10: =IFERROR(INDEX(StandingsCalc!D$3:D$35,MATCH($C10,StandingsCalc!$O$3:$O$35,0)),"-") -> Delta Blazers | E10: =IFERROR(INDEX(StandingsCalc!E$3:E$35,MATCH($C10,StandingsCalc!$O$3:$O$35,0)),"-") -> 17 | F10: =IFERROR(INDEX(StandingsCalc!F$3:F$35,MATCH($C10,StandingsCalc!$O$3:$O$35,0)),"-") -> 8 | G10: =IFERROR(INDEX(StandingsCalc!G$3:G$35,MATCH($C10,StandingsCalc!$O$3:$O$35,0)),"-") -> 5 | H10: =IFERROR(INDEX(StandingsCalc!H$3:H$35,MATCH($C10,StandingsCalc!$O$3:$O$35,0)),"-") -> 4 | I10: =IFERROR(IF(E10=0,0,F10/E10),"") -> 0.47058824 | J10: =IFERROR(INDEX(StandingsCalc!J$3:J$35,MATCH($C10,StandingsCalc!$O$3:$O$35,0)),"-") -> 43 | K10: =IFERROR(INDEX(StandingsCalc!K$3:K$35,MATCH($C10,StandingsCalc!$O$3:$O$35,0)),"-") -> 32 | L10: =IFERROR(INDEX(StandingsCalc!L$3:L$35,MATCH($C10,StandingsCalc!$O$3:$O$35,0)),"-") -> 11 | M10: =IFERROR(INDEX(StandingsCalc!M$3:M$35,MATCH($C10,StandingsCalc!$O$3:$O$35,0)),"-") -> 29
C11: 5 | D11: =IFERROR(INDEX(StandingsCalc!D$3:D$35,MATCH($C11,StandingsCalc!$O$3:$O$35,0)),"-") -> Wise Panthers | E11: =IFERROR(INDEX(StandingsCalc!E$3:E$35,MATCH($C11,StandingsCalc!$O$3:$O$35,0)),"-") -> 17 | F11: =IFERROR(INDEX(StandingsCalc!F$3:F$35,MATCH($C11,StandingsCalc!$O$3:$O$35,0)),"-") -> 8 | G11: =IFERROR(INDEX(StandingsCalc!G$3:G$35,MATCH($C11,StandingsCalc!$O$3:$O$35,0)),"-") -> 4 | H11: =IFERROR(INDEX(StandingsCalc!H$3:H$35,MATCH($C11,StandingsCalc!$O$3:$O$35,0)),"-") -> 5 | I11: =IFERROR(IF(E11=0,0,F11/E11),"") -> 0.47058824 | J11: =IFERROR(INDEX(StandingsCalc!J$3:J$35,MATCH($C11,StandingsCalc!$O$3:$O$35,0)),"-") -> 29 | K11: =IFERROR(INDEX(StandingsCalc!K$3:K$35,MATCH($C11,StandingsCalc!$O$3:$O$35,0)),"-") -> 26 | L11: =IFERROR(INDEX(StandingsCalc!L$3:L$35,MATCH($C11,StandingsCalc!$O$3:$O$35,0)),"-") -> 3 | M11: =IFERROR(INDEX(StandingsCalc!M$3:M$35,MATCH($C11,StandingsCalc!$O$3:$O$35,0)),"-") -> 28
C12: 6 | D12: =IFERROR(INDEX(StandingsCalc!D$3:D$35,MATCH($C12,StandingsCalc!$O$3:$O$35,0)),"-") -> Real Revolution | E12: =IFERROR(INDEX(StandingsCalc!E$3:E$35,MATCH($C12,StandingsCalc!$O$3:$O$35,0)),"-") -> 17 | F12: =IFERROR(INDEX(StandingsCalc!F$3:F$35,MATCH($C12,StandingsCalc!$O$3:$O$35,0)),"-") -> 8 | G12: =IFERROR(INDEX(StandingsCalc!G$3:G$35,MATCH($C12,StandingsCalc!$O$3:$O$35,0)),"-") -> 3 | H12: =IFERROR(INDEX(StandingsCalc!H$3:H$35,MATCH($C12,StandingsCalc!$O$3:$O$35,0)),"-") -> 6 | I12: =IFERROR(IF(E12=0,0,F12/E12),"") -> 0.47058824 | J12: =IFERROR(INDEX(StandingsCalc!J$3:J$35,MATCH($C12,StandingsCalc!$O$3:$O$35,0)),"-") -> 36 | K12: =IFERROR(INDEX(StandingsCalc!K$3:K$35,MATCH($C12,StandingsCalc!$O$3:$O$35,0)),"-") -> 35 | L12: =IFERROR(INDEX(StandingsCalc!L$3:L$35,MATCH($C12,StandingsCalc!$O$3:$O$35,0)),"-") -> 1 | M12: =IFERROR(INDEX(StandingsCalc!M$3:M$35,MATCH($C12,StandingsCalc!$O$3:$O$35,0)),"-") -> 27
C13: 7 | D13: =IFERROR(INDEX(StandingsCalc!D$3:D$35,MATCH($C13,StandingsCalc!$O$3:$O$35,0)),"-") -> Ancient Crows | E13: =IFERROR(INDEX(StandingsCalc!E$3:E$35,MATCH($C13,StandingsCalc!$O$3:$O$35,0)),"-") -> 17 | F13: =IFERROR(INDEX(StandingsCalc!F$3:F$35,MATCH($C13,StandingsCalc!$O$3:$O$35,0)),"-") -> 7 | G13: =IFERROR(INDEX(StandingsCalc!G$3:G$35,MATCH($C13,StandingsCalc!$O$3:$O$35,0)),"-") -> 4 | H13: =IFERROR(INDEX(StandingsCalc!H$3:H$35,MATCH($C13,StandingsCalc!$O$3:$O$35,0)),"-") -> 6 | I13: =IFERROR(IF(E13=0,0,F13/E13),"") -> 0.41176471 | J13: =IFERROR(INDEX(StandingsCalc!J$3:J$35,MATCH($C13,StandingsCalc!$O$3:$O$35,0)),"-") -> 23 | K13: =IFERROR(INDEX(StandingsCalc!K$3:K$35,MATCH($C13,StandingsCalc!$O$3:$O$35,0)),"-") -> 25 | L13: =IFERROR(INDEX(StandingsCalc!L$3:L$35,MATCH($C13,StandingsCalc!$O$3:$O$35,0)),"-") -> -2 | M13: =IFERROR(INDEX(StandingsCalc!M$3:M$35,MATCH($C13,StandingsCalc!$O$3:$O$35,0)),"-") -> 25
C14: 8 | D14: =IFERROR(INDEX(StandingsCalc!D$3:D$35,MATCH($C14,StandingsCalc!$O$3:$O$35,0)),"-") -> Mighty Patriots | E14: =IFERROR(INDEX(StandingsCalc!E$3:E$35,MATCH($C14,StandingsCalc!$O$3:$O$35,0)),"-") -> 17 | F14: =IFERROR(INDEX(StandingsCalc!F$3:F$35,MATCH($C14,StandingsCalc!$O$3:$O$35,0)),"-") -> 7 | G14: =IFERROR(INDEX(StandingsCalc!G$3:G$35,MATCH($C14,StandingsCalc!$O$3:$O$35,0)),"-") -> 3 | H14: =IFERROR(INDEX(StandingsCalc!H$3:H$35,MATCH($C14,StandingsCalc!$O$3:$O$35,0)),"-") -> 7 | I14: =IFERROR(IF(E14=0,0,F14/E14),"") -> 0.41176471 | J14: =IFERROR(INDEX(StandingsCalc!J$3:J$35,MATCH($C14,StandingsCalc!$O$3:$O$35,0)),"-") -> 26 | K14: =IFERROR(INDEX(StandingsCalc!K$3:K$35,MATCH($C14,StandingsCalc!$O$3:$O$35,0)),"-") -> 29 | L14: =IFERROR(INDEX(StandingsCalc!L$3:L$35,MATCH($C14,StandingsCalc!$O$3:$O$35,0)),"-") -> -3 | M14: =IFERROR(INDEX(StandingsCalc!M$3:M$35,MATCH($C14,StandingsCalc!$O$3:$O$35,0)),"-") -> 24
C15: 9 | D15: =IFERROR(INDEX(StandingsCalc!D$3:D$35,MATCH($C15,StandingsCalc!$O$3:$O$35,0)),"-") -> The Classic | E15: =IFERROR(INDEX(StandingsCalc!E$3:E$35,MATCH($C15,StandingsCalc!$O$3:$O$35,0)),"-") -> 17 | F15: =IFERROR(INDEX(StandingsCalc!F$3:F$35,MATCH($C15,StandingsCalc!$O$3:$O$35,0)),"-") -> 7 | G15: =IFERROR(INDEX(StandingsCalc!G$3:G$35,MATCH($C15,StandingsCalc!$O$3:$O$35,0)),"-") -> 2 | H15: =IFERROR(INDEX(StandingsCalc!H$3:H$35,MATCH($C15,StandingsCalc!$O$3:$O$35,0)),"-") -> 8 | I15: =IFERROR(IF(E15=0,0,F15/E15),"") -> 0.41176471 | J15: =IFERROR(INDEX(StandingsCalc!J$3:J$35,MATCH($C15,StandingsCalc!$O$3:$O$35,0)),"-") -> 33 | K15: =IFERROR(INDEX(StandingsCalc!K$3:K$35,MATCH($C15,StandingsCalc!$O$3:$O$35,0)),"-") -> 32 | L15: =IFERROR(INDEX(StandingsCalc!L$3:L$35,MATCH($C15,StandingsCalc!$O$3:$O$35,0)),"-") -> 1 | M15: =IFERROR(INDEX(StandingsCalc!M$3:M$35,MATCH($C15,StandingsCalc!$O$3:$O$35,0)),"-") -> 23
C16: 10 | D16: =IFERROR(INDEX(StandingsCalc!D$3:D$35,MATCH($C16,StandingsCalc!$O$3:$O$35,0)),"-") -> Red Sirens | E16: =IFERROR(INDEX(StandingsCalc!E$3:E$35,MATCH($C16,StandingsCalc!$O$3:$O$35,0)),"-") -> 17 | F16: =IFERROR(INDEX(StandingsCalc!F$3:F$35,MATCH($C16,StandingsCalc!$O$3:$O$35,0)),"-") -> 5 | G16: =IFERROR(INDEX(StandingsCalc!G$3:G$35,MATCH($C16,StandingsCalc!$O$3:$O$35,0)),"-") -> 4 | H16: =IFERROR(INDEX(StandingsCalc!H$3:H$35,MATCH($C16,StandingsCalc!$O$3:$O$35,0)),"-") -> 8 | I16: =IFERROR(IF(E16=0,0,F16/E16),"") -> 0.29411765 | J16: =IFERROR(INDEX(StandingsCalc!J$3:J$35,MATCH($C16,StandingsCalc!$O$3:$O$35,0)),"-") -> 31 | K16: =IFERROR(INDEX(StandingsCalc!K$3:K$35,MATCH($C16,StandingsCalc!$O$3:$O$35,0)),"-") -> 36 | L16: =IFERROR(INDEX(StandingsCalc!L$3:L$35,MATCH($C16,StandingsCalc!$O$3:$O$35,0)),"-") -> -5 | M16: =IFERROR(INDEX(StandingsCalc!M$3:M$35,MATCH($C16,StandingsCalc!$O$3:$O$35,0)),"-") -> 19
C17: 11 | D17: =IFERROR(INDEX(StandingsCalc!D$3:D$35,MATCH($C17,StandingsCalc!$O$3:$O$35,0)),"-") -> Defiant Jesters | E17: =IFERROR(INDEX(StandingsCalc!E$3:E$35,MATCH($C17,StandingsCalc!$O$3:$O$35,0)),"-") -> 17 | F17: =IFERROR(INDEX(StandingsCalc!F$3:F$35,MATCH($C17,StandingsCalc!$O$3:$O$35,0)),"-") -> 5 | G17: =IFERROR(INDEX(StandingsCalc!G$3:G$35,MATCH($C17,StandingsCalc!$O$3:$O$35,0)),"-") -> 4 | H17: =IFERROR(INDEX(StandingsCalc!H$3:H$35,MATCH($C17,StandingsCalc!$O$3:$O$35,0)),"-") -> 8 | I17: =IFERROR(IF(E17=0,0,F17/E17),"") -> 0.29411765 | J17: =IFERROR(INDEX(StandingsCalc!J$3:J$35,MATCH($C17,StandingsCalc!$O$3:$O$35,0)),"-") -> 25 | K17: =IFERROR(INDEX(StandingsCalc!K$3:K$35,MATCH($C17,StandingsCalc!$O$3:$O$35,0)),"-") -> 34 | L17: =IFERROR(INDEX(StandingsCalc!L$3:L$35,MATCH($C17,StandingsCalc!$O$3:$O$35,0)),"-") -> -9 | M17: =IFERROR(INDEX(StandingsCalc!M$3:M$35,MATCH($C17,StandingsCalc!$O$3:$O$35,0)),"-") -> 19
