Workbook
Name day_1: Calc!$AG$8:$AI$55
Name day_2: Calc!$AL$8:$AN$55
Name day_3: Calc!$AQ$8:$AS$55
Name day_4: Calc!$AV$8:$AX$55
Name day_5: Calc!$BA$8:$BC$55
Name day_6: Calc!$BF$8:$BH$55
Name day_7: Calc!$BK$8:$BM$55
Name step: Calc!$I$22

Sheet Itınerary
C2: ITINERARY TEMPLATE
C3: TRAVEL ITINERARY
C6: Travel Itinerary
C8: Purpose | D8: Family trip | F8: Travel Start Year | G8: 2024
C9: Destination | D9: Paris | F9: Travel Start Month | G9: Apr
C10: Number of Travelers | D10: 2 Adults, 3 Kids | F10: Travel Start Day | G10: 20
C11: Number of Pets | D11: None | F11: Duration (Days) | G11: 7
C14: FLIGHTS
C15: Date | D15: Time | E15: Departure | F15: Arrival | G15: Airline
C16: 45402 | D16: 0.33333333 | E16: New York | F16: Paris | G16: Sky Airlines
C17: 45409 | D17: 0.375 | E17: Paris | F17: New York | G17: Sky Airlines
C23: OTHER TRANSPORTATION
C24: Date | D24: Time | E24: Mode | F24: From | G24: To
C25: 45407 | D25: 0.375 | E25: Train | F25: Paris | G25: Lyon
C26: 45407 | D26: 0.66666667 | E26: Train | F26: Lyon | G26: Paris
C32: HOTEL
C33: Arrival Date | D33: Hotel Name | E33: City | F33: Reservation | G33: Checkout Date
C34: 45402 | D34: Paris Hotel | E34: Paris | F34: Done | G34: 46504
C41: CAR RENTAL
C42: Date | D42: Duration | E42: Company | F42: Confirmation | G42: Location
C43: 45403 | D43: 5 Days | E43: Lines Rent-A-Car | F43: Done | G43: Paris
C50: OTHER NOTES
C51: We have an optional visit to Nice, but this will be subject to approval from the hotel.
C52: In case of any delay in flight, we should give an update to the hotel.

Sheet Checklist
D2: ITINERARY TEMPLATE
D3: PACKING CHECKLIST
C7: TRAVEL PACKING CHECKLIST
C9: CLOTHING
C10: FALSE | D10: Jeans | F10: TRUE | G10: Socks | I10: FALSE | J10: Dresses
C11: TRUE | D11: T-shirts | F11: TRUE | G11: Pajamas | I11: TRUE | J11: Ties
C12: TRUE | D12: Jackets | F12: FALSE | G12: Swimsuits | I12: FALSE
C13: FALSE | D13: Shorts | F13: FALSE | G13: Sandals | I13: FALSE
C14: FALSE | D14: Underwear | F14: FALSE | G14: Suits | I14: FALSE
C16: TOILETRIES
C17: TRUE | D17: Shampoo | F17: TRUE | G17: Hairbrush | I17: FALSE | J17: Razor
C18: FALSE | D18: Body wash | F18: FALSE | G18: Contact Lenses | I18: FALSE
C19: TRUE | D19: Sunscreen | F19: FALSE | G19: Pain Reliever | I19: FALSE
C20: FALSE | D20: Toothbrush & Toothpaste | F20: TRUE | G20: Vitamins | I20: FALSE
C21: TRUE | D21: Floss | F21: TRUE | G21: Insect Repellant | I21: FALSE
C23: ELECTRONICS
C24: FALSE | D24: Phone | F24: FALSE | G24: Speaker | I24: FALSE
C25: TRUE | D25: Chargers | F25: FALSE | G25: iPad | I25: FALSE
C26: TRUE | D26: Camara | F26: FALSE | G26: Drone | I26: FALSE
C27: TRUE | D27: Kindle | F27: FALSE | I27: FALSE
C28: FALSE | D28: Headphones | F28: FALSE | I28: FALSE
C30: DOCUMENTATION
C31: FALSE | D31: Credit Cards | F31: TRUE | G31: Travel Document | I31: FALSE
C32: TRUE | D32: Passport | F32: FALSE | G32: Tickets | I32: FALSE
C33: TRUE | D33: Insurance Card | F33: FALSE | G33: Cash | I33: FALSE
C34: FALSE | D34: Vaccination Doc | F34: FALSE | I34: FALSE
C35: TRUE | D35: Driver's License | F35: FALSE | I35: FALSE
C37: MISCELLANEOUS
C38: FALSE | D38: Dairy | F38: TRUE | G38: Jewelry | I38: FALSE
C39: TRUE | D39: Travel Pillow | F39: FALSE | G39: Snacks | I39: FALSE
C40: FALSE | D40: Water Bottle | F40: TRUE | G40: Pen | I40: FALSE
C41: FALSE | D41: Laundry Bag | F41: FALSE | G41: Perfume | I41: FALSE
C42: TRUE | D42: Guide Book | I42: FALSE

Sheet Planner
B2: ITINERARY TEMPLATE
B3: EVENTS PLANNER
B5: Event Name | C5: Date | D5: Start Time | E5: End Time | F5: Event Type | G5: Notes | I5: Event Type
B6: Flight from New York to Paris | C6: 45402 | D6: 0.33333333 | E6: 0.66666667 | F6: Flight | H6: =IFERROR(IF(LEN(B6)=0,"",IF(INDEX(Calc!$AB$4:$AB$1003,ROW(Planner!B6)-ROW(Planner!$B$5))>2,"!","")),"") | J6: Flight
B7: Visit to Eiffel | C7: 45403 | D7: 0.375 | E7: 0.54166667 | F7: City sightseeing | H7: =IFERROR(IF(LEN(B7)=0,"",IF(INDEX(Calc!$AB$4:$AB$1003,ROW(Planner!B7)-ROW(Planner!$B$5))>2,"!","")),"") | J7: City sightseeing
B8: Visit to Louvre Museum | C8: 45403 | D8: 0.625 | E8: 0.75 | F8: Cultural | G8: May need more time here. | H8: =IFERROR(IF(LEN(B8)=0,"",IF(INDEX(Calc!$AB$4:$AB$1003,ROW(Planner!B8)-ROW(Planner!$B$5))>2,"!","")),"") | J8: Cultural
B9: Visit to Disneyland | C9: 45404 | D9: 0.45833333 | E9: 0.66666667 | F9: Amusement | H9: =IFERROR(IF(LEN(B9)=0,"",IF(INDEX(Calc!$AB$4:$AB$1003,ROW(Planner!B9)-ROW(Planner!$B$5))>2,"!","")),"") | J9: Amusement
B10: Dinner at Moulin Rouge | C10: 45405 | D10: 0.875 | E10: 0.95833333 | F10: Night Life | G10: Need to check tickets. | H10: =IFERROR(IF(LEN(B10)=0,"",IF(INDEX(Calc!$AB$4:$AB$1003,ROW(Planner!B10)-ROW(Planner!$B$5))>2,"!","")),"") | J10: Night Life
B11: Lafayette Haussmann Gallery | C11: 45406 | D11: 0.375 | E11: 0.41666667 | F11: Cultural | H11: =IFERROR(IF(LEN(B11)=0,"",IF(INDEX(Calc!$AB$4:$AB$1003,ROW(Planner!B11)-ROW(Planner!$B$5))>2,"!","")),"") | J11: Train
B12: Père Lachaise | C12: 45406 | D12: 0.58333333 | E12: 0.66666667 | F12: City sightseeing | H12: =IFERROR(IF(LEN(B12)=0,"",IF(INDEX(Calc!$AB$4:$AB$1003,ROW(Planner!B12)-ROW(Planner!$B$5))>2,"!","")),"") | J12: Journey
B13: Visit to Lyon | C13: 45407 | D13: 0.375 | E13: 0.66666667 | F13: City sightseeing | H13: =IFERROR(IF(LEN(B13)=0,"",IF(INDEX(Calc!$AB$4:$AB$1003,ROW(Planner!B13)-ROW(Planner!$B$5))>2,"!","")),"") | J13: Shopping
B14: Shopping at Champs-Elysées | C14: 45408 | D14: 0.58333333 | E14: 0.66666667 | F14: Shopping | H14: =IFERROR(IF(LEN(B14)=0,"",IF(INDEX(Calc!$AB$4:$AB$1003,ROW(Planner!B14)-ROW(Planner!$B$5))>2,"!","")),"")
B15: Flight from Paris to New York | C15: 45409 | D15: 0.375 | E15: 0.70833333 | F15: Flight | H15: =IFERROR(IF(LEN(B15)=0,"",IF(INDEX(Calc!$AB$4:$AB$1003,ROW(Planner!B15)-ROW(Planner!$B$5))>2,"!","")),"")
H16: =IFERROR(IF(LEN(B16)=0,"",IF(INDEX(Calc!$AB$4:$AB$1003,ROW(Planner!B16)-ROW(Planner!$B$5))>2,"!","")),"")
H17: =IFERROR(IF(LEN(B17)=0,"",IF(INDEX(Calc!$AB$4:$AB$1003,ROW(Planner!B17)-ROW(Planner!$B$5))>2,"!","")),"")
H18: =IFERROR(IF(LEN(B18)=0,"",IF(INDEX(Calc!$AB$4:$AB$1003,ROW(Planner!B18)-ROW(Planner!$B$5))>2,"!","")),"")
H19: =IFERROR(IF(LEN(B19)=0,"",IF(INDEX(Calc!$AB$4:$AB$1003,ROW(Planner!B19)-ROW(Planner!$B$5))>2,"!","")),"")
H20: =IFERROR(IF(LEN(B20)=0,"",IF(INDEX(Calc!$AB$4:$AB$1003,ROW(Planner!B20)-ROW(Planner!$B$5))>2,"!","")),"")

Sheet Schedule
E2: ITINERARY TEMPLATE
E3: SCHEDULE
F8: 45402 | I8: =F8+1 -> 45403 | L8: =I8+1 -> 45404 | O8: =L8+1 -> 45405 | R8: =O8+1 -> 45406 | U8: =R8+1 -> 45407 | X8: =U8+1 -> 45408
F9: =IFERROR(INDEX(Calc!$N$4:$N$368,MATCH(Schedule!F$8,Calc!$O$4:$O$368,0))&" - "&INDEX(Calc!$I$12:$I$18,WEEKDAY(Schedule!F$8,2)),"") -> Day 1 - Saturday | I9: =IFERROR(INDEX(Calc!$N$4:$N$368,MATCH(Schedule!I$8,Calc!$O$4:$O$368,0))&" - "&INDEX(Calc!$I$12:$I$18,WEEKDAY(Schedule!I$8,2)),"") -> Day 2 - Sunday | L9: =IFERROR(INDEX(Calc!$N$4:$N$368,MATCH(Schedule!L$8,Calc!$O$4:$O$368,0))&" - "&INDEX(Calc!$I$12:$I$18,WEEKDAY(Schedule!L$8,2)),"") -> Day 3 - Monday | O9: =IFERROR(INDEX(Calc!$N$4:$N$368,MATCH(Schedule!O$8,Calc!$O$4:$O$368,0))&" - "&INDEX(Calc!$I$12:$I$18,WEEKDAY(Schedule!O$8,2)),"") -> Day 4 - Tuesday | R9: =IFERROR(INDEX(Calc!$N$4:$N$368,MATCH(Schedule!R$8,Calc!$O$4:$O$368,0))&" - "&INDEX(Calc!$I$12:$I$18,WEEKDAY(Schedule!R$8,2)),"") -> Day 5 - Wednesday | U9: =IFERROR(INDEX(Calc!$N$4:$N$368,MATCH(Schedule!U$8,Calc!$O$4:$O$368,0))&" - "&INDEX(Calc!$I$12:$I$18,WEEKDAY(Schedule!U$8,2)),"") -> Day 6 - Thursday | X9: =IFERROR(INDEX(Calc!$N$4:$N$368,MATCH(Schedule!X$8,Calc!$O$4:$O$368,0))&" - "&INDEX(Calc!$I$12:$I$18,WEEKDAY(Schedule!X$8,2)),"") -> Day 7 - Friday
C10: 0.29166667 | E10: =INDEX(day_1,ROW()-ROW($F$9),2) | F10: =INDEX(day_1,ROW()-ROW($F$9),1) | H10: =INDEX(day_2,ROW()-ROW($I$9),2) | I10: =INDEX(day_2,ROW()-ROW($F$9),1) | K10: =INDEX(day_3,ROW()-ROW($L$9),2) | L10: =INDEX(day_3,ROW()-ROW($F$9),1) | N10: =INDEX(day_4,ROW()-ROW($O$9),2) | O10: =INDEX(day_4,ROW()-ROW($F$9),1) | Q10: =INDEX(day_5,ROW()-ROW($R$9),2) | R10: =INDEX(day_5,ROW()-ROW($F$9),1) | T10: =INDEX(day_6,ROW()-ROW($U$9),2) | U10: =INDEX(day_6,ROW()-ROW($F$9),1) | W10: =INDEX(day_7,ROW()-ROW($X$9),2) | X10: =INDEX(day_7,ROW()-ROW($F$9),1)
C11: =IF(C10>TIME(23,30,0),"",C10+step) -> 0.3125 | E11: =INDEX(day_1,ROW()-ROW($F$9),2) | F11: =INDEX(day_1,ROW()-ROW($F$9),1) | H11: =INDEX(day_2,ROW()-ROW($I$9),2) | I11: =INDEX(day_2,ROW()-ROW($F$9),1) | K11: =INDEX(day_3,ROW()-ROW($L$9),2) | L11: =INDEX(day_3,ROW()-ROW($F$9),1) | N11: =INDEX(day_4,ROW()-ROW($O$9),2) | O11: =INDEX(day_4,ROW()-ROW($F$9),1) | Q11: =INDEX(day_5,ROW()-ROW($R$9),2) | R11: =INDEX(day_5,ROW()-ROW($F$9),1) | T11: =INDEX(day_6,ROW()-ROW($U$9),2) | U11: =INDEX(day_6,ROW()-ROW($F$9),1) | W11: =INDEX(day_7,ROW()-ROW($X$9),2) | X11: =INDEX(day_7,ROW()-ROW($F$9),1)
C12: =IF(C11>TIME(23,30,0),"",C11+step) -> 0.33333333 | E12: =INDEX(day_1,ROW()-ROW($F$9),2) -> Flight | F12: =INDEX(day_1,ROW()-ROW($F$9),1) -> Flight from New York to Paris | H12: =INDEX(day_2,ROW()-ROW($I$9),2) | I12: =INDEX(day_2,ROW()-ROW($F$9),1) | K12: =INDEX(day_3,ROW()-ROW($L$9),2) | L12: =INDEX(day_3,ROW()-ROW($F$9),1) | N12: =INDEX(day_4,ROW()-ROW($O$9),2) | O12: =INDEX(day_4,ROW()-ROW($F$9),1) | Q12: =INDEX(day_5,ROW()-ROW($R$9),2) | R12: =INDEX(day_5,ROW()-ROW($F$9),1) | T12: =INDEX(day_6,ROW()-ROW($U$9),2) | U12: =INDEX(day_6,ROW()-ROW($F$9),1) | W12: =INDEX(day_7,ROW()-ROW($X$9),2) | X12: =INDEX(day_7,ROW()-ROW($F$9),1)
C13: =IF(C12>TIME(23,30,0),"",C12+step) -> 0.35416667 | E13: =INDEX(day_1,ROW()-ROW($F$9),2) -> Flight | F13: =INDEX(day_1,ROW()-ROW($F$9),1) | H13: =INDEX(day_2,ROW()-ROW($I$9),2) | I13: =INDEX(day_2,ROW()-ROW($F$9),1) | K13: =INDEX(day_3,ROW()-ROW($L$9),2) | L13: =INDEX(day_3,ROW()-ROW($F$9),1) | N13: =INDEX(day_4,ROW()-ROW($O$9),2) | O13: =INDEX(day_4,ROW()-ROW($F$9),1) | Q13: =INDEX(day_5,ROW()-ROW($R$9),2) | R13: =INDEX(day_5,ROW()-ROW($F$9),1) | T13: =INDEX(day_6,ROW()-ROW($U$9),2) | U13: =INDEX(day_6,ROW()-ROW($F$9),1) | W13: =INDEX(day_7,ROW()-ROW($X$9),2) | X13: =INDEX(day_7,ROW()-ROW($F$9),1)
C14: =IF(C13>TIME(23,30,0),"",C13+step) -> 0.375 | E14: =INDEX(day_1,ROW()-ROW($F$9),2) -> Flight | F14: =INDEX(day_1,ROW()-ROW($F$9),1) | H14: =INDEX(day_2,ROW()-ROW($I$9),2) -> City sightseeing | I14: =INDEX(day_2,ROW()-ROW($F$9),1) -> Visit to Eiffel | K14: =INDEX(day_3,ROW()-ROW($L$9),2) | L14: =INDEX(day_3,ROW()-ROW($F$9),1) | N14: =INDEX(day_4,ROW()-ROW($O$9),2) | O14: =INDEX(day_4,ROW()-ROW($F$9),1) | Q14: =INDEX(day_5,ROW()-ROW($R$9),2) -> Cultural | R14: =INDEX(day_5,ROW()-ROW($F$9),1) -> Lafayette Haussmann Gallery | T14: =INDEX(day_6,ROW()-ROW($U$9),2) -> City sightseeing | U14: =INDEX(day_6,ROW()-ROW($F$9),1) -> Visit to Lyon | W14: =INDEX(day_7,ROW()-ROW($X$9),2) | X14: =INDEX(day_7,ROW()-ROW($F$9),1)
C15: =IF(C14>TIME(23,30,0),"",C14+step) -> 0.39583333 | E15: =INDEX(day_1,ROW()-ROW($F$9),2) -> Flight | F15: =INDEX(day_1,ROW()-ROW($F$9),1) | H15: =INDEX(day_2,ROW()-ROW($I$9),2) -> City sightseeing | I15: =INDEX(day_2,ROW()-ROW($F$9),1) | K15: =INDEX(day_3,ROW()-ROW($L$9),2) | L15: =INDEX(day_3,ROW()-ROW($F$9),1) | N15: =INDEX(day_4,ROW()-ROW($O$9),2) | O15: =INDEX(day_4,ROW()-ROW($F$9),1) | Q15: =INDEX(day_5,ROW()-ROW($R$9),2) -> Cultural | R15: =INDEX(day_5,ROW()-ROW($F$9),1) | T15: =INDEX(day_6,ROW()-ROW($U$9),2) -> City sightseeing | U15: =INDEX(day_6,ROW()-ROW($F$9),1) | W15: =INDEX(day_7,ROW()-ROW($X$9),2) | X15: =INDEX(day_7,ROW()-ROW($F$9),1)
C16: =IF(C15>TIME(23,30,0),"",C15+step) -> 0.41666667 | E16: =INDEX(day_1,ROW()-ROW($F$9),2) -> Flight | F16: =INDEX(day_1,ROW()-ROW($F$9),1) | H16: =INDEX(day_2,ROW()-ROW($I$9),2) -> City sightseeing | I16: =INDEX(day_2,ROW()-ROW($F$9),1) | K16: =INDEX(day_3,ROW()-ROW($L$9),2) | L16: =INDEX(day_3,ROW()-ROW($F$9),1) | N16: =INDEX(day_4,ROW()-ROW($O$9),2) | O16: =INDEX(day_4,ROW()-ROW($F$9),1) | Q16: =INDEX(day_5,ROW()-ROW($R$9),2) | R16: =INDEX(day_5,ROW()-ROW($F$9),1) | T16: =INDEX(day_6,ROW()-ROW($U$9),2) -> City sightseeing | U16: =INDEX(day_6,ROW()-ROW($F$9),1) | W16: =INDEX(day_7,ROW()-ROW($X$9),2) | X16: =INDEX(day_7,ROW()-ROW($F$9),1)
C17: =IF(C16>TIME(23,30,0),"",C16+step) -> 0.4375 | E17: =INDEX(day_1,ROW()-ROW($F$9),2) -> Flight | F17: =INDEX(day_1,ROW()-ROW($F$9),1) | H17: =INDEX(day_2,ROW()-ROW($I$9),2) -> City sightseeing | I17: =INDEX(day_2,ROW()-ROW($F$9),1) | K17: =INDEX(day_3,ROW()-ROW($L$9),2) | L17: =INDEX(day_3,ROW()-ROW($F$9),1) | N17: =INDEX(day_4,ROW()-ROW($O$9),2) | O17: =INDEX(day_4,ROW()-ROW($F$9),1) | Q17: =INDEX(day_5,ROW()-ROW($R$9),2) | R17: =INDEX(day_5,ROW()-ROW($F$9),1) | T17: =INDEX(day_6,ROW()-ROW($U$9),2) -> City sightseeing | U17: =INDEX(day_6,ROW()-ROW($F$9),1) | W17: =INDEX(day_7,ROW()-ROW($X$9),2) | X17: =INDEX(day_7,ROW()-ROW($F$9),1)
C18: =IF(C17>TIME(23,30,0),"",C17+step) -> 0.45833333 | E18: =INDEX(day_1,ROW()-ROW($F$9),2) -> Flight | F18: =INDEX(day_1,ROW()-ROW($F$9),1) | H18: =INDEX(day_2,ROW()-ROW($I$9),2) -> City sightseeing | I18: =INDEX(day_2,ROW()-ROW($F$9),1) | K18: =INDEX(day_3,ROW()-ROW($L$9),2) -> Amusement | L18: =INDEX(day_3,ROW()-ROW($F$9),1) -> Visit to Disneyland | N18: =INDEX(day_4,ROW()-ROW($O$9),2) | O18: =INDEX(day_4,ROW()-ROW($F$9),1) | Q18: =INDEX(day_5,ROW()-ROW($R$9),2) | R18: =INDEX(day_5,ROW()-ROW($F$9),1) | T18: =INDEX(day_6,ROW()-ROW($U$9),2) -> City sightseeing | U18: =INDEX(day_6,ROW()-ROW($F$9),1) | W18: =INDEX(day_7,ROW()-ROW($X$9),2) | X18: =INDEX(day_7,ROW()-ROW($F$9),1)
C19: =IF(C18>TIME(23,30,0),"",C18+step) -> 0.47916667 | E19: =INDEX(day_1,ROW()-ROW($F$9),2) -> Flight | F19: =INDEX(day_1,ROW()-ROW($F$9),1) | H19: =INDEX(day_2,ROW()-ROW($I$9),2) -> City sightseeing | I19: =INDEX(day_2,ROW()-ROW($F$9),1) | K19: =INDEX(day_3,ROW()-ROW($L$9),2) -> Amusement | L19: =INDEX(day_3,ROW()-ROW($F$9),1) | N19: =INDEX(day_4,ROW()-ROW($O$9),2) | O19: =INDEX(day_4,ROW()-ROW($F$9),1) | Q19: =INDEX(day_5,ROW()-ROW($R$9),2) | R19: =INDEX(day_5,ROW()-ROW($F$9),1) | T19: =INDEX(day_6,ROW()-ROW($U$9),2) -> City sightseeing | U19: =INDEX(day_6,ROW()-ROW($F$9),1) | W19: =INDEX(day_7,ROW()-ROW($X$9),2) | X19: =INDEX(day_7,ROW()-ROW($F$9),1)
C20: =IF(C19>TIME(23,30,0),"",C19+step) -> 0.5 | E20: =INDEX(day_1,ROW()-ROW($F$9),2) -> Flight | F20: =INDEX(day_1,ROW()-ROW($F$9),1) | H20: =INDEX(day_2,ROW()-ROW($I$9),2) -> City sightseeing | I20: =INDEX(day_2,ROW()-ROW($F$9),1) | K20: =INDEX(day_3,ROW()-ROW($L$9),2) -> Amusement | L20: =INDEX(day_3,ROW()-ROW($F$9),1) | N20: =INDEX(day_4,ROW()-ROW($O$9),2) | O20: =INDEX(day_4,ROW()-ROW($F$9),1) | Q20: =INDEX(day_5,ROW()-ROW($R$9),2) | R20: =INDEX(day_5,ROW()-ROW($F$9),1) | T20: =INDEX(day_6,ROW()-ROW($U$9),2) -> City sightseeing | U20: =INDEX(day_6,ROW()-ROW($F$9),1) | W20: =INDEX(day_7,ROW()-ROW($X$9),2) | X20: =INDEX(day_7,ROW()-ROW($F$9),1)
C21: =IF(C20>TIME(23,30,0),"",C20+step) -> 0.52083333 | E21: =INDEX(day_1,ROW()-ROW($F$9),2) -> Flight | F21: =INDEX(day_1,ROW()-ROW($F$9),1) | H21: =INDEX(day_2,ROW()-ROW($I$9),2) -> City sightseeing | I21: =INDEX(day_2,ROW()-ROW($F$9),1) | K21: =INDEX(day_3,ROW()-ROW($L$9),2) -> Amusement | L21: =INDEX(day_3,ROW()-ROW($F$9),1) | N21: =INDEX(day_4,ROW()-ROW($O$9),2) | O21: =INDEX(day_4,ROW()-ROW($F$9),1) | Q21: =INDEX(day_5,ROW()-ROW($R$9),2) | R21: =INDEX(day_5,ROW()-ROW($F$9),1) | T21: =INDEX(day_6,ROW()-ROW($U$9),2) -> City sightseeing | U21: =INDEX(day_6,ROW()-ROW($F$9),1) | W21: =INDEX(day_7,ROW()-ROW($X$9),2) | X21: =INDEX(day_7,ROW()-ROW($F$9),1)
C22: =IF(C21>TIME(23,30,0),"",C21+step) -> 0.54166667 | E22: =INDEX(day_1,ROW()-ROW($F$9),2) -> Flight | F22: =INDEX(day_1,ROW()-ROW($F$9),1) | H22: =INDEX(day_2,ROW()-ROW($I$9),2) | I22: =INDEX(day_2,ROW()-ROW($F$9),1) | K22: =INDEX(day_3,ROW()-ROW($L$9),2) -> Amusement | L22: =INDEX(day_3,ROW()-ROW($F$9),1) | N22: =INDEX(day_4,ROW()-ROW($O$9),2) | O22: =INDEX(day_4,ROW()-ROW($F$9),1) | Q22: =INDEX(day_5,ROW()-ROW($R$9),2) | R22: =INDEX(day_5,ROW()-ROW($F$9),1) | T22: =INDEX(day_6,ROW()-ROW($U$9),2) -> City sightseeing | U22: =INDEX(day_6,ROW()-ROW($F$9),1) | W22: =INDEX(day_7,ROW()-ROW($X$9),2) | X22: =INDEX(day_7,ROW()-ROW($F$9),1)
... C57: =IF(C56>TIME(23,30,0),"",C56+step) | E57: =INDEX(day_1,ROW()-ROW($F$9),2) | F57: =INDEX(day_1,ROW()-ROW($F$9),1) | H57: =INDEX(day_2,ROW()-ROW($I$9),2) | I57: =INDEX(day_2,ROW()-ROW($F$9),1) | K57: =INDEX(day_3,ROW()-ROW($L$9),2) | L57: =INDEX(day_3,ROW()-ROW($F$9),1) | N57: =INDEX(day_4,ROW()-ROW($O$9),2) | O57: =INDEX(day_4,ROW()-ROW($F$9),1) | Q57: =INDEX(day_5,ROW()-ROW($R$9),2) | R57: =INDEX(day_5,ROW()-ROW($F$9),1) | T57: =INDEX(day_6,ROW()-ROW($U$9),2) | U57: =INDEX(day_6,ROW()-ROW($F$9),1) | W57: =INDEX(day_7,ROW()-ROW($X$9),2) | X57: =INDEX(day_7,ROW()-ROW($F$9),1)

Sheet Calc
B3: START DATE SETTINGS | L3: Start Hours | N3: Days | O3: Dates | Q3: ID | R3: Real Index | S3: Title | T3: Type | U3: Start Date | V3: End date | W3: S Time | X3: E Time | Y3: Start | Z3: End | AA3: Length | AB3: Overlap Check | AD3: SCHEDULE DAYS
B4: Start Year | C4: =IFERROR(IF(LEN(Itınerary!$G$8)=0,YEAR(TODAY()),Itınerary!G8),"") -> 2024 | L4: 0 | N4: Day 1 | O4: =IFERROR(C8,"") -> 45402 | Q4: 1 | R4: =IF(Y4="","",RANK(Y4,$Y$4:$Y$1003,TRUE)+Q4/1000) -> 1.001 | S4: =INDEX(Planner!B$6:B$1005,$Q4,1)&"" -> Flight from New York to Paris | T4: =IFERROR(IF(R4="","",INDEX(Planner!F$6:F$1005,$Q4,1)&""),"") -> Flight | U4: =IF(ISNUMBER(INDEX(Planner!C$6:C$1005,$Q4,1)),INDEX(Planner!C$6:C$1005,$Q4,1),"") -> 45402 | V4: =IFERROR(U4,"") -> 45402 | W4: =IF(ISNUMBER(INDEX(Planner!D$6:D$1005,$Q4,1)),INDEX(Planner!D$6:D$1005,$Q4,1),"") -> 0.33333333 | X4: =IF(ISNUMBER(INDEX(Planner!E$6:E$1005,$Q4,1)),INDEX(Planner!E$6:E$1005,$Q4,1),"") -> 0.66666667 | Y4: =IFERROR(U4+W4,"") -> 45402.333 | Z4: =IFERROR(V4+X4,"") -> 45402.667 | AA4: =IFERROR(Z4-Y4,"") -> 0.33333333 | AB4: {=IFERROR((IF(LEN(S4)=0,"",SUM((Y4>=$Y$4:$Y$1003)*(Y4<=$Z$4:$Z$1003),(Z4>=$Y$4:$Y$1003)*(Z4<=$Z$4:$Z$1003)))),"")} -> 2 | AE4: 1 | AJ4: 2 | AO4: 3 | AT4: 4 | AY4: 5 | BD4: 6 | BI4: 7
B5: Start Month | C5: =IFERROR(IF(LEN(Itınerary!$G$9)=0,MONTH(TODAY()),Itınerary!G9),"") -> Apr | L5: =L4+step -> 0.020833333 | N5: Day 2 | O5: =IFERROR(O4+1,"") -> 45403 | Q5: 2 | R5: =IF(Y5="","",RANK(Y5,$Y$4:$Y$1003,TRUE)+Q5/1000) -> 2.002 | S5: =INDEX(Planner!B$6:B$1005,$Q5,1)&"" -> Visit to Eiffel | T5: =IFERROR(IF(R5="","",INDEX(Planner!F$6:F$1005,$Q5,1)&""),"") -> City sightseeing | U5: =IF(ISNUMBER(INDEX(Planner!C$6:C$1005,$Q5,1)),INDEX(Planner!C$6:C$1005,$Q5,1),"") -> 45403 | V5: =IFERROR(U5,"") -> 45403 | W5: =IF(ISNUMBER(INDEX(Planner!D$6:D$1005,$Q5,1)),INDEX(Planner!D$6:D$1005,$Q5,1),"") -> 0.375 | X5: =IF(ISNUMBER(INDEX(Planner!E$6:E$1005,$Q5,1)),INDEX(Planner!E$6:E$1005,$Q5,1),"") -> 0.54166667 | Y5: =IFERROR(U5+W5,"") -> 45403.375 | Z5: =IFERROR(V5+X5,"") -> 45403.542 | AA5: =IFERROR(Z5-Y5,"") -> 0.16666667 | AB5: {=IFERROR((IF(LEN(S5)=0,"",SUM((Y5>=$Y$4:$Y$1003)*(Y5<=$Z$4:$Z$1003),(Z5>=$Y$4:$Y$1003)*(Z5<=$Z$4:$Z$1003)))),"")} -> 2 | AE5: =IFERROR(INDEX($I$12:$I$18,WEEKDAY(AE$6,2)),"") -> Saturday | AJ5: =IFERROR(INDEX($I$12:$I$18,WEEKDAY(AJ$6,2)),"") -> Sunday | AO5: =IFERROR(INDEX($I$12:$I$18,WEEKDAY(AO$6,2)),"") -> Monday | AT5: =IFERROR(INDEX($I$12:$I$18,WEEKDAY(AT$6,2)),"") -> Tuesday | AY5: =IFERROR(INDEX($I$12:$I$18,WEEKDAY(AY$6,2)),"") -> Wednesday | BD5: =IFERROR(INDEX($I$12:$I$18,WEEKDAY(BD$6,2)),"") -> Thursday | BI5: =IFERROR(INDEX($I$12:$I$18,WEEKDAY(BI$6,2)),"") -> Friday
B6: Start Month # | C6: =IFERROR(INDEX($F$12:$F$23,MATCH(C5,$E$12:$E$23,0)),1) -> 4 | L6: =L5+step -> 0.041666667 | N6: Day 3 | O6: =IFERROR(O5+1,"") -> 45404 | Q6: 3 | R6: =IF(Y6="","",RANK(Y6,$Y$4:$Y$1003,TRUE)+Q6/1000) -> 3.003 | S6: =INDEX(Planner!B$6:B$1005,$Q6,1)&"" -> Visit to Louvre Museum | T6: =IFERROR(IF(R6="","",INDEX(Planner!F$6:F$1005,$Q6,1)&""),"") -> Cultural | U6: =IF(ISNUMBER(INDEX(Planner!C$6:C$1005,$Q6,1)),INDEX(Planner!C$6:C$1005,$Q6,1),"") -> 45403 | V6: =IFERROR(U6,"") -> 45403 | W6: =IF(ISNUMBER(INDEX(Planner!D$6:D$1005,$Q6,1)),INDEX(Planner!D$6:D$1005,$Q6,1),"") -> 0.625 | X6: =IF(ISNUMBER(INDEX(Planner!E$6:E$1005,$Q6,1)),INDEX(Planner!E$6:E$1005,$Q6,1),"") -> 0.75 | Y6: =IFERROR(U6+W6,"") -> 45403.625 | Z6: =IFERROR(V6+X6,"") -> 45403.75 | AA6: =IFERROR(Z6-Y6,"") -> 0.125 | AB6: {=IFERROR((IF(LEN(S6)=0,"",SUM((Y6>=$Y$4:$Y$1003)*(Y6<=$Z$4:$Z$1003),(Z6>=$Y$4:$Y$1003)*(Z6<=$Z$4:$Z$1003)))),"")} -> 2 | AE6: =IFERROR(Schedule!$F$8,"") -> 45402 | AJ6: =IFERROR(AE6+1,"") -> 45403 | AO6: =IFERROR(AJ6+1,"") -> 45404 | AT6: =IFERROR(AO6+1,"") -> 45405 | AY6: =IFERROR(AT6+1,"") -> 45406 | BD6: =IFERROR(AY6+1,"") -> 45407 | BI6: =IFERROR(BD6+1,"") -> 45408
B7: Start Day | C7: =IFERROR(IF(LEN(Itınerary!$G$9)=0,DAY(TODAY()),Itınerary!G10),"") -> 20 | L7: =L6+step -> 0.0625 | N7: Day 4 | O7: =IFERROR(O6+1,"") -> 45405 | Q7: 4 | R7: =IF(Y7="","",RANK(Y7,$Y$4:$Y$1003,TRUE)+Q7/1000) -> 4.004 | S7: =INDEX(Planner!B$6:B$1005,$Q7,1)&"" -> Visit to Disneyland | T7: =IFERROR(IF(R7="","",INDEX(Planner!F$6:F$1005,$Q7,1)&""),"") -> Amusement | U7: =IF(ISNUMBER(INDEX(Planner!C$6:C$1005,$Q7,1)),INDEX(Planner!C$6:C$1005,$Q7,1),"") -> 45404 | V7: =IFERROR(U7,"") -> 45404 | W7: =IF(ISNUMBER(INDEX(Planner!D$6:D$1005,$Q7,1)),INDEX(Planner!D$6:D$1005,$Q7,1),"") -> 0.45833333 | X7: =IF(ISNUMBER(INDEX(Planner!E$6:E$1005,$Q7,1)),INDEX(Planner!E$6:E$1005,$Q7,1),"") -> 0.66666667 | Y7: =IFERROR(U7+W7,"") -> 45404.458 | Z7: =IFERROR(V7+X7,"") -> 45404.667 | AA7: =IFERROR(Z7-Y7,"") -> 0.20833333 | AB7: {=IFERROR((IF(LEN(S7)=0,"",SUM((Y7>=$Y$4:$Y$1003)*(Y7<=$Z$4:$Z$1003),(Z7>=$Y$4:$Y$1003)*(Z7<=$Z$4:$Z$1003)))),"")} -> 2 | AE7: ID | AF7: Overlap | AG7: Text | AH7: Type | AI7: Check | AJ7: ID | AK7: Overlap | AL7: Text | AM7: Type | AN7: Check | AO7: ID | AP7: Overlap | AQ7: Text | AR7: Type | AS7: Check | AT7: ID | AU7: Overlap | AV7: Text | AW7: Type | AX7: Check | AY7: ID | AZ7: Overlap | BA7: Text | BB7: Type | BC7: Check | BD7: ID | BE7: Overlap | BF7: Text | BG7: Type | BH7: Check | BI7: ID | BJ7: Overlap | BK7: Text | BL7: Type | BM7: Check
B8: Start Date | C8: =IFERROR(DATE(C4,C6,C7),TODAY()) -> 45402 | L8: =L7+step -> 0.083333333 | N8: Day 5 | O8: =IFERROR(O7+1,"") -> 45406 | Q8: 5 | R8: =IF(Y8="","",RANK(Y8,$Y$4:$Y$1003,TRUE)+Q8/1000) -> 5.005 | S8: =INDEX(Planner!B$6:B$1005,$Q8,1)&"" -> Dinner at Moulin Rouge | T8: =IFERROR(IF(R8="","",INDEX(Planner!F$6:F$1005,$Q8,1)&""),"") -> Night Life | U8: =IF(ISNUMBER(INDEX(Planner!C$6:C$1005,$Q8,1)),INDEX(Planner!C$6:C$1005,$Q8,1),"") -> 45405 | V8: =IFERROR(U8,"") -> 45405 | W8: =IF(ISNUMBER(INDEX(Planner!D$6:D$1005,$Q8,1)),INDEX(Planner!D$6:D$1005,$Q8,1),"") -> 0.875 | X8: =IF(ISNUMBER(INDEX(Planner!E$6:E$1005,$Q8,1)),INDEX(Planner!E$6:E$1005,$Q8,1),"") -> 0.95833333 | Y8: =IFERROR(U8+W8,"") -> 45405.875 | Z8: =IFERROR(V8+X8,"") -> 45405.958 | AA8: =IFERROR(Z8-Y8,"") -> 0.083333333 | AB8: {=IFERROR((IF(LEN(S8)=0,"",SUM((Y8>=$Y$4:$Y$1003)*(Y8<=$Z$4:$Z$1003),(Z8>=$Y$4:$Y$1003)*(Z8<=$Z$4:$Z$1003)))),"")} -> 2 | AD8: =Schedule!C10 -> 0.29166667 | AE8: {=MIN(IF(($U$4:$U$18=AE$6)*($W$4:$W$18<=$AD8)*($X$4:$X$18>$AD8),$Q$4:$Q$18,""))} -> 0 | AF8: =COUNTIFS($U$4:$U$18,AE$6,$W$4:$W$18,"<="&$AD8,$X$4:$X$18,">"&$AD8) -> 0 | AG8: =IF(AE8=AE7,"",IF(AE8>0,INDEX($S$4:$S$18,AE8,1)& IF(AF8>1," - " & AF8 &" Events overlap!",""),"")) | AH8: =IF(LEN(AI8)>0,INDEX($T$4:$T$18,AE8,1),"") | AI8: =IFERROR(IF(AE8>0,1,""),"") | AJ8: {=MIN(IF(($U$4:$U$18=AJ$6)*($W$4:$W$18<=$AD8)*($X$4:$X$18>$AD8),$Q$4:$Q$18,""))} -> 0 | AK8: =COUNTIFS($U$4:$U$18,AJ$6,$W$4:$W$18,"<="&$AD8,$X$4:$X$18,">"&$AD8) -> 0 | AL8: =IF(AJ8=AJ7,"",IF(AJ8>0,INDEX($S$4:$S$18,AJ8,1)& IF(AK8>1," - " & AK8 &" Events overlap!",""),"")) | AM8: =IF(LEN(AN8)>0,INDEX($T$4:$T$18,AJ8,1),"") | AN8: =IFERROR(IF(AJ8>0,1,""),"") | AO8: {=MIN(IF(($U$4:$U$18=AO$6)*($W$4:$W$18<=$AD8)*($X$4:$X$18>$AD8),$Q$4:$Q$18,""))} -> 0 | AP8: =COUNTIFS($U$4:$U$18,AO$6,$W$4:$W$18,"<="&$AD8,$X$4:$X$18,">"&$AD8) -> 0 | AQ8: =IF(AO8=AO7,"",IF(AO8>0,INDEX($S$4:$S$18,AO8,1)& IF(AP8>1," - " & AP8 &" Events overlap!",""),"")) | AR8: =IF(LEN(AS8)>0,INDEX($T$4:$T$18,AO8,1),"") | AS8: =IFERROR(IF(AO8>0,1,""),"") | AT8: {=MIN(IF(($U$4:$U$18=AT$6)*($W$4:$W$18<=$AD8)*($X$4:$X$18>$AD8),$Q$4:$Q$18,""))} -> 0 | AU8: =COUNTIFS($U$4:$U$18,AT$6,$W$4:$W$18,"<="&$AD8,$X$4:$X$18,">"&$AD8) -> 0 | AV8: =IF(AT8=AT7,"",IF(AT8>0,INDEX($S$4:$S$18,AT8,1)& IF(AU8>1," - " & AU8 &" Events overlap!",""),"")) | AW8: =IF(LEN(AX8)>0,INDEX($T$4:$T$18,AT8,1),"") | AX8: =IFERROR(IF(AT8>0,1,""),"") | AY8: {=MIN(IF(($U$4:$U$18=AY$6)*($W$4:$W$18<=$AD8)*($X$4:$X$18>$AD8),$Q$4:$Q$18,""))} -> 0 | AZ8: =COUNTIFS($U$4:$U$18,AY$6,$W$4:$W$18,"<="&$AD8,$X$4:$X$18,">"&$AD8) -> 0 | BA8: =IF(AY8=AY7,"",IF(AY8>0,INDEX($S$4:$S$18,AY8,1)& IF(AZ8>1," - " & AZ8 &" Events overlap!",""),"")) | BB8: =IF(LEN(BC8)>0,INDEX($T$4:$T$18,AY8,1),"") | BC8: =IFERROR(IF(AY8>0,1,""),"") | BD8: {=MIN(IF(($U$4:$U$18=BD$6)*($W$4:$W$18<=$AD8)*($X$4:$X$18>$AD8),$Q$4:$Q$18,""))} -> 0 | BE8: =COUNTIFS($U$4:$U$18,BD$6,$W$4:$W$18,"<="&$AD8,$X$4:$X$18,">"&$AD8) -> 0 | BF8: =IF(BD8=BD7,"",IF(BD8>0,INDEX($S$4:$S$18,BD8,1)& IF(BE8>1," - " & BE8 &" Events overlap!",""),"")) | BG8: =IF(LEN(BH8)>0,INDEX($T$4:$T$18,BD8,1),"") | BH8: =IFERROR(IF(BD8>0,1,""),"") | BI8: {=MIN(IF(($U$4:$U$18=BI$6)*($W$4:$W$18<=$AD8)*($X$4:$X$18>$AD8),$Q$4:$Q$18,""))} -> 0 | BJ8: =COUNTIFS($U$4:$U$18,BI$6,$W$4:$W$18,"<="&$AD8,$X$4:$X$18,">"&$AD8) -> 0 | BK8: =IF(BI8=BI7,"",IF(BI8>0,INDEX($S$4:$S$18,BI8,1)& IF(BJ8>1," - " & BJ8 &" Events overlap!",""),"")) | BL8: =IF(LEN(BM8)>0,INDEX($T$4:$T$18,BI8,1),"") | BM8: =IFERROR(IF(BI8>0,1,""),"")
B9: Month Day # | C9: =IFERROR(INDEX($G$12:$G$23,MATCH($C$5,$E$12:$E$23,0)),31) -> 30 | L9: =L8+step -> 0.10416667 | N9: Day 6 | O9: =IFERROR(O8+1,"") -> 45407 | Q9: 6 | R9: =IF(Y9="","",RANK(Y9,$Y$4:$Y$1003,TRUE)+Q9/1000) -> 6.006 | S9: =INDEX(Planner!B$6:B$1005,$Q9,1)&"" -> Lafayette Haussmann Gallery | T9: =IFERROR(IF(R9="","",INDEX(Planner!F$6:F$1005,$Q9,1)&""),"") -> Cultural | U9: =IF(ISNUMBER(INDEX(Planner!C$6:C$1005,$Q9,1)),INDEX(Planner!C$6:C$1005,$Q9,1),"") -> 45406 | V9: =IFERROR(U9,"") -> 45406 | W9: =IF(ISNUMBER(INDEX(Planner!D$6:D$1005,$Q9,1)),INDEX(Planner!D$6:D$1005,$Q9,1),"") -> 0.375 | X9: =IF(ISNUMBER(INDEX(Planner!E$6:E$1005,$Q9,1)),INDEX(Planner!E$6:E$1005,$Q9,1),"") -> 0.41666667 | Y9: =IFERROR(U9+W9,"") -> 45406.375 | Z9: =IFERROR(V9+X9,"") -> 45406.417 | AA9: =IFERROR(Z9-Y9,"") -> 0.041666667 | AB9: {=IFERROR((IF(LEN(S9)=0,"",SUM((Y9>=$Y$4:$Y$1003)*(Y9<=$Z$4:$Z$1003),(Z9>=$Y$4:$Y$1003)*(Z9<=$Z$4:$Z$1003)))),"")} -> 2 | AD9: =Schedule!C11 -> 0.3125 | AE9: {=MIN(IF(($U$4:$U$18=AE$6)*($W$4:$W$18<=$AD9)*($X$4:$X$18>$AD9),$Q$4:$Q$18,""))} -> 0 | AF9: =COUNTIFS($U$4:$U$18,AE$6,$W$4:$W$18,"<="&$AD9,$X$4:$X$18,">"&$AD9) -> 0 | AG9: =IF(AE9=AE8,"",IF(AE9>0,INDEX($S$4:$S$18,AE9,1)& IF(AF9>1," - " & AF9 &" Events overlap!",""),"")) | AH9: =IF(LEN(AI9)>0,INDEX($T$4:$T$18,AE9,1),"") | AI9: =IFERROR(IF(AE9>0,1,""),"") | AJ9: {=MIN(IF(($U$4:$U$18=AJ$6)*($W$4:$W$18<=$AD9)*($X$4:$X$18>$AD9),$Q$4:$Q$18,""))} -> 0 | AK9: =COUNTIFS($U$4:$U$18,AJ$6,$W$4:$W$18,"<="&$AD9,$X$4:$X$18,">"&$AD9) -> 0 | AL9: =IF(AJ9=AJ8,"",IF(AJ9>0,INDEX($S$4:$S$18,AJ9,1)& IF(AK9>1," - " & AK9 &" Events overlap!",""),"")) | AM9: =IF(LEN(AN9)>0,INDEX($T$4:$T$18,AJ9,1),"") | AN9: =IFERROR(IF(AJ9>0,1,""),"") | AO9: {=MIN(IF(($U$4:$U$18=AO$6)*($W$4:$W$18<=$AD9)*($X$4:$X$18>$AD9),$Q$4:$Q$18,""))} -> 0 | AP9: =COUNTIFS($U$4:$U$18,AO$6,$W$4:$W$18,"<="&$AD9,$X$4:$X$18,">"&$AD9) -> 0 | AQ9: =IF(AO9=AO8,"",IF(AO9>0,INDEX($S$4:$S$18,AO9,1)& IF(AP9>1," - " & AP9 &" Events overlap!",""),"")) | AR9: =IF(LEN(AS9)>0,INDEX($T$4:$T$18,AO9,1),"") | AS9: =IFERROR(IF(AO9>0,1,""),"") | AT9: {=MIN(IF(($U$4:$U$18=AT$6)*($W$4:$W$18<=$AD9)*($X$4:$X$18>$AD9),$Q$4:$Q$18,""))} -> 0 | AU9: =COUNTIFS($U$4:$U$18,AT$6,$W$4:$W$18,"<="&$AD9,$X$4:$X$18,">"&$AD9) -> 0 | AV9: =IF(AT9=AT8,"",IF(AT9>0,INDEX($S$4:$S$18,AT9,1)& IF(AU9>1," - " & AU9 &" Events overlap!",""),"")) | AW9: =IF(LEN(AX9)>0,INDEX($T$4:$T$18,AT9,1),"") | AX9: =IFERROR(IF(AT9>0,1,""),"") | AY9: {=MIN(IF(($U$4:$U$18=AY$6)*($W$4:$W$18<=$AD9)*($X$4:$X$18>$AD9),$Q$4:$Q$18,""))} -> 0 | AZ9: =COUNTIFS($U$4:$U$18,AY$6,$W$4:$W$18,"<="&$AD9,$X$4:$X$18,">"&$AD9) -> 0 | BA9: =IF(AY9=AY8,"",IF(AY9>0,INDEX($S$4:$S$18,AY9,1)& IF(AZ9>1," - " & AZ9 &" Events overlap!",""),"")) | BB9: =IF(LEN(BC9)>0,INDEX($T$4:$T$18,AY9,1),"") | BC9: =IFERROR(IF(AY9>0,1,""),"") | BD9: {=MIN(IF(($U$4:$U$18=BD$6)*($W$4:$W$18<=$AD9)*($X$4:$X$18>$AD9),$Q$4:$Q$18,""))} -> 0 | BE9: =COUNTIFS($U$4:$U$18,BD$6,$W$4:$W$18,"<="&$AD9,$X$4:$X$18,">"&$AD9) -> 0 | BF9: =IF(BD9=BD8,"",IF(BD9>0,INDEX($S$4:$S$18,BD9,1)& IF(BE9>1," - " & BE9 &" Events overlap!",""),"")) | BG9: =IF(LEN(BH9)>0,INDEX($T$4:$T$18,BD9,1),"") | BH9: =IFERROR(IF(BD9>0,1,""),"") | BI9: {=MIN(IF(($U$4:$U$18=BI$6)*($W$4:$W$18<=$AD9)*($X$4:$X$18>$AD9),$Q$4:$Q$18,""))} -> 0 | BJ9: =COUNTIFS($U$4:$U$18,BI$6,$W$4:$W$18,"<="&$AD9,$X$4:$X$18,">"&$AD9) -> 0 | BK9: =IF(BI9=BI8,"",IF(BI9>0,INDEX($S$4:$S$18,BI9,1)& IF(BJ9>1," - " & BJ9 &" Events overlap!",""),"")) | BL9: =IF(LEN(BM9)>0,INDEX($T$4:$T$18,BI9,1),"") | BM9: =IFERROR(IF(BI9>0,1,""),"")
L10: =L9+step -> 0.125 | N10: Day 7 | O10: =IFERROR(O9+1,"") -> 45408 | Q10: 7 | R10: =IF(Y10="","",RANK(Y10,$Y$4:$Y$1003,TRUE)+Q10/1000) -> 7.007 | S10: =INDEX(Planner!B$6:B$1005,$Q10,1)&"" -> Père Lachaise | T10: =IFERROR(IF(R10="","",INDEX(Planner!F$6:F$1005,$Q10,1)&""),"") -> City sightseeing | U10: =IF(ISNUMBER(INDEX(Planner!C$6:C$1005,$Q10,1)),INDEX(Planner!C$6:C$1005,$Q10,1),"") -> 45406 | V10: =IFERROR(U10,"") -> 45406 | W10: =IF(ISNUMBER(INDEX(Planner!D$6:D$1005,$Q10,1)),INDEX(Planner!D$6:D$1005,$Q10,1),"") -> 0.58333333 | X10: =IF(ISNUMBER(INDEX(Planner!E$6:E$1005,$Q10,1)),INDEX(Planner!E$6:E$1005,$Q10,1),"") -> 0.66666667 | Y10: =IFERROR(U10+W10,"") -> 45406.583 | Z10: =IFERROR(V10+X10,"") -> 45406.667 | AA10: =IFERROR(Z10-Y10,"") -> 0.083333333 | AB10: {=IFERROR((IF(LEN(S10)=0,"",SUM((Y10>=$Y$4:$Y$1003)*(Y10<=$Z$4:$Z$1003),(Z10>=$Y$4:$Y$1003)*(Z10<=$Z$4:$Z$1003)))),"")} -> 2 | AD10: =Schedule!C12 -> 0.33333333 | AE10: {=MIN(IF(($U$4:$U$18=AE$6)*($W$4:$W$18<=$AD10)*($X$4:$X$18>$AD10),$Q$4:$Q$18,""))} -> 1 | AF10: =COUNTIFS($U$4:$U$18,AE$6,$W$4:$W$18,"<="&$AD10,$X$4:$X$18,">"&$AD10) -> 1 | AG10: =IF(AE10=AE9,"",IF(AE10>0,INDEX($S$4:$S$18,AE10,1)& IF(AF10>1," - " & AF10 &" Events overlap!",""),"")) -> Flight from New York to Paris | AH10: =IF(LEN(AI10)>0,INDEX($T$4:$T$18,AE10,1),"") -> Flight | AI10: =IFERROR(IF(AE10>0,1,""),"") -> 1 | AJ10: {=MIN(IF(($U$4:$U$18=AJ$6)*($W$4:$W$18<=$AD10)*($X$4:$X$18>$AD10),$Q$4:$Q$18,""))} -> 0 | AK10: =COUNTIFS($U$4:$U$18,AJ$6,$W$4:$W$18,"<="&$AD10,$X$4:$X$18,">"&$AD10) -> 0 | AL10: =IF(AJ10=AJ9,"",IF(AJ10>0,INDEX($S$4:$S$18,AJ10,1)& IF(AK10>1," - " & AK10 &" Events overlap!",""),"")) | AM10: =IF(LEN(AN10)>0,INDEX($T$4:$T$18,AJ10,1),"") | AN10: =IFERROR(IF(AJ10>0,1,""),"") | AO10: {=MIN(IF(($U$4:$U$18=AO$6)*($W$4:$W$18<=$AD10)*($X$4:$X$18>$AD10),$Q$4:$Q$18,""))} -> 0 | AP10: =COUNTIFS($U$4:$U$18,AO$6,$W$4:$W$18,"<="&$AD10,$X$4:$X$18,">"&$AD10) -> 0 | AQ10: =IF(AO10=AO9,"",IF(AO10>0,INDEX($S$4:$S$18,AO10,1)& IF(AP10>1," - " & AP10 &" Events overlap!",""),"")) | AR10: =IF(LEN(AS10)>0,INDEX($T$4:$T$18,AO10,1),"") | AS10: =IFERROR(IF(AO10>0,1,""),"") | AT10: {=MIN(IF(($U$4:$U$18=AT$6)*($W$4:$W$18<=$AD10)*($X$4:$X$18>$AD10),$Q$4:$Q$18,""))} -> 0 | AU10: =COUNTIFS($U$4:$U$18,AT$6,$W$4:$W$18,"<="&$AD10,$X$4:$X$18,">"&$AD10) -> 0 | AV10: =IF(AT10=AT9,"",IF(AT10>0,INDEX($S$4:$S$18,AT10,1)& IF(AU10>1," - " & AU10 &" Events overlap!",""),"")) | AW10: =IF(LEN(AX10)>0,INDEX($T$4:$T$18,AT10,1),"") | AX10: =IFERROR(IF(AT10>0,1,""),"") | AY10: {=MIN(IF(($U$4:$U$18=AY$6)*($W$4:$W$18<=$AD10)*($X$4:$X$18>$AD10),$Q$4:$Q$18,""))} -> 0 | AZ10: =COUNTIFS($U$4:$U$18,AY$6,$W$4:$W$18,"<="&$AD10,$X$4:$X$18,">"&$AD10) -> 0 | BA10: =IF(AY10=AY9,"",IF(AY10>0,INDEX($S$4:$S$18,AY10,1)& IF(AZ10>1," - " & AZ10 &" Events overlap!",""),"")) | BB10: =IF(LEN(BC10)>0,INDEX($T$4:$T$18,AY10,1),"") | BC10: =IFERROR(IF(AY10>0,1,""),"") | BD10: {=MIN(IF(($U$4:$U$18=BD$6)*($W$4:$W$18<=$AD10)*($X$4:$X$18>$AD10),$Q$4:$Q$18,""))} -> 0 | BE10: =COUNTIFS($U$4:$U$18,BD$6,$W$4:$W$18,"<="&$AD10,$X$4:$X$18,">"&$AD10) -> 0 | BF10: =IF(BD10=BD9,"",IF(BD10>0,INDEX($S$4:$S$18,BD10,1)& IF(BE10>1," - " & BE10 &" Events overlap!",""),"")) | BG10: =IF(LEN(BH10)>0,INDEX($T$4:$T$18,BD10,1),"") | BH10: =IFERROR(IF(BD10>0,1,""),"") | BI10: {=MIN(IF(($U$4:$U$18=BI$6)*($W$4:$W$18<=$AD10)*($X$4:$X$18>$AD10),$Q$4:$Q$18,""))} -> 0 | BJ10: =COUNTIFS($U$4:$U$18,BI$6,$W$4:$W$18,"<="&$AD10,$X$4:$X$18,">"&$AD10) -> 0 | BK10: =IF(BI10=BI9,"",IF(BI10>0,INDEX($S$4:$S$18,BI10,1)& IF(BJ10>1," - " & BJ10 &" Events overlap!",""),"")) | BL10: =IF(LEN(BM10)>0,INDEX($T$4:$T$18,BI10,1),"") | BM10: =IFERROR(IF(BI10>0,1,""),"")
B11: Day | C11: Year | D11: Month | E11: Month Short | F11: Month # | G11: Day # | I11: Week Days | L11: =L10+step -> 0.14583333 | N11: Day 8 | O11: =IFERROR(O10+1,"") -> 45409 | Q11: 8 | R11: =IF(Y11="","",RANK(Y11,$Y$4:$Y$1003,TRUE)+Q11/1000) -> 8.008 | S11: =INDEX(Planner!B$6:B$1005,$Q11,1)&"" -> Visit to Lyon | T11: =IFERROR(IF(R11="","",INDEX(Planner!F$6:F$1005,$Q11,1)&""),"") -> City sightseeing | U11: =IF(ISNUMBER(INDEX(Planner!C$6:C$1005,$Q11,1)),INDEX(Planner!C$6:C$1005,$Q11,1),"") -> 45407 | V11: =IFERROR(U11,"") -> 45407 | W11: =IF(ISNUMBER(INDEX(Planner!D$6:D$1005,$Q11,1)),INDEX(Planner!D$6:D$1005,$Q11,1),"") -> 0.375 | X11: =IF(ISNUMBER(INDEX(Planner!E$6:E$1005,$Q11,1)),INDEX(Planner!E$6:E$1005,$Q11,1),"") -> 0.66666667 | Y11: =IFERROR(U11+W11,"") -> 45407.375 | Z11: =IFERROR(V11+X11,"") -> 45407.667 | AA11: =IFERROR(Z11-Y11,"") -> 0.29166667 | AB11: {=IFERROR((IF(LEN(S11)=0,"",SUM((Y11>=$Y$4:$Y$1003)*(Y11<=$Z$4:$Z$1003),(Z11>=$Y$4:$Y$1003)*(Z11<=$Z$4:$Z$1003)))),"")} -> 2 | AD11: =Schedule!C13 -> 0.35416667 | AE11: {=MIN(IF(($U$4:$U$18=AE$6)*($W$4:$W$18<=$AD11)*($X$4:$X$18>$AD11),$Q$4:$Q$18,""))} -> 1 | AF11: =COUNTIFS($U$4:$U$18,AE$6,$W$4:$W$18,"<="&$AD11,$X$4:$X$18,">"&$AD11) -> 1 | AG11: =IF(AE11=AE10,"",IF(AE11>0,INDEX($S$4:$S$18,AE11,1)& IF(AF11>1," - " & AF11 &" Events overlap!",""),"")) | AH11: =IF(LEN(AI11)>0,INDEX($T$4:$T$18,AE11,1),"") -> Flight | AI11: =IFERROR(IF(AE11>0,1,""),"") -> 1 | AJ11: {=MIN(IF(($U$4:$U$18=AJ$6)*($W$4:$W$18<=$AD11)*($X$4:$X$18>$AD11),$Q$4:$Q$18,""))} -> 0 | AK11: =COUNTIFS($U$4:$U$18,AJ$6,$W$4:$W$18,"<="&$AD11,$X$4:$X$18,">"&$AD11) -> 0 | AL11: =IF(AJ11=AJ10,"",IF(AJ11>0,INDEX($S$4:$S$18,AJ11,1)& IF(AK11>1," - " & AK11 &" Events overlap!",""),"")) | AM11: =IF(LEN(AN11)>0,INDEX($T$4:$T$18,AJ11,1),"") | AN11: =IFERROR(IF(AJ11>0,1,""),"") | AO11: {=MIN(IF(($U$4:$U$18=AO$6)*($W$4:$W$18<=$AD11)*($X$4:$X$18>$AD11),$Q$4:$Q$18,""))} -> 0 | AP11: =COUNTIFS($U$4:$U$18,AO$6,$W$4:$W$18,"<="&$AD11,$X$4:$X$18,">"&$AD11) -> 0 | AQ11: =IF(AO11=AO10,"",IF(AO11>0,INDEX($S$4:$S$18,AO11,1)& IF(AP11>1," - " & AP11 &" Events overlap!",""),"")) | AR11: =IF(LEN(AS11)>0,INDEX($T$4:$T$18,AO11,1),"") | AS11: =IFERROR(IF(AO11>0,1,""),"") | AT11: {=MIN(IF(($U$4:$U$18=AT$6)*($W$4:$W$18<=$AD11)*($X$4:$X$18>$AD11),$Q$4:$Q$18,""))} -> 0 | AU11: =COUNTIFS($U$4:$U$18,AT$6,$W$4:$W$18,"<="&$AD11,$X$4:$X$18,">"&$AD11) -> 0 | AV11: =IF(AT11=AT10,"",IF(AT11>0,INDEX($S$4:$S$18,AT11,1)& IF(AU11>1," - " & AU11 &" Events overlap!",""),"")) | AW11: =IF(LEN(AX11)>0,INDEX($T$4:$T$18,AT11,1),"") | AX11: =IFERROR(IF(AT11>0,1,""),"") | AY11: {=MIN(IF(($U$4:$U$18=AY$6)*($W$4:$W$18<=$AD11)*($X$4:$X$18>$AD11),$Q$4:$Q$18,""))} -> 0 | AZ11: =COUNTIFS($U$4:$U$18,AY$6,$W$4:$W$18,"<="&$AD11,$X$4:$X$18,">"&$AD11) -> 0 | BA11: =IF(AY11=AY10,"",IF(AY11>0,INDEX($S$4:$S$18,AY11,1)& IF(AZ11>1," - " & AZ11 &" Events overlap!",""),"")) | BB11: =IF(LEN(BC11)>0,INDEX($T$4:$T$18,AY11,1),"") | BC11: =IFERROR(IF(AY11>0,1,""),"") | BD11: {=MIN(IF(($U$4:$U$18=BD$6)*($W$4:$W$18<=$AD11)*($X$4:$X$18>$AD11),$Q$4:$Q$18,""))} -> 0 | BE11: =COUNTIFS($U$4:$U$18,BD$6,$W$4:$W$18,"<="&$AD11,$X$4:$X$18,">"&$AD11) -> 0 | BF11: =IF(BD11=BD10,"",IF(BD11>0,INDEX($S$4:$S$18,BD11,1)& IF(BE11>1," - " & BE11 &" Events overlap!",""),"")) | BG11: =IF(LEN(BH11)>0,INDEX($T$4:$T$18,BD11,1),"") | BH11: =IFERROR(IF(BD11>0,1,""),"") | BI11: {=MIN(IF(($U$4:$U$18=BI$6)*($W$4:$W$18<=$AD11)*($X$4:$X$18>$AD11),$Q$4:$Q$18,""))} -> 0 | BJ11: =COUNTIFS($U$4:$U$18,BI$6,$W$4:$W$18,"<="&$AD11,$X$4:$X$18,">"&$AD11) -> 0 | BK11: =IF(BI11=BI10,"",IF(BI11>0,INDEX($S$4:$S$18,BI11,1)& IF(BJ11>1," - " & BJ11 &" Events overlap!",""),"")) | BL11: =IF(LEN(BM11)>0,INDEX($T$4:$T$18,BI11,1),"") | BM11: =IFERROR(IF(BI11>0,1,""),"")
B12: 1 | C12: 2020 | D12: January | E12: Jan | F12: 1 | G12: 31 | I12: Monday | J12: 1 | L12: =L11+step -> 0.16666667 | N12: Day 9 | O12: =IFERROR(O11+1,"") -> 45410 | Q12: 9 | R12: =IF(Y12="","",RANK(Y12,$Y$4:$Y$1003,TRUE)+Q12/1000) -> 9.009 | S12: =INDEX(Planner!B$6:B$1005,$Q12,1)&"" -> Shopping at Champs-Elysées | T12: =IFERROR(IF(R12="","",INDEX(Planner!F$6:F$1005,$Q12,1)&""),"") -> Shopping | U12: =IF(ISNUMBER(INDEX(Planner!C$6:C$1005,$Q12,1)),INDEX(Planner!C$6:C$1005,$Q12,1),"") -> 45408 | V12: =IFERROR(U12,"") -> 45408 | W12: =IF(ISNUMBER(INDEX(Planner!D$6:D$1005,$Q12,1)),INDEX(Planner!D$6:D$1005,$Q12,1),"") -> 0.58333333 | X12: =IF(ISNUMBER(INDEX(Planner!E$6:E$1005,$Q12,1)),INDEX(Planner!E$6:E$1005,$Q12,1),"") -> 0.66666667 | Y12: =IFERROR(U12+W12,"") -> 45408.583 | Z12: =IFERROR(V12+X12,"") -> 45408.667 | AA12: =IFERROR(Z12-Y12,"") -> 0.083333333 | AB12: {=IFERROR((IF(LEN(S12)=0,"",SUM((Y12>=$Y$4:$Y$1003)*(Y12<=$Z$4:$Z$1003),(Z12>=$Y$4:$Y$1003)*(Z12<=$Z$4:$Z$1003)))),"")} -> 2 | AD12: =Schedule!C14 -> 0.375 | AE12: {=MIN(IF(($U$4:$U$18=AE$6)*($W$4:$W$18<=$AD12)*($X$4:$X$18>$AD12),$Q$4:$Q$18,""))} -> 1 | AF12: =COUNTIFS($U$4:$U$18,AE$6,$W$4:$W$18,"<="&$AD12,$X$4:$X$18,">"&$AD12) -> 1 | AG12: =IF(AE12=AE11,"",IF(AE12>0,INDEX($S$4:$S$18,AE12,1)& IF(AF12>1," - " & AF12 &" Events overlap!",""),"")) | AH12: =IF(LEN(AI12)>0,INDEX($T$4:$T$18,AE12,1),"") -> Flight | AI12: =IFERROR(IF(AE12>0,1,""),"") -> 1 | AJ12: {=MIN(IF(($U$4:$U$18=AJ$6)*($W$4:$W$18<=$AD12)*($X$4:$X$18>$AD12),$Q$4:$Q$18,""))} -> 2 | AK12: =COUNTIFS($U$4:$U$18,AJ$6,$W$4:$W$18,"<="&$AD12,$X$4:$X$18,">"&$AD12) -> 1 | AL12: =IF(AJ12=AJ11,"",IF(AJ12>0,INDEX($S$4:$S$18,AJ12,1)& IF(AK12>1," - " & AK12 &" Events overlap!",""),"")) -> Visit to Eiffel | AM12: =IF(LEN(AN12)>0,INDEX($T$4:$T$18,AJ12,1),"") -> City sightseeing | AN12: =IFERROR(IF(AJ12>0,1,""),"") -> 1 | AO12: {=MIN(IF(($U$4:$U$18=AO$6)*($W$4:$W$18<=$AD12)*($X$4:$X$18>$AD12),$Q$4:$Q$18,""))} -> 0 | AP12: =COUNTIFS($U$4:$U$18,AO$6,$W$4:$W$18,"<="&$AD12,$X$4:$X$18,">"&$AD12) -> 0 | AQ12: =IF(AO12=AO11,"",IF(AO12>0,INDEX($S$4:$S$18,AO12,1)& IF(AP12>1," - " & AP12 &" Events overlap!",""),"")) | AR12: =IF(LEN(AS12)>0,INDEX($T$4:$T$18,AO12,1),"") | AS12: =IFERROR(IF(AO12>0,1,""),"") | AT12: {=MIN(IF(($U$4:$U$18=AT$6)*($W$4:$W$18<=$AD12)*($X$4:$X$18>$AD12),$Q$4:$Q$18,""))} -> 0 | AU12: =COUNTIFS($U$4:$U$18,AT$6,$W$4:$W$18,"<="&$AD12,$X$4:$X$18,">"&$AD12) -> 0 | AV12: =IF(AT12=AT11,"",IF(AT12>0,INDEX($S$4:$S$18,AT12,1)& IF(AU12>1," - " & AU12 &" Events overlap!",""),"")) | AW12: =IF(LEN(AX12)>0,INDEX($T$4:$T$18,AT12,1),"") | AX12: =IFERROR(IF(AT12>0,1,""),"") | AY12: {=MIN(IF(($U$4:$U$18=AY$6)*($W$4:$W$18<=$AD12)*($X$4:$X$18>$AD12),$Q$4:$Q$18,""))} -> 6 | AZ12: =COUNTIFS($U$4:$U$18,AY$6,$W$4:$W$18,"<="&$AD12,$X$4:$X$18,">"&$AD12) -> 1 | BA12: =IF(AY12=AY11,"",IF(AY12>0,INDEX($S$4:$S$18,AY12,1)& IF(AZ12>1," - " & AZ12 &" Events overlap!",""),"")) -> Lafayette Haussmann Gallery | BB12: =IF(LEN(BC12)>0,INDEX($T$4:$T$18,AY12,1),"") -> Cultural | BC12: =IFERROR(IF(AY12>0,1,""),"") -> 1 | BD12: {=MIN(IF(($U$4:$U$18=BD$6)*($W$4:$W$18<=$AD12)*($X$4:$X$18>$AD12),$Q$4:$Q$18,""))} -> 8 | BE12: =COUNTIFS($U$4:$U$18,BD$6,$W$4:$W$18,"<="&$AD12,$X$4:$X$18,">"&$AD12) -> 1 | BF12: =IF(BD12=BD11,"",IF(BD12>0,INDEX($S$4:$S$18,BD12,1)& IF(BE12>1," - " & BE12 &" Events overlap!",""),"")) -> Visit to Lyon | BG12: =IF(LEN(BH12)>0,INDEX($T$4:$T$18,BD12,1),"") -> City sightseeing | BH12: =IFERROR(IF(BD12>0,1,""),"") -> 1 | BI12: {=MIN(IF(($U$4:$U$18=BI$6)*($W$4:$W$18<=$AD12)*($X$4:$X$18>$AD12),$Q$4:$Q$18,""))} -> 0 | BJ12: =COUNTIFS($U$4:$U$18,BI$6,$W$4:$W$18,"<="&$AD12,$X$4:$X$18,">"&$AD12) -> 0 | BK12: =IF(BI12=BI11,"",IF(BI12>0,INDEX($S$4:$S$18,BI12,1)& IF(BJ12>1," - " & BJ12 &" Events overlap!",""),"")) | BL12: =IF(LEN(BM12)>0,INDEX($T$4:$T$18,BI12,1),"") | BM12: =IFERROR(IF(BI12>0,1,""),"")
B13: 2 | C13: 2021 | D13: February | E13: Feb | F13: 2 | G13: =IFERROR(IF(MOD($C$4,4)=0,29,28),29) -> 29 | I13: Tuesday | J13: 2 | L13: =L12+step -> 0.1875 | N13: Day 10 | O13: =IFERROR(O12+1,"") -> 45411 | Q13: 10 | R13: =IF(Y13="","",RANK(Y13,$Y$4:$Y$1003,TRUE)+Q13/1000) -> 10.01 | S13: =INDEX(Planner!B$6:B$1005,$Q13,1)&"" -> Flight from Paris to New York | T13: =IFERROR(IF(R13="","",INDEX(Planner!F$6:F$1005,$Q13,1)&""),"") -> Flight | U13: =IF(ISNUMBER(INDEX(Planner!C$6:C$1005,$Q13,1)),INDEX(Planner!C$6:C$1005,$Q13,1),"") -> 45409 | V13: =IFERROR(U13,"") -> 45409 | W13: =IF(ISNUMBER(INDEX(Planner!D$6:D$1005,$Q13,1)),INDEX(Planner!D$6:D$1005,$Q13,1),"") -> 0.375 | X13: =IF(ISNUMBER(INDEX(Planner!E$6:E$1005,$Q13,1)),INDEX(Planner!E$6:E$1005,$Q13,1),"") -> 0.70833333 | Y13: =IFERROR(U13+W13,"") -> 45409.375 | Z13: =IFERROR(V13+X13,"") -> 45409.708 | AA13: =IFERROR(Z13-Y13,"") -> 0.33333333 | AB13: {=IFERROR((IF(LEN(S13)=0,"",SUM((Y13>=$Y$4:$Y$1003)*(Y13<=$Z$4:$Z$1003),(Z13>=$Y$4:$Y$1003)*(Z13<=$Z$4:$Z$1003)))),"")} -> 2 | AD13: =Schedule!C15 -> 0.39583333 | AE13: {=MIN(IF(($U$4:$U$18=AE$6)*($W$4:$W$18<=$AD13)*($X$4:$X$18>$AD13),$Q$4:$Q$18,""))} -> 1 | AF13: =COUNTIFS($U$4:$U$18,AE$6,$W$4:$W$18,"<="&$AD13,$X$4:$X$18,">"&$AD13) -> 1 | AG13: =IF(AE13=AE12,"",IF(AE13>0,INDEX($S$4:$S$18,AE13,1)& IF(AF13>1," - " & AF13 &" Events overlap!",""),"")) | AH13: =IF(LEN(AI13)>0,INDEX($T$4:$T$18,AE13,1),"") -> Flight | AI13: =IFERROR(IF(AE13>0,1,""),"") -> 1 | AJ13: {=MIN(IF(($U$4:$U$18=AJ$6)*($W$4:$W$18<=$AD13)*($X$4:$X$18>$AD13),$Q$4:$Q$18,""))} -> 2 | AK13: =COUNTIFS($U$4:$U$18,AJ$6,$W$4:$W$18,"<="&$AD13,$X$4:$X$18,">"&$AD13) -> 1 | AL13: =IF(AJ13=AJ12,"",IF(AJ13>0,INDEX($S$4:$S$18,AJ13,1)& IF(AK13>1," - " & AK13 &" Events overlap!",""),"")) | AM13: =IF(LEN(AN13)>0,INDEX($T$4:$T$18,AJ13,1),"") -> City sightseeing | AN13: =IFERROR(IF(AJ13>0,1,""),"") -> 1 | AO13: {=MIN(IF(($U$4:$U$18=AO$6)*($W$4:$W$18<=$AD13)*($X$4:$X$18>$AD13),$Q$4:$Q$18,""))} -> 0 | AP13: =COUNTIFS($U$4:$U$18,AO$6,$W$4:$W$18,"<="&$AD13,$X$4:$X$18,">"&$AD13) -> 0 | AQ13: =IF(AO13=AO12,"",IF(AO13>0,INDEX($S$4:$S$18,AO13,1)& IF(AP13>1," - " & AP13 &" Events overlap!",""),"")) | AR13: =IF(LEN(AS13)>0,INDEX($T$4:$T$18,AO13,1),"") | AS13: =IFERROR(IF(AO13>0,1,""),"") | AT13: {=MIN(IF(($U$4:$U$18=AT$6)*($W$4:$W$18<=$AD13)*($X$4:$X$18>$AD13),$Q$4:$Q$18,""))} -> 0 | AU13: =COUNTIFS($U$4:$U$18,AT$6,$W$4:$W$18,"<="&$AD13,$X$4:$X$18,">"&$AD13) -> 0 | AV13: =IF(AT13=AT12,"",IF(AT13>0,INDEX($S$4:$S$18,AT13,1)& IF(AU13>1," - " & AU13 &" Events overlap!",""),"")) | AW13: =IF(LEN(AX13)>0,INDEX($T$4:$T$18,AT13,1),"") | AX13: =IFERROR(IF(AT13>0,1,""),"") | AY13: {=MIN(IF(($U$4:$U$18=AY$6)*($W$4:$W$18<=$AD13)*($X$4:$X$18>$AD13),$Q$4:$Q$18,""))} -> 6 | AZ13: =COUNTIFS($U$4:$U$18,AY$6,$W$4:$W$18,"<="&$AD13,$X$4:$X$18,">"&$AD13) -> 1 | BA13: =IF(AY13=AY12,"",IF(AY13>0,INDEX($S$4:$S$18,AY13,1)& IF(AZ13>1," - " & AZ13 &" Events overlap!",""),"")) | BB13: =IF(LEN(BC13)>0,INDEX($T$4:$T$18,AY13,1),"") -> Cultural | BC13: =IFERROR(IF(AY13>0,1,""),"") -> 1 | BD13: {=MIN(IF(($U$4:$U$18=BD$6)*($W$4:$W$18<=$AD13)*($X$4:$X$18>$AD13),$Q$4:$Q$18,""))} -> 8 | BE13: =COUNTIFS($U$4:$U$18,BD$6,$W$4:$W$18,"<="&$AD13,$X$4:$X$18,">"&$AD13) -> 1 | BF13: =IF(BD13=BD12,"",IF(BD13>0,INDEX($S$4:$S$18,BD13,1)& IF(BE13>1," - " & BE13 &" Events overlap!",""),"")) | BG13: =IF(LEN(BH13)>0,INDEX($T$4:$T$18,BD13,1),"") -> City sightseeing | BH13: =IFERROR(IF(BD13>0,1,""),"") -> 1 | BI13: {=MIN(IF(($U$4:$U$18=BI$6)*($W$4:$W$18<=$AD13)*($X$4:$X$18>$AD13),$Q$4:$Q$18,""))} -> 0 | BJ13: =COUNTIFS($U$4:$U$18,BI$6,$W$4:$W$18,"<="&$AD13,$X$4:$X$18,">"&$AD13) -> 0 | BK13: =IF(BI13=BI12,"",IF(BI13>0,INDEX($S$4:$S$18,BI13,1)& IF(BJ13>1," - " & BJ13 &" Events overlap!",""),"")) | BL13: =IF(LEN(BM13)>0,INDEX($T$4:$T$18,BI13,1),"") | BM13: =IFERROR(IF(BI13>0,1,""),"")
B14: 3 | C14: 2022 | D14: March | E14: Mar | F14: 3 | G14: 31 | I14: Wednesday | J14: 3 | L14: =L13+step -> 0.20833333 | N14: Day 11 | O14: =IFERROR(O13+1,"") -> 45412 | Q14: 11 | R14: =IF(Y14="","",RANK(Y14,$Y$4:$Y$1003,TRUE)+Q14/1000) | S14: =INDEX(Planner!B$6:B$1005,$Q14,1)&"" | T14: =IFERROR(IF(R14="","",INDEX(Planner!F$6:F$1005,$Q14,1)&""),"") | U14: =IF(ISNUMBER(INDEX(Planner!C$6:C$1005,$Q14,1)),INDEX(Planner!C$6:C$1005,$Q14,1),"") | V14: =IFERROR(U14,"") | W14: =IF(ISNUMBER(INDEX(Planner!D$6:D$1005,$Q14,1)),INDEX(Planner!D$6:D$1005,$Q14,1),"") | X14: =IF(ISNUMBER(INDEX(Planner!E$6:E$1005,$Q14,1)),INDEX(Planner!E$6:E$1005,$Q14,1),"") | Y14: =IFERROR(U14+W14,"") | Z14: =IFERROR(V14+X14,"") | AA14: =IFERROR(Z14-Y14,"") | AB14: {=IFERROR((IF(LEN(S14)=0,"",SUM((Y14>=$Y$4:$Y$1003)*(Y14<=$Z$4:$Z$1003),(Z14>=$Y$4:$Y$1003)*(Z14<=$Z$4:$Z$1003)))),"")} | AD14: =Schedule!C16 -> 0.41666667 | AE14: {=MIN(IF(($U$4:$U$18=AE$6)*($W$4:$W$18<=$AD14)*($X$4:$X$18>$AD14),$Q$4:$Q$18,""))} -> 1 | AF14: =COUNTIFS($U$4:$U$18,AE$6,$W$4:$W$18,"<="&$AD14,$X$4:$X$18,">"&$AD14) -> 1 | AG14: =IF(AE14=AE13,"",IF(AE14>0,INDEX($S$4:$S$18,AE14,1)& IF(AF14>1," - " & AF14 &" Events overlap!",""),"")) | AH14: =IF(LEN(AI14)>0,INDEX($T$4:$T$18,AE14,1),"") -> Flight | AI14: =IFERROR(IF(AE14>0,1,""),"") -> 1 | AJ14: {=MIN(IF(($U$4:$U$18=AJ$6)*($W$4:$W$18<=$AD14)*($X$4:$X$18>$AD14),$Q$4:$Q$18,""))} -> 2 | AK14: =COUNTIFS($U$4:$U$18,AJ$6,$W$4:$W$18,"<="&$AD14,$X$4:$X$18,">"&$AD14) -> 1 | AL14: =IF(AJ14=AJ13,"",IF(AJ14>0,INDEX($S$4:$S$18,AJ14,1)& IF(AK14>1," - " & AK14 &" Events overlap!",""),"")) | AM14: =IF(LEN(AN14)>0,INDEX($T$4:$T$18,AJ14,1),"") -> City sightseeing | AN14: =IFERROR(IF(AJ14>0,1,""),"") -> 1 | AO14: {=MIN(IF(($U$4:$U$18=AO$6)*($W$4:$W$18<=$AD14)*($X$4:$X$18>$AD14),$Q$4:$Q$18,""))} -> 0 | AP14: =COUNTIFS($U$4:$U$18,AO$6,$W$4:$W$18,"<="&$AD14,$X$4:$X$18,">"&$AD14) -> 0 | AQ14: =IF(AO14=AO13,"",IF(AO14>0,INDEX($S$4:$S$18,AO14,1)& IF(AP14>1," - " & AP14 &" Events overlap!",""),"")) | AR14: =IF(LEN(AS14)>0,INDEX($T$4:$T$18,AO14,1),"") | AS14: =IFERROR(IF(AO14>0,1,""),"") | AT14: {=MIN(IF(($U$4:$U$18=AT$6)*($W$4:$W$18<=$AD14)*($X$4:$X$18>$AD14),$Q$4:$Q$18,""))} -> 0 | AU14: =COUNTIFS($U$4:$U$18,AT$6,$W$4:$W$18,"<="&$AD14,$X$4:$X$18,">"&$AD14) -> 0 | AV14: =IF(AT14=AT13,"",IF(AT14>0,INDEX($S$4:$S$18,AT14,1)& IF(AU14>1," - " & AU14 &" Events overlap!",""),"")) | AW14: =IF(LEN(AX14)>0,INDEX($T$4:$T$18,AT14,1),"") | AX14: =IFERROR(IF(AT14>0,1,""),"") | AY14: {=MIN(IF(($U$4:$U$18=AY$6)*($W$4:$W$18<=$AD14)*($X$4:$X$18>$AD14),$Q$4:$Q$18,""))} -> 0 | AZ14: =COUNTIFS($U$4:$U$18,AY$6,$W$4:$W$18,"<="&$AD14,$X$4:$X$18,">"&$AD14) -> 0 | BA14: =IF(AY14=AY13,"",IF(AY14>0,INDEX($S$4:$S$18,AY14,1)& IF(AZ14>1," - " & AZ14 &" Events overlap!",""),"")) | BB14: =IF(LEN(BC14)>0,INDEX($T$4:$T$18,AY14,1),"") | BC14: =IFERROR(IF(AY14>0,1,""),"") | BD14: {=MIN(IF(($U$4:$U$18=BD$6)*($W$4:$W$18<=$AD14)*($X$4:$X$18>$AD14),$Q$4:$Q$18,""))} -> 8 | BE14: =COUNTIFS($U$4:$U$18,BD$6,$W$4:$W$18,"<="&$AD14,$X$4:$X$18,">"&$AD14) -> 1 | BF14: =IF(BD14=BD13,"",IF(BD14>0,INDEX($S$4:$S$18,BD14,1)& IF(BE14>1," - " & BE14 &" Events overlap!",""),"")) | BG14: =IF(LEN(BH14)>0,INDEX($T$4:$T$18,BD14,1),"") -> City sightseeing | BH14: =IFERROR(IF(BD14>0,1,""),"") -> 1 | BI14: {=MIN(IF(($U$4:$U$18=BI$6)*($W$4:$W$18<=$AD14)*($X$4:$X$18>$AD14),$Q$4:$Q$18,""))} -> 0 | BJ14: =COUNTIFS($U$4:$U$18,BI$6,$W$4:$W$18,"<="&$AD14,$X$4:$X$18,">"&$AD14) -> 0 | BK14: =IF(BI14=BI13,"",IF(BI14>0,INDEX($S$4:$S$18,BI14,1)& IF(BJ14>1," - " & BJ14 &" Events overlap!",""),"")) | BL14: =IF(LEN(BM14)>0,INDEX($T$4:$T$18,BI14,1),"") | BM14: =IFERROR(IF(BI14>0,1,""),"")
B15: 4 | C15: 2023 | D15: April | E15: Apr | F15: 4 | G15: 30 | I15: Thursday | J15: 4 | L15: =L14+step -> 0.22916667 | N15: Day 12 | O15: =IFERROR(O14+1,"") -> 45413 | Q15: 12 | R15: =IF(Y15="","",RANK(Y15,$Y$4:$Y$1003,TRUE)+Q15/1000) | S15: =INDEX(Planner!B$6:B$1005,$Q15,1)&"" | T15: =IFERROR(IF(R15="","",INDEX(Planner!F$6:F$1005,$Q15,1)&""),"") | U15: =IF(ISNUMBER(INDEX(Planner!C$6:C$1005,$Q15,1)),INDEX(Planner!C$6:C$1005,$Q15,1),"") | V15: =IFERROR(U15,"") | W15: =IF(ISNUMBER(INDEX(Planner!D$6:D$1005,$Q15,1)),INDEX(Planner!D$6:D$1005,$Q15,1),"") | X15: =IF(ISNUMBER(INDEX(Planner!E$6:E$1005,$Q15,1)),INDEX(Planner!E$6:E$1005,$Q15,1),"") | Y15: =IFERROR(U15+W15,"") | Z15: =IFERROR(V15+X15,"") | AA15: =IFERROR(Z15-Y15,"") | AB15: {=IFERROR((IF(LEN(S15)=0,"",SUM((Y15>=$Y$4:$Y$1003)*(Y15<=$Z$4:$Z$1003),(Z15>=$Y$4:$Y$1003)*(Z15<=$Z$4:$Z$1003)))),"")} | AD15: =Schedule!C17 -> 0.4375 | AE15: {=MIN(IF(($U$4:$U$18=AE$6)*($W$4:$W$18<=$AD15)*($X$4:$X$18>$AD15),$Q$4:$Q$18,""))} -> 1 | AF15: =COUNTIFS($U$4:$U$18,AE$6,$W$4:$W$18,"<="&$AD15,$X$4:$X$18,">"&$AD15) -> 1 | AG15: =IF(AE15=AE14,"",IF(AE15>0,INDEX($S$4:$S$18,AE15,1)& IF(AF15>1," - " & AF15 &" Events overlap!",""),"")) | AH15: =IF(LEN(AI15)>0,INDEX($T$4:$T$18,AE15,1),"") -> Flight | AI15: =IFERROR(IF(AE15>0,1,""),"") -> 1 | AJ15: {=MIN(IF(($U$4:$U$18=AJ$6)*($W$4:$W$18<=$AD15)*($X$4:$X$18>$AD15),$Q$4:$Q$18,""))} -> 2 | AK15: =COUNTIFS($U$4:$U$18,AJ$6,$W$4:$W$18,"<="&$AD15,$X$4:$X$18,">"&$AD15) -> 1 | AL15: =IF(AJ15=AJ14,"",IF(AJ15>0,INDEX($S$4:$S$18,AJ15,1)& IF(AK15>1," - " & AK15 &" Events overlap!",""),"")) | AM15: =IF(LEN(AN15)>0,INDEX($T$4:$T$18,AJ15,1),"") -> City sightseeing | AN15: =IFERROR(IF(AJ15>0,1,""),"") -> 1 | AO15: {=MIN(IF(($U$4:$U$18=AO$6)*($W$4:$W$18<=$AD15)*($X$4:$X$18>$AD15),$Q$4:$Q$18,""))} -> 0 | AP15: =COUNTIFS($U$4:$U$18,AO$6,$W$4:$W$18,"<="&$AD15,$X$4:$X$18,">"&$AD15) -> 0 | AQ15: =IF(AO15=AO14,"",IF(AO15>0,INDEX($S$4:$S$18,AO15,1)& IF(AP15>1," - " & AP15 &" Events overlap!",""),"")) | AR15: =IF(LEN(AS15)>0,INDEX($T$4:$T$18,AO15,1),"") | AS15: =IFERROR(IF(AO15>0,1,""),"") | AT15: {=MIN(IF(($U$4:$U$18=AT$6)*($W$4:$W$18<=$AD15)*($X$4:$X$18>$AD15),$Q$4:$Q$18,""))} -> 0 | AU15: =COUNTIFS($U$4:$U$18,AT$6,$W$4:$W$18,"<="&$AD15,$X$4:$X$18,">"&$AD15) -> 0 | AV15: =IF(AT15=AT14,"",IF(AT15>0,INDEX($S$4:$S$18,AT15,1)& IF(AU15>1," - " & AU15 &" Events overlap!",""),"")) | AW15: =IF(LEN(AX15)>0,INDEX($T$4:$T$18,AT15,1),"") | AX15: =IFERROR(IF(AT15>0,1,""),"") | AY15: {=MIN(IF(($U$4:$U$18=AY$6)*($W$4:$W$18<=$AD15)*($X$4:$X$18>$AD15),$Q$4:$Q$18,""))} -> 0 | AZ15: =COUNTIFS($U$4:$U$18,AY$6,$W$4:$W$18,"<="&$AD15,$X$4:$X$18,">"&$AD15) -> 0 | BA15: =IF(AY15=AY14,"",IF(AY15>0,INDEX($S$4:$S$18,AY15,1)& IF(AZ15>1," - " & AZ15 &" Events overlap!",""),"")) | BB15: =IF(LEN(BC15)>0,INDEX($T$4:$T$18,AY15,1),"") | BC15: =IFERROR(IF(AY15>0,1,""),"") | BD15: {=MIN(IF(($U$4:$U$18=BD$6)*($W$4:$W$18<=$AD15)*($X$4:$X$18>$AD15),$Q$4:$Q$18,""))} -> 8 | BE15: =COUNTIFS($U$4:$U$18,BD$6,$W$4:$W$18,"<="&$AD15,$X$4:$X$18,">"&$AD15) -> 1 | BF15: =IF(BD15=BD14,"",IF(BD15>0,INDEX($S$4:$S$18,BD15,1)& IF(BE15>1," - " & BE15 &" Events overlap!",""),"")) | BG15: =IF(LEN(BH15)>0,INDEX($T$4:$T$18,BD15,1),"") -> City sightseeing | BH15: =IFERROR(IF(BD15>0,1,""),"") -> 1 | BI15: {=MIN(IF(($U$4:$U$18=BI$6)*($W$4:$W$18<=$AD15)*($X$4:$X$18>$AD15),$Q$4:$Q$18,""))} -> 0 | BJ15: =COUNTIFS($U$4:$U$18,BI$6,$W$4:$W$18,"<="&$AD15,$X$4:$X$18,">"&$AD15) -> 0 | BK15: =IF(BI15=BI14,"",IF(BI15>0,INDEX($S$4:$S$18,BI15,1)& IF(BJ15>1," - " & BJ15 &" Events overlap!",""),"")) | BL15: =IF(LEN(BM15)>0,INDEX($T$4:$T$18,BI15,1),"") | BM15: =IFERROR(IF(BI15>0,1,""),"")
B16: 5 | C16: 2024 | D16: May | E16: May | F16: 5 | G16: 31 | I16: Friday | J16: 5 | L16: =L15+step -> 0.25 | N16: Day 13 | O16: =IFERROR(O15+1,"") -> 45414 | Q16: 13 | R16: =IF(Y16="","",RANK(Y16,$Y$4:$Y$1003,TRUE)+Q16/1000) | S16: =INDEX(Planner!B$6:B$1005,$Q16,1)&"" | T16: =IFERROR(IF(R16="","",INDEX(Planner!F$6:F$1005,$Q16,1)&""),"") | U16: =IF(ISNUMBER(INDEX(Planner!C$6:C$1005,$Q16,1)),INDEX(Planner!C$6:C$1005,$Q16,1),"") | V16: =IFERROR(U16,"") | W16: =IF(ISNUMBER(INDEX(Planner!D$6:D$1005,$Q16,1)),INDEX(Planner!D$6:D$1005,$Q16,1),"") | X16: =IF(ISNUMBER(INDEX(Planner!E$6:E$1005,$Q16,1)),INDEX(Planner!E$6:E$1005,$Q16,1),"") | Y16: =IFERROR(U16+W16,"") | Z16: =IFERROR(V16+X16,"") | AA16: =IFERROR(Z16-Y16,"") | AB16: {=IFERROR((IF(LEN(S16)=0,"",SUM((Y16>=$Y$4:$Y$1003)*(Y16<=$Z$4:$Z$1003),(Z16>=$Y$4:$Y$1003)*(Z16<=$Z$4:$Z$1003)))),"")} | AD16: =Schedule!C18 -> 0.45833333 | AE16: {=MIN(IF(($U$4:$U$18=AE$6)*($W$4:$W$18<=$AD16)*($X$4:$X$18>$AD16),$Q$4:$Q$18,""))} -> 1 | AF16: =COUNTIFS($U$4:$U$18,AE$6,$W$4:$W$18,"<="&$AD16,$X$4:$X$18,">"&$AD16) -> 1 | AG16: =IF(AE16=AE15,"",IF(AE16>0,INDEX($S$4:$S$18,AE16,1)& IF(AF16>1," - " & AF16 &" Events overlap!",""),"")) | AH16: =IF(LEN(AI16)>0,INDEX($T$4:$T$18,AE16,1),"") -> Flight | AI16: =IFERROR(IF(AE16>0,1,""),"") -> 1 | AJ16: {=MIN(IF(($U$4:$U$18=AJ$6)*($W$4:$W$18<=$AD16)*($X$4:$X$18>$AD16),$Q$4:$Q$18,""))} -> 2 | AK16: =COUNTIFS($U$4:$U$18,AJ$6,$W$4:$W$18,"<="&$AD16,$X$4:$X$18,">"&$AD16) -> 1 | AL16: =IF(AJ16=AJ15,"",IF(AJ16>0,INDEX($S$4:$S$18,AJ16,1)& IF(AK16>1," - " & AK16 &" Events overlap!",""),"")) | AM16: =IF(LEN(AN16)>0,INDEX($T$4:$T$18,AJ16,1),"") -> City sightseeing | AN16: =IFERROR(IF(AJ16>0,1,""),"") -> 1 | AO16: {=MIN(IF(($U$4:$U$18=AO$6)*($W$4:$W$18<=$AD16)*($X$4:$X$18>$AD16),$Q$4:$Q$18,""))} -> 4 | AP16: =COUNTIFS($U$4:$U$18,AO$6,$W$4:$W$18,"<="&$AD16,$X$4:$X$18,">"&$AD16) -> 1 | AQ16: =IF(AO16=AO15,"",IF(AO16>0,INDEX($S$4:$S$18,AO16,1)& IF(AP16>1," - " & AP16 &" Events overlap!",""),"")) -> Visit to Disneyland | AR16: =IF(LEN(AS16)>0,INDEX($T$4:$T$18,AO16,1),"") -> Amusement | AS16: =IFERROR(IF(AO16>0,1,""),"") -> 1 | AT16: {=MIN(IF(($U$4:$U$18=AT$6)*($W$4:$W$18<=$AD16)*($X$4:$X$18>$AD16),$Q$4:$Q$18,""))} -> 0 | AU16: =COUNTIFS($U$4:$U$18,AT$6,$W$4:$W$18,"<="&$AD16,$X$4:$X$18,">"&$AD16) -> 0 | AV16: =IF(AT16=AT15,"",IF(AT16>0,INDEX($S$4:$S$18,AT16,1)& IF(AU16>1," - " & AU16 &" Events overlap!",""),"")) | AW16: =IF(LEN(AX16)>0,INDEX($T$4:$T$18,AT16,1),"") | AX16: =IFERROR(IF(AT16>0,1,""),"") | AY16: {=MIN(IF(($U$4:$U$18=AY$6)*($W$4:$W$18<=$AD16)*($X$4:$X$18>$AD16),$Q$4:$Q$18,""))} -> 0 | AZ16: =COUNTIFS($U$4:$U$18,AY$6,$W$4:$W$18,"<="&$AD16,$X$4:$X$18,">"&$AD16) -> 0 | BA16: =IF(AY16=AY15,"",IF(AY16>0,INDEX($S$4:$S$18,AY16,1)& IF(AZ16>1," - " & AZ16 &" Events overlap!",""),"")) | BB16: =IF(LEN(BC16)>0,INDEX($T$4:$T$18,AY16,1),"") | BC16: =IFERROR(IF(AY16>0,1,""),"") | BD16: {=MIN(IF(($U$4:$U$18=BD$6)*($W$4:$W$18<=$AD16)*($X$4:$X$18>$AD16),$Q$4:$Q$18,""))} -> 8 | BE16: =COUNTIFS($U$4:$U$18,BD$6,$W$4:$W$18,"<="&$AD16,$X$4:$X$18,">"&$AD16) -> 1 | BF16: =IF(BD16=BD15,"",IF(BD16>0,INDEX($S$4:$S$18,BD16,1)& IF(BE16>1," - " & BE16 &" Events overlap!",""),"")) | BG16: =IF(LEN(BH16)>0,INDEX($T$4:$T$18,BD16,1),"") -> City sightseeing | BH16: =IFERROR(IF(BD16>0,1,""),"") -> 1 | BI16: {=MIN(IF(($U$4:$U$18=BI$6)*($W$4:$W$18<=$AD16)*($X$4:$X$18>$AD16),$Q$4:$Q$18,""))} -> 0 | BJ16: =COUNTIFS($U$4:$U$18,BI$6,$W$4:$W$18,"<="&$AD16,$X$4:$X$18,">"&$AD16) -> 0 | BK16: =IF(BI16=BI15,"",IF(BI16>0,INDEX($S$4:$S$18,BI16,1)& IF(BJ16>1," - " & BJ16 &" Events overlap!",""),"")) | BL16: =IF(LEN(BM16)>0,INDEX($T$4:$T$18,BI16,1),"") | BM16: =IFERROR(IF(BI16>0,1,""),"")
B17: 6 | C17: 2025 | D17: June | E17: Jun | F17: 6 | G17: 30 | I17: Saturday | J17: 6 | L17: =L16+step -> 0.27083333 | N17: Day 14 | O17: =IFERROR(O16+1,"") -> 45415 | Q17: 14 | R17: =IF(Y17="","",RANK(Y17,$Y$4:$Y$1003,TRUE)+Q17/1000) | S17: =INDEX(Planner!B$6:B$1005,$Q17,1)&"" | T17: =IFERROR(IF(R17="","",INDEX(Planner!F$6:F$1005,$Q17,1)&""),"") | U17: =IF(ISNUMBER(INDEX(Planner!C$6:C$1005,$Q17,1)),INDEX(Planner!C$6:C$1005,$Q17,1),"") | V17: =IFERROR(U17,"") | W17: =IF(ISNUMBER(INDEX(Planner!D$6:D$1005,$Q17,1)),INDEX(Planner!D$6:D$1005,$Q17,1),"") | X17: =IF(ISNUMBER(INDEX(Planner!E$6:E$1005,$Q17,1)),INDEX(Planner!E$6:E$1005,$Q17,1),"") | Y17: =IFERROR(U17+W17,"") | Z17: =IFERROR(V17+X17,"") | AA17: =IFERROR(Z17-Y17,"") | AB17: {=IFERROR((IF(LEN(S17)=0,"",SUM((Y17>=$Y$4:$Y$1003)*(Y17<=$Z$4:$Z$1003),(Z17>=$Y$4:$Y$1003)*(Z17<=$Z$4:$Z$1003)))),"")} | AD17: =Schedule!C19 -> 0.47916667 | AE17: {=MIN(IF(($U$4:$U$18=AE$6)*($W$4:$W$18<=$AD17)*($X$4:$X$18>$AD17),$Q$4:$Q$18,""))} -> 1 | AF17: =COUNTIFS($U$4:$U$18,AE$6,$W$4:$W$18,"<="&$AD17,$X$4:$X$18,">"&$AD17) -> 1 | AG17: =IF(AE17=AE16,"",IF(AE17>0,INDEX($S$4:$S$18,AE17,1)& IF(AF17>1," - " & AF17 &" Events overlap!",""),"")) | AH17: =IF(LEN(AI17)>0,INDEX($T$4:$T$18,AE17,1),"") -> Flight | AI17: =IFERROR(IF(AE17>0,1,""),"") -> 1 | AJ17: {=MIN(IF(($U$4:$U$18=AJ$6)*($W$4:$W$18<=$AD17)*($X$4:$X$18>$AD17),$Q$4:$Q$18,""))} -> 2 | AK17: =COUNTIFS($U$4:$U$18,AJ$6,$W$4:$W$18,"<="&$AD17,$X$4:$X$18,">"&$AD17) -> 1 | AL17: =IF(AJ17=AJ16,"",IF(AJ17>0,INDEX($S$4:$S$18,AJ17,1)& IF(AK17>1," - " & AK17 &" Events overlap!",""),"")) | AM17: =IF(LEN(AN17)>0,INDEX($T$4:$T$18,AJ17,1),"") -> City sightseeing | AN17: =IFERROR(IF(AJ17>0,1,""),"") -> 1 | AO17: {=MIN(IF(($U$4:$U$18=AO$6)*($W$4:$W$18<=$AD17)*($X$4:$X$18>$AD17),$Q$4:$Q$18,""))} -> 4 | AP17: =COUNTIFS($U$4:$U$18,AO$6,$W$4:$W$18,"<="&$AD17,$X$4:$X$18,">"&$AD17) -> 1 | AQ17: =IF(AO17=AO16,"",IF(AO17>0,INDEX($S$4:$S$18,AO17,1)& IF(AP17>1," - " & AP17 &" Events overlap!",""),"")) | AR17: =IF(LEN(AS17)>0,INDEX($T$4:$T$18,AO17,1),"") -> Amusement | AS17: =IFERROR(IF(AO17>0,1,""),"") -> 1 | AT17: {=MIN(IF(($U$4:$U$18=AT$6)*($W$4:$W$18<=$AD17)*($X$4:$X$18>$AD17),$Q$4:$Q$18,""))} -> 0 | AU17: =COUNTIFS($U$4:$U$18,AT$6,$W$4:$W$18,"<="&$AD17,$X$4:$X$18,">"&$AD17) -> 0 | AV17: =IF(AT17=AT16,"",IF(AT17>0,INDEX($S$4:$S$18,AT17,1)& IF(AU17>1," - " & AU17 &" Events overlap!",""),"")) | AW17: =IF(LEN(AX17)>0,INDEX($T$4:$T$18,AT17,1),"") | AX17: =IFERROR(IF(AT17>0,1,""),"") | AY17: {=MIN(IF(($U$4:$U$18=AY$6)*($W$4:$W$18<=$AD17)*($X$4:$X$18>$AD17),$Q$4:$Q$18,""))} -> 0 | AZ17: =COUNTIFS($U$4:$U$18,AY$6,$W$4:$W$18,"<="&$AD17,$X$4:$X$18,">"&$AD17) -> 0 | BA17: =IF(AY17=AY16,"",IF(AY17>0,INDEX($S$4:$S$18,AY17,1)& IF(AZ17>1," - " & AZ17 &" Events overlap!",""),"")) | BB17: =IF(LEN(BC17)>0,INDEX($T$4:$T$18,AY17,1),"") | BC17: =IFERROR(IF(AY17>0,1,""),"") | BD17: {=MIN(IF(($U$4:$U$18=BD$6)*($W$4:$W$18<=$AD17)*($X$4:$X$18>$AD17),$Q$4:$Q$18,""))} -> 8 | BE17: =COUNTIFS($U$4:$U$18,BD$6,$W$4:$W$18,"<="&$AD17,$X$4:$X$18,">"&$AD17) -> 1 | BF17: =IF(BD17=BD16,"",IF(BD17>0,INDEX($S$4:$S$18,BD17,1)& IF(BE17>1," - " & BE17 &" Events overlap!",""),"")) | BG17: =IF(LEN(BH17)>0,INDEX($T$4:$T$18,BD17,1),"") -> City sightseeing | BH17: =IFERROR(IF(BD17>0,1,""),"") -> 1 | BI17: {=MIN(IF(($U$4:$U$18=BI$6)*($W$4:$W$18<=$AD17)*($X$4:$X$18>$AD17),$Q$4:$Q$18,""))} -> 0 | BJ17: =COUNTIFS($U$4:$U$18,BI$6,$W$4:$W$18,"<="&$AD17,$X$4:$X$18,">"&$AD17) -> 0 | BK17: =IF(BI17=BI16,"",IF(BI17>0,INDEX($S$4:$S$18,BI17,1)& IF(BJ17>1," - " & BJ17 &" Events overlap!",""),"")) | BL17: =IF(LEN(BM17)>0,INDEX($T$4:$T$18,BI17,1),"") | BM17: =IFERROR(IF(BI17>0,1,""),"")
