Workbook
Name day_1: Calc!$AG$8:$AI$55
Name day_2: Calc!$AL$8:$AN$55
Name day_3: Calc!$AQ$8:$AS$55
Name day_4: Calc!$AV$8:$AX$55
Name day_5: Calc!$BA$8:$BC$55
Name day_6: Calc!$BF$8:$BH$55
Name day_7: Calc!$BK$8:$BM$55
Name step: Calc!$I$22

Sheet Itınerary
C2: ITINERARY TEMPLATE
C3: TRAVEL ITINERARY
C6: Travel Itinerary
C8: Purpose | D8: Family trip | F8: Travel Start Year | G8: 2024
C9: Destination | D9: Paris | F9: Travel Start Month | G9: Apr
C10: Number of Travelers | D10: 2 Adults, 3 Kids | F10: Travel Start Day | G10: 20
C11: Number of Pets | D11: None | F11: Duration (Days) | G11: 7
C14: FLIGHTS
C15: Date | D15: Time | E15: Departure | F15: Arrival | G15: Airline
C16: 45402 | D16: 0.33333333 | E16: New York | F16: Paris | G16: Sky Airlines
C17: 45409 | D17: 0.375 | E17: Paris | F17: New York | G17: Sky Airlines
C23: OTHER TRANSPORTATION
C24: Date | D24: Time | E24: Mode | F24: From | G24: To
C25: 45407 | D25: 0.375 | E25: Train | F25: Paris | G25: Lyon
C26: 45407 | D26: 0.66666667 | E26: Train | F26: Lyon | G26: Paris
C32: HOTEL
C33: Arrival Date | D33: Hotel Name | E33: City | F33: Reservation | G33: Checkout Date
C34: 45402 | D34: Paris Hotel | E34: Paris | F34: Done | G34: 46504
C41: CAR RENTAL
C42: Date | D42: Duration | E42: Company | F42: Confirmation | G42: Location
C43: 45403 | D43: 5 Days | E43: Lines Rent-A-Car | F43: Done | G43: Paris
C50: OTHER NOTES
C51: We have an optional visit to Nice, but this will be subject to approval from the hotel.
C52: In case of any delay in flight, we should give an update to the hotel.

Sheet Checklist
D2: ITINERARY TEMPLATE
D3: PACKING CHECKLIST
C7: TRAVEL PACKING CHECKLIST
C9: CLOTHING
C10: FALSE | D10: Jeans | F10: TRUE | G10: Socks | I10: FALSE | J10: Dresses
C11: TRUE | D11: T-shirts | F11: TRUE | G11: Pajamas | I11: TRUE | J11: Ties
C12: TRUE | D12: Jackets | F12: FALSE | G12: Swimsuits | I12: FALSE
C13: FALSE | D13: Shorts | F13: FALSE | G13: Sandals | I13: FALSE
C14: FALSE | D14: Underwear | F14: FALSE | G14: Suits | I14: FALSE
C16: TOILETRIES
C17: TRUE | D17: Shampoo | F17: TRUE | G17: Hairbrush | I17: FALSE | J17: Razor
C18: FALSE | D18: Body wash | F18: FALSE | G18: Contact Lenses | I18: FALSE
C19: TRUE | D19: Sunscreen | F19: FALSE | G19: Pain Reliever | I19: FALSE
C20: FALSE | D20: Toothbrush & Toothpaste | F20: TRUE | G20: Vitamins | I20: FALSE
C21: TRUE | D21: Floss | F21: TRUE | G21: Insect Repellant | I21: FALSE
C23: ELECTRONICS
C24: FALSE | D24: Phone | F24: FALSE | G24: Speaker | I24: FALSE
C25: TRUE | D25: Chargers | F25: FALSE | G25: iPad | I25: FALSE
C26: TRUE | D26: Camara | F26: FALSE | G26: Drone | I26: FALSE
C27: TRUE | D27: Kindle | F27: FALSE | I27: FALSE
C28: FALSE | D28: Headphones | F28: FALSE | I28: FALSE
C30: DOCUMENTATION
C31: FALSE | D31: Credit Cards | F31: TRUE | G31: Travel Document | I31: FALSE
C32: TRUE | D32: Passport | F32: FALSE | G32: Tickets | I32: FALSE
C33: TRUE | D33: Insurance Card | F33: FALSE | G33: Cash | I33: FALSE
C34: FALSE | D34: Vaccination Doc | F34: FALSE | I34: FALSE
C35: TRUE | D35: Driver's License | F35: FALSE | I35: FALSE
C37: MISCELLANEOUS
C38: FALSE | D38: Dairy | F38: TRUE | G38: Jewelry | I38: FALSE
C39: TRUE | D39: Travel Pillow | F39: FALSE | G39: Snacks | I39: FALSE
C40: FALSE | D40: Water Bottle | F40: TRUE | G40: Pen | I40: FALSE
C41: FALSE | D41: Laundry Bag | F41: FALSE | G41: Perfume | I41: FALSE
C42: TRUE | D42: Guide Book | I42: FALSE

Sheet Planner
B2: ITINERARY TEMPLATE
B3: EVENTS PLANNER
B5: Event Name | C5: Date | D5: Start Time | E5: End Time | F5: Event Type | G5: Notes | I5: Event Type
B6: Flight from New York to Paris | C6: 45402 | D6: 0.33333333 | E6: 0.66666667 | F6: Flight | H6: =IFERROR(IF(LEN(B6)=0,"",IF(INDEX(Calc!$AB$4:$AB$1003,ROW(Planner!B6)-ROW(Planner!$B$5))>2,"!","")),"") | J6: Flight
B7: Visit to Eiffel | C7: 45403 | D7: 0.375 | E7: 0.54166667 | F7: City sightseeing | H7: =IFERROR(IF(LEN(B7)=0,"",IF(INDEX(Calc!$AB$4:$AB$1003,ROW(Planner!B7)-ROW(Planner!$B$5))>2,"!","")),"") | J7: City sightseeing
B8: Visit to Louvre Museum | C8: 45403 | D8: 0.625 | E8: 0.75 | F8: Cultural | G8: May need more time here. | H8: =IFERROR(IF(LEN(B8)=0,"",IF(INDEX(Calc!$AB$4:$AB$1003,ROW(Planner!B8)-ROW(Planner!$B$5))>2,"!","")),"") | J8: Cultural
B9: Visit to Disneyland | C9: 45404 | D9: 0.45833333 | E9: 0.66666667 | F9: Amusement | H9: =IFERROR(IF(LEN(B9)=0,"",IF(INDEX(Calc!$AB$4:$AB$1003,ROW(Planner!B9)-ROW(Planner!$B$5))>2,"!","")),"") | J9: Amusement
B10: Dinner at Moulin Rouge | C10: 45405 | D10: 0.875 | E10: 0.95833333 | F10: Night Life | G10: Need to check tickets. | H10: =IFERROR(IF(LEN(B10)=0,"",IF(INDEX(Calc!$AB$4:$AB$1003,ROW(Planner!B10)-ROW(Planner!$B$5))>2,"!","")),"") | J10: Night Life
B11: Lafayette Haussmann Gallery | C11: 45406 | D11: 0.375 | E11: 0.41666667 | F11: Cultural | H11: =IFERROR(IF(LEN(B11)=0,"",IF(INDEX(Calc!$AB$4:$AB$1003,ROW(Planner!B11)-ROW(Planner!$B$5))>2,"!","")),"") | J11: Train
B12: Père Lachaise | C12: 45406 | D12: 0.58333333 | E12: 0.66666667 | F12: City sightseeing | H12: =IFERROR(IF(LEN(B12)=0,"",IF(INDEX(Calc!$AB$4:$AB$1003,ROW(Planner!B12)-ROW(Planner!$B$5))>2,"!","")),"") | J12: Journey
B13: Visit to Lyon | C13: 45407 | D13: 0.375 | E13: 0.66666667 | F13: City sightseeing | H13: =IFERROR(IF(LEN(B13)=0,"",IF(INDEX(Calc!$AB$4:$AB$1003,ROW(Planner!B13)-ROW(Planner!$B$5))>2,"!","")),"") | J13: Shopping
B14: Shopping at Champs-Elysées | C14: 45408 | D14: 0.58333333 | E14: 0.66666667 | F14: Shopping | H14: =IFERROR(IF(LEN(B14)=0,"",IF(INDEX(Calc!$AB$4:$AB$1003,ROW(Planner!B14)-ROW(Planner!$B$5))>2,"!","")),"")
B15: Flight from Paris to New York | C15: 45409 | D15: 0.375 | E15: 0.70833333 | F15: Flight | H15: =IFERROR(IF(LEN(B15)=0,"",IF(INDEX(Calc!$AB$4:$AB$1003,ROW(Planner!B15)-ROW(Planner!$B$5))>2,"!","")),"")
H16: =IFERROR(IF(LEN(B16)=0,"",IF(INDEX(Calc!$AB$4:$AB$1003,ROW(Planner!B16)-ROW(Planner!$B$5))>2,"!","")),"")
H17: =IFERROR(IF(LEN(B17)=0,"",IF(INDEX(Calc!$AB$4:$AB$1003,ROW(Planner!B17)-ROW(Planner!$B$5))>2,"!","")),"")
H18: =IFERROR(IF(LEN(B18)=0,"",IF(INDEX(Calc!$AB$4:$AB$1003,ROW(Planner!B18)-ROW(Planner!$B$5))>2,"!","")),"")
H19: =IFERROR(IF(LEN(B19)=0,"",IF(INDEX(Calc!$AB$4:$AB$1003,ROW(Planner!B19)-ROW(Planner!$B$5))>2,"!","")),"")
H20: =IFERROR(IF(LEN(B20)=0,"",IF(INDEX(Calc!$AB$4:$AB$1003,ROW(Planner!B20)-ROW(Planner!$B$5))>2,"!","")),"")

Sheet Schedule
E2: ITINERARY TEMPLATE
E3: SCHEDULE
F8: 45402 | I8: =F8+1 -> 45403 | L8: =I8+1 -> 45404 | O8: =L8+1 -> 45405 | R8: =O8+1 -> 45406 | U8: =R8+1 -> 45407 | X8: =U8+1 -> 45408
F9: =IFERROR(INDEX(Calc!$N$4:$N$368,MATCH(Schedule!F$8,Calc!$O$4:$O$368,0))&" - "&INDEX(Calc!$I$12:$I$18,WEEKDAY(Schedule!F$8,2)),"") -> Day 1 - Saturday | I9: =IFERROR(INDEX(Calc!$N$4:$N$368,MATCH(Schedule!I$8,Calc!$O$4:$O$368,0))&" - "&INDEX(Calc!$I$12:$I$18,WEEKDAY(Schedule!I$8,2)),"") -> Day 2 - Sunday | L9: =IFERROR(INDEX(Calc!$N$4:$N$368,MATCH(Schedule!L$8,Calc!$O$4:$O$368,0))&" - "&INDEX(Calc!$I$12:$I$18,WEEKDAY(Schedule!L$8,2)),"") -> Day 3 - Monday | O9: =IFERROR(INDEX(Calc!$N$4:$N$368,MATCH(Schedule!O$8,Calc!$O$4:$O$368,0))&" - "&INDEX(Calc!$I$12:$I$18,WEEKDAY(Schedule!O$8,2)),"") -> Day 4 - Tuesday | R9: =IFERROR(INDEX(Calc!$N$4:$N$368,MATCH(Schedule!R$8,Calc!$O$4:$O$368,0))&" - "&INDEX(Calc!$I$12:$I$18,WEEKDAY(Schedule!R$8,2)),"") -> Day 5 - Wednesday | U9: =IFERROR(INDEX(Calc!$N$4:$N$368,MATCH(Schedule!U$8,Calc!$O$4:$O$368,0))&" - "&INDEX(Calc!$I$12:$I$18,WEEKDAY(Schedule!U$8,2)),"") -> Day 6 - Thursday | X9: =IFERROR(INDEX(Calc!$N$4:$N$368,MATCH(Schedule!X$8,Calc!$O$4:$O$368,0))&" - "&INDEX(Calc!$I$12:$I$18,WEEKDAY(Schedule!X$8,2)),"") -> Day 7 - Friday
C10: 0.29166667 | E10: =INDEX(day_1,ROW()-ROW($F$9),2) | F10: =INDEX(day_1,ROW()-ROW($F$9),1) | H10: =INDEX(day_2,ROW()-ROW($I$9),2) | I10: =INDEX(day_2,ROW()-ROW($F$9),1) | K10: =INDEX(day_3,ROW()-ROW($L$9),2) | L10: =INDEX(day_3,ROW()-ROW($F$9),1) | N10: =INDEX(day_4,ROW()-ROW($O$9),2) | O10: =INDEX(day_4,ROW()-ROW($F$9),1) | Q10: =INDEX(day_5,ROW()-ROW($R$9),2) | R10: =INDEX(day_5,ROW()-ROW($F$9),1) | T10: =INDEX(day_6,ROW()-ROW($U$9),2) | U10: =INDEX(day_6,ROW()-ROW($F$9),1) | W10: =INDEX(day_7,ROW()-ROW($X$9),2) | X10: =INDEX(day_7,ROW()-ROW($F$9),1)
C11: =IF(C10>TIME(23,30,0),"",C10+step) -> 0.3125 | E11: =INDEX(day_1,ROW()-ROW($F$9),2) | F11: =INDEX(day_1,ROW()-ROW($F$9),1) | H11: =INDEX(day_2,ROW()-ROW($I$9),2) | I11: =INDEX(day_2,ROW()-ROW($F$9),1) | K11: =INDEX(day_3,ROW()-ROW($L$9),2) | L11: =INDEX(day_3,ROW()-ROW($F$9),1) | N11: =INDEX(day_4,ROW()-ROW($O$9),2) | O11: =INDEX(day_4,ROW()-ROW($F$9),1) | Q11: =INDEX(day_5,ROW()-ROW($R$9),2) | R11: =INDEX(day_5,ROW()-ROW($F$9),1) | T11: =INDEX(day_6,ROW()-ROW($U$9),2) | U11: =INDEX(day_6,ROW()-ROW($F$9),1) | W11: =INDEX(day_7,ROW()-ROW($X$9),2) | X11: =INDEX(day_7,ROW()-ROW($F$9),1)
C12: =IF(C11>TIME(23,30,0),"",C11+step) -> 0.33333333 | E12: =INDEX(day_1,ROW()-ROW($F$9),2) -> Flight | F12: =INDEX(day_1,ROW()-ROW($F$9),1) -> Flight from New York to Paris | H12: =INDEX(day_2,ROW()-ROW($I$9),2) | I12: =INDEX(day_2,ROW()-ROW($F$9),1) | K12: =INDEX(day_3,ROW()-ROW($L$9),2) | L12: =INDEX(day_3,ROW()-ROW($F$9),1) | N12: =INDEX(day_4,ROW()-ROW($O$9),2) | O12: =INDEX(day_4,ROW()-ROW($F$9),1) | Q12: =INDEX(day_5,ROW()-ROW($R$9),2) | R12: =INDEX(day_5,ROW()-ROW($F$9),1) | T12: =INDEX(day_6,ROW()-ROW($U$9),2) | U12: =INDEX(day_6,ROW()-ROW($F$9),1) | W12: =INDEX(day_7,ROW()-ROW($X$9),2) | X12: =INDEX(day_7,ROW()-ROW($F$9),1)
C13: =IF(C12>TIME(23,30,0),"",C12+step) -> 0.35416667 | E13: =INDEX(day_1,ROW()-ROW($F$9),2) -> Flight | F13: =INDEX(day_1,ROW()-ROW($F$9),1) | H13: =INDEX(day_2,ROW()-ROW($I$9),2) | I13: =INDEX(day_2,ROW()-ROW($F$9),1) | K13: =INDEX(day_3,ROW()-ROW($L$9),2) | L13: =INDEX(day_3,ROW()-ROW($F$9),1) | N13: =INDEX(day_4,ROW()-ROW($O$9),2) | O13: =INDEX(day_4,ROW()-ROW($F$9),1) | Q13: =INDEX(day_5,ROW()-ROW($R$9),2) | R13: =INDEX(day_5,ROW()-ROW($F$9),1) | T13: =INDEX(day_6,ROW()-ROW($U$9),2) | U13: =INDEX(day_6,ROW()-ROW($F$9),1) | W13: =INDEX(day_7,ROW()-ROW($X$9),2) | X13: =INDEX(day_7,ROW()-ROW($F$9),1)
C14: =IF(C13>TIME(23,30,0),"",C13+step) -> 0.375 | E14: =INDEX(day_1,ROW()-ROW($F$9),2) -> Flight | F14: =INDEX(day_1,ROW()-ROW($F$9),1) | H14: =INDEX(day_2,ROW()-ROW($I$9),2) -> City sightseeing | I14: =INDEX(day_2,ROW()-ROW($F$9),1) -> Visit to Eiffel | K14: =INDEX(day_3,ROW()-ROW($L$9),2) | L14: =INDEX(day_3,ROW()-ROW($F$9),1) | N14: =INDEX(day_4,ROW()-ROW($O$9),2) | O14: =INDEX(day_4,ROW()-ROW($F$9),1) | Q14: =INDEX(day_5,ROW()-ROW($R$9),2) -> Cultural | R14: =INDEX(day_5,ROW()-ROW($F$9),1) -> Lafayette Haussmann Gallery | T14: =INDEX(day_6,ROW()-ROW($U$9),2) -> City sightseeing | U14: =INDEX(day_6,ROW()-ROW($F$9),1) -> Visit to Lyon | W14: =INDEX(day_7,ROW()-ROW($X$9),2) | X14: =INDEX(day_7,ROW()-ROW($F$9),1)
C15: =IF(C14>TIME(23,30,0),"",C14+step) -> 0.39583333 | E15: =INDEX(day_1,ROW()-ROW($F$9),2) -> Flight | F15: =INDEX(day_1,ROW()-ROW($F$9),1) | H15: =INDEX(day_2,ROW()-ROW($I$9),2) -> City sightseeing | I15: =INDEX(day_2,ROW()-ROW($F$9),1) | K15: =INDEX(day_3,ROW()-ROW($L$9),2) | L15: =INDEX(day_3,ROW()-ROW($F$9),1) | N15: =INDEX(day_4,ROW()-ROW($O$9),2) | O15: =INDEX(day_4,ROW()-ROW($F$9),1) | Q15: =INDEX(day_5,ROW()-ROW($R$9),2) -> Cultural | R15: =INDEX(day_5,ROW()-ROW($F$9),1) | T15: =INDEX(day_6,ROW()-ROW($U$9),2) -> City sightseeing | U15: =INDEX(day_6,ROW()-ROW($F$9),1) | W15: =INDEX(day_7,ROW()-ROW($X$9),2) | X15: =INDEX(day_7,ROW()-ROW($F$9),1)
C16: =IF(C15>TIME(23,30,0),"",C15+step) -> 0.41666667 | E16: =INDEX(day_1,ROW()-ROW($F$9),2) -> Flight | F16: =INDEX(day_1,ROW()-ROW($F$9),1) | H16: =INDEX(day_2,ROW()-ROW($I$9),2) -> City sightseeing | I16: =INDEX(day_2,ROW()-ROW($F$9),1) | K16: =INDEX(day_3,ROW()-ROW($L$9),2) | L16: =INDEX(day_3,ROW()-ROW($F$9),1) | N16: =INDEX(day_4,ROW()-ROW($O$9),2) | O16: =INDEX(day_4,ROW()-ROW($F$9),1) | Q16: =INDEX(day_5,ROW()-ROW($R$9),2) | R16: =INDEX(day_5,ROW()-ROW($F$9),1) | T16: =INDEX(day_6,ROW()-ROW($U$9),2) -> City sightseeing | U16: =INDEX(day_6,ROW()-ROW($F$9),1) | W16: =INDEX(day_7,ROW()-ROW($X$9),2) | X16: =INDEX(day_7,ROW()-ROW($F$9),1)
C17: =IF(C16>TIME(23,30,0),"",C16+step) -> 0.4375 | E17: =INDEX(day_1,ROW()-ROW($F$9),2) -> Flight | F17: =INDEX(day_1,ROW()-ROW($F$9),1) | H17: =INDEX(day_2,ROW()-ROW($I$9),2) -> City sightseeing | I17: =INDEX(day_2,ROW()-ROW($F$9),1) | K17: =INDEX(day_3,ROW()-ROW($L$9),2) | L17: =INDEX(day_3,ROW()-ROW($F$9),1) | N17: =INDEX(day_4,ROW()-ROW($O$9),2) | O17: =INDEX(day_4,ROW()-ROW($F$9),1) | Q17: =INDEX(day_5,ROW()-ROW($R$9),2) | R17: =INDEX(day_5,ROW()-ROW($F$9),1) | T17: =INDEX(day_6,ROW()-ROW($U$9),2) -> City sightseeing | U17: =INDEX(day_6,ROW()-ROW($F$9),1) | W17: =INDEX(day_7,ROW()-ROW($X$9),2) | X17: =INDEX(day_7,ROW()-ROW($F$9),1)
C18: =IF(C17>TIME(23,30,0),"",C17+step) -> 0.45833333 | E18: =INDEX(day_1,ROW()-ROW($F$9),2) -> Flight | F18: =INDEX(day_1,ROW()-ROW($F$9),1) | H18: =INDEX(day_2,ROW()-ROW($I$9),2) -> City sightseeing | I18: =INDEX(day_2,ROW()-ROW($F$9),1) | K18: =INDEX(day_3,ROW()-ROW($L$9),2) -> Amusement | L18: =INDEX(day_3,ROW()-ROW($F$9),1) -> Visit to Disneyland | N18: =INDEX(day_4,ROW()-ROW($O$9),2) | O18: =INDEX(day_4,ROW()-ROW($F$9),1) | Q18: =INDEX(day_5,ROW()-ROW($R$9),2) | R18: =INDEX(day_5,ROW()-ROW($F$9),1) | T18: =INDEX(day_6,ROW()-ROW($U$9),2) -> City sightseeing | U18: =INDEX(day_6,ROW()-ROW($F$9),1) | W18: =INDEX(day_7,ROW()-ROW($X$9),2) | X18: =INDEX(day_7,ROW()-ROW($F$9),1)
C19: =IF(C18>TIME(23,30,0),"",C18+step) -> 0.47916667 | E19: =INDEX(day_1,ROW()-ROW($F$9),2) -> Flight | F19: =INDEX(day_1,ROW()-ROW($F$9),1) | H19: =INDEX(day_2,ROW()-ROW($I$9),2) -> City sightseeing | I19: =INDEX(day_2,ROW()-ROW($F$9),1) | K19: =INDEX(day_3,ROW()-ROW($L$9),2) -> Amusement | L19: =INDEX(day_3,ROW()-ROW($F$9),1) | N19: =INDEX(day_4,ROW()-ROW($O$9),2) | O19: =INDEX(day_4,ROW()-ROW($F$9),1) | Q19: =INDEX(day_5,ROW()-ROW($R$9),2) | R19: =INDEX(day_5,ROW()-ROW($F$9),1) | T19: =INDEX(day_6,ROW()-ROW($U$9),2) -> City sightseeing | U19: =INDEX(day_6,ROW()-ROW($F$9),1) | W19: =INDEX(day_7,ROW()-ROW($X$9),2) | X19: =INDEX(day_7,ROW()-ROW($F$9),1)
C20: =IF(C19>TIME(23,30,0),"",C19+step) -> 0.5 | E20: =INDEX(day_1,ROW()-ROW($F$9),2) -> Flight | F20: =INDEX(day_1,ROW()-ROW($F$9),1) | H20: =INDEX(day_2,ROW()-ROW($I$9),2) -> City sightseeing | I20: =INDEX(day_2,ROW()-ROW($F$9),1) | K20: =INDEX(day_3,ROW()-ROW($L$9),2) -> Amusement | L20: =INDEX(day_3,ROW()-ROW($F$9),1) | N20: =INDEX(day_4,ROW()-ROW($O$9),2) | O20: =INDEX(day_4,ROW()-ROW($F$9),1) | Q20: =INDEX(day_5,ROW()-ROW($R$9),2) | R20: =INDEX(day_5,ROW()-ROW($F$9),1) | T20: =INDEX(day_6,ROW()-ROW($U$9),2) -> City sightseeing | U20: =INDEX(day_6,ROW()-ROW($F$9),1) | W20: =INDEX(day_7,ROW()-ROW($X$9),2) | X20: =INDEX(day_7,ROW()-ROW($F$9),1)
C21: =IF(C20>TIME(23,30,0),"",C20+step) -> 0.52083333 | E21: =INDEX(day_1,ROW()-ROW($F$9),2) -> Flight | F21: =INDEX(day_1,ROW()-ROW($F$9),1) | H21: =INDEX(day_2,ROW()-ROW($I$9),2) -> City sightseeing | I21: =INDEX(day_2,ROW()-ROW($F$9),1) | K21: =INDEX(day_3,ROW()-ROW($L$9),2) -> Amusement | L21: =INDEX(day_3,ROW()-ROW($F$9),1) | N21: =INDEX(day_4,ROW()-ROW($O$9),2) | O21: =INDEX(day_4,ROW()-ROW($F$9),1) | Q21: =INDEX(day_5,ROW()-ROW($R$9),2) | R21: =INDEX(day_5,ROW()-ROW($F$9),1) | T21: =INDEX(day_6,ROW()-ROW($U$9),2) -> City sightseeing | U21: =INDEX(day_6,ROW()-ROW($F$9),1) | W21: =INDEX(day_7,ROW()-ROW($X$9),2) | X21: =INDEX(day_7,ROW()-ROW($F$9),1)
C22: =IF(C21>TIME(23,30,0),"",C21+step) -> 0.54166667 | E22: =INDEX(day_1,ROW()-ROW($F$9),2) -> Flight | F22: =INDEX(day_1,ROW()-ROW($F$9),1) | H22: =INDEX(day_2,ROW()-ROW($I$9),2) | I22: =INDEX(day_2,ROW()-ROW($F$9),1) | K22: =INDEX(day_3,ROW()-ROW($L$9),2) -> Amusement | L22: =INDEX(day_3,ROW()-ROW($F$9),1) | N22: =INDEX(day_4,ROW()-ROW($O$9),2) | O22: =INDEX(day_4,ROW()-ROW($F$9),1) | Q22: =INDEX(day_5,ROW()-ROW($R$9),2) | R22: =INDEX(day_5,ROW()-ROW($F$9),1) | T22: =INDEX(day_6,ROW()-ROW($U$9),2) -> City sightseeing | U22: =INDEX(day_6,ROW()-ROW($F$9),1) | W22: =INDEX(day_7,ROW()-ROW($X$9),2) | X22: =INDEX(day_7,ROW()-ROW($F$9),1)
... C57: =IF(C56>TIME(23,30,0),"",C56+step) | E57: =INDEX(day_1,ROW()-ROW($F$9),2) | F57: =INDEX(day_1,ROW()-ROW($F$9),1) | H57: =INDEX(day_2,ROW()-ROW($I$9),2) | I57: =INDEX(day_2,ROW()-ROW($F$9),1) | K57: =INDEX(day_3,ROW()-ROW($L$9),2) | L57: =INDEX(day_3,ROW()-ROW($F$9),1) | N57: =INDEX(day_4,ROW()-ROW($O$9),2) | O57: =INDEX(day_4,ROW()-ROW($F$9),1) | Q57: =INDEX(day_5,ROW()-ROW($R$9),2) | R57: =INDEX(day_5,ROW()-ROW($F$9),1) | T57: =INDEX(day_6,ROW()-ROW($U$9),2) | U57: =INDEX(day_6,ROW()-ROW($F$9),1) | W57: =INDEX(day_7,ROW()-ROW($X$9),2) | X57: =INDEX(day_7,ROW()-ROW($F$9),1)

Sheet Calc
B3: START DATE SETTINGS | L3: Start Hours | N3: Days | O3: Dates | Q3: ID | R3: Real Index | S3: Title | T3: Type | U3: Start Date | V3: End date | W3: S Time | X3: E Time | Y3: Start | Z3: End | AA3: Length | AB3: Overlap Check | AD3: SCHEDULE DAYS
B4: Start Year | C4: =IFERROR(IF(LEN(Itınerary!$G$8)=0,YEAR(TODAY()),Itınerary!G8),"") -> 2024 | L4: 0 | N4: Day 1 | O4: =IFERROR(C8,"") -> 45402 | Q4: 1 | R4: =IF(Y4="","",RANK(Y4,$Y$4:$Y$1003,TRUE)+Q4/1000) -> 1.001 | S4: =INDEX(Planner!B$6:B$1005,$Q4,1)&"" -> Flight from New York to Paris | T4: =IFERROR(IF(R4="","",INDEX(Planner!F$6:F$1005,$Q4,1)&""),"") -> Flight | U4: =IF(ISNUMBER(INDEX(Planner!C$6:C$1005,$Q4,1)),INDEX(Planner!C$6:C$1005,$Q4,1),"") -> 45402 | V4: =IFERROR(U4,"") -> 45402 | W4: =IF(ISNUMBER(INDEX(Planner!D$6:D$1005,$Q4,1)),INDEX(Planner!D$6:D$1005,$Q4,1),"") -> 0.33333333 | X4: =IF(ISNUMBER(INDEX(Planner!E$6:E$1005,$Q4,1)),INDEX(Planner!E$6:E$1005,$Q4,1),"") -> 0.66666667 | Y4: =IFERROR(U4+W4,"") -> 45402.333 | Z4: =IFERROR(V4+X4,"") -> 45402.667 | AA4: =IFERROR(Z4-Y4,"") -> 0.33333333 | AB4: {=IFERROR((IF(LEN(S4)=0,"",SUM((Y4>=$Y$4:$Y$1003)*(Y4<=$Z$4:$Z$1003),(Z4>=$Y$4:$Y$1003)*(Z4<=$Z$4:$Z$1003)))),"")} -> 2 | AE4: 1 | AJ4: 2 | AO4: 3 | AT4: 4 | AY4: 5 | BD4: 6 | BI4: 7
B5: Start Month | C5: =IFERROR(IF(LEN(Itınerary!$G$9)=0,MONTH(TODAY()),Itınerary!G9),"") -> Apr | L5: =L4+step -> 0.020833333 | N5: Day 2 | O5: =IFERROR(O4+1,"") -> 45403 | Q5: 2 | R5: =IF(Y5="","",RANK(Y5,$Y$4:$Y$1003,TRUE)+Q5/1000) -> 2.002 | S5: =INDEX(Planner!B$6:B$1005,$Q5,1)&"" -> Visit to Eiffel | T5: =IFERROR(IF(R5="","",INDEX(Planner!F$6:F$1005,$Q5,1)&""),"") -> City sightseeing | U5: =IF(ISNUMBER(INDEX(Planner!C$6:C$1005,$Q5,1)),INDEX(Planner!C$6:C$1005,$Q5,1),"") -> 45403 | V5: =IFERROR(U5,"") -> 45403 | W5: =IF(ISNUMBER(INDEX(Planner!D$6:D$1005,$Q5,1)),INDEX(Planner!D$6:D$1005,$Q5,1),"") -> 0.375 | X5: =IF(ISNUMBER(INDEX(Planner!E$6:E$1005,$Q5,1)),INDEX(Planner!E$6:E$1005,$Q5,1),"") -> 0.54166667 | Y5: =IFERROR(U5+W5,"") -> 45403.375 | Z5: =IFERROR(V5+X5,"") -> 45403.542 | AA5: =IFERROR(Z5-Y5,"") -> 0.16666667 | AB5: {=IFERROR((IF(LEN(S5)=0,"",SUM((Y5>=$Y$4:$Y$1003)*(Y5<=$Z$4:$Z$1003),(Z5>=$Y$4:$Y$1003)*(Z5<=$Z$4:$Z$1003)))),"")} -> 2 | AE5: =IFERROR(INDEX($I$12:$I$18,WEEKDAY(AE$6,2)),"") -> Saturday | AJ5: =IFERROR(INDEX($I$12:$I$18,WEEKDAY(AJ$6,2)),"") -> Sunday | AO5: =IFERROR(INDEX($I$12:$I$18,WEEKDAY(AO$6,2)),"") -> Monday | AT5: =IFERROR(INDEX($I$12:$I$18,WEEKDAY(AT$6,2)),"") -> Tuesday | AY5: =IFERROR(INDEX($I$12:$I$18,WEEKDAY(AY$6,2)),"") -> Wednesday | BD5: =IFERROR(INDEX($I$12:$I$18,WEEKDAY(BD$6,2)),"") -> Thursday | BI5: =IFERROR(INDEX($I$12:$I$18,WEEKDAY(BI$6,2)),"") -> Friday
B6: Start Month # | C6: =IFERROR(INDEX($F$12:$F$23,MATCH(C5,$E$12:$E$23,0)),1) -> 4 | L6: =L5+step -> 0.041666667 | N6: Day 3 | O6: =IFERROR(O5+1,"") -> 45404 | Q6: 3 | R6: =IF(Y6="","",RANK(Y6,$Y$4:$Y$1003,TRUE)+Q6/1000) -> 3.003 | S6: =INDEX(Planner!B$6:B$1005,$Q6,1)&"" -> Visit to Louvre Museum | T6: =IFERROR(IF(R6="","",INDEX(Planner!F$6:F$1005,$Q6,1)&""),"") -> Cultural | U6: =IF(ISNUMBER(INDEX(Planner!C$6:C$1005,$Q6,1)),INDEX(Planner!C$6:C$1005,$Q6,1),"") -> 45403 | V6: =IFERROR(U6,"") -> 45403 | W6: =IF(ISNUMBER(INDEX(Planner!D$6:D$1005,$Q6,1)),INDEX(Planner!D$6:D$1005,$Q6,1),"") -> 0.625 | X6: =IF(ISNUMBER(INDEX(Planner!E$6:E$1005,$Q6,1)),INDEX(Planner!E$6:E$1005,$Q6,1),"") -> 0.75 | Y6: =IFERROR(U6+W6,"") -> 45403.625 | Z6: =IFERROR(V6+X6,"") -> 45403.75 | AA6: =IFERROR(Z6-Y6,"") -> 0.125 | AB6: {=IFERROR((IF(LEN(S6)=0,"",SUM((Y6>=$Y$4:$Y$1003)*(Y6<=$Z$4:$Z$1003),(Z6>=$Y$4:$Y$1003)*(Z6<=$Z$4:$Z$1003)))),"")} -> 2 | AE6: =IFERROR(Schedule!$F$8,"") -> 45402 | AJ6: =IFERROR(AE6+1,"") -> 45403 | AO6: =IFERROR(AJ6+1,"") -> 45404 | AT6: =IFERROR(AO6+1,"") -> 45405 | AY6: =IFERROR(AT6+1,"") -> 45406 | BD6: =IFERROR(AY6+1,"") -> 45407 | BI6: =IFERROR(BD6+1,"") -> 45408
B7: Start Day | C7: =IFERROR(IF(LEN(Itınerary!$G$9)=0,DAY(TODAY()),Itınerary!G10),"") -> 20 | L7: =L6+step -> 0.0625 | N7: Day 4 | O7: =IFERROR(O6+1,"") -> 45405 | Q7: 4 | R7: =IF(Y7="","",RANK(Y7,$Y$4:$Y$1003,TRUE)+Q7/1000) -> 4.004 | S7: =INDEX(Planner!B$6:B$1005,$Q7,1)&"" -> Visit to Disneyland | T7: =IFERROR(IF(R7="","",INDEX(Planner!F$6:F$1005,$Q7,1)&""),"") -> Amusement | U7: =IF(ISNUMBER(INDEX(Planner!C$6:C$1005,$Q7,1)),INDEX(Planner!C$6:C$1005,$Q7,1),"") -> 45404 | V7: =IFERROR(U7,"") -> 45404 | W7: =IF(ISNUMBER(INDEX(Planner!D$6:D$1005,$Q7,1)),INDEX(Planner!D$6:D$1005,$Q7,1),"") -> 0.45833333 | X7: =IF(ISNUMBER(INDEX(Planner!E$6:E$1005,$Q7,1)),INDEX(Planner!E$6:E$1005,$Q7,1),"") -> 0.66666667 | Y7: =IFERROR(U7+W7,"") -> 45404.458 | Z7: =IFERROR(V7+X7,"") -> 45404.667 | AA7: =IFERROR(Z7-Y7,"") -> 0.20833333 | AB7: {=IFERROR((IF(LEN(S7)=0,"",SUM((Y7>=$Y$4:$Y$1003)*(Y7<=$Z$4:$Z$1003),(Z7>=$Y$4:$Y$1003)*(Z7<=$Z$4:$Z$1003)))),"")} -> 2 | AE7: ID | AF7: Overlap | AG7: Text | AH7: Type | AI7: Check | AJ7: ID | AK7: Overlap | AL7: Text | AM7: Type | AN7: Check | AO7: ID | AP7: Overlap | AQ7: Text | AR7: Type | AS7: Check | AT7: ID | AU7: Overlap | AV7: Text | AW7: Type | AX7: Check | AY7: ID | AZ7: Overlap | BA7: Text | BB7: Type | BC7: Check | BD7: ID | BE7: Overlap | BF7: Text | BG7: Type | BH7: Check | BI7: ID | BJ7: Overlap | BK7: Text | BL7: Type | BM7: Check
B8: Start Date | C8: =IFERROR(DATE(C4,C6,C7),TODAY()) -> 45402 | L8: =L7+step -> 0.083333333 | N8: Day 5 | O8: =IFERROR(O7+1,"") -> 45406 | Q8: 5 | R8: =IF(Y8="","",RANK(Y8,$Y$4:$Y$1003,TRUE)+Q8/1000) -> 5.005 | S8: =INDEX(Planner!B$6:B$1005,$Q8,1)&"" -> Dinner at Moulin Rouge | T8: =IFERROR(IF(R8="","",INDEX(Planner!F$6:F$1005,$Q8,1)&""),"") -> Night Life | U8: =IF(ISNUMBER(INDEX(Planner!C$6:C$1005,$Q8,1)),INDEX(Planner!C$6:C$1005,$Q8,1),"") -> 45405 | V8: =IFERROR(U8,"") -> 45405 | W8: =IF(ISNUMBER(INDEX(Planner!D$6:D$1005,$Q8,1)),INDEX(Planner!D$6:D$1005,$Q8,1),"") -> 0.875 | X8: =IF(ISNUMBER(INDEX(Planner!E$6:E$1005,$Q8,1)),INDEX(Planner!E$6:E$1005,$Q8,1),"") -> 0.95833333 | Y8: =IFERROR(U8+W8,"") -> 45405.875 | Z8: =IFERROR(V8+X8,"") -> 45405.958 | AA8: =IFERROR(Z8-Y8,"") -> 0.083333333 | AB8: {=IFERROR((IF(LEN(S8)=0,"",SUM((Y8>=$Y$4:$Y$1003)*(Y8<=$Z$4:$Z$1003),(Z8>=$Y$4:$Y$1003)*(Z8<=$Z$4:$Z$1003)))),"")} -> 2 | AD8: =Schedule!C10 -> 0.29166667 | AE8: {=MIN(IF(($U$4:$U$18=AE$6)*($W$4:$W$18<=$AD8)*($X$4:$X$18>$AD8),$Q$4:$Q$18,""))} -> 0 | AF8: =COUNTIFS($U$4:$U$18,AE$6,$W$4:$W$18,"<="&$AD8,$X$4:$X$18,">"&$AD8) -> 0 | AG8: =IF(AE8=AE7,"",IF(AE8>0,INDEX($S$4:$S$18,AE8,1)& IF(AF8>1," - " & AF8 &" Events overlap!",""),"")) | AH8: =IF(LEN(AI8)>0,INDEX($T$4:$T$18,AE8,1),"") | AI8: =IFERROR(IF(AE8>0,1,""),"") | AJ8: {=MIN(IF(($U$4:$U$18=AJ$6)*($W$4:$W$18<=$AD8)*($X$4:$X$18>$AD8),$Q$4:$Q$18,""))} -> 0 | AK8: =COUNTIFS($U$4:$U$18,AJ$6,$W$4:$W$18,"<="&$AD8,$X$4:$X$18,">"&$AD8) -> 0 | AL8: =IF(AJ8=AJ7,"",IF(AJ8>0,INDEX($S$4:$S$18,AJ8,1)& IF(AK8>1," - " & AK8 &" Events overlap!",""),"")) | AM8: =IF(LEN(AN8)>0,INDEX($T$4:$T$18,AJ8,1),"") | AN8: =IFERROR(IF(AJ8>0,1,""),"") | AO8: {=MIN(IF(($U$4:$U$18=AO$6)*($W$4:$W$18<=$AD8)*($X$4:$X$18>$AD8),$Q$4:$Q$18,""))} -> 0 | AP8: =COUNTIFS($U$4:$U$18,AO$6,$W$4:$W$18,"<="&$AD8,$X$4:$X$18,">"&$AD8) -> 0 | AQ8: =IF(AO8=AO7,"",IF(AO8>0,INDEX($S$4:$S$18,AO8,1)& IF(AP8>1," - " & AP8 &" Events overlap!",""),"")) | AR8: =IF(LEN(AS8)>0,INDEX($T$4:$T$18,AO8,1),"") | AS8: =IFERROR(IF(AO8>0,1,""),"") | AT8: {=MIN(IF(($U$4:$U$18=AT$6)*($W$4:$W$18<=$AD8)*($X$4:$X$18>$AD8),$Q$4:$Q$18,""))} -> 0 | AU8: =COUNTIFS($U$4:$U$18,AT$6,$W$4:$W$18,"<="&$AD8,$X$4:$X$18,">"&$AD8) -> 0 | AV8: =IF(AT8=AT7,"",IF(AT8>0,INDEX($S$4:$S$18,AT8,1)& IF(AU8>1," - " & AU8 &" Events overlap!",""),"")) | AW8: =IF(LEN(AX8)>0,INDEX($T$4:$T$18,AT8,1),"") | AX8: =IFERROR(IF(AT8>0,1,""),"") | AY8: {=MIN(IF(($U$4:$U$18=AY$6)*($W$4:$W$18<=$AD8)*($X$4:$X$18>$AD8),$Q$4:$Q$18,""))} -> 0 | AZ8: =COUNTIFS($U$4:$U$18,AY$6,$W$4:$W$18,"<="&$AD8,$X$4:$X$18,">"&$AD8) -> 0 | BA8: =IF(AY8=AY7,"",IF(AY8>0,INDEX($S$4:$S$18,AY8,1)& IF(AZ8>1," - " & AZ8 &" Events overlap!",""),"")) | BB8: =IF(LEN(BC8)>0,INDEX($T$4:$T$18,AY8,1),"") | BC8: =IFERROR(IF(AY8>0,1,""),"") | BD8: {=MIN(IF(($U$4:$U$18=BD$6)*($W$4:$W$18<=$AD8)*($X$4:$X$18>$AD8),$Q$4:$Q$18,""))} -> 0 | BE8: =COUNTIFS($U$4:$U$18,BD$6,$W$4:$W$18,"<="&$AD8,$X$4:$X$18,">"&$AD8) -> 0 | BF8: =IF(BD8=BD7,"",IF(BD8>0,INDEX($S$4:$S$18,BD8,1)& IF(BE8>1," - " & BE8 &" Events overlap!",""),"")) | BG8: =IF(LEN(BH8)>0,INDEX($T$4:$T$18,BD8,1),"") | BH8: =IFERROR(IF(BD8>0,1,""),"") | BI8: {=MIN(IF(($U$4:$U$18=BI$6)*($W$4:$W$18<=$AD8)*($X$4:$X$18>$AD8),$Q$4:$Q$18,""))} -> 0 | BJ8: =COUNTIFS($U$4:$U$18,BI$6,$W$4:$W$18,"<="&$AD8,$X$4:$X$18,">"&$AD8) -> 0 | BK8: =IF(BI8=BI7,"",IF(BI8>0,INDEX($S$4:$S$18,BI8,1)& IF(BJ8>1," - " & BJ8 &" Events overlap!",""),"")) | BL8: =IF(LEN(BM8)>0,INDEX($T$4:$T$18,BI8,1),"") | BM8: =IFERROR(IF(BI8>0,1,""),"")
B9: Month Day # | C9: =IFERROR(INDEX($G$12:$G$23,MATCH($C$5,$E$12:$E$23,0)),31) -> 30 | L9: =L8+step -> 0.10416667 | N9: Day 6 | O9: =IFERROR(O8+1,"") -> 45407 | Q9: 6 | R9: =IF(Y9="","",RANK(Y9,$Y$4:$Y$1003,TRUE)+Q9/1000) -> 6.006 | S9: =INDEX(Planner!B$6:B$1005,$Q9,1)&"" -> Lafayette Haussmann Gallery | T9: =IFERROR(IF(R9="","",INDEX(Planner!F$6:F$1005,$Q9,1)&""),"") -> Cultural | U9: =IF(ISNUMBER(INDEX(Planner!C$6:C$1005,$Q9,1)),INDEX(Planner!C$6:C$1005,$Q9,1),"") -> 45406 | V9: =IFERROR(U9,"") -> 45406 | W9: =IF(ISNUMBER(INDEX(Planner!D$6:D$1005,$Q9,1)),INDEX(Planner!D$6:D$1005,$Q9,1),"") -> 0.375 | X9: =IF(ISNUMBER(INDEX(Planner!E$6:E$1005,$Q9,1)),INDEX(Planner!E$6:E$1005,$Q9,1),"") -> 0.41666667 | Y9: =IFERROR(U9+W9,"") -> 45406.375 | Z9: =IFERROR(V9+X9,"") -> 45406.417 | AA9: =IFERROR(Z9-Y9,"") -> 0.041666667 | AB9: {=IFERROR((IF(LEN(S9)=0,"",SUM((Y9>=$Y$4:$Y$1003)*(Y9<=$Z$4:$Z$1003),(Z9>=$Y$4:$Y$1003)*(Z9<=$Z$4:$Z$1003)))),"")} -> 2 | AD9: =Schedule!C11 -> 0.3125 | AE9: {=MIN(IF(($U$4:$U$18=AE$6)*($W$4:$W$18<=$AD9)*($X$4:$X$18>$AD9),$Q$4:$Q$18,""))} -> 0 | AF9: =COUNTIFS($U$4:$U$18,AE$6,$W$4:$W$18,"<="&$AD9,$X$4:$X$18,">"&$AD9) -> 0 | AG9: =IF(AE9=AE8,"",IF(AE9>0,INDEX($S$4:$S$18,AE9,1)& IF(AF9>1," - " & AF9 &" Events overlap!",""),"")) | AH9: =IF(LEN(AI9)>0,INDEX($T$4:$T$18,AE9,1),"") | AI9: =IFERROR(IF(AE9>0,1,""),"") | AJ9: {=MIN(IF(($U$4:$U$18=AJ$6)*($W$4:$W$18<=$AD9)*($X$4:$X$18>$AD9),$Q$4:$Q$18,""))} -> 0 | AK9: =COUNTIFS($U$4:$U$18,AJ$6,$W$4:$W$18,"<="&$AD9,$X$4:$X$18,">"&$AD9) -> 0 | AL9: =IF(AJ9=AJ8,"",IF(AJ9>0,INDEX($S$4:$S$18,AJ9,1)& IF(AK9>1," - " & AK9 &" Events overlap!",""),"")) | AM9: =IF(LEN(AN9)>0,INDEX($T$4:$T$18,AJ9,1),"") | AN9: =IFERROR(IF(AJ9>0,1,""),"") | AO9: {=MIN(IF(($U$4:$U$18=AO$6)*($W$4:$W$18<=$AD9)*($X$4:$X$18>$AD9),$Q$4:$Q$18,""))} -> 0 | AP9: =COUNTIFS($U$4:$U$18,AO$6,$W$4:$W$18,"<="&$AD9,$X$4:$X$18,">"&$AD9) -> 0 | AQ9: =IF(AO9=AO8,"",IF(AO9>0,INDEX($S$4:$S$18,AO9,1)& IF(AP9>1," - " & AP9 &" Events overlap!",""),"")) | AR9: =IF(LEN(AS9)>0,INDEX($T$4:$T$18,AO9,1),"") | AS9: =IFERROR(IF(AO9>0,1,""),"") | AT9: {=MIN(IF(($U$4:$U$18=AT$6)*($W$4:$W$18<=$AD9)*($X$4:$X$18>$AD9),$Q$4:$Q$18,""))} -> 0 | AU9: =COUNTIFS($U$4:$U$18,AT$6,$W$4:$W$18,"<="&$AD9,$X$4:$X$18,">"&$AD9) -> 0 | AV9: =IF(AT9=AT8,"",IF(AT9>0,INDEX($S$4:$S$18,AT9,1)& IF(AU9>1," - " & AU9 &" Events overlap!",""),"")) | AW9: =IF(LEN(AX9)>0,INDEX($T$4:$T$18,AT9,1),"") | AX9: =IFERROR(IF(AT9>0,1,""),"") | AY9: {=MIN(IF(($U$4:$U$18=AY$6)*($W$4:$W$18<=$AD9)*($X$4:$X$18>$AD9),$Q$4:$Q$18,""))} -> 0 | AZ9: =COUNTIFS($U$4:$U$18,AY$6,$W$4:$W$18,"<="&$AD9,$X$4:$X$18,">"&$AD9) -> 0 | BA9: =IF(AY9=AY8,"",IF(AY9>0,INDEX($S$4:$S$18,AY9,1)& IF(AZ9>1," - " & AZ9 &" Events overlap!",""),"")) | BB9: =IF(LEN(BC9)>0,INDEX($T$4:$T$18,AY9,1),"") | BC9: =IFERROR(IF(AY9>0,1,""),"") | BD9: {=MIN(IF(($U$4:$U$18=BD$6)*($W$4:$W$18<=$AD9)*($X$4:$X$18>$AD9),$Q$4:$Q$18,""))} -> 0 | BE9: =COUNTIFS($U$4:$U$18,BD$6,$W$4:$W$18,"<="&$AD9,$X$4:$X$18,">"&$AD9) -> 0 | BF9: =IF(BD9=BD8,"",IF(BD9>0,INDEX($S$4:$S$18,BD9,1)& IF(BE9>1," - " & BE9 &" Events overlap!",""),"")) | BG9: =IF(LEN(BH9)>0,INDEX($T$4:$T$18,BD9,1),"") | BH9: =IFERROR(IF(BD9>0,1,""),"") | BI9: {=MIN(IF(($U$4:$U$18=BI$6)*($W$4:$W$18<=$AD9)*($X$4:$X$18>$AD9),$Q$4:$Q$18,""))} -> 0 | BJ9: =COUNTIFS($U$4:$U$18,BI$6,$W$4:$W$18,"<="&$AD9,$X$4:$X$18,">"&$AD9) -> 0 | BK9: =IF(BI9=BI8,"",IF(BI9>0,INDEX($S$4:$S$18,BI9,1)& IF(BJ9>1," - " & BJ9 &" Events overlap!",""),"")) | BL9: =IF(LEN(BM9)>0,INDEX($T$4:$T$18,BI9,1),"") | BM9: =IFERROR(IF(BI9>0,1,""),"")
L10: =L9+step -> 0.125 | N10: Day 7 | O10: =IFERROR(O9+1,"") -> 45408 | Q10: 7 | R10: =IF(Y10="","",RANK(Y10,$Y$4:$Y$1003,TRUE)+Q10/1000) -> 7.007 | S10: =INDEX(Planner!B$6:B$1005,$Q10,1)&"" -> Père Lachaise | T10: =IFERROR(IF(R10="","",INDEX(Planner!F$6:F$1005,$Q10,1)&""),"") -> City sightseeing | U10: =IF(ISNUMBER(INDEX(Planner!C$6:C$1005,$Q10,1)),INDEX(Planner!C$6:C$1005,$Q10,1),"") -> 45406 | V10: =IFERROR(U10,"") -> 45406 | W10: =IF(ISNUMBER(INDEX(Planner!D$6:D$1005,$Q10,1)),INDEX(Planner!D$6:D$1005,$Q10,1),"") -> 0.58333333 | X10: =IF(ISNUMBER(INDEX(Planner!E$6:E$1005,$Q10,1)),INDEX(Planner!E$6:E$1005,$Q10,1),"") -> 0.66666667 | Y10: =IFERROR(U10+W10,"") -> 45406.583 | Z10: =IFERROR(V10+X10,"") -> 45406.667 | AA10: =IFERROR(Z10-Y10,"") -> 0.083333333 | AB10: {=IFERROR((IF(LEN(S10)=0,"",SUM((Y10>=$Y$4:$Y$1003)*(Y10<=$Z$4:$Z$1003),(Z10>=$Y$4:$Y$1003)*(Z10<=$Z$4:$Z$1003)))),"")} -> 2 | AD10: =Schedule!C12 -> 0.33333333 | AE10: {=MIN(IF(($U$4:$U$18=AE$6)*($W$4:$W$18<=$AD10)*($X$4:$X$18>$AD10),$Q$4:$Q$18,""))} -> 1 | AF10: =COUNTIFS($U$4:$U$18,AE$6,$W$4:$W$18,"<="&$AD10,$X$4:$X$18,">"&$AD10) -> 1 | AG10: =IF(AE10=AE9,"",IF(AE10>0,INDEX($S$4:$S$18,AE10,1)& IF(AF10>1," - " & AF10 &" Events overlap!",""),"")) -> Flight from New York to Paris | AH10: =IF(LEN(AI10)>0,INDEX($T$4:$T$18,AE10,1),"") -> Flight | AI10: =IFERROR(IF(AE10>0,1,""),"") -> 1 | AJ10: {=MIN(IF(($U$4:$U$18=AJ$6)*($W$4:$W$18<=$AD10)*($X$4:$X$18>$AD10),$Q$4:$Q$18,""))} -> 0 | AK10: =COUNTIFS($U$4:$U$18,AJ$6,$W$4:$W$18,"<="&$AD10,$X$4:$X$18,">"&$AD10) -> 0 | AL10: =IF(AJ10=AJ9,"",IF(AJ10>0,INDEX($S$4:$S$18,AJ10,1)& IF(AK10>1," - " & AK10 &" Events overlap!",""),"")) | AM10: =IF(LEN(AN10)>0,INDEX($T$4:$T$18,AJ10,1),"") | AN10: =IFERROR(IF(AJ10>0,1,""),"") | AO10: {=MIN(IF(($U$4:$U$18=AO$6)*($W$4:$W$18<=$AD10)*($X$4:$X$18>$AD10),$Q$4:$Q$18,""))} -> 0 | AP10: =COUNTIFS($U$4:$U$18,AO$6,$W$4:$W$18,"<="&$AD10,$X$4:$X$18,">"&$AD10) -> 0 | AQ10: =IF(AO10=AO9,"",IF(AO10>0,INDEX($S$4:$S$18,AO10,1)& IF(AP10>1," - " & AP10 &" Events overlap!",""),"")) | AR10: =IF(LEN(AS10)>0,INDEX($T$4:$T$18,AO10,1),"") | AS10: =IFERROR(IF(AO10>0,1,""),"") | AT10: {=MIN(IF(($U$4:$U$18=AT$6)*($W$4:$W$18<=$AD10)*($X$4:$X$18>$AD10),$Q$4:$Q$18,""))} -> 0 | AU10: =COUNTIFS($U$4:$U$18,AT$6,$W$4:$W$18,"<="&$AD10,$X$4:$X$18,">"&$AD10) -> 0 | AV10: =IF(AT10=AT9,"",IF(AT10>0,INDEX($S$4:$S$18,AT10,1)& IF(AU10>1," - " & AU10 &" Events overlap!",""),"")) | AW10: =IF(LEN(AX10)>0,INDEX($T$4:$T$18,AT10,1),"") | AX10: =IFERROR(IF(AT10>0,1,""),"") | AY10: {=MIN(IF(($U$4:$U$18=AY$6)*($W$4:$W$18<=$AD10)*($X$4:$X$18>$AD10),$Q$4:$Q$18,""))} -> 0 | AZ10: =COUNTIFS($U$4:$U$18,AY$6,$W$4:$W$18,"<="&$AD10,$X$4:$X$18,">"&$AD10) -> 0 | BA10: =IF(AY10=AY9,"",IF(AY10>0,INDEX($S$4:$S$18,AY10,1)& IF(AZ10>1," - " & AZ10 &" Events overlap!",""),"")) | BB10: =IF(LEN(BC10)>0,INDEX($T$4:$T$18,AY10,1),"") | BC10: =IFERROR(IF(AY10>0,1,""),"") | BD10: {=MIN(IF(($U$4:$U$18=BD$6)*($W$4:$W$18<=$AD10)*($X$4:$X$18>$AD10),$Q$4:$Q$18,""))} -> 0 | BE10: =COUNTIFS($U$4:$U$18,BD$6,$W$4:$W$18,"<="&$AD10,$X$4:$X$18,">"&$AD10) -> 0 | BF10: =IF(BD10=BD9,"",IF(BD10>0,INDEX($S$4:$S$18,BD10,1)& IF(BE10>1," - " & BE10 &" Events overlap!",""),"")) | BG10: =IF(LEN(BH10)>0,INDEX($T$4:$T$18,BD10,1),"") | BH10: =IFERROR(IF(BD10>0,1,""),"") | BI10: {=MIN(IF(($U$4:$U$18=BI$6)*($W$4:$W$18<=$AD10)*($X$4:$X$18>$AD10),$Q$4:$Q$18,""))} -> 0 | BJ10: =COUNTIFS($U$4:$U$18,BI$6,$W$4:$W$18,"<="&$AD10,$X$4:$X$18,">"&$AD10) -> 0 | BK10: =IF(BI10=BI9,"",IF(BI10>0,INDEX($S$4:$S$18,BI10,1)& IF(BJ10>1," - " & BJ10 &" Events overlap!",""),"")) | BL10: =IF(LEN(BM10)>0,INDEX($T$4:$T$18,BI10,1),"") | BM10: =IFERROR(IF(BI10>0,1,""),"")
B11: Day | C11: Year | D11: Month | E11: Month Short | F11: Month # | G11: Day # | I11: Week Days | L11: =L10+step -> 0.14583333 | N11: Day 8 | O11: =IFERROR(O10+1,"") -> 45409 | Q11: 8 | R11: =IF(Y11="","",RANK(Y11,$Y$4:$Y$1003,TRUE)+Q11/1000) -> 8.008 | S11: =INDEX(Planner!B$6:B$1005,$Q11,1)&"" -> Visit to Lyon | T11: =IFERROR(IF(R11="","",INDEX(Planner!F$6:F$1005,$Q11,1)&""),"") -> City sightseeing | U11: =IF(ISNUMBER(INDEX(Planner!C$6:C$1005,$Q11,1)),INDEX(Planner!C$6:C$1005,$Q11,1),"") -> 45407 | V11: =IFERROR(U11,"") -> 45407 | W11: =IF(ISNUMBER(INDEX(Planner!D$6:D$1005,$Q11,1)),INDEX(Planner!D$6:D$1005,$Q11,1),"") -> 0.375 | X11: =IF(ISNUMBER(INDEX(Planner!E$6:E$1005,$Q11,1)),INDEX(Planner!E$6:E$1005,$Q11,1),"") -> 0.66666667 | Y11: =IFERROR(U11+W11,"") -> 45407.375 | Z11: =IFERROR(V11+X11,"") -> 45407.667 | AA11: =IFERROR(Z11-Y11,"") -> 0.29166667 | AB11: {=IFERROR((IF(LEN(S11)=0,"",SUM((Y11>=$Y$4:$Y$1003)*(Y11<=$Z$4:$Z$1003),(Z11>=$Y$4:$Y$1003)*(Z11<=$Z$4:$Z$1003)))),"")} -> 2 | AD11: =Schedule!C13 -> 0.35416667 | AE11: {=MIN(IF(($U$4:$U$18=AE$6)*($W$4:$W$18<=$AD11)*($X$4:$X$18>$AD11),$Q$4:$Q$18,""))} -> 1 | AF11: =COUNTIFS($U$4:$U$18,AE$6,$W$4:$W$18,"<="&$AD11,$X$4:$X$18,">"&$AD11) -> 1 | AG11: =IF(AE11=AE10,"",IF(AE11>0,INDEX($S$4:$S$18,AE11,1)& IF(AF11>1," - " & AF11 &" Events overlap!",""),"")) | AH11: =IF(LEN(AI11)>0,INDEX($T$4:$T$18,AE11,1),"") -> Flight | AI11: =IFERROR(IF(AE11>0,1,""),"") -> 1 | AJ11: {=MIN(IF(($U$4:$U$18=AJ$6)*($W$4:$W$18<=$AD11)*($X$4:$X$18>$AD11),$Q$4:$Q$18,""))} -> 0 | AK11: =COUNTIFS($U$4:$U$18,AJ$6,$W$4:$W$18,"<="&$AD11,$X$4:$X$18,">"&$AD11) -> 0 | AL11: =IF(AJ11=AJ10,"",IF(AJ11>0,INDEX($S$4:$S$18,AJ11,1)& IF(AK11>1," - " & AK11 &" Events overlap!",""),"")) | AM11: =IF(LEN(AN11)>0,INDEX($T$4:$T$18,AJ11,1),"") | AN11: =IFERROR(IF(AJ11>0,1,""),"") | AO11: {=MIN(IF(($U$4:$U$18=AO$6)*($W$4:$W$18<=$AD11)*($X$4:$X$18>$AD11),$Q$4:$Q$18,""))} -> 0 | AP11: =COUNTIFS($U$4:$U$18,AO$6,$W$4:$W$18,"<="&$AD11,$X$4:$X$18,">"&$AD11) -> 0 | AQ11: =IF(AO11=AO10,"",IF(AO11>0,INDEX($S$4:$S$18,AO11,1)& IF(AP11>1," - " & AP11 &" Events overlap!",""),"")) | AR11: =IF(LEN(AS11)>0,INDEX($T$4:$T$18,AO11,1),"") | AS11: =IFERROR(IF(AO11>0,1,""),"") | AT11: {=MIN(IF(($U$4:$U$18=AT$6)*($W$4:$W$18<=$AD11)*($X$4:$X$18>$AD11),$Q$4:$Q$18,""))} -> 0 | AU11: =COUNTIFS($U$4:$U$18,AT$6,$W$4:$W$18,"<="&$AD11,$X$4:$X$18,">"&$AD11) -> 0 | AV11: =IF(AT11=AT10,"",IF(AT11>0,INDEX($S$4:$S$18,AT11,1)& IF(AU11>1," - " & AU11 &" Events overlap!",""),"")) | AW11: =IF(LEN(AX11)>0,INDEX($T$4:$T$18,AT11,1),"") | AX11: =IFERROR(IF(AT11>0,1,""),"") | AY11: {=MIN(IF(($U$4:$U$18=AY$6)*($W$4:$W$18<=$AD11)*($X$4:$X$18>$AD11),$Q$4:$Q$18,""))} -> 0 | AZ11: =COUNTIFS($U$4:$U$18,AY$6,$W$4:$W$18,"<="&$AD11,$X$4:$X$18,">"&$AD11) -> 0 | BA11: =IF(AY11=AY10,"",IF(AY11>0,INDEX($S$4:$S$18,AY11,1)& IF(AZ11>1," - " & AZ11 &" Events overlap!",""),"")) | BB11: =IF(LEN(BC11)>0,INDEX($T$4:$T$18,AY11,1),"") | BC11: =IFERROR(IF(AY11>0,1,""),"") | BD11: {=MIN(IF(($U$4:$U$18=BD$6)*($W$4:$W$18<=$AD11)*($X$4:$X$18>$AD11),$Q$4:$Q$18,""))} -> 0 | BE11: =COUNTIFS($U$4:$U$18,BD$6,$W$4:$W$18,"<="&$AD11,$X$4:$X$18,">"&$AD11) -> 0 | BF11: =IF(BD11=BD10,"",IF(BD11>0,INDEX($S$4:$S$18,BD11,1)& IF(BE11>1," - " & BE11 &" Events overlap!",""),"")) | BG11: =IF(LEN(BH11)>0,INDEX($T$4:$T$18,BD11,1),"") | BH11: =IFERROR(IF(BD11>0,1,""),"") | BI11: {=MIN(IF(($U$4:$U$18=BI$6)*($W$4:$W$18<=$AD11)*($X$4:$X$18>$AD11),$Q$4:$Q$18,""))} -> 0 | BJ11: =COUNTIFS($U$4:$U$18,BI$6,$W$4:$W$18,"<="&$AD11,$X$4:$X$18,">"&$AD11) -> 0 | BK11: =IF(BI11=BI10,"",IF(BI11>0,INDEX($S$4:$S$18,BI11,1)& IF(BJ11>1," - " & BJ11 &" Events overlap!",""),"")) | BL11: =IF(LEN(BM11)>0,INDEX($T$4:$T$18,BI11,1),"") | BM11: =IFERROR(IF(BI11>0,1,""),"")
B12: 1 | C12: 2020 | D12: January | E12: Jan | F12: 1 | G12: 31 | I12: Monday | J12: 1 | L12: =L11+step -> 0.16666667 | N12: Day 9 | O12: =IFERROR(O11+1,"") -> 45410 | Q12: 9 | R12: =IF(Y12="","",RANK(Y12,$Y$4:$Y$1003,TRUE)+Q12/1000) -> 9.009 | S12: =INDEX(Planner!B$6:B$1005,$Q12,1)&"" -> Shopping at Champs-Elysées | T12: =IFERROR(IF(R12="","",INDEX(Planner!F$6:F$1005,$Q12,1)&""),"") -> Shopping | U12: =IF(ISNUMBER(INDEX(Planner!C$6:C$1005,$Q12,1)),INDEX(Planner!C$6:C$1005,$Q12,1),"") -> 45408 | V12: =IFERROR(U12,"") -> 45408 | W12: =IF(ISNUMBER(INDEX(Planner!D$6:D$1005,$Q12,1)),INDEX(Planner!D$6:D$1005,$Q12,1),"") -> 0.58333333 | X12: =IF(ISNUMBER(INDEX(Planner!E$6:E$1005,$Q12,1)),INDEX(Planner!E$6:E$1005,$Q12,1),"") -> 0.66666667 | Y12: =IFERROR(U12+W12,"") -> 45408.583 | Z12: =IFERROR(V12+X12,"") -> 45408.667 | AA12: =IFERROR(Z12-Y12,"") -> 0.083333333 | AB12: {=IFERROR((IF(LEN(S12)=0,"",SUM((Y12>=$Y$4:$Y$1003)*(Y12<=$Z$4:$Z$1003),(Z12>=$Y$4:$Y$1003)*(Z12<=$Z$4:$Z$1003)))),"")} -> 2 | AD12: =Schedule!C14 -> 0.375 | AE12: {=MIN(IF(($U$4:$U$18=AE$6)*($W$4:$W$18<=$AD12)*($X$4:$X$18>$AD12),$Q$4:$Q$18,""))} -> 1 | AF12: =COUNTIFS($U$4:$U$18,AE$6,$W$4:$W$18,"<="&$AD12,$X$4:$X$18,">"&$AD12) -> 1 | AG12: =IF(AE12=AE11,"",IF(AE12>0,INDEX($S$4:$S$18,AE12,1)& IF(AF12>1," - " & AF12 &" Events overlap!",""),"")) | AH12: =IF(LEN(AI12)>0,INDEX($T$4:$T$18,AE12,1),"") -> Flight | AI12: =IFERROR(IF(AE12>0,1,""),"") -> 1 | AJ12: {=MIN(IF(($U$4:$U$18=AJ$6)*($W$4:$W$18<=$AD12)*($X$4:$X$18>$AD12),$Q$4:$Q$18,""))} -> 2 | AK12: =COUNTIFS($U$4:$U$18,AJ$6,$W$4:$W$18,"<="&$AD12,$X$4:$X$18,">"&$AD12) -> 1 | AL12: =IF(AJ12=AJ11,"",IF(AJ12>0,INDEX($S$4:$S$18,AJ12,1)& IF(AK12>1," - " & AK12 &" Events overlap!",""),"")) -> Visit to Eiffel | AM12: =IF(LEN(AN12)>0,INDEX($T$4:$T$18,AJ12,1),"") -> City sightseeing | AN12: =IFERROR(IF(AJ12>0,1,""),"") -> 1 | AO12: {=MIN(IF(($U$4:$U$18=AO$6)*($W$4:$W$18<=$AD12)*($X$4:$X$18>$AD12),$Q$4:$Q$18,""))} -> 0 | AP12: =COUNTIFS($U$4:$U$18,AO$6,$W$4:$W$18,"<="&$AD12,$X$4:$X$18,">"&$AD12) -> 0 | AQ12: =IF(AO12=AO11,"",IF(AO12>0,INDEX($S$4:$S$18,AO12,1)& IF(AP12>1," - " & AP12 &" Events overlap!",""),"")) | AR12: =IF(LEN(AS12)>0,INDEX($T$4:$T$18,AO12,1),"") | AS12: =IFERROR(IF(AO12>0,1,""),"") | AT12: {=MIN(IF(($U$4:$U$18=AT$6)*($W$4:$W$18<=$AD12)*($X$4:$X$18>$AD12),$Q$4:$Q$18,""))} -> 0 | AU12: =COUNTIFS($U$4:$U$18,AT$6,$W$4:$W$18,"<="&$AD12,$X$4:$X$18,">"&$AD12) -> 0 | AV12: =IF(AT12=AT11,"",IF(AT12>0,INDEX($S$4:$S$18,AT12,1)& IF(AU12>1," - " & AU12 &" Events overlap!",""),"")) | AW12: =IF(LEN(AX12)>0,INDEX($T$4:$T$18,AT12,1),"") | AX12: =IFERROR(IF(AT12>0,1,""),"") | AY12: {=MIN(IF(($U$4:$U$18=AY$6)*($W$4:$W$18<=$AD12)*($X$4:$X$18>$AD12),$Q$4:$Q$18,""))} -> 6 | AZ12: =COUNTIFS($U$4:$U$18,AY$6,$W$4:$W$18,"<="&$AD12,$X$4:$X$18,">"&$AD12) -> 1 | BA12: =IF(AY12=AY11,"",IF(AY12>0,INDEX($S$4:$S$18,AY12,1)& IF(AZ12>1," - " & AZ12 &" Events overlap!",""),"")) -> Lafayette Haussmann Gallery | BB12: =IF(LEN(BC12)>0,INDEX($T$4:$T$18,AY12,1),"") -> Cultural | BC12: =IFERROR(IF(AY12>0,1,""),"") -> 1 | BD12: {=MIN(IF(($U$4:$U$18=BD$6)*($W$4:$W$18<=$AD12)*($X$4:$X$18>$AD12),$Q$4:$Q$18,""))} -> 8 | BE12: =COUNTIFS($U$4:$U$18,BD$6,$W$4:$W$18,"<="&$AD12,$X$4:$X$18,">"&$AD12) -> 1 | BF12: =IF(BD12=BD11,"",IF(BD12>0,INDEX($S$4:$S$18,BD12,1)& IF(BE12>1," - " & BE12 &" Events overlap!",""),"")) -> Visit to Lyon | BG12: =IF(LEN(BH12)>0,INDEX($T$4:$T$18,BD12,1),"") -> City sightseeing | BH12: =IFERROR(IF(BD12>0,1,""),"") -> 1 | BI12: {=MIN(IF(($U$4:$U$18=BI$6)*($W$4:$W$18<=$AD12)*($X$4:$X$18>$AD12),$Q$4:$Q$18,""))} -> 0 | BJ12: =COUNTIFS($U$4:$U$18,BI$6,$W$4:$W$18,"<="&$AD12,$X$4:$X$18,">"&$AD12) -> 0 | BK12: =IF(BI12=BI11,"",IF(BI12>0,INDEX($S$4:$S$18,BI12,1)& IF(BJ12>1," - " & BJ12 &" Events overlap!",""),"")) | BL12: =IF(LEN(BM12)>0,INDEX($T$4:$T$18,BI12,1),"") | BM12: =IFERROR(IF(BI12>0,1,""),"")
B13: 2 | C13: 2021 | D13: February | E13: Feb | F13: 2 | G13: =IFERROR(IF(MOD($C$4,4)=0,29,28),29) -> 29 | I13: Tuesday | J13: 2 | L13: =L12+step -> 0.1875 | N13: Day 10 | O13: =IFERROR(O12+1,"") -> 45411 | Q13: 10 | R13: =IF(Y13="","",RANK(Y13,$Y$4:$Y$1003,TRUE)+Q13/1000) -> 10.01 | S13: =INDEX(Planner!B$6:B$1005,$Q13,1)&"" -> Flight from Paris to New York | T13: =IFERROR(IF(R13="","",INDEX(Planner!F$6:F$1005,$Q13,1)&""),"") -> Flight | U13: =IF(ISNUMBER(INDEX(Planner!C$6:C$1005,$Q13,1)),INDEX(Planner!C$6:C$1005,$Q13,1),"") -> 45409 | V13: =IFERROR(U13,"") -> 45409 | W13: =IF(ISNUMBER(INDEX(Planner!D$6:D$1005,$Q13,1)),INDEX(Planner!D$6:D$1005,$Q13,1),"") -> 0.375 | X13: =IF(ISNUMBER(INDEX(Planner!E$6:E$1005,$Q13,1)),INDEX(Planner!E$6:E$1005,$Q13,1),"") -> 0.70833333 | Y13: =IFERROR(U13+W13,"") -> 45409.375 | Z13: =IFERROR(V13+X13,"") -> 45409.708 | AA13: =IFERROR(Z13-Y13,"") -> 0.33333333 | AB13: {=IFERROR((IF(LEN(S13)=0,"",SUM((Y13>=$Y$4:$Y$1003)*(Y13<=$Z$4:$Z$1003),(Z13>=$Y$4:$Y$1003)*(Z13<=$Z$4:$Z$1003)))),"")} -> 2 | AD13: =Schedule!C15 -> 0.39583333 | AE13: {=MIN(IF(($U$4:$U$18=AE$6)*($W$4:$W$18<=$AD13)*($X$4:$X$18>$AD13),$Q$4:$Q$18,""))} -> 1 | AF13: =COUNTIFS($U$4:$U$18,AE$6,$W$4:$W$18,"<="&$AD13,$X$4:$X$18,">"&$AD13) -> 1 | AG13: =IF(AE13=AE12,"",IF(AE13>0,INDEX($S$4:$S$18,AE13,1)& IF(AF13>1," - " & AF13 &" Events overlap!",""),"")) | AH13: =IF(LEN(AI13)>0,INDEX($T$4:$T$18,AE13,1),"") -> Flight | AI13: =IFERROR(IF(AE13>0,1,""),"") -> 1 | AJ13: {=MIN(IF(($U$4:$U$18=AJ$6)*($W$4:$W$18<=$AD13)*($X$4:$X$18>$AD13),$Q$4:$Q$18,""))} -> 2 | AK13: =COUNTIFS($U$4:$U$18,AJ$6,$W$4:$W$18,"<="&$AD13,$X$4:$X$18,">"&$AD13) -> 1 | AL13: =IF(AJ13=AJ12,"",IF(AJ13>0,INDEX($S$4:$S$18,AJ13,1)& IF(AK13>1," - " & AK13 &" Events overlap!",""),"")) | AM13: =IF(LEN(AN13)>0,INDEX($T$4:$T$18,AJ13,1),"") -> City sightseeing | AN13: =IFERROR(IF(AJ13>0,1,""),"") -> 1 | AO13: {=MIN(IF(($U$4:$U$18=AO$6)*($W$4:$W$18<=$AD13)*($X$4:$X$18>$AD13),$Q$4:$Q$18,""))} -> 0 | AP13: =COUNTIFS($U$4:$U$18,AO$6,$W$4:$W$18,"<="&$AD13,$X$4:$X$18,">"&$AD13) -> 0 | AQ13: =IF(AO13=AO12,"",IF(AO13>0,INDEX($S$4:$S$18,AO13,1)& IF(AP13>1," - " & AP13 &" Events overlap!",""),"")) | AR13: =IF(LEN(AS13)>0,INDEX($T$4:$T$18,AO13,1),"") | AS13: =IFERROR(IF(AO13>0,1,""),"") | AT13: {=MIN(IF(($U$4:$U$18=AT$6)*($W$4:$W$18<=$AD13)*($X$4:$X$18>$AD13),$Q$4:$Q$18,""))} -> 0 | AU13: =COUNTIFS($U$4:$U$18,AT$6,$W$4:$W$18,"<="&$AD13,$X$4:$X$18,">"&$AD13) -> 0 | AV13: =IF(AT13=AT12,"",IF(AT13>0,INDEX($S$4:$S$18,AT13,1)& IF(AU13>1," - " & AU13 &" Events overlap!",""),"")) | AW13: =IF(LEN(AX13)>0,INDEX($T$4:$T$18,AT13,1),"") | AX13: =IFERROR(IF(AT13>0,1,""),"") | AY13: {=MIN(IF(($U$4:$U$18=AY$6)*($W$4:$W$18<=$AD13)*($X$4:$X$18>$AD13),$Q$4:$Q$18,""))} -> 6 | AZ13: =COUNTIFS($U$4:$U$18,AY$6,$W$4:$W$18,"<="&$AD13,$X$4:$X$18,">"&$AD13) -> 1 | BA13: =IF(AY13=AY12,"",IF(AY13>0,INDEX($S$4:$S$18,AY13,1)& IF(AZ13>1," - " & AZ13 &" Events overlap!",""),"")) | BB13: =IF(LEN(BC13)>0,INDEX($T$4:$T$18,AY13,1),"") -> Cultural | BC13: =IFERROR(IF(AY13>0,1,""),"") -> 1 | BD13: {=MIN(IF(($U$4:$U$18=BD$6)*($W$4:$W$18<=$AD13)*($X$4:$X$18>$AD13),$Q$4:$Q$18,""))} -> 8 | BE13: =COUNTIFS($U$4:$U$18,BD$6,$W$4:$W$18,"<="&$AD13,$X$4:$X$18,">"&$AD13) -> 1 | BF13: =IF(BD13=BD12,"",IF(BD13>0,INDEX($S$4:$S$18,BD13,1)& IF(BE13>1," - " & BE13 &" Events overlap!",""),"")) | BG13: =IF(LEN(BH13)>0,INDEX($T$4:$T$18,BD13,1),"") -> City sightseeing | BH13: =IFERROR(IF(BD13>0,1,""),"") -> 1 | BI13: {=MIN(IF(($U$4:$U$18=BI$6)*($W$4:$W$18<=$AD13)*($X$4:$X$18>$AD13),$Q$4:$Q$18,""))} -> 0 | BJ13: =COUNTIFS($U$4:$U$18,BI$6,$W$4:$W$18,"<="&$AD13,$X$4:$X$18,">"&$AD13) -> 0 | BK13: =IF(BI13=BI12,"",IF(BI13>0,INDEX($S$4:$S$18,BI13,1)& IF(BJ13>1," - " & BJ13 &" Events overlap!",""),"")) | BL13: =IF(LEN(BM13)>0,INDEX($T$4:$T$18,BI13,1),"") | BM13: =IFERROR(IF(BI13>0,1,""),"")
B14: 3 | C14: 2022 | D14: March | E14: Mar | F14: 3 | G14: 31 | I14: Wednesday | J14: 3 | L14: =L13+step -> 0.20833333 | N14: Day 11 | O14: =IFERROR(O13+1,"") -> 45412 | Q14: 11 | R14: =IF(Y14="","",RANK(Y14,$Y$4:$Y$1003,TRUE)+Q14/1000) | S14: =INDEX(Planner!B$6:B$1005,$Q14,1)&"" | T14: =IFERROR(IF(R14="","",INDEX(Planner!F$6:F$1005,$Q14,1)&""),"") | U14: =IF(ISNUMBER(INDEX(Planner!C$6:C$1005,$Q14,1)),INDEX(Planner!C$6:C$1005,$Q14,1),"") | V14: =IFERROR(U14,"") | W14: =IF(ISNUMBER(INDEX(Planner!D$6:D$1005,$Q14,1)),INDEX(Planner!D$6:D$1005,$Q14,1),"") | X14: =IF(ISNUMBER(INDEX(Planner!E$6:E$1005,$Q14,1)),INDEX(Planner!E$6:E$1005,$Q14,1),"") | Y14: =IFERROR(U14+W14,"") | Z14: =IFERROR(V14+X14,"") | AA14: =IFERROR(Z14-Y14,"") | AB14: {=IFERROR((IF(LEN(S14)=0,"",SUM((Y14>=$Y$4:$Y$1003)*(Y14<=$Z$4:$Z$1003),(Z14>=$Y$4:$Y$1003)*(Z14<=$Z$4:$Z$1003)))),"")} | AD14: =Schedule!C16 -> 0.41666667 | AE14: {=MIN(IF(($U$4:$U$18=AE$6)*($W$4:$W$18<=$AD14)*($X$4:$X$18>$AD14),$Q$4:$Q$18,""))} -> 1 | AF14: =COUNTIFS($U$4:$U$18,AE$6,$W$4:$W$18,"<="&$AD14,$X$4:$X$18,">"&$AD14) -> 1 | AG14: =IF(AE14=AE13,"",IF(AE14>0,INDEX($S$4:$S$18,AE14,1)& IF(AF14>1," - " & AF14 &" Events overlap!",""),"")) | AH14: =IF(LEN(AI14)>0,INDEX($T$4:$T$18,AE14,1),"") -> Flight | AI14: =IFERROR(IF(AE14>0,1,""),"") -> 1 | AJ14: {=MIN(IF(($U$4:$U$18=AJ$6)*($W$4:$W$18<=$AD14)*($X$4:$X$18>$AD14),$Q$4:$Q$18,""))} -> 2 | AK14: =COUNTIFS($U$4:$U$18,AJ$6,$W$4:$W$18,"<="&$AD14,$X$4:$X$18,">"&$AD14) -> 1 | AL14: =IF(AJ14=AJ13,"",IF(AJ14>0,INDEX($S$4:$S$18,AJ14,1)& IF(AK14>1," - " & AK14 &" Events overlap!",""),"")) | AM14: =IF(LEN(AN14)>0,INDEX($T$4:$T$18,AJ14,1),"") -> City sightseeing | AN14: =IFERROR(IF(AJ14>0,1,""),"") -> 1 | AO14: {=MIN(IF(($U$4:$U$18=AO$6)*($W$4:$W$18<=$AD14)*($X$4:$X$18>$AD14),$Q$4:$Q$18,""))} -> 0 | AP14: =COUNTIFS($U$4:$U$18,AO$6,$W$4:$W$18,"<="&$AD14,$X$4:$X$18,">"&$AD14) -> 0 | AQ14: =IF(AO14=AO13,"",IF(AO14>0,INDEX($S$4:$S$18,AO14,1)& IF(AP14>1," - " & AP14 &" Events overlap!",""),"")) | AR14: =IF(LEN(AS14)>0,INDEX($T$4:$T$18,AO14,1),"") | AS14: =IFERROR(IF(AO14>0,1,""),"") | AT14: {=MIN(IF(($U$4:$U$18=AT$6)*($W$4:$W$18<=$AD14)*($X$4:$X$18>$AD14),$Q$4:$Q$18,""))} -> 0 | AU14: =COUNTIFS($U$4:$U$18,AT$6,$W$4:$W$18,"<="&$AD14,$X$4:$X$18,">"&$AD14) -> 0 | AV14: =IF(AT14=AT13,"",IF(AT14>0,INDEX($S$4:$S$18,AT14,1)& IF(AU14>1," - " & AU14 &" Events overlap!",""),"")) | AW14: =IF(LEN(AX14)>0,INDEX($T$4:$T$18,AT14,1),"") | AX14: =IFERROR(IF(AT14>0,1,""),"") | AY14: {=MIN(IF(($U$4:$U$18=AY$6)*($W$4:$W$18<=$AD14)*($X$4:$X$18>$AD14),$Q$4:$Q$18,""))} -> 0 | AZ14: =COUNTIFS($U$4:$U$18,AY$6,$W$4:$W$18,"<="&$AD14,$X$4:$X$18,">"&$AD14) -> 0 | BA14: =IF(AY14=AY13,"",IF(AY14>0,INDEX($S$4:$S$18,AY14,1)& IF(AZ14>1," - " & AZ14 &" Events overlap!",""),"")) | BB14: =IF(LEN(BC14)>0,INDEX($T$4:$T$18,AY14,1),"") | BC14: =IFERROR(IF(AY14>0,1,""),"") | BD14: {=MIN(IF(($U$4:$U$18=BD$6)*($W$4:$W$18<=$AD14)*($X$4:$X$18>$AD14),$Q$4:$Q$18,""))} -> 8 | BE14: =COUNTIFS($U$4:$U$18,BD$6,$W$4:$W$18,"<="&$AD14,$X$4:$X$18,">"&$AD14) -> 1 | BF14: =IF(BD14=BD13,"",IF(BD14>0,INDEX($S$4:$S$18,BD14,1)& IF(BE14>1," - " & BE14 &" Events overlap!",""),"")) | BG14: =IF(LEN(BH14)>0,INDEX($T$4:$T$18,BD14,1),"") -> City sightseeing | BH14: =IFERROR(IF(BD14>0,1,""),"") -> 1 | BI14: {=MIN(IF(($U$4:$U$18=BI$6)*($W$4:$W$18<=$AD14)*($X$4:$X$18>$AD14),$Q$4:$Q$18,""))} -> 0 | BJ14: =COUNTIFS($U$4:$U$18,BI$6,$W$4:$W$18,"<="&$AD14,$X$4:$X$18,">"&$AD14) -> 0 | BK14: =IF(BI14=BI13,"",IF(BI14>0,INDEX($S$4:$S$18,BI14,1)& IF(BJ14>1," - " & BJ14 &" Events overlap!",""),"")) | BL14: =IF(LEN(BM14)>0,INDEX($T$4:$T$18,BI14,1),"") | BM14: =IFERROR(IF(BI14>0,1,""),"")
B15: 4 | C15: 2023 | D15: April | E15: Apr | F15: 4 | G15: 30 | I15: Thursday | J15: 4 | L15: =L14+step -> 0.22916667 | N15: Day 12 | O15: =IFERROR(O14+1,"") -> 45413 | Q15: 12 | R15: =IF(Y15="","",RANK(Y15,$Y$4:$Y$1003,TRUE)+Q15/1000) | S15: =INDEX(Planner!B$6:B$1005,$Q15,1)&"" | T15: =IFERROR(IF(R15="","",INDEX(Planner!F$6:F$1005,$Q15,1)&""),"") | U15: =IF(ISNUMBER(INDEX(Planner!C$6:C$1005,$Q15,1)),INDEX(Planner!C$6:C$1005,$Q15,1),"") | V15: =IFERROR(U15,"") | W15: =IF(ISNUMBER(INDEX(Planner!D$6:D$1005,$Q15,1)),INDEX(Planner!D$6:D$1005,$Q15,1),"") | X15: =IF(ISNUMBER(INDEX(Planner!E$6:E$1005,$Q15,1)),INDEX(Planner!E$6:E$1005,$Q15,1),"") | Y15: =IFERROR(U15+W15,"") | Z15: =IFERROR(V15+X15,"") | AA15: =IFERROR(Z15-Y15,"") | AB15: {=IFERROR((IF(LEN(S15)=0,"",SUM((Y15>=$Y$4:$Y$1003)*(Y15<=$Z$4:$Z$1003),(Z15>=$Y$4:$Y$1003)*(Z15<=$Z$4:$Z$1003)))),"")} | AD15: =Schedule!C17 -> 0.4375 | AE15: {=MIN(IF(($U$4:$U$18=AE$6)*($W$4:$W$18<=$AD15)*($X$4:$X$18>$AD15),$Q$4:$Q$18,""))} -> 1 | AF15: =COUNTIFS($U$4:$U$18,AE$6,$W$4:$W$18,"<="&$AD15,$X$4:$X$18,">"&$AD15) -> 1 | AG15: =IF(AE15=AE14,"",IF(AE15>0,INDEX($S$4:$S$18,AE15,1)& IF(AF15>1," - " & AF15 &" Events overlap!",""),"")) | AH15: =IF(LEN(AI15)>0,INDEX($T$4:$T$18,AE15,1),"") -> Flight | AI15: =IFERROR(IF(AE15>0,1,""),"") -> 1 | AJ15: {=MIN(IF(($U$4:$U$18=AJ$6)*($W$4:$W$18<=$AD15)*($X$4:$X$18>$AD15),$Q$4:$Q$18,""))} -> 2 | AK15: =COUNTIFS($U$4:$U$18,AJ$6,$W$4:$W$18,"<="&$AD15,$X$4:$X$18,">"&$AD15) -> 1 | AL15: =IF(AJ15=AJ14,"",IF(AJ15>0,INDEX($S$4:$S$18,AJ15,1)& IF(AK15>1," - " & AK15 &" Events overlap!",""),"")) | AM15: =IF(LEN(AN15)>0,INDEX($T$4:$T$18,AJ15,1),"") -> City sightseeing | AN15: =IFERROR(IF(AJ15>0,1,""),"") -> 1 | AO15: {=MIN(IF(($U$4:$U$18=AO$6)*($W$4:$W$18<=$AD15)*($X$4:$X$18>$AD15),$Q$4:$Q$18,""))} -> 0 | AP15: =COUNTIFS($U$4:$U$18,AO$6,$W$4:$W$18,"<="&$AD15,$X$4:$X$18,">"&$AD15) -> 0 | AQ15: =IF(AO15=AO14,"",IF(AO15>0,INDEX($S$4:$S$18,AO15,1)& IF(AP15>1," - " & AP15 &" Events overlap!",""),"")) | AR15: =IF(LEN(AS15)>0,INDEX($T$4:$T$18,AO15,1),"") | AS15: =IFERROR(IF(AO15>0,1,""),"") | AT15: {=MIN(IF(($U$4:$U$18=AT$6)*($W$4:$W$18<=$AD15)*($X$4:$X$18>$AD15),$Q$4:$Q$18,""))} -> 0 | AU15: =COUNTIFS($U$4:$U$18,AT$6,$W$4:$W$18,"<="&$AD15,$X$4:$X$18,">"&$AD15) -> 0 | AV15: =IF(AT15=AT14,"",IF(AT15>0,INDEX($S$4:$S$18,AT15,1)& IF(AU15>1," - " & AU15 &" Events overlap!",""),"")) | AW15: =IF(LEN(AX15)>0,INDEX($T$4:$T$18,AT15,1),"") | AX15: =IFERROR(IF(AT15>0,1,""),"") | AY15: {=MIN(IF(($U$4:$U$18=AY$6)*($W$4:$W$18<=$AD15)*($X$4:$X$18>$AD15),$Q$4:$Q$18,""))} -> 0 | AZ15: =COUNTIFS($U$4:$U$18,AY$6,$W$4:$W$18,"<="&$AD15,$X$4:$X$18,">"&$AD15) -> 0 | BA15: =IF(AY15=AY14,"",IF(AY15>0,INDEX($S$4:$S$18,AY15,1)& IF(AZ15>1," - " & AZ15 &" Events overlap!",""),"")) | BB15: =IF(LEN(BC15)>0,INDEX($T$4:$T$18,AY15,1),"") | BC15: =IFERROR(IF(AY15>0,1,""),"") | BD15: {=MIN(IF(($U$4:$U$18=BD$6)*($W$4:$W$18<=$AD15)*($X$4:$X$18>$AD15),$Q$4:$Q$18,""))} -> 8 | BE15: =COUNTIFS($U$4:$U$18,BD$6,$W$4:$W$18,"<="&$AD15,$X$4:$X$18,">"&$AD15) -> 1 | BF15: =IF(BD15=BD14,"",IF(BD15>0,INDEX($S$4:$S$18,BD15,1)& IF(BE15>1," - " & BE15 &" Events overlap!",""),"")) | BG15: =IF(LEN(BH15)>0,INDEX($T$4:$T$18,BD15,1),"") -> City sightseeing | BH15: =IFERROR(IF(BD15>0,1,""),"") -> 1 | BI15: {=MIN(IF(($U$4:$U$18=BI$6)*($W$4:$W$18<=$AD15)*($X$4:$X$18>$AD15),$Q$4:$Q$18,""))} -> 0 | BJ15: =COUNTIFS($U$4:$U$18,BI$6,$W$4:$W$18,"<="&$AD15,$X$4:$X$18,">"&$AD15) -> 0 | BK15: =IF(BI15=BI14,"",IF(BI15>0,INDEX($S$4:$S$18,BI15,1)& IF(BJ15>1," - " & BJ15 &" Events overlap!",""),"")) | BL15: =IF(LEN(BM15)>0,INDEX($T$4:$T$18,BI15,1),"") | BM15: =IFERROR(IF(BI15>0,1,""),"")
B16: 5 | C16: 2024 | D16: May | E16: May | F16: 5 | G16: 31 | I16: Friday | J16: 5 | L16: =L15+step -> 0.25 | N16: Day 13 | O16: =IFERROR(O15+1,"") -> 45414 | Q16: 13 | R16: =IF(Y16="","",RANK(Y16,$Y$4:$Y$1003,TRUE)+Q16/1000) | S16: =INDEX(Planner!B$6:B$1005,$Q16,1)&"" | T16: =IFERROR(IF(R16="","",INDEX(Planner!F$6:F$1005,$Q16,1)&""),"") | U16: =IF(ISNUMBER(INDEX(Planner!C$6:C$1005,$Q16,1)),INDEX(Planner!C$6:C$1005,$Q16,1),"") | V16: =IFERROR(U16,"") | W16: =IF(ISNUMBER(INDEX(Planner!D$6:D$1005,$Q16,1)),INDEX(Planner!D$6:D$1005,$Q16,1),"") | X16: =IF(ISNUMBER(INDEX(Planner!E$6:E$1005,$Q16,1)),INDEX(Planner!E$6:E$1005,$Q16,1),"") | Y16: =IFERROR(U16+W16,"") | Z16: =IFERROR(V16+X16,"") | AA16: =IFERROR(Z16-Y16,"") | AB16: {=IFERROR((IF(LEN(S16)=0,"",SUM((Y16>=$Y$4:$Y$1003)*(Y16<=$Z$4:$Z$1003),(Z16>=$Y$4:$Y$1003)*(Z16<=$Z$4:$Z$1003)))),"")} | AD16: =Schedule!C18 -> 0.45833333 | AE16: {=MIN(IF(($U$4:$U$18=AE$6)*($W$4:$W$18<=$AD16)*($X$4:$X$18>$AD16),$Q$4:$Q$18,""))} -> 1 | AF16: =COUNTIFS($U$4:$U$18,AE$6,$W$4:$W$18,"<="&$AD16,$X$4:$X$18,">"&$AD16) -> 1 | AG16: =IF(AE16=AE15,"",IF(AE16>0,INDEX($S$4:$S$18,AE16,1)& IF(AF16>1," - " & AF16 &" Events overlap!",""),"")) | AH16: =IF(LEN(AI16)>0,INDEX($T$4:$T$18,AE16,1),"") -> Flight | AI16: =IFERROR(IF(AE16>0,1,""),"") -> 1 | AJ16: {=MIN(IF(($U$4:$U$18=AJ$6)*($W$4:$W$18<=$AD16)*($X$4:$X$18>$AD16),$Q$4:$Q$18,""))} -> 2 | AK16: =COUNTIFS($U$4:$U$18,AJ$6,$W$4:$W$18,"<="&$AD16,$X$4:$X$18,">"&$AD16) -> 1 | AL16: =IF(AJ16=AJ15,"",IF(AJ16>0,INDEX($S$4:$S$18,AJ16,1)& IF(AK16>1," - " & AK16 &" Events overlap!",""),"")) | AM16: =IF(LEN(AN16)>0,INDEX($T$4:$T$18,AJ16,1),"") -> City sightseeing | AN16: =IFERROR(IF(AJ16>0,1,""),"") -> 1 | AO16: {=MIN(IF(($U$4:$U$18=AO$6)*($W$4:$W$18<=$AD16)*($X$4:$X$18>$AD16),$Q$4:$Q$18,""))} -> 4 | AP16: =COUNTIFS($U$4:$U$18,AO$6,$W$4:$W$18,"<="&$AD16,$X$4:$X$18,">"&$AD16) -> 1 | AQ16: =IF(AO16=AO15,"",IF(AO16>0,INDEX($S$4:$S$18,AO16,1)& IF(AP16>1," - " & AP16 &" Events overlap!",""),"")) -> Visit to Disneyland | AR16: =IF(LEN(AS16)>0,INDEX($T$4:$T$18,AO16,1),"") -> Amusement | AS16: =IFERROR(IF(AO16>0,1,""),"") -> 1 | AT16: {=MIN(IF(($U$4:$U$18=AT$6)*($W$4:$W$18<=$AD16)*($X$4:$X$18>$AD16),$Q$4:$Q$18,""))} -> 0 | AU16: =COUNTIFS($U$4:$U$18,AT$6,$W$4:$W$18,"<="&$AD16,$X$4:$X$18,">"&$AD16) -> 0 | AV16: =IF(AT16=AT15,"",IF(AT16>0,INDEX($S$4:$S$18,AT16,1)& IF(AU16>1," - " & AU16 &" Events overlap!",""),"")) | AW16: =IF(LEN(AX16)>0,INDEX($T$4:$T$18,AT16,1),"") | AX16: =IFERROR(IF(AT16>0,1,""),"") | AY16: {=MIN(IF(($U$4:$U$18=AY$6)*($W$4:$W$18<=$AD16)*($X$4:$X$18>$AD16),$Q$4:$Q$18,""))} -> 0 | AZ16: =COUNTIFS($U$4:$U$18,AY$6,$W$4:$W$18,"<="&$AD16,$X$4:$X$18,">"&$AD16) -> 0 | BA16: =IF(AY16=AY15,"",IF(AY16>0,INDEX($S$4:$S$18,AY16,1)& IF(AZ16>1," - " & AZ16 &" Events overlap!",""),"")) | BB16: =IF(LEN(BC16)>0,INDEX($T$4:$T$18,AY16,1),"") | BC16: =IFERROR(IF(AY16>0,1,""),"") | BD16: {=MIN(IF(($U$4:$U$18=BD$6)*($W$4:$W$18<=$AD16)*($X$4:$X$18>$AD16),$Q$4:$Q$18,""))} -> 8 | BE16: =COUNTIFS($U$4:$U$18,BD$6,$W$4:$W$18,"<="&$AD16,$X$4:$X$18,">"&$AD16) -> 1 | BF16: =IF(BD16=BD15,"",IF(BD16>0,INDEX($S$4:$S$18,BD16,1)& IF(BE16>1," - " & BE16 &" Events overlap!",""),"")) | BG16: =IF(LEN(BH16)>0,INDEX($T$4:$T$18,BD16,1),"") -> City sightseeing | BH16: =IFERROR(IF(BD16>0,1,""),"") -> 1 | BI16: {=MIN(IF(($U$4:$U$18=BI$6)*($W$4:$W$18<=$AD16)*($X$4:$X$18>$AD16),$Q$4:$Q$18,""))} -> 0 | BJ16: =COUNTIFS($U$4:$U$18,BI$6,$W$4:$W$18,"<="&$AD16,$X$4:$X$18,">"&$AD16) -> 0 | BK16: =IF(BI16=BI15,"",IF(BI16>0,INDEX($S$4:$S$18,BI16,1)& IF(BJ16>1," - " & BJ16 &" Events overlap!",""),"")) | BL16: =IF(LEN(BM16)>0,INDEX($T$4:$T$18,BI16,1),"") | BM16: =IFERROR(IF(BI16>0,1,""),"")
B17: 6 | C17: 2025 | D17: June | E17: Jun | F17: 6 | G17: 30 | I17: Saturday | J17: 6 | L17: =L16+step -> 0.27083333 | N17: Day 14 | O17: =IFERROR(O16+1,"") -> 45415 | Q17: 14 | R17: =IF(Y17="","",RANK(Y17,$Y$4:$Y$1003,TRUE)+Q17/1000) | S17: =INDEX(Planner!B$6:B$1005,$Q17,1)&"" | T17: =IFERROR(IF(R17="","",INDEX(Planner!F$6:F$1005,$Q17,1)&""),"") | U17: =IF(ISNUMBER(INDEX(Planner!C$6:C$1005,$Q17,1)),INDEX(Planner!C$6:C$1005,$Q17,1),"") | V17: =IFERROR(U17,"") | W17: =IF(ISNUMBER(INDEX(Planner!D$6:D$1005,$Q17,1)),INDEX(Planner!D$6:D$1005,$Q17,1),"") | X17: =IF(ISNUMBER(INDEX(Planner!E$6:E$1005,$Q17,1)),INDEX(Planner!E$6:E$1005,$Q17,1),"") | Y17: =IFERROR(U17+W17,"") | Z17: =IFERROR(V17+X17,"") | AA17: =IFERROR(Z17-Y17,"") | AB17: {=IFERROR((IF(LEN(S17)=0,"",SUM((Y17>=$Y$4:$Y$1003)*(Y17<=$Z$4:$Z$1003),(Z17>=$Y$4:$Y$1003)*(Z17<=$Z$4:$Z$1003)))),"")} | AD17: =Schedule!C19 -> 0.47916667 | AE17: {=MIN(IF(($U$4:$U$18=AE$6)*($W$4:$W$18<=$AD17)*($X$4:$X$18>$AD17),$Q$4:$Q$18,""))} -> 1 | AF17: =COUNTIFS($U$4:$U$18,AE$6,$W$4:$W$18,"<="&$AD17,$X$4:$X$18,">"&$AD17) -> 1 | AG17: =IF(AE17=AE16,"",IF(AE17>0,INDEX($S$4:$S$18,AE17,1)& IF(AF17>1," - " & AF17 &" Events overlap!",""),"")) | AH17: =IF(LEN(AI17)>0,INDEX($T$4:$T$18,AE17,1),"") -> Flight | AI17: =IFERROR(IF(AE17>0,1,""),"") -> 1 | AJ17: {=MIN(IF(($U$4:$U$18=AJ$6)*($W$4:$W$18<=$AD17)*($X$4:$X$18>$AD17),$Q$4:$Q$18,""))} -> 2 | AK17: =COUNTIFS($U$4:$U$18,AJ$6,$W$4:$W$18,"<="&$AD17,$X$4:$X$18,">"&$AD17) -> 1 | AL17: =IF(AJ17=AJ16,"",IF(AJ17>0,INDEX($S$4:$S$18,AJ17,1)& IF(AK17>1," - " & AK17 &" Events overlap!",""),"")) | AM17: =IF(LEN(AN17)>0,INDEX($T$4:$T$18,AJ17,1),"") -> City sightseeing | AN17: =IFERROR(IF(AJ17>0,1,""),"") -> 1 | AO17: {=MIN(IF(($U$4:$U$18=AO$6)*($W$4:$W$18<=$AD17)*($X$4:$X$18>$AD17),$Q$4:$Q$18,""))} -> 4 | AP17: =COUNTIFS($U$4:$U$18,AO$6,$W$4:$W$18,"<="&$AD17,$X$4:$X$18,">"&$AD17) -> 1 | AQ17: =IF(AO17=AO16,"",IF(AO17>0,INDEX($S$4:$S$18,AO17,1)& IF(AP17>1," - " & AP17 &" Events overlap!",""),"")) | AR17: =IF(LEN(AS17)>0,INDEX($T$4:$T$18,AO17,1),"") -> Amusement | AS17: =IFERROR(IF(AO17>0,1,""),"") -> 1 | AT17: {=MIN(IF(($U$4:$U$18=AT$6)*($W$4:$W$18<=$AD17)*($X$4:$X$18>$AD17),$Q$4:$Q$18,""))} -> 0 | AU17: =COUNTIFS($U$4:$U$18,AT$6,$W$4:$W$18,"<="&$AD17,$X$4:$X$18,">"&$AD17) -> 0 | AV17: =IF(AT17=AT16,"",IF(AT17>0,INDEX($S$4:$S$18,AT17,1)& IF(AU17>1," - " & AU17 &" Events overlap!",""),"")) | AW17: =IF(LEN(AX17)>0,INDEX($T$4:$T$18,AT17,1),"") | AX17: =IFERROR(IF(AT17>0,1,""),"") | AY17: {=MIN(IF(($U$4:$U$18=AY$6)*($W$4:$W$18<=$AD17)*($X$4:$X$18>$AD17),$Q$4:$Q$18,""))} -> 0 | AZ17: =COUNTIFS($U$4:$U$18,AY$6,$W$4:$W$18,"<="&$AD17,$X$4:$X$18,">"&$AD17) -> 0 | BA17: =IF(AY17=AY16,"",IF(AY17>0,INDEX($S$4:$S$18,AY17,1)& IF(AZ17>1," - " & AZ17 &" Events overlap!",""),"")) | BB17: =IF(LEN(BC17)>0,INDEX($T$4:$T$18,AY17,1),"") | BC17: =IFERROR(IF(AY17>0,1,""),"") | BD17: {=MIN(IF(($U$4:$U$18=BD$6)*($W$4:$W$18<=$AD17)*($X$4:$X$18>$AD17),$Q$4:$Q$18,""))} -> 8 | BE17: =COUNTIFS($U$4:$U$18,BD$6,$W$4:$W$18,"<="&$AD17,$X$4:$X$18,">"&$AD17) -> 1 | BF17: =IF(BD17=BD16,"",IF(BD17>0,INDEX($S$4:$S$18,BD17,1)& IF(BE17>1," - " & BE17 &" Events overlap!",""),"")) | BG17: =IF(LEN(BH17)>0,INDEX($T$4:$T$18,BD17,1),"") -> City sightseeing | BH17: =IFERROR(IF(BD17>0,1,""),"") -> 1 | BI17: {=MIN(IF(($U$4:$U$18=BI$6)*($W$4:$W$18<=$AD17)*($X$4:$X$18>$AD17),$Q$4:$Q$18,""))} -> 0 | BJ17: =COUNTIFS($U$4:$U$18,BI$6,$W$4:$W$18,"<="&$AD17,$X$4:$X$18,">"&$AD17) -> 0 | BK17: =IF(BI17=BI16,"",IF(BI17>0,INDEX($S$4:$S$18,BI17,1)& IF(BJ17>1," - " & BJ17 &" Events overlap!",""),"")) | BL17: =IF(LEN(BM17)>0,INDEX($T$4:$T$18,BI17,1),"") | BM17: =IFERROR(IF(BI17>0,1,""),"")
B18: 7 | C18: 2026 | D18: July | E18: Jul | F18: 7 | G18: 31 | I18: Sunday | J18: 7 | L18: =L17+step -> 0.29166667 | N18: Day 15 | O18: =IFERROR(O17+1,"") -> 45416 | Q18: 15 | R18: =IF(Y18="","",RANK(Y18,$Y$4:$Y$1003,TRUE)+Q18/1000) | S18: =INDEX(Planner!B$6:B$1005,$Q18,1)&"" | T18: =IFERROR(IF(R18="","",INDEX(Planner!F$6:F$1005,$Q18,1)&""),"") | U18: =IF(ISNUMBER(INDEX(Planner!C$6:C$1005,$Q18,1)),INDEX(Planner!C$6:C$1005,$Q18,1),"") | V18: =IFERROR(U18,"") | W18: =IF(ISNUMBER(INDEX(Planner!D$6:D$1005,$Q18,1)),INDEX(Planner!D$6:D$1005,$Q18,1),"") | X18: =IF(ISNUMBER(INDEX(Planner!E$6:E$1005,$Q18,1)),INDEX(Planner!E$6:E$1005,$Q18,1),"") | Y18: =IFERROR(U18+W18,"") | Z18: =IFERROR(V18+X18,"") | AA18: =IFERROR(Z18-Y18,"") | AB18: {=IFERROR((IF(LEN(S18)=0,"",SUM((Y18>=$Y$4:$Y$1003)*(Y18<=$Z$4:$Z$1003),(Z18>=$Y$4:$Y$1003)*(Z18<=$Z$4:$Z$1003)))),"")} | AD18: =Schedule!C20 -> 0.5 | AE18: {=MIN(IF(($U$4:$U$18=AE$6)*($W$4:$W$18<=$AD18)*($X$4:$X$18>$AD18),$Q$4:$Q$18,""))} -> 1 | AF18: =COUNTIFS($U$4:$U$18,AE$6,$W$4:$W$18,"<="&$AD18,$X$4:$X$18,">"&$AD18) -> 1 | AG18: =IF(AE18=AE17,"",IF(AE18>0,INDEX($S$4:$S$18,AE18,1)& IF(AF18>1," - " & AF18 &" Events overlap!",""),"")) | AH18: =IF(LEN(AI18)>0,INDEX($T$4:$T$18,AE18,1),"") -> Flight | AI18: =IFERROR(IF(AE18>0,1,""),"") -> 1 | AJ18: {=MIN(IF(($U$4:$U$18=AJ$6)*($W$4:$W$18<=$AD18)*($X$4:$X$18>$AD18),$Q$4:$Q$18,""))} -> 2 | AK18: =COUNTIFS($U$4:$U$18,AJ$6,$W$4:$W$18,"<="&$AD18,$X$4:$X$18,">"&$AD18) -> 1 | AL18: =IF(AJ18=AJ17,"",IF(AJ18>0,INDEX($S$4:$S$18,AJ18,1)& IF(AK18>1," - " & AK18 &" Events overlap!",""),"")) | AM18: =IF(LEN(AN18)>0,INDEX($T$4:$T$18,AJ18,1),"") -> City sightseeing | AN18: =IFERROR(IF(AJ18>0,1,""),"") -> 1 | AO18: {=MIN(IF(($U$4:$U$18=AO$6)*($W$4:$W$18<=$AD18)*($X$4:$X$18>$AD18),$Q$4:$Q$18,""))} -> 4 | AP18: =COUNTIFS($U$4:$U$18,AO$6,$W$4:$W$18,"<="&$AD18,$X$4:$X$18,">"&$AD18) -> 1 | AQ18: =IF(AO18=AO17,"",IF(AO18>0,INDEX($S$4:$S$18,AO18,1)& IF(AP18>1," - " & AP18 &" Events overlap!",""),"")) | AR18: =IF(LEN(AS18)>0,INDEX($T$4:$T$18,AO18,1),"") -> Amusement | AS18: =IFERROR(IF(AO18>0,1,""),"") -> 1 | AT18: {=MIN(IF(($U$4:$U$18=AT$6)*($W$4:$W$18<=$AD18)*($X$4:$X$18>$AD18),$Q$4:$Q$18,""))} -> 0 | AU18: =COUNTIFS($U$4:$U$18,AT$6,$W$4:$W$18,"<="&$AD18,$X$4:$X$18,">"&$AD18) -> 0 | AV18: =IF(AT18=AT17,"",IF(AT18>0,INDEX($S$4:$S$18,AT18,1)& IF(AU18>1," - " & AU18 &" Events overlap!",""),"")) | AW18: =IF(LEN(AX18)>0,INDEX($T$4:$T$18,AT18,1),"") | AX18: =IFERROR(IF(AT18>0,1,""),"") | AY18: {=MIN(IF(($U$4:$U$18=AY$6)*($W$4:$W$18<=$AD18)*($X$4:$X$18>$AD18),$Q$4:$Q$18,""))} -> 0 | AZ18: =COUNTIFS($U$4:$U$18,AY$6,$W$4:$W$18,"<="&$AD18,$X$4:$X$18,">"&$AD18) -> 0 | BA18: =IF(AY18=AY17,"",IF(AY18>0,INDEX($S$4:$S$18,AY18,1)& IF(AZ18>1," - " & AZ18 &" Events overlap!",""),"")) | BB18: =IF(LEN(BC18)>0,INDEX($T$4:$T$18,AY18,1),"") | BC18: =IFERROR(IF(AY18>0,1,""),"") | BD18: {=MIN(IF(($U$4:$U$18=BD$6)*($W$4:$W$18<=$AD18)*($X$4:$X$18>$AD18),$Q$4:$Q$18,""))} -> 8 | BE18: =COUNTIFS($U$4:$U$18,BD$6,$W$4:$W$18,"<="&$AD18,$X$4:$X$18,">"&$AD18) -> 1 | BF18: =IF(BD18=BD17,"",IF(BD18>0,INDEX($S$4:$S$18,BD18,1)& IF(BE18>1," - " & BE18 &" Events overlap!",""),"")) | BG18: =IF(LEN(BH18)>0,INDEX($T$4:$T$18,BD18,1),"") -> City sightseeing | BH18: =IFERROR(IF(BD18>0,1,""),"") -> 1 | BI18: {=MIN(IF(($U$4:$U$18=BI$6)*($W$4:$W$18<=$AD18)*($X$4:$X$18>$AD18),$Q$4:$Q$18,""))} -> 0 | BJ18: =COUNTIFS($U$4:$U$18,BI$6,$W$4:$W$18,"<="&$AD18,$X$4:$X$18,">"&$AD18) -> 0 | BK18: =IF(BI18=BI17,"",IF(BI18>0,INDEX($S$4:$S$18,BI18,1)& IF(BJ18>1," - " & BJ18 &" Events overlap!",""),"")) | BL18: =IF(LEN(BM18)>0,INDEX($T$4:$T$18,BI18,1),"") | BM18: =IFERROR(IF(BI18>0,1,""),"")
B19: 8 | C19: 2027 | D19: August | E19: Aug | F19: 8 | G19: 31 | L19: =L18+step -> 0.3125 | N19: Day 16 | O19: =IFERROR(O18+1,"") -> 45417 | AD19: =Schedule!C21 -> 0.52083333 | AE19: {=MIN(IF(($U$4:$U$18=AE$6)*($W$4:$W$18<=$AD19)*($X$4:$X$18>$AD19),$Q$4:$Q$18,""))} -> 1 | AF19: =COUNTIFS($U$4:$U$18,AE$6,$W$4:$W$18,"<="&$AD19,$X$4:$X$18,">"&$AD19) -> 1 | AG19: =IF(AE19=AE18,"",IF(AE19>0,INDEX($S$4:$S$18,AE19,1)& IF(AF19>1," - " & AF19 &" Events overlap!",""),"")) | AH19: =IF(LEN(AI19)>0,INDEX($T$4:$T$18,AE19,1),"") -> Flight | AI19: =IFERROR(IF(AE19>0,1,""),"") -> 1 | AJ19: {=MIN(IF(($U$4:$U$18=AJ$6)*($W$4:$W$18<=$AD19)*($X$4:$X$18>$AD19),$Q$4:$Q$18,""))} -> 2 | AK19: =COUNTIFS($U$4:$U$18,AJ$6,$W$4:$W$18,"<="&$AD19,$X$4:$X$18,">"&$AD19) -> 1 | AL19: =IF(AJ19=AJ18,"",IF(AJ19>0,INDEX($S$4:$S$18,AJ19,1)& IF(AK19>1," - " & AK19 &" Events overlap!",""),"")) | AM19: =IF(LEN(AN19)>0,INDEX($T$4:$T$18,AJ19,1),"") -> City sightseeing | AN19: =IFERROR(IF(AJ19>0,1,""),"") -> 1 | AO19: {=MIN(IF(($U$4:$U$18=AO$6)*($W$4:$W$18<=$AD19)*($X$4:$X$18>$AD19),$Q$4:$Q$18,""))} -> 4 | AP19: =COUNTIFS($U$4:$U$18,AO$6,$W$4:$W$18,"<="&$AD19,$X$4:$X$18,">"&$AD19) -> 1 | AQ19: =IF(AO19=AO18,"",IF(AO19>0,INDEX($S$4:$S$18,AO19,1)& IF(AP19>1," - " & AP19 &" Events overlap!",""),"")) | AR19: =IF(LEN(AS19)>0,INDEX($T$4:$T$18,AO19,1),"") -> Amusement | AS19: =IFERROR(IF(AO19>0,1,""),"") -> 1 | AT19: {=MIN(IF(($U$4:$U$18=AT$6)*($W$4:$W$18<=$AD19)*($X$4:$X$18>$AD19),$Q$4:$Q$18,""))} -> 0 | AU19: =COUNTIFS($U$4:$U$18,AT$6,$W$4:$W$18,"<="&$AD19,$X$4:$X$18,">"&$AD19) -> 0 | AV19: =IF(AT19=AT18,"",IF(AT19>0,INDEX($S$4:$S$18,AT19,1)& IF(AU19>1," - " & AU19 &" Events overlap!",""),"")) | AW19: =IF(LEN(AX19)>0,INDEX($T$4:$T$18,AT19,1),"") | AX19: =IFERROR(IF(AT19>0,1,""),"") | AY19: {=MIN(IF(($U$4:$U$18=AY$6)*($W$4:$W$18<=$AD19)*($X$4:$X$18>$AD19),$Q$4:$Q$18,""))} -> 0 | AZ19: =COUNTIFS($U$4:$U$18,AY$6,$W$4:$W$18,"<="&$AD19,$X$4:$X$18,">"&$AD19) -> 0 | BA19: =IF(AY19=AY18,"",IF(AY19>0,INDEX($S$4:$S$18,AY19,1)& IF(AZ19>1," - " & AZ19 &" Events overlap!",""),"")) | BB19: =IF(LEN(BC19)>0,INDEX($T$4:$T$18,AY19,1),"") | BC19: =IFERROR(IF(AY19>0,1,""),"") | BD19: {=MIN(IF(($U$4:$U$18=BD$6)*($W$4:$W$18<=$AD19)*($X$4:$X$18>$AD19),$Q$4:$Q$18,""))} -> 8 | BE19: =COUNTIFS($U$4:$U$18,BD$6,$W$4:$W$18,"<="&$AD19,$X$4:$X$18,">"&$AD19) -> 1 | BF19: =IF(BD19=BD18,"",IF(BD19>0,INDEX($S$4:$S$18,BD19,1)& IF(BE19>1," - " & BE19 &" Events overlap!",""),"")) | BG19: =IF(LEN(BH19)>0,INDEX($T$4:$T$18,BD19,1),"") -> City sightseeing | BH19: =IFERROR(IF(BD19>0,1,""),"") -> 1 | BI19: {=MIN(IF(($U$4:$U$18=BI$6)*($W$4:$W$18<=$AD19)*($X$4:$X$18>$AD19),$Q$4:$Q$18,""))} -> 0 | BJ19: =COUNTIFS($U$4:$U$18,BI$6,$W$4:$W$18,"<="&$AD19,$X$4:$X$18,">"&$AD19) -> 0 | BK19: =IF(BI19=BI18,"",IF(BI19>0,INDEX($S$4:$S$18,BI19,1)& IF(BJ19>1," - " & BJ19 &" Events overlap!",""),"")) | BL19: =IF(LEN(BM19)>0,INDEX($T$4:$T$18,BI19,1),"") | BM19: =IFERROR(IF(BI19>0,1,""),"")
B20: 9 | C20: 2028 | D20: September | E20: Sep | F20: 9 | G20: 30 | L20: =L19+step -> 0.33333333 | N20: Day 17 | O20: =IFERROR(O19+1,"") -> 45418 | AD20: =Schedule!C22 -> 0.54166667 | AE20: {=MIN(IF(($U$4:$U$18=AE$6)*($W$4:$W$18<=$AD20)*($X$4:$X$18>$AD20),$Q$4:$Q$18,""))} -> 1 | AF20: =COUNTIFS($U$4:$U$18,AE$6,$W$4:$W$18,"<="&$AD20,$X$4:$X$18,">"&$AD20) -> 1 | AG20: =IF(AE20=AE19,"",IF(AE20>0,INDEX($S$4:$S$18,AE20,1)& IF(AF20>1," - " & AF20 &" Events overlap!",""),"")) | AH20: =IF(LEN(AI20)>0,INDEX($T$4:$T$18,AE20,1),"") -> Flight | AI20: =IFERROR(IF(AE20>0,1,""),"") -> 1 | AJ20: {=MIN(IF(($U$4:$U$18=AJ$6)*($W$4:$W$18<=$AD20)*($X$4:$X$18>$AD20),$Q$4:$Q$18,""))} -> 0 | AK20: =COUNTIFS($U$4:$U$18,AJ$6,$W$4:$W$18,"<="&$AD20,$X$4:$X$18,">"&$AD20) -> 0 | AL20: =IF(AJ20=AJ19,"",IF(AJ20>0,INDEX($S$4:$S$18,AJ20,1)& IF(AK20>1," - " & AK20 &" Events overlap!",""),"")) | AM20: =IF(LEN(AN20)>0,INDEX($T$4:$T$18,AJ20,1),"") | AN20: =IFERROR(IF(AJ20>0,1,""),"") | AO20: {=MIN(IF(($U$4:$U$18=AO$6)*($W$4:$W$18<=$AD20)*($X$4:$X$18>$AD20),$Q$4:$Q$18,""))} -> 4 | AP20: =COUNTIFS($U$4:$U$18,AO$6,$W$4:$W$18,"<="&$AD20,$X$4:$X$18,">"&$AD20) -> 1 | AQ20: =IF(AO20=AO19,"",IF(AO20>0,INDEX($S$4:$S$18,AO20,1)& IF(AP20>1," - " & AP20 &" Events overlap!",""),"")) | AR20: =IF(LEN(AS20)>0,INDEX($T$4:$T$18,AO20,1),"") -> Amusement | AS20: =IFERROR(IF(AO20>0,1,""),"") -> 1 | AT20: {=MIN(IF(($U$4:$U$18=AT$6)*($W$4:$W$18<=$AD20)*($X$4:$X$18>$AD20),$Q$4:$Q$18,""))} -> 0 | AU20: =COUNTIFS($U$4:$U$18,AT$6,$W$4:$W$18,"<="&$AD20,$X$4:$X$18,">"&$AD20) -> 0 | AV20: =IF(AT20=AT19,"",IF(AT20>0,INDEX($S$4:$S$18,AT20,1)& IF(AU20>1," - " & AU20 &" Events overlap!",""),"")) | AW20: =IF(LEN(AX20)>0,INDEX($T$4:$T$18,AT20,1),"") | AX20: =IFERROR(IF(AT20>0,1,""),"") | AY20: {=MIN(IF(($U$4:$U$18=AY$6)*($W$4:$W$18<=$AD20)*($X$4:$X$18>$AD20),$Q$4:$Q$18,""))} -> 0 | AZ20: =COUNTIFS($U$4:$U$18,AY$6,$W$4:$W$18,"<="&$AD20,$X$4:$X$18,">"&$AD20) -> 0 | BA20: =IF(AY20=AY19,"",IF(AY20>0,INDEX($S$4:$S$18,AY20,1)& IF(AZ20>1," - " & AZ20 &" Events overlap!",""),"")) | BB20: =IF(LEN(BC20)>0,INDEX($T$4:$T$18,AY20,1),"") | BC20: =IFERROR(IF(AY20>0,1,""),"") | BD20: {=MIN(IF(($U$4:$U$18=BD$6)*($W$4:$W$18<=$AD20)*($X$4:$X$18>$AD20),$Q$4:$Q$18,""))} -> 8 | BE20: =COUNTIFS($U$4:$U$18,BD$6,$W$4:$W$18,"<="&$AD20,$X$4:$X$18,">"&$AD20) -> 1 | BF20: =IF(BD20=BD19,"",IF(BD20>0,INDEX($S$4:$S$18,BD20,1)& IF(BE20>1," - " & BE20 &" Events overlap!",""),"")) | BG20: =IF(LEN(BH20)>0,INDEX($T$4:$T$18,BD20,1),"") -> City sightseeing | BH20: =IFERROR(IF(BD20>0,1,""),"") -> 1 | BI20: {=MIN(IF(($U$4:$U$18=BI$6)*($W$4:$W$18<=$AD20)*($X$4:$X$18>$AD20),$Q$4:$Q$18,""))} -> 0 | BJ20: =COUNTIFS($U$4:$U$18,BI$6,$W$4:$W$18,"<="&$AD20,$X$4:$X$18,">"&$AD20) -> 0 | BK20: =IF(BI20=BI19,"",IF(BI20>0,INDEX($S$4:$S$18,BI20,1)& IF(BJ20>1," - " & BJ20 &" Events overlap!",""),"")) | BL20: =IF(LEN(BM20)>0,INDEX($T$4:$T$18,BI20,1),"") | BM20: =IFERROR(IF(BI20>0,1,""),"")
B21: 10 | C21: 2029 | D21: October | E21: Oct | F21: 10 | G21: 31 | I21: Step Setting | L21: =L20+step -> 0.35416667 | N21: Day 18 | O21: =IFERROR(O20+1,"") -> 45419 | AD21: =Schedule!C23 -> 0.5625 | AE21: {=MIN(IF(($U$4:$U$18=AE$6)*($W$4:$W$18<=$AD21)*($X$4:$X$18>$AD21),$Q$4:$Q$18,""))} -> 1 | AF21: =COUNTIFS($U$4:$U$18,AE$6,$W$4:$W$18,"<="&$AD21,$X$4:$X$18,">"&$AD21) -> 1 | AG21: =IF(AE21=AE20,"",IF(AE21>0,INDEX($S$4:$S$18,AE21,1)& IF(AF21>1," - " & AF21 &" Events overlap!",""),"")) | AH21: =IF(LEN(AI21)>0,INDEX($T$4:$T$18,AE21,1),"") -> Flight | AI21: =IFERROR(IF(AE21>0,1,""),"") -> 1 | AJ21: {=MIN(IF(($U$4:$U$18=AJ$6)*($W$4:$W$18<=$AD21)*($X$4:$X$18>$AD21),$Q$4:$Q$18,""))} -> 0 | AK21: =COUNTIFS($U$4:$U$18,AJ$6,$W$4:$W$18,"<="&$AD21,$X$4:$X$18,">"&$AD21) -> 0 | AL21: =IF(AJ21=AJ20,"",IF(AJ21>0,INDEX($S$4:$S$18,AJ21,1)& IF(AK21>1," - " & AK21 &" Events overlap!",""),"")) | AM21: =IF(LEN(AN21)>0,INDEX($T$4:$T$18,AJ21,1),"") | AN21: =IFERROR(IF(AJ21>0,1,""),"") | AO21: {=MIN(IF(($U$4:$U$18=AO$6)*($W$4:$W$18<=$AD21)*($X$4:$X$18>$AD21),$Q$4:$Q$18,""))} -> 4 | AP21: =COUNTIFS($U$4:$U$18,AO$6,$W$4:$W$18,"<="&$AD21,$X$4:$X$18,">"&$AD21) -> 1 | AQ21: =IF(AO21=AO20,"",IF(AO21>0,INDEX($S$4:$S$18,AO21,1)& IF(AP21>1," - " & AP21 &" Events overlap!",""),"")) | AR21: =IF(LEN(AS21)>0,INDEX($T$4:$T$18,AO21,1),"") -> Amusement | AS21: =IFERROR(IF(AO21>0,1,""),"") -> 1 | AT21: {=MIN(IF(($U$4:$U$18=AT$6)*($W$4:$W$18<=$AD21)*($X$4:$X$18>$AD21),$Q$4:$Q$18,""))} -> 0 | AU21: =COUNTIFS($U$4:$U$18,AT$6,$W$4:$W$18,"<="&$AD21,$X$4:$X$18,">"&$AD21) -> 0 | AV21: =IF(AT21=AT20,"",IF(AT21>0,INDEX($S$4:$S$18,AT21,1)& IF(AU21>1," - " & AU21 &" Events overlap!",""),"")) | AW21: =IF(LEN(AX21)>0,INDEX($T$4:$T$18,AT21,1),"") | AX21: =IFERROR(IF(AT21>0,1,""),"") | AY21: {=MIN(IF(($U$4:$U$18=AY$6)*($W$4:$W$18<=$AD21)*($X$4:$X$18>$AD21),$Q$4:$Q$18,""))} -> 0 | AZ21: =COUNTIFS($U$4:$U$18,AY$6,$W$4:$W$18,"<="&$AD21,$X$4:$X$18,">"&$AD21) -> 0 | BA21: =IF(AY21=AY20,"",IF(AY21>0,INDEX($S$4:$S$18,AY21,1)& IF(AZ21>1," - " & AZ21 &" Events overlap!",""),"")) | BB21: =IF(LEN(BC21)>0,INDEX($T$4:$T$18,AY21,1),"") | BC21: =IFERROR(IF(AY21>0,1,""),"") | BD21: {=MIN(IF(($U$4:$U$18=BD$6)*($W$4:$W$18<=$AD21)*($X$4:$X$18>$AD21),$Q$4:$Q$18,""))} -> 8 | BE21: =COUNTIFS($U$4:$U$18,BD$6,$W$4:$W$18,"<="&$AD21,$X$4:$X$18,">"&$AD21) -> 1 | BF21: =IF(BD21=BD20,"",IF(BD21>0,INDEX($S$4:$S$18,BD21,1)& IF(BE21>1," - " & BE21 &" Events overlap!",""),"")) | BG21: =IF(LEN(BH21)>0,INDEX($T$4:$T$18,BD21,1),"") -> City sightseeing | BH21: =IFERROR(IF(BD21>0,1,""),"") -> 1 | BI21: {=MIN(IF(($U$4:$U$18=BI$6)*($W$4:$W$18<=$AD21)*($X$4:$X$18>$AD21),$Q$4:$Q$18,""))} -> 0 | BJ21: =COUNTIFS($U$4:$U$18,BI$6,$W$4:$W$18,"<="&$AD21,$X$4:$X$18,">"&$AD21) -> 0 | BK21: =IF(BI21=BI20,"",IF(BI21>0,INDEX($S$4:$S$18,BI21,1)& IF(BJ21>1," - " & BJ21 &" Events overlap!",""),"")) | BL21: =IF(LEN(BM21)>0,INDEX($T$4:$T$18,BI21,1),"") | BM21: =IFERROR(IF(BI21>0,1,""),"")
B22: 11 | C22: 2030 | D22: November | E22: Nov | F22: 11 | G22: 30 | I22: =I25-I24 -> 0.020833333 | L22: =L21+step -> 0.375 | N22: Day 19 | O22: =IFERROR(O21+1,"") -> 45420 | AD22: =Schedule!C24 -> 0.58333333 | AE22: {=MIN(IF(($U$4:$U$18=AE$6)*($W$4:$W$18<=$AD22)*($X$4:$X$18>$AD22),$Q$4:$Q$18,""))} -> 1 | AF22: =COUNTIFS($U$4:$U$18,AE$6,$W$4:$W$18,"<="&$AD22,$X$4:$X$18,">"&$AD22) -> 1 | AG22: =IF(AE22=AE21,"",IF(AE22>0,INDEX($S$4:$S$18,AE22,1)& IF(AF22>1," - " & AF22 &" Events overlap!",""),"")) | AH22: =IF(LEN(AI22)>0,INDEX($T$4:$T$18,AE22,1),"") -> Flight | AI22: =IFERROR(IF(AE22>0,1,""),"") -> 1 | AJ22: {=MIN(IF(($U$4:$U$18=AJ$6)*($W$4:$W$18<=$AD22)*($X$4:$X$18>$AD22),$Q$4:$Q$18,""))} -> 0 | AK22: =COUNTIFS($U$4:$U$18,AJ$6,$W$4:$W$18,"<="&$AD22,$X$4:$X$18,">"&$AD22) -> 0 | AL22: =IF(AJ22=AJ21,"",IF(AJ22>0,INDEX($S$4:$S$18,AJ22,1)& IF(AK22>1," - " & AK22 &" Events overlap!",""),"")) | AM22: =IF(LEN(AN22)>0,INDEX($T$4:$T$18,AJ22,1),"") | AN22: =IFERROR(IF(AJ22>0,1,""),"") | AO22: {=MIN(IF(($U$4:$U$18=AO$6)*($W$4:$W$18<=$AD22)*($X$4:$X$18>$AD22),$Q$4:$Q$18,""))} -> 4 | AP22: =COUNTIFS($U$4:$U$18,AO$6,$W$4:$W$18,"<="&$AD22,$X$4:$X$18,">"&$AD22) -> 1 | AQ22: =IF(AO22=AO21,"",IF(AO22>0,INDEX($S$4:$S$18,AO22,1)& IF(AP22>1," - " & AP22 &" Events overlap!",""),"")) | AR22: =IF(LEN(AS22)>0,INDEX($T$4:$T$18,AO22,1),"") -> Amusement | AS22: =IFERROR(IF(AO22>0,1,""),"") -> 1 | AT22: {=MIN(IF(($U$4:$U$18=AT$6)*($W$4:$W$18<=$AD22)*($X$4:$X$18>$AD22),$Q$4:$Q$18,""))} -> 0 | AU22: =COUNTIFS($U$4:$U$18,AT$6,$W$4:$W$18,"<="&$AD22,$X$4:$X$18,">"&$AD22) -> 0 | AV22: =IF(AT22=AT21,"",IF(AT22>0,INDEX($S$4:$S$18,AT22,1)& IF(AU22>1," - " & AU22 &" Events overlap!",""),"")) | AW22: =IF(LEN(AX22)>0,INDEX($T$4:$T$18,AT22,1),"") | AX22: =IFERROR(IF(AT22>0,1,""),"") | AY22: {=MIN(IF(($U$4:$U$18=AY$6)*($W$4:$W$18<=$AD22)*($X$4:$X$18>$AD22),$Q$4:$Q$18,""))} -> 7 | AZ22: =COUNTIFS($U$4:$U$18,AY$6,$W$4:$W$18,"<="&$AD22,$X$4:$X$18,">"&$AD22) -> 1 | BA22: =IF(AY22=AY21,"",IF(AY22>0,INDEX($S$4:$S$18,AY22,1)& IF(AZ22>1," - " & AZ22 &" Events overlap!",""),"")) -> Père Lachaise | BB22: =IF(LEN(BC22)>0,INDEX($T$4:$T$18,AY22,1),"") -> City sightseeing | BC22: =IFERROR(IF(AY22>0,1,""),"") -> 1 | BD22: {=MIN(IF(($U$4:$U$18=BD$6)*($W$4:$W$18<=$AD22)*($X$4:$X$18>$AD22),$Q$4:$Q$18,""))} -> 8 | BE22: =COUNTIFS($U$4:$U$18,BD$6,$W$4:$W$18,"<="&$AD22,$X$4:$X$18,">"&$AD22) -> 1 | BF22: =IF(BD22=BD21,"",IF(BD22>0,INDEX($S$4:$S$18,BD22,1)& IF(BE22>1," - " & BE22 &" Events overlap!",""),"")) | BG22: =IF(LEN(BH22)>0,INDEX($T$4:$T$18,BD22,1),"") -> City sightseeing | BH22: =IFERROR(IF(BD22>0,1,""),"") -> 1 | BI22: {=MIN(IF(($U$4:$U$18=BI$6)*($W$4:$W$18<=$AD22)*($X$4:$X$18>$AD22),$Q$4:$Q$18,""))} -> 9 | BJ22: =COUNTIFS($U$4:$U$18,BI$6,$W$4:$W$18,"<="&$AD22,$X$4:$X$18,">"&$AD22) -> 1 | BK22: =IF(BI22=BI21,"",IF(BI22>0,INDEX($S$4:$S$18,BI22,1)& IF(BJ22>1," - " & BJ22 &" Events overlap!",""),"")) -> Shopping at Champs-Elysées | BL22: =IF(LEN(BM22)>0,INDEX($T$4:$T$18,BI22,1),"") -> Shopping | BM22: =IFERROR(IF(BI22>0,1,""),"") -> 1
B23: 12 | C23: 2031 | D23: December | E23: Dec | F23: 12 | G23: 31 | L23: =L22+step -> 0.39583333 | N23: Day 20 | O23: =IFERROR(O22+1,"") -> 45421 | AD23: =Schedule!C25 -> 0.60416667 | AE23: {=MIN(IF(($U$4:$U$18=AE$6)*($W$4:$W$18<=$AD23)*($X$4:$X$18>$AD23),$Q$4:$Q$18,""))} -> 1 | AF23: =COUNTIFS($U$4:$U$18,AE$6,$W$4:$W$18,"<="&$AD23,$X$4:$X$18,">"&$AD23) -> 1 | AG23: =IF(AE23=AE22,"",IF(AE23>0,INDEX($S$4:$S$18,AE23,1)& IF(AF23>1," - " & AF23 &" Events overlap!",""),"")) | AH23: =IF(LEN(AI23)>0,INDEX($T$4:$T$18,AE23,1),"") -> Flight | AI23: =IFERROR(IF(AE23>0,1,""),"") -> 1 | AJ23: {=MIN(IF(($U$4:$U$18=AJ$6)*($W$4:$W$18<=$AD23)*($X$4:$X$18>$AD23),$Q$4:$Q$18,""))} -> 0 | AK23: =COUNTIFS($U$4:$U$18,AJ$6,$W$4:$W$18,"<="&$AD23,$X$4:$X$18,">"&$AD23) -> 0 | AL23: =IF(AJ23=AJ22,"",IF(AJ23>0,INDEX($S$4:$S$18,AJ23,1)& IF(AK23>1," - " & AK23 &" Events overlap!",""),"")) | AM23: =IF(LEN(AN23)>0,INDEX($T$4:$T$18,AJ23,1),"") | AN23: =IFERROR(IF(AJ23>0,1,""),"") | AO23: {=MIN(IF(($U$4:$U$18=AO$6)*($W$4:$W$18<=$AD23)*($X$4:$X$18>$AD23),$Q$4:$Q$18,""))} -> 4 | AP23: =COUNTIFS($U$4:$U$18,AO$6,$W$4:$W$18,"<="&$AD23,$X$4:$X$18,">"&$AD23) -> 1 | AQ23: =IF(AO23=AO22,"",IF(AO23>0,INDEX($S$4:$S$18,AO23,1)& IF(AP23>1," - " & AP23 &" Events overlap!",""),"")) | AR23: =IF(LEN(AS23)>0,INDEX($T$4:$T$18,AO23,1),"") -> Amusement | AS23: =IFERROR(IF(AO23>0,1,""),"") -> 1 | AT23: {=MIN(IF(($U$4:$U$18=AT$6)*($W$4:$W$18<=$AD23)*($X$4:$X$18>$AD23),$Q$4:$Q$18,""))} -> 0 | AU23: =COUNTIFS($U$4:$U$18,AT$6,$W$4:$W$18,"<="&$AD23,$X$4:$X$18,">"&$AD23) -> 0 | AV23: =IF(AT23=AT22,"",IF(AT23>0,INDEX($S$4:$S$18,AT23,1)& IF(AU23>1," - " & AU23 &" Events overlap!",""),"")) | AW23: =IF(LEN(AX23)>0,INDEX($T$4:$T$18,AT23,1),"") | AX23: =IFERROR(IF(AT23>0,1,""),"") | AY23: {=MIN(IF(($U$4:$U$18=AY$6)*($W$4:$W$18<=$AD23)*($X$4:$X$18>$AD23),$Q$4:$Q$18,""))} -> 7 | AZ23: =COUNTIFS($U$4:$U$18,AY$6,$W$4:$W$18,"<="&$AD23,$X$4:$X$18,">"&$AD23) -> 1 | BA23: =IF(AY23=AY22,"",IF(AY23>0,INDEX($S$4:$S$18,AY23,1)& IF(AZ23>1," - " & AZ23 &" Events overlap!",""),"")) | BB23: =IF(LEN(BC23)>0,INDEX($T$4:$T$18,AY23,1),"") -> City sightseeing | BC23: =IFERROR(IF(AY23>0,1,""),"") -> 1 | BD23: {=MIN(IF(($U$4:$U$18=BD$6)*($W$4:$W$18<=$AD23)*($X$4:$X$18>$AD23),$Q$4:$Q$18,""))} -> 8 | BE23: =COUNTIFS($U$4:$U$18,BD$6,$W$4:$W$18,"<="&$AD23,$X$4:$X$18,">"&$AD23) -> 1 | BF23: =IF(BD23=BD22,"",IF(BD23>0,INDEX($S$4:$S$18,BD23,1)& IF(BE23>1," - " & BE23 &" Events overlap!",""),"")) | BG23: =IF(LEN(BH23)>0,INDEX($T$4:$T$18,BD23,1),"") -> City sightseeing | BH23: =IFERROR(IF(BD23>0,1,""),"") -> 1 | BI23: {=MIN(IF(($U$4:$U$18=BI$6)*($W$4:$W$18<=$AD23)*($X$4:$X$18>$AD23),$Q$4:$Q$18,""))} -> 9 | BJ23: =COUNTIFS($U$4:$U$18,BI$6,$W$4:$W$18,"<="&$AD23,$X$4:$X$18,">"&$AD23) -> 1 | BK23: =IF(BI23=BI22,"",IF(BI23>0,INDEX($S$4:$S$18,BI23,1)& IF(BJ23>1," - " & BJ23 &" Events overlap!",""),"")) | BL23: =IF(LEN(BM23)>0,INDEX($T$4:$T$18,BI23,1),"") -> Shopping | BM23: =IFERROR(IF(BI23>0,1,""),"") -> 1
B24: 13 | C24: 2032 | I24: 0.33333333 | L24: =L23+step -> 0.41666667 | N24: Day 21 | O24: =IFERROR(O23+1,"") -> 45422 | AD24: =Schedule!C26 -> 0.625 | AE24: {=MIN(IF(($U$4:$U$18=AE$6)*($W$4:$W$18<=$AD24)*($X$4:$X$18>$AD24),$Q$4:$Q$18,""))} -> 1 | AF24: =COUNTIFS($U$4:$U$18,AE$6,$W$4:$W$18,"<="&$AD24,$X$4:$X$18,">"&$AD24) -> 1 | AG24: =IF(AE24=AE23,"",IF(AE24>0,INDEX($S$4:$S$18,AE24,1)& IF(AF24>1," - " & AF24 &" Events overlap!",""),"")) | AH24: =IF(LEN(AI24)>0,INDEX($T$4:$T$18,AE24,1),"") -> Flight | AI24: =IFERROR(IF(AE24>0,1,""),"") -> 1 | AJ24: {=MIN(IF(($U$4:$U$18=AJ$6)*($W$4:$W$18<=$AD24)*($X$4:$X$18>$AD24),$Q$4:$Q$18,""))} -> 3 | AK24: =COUNTIFS($U$4:$U$18,AJ$6,$W$4:$W$18,"<="&$AD24,$X$4:$X$18,">"&$AD24) -> 1 | AL24: =IF(AJ24=AJ23,"",IF(AJ24>0,INDEX($S$4:$S$18,AJ24,1)& IF(AK24>1," - " & AK24 &" Events overlap!",""),"")) -> Visit to Louvre Museum | AM24: =IF(LEN(AN24)>0,INDEX($T$4:$T$18,AJ24,1),"") -> Cultural | AN24: =IFERROR(IF(AJ24>0,1,""),"") -> 1 | AO24: {=MIN(IF(($U$4:$U$18=AO$6)*($W$4:$W$18<=$AD24)*($X$4:$X$18>$AD24),$Q$4:$Q$18,""))} -> 4 | AP24: =COUNTIFS($U$4:$U$18,AO$6,$W$4:$W$18,"<="&$AD24,$X$4:$X$18,">"&$AD24) -> 1 | AQ24: =IF(AO24=AO23,"",IF(AO24>0,INDEX($S$4:$S$18,AO24,1)& IF(AP24>1," - " & AP24 &" Events overlap!",""),"")) | AR24: =IF(LEN(AS24)>0,INDEX($T$4:$T$18,AO24,1),"") -> Amusement | AS24: =IFERROR(IF(AO24>0,1,""),"") -> 1 | AT24: {=MIN(IF(($U$4:$U$18=AT$6)*($W$4:$W$18<=$AD24)*($X$4:$X$18>$AD24),$Q$4:$Q$18,""))} -> 0 | AU24: =COUNTIFS($U$4:$U$18,AT$6,$W$4:$W$18,"<="&$AD24,$X$4:$X$18,">"&$AD24) -> 0 | AV24: =IF(AT24=AT23,"",IF(AT24>0,INDEX($S$4:$S$18,AT24,1)& IF(AU24>1," - " & AU24 &" Events overlap!",""),"")) | AW24: =IF(LEN(AX24)>0,INDEX($T$4:$T$18,AT24,1),"") | AX24: =IFERROR(IF(AT24>0,1,""),"") | AY24: {=MIN(IF(($U$4:$U$18=AY$6)*($W$4:$W$18<=$AD24)*($X$4:$X$18>$AD24),$Q$4:$Q$18,""))} -> 7 | AZ24: =COUNTIFS($U$4:$U$18,AY$6,$W$4:$W$18,"<="&$AD24,$X$4:$X$18,">"&$AD24) -> 1 | BA24: =IF(AY24=AY23,"",IF(AY24>0,INDEX($S$4:$S$18,AY24,1)& IF(AZ24>1," - " & AZ24 &" Events overlap!",""),"")) | BB24: =IF(LEN(BC24)>0,INDEX($T$4:$T$18,AY24,1),"") -> City sightseeing | BC24: =IFERROR(IF(AY24>0,1,""),"") -> 1 | BD24: {=MIN(IF(($U$4:$U$18=BD$6)*($W$4:$W$18<=$AD24)*($X$4:$X$18>$AD24),$Q$4:$Q$18,""))} -> 8 | BE24: =COUNTIFS($U$4:$U$18,BD$6,$W$4:$W$18,"<="&$AD24,$X$4:$X$18,">"&$AD24) -> 1 | BF24: =IF(BD24=BD23,"",IF(BD24>0,INDEX($S$4:$S$18,BD24,1)& IF(BE24>1," - " & BE24 &" Events overlap!",""),"")) | BG24: =IF(LEN(BH24)>0,INDEX($T$4:$T$18,BD24,1),"") -> City sightseeing | BH24: =IFERROR(IF(BD24>0,1,""),"") -> 1 | BI24: {=MIN(IF(($U$4:$U$18=BI$6)*($W$4:$W$18<=$AD24)*($X$4:$X$18>$AD24),$Q$4:$Q$18,""))} -> 9 | BJ24: =COUNTIFS($U$4:$U$18,BI$6,$W$4:$W$18,"<="&$AD24,$X$4:$X$18,">"&$AD24) -> 1 | BK24: =IF(BI24=BI23,"",IF(BI24>0,INDEX($S$4:$S$18,BI24,1)& IF(BJ24>1," - " & BJ24 &" Events overlap!",""),"")) | BL24: =IF(LEN(BM24)>0,INDEX($T$4:$T$18,BI24,1),"") -> Shopping | BM24: =IFERROR(IF(BI24>0,1,""),"") -> 1
B25: 14 | C25: 2033 | I25: 0.35416667 | L25: =L24+step -> 0.4375 | N25: Day 22 | O25: =IFERROR(O24+1,"") -> 45423 | AD25: =Schedule!C27 -> 0.64583333 | AE25: {=MIN(IF(($U$4:$U$18=AE$6)*($W$4:$W$18<=$AD25)*($X$4:$X$18>$AD25),$Q$4:$Q$18,""))} -> 1 | AF25: =COUNTIFS($U$4:$U$18,AE$6,$W$4:$W$18,"<="&$AD25,$X$4:$X$18,">"&$AD25) -> 1 | AG25: =IF(AE25=AE24,"",IF(AE25>0,INDEX($S$4:$S$18,AE25,1)& IF(AF25>1," - " & AF25 &" Events overlap!",""),"")) | AH25: =IF(LEN(AI25)>0,INDEX($T$4:$T$18,AE25,1),"") -> Flight | AI25: =IFERROR(IF(AE25>0,1,""),"") -> 1 | AJ25: {=MIN(IF(($U$4:$U$18=AJ$6)*($W$4:$W$18<=$AD25)*($X$4:$X$18>$AD25),$Q$4:$Q$18,""))} -> 3 | AK25: =COUNTIFS($U$4:$U$18,AJ$6,$W$4:$W$18,"<="&$AD25,$X$4:$X$18,">"&$AD25) -> 1 | AL25: =IF(AJ25=AJ24,"",IF(AJ25>0,INDEX($S$4:$S$18,AJ25,1)& IF(AK25>1," - " & AK25 &" Events overlap!",""),"")) | AM25: =IF(LEN(AN25)>0,INDEX($T$4:$T$18,AJ25,1),"") -> Cultural | AN25: =IFERROR(IF(AJ25>0,1,""),"") -> 1 | AO25: {=MIN(IF(($U$4:$U$18=AO$6)*($W$4:$W$18<=$AD25)*($X$4:$X$18>$AD25),$Q$4:$Q$18,""))} -> 4 | AP25: =COUNTIFS($U$4:$U$18,AO$6,$W$4:$W$18,"<="&$AD25,$X$4:$X$18,">"&$AD25) -> 1 | AQ25: =IF(AO25=AO24,"",IF(AO25>0,INDEX($S$4:$S$18,AO25,1)& IF(AP25>1," - " & AP25 &" Events overlap!",""),"")) | AR25: =IF(LEN(AS25)>0,INDEX($T$4:$T$18,AO25,1),"") -> Amusement | AS25: =IFERROR(IF(AO25>0,1,""),"") -> 1 | AT25: {=MIN(IF(($U$4:$U$18=AT$6)*($W$4:$W$18<=$AD25)*($X$4:$X$18>$AD25),$Q$4:$Q$18,""))} -> 0 | AU25: =COUNTIFS($U$4:$U$18,AT$6,$W$4:$W$18,"<="&$AD25,$X$4:$X$18,">"&$AD25) -> 0 | AV25: =IF(AT25=AT24,"",IF(AT25>0,INDEX($S$4:$S$18,AT25,1)& IF(AU25>1," - " & AU25 &" Events overlap!",""),"")) | AW25: =IF(LEN(AX25)>0,INDEX($T$4:$T$18,AT25,1),"") | AX25: =IFERROR(IF(AT25>0,1,""),"") | AY25: {=MIN(IF(($U$4:$U$18=AY$6)*($W$4:$W$18<=$AD25)*($X$4:$X$18>$AD25),$Q$4:$Q$18,""))} -> 7 | AZ25: =COUNTIFS($U$4:$U$18,AY$6,$W$4:$W$18,"<="&$AD25,$X$4:$X$18,">"&$AD25) -> 1 | BA25: =IF(AY25=AY24,"",IF(AY25>0,INDEX($S$4:$S$18,AY25,1)& IF(AZ25>1," - " & AZ25 &" Events overlap!",""),"")) | BB25: =IF(LEN(BC25)>0,INDEX($T$4:$T$18,AY25,1),"") -> City sightseeing | BC25: =IFERROR(IF(AY25>0,1,""),"") -> 1 | BD25: {=MIN(IF(($U$4:$U$18=BD$6)*($W$4:$W$18<=$AD25)*($X$4:$X$18>$AD25),$Q$4:$Q$18,""))} -> 8 | BE25: =COUNTIFS($U$4:$U$18,BD$6,$W$4:$W$18,"<="&$AD25,$X$4:$X$18,">"&$AD25) -> 1 | BF25: =IF(BD25=BD24,"",IF(BD25>0,INDEX($S$4:$S$18,BD25,1)& IF(BE25>1," - " & BE25 &" Events overlap!",""),"")) | BG25: =IF(LEN(BH25)>0,INDEX($T$4:$T$18,BD25,1),"") -> City sightseeing | BH25: =IFERROR(IF(BD25>0,1,""),"") -> 1 | BI25: {=MIN(IF(($U$4:$U$18=BI$6)*($W$4:$W$18<=$AD25)*($X$4:$X$18>$AD25),$Q$4:$Q$18,""))} -> 9 | BJ25: =COUNTIFS($U$4:$U$18,BI$6,$W$4:$W$18,"<="&$AD25,$X$4:$X$18,">"&$AD25) -> 1 | BK25: =IF(BI25=BI24,"",IF(BI25>0,INDEX($S$4:$S$18,BI25,1)& IF(BJ25>1," - " & BJ25 &" Events overlap!",""),"")) | BL25: =IF(LEN(BM25)>0,INDEX($T$4:$T$18,BI25,1),"") -> Shopping | BM25: =IFERROR(IF(BI25>0,1,""),"") -> 1
B26: 15 | C26: 2034 | L26: =L25+step -> 0.45833333 | N26: Day 23 | O26: =IFERROR(O25+1,"") -> 45424 | AD26: =Schedule!C28 -> 0.66666667 | AE26: {=MIN(IF(($U$4:$U$18=AE$6)*($W$4:$W$18<=$AD26)*($X$4:$X$18>$AD26),$Q$4:$Q$18,""))} -> 0 | AF26: =COUNTIFS($U$4:$U$18,AE$6,$W$4:$W$18,"<="&$AD26,$X$4:$X$18,">"&$AD26) -> 0 | AG26: =IF(AE26=AE25,"",IF(AE26>0,INDEX($S$4:$S$18,AE26,1)& IF(AF26>1," - " & AF26 &" Events overlap!",""),"")) | AH26: =IF(LEN(AI26)>0,INDEX($T$4:$T$18,AE26,1),"") | AI26: =IFERROR(IF(AE26>0,1,""),"") | AJ26: {=MIN(IF(($U$4:$U$18=AJ$6)*($W$4:$W$18<=$AD26)*($X$4:$X$18>$AD26),$Q$4:$Q$18,""))} -> 3 | AK26: =COUNTIFS($U$4:$U$18,AJ$6,$W$4:$W$18,"<="&$AD26,$X$4:$X$18,">"&$AD26) -> 1 | AL26: =IF(AJ26=AJ25,"",IF(AJ26>0,INDEX($S$4:$S$18,AJ26,1)& IF(AK26>1," - " & AK26 &" Events overlap!",""),"")) | AM26: =IF(LEN(AN26)>0,INDEX($T$4:$T$18,AJ26,1),"") -> Cultural | AN26: =IFERROR(IF(AJ26>0,1,""),"") -> 1 | AO26: {=MIN(IF(($U$4:$U$18=AO$6)*($W$4:$W$18<=$AD26)*($X$4:$X$18>$AD26),$Q$4:$Q$18,""))} -> 0 | AP26: =COUNTIFS($U$4:$U$18,AO$6,$W$4:$W$18,"<="&$AD26,$X$4:$X$18,">"&$AD26) -> 0 | AQ26: =IF(AO26=AO25,"",IF(AO26>0,INDEX($S$4:$S$18,AO26,1)& IF(AP26>1," - " & AP26 &" Events overlap!",""),"")) | AR26: =IF(LEN(AS26)>0,INDEX($T$4:$T$18,AO26,1),"") | AS26: =IFERROR(IF(AO26>0,1,""),"") | AT26: {=MIN(IF(($U$4:$U$18=AT$6)*($W$4:$W$18<=$AD26)*($X$4:$X$18>$AD26),$Q$4:$Q$18,""))} -> 0 | AU26: =COUNTIFS($U$4:$U$18,AT$6,$W$4:$W$18,"<="&$AD26,$X$4:$X$18,">"&$AD26) -> 0 | AV26: =IF(AT26=AT25,"",IF(AT26>0,INDEX($S$4:$S$18,AT26,1)& IF(AU26>1," - " & AU26 &" Events overlap!",""),"")) | AW26: =IF(LEN(AX26)>0,INDEX($T$4:$T$18,AT26,1),"") | AX26: =IFERROR(IF(AT26>0,1,""),"") | AY26: {=MIN(IF(($U$4:$U$18=AY$6)*($W$4:$W$18<=$AD26)*($X$4:$X$18>$AD26),$Q$4:$Q$18,""))} -> 0 | AZ26: =COUNTIFS($U$4:$U$18,AY$6,$W$4:$W$18,"<="&$AD26,$X$4:$X$18,">"&$AD26) -> 0 | BA26: =IF(AY26=AY25,"",IF(AY26>0,INDEX($S$4:$S$18,AY26,1)& IF(AZ26>1," - " & AZ26 &" Events overlap!",""),"")) | BB26: =IF(LEN(BC26)>0,INDEX($T$4:$T$18,AY26,1),"") | BC26: =IFERROR(IF(AY26>0,1,""),"") | BD26: {=MIN(IF(($U$4:$U$18=BD$6)*($W$4:$W$18<=$AD26)*($X$4:$X$18>$AD26),$Q$4:$Q$18,""))} -> 0 | BE26: =COUNTIFS($U$4:$U$18,BD$6,$W$4:$W$18,"<="&$AD26,$X$4:$X$18,">"&$AD26) -> 0 | BF26: =IF(BD26=BD25,"",IF(BD26>0,INDEX($S$4:$S$18,BD26,1)& IF(BE26>1," - " & BE26 &" Events overlap!",""),"")) | BG26: =IF(LEN(BH26)>0,INDEX($T$4:$T$18,BD26,1),"") | BH26: =IFERROR(IF(BD26>0,1,""),"") | BI26: {=MIN(IF(($U$4:$U$18=BI$6)*($W$4:$W$18<=$AD26)*($X$4:$X$18>$AD26),$Q$4:$Q$18,""))} -> 0 | BJ26: =COUNTIFS($U$4:$U$18,BI$6,$W$4:$W$18,"<="&$AD26,$X$4:$X$18,">"&$AD26) -> 0 | BK26: =IF(BI26=BI25,"",IF(BI26>0,INDEX($S$4:$S$18,BI26,1)& IF(BJ26>1," - " & BJ26 &" Events overlap!",""),"")) | BL26: =IF(LEN(BM26)>0,INDEX($T$4:$T$18,BI26,1),"") | BM26: =IFERROR(IF(BI26>0,1,""),"")
B27: 16 | C27: 2035 | I27: Event Type Number | L27: =L26+step -> 0.47916667 | N27: Day 24 | O27: =IFERROR(O26+1,"") -> 45425 | AD27: =Schedule!C29 -> 0.6875 | AE27: {=MIN(IF(($U$4:$U$18=AE$6)*($W$4:$W$18<=$AD27)*($X$4:$X$18>$AD27),$Q$4:$Q$18,""))} -> 0 | AF27: =COUNTIFS($U$4:$U$18,AE$6,$W$4:$W$18,"<="&$AD27,$X$4:$X$18,">"&$AD27) -> 0 | AG27: =IF(AE27=AE26,"",IF(AE27>0,INDEX($S$4:$S$18,AE27,1)& IF(AF27>1," - " & AF27 &" Events overlap!",""),"")) | AH27: =IF(LEN(AI27)>0,INDEX($T$4:$T$18,AE27,1),"") | AI27: =IFERROR(IF(AE27>0,1,""),"") | AJ27: {=MIN(IF(($U$4:$U$18=AJ$6)*($W$4:$W$18<=$AD27)*($X$4:$X$18>$AD27),$Q$4:$Q$18,""))} -> 3 | AK27: =COUNTIFS($U$4:$U$18,AJ$6,$W$4:$W$18,"<="&$AD27,$X$4:$X$18,">"&$AD27) -> 1 | AL27: =IF(AJ27=AJ26,"",IF(AJ27>0,INDEX($S$4:$S$18,AJ27,1)& IF(AK27>1," - " & AK27 &" Events overlap!",""),"")) | AM27: =IF(LEN(AN27)>0,INDEX($T$4:$T$18,AJ27,1),"") -> Cultural | AN27: =IFERROR(IF(AJ27>0,1,""),"") -> 1 | AO27: {=MIN(IF(($U$4:$U$18=AO$6)*($W$4:$W$18<=$AD27)*($X$4:$X$18>$AD27),$Q$4:$Q$18,""))} -> 0 | AP27: =COUNTIFS($U$4:$U$18,AO$6,$W$4:$W$18,"<="&$AD27,$X$4:$X$18,">"&$AD27) -> 0 | AQ27: =IF(AO27=AO26,"",IF(AO27>0,INDEX($S$4:$S$18,AO27,1)& IF(AP27>1," - " & AP27 &" Events overlap!",""),"")) | AR27: =IF(LEN(AS27)>0,INDEX($T$4:$T$18,AO27,1),"") | AS27: =IFERROR(IF(AO27>0,1,""),"") | AT27: {=MIN(IF(($U$4:$U$18=AT$6)*($W$4:$W$18<=$AD27)*($X$4:$X$18>$AD27),$Q$4:$Q$18,""))} -> 0 | AU27: =COUNTIFS($U$4:$U$18,AT$6,$W$4:$W$18,"<="&$AD27,$X$4:$X$18,">"&$AD27) -> 0 | AV27: =IF(AT27=AT26,"",IF(AT27>0,INDEX($S$4:$S$18,AT27,1)& IF(AU27>1," - " & AU27 &" Events overlap!",""),"")) | AW27: =IF(LEN(AX27)>0,INDEX($T$4:$T$18,AT27,1),"") | AX27: =IFERROR(IF(AT27>0,1,""),"") | AY27: {=MIN(IF(($U$4:$U$18=AY$6)*($W$4:$W$18<=$AD27)*($X$4:$X$18>$AD27),$Q$4:$Q$18,""))} -> 0 | AZ27: =COUNTIFS($U$4:$U$18,AY$6,$W$4:$W$18,"<="&$AD27,$X$4:$X$18,">"&$AD27) -> 0 | BA27: =IF(AY27=AY26,"",IF(AY27>0,INDEX($S$4:$S$18,AY27,1)& IF(AZ27>1," - " & AZ27 &" Events overlap!",""),"")) | BB27: =IF(LEN(BC27)>0,INDEX($T$4:$T$18,AY27,1),"") | BC27: =IFERROR(IF(AY27>0,1,""),"") | BD27: {=MIN(IF(($U$4:$U$18=BD$6)*($W$4:$W$18<=$AD27)*($X$4:$X$18>$AD27),$Q$4:$Q$18,""))} -> 0 | BE27: =COUNTIFS($U$4:$U$18,BD$6,$W$4:$W$18,"<="&$AD27,$X$4:$X$18,">"&$AD27) -> 0 | BF27: =IF(BD27=BD26,"",IF(BD27>0,INDEX($S$4:$S$18,BD27,1)& IF(BE27>1," - " & BE27 &" Events overlap!",""),"")) | BG27: =IF(LEN(BH27)>0,INDEX($T$4:$T$18,BD27,1),"") | BH27: =IFERROR(IF(BD27>0,1,""),"") | BI27: {=MIN(IF(($U$4:$U$18=BI$6)*($W$4:$W$18<=$AD27)*($X$4:$X$18>$AD27),$Q$4:$Q$18,""))} -> 0 | BJ27: =COUNTIFS($U$4:$U$18,BI$6,$W$4:$W$18,"<="&$AD27,$X$4:$X$18,">"&$AD27) -> 0 | BK27: =IF(BI27=BI26,"",IF(BI27>0,INDEX($S$4:$S$18,BI27,1)& IF(BJ27>1," - " & BJ27 &" Events overlap!",""),"")) | BL27: =IF(LEN(BM27)>0,INDEX($T$4:$T$18,BI27,1),"") | BM27: =IFERROR(IF(BI27>0,1,""),"")
B28: 17 | C28: 2036 | I28: =IFERROR(COUNTIF(Planner!$J$6:$J$15,"<>"),10) -> 8 | L28: =L27+step -> 0.5 | N28: Day 25 | O28: =IFERROR(O27+1,"") -> 45426 | AD28: =Schedule!C30 -> 0.70833333 | AE28: {=MIN(IF(($U$4:$U$18=AE$6)*($W$4:$W$18<=$AD28)*($X$4:$X$18>$AD28),$Q$4:$Q$18,""))} -> 0 | AF28: =COUNTIFS($U$4:$U$18,AE$6,$W$4:$W$18,"<="&$AD28,$X$4:$X$18,">"&$AD28) -> 0 | AG28: =IF(AE28=AE27,"",IF(AE28>0,INDEX($S$4:$S$18,AE28,1)& IF(AF28>1," - " & AF28 &" Events overlap!",""),"")) | AH28: =IF(LEN(AI28)>0,INDEX($T$4:$T$18,AE28,1),"") | AI28: =IFERROR(IF(AE28>0,1,""),"") | AJ28: {=MIN(IF(($U$4:$U$18=AJ$6)*($W$4:$W$18<=$AD28)*($X$4:$X$18>$AD28),$Q$4:$Q$18,""))} -> 3 | AK28: =COUNTIFS($U$4:$U$18,AJ$6,$W$4:$W$18,"<="&$AD28,$X$4:$X$18,">"&$AD28) -> 1 | AL28: =IF(AJ28=AJ27,"",IF(AJ28>0,INDEX($S$4:$S$18,AJ28,1)& IF(AK28>1," - " & AK28 &" Events overlap!",""),"")) | AM28: =IF(LEN(AN28)>0,INDEX($T$4:$T$18,AJ28,1),"") -> Cultural | AN28: =IFERROR(IF(AJ28>0,1,""),"") -> 1 | AO28: {=MIN(IF(($U$4:$U$18=AO$6)*($W$4:$W$18<=$AD28)*($X$4:$X$18>$AD28),$Q$4:$Q$18,""))} -> 0 | AP28: =COUNTIFS($U$4:$U$18,AO$6,$W$4:$W$18,"<="&$AD28,$X$4:$X$18,">"&$AD28) -> 0 | AQ28: =IF(AO28=AO27,"",IF(AO28>0,INDEX($S$4:$S$18,AO28,1)& IF(AP28>1," - " & AP28 &" Events overlap!",""),"")) | AR28: =IF(LEN(AS28)>0,INDEX($T$4:$T$18,AO28,1),"") | AS28: =IFERROR(IF(AO28>0,1,""),"") | AT28: {=MIN(IF(($U$4:$U$18=AT$6)*($W$4:$W$18<=$AD28)*($X$4:$X$18>$AD28),$Q$4:$Q$18,""))} -> 0 | AU28: =COUNTIFS($U$4:$U$18,AT$6,$W$4:$W$18,"<="&$AD28,$X$4:$X$18,">"&$AD28) -> 0 | AV28: =IF(AT28=AT27,"",IF(AT28>0,INDEX($S$4:$S$18,AT28,1)& IF(AU28>1," - " & AU28 &" Events overlap!",""),"")) | AW28: =IF(LEN(AX28)>0,INDEX($T$4:$T$18,AT28,1),"") | AX28: =IFERROR(IF(AT28>0,1,""),"") | AY28: {=MIN(IF(($U$4:$U$18=AY$6)*($W$4:$W$18<=$AD28)*($X$4:$X$18>$AD28),$Q$4:$Q$18,""))} -> 0 | AZ28: =COUNTIFS($U$4:$U$18,AY$6,$W$4:$W$18,"<="&$AD28,$X$4:$X$18,">"&$AD28) -> 0 | BA28: =IF(AY28=AY27,"",IF(AY28>0,INDEX($S$4:$S$18,AY28,1)& IF(AZ28>1," - " & AZ28 &" Events overlap!",""),"")) | BB28: =IF(LEN(BC28)>0,INDEX($T$4:$T$18,AY28,1),"") | BC28: =IFERROR(IF(AY28>0,1,""),"") | BD28: {=MIN(IF(($U$4:$U$18=BD$6)*($W$4:$W$18<=$AD28)*($X$4:$X$18>$AD28),$Q$4:$Q$18,""))} -> 0 | BE28: =COUNTIFS($U$4:$U$18,BD$6,$W$4:$W$18,"<="&$AD28,$X$4:$X$18,">"&$AD28) -> 0 | BF28: =IF(BD28=BD27,"",IF(BD28>0,INDEX($S$4:$S$18,BD28,1)& IF(BE28>1," - " & BE28 &" Events overlap!",""),"")) | BG28: =IF(LEN(BH28)>0,INDEX($T$4:$T$18,BD28,1),"") | BH28: =IFERROR(IF(BD28>0,1,""),"") | BI28: {=MIN(IF(($U$4:$U$18=BI$6)*($W$4:$W$18<=$AD28)*($X$4:$X$18>$AD28),$Q$4:$Q$18,""))} -> 0 | BJ28: =COUNTIFS($U$4:$U$18,BI$6,$W$4:$W$18,"<="&$AD28,$X$4:$X$18,">"&$AD28) -> 0 | BK28: =IF(BI28=BI27,"",IF(BI28>0,INDEX($S$4:$S$18,BI28,1)& IF(BJ28>1," - " & BJ28 &" Events overlap!",""),"")) | BL28: =IF(LEN(BM28)>0,INDEX($T$4:$T$18,BI28,1),"") | BM28: =IFERROR(IF(BI28>0,1,""),"")
B29: 18 | C29: 2037 | L29: =L28+step -> 0.52083333 | N29: Day 26 | O29: =IFERROR(O28+1,"") -> 45427 | AD29: =Schedule!C31 -> 0.72916667 | AE29: {=MIN(IF(($U$4:$U$18=AE$6)*($W$4:$W$18<=$AD29)*($X$4:$X$18>$AD29),$Q$4:$Q$18,""))} -> 0 | AF29: =COUNTIFS($U$4:$U$18,AE$6,$W$4:$W$18,"<="&$AD29,$X$4:$X$18,">"&$AD29) -> 0 | AG29: =IF(AE29=AE28,"",IF(AE29>0,INDEX($S$4:$S$18,AE29,1)& IF(AF29>1," - " & AF29 &" Events overlap!",""),"")) | AH29: =IF(LEN(AI29)>0,INDEX($T$4:$T$18,AE29,1),"") | AI29: =IFERROR(IF(AE29>0,1,""),"") | AJ29: {=MIN(IF(($U$4:$U$18=AJ$6)*($W$4:$W$18<=$AD29)*($X$4:$X$18>$AD29),$Q$4:$Q$18,""))} -> 3 | AK29: =COUNTIFS($U$4:$U$18,AJ$6,$W$4:$W$18,"<="&$AD29,$X$4:$X$18,">"&$AD29) -> 1 | AL29: =IF(AJ29=AJ28,"",IF(AJ29>0,INDEX($S$4:$S$18,AJ29,1)& IF(AK29>1," - " & AK29 &" Events overlap!",""),"")) | AM29: =IF(LEN(AN29)>0,INDEX($T$4:$T$18,AJ29,1),"") -> Cultural | AN29: =IFERROR(IF(AJ29>0,1,""),"") -> 1 | AO29: {=MIN(IF(($U$4:$U$18=AO$6)*($W$4:$W$18<=$AD29)*($X$4:$X$18>$AD29),$Q$4:$Q$18,""))} -> 0 | AP29: =COUNTIFS($U$4:$U$18,AO$6,$W$4:$W$18,"<="&$AD29,$X$4:$X$18,">"&$AD29) -> 0 | AQ29: =IF(AO29=AO28,"",IF(AO29>0,INDEX($S$4:$S$18,AO29,1)& IF(AP29>1," - " & AP29 &" Events overlap!",""),"")) | AR29: =IF(LEN(AS29)>0,INDEX($T$4:$T$18,AO29,1),"") | AS29: =IFERROR(IF(AO29>0,1,""),"") | AT29: {=MIN(IF(($U$4:$U$18=AT$6)*($W$4:$W$18<=$AD29)*($X$4:$X$18>$AD29),$Q$4:$Q$18,""))} -> 0 | AU29: =COUNTIFS($U$4:$U$18,AT$6,$W$4:$W$18,"<="&$AD29,$X$4:$X$18,">"&$AD29) -> 0 | AV29: =IF(AT29=AT28,"",IF(AT29>0,INDEX($S$4:$S$18,AT29,1)& IF(AU29>1," - " & AU29 &" Events overlap!",""),"")) | AW29: =IF(LEN(AX29)>0,INDEX($T$4:$T$18,AT29,1),"") | AX29: =IFERROR(IF(AT29>0,1,""),"") | AY29: {=MIN(IF(($U$4:$U$18=AY$6)*($W$4:$W$18<=$AD29)*($X$4:$X$18>$AD29),$Q$4:$Q$18,""))} -> 0 | AZ29: =COUNTIFS($U$4:$U$18,AY$6,$W$4:$W$18,"<="&$AD29,$X$4:$X$18,">"&$AD29) -> 0 | BA29: =IF(AY29=AY28,"",IF(AY29>0,INDEX($S$4:$S$18,AY29,1)& IF(AZ29>1," - " & AZ29 &" Events overlap!",""),"")) | BB29: =IF(LEN(BC29)>0,INDEX($T$4:$T$18,AY29,1),"") | BC29: =IFERROR(IF(AY29>0,1,""),"") | BD29: {=MIN(IF(($U$4:$U$18=BD$6)*($W$4:$W$18<=$AD29)*($X$4:$X$18>$AD29),$Q$4:$Q$18,""))} -> 0 | BE29: =COUNTIFS($U$4:$U$18,BD$6,$W$4:$W$18,"<="&$AD29,$X$4:$X$18,">"&$AD29) -> 0 | BF29: =IF(BD29=BD28,"",IF(BD29>0,INDEX($S$4:$S$18,BD29,1)& IF(BE29>1," - " & BE29 &" Events overlap!",""),"")) | BG29: =IF(LEN(BH29)>0,INDEX($T$4:$T$18,BD29,1),"") | BH29: =IFERROR(IF(BD29>0,1,""),"") | BI29: {=MIN(IF(($U$4:$U$18=BI$6)*($W$4:$W$18<=$AD29)*($X$4:$X$18>$AD29),$Q$4:$Q$18,""))} -> 0 | BJ29: =COUNTIFS($U$4:$U$18,BI$6,$W$4:$W$18,"<="&$AD29,$X$4:$X$18,">"&$AD29) -> 0 | BK29: =IF(BI29=BI28,"",IF(BI29>0,INDEX($S$4:$S$18,BI29,1)& IF(BJ29>1," - " & BJ29 &" Events overlap!",""),"")) | BL29: =IF(LEN(BM29)>0,INDEX($T$4:$T$18,BI29,1),"") | BM29: =IFERROR(IF(BI29>0,1,""),"")
B30: 19 | C30: 2038 | I30: Planner Print Row | L30: =L29+step -> 0.54166667 | N30: Day 27 | O30: =IFERROR(O29+1,"") -> 45428 | AD30: =Schedule!C32 -> 0.75 | AE30: {=MIN(IF(($U$4:$U$18=AE$6)*($W$4:$W$18<=$AD30)*($X$4:$X$18>$AD30),$Q$4:$Q$18,""))} -> 0 | AF30: =COUNTIFS($U$4:$U$18,AE$6,$W$4:$W$18,"<="&$AD30,$X$4:$X$18,">"&$AD30) -> 0 | AG30: =IF(AE30=AE29,"",IF(AE30>0,INDEX($S$4:$S$18,AE30,1)& IF(AF30>1," - " & AF30 &" Events overlap!",""),"")) | AH30: =IF(LEN(AI30)>0,INDEX($T$4:$T$18,AE30,1),"") | AI30: =IFERROR(IF(AE30>0,1,""),"") | AJ30: {=MIN(IF(($U$4:$U$18=AJ$6)*($W$4:$W$18<=$AD30)*($X$4:$X$18>$AD30),$Q$4:$Q$18,""))} -> 0 | AK30: =COUNTIFS($U$4:$U$18,AJ$6,$W$4:$W$18,"<="&$AD30,$X$4:$X$18,">"&$AD30) -> 0 | AL30: =IF(AJ30=AJ29,"",IF(AJ30>0,INDEX($S$4:$S$18,AJ30,1)& IF(AK30>1," - " & AK30 &" Events overlap!",""),"")) | AM30: =IF(LEN(AN30)>0,INDEX($T$4:$T$18,AJ30,1),"") | AN30: =IFERROR(IF(AJ30>0,1,""),"") | AO30: {=MIN(IF(($U$4:$U$18=AO$6)*($W$4:$W$18<=$AD30)*($X$4:$X$18>$AD30),$Q$4:$Q$18,""))} -> 0 | AP30: =COUNTIFS($U$4:$U$18,AO$6,$W$4:$W$18,"<="&$AD30,$X$4:$X$18,">"&$AD30) -> 0 | AQ30: =IF(AO30=AO29,"",IF(AO30>0,INDEX($S$4:$S$18,AO30,1)& IF(AP30>1," - " & AP30 &" Events overlap!",""),"")) | AR30: =IF(LEN(AS30)>0,INDEX($T$4:$T$18,AO30,1),"") | AS30: =IFERROR(IF(AO30>0,1,""),"") | AT30: {=MIN(IF(($U$4:$U$18=AT$6)*($W$4:$W$18<=$AD30)*($X$4:$X$18>$AD30),$Q$4:$Q$18,""))} -> 0 | AU30: =COUNTIFS($U$4:$U$18,AT$6,$W$4:$W$18,"<="&$AD30,$X$4:$X$18,">"&$AD30) -> 0 | AV30: =IF(AT30=AT29,"",IF(AT30>0,INDEX($S$4:$S$18,AT30,1)& IF(AU30>1," - " & AU30 &" Events overlap!",""),"")) | AW30: =IF(LEN(AX30)>0,INDEX($T$4:$T$18,AT30,1),"") | AX30: =IFERROR(IF(AT30>0,1,""),"") | AY30: {=MIN(IF(($U$4:$U$18=AY$6)*($W$4:$W$18<=$AD30)*($X$4:$X$18>$AD30),$Q$4:$Q$18,""))} -> 0 | AZ30: =COUNTIFS($U$4:$U$18,AY$6,$W$4:$W$18,"<="&$AD30,$X$4:$X$18,">"&$AD30) -> 0 | BA30: =IF(AY30=AY29,"",IF(AY30>0,INDEX($S$4:$S$18,AY30,1)& IF(AZ30>1," - " & AZ30 &" Events overlap!",""),"")) | BB30: =IF(LEN(BC30)>0,INDEX($T$4:$T$18,AY30,1),"") | BC30: =IFERROR(IF(AY30>0,1,""),"") | BD30: {=MIN(IF(($U$4:$U$18=BD$6)*($W$4:$W$18<=$AD30)*($X$4:$X$18>$AD30),$Q$4:$Q$18,""))} -> 0 | BE30: =COUNTIFS($U$4:$U$18,BD$6,$W$4:$W$18,"<="&$AD30,$X$4:$X$18,">"&$AD30) -> 0 | BF30: =IF(BD30=BD29,"",IF(BD30>0,INDEX($S$4:$S$18,BD30,1)& IF(BE30>1," - " & BE30 &" Events overlap!",""),"")) | BG30: =IF(LEN(BH30)>0,INDEX($T$4:$T$18,BD30,1),"") | BH30: =IFERROR(IF(BD30>0,1,""),"") | BI30: {=MIN(IF(($U$4:$U$18=BI$6)*($W$4:$W$18<=$AD30)*($X$4:$X$18>$AD30),$Q$4:$Q$18,""))} -> 0 | BJ30: =COUNTIFS($U$4:$U$18,BI$6,$W$4:$W$18,"<="&$AD30,$X$4:$X$18,">"&$AD30) -> 0 | BK30: =IF(BI30=BI29,"",IF(BI30>0,INDEX($S$4:$S$18,BI30,1)& IF(BJ30>1," - " & BJ30 &" Events overlap!",""),"")) | BL30: =IF(LEN(BM30)>0,INDEX($T$4:$T$18,BI30,1),"") | BM30: =IFERROR(IF(BI30>0,1,""),"")
B31: 20 | C31: 2039 | I31: =IFERROR(SUM(COUNTIF(Planner!$B$6:$B$1005,"<>"),ROW(Planner!B5))-1,50) -> 14 | L31: =L30+step -> 0.5625 | N31: Day 28 | O31: =IFERROR(O30+1,"") -> 45429 | AD31: =Schedule!C33 -> 0.77083333 | AE31: {=MIN(IF(($U$4:$U$18=AE$6)*($W$4:$W$18<=$AD31)*($X$4:$X$18>$AD31),$Q$4:$Q$18,""))} -> 0 | AF31: =COUNTIFS($U$4:$U$18,AE$6,$W$4:$W$18,"<="&$AD31,$X$4:$X$18,">"&$AD31) -> 0 | AG31: =IF(AE31=AE30,"",IF(AE31>0,INDEX($S$4:$S$18,AE31,1)& IF(AF31>1," - " & AF31 &" Events overlap!",""),"")) | AH31: =IF(LEN(AI31)>0,INDEX($T$4:$T$18,AE31,1),"") | AI31: =IFERROR(IF(AE31>0,1,""),"") | AJ31: {=MIN(IF(($U$4:$U$18=AJ$6)*($W$4:$W$18<=$AD31)*($X$4:$X$18>$AD31),$Q$4:$Q$18,""))} -> 0 | AK31: =COUNTIFS($U$4:$U$18,AJ$6,$W$4:$W$18,"<="&$AD31,$X$4:$X$18,">"&$AD31) -> 0 | AL31: =IF(AJ31=AJ30,"",IF(AJ31>0,INDEX($S$4:$S$18,AJ31,1)& IF(AK31>1," - " & AK31 &" Events overlap!",""),"")) | AM31: =IF(LEN(AN31)>0,INDEX($T$4:$T$18,AJ31,1),"") | AN31: =IFERROR(IF(AJ31>0,1,""),"") | AO31: {=MIN(IF(($U$4:$U$18=AO$6)*($W$4:$W$18<=$AD31)*($X$4:$X$18>$AD31),$Q$4:$Q$18,""))} -> 0 | AP31: =COUNTIFS($U$4:$U$18,AO$6,$W$4:$W$18,"<="&$AD31,$X$4:$X$18,">"&$AD31) -> 0 | AQ31: =IF(AO31=AO30,"",IF(AO31>0,INDEX($S$4:$S$18,AO31,1)& IF(AP31>1," - " & AP31 &" Events overlap!",""),"")) | AR31: =IF(LEN(AS31)>0,INDEX($T$4:$T$18,AO31,1),"") | AS31: =IFERROR(IF(AO31>0,1,""),"") | AT31: {=MIN(IF(($U$4:$U$18=AT$6)*($W$4:$W$18<=$AD31)*($X$4:$X$18>$AD31),$Q$4:$Q$18,""))} -> 0 | AU31: =COUNTIFS($U$4:$U$18,AT$6,$W$4:$W$18,"<="&$AD31,$X$4:$X$18,">"&$AD31) -> 0 | AV31: =IF(AT31=AT30,"",IF(AT31>0,INDEX($S$4:$S$18,AT31,1)& IF(AU31>1," - " & AU31 &" Events overlap!",""),"")) | AW31: =IF(LEN(AX31)>0,INDEX($T$4:$T$18,AT31,1),"") | AX31: =IFERROR(IF(AT31>0,1,""),"") | AY31: {=MIN(IF(($U$4:$U$18=AY$6)*($W$4:$W$18<=$AD31)*($X$4:$X$18>$AD31),$Q$4:$Q$18,""))} -> 0 | AZ31: =COUNTIFS($U$4:$U$18,AY$6,$W$4:$W$18,"<="&$AD31,$X$4:$X$18,">"&$AD31) -> 0 | BA31: =IF(AY31=AY30,"",IF(AY31>0,INDEX($S$4:$S$18,AY31,1)& IF(AZ31>1," - " & AZ31 &" Events overlap!",""),"")) | BB31: =IF(LEN(BC31)>0,INDEX($T$4:$T$18,AY31,1),"") | BC31: =IFERROR(IF(AY31>0,1,""),"") | BD31: {=MIN(IF(($U$4:$U$18=BD$6)*($W$4:$W$18<=$AD31)*($X$4:$X$18>$AD31),$Q$4:$Q$18,""))} -> 0 | BE31: =COUNTIFS($U$4:$U$18,BD$6,$W$4:$W$18,"<="&$AD31,$X$4:$X$18,">"&$AD31) -> 0 | BF31: =IF(BD31=BD30,"",IF(BD31>0,INDEX($S$4:$S$18,BD31,1)& IF(BE31>1," - " & BE31 &" Events overlap!",""),"")) | BG31: =IF(LEN(BH31)>0,INDEX($T$4:$T$18,BD31,1),"") | BH31: =IFERROR(IF(BD31>0,1,""),"") | BI31: {=MIN(IF(($U$4:$U$18=BI$6)*($W$4:$W$18<=$AD31)*($X$4:$X$18>$AD31),$Q$4:$Q$18,""))} -> 0 | BJ31: =COUNTIFS($U$4:$U$18,BI$6,$W$4:$W$18,"<="&$AD31,$X$4:$X$18,">"&$AD31) -> 0 | BK31: =IF(BI31=BI30,"",IF(BI31>0,INDEX($S$4:$S$18,BI31,1)& IF(BJ31>1," - " & BJ31 &" Events overlap!",""),"")) | BL31: =IF(LEN(BM31)>0,INDEX($T$4:$T$18,BI31,1),"") | BM31: =IFERROR(IF(BI31>0,1,""),"")
B32: 21 | C32: 2040 | L32: =L31+step -> 0.58333333 | N32: Day 29 | O32: =IFERROR(O31+1,"") -> 45430 | AD32: =Schedule!C34 -> 0.79166667 | AE32: {=MIN(IF(($U$4:$U$18=AE$6)*($W$4:$W$18<=$AD32)*($X$4:$X$18>$AD32),$Q$4:$Q$18,""))} -> 0 | AF32: =COUNTIFS($U$4:$U$18,AE$6,$W$4:$W$18,"<="&$AD32,$X$4:$X$18,">"&$AD32) -> 0 | AG32: =IF(AE32=AE31,"",IF(AE32>0,INDEX($S$4:$S$18,AE32,1)& IF(AF32>1," - " & AF32 &" Events overlap!",""),"")) | AH32: =IF(LEN(AI32)>0,INDEX($T$4:$T$18,AE32,1),"") | AI32: =IFERROR(IF(AE32>0,1,""),"") | AJ32: {=MIN(IF(($U$4:$U$18=AJ$6)*($W$4:$W$18<=$AD32)*($X$4:$X$18>$AD32),$Q$4:$Q$18,""))} -> 0 | AK32: =COUNTIFS($U$4:$U$18,AJ$6,$W$4:$W$18,"<="&$AD32,$X$4:$X$18,">"&$AD32) -> 0 | AL32: =IF(AJ32=AJ31,"",IF(AJ32>0,INDEX($S$4:$S$18,AJ32,1)& IF(AK32>1," - " & AK32 &" Events overlap!",""),"")) | AM32: =IF(LEN(AN32)>0,INDEX($T$4:$T$18,AJ32,1),"") | AN32: =IFERROR(IF(AJ32>0,1,""),"") | AO32: {=MIN(IF(($U$4:$U$18=AO$6)*($W$4:$W$18<=$AD32)*($X$4:$X$18>$AD32),$Q$4:$Q$18,""))} -> 0 | AP32: =COUNTIFS($U$4:$U$18,AO$6,$W$4:$W$18,"<="&$AD32,$X$4:$X$18,">"&$AD32) -> 0 | AQ32: =IF(AO32=AO31,"",IF(AO32>0,INDEX($S$4:$S$18,AO32,1)& IF(AP32>1," - " & AP32 &" Events overlap!",""),"")) | AR32: =IF(LEN(AS32)>0,INDEX($T$4:$T$18,AO32,1),"") | AS32: =IFERROR(IF(AO32>0,1,""),"") | AT32: {=MIN(IF(($U$4:$U$18=AT$6)*($W$4:$W$18<=$AD32)*($X$4:$X$18>$AD32),$Q$4:$Q$18,""))} -> 0 | AU32: =COUNTIFS($U$4:$U$18,AT$6,$W$4:$W$18,"<="&$AD32,$X$4:$X$18,">"&$AD32) -> 0 | AV32: =IF(AT32=AT31,"",IF(AT32>0,INDEX($S$4:$S$18,AT32,1)& IF(AU32>1," - " & AU32 &" Events overlap!",""),"")) | AW32: =IF(LEN(AX32)>0,INDEX($T$4:$T$18,AT32,1),"") | AX32: =IFERROR(IF(AT32>0,1,""),"") | AY32: {=MIN(IF(($U$4:$U$18=AY$6)*($W$4:$W$18<=$AD32)*($X$4:$X$18>$AD32),$Q$4:$Q$18,""))} -> 0 | AZ32: =COUNTIFS($U$4:$U$18,AY$6,$W$4:$W$18,"<="&$AD32,$X$4:$X$18,">"&$AD32) -> 0 | BA32: =IF(AY32=AY31,"",IF(AY32>0,INDEX($S$4:$S$18,AY32,1)& IF(AZ32>1," - " & AZ32 &" Events overlap!",""),"")) | BB32: =IF(LEN(BC32)>0,INDEX($T$4:$T$18,AY32,1),"") | BC32: =IFERROR(IF(AY32>0,1,""),"") | BD32: {=MIN(IF(($U$4:$U$18=BD$6)*($W$4:$W$18<=$AD32)*($X$4:$X$18>$AD32),$Q$4:$Q$18,""))} -> 0 | BE32: =COUNTIFS($U$4:$U$18,BD$6,$W$4:$W$18,"<="&$AD32,$X$4:$X$18,">"&$AD32) -> 0 | BF32: =IF(BD32=BD31,"",IF(BD32>0,INDEX($S$4:$S$18,BD32,1)& IF(BE32>1," - " & BE32 &" Events overlap!",""),"")) | BG32: =IF(LEN(BH32)>0,INDEX($T$4:$T$18,BD32,1),"") | BH32: =IFERROR(IF(BD32>0,1,""),"") | BI32: {=MIN(IF(($U$4:$U$18=BI$6)*($W$4:$W$18<=$AD32)*($X$4:$X$18>$AD32),$Q$4:$Q$18,""))} -> 0 | BJ32: =COUNTIFS($U$4:$U$18,BI$6,$W$4:$W$18,"<="&$AD32,$X$4:$X$18,">"&$AD32) -> 0 | BK32: =IF(BI32=BI31,"",IF(BI32>0,INDEX($S$4:$S$18,BI32,1)& IF(BJ32>1," - " & BJ32 &" Events overlap!",""),"")) | BL32: =IF(LEN(BM32)>0,INDEX($T$4:$T$18,BI32,1),"") | BM32: =IFERROR(IF(BI32>0,1,""),"")
B33: 22 | I33: Planner Print Column | L33: =L32+step -> 0.60416667 | N33: Day 30 | O33: =IFERROR(O32+1,"") -> 45431 | AD33: =Schedule!C35 -> 0.8125 | AE33: {=MIN(IF(($U$4:$U$18=AE$6)*($W$4:$W$18<=$AD33)*($X$4:$X$18>$AD33),$Q$4:$Q$18,""))} -> 0 | AF33: =COUNTIFS($U$4:$U$18,AE$6,$W$4:$W$18,"<="&$AD33,$X$4:$X$18,">"&$AD33) -> 0 | AG33: =IF(AE33=AE32,"",IF(AE33>0,INDEX($S$4:$S$18,AE33,1)& IF(AF33>1," - " & AF33 &" Events overlap!",""),"")) | AH33: =IF(LEN(AI33)>0,INDEX($T$4:$T$18,AE33,1),"") | AI33: =IFERROR(IF(AE33>0,1,""),"") | AJ33: {=MIN(IF(($U$4:$U$18=AJ$6)*($W$4:$W$18<=$AD33)*($X$4:$X$18>$AD33),$Q$4:$Q$18,""))} -> 0 | AK33: =COUNTIFS($U$4:$U$18,AJ$6,$W$4:$W$18,"<="&$AD33,$X$4:$X$18,">"&$AD33) -> 0 | AL33: =IF(AJ33=AJ32,"",IF(AJ33>0,INDEX($S$4:$S$18,AJ33,1)& IF(AK33>1," - " & AK33 &" Events overlap!",""),"")) | AM33: =IF(LEN(AN33)>0,INDEX($T$4:$T$18,AJ33,1),"") | AN33: =IFERROR(IF(AJ33>0,1,""),"") | AO33: {=MIN(IF(($U$4:$U$18=AO$6)*($W$4:$W$18<=$AD33)*($X$4:$X$18>$AD33),$Q$4:$Q$18,""))} -> 0 | AP33: =COUNTIFS($U$4:$U$18,AO$6,$W$4:$W$18,"<="&$AD33,$X$4:$X$18,">"&$AD33) -> 0 | AQ33: =IF(AO33=AO32,"",IF(AO33>0,INDEX($S$4:$S$18,AO33,1)& IF(AP33>1," - " & AP33 &" Events overlap!",""),"")) | AR33: =IF(LEN(AS33)>0,INDEX($T$4:$T$18,AO33,1),"") | AS33: =IFERROR(IF(AO33>0,1,""),"") | AT33: {=MIN(IF(($U$4:$U$18=AT$6)*($W$4:$W$18<=$AD33)*($X$4:$X$18>$AD33),$Q$4:$Q$18,""))} -> 0 | AU33: =COUNTIFS($U$4:$U$18,AT$6,$W$4:$W$18,"<="&$AD33,$X$4:$X$18,">"&$AD33) -> 0 | AV33: =IF(AT33=AT32,"",IF(AT33>0,INDEX($S$4:$S$18,AT33,1)& IF(AU33>1," - " & AU33 &" Events overlap!",""),"")) | AW33: =IF(LEN(AX33)>0,INDEX($T$4:$T$18,AT33,1),"") | AX33: =IFERROR(IF(AT33>0,1,""),"") | AY33: {=MIN(IF(($U$4:$U$18=AY$6)*($W$4:$W$18<=$AD33)*($X$4:$X$18>$AD33),$Q$4:$Q$18,""))} -> 0 | AZ33: =COUNTIFS($U$4:$U$18,AY$6,$W$4:$W$18,"<="&$AD33,$X$4:$X$18,">"&$AD33) -> 0 | BA33: =IF(AY33=AY32,"",IF(AY33>0,INDEX($S$4:$S$18,AY33,1)& IF(AZ33>1," - " & AZ33 &" Events overlap!",""),"")) | BB33: =IF(LEN(BC33)>0,INDEX($T$4:$T$18,AY33,1),"") | BC33: =IFERROR(IF(AY33>0,1,""),"") | BD33: {=MIN(IF(($U$4:$U$18=BD$6)*($W$4:$W$18<=$AD33)*($X$4:$X$18>$AD33),$Q$4:$Q$18,""))} -> 0 | BE33: =COUNTIFS($U$4:$U$18,BD$6,$W$4:$W$18,"<="&$AD33,$X$4:$X$18,">"&$AD33) -> 0 | BF33: =IF(BD33=BD32,"",IF(BD33>0,INDEX($S$4:$S$18,BD33,1)& IF(BE33>1," - " & BE33 &" Events overlap!",""),"")) | BG33: =IF(LEN(BH33)>0,INDEX($T$4:$T$18,BD33,1),"") | BH33: =IFERROR(IF(BD33>0,1,""),"") | BI33: {=MIN(IF(($U$4:$U$18=BI$6)*($W$4:$W$18<=$AD33)*($X$4:$X$18>$AD33),$Q$4:$Q$18,""))} -> 0 | BJ33: =COUNTIFS($U$4:$U$18,BI$6,$W$4:$W$18,"<="&$AD33,$X$4:$X$18,">"&$AD33) -> 0 | BK33: =IF(BI33=BI32,"",IF(BI33>0,INDEX($S$4:$S$18,BI33,1)& IF(BJ33>1," - " & BJ33 &" Events overlap!",""),"")) | BL33: =IF(LEN(BM33)>0,INDEX($T$4:$T$18,BI33,1),"") | BM33: =IFERROR(IF(BI33>0,1,""),"")
B34: 23 | I34: =IFERROR(MAX(COUNTIF(Planner!$B$5:$G$5,"<>"),1),6) -> 6 | L34: =L33+step -> 0.625 | N34: Day 31 | O34: =IFERROR(O33+1,"") -> 45432 | AD34: =Schedule!C36 -> 0.83333333 | AE34: {=MIN(IF(($U$4:$U$18=AE$6)*($W$4:$W$18<=$AD34)*($X$4:$X$18>$AD34),$Q$4:$Q$18,""))} -> 0 | AF34: =COUNTIFS($U$4:$U$18,AE$6,$W$4:$W$18,"<="&$AD34,$X$4:$X$18,">"&$AD34) -> 0 | AG34: =IF(AE34=AE33,"",IF(AE34>0,INDEX($S$4:$S$18,AE34,1)& IF(AF34>1," - " & AF34 &" Events overlap!",""),"")) | AH34: =IF(LEN(AI34)>0,INDEX($T$4:$T$18,AE34,1),"") | AI34: =IFERROR(IF(AE34>0,1,""),"") | AJ34: {=MIN(IF(($U$4:$U$18=AJ$6)*($W$4:$W$18<=$AD34)*($X$4:$X$18>$AD34),$Q$4:$Q$18,""))} -> 0 | AK34: =COUNTIFS($U$4:$U$18,AJ$6,$W$4:$W$18,"<="&$AD34,$X$4:$X$18,">"&$AD34) -> 0 | AL34: =IF(AJ34=AJ33,"",IF(AJ34>0,INDEX($S$4:$S$18,AJ34,1)& IF(AK34>1," - " & AK34 &" Events overlap!",""),"")) | AM34: =IF(LEN(AN34)>0,INDEX($T$4:$T$18,AJ34,1),"") | AN34: =IFERROR(IF(AJ34>0,1,""),"") | AO34: {=MIN(IF(($U$4:$U$18=AO$6)*($W$4:$W$18<=$AD34)*($X$4:$X$18>$AD34),$Q$4:$Q$18,""))} -> 0 | AP34: =COUNTIFS($U$4:$U$18,AO$6,$W$4:$W$18,"<="&$AD34,$X$4:$X$18,">"&$AD34) -> 0 | AQ34: =IF(AO34=AO33,"",IF(AO34>0,INDEX($S$4:$S$18,AO34,1)& IF(AP34>1," - " & AP34 &" Events overlap!",""),"")) | AR34: =IF(LEN(AS34)>0,INDEX($T$4:$T$18,AO34,1),"") | AS34: =IFERROR(IF(AO34>0,1,""),"") | AT34: {=MIN(IF(($U$4:$U$18=AT$6)*($W$4:$W$18<=$AD34)*($X$4:$X$18>$AD34),$Q$4:$Q$18,""))} -> 0 | AU34: =COUNTIFS($U$4:$U$18,AT$6,$W$4:$W$18,"<="&$AD34,$X$4:$X$18,">"&$AD34) -> 0 | AV34: =IF(AT34=AT33,"",IF(AT34>0,INDEX($S$4:$S$18,AT34,1)& IF(AU34>1," - " & AU34 &" Events overlap!",""),"")) | AW34: =IF(LEN(AX34)>0,INDEX($T$4:$T$18,AT34,1),"") | AX34: =IFERROR(IF(AT34>0,1,""),"") | AY34: {=MIN(IF(($U$4:$U$18=AY$6)*($W$4:$W$18<=$AD34)*($X$4:$X$18>$AD34),$Q$4:$Q$18,""))} -> 0 | AZ34: =COUNTIFS($U$4:$U$18,AY$6,$W$4:$W$18,"<="&$AD34,$X$4:$X$18,">"&$AD34) -> 0 | BA34: =IF(AY34=AY33,"",IF(AY34>0,INDEX($S$4:$S$18,AY34,1)& IF(AZ34>1," - " & AZ34 &" Events overlap!",""),"")) | BB34: =IF(LEN(BC34)>0,INDEX($T$4:$T$18,AY34,1),"") | BC34: =IFERROR(IF(AY34>0,1,""),"") | BD34: {=MIN(IF(($U$4:$U$18=BD$6)*($W$4:$W$18<=$AD34)*($X$4:$X$18>$AD34),$Q$4:$Q$18,""))} -> 0 | BE34: =COUNTIFS($U$4:$U$18,BD$6,$W$4:$W$18,"<="&$AD34,$X$4:$X$18,">"&$AD34) -> 0 | BF34: =IF(BD34=BD33,"",IF(BD34>0,INDEX($S$4:$S$18,BD34,1)& IF(BE34>1," - " & BE34 &" Events overlap!",""),"")) | BG34: =IF(LEN(BH34)>0,INDEX($T$4:$T$18,BD34,1),"") | BH34: =IFERROR(IF(BD34>0,1,""),"") | BI34: {=MIN(IF(($U$4:$U$18=BI$6)*($W$4:$W$18<=$AD34)*($X$4:$X$18>$AD34),$Q$4:$Q$18,""))} -> 0 | BJ34: =COUNTIFS($U$4:$U$18,BI$6,$W$4:$W$18,"<="&$AD34,$X$4:$X$18,">"&$AD34) -> 0 | BK34: =IF(BI34=BI33,"",IF(BI34>0,INDEX($S$4:$S$18,BI34,1)& IF(BJ34>1," - " & BJ34 &" Events overlap!",""),"")) | BL34: =IF(LEN(BM34)>0,INDEX($T$4:$T$18,BI34,1),"") | BM34: =IFERROR(IF(BI34>0,1,""),"")
B35: 24 | L35: =L34+step -> 0.64583333 | N35: Day 32 | O35: =IFERROR(O34+1,"") -> 45433 | AD35: =Schedule!C37 -> 0.85416667 | AE35: {=MIN(IF(($U$4:$U$18=AE$6)*($W$4:$W$18<=$AD35)*($X$4:$X$18>$AD35),$Q$4:$Q$18,""))} -> 0 | AF35: =COUNTIFS($U$4:$U$18,AE$6,$W$4:$W$18,"<="&$AD35,$X$4:$X$18,">"&$AD35) -> 0 | AG35: =IF(AE35=AE34,"",IF(AE35>0,INDEX($S$4:$S$18,AE35,1)& IF(AF35>1," - " & AF35 &" Events overlap!",""),"")) | AH35: =IF(LEN(AI35)>0,INDEX($T$4:$T$18,AE35,1),"") | AI35: =IFERROR(IF(AE35>0,1,""),"") | AJ35: {=MIN(IF(($U$4:$U$18=AJ$6)*($W$4:$W$18<=$AD35)*($X$4:$X$18>$AD35),$Q$4:$Q$18,""))} -> 0 | AK35: =COUNTIFS($U$4:$U$18,AJ$6,$W$4:$W$18,"<="&$AD35,$X$4:$X$18,">"&$AD35) -> 0 | AL35: =IF(AJ35=AJ34,"",IF(AJ35>0,INDEX($S$4:$S$18,AJ35,1)& IF(AK35>1," - " & AK35 &" Events overlap!",""),"")) | AM35: =IF(LEN(AN35)>0,INDEX($T$4:$T$18,AJ35,1),"") | AN35: =IFERROR(IF(AJ35>0,1,""),"") | AO35: {=MIN(IF(($U$4:$U$18=AO$6)*($W$4:$W$18<=$AD35)*($X$4:$X$18>$AD35),$Q$4:$Q$18,""))} -> 0 | AP35: =COUNTIFS($U$4:$U$18,AO$6,$W$4:$W$18,"<="&$AD35,$X$4:$X$18,">"&$AD35) -> 0 | AQ35: =IF(AO35=AO34,"",IF(AO35>0,INDEX($S$4:$S$18,AO35,1)& IF(AP35>1," - " & AP35 &" Events overlap!",""),"")) | AR35: =IF(LEN(AS35)>0,INDEX($T$4:$T$18,AO35,1),"") | AS35: =IFERROR(IF(AO35>0,1,""),"") | AT35: {=MIN(IF(($U$4:$U$18=AT$6)*($W$4:$W$18<=$AD35)*($X$4:$X$18>$AD35),$Q$4:$Q$18,""))} -> 0 | AU35: =COUNTIFS($U$4:$U$18,AT$6,$W$4:$W$18,"<="&$AD35,$X$4:$X$18,">"&$AD35) -> 0 | AV35: =IF(AT35=AT34,"",IF(AT35>0,INDEX($S$4:$S$18,AT35,1)& IF(AU35>1," - " & AU35 &" Events overlap!",""),"")) | AW35: =IF(LEN(AX35)>0,INDEX($T$4:$T$18,AT35,1),"") | AX35: =IFERROR(IF(AT35>0,1,""),"") | AY35: {=MIN(IF(($U$4:$U$18=AY$6)*($W$4:$W$18<=$AD35)*($X$4:$X$18>$AD35),$Q$4:$Q$18,""))} -> 0 | AZ35: =COUNTIFS($U$4:$U$18,AY$6,$W$4:$W$18,"<="&$AD35,$X$4:$X$18,">"&$AD35) -> 0 | BA35: =IF(AY35=AY34,"",IF(AY35>0,INDEX($S$4:$S$18,AY35,1)& IF(AZ35>1," - " & AZ35 &" Events overlap!",""),"")) | BB35: =IF(LEN(BC35)>0,INDEX($T$4:$T$18,AY35,1),"") | BC35: =IFERROR(IF(AY35>0,1,""),"") | BD35: {=MIN(IF(($U$4:$U$18=BD$6)*($W$4:$W$18<=$AD35)*($X$4:$X$18>$AD35),$Q$4:$Q$18,""))} -> 0 | BE35: =COUNTIFS($U$4:$U$18,BD$6,$W$4:$W$18,"<="&$AD35,$X$4:$X$18,">"&$AD35) -> 0 | BF35: =IF(BD35=BD34,"",IF(BD35>0,INDEX($S$4:$S$18,BD35,1)& IF(BE35>1," - " & BE35 &" Events overlap!",""),"")) | BG35: =IF(LEN(BH35)>0,INDEX($T$4:$T$18,BD35,1),"") | BH35: =IFERROR(IF(BD35>0,1,""),"") | BI35: {=MIN(IF(($U$4:$U$18=BI$6)*($W$4:$W$18<=$AD35)*($X$4:$X$18>$AD35),$Q$4:$Q$18,""))} -> 0 | BJ35: =COUNTIFS($U$4:$U$18,BI$6,$W$4:$W$18,"<="&$AD35,$X$4:$X$18,">"&$AD35) -> 0 | BK35: =IF(BI35=BI34,"",IF(BI35>0,INDEX($S$4:$S$18,BI35,1)& IF(BJ35>1," - " & BJ35 &" Events overlap!",""),"")) | BL35: =IF(LEN(BM35)>0,INDEX($T$4:$T$18,BI35,1),"") | BM35: =IFERROR(IF(BI35>0,1,""),"")
B36: 25 | L36: =L35+step -> 0.66666667 | N36: Day 33 | O36: =IFERROR(O35+1,"") -> 45434 | AD36: =Schedule!C38 -> 0.875 | AE36: {=MIN(IF(($U$4:$U$18=AE$6)*($W$4:$W$18<=$AD36)*($X$4:$X$18>$AD36),$Q$4:$Q$18,""))} -> 0 | AF36: =COUNTIFS($U$4:$U$18,AE$6,$W$4:$W$18,"<="&$AD36,$X$4:$X$18,">"&$AD36) -> 0 | AG36: =IF(AE36=AE35,"",IF(AE36>0,INDEX($S$4:$S$18,AE36,1)& IF(AF36>1," - " & AF36 &" Events overlap!",""),"")) | AH36: =IF(LEN(AI36)>0,INDEX($T$4:$T$18,AE36,1),"") | AI36: =IFERROR(IF(AE36>0,1,""),"") | AJ36: {=MIN(IF(($U$4:$U$18=AJ$6)*($W$4:$W$18<=$AD36)*($X$4:$X$18>$AD36),$Q$4:$Q$18,""))} -> 0 | AK36: =COUNTIFS($U$4:$U$18,AJ$6,$W$4:$W$18,"<="&$AD36,$X$4:$X$18,">"&$AD36) -> 0 | AL36: =IF(AJ36=AJ35,"",IF(AJ36>0,INDEX($S$4:$S$18,AJ36,1)& IF(AK36>1," - " & AK36 &" Events overlap!",""),"")) | AM36: =IF(LEN(AN36)>0,INDEX($T$4:$T$18,AJ36,1),"") | AN36: =IFERROR(IF(AJ36>0,1,""),"") | AO36: {=MIN(IF(($U$4:$U$18=AO$6)*($W$4:$W$18<=$AD36)*($X$4:$X$18>$AD36),$Q$4:$Q$18,""))} -> 0 | AP36: =COUNTIFS($U$4:$U$18,AO$6,$W$4:$W$18,"<="&$AD36,$X$4:$X$18,">"&$AD36) -> 0 | AQ36: =IF(AO36=AO35,"",IF(AO36>0,INDEX($S$4:$S$18,AO36,1)& IF(AP36>1," - " & AP36 &" Events overlap!",""),"")) | AR36: =IF(LEN(AS36)>0,INDEX($T$4:$T$18,AO36,1),"") | AS36: =IFERROR(IF(AO36>0,1,""),"") | AT36: {=MIN(IF(($U$4:$U$18=AT$6)*($W$4:$W$18<=$AD36)*($X$4:$X$18>$AD36),$Q$4:$Q$18,""))} -> 5 | AU36: =COUNTIFS($U$4:$U$18,AT$6,$W$4:$W$18,"<="&$AD36,$X$4:$X$18,">"&$AD36) -> 1 | AV36: =IF(AT36=AT35,"",IF(AT36>0,INDEX($S$4:$S$18,AT36,1)& IF(AU36>1," - " & AU36 &" Events overlap!",""),"")) -> Dinner at Moulin Rouge | AW36: =IF(LEN(AX36)>0,INDEX($T$4:$T$18,AT36,1),"") -> Night Life | AX36: =IFERROR(IF(AT36>0,1,""),"") -> 1 | AY36: {=MIN(IF(($U$4:$U$18=AY$6)*($W$4:$W$18<=$AD36)*($X$4:$X$18>$AD36),$Q$4:$Q$18,""))} -> 0 | AZ36: =COUNTIFS($U$4:$U$18,AY$6,$W$4:$W$18,"<="&$AD36,$X$4:$X$18,">"&$AD36) -> 0 | BA36: =IF(AY36=AY35,"",IF(AY36>0,INDEX($S$4:$S$18,AY36,1)& IF(AZ36>1," - " & AZ36 &" Events overlap!",""),"")) | BB36: =IF(LEN(BC36)>0,INDEX($T$4:$T$18,AY36,1),"") | BC36: =IFERROR(IF(AY36>0,1,""),"") | BD36: {=MIN(IF(($U$4:$U$18=BD$6)*($W$4:$W$18<=$AD36)*($X$4:$X$18>$AD36),$Q$4:$Q$18,""))} -> 0 | BE36: =COUNTIFS($U$4:$U$18,BD$6,$W$4:$W$18,"<="&$AD36,$X$4:$X$18,">"&$AD36) -> 0 | BF36: =IF(BD36=BD35,"",IF(BD36>0,INDEX($S$4:$S$18,BD36,1)& IF(BE36>1," - " & BE36 &" Events overlap!",""),"")) | BG36: =IF(LEN(BH36)>0,INDEX($T$4:$T$18,BD36,1),"") | BH36: =IFERROR(IF(BD36>0,1,""),"") | BI36: {=MIN(IF(($U$4:$U$18=BI$6)*($W$4:$W$18<=$AD36)*($X$4:$X$18>$AD36),$Q$4:$Q$18,""))} -> 0 | BJ36: =COUNTIFS($U$4:$U$18,BI$6,$W$4:$W$18,"<="&$AD36,$X$4:$X$18,">"&$AD36) -> 0 | BK36: =IF(BI36=BI35,"",IF(BI36>0,INDEX($S$4:$S$18,BI36,1)& IF(BJ36>1," - " & BJ36 &" Events overlap!",""),"")) | BL36: =IF(LEN(BM36)>0,INDEX($T$4:$T$18,BI36,1),"") | BM36: =IFERROR(IF(BI36>0,1,""),"")
B37: 26 | L37: =L36+step -> 0.6875 | N37: Day 34 | O37: =IFERROR(O36+1,"") -> 45435 | AD37: =Schedule!C39 -> 0.89583333 | AE37: {=MIN(IF(($U$4:$U$18=AE$6)*($W$4:$W$18<=$AD37)*($X$4:$X$18>$AD37),$Q$4:$Q$18,""))} -> 0 | AF37: =COUNTIFS($U$4:$U$18,AE$6,$W$4:$W$18,"<="&$AD37,$X$4:$X$18,">"&$AD37) -> 0 | AG37: =IF(AE37=AE36,"",IF(AE37>0,INDEX($S$4:$S$18,AE37,1)& IF(AF37>1," - " & AF37 &" Events overlap!",""),"")) | AH37: =IF(LEN(AI37)>0,INDEX($T$4:$T$18,AE37,1),"") | AI37: =IFERROR(IF(AE37>0,1,""),"") | AJ37: {=MIN(IF(($U$4:$U$18=AJ$6)*($W$4:$W$18<=$AD37)*($X$4:$X$18>$AD37),$Q$4:$Q$18,""))} -> 0 | AK37: =COUNTIFS($U$4:$U$18,AJ$6,$W$4:$W$18,"<="&$AD37,$X$4:$X$18,">"&$AD37) -> 0 | AL37: =IF(AJ37=AJ36,"",IF(AJ37>0,INDEX($S$4:$S$18,AJ37,1)& IF(AK37>1," - " & AK37 &" Events overlap!",""),"")) | AM37: =IF(LEN(AN37)>0,INDEX($T$4:$T$18,AJ37,1),"") | AN37: =IFERROR(IF(AJ37>0,1,""),"") | AO37: {=MIN(IF(($U$4:$U$18=AO$6)*($W$4:$W$18<=$AD37)*($X$4:$X$18>$AD37),$Q$4:$Q$18,""))} -> 0 | AP37: =COUNTIFS($U$4:$U$18,AO$6,$W$4:$W$18,"<="&$AD37,$X$4:$X$18,">"&$AD37) -> 0 | AQ37: =IF(AO37=AO36,"",IF(AO37>0,INDEX($S$4:$S$18,AO37,1)& IF(AP37>1," - " & AP37 &" Events overlap!",""),"")) | AR37: =IF(LEN(AS37)>0,INDEX($T$4:$T$18,AO37,1),"") | AS37: =IFERROR(IF(AO37>0,1,""),"") | AT37: {=MIN(IF(($U$4:$U$18=AT$6)*($W$4:$W$18<=$AD37)*($X$4:$X$18>$AD37),$Q$4:$Q$18,""))} -> 5 | AU37: =COUNTIFS($U$4:$U$18,AT$6,$W$4:$W$18,"<="&$AD37,$X$4:$X$18,">"&$AD37) -> 1 | AV37: =IF(AT37=AT36,"",IF(AT37>0,INDEX($S$4:$S$18,AT37,1)& IF(AU37>1," - " & AU37 &" Events overlap!",""),"")) | AW37: =IF(LEN(AX37)>0,INDEX($T$4:$T$18,AT37,1),"") -> Night Life | AX37: =IFERROR(IF(AT37>0,1,""),"") -> 1 | AY37: {=MIN(IF(($U$4:$U$18=AY$6)*($W$4:$W$18<=$AD37)*($X$4:$X$18>$AD37),$Q$4:$Q$18,""))} -> 0 | AZ37: =COUNTIFS($U$4:$U$18,AY$6,$W$4:$W$18,"<="&$AD37,$X$4:$X$18,">"&$AD37) -> 0 | BA37: =IF(AY37=AY36,"",IF(AY37>0,INDEX($S$4:$S$18,AY37,1)& IF(AZ37>1," - " & AZ37 &" Events overlap!",""),"")) | BB37: =IF(LEN(BC37)>0,INDEX($T$4:$T$18,AY37,1),"") | BC37: =IFERROR(IF(AY37>0,1,""),"") | BD37: {=MIN(IF(($U$4:$U$18=BD$6)*($W$4:$W$18<=$AD37)*($X$4:$X$18>$AD37),$Q$4:$Q$18,""))} -> 0 | BE37: =COUNTIFS($U$4:$U$18,BD$6,$W$4:$W$18,"<="&$AD37,$X$4:$X$18,">"&$AD37) -> 0 | BF37: =IF(BD37=BD36,"",IF(BD37>0,INDEX($S$4:$S$18,BD37,1)& IF(BE37>1," - " & BE37 &" Events overlap!",""),"")) | BG37: =IF(LEN(BH37)>0,INDEX($T$4:$T$18,BD37,1),"") | BH37: =IFERROR(IF(BD37>0,1,""),"") | BI37: {=MIN(IF(($U$4:$U$18=BI$6)*($W$4:$W$18<=$AD37)*($X$4:$X$18>$AD37),$Q$4:$Q$18,""))} -> 0 | BJ37: =COUNTIFS($U$4:$U$18,BI$6,$W$4:$W$18,"<="&$AD37,$X$4:$X$18,">"&$AD37) -> 0 | BK37: =IF(BI37=BI36,"",IF(BI37>0,INDEX($S$4:$S$18,BI37,1)& IF(BJ37>1," - " & BJ37 &" Events overlap!",""),"")) | BL37: =IF(LEN(BM37)>0,INDEX($T$4:$T$18,BI37,1),"") | BM37: =IFERROR(IF(BI37>0,1,""),"")
B38: 27 | L38: =L37+step -> 0.70833333 | N38: Day 35 | O38: =IFERROR(O37+1,"") -> 45436 | AD38: =Schedule!C40 -> 0.91666667 | AE38: {=MIN(IF(($U$4:$U$18=AE$6)*($W$4:$W$18<=$AD38)*($X$4:$X$18>$AD38),$Q$4:$Q$18,""))} -> 0 | AF38: =COUNTIFS($U$4:$U$18,AE$6,$W$4:$W$18,"<="&$AD38,$X$4:$X$18,">"&$AD38) -> 0 | AG38: =IF(AE38=AE37,"",IF(AE38>0,INDEX($S$4:$S$18,AE38,1)& IF(AF38>1," - " & AF38 &" Events overlap!",""),"")) | AH38: =IF(LEN(AI38)>0,INDEX($T$4:$T$18,AE38,1),"") | AI38: =IFERROR(IF(AE38>0,1,""),"") | AJ38: {=MIN(IF(($U$4:$U$18=AJ$6)*($W$4:$W$18<=$AD38)*($X$4:$X$18>$AD38),$Q$4:$Q$18,""))} -> 0 | AK38: =COUNTIFS($U$4:$U$18,AJ$6,$W$4:$W$18,"<="&$AD38,$X$4:$X$18,">"&$AD38) -> 0 | AL38: =IF(AJ38=AJ37,"",IF(AJ38>0,INDEX($S$4:$S$18,AJ38,1)& IF(AK38>1," - " & AK38 &" Events overlap!",""),"")) | AM38: =IF(LEN(AN38)>0,INDEX($T$4:$T$18,AJ38,1),"") | AN38: =IFERROR(IF(AJ38>0,1,""),"") | AO38: {=MIN(IF(($U$4:$U$18=AO$6)*($W$4:$W$18<=$AD38)*($X$4:$X$18>$AD38),$Q$4:$Q$18,""))} -> 0 | AP38: =COUNTIFS($U$4:$U$18,AO$6,$W$4:$W$18,"<="&$AD38,$X$4:$X$18,">"&$AD38) -> 0 | AQ38: =IF(AO38=AO37,"",IF(AO38>0,INDEX($S$4:$S$18,AO38,1)& IF(AP38>1," - " & AP38 &" Events overlap!",""),"")) | AR38: =IF(LEN(AS38)>0,INDEX($T$4:$T$18,AO38,1),"") | AS38: =IFERROR(IF(AO38>0,1,""),"") | AT38: {=MIN(IF(($U$4:$U$18=AT$6)*($W$4:$W$18<=$AD38)*($X$4:$X$18>$AD38),$Q$4:$Q$18,""))} -> 5 | AU38: =COUNTIFS($U$4:$U$18,AT$6,$W$4:$W$18,"<="&$AD38,$X$4:$X$18,">"&$AD38) -> 1 | AV38: =IF(AT38=AT37,"",IF(AT38>0,INDEX($S$4:$S$18,AT38,1)& IF(AU38>1," - " & AU38 &" Events overlap!",""),"")) | AW38: =IF(LEN(AX38)>0,INDEX($T$4:$T$18,AT38,1),"") -> Night Life | AX38: =IFERROR(IF(AT38>0,1,""),"") -> 1 | AY38: {=MIN(IF(($U$4:$U$18=AY$6)*($W$4:$W$18<=$AD38)*($X$4:$X$18>$AD38),$Q$4:$Q$18,""))} -> 0 | AZ38: =COUNTIFS($U$4:$U$18,AY$6,$W$4:$W$18,"<="&$AD38,$X$4:$X$18,">"&$AD38) -> 0 | BA38: =IF(AY38=AY37,"",IF(AY38>0,INDEX($S$4:$S$18,AY38,1)& IF(AZ38>1," - " & AZ38 &" Events overlap!",""),"")) | BB38: =IF(LEN(BC38)>0,INDEX($T$4:$T$18,AY38,1),"") | BC38: =IFERROR(IF(AY38>0,1,""),"") | BD38: {=MIN(IF(($U$4:$U$18=BD$6)*($W$4:$W$18<=$AD38)*($X$4:$X$18>$AD38),$Q$4:$Q$18,""))} -> 0 | BE38: =COUNTIFS($U$4:$U$18,BD$6,$W$4:$W$18,"<="&$AD38,$X$4:$X$18,">"&$AD38) -> 0 | BF38: =IF(BD38=BD37,"",IF(BD38>0,INDEX($S$4:$S$18,BD38,1)& IF(BE38>1," - " & BE38 &" Events overlap!",""),"")) | BG38: =IF(LEN(BH38)>0,INDEX($T$4:$T$18,BD38,1),"") | BH38: =IFERROR(IF(BD38>0,1,""),"") | BI38: {=MIN(IF(($U$4:$U$18=BI$6)*($W$4:$W$18<=$AD38)*($X$4:$X$18>$AD38),$Q$4:$Q$18,""))} -> 0 | BJ38: =COUNTIFS($U$4:$U$18,BI$6,$W$4:$W$18,"<="&$AD38,$X$4:$X$18,">"&$AD38) -> 0 | BK38: =IF(BI38=BI37,"",IF(BI38>0,INDEX($S$4:$S$18,BI38,1)& IF(BJ38>1," - " & BJ38 &" Events overlap!",""),"")) | BL38: =IF(LEN(BM38)>0,INDEX($T$4:$T$18,BI38,1),"") | BM38: =IFERROR(IF(BI38>0,1,""),"")
B39: 28 | L39: =L38+step -> 0.72916667 | N39: Day 36 | O39: =IFERROR(O38+1,"") -> 45437 | AD39: =Schedule!C41 -> 0.9375 | AE39: {=MIN(IF(($U$4:$U$18=AE$6)*($W$4:$W$18<=$AD39)*($X$4:$X$18>$AD39),$Q$4:$Q$18,""))} -> 0 | AF39: =COUNTIFS($U$4:$U$18,AE$6,$W$4:$W$18,"<="&$AD39,$X$4:$X$18,">"&$AD39) -> 0 | AG39: =IF(AE39=AE38,"",IF(AE39>0,INDEX($S$4:$S$18,AE39,1)& IF(AF39>1," - " & AF39 &" Events overlap!",""),"")) | AH39: =IF(LEN(AI39)>0,INDEX($T$4:$T$18,AE39,1),"") | AI39: =IFERROR(IF(AE39>0,1,""),"") | AJ39: {=MIN(IF(($U$4:$U$18=AJ$6)*($W$4:$W$18<=$AD39)*($X$4:$X$18>$AD39),$Q$4:$Q$18,""))} -> 0 | AK39: =COUNTIFS($U$4:$U$18,AJ$6,$W$4:$W$18,"<="&$AD39,$X$4:$X$18,">"&$AD39) -> 0 | AL39: =IF(AJ39=AJ38,"",IF(AJ39>0,INDEX($S$4:$S$18,AJ39,1)& IF(AK39>1," - " & AK39 &" Events overlap!",""),"")) | AM39: =IF(LEN(AN39)>0,INDEX($T$4:$T$18,AJ39,1),"") | AN39: =IFERROR(IF(AJ39>0,1,""),"") | AO39: {=MIN(IF(($U$4:$U$18=AO$6)*($W$4:$W$18<=$AD39)*($X$4:$X$18>$AD39),$Q$4:$Q$18,""))} -> 0 | AP39: =COUNTIFS($U$4:$U$18,AO$6,$W$4:$W$18,"<="&$AD39,$X$4:$X$18,">"&$AD39) -> 0 | AQ39: =IF(AO39=AO38,"",IF(AO39>0,INDEX($S$4:$S$18,AO39,1)& IF(AP39>1," - " & AP39 &" Events overlap!",""),"")) | AR39: =IF(LEN(AS39)>0,INDEX($T$4:$T$18,AO39,1),"") | AS39: =IFERROR(IF(AO39>0,1,""),"") | AT39: {=MIN(IF(($U$4:$U$18=AT$6)*($W$4:$W$18<=$AD39)*($X$4:$X$18>$AD39),$Q$4:$Q$18,""))} -> 5 | AU39: =COUNTIFS($U$4:$U$18,AT$6,$W$4:$W$18,"<="&$AD39,$X$4:$X$18,">"&$AD39) -> 1 | AV39: =IF(AT39=AT38,"",IF(AT39>0,INDEX($S$4:$S$18,AT39,1)& IF(AU39>1," - " & AU39 &" Events overlap!",""),"")) | AW39: =IF(LEN(AX39)>0,INDEX($T$4:$T$18,AT39,1),"") -> Night Life | AX39: =IFERROR(IF(AT39>0,1,""),"") -> 1 | AY39: {=MIN(IF(($U$4:$U$18=AY$6)*($W$4:$W$18<=$AD39)*($X$4:$X$18>$AD39),$Q$4:$Q$18,""))} -> 0 | AZ39: =COUNTIFS($U$4:$U$18,AY$6,$W$4:$W$18,"<="&$AD39,$X$4:$X$18,">"&$AD39) -> 0 | BA39: =IF(AY39=AY38,"",IF(AY39>0,INDEX($S$4:$S$18,AY39,1)& IF(AZ39>1," - " & AZ39 &" Events overlap!",""),"")) | BB39: =IF(LEN(BC39)>0,INDEX($T$4:$T$18,AY39,1),"") | BC39: =IFERROR(IF(AY39>0,1,""),"") | BD39: {=MIN(IF(($U$4:$U$18=BD$6)*($W$4:$W$18<=$AD39)*($X$4:$X$18>$AD39),$Q$4:$Q$18,""))} -> 0 | BE39: =COUNTIFS($U$4:$U$18,BD$6,$W$4:$W$18,"<="&$AD39,$X$4:$X$18,">"&$AD39) -> 0 | BF39: =IF(BD39=BD38,"",IF(BD39>0,INDEX($S$4:$S$18,BD39,1)& IF(BE39>1," - " & BE39 &" Events overlap!",""),"")) | BG39: =IF(LEN(BH39)>0,INDEX($T$4:$T$18,BD39,1),"") | BH39: =IFERROR(IF(BD39>0,1,""),"") | BI39: {=MIN(IF(($U$4:$U$18=BI$6)*($W$4:$W$18<=$AD39)*($X$4:$X$18>$AD39),$Q$4:$Q$18,""))} -> 0 | BJ39: =COUNTIFS($U$4:$U$18,BI$6,$W$4:$W$18,"<="&$AD39,$X$4:$X$18,">"&$AD39) -> 0 | BK39: =IF(BI39=BI38,"",IF(BI39>0,INDEX($S$4:$S$18,BI39,1)& IF(BJ39>1," - " & BJ39 &" Events overlap!",""),"")) | BL39: =IF(LEN(BM39)>0,INDEX($T$4:$T$18,BI39,1),"") | BM39: =IFERROR(IF(BI39>0,1,""),"")
B40: 29 | L40: =L39+step -> 0.75 | N40: Day 37 | O40: =IFERROR(O39+1,"") -> 45438 | AD40: =Schedule!C42 -> 0.95833333 | AE40: {=MIN(IF(($U$4:$U$18=AE$6)*($W$4:$W$18<=$AD40)*($X$4:$X$18>$AD40),$Q$4:$Q$18,""))} -> 0 | AF40: =COUNTIFS($U$4:$U$18,AE$6,$W$4:$W$18,"<="&$AD40,$X$4:$X$18,">"&$AD40) -> 0 | AG40: =IF(AE40=AE39,"",IF(AE40>0,INDEX($S$4:$S$18,AE40,1)& IF(AF40>1," - " & AF40 &" Events overlap!",""),"")) | AH40: =IF(LEN(AI40)>0,INDEX($T$4:$T$18,AE40,1),"") | AI40: =IFERROR(IF(AE40>0,1,""),"") | AJ40: {=MIN(IF(($U$4:$U$18=AJ$6)*($W$4:$W$18<=$AD40)*($X$4:$X$18>$AD40),$Q$4:$Q$18,""))} -> 0 | AK40: =COUNTIFS($U$4:$U$18,AJ$6,$W$4:$W$18,"<="&$AD40,$X$4:$X$18,">"&$AD40) -> 0 | AL40: =IF(AJ40=AJ39,"",IF(AJ40>0,INDEX($S$4:$S$18,AJ40,1)& IF(AK40>1," - " & AK40 &" Events overlap!",""),"")) | AM40: =IF(LEN(AN40)>0,INDEX($T$4:$T$18,AJ40,1),"") | AN40: =IFERROR(IF(AJ40>0,1,""),"") | AO40: {=MIN(IF(($U$4:$U$18=AO$6)*($W$4:$W$18<=$AD40)*($X$4:$X$18>$AD40),$Q$4:$Q$18,""))} -> 0 | AP40: =COUNTIFS($U$4:$U$18,AO$6,$W$4:$W$18,"<="&$AD40,$X$4:$X$18,">"&$AD40) -> 0 | AQ40: =IF(AO40=AO39,"",IF(AO40>0,INDEX($S$4:$S$18,AO40,1)& IF(AP40>1," - " & AP40 &" Events overlap!",""),"")) | AR40: =IF(LEN(AS40)>0,INDEX($T$4:$T$18,AO40,1),"") | AS40: =IFERROR(IF(AO40>0,1,""),"") | AT40: {=MIN(IF(($U$4:$U$18=AT$6)*($W$4:$W$18<=$AD40)*($X$4:$X$18>$AD40),$Q$4:$Q$18,""))} -> 0 | AU40: =COUNTIFS($U$4:$U$18,AT$6,$W$4:$W$18,"<="&$AD40,$X$4:$X$18,">"&$AD40) -> 0 | AV40: =IF(AT40=AT39,"",IF(AT40>0,INDEX($S$4:$S$18,AT40,1)& IF(AU40>1," - " & AU40 &" Events overlap!",""),"")) | AW40: =IF(LEN(AX40)>0,INDEX($T$4:$T$18,AT40,1),"") | AX40: =IFERROR(IF(AT40>0,1,""),"") | AY40: {=MIN(IF(($U$4:$U$18=AY$6)*($W$4:$W$18<=$AD40)*($X$4:$X$18>$AD40),$Q$4:$Q$18,""))} -> 0 | AZ40: =COUNTIFS($U$4:$U$18,AY$6,$W$4:$W$18,"<="&$AD40,$X$4:$X$18,">"&$AD40) -> 0 | BA40: =IF(AY40=AY39,"",IF(AY40>0,INDEX($S$4:$S$18,AY40,1)& IF(AZ40>1," - " & AZ40 &" Events overlap!",""),"")) | BB40: =IF(LEN(BC40)>0,INDEX($T$4:$T$18,AY40,1),"") | BC40: =IFERROR(IF(AY40>0,1,""),"") | BD40: {=MIN(IF(($U$4:$U$18=BD$6)*($W$4:$W$18<=$AD40)*($X$4:$X$18>$AD40),$Q$4:$Q$18,""))} -> 0 | BE40: =COUNTIFS($U$4:$U$18,BD$6,$W$4:$W$18,"<="&$AD40,$X$4:$X$18,">"&$AD40) -> 0 | BF40: =IF(BD40=BD39,"",IF(BD40>0,INDEX($S$4:$S$18,BD40,1)& IF(BE40>1," - " & BE40 &" Events overlap!",""),"")) | BG40: =IF(LEN(BH40)>0,INDEX($T$4:$T$18,BD40,1),"") | BH40: =IFERROR(IF(BD40>0,1,""),"") | BI40: {=MIN(IF(($U$4:$U$18=BI$6)*($W$4:$W$18<=$AD40)*($X$4:$X$18>$AD40),$Q$4:$Q$18,""))} -> 0 | BJ40: =COUNTIFS($U$4:$U$18,BI$6,$W$4:$W$18,"<="&$AD40,$X$4:$X$18,">"&$AD40) -> 0 | BK40: =IF(BI40=BI39,"",IF(BI40>0,INDEX($S$4:$S$18,BI40,1)& IF(BJ40>1," - " & BJ40 &" Events overlap!",""),"")) | BL40: =IF(LEN(BM40)>0,INDEX($T$4:$T$18,BI40,1),"") | BM40: =IFERROR(IF(BI40>0,1,""),"")
B41: 30 | L41: =L40+step -> 0.77083333 | N41: Day 38 | O41: =IFERROR(O40+1,"") -> 45439 | AD41: =Schedule!C43 -> 0.97916667 | AE41: {=MIN(IF(($U$4:$U$18=AE$6)*($W$4:$W$18<=$AD41)*($X$4:$X$18>$AD41),$Q$4:$Q$18,""))} -> 0 | AF41: =COUNTIFS($U$4:$U$18,AE$6,$W$4:$W$18,"<="&$AD41,$X$4:$X$18,">"&$AD41) -> 0 | AG41: =IF(AE41=AE40,"",IF(AE41>0,INDEX($S$4:$S$18,AE41,1)& IF(AF41>1," - " & AF41 &" Events overlap!",""),"")) | AH41: =IF(LEN(AI41)>0,INDEX($T$4:$T$18,AE41,1),"") | AI41: =IFERROR(IF(AE41>0,1,""),"") | AJ41: {=MIN(IF(($U$4:$U$18=AJ$6)*($W$4:$W$18<=$AD41)*($X$4:$X$18>$AD41),$Q$4:$Q$18,""))} -> 0 | AK41: =COUNTIFS($U$4:$U$18,AJ$6,$W$4:$W$18,"<="&$AD41,$X$4:$X$18,">"&$AD41) -> 0 | AL41: =IF(AJ41=AJ40,"",IF(AJ41>0,INDEX($S$4:$S$18,AJ41,1)& IF(AK41>1," - " & AK41 &" Events overlap!",""),"")) | AM41: =IF(LEN(AN41)>0,INDEX($T$4:$T$18,AJ41,1),"") | AN41: =IFERROR(IF(AJ41>0,1,""),"") | AO41: {=MIN(IF(($U$4:$U$18=AO$6)*($W$4:$W$18<=$AD41)*($X$4:$X$18>$AD41),$Q$4:$Q$18,""))} -> 0 | AP41: =COUNTIFS($U$4:$U$18,AO$6,$W$4:$W$18,"<="&$AD41,$X$4:$X$18,">"&$AD41) -> 0 | AQ41: =IF(AO41=AO40,"",IF(AO41>0,INDEX($S$4:$S$18,AO41,1)& IF(AP41>1," - " & AP41 &" Events overlap!",""),"")) | AR41: =IF(LEN(AS41)>0,INDEX($T$4:$T$18,AO41,1),"") | AS41: =IFERROR(IF(AO41>0,1,""),"") | AT41: {=MIN(IF(($U$4:$U$18=AT$6)*($W$4:$W$18<=$AD41)*($X$4:$X$18>$AD41),$Q$4:$Q$18,""))} -> 0 | AU41: =COUNTIFS($U$4:$U$18,AT$6,$W$4:$W$18,"<="&$AD41,$X$4:$X$18,">"&$AD41) -> 0 | AV41: =IF(AT41=AT40,"",IF(AT41>0,INDEX($S$4:$S$18,AT41,1)& IF(AU41>1," - " & AU41 &" Events overlap!",""),"")) | AW41: =IF(LEN(AX41)>0,INDEX($T$4:$T$18,AT41,1),"") | AX41: =IFERROR(IF(AT41>0,1,""),"") | AY41: {=MIN(IF(($U$4:$U$18=AY$6)*($W$4:$W$18<=$AD41)*($X$4:$X$18>$AD41),$Q$4:$Q$18,""))} -> 0 | AZ41: =COUNTIFS($U$4:$U$18,AY$6,$W$4:$W$18,"<="&$AD41,$X$4:$X$18,">"&$AD41) -> 0 | BA41: =IF(AY41=AY40,"",IF(AY41>0,INDEX($S$4:$S$18,AY41,1)& IF(AZ41>1," - " & AZ41 &" Events overlap!",""),"")) | BB41: =IF(LEN(BC41)>0,INDEX($T$4:$T$18,AY41,1),"") | BC41: =IFERROR(IF(AY41>0,1,""),"") | BD41: {=MIN(IF(($U$4:$U$18=BD$6)*($W$4:$W$18<=$AD41)*($X$4:$X$18>$AD41),$Q$4:$Q$18,""))} -> 0 | BE41: =COUNTIFS($U$4:$U$18,BD$6,$W$4:$W$18,"<="&$AD41,$X$4:$X$18,">"&$AD41) -> 0 | BF41: =IF(BD41=BD40,"",IF(BD41>0,INDEX($S$4:$S$18,BD41,1)& IF(BE41>1," - " & BE41 &" Events overlap!",""),"")) | BG41: =IF(LEN(BH41)>0,INDEX($T$4:$T$18,BD41,1),"") | BH41: =IFERROR(IF(BD41>0,1,""),"") | BI41: {=MIN(IF(($U$4:$U$18=BI$6)*($W$4:$W$18<=$AD41)*($X$4:$X$18>$AD41),$Q$4:$Q$18,""))} -> 0 | BJ41: =COUNTIFS($U$4:$U$18,BI$6,$W$4:$W$18,"<="&$AD41,$X$4:$X$18,">"&$AD41) -> 0 | BK41: =IF(BI41=BI40,"",IF(BI41>0,INDEX($S$4:$S$18,BI41,1)& IF(BJ41>1," - " & BJ41 &" Events overlap!",""),"")) | BL41: =IF(LEN(BM41)>0,INDEX($T$4:$T$18,BI41,1),"") | BM41: =IFERROR(IF(BI41>0,1,""),"")
B42: 31 | L42: =L41+step -> 0.79166667 | N42: Day 39 | O42: =IFERROR(O41+1,"") -> 45440 | AD42: =Schedule!C44 | AE42: {=MIN(IF(($U$4:$U$18=AE$6)*($W$4:$W$18<=$AD42)*($X$4:$X$18>$AD42),$Q$4:$Q$18,""))} -> 0 | AF42: =COUNTIFS($U$4:$U$18,AE$6,$W$4:$W$18,"<="&$AD42,$X$4:$X$18,">"&$AD42) -> 0 | AG42: =IF(AE42=AE41,"",IF(AE42>0,INDEX($S$4:$S$18,AE42,1)& IF(AF42>1," - " & AF42 &" Events overlap!",""),"")) | AH42: =IF(LEN(AI42)>0,INDEX($T$4:$T$18,AE42,1),"") | AI42: =IFERROR(IF(AE42>0,1,""),"") | AJ42: {=MIN(IF(($U$4:$U$18=AJ$6)*($W$4:$W$18<=$AD42)*($X$4:$X$18>$AD42),$Q$4:$Q$18,""))} -> 0 | AK42: =COUNTIFS($U$4:$U$18,AJ$6,$W$4:$W$18,"<="&$AD42,$X$4:$X$18,">"&$AD42) -> 0 | AL42: =IF(AJ42=AJ41,"",IF(AJ42>0,INDEX($S$4:$S$18,AJ42,1)& IF(AK42>1," - " & AK42 &" Events overlap!",""),"")) | AM42: =IF(LEN(AN42)>0,INDEX($T$4:$T$18,AJ42,1),"") | AN42: =IFERROR(IF(AJ42>0,1,""),"") | AO42: {=MIN(IF(($U$4:$U$18=AO$6)*($W$4:$W$18<=$AD42)*($X$4:$X$18>$AD42),$Q$4:$Q$18,""))} -> 0 | AP42: =COUNTIFS($U$4:$U$18,AO$6,$W$4:$W$18,"<="&$AD42,$X$4:$X$18,">"&$AD42) -> 0 | AQ42: =IF(AO42=AO41,"",IF(AO42>0,INDEX($S$4:$S$18,AO42,1)& IF(AP42>1," - " & AP42 &" Events overlap!",""),"")) | AR42: =IF(LEN(AS42)>0,INDEX($T$4:$T$18,AO42,1),"") | AS42: =IFERROR(IF(AO42>0,1,""),"") | AT42: {=MIN(IF(($U$4:$U$18=AT$6)*($W$4:$W$18<=$AD42)*($X$4:$X$18>$AD42),$Q$4:$Q$18,""))} -> 0 | AU42: =COUNTIFS($U$4:$U$18,AT$6,$W$4:$W$18,"<="&$AD42,$X$4:$X$18,">"&$AD42) -> 0 | AV42: =IF(AT42=AT41,"",IF(AT42>0,INDEX($S$4:$S$18,AT42,1)& IF(AU42>1," - " & AU42 &" Events overlap!",""),"")) | AW42: =IF(LEN(AX42)>0,INDEX($T$4:$T$18,AT42,1),"") | AX42: =IFERROR(IF(AT42>0,1,""),"") | AY42: {=MIN(IF(($U$4:$U$18=AY$6)*($W$4:$W$18<=$AD42)*($X$4:$X$18>$AD42),$Q$4:$Q$18,""))} -> 0 | AZ42: =COUNTIFS($U$4:$U$18,AY$6,$W$4:$W$18,"<="&$AD42,$X$4:$X$18,">"&$AD42) -> 0 | BA42: =IF(AY42=AY41,"",IF(AY42>0,INDEX($S$4:$S$18,AY42,1)& IF(AZ42>1," - " & AZ42 &" Events overlap!",""),"")) | BB42: =IF(LEN(BC42)>0,INDEX($T$4:$T$18,AY42,1),"") | BC42: =IFERROR(IF(AY42>0,1,""),"") | BD42: {=MIN(IF(($U$4:$U$18=BD$6)*($W$4:$W$18<=$AD42)*($X$4:$X$18>$AD42),$Q$4:$Q$18,""))} -> 0 | BE42: =COUNTIFS($U$4:$U$18,BD$6,$W$4:$W$18,"<="&$AD42,$X$4:$X$18,">"&$AD42) -> 0 | BF42: =IF(BD42=BD41,"",IF(BD42>0,INDEX($S$4:$S$18,BD42,1)& IF(BE42>1," - " & BE42 &" Events overlap!",""),"")) | BG42: =IF(LEN(BH42)>0,INDEX($T$4:$T$18,BD42,1),"") | BH42: =IFERROR(IF(BD42>0,1,""),"") | BI42: {=MIN(IF(($U$4:$U$18=BI$6)*($W$4:$W$18<=$AD42)*($X$4:$X$18>$AD42),$Q$4:$Q$18,""))} -> 0 | BJ42: =COUNTIFS($U$4:$U$18,BI$6,$W$4:$W$18,"<="&$AD42,$X$4:$X$18,">"&$AD42) -> 0 | BK42: =IF(BI42=BI41,"",IF(BI42>0,INDEX($S$4:$S$18,BI42,1)& IF(BJ42>1," - " & BJ42 &" Events overlap!",""),"")) | BL42: =IF(LEN(BM42)>0,INDEX($T$4:$T$18,BI42,1),"") | BM42: =IFERROR(IF(BI42>0,1,""),"")
L43: =L42+step -> 0.8125 | N43: Day 40 | O43: =IFERROR(O42+1,"") -> 45441 | AD43: =Schedule!C45 | AE43: {=MIN(IF(($U$4:$U$18=AE$6)*($W$4:$W$18<=$AD43)*($X$4:$X$18>$AD43),$Q$4:$Q$18,""))} -> 0 | AF43: =COUNTIFS($U$4:$U$18,AE$6,$W$4:$W$18,"<="&$AD43,$X$4:$X$18,">"&$AD43) -> 0 | AG43: =IF(AE43=AE42,"",IF(AE43>0,INDEX($S$4:$S$18,AE43,1)& IF(AF43>1," - " & AF43 &" Events overlap!",""),"")) | AH43: =IF(LEN(AI43)>0,INDEX($T$4:$T$18,AE43,1),"") | AI43: =IFERROR(IF(AE43>0,1,""),"") | AJ43: {=MIN(IF(($U$4:$U$18=AJ$6)*($W$4:$W$18<=$AD43)*($X$4:$X$18>$AD43),$Q$4:$Q$18,""))} -> 0 | AK43: =COUNTIFS($U$4:$U$18,AJ$6,$W$4:$W$18,"<="&$AD43,$X$4:$X$18,">"&$AD43) -> 0 | AL43: =IF(AJ43=AJ42,"",IF(AJ43>0,INDEX($S$4:$S$18,AJ43,1)& IF(AK43>1," - " & AK43 &" Events overlap!",""),"")) | AM43: =IF(LEN(AN43)>0,INDEX($T$4:$T$18,AJ43,1),"") | AN43: =IFERROR(IF(AJ43>0,1,""),"") | AO43: {=MIN(IF(($U$4:$U$18=AO$6)*($W$4:$W$18<=$AD43)*($X$4:$X$18>$AD43),$Q$4:$Q$18,""))} -> 0 | AP43: =COUNTIFS($U$4:$U$18,AO$6,$W$4:$W$18,"<="&$AD43,$X$4:$X$18,">"&$AD43) -> 0 | AQ43: =IF(AO43=AO42,"",IF(AO43>0,INDEX($S$4:$S$18,AO43,1)& IF(AP43>1," - " & AP43 &" Events overlap!",""),"")) | AR43: =IF(LEN(AS43)>0,INDEX($T$4:$T$18,AO43,1),"") | AS43: =IFERROR(IF(AO43>0,1,""),"") | AT43: {=MIN(IF(($U$4:$U$18=AT$6)*($W$4:$W$18<=$AD43)*($X$4:$X$18>$AD43),$Q$4:$Q$18,""))} -> 0 | AU43: =COUNTIFS($U$4:$U$18,AT$6,$W$4:$W$18,"<="&$AD43,$X$4:$X$18,">"&$AD43) -> 0 | AV43: =IF(AT43=AT42,"",IF(AT43>0,INDEX($S$4:$S$18,AT43,1)& IF(AU43>1," - " & AU43 &" Events overlap!",""),"")) | AW43: =IF(LEN(AX43)>0,INDEX($T$4:$T$18,AT43,1),"") | AX43: =IFERROR(IF(AT43>0,1,""),"") | AY43: {=MIN(IF(($U$4:$U$18=AY$6)*($W$4:$W$18<=$AD43)*($X$4:$X$18>$AD43),$Q$4:$Q$18,""))} -> 0 | AZ43: =COUNTIFS($U$4:$U$18,AY$6,$W$4:$W$18,"<="&$AD43,$X$4:$X$18,">"&$AD43) -> 0 | BA43: =IF(AY43=AY42,"",IF(AY43>0,INDEX($S$4:$S$18,AY43,1)& IF(AZ43>1," - " & AZ43 &" Events overlap!",""),"")) | BB43: =IF(LEN(BC43)>0,INDEX($T$4:$T$18,AY43,1),"") | BC43: =IFERROR(IF(AY43>0,1,""),"") | BD43: {=MIN(IF(($U$4:$U$18=BD$6)*($W$4:$W$18<=$AD43)*($X$4:$X$18>$AD43),$Q$4:$Q$18,""))} -> 0 | BE43: =COUNTIFS($U$4:$U$18,BD$6,$W$4:$W$18,"<="&$AD43,$X$4:$X$18,">"&$AD43) -> 0 | BF43: =IF(BD43=BD42,"",IF(BD43>0,INDEX($S$4:$S$18,BD43,1)& IF(BE43>1," - " & BE43 &" Events overlap!",""),"")) | BG43: =IF(LEN(BH43)>0,INDEX($T$4:$T$18,BD43,1),"") | BH43: =IFERROR(IF(BD43>0,1,""),"") | BI43: {=MIN(IF(($U$4:$U$18=BI$6)*($W$4:$W$18<=$AD43)*($X$4:$X$18>$AD43),$Q$4:$Q$18,""))} -> 0 | BJ43: =COUNTIFS($U$4:$U$18,BI$6,$W$4:$W$18,"<="&$AD43,$X$4:$X$18,">"&$AD43) -> 0 | BK43: =IF(BI43=BI42,"",IF(BI43>0,INDEX($S$4:$S$18,BI43,1)& IF(BJ43>1," - " & BJ43 &" Events overlap!",""),"")) | BL43: =IF(LEN(BM43)>0,INDEX($T$4:$T$18,BI43,1),"") | BM43: =IFERROR(IF(BI43>0,1,""),"")
L44: =L43+step -> 0.83333333 | N44: Day 41 | O44: =IFERROR(O43+1,"") -> 45442 | AD44: =Schedule!C46 | AE44: {=MIN(IF(($U$4:$U$18=AE$6)*($W$4:$W$18<=$AD44)*($X$4:$X$18>$AD44),$Q$4:$Q$18,""))} -> 0 | AF44: =COUNTIFS($U$4:$U$18,AE$6,$W$4:$W$18,"<="&$AD44,$X$4:$X$18,">"&$AD44) -> 0 | AG44: =IF(AE44=AE43,"",IF(AE44>0,INDEX($S$4:$S$18,AE44,1)& IF(AF44>1," - " & AF44 &" Events overlap!",""),"")) | AH44: =IF(LEN(AI44)>0,INDEX($T$4:$T$18,AE44,1),"") | AI44: =IFERROR(IF(AE44>0,1,""),"") | AJ44: {=MIN(IF(($U$4:$U$18=AJ$6)*($W$4:$W$18<=$AD44)*($X$4:$X$18>$AD44),$Q$4:$Q$18,""))} -> 0 | AK44: =COUNTIFS($U$4:$U$18,AJ$6,$W$4:$W$18,"<="&$AD44,$X$4:$X$18,">"&$AD44) -> 0 | AL44: =IF(AJ44=AJ43,"",IF(AJ44>0,INDEX($S$4:$S$18,AJ44,1)& IF(AK44>1," - " & AK44 &" Events overlap!",""),"")) | AM44: =IF(LEN(AN44)>0,INDEX($T$4:$T$18,AJ44,1),"") | AN44: =IFERROR(IF(AJ44>0,1,""),"") | AO44: {=MIN(IF(($U$4:$U$18=AO$6)*($W$4:$W$18<=$AD44)*($X$4:$X$18>$AD44),$Q$4:$Q$18,""))} -> 0 | AP44: =COUNTIFS($U$4:$U$18,AO$6,$W$4:$W$18,"<="&$AD44,$X$4:$X$18,">"&$AD44) -> 0 | AQ44: =IF(AO44=AO43,"",IF(AO44>0,INDEX($S$4:$S$18,AO44,1)& IF(AP44>1," - " & AP44 &" Events overlap!",""),"")) | AR44: =IF(LEN(AS44)>0,INDEX($T$4:$T$18,AO44,1),"") | AS44: =IFERROR(IF(AO44>0,1,""),"") | AT44: {=MIN(IF(($U$4:$U$18=AT$6)*($W$4:$W$18<=$AD44)*($X$4:$X$18>$AD44),$Q$4:$Q$18,""))} -> 0 | AU44: =COUNTIFS($U$4:$U$18,AT$6,$W$4:$W$18,"<="&$AD44,$X$4:$X$18,">"&$AD44) -> 0 | AV44: =IF(AT44=AT43,"",IF(AT44>0,INDEX($S$4:$S$18,AT44,1)& IF(AU44>1," - " & AU44 &" Events overlap!",""),"")) | AW44: =IF(LEN(AX44)>0,INDEX($T$4:$T$18,AT44,1),"") | AX44: =IFERROR(IF(AT44>0,1,""),"") | AY44: {=MIN(IF(($U$4:$U$18=AY$6)*($W$4:$W$18<=$AD44)*($X$4:$X$18>$AD44),$Q$4:$Q$18,""))} -> 0 | AZ44: =COUNTIFS($U$4:$U$18,AY$6,$W$4:$W$18,"<="&$AD44,$X$4:$X$18,">"&$AD44) -> 0 | BA44: =IF(AY44=AY43,"",IF(AY44>0,INDEX($S$4:$S$18,AY44,1)& IF(AZ44>1," - " & AZ44 &" Events overlap!",""),"")) | BB44: =IF(LEN(BC44)>0,INDEX($T$4:$T$18,AY44,1),"") | BC44: =IFERROR(IF(AY44>0,1,""),"") | BD44: {=MIN(IF(($U$4:$U$18=BD$6)*($W$4:$W$18<=$AD44)*($X$4:$X$18>$AD44),$Q$4:$Q$18,""))} -> 0 | BE44: =COUNTIFS($U$4:$U$18,BD$6,$W$4:$W$18,"<="&$AD44,$X$4:$X$18,">"&$AD44) -> 0 | BF44: =IF(BD44=BD43,"",IF(BD44>0,INDEX($S$4:$S$18,BD44,1)& IF(BE44>1," - " & BE44 &" Events overlap!",""),"")) | BG44: =IF(LEN(BH44)>0,INDEX($T$4:$T$18,BD44,1),"") | BH44: =IFERROR(IF(BD44>0,1,""),"") | BI44: {=MIN(IF(($U$4:$U$18=BI$6)*($W$4:$W$18<=$AD44)*($X$4:$X$18>$AD44),$Q$4:$Q$18,""))} -> 0 | BJ44: =COUNTIFS($U$4:$U$18,BI$6,$W$4:$W$18,"<="&$AD44,$X$4:$X$18,">"&$AD44) -> 0 | BK44: =IF(BI44=BI43,"",IF(BI44>0,INDEX($S$4:$S$18,BI44,1)& IF(BJ44>1," - " & BJ44 &" Events overlap!",""),"")) | BL44: =IF(LEN(BM44)>0,INDEX($T$4:$T$18,BI44,1),"") | BM44: =IFERROR(IF(BI44>0,1,""),"")
L45: =L44+step -> 0.85416667 | N45: Day 42 | O45: =IFERROR(O44+1,"") -> 45443 | AD45: =Schedule!C47 | AE45: {=MIN(IF(($U$4:$U$18=AE$6)*($W$4:$W$18<=$AD45)*($X$4:$X$18>$AD45),$Q$4:$Q$18,""))} -> 0 | AF45: =COUNTIFS($U$4:$U$18,AE$6,$W$4:$W$18,"<="&$AD45,$X$4:$X$18,">"&$AD45) -> 0 | AG45: =IF(AE45=AE44,"",IF(AE45>0,INDEX($S$4:$S$18,AE45,1)& IF(AF45>1," - " & AF45 &" Events overlap!",""),"")) | AH45: =IF(LEN(AI45)>0,INDEX($T$4:$T$18,AE45,1),"") | AI45: =IFERROR(IF(AE45>0,1,""),"") | AJ45: {=MIN(IF(($U$4:$U$18=AJ$6)*($W$4:$W$18<=$AD45)*($X$4:$X$18>$AD45),$Q$4:$Q$18,""))} -> 0 | AK45: =COUNTIFS($U$4:$U$18,AJ$6,$W$4:$W$18,"<="&$AD45,$X$4:$X$18,">"&$AD45) -> 0 | AL45: =IF(AJ45=AJ44,"",IF(AJ45>0,INDEX($S$4:$S$18,AJ45,1)& IF(AK45>1," - " & AK45 &" Events overlap!",""),"")) | AM45: =IF(LEN(AN45)>0,INDEX($T$4:$T$18,AJ45,1),"") | AN45: =IFERROR(IF(AJ45>0,1,""),"") | AO45: {=MIN(IF(($U$4:$U$18=AO$6)*($W$4:$W$18<=$AD45)*($X$4:$X$18>$AD45),$Q$4:$Q$18,""))} -> 0 | AP45: =COUNTIFS($U$4:$U$18,AO$6,$W$4:$W$18,"<="&$AD45,$X$4:$X$18,">"&$AD45) -> 0 | AQ45: =IF(AO45=AO44,"",IF(AO45>0,INDEX($S$4:$S$18,AO45,1)& IF(AP45>1," - " & AP45 &" Events overlap!",""),"")) | AR45: =IF(LEN(AS45)>0,INDEX($T$4:$T$18,AO45,1),"") | AS45: =IFERROR(IF(AO45>0,1,""),"") | AT45: {=MIN(IF(($U$4:$U$18=AT$6)*($W$4:$W$18<=$AD45)*($X$4:$X$18>$AD45),$Q$4:$Q$18,""))} -> 0 | AU45: =COUNTIFS($U$4:$U$18,AT$6,$W$4:$W$18,"<="&$AD45,$X$4:$X$18,">"&$AD45) -> 0 | AV45: =IF(AT45=AT44,"",IF(AT45>0,INDEX($S$4:$S$18,AT45,1)& IF(AU45>1," - " & AU45 &" Events overlap!",""),"")) | AW45: =IF(LEN(AX45)>0,INDEX($T$4:$T$18,AT45,1),"") | AX45: =IFERROR(IF(AT45>0,1,""),"") | AY45: {=MIN(IF(($U$4:$U$18=AY$6)*($W$4:$W$18<=$AD45)*($X$4:$X$18>$AD45),$Q$4:$Q$18,""))} -> 0 | AZ45: =COUNTIFS($U$4:$U$18,AY$6,$W$4:$W$18,"<="&$AD45,$X$4:$X$18,">"&$AD45) -> 0 | BA45: =IF(AY45=AY44,"",IF(AY45>0,INDEX($S$4:$S$18,AY45,1)& IF(AZ45>1," - " & AZ45 &" Events overlap!",""),"")) | BB45: =IF(LEN(BC45)>0,INDEX($T$4:$T$18,AY45,1),"") | BC45: =IFERROR(IF(AY45>0,1,""),"") | BD45: {=MIN(IF(($U$4:$U$18=BD$6)*($W$4:$W$18<=$AD45)*($X$4:$X$18>$AD45),$Q$4:$Q$18,""))} -> 0 | BE45: =COUNTIFS($U$4:$U$18,BD$6,$W$4:$W$18,"<="&$AD45,$X$4:$X$18,">"&$AD45) -> 0 | BF45: =IF(BD45=BD44,"",IF(BD45>0,INDEX($S$4:$S$18,BD45,1)& IF(BE45>1," - " & BE45 &" Events overlap!",""),"")) | BG45: =IF(LEN(BH45)>0,INDEX($T$4:$T$18,BD45,1),"") | BH45: =IFERROR(IF(BD45>0,1,""),"") | BI45: {=MIN(IF(($U$4:$U$18=BI$6)*($W$4:$W$18<=$AD45)*($X$4:$X$18>$AD45),$Q$4:$Q$18,""))} -> 0 | BJ45: =COUNTIFS($U$4:$U$18,BI$6,$W$4:$W$18,"<="&$AD45,$X$4:$X$18,">"&$AD45) -> 0 | BK45: =IF(BI45=BI44,"",IF(BI45>0,INDEX($S$4:$S$18,BI45,1)& IF(BJ45>1," - " & BJ45 &" Events overlap!",""),"")) | BL45: =IF(LEN(BM45)>0,INDEX($T$4:$T$18,BI45,1),"") | BM45: =IFERROR(IF(BI45>0,1,""),"")
L46: =L45+step -> 0.875 | N46: Day 43 | O46: =IFERROR(O45+1,"") -> 45444 | AD46: =Schedule!C48 | AE46: {=MIN(IF(($U$4:$U$18=AE$6)*($W$4:$W$18<=$AD46)*($X$4:$X$18>$AD46),$Q$4:$Q$18,""))} -> 0 | AF46: =COUNTIFS($U$4:$U$18,AE$6,$W$4:$W$18,"<="&$AD46,$X$4:$X$18,">"&$AD46) -> 0 | AG46: =IF(AE46=AE45,"",IF(AE46>0,INDEX($S$4:$S$18,AE46,1)& IF(AF46>1," - " & AF46 &" Events overlap!",""),"")) | AH46: =IF(LEN(AI46)>0,INDEX($T$4:$T$18,AE46,1),"") | AI46: =IFERROR(IF(AE46>0,1,""),"") | AJ46: {=MIN(IF(($U$4:$U$18=AJ$6)*($W$4:$W$18<=$AD46)*($X$4:$X$18>$AD46),$Q$4:$Q$18,""))} -> 0 | AK46: =COUNTIFS($U$4:$U$18,AJ$6,$W$4:$W$18,"<="&$AD46,$X$4:$X$18,">"&$AD46) -> 0 | AL46: =IF(AJ46=AJ45,"",IF(AJ46>0,INDEX($S$4:$S$18,AJ46,1)& IF(AK46>1," - " & AK46 &" Events overlap!",""),"")) | AM46: =IF(LEN(AN46)>0,INDEX($T$4:$T$18,AJ46,1),"") | AN46: =IFERROR(IF(AJ46>0,1,""),"") | AO46: {=MIN(IF(($U$4:$U$18=AO$6)*($W$4:$W$18<=$AD46)*($X$4:$X$18>$AD46),$Q$4:$Q$18,""))} -> 0 | AP46: =COUNTIFS($U$4:$U$18,AO$6,$W$4:$W$18,"<="&$AD46,$X$4:$X$18,">"&$AD46) -> 0 | AQ46: =IF(AO46=AO45,"",IF(AO46>0,INDEX($S$4:$S$18,AO46,1)& IF(AP46>1," - " & AP46 &" Events overlap!",""),"")) | AR46: =IF(LEN(AS46)>0,INDEX($T$4:$T$18,AO46,1),"") | AS46: =IFERROR(IF(AO46>0,1,""),"") | AT46: {=MIN(IF(($U$4:$U$18=AT$6)*($W$4:$W$18<=$AD46)*($X$4:$X$18>$AD46),$Q$4:$Q$18,""))} -> 0 | AU46: =COUNTIFS($U$4:$U$18,AT$6,$W$4:$W$18,"<="&$AD46,$X$4:$X$18,">"&$AD46) -> 0 | AV46: =IF(AT46=AT45,"",IF(AT46>0,INDEX($S$4:$S$18,AT46,1)& IF(AU46>1," - " & AU46 &" Events overlap!",""),"")) | AW46: =IF(LEN(AX46)>0,INDEX($T$4:$T$18,AT46,1),"") | AX46: =IFERROR(IF(AT46>0,1,""),"") | AY46: {=MIN(IF(($U$4:$U$18=AY$6)*($W$4:$W$18<=$AD46)*($X$4:$X$18>$AD46),$Q$4:$Q$18,""))} -> 0 | AZ46: =COUNTIFS($U$4:$U$18,AY$6,$W$4:$W$18,"<="&$AD46,$X$4:$X$18,">"&$AD46) -> 0 | BA46: =IF(AY46=AY45,"",IF(AY46>0,INDEX($S$4:$S$18,AY46,1)& IF(AZ46>1," - " & AZ46 &" Events overlap!",""),"")) | BB46: =IF(LEN(BC46)>0,INDEX($T$4:$T$18,AY46,1),"") | BC46: =IFERROR(IF(AY46>0,1,""),"") | BD46: {=MIN(IF(($U$4:$U$18=BD$6)*($W$4:$W$18<=$AD46)*($X$4:$X$18>$AD46),$Q$4:$Q$18,""))} -> 0 | BE46: =COUNTIFS($U$4:$U$18,BD$6,$W$4:$W$18,"<="&$AD46,$X$4:$X$18,">"&$AD46) -> 0 | BF46: =IF(BD46=BD45,"",IF(BD46>0,INDEX($S$4:$S$18,BD46,1)& IF(BE46>1," - " & BE46 &" Events overlap!",""),"")) | BG46: =IF(LEN(BH46)>0,INDEX($T$4:$T$18,BD46,1),"") | BH46: =IFERROR(IF(BD46>0,1,""),"") | BI46: {=MIN(IF(($U$4:$U$18=BI$6)*($W$4:$W$18<=$AD46)*($X$4:$X$18>$AD46),$Q$4:$Q$18,""))} -> 0 | BJ46: =COUNTIFS($U$4:$U$18,BI$6,$W$4:$W$18,"<="&$AD46,$X$4:$X$18,">"&$AD46) -> 0 | BK46: =IF(BI46=BI45,"",IF(BI46>0,INDEX($S$4:$S$18,BI46,1)& IF(BJ46>1," - " & BJ46 &" Events overlap!",""),"")) | BL46: =IF(LEN(BM46)>0,INDEX($T$4:$T$18,BI46,1),"") | BM46: =IFERROR(IF(BI46>0,1,""),"")
L47: =L46+step -> 0.89583333 | N47: Day 44 | O47: =IFERROR(O46+1,"") -> 45445 | AD47: =Schedule!C49 | AE47: {=MIN(IF(($U$4:$U$18=AE$6)*($W$4:$W$18<=$AD47)*($X$4:$X$18>$AD47),$Q$4:$Q$18,""))} -> 0 | AF47: =COUNTIFS($U$4:$U$18,AE$6,$W$4:$W$18,"<="&$AD47,$X$4:$X$18,">"&$AD47) -> 0 | AG47: =IF(AE47=AE46,"",IF(AE47>0,INDEX($S$4:$S$18,AE47,1)& IF(AF47>1," - " & AF47 &" Events overlap!",""),"")) | AH47: =IF(LEN(AI47)>0,INDEX($T$4:$T$18,AE47,1),"") | AI47: =IFERROR(IF(AE47>0,1,""),"") | AJ47: {=MIN(IF(($U$4:$U$18=AJ$6)*($W$4:$W$18<=$AD47)*($X$4:$X$18>$AD47),$Q$4:$Q$18,""))} -> 0 | AK47: =COUNTIFS($U$4:$U$18,AJ$6,$W$4:$W$18,"<="&$AD47,$X$4:$X$18,">"&$AD47) -> 0 | AL47: =IF(AJ47=AJ46,"",IF(AJ47>0,INDEX($S$4:$S$18,AJ47,1)& IF(AK47>1," - " & AK47 &" Events overlap!",""),"")) | AM47: =IF(LEN(AN47)>0,INDEX($T$4:$T$18,AJ47,1),"") | AN47: =IFERROR(IF(AJ47>0,1,""),"") | AO47: {=MIN(IF(($U$4:$U$18=AO$6)*($W$4:$W$18<=$AD47)*($X$4:$X$18>$AD47),$Q$4:$Q$18,""))} -> 0 | AP47: =COUNTIFS($U$4:$U$18,AO$6,$W$4:$W$18,"<="&$AD47,$X$4:$X$18,">"&$AD47) -> 0 | AQ47: =IF(AO47=AO46,"",IF(AO47>0,INDEX($S$4:$S$18,AO47,1)& IF(AP47>1," - " & AP47 &" Events overlap!",""),"")) | AR47: =IF(LEN(AS47)>0,INDEX($T$4:$T$18,AO47,1),"") | AS47: =IFERROR(IF(AO47>0,1,""),"") | AT47: {=MIN(IF(($U$4:$U$18=AT$6)*($W$4:$W$18<=$AD47)*($X$4:$X$18>$AD47),$Q$4:$Q$18,""))} -> 0 | AU47: =COUNTIFS($U$4:$U$18,AT$6,$W$4:$W$18,"<="&$AD47,$X$4:$X$18,">"&$AD47) -> 0 | AV47: =IF(AT47=AT46,"",IF(AT47>0,INDEX($S$4:$S$18,AT47,1)& IF(AU47>1," - " & AU47 &" Events overlap!",""),"")) | AW47: =IF(LEN(AX47)>0,INDEX($T$4:$T$18,AT47,1),"") | AX47: =IFERROR(IF(AT47>0,1,""),"") | AY47: {=MIN(IF(($U$4:$U$18=AY$6)*($W$4:$W$18<=$AD47)*($X$4:$X$18>$AD47),$Q$4:$Q$18,""))} -> 0 | AZ47: =COUNTIFS($U$4:$U$18,AY$6,$W$4:$W$18,"<="&$AD47,$X$4:$X$18,">"&$AD47) -> 0 | BA47: =IF(AY47=AY46,"",IF(AY47>0,INDEX($S$4:$S$18,AY47,1)& IF(AZ47>1," - " & AZ47 &" Events overlap!",""),"")) | BB47: =IF(LEN(BC47)>0,INDEX($T$4:$T$18,AY47,1),"") | BC47: =IFERROR(IF(AY47>0,1,""),"") | BD47: {=MIN(IF(($U$4:$U$18=BD$6)*($W$4:$W$18<=$AD47)*($X$4:$X$18>$AD47),$Q$4:$Q$18,""))} -> 0 | BE47: =COUNTIFS($U$4:$U$18,BD$6,$W$4:$W$18,"<="&$AD47,$X$4:$X$18,">"&$AD47) -> 0 | BF47: =IF(BD47=BD46,"",IF(BD47>0,INDEX($S$4:$S$18,BD47,1)& IF(BE47>1," - " & BE47 &" Events overlap!",""),"")) | BG47: =IF(LEN(BH47)>0,INDEX($T$4:$T$18,BD47,1),"") | BH47: =IFERROR(IF(BD47>0,1,""),"") | BI47: {=MIN(IF(($U$4:$U$18=BI$6)*($W$4:$W$18<=$AD47)*($X$4:$X$18>$AD47),$Q$4:$Q$18,""))} -> 0 | BJ47: =COUNTIFS($U$4:$U$18,BI$6,$W$4:$W$18,"<="&$AD47,$X$4:$X$18,">"&$AD47) -> 0 | BK47: =IF(BI47=BI46,"",IF(BI47>0,INDEX($S$4:$S$18,BI47,1)& IF(BJ47>1," - " & BJ47 &" Events overlap!",""),"")) | BL47: =IF(LEN(BM47)>0,INDEX($T$4:$T$18,BI47,1),"") | BM47: =IFERROR(IF(BI47>0,1,""),"")
L48: =L47+step -> 0.91666667 | N48: Day 45 | O48: =IFERROR(O47+1,"") -> 45446 | AD48: =Schedule!C50 | AE48: {=MIN(IF(($U$4:$U$18=AE$6)*($W$4:$W$18<=$AD48)*($X$4:$X$18>$AD48),$Q$4:$Q$18,""))} -> 0 | AF48: =COUNTIFS($U$4:$U$18,AE$6,$W$4:$W$18,"<="&$AD48,$X$4:$X$18,">"&$AD48) -> 0 | AG48: =IF(AE48=AE47,"",IF(AE48>0,INDEX($S$4:$S$18,AE48,1)& IF(AF48>1," - " & AF48 &" Events overlap!",""),"")) | AH48: =IF(LEN(AI48)>0,INDEX($T$4:$T$18,AE48,1),"") | AI48: =IFERROR(IF(AE48>0,1,""),"") | AJ48: {=MIN(IF(($U$4:$U$18=AJ$6)*($W$4:$W$18<=$AD48)*($X$4:$X$18>$AD48),$Q$4:$Q$18,""))} -> 0 | AK48: =COUNTIFS($U$4:$U$18,AJ$6,$W$4:$W$18,"<="&$AD48,$X$4:$X$18,">"&$AD48) -> 0 | AL48: =IF(AJ48=AJ47,"",IF(AJ48>0,INDEX($S$4:$S$18,AJ48,1)& IF(AK48>1," - " & AK48 &" Events overlap!",""),"")) | AM48: =IF(LEN(AN48)>0,INDEX($T$4:$T$18,AJ48,1),"") | AN48: =IFERROR(IF(AJ48>0,1,""),"") | AO48: {=MIN(IF(($U$4:$U$18=AO$6)*($W$4:$W$18<=$AD48)*($X$4:$X$18>$AD48),$Q$4:$Q$18,""))} -> 0 | AP48: =COUNTIFS($U$4:$U$18,AO$6,$W$4:$W$18,"<="&$AD48,$X$4:$X$18,">"&$AD48) -> 0 | AQ48: =IF(AO48=AO47,"",IF(AO48>0,INDEX($S$4:$S$18,AO48,1)& IF(AP48>1," - " & AP48 &" Events overlap!",""),"")) | AR48: =IF(LEN(AS48)>0,INDEX($T$4:$T$18,AO48,1),"") | AS48: =IFERROR(IF(AO48>0,1,""),"") | AT48: {=MIN(IF(($U$4:$U$18=AT$6)*($W$4:$W$18<=$AD48)*($X$4:$X$18>$AD48),$Q$4:$Q$18,""))} -> 0 | AU48: =COUNTIFS($U$4:$U$18,AT$6,$W$4:$W$18,"<="&$AD48,$X$4:$X$18,">"&$AD48) -> 0 | AV48: =IF(AT48=AT47,"",IF(AT48>0,INDEX($S$4:$S$18,AT48,1)& IF(AU48>1," - " & AU48 &" Events overlap!",""),"")) | AW48: =IF(LEN(AX48)>0,INDEX($T$4:$T$18,AT48,1),"") | AX48: =IFERROR(IF(AT48>0,1,""),"") | AY48: {=MIN(IF(($U$4:$U$18=AY$6)*($W$4:$W$18<=$AD48)*($X$4:$X$18>$AD48),$Q$4:$Q$18,""))} -> 0 | AZ48: =COUNTIFS($U$4:$U$18,AY$6,$W$4:$W$18,"<="&$AD48,$X$4:$X$18,">"&$AD48) -> 0 | BA48: =IF(AY48=AY47,"",IF(AY48>0,INDEX($S$4:$S$18,AY48,1)& IF(AZ48>1," - " & AZ48 &" Events overlap!",""),"")) | BB48: =IF(LEN(BC48)>0,INDEX($T$4:$T$18,AY48,1),"") | BC48: =IFERROR(IF(AY48>0,1,""),"") | BD48: {=MIN(IF(($U$4:$U$18=BD$6)*($W$4:$W$18<=$AD48)*($X$4:$X$18>$AD48),$Q$4:$Q$18,""))} -> 0 | BE48: =COUNTIFS($U$4:$U$18,BD$6,$W$4:$W$18,"<="&$AD48,$X$4:$X$18,">"&$AD48) -> 0 | BF48: =IF(BD48=BD47,"",IF(BD48>0,INDEX($S$4:$S$18,BD48,1)& IF(BE48>1," - " & BE48 &" Events overlap!",""),"")) | BG48: =IF(LEN(BH48)>0,INDEX($T$4:$T$18,BD48,1),"") | BH48: =IFERROR(IF(BD48>0,1,""),"") | BI48: {=MIN(IF(($U$4:$U$18=BI$6)*($W$4:$W$18<=$AD48)*($X$4:$X$18>$AD48),$Q$4:$Q$18,""))} -> 0 | BJ48: =COUNTIFS($U$4:$U$18,BI$6,$W$4:$W$18,"<="&$AD48,$X$4:$X$18,">"&$AD48) -> 0 | BK48: =IF(BI48=BI47,"",IF(BI48>0,INDEX($S$4:$S$18,BI48,1)& IF(BJ48>1," - " & BJ48 &" Events overlap!",""),"")) | BL48: =IF(LEN(BM48)>0,INDEX($T$4:$T$18,BI48,1),"") | BM48: =IFERROR(IF(BI48>0,1,""),"")
L49: =L48+step -> 0.9375 | N49: Day 46 | O49: =IFERROR(O48+1,"") -> 45447 | AD49: =Schedule!C51 | AE49: {=MIN(IF(($U$4:$U$18=AE$6)*($W$4:$W$18<=$AD49)*($X$4:$X$18>$AD49),$Q$4:$Q$18,""))} -> 0 | AF49: =COUNTIFS($U$4:$U$18,AE$6,$W$4:$W$18,"<="&$AD49,$X$4:$X$18,">"&$AD49) -> 0 | AG49: =IF(AE49=AE48,"",IF(AE49>0,INDEX($S$4:$S$18,AE49,1)& IF(AF49>1," - " & AF49 &" Events overlap!",""),"")) | AH49: =IF(LEN(AI49)>0,INDEX($T$4:$T$18,AE49,1),"") | AI49: =IFERROR(IF(AE49>0,1,""),"") | AJ49: {=MIN(IF(($U$4:$U$18=AJ$6)*($W$4:$W$18<=$AD49)*($X$4:$X$18>$AD49),$Q$4:$Q$18,""))} -> 0 | AK49: =COUNTIFS($U$4:$U$18,AJ$6,$W$4:$W$18,"<="&$AD49,$X$4:$X$18,">"&$AD49) -> 0 | AL49: =IF(AJ49=AJ48,"",IF(AJ49>0,INDEX($S$4:$S$18,AJ49,1)& IF(AK49>1," - " & AK49 &" Events overlap!",""),"")) | AM49: =IF(LEN(AN49)>0,INDEX($T$4:$T$18,AJ49,1),"") | AN49: =IFERROR(IF(AJ49>0,1,""),"") | AO49: {=MIN(IF(($U$4:$U$18=AO$6)*($W$4:$W$18<=$AD49)*($X$4:$X$18>$AD49),$Q$4:$Q$18,""))} -> 0 | AP49: =COUNTIFS($U$4:$U$18,AO$6,$W$4:$W$18,"<="&$AD49,$X$4:$X$18,">"&$AD49) -> 0 | AQ49: =IF(AO49=AO48,"",IF(AO49>0,INDEX($S$4:$S$18,AO49,1)& IF(AP49>1," - " & AP49 &" Events overlap!",""),"")) | AR49: =IF(LEN(AS49)>0,INDEX($T$4:$T$18,AO49,1),"") | AS49: =IFERROR(IF(AO49>0,1,""),"") | AT49: {=MIN(IF(($U$4:$U$18=AT$6)*($W$4:$W$18<=$AD49)*($X$4:$X$18>$AD49),$Q$4:$Q$18,""))} -> 0 | AU49: =COUNTIFS($U$4:$U$18,AT$6,$W$4:$W$18,"<="&$AD49,$X$4:$X$18,">"&$AD49) -> 0 | AV49: =IF(AT49=AT48,"",IF(AT49>0,INDEX($S$4:$S$18,AT49,1)& IF(AU49>1," - " & AU49 &" Events overlap!",""),"")) | AW49: =IF(LEN(AX49)>0,INDEX($T$4:$T$18,AT49,1),"") | AX49: =IFERROR(IF(AT49>0,1,""),"") | AY49: {=MIN(IF(($U$4:$U$18=AY$6)*($W$4:$W$18<=$AD49)*($X$4:$X$18>$AD49),$Q$4:$Q$18,""))} -> 0 | AZ49: =COUNTIFS($U$4:$U$18,AY$6,$W$4:$W$18,"<="&$AD49,$X$4:$X$18,">"&$AD49) -> 0 | BA49: =IF(AY49=AY48,"",IF(AY49>0,INDEX($S$4:$S$18,AY49,1)& IF(AZ49>1," - " & AZ49 &" Events overlap!",""),"")) | BB49: =IF(LEN(BC49)>0,INDEX($T$4:$T$18,AY49,1),"") | BC49: =IFERROR(IF(AY49>0,1,""),"") | BD49: {=MIN(IF(($U$4:$U$18=BD$6)*($W$4:$W$18<=$AD49)*($X$4:$X$18>$AD49),$Q$4:$Q$18,""))} -> 0 | BE49: =COUNTIFS($U$4:$U$18,BD$6,$W$4:$W$18,"<="&$AD49,$X$4:$X$18,">"&$AD49) -> 0 | BF49: =IF(BD49=BD48,"",IF(BD49>0,INDEX($S$4:$S$18,BD49,1)& IF(BE49>1," - " & BE49 &" Events overlap!",""),"")) | BG49: =IF(LEN(BH49)>0,INDEX($T$4:$T$18,BD49,1),"") | BH49: =IFERROR(IF(BD49>0,1,""),"") | BI49: {=MIN(IF(($U$4:$U$18=BI$6)*($W$4:$W$18<=$AD49)*($X$4:$X$18>$AD49),$Q$4:$Q$18,""))} -> 0 | BJ49: =COUNTIFS($U$4:$U$18,BI$6,$W$4:$W$18,"<="&$AD49,$X$4:$X$18,">"&$AD49) -> 0 | BK49: =IF(BI49=BI48,"",IF(BI49>0,INDEX($S$4:$S$18,BI49,1)& IF(BJ49>1," - " & BJ49 &" Events overlap!",""),"")) | BL49: =IF(LEN(BM49)>0,INDEX($T$4:$T$18,BI49,1),"") | BM49: =IFERROR(IF(BI49>0,1,""),"")
L50: =L49+step -> 0.95833333 | N50: Day 47 | O50: =IFERROR(O49+1,"") -> 45448 | AD50: =Schedule!C52 | AE50: {=MIN(IF(($U$4:$U$18=AE$6)*($W$4:$W$18<=$AD50)*($X$4:$X$18>$AD50),$Q$4:$Q$18,""))} -> 0 | AF50: =COUNTIFS($U$4:$U$18,AE$6,$W$4:$W$18,"<="&$AD50,$X$4:$X$18,">"&$AD50) -> 0 | AG50: =IF(AE50=AE49,"",IF(AE50>0,INDEX($S$4:$S$18,AE50,1)& IF(AF50>1," - " & AF50 &" Events overlap!",""),"")) | AH50: =IF(LEN(AI50)>0,INDEX($T$4:$T$18,AE50,1),"") | AI50: =IFERROR(IF(AE50>0,1,""),"") | AJ50: {=MIN(IF(($U$4:$U$18=AJ$6)*($W$4:$W$18<=$AD50)*($X$4:$X$18>$AD50),$Q$4:$Q$18,""))} -> 0 | AK50: =COUNTIFS($U$4:$U$18,AJ$6,$W$4:$W$18,"<="&$AD50,$X$4:$X$18,">"&$AD50) -> 0 | AL50: =IF(AJ50=AJ49,"",IF(AJ50>0,INDEX($S$4:$S$18,AJ50,1)& IF(AK50>1," - " & AK50 &" Events overlap!",""),"")) | AM50: =IF(LEN(AN50)>0,INDEX($T$4:$T$18,AJ50,1),"") | AN50: =IFERROR(IF(AJ50>0,1,""),"") | AO50: {=MIN(IF(($U$4:$U$18=AO$6)*($W$4:$W$18<=$AD50)*($X$4:$X$18>$AD50),$Q$4:$Q$18,""))} -> 0 | AP50: =COUNTIFS($U$4:$U$18,AO$6,$W$4:$W$18,"<="&$AD50,$X$4:$X$18,">"&$AD50) -> 0 | AQ50: =IF(AO50=AO49,"",IF(AO50>0,INDEX($S$4:$S$18,AO50,1)& IF(AP50>1," - " & AP50 &" Events overlap!",""),"")) | AR50: =IF(LEN(AS50)>0,INDEX($T$4:$T$18,AO50,1),"") | AS50: =IFERROR(IF(AO50>0,1,""),"") | AT50: {=MIN(IF(($U$4:$U$18=AT$6)*($W$4:$W$18<=$AD50)*($X$4:$X$18>$AD50),$Q$4:$Q$18,""))} -> 0 | AU50: =COUNTIFS($U$4:$U$18,AT$6,$W$4:$W$18,"<="&$AD50,$X$4:$X$18,">"&$AD50) -> 0 | AV50: =IF(AT50=AT49,"",IF(AT50>0,INDEX($S$4:$S$18,AT50,1)& IF(AU50>1," - " & AU50 &" Events overlap!",""),"")) | AW50: =IF(LEN(AX50)>0,INDEX($T$4:$T$18,AT50,1),"") | AX50: =IFERROR(IF(AT50>0,1,""),"") | AY50: {=MIN(IF(($U$4:$U$18=AY$6)*($W$4:$W$18<=$AD50)*($X$4:$X$18>$AD50),$Q$4:$Q$18,""))} -> 0 | AZ50: =COUNTIFS($U$4:$U$18,AY$6,$W$4:$W$18,"<="&$AD50,$X$4:$X$18,">"&$AD50) -> 0 | BA50: =IF(AY50=AY49,"",IF(AY50>0,INDEX($S$4:$S$18,AY50,1)& IF(AZ50>1," - " & AZ50 &" Events overlap!",""),"")) | BB50: =IF(LEN(BC50)>0,INDEX($T$4:$T$18,AY50,1),"") | BC50: =IFERROR(IF(AY50>0,1,""),"") | BD50: {=MIN(IF(($U$4:$U$18=BD$6)*($W$4:$W$18<=$AD50)*($X$4:$X$18>$AD50),$Q$4:$Q$18,""))} -> 0 | BE50: =COUNTIFS($U$4:$U$18,BD$6,$W$4:$W$18,"<="&$AD50,$X$4:$X$18,">"&$AD50) -> 0 | BF50: =IF(BD50=BD49,"",IF(BD50>0,INDEX($S$4:$S$18,BD50,1)& IF(BE50>1," - " & BE50 &" Events overlap!",""),"")) | BG50: =IF(LEN(BH50)>0,INDEX($T$4:$T$18,BD50,1),"") | BH50: =IFERROR(IF(BD50>0,1,""),"") | BI50: {=MIN(IF(($U$4:$U$18=BI$6)*($W$4:$W$18<=$AD50)*($X$4:$X$18>$AD50),$Q$4:$Q$18,""))} -> 0 | BJ50: =COUNTIFS($U$4:$U$18,BI$6,$W$4:$W$18,"<="&$AD50,$X$4:$X$18,">"&$AD50) -> 0 | BK50: =IF(BI50=BI49,"",IF(BI50>0,INDEX($S$4:$S$18,BI50,1)& IF(BJ50>1," - " & BJ50 &" Events overlap!",""),"")) | BL50: =IF(LEN(BM50)>0,INDEX($T$4:$T$18,BI50,1),"") | BM50: =IFERROR(IF(BI50>0,1,""),"")
L51: =L50+step -> 0.97916667 | N51: Day 48 | O51: =IFERROR(O50+1,"") -> 45449 | AD51: =Schedule!C53 | AE51: {=MIN(IF(($U$4:$U$18=AE$6)*($W$4:$W$18<=$AD51)*($X$4:$X$18>$AD51),$Q$4:$Q$18,""))} -> 0 | AF51: =COUNTIFS($U$4:$U$18,AE$6,$W$4:$W$18,"<="&$AD51,$X$4:$X$18,">"&$AD51) -> 0 | AG51: =IF(AE51=AE50,"",IF(AE51>0,INDEX($S$4:$S$18,AE51,1)& IF(AF51>1," - " & AF51 &" Events overlap!",""),"")) | AH51: =IF(LEN(AI51)>0,INDEX($T$4:$T$18,AE51,1),"") | AI51: =IFERROR(IF(AE51>0,1,""),"") | AJ51: {=MIN(IF(($U$4:$U$18=AJ$6)*($W$4:$W$18<=$AD51)*($X$4:$X$18>$AD51),$Q$4:$Q$18,""))} -> 0 | AK51: =COUNTIFS($U$4:$U$18,AJ$6,$W$4:$W$18,"<="&$AD51,$X$4:$X$18,">"&$AD51) -> 0 | AL51: =IF(AJ51=AJ50,"",IF(AJ51>0,INDEX($S$4:$S$18,AJ51,1)& IF(AK51>1," - " & AK51 &" Events overlap!",""),"")) | AM51: =IF(LEN(AN51)>0,INDEX($T$4:$T$18,AJ51,1),"") | AN51: =IFERROR(IF(AJ51>0,1,""),"") | AO51: {=MIN(IF(($U$4:$U$18=AO$6)*($W$4:$W$18<=$AD51)*($X$4:$X$18>$AD51),$Q$4:$Q$18,""))} -> 0 | AP51: =COUNTIFS($U$4:$U$18,AO$6,$W$4:$W$18,"<="&$AD51,$X$4:$X$18,">"&$AD51) -> 0 | AQ51: =IF(AO51=AO50,"",IF(AO51>0,INDEX($S$4:$S$18,AO51,1)& IF(AP51>1," - " & AP51 &" Events overlap!",""),"")) | AR51: =IF(LEN(AS51)>0,INDEX($T$4:$T$18,AO51,1),"") | AS51: =IFERROR(IF(AO51>0,1,""),"") | AT51: {=MIN(IF(($U$4:$U$18=AT$6)*($W$4:$W$18<=$AD51)*($X$4:$X$18>$AD51),$Q$4:$Q$18,""))} -> 0 | AU51: =COUNTIFS($U$4:$U$18,AT$6,$W$4:$W$18,"<="&$AD51,$X$4:$X$18,">"&$AD51) -> 0 | AV51: =IF(AT51=AT50,"",IF(AT51>0,INDEX($S$4:$S$18,AT51,1)& IF(AU51>1," - " & AU51 &" Events overlap!",""),"")) | AW51: =IF(LEN(AX51)>0,INDEX($T$4:$T$18,AT51,1),"") | AX51: =IFERROR(IF(AT51>0,1,""),"") | AY51: {=MIN(IF(($U$4:$U$18=AY$6)*($W$4:$W$18<=$AD51)*($X$4:$X$18>$AD51),$Q$4:$Q$18,""))} -> 0 | AZ51: =COUNTIFS($U$4:$U$18,AY$6,$W$4:$W$18,"<="&$AD51,$X$4:$X$18,">"&$AD51) -> 0 | BA51: =IF(AY51=AY50,"",IF(AY51>0,INDEX($S$4:$S$18,AY51,1)& IF(AZ51>1," - " & AZ51 &" Events overlap!",""),"")) | BB51: =IF(LEN(BC51)>0,INDEX($T$4:$T$18,AY51,1),"") | BC51: =IFERROR(IF(AY51>0,1,""),"") | BD51: {=MIN(IF(($U$4:$U$18=BD$6)*($W$4:$W$18<=$AD51)*($X$4:$X$18>$AD51),$Q$4:$Q$18,""))} -> 0 | BE51: =COUNTIFS($U$4:$U$18,BD$6,$W$4:$W$18,"<="&$AD51,$X$4:$X$18,">"&$AD51) -> 0 | BF51: =IF(BD51=BD50,"",IF(BD51>0,INDEX($S$4:$S$18,BD51,1)& IF(BE51>1," - " & BE51 &" Events overlap!",""),"")) | BG51: =IF(LEN(BH51)>0,INDEX($T$4:$T$18,BD51,1),"") | BH51: =IFERROR(IF(BD51>0,1,""),"") | BI51: {=MIN(IF(($U$4:$U$18=BI$6)*($W$4:$W$18<=$AD51)*($X$4:$X$18>$AD51),$Q$4:$Q$18,""))} -> 0 | BJ51: =COUNTIFS($U$4:$U$18,BI$6,$W$4:$W$18,"<="&$AD51,$X$4:$X$18,">"&$AD51) -> 0 | BK51: =IF(BI51=BI50,"",IF(BI51>0,INDEX($S$4:$S$18,BI51,1)& IF(BJ51>1," - " & BJ51 &" Events overlap!",""),"")) | BL51: =IF(LEN(BM51)>0,INDEX($T$4:$T$18,BI51,1),"") | BM51: =IFERROR(IF(BI51>0,1,""),"")
N52: Day 49 | O52: =IFERROR(O51+1,"") -> 45450 | AD52: =Schedule!C54 | AE52: {=MIN(IF(($U$4:$U$18=AE$6)*($W$4:$W$18<=$AD52)*($X$4:$X$18>$AD52),$Q$4:$Q$18,""))} -> 0 | AF52: =COUNTIFS($U$4:$U$18,AE$6,$W$4:$W$18,"<="&$AD52,$X$4:$X$18,">"&$AD52) -> 0 | AG52: =IF(AE52=AE51,"",IF(AE52>0,INDEX($S$4:$S$18,AE52,1)& IF(AF52>1," - " & AF52 &" Events overlap!",""),"")) | AH52: =IF(LEN(AI52)>0,INDEX($T$4:$T$18,AE52,1),"") | AI52: =IFERROR(IF(AE52>0,1,""),"") | AJ52: {=MIN(IF(($U$4:$U$18=AJ$6)*($W$4:$W$18<=$AD52)*($X$4:$X$18>$AD52),$Q$4:$Q$18,""))} -> 0 | AK52: =COUNTIFS($U$4:$U$18,AJ$6,$W$4:$W$18,"<="&$AD52,$X$4:$X$18,">"&$AD52) -> 0 | AL52: =IF(AJ52=AJ51,"",IF(AJ52>0,INDEX($S$4:$S$18,AJ52,1)& IF(AK52>1," - " & AK52 &" Events overlap!",""),"")) | AM52: =IF(LEN(AN52)>0,INDEX($T$4:$T$18,AJ52,1),"") | AN52: =IFERROR(IF(AJ52>0,1,""),"") | AO52: {=MIN(IF(($U$4:$U$18=AO$6)*($W$4:$W$18<=$AD52)*($X$4:$X$18>$AD52),$Q$4:$Q$18,""))} -> 0 | AP52: =COUNTIFS($U$4:$U$18,AO$6,$W$4:$W$18,"<="&$AD52,$X$4:$X$18,">"&$AD52) -> 0 | AQ52: =IF(AO52=AO51,"",IF(AO52>0,INDEX($S$4:$S$18,AO52,1)& IF(AP52>1," - " & AP52 &" Events overlap!",""),"")) | AR52: =IF(LEN(AS52)>0,INDEX($T$4:$T$18,AO52,1),"") | AS52: =IFERROR(IF(AO52>0,1,""),"") | AT52: {=MIN(IF(($U$4:$U$18=AT$6)*($W$4:$W$18<=$AD52)*($X$4:$X$18>$AD52),$Q$4:$Q$18,""))} -> 0 | AU52: =COUNTIFS($U$4:$U$18,AT$6,$W$4:$W$18,"<="&$AD52,$X$4:$X$18,">"&$AD52) -> 0 | AV52: =IF(AT52=AT51,"",IF(AT52>0,INDEX($S$4:$S$18,AT52,1)& IF(AU52>1," - " & AU52 &" Events overlap!",""),"")) | AW52: =IF(LEN(AX52)>0,INDEX($T$4:$T$18,AT52,1),"") | AX52: =IFERROR(IF(AT52>0,1,""),"") | AY52: {=MIN(IF(($U$4:$U$18=AY$6)*($W$4:$W$18<=$AD52)*($X$4:$X$18>$AD52),$Q$4:$Q$18,""))} -> 0 | AZ52: =COUNTIFS($U$4:$U$18,AY$6,$W$4:$W$18,"<="&$AD52,$X$4:$X$18,">"&$AD52) -> 0 | BA52: =IF(AY52=AY51,"",IF(AY52>0,INDEX($S$4:$S$18,AY52,1)& IF(AZ52>1," - " & AZ52 &" Events overlap!",""),"")) | BB52: =IF(LEN(BC52)>0,INDEX($T$4:$T$18,AY52,1),"") | BC52: =IFERROR(IF(AY52>0,1,""),"") | BD52: {=MIN(IF(($U$4:$U$18=BD$6)*($W$4:$W$18<=$AD52)*($X$4:$X$18>$AD52),$Q$4:$Q$18,""))} -> 0 | BE52: =COUNTIFS($U$4:$U$18,BD$6,$W$4:$W$18,"<="&$AD52,$X$4:$X$18,">"&$AD52) -> 0 | BF52: =IF(BD52=BD51,"",IF(BD52>0,INDEX($S$4:$S$18,BD52,1)& IF(BE52>1," - " & BE52 &" Events overlap!",""),"")) | BG52: =IF(LEN(BH52)>0,INDEX($T$4:$T$18,BD52,1),"") | BH52: =IFERROR(IF(BD52>0,1,""),"") | BI52: {=MIN(IF(($U$4:$U$18=BI$6)*($W$4:$W$18<=$AD52)*($X$4:$X$18>$AD52),$Q$4:$Q$18,""))} -> 0 | BJ52: =COUNTIFS($U$4:$U$18,BI$6,$W$4:$W$18,"<="&$AD52,$X$4:$X$18,">"&$AD52) -> 0 | BK52: =IF(BI52=BI51,"",IF(BI52>0,INDEX($S$4:$S$18,BI52,1)& IF(BJ52>1," - " & BJ52 &" Events overlap!",""),"")) | BL52: =IF(LEN(BM52)>0,INDEX($T$4:$T$18,BI52,1),"") | BM52: =IFERROR(IF(BI52>0,1,""),"")
N53: Day 50 | O53: =IFERROR(O52+1,"") -> 45451 | AD53: =Schedule!C55 | AE53: {=MIN(IF(($U$4:$U$18=AE$6)*($W$4:$W$18<=$AD53)*($X$4:$X$18>$AD53),$Q$4:$Q$18,""))} -> 0 | AF53: =COUNTIFS($U$4:$U$18,AE$6,$W$4:$W$18,"<="&$AD53,$X$4:$X$18,">"&$AD53) -> 0 | AG53: =IF(AE53=AE52,"",IF(AE53>0,INDEX($S$4:$S$18,AE53,1)& IF(AF53>1," - " & AF53 &" Events overlap!",""),"")) | AH53: =IF(LEN(AI53)>0,INDEX($T$4:$T$18,AE53,1),"") | AI53: =IFERROR(IF(AE53>0,1,""),"") | AJ53: {=MIN(IF(($U$4:$U$18=AJ$6)*($W$4:$W$18<=$AD53)*($X$4:$X$18>$AD53),$Q$4:$Q$18,""))} -> 0 | AK53: =COUNTIFS($U$4:$U$18,AJ$6,$W$4:$W$18,"<="&$AD53,$X$4:$X$18,">"&$AD53) -> 0 | AL53: =IF(AJ53=AJ52,"",IF(AJ53>0,INDEX($S$4:$S$18,AJ53,1)& IF(AK53>1," - " & AK53 &" Events overlap!",""),"")) | AM53: =IF(LEN(AN53)>0,INDEX($T$4:$T$18,AJ53,1),"") | AN53: =IFERROR(IF(AJ53>0,1,""),"") | AO53: {=MIN(IF(($U$4:$U$18=AO$6)*($W$4:$W$18<=$AD53)*($X$4:$X$18>$AD53),$Q$4:$Q$18,""))} -> 0 | AP53: =COUNTIFS($U$4:$U$18,AO$6,$W$4:$W$18,"<="&$AD53,$X$4:$X$18,">"&$AD53) -> 0 | AQ53: =IF(AO53=AO52,"",IF(AO53>0,INDEX($S$4:$S$18,AO53,1)& IF(AP53>1," - " & AP53 &" Events overlap!",""),"")) | AR53: =IF(LEN(AS53)>0,INDEX($T$4:$T$18,AO53,1),"") | AS53: =IFERROR(IF(AO53>0,1,""),"") | AT53: {=MIN(IF(($U$4:$U$18=AT$6)*($W$4:$W$18<=$AD53)*($X$4:$X$18>$AD53),$Q$4:$Q$18,""))} -> 0 | AU53: =COUNTIFS($U$4:$U$18,AT$6,$W$4:$W$18,"<="&$AD53,$X$4:$X$18,">"&$AD53) -> 0 | AV53: =IF(AT53=AT52,"",IF(AT53>0,INDEX($S$4:$S$18,AT53,1)& IF(AU53>1," - " & AU53 &" Events overlap!",""),"")) | AW53: =IF(LEN(AX53)>0,INDEX($T$4:$T$18,AT53,1),"") | AX53: =IFERROR(IF(AT53>0,1,""),"") | AY53: {=MIN(IF(($U$4:$U$18=AY$6)*($W$4:$W$18<=$AD53)*($X$4:$X$18>$AD53),$Q$4:$Q$18,""))} -> 0 | AZ53: =COUNTIFS($U$4:$U$18,AY$6,$W$4:$W$18,"<="&$AD53,$X$4:$X$18,">"&$AD53) -> 0 | BA53: =IF(AY53=AY52,"",IF(AY53>0,INDEX($S$4:$S$18,AY53,1)& IF(AZ53>1," - " & AZ53 &" Events overlap!",""),"")) | BB53: =IF(LEN(BC53)>0,INDEX($T$4:$T$18,AY53,1),"") | BC53: =IFERROR(IF(AY53>0,1,""),"") | BD53: {=MIN(IF(($U$4:$U$18=BD$6)*($W$4:$W$18<=$AD53)*($X$4:$X$18>$AD53),$Q$4:$Q$18,""))} -> 0 | BE53: =COUNTIFS($U$4:$U$18,BD$6,$W$4:$W$18,"<="&$AD53,$X$4:$X$18,">"&$AD53) -> 0 | BF53: =IF(BD53=BD52,"",IF(BD53>0,INDEX($S$4:$S$18,BD53,1)& IF(BE53>1," - " & BE53 &" Events overlap!",""),"")) | BG53: =IF(LEN(BH53)>0,INDEX($T$4:$T$18,BD53,1),"") | BH53: =IFERROR(IF(BD53>0,1,""),"") | BI53: {=MIN(IF(($U$4:$U$18=BI$6)*($W$4:$W$18<=$AD53)*($X$4:$X$18>$AD53),$Q$4:$Q$18,""))} -> 0 | BJ53: =COUNTIFS($U$4:$U$18,BI$6,$W$4:$W$18,"<="&$AD53,$X$4:$X$18,">"&$AD53) -> 0 | BK53: =IF(BI53=BI52,"",IF(BI53>0,INDEX($S$4:$S$18,BI53,1)& IF(BJ53>1," - " & BJ53 &" Events overlap!",""),"")) | BL53: =IF(LEN(BM53)>0,INDEX($T$4:$T$18,BI53,1),"") | BM53: =IFERROR(IF(BI53>0,1,""),"")
N54: Day 51 | O54: =IFERROR(O53+1,"") -> 45452 | AD54: =Schedule!C56 | AE54: {=MIN(IF(($U$4:$U$18=AE$6)*($W$4:$W$18<=$AD54)*($X$4:$X$18>$AD54),$Q$4:$Q$18,""))} -> 0 | AF54: =COUNTIFS($U$4:$U$18,AE$6,$W$4:$W$18,"<="&$AD54,$X$4:$X$18,">"&$AD54) -> 0 | AG54: =IF(AE54=AE53,"",IF(AE54>0,INDEX($S$4:$S$18,AE54,1)& IF(AF54>1," - " & AF54 &" Events overlap!",""),"")) | AH54: =IF(LEN(AI54)>0,INDEX($T$4:$T$18,AE54,1),"") | AI54: =IFERROR(IF(AE54>0,1,""),"") | AJ54: {=MIN(IF(($U$4:$U$18=AJ$6)*($W$4:$W$18<=$AD54)*($X$4:$X$18>$AD54),$Q$4:$Q$18,""))} -> 0 | AK54: =COUNTIFS($U$4:$U$18,AJ$6,$W$4:$W$18,"<="&$AD54,$X$4:$X$18,">"&$AD54) -> 0 | AL54: =IF(AJ54=AJ53,"",IF(AJ54>0,INDEX($S$4:$S$18,AJ54,1)& IF(AK54>1," - " & AK54 &" Events overlap!",""),"")) | AM54: =IF(LEN(AN54)>0,INDEX($T$4:$T$18,AJ54,1),"") | AN54: =IFERROR(IF(AJ54>0,1,""),"") | AO54: {=MIN(IF(($U$4:$U$18=AO$6)*($W$4:$W$18<=$AD54)*($X$4:$X$18>$AD54),$Q$4:$Q$18,""))} -> 0 | AP54: =COUNTIFS($U$4:$U$18,AO$6,$W$4:$W$18,"<="&$AD54,$X$4:$X$18,">"&$AD54) -> 0 | AQ54: =IF(AO54=AO53,"",IF(AO54>0,INDEX($S$4:$S$18,AO54,1)& IF(AP54>1," - " & AP54 &" Events overlap!",""),"")) | AR54: =IF(LEN(AS54)>0,INDEX($T$4:$T$18,AO54,1),"") | AS54: =IFERROR(IF(AO54>0,1,""),"") | AT54: {=MIN(IF(($U$4:$U$18=AT$6)*($W$4:$W$18<=$AD54)*($X$4:$X$18>$AD54),$Q$4:$Q$18,""))} -> 0 | AU54: =COUNTIFS($U$4:$U$18,AT$6,$W$4:$W$18,"<="&$AD54,$X$4:$X$18,">"&$AD54) -> 0 | AV54: =IF(AT54=AT53,"",IF(AT54>0,INDEX($S$4:$S$18,AT54,1)& IF(AU54>1," - " & AU54 &" Events overlap!",""),"")) | AW54: =IF(LEN(AX54)>0,INDEX($T$4:$T$18,AT54,1),"") | AX54: =IFERROR(IF(AT54>0,1,""),"") | AY54: {=MIN(IF(($U$4:$U$18=AY$6)*($W$4:$W$18<=$AD54)*($X$4:$X$18>$AD54),$Q$4:$Q$18,""))} -> 0 | AZ54: =COUNTIFS($U$4:$U$18,AY$6,$W$4:$W$18,"<="&$AD54,$X$4:$X$18,">"&$AD54) -> 0 | BA54: =IF(AY54=AY53,"",IF(AY54>0,INDEX($S$4:$S$18,AY54,1)& IF(AZ54>1," - " & AZ54 &" Events overlap!",""),"")) | BB54: =IF(LEN(BC54)>0,INDEX($T$4:$T$18,AY54,1),"") | BC54: =IFERROR(IF(AY54>0,1,""),"") | BD54: {=MIN(IF(($U$4:$U$18=BD$6)*($W$4:$W$18<=$AD54)*($X$4:$X$18>$AD54),$Q$4:$Q$18,""))} -> 0 | BE54: =COUNTIFS($U$4:$U$18,BD$6,$W$4:$W$18,"<="&$AD54,$X$4:$X$18,">"&$AD54) -> 0 | BF54: =IF(BD54=BD53,"",IF(BD54>0,INDEX($S$4:$S$18,BD54,1)& IF(BE54>1," - " & BE54 &" Events overlap!",""),"")) | BG54: =IF(LEN(BH54)>0,INDEX($T$4:$T$18,BD54,1),"") | BH54: =IFERROR(IF(BD54>0,1,""),"") | BI54: {=MIN(IF(($U$4:$U$18=BI$6)*($W$4:$W$18<=$AD54)*($X$4:$X$18>$AD54),$Q$4:$Q$18,""))} -> 0 | BJ54: =COUNTIFS($U$4:$U$18,BI$6,$W$4:$W$18,"<="&$AD54,$X$4:$X$18,">"&$AD54) -> 0 | BK54: =IF(BI54=BI53,"",IF(BI54>0,INDEX($S$4:$S$18,BI54,1)& IF(BJ54>1," - " & BJ54 &" Events overlap!",""),"")) | BL54: =IF(LEN(BM54)>0,INDEX($T$4:$T$18,BI54,1),"") | BM54: =IFERROR(IF(BI54>0,1,""),"")
N55: Day 52 | O55: =IFERROR(O54+1,"") -> 45453 | AD55: =Schedule!C57 | AE55: {=MIN(IF(($U$4:$U$18=AE$6)*($W$4:$W$18<=$AD55)*($X$4:$X$18>$AD55),$Q$4:$Q$18,""))} -> 0 | AF55: =COUNTIFS($U$4:$U$18,AE$6,$W$4:$W$18,"<="&$AD55,$X$4:$X$18,">"&$AD55) -> 0 | AG55: =IF(AE55=AE54,"",IF(AE55>0,INDEX($S$4:$S$18,AE55,1)& IF(AF55>1," - " & AF55 &" Events overlap!",""),"")) | AH55: =IF(LEN(AI55)>0,INDEX($T$4:$T$18,AE55,1),"") | AI55: =IFERROR(IF(AE55>0,1,""),"") | AJ55: {=MIN(IF(($U$4:$U$18=AJ$6)*($W$4:$W$18<=$AD55)*($X$4:$X$18>$AD55),$Q$4:$Q$18,""))} -> 0 | AK55: =COUNTIFS($U$4:$U$18,AJ$6,$W$4:$W$18,"<="&$AD55,$X$4:$X$18,">"&$AD55) -> 0 | AL55: =IF(AJ55=AJ54,"",IF(AJ55>0,INDEX($S$4:$S$18,AJ55,1)& IF(AK55>1," - " & AK55 &" Events overlap!",""),"")) | AM55: =IF(LEN(AN55)>0,INDEX($T$4:$T$18,AJ55,1),"") | AN55: =IFERROR(IF(AJ55>0,1,""),"") | AO55: {=MIN(IF(($U$4:$U$18=AO$6)*($W$4:$W$18<=$AD55)*($X$4:$X$18>$AD55),$Q$4:$Q$18,""))} -> 0 | AP55: =COUNTIFS($U$4:$U$18,AO$6,$W$4:$W$18,"<="&$AD55,$X$4:$X$18,">"&$AD55) -> 0 | AQ55: =IF(AO55=AO54,"",IF(AO55>0,INDEX($S$4:$S$18,AO55,1)& IF(AP55>1," - " & AP55 &" Events overlap!",""),"")) | AR55: =IF(LEN(AS55)>0,INDEX($T$4:$T$18,AO55,1),"") | AS55: =IFERROR(IF(AO55>0,1,""),"") | AT55: {=MIN(IF(($U$4:$U$18=AT$6)*($W$4:$W$18<=$AD55)*($X$4:$X$18>$AD55),$Q$4:$Q$18,""))} -> 0 | AU55: =COUNTIFS($U$4:$U$18,AT$6,$W$4:$W$18,"<="&$AD55,$X$4:$X$18,">"&$AD55) -> 0 | AV55: =IF(AT55=AT54,"",IF(AT55>0,INDEX($S$4:$S$18,AT55,1)& IF(AU55>1," - " & AU55 &" Events overlap!",""),"")) | AW55: =IF(LEN(AX55)>0,INDEX($T$4:$T$18,AT55,1),"") | AX55: =IFERROR(IF(AT55>0,1,""),"") | AY55: {=MIN(IF(($U$4:$U$18=AY$6)*($W$4:$W$18<=$AD55)*($X$4:$X$18>$AD55),$Q$4:$Q$18,""))} -> 0 | AZ55: =COUNTIFS($U$4:$U$18,AY$6,$W$4:$W$18,"<="&$AD55,$X$4:$X$18,">"&$AD55) -> 0 | BA55: =IF(AY55=AY54,"",IF(AY55>0,INDEX($S$4:$S$18,AY55,1)& IF(AZ55>1," - " & AZ55 &" Events overlap!",""),"")) | BB55: =IF(LEN(BC55)>0,INDEX($T$4:$T$18,AY55,1),"") | BC55: =IFERROR(IF(AY55>0,1,""),"") | BD55: {=MIN(IF(($U$4:$U$18=BD$6)*($W$4:$W$18<=$AD55)*($X$4:$X$18>$AD55),$Q$4:$Q$18,""))} -> 0 | BE55: =COUNTIFS($U$4:$U$18,BD$6,$W$4:$W$18,"<="&$AD55,$X$4:$X$18,">"&$AD55) -> 0 | BF55: =IF(BD55=BD54,"",IF(BD55>0,INDEX($S$4:$S$18,BD55,1)& IF(BE55>1," - " & BE55 &" Events overlap!",""),"")) | BG55: =IF(LEN(BH55)>0,INDEX($T$4:$T$18,BD55,1),"") | BH55: =IFERROR(IF(BD55>0,1,""),"") | BI55: {=MIN(IF(($U$4:$U$18=BI$6)*($W$4:$W$18<=$AD55)*($X$4:$X$18>$AD55),$Q$4:$Q$18,""))} -> 0 | BJ55: =COUNTIFS($U$4:$U$18,BI$6,$W$4:$W$18,"<="&$AD55,$X$4:$X$18,">"&$AD55) -> 0 | BK55: =IF(BI55=BI54,"",IF(BI55>0,INDEX($S$4:$S$18,BI55,1)& IF(BJ55>1," - " & BJ55 &" Events overlap!",""),"")) | BL55: =IF(LEN(BM55)>0,INDEX($T$4:$T$18,BI55,1),"") | BM55: =IFERROR(IF(BI55>0,1,""),"")
N56: Day 53 | O56: =IFERROR(O55+1,"") -> 45454
N57: Day 54 | O57: =IFERROR(O56+1,"") -> 45455
N58: Day 55 | O58: =IFERROR(O57+1,"") -> 45456
N59: Day 56 | O59: =IFERROR(O58+1,"") -> 45457
N60: Day 57 | O60: =IFERROR(O59+1,"") -> 45458
N61: Day 58 | O61: =IFERROR(O60+1,"") -> 45459
N62: Day 59 | O62: =IFERROR(O61+1,"") -> 45460
N63: Day 60 | O63: =IFERROR(O62+1,"") -> 45461
N64: Day 61 | O64: =IFERROR(O63+1,"") -> 45462
N65: Day 62 | O65: =IFERROR(O64+1,"") -> 45463
N66: Day 63 | O66: =IFERROR(O65+1,"") -> 45464
N67: Day 64 | O67: =IFERROR(O66+1,"") -> 45465
... N368: Day 365 | O368: =IFERROR(O367+1,"") -> 45766
