Workbook
Name GPAs: OFFSET(Calc!$AF$7,0,0,MAX(Calc!$AF$19,1),1)
Name Semesters: OFFSET(Calc!$AE$7,0,0,MAX(Calc!$AF$19,1),1)

Sheet Settings
C2: GPA CALCULATOR
C3: SETTINGS
C7: SETTINGS
C9: Select Your System | D9: AA System | G9: Custom System Name | H9: Custom System
C11: Grade | D11: Points | G11: Grade | H11: Points
C12: =IFERROR(IF(AND(LEN($D$9)=0,LEN(Calc!Y8)=0),"",Calc!Y8),"") -> AA | D12: =IFERROR(IF(AND(LEN($D$9)=0,LEN(Calc!Z8)=0),"",Calc!Z8),"") -> 4 | G12: X | H12: 100
C13: =IFERROR(IF(AND(LEN($D$9)=0,LEN(Calc!Y9)=0),"",Calc!Y9),"") -> BA | D13: =IFERROR(IF(AND(LEN($D$9)=0,LEN(Calc!Z9)=0),"",Calc!Z9),"") -> 3.5 | G13: Y | H13: 50
C14: =IFERROR(IF(AND(LEN($D$9)=0,LEN(Calc!Y10)=0),"",Calc!Y10),"") -> BB | D14: =IFERROR(IF(AND(LEN($D$9)=0,LEN(Calc!Z10)=0),"",Calc!Z10),"") -> 3 | G14: Z | H14: 20
C15: =IFERROR(IF(AND(LEN($D$9)=0,LEN(Calc!Y11)=0),"",Calc!Y11),"") -> CB | D15: =IFERROR(IF(AND(LEN($D$9)=0,LEN(Calc!Z11)=0),"",Calc!Z11),"") -> 2.5
C16: =IFERROR(IF(AND(LEN($D$9)=0,LEN(Calc!Y12)=0),"",Calc!Y12),"") -> CC | D16: =IFERROR(IF(AND(LEN($D$9)=0,LEN(Calc!Z12)=0),"",Calc!Z12),"") -> 2
C17: =IFERROR(IF(AND(LEN($D$9)=0,LEN(Calc!Y13)=0),"",Calc!Y13),"") -> DC | D17: =IFERROR(IF(AND(LEN($D$9)=0,LEN(Calc!Z13)=0),"",Calc!Z13),"") -> 1.5
C18: =IFERROR(IF(AND(LEN($D$9)=0,LEN(Calc!Y14)=0),"",Calc!Y14),"") -> DD | D18: =IFERROR(IF(AND(LEN($D$9)=0,LEN(Calc!Z14)=0),"",Calc!Z14),"") -> 1
C19: =IFERROR(IF(AND(LEN($D$9)=0,LEN(Calc!Y15)=0),"",Calc!Y15),"") -> FD | D19: =IFERROR(IF(AND(LEN($D$9)=0,LEN(Calc!Z15)=0),"",Calc!Z15),"") -> 0.5
C20: =IFERROR(IF(AND(LEN($D$9)=0,LEN(Calc!Y16)=0),"",Calc!Y16),"") -> FF | D20: =IFERROR(IF(AND(LEN($D$9)=0,LEN(Calc!Z16)=0),"",Calc!Z16),"") -> 0
C21: =IFERROR(IF(AND(LEN($D$9)=0,LEN(Calc!Y17)=0),"",Calc!Y17),"") | D21: =IFERROR(IF(AND(LEN($D$9)=0,LEN(Calc!Z17)=0),"",Calc!Z17),"")
C22: =IFERROR(IF(AND(LEN($D$9)=0,LEN(Calc!Y18)=0),"",Calc!Y18),"") | D22: =IFERROR(IF(AND(LEN($D$9)=0,LEN(Calc!Z18)=0),"",Calc!Z18),"")
C23: =IFERROR(IF(AND(LEN($D$9)=0,LEN(Calc!Y19)=0),"",Calc!Y19),"") | D23: =IFERROR(IF(AND(LEN($D$9)=0,LEN(Calc!Z19)=0),"",Calc!Z19),"")
C24: =IFERROR(IF(AND(LEN($D$9)=0,LEN(Calc!Y20)=0),"",Calc!Y20),"") | D24: =IFERROR(IF(AND(LEN($D$9)=0,LEN(Calc!Z20)=0),"",Calc!Z20),"")

Sheet Quick
C2: GPA CALCULATOR
C3: QUICK CALCULATORS
C7: Course-Based Calculator | J7: Simple Calculator
C9: Course | D9: Grade | E9: Credits | F9: Points | J9: Credit Hours Attempted
C10: Introduction to Economics | D10: BA | E10: 3 | F10: =IFERROR(IF(OR(LEN(C10)=0,LEN(D10)=0,LEN(E10)=0),"",E10*INDEX(Calc!$Z$8:$Z$20,MATCH(Quick!D10,Calc!$Y$8:$Y$20,0))),"") -> 10.5 | J10: 47
C11: Principles of Accounting | D11: BA | E11: 4 | F11: =IFERROR(IF(OR(LEN(C11)=0,LEN(D11)=0,LEN(E11)=0),"",E11*INDEX(Calc!$Z$8:$Z$20,MATCH(Quick!D11,Calc!$Y$8:$Y$20,0))),"") -> 14 | J11: Points Earned
C12: Calculus | D12: CB | E12: 5 | F12: =IFERROR(IF(OR(LEN(C12)=0,LEN(D12)=0,LEN(E12)=0),"",E12*INDEX(Calc!$Z$8:$Z$20,MATCH(Quick!D12,Calc!$Y$8:$Y$20,0))),"") -> 12.5 | J12: 144.5
C13: Strategic Management | D13: AA | E13: 2 | F13: =IFERROR(IF(OR(LEN(C13)=0,LEN(D13)=0,LEN(E13)=0),"",E13*INDEX(Calc!$Z$8:$Z$20,MATCH(Quick!D13,Calc!$Y$8:$Y$20,0))),"") -> 8 | J13: GPA
F14: =IFERROR(IF(OR(LEN(C14)=0,LEN(D14)=0,LEN(E14)=0),"",E14*INDEX(Calc!$Z$8:$Z$20,MATCH(Quick!D14,Calc!$Y$8:$Y$20,0))),"") | J14: =IFERROR(J12/J10,"") -> 3.0744681
D27: Totals: | E27: =IFERROR(SUM(E10:E14),"") -> 14 | F27: =IFERROR(SUM(F10:F14),"") -> 45
D29: GPA | F29: =IFERROR(F27/E27,"") -> 3.2142857

Sheet Dashboard
C2: GPA CALCULATOR
C3: DASHBOARD
C25: SEMESTER 1
C27: Courses taken during the semester
C28: Course | D28: Grade | E28: Credits | F28: Points
C29: Introduction to Economics | D29: BA | E29: 4 | F29: =IFERROR(IF(OR(LEN(C29)=0,LEN(D29)=0,LEN(E29)=0),"",E29*INDEX(Calc!$Z$8:$Z$20,MATCH(D29,Calc!$Y$8:$Y$20,0))),"") -> 14
C30: Principles of Accounting | D30: BA | E30: 4 | F30: =IFERROR(IF(OR(LEN(C30)=0,LEN(D30)=0,LEN(E30)=0),"",E30*INDEX(Calc!$Z$8:$Z$20,MATCH(D30,Calc!$Y$8:$Y$20,0))),"") -> 14
F31: =IFERROR(IF(OR(LEN(C31)=0,LEN(D31)=0,LEN(E31)=0),"",E31*INDEX(Calc!$Z$8:$Z$20,MATCH(D31,Calc!$Y$8:$Y$20,0))),"")
C42: Semester GPA | D42: =IFERROR(SUM(F29:F31)/SUM(E29:E31),"") -> 3.5
C46: SEMESTER 2
C48: Courses taken during the semester
C49: Course | D49: Grade | E49: Credits | F49: Points
C50: Introduction to Economics II | D50: BB | E50: 4 | F50: =IFERROR(IF(OR(LEN(C50)=0,LEN(D50)=0,LEN(E50)=0),"",E50*INDEX(Calc!$Z$8:$Z$20,MATCH(D50,Calc!$Y$8:$Y$20,0))),"") -> 12
C51: Principles of Accounting II | D51: CB | E51: 4 | F51: =IFERROR(IF(OR(LEN(C51)=0,LEN(D51)=0,LEN(E51)=0),"",E51*INDEX(Calc!$Z$8:$Z$20,MATCH(D51,Calc!$Y$8:$Y$20,0))),"") -> 10
F52: =IFERROR(IF(OR(LEN(C52)=0,LEN(D52)=0,LEN(E52)=0),"",E52*INDEX(Calc!$Z$8:$Z$20,MATCH(D52,Calc!$Y$8:$Y$20,0))),"")
C63: Semester GPA | D63: =IFERROR(SUM(F50:F52)/SUM(E50:E52),"") -> 2.75
C67: SEMESTER 3
C69: Courses taken during the semester
C70: Course | D70: Grade | E70: Credits | F70: Points
C71: Advanced Macroeconomy | D71: BA | E71: 4 | F71: =IFERROR(IF(OR(LEN(C71)=0,LEN(D71)=0,LEN(E71)=0),"",E71*INDEX(Calc!$Z$8:$Z$20,MATCH(D71,Calc!$Y$8:$Y$20,0))),"") -> 14
C72: Competition Law | D72: CB | E72: 4 | F72: =IFERROR(IF(OR(LEN(C72)=0,LEN(D72)=0,LEN(E72)=0),"",E72*INDEX(Calc!$Z$8:$Z$20,MATCH(D72,Calc!$Y$8:$Y$20,0))),"") -> 10
F73: =IFERROR(IF(OR(LEN(C73)=0,LEN(D73)=0,LEN(E73)=0),"",E73*INDEX(Calc!$Z$8:$Z$20,MATCH(D73,Calc!$Y$8:$Y$20,0))),"")
C84: Semester GPA | D84: =IFERROR(SUM(F71:F73)/SUM(E71:E73),"") -> 3
C88: SEMESTER 4
C90: Courses taken during the semester
C91: Course | D91: Grade | E91: Credits | F91: Points
C92: Marketing Decision Making | D92: BA | E92: 3 | F92: =IFERROR(IF(OR(LEN(C92)=0,LEN(D92)=0,LEN(E92)=0),"",E92*INDEX(Calc!$Z$8:$Z$20,MATCH(D92,Calc!$Y$8:$Y$20,0))),"") -> 10.5
C93: Current Topics In Marketing | D93: CB | E93: 5 | F93: =IFERROR(IF(OR(LEN(C93)=0,LEN(D93)=0,LEN(E93)=0),"",E93*INDEX(Calc!$Z$8:$Z$20,MATCH(D93,Calc!$Y$8:$Y$20,0))),"") -> 12.5
F94: =IFERROR(IF(OR(LEN(C94)=0,LEN(D94)=0,LEN(E94)=0),"",E94*INDEX(Calc!$Z$8:$Z$20,MATCH(D94,Calc!$Y$8:$Y$20,0))),"")
C105: Semester GPA | D105: =IFERROR(SUM(F92:F94)/SUM(E92:E94),"") -> 2.875
C109: SEMESTER 5
C111: Courses taken during the semester
C112: Course | D112: Grade | E112: Credits | F112: Points
C113: Business Resource Planning | D113: BA | E113: 5 | F113: =IFERROR(IF(OR(LEN(C113)=0,LEN(D113)=0,LEN(E113)=0),"",E113*INDEX(Calc!$Z$8:$Z$20,MATCH(D113,Calc!$Y$8:$Y$20,0))),"") -> 17.5
C114: Quality Assurance Systems | D114: BB | E114: 4 | F114: =IFERROR(IF(OR(LEN(C114)=0,LEN(D114)=0,LEN(E114)=0),"",E114*INDEX(Calc!$Z$8:$Z$20,MATCH(D114,Calc!$Y$8:$Y$20,0))),"") -> 12
F115: =IFERROR(IF(OR(LEN(C115)=0,LEN(D115)=0,LEN(E115)=0),"",E115*INDEX(Calc!$Z$8:$Z$20,MATCH(D115,Calc!$Y$8:$Y$20,0))),"")
C126: Semester GPA | D126: =IFERROR(SUM(F113:F115)/SUM(E113:E115),"") -> 3.2777778
C130: SEMESTER 6
C132: Courses taken during the semester
C133: Course | D133: Grade | E133: Credits | F133: Points
...

Sheet Calc
B4: GPA SETTINGS (This area is filled according to the most common systems on the world. The last custom area is for user's custom-defined system) | R4: SYSTEMS | U4: USER SETTINGS | X4: DROPDOWN MENUS | AB4: CALCULATIONS
B6: Column | C6: 1g | D6: 1p | E6: 2g | F6: 2p | G6: 3g | H6: 3p | I6: 4g | J6: 4p | K6: 5g | L6: 5p | M6: 6g | N6: 6p | O6: 7g | P6: 7p | R6: Systems | S6: Systems | U6: Selected Sytem | V6: =IFERROR(IF(LEN(Settings!D9)=0,Calc!S7,Settings!D9),"") -> AA System | AE6: Semester GPAs
B7: Order | C7: A+ System | D7: A+ System | E7: A System | F7: A System | G7: AA System | H7: AA System | I7: 100 System | J7: 100 System | K7: 100 Mix System | L7: 100 Mix System | M7: 7-Point System | N7: 7-Point System | O7: Custom | P7: Custom | R7: 1 | S7: A+ System | U7: Selected # | V7: =IFERROR(INDEX(R7:R13,MATCH(V6,S7:S13,0)),"") -> 3 | X7: # | Y7: Grades | Z7: Points | AB7: Total Credits | AC7: =IFERROR(SUM(Dashboard!E28:E229),"") -> 67 | AE7: 1 | AF7: =IFERROR(Dashboard!D42,"") -> 3.5 | AG7: =IFERROR(IF(LEN(Dashboard!D42)>0,1,0),"") -> 1
B8: 1 | C8: A+ | D8: 4.3 | E8: A | F8: 4 | G8: AA | H8: 4 | I8: 100 Points | J8: 100 | K8: 90-100 Points | L8: 4 | M8: High Distinction | N8: 7 | O8: =IFERROR(IF(AND(LEN(Settings!$H$9)>0,LEN(Settings!G12)>0),Settings!G12,""),"") -> X | P8: =IFERROR(IF(AND(LEN(Settings!$H$9)>0,LEN(Settings!H12)>0),Settings!H12,""),"") -> 100 | R8: 2 | S8: A System | U8: Grades Column | V8: =IFERROR($V$7&S15,"") -> 3g | X8: 1 | Y8: =IFERROR(IF(X8>$V$10,"",INDEX($C$8:$P$20,MATCH(X8,$B$8:$B$20,0),MATCH($V$8,$C$6:$P$6,0))),"") -> AA | Z8: =IFERROR(IF(X8>$V$10,"",INDEX($C$8:$P$20,MATCH(X8,$B$8:$B$20,0),MATCH($V$9,$C$6:$P$6,0))),"") -> 4 | AE8: 2 | AF8: =IFERROR(Dashboard!D63,"") -> 2.75 | AG8: =IFERROR(IF(LEN(Dashboard!D63)>0,1,0),"") -> 1
B9: 2 | C9: A | D9: 4 | E9: B+ | F9: 3.5 | G9: BA | H9: 3.5 | I9: 95 Points | J9: 95 | K9: 85-89 Points | L9: 3.5 | M9: Distinction | N9: 6 | O9: =IFERROR(IF(AND(LEN(Settings!$H$9)>0,LEN(Settings!G13)>0),Settings!G13,""),"") -> Y | P9: =IFERROR(IF(AND(LEN(Settings!$H$9)>0,LEN(Settings!H13)>0),Settings!H13,""),"") -> 50 | R9: 3 | S9: AA System | U9: Point Column | V9: =IFERROR($V$7&S16,"") -> 3p | X9: 2 | Y9: =IFERROR(IF(X9>$V$10,"",INDEX($C$8:$P$20,MATCH(X9,$B$8:$B$20,0),MATCH($V$8,$C$6:$P$6,0))),"") -> BA | Z9: =IFERROR(IF(X9>$V$10,"",INDEX($C$8:$P$20,MATCH(X9,$B$8:$B$20,0),MATCH($V$9,$C$6:$P$6,0))),"") -> 3.5 | AB9: Total Points | AC9: =IFERROR(SUM(Dashboard!F28:F229),"") -> 199 | AE9: 3 | AF9: =IFERROR(Dashboard!D84,"") -> 3 | AG9: =IFERROR(IF(LEN(Dashboard!D84)>0,1,0),"") -> 1
B10: 3 | C10: A- | D10: 3.7 | E10: B | F10: 3 | G10: BB | H10: 3 | I10: 90 Points | J10: 90 | K10: 80-84 Points | L10: 3 | M10: Credit | N10: 5 | O10: =IFERROR(IF(AND(LEN(Settings!$H$9)>0,LEN(Settings!G14)>0),Settings!G14,""),"") -> Z | P10: =IFERROR(IF(AND(LEN(Settings!$H$9)>0,LEN(Settings!H14)>0),Settings!H14,""),"") -> 20 | R10: 4 | S10: 100 Mix System | U10: Grade Number | V10: =IFERROR(INDEX(C21:P21,MATCH(V8,C6:P6,0)),13) -> 9 | X10: 3 | Y10: =IFERROR(IF(X10>$V$10,"",INDEX($C$8:$P$20,MATCH(X10,$B$8:$B$20,0),MATCH($V$8,$C$6:$P$6,0))),"") -> BB | Z10: =IFERROR(IF(X10>$V$10,"",INDEX($C$8:$P$20,MATCH(X10,$B$8:$B$20,0),MATCH($V$9,$C$6:$P$6,0))),"") -> 3 | AE10: 4 | AF10: =IFERROR(Dashboard!D105,"") -> 2.875 | AG10: =IFERROR(IF(LEN(Dashboard!D105)>0,1,0),"") -> 1
B11: 4 | C11: B+ | D11: 3.3 | E11: C+ | F11: 2.5 | G11: CB | H11: 2.5 | I11: 85 Points | J11: 85 | K11: 75-79 Points | L11: 2.5 | M11: Pass | N11: 4 | O11: =IFERROR(IF(AND(LEN(Settings!$H$9)>0,LEN(Settings!G15)>0),Settings!G15,""),"") | P11: =IFERROR(IF(AND(LEN(Settings!$H$9)>0,LEN(Settings!H15)>0),Settings!H15,""),"") | R11: 5 | S11: 100 System | X11: 4 | Y11: =IFERROR(IF(X11>$V$10,"",INDEX($C$8:$P$20,MATCH(X11,$B$8:$B$20,0),MATCH($V$8,$C$6:$P$6,0))),"") -> CB | Z11: =IFERROR(IF(X11>$V$10,"",INDEX($C$8:$P$20,MATCH(X11,$B$8:$B$20,0),MATCH($V$9,$C$6:$P$6,0))),"") -> 2.5 | AB11: FINAL GPA | AC11: =IFERROR(AC9/AC7,"") -> 2.9701493 | AE11: 5 | AF11: =IFERROR(Dashboard!D126,"") -> 3.2777778 | AG11: =IFERROR(IF(LEN(Dashboard!D126)>0,1,0),"") -> 1
B12: 5 | C12: B | D12: 3 | E12: C | F12: 2 | G12: CC | H12: 2 | I12: 80 Points | J12: 80 | K12: 70-74 Points | L12: 2 | M12: Fail | N12: 1.5 | O12: =IFERROR(IF(AND(LEN(Settings!$H$9)>0,LEN(Settings!G16)>0),Settings!G16,""),"") | P12: =IFERROR(IF(AND(LEN(Settings!$H$9)>0,LEN(Settings!H16)>0),Settings!H16,""),"") | R12: 6 | S12: 7-Point System | X12: 5 | Y12: =IFERROR(IF(X12>$V$10,"",INDEX($C$8:$P$20,MATCH(X12,$B$8:$B$20,0),MATCH($V$8,$C$6:$P$6,0))),"") -> CC | Z12: =IFERROR(IF(X12>$V$10,"",INDEX($C$8:$P$20,MATCH(X12,$B$8:$B$20,0),MATCH($V$9,$C$6:$P$6,0))),"") -> 2 | AE12: 6 | AF12: =IFERROR(Dashboard!D147,"") -> 2.25 | AG12: =IFERROR(IF(LEN(Dashboard!D147)>0,1,0),"") -> 1
B13: 6 | C13: B- | D13: 2.7 | E13: D+ | F13: 1.5 | G13: DC | H13: 1.5 | I13: 75 Points | J13: 75 | K13: 65-69 Poins | L13: 1.5 | M13: Withdraw Fail | N13: 1.5 | O13: =IFERROR(IF(AND(LEN(Settings!$H$9)>0,LEN(Settings!G17)>0),Settings!G17,""),"") | P13: =IFERROR(IF(AND(LEN(Settings!$H$9)>0,LEN(Settings!H17)>0),Settings!H17,""),"") | R13: 7 | S13: =IFERROR(IF(LEN(Settings!H9)=0,"",Settings!H9),"") -> Custom System | X13: 6 | Y13: =IFERROR(IF(X13>$V$10,"",INDEX($C$8:$P$20,MATCH(X13,$B$8:$B$20,0),MATCH($V$8,$C$6:$P$6,0))),"") -> DC | Z13: =IFERROR(IF(X13>$V$10,"",INDEX($C$8:$P$20,MATCH(X13,$B$8:$B$20,0),MATCH($V$9,$C$6:$P$6,0))),"") -> 1.5 | AE13: 7 | AF13: =IFERROR(Dashboard!D168,"") -> 2.9285714 | AG13: =IFERROR(IF(LEN(Dashboard!D168)>0,1,0),"") -> 1
B14: 7 | C14: C+ | D14: 2.3 | E14: D | F14: 1 | G14: DD | H14: 1 | I14: 70 Points | J14: 70 | K14: 60-64 Points | L14: 1 | M14: Non graded pass | N14: 0 | O14: =IFERROR(IF(AND(LEN(Settings!$H$9)>0,LEN(Settings!G18)>0),Settings!G18,""),"") | P14: =IFERROR(IF(AND(LEN(Settings!$H$9)>0,LEN(Settings!H18)>0),Settings!H18,""),"") | X14: 7 | Y14: =IFERROR(IF(X14>$V$10,"",INDEX($C$8:$P$20,MATCH(X14,$B$8:$B$20,0),MATCH($V$8,$C$6:$P$6,0))),"") -> DD | Z14: =IFERROR(IF(X14>$V$10,"",INDEX($C$8:$P$20,MATCH(X14,$B$8:$B$20,0),MATCH($V$9,$C$6:$P$6,0))),"") -> 1 | AE14: 8 | AF14: =IFERROR(Dashboard!D189,"") -> 3.2777778 | AG14: =IFERROR(IF(LEN(Dashboard!D189)>0,1,0),"") -> 1
B15: 8 | C15: C | D15: 2 | E15: F+ | F15: 0.5 | G15: FD | H15: 0.5 | I15: 65 Points | J15: 65 | K15: 50-59 Points | L15: 0.5 | O15: =IFERROR(IF(AND(LEN(Settings!$H$9)>0,LEN(Settings!G19)>0),Settings!G19,""),"") | P15: =IFERROR(IF(AND(LEN(Settings!$H$9)>0,LEN(Settings!H19)>0),Settings!H19,""),"") | R15: Grades | S15: g | X15: 8 | Y15: =IFERROR(IF(X15>$V$10,"",INDEX($C$8:$P$20,MATCH(X15,$B$8:$B$20,0),MATCH($V$8,$C$6:$P$6,0))),"") -> FD | Z15: =IFERROR(IF(X15>$V$10,"",INDEX($C$8:$P$20,MATCH(X15,$B$8:$B$20,0),MATCH($V$9,$C$6:$P$6,0))),"") -> 0.5 | AE15: 9 | AF15: =IFERROR(Dashboard!D210,"") | AG15: =IFERROR(IF(LEN(Dashboard!D210)>0,1,0),"") -> 0
B16: 9 | C16: C- | D16: 1.7 | E16: F | F16: 0 | G16: FF | H16: 0 | I16: 60 Points | J16: 60 | K16: 0-49 Points | L16: 0 | O16: =IFERROR(IF(AND(LEN(Settings!$H$9)>0,LEN(Settings!G20)>0),Settings!G20,""),"") | P16: =IFERROR(IF(AND(LEN(Settings!$H$9)>0,LEN(Settings!H20)>0),Settings!H20,""),"") | R16: Points | S16: p | X16: 9 | Y16: =IFERROR(IF(X16>$V$10,"",INDEX($C$8:$P$20,MATCH(X16,$B$8:$B$20,0),MATCH($V$8,$C$6:$P$6,0))),"") -> FF | Z16: =IFERROR(IF(X16>$V$10,"",INDEX($C$8:$P$20,MATCH(X16,$B$8:$B$20,0),MATCH($V$9,$C$6:$P$6,0))),"") -> 0 | AE16: 10 | AF16: =IFERROR(Dashboard!D231,"") | AG16: =IFERROR(IF(LEN(Dashboard!D231)>0,1,0),"") -> 0
B17: 10 | C17: D+ | D17: 1.3 | I17: 55 Points | J17: 55 | O17: =IFERROR(IF(AND(LEN(Settings!$H$9)>0,LEN(Settings!G21)>0),Settings!G21,""),"") | P17: =IFERROR(IF(AND(LEN(Settings!$H$9)>0,LEN(Settings!H21)>0),Settings!H21,""),"") | X17: 10 | Y17: =IFERROR(IF(X17>$V$10,"",INDEX($C$8:$P$20,MATCH(X17,$B$8:$B$20,0),MATCH($V$8,$C$6:$P$6,0))),"") | Z17: =IFERROR(IF(X17>$V$10,"",INDEX($C$8:$P$20,MATCH(X17,$B$8:$B$20,0),MATCH($V$9,$C$6:$P$6,0))),"")
B18: 11 | C18: D | D18: 1 | I18: 50 Points | J18: 50 | O18: =IFERROR(IF(AND(LEN(Settings!$H$9)>0,LEN(Settings!G22)>0),Settings!G22,""),"") | P18: =IFERROR(IF(AND(LEN(Settings!$H$9)>0,LEN(Settings!H22)>0),Settings!H22,""),"") | X18: 11 | Y18: =IFERROR(IF(X18>$V$10,"",INDEX($C$8:$P$20,MATCH(X18,$B$8:$B$20,0),MATCH($V$8,$C$6:$P$6,0))),"") | Z18: =IFERROR(IF(X18>$V$10,"",INDEX($C$8:$P$20,MATCH(X18,$B$8:$B$20,0),MATCH($V$9,$C$6:$P$6,0))),"")
B19: 12 | C19: D- | D19: 0.7 | I19: 45 Points | J19: 45 | O19: =IFERROR(IF(AND(LEN(Settings!$H$9)>0,LEN(Settings!G23)>0),Settings!G23,""),"") | P19: =IFERROR(IF(AND(LEN(Settings!$H$9)>0,LEN(Settings!H23)>0),Settings!H23,""),"") | X19: 12 | Y19: =IFERROR(IF(X19>$V$10,"",INDEX($C$8:$P$20,MATCH(X19,$B$8:$B$20,0),MATCH($V$8,$C$6:$P$6,0))),"") | Z19: =IFERROR(IF(X19>$V$10,"",INDEX($C$8:$P$20,MATCH(X19,$B$8:$B$20,0),MATCH($V$9,$C$6:$P$6,0))),"") | AE19: Sem. No | AF19: =IFERROR(SUM(AG7:AG16),10) -> 8
B20: 13 | C20: F | D20: 0 | I20: 40 Points | J20: 40 | O20: =IFERROR(IF(AND(LEN(Settings!$H$9)>0,LEN(Settings!G24)>0),Settings!G24,""),"") | P20: =IFERROR(IF(AND(LEN(Settings!$H$9)>0,LEN(Settings!H24)>0),Settings!H24,""),"") | X20: 13 | Y20: =IFERROR(IF(X20>$V$10,"",INDEX($C$8:$P$20,MATCH(X20,$B$8:$B$20,0),MATCH($V$8,$C$6:$P$6,0))),"") | Z20: =IFERROR(IF(X20>$V$10,"",INDEX($C$8:$P$20,MATCH(X20,$B$8:$B$20,0),MATCH($V$9,$C$6:$P$6,0))),"")
B21: Grade # | C21: =COUNTIF(C$8:C$20,"?*") -> 13 | E21: =COUNTIF(E$8:E$20,"?*") -> 9 | G21: =COUNTIF(G$8:G$20,"?*") -> 9 | I21: =COUNTIF(I$8:I$20,"?*") -> 13 | K21: =COUNTIF(K$8:K$20,"?*") -> 9 | M21: =COUNTIF(M$8:M$20,"?*") -> 7 | O21: =COUNTIF(O$8:O$20,"?*")+COUNT(O8:O20) -> 3
