Workbook
Name Chart1Labels: OFFSET(Calc!$C$22,0,0,1,Calc!$B$21)
Name Chart1Values: OFFSET(Calc!$C$23,0,0,1,Calc!$B$21)

Sheet Dashboard
B2: DAILY ACTIVITY TRACKER
B3: DASHBOARD
B6: TOTAL HOURS SPENT FOR EACH ACTIVITY
B7: SLEEPING | C7: WORK - SCHOOL | D7: ENTERTAINMENT | E7: SPORT | F7: TV - CINEMA | G7: GAME | H7: SHOPPING | I7: EAT | J7: TRAVEL | K7: READ BOOK STUDY | L7: HOUSEWORK GARDENING | M7: SEX
B8: HOURS | C8: HOURS | D8: HOURS | E8: HOURS | F8: HOURS | G8: HOURS | H8: HOURS | I8: HOURS | J8: HOURS | K8: HOURS | L8: HOURS | M8: HOURS
B9: =IF(LEN(B$7)=0,"",Database!C$6) -> 890 | C9: =IF(LEN(C$7)=0,"",Database!D$6) -> 522 | D9: =IF(LEN(D$7)=0,"",Database!E$6) -> 202.5 | E9: =IF(LEN(E$7)=0,"",Database!F$6) -> 109 | F9: =IF(LEN(F$7)=0,"",Database!G$6) -> 127 | G9: =IF(LEN(G$7)=0,"",Database!H$6) -> 115 | H9: =IF(LEN(H$7)=0,"",Database!I$6) -> 74 | I9: =IF(LEN(I$7)=0,"",Database!J$6) -> 123.5 | ... M9: =IF(LEN(M$7)=0,"",Database!N$6) -> 60
B10: DAYS | C10: DAYS | D10: DAYS | E10: DAYS | F10: DAYS | G10: DAYS | H10: DAYS | I10: DAYS | J10: DAYS | K10: DAYS | L10: DAYS | M10: DAYS
B11: =IFERROR(B9/24,"") -> 37.083333 | C11: =IFERROR(C9/24,"") -> 21.75 | D11: =IFERROR(D9/24,"") -> 8.4375 | E11: =IFERROR(E9/24,"") -> 4.5416667 | F11: =IFERROR(F9/24,"") -> 5.2916667 | G11: =IFERROR(G9/24,"") -> 4.7916667 | H11: =IFERROR(H9/24,"") -> 3.0833333 | I11: =IFERROR(I9/24,"") -> 5.1458333 | ... M11: =IFERROR(M9/24,"") -> 2.5
B13: MONTHLY ACTIVITY DISTRIBUTION (Hours) | L13: FEBRUARY
B27: MONTHLY ACTIVITY DISTRIBUTION (Hours) | L27: SHOPPING

Sheet Database
B2: DAILY ACTIVITY TRACKER
B3: DATABASE
B6: SUBTOTAL | C6: =IF(LEN(C$8)=0,"",SUM(C10,C43,C74,C107,C139,C172,C204,C237,C270,C302,C335,C367)) -> 890 | D6: =IF(LEN(D$8)=0,"",SUM(D10,D43,D74,D107,D139,D172,D204,D237,D270,D302,D335,D367)) -> 522 | E6: =IF(LEN(E$8)=0,"",SUM(E10,E43,E74,E107,E139,E172,E204,E237,E270,E302,E335,E367)) -> 202.5 | F6: =IF(LEN(F$8)=0,"",SUM(F10,F43,F74,F107,F139,F172,F204,F237,F270,F302,F335,F367)) -> 109 | G6: =IF(LEN(G$8)=0,"",SUM(G10,G43,G74,G107,G139,G172,G204,G237,G270,G302,G335,G367)) -> 127 | H6: =IF(LEN(H$8)=0,"",SUM(H10,H43,H74,H107,H139,H172,H204,H237,H270,H302,H335,H367)) -> 115 | I6: =IF(LEN(I$8)=0,"",SUM(I10,I43,I74,I107,I139,I172,I204,I237,I270,I302,I335,I367)) -> 74 | J6: =IF(LEN(J$8)=0,"",SUM(J10,J43,J74,J107,J139,J172,J204,J237,J270,J302,J335,J367)) -> 123.5 | ... N6: =IF(LEN(N$8)=0,"",SUM(N10,N43,N74,N107,N139,N172,N204,N237,N270,N302,N335,N367)) -> 60
B8: MONTH | C8: =IF(LEN(Dashboard!B$7)>0,Dashboard!B$7,"") -> SLEEPING | D8: =IF(LEN(Dashboard!C$7)>0,Dashboard!C$7,"") -> WORK - SCHOOL | E8: =IF(LEN(Dashboard!D$7)>0,Dashboard!D$7,"") -> ENTERTAINMENT | F8: =IF(LEN(Dashboard!E$7)>0,Dashboard!E$7,"") -> SPORT | G8: =IF(LEN(Dashboard!F$7)>0,Dashboard!F$7,"") -> TV - CINEMA | H8: =IF(LEN(Dashboard!G$7)>0,Dashboard!G$7,"") -> GAME | I8: =IF(LEN(Dashboard!H$7)>0,Dashboard!H$7,"") -> SHOPPING | J8: =IF(LEN(Dashboard!I$7)>0,Dashboard!I$7,"") -> EAT | ... N8: =IF(LEN(Dashboard!M$7)>0,Dashboard!M$7,"") -> SEX
B10: JANUARY | C10: =IF(LEN(C$8)=0,"",SUM(C11:C20)) -> 76.5 | D10: =IF(LEN(D$8)=0,"",SUM(D11:D20)) -> 43.5 | E10: =IF(LEN(E$8)=0,"",SUM(E11:E20)) -> 16 | F10: =IF(LEN(F$8)=0,"",SUM(F11:F20)) -> 8.5 | G10: =IF(LEN(G$8)=0,"",SUM(G11:G20)) -> 10 | H10: =IF(LEN(H$8)=0,"",SUM(H11:H20)) -> 9 | I10: =IF(LEN(I$8)=0,"",SUM(I11:I20)) -> 5 | J10: =IF(LEN(J$8)=0,"",SUM(J11:J20)) -> 10 | ... N10: =IF(LEN(N$8)=0,"",SUM(N11:N20)) -> 5
B11: 1 | C11: 8 | D11: 7.5 | E11: 1 | F11: 0.5 | G11: 0.5 | H11: 0 | I11: 0.5 | J11: 1 | K11: 2 | L11: 0.5 | M11: 1 | N11: 0.5
B12: 2 | C12: 7.5 | D12: 0 | E12: 3 | F12: 1 | G12: 1.5 | H12: 0 | I12: 0 | J12: 1 | K12: 0 | L12: 1.5 | M12: 2 | N12: 0.5
B13: 3 | C13: 8 | D13: 0 | E13: 2 | F13: 0.5 | G13: 2 | H13: 2 | I13: 1.5 | J13: 1 | K13: 0 | L13: 1.5 | M13: 1 | N13: 0.5
B14: 4 | C14: 8.5 | D14: 7 | E14: 0.5 | F14: 1 | G14: 1 | H14: 0 | I14: 0 | J14: 1 | K14: 0 | L14: 2 | M14: 1 | N14: 0.5
B15: 5 | C15: 8 | D15: 7.5 | E15: 0.5 | F15: 1 | G15: 1 | H15: 1 | I15: 0 | J15: 1 | K15: 0 | L15: 1 | M15: 1 | N15: 0.5
B16: 6 | C16: 7.5 | D16: 7 | E16: 1 | F16: 1 | G16: 0.5 | H16: 0 | I16: 0 | J16: 1 | K16: 0 | L16: 1.5 | M16: 1.5 | N16: 0.5
B17: 7 | C17: 8 | D17: 7.5 | E17: 1 | F17: 0.5 | G17: 0.5 | H17: 0 | I17: 0.5 | J17: 1 | K17: 2 | L17: 1.5 | M17: 1 | N17: 0.5
B18: 8 | C18: 8 | D18: 0 | E18: 2 | F18: 1 | G18: 1 | H18: 2 | I18: 1 | J18: 1 | K18: 0 | L18: 1.5 | M18: 1 | N18: 0.5
B19: 9 | C19: 6.5 | D19: 0 | E19: 4 | F19: 1 | G19: 1 | H19: 2 | I19: 1.5 | J19: 1 | K19: 0 | L19: 2 | M19: 1 | N19: 0.5
B20: 10 | C20: 6.5 | D20: 7 | E20: 1 | F20: 1 | G20: 1 | H20: 2 | I20: 0 | J20: 1 | K20: 0 | L20: 1 | M20: 1 | N20: 0.5
B21: 11
B22: 12
B23: 13
B24: 14
B25: 15
B26: 16
B27: 17
B28: 18
B29: 19
B30: 20
B31: 21
B32: 22
... B41: 31
B43: FEBRUARY | C43: =IF(LEN(C$8)=0,"",SUM(C44:C53)) -> 76.5 | D43: =IF(LEN(D$8)=0,"",SUM(D44:D53)) -> 43.5 | E43: =IF(LEN(E$8)=0,"",SUM(E44:E53)) -> 16 | F43: =IF(LEN(F$8)=0,"",SUM(F44:F53)) -> 8.5 | G43: =IF(LEN(G$8)=0,"",SUM(G44:G53)) -> 10 | H43: =IF(LEN(H$8)=0,"",SUM(H44:H53)) -> 9 | I43: =IF(LEN(I$8)=0,"",SUM(I44:I53)) -> 5 | J43: =IF(LEN(J$8)=0,"",SUM(J44:J53)) -> 10 | ... N43: =IF(LEN(N$8)=0,"",SUM(N44:N53)) -> 5
B44: 1 | C44: 8 | D44: 7.5 | E44: 1 | F44: 0.5 | G44: 0.5 | H44: 0 | I44: 0.5 | J44: 1 | K44: 2 | L44: 0.5 | M44: 1 | N44: 0.5
B45: 2 | C45: 7.5 | D45: 0 | E45: 3 | F45: 1 | G45: 1.5 | H45: 0 | I45: 0 | J45: 1 | K45: 0 | L45: 1.5 | M45: 2 | N45: 0.5
B46: 3 | C46: 8 | D46: 0 | E46: 2 | F46: 0.5 | G46: 2 | H46: 2 | I46: 1.5 | J46: 1 | K46: 0 | L46: 1.5 | M46: 1 | N46: 0.5
B47: 4 | C47: 8.5 | D47: 7 | E47: 0.5 | F47: 1 | G47: 1 | H47: 0 | I47: 0 | J47: 1 | K47: 0 | L47: 2 | M47: 1 | N47: 0.5
B48: 5 | C48: 8 | D48: 7.5 | E48: 0.5 | F48: 1 | G48: 1 | H48: 1 | I48: 0 | J48: 1 | K48: 0 | L48: 1 | M48: 1 | N48: 0.5
B49: 6 | C49: 7.5 | D49: 7 | E49: 1 | F49: 1 | G49: 0.5 | H49: 0 | I49: 0 | J49: 1 | K49: 0 | L49: 1.5 | M49: 1.5 | N49: 0.5
B50: 7 | C50: 8 | D50: 7.5 | E50: 1 | F50: 0.5 | G50: 0.5 | H50: 0 | I50: 0.5 | J50: 1 | K50: 2 | L50: 1.5 | M50: 1 | N50: 0.5
B51: 8 | C51: 8 | D51: 0 | E51: 2 | F51: 1 | G51: 1 | H51: 2 | I51: 1 | J51: 1 | K51: 0 | L51: 1.5 | M51: 1 | N51: 0.5
B52: 9 | C52: 6.5 | D52: 0 | E52: 4 | F52: 1 | G52: 1 | H52: 2 | I52: 1.5 | J52: 1 | K52: 0 | L52: 2 | M52: 1 | N52: 0.5
B53: 10 | C53: 6.5 | D53: 7 | E53: 1 | F53: 1 | G53: 1 | H53: 2 | I53: 0 | J53: 1 | K53: 0 | L53: 1 | M53: 1 | N53: 0.5
B54: 11
B55: 12
B56: 13
B57: 14
B58: 15
B59: 16
B60: 17
B61: 18
B62: 19
B63: 20
B64: 21
B65: 22
... B72: 29
B74: MARCH | C74: =IF(LEN(C$8)=0,"",SUM(C75:C84)) -> 76.5 | D74: =IF(LEN(D$8)=0,"",SUM(D75:D84)) -> 43.5 | E74: =IF(LEN(E$8)=0,"",SUM(E75:E84)) -> 16 | F74: =IF(LEN(F$8)=0,"",SUM(F75:F84)) -> 8.5 | G74: =IF(LEN(G$8)=0,"",SUM(G75:G84)) -> 10 | H74: =IF(LEN(H$8)=0,"",SUM(H75:H84)) -> 9 | I74: =IF(LEN(I$8)=0,"",SUM(I75:I84)) -> 5 | J74: =IF(LEN(J$8)=0,"",SUM(J75:J84)) -> 10 | ... N74: =IF(LEN(N$8)=0,"",SUM(N75:N84)) -> 5
B75: 1 | C75: 8 | D75: 7.5 | E75: 1 | F75: 0.5 | G75: 0.5 | H75: 0 | I75: 0.5 | J75: 1 | K75: 2 | L75: 0.5 | M75: 1 | N75: 0.5
B76: 2 | C76: 7.5 | D76: 0 | E76: 3 | F76: 1 | G76: 1.5 | H76: 0 | I76: 0 | J76: 1 | K76: 0 | L76: 1.5 | M76: 2 | N76: 0.5
B77: 3 | C77: 8 | D77: 0 | E77: 2 | F77: 0.5 | G77: 2 | H77: 2 | I77: 1.5 | J77: 1 | K77: 0 | L77: 1.5 | M77: 1 | N77: 0.5
B78: 4 | C78: 8.5 | D78: 7 | E78: 0.5 | F78: 1 | G78: 1 | H78: 0 | I78: 0 | J78: 1 | K78: 0 | L78: 2 | M78: 1 | N78: 0.5
B79: 5 | C79: 8 | D79: 7.5 | E79: 0.5 | F79: 1 | G79: 1 | H79: 1 | I79: 0 | J79: 1 | K79: 0 | L79: 1 | M79: 1 | N79: 0.5
B80: 6 | C80: 7.5 | D80: 7 | E80: 1 | F80: 1 | G80: 0.5 | H80: 0 | I80: 0 | J80: 1 | K80: 0 | L80: 1.5 | M80: 1.5 | N80: 0.5
B81: 7 | C81: 8 | D81: 7.5 | E81: 1 | F81: 0.5 | G81: 0.5 | H81: 0 | I81: 0.5 | J81: 1 | K81: 2 | L81: 1.5 | M81: 1 | N81: 0.5
B82: 8 | C82: 8 | D82: 0 | E82: 2 | F82: 1 | G82: 1 | H82: 2 | I82: 1 | J82: 1 | K82: 0 | L82: 1.5 | M82: 1 | N82: 0.5
B83: 9 | C83: 6.5 | D83: 0 | E83: 4 | F83: 1 | G83: 1 | H83: 2 | I83: 1.5 | J83: 1 | K83: 0 | L83: 2 | M83: 1 | N83: 0.5
B84: 10 | C84: 6.5 | D84: 7 | E84: 1 | F84: 1 | G84: 1 | H84: 2 | I84: 0 | J84: 1 | K84: 0 | L84: 1 | M84: 1 | N84: 0.5
B85: 11
B86: 12
B87: 13
B88: 14
B89: 15
B90: 16
B91: 17
B92: 18
B93: 19
B94: 20
B95: 21
B96: 22
... B105: 31
B107: APRIL | C107: =IF(LEN(C$8)=0,"",SUM(C108:C117)) -> 76.5 | D107: =IF(LEN(D$8)=0,"",SUM(D108:D117)) -> 43.5 | E107: =IF(LEN(E$8)=0,"",SUM(E108:E117)) -> 16 | F107: =IF(LEN(F$8)=0,"",SUM(F108:F117)) -> 8.5 | G107: =IF(LEN(G$8)=0,"",SUM(G108:G117)) -> 10 | H107: =IF(LEN(H$8)=0,"",SUM(H108:H117)) -> 9 | I107: =IF(LEN(I$8)=0,"",SUM(I108:I117)) -> 5 | J107: =IF(LEN(J$8)=0,"",SUM(J108:J117)) -> 10 | ... N107: =IF(LEN(N$8)=0,"",SUM(N108:N117)) -> 5
B108: 1 | C108: 8 | D108: 7.5 | E108: 1 | F108: 0.5 | G108: 0.5 | H108: 0 | I108: 0.5 | J108: 1 | K108: 2 | L108: 0.5 | M108: 1 | N108: 0.5
B109: 2 | C109: 7.5 | D109: 0 | E109: 3 | F109: 1 | G109: 1.5 | H109: 0 | I109: 0 | J109: 1 | K109: 0 | L109: 1.5 | M109: 2 | N109: 0.5
B110: 3 | C110: 8 | D110: 0 | E110: 2 | F110: 0.5 | G110: 2 | H110: 2 | I110: 1.5 | J110: 1 | K110: 0 | L110: 1.5 | M110: 1 | N110: 0.5
B111: 4 | C111: 8.5 | D111: 7 | E111: 0.5 | F111: 1 | G111: 1 | H111: 0 | I111: 0 | J111: 1 | K111: 0 | L111: 2 | M111: 1 | N111: 0.5
B112: 5 | C112: 8 | D112: 7.5 | E112: 0.5 | F112: 1 | G112: 1 | H112: 1 | I112: 0 | J112: 1 | K112: 0 | L112: 1 | M112: 1 | N112: 0.5
B113: 6 | C113: 7.5 | D113: 7 | E113: 1 | F113: 1 | G113: 0.5 | H113: 0 | I113: 0 | J113: 1 | K113: 0 | L113: 1.5 | M113: 1.5 | N113: 0.5
B114: 7 | C114: 8 | D114: 7.5 | E114: 1 | F114: 0.5 | G114: 0.5 | H114: 0 | I114: 0.5 | J114: 1 | K114: 2 | L114: 1.5 | M114: 1 | N114: 0.5
B115: 8 | C115: 8 | D115: 0 | E115: 2 | F115: 1 | G115: 1 | H115: 2 | I115: 1 | J115: 1 | K115: 0 | L115: 1.5 | M115: 1 | N115: 0.5
B116: 9 | C116: 6.5 | D116: 0 | E116: 4 | F116: 1 | G116: 1 | H116: 2 | I116: 1.5 | J116: 1 | K116: 0 | L116: 2 | M116: 1 | N116: 0.5
B117: 10 | C117: 6.5 | D117: 7 | E117: 1 | F117: 1 | G117: 1 | H117: 2 | I117: 0 | J117: 1 | K117: 0 | L117: 1 | M117: 1 | N117: 0.5
B118: 11
B119: 12
B120: 13
B121: 14
B122: 15
B123: 16
B124: 17
B125: 18
B126: 19
B127: 20
B128: 21
B129: 22
... B137: 30
...

Sheet Calc
B3: Dynamic Column Index | C3: =IF(LEN(Database!C$8)>0,COLUMN(Database!C$8)-COLUMN(Database!$B$8),"") -> 1 | D3: =IF(LEN(Database!D$8)>0,COLUMN(Database!D$8)-COLUMN(Database!$B$8),"") -> 2 | E3: =IF(LEN(Database!E$8)>0,COLUMN(Database!E$8)-COLUMN(Database!$B$8),"") -> 3 | F3: =IF(LEN(Database!F$8)>0,COLUMN(Database!F$8)-COLUMN(Database!$B$8),"") -> 4 | G3: =IF(LEN(Database!G$8)>0,COLUMN(Database!G$8)-COLUMN(Database!$B$8),"") -> 5 | H3: =IF(LEN(Database!H$8)>0,COLUMN(Database!H$8)-COLUMN(Database!$B$8),"") -> 6 | I3: =IF(LEN(Database!I$8)>0,COLUMN(Database!I$8)-COLUMN(Database!$B$8),"") -> 7 | J3: =IF(LEN(Database!J$8)>0,COLUMN(Database!J$8)-COLUMN(Database!$B$8),"") -> 8 | ... N3: =IF(LEN(Database!N$8)>0,COLUMN(Database!N$8)-COLUMN(Database!$B$8),"") -> 12
B4: Column Index without Blanks | C4: =IFERROR(SMALL($C$3:$N$3,COLUMN(C$4)-COLUMN($B$4)),"") -> 1 | D4: =IFERROR(SMALL($C$3:$N$3,COLUMN(D$4)-COLUMN($B$4)),"") -> 2 | E4: =IFERROR(SMALL($C$3:$N$3,COLUMN(E$4)-COLUMN($B$4)),"") -> 3 | F4: =IFERROR(SMALL($C$3:$N$3,COLUMN(F$4)-COLUMN($B$4)),"") -> 4 | G4: =IFERROR(SMALL($C$3:$N$3,COLUMN(G$4)-COLUMN($B$4)),"") -> 5 | H4: =IFERROR(SMALL($C$3:$N$3,COLUMN(H$4)-COLUMN($B$4)),"") -> 6 | I4: =IFERROR(SMALL($C$3:$N$3,COLUMN(I$4)-COLUMN($B$4)),"") -> 7 | J4: =IFERROR(SMALL($C$3:$N$3,COLUMN(J$4)-COLUMN($B$4)),"") -> 8 | ... N4: =IFERROR(SMALL($C$3:$N$3,COLUMN(N$4)-COLUMN($B$4)),"") -> 12
B5: Activity / Months | C5: =IFERROR(INDEX(Dashboard!$B$7:$M$7,1,Calc!C$4),"") -> SLEEPING | D5: =IFERROR(INDEX(Dashboard!$B$7:$M$7,1,Calc!D$4),"") -> WORK - SCHOOL | E5: =IFERROR(INDEX(Dashboard!$B$7:$M$7,1,Calc!E$4),"") -> ENTERTAINMENT | F5: =IFERROR(INDEX(Dashboard!$B$7:$M$7,1,Calc!F$4),"") -> SPORT | G5: =IFERROR(INDEX(Dashboard!$B$7:$M$7,1,Calc!G$4),"") -> TV - CINEMA | H5: =IFERROR(INDEX(Dashboard!$B$7:$M$7,1,Calc!H$4),"") -> GAME | I5: =IFERROR(INDEX(Dashboard!$B$7:$M$7,1,Calc!I$4),"") -> SHOPPING | J5: =IFERROR(INDEX(Dashboard!$B$7:$M$7,1,Calc!J$4),"") -> EAT | ... N5: =IFERROR(INDEX(Dashboard!$B$7:$M$7,1,Calc!N$4),"") -> SEX
B6: JANUARY | C6: =INDEX(Database!$B$6:$N$398,MATCH(Calc!$B6,Database!$B$6:$B$398,0),MATCH(C$5,Database!$B$8:$N$8,0)) -> 76.5 | D6: =INDEX(Database!$B$6:$N$398,MATCH(Calc!$B6,Database!$B$6:$B$398,0),MATCH(D$5,Database!$B$8:$N$8,0)) -> 43.5 | E6: =INDEX(Database!$B$6:$N$398,MATCH(Calc!$B6,Database!$B$6:$B$398,0),MATCH(E$5,Database!$B$8:$N$8,0)) -> 16 | F6: =INDEX(Database!$B$6:$N$398,MATCH(Calc!$B6,Database!$B$6:$B$398,0),MATCH(F$5,Database!$B$8:$N$8,0)) -> 8.5 | G6: =INDEX(Database!$B$6:$N$398,MATCH(Calc!$B6,Database!$B$6:$B$398,0),MATCH(G$5,Database!$B$8:$N$8,0)) -> 10 | H6: =INDEX(Database!$B$6:$N$398,MATCH(Calc!$B6,Database!$B$6:$B$398,0),MATCH(H$5,Database!$B$8:$N$8,0)) -> 9 | I6: =INDEX(Database!$B$6:$N$398,MATCH(Calc!$B6,Database!$B$6:$B$398,0),MATCH(I$5,Database!$B$8:$N$8,0)) -> 5 | J6: =INDEX(Database!$B$6:$N$398,MATCH(Calc!$B6,Database!$B$6:$B$398,0),MATCH(J$5,Database!$B$8:$N$8,0)) -> 10 | ... N6: =INDEX(Database!$B$6:$N$398,MATCH(Calc!$B6,Database!$B$6:$B$398,0),MATCH(N$5,Database!$B$8:$N$8,0)) -> 5
B7: FEBRUARY | C7: =INDEX(Database!$B$6:$N$398,MATCH(Calc!$B7,Database!$B$6:$B$398,0),MATCH(C$5,Database!$B$8:$N$8,0)) -> 76.5 | D7: =INDEX(Database!$B$6:$N$398,MATCH(Calc!$B7,Database!$B$6:$B$398,0),MATCH(D$5,Database!$B$8:$N$8,0)) -> 43.5 | E7: =INDEX(Database!$B$6:$N$398,MATCH(Calc!$B7,Database!$B$6:$B$398,0),MATCH(E$5,Database!$B$8:$N$8,0)) -> 16 | F7: =INDEX(Database!$B$6:$N$398,MATCH(Calc!$B7,Database!$B$6:$B$398,0),MATCH(F$5,Database!$B$8:$N$8,0)) -> 8.5 | G7: =INDEX(Database!$B$6:$N$398,MATCH(Calc!$B7,Database!$B$6:$B$398,0),MATCH(G$5,Database!$B$8:$N$8,0)) -> 10 | H7: =INDEX(Database!$B$6:$N$398,MATCH(Calc!$B7,Database!$B$6:$B$398,0),MATCH(H$5,Database!$B$8:$N$8,0)) -> 9 | I7: =INDEX(Database!$B$6:$N$398,MATCH(Calc!$B7,Database!$B$6:$B$398,0),MATCH(I$5,Database!$B$8:$N$8,0)) -> 5 | J7: =INDEX(Database!$B$6:$N$398,MATCH(Calc!$B7,Database!$B$6:$B$398,0),MATCH(J$5,Database!$B$8:$N$8,0)) -> 10 | ... N7: =INDEX(Database!$B$6:$N$398,MATCH(Calc!$B7,Database!$B$6:$B$398,0),MATCH(N$5,Database!$B$8:$N$8,0)) -> 5
B8: MARCH | C8: =INDEX(Database!$B$6:$N$398,MATCH(Calc!$B8,Database!$B$6:$B$398,0),MATCH(C$5,Database!$B$8:$N$8,0)) -> 76.5 | D8: =INDEX(Database!$B$6:$N$398,MATCH(Calc!$B8,Database!$B$6:$B$398,0),MATCH(D$5,Database!$B$8:$N$8,0)) -> 43.5 | E8: =INDEX(Database!$B$6:$N$398,MATCH(Calc!$B8,Database!$B$6:$B$398,0),MATCH(E$5,Database!$B$8:$N$8,0)) -> 16 | F8: =INDEX(Database!$B$6:$N$398,MATCH(Calc!$B8,Database!$B$6:$B$398,0),MATCH(F$5,Database!$B$8:$N$8,0)) -> 8.5 | G8: =INDEX(Database!$B$6:$N$398,MATCH(Calc!$B8,Database!$B$6:$B$398,0),MATCH(G$5,Database!$B$8:$N$8,0)) -> 10 | H8: =INDEX(Database!$B$6:$N$398,MATCH(Calc!$B8,Database!$B$6:$B$398,0),MATCH(H$5,Database!$B$8:$N$8,0)) -> 9 | I8: =INDEX(Database!$B$6:$N$398,MATCH(Calc!$B8,Database!$B$6:$B$398,0),MATCH(I$5,Database!$B$8:$N$8,0)) -> 5 | J8: =INDEX(Database!$B$6:$N$398,MATCH(Calc!$B8,Database!$B$6:$B$398,0),MATCH(J$5,Database!$B$8:$N$8,0)) -> 10 | ... N8: =INDEX(Database!$B$6:$N$398,MATCH(Calc!$B8,Database!$B$6:$B$398,0),MATCH(N$5,Database!$B$8:$N$8,0)) -> 5
B9: APRIL | C9: =INDEX(Database!$B$6:$N$398,MATCH(Calc!$B9,Database!$B$6:$B$398,0),MATCH(C$5,Database!$B$8:$N$8,0)) -> 76.5 | D9: =INDEX(Database!$B$6:$N$398,MATCH(Calc!$B9,Database!$B$6:$B$398,0),MATCH(D$5,Database!$B$8:$N$8,0)) -> 43.5 | E9: =INDEX(Database!$B$6:$N$398,MATCH(Calc!$B9,Database!$B$6:$B$398,0),MATCH(E$5,Database!$B$8:$N$8,0)) -> 16 | F9: =INDEX(Database!$B$6:$N$398,MATCH(Calc!$B9,Database!$B$6:$B$398,0),MATCH(F$5,Database!$B$8:$N$8,0)) -> 8.5 | G9: =INDEX(Database!$B$6:$N$398,MATCH(Calc!$B9,Database!$B$6:$B$398,0),MATCH(G$5,Database!$B$8:$N$8,0)) -> 10 | H9: =INDEX(Database!$B$6:$N$398,MATCH(Calc!$B9,Database!$B$6:$B$398,0),MATCH(H$5,Database!$B$8:$N$8,0)) -> 9 | I9: =INDEX(Database!$B$6:$N$398,MATCH(Calc!$B9,Database!$B$6:$B$398,0),MATCH(I$5,Database!$B$8:$N$8,0)) -> 5 | J9: =INDEX(Database!$B$6:$N$398,MATCH(Calc!$B9,Database!$B$6:$B$398,0),MATCH(J$5,Database!$B$8:$N$8,0)) -> 10 | ... N9: =INDEX(Database!$B$6:$N$398,MATCH(Calc!$B9,Database!$B$6:$B$398,0),MATCH(N$5,Database!$B$8:$N$8,0)) -> 5
B10: MAY | C10: =INDEX(Database!$B$6:$N$398,MATCH(Calc!$B10,Database!$B$6:$B$398,0),MATCH(C$5,Database!$B$8:$N$8,0)) -> 76.5 | D10: =INDEX(Database!$B$6:$N$398,MATCH(Calc!$B10,Database!$B$6:$B$398,0),MATCH(D$5,Database!$B$8:$N$8,0)) -> 43.5 | E10: =INDEX(Database!$B$6:$N$398,MATCH(Calc!$B10,Database!$B$6:$B$398,0),MATCH(E$5,Database!$B$8:$N$8,0)) -> 16 | F10: =INDEX(Database!$B$6:$N$398,MATCH(Calc!$B10,Database!$B$6:$B$398,0),MATCH(F$5,Database!$B$8:$N$8,0)) -> 8.5 | G10: =INDEX(Database!$B$6:$N$398,MATCH(Calc!$B10,Database!$B$6:$B$398,0),MATCH(G$5,Database!$B$8:$N$8,0)) -> 10 | H10: =INDEX(Database!$B$6:$N$398,MATCH(Calc!$B10,Database!$B$6:$B$398,0),MATCH(H$5,Database!$B$8:$N$8,0)) -> 9 | I10: =INDEX(Database!$B$6:$N$398,MATCH(Calc!$B10,Database!$B$6:$B$398,0),MATCH(I$5,Database!$B$8:$N$8,0)) -> 5 | J10: =INDEX(Database!$B$6:$N$398,MATCH(Calc!$B10,Database!$B$6:$B$398,0),MATCH(J$5,Database!$B$8:$N$8,0)) -> 10 | ... N10: =INDEX(Database!$B$6:$N$398,MATCH(Calc!$B10,Database!$B$6:$B$398,0),MATCH(N$5,Database!$B$8:$N$8,0)) -> 5
B11: JUNE | C11: =INDEX(Database!$B$6:$N$398,MATCH(Calc!$B11,Database!$B$6:$B$398,0),MATCH(C$5,Database!$B$8:$N$8,0)) -> 72.5 | D11: =INDEX(Database!$B$6:$N$398,MATCH(Calc!$B11,Database!$B$6:$B$398,0),MATCH(D$5,Database!$B$8:$N$8,0)) -> 43.5 | E11: =INDEX(Database!$B$6:$N$398,MATCH(Calc!$B11,Database!$B$6:$B$398,0),MATCH(E$5,Database!$B$8:$N$8,0)) -> 17.5 | F11: =INDEX(Database!$B$6:$N$398,MATCH(Calc!$B11,Database!$B$6:$B$398,0),MATCH(F$5,Database!$B$8:$N$8,0)) -> 9.5 | G11: =INDEX(Database!$B$6:$N$398,MATCH(Calc!$B11,Database!$B$6:$B$398,0),MATCH(G$5,Database!$B$8:$N$8,0)) -> 11 | H11: =INDEX(Database!$B$6:$N$398,MATCH(Calc!$B11,Database!$B$6:$B$398,0),MATCH(H$5,Database!$B$8:$N$8,0)) -> 10 | I11: =INDEX(Database!$B$6:$N$398,MATCH(Calc!$B11,Database!$B$6:$B$398,0),MATCH(I$5,Database!$B$8:$N$8,0)) -> 7 | J11: =INDEX(Database!$B$6:$N$398,MATCH(Calc!$B11,Database!$B$6:$B$398,0),MATCH(J$5,Database!$B$8:$N$8,0)) -> 10.5 | ... N11: =INDEX(Database!$B$6:$N$398,MATCH(Calc!$B11,Database!$B$6:$B$398,0),MATCH(N$5,Database!$B$8:$N$8,0)) -> 5
B12: JULY | C12: =INDEX(Database!$B$6:$N$398,MATCH(Calc!$B12,Database!$B$6:$B$398,0),MATCH(C$5,Database!$B$8:$N$8,0)) -> 72.5 | D12: =INDEX(Database!$B$6:$N$398,MATCH(Calc!$B12,Database!$B$6:$B$398,0),MATCH(D$5,Database!$B$8:$N$8,0)) -> 43.5 | E12: =INDEX(Database!$B$6:$N$398,MATCH(Calc!$B12,Database!$B$6:$B$398,0),MATCH(E$5,Database!$B$8:$N$8,0)) -> 17.5 | F12: =INDEX(Database!$B$6:$N$398,MATCH(Calc!$B12,Database!$B$6:$B$398,0),MATCH(F$5,Database!$B$8:$N$8,0)) -> 9.5 | G12: =INDEX(Database!$B$6:$N$398,MATCH(Calc!$B12,Database!$B$6:$B$398,0),MATCH(G$5,Database!$B$8:$N$8,0)) -> 11 | H12: =INDEX(Database!$B$6:$N$398,MATCH(Calc!$B12,Database!$B$6:$B$398,0),MATCH(H$5,Database!$B$8:$N$8,0)) -> 10 | I12: =INDEX(Database!$B$6:$N$398,MATCH(Calc!$B12,Database!$B$6:$B$398,0),MATCH(I$5,Database!$B$8:$N$8,0)) -> 7 | J12: =INDEX(Database!$B$6:$N$398,MATCH(Calc!$B12,Database!$B$6:$B$398,0),MATCH(J$5,Database!$B$8:$N$8,0)) -> 10.5 | ... N12: =INDEX(Database!$B$6:$N$398,MATCH(Calc!$B12,Database!$B$6:$B$398,0),MATCH(N$5,Database!$B$8:$N$8,0)) -> 5
B13: AUGUST | C13: =INDEX(Database!$B$6:$N$398,MATCH(Calc!$B13,Database!$B$6:$B$398,0),MATCH(C$5,Database!$B$8:$N$8,0)) -> 72.5 | D13: =INDEX(Database!$B$6:$N$398,MATCH(Calc!$B13,Database!$B$6:$B$398,0),MATCH(D$5,Database!$B$8:$N$8,0)) -> 43.5 | E13: =INDEX(Database!$B$6:$N$398,MATCH(Calc!$B13,Database!$B$6:$B$398,0),MATCH(E$5,Database!$B$8:$N$8,0)) -> 17.5 | F13: =INDEX(Database!$B$6:$N$398,MATCH(Calc!$B13,Database!$B$6:$B$398,0),MATCH(F$5,Database!$B$8:$N$8,0)) -> 9.5 | G13: =INDEX(Database!$B$6:$N$398,MATCH(Calc!$B13,Database!$B$6:$B$398,0),MATCH(G$5,Database!$B$8:$N$8,0)) -> 11 | H13: =INDEX(Database!$B$6:$N$398,MATCH(Calc!$B13,Database!$B$6:$B$398,0),MATCH(H$5,Database!$B$8:$N$8,0)) -> 10 | I13: =INDEX(Database!$B$6:$N$398,MATCH(Calc!$B13,Database!$B$6:$B$398,0),MATCH(I$5,Database!$B$8:$N$8,0)) -> 7 | J13: =INDEX(Database!$B$6:$N$398,MATCH(Calc!$B13,Database!$B$6:$B$398,0),MATCH(J$5,Database!$B$8:$N$8,0)) -> 10.5 | ... N13: =INDEX(Database!$B$6:$N$398,MATCH(Calc!$B13,Database!$B$6:$B$398,0),MATCH(N$5,Database!$B$8:$N$8,0)) -> 5
B14: SEPTEMBER | C14: =INDEX(Database!$B$6:$N$398,MATCH(Calc!$B14,Database!$B$6:$B$398,0),MATCH(C$5,Database!$B$8:$N$8,0)) -> 72.5 | D14: =INDEX(Database!$B$6:$N$398,MATCH(Calc!$B14,Database!$B$6:$B$398,0),MATCH(D$5,Database!$B$8:$N$8,0)) -> 43.5 | E14: =INDEX(Database!$B$6:$N$398,MATCH(Calc!$B14,Database!$B$6:$B$398,0),MATCH(E$5,Database!$B$8:$N$8,0)) -> 17.5 | F14: =INDEX(Database!$B$6:$N$398,MATCH(Calc!$B14,Database!$B$6:$B$398,0),MATCH(F$5,Database!$B$8:$N$8,0)) -> 9.5 | G14: =INDEX(Database!$B$6:$N$398,MATCH(Calc!$B14,Database!$B$6:$B$398,0),MATCH(G$5,Database!$B$8:$N$8,0)) -> 11 | H14: =INDEX(Database!$B$6:$N$398,MATCH(Calc!$B14,Database!$B$6:$B$398,0),MATCH(H$5,Database!$B$8:$N$8,0)) -> 10 | I14: =INDEX(Database!$B$6:$N$398,MATCH(Calc!$B14,Database!$B$6:$B$398,0),MATCH(I$5,Database!$B$8:$N$8,0)) -> 7 | J14: =INDEX(Database!$B$6:$N$398,MATCH(Calc!$B14,Database!$B$6:$B$398,0),MATCH(J$5,Database!$B$8:$N$8,0)) -> 10.5 | ... N14: =INDEX(Database!$B$6:$N$398,MATCH(Calc!$B14,Database!$B$6:$B$398,0),MATCH(N$5,Database!$B$8:$N$8,0)) -> 5
B15: OCTOBER | C15: =INDEX(Database!$B$6:$N$398,MATCH(Calc!$B15,Database!$B$6:$B$398,0),MATCH(C$5,Database!$B$8:$N$8,0)) -> 72.5 | D15: =INDEX(Database!$B$6:$N$398,MATCH(Calc!$B15,Database!$B$6:$B$398,0),MATCH(D$5,Database!$B$8:$N$8,0)) -> 43.5 | E15: =INDEX(Database!$B$6:$N$398,MATCH(Calc!$B15,Database!$B$6:$B$398,0),MATCH(E$5,Database!$B$8:$N$8,0)) -> 17.5 | F15: =INDEX(Database!$B$6:$N$398,MATCH(Calc!$B15,Database!$B$6:$B$398,0),MATCH(F$5,Database!$B$8:$N$8,0)) -> 9.5 | G15: =INDEX(Database!$B$6:$N$398,MATCH(Calc!$B15,Database!$B$6:$B$398,0),MATCH(G$5,Database!$B$8:$N$8,0)) -> 11 | H15: =INDEX(Database!$B$6:$N$398,MATCH(Calc!$B15,Database!$B$6:$B$398,0),MATCH(H$5,Database!$B$8:$N$8,0)) -> 10 | I15: =INDEX(Database!$B$6:$N$398,MATCH(Calc!$B15,Database!$B$6:$B$398,0),MATCH(I$5,Database!$B$8:$N$8,0)) -> 7 | J15: =INDEX(Database!$B$6:$N$398,MATCH(Calc!$B15,Database!$B$6:$B$398,0),MATCH(J$5,Database!$B$8:$N$8,0)) -> 10.5 | ... N15: =INDEX(Database!$B$6:$N$398,MATCH(Calc!$B15,Database!$B$6:$B$398,0),MATCH(N$5,Database!$B$8:$N$8,0)) -> 5
B16: NOVEMBER | C16: =INDEX(Database!$B$6:$N$398,MATCH(Calc!$B16,Database!$B$6:$B$398,0),MATCH(C$5,Database!$B$8:$N$8,0)) -> 72.5 | D16: =INDEX(Database!$B$6:$N$398,MATCH(Calc!$B16,Database!$B$6:$B$398,0),MATCH(D$5,Database!$B$8:$N$8,0)) -> 43.5 | E16: =INDEX(Database!$B$6:$N$398,MATCH(Calc!$B16,Database!$B$6:$B$398,0),MATCH(E$5,Database!$B$8:$N$8,0)) -> 17.5 | F16: =INDEX(Database!$B$6:$N$398,MATCH(Calc!$B16,Database!$B$6:$B$398,0),MATCH(F$5,Database!$B$8:$N$8,0)) -> 9.5 | G16: =INDEX(Database!$B$6:$N$398,MATCH(Calc!$B16,Database!$B$6:$B$398,0),MATCH(G$5,Database!$B$8:$N$8,0)) -> 11 | H16: =INDEX(Database!$B$6:$N$398,MATCH(Calc!$B16,Database!$B$6:$B$398,0),MATCH(H$5,Database!$B$8:$N$8,0)) -> 10 | I16: =INDEX(Database!$B$6:$N$398,MATCH(Calc!$B16,Database!$B$6:$B$398,0),MATCH(I$5,Database!$B$8:$N$8,0)) -> 7 | J16: =INDEX(Database!$B$6:$N$398,MATCH(Calc!$B16,Database!$B$6:$B$398,0),MATCH(J$5,Database!$B$8:$N$8,0)) -> 10.5 | ... N16: =INDEX(Database!$B$6:$N$398,MATCH(Calc!$B16,Database!$B$6:$B$398,0),MATCH(N$5,Database!$B$8:$N$8,0)) -> 5
B17: DECEMBER | C17: =INDEX(Database!$B$6:$N$398,MATCH(Calc!$B17,Database!$B$6:$B$398,0),MATCH(C$5,Database!$B$8:$N$8,0)) -> 72.5 | D17: =INDEX(Database!$B$6:$N$398,MATCH(Calc!$B17,Database!$B$6:$B$398,0),MATCH(D$5,Database!$B$8:$N$8,0)) -> 43.5 | E17: =INDEX(Database!$B$6:$N$398,MATCH(Calc!$B17,Database!$B$6:$B$398,0),MATCH(E$5,Database!$B$8:$N$8,0)) -> 17.5 | F17: =INDEX(Database!$B$6:$N$398,MATCH(Calc!$B17,Database!$B$6:$B$398,0),MATCH(F$5,Database!$B$8:$N$8,0)) -> 9.5 | G17: =INDEX(Database!$B$6:$N$398,MATCH(Calc!$B17,Database!$B$6:$B$398,0),MATCH(G$5,Database!$B$8:$N$8,0)) -> 11 | H17: =INDEX(Database!$B$6:$N$398,MATCH(Calc!$B17,Database!$B$6:$B$398,0),MATCH(H$5,Database!$B$8:$N$8,0)) -> 10 | I17: =INDEX(Database!$B$6:$N$398,MATCH(Calc!$B17,Database!$B$6:$B$398,0),MATCH(I$5,Database!$B$8:$N$8,0)) -> 7 | J17: =INDEX(Database!$B$6:$N$398,MATCH(Calc!$B17,Database!$B$6:$B$398,0),MATCH(J$5,Database!$B$8:$N$8,0)) -> 10.5 | ... N17: =INDEX(Database!$B$6:$N$398,MATCH(Calc!$B17,Database!$B$6:$B$398,0),MATCH(N$5,Database!$B$8:$N$8,0)) -> 5
B18: TOTAL | C18: =IF(C$5="","",SUM(C6:C17)) -> 890 | D18: =IF(D$5="","",SUM(D6:D17)) -> 522 | E18: =IF(E$5="","",SUM(E6:E17)) -> 202.5 | F18: =IF(F$5="","",SUM(F6:F17)) -> 109 | G18: =IF(G$5="","",SUM(G6:G17)) -> 127 | H18: =IF(H$5="","",SUM(H6:H17)) -> 115 | I18: =IF(I$5="","",SUM(I6:I17)) -> 74 | J18: =IF(J$5="","",SUM(J6:J17)) -> 123.5 | ... N18: =IF(N$5="","",SUM(N6:N17)) -> 60
B20: Total Columns Number
B21: =IF(12-COUNTBLANK($C$22:$N$22)=0,1,12-COUNTBLANK($C$22:$N$22)) -> 12
B22: Chart 1 | C22: =IFERROR(INDEX(Dashboard!$B$7:$M$7,1,Calc!C$4),"") -> SLEEPING | D22: =IFERROR(INDEX(Dashboard!$B$7:$M$7,1,Calc!D$4),"") -> WORK - SCHOOL | E22: =IFERROR(INDEX(Dashboard!$B$7:$M$7,1,Calc!E$4),"") -> ENTERTAINMENT | F22: =IFERROR(INDEX(Dashboard!$B$7:$M$7,1,Calc!F$4),"") -> SPORT | G22: =IFERROR(INDEX(Dashboard!$B$7:$M$7,1,Calc!G$4),"") -> TV - CINEMA | H22: =IFERROR(INDEX(Dashboard!$B$7:$M$7,1,Calc!H$4),"") -> GAME | I22: =IFERROR(INDEX(Dashboard!$B$7:$M$7,1,Calc!I$4),"") -> SHOPPING | J22: =IFERROR(INDEX(Dashboard!$B$7:$M$7,1,Calc!J$4),"") -> EAT | ... N22: =IFERROR(INDEX(Dashboard!$B$7:$M$7,1,Calc!N$4),"") -> SEX
B23: =IF(LEN(Dashboard!$L$13)>0,Dashboard!$L$13,"") -> FEBRUARY | C23: =IF(C$22="","",INDEX($C$6:$N$17,MATCH($B$23,$B$6:$B$17,0),MATCH(C$22,$C$5:$N$5,0))) -> 76.5 | D23: =IF(D$22="","",INDEX($C$6:$N$17,MATCH($B$23,$B$6:$B$17,0),MATCH(D$22,$C$5:$N$5,0))) -> 43.5 | E23: =IF(E$22="","",INDEX($C$6:$N$17,MATCH($B$23,$B$6:$B$17,0),MATCH(E$22,$C$5:$N$5,0))) -> 16 | F23: =IF(F$22="","",INDEX($C$6:$N$17,MATCH($B$23,$B$6:$B$17,0),MATCH(F$22,$C$5:$N$5,0))) -> 8.5 | G23: =IF(G$22="","",INDEX($C$6:$N$17,MATCH($B$23,$B$6:$B$17,0),MATCH(G$22,$C$5:$N$5,0))) -> 10 | H23: =IF(H$22="","",INDEX($C$6:$N$17,MATCH($B$23,$B$6:$B$17,0),MATCH(H$22,$C$5:$N$5,0))) -> 9 | I23: =IF(I$22="","",INDEX($C$6:$N$17,MATCH($B$23,$B$6:$B$17,0),MATCH(I$22,$C$5:$N$5,0))) -> 5 | J23: =IF(J$22="","",INDEX($C$6:$N$17,MATCH($B$23,$B$6:$B$17,0),MATCH(J$22,$C$5:$N$5,0))) -> 10 | ... N23: =IF(N$22="","",INDEX($C$6:$N$17,MATCH($B$23,$B$6:$B$17,0),MATCH(N$22,$C$5:$N$5,0))) -> 5
B25: Chart 2 | C25: =IF(LEN(Dashboard!$L$27)>0,Dashboard!$L$27,"") -> SHOPPING
B26: JANUARY | C26: =INDEX($C$6:$N$17,MATCH($B26,$B$6:$B$17,0),MATCH($C$25,$C$5:$N$5,0)) -> 5
B27: FEBRUARY | C27: =INDEX($C$6:$N$17,MATCH($B27,$B$6:$B$17,0),MATCH($C$25,$C$5:$N$5,0)) -> 5
B28: MARCH | C28: =INDEX($C$6:$N$17,MATCH($B28,$B$6:$B$17,0),MATCH($C$25,$C$5:$N$5,0)) -> 5
B29: APRIL | C29: =INDEX($C$6:$N$17,MATCH($B29,$B$6:$B$17,0),MATCH($C$25,$C$5:$N$5,0)) -> 5
B30: MAY | C30: =INDEX($C$6:$N$17,MATCH($B30,$B$6:$B$17,0),MATCH($C$25,$C$5:$N$5,0)) -> 5
B31: JUNE | C31: =INDEX($C$6:$N$17,MATCH($B31,$B$6:$B$17,0),MATCH($C$25,$C$5:$N$5,0)) -> 7
B32: JULY | C32: =INDEX($C$6:$N$17,MATCH($B32,$B$6:$B$17,0),MATCH($C$25,$C$5:$N$5,0)) -> 7
B33: AUGUST | C33: =INDEX($C$6:$N$17,MATCH($B33,$B$6:$B$17,0),MATCH($C$25,$C$5:$N$5,0)) -> 7
B34: SEPTEMBER | C34: =INDEX($C$6:$N$17,MATCH($B34,$B$6:$B$17,0),MATCH($C$25,$C$5:$N$5,0)) -> 7
B35: OCTOBER | C35: =INDEX($C$6:$N$17,MATCH($B35,$B$6:$B$17,0),MATCH($C$25,$C$5:$N$5,0)) -> 7
B36: NOVEMBER | C36: =INDEX($C$6:$N$17,MATCH($B36,$B$6:$B$17,0),MATCH($C$25,$C$5:$N$5,0)) -> 7
B37: DECEMBER | C37: =INDEX($C$6:$N$17,MATCH($B37,$B$6:$B$17,0),MATCH($C$25,$C$5:$N$5,0)) -> 7
