Workbook

Sheet Menu
C2: RECRUITMENT KPI DASHBOARD
C3: MENU
C7: INPUT | F7: OUTPUT

Sheet Metrics
C2: RECRUITMENT KPI DASHBOARD
C3: KPI METRICS
B5: KPI Code | C5: KPI Group | D5: Criteria | E5: Unit | F5: Lower Better? | G5: Cumulative Calculation Method? | H5: KPI Description | J5: STARTING DATE SETTING
B6: 101 | C6: Efficiency and Speed | D6: Time to Fill | E6: Days | F6: Yes | G6: Average | H6: Measures the average number of days it takes from a job requisition to acceptance of the job offer. | J6: Year | K6: 2024
B7: 102 | C7: Efficiency and Speed | D7: Time to Hire | E7: Days | F7: Yes | G7: Average | H7: Time it takes from when a candidate applies or is sourced to when they accept the job offer. | J7: Month | K7: January
B8: 103 | C8: Efficiency and Speed | D8: Hiring Velocity | E8: % | F8: Yes | G8: Average | H8: Dividing the total number of open positions by the number of positions filled in a specific period.
B9: 104 | C9: Efficiency and Speed | D9: Average Interview Duration | E9: Minutes | F9: Yes | G9: Average | H9: The ratio of the total duration of all interviews divided by the number of interviews conducted
B10: 105 | C10: Efficiency and Speed | D10: Screening Efficiency | E10: % | F10: No | G10: Average | H10: The percentage of screened candidates who are invited for interviews.
B11: 106 | C11: Efficiency and Speed
B12: 107 | C12: Efficiency and Speed
B13: 201 | C13: Cost and Investment | D13: Cost per Hire | E13: USD | F13: Yes | G13: Average | H13: The total costs associated with hiring a new employee divided by the number of hire.
B14: 202 | C14: Cost and Investment | D14: Recruitment Marketing ROI | E14: % | F14: No | G14: Average | H14: The return on investment for recruitment marketing efforts.
B15: 203 | C15: Cost and Investment | D15: Recruitment Cost Ratio | E15: % | F15: Yes | G15: Average | H15: The ratio of total cost of recruitment by the total compensation (salary and benefits) of the new hires.
B16: 204 | C16: Cost and Investment
B17: 205 | C17: Cost and Investment
B18: 301 | C18: Quality & Performance | D18: Performance of Hire | E18: Points | F18: No | G18: Average | H18: Calculated by assessing performance appraisals and turnover rates among new hires
B19: 302 | C19: Quality & Performance | D19: First-Year Attrition | E19: % | F19: Yes | G19: Average | H19: The percentage of new hires who leave the company within their first year.
B20: 303 | C20: Quality & Performance | D20: Internal Mobility Rate | E20: % | F20: No | G20: Average | H20: The percentage of positions filled by internal candidates.
B21: 304 | C21: Quality & Performance | D21: Hiring Manager Satisfaction | E21: Points | F21: No | G21: Average | H21: The level of satisfaction hiring managers have with the recruitment process.
B22: 305 | C22: Quality & Performance
B23: 306 | C23: Quality & Performance
B24: 307 | C24: Quality & Performance
B25: 401 | C25: Process and Workflow | D25: Interview-to-Offer Ratio | E25: % | F25: No | G25: Average | H25: The average number of interviews conducted before making a job offer.
B26: 402 | C26: Process and Workflow | D26: Offer-to-Acceptance Ratio | E26: % | F26: No | G26: Average | H26: The ratio of accepted offers to the total offers made.
B27: 403 | C27: Process and Workflow | D27: Selection Rate | E27: % | F27: No | G27: Average | H27: The proportion of hired people to the total application number.
B28: 404 | C28: Process and Workflow | D28: Interview Drop-off Rate | E28: % | F28: Yes | G28: Average | H28: The percentage of candidates who are interviewed but do not receive an offer.
B29: 405 | C29: Process and Workflow | D29: Diversity Hire Rate | E29: % | F29: No | G29: Average | H29: The percentage of hires from underrepresented groups
B30: 406 | C30: Process and Workflow
B31: 407 | C31: Process and Workflow
B32: 501 | C32: Candidate Experience | D32: Candidate Job Satisfaction | E32: Points | F32: No | G32: Average | H32: Assesses how satisfied candidates are with the recruitment process.
B33: 502 | C33: Candidate Experience | D33: Applicant Drop-off Rate | E33: % | F33: Yes | G33: Average | H33: The percentage of candidates who start but do not complete the application process.
B34: 503 | C34: Candidate Experience | D34: Candidate Net Promoter Score (NPS) | E34: Points | F34: No | G34: Average | H34: Measures candidate willingness to recommend the company's recruitment process to others.
B35: 504 | C35: Candidate Experience
B36: 505 | C36: Candidate Experience

Sheet CY_Actual
C2: RECRUITMENT KPI DASHBOARD
C3: CURRENT YEAR ACTUALS
B5: KPI Code | C5: KPI Group | D5: Criteria | E5: Unit | F5: =IFERROR(INDEX(Calc!$H$7:$H$18,COLUMN(CY_Actual!F4)-COLUMN(CY_Actual!$E$4)),"") -> Jan 2024 | G5: =IFERROR(INDEX(Calc!$H$7:$H$18,COLUMN(CY_Actual!G4)-COLUMN(CY_Actual!$E$4)),"") -> Feb 2024 | H5: =IFERROR(INDEX(Calc!$H$7:$H$18,COLUMN(CY_Actual!H4)-COLUMN(CY_Actual!$E$4)),"") -> Mar 2024 | I5: =IFERROR(INDEX(Calc!$H$7:$H$18,COLUMN(CY_Actual!I4)-COLUMN(CY_Actual!$E$4)),"") -> Apr 2024 | J5: =IFERROR(INDEX(Calc!$H$7:$H$18,COLUMN(CY_Actual!J4)-COLUMN(CY_Actual!$E$4)),"") -> May 2024 | K5: =IFERROR(INDEX(Calc!$H$7:$H$18,COLUMN(CY_Actual!K4)-COLUMN(CY_Actual!$E$4)),"") -> Jun 2024 | L5: =IFERROR(INDEX(Calc!$H$7:$H$18,COLUMN(CY_Actual!L4)-COLUMN(CY_Actual!$E$4)),"") -> Jul 2024 | M5: =IFERROR(INDEX(Calc!$H$7:$H$18,COLUMN(CY_Actual!M4)-COLUMN(CY_Actual!$E$4)),"") -> Aug 2024 | ... Q5: =IFERROR(INDEX(Calc!$H$7:$H$18,COLUMN(CY_Actual!Q4)-COLUMN(CY_Actual!$E$4)),"") -> Dec 2024
B6: =IFERROR(IF(LEN(INDEX(Metrics!$B$6:$H$70,ROW($A6)-ROW($A$5),MATCH(B$5,Metrics!$B$5:$H$5,0)))=0,"",INDEX(Metrics!$B$6:$H$70,ROW($A6)-ROW($A$5),MATCH(B$5,Metrics!$B$5:$H$5,0))),"") -> 101 | C6: =IFERROR(IF(LEN(INDEX(Metrics!$B$6:$H$70,ROW($A6)-ROW($A$5),MATCH(C$5,Metrics!$B$5:$H$5,0)))=0,"",INDEX(Metrics!$B$6:$H$70,ROW($A6)-ROW($A$5),MATCH(C$5,Metrics!$B$5:$H$5,0))),"") -> Efficiency and Speed | D6: =IFERROR(IF(LEN(INDEX(Metrics!$B$6:$H$70,ROW($A6)-ROW($A$5),MATCH(D$5,Metrics!$B$5:$H$5,0)))=0,"",INDEX(Metrics!$B$6:$H$70,ROW($A6)-ROW($A$5),MATCH(D$5,Metrics!$B$5:$H$5,0))),"") -> Time to Fill | E6: =IFERROR(IF(LEN(INDEX(Metrics!$B$6:$H$70,ROW($A6)-ROW($A$5),MATCH(E$5,Metrics!$B$5:$H$5,0)))=0,"",INDEX(Metrics!$B$6:$H$70,ROW($A6)-ROW($A$5),MATCH(E$5,Metrics!$B$5:$H$5,0))),"") -> Days | F6: 30 | G6: 60 | H6: 56 | I6: 50 | J6: 50 | K6: 40
B7: =IFERROR(IF(LEN(INDEX(Metrics!$B$6:$H$70,ROW($A7)-ROW($A$5),MATCH(B$5,Metrics!$B$5:$H$5,0)))=0,"",INDEX(Metrics!$B$6:$H$70,ROW($A7)-ROW($A$5),MATCH(B$5,Metrics!$B$5:$H$5,0))),"") -> 102 | C7: =IFERROR(IF(LEN(INDEX(Metrics!$B$6:$H$70,ROW($A7)-ROW($A$5),MATCH(C$5,Metrics!$B$5:$H$5,0)))=0,"",INDEX(Metrics!$B$6:$H$70,ROW($A7)-ROW($A$5),MATCH(C$5,Metrics!$B$5:$H$5,0))),"") -> Efficiency and Speed | D7: =IFERROR(IF(LEN(INDEX(Metrics!$B$6:$H$70,ROW($A7)-ROW($A$5),MATCH(D$5,Metrics!$B$5:$H$5,0)))=0,"",INDEX(Metrics!$B$6:$H$70,ROW($A7)-ROW($A$5),MATCH(D$5,Metrics!$B$5:$H$5,0))),"") -> Time to Hire | E7: =IFERROR(IF(LEN(INDEX(Metrics!$B$6:$H$70,ROW($A7)-ROW($A$5),MATCH(E$5,Metrics!$B$5:$H$5,0)))=0,"",INDEX(Metrics!$B$6:$H$70,ROW($A7)-ROW($A$5),MATCH(E$5,Metrics!$B$5:$H$5,0))),"") -> Days | F7: 20 | G7: 25 | H7: 10 | I7: 12 | J7: 20 | K7: 15
B8: =IFERROR(IF(LEN(INDEX(Metrics!$B$6:$H$70,ROW($A8)-ROW($A$5),MATCH(B$5,Metrics!$B$5:$H$5,0)))=0,"",INDEX(Metrics!$B$6:$H$70,ROW($A8)-ROW($A$5),MATCH(B$5,Metrics!$B$5:$H$5,0))),"") -> 103 | C8: =IFERROR(IF(LEN(INDEX(Metrics!$B$6:$H$70,ROW($A8)-ROW($A$5),MATCH(C$5,Metrics!$B$5:$H$5,0)))=0,"",INDEX(Metrics!$B$6:$H$70,ROW($A8)-ROW($A$5),MATCH(C$5,Metrics!$B$5:$H$5,0))),"") -> Efficiency and Speed | D8: =IFERROR(IF(LEN(INDEX(Metrics!$B$6:$H$70,ROW($A8)-ROW($A$5),MATCH(D$5,Metrics!$B$5:$H$5,0)))=0,"",INDEX(Metrics!$B$6:$H$70,ROW($A8)-ROW($A$5),MATCH(D$5,Metrics!$B$5:$H$5,0))),"") -> Hiring Velocity | E8: =IFERROR(IF(LEN(INDEX(Metrics!$B$6:$H$70,ROW($A8)-ROW($A$5),MATCH(E$5,Metrics!$B$5:$H$5,0)))=0,"",INDEX(Metrics!$B$6:$H$70,ROW($A8)-ROW($A$5),MATCH(E$5,Metrics!$B$5:$H$5,0))),"") -> % | F8: 0.02 | G8: 0.022 | H8: 0.03 | I8: 0.05 | J8: 0.03 | K8: 0.02
B9: =IFERROR(IF(LEN(INDEX(Metrics!$B$6:$H$70,ROW($A9)-ROW($A$5),MATCH(B$5,Metrics!$B$5:$H$5,0)))=0,"",INDEX(Metrics!$B$6:$H$70,ROW($A9)-ROW($A$5),MATCH(B$5,Metrics!$B$5:$H$5,0))),"") -> 104 | C9: =IFERROR(IF(LEN(INDEX(Metrics!$B$6:$H$70,ROW($A9)-ROW($A$5),MATCH(C$5,Metrics!$B$5:$H$5,0)))=0,"",INDEX(Metrics!$B$6:$H$70,ROW($A9)-ROW($A$5),MATCH(C$5,Metrics!$B$5:$H$5,0))),"") -> Efficiency and Speed | D9: =IFERROR(IF(LEN(INDEX(Metrics!$B$6:$H$70,ROW($A9)-ROW($A$5),MATCH(D$5,Metrics!$B$5:$H$5,0)))=0,"",INDEX(Metrics!$B$6:$H$70,ROW($A9)-ROW($A$5),MATCH(D$5,Metrics!$B$5:$H$5,0))),"") -> Average Interview Duration | E9: =IFERROR(IF(LEN(INDEX(Metrics!$B$6:$H$70,ROW($A9)-ROW($A$5),MATCH(E$5,Metrics!$B$5:$H$5,0)))=0,"",INDEX(Metrics!$B$6:$H$70,ROW($A9)-ROW($A$5),MATCH(E$5,Metrics!$B$5:$H$5,0))),"") -> Minutes | F9: 45 | G9: 50 | H9: 56 | I9: 70 | J9: 80 | K9: 45
B10: =IFERROR(IF(LEN(INDEX(Metrics!$B$6:$H$70,ROW($A10)-ROW($A$5),MATCH(B$5,Metrics!$B$5:$H$5,0)))=0,"",INDEX(Metrics!$B$6:$H$70,ROW($A10)-ROW($A$5),MATCH(B$5,Metrics!$B$5:$H$5,0))),"") -> 105 | C10: =IFERROR(IF(LEN(INDEX(Metrics!$B$6:$H$70,ROW($A10)-ROW($A$5),MATCH(C$5,Metrics!$B$5:$H$5,0)))=0,"",INDEX(Metrics!$B$6:$H$70,ROW($A10)-ROW($A$5),MATCH(C$5,Metrics!$B$5:$H$5,0))),"") -> Efficiency and Speed | D10: =IFERROR(IF(LEN(INDEX(Metrics!$B$6:$H$70,ROW($A10)-ROW($A$5),MATCH(D$5,Metrics!$B$5:$H$5,0)))=0,"",INDEX(Metrics!$B$6:$H$70,ROW($A10)-ROW($A$5),MATCH(D$5,Metrics!$B$5:$H$5,0))),"") -> Screening Efficiency | E10: =IFERROR(IF(LEN(INDEX(Metrics!$B$6:$H$70,ROW($A10)-ROW($A$5),MATCH(E$5,Metrics!$B$5:$H$5,0)))=0,"",INDEX(Metrics!$B$6:$H$70,ROW($A10)-ROW($A$5),MATCH(E$5,Metrics!$B$5:$H$5,0))),"") -> % | F10: 0.3 | G10: 0.2 | H10: 0.4 | I10: 0.5 | J10: 0.5 | K10: 0.25
B11: =IFERROR(IF(LEN(INDEX(Metrics!$B$6:$H$70,ROW($A11)-ROW($A$5),MATCH(B$5,Metrics!$B$5:$H$5,0)))=0,"",INDEX(Metrics!$B$6:$H$70,ROW($A11)-ROW($A$5),MATCH(B$5,Metrics!$B$5:$H$5,0))),"") -> 106 | C11: =IFERROR(IF(LEN(INDEX(Metrics!$B$6:$H$70,ROW($A11)-ROW($A$5),MATCH(C$5,Metrics!$B$5:$H$5,0)))=0,"",INDEX(Metrics!$B$6:$H$70,ROW($A11)-ROW($A$5),MATCH(C$5,Metrics!$B$5:$H$5,0))),"") -> Efficiency and Speed | D11: =IFERROR(IF(LEN(INDEX(Metrics!$B$6:$H$70,ROW($A11)-ROW($A$5),MATCH(D$5,Metrics!$B$5:$H$5,0)))=0,"",INDEX(Metrics!$B$6:$H$70,ROW($A11)-ROW($A$5),MATCH(D$5,Metrics!$B$5:$H$5,0))),"") | E11: =IFERROR(IF(LEN(INDEX(Metrics!$B$6:$H$70,ROW($A11)-ROW($A$5),MATCH(E$5,Metrics!$B$5:$H$5,0)))=0,"",INDEX(Metrics!$B$6:$H$70,ROW($A11)-ROW($A$5),MATCH(E$5,Metrics!$B$5:$H$5,0))),"")
B12: =IFERROR(IF(LEN(INDEX(Metrics!$B$6:$H$70,ROW($A12)-ROW($A$5),MATCH(B$5,Metrics!$B$5:$H$5,0)))=0,"",INDEX(Metrics!$B$6:$H$70,ROW($A12)-ROW($A$5),MATCH(B$5,Metrics!$B$5:$H$5,0))),"") -> 107 | C12: =IFERROR(IF(LEN(INDEX(Metrics!$B$6:$H$70,ROW($A12)-ROW($A$5),MATCH(C$5,Metrics!$B$5:$H$5,0)))=0,"",INDEX(Metrics!$B$6:$H$70,ROW($A12)-ROW($A$5),MATCH(C$5,Metrics!$B$5:$H$5,0))),"") -> Efficiency and Speed | D12: =IFERROR(IF(LEN(INDEX(Metrics!$B$6:$H$70,ROW($A12)-ROW($A$5),MATCH(D$5,Metrics!$B$5:$H$5,0)))=0,"",INDEX(Metrics!$B$6:$H$70,ROW($A12)-ROW($A$5),MATCH(D$5,Metrics!$B$5:$H$5,0))),"") | E12: =IFERROR(IF(LEN(INDEX(Metrics!$B$6:$H$70,ROW($A12)-ROW($A$5),MATCH(E$5,Metrics!$B$5:$H$5,0)))=0,"",INDEX(Metrics!$B$6:$H$70,ROW($A12)-ROW($A$5),MATCH(E$5,Metrics!$B$5:$H$5,0))),"")
B13: =IFERROR(IF(LEN(INDEX(Metrics!$B$6:$H$70,ROW($A13)-ROW($A$5),MATCH(B$5,Metrics!$B$5:$H$5,0)))=0,"",INDEX(Metrics!$B$6:$H$70,ROW($A13)-ROW($A$5),MATCH(B$5,Metrics!$B$5:$H$5,0))),"") -> 201 | C13: =IFERROR(IF(LEN(INDEX(Metrics!$B$6:$H$70,ROW($A13)-ROW($A$5),MATCH(C$5,Metrics!$B$5:$H$5,0)))=0,"",INDEX(Metrics!$B$6:$H$70,ROW($A13)-ROW($A$5),MATCH(C$5,Metrics!$B$5:$H$5,0))),"") -> Cost and Investment | D13: =IFERROR(IF(LEN(INDEX(Metrics!$B$6:$H$70,ROW($A13)-ROW($A$5),MATCH(D$5,Metrics!$B$5:$H$5,0)))=0,"",INDEX(Metrics!$B$6:$H$70,ROW($A13)-ROW($A$5),MATCH(D$5,Metrics!$B$5:$H$5,0))),"") -> Cost per Hire | E13: =IFERROR(IF(LEN(INDEX(Metrics!$B$6:$H$70,ROW($A13)-ROW($A$5),MATCH(E$5,Metrics!$B$5:$H$5,0)))=0,"",INDEX(Metrics!$B$6:$H$70,ROW($A13)-ROW($A$5),MATCH(E$5,Metrics!$B$5:$H$5,0))),"") -> USD | F13: 1200 | G13: 800 | H13: 1200 | I13: 600 | J13: 2000 | K13: 1150
B14: =IFERROR(IF(LEN(INDEX(Metrics!$B$6:$H$70,ROW($A14)-ROW($A$5),MATCH(B$5,Metrics!$B$5:$H$5,0)))=0,"",INDEX(Metrics!$B$6:$H$70,ROW($A14)-ROW($A$5),MATCH(B$5,Metrics!$B$5:$H$5,0))),"") -> 202 | C14: =IFERROR(IF(LEN(INDEX(Metrics!$B$6:$H$70,ROW($A14)-ROW($A$5),MATCH(C$5,Metrics!$B$5:$H$5,0)))=0,"",INDEX(Metrics!$B$6:$H$70,ROW($A14)-ROW($A$5),MATCH(C$5,Metrics!$B$5:$H$5,0))),"") -> Cost and Investment | D14: =IFERROR(IF(LEN(INDEX(Metrics!$B$6:$H$70,ROW($A14)-ROW($A$5),MATCH(D$5,Metrics!$B$5:$H$5,0)))=0,"",INDEX(Metrics!$B$6:$H$70,ROW($A14)-ROW($A$5),MATCH(D$5,Metrics!$B$5:$H$5,0))),"") -> Recruitment Marketing ROI | E14: =IFERROR(IF(LEN(INDEX(Metrics!$B$6:$H$70,ROW($A14)-ROW($A$5),MATCH(E$5,Metrics!$B$5:$H$5,0)))=0,"",INDEX(Metrics!$B$6:$H$70,ROW($A14)-ROW($A$5),MATCH(E$5,Metrics!$B$5:$H$5,0))),"") -> % | F14: 0.1 | G14: 0.12 | H14: 0.25 | I14: 0.1 | J14: 0.2 | K14: 0.12
B15: =IFERROR(IF(LEN(INDEX(Metrics!$B$6:$H$70,ROW($A15)-ROW($A$5),MATCH(B$5,Metrics!$B$5:$H$5,0)))=0,"",INDEX(Metrics!$B$6:$H$70,ROW($A15)-ROW($A$5),MATCH(B$5,Metrics!$B$5:$H$5,0))),"") -> 203 | C15: =IFERROR(IF(LEN(INDEX(Metrics!$B$6:$H$70,ROW($A15)-ROW($A$5),MATCH(C$5,Metrics!$B$5:$H$5,0)))=0,"",INDEX(Metrics!$B$6:$H$70,ROW($A15)-ROW($A$5),MATCH(C$5,Metrics!$B$5:$H$5,0))),"") -> Cost and Investment | D15: =IFERROR(IF(LEN(INDEX(Metrics!$B$6:$H$70,ROW($A15)-ROW($A$5),MATCH(D$5,Metrics!$B$5:$H$5,0)))=0,"",INDEX(Metrics!$B$6:$H$70,ROW($A15)-ROW($A$5),MATCH(D$5,Metrics!$B$5:$H$5,0))),"") -> Recruitment Cost Ratio | E15: =IFERROR(IF(LEN(INDEX(Metrics!$B$6:$H$70,ROW($A15)-ROW($A$5),MATCH(E$5,Metrics!$B$5:$H$5,0)))=0,"",INDEX(Metrics!$B$6:$H$70,ROW($A15)-ROW($A$5),MATCH(E$5,Metrics!$B$5:$H$5,0))),"") -> % | F15: 0.03 | G15: 0.02 | H15: 0.025 | I15: 0.05 | J15: 0.02 | K15: 0.03
B16: =IFERROR(IF(LEN(INDEX(Metrics!$B$6:$H$70,ROW($A16)-ROW($A$5),MATCH(B$5,Metrics!$B$5:$H$5,0)))=0,"",INDEX(Metrics!$B$6:$H$70,ROW($A16)-ROW($A$5),MATCH(B$5,Metrics!$B$5:$H$5,0))),"") -> 204 | C16: =IFERROR(IF(LEN(INDEX(Metrics!$B$6:$H$70,ROW($A16)-ROW($A$5),MATCH(C$5,Metrics!$B$5:$H$5,0)))=0,"",INDEX(Metrics!$B$6:$H$70,ROW($A16)-ROW($A$5),MATCH(C$5,Metrics!$B$5:$H$5,0))),"") -> Cost and Investment | D16: =IFERROR(IF(LEN(INDEX(Metrics!$B$6:$H$70,ROW($A16)-ROW($A$5),MATCH(D$5,Metrics!$B$5:$H$5,0)))=0,"",INDEX(Metrics!$B$6:$H$70,ROW($A16)-ROW($A$5),MATCH(D$5,Metrics!$B$5:$H$5,0))),"") | E16: =IFERROR(IF(LEN(INDEX(Metrics!$B$6:$H$70,ROW($A16)-ROW($A$5),MATCH(E$5,Metrics!$B$5:$H$5,0)))=0,"",INDEX(Metrics!$B$6:$H$70,ROW($A16)-ROW($A$5),MATCH(E$5,Metrics!$B$5:$H$5,0))),"")
B17: =IFERROR(IF(LEN(INDEX(Metrics!$B$6:$H$70,ROW($A17)-ROW($A$5),MATCH(B$5,Metrics!$B$5:$H$5,0)))=0,"",INDEX(Metrics!$B$6:$H$70,ROW($A17)-ROW($A$5),MATCH(B$5,Metrics!$B$5:$H$5,0))),"") -> 205 | C17: =IFERROR(IF(LEN(INDEX(Metrics!$B$6:$H$70,ROW($A17)-ROW($A$5),MATCH(C$5,Metrics!$B$5:$H$5,0)))=0,"",INDEX(Metrics!$B$6:$H$70,ROW($A17)-ROW($A$5),MATCH(C$5,Metrics!$B$5:$H$5,0))),"") -> Cost and Investment | D17: =IFERROR(IF(LEN(INDEX(Metrics!$B$6:$H$70,ROW($A17)-ROW($A$5),MATCH(D$5,Metrics!$B$5:$H$5,0)))=0,"",INDEX(Metrics!$B$6:$H$70,ROW($A17)-ROW($A$5),MATCH(D$5,Metrics!$B$5:$H$5,0))),"") | E17: =IFERROR(IF(LEN(INDEX(Metrics!$B$6:$H$70,ROW($A17)-ROW($A$5),MATCH(E$5,Metrics!$B$5:$H$5,0)))=0,"",INDEX(Metrics!$B$6:$H$70,ROW($A17)-ROW($A$5),MATCH(E$5,Metrics!$B$5:$H$5,0))),"")
B18: =IFERROR(IF(LEN(INDEX(Metrics!$B$6:$H$70,ROW($A18)-ROW($A$5),MATCH(B$5,Metrics!$B$5:$H$5,0)))=0,"",INDEX(Metrics!$B$6:$H$70,ROW($A18)-ROW($A$5),MATCH(B$5,Metrics!$B$5:$H$5,0))),"") -> 301 | C18: =IFERROR(IF(LEN(INDEX(Metrics!$B$6:$H$70,ROW($A18)-ROW($A$5),MATCH(C$5,Metrics!$B$5:$H$5,0)))=0,"",INDEX(Metrics!$B$6:$H$70,ROW($A18)-ROW($A$5),MATCH(C$5,Metrics!$B$5:$H$5,0))),"") -> Quality & Performance | D18: =IFERROR(IF(LEN(INDEX(Metrics!$B$6:$H$70,ROW($A18)-ROW($A$5),MATCH(D$5,Metrics!$B$5:$H$5,0)))=0,"",INDEX(Metrics!$B$6:$H$70,ROW($A18)-ROW($A$5),MATCH(D$5,Metrics!$B$5:$H$5,0))),"") -> Performance of Hire | E18: =IFERROR(IF(LEN(INDEX(Metrics!$B$6:$H$70,ROW($A18)-ROW($A$5),MATCH(E$5,Metrics!$B$5:$H$5,0)))=0,"",INDEX(Metrics!$B$6:$H$70,ROW($A18)-ROW($A$5),MATCH(E$5,Metrics!$B$5:$H$5,0))),"") -> Points | F18: 75 | G18: 70 | H18: 80 | I18: 50 | J18: 85 | K18: 70
B19: =IFERROR(IF(LEN(INDEX(Metrics!$B$6:$H$70,ROW($A19)-ROW($A$5),MATCH(B$5,Metrics!$B$5:$H$5,0)))=0,"",INDEX(Metrics!$B$6:$H$70,ROW($A19)-ROW($A$5),MATCH(B$5,Metrics!$B$5:$H$5,0))),"") -> 302 | C19: =IFERROR(IF(LEN(INDEX(Metrics!$B$6:$H$70,ROW($A19)-ROW($A$5),MATCH(C$5,Metrics!$B$5:$H$5,0)))=0,"",INDEX(Metrics!$B$6:$H$70,ROW($A19)-ROW($A$5),MATCH(C$5,Metrics!$B$5:$H$5,0))),"") -> Quality & Performance | D19: =IFERROR(IF(LEN(INDEX(Metrics!$B$6:$H$70,ROW($A19)-ROW($A$5),MATCH(D$5,Metrics!$B$5:$H$5,0)))=0,"",INDEX(Metrics!$B$6:$H$70,ROW($A19)-ROW($A$5),MATCH(D$5,Metrics!$B$5:$H$5,0))),"") -> First-Year Attrition | E19: =IFERROR(IF(LEN(INDEX(Metrics!$B$6:$H$70,ROW($A19)-ROW($A$5),MATCH(E$5,Metrics!$B$5:$H$5,0)))=0,"",INDEX(Metrics!$B$6:$H$70,ROW($A19)-ROW($A$5),MATCH(E$5,Metrics!$B$5:$H$5,0))),"") -> % | F19: 0.08 | G19: 0.12 | H19: 0.15 | I19: 0.12 | J19: 0.15 | K19: 0.12
B20: =IFERROR(IF(LEN(INDEX(Metrics!$B$6:$H$70,ROW($A20)-ROW($A$5),MATCH(B$5,Metrics!$B$5:$H$5,0)))=0,"",INDEX(Metrics!$B$6:$H$70,ROW($A20)-ROW($A$5),MATCH(B$5,Metrics!$B$5:$H$5,0))),"") -> 303 | C20: =IFERROR(IF(LEN(INDEX(Metrics!$B$6:$H$70,ROW($A20)-ROW($A$5),MATCH(C$5,Metrics!$B$5:$H$5,0)))=0,"",INDEX(Metrics!$B$6:$H$70,ROW($A20)-ROW($A$5),MATCH(C$5,Metrics!$B$5:$H$5,0))),"") -> Quality & Performance | D20: =IFERROR(IF(LEN(INDEX(Metrics!$B$6:$H$70,ROW($A20)-ROW($A$5),MATCH(D$5,Metrics!$B$5:$H$5,0)))=0,"",INDEX(Metrics!$B$6:$H$70,ROW($A20)-ROW($A$5),MATCH(D$5,Metrics!$B$5:$H$5,0))),"") -> Internal Mobility Rate | E20: =IFERROR(IF(LEN(INDEX(Metrics!$B$6:$H$70,ROW($A20)-ROW($A$5),MATCH(E$5,Metrics!$B$5:$H$5,0)))=0,"",INDEX(Metrics!$B$6:$H$70,ROW($A20)-ROW($A$5),MATCH(E$5,Metrics!$B$5:$H$5,0))),"") -> % | F20: 0.2 | G20: 0.25 | H20: 0.25 | I20: 0.3 | J20: 0.24 | K20: 0.22
B21: =IFERROR(IF(LEN(INDEX(Metrics!$B$6:$H$70,ROW($A21)-ROW($A$5),MATCH(B$5,Metrics!$B$5:$H$5,0)))=0,"",INDEX(Metrics!$B$6:$H$70,ROW($A21)-ROW($A$5),MATCH(B$5,Metrics!$B$5:$H$5,0))),"") -> 304 | C21: =IFERROR(IF(LEN(INDEX(Metrics!$B$6:$H$70,ROW($A21)-ROW($A$5),MATCH(C$5,Metrics!$B$5:$H$5,0)))=0,"",INDEX(Metrics!$B$6:$H$70,ROW($A21)-ROW($A$5),MATCH(C$5,Metrics!$B$5:$H$5,0))),"") -> Quality & Performance | D21: =IFERROR(IF(LEN(INDEX(Metrics!$B$6:$H$70,ROW($A21)-ROW($A$5),MATCH(D$5,Metrics!$B$5:$H$5,0)))=0,"",INDEX(Metrics!$B$6:$H$70,ROW($A21)-ROW($A$5),MATCH(D$5,Metrics!$B$5:$H$5,0))),"") -> Hiring Manager Satisfaction | E21: =IFERROR(IF(LEN(INDEX(Metrics!$B$6:$H$70,ROW($A21)-ROW($A$5),MATCH(E$5,Metrics!$B$5:$H$5,0)))=0,"",INDEX(Metrics!$B$6:$H$70,ROW($A21)-ROW($A$5),MATCH(E$5,Metrics!$B$5:$H$5,0))),"") -> Points | F21: 80 | G21: 75 | H21: 80 | I21: 60 | J21: 70 | K21: 75
B22: =IFERROR(IF(LEN(INDEX(Metrics!$B$6:$H$70,ROW($A22)-ROW($A$5),MATCH(B$5,Metrics!$B$5:$H$5,0)))=0,"",INDEX(Metrics!$B$6:$H$70,ROW($A22)-ROW($A$5),MATCH(B$5,Metrics!$B$5:$H$5,0))),"") -> 305 | C22: =IFERROR(IF(LEN(INDEX(Metrics!$B$6:$H$70,ROW($A22)-ROW($A$5),MATCH(C$5,Metrics!$B$5:$H$5,0)))=0,"",INDEX(Metrics!$B$6:$H$70,ROW($A22)-ROW($A$5),MATCH(C$5,Metrics!$B$5:$H$5,0))),"") -> Quality & Performance | D22: =IFERROR(IF(LEN(INDEX(Metrics!$B$6:$H$70,ROW($A22)-ROW($A$5),MATCH(D$5,Metrics!$B$5:$H$5,0)))=0,"",INDEX(Metrics!$B$6:$H$70,ROW($A22)-ROW($A$5),MATCH(D$5,Metrics!$B$5:$H$5,0))),"") | E22: =IFERROR(IF(LEN(INDEX(Metrics!$B$6:$H$70,ROW($A22)-ROW($A$5),MATCH(E$5,Metrics!$B$5:$H$5,0)))=0,"",INDEX(Metrics!$B$6:$H$70,ROW($A22)-ROW($A$5),MATCH(E$5,Metrics!$B$5:$H$5,0))),"")
B23: =IFERROR(IF(LEN(INDEX(Metrics!$B$6:$H$70,ROW($A23)-ROW($A$5),MATCH(B$5,Metrics!$B$5:$H$5,0)))=0,"",INDEX(Metrics!$B$6:$H$70,ROW($A23)-ROW($A$5),MATCH(B$5,Metrics!$B$5:$H$5,0))),"") -> 306 | C23: =IFERROR(IF(LEN(INDEX(Metrics!$B$6:$H$70,ROW($A23)-ROW($A$5),MATCH(C$5,Metrics!$B$5:$H$5,0)))=0,"",INDEX(Metrics!$B$6:$H$70,ROW($A23)-ROW($A$5),MATCH(C$5,Metrics!$B$5:$H$5,0))),"") -> Quality & Performance | D23: =IFERROR(IF(LEN(INDEX(Metrics!$B$6:$H$70,ROW($A23)-ROW($A$5),MATCH(D$5,Metrics!$B$5:$H$5,0)))=0,"",INDEX(Metrics!$B$6:$H$70,ROW($A23)-ROW($A$5),MATCH(D$5,Metrics!$B$5:$H$5,0))),"") | E23: =IFERROR(IF(LEN(INDEX(Metrics!$B$6:$H$70,ROW($A23)-ROW($A$5),MATCH(E$5,Metrics!$B$5:$H$5,0)))=0,"",INDEX(Metrics!$B$6:$H$70,ROW($A23)-ROW($A$5),MATCH(E$5,Metrics!$B$5:$H$5,0))),"")
B24: =IFERROR(IF(LEN(INDEX(Metrics!$B$6:$H$70,ROW($A24)-ROW($A$5),MATCH(B$5,Metrics!$B$5:$H$5,0)))=0,"",INDEX(Metrics!$B$6:$H$70,ROW($A24)-ROW($A$5),MATCH(B$5,Metrics!$B$5:$H$5,0))),"") -> 307 | C24: =IFERROR(IF(LEN(INDEX(Metrics!$B$6:$H$70,ROW($A24)-ROW($A$5),MATCH(C$5,Metrics!$B$5:$H$5,0)))=0,"",INDEX(Metrics!$B$6:$H$70,ROW($A24)-ROW($A$5),MATCH(C$5,Metrics!$B$5:$H$5,0))),"") -> Quality & Performance | D24: =IFERROR(IF(LEN(INDEX(Metrics!$B$6:$H$70,ROW($A24)-ROW($A$5),MATCH(D$5,Metrics!$B$5:$H$5,0)))=0,"",INDEX(Metrics!$B$6:$H$70,ROW($A24)-ROW($A$5),MATCH(D$5,Metrics!$B$5:$H$5,0))),"") | E24: =IFERROR(IF(LEN(INDEX(Metrics!$B$6:$H$70,ROW($A24)-ROW($A$5),MATCH(E$5,Metrics!$B$5:$H$5,0)))=0,"",INDEX(Metrics!$B$6:$H$70,ROW($A24)-ROW($A$5),MATCH(E$5,Metrics!$B$5:$H$5,0))),"")
B25: =IFERROR(IF(LEN(INDEX(Metrics!$B$6:$H$70,ROW($A25)-ROW($A$5),MATCH(B$5,Metrics!$B$5:$H$5,0)))=0,"",INDEX(Metrics!$B$6:$H$70,ROW($A25)-ROW($A$5),MATCH(B$5,Metrics!$B$5:$H$5,0))),"") -> 401 | C25: =IFERROR(IF(LEN(INDEX(Metrics!$B$6:$H$70,ROW($A25)-ROW($A$5),MATCH(C$5,Metrics!$B$5:$H$5,0)))=0,"",INDEX(Metrics!$B$6:$H$70,ROW($A25)-ROW($A$5),MATCH(C$5,Metrics!$B$5:$H$5,0))),"") -> Process and Workflow | D25: =IFERROR(IF(LEN(INDEX(Metrics!$B$6:$H$70,ROW($A25)-ROW($A$5),MATCH(D$5,Metrics!$B$5:$H$5,0)))=0,"",INDEX(Metrics!$B$6:$H$70,ROW($A25)-ROW($A$5),MATCH(D$5,Metrics!$B$5:$H$5,0))),"") -> Interview-to-Offer Ratio | E25: =IFERROR(IF(LEN(INDEX(Metrics!$B$6:$H$70,ROW($A25)-ROW($A$5),MATCH(E$5,Metrics!$B$5:$H$5,0)))=0,"",INDEX(Metrics!$B$6:$H$70,ROW($A25)-ROW($A$5),MATCH(E$5,Metrics!$B$5:$H$5,0))),"") -> %
B26: =IFERROR(IF(LEN(INDEX(Metrics!$B$6:$H$70,ROW($A26)-ROW($A$5),MATCH(B$5,Metrics!$B$5:$H$5,0)))=0,"",INDEX(Metrics!$B$6:$H$70,ROW($A26)-ROW($A$5),MATCH(B$5,Metrics!$B$5:$H$5,0))),"") -> 402 | C26: =IFERROR(IF(LEN(INDEX(Metrics!$B$6:$H$70,ROW($A26)-ROW($A$5),MATCH(C$5,Metrics!$B$5:$H$5,0)))=0,"",INDEX(Metrics!$B$6:$H$70,ROW($A26)-ROW($A$5),MATCH(C$5,Metrics!$B$5:$H$5,0))),"") -> Process and Workflow | D26: =IFERROR(IF(LEN(INDEX(Metrics!$B$6:$H$70,ROW($A26)-ROW($A$5),MATCH(D$5,Metrics!$B$5:$H$5,0)))=0,"",INDEX(Metrics!$B$6:$H$70,ROW($A26)-ROW($A$5),MATCH(D$5,Metrics!$B$5:$H$5,0))),"") -> Offer-to-Acceptance Ratio | E26: =IFERROR(IF(LEN(INDEX(Metrics!$B$6:$H$70,ROW($A26)-ROW($A$5),MATCH(E$5,Metrics!$B$5:$H$5,0)))=0,"",INDEX(Metrics!$B$6:$H$70,ROW($A26)-ROW($A$5),MATCH(E$5,Metrics!$B$5:$H$5,0))),"") -> %
B27: =IFERROR(IF(LEN(INDEX(Metrics!$B$6:$H$70,ROW($A27)-ROW($A$5),MATCH(B$5,Metrics!$B$5:$H$5,0)))=0,"",INDEX(Metrics!$B$6:$H$70,ROW($A27)-ROW($A$5),MATCH(B$5,Metrics!$B$5:$H$5,0))),"") -> 403 | C27: =IFERROR(IF(LEN(INDEX(Metrics!$B$6:$H$70,ROW($A27)-ROW($A$5),MATCH(C$5,Metrics!$B$5:$H$5,0)))=0,"",INDEX(Metrics!$B$6:$H$70,ROW($A27)-ROW($A$5),MATCH(C$5,Metrics!$B$5:$H$5,0))),"") -> Process and Workflow | D27: =IFERROR(IF(LEN(INDEX(Metrics!$B$6:$H$70,ROW($A27)-ROW($A$5),MATCH(D$5,Metrics!$B$5:$H$5,0)))=0,"",INDEX(Metrics!$B$6:$H$70,ROW($A27)-ROW($A$5),MATCH(D$5,Metrics!$B$5:$H$5,0))),"") -> Selection Rate | E27: =IFERROR(IF(LEN(INDEX(Metrics!$B$6:$H$70,ROW($A27)-ROW($A$5),MATCH(E$5,Metrics!$B$5:$H$5,0)))=0,"",INDEX(Metrics!$B$6:$H$70,ROW($A27)-ROW($A$5),MATCH(E$5,Metrics!$B$5:$H$5,0))),"") -> %
B28: =IFERROR(IF(LEN(INDEX(Metrics!$B$6:$H$70,ROW($A28)-ROW($A$5),MATCH(B$5,Metrics!$B$5:$H$5,0)))=0,"",INDEX(Metrics!$B$6:$H$70,ROW($A28)-ROW($A$5),MATCH(B$5,Metrics!$B$5:$H$5,0))),"") -> 404 | C28: =IFERROR(IF(LEN(INDEX(Metrics!$B$6:$H$70,ROW($A28)-ROW($A$5),MATCH(C$5,Metrics!$B$5:$H$5,0)))=0,"",INDEX(Metrics!$B$6:$H$70,ROW($A28)-ROW($A$5),MATCH(C$5,Metrics!$B$5:$H$5,0))),"") -> Process and Workflow | D28: =IFERROR(IF(LEN(INDEX(Metrics!$B$6:$H$70,ROW($A28)-ROW($A$5),MATCH(D$5,Metrics!$B$5:$H$5,0)))=0,"",INDEX(Metrics!$B$6:$H$70,ROW($A28)-ROW($A$5),MATCH(D$5,Metrics!$B$5:$H$5,0))),"") -> Interview Drop-off Rate | E28: =IFERROR(IF(LEN(INDEX(Metrics!$B$6:$H$70,ROW($A28)-ROW($A$5),MATCH(E$5,Metrics!$B$5:$H$5,0)))=0,"",INDEX(Metrics!$B$6:$H$70,ROW($A28)-ROW($A$5),MATCH(E$5,Metrics!$B$5:$H$5,0))),"") -> %
B29: =IFERROR(IF(LEN(INDEX(Metrics!$B$6:$H$70,ROW($A29)-ROW($A$5),MATCH(B$5,Metrics!$B$5:$H$5,0)))=0,"",INDEX(Metrics!$B$6:$H$70,ROW($A29)-ROW($A$5),MATCH(B$5,Metrics!$B$5:$H$5,0))),"") -> 405 | C29: =IFERROR(IF(LEN(INDEX(Metrics!$B$6:$H$70,ROW($A29)-ROW($A$5),MATCH(C$5,Metrics!$B$5:$H$5,0)))=0,"",INDEX(Metrics!$B$6:$H$70,ROW($A29)-ROW($A$5),MATCH(C$5,Metrics!$B$5:$H$5,0))),"") -> Process and Workflow | D29: =IFERROR(IF(LEN(INDEX(Metrics!$B$6:$H$70,ROW($A29)-ROW($A$5),MATCH(D$5,Metrics!$B$5:$H$5,0)))=0,"",INDEX(Metrics!$B$6:$H$70,ROW($A29)-ROW($A$5),MATCH(D$5,Metrics!$B$5:$H$5,0))),"") -> Diversity Hire Rate | E29: =IFERROR(IF(LEN(INDEX(Metrics!$B$6:$H$70,ROW($A29)-ROW($A$5),MATCH(E$5,Metrics!$B$5:$H$5,0)))=0,"",INDEX(Metrics!$B$6:$H$70,ROW($A29)-ROW($A$5),MATCH(E$5,Metrics!$B$5:$H$5,0))),"") -> %
B30: =IFERROR(IF(LEN(INDEX(Metrics!$B$6:$H$70,ROW($A30)-ROW($A$5),MATCH(B$5,Metrics!$B$5:$H$5,0)))=0,"",INDEX(Metrics!$B$6:$H$70,ROW($A30)-ROW($A$5),MATCH(B$5,Metrics!$B$5:$H$5,0))),"") -> 406 | C30: =IFERROR(IF(LEN(INDEX(Metrics!$B$6:$H$70,ROW($A30)-ROW($A$5),MATCH(C$5,Metrics!$B$5:$H$5,0)))=0,"",INDEX(Metrics!$B$6:$H$70,ROW($A30)-ROW($A$5),MATCH(C$5,Metrics!$B$5:$H$5,0))),"") -> Process and Workflow | D30: =IFERROR(IF(LEN(INDEX(Metrics!$B$6:$H$70,ROW($A30)-ROW($A$5),MATCH(D$5,Metrics!$B$5:$H$5,0)))=0,"",INDEX(Metrics!$B$6:$H$70,ROW($A30)-ROW($A$5),MATCH(D$5,Metrics!$B$5:$H$5,0))),"") | E30: =IFERROR(IF(LEN(INDEX(Metrics!$B$6:$H$70,ROW($A30)-ROW($A$5),MATCH(E$5,Metrics!$B$5:$H$5,0)))=0,"",INDEX(Metrics!$B$6:$H$70,ROW($A30)-ROW($A$5),MATCH(E$5,Metrics!$B$5:$H$5,0))),"")
B31: =IFERROR(IF(LEN(INDEX(Metrics!$B$6:$H$70,ROW($A31)-ROW($A$5),MATCH(B$5,Metrics!$B$5:$H$5,0)))=0,"",INDEX(Metrics!$B$6:$H$70,ROW($A31)-ROW($A$5),MATCH(B$5,Metrics!$B$5:$H$5,0))),"") -> 407 | C31: =IFERROR(IF(LEN(INDEX(Metrics!$B$6:$H$70,ROW($A31)-ROW($A$5),MATCH(C$5,Metrics!$B$5:$H$5,0)))=0,"",INDEX(Metrics!$B$6:$H$70,ROW($A31)-ROW($A$5),MATCH(C$5,Metrics!$B$5:$H$5,0))),"") -> Process and Workflow | D31: =IFERROR(IF(LEN(INDEX(Metrics!$B$6:$H$70,ROW($A31)-ROW($A$5),MATCH(D$5,Metrics!$B$5:$H$5,0)))=0,"",INDEX(Metrics!$B$6:$H$70,ROW($A31)-ROW($A$5),MATCH(D$5,Metrics!$B$5:$H$5,0))),"") | E31: =IFERROR(IF(LEN(INDEX(Metrics!$B$6:$H$70,ROW($A31)-ROW($A$5),MATCH(E$5,Metrics!$B$5:$H$5,0)))=0,"",INDEX(Metrics!$B$6:$H$70,ROW($A31)-ROW($A$5),MATCH(E$5,Metrics!$B$5:$H$5,0))),"")
B32: =IFERROR(IF(LEN(INDEX(Metrics!$B$6:$H$70,ROW($A32)-ROW($A$5),MATCH(B$5,Metrics!$B$5:$H$5,0)))=0,"",INDEX(Metrics!$B$6:$H$70,ROW($A32)-ROW($A$5),MATCH(B$5,Metrics!$B$5:$H$5,0))),"") -> 501 | C32: =IFERROR(IF(LEN(INDEX(Metrics!$B$6:$H$70,ROW($A32)-ROW($A$5),MATCH(C$5,Metrics!$B$5:$H$5,0)))=0,"",INDEX(Metrics!$B$6:$H$70,ROW($A32)-ROW($A$5),MATCH(C$5,Metrics!$B$5:$H$5,0))),"") -> Candidate Experience | D32: =IFERROR(IF(LEN(INDEX(Metrics!$B$6:$H$70,ROW($A32)-ROW($A$5),MATCH(D$5,Metrics!$B$5:$H$5,0)))=0,"",INDEX(Metrics!$B$6:$H$70,ROW($A32)-ROW($A$5),MATCH(D$5,Metrics!$B$5:$H$5,0))),"") -> Candidate Job Satisfaction | E32: =IFERROR(IF(LEN(INDEX(Metrics!$B$6:$H$70,ROW($A32)-ROW($A$5),MATCH(E$5,Metrics!$B$5:$H$5,0)))=0,"",INDEX(Metrics!$B$6:$H$70,ROW($A32)-ROW($A$5),MATCH(E$5,Metrics!$B$5:$H$5,0))),"") -> Points
B33: =IFERROR(IF(LEN(INDEX(Metrics!$B$6:$H$70,ROW($A33)-ROW($A$5),MATCH(B$5,Metrics!$B$5:$H$5,0)))=0,"",INDEX(Metrics!$B$6:$H$70,ROW($A33)-ROW($A$5),MATCH(B$5,Metrics!$B$5:$H$5,0))),"") -> 502 | C33: =IFERROR(IF(LEN(INDEX(Metrics!$B$6:$H$70,ROW($A33)-ROW($A$5),MATCH(C$5,Metrics!$B$5:$H$5,0)))=0,"",INDEX(Metrics!$B$6:$H$70,ROW($A33)-ROW($A$5),MATCH(C$5,Metrics!$B$5:$H$5,0))),"") -> Candidate Experience | D33: =IFERROR(IF(LEN(INDEX(Metrics!$B$6:$H$70,ROW($A33)-ROW($A$5),MATCH(D$5,Metrics!$B$5:$H$5,0)))=0,"",INDEX(Metrics!$B$6:$H$70,ROW($A33)-ROW($A$5),MATCH(D$5,Metrics!$B$5:$H$5,0))),"") -> Applicant Drop-off Rate | E33: =IFERROR(IF(LEN(INDEX(Metrics!$B$6:$H$70,ROW($A33)-ROW($A$5),MATCH(E$5,Metrics!$B$5:$H$5,0)))=0,"",INDEX(Metrics!$B$6:$H$70,ROW($A33)-ROW($A$5),MATCH(E$5,Metrics!$B$5:$H$5,0))),"") -> %
... B70: =IFERROR(IF(LEN(INDEX(Metrics!$B$6:$H$70,ROW($A70)-ROW($A$5),MATCH(B$5,Metrics!$B$5:$H$5,0)))=0,"",INDEX(Metrics!$B$6:$H$70,ROW($A70)-ROW($A$5),MATCH(B$5,Metrics!$B$5:$H$5,0))),"") | C70: =IFERROR(IF(LEN(INDEX(Metrics!$B$6:$H$70,ROW($A70)-ROW($A$5),MATCH(C$5,Metrics!$B$5:$H$5,0)))=0,"",INDEX(Metrics!$B$6:$H$70,ROW($A70)-ROW($A$5),MATCH(C$5,Metrics!$B$5:$H$5,0))),"") | D70: =IFERROR(IF(LEN(INDEX(Metrics!$B$6:$H$70,ROW($A70)-ROW($A$5),MATCH(D$5,Metrics!$B$5:$H$5,0)))=0,"",INDEX(Metrics!$B$6:$H$70,ROW($A70)-ROW($A$5),MATCH(D$5,Metrics!$B$5:$H$5,0))),"") | E70: =IFERROR(IF(LEN(INDEX(Metrics!$B$6:$H$70,ROW($A70)-ROW($A$5),MATCH(E$5,Metrics!$B$5:$H$5,0)))=0,"",INDEX(Metrics!$B$6:$H$70,ROW($A70)-ROW($A$5),MATCH(E$5,Metrics!$B$5:$H$5,0))),"")

Sheet CY_Target
C2: RECRUITMENT KPI DASHBOARD
C3: CURRENT YEAR TARGETS
B5: KPI Code | C5: KPI Group | D5: Criteria | E5: Unit | F5: =IFERROR(INDEX(Calc!$H$7:$H$18,COLUMN(CY_Target!F4)-COLUMN(CY_Target!$E$4)),"") -> Jan 2024 | G5: =IFERROR(INDEX(Calc!$H$7:$H$18,COLUMN(CY_Target!G4)-COLUMN(CY_Target!$E$4)),"") -> Feb 2024 | H5: =IFERROR(INDEX(Calc!$H$7:$H$18,COLUMN(CY_Target!H4)-COLUMN(CY_Target!$E$4)),"") -> Mar 2024 | I5: =IFERROR(INDEX(Calc!$H$7:$H$18,COLUMN(CY_Target!I4)-COLUMN(CY_Target!$E$4)),"") -> Apr 2024 | J5: =IFERROR(INDEX(Calc!$H$7:$H$18,COLUMN(CY_Target!J4)-COLUMN(CY_Target!$E$4)),"") -> May 2024 | K5: =IFERROR(INDEX(Calc!$H$7:$H$18,COLUMN(CY_Target!K4)-COLUMN(CY_Target!$E$4)),"") -> Jun 2024 | L5: =IFERROR(INDEX(Calc!$H$7:$H$18,COLUMN(CY_Target!L4)-COLUMN(CY_Target!$E$4)),"") -> Jul 2024 | M5: =IFERROR(INDEX(Calc!$H$7:$H$18,COLUMN(CY_Target!M4)-COLUMN(CY_Target!$E$4)),"") -> Aug 2024 | ... Q5: =IFERROR(INDEX(Calc!$H$7:$H$18,COLUMN(CY_Target!Q4)-COLUMN(CY_Target!$E$4)),"") -> Dec 2024
B6: =IFERROR(IF(LEN(INDEX(Metrics!$B$6:$H$70,ROW($A6)-ROW($A$5),MATCH(B$5,Metrics!$B$5:$H$5,0)))=0,"",INDEX(Metrics!$B$6:$H$70,ROW($A6)-ROW($A$5),MATCH(B$5,Metrics!$B$5:$H$5,0))),"") -> 101 | C6: =IFERROR(IF(LEN(INDEX(Metrics!$B$6:$H$70,ROW($A6)-ROW($A$5),MATCH(C$5,Metrics!$B$5:$H$5,0)))=0,"",INDEX(Metrics!$B$6:$H$70,ROW($A6)-ROW($A$5),MATCH(C$5,Metrics!$B$5:$H$5,0))),"") -> Efficiency and Speed | D6: =IFERROR(IF(LEN(INDEX(Metrics!$B$6:$H$70,ROW($A6)-ROW($A$5),MATCH(D$5,Metrics!$B$5:$H$5,0)))=0,"",INDEX(Metrics!$B$6:$H$70,ROW($A6)-ROW($A$5),MATCH(D$5,Metrics!$B$5:$H$5,0))),"") -> Time to Fill | E6: =IFERROR(IF(LEN(INDEX(Metrics!$B$6:$H$70,ROW($A6)-ROW($A$5),MATCH(E$5,Metrics!$B$5:$H$5,0)))=0,"",INDEX(Metrics!$B$6:$H$70,ROW($A6)-ROW($A$5),MATCH(E$5,Metrics!$B$5:$H$5,0))),"") -> Days | F6: 40 | G6: 40 | H6: 40 | I6: 40 | J6: 40 | K6: 40
B7: =IFERROR(IF(LEN(INDEX(Metrics!$B$6:$H$70,ROW($A7)-ROW($A$5),MATCH(B$5,Metrics!$B$5:$H$5,0)))=0,"",INDEX(Metrics!$B$6:$H$70,ROW($A7)-ROW($A$5),MATCH(B$5,Metrics!$B$5:$H$5,0))),"") -> 102 | C7: =IFERROR(IF(LEN(INDEX(Metrics!$B$6:$H$70,ROW($A7)-ROW($A$5),MATCH(C$5,Metrics!$B$5:$H$5,0)))=0,"",INDEX(Metrics!$B$6:$H$70,ROW($A7)-ROW($A$5),MATCH(C$5,Metrics!$B$5:$H$5,0))),"") -> Efficiency and Speed | D7: =IFERROR(IF(LEN(INDEX(Metrics!$B$6:$H$70,ROW($A7)-ROW($A$5),MATCH(D$5,Metrics!$B$5:$H$5,0)))=0,"",INDEX(Metrics!$B$6:$H$70,ROW($A7)-ROW($A$5),MATCH(D$5,Metrics!$B$5:$H$5,0))),"") -> Time to Hire | E7: =IFERROR(IF(LEN(INDEX(Metrics!$B$6:$H$70,ROW($A7)-ROW($A$5),MATCH(E$5,Metrics!$B$5:$H$5,0)))=0,"",INDEX(Metrics!$B$6:$H$70,ROW($A7)-ROW($A$5),MATCH(E$5,Metrics!$B$5:$H$5,0))),"") -> Days | F7: 15 | G7: 15 | H7: 15 | I7: 15 | J7: 15 | K7: 15
B8: =IFERROR(IF(LEN(INDEX(Metrics!$B$6:$H$70,ROW($A8)-ROW($A$5),MATCH(B$5,Metrics!$B$5:$H$5,0)))=0,"",INDEX(Metrics!$B$6:$H$70,ROW($A8)-ROW($A$5),MATCH(B$5,Metrics!$B$5:$H$5,0))),"") -> 103 | C8: =IFERROR(IF(LEN(INDEX(Metrics!$B$6:$H$70,ROW($A8)-ROW($A$5),MATCH(C$5,Metrics!$B$5:$H$5,0)))=0,"",INDEX(Metrics!$B$6:$H$70,ROW($A8)-ROW($A$5),MATCH(C$5,Metrics!$B$5:$H$5,0))),"") -> Efficiency and Speed | D8: =IFERROR(IF(LEN(INDEX(Metrics!$B$6:$H$70,ROW($A8)-ROW($A$5),MATCH(D$5,Metrics!$B$5:$H$5,0)))=0,"",INDEX(Metrics!$B$6:$H$70,ROW($A8)-ROW($A$5),MATCH(D$5,Metrics!$B$5:$H$5,0))),"") -> Hiring Velocity | E8: =IFERROR(IF(LEN(INDEX(Metrics!$B$6:$H$70,ROW($A8)-ROW($A$5),MATCH(E$5,Metrics!$B$5:$H$5,0)))=0,"",INDEX(Metrics!$B$6:$H$70,ROW($A8)-ROW($A$5),MATCH(E$5,Metrics!$B$5:$H$5,0))),"") -> % | F8: 0.02 | G8: 0.02 | H8: 0.02 | I8: 0.02 | J8: 0.02 | K8: 0.02
B9: =IFERROR(IF(LEN(INDEX(Metrics!$B$6:$H$70,ROW($A9)-ROW($A$5),MATCH(B$5,Metrics!$B$5:$H$5,0)))=0,"",INDEX(Metrics!$B$6:$H$70,ROW($A9)-ROW($A$5),MATCH(B$5,Metrics!$B$5:$H$5,0))),"") -> 104 | C9: =IFERROR(IF(LEN(INDEX(Metrics!$B$6:$H$70,ROW($A9)-ROW($A$5),MATCH(C$5,Metrics!$B$5:$H$5,0)))=0,"",INDEX(Metrics!$B$6:$H$70,ROW($A9)-ROW($A$5),MATCH(C$5,Metrics!$B$5:$H$5,0))),"") -> Efficiency and Speed | D9: =IFERROR(IF(LEN(INDEX(Metrics!$B$6:$H$70,ROW($A9)-ROW($A$5),MATCH(D$5,Metrics!$B$5:$H$5,0)))=0,"",INDEX(Metrics!$B$6:$H$70,ROW($A9)-ROW($A$5),MATCH(D$5,Metrics!$B$5:$H$5,0))),"") -> Average Interview Duration | E9: =IFERROR(IF(LEN(INDEX(Metrics!$B$6:$H$70,ROW($A9)-ROW($A$5),MATCH(E$5,Metrics!$B$5:$H$5,0)))=0,"",INDEX(Metrics!$B$6:$H$70,ROW($A9)-ROW($A$5),MATCH(E$5,Metrics!$B$5:$H$5,0))),"") -> Minutes | F9: 40 | G9: 40 | H9: 40 | I9: 40 | J9: 40 | K9: 40
B10: =IFERROR(IF(LEN(INDEX(Metrics!$B$6:$H$70,ROW($A10)-ROW($A$5),MATCH(B$5,Metrics!$B$5:$H$5,0)))=0,"",INDEX(Metrics!$B$6:$H$70,ROW($A10)-ROW($A$5),MATCH(B$5,Metrics!$B$5:$H$5,0))),"") -> 105 | C10: =IFERROR(IF(LEN(INDEX(Metrics!$B$6:$H$70,ROW($A10)-ROW($A$5),MATCH(C$5,Metrics!$B$5:$H$5,0)))=0,"",INDEX(Metrics!$B$6:$H$70,ROW($A10)-ROW($A$5),MATCH(C$5,Metrics!$B$5:$H$5,0))),"") -> Efficiency and Speed | D10: =IFERROR(IF(LEN(INDEX(Metrics!$B$6:$H$70,ROW($A10)-ROW($A$5),MATCH(D$5,Metrics!$B$5:$H$5,0)))=0,"",INDEX(Metrics!$B$6:$H$70,ROW($A10)-ROW($A$5),MATCH(D$5,Metrics!$B$5:$H$5,0))),"") -> Screening Efficiency | E10: =IFERROR(IF(LEN(INDEX(Metrics!$B$6:$H$70,ROW($A10)-ROW($A$5),MATCH(E$5,Metrics!$B$5:$H$5,0)))=0,"",INDEX(Metrics!$B$6:$H$70,ROW($A10)-ROW($A$5),MATCH(E$5,Metrics!$B$5:$H$5,0))),"") -> % | F10: 0.2 | G10: 0.2 | H10: 0.2 | I10: 0.2 | J10: 0.2 | K10: 0.2
B11: =IFERROR(IF(LEN(INDEX(Metrics!$B$6:$H$70,ROW($A11)-ROW($A$5),MATCH(B$5,Metrics!$B$5:$H$5,0)))=0,"",INDEX(Metrics!$B$6:$H$70,ROW($A11)-ROW($A$5),MATCH(B$5,Metrics!$B$5:$H$5,0))),"") -> 106 | C11: =IFERROR(IF(LEN(INDEX(Metrics!$B$6:$H$70,ROW($A11)-ROW($A$5),MATCH(C$5,Metrics!$B$5:$H$5,0)))=0,"",INDEX(Metrics!$B$6:$H$70,ROW($A11)-ROW($A$5),MATCH(C$5,Metrics!$B$5:$H$5,0))),"") -> Efficiency and Speed | D11: =IFERROR(IF(LEN(INDEX(Metrics!$B$6:$H$70,ROW($A11)-ROW($A$5),MATCH(D$5,Metrics!$B$5:$H$5,0)))=0,"",INDEX(Metrics!$B$6:$H$70,ROW($A11)-ROW($A$5),MATCH(D$5,Metrics!$B$5:$H$5,0))),"") | E11: =IFERROR(IF(LEN(INDEX(Metrics!$B$6:$H$70,ROW($A11)-ROW($A$5),MATCH(E$5,Metrics!$B$5:$H$5,0)))=0,"",INDEX(Metrics!$B$6:$H$70,ROW($A11)-ROW($A$5),MATCH(E$5,Metrics!$B$5:$H$5,0))),"")
B12: =IFERROR(IF(LEN(INDEX(Metrics!$B$6:$H$70,ROW($A12)-ROW($A$5),MATCH(B$5,Metrics!$B$5:$H$5,0)))=0,"",INDEX(Metrics!$B$6:$H$70,ROW($A12)-ROW($A$5),MATCH(B$5,Metrics!$B$5:$H$5,0))),"") -> 107 | C12: =IFERROR(IF(LEN(INDEX(Metrics!$B$6:$H$70,ROW($A12)-ROW($A$5),MATCH(C$5,Metrics!$B$5:$H$5,0)))=0,"",INDEX(Metrics!$B$6:$H$70,ROW($A12)-ROW($A$5),MATCH(C$5,Metrics!$B$5:$H$5,0))),"") -> Efficiency and Speed | D12: =IFERROR(IF(LEN(INDEX(Metrics!$B$6:$H$70,ROW($A12)-ROW($A$5),MATCH(D$5,Metrics!$B$5:$H$5,0)))=0,"",INDEX(Metrics!$B$6:$H$70,ROW($A12)-ROW($A$5),MATCH(D$5,Metrics!$B$5:$H$5,0))),"") | E12: =IFERROR(IF(LEN(INDEX(Metrics!$B$6:$H$70,ROW($A12)-ROW($A$5),MATCH(E$5,Metrics!$B$5:$H$5,0)))=0,"",INDEX(Metrics!$B$6:$H$70,ROW($A12)-ROW($A$5),MATCH(E$5,Metrics!$B$5:$H$5,0))),"")
B13: =IFERROR(IF(LEN(INDEX(Metrics!$B$6:$H$70,ROW($A13)-ROW($A$5),MATCH(B$5,Metrics!$B$5:$H$5,0)))=0,"",INDEX(Metrics!$B$6:$H$70,ROW($A13)-ROW($A$5),MATCH(B$5,Metrics!$B$5:$H$5,0))),"") -> 201 | C13: =IFERROR(IF(LEN(INDEX(Metrics!$B$6:$H$70,ROW($A13)-ROW($A$5),MATCH(C$5,Metrics!$B$5:$H$5,0)))=0,"",INDEX(Metrics!$B$6:$H$70,ROW($A13)-ROW($A$5),MATCH(C$5,Metrics!$B$5:$H$5,0))),"") -> Cost and Investment | D13: =IFERROR(IF(LEN(INDEX(Metrics!$B$6:$H$70,ROW($A13)-ROW($A$5),MATCH(D$5,Metrics!$B$5:$H$5,0)))=0,"",INDEX(Metrics!$B$6:$H$70,ROW($A13)-ROW($A$5),MATCH(D$5,Metrics!$B$5:$H$5,0))),"") -> Cost per Hire | E13: =IFERROR(IF(LEN(INDEX(Metrics!$B$6:$H$70,ROW($A13)-ROW($A$5),MATCH(E$5,Metrics!$B$5:$H$5,0)))=0,"",INDEX(Metrics!$B$6:$H$70,ROW($A13)-ROW($A$5),MATCH(E$5,Metrics!$B$5:$H$5,0))),"") -> USD | F13: 1000 | G13: 1000 | H13: 1000 | I13: 1000 | J13: 1000 | K13: 1000
B14: =IFERROR(IF(LEN(INDEX(Metrics!$B$6:$H$70,ROW($A14)-ROW($A$5),MATCH(B$5,Metrics!$B$5:$H$5,0)))=0,"",INDEX(Metrics!$B$6:$H$70,ROW($A14)-ROW($A$5),MATCH(B$5,Metrics!$B$5:$H$5,0))),"") -> 202 | C14: =IFERROR(IF(LEN(INDEX(Metrics!$B$6:$H$70,ROW($A14)-ROW($A$5),MATCH(C$5,Metrics!$B$5:$H$5,0)))=0,"",INDEX(Metrics!$B$6:$H$70,ROW($A14)-ROW($A$5),MATCH(C$5,Metrics!$B$5:$H$5,0))),"") -> Cost and Investment | D14: =IFERROR(IF(LEN(INDEX(Metrics!$B$6:$H$70,ROW($A14)-ROW($A$5),MATCH(D$5,Metrics!$B$5:$H$5,0)))=0,"",INDEX(Metrics!$B$6:$H$70,ROW($A14)-ROW($A$5),MATCH(D$5,Metrics!$B$5:$H$5,0))),"") -> Recruitment Marketing ROI | E14: =IFERROR(IF(LEN(INDEX(Metrics!$B$6:$H$70,ROW($A14)-ROW($A$5),MATCH(E$5,Metrics!$B$5:$H$5,0)))=0,"",INDEX(Metrics!$B$6:$H$70,ROW($A14)-ROW($A$5),MATCH(E$5,Metrics!$B$5:$H$5,0))),"") -> % | F14: 0.15 | G14: 0.15 | H14: 0.15 | I14: 0.15 | J14: 0.15 | K14: 0.15
B15: =IFERROR(IF(LEN(INDEX(Metrics!$B$6:$H$70,ROW($A15)-ROW($A$5),MATCH(B$5,Metrics!$B$5:$H$5,0)))=0,"",INDEX(Metrics!$B$6:$H$70,ROW($A15)-ROW($A$5),MATCH(B$5,Metrics!$B$5:$H$5,0))),"") -> 203 | C15: =IFERROR(IF(LEN(INDEX(Metrics!$B$6:$H$70,ROW($A15)-ROW($A$5),MATCH(C$5,Metrics!$B$5:$H$5,0)))=0,"",INDEX(Metrics!$B$6:$H$70,ROW($A15)-ROW($A$5),MATCH(C$5,Metrics!$B$5:$H$5,0))),"") -> Cost and Investment | D15: =IFERROR(IF(LEN(INDEX(Metrics!$B$6:$H$70,ROW($A15)-ROW($A$5),MATCH(D$5,Metrics!$B$5:$H$5,0)))=0,"",INDEX(Metrics!$B$6:$H$70,ROW($A15)-ROW($A$5),MATCH(D$5,Metrics!$B$5:$H$5,0))),"") -> Recruitment Cost Ratio | E15: =IFERROR(IF(LEN(INDEX(Metrics!$B$6:$H$70,ROW($A15)-ROW($A$5),MATCH(E$5,Metrics!$B$5:$H$5,0)))=0,"",INDEX(Metrics!$B$6:$H$70,ROW($A15)-ROW($A$5),MATCH(E$5,Metrics!$B$5:$H$5,0))),"") -> % | F15: 0.02 | G15: 0.02 | H15: 0.02 | I15: 0.02 | J15: 0.02 | K15: 0.02
B16: =IFERROR(IF(LEN(INDEX(Metrics!$B$6:$H$70,ROW($A16)-ROW($A$5),MATCH(B$5,Metrics!$B$5:$H$5,0)))=0,"",INDEX(Metrics!$B$6:$H$70,ROW($A16)-ROW($A$5),MATCH(B$5,Metrics!$B$5:$H$5,0))),"") -> 204 | C16: =IFERROR(IF(LEN(INDEX(Metrics!$B$6:$H$70,ROW($A16)-ROW($A$5),MATCH(C$5,Metrics!$B$5:$H$5,0)))=0,"",INDEX(Metrics!$B$6:$H$70,ROW($A16)-ROW($A$5),MATCH(C$5,Metrics!$B$5:$H$5,0))),"") -> Cost and Investment | D16: =IFERROR(IF(LEN(INDEX(Metrics!$B$6:$H$70,ROW($A16)-ROW($A$5),MATCH(D$5,Metrics!$B$5:$H$5,0)))=0,"",INDEX(Metrics!$B$6:$H$70,ROW($A16)-ROW($A$5),MATCH(D$5,Metrics!$B$5:$H$5,0))),"") | E16: =IFERROR(IF(LEN(INDEX(Metrics!$B$6:$H$70,ROW($A16)-ROW($A$5),MATCH(E$5,Metrics!$B$5:$H$5,0)))=0,"",INDEX(Metrics!$B$6:$H$70,ROW($A16)-ROW($A$5),MATCH(E$5,Metrics!$B$5:$H$5,0))),"")
B17: =IFERROR(IF(LEN(INDEX(Metrics!$B$6:$H$70,ROW($A17)-ROW($A$5),MATCH(B$5,Metrics!$B$5:$H$5,0)))=0,"",INDEX(Metrics!$B$6:$H$70,ROW($A17)-ROW($A$5),MATCH(B$5,Metrics!$B$5:$H$5,0))),"") -> 205 | C17: =IFERROR(IF(LEN(INDEX(Metrics!$B$6:$H$70,ROW($A17)-ROW($A$5),MATCH(C$5,Metrics!$B$5:$H$5,0)))=0,"",INDEX(Metrics!$B$6:$H$70,ROW($A17)-ROW($A$5),MATCH(C$5,Metrics!$B$5:$H$5,0))),"") -> Cost and Investment | D17: =IFERROR(IF(LEN(INDEX(Metrics!$B$6:$H$70,ROW($A17)-ROW($A$5),MATCH(D$5,Metrics!$B$5:$H$5,0)))=0,"",INDEX(Metrics!$B$6:$H$70,ROW($A17)-ROW($A$5),MATCH(D$5,Metrics!$B$5:$H$5,0))),"") | E17: =IFERROR(IF(LEN(INDEX(Metrics!$B$6:$H$70,ROW($A17)-ROW($A$5),MATCH(E$5,Metrics!$B$5:$H$5,0)))=0,"",INDEX(Metrics!$B$6:$H$70,ROW($A17)-ROW($A$5),MATCH(E$5,Metrics!$B$5:$H$5,0))),"")
B18: =IFERROR(IF(LEN(INDEX(Metrics!$B$6:$H$70,ROW($A18)-ROW($A$5),MATCH(B$5,Metrics!$B$5:$H$5,0)))=0,"",INDEX(Metrics!$B$6:$H$70,ROW($A18)-ROW($A$5),MATCH(B$5,Metrics!$B$5:$H$5,0))),"") -> 301 | C18: =IFERROR(IF(LEN(INDEX(Metrics!$B$6:$H$70,ROW($A18)-ROW($A$5),MATCH(C$5,Metrics!$B$5:$H$5,0)))=0,"",INDEX(Metrics!$B$6:$H$70,ROW($A18)-ROW($A$5),MATCH(C$5,Metrics!$B$5:$H$5,0))),"") -> Quality & Performance | D18: =IFERROR(IF(LEN(INDEX(Metrics!$B$6:$H$70,ROW($A18)-ROW($A$5),MATCH(D$5,Metrics!$B$5:$H$5,0)))=0,"",INDEX(Metrics!$B$6:$H$70,ROW($A18)-ROW($A$5),MATCH(D$5,Metrics!$B$5:$H$5,0))),"") -> Performance of Hire | E18: =IFERROR(IF(LEN(INDEX(Metrics!$B$6:$H$70,ROW($A18)-ROW($A$5),MATCH(E$5,Metrics!$B$5:$H$5,0)))=0,"",INDEX(Metrics!$B$6:$H$70,ROW($A18)-ROW($A$5),MATCH(E$5,Metrics!$B$5:$H$5,0))),"") -> Points | F18: 85 | G18: 85 | H18: 85 | I18: 85 | J18: 85 | K18: 85
B19: =IFERROR(IF(LEN(INDEX(Metrics!$B$6:$H$70,ROW($A19)-ROW($A$5),MATCH(B$5,Metrics!$B$5:$H$5,0)))=0,"",INDEX(Metrics!$B$6:$H$70,ROW($A19)-ROW($A$5),MATCH(B$5,Metrics!$B$5:$H$5,0))),"") -> 302 | C19: =IFERROR(IF(LEN(INDEX(Metrics!$B$6:$H$70,ROW($A19)-ROW($A$5),MATCH(C$5,Metrics!$B$5:$H$5,0)))=0,"",INDEX(Metrics!$B$6:$H$70,ROW($A19)-ROW($A$5),MATCH(C$5,Metrics!$B$5:$H$5,0))),"") -> Quality & Performance | D19: =IFERROR(IF(LEN(INDEX(Metrics!$B$6:$H$70,ROW($A19)-ROW($A$5),MATCH(D$5,Metrics!$B$5:$H$5,0)))=0,"",INDEX(Metrics!$B$6:$H$70,ROW($A19)-ROW($A$5),MATCH(D$5,Metrics!$B$5:$H$5,0))),"") -> First-Year Attrition | E19: =IFERROR(IF(LEN(INDEX(Metrics!$B$6:$H$70,ROW($A19)-ROW($A$5),MATCH(E$5,Metrics!$B$5:$H$5,0)))=0,"",INDEX(Metrics!$B$6:$H$70,ROW($A19)-ROW($A$5),MATCH(E$5,Metrics!$B$5:$H$5,0))),"") -> % | F19: 0.1 | G19: 0.1 | H19: 0.1 | I19: 0.1 | J19: 0.1 | K19: 0.1
B20: =IFERROR(IF(LEN(INDEX(Metrics!$B$6:$H$70,ROW($A20)-ROW($A$5),MATCH(B$5,Metrics!$B$5:$H$5,0)))=0,"",INDEX(Metrics!$B$6:$H$70,ROW($A20)-ROW($A$5),MATCH(B$5,Metrics!$B$5:$H$5,0))),"") -> 303 | C20: =IFERROR(IF(LEN(INDEX(Metrics!$B$6:$H$70,ROW($A20)-ROW($A$5),MATCH(C$5,Metrics!$B$5:$H$5,0)))=0,"",INDEX(Metrics!$B$6:$H$70,ROW($A20)-ROW($A$5),MATCH(C$5,Metrics!$B$5:$H$5,0))),"") -> Quality & Performance | D20: =IFERROR(IF(LEN(INDEX(Metrics!$B$6:$H$70,ROW($A20)-ROW($A$5),MATCH(D$5,Metrics!$B$5:$H$5,0)))=0,"",INDEX(Metrics!$B$6:$H$70,ROW($A20)-ROW($A$5),MATCH(D$5,Metrics!$B$5:$H$5,0))),"") -> Internal Mobility Rate | E20: =IFERROR(IF(LEN(INDEX(Metrics!$B$6:$H$70,ROW($A20)-ROW($A$5),MATCH(E$5,Metrics!$B$5:$H$5,0)))=0,"",INDEX(Metrics!$B$6:$H$70,ROW($A20)-ROW($A$5),MATCH(E$5,Metrics!$B$5:$H$5,0))),"") -> % | F20: 0.2 | G20: 0.2 | H20: 0.2 | I20: 0.2 | J20: 0.2 | K20: 0.2
B21: =IFERROR(IF(LEN(INDEX(Metrics!$B$6:$H$70,ROW($A21)-ROW($A$5),MATCH(B$5,Metrics!$B$5:$H$5,0)))=0,"",INDEX(Metrics!$B$6:$H$70,ROW($A21)-ROW($A$5),MATCH(B$5,Metrics!$B$5:$H$5,0))),"") -> 304 | C21: =IFERROR(IF(LEN(INDEX(Metrics!$B$6:$H$70,ROW($A21)-ROW($A$5),MATCH(C$5,Metrics!$B$5:$H$5,0)))=0,"",INDEX(Metrics!$B$6:$H$70,ROW($A21)-ROW($A$5),MATCH(C$5,Metrics!$B$5:$H$5,0))),"") -> Quality & Performance | D21: =IFERROR(IF(LEN(INDEX(Metrics!$B$6:$H$70,ROW($A21)-ROW($A$5),MATCH(D$5,Metrics!$B$5:$H$5,0)))=0,"",INDEX(Metrics!$B$6:$H$70,ROW($A21)-ROW($A$5),MATCH(D$5,Metrics!$B$5:$H$5,0))),"") -> Hiring Manager Satisfaction | E21: =IFERROR(IF(LEN(INDEX(Metrics!$B$6:$H$70,ROW($A21)-ROW($A$5),MATCH(E$5,Metrics!$B$5:$H$5,0)))=0,"",INDEX(Metrics!$B$6:$H$70,ROW($A21)-ROW($A$5),MATCH(E$5,Metrics!$B$5:$H$5,0))),"") -> Points | F21: 85 | G21: 85 | H21: 85 | I21: 85 | J21: 85 | K21: 85
B22: =IFERROR(IF(LEN(INDEX(Metrics!$B$6:$H$70,ROW($A22)-ROW($A$5),MATCH(B$5,Metrics!$B$5:$H$5,0)))=0,"",INDEX(Metrics!$B$6:$H$70,ROW($A22)-ROW($A$5),MATCH(B$5,Metrics!$B$5:$H$5,0))),"") -> 305 | C22: =IFERROR(IF(LEN(INDEX(Metrics!$B$6:$H$70,ROW($A22)-ROW($A$5),MATCH(C$5,Metrics!$B$5:$H$5,0)))=0,"",INDEX(Metrics!$B$6:$H$70,ROW($A22)-ROW($A$5),MATCH(C$5,Metrics!$B$5:$H$5,0))),"") -> Quality & Performance | D22: =IFERROR(IF(LEN(INDEX(Metrics!$B$6:$H$70,ROW($A22)-ROW($A$5),MATCH(D$5,Metrics!$B$5:$H$5,0)))=0,"",INDEX(Metrics!$B$6:$H$70,ROW($A22)-ROW($A$5),MATCH(D$5,Metrics!$B$5:$H$5,0))),"") | E22: =IFERROR(IF(LEN(INDEX(Metrics!$B$6:$H$70,ROW($A22)-ROW($A$5),MATCH(E$5,Metrics!$B$5:$H$5,0)))=0,"",INDEX(Metrics!$B$6:$H$70,ROW($A22)-ROW($A$5),MATCH(E$5,Metrics!$B$5:$H$5,0))),"")
B23: =IFERROR(IF(LEN(INDEX(Metrics!$B$6:$H$70,ROW($A23)-ROW($A$5),MATCH(B$5,Metrics!$B$5:$H$5,0)))=0,"",INDEX(Metrics!$B$6:$H$70,ROW($A23)-ROW($A$5),MATCH(B$5,Metrics!$B$5:$H$5,0))),"") -> 306 | C23: =IFERROR(IF(LEN(INDEX(Metrics!$B$6:$H$70,ROW($A23)-ROW($A$5),MATCH(C$5,Metrics!$B$5:$H$5,0)))=0,"",INDEX(Metrics!$B$6:$H$70,ROW($A23)-ROW($A$5),MATCH(C$5,Metrics!$B$5:$H$5,0))),"") -> Quality & Performance | D23: =IFERROR(IF(LEN(INDEX(Metrics!$B$6:$H$70,ROW($A23)-ROW($A$5),MATCH(D$5,Metrics!$B$5:$H$5,0)))=0,"",INDEX(Metrics!$B$6:$H$70,ROW($A23)-ROW($A$5),MATCH(D$5,Metrics!$B$5:$H$5,0))),"") | E23: =IFERROR(IF(LEN(INDEX(Metrics!$B$6:$H$70,ROW($A23)-ROW($A$5),MATCH(E$5,Metrics!$B$5:$H$5,0)))=0,"",INDEX(Metrics!$B$6:$H$70,ROW($A23)-ROW($A$5),MATCH(E$5,Metrics!$B$5:$H$5,0))),"")
B24: =IFERROR(IF(LEN(INDEX(Metrics!$B$6:$H$70,ROW($A24)-ROW($A$5),MATCH(B$5,Metrics!$B$5:$H$5,0)))=0,"",INDEX(Metrics!$B$6:$H$70,ROW($A24)-ROW($A$5),MATCH(B$5,Metrics!$B$5:$H$5,0))),"") -> 307 | C24: =IFERROR(IF(LEN(INDEX(Metrics!$B$6:$H$70,ROW($A24)-ROW($A$5),MATCH(C$5,Metrics!$B$5:$H$5,0)))=0,"",INDEX(Metrics!$B$6:$H$70,ROW($A24)-ROW($A$5),MATCH(C$5,Metrics!$B$5:$H$5,0))),"") -> Quality & Performance | D24: =IFERROR(IF(LEN(INDEX(Metrics!$B$6:$H$70,ROW($A24)-ROW($A$5),MATCH(D$5,Metrics!$B$5:$H$5,0)))=0,"",INDEX(Metrics!$B$6:$H$70,ROW($A24)-ROW($A$5),MATCH(D$5,Metrics!$B$5:$H$5,0))),"") | E24: =IFERROR(IF(LEN(INDEX(Metrics!$B$6:$H$70,ROW($A24)-ROW($A$5),MATCH(E$5,Metrics!$B$5:$H$5,0)))=0,"",INDEX(Metrics!$B$6:$H$70,ROW($A24)-ROW($A$5),MATCH(E$5,Metrics!$B$5:$H$5,0))),"")
B25: =IFERROR(IF(LEN(INDEX(Metrics!$B$6:$H$70,ROW($A25)-ROW($A$5),MATCH(B$5,Metrics!$B$5:$H$5,0)))=0,"",INDEX(Metrics!$B$6:$H$70,ROW($A25)-ROW($A$5),MATCH(B$5,Metrics!$B$5:$H$5,0))),"") -> 401 | C25: =IFERROR(IF(LEN(INDEX(Metrics!$B$6:$H$70,ROW($A25)-ROW($A$5),MATCH(C$5,Metrics!$B$5:$H$5,0)))=0,"",INDEX(Metrics!$B$6:$H$70,ROW($A25)-ROW($A$5),MATCH(C$5,Metrics!$B$5:$H$5,0))),"") -> Process and Workflow | D25: =IFERROR(IF(LEN(INDEX(Metrics!$B$6:$H$70,ROW($A25)-ROW($A$5),MATCH(D$5,Metrics!$B$5:$H$5,0)))=0,"",INDEX(Metrics!$B$6:$H$70,ROW($A25)-ROW($A$5),MATCH(D$5,Metrics!$B$5:$H$5,0))),"") -> Interview-to-Offer Ratio | E25: =IFERROR(IF(LEN(INDEX(Metrics!$B$6:$H$70,ROW($A25)-ROW($A$5),MATCH(E$5,Metrics!$B$5:$H$5,0)))=0,"",INDEX(Metrics!$B$6:$H$70,ROW($A25)-ROW($A$5),MATCH(E$5,Metrics!$B$5:$H$5,0))),"") -> %
B26: =IFERROR(IF(LEN(INDEX(Metrics!$B$6:$H$70,ROW($A26)-ROW($A$5),MATCH(B$5,Metrics!$B$5:$H$5,0)))=0,"",INDEX(Metrics!$B$6:$H$70,ROW($A26)-ROW($A$5),MATCH(B$5,Metrics!$B$5:$H$5,0))),"") -> 402 | C26: =IFERROR(IF(LEN(INDEX(Metrics!$B$6:$H$70,ROW($A26)-ROW($A$5),MATCH(C$5,Metrics!$B$5:$H$5,0)))=0,"",INDEX(Metrics!$B$6:$H$70,ROW($A26)-ROW($A$5),MATCH(C$5,Metrics!$B$5:$H$5,0))),"") -> Process and Workflow | D26: =IFERROR(IF(LEN(INDEX(Metrics!$B$6:$H$70,ROW($A26)-ROW($A$5),MATCH(D$5,Metrics!$B$5:$H$5,0)))=0,"",INDEX(Metrics!$B$6:$H$70,ROW($A26)-ROW($A$5),MATCH(D$5,Metrics!$B$5:$H$5,0))),"") -> Offer-to-Acceptance Ratio | E26: =IFERROR(IF(LEN(INDEX(Metrics!$B$6:$H$70,ROW($A26)-ROW($A$5),MATCH(E$5,Metrics!$B$5:$H$5,0)))=0,"",INDEX(Metrics!$B$6:$H$70,ROW($A26)-ROW($A$5),MATCH(E$5,Metrics!$B$5:$H$5,0))),"") -> %
B27: =IFERROR(IF(LEN(INDEX(Metrics!$B$6:$H$70,ROW($A27)-ROW($A$5),MATCH(B$5,Metrics!$B$5:$H$5,0)))=0,"",INDEX(Metrics!$B$6:$H$70,ROW($A27)-ROW($A$5),MATCH(B$5,Metrics!$B$5:$H$5,0))),"") -> 403 | C27: =IFERROR(IF(LEN(INDEX(Metrics!$B$6:$H$70,ROW($A27)-ROW($A$5),MATCH(C$5,Metrics!$B$5:$H$5,0)))=0,"",INDEX(Metrics!$B$6:$H$70,ROW($A27)-ROW($A$5),MATCH(C$5,Metrics!$B$5:$H$5,0))),"") -> Process and Workflow | D27: =IFERROR(IF(LEN(INDEX(Metrics!$B$6:$H$70,ROW($A27)-ROW($A$5),MATCH(D$5,Metrics!$B$5:$H$5,0)))=0,"",INDEX(Metrics!$B$6:$H$70,ROW($A27)-ROW($A$5),MATCH(D$5,Metrics!$B$5:$H$5,0))),"") -> Selection Rate | E27: =IFERROR(IF(LEN(INDEX(Metrics!$B$6:$H$70,ROW($A27)-ROW($A$5),MATCH(E$5,Metrics!$B$5:$H$5,0)))=0,"",INDEX(Metrics!$B$6:$H$70,ROW($A27)-ROW($A$5),MATCH(E$5,Metrics!$B$5:$H$5,0))),"") -> %
B28: =IFERROR(IF(LEN(INDEX(Metrics!$B$6:$H$70,ROW($A28)-ROW($A$5),MATCH(B$5,Metrics!$B$5:$H$5,0)))=0,"",INDEX(Metrics!$B$6:$H$70,ROW($A28)-ROW($A$5),MATCH(B$5,Metrics!$B$5:$H$5,0))),"") -> 404 | C28: =IFERROR(IF(LEN(INDEX(Metrics!$B$6:$H$70,ROW($A28)-ROW($A$5),MATCH(C$5,Metrics!$B$5:$H$5,0)))=0,"",INDEX(Metrics!$B$6:$H$70,ROW($A28)-ROW($A$5),MATCH(C$5,Metrics!$B$5:$H$5,0))),"") -> Process and Workflow | D28: =IFERROR(IF(LEN(INDEX(Metrics!$B$6:$H$70,ROW($A28)-ROW($A$5),MATCH(D$5,Metrics!$B$5:$H$5,0)))=0,"",INDEX(Metrics!$B$6:$H$70,ROW($A28)-ROW($A$5),MATCH(D$5,Metrics!$B$5:$H$5,0))),"") -> Interview Drop-off Rate | E28: =IFERROR(IF(LEN(INDEX(Metrics!$B$6:$H$70,ROW($A28)-ROW($A$5),MATCH(E$5,Metrics!$B$5:$H$5,0)))=0,"",INDEX(Metrics!$B$6:$H$70,ROW($A28)-ROW($A$5),MATCH(E$5,Metrics!$B$5:$H$5,0))),"") -> %
B29: =IFERROR(IF(LEN(INDEX(Metrics!$B$6:$H$70,ROW($A29)-ROW($A$5),MATCH(B$5,Metrics!$B$5:$H$5,0)))=0,"",INDEX(Metrics!$B$6:$H$70,ROW($A29)-ROW($A$5),MATCH(B$5,Metrics!$B$5:$H$5,0))),"") -> 405 | C29: =IFERROR(IF(LEN(INDEX(Metrics!$B$6:$H$70,ROW($A29)-ROW($A$5),MATCH(C$5,Metrics!$B$5:$H$5,0)))=0,"",INDEX(Metrics!$B$6:$H$70,ROW($A29)-ROW($A$5),MATCH(C$5,Metrics!$B$5:$H$5,0))),"") -> Process and Workflow | D29: =IFERROR(IF(LEN(INDEX(Metrics!$B$6:$H$70,ROW($A29)-ROW($A$5),MATCH(D$5,Metrics!$B$5:$H$5,0)))=0,"",INDEX(Metrics!$B$6:$H$70,ROW($A29)-ROW($A$5),MATCH(D$5,Metrics!$B$5:$H$5,0))),"") -> Diversity Hire Rate | E29: =IFERROR(IF(LEN(INDEX(Metrics!$B$6:$H$70,ROW($A29)-ROW($A$5),MATCH(E$5,Metrics!$B$5:$H$5,0)))=0,"",INDEX(Metrics!$B$6:$H$70,ROW($A29)-ROW($A$5),MATCH(E$5,Metrics!$B$5:$H$5,0))),"") -> %
B30: =IFERROR(IF(LEN(INDEX(Metrics!$B$6:$H$70,ROW($A30)-ROW($A$5),MATCH(B$5,Metrics!$B$5:$H$5,0)))=0,"",INDEX(Metrics!$B$6:$H$70,ROW($A30)-ROW($A$5),MATCH(B$5,Metrics!$B$5:$H$5,0))),"") -> 406 | C30: =IFERROR(IF(LEN(INDEX(Metrics!$B$6:$H$70,ROW($A30)-ROW($A$5),MATCH(C$5,Metrics!$B$5:$H$5,0)))=0,"",INDEX(Metrics!$B$6:$H$70,ROW($A30)-ROW($A$5),MATCH(C$5,Metrics!$B$5:$H$5,0))),"") -> Process and Workflow | D30: =IFERROR(IF(LEN(INDEX(Metrics!$B$6:$H$70,ROW($A30)-ROW($A$5),MATCH(D$5,Metrics!$B$5:$H$5,0)))=0,"",INDEX(Metrics!$B$6:$H$70,ROW($A30)-ROW($A$5),MATCH(D$5,Metrics!$B$5:$H$5,0))),"") | E30: =IFERROR(IF(LEN(INDEX(Metrics!$B$6:$H$70,ROW($A30)-ROW($A$5),MATCH(E$5,Metrics!$B$5:$H$5,0)))=0,"",INDEX(Metrics!$B$6:$H$70,ROW($A30)-ROW($A$5),MATCH(E$5,Metrics!$B$5:$H$5,0))),"")
B31: =IFERROR(IF(LEN(INDEX(Metrics!$B$6:$H$70,ROW($A31)-ROW($A$5),MATCH(B$5,Metrics!$B$5:$H$5,0)))=0,"",INDEX(Metrics!$B$6:$H$70,ROW($A31)-ROW($A$5),MATCH(B$5,Metrics!$B$5:$H$5,0))),"") -> 407 | C31: =IFERROR(IF(LEN(INDEX(Metrics!$B$6:$H$70,ROW($A31)-ROW($A$5),MATCH(C$5,Metrics!$B$5:$H$5,0)))=0,"",INDEX(Metrics!$B$6:$H$70,ROW($A31)-ROW($A$5),MATCH(C$5,Metrics!$B$5:$H$5,0))),"") -> Process and Workflow | D31: =IFERROR(IF(LEN(INDEX(Metrics!$B$6:$H$70,ROW($A31)-ROW($A$5),MATCH(D$5,Metrics!$B$5:$H$5,0)))=0,"",INDEX(Metrics!$B$6:$H$70,ROW($A31)-ROW($A$5),MATCH(D$5,Metrics!$B$5:$H$5,0))),"") | E31: =IFERROR(IF(LEN(INDEX(Metrics!$B$6:$H$70,ROW($A31)-ROW($A$5),MATCH(E$5,Metrics!$B$5:$H$5,0)))=0,"",INDEX(Metrics!$B$6:$H$70,ROW($A31)-ROW($A$5),MATCH(E$5,Metrics!$B$5:$H$5,0))),"")
B32: =IFERROR(IF(LEN(INDEX(Metrics!$B$6:$H$70,ROW($A32)-ROW($A$5),MATCH(B$5,Metrics!$B$5:$H$5,0)))=0,"",INDEX(Metrics!$B$6:$H$70,ROW($A32)-ROW($A$5),MATCH(B$5,Metrics!$B$5:$H$5,0))),"") -> 501 | C32: =IFERROR(IF(LEN(INDEX(Metrics!$B$6:$H$70,ROW($A32)-ROW($A$5),MATCH(C$5,Metrics!$B$5:$H$5,0)))=0,"",INDEX(Metrics!$B$6:$H$70,ROW($A32)-ROW($A$5),MATCH(C$5,Metrics!$B$5:$H$5,0))),"") -> Candidate Experience | D32: =IFERROR(IF(LEN(INDEX(Metrics!$B$6:$H$70,ROW($A32)-ROW($A$5),MATCH(D$5,Metrics!$B$5:$H$5,0)))=0,"",INDEX(Metrics!$B$6:$H$70,ROW($A32)-ROW($A$5),MATCH(D$5,Metrics!$B$5:$H$5,0))),"") -> Candidate Job Satisfaction | E32: =IFERROR(IF(LEN(INDEX(Metrics!$B$6:$H$70,ROW($A32)-ROW($A$5),MATCH(E$5,Metrics!$B$5:$H$5,0)))=0,"",INDEX(Metrics!$B$6:$H$70,ROW($A32)-ROW($A$5),MATCH(E$5,Metrics!$B$5:$H$5,0))),"") -> Points
B33: =IFERROR(IF(LEN(INDEX(Metrics!$B$6:$H$70,ROW($A33)-ROW($A$5),MATCH(B$5,Metrics!$B$5:$H$5,0)))=0,"",INDEX(Metrics!$B$6:$H$70,ROW($A33)-ROW($A$5),MATCH(B$5,Metrics!$B$5:$H$5,0))),"") -> 502 | C33: =IFERROR(IF(LEN(INDEX(Metrics!$B$6:$H$70,ROW($A33)-ROW($A$5),MATCH(C$5,Metrics!$B$5:$H$5,0)))=0,"",INDEX(Metrics!$B$6:$H$70,ROW($A33)-ROW($A$5),MATCH(C$5,Metrics!$B$5:$H$5,0))),"") -> Candidate Experience | D33: =IFERROR(IF(LEN(INDEX(Metrics!$B$6:$H$70,ROW($A33)-ROW($A$5),MATCH(D$5,Metrics!$B$5:$H$5,0)))=0,"",INDEX(Metrics!$B$6:$H$70,ROW($A33)-ROW($A$5),MATCH(D$5,Metrics!$B$5:$H$5,0))),"") -> Applicant Drop-off Rate | E33: =IFERROR(IF(LEN(INDEX(Metrics!$B$6:$H$70,ROW($A33)-ROW($A$5),MATCH(E$5,Metrics!$B$5:$H$5,0)))=0,"",INDEX(Metrics!$B$6:$H$70,ROW($A33)-ROW($A$5),MATCH(E$5,Metrics!$B$5:$H$5,0))),"") -> %
... B70: =IFERROR(IF(LEN(INDEX(Metrics!$B$6:$H$70,ROW($A70)-ROW($A$5),MATCH(B$5,Metrics!$B$5:$H$5,0)))=0,"",INDEX(Metrics!$B$6:$H$70,ROW($A70)-ROW($A$5),MATCH(B$5,Metrics!$B$5:$H$5,0))),"") | C70: =IFERROR(IF(LEN(INDEX(Metrics!$B$6:$H$70,ROW($A70)-ROW($A$5),MATCH(C$5,Metrics!$B$5:$H$5,0)))=0,"",INDEX(Metrics!$B$6:$H$70,ROW($A70)-ROW($A$5),MATCH(C$5,Metrics!$B$5:$H$5,0))),"") | D70: =IFERROR(IF(LEN(INDEX(Metrics!$B$6:$H$70,ROW($A70)-ROW($A$5),MATCH(D$5,Metrics!$B$5:$H$5,0)))=0,"",INDEX(Metrics!$B$6:$H$70,ROW($A70)-ROW($A$5),MATCH(D$5,Metrics!$B$5:$H$5,0))),"") | E70: =IFERROR(IF(LEN(INDEX(Metrics!$B$6:$H$70,ROW($A70)-ROW($A$5),MATCH(E$5,Metrics!$B$5:$H$5,0)))=0,"",INDEX(Metrics!$B$6:$H$70,ROW($A70)-ROW($A$5),MATCH(E$5,Metrics!$B$5:$H$5,0))),"")

Sheet PY_Actual
C2: RECRUITMENT KPI DASHBOARD
C3: PREVIOUS YEAR ACTUALS
B5: KPI Code | C5: KPI Group | D5: Criteria | E5: Unit | F5: =IFERROR(INDEX(Calc!$I$7:$I$18,COLUMN(PY_Actual!F4)-COLUMN(PY_Actual!$E$4)),"") -> Jan 2023 | G5: =IFERROR(INDEX(Calc!$I$7:$I$18,COLUMN(PY_Actual!G4)-COLUMN(PY_Actual!$E$4)),"") -> Feb 2023 | H5: =IFERROR(INDEX(Calc!$I$7:$I$18,COLUMN(PY_Actual!H4)-COLUMN(PY_Actual!$E$4)),"") -> Mar 2023 | I5: =IFERROR(INDEX(Calc!$I$7:$I$18,COLUMN(PY_Actual!I4)-COLUMN(PY_Actual!$E$4)),"") -> Apr 2023 | J5: =IFERROR(INDEX(Calc!$I$7:$I$18,COLUMN(PY_Actual!J4)-COLUMN(PY_Actual!$E$4)),"") -> May 2023 | K5: =IFERROR(INDEX(Calc!$I$7:$I$18,COLUMN(PY_Actual!K4)-COLUMN(PY_Actual!$E$4)),"") -> Jun 2023 | L5: =IFERROR(INDEX(Calc!$I$7:$I$18,COLUMN(PY_Actual!L4)-COLUMN(PY_Actual!$E$4)),"") -> Jul 2023 | M5: =IFERROR(INDEX(Calc!$I$7:$I$18,COLUMN(PY_Actual!M4)-COLUMN(PY_Actual!$E$4)),"") -> Aug 2023 | ... Q5: =IFERROR(INDEX(Calc!$I$7:$I$18,COLUMN(PY_Actual!Q4)-COLUMN(PY_Actual!$E$4)),"") -> Dec 2023
B6: =IFERROR(IF(LEN(INDEX(Metrics!$B$6:$H$70,ROW($A6)-ROW($A$5),MATCH(B$5,Metrics!$B$5:$H$5,0)))=0,"",INDEX(Metrics!$B$6:$H$70,ROW($A6)-ROW($A$5),MATCH(B$5,Metrics!$B$5:$H$5,0))),"") -> 101 | C6: =IFERROR(IF(LEN(INDEX(Metrics!$B$6:$H$70,ROW($A6)-ROW($A$5),MATCH(C$5,Metrics!$B$5:$H$5,0)))=0,"",INDEX(Metrics!$B$6:$H$70,ROW($A6)-ROW($A$5),MATCH(C$5,Metrics!$B$5:$H$5,0))),"") -> Efficiency and Speed | D6: =IFERROR(IF(LEN(INDEX(Metrics!$B$6:$H$70,ROW($A6)-ROW($A$5),MATCH(D$5,Metrics!$B$5:$H$5,0)))=0,"",INDEX(Metrics!$B$6:$H$70,ROW($A6)-ROW($A$5),MATCH(D$5,Metrics!$B$5:$H$5,0))),"") -> Time to Fill | E6: =IFERROR(IF(LEN(INDEX(Metrics!$B$6:$H$70,ROW($A6)-ROW($A$5),MATCH(E$5,Metrics!$B$5:$H$5,0)))=0,"",INDEX(Metrics!$B$6:$H$70,ROW($A6)-ROW($A$5),MATCH(E$5,Metrics!$B$5:$H$5,0))),"") -> Days | F6: 50 | G6: 50 | H6: 60 | I6: 25 | J6: 60 | K6: 40
B7: =IFERROR(IF(LEN(INDEX(Metrics!$B$6:$H$70,ROW($A7)-ROW($A$5),MATCH(B$5,Metrics!$B$5:$H$5,0)))=0,"",INDEX(Metrics!$B$6:$H$70,ROW($A7)-ROW($A$5),MATCH(B$5,Metrics!$B$5:$H$5,0))),"") -> 102 | C7: =IFERROR(IF(LEN(INDEX(Metrics!$B$6:$H$70,ROW($A7)-ROW($A$5),MATCH(C$5,Metrics!$B$5:$H$5,0)))=0,"",INDEX(Metrics!$B$6:$H$70,ROW($A7)-ROW($A$5),MATCH(C$5,Metrics!$B$5:$H$5,0))),"") -> Efficiency and Speed | D7: =IFERROR(IF(LEN(INDEX(Metrics!$B$6:$H$70,ROW($A7)-ROW($A$5),MATCH(D$5,Metrics!$B$5:$H$5,0)))=0,"",INDEX(Metrics!$B$6:$H$70,ROW($A7)-ROW($A$5),MATCH(D$5,Metrics!$B$5:$H$5,0))),"") -> Time to Hire | E7: =IFERROR(IF(LEN(INDEX(Metrics!$B$6:$H$70,ROW($A7)-ROW($A$5),MATCH(E$5,Metrics!$B$5:$H$5,0)))=0,"",INDEX(Metrics!$B$6:$H$70,ROW($A7)-ROW($A$5),MATCH(E$5,Metrics!$B$5:$H$5,0))),"") -> Days | F7: 25 | G7: 20 | H7: 15 | I7: 15 | J7: 20 | K7: 25
B8: =IFERROR(IF(LEN(INDEX(Metrics!$B$6:$H$70,ROW($A8)-ROW($A$5),MATCH(B$5,Metrics!$B$5:$H$5,0)))=0,"",INDEX(Metrics!$B$6:$H$70,ROW($A8)-ROW($A$5),MATCH(B$5,Metrics!$B$5:$H$5,0))),"") -> 103 | C8: =IFERROR(IF(LEN(INDEX(Metrics!$B$6:$H$70,ROW($A8)-ROW($A$5),MATCH(C$5,Metrics!$B$5:$H$5,0)))=0,"",INDEX(Metrics!$B$6:$H$70,ROW($A8)-ROW($A$5),MATCH(C$5,Metrics!$B$5:$H$5,0))),"") -> Efficiency and Speed | D8: =IFERROR(IF(LEN(INDEX(Metrics!$B$6:$H$70,ROW($A8)-ROW($A$5),MATCH(D$5,Metrics!$B$5:$H$5,0)))=0,"",INDEX(Metrics!$B$6:$H$70,ROW($A8)-ROW($A$5),MATCH(D$5,Metrics!$B$5:$H$5,0))),"") -> Hiring Velocity | E8: =IFERROR(IF(LEN(INDEX(Metrics!$B$6:$H$70,ROW($A8)-ROW($A$5),MATCH(E$5,Metrics!$B$5:$H$5,0)))=0,"",INDEX(Metrics!$B$6:$H$70,ROW($A8)-ROW($A$5),MATCH(E$5,Metrics!$B$5:$H$5,0))),"") -> % | F8: 0.015 | G8: 0.02 | H8: 0.015 | I8: 0.02 | J8: 0.03 | K8: 0.02
B9: =IFERROR(IF(LEN(INDEX(Metrics!$B$6:$H$70,ROW($A9)-ROW($A$5),MATCH(B$5,Metrics!$B$5:$H$5,0)))=0,"",INDEX(Metrics!$B$6:$H$70,ROW($A9)-ROW($A$5),MATCH(B$5,Metrics!$B$5:$H$5,0))),"") -> 104 | C9: =IFERROR(IF(LEN(INDEX(Metrics!$B$6:$H$70,ROW($A9)-ROW($A$5),MATCH(C$5,Metrics!$B$5:$H$5,0)))=0,"",INDEX(Metrics!$B$6:$H$70,ROW($A9)-ROW($A$5),MATCH(C$5,Metrics!$B$5:$H$5,0))),"") -> Efficiency and Speed | D9: =IFERROR(IF(LEN(INDEX(Metrics!$B$6:$H$70,ROW($A9)-ROW($A$5),MATCH(D$5,Metrics!$B$5:$H$5,0)))=0,"",INDEX(Metrics!$B$6:$H$70,ROW($A9)-ROW($A$5),MATCH(D$5,Metrics!$B$5:$H$5,0))),"") -> Average Interview Duration | E9: =IFERROR(IF(LEN(INDEX(Metrics!$B$6:$H$70,ROW($A9)-ROW($A$5),MATCH(E$5,Metrics!$B$5:$H$5,0)))=0,"",INDEX(Metrics!$B$6:$H$70,ROW($A9)-ROW($A$5),MATCH(E$5,Metrics!$B$5:$H$5,0))),"") -> Minutes | F9: 50 | G9: 60 | H9: 55 | I9: 75 | J9: 45 | K9: 50
B10: =IFERROR(IF(LEN(INDEX(Metrics!$B$6:$H$70,ROW($A10)-ROW($A$5),MATCH(B$5,Metrics!$B$5:$H$5,0)))=0,"",INDEX(Metrics!$B$6:$H$70,ROW($A10)-ROW($A$5),MATCH(B$5,Metrics!$B$5:$H$5,0))),"") -> 105 | C10: =IFERROR(IF(LEN(INDEX(Metrics!$B$6:$H$70,ROW($A10)-ROW($A$5),MATCH(C$5,Metrics!$B$5:$H$5,0)))=0,"",INDEX(Metrics!$B$6:$H$70,ROW($A10)-ROW($A$5),MATCH(C$5,Metrics!$B$5:$H$5,0))),"") -> Efficiency and Speed | D10: =IFERROR(IF(LEN(INDEX(Metrics!$B$6:$H$70,ROW($A10)-ROW($A$5),MATCH(D$5,Metrics!$B$5:$H$5,0)))=0,"",INDEX(Metrics!$B$6:$H$70,ROW($A10)-ROW($A$5),MATCH(D$5,Metrics!$B$5:$H$5,0))),"") -> Screening Efficiency | E10: =IFERROR(IF(LEN(INDEX(Metrics!$B$6:$H$70,ROW($A10)-ROW($A$5),MATCH(E$5,Metrics!$B$5:$H$5,0)))=0,"",INDEX(Metrics!$B$6:$H$70,ROW($A10)-ROW($A$5),MATCH(E$5,Metrics!$B$5:$H$5,0))),"") -> % | F10: 0.2 | G10: 0.25 | H10: 0.4 | I10: 0.52 | J10: 0.3 | K10: 0.3
