Workbook

Sheet Menu
C2: FINANCE KPI DASHBOARD
C3: MENU
C7: INPUT | F7: OUTPUT

Sheet Metrics
C2: FINANCE KPI DASHBOARD
C3: KPI METRICS
B5: KPI Code | C5: KPI Group | D5: Criteria | E5: Unit | F5: Lower Better? | G5: Cumulative Calculation Method? | H5: KPI Description | J5: STARTING DATE SETTING
B6: 101 | C6: Profit Metrics | D6: Gross Profit | E6: USD | F6: No | G6: Sum | H6: The amount a company makes after deducting the costs associated with producing and selling its products. | J6: Year | K6: 2022
B7: 102 | C7: Profit Metrics | D7: Gross Profit Margin | E7: % | F7: No | G7: Average | H7: The amount left over from a business's income after direct selling expenses are subtracted. | J7: Month | K7: January
B8: 103 | C8: Profit Metrics | D8: Net Profit | E8: USD | F8: No | G8: Sum | H8: The amount of profit remaining after deducting all costs in a business.
B9: 104 | C9: Profit Metrics | D9: Net Profit Margin | E9: % | F9: No | G9: Average | H9: The rate of net profits to revenues for a company or business segment.
B10: 105 | C10: Profit Metrics | D10: EBIT | E10: USD | F10: No | G10: Sum | H10: The amount representing the financial performance of the company as the level of profit from sales.
B11: 106 | C11: Profit Metrics | D11: EBIT Margin | E11: % | F11: No | G11: Average | H11: The ratio of how profitable a company's core business is.
B12: 107 | C12: Profit Metrics | D12: Operating Expense Ratio | E12: % | F12: Yes | G12: Average | H12: The value that represents the core operations of a day-to-day company.
B13: 108 | C13: Profit Metrics
B14: 109 | C14: Profit Metrics
B15: 201 | C15: Cash Flow Metrics | D15: Current Ratio | E15: % | F15: No | G15: Average | H15: The ratio between the company’s the total assets value owned by the company.
B16: 202 | C16: Cash Flow Metrics | D16: Accounts Payable Trunover Ratio | E16: # | F16: No | G16: Average | H16: The value that measures how quickly a company pays its suppliers.
B17: 203 | C17: Cash Flow Metrics | D17: Accounts Receivable Days | E17: Days | F17: Yes | G17: Average | H17: The total time representing how long it takes to receive money for goods sold.
B18: 204 | C18: Cash Flow Metrics | D18: Accounts Receivable Trunover Ratio | E18: # | F18: No | G18: Average | H18: The amount shows a company's effectiveness in lending and collecting debt.
B19: 205 | C19: Cash Flow Metrics
B20: 206 | C20: Cash Flow Metrics

Sheet CY_Actual
C2: FINANCE KPI DASHBOARD
C3: CURRENT YEAR ACTUALS
B5: KPI Code | C5: KPI Group | D5: Criteria | E5: Unit | F5: =IFERROR(INDEX(Calc!$H$7:$H$18,COLUMN(CY_Actual!F4)-COLUMN(CY_Actual!$E$4)),"") -> Jan 2022 | G5: =IFERROR(INDEX(Calc!$H$7:$H$18,COLUMN(CY_Actual!G4)-COLUMN(CY_Actual!$E$4)),"") -> Feb 2022 | H5: =IFERROR(INDEX(Calc!$H$7:$H$18,COLUMN(CY_Actual!H4)-COLUMN(CY_Actual!$E$4)),"") -> Mar 2022 | I5: =IFERROR(INDEX(Calc!$H$7:$H$18,COLUMN(CY_Actual!I4)-COLUMN(CY_Actual!$E$4)),"") -> Apr 2022 | J5: =IFERROR(INDEX(Calc!$H$7:$H$18,COLUMN(CY_Actual!J4)-COLUMN(CY_Actual!$E$4)),"") -> May 2022 | K5: =IFERROR(INDEX(Calc!$H$7:$H$18,COLUMN(CY_Actual!K4)-COLUMN(CY_Actual!$E$4)),"") -> Jun 2022 | L5: =IFERROR(INDEX(Calc!$H$7:$H$18,COLUMN(CY_Actual!L4)-COLUMN(CY_Actual!$E$4)),"") -> Jul 2022 | M5: =IFERROR(INDEX(Calc!$H$7:$H$18,COLUMN(CY_Actual!M4)-COLUMN(CY_Actual!$E$4)),"") -> Aug 2022 | ... Q5: =IFERROR(INDEX(Calc!$H$7:$H$18,COLUMN(CY_Actual!Q4)-COLUMN(CY_Actual!$E$4)),"") -> Dec 2022
B6: =IFERROR(IF(LEN(INDEX(Metrics!$B$6:$H$14,ROW($A6)-ROW($A$5),MATCH(B$5,Metrics!$B$5:$H$5,0)))=0,"",INDEX(Metrics!$B$6:$H$14,ROW($A6)-ROW($A$5),MATCH(B$5,Metrics!$B$5:$H$5,0))),"") -> 101 | C6: =IFERROR(IF(LEN(INDEX(Metrics!$B$6:$H$14,ROW($A6)-ROW($A$5),MATCH(C$5,Metrics!$B$5:$H$5,0)))=0,"",INDEX(Metrics!$B$6:$H$14,ROW($A6)-ROW($A$5),MATCH(C$5,Metrics!$B$5:$H$5,0))),"") -> Profit Metrics | D6: =IFERROR(IF(LEN(INDEX(Metrics!$B$6:$H$14,ROW($A6)-ROW($A$5),MATCH(D$5,Metrics!$B$5:$H$5,0)))=0,"",INDEX(Metrics!$B$6:$H$14,ROW($A6)-ROW($A$5),MATCH(D$5,Metrics!$B$5:$H$5,0))),"") -> Gross Profit | E6: =IFERROR(IF(LEN(INDEX(Metrics!$B$6:$H$14,ROW($A6)-ROW($A$5),MATCH(E$5,Metrics!$B$5:$H$5,0)))=0,"",INDEX(Metrics!$B$6:$H$14,ROW($A6)-ROW($A$5),MATCH(E$5,Metrics!$B$5:$H$5,0))),"") -> USD | F6: 58500 | G6: 66000 | H6: 64000 | I6: 51000 | J6: 70000 | K6: 62700
B7: =IFERROR(IF(LEN(INDEX(Metrics!$B$6:$H$14,ROW($A7)-ROW($A$5),MATCH(B$5,Metrics!$B$5:$H$5,0)))=0,"",INDEX(Metrics!$B$6:$H$14,ROW($A7)-ROW($A$5),MATCH(B$5,Metrics!$B$5:$H$5,0))),"") -> 102 | C7: =IFERROR(IF(LEN(INDEX(Metrics!$B$6:$H$14,ROW($A7)-ROW($A$5),MATCH(C$5,Metrics!$B$5:$H$5,0)))=0,"",INDEX(Metrics!$B$6:$H$14,ROW($A7)-ROW($A$5),MATCH(C$5,Metrics!$B$5:$H$5,0))),"") -> Profit Metrics | D7: =IFERROR(IF(LEN(INDEX(Metrics!$B$6:$H$14,ROW($A7)-ROW($A$5),MATCH(D$5,Metrics!$B$5:$H$5,0)))=0,"",INDEX(Metrics!$B$6:$H$14,ROW($A7)-ROW($A$5),MATCH(D$5,Metrics!$B$5:$H$5,0))),"") -> Gross Profit Margin | E7: =IFERROR(IF(LEN(INDEX(Metrics!$B$6:$H$14,ROW($A7)-ROW($A$5),MATCH(E$5,Metrics!$B$5:$H$5,0)))=0,"",INDEX(Metrics!$B$6:$H$14,ROW($A7)-ROW($A$5),MATCH(E$5,Metrics!$B$5:$H$5,0))),"") -> % | F7: 0.392 | G7: 0.392 | H7: 0.37632 | I7: 0.3876096 | J7: 0.36822912 | K7: 0.40136974
B8: =IFERROR(IF(LEN(INDEX(Metrics!$B$6:$H$14,ROW($A8)-ROW($A$5),MATCH(B$5,Metrics!$B$5:$H$5,0)))=0,"",INDEX(Metrics!$B$6:$H$14,ROW($A8)-ROW($A$5),MATCH(B$5,Metrics!$B$5:$H$5,0))),"") -> 103 | C8: =IFERROR(IF(LEN(INDEX(Metrics!$B$6:$H$14,ROW($A8)-ROW($A$5),MATCH(C$5,Metrics!$B$5:$H$5,0)))=0,"",INDEX(Metrics!$B$6:$H$14,ROW($A8)-ROW($A$5),MATCH(C$5,Metrics!$B$5:$H$5,0))),"") -> Profit Metrics | D8: =IFERROR(IF(LEN(INDEX(Metrics!$B$6:$H$14,ROW($A8)-ROW($A$5),MATCH(D$5,Metrics!$B$5:$H$5,0)))=0,"",INDEX(Metrics!$B$6:$H$14,ROW($A8)-ROW($A$5),MATCH(D$5,Metrics!$B$5:$H$5,0))),"") -> Net Profit | E8: =IFERROR(IF(LEN(INDEX(Metrics!$B$6:$H$14,ROW($A8)-ROW($A$5),MATCH(E$5,Metrics!$B$5:$H$5,0)))=0,"",INDEX(Metrics!$B$6:$H$14,ROW($A8)-ROW($A$5),MATCH(E$5,Metrics!$B$5:$H$5,0))),"") -> USD | F8: 42705 | G8: 48180 | H8: 46720 | I8: 37230 | J8: 51100 | K8: 45771
B9: =IFERROR(IF(LEN(INDEX(Metrics!$B$6:$H$14,ROW($A9)-ROW($A$5),MATCH(B$5,Metrics!$B$5:$H$5,0)))=0,"",INDEX(Metrics!$B$6:$H$14,ROW($A9)-ROW($A$5),MATCH(B$5,Metrics!$B$5:$H$5,0))),"") -> 104 | C9: =IFERROR(IF(LEN(INDEX(Metrics!$B$6:$H$14,ROW($A9)-ROW($A$5),MATCH(C$5,Metrics!$B$5:$H$5,0)))=0,"",INDEX(Metrics!$B$6:$H$14,ROW($A9)-ROW($A$5),MATCH(C$5,Metrics!$B$5:$H$5,0))),"") -> Profit Metrics | D9: =IFERROR(IF(LEN(INDEX(Metrics!$B$6:$H$14,ROW($A9)-ROW($A$5),MATCH(D$5,Metrics!$B$5:$H$5,0)))=0,"",INDEX(Metrics!$B$6:$H$14,ROW($A9)-ROW($A$5),MATCH(D$5,Metrics!$B$5:$H$5,0))),"") -> Net Profit Margin | E9: =IFERROR(IF(LEN(INDEX(Metrics!$B$6:$H$14,ROW($A9)-ROW($A$5),MATCH(E$5,Metrics!$B$5:$H$5,0)))=0,"",INDEX(Metrics!$B$6:$H$14,ROW($A9)-ROW($A$5),MATCH(E$5,Metrics!$B$5:$H$5,0))),"") -> % | F9: 0.20776 | G9: 0.20776 | H9: 0.1994496 | I9: 0.20543309 | J9: 0.19516143 | K9: 0.21272596
B10: =IFERROR(IF(LEN(INDEX(Metrics!$B$6:$H$14,ROW($A10)-ROW($A$5),MATCH(B$5,Metrics!$B$5:$H$5,0)))=0,"",INDEX(Metrics!$B$6:$H$14,ROW($A10)-ROW($A$5),MATCH(B$5,Metrics!$B$5:$H$5,0))),"") -> 105 | C10: =IFERROR(IF(LEN(INDEX(Metrics!$B$6:$H$14,ROW($A10)-ROW($A$5),MATCH(C$5,Metrics!$B$5:$H$5,0)))=0,"",INDEX(Metrics!$B$6:$H$14,ROW($A10)-ROW($A$5),MATCH(C$5,Metrics!$B$5:$H$5,0))),"") -> Profit Metrics | D10: =IFERROR(IF(LEN(INDEX(Metrics!$B$6:$H$14,ROW($A10)-ROW($A$5),MATCH(D$5,Metrics!$B$5:$H$5,0)))=0,"",INDEX(Metrics!$B$6:$H$14,ROW($A10)-ROW($A$5),MATCH(D$5,Metrics!$B$5:$H$5,0))),"") -> EBIT | E10: =IFERROR(IF(LEN(INDEX(Metrics!$B$6:$H$14,ROW($A10)-ROW($A$5),MATCH(E$5,Metrics!$B$5:$H$5,0)))=0,"",INDEX(Metrics!$B$6:$H$14,ROW($A10)-ROW($A$5),MATCH(E$5,Metrics!$B$5:$H$5,0))),"") -> USD | F10: 30320.55 | G10: 34207.8 | H10: 33171.2 | I10: 26433.3 | J10: 36281 | K10: 32497.41
B11: =IFERROR(IF(LEN(INDEX(Metrics!$B$6:$H$14,ROW($A11)-ROW($A$5),MATCH(B$5,Metrics!$B$5:$H$5,0)))=0,"",INDEX(Metrics!$B$6:$H$14,ROW($A11)-ROW($A$5),MATCH(B$5,Metrics!$B$5:$H$5,0))),"") -> 106 | C11: =IFERROR(IF(LEN(INDEX(Metrics!$B$6:$H$14,ROW($A11)-ROW($A$5),MATCH(C$5,Metrics!$B$5:$H$5,0)))=0,"",INDEX(Metrics!$B$6:$H$14,ROW($A11)-ROW($A$5),MATCH(C$5,Metrics!$B$5:$H$5,0))),"") -> Profit Metrics | D11: =IFERROR(IF(LEN(INDEX(Metrics!$B$6:$H$14,ROW($A11)-ROW($A$5),MATCH(D$5,Metrics!$B$5:$H$5,0)))=0,"",INDEX(Metrics!$B$6:$H$14,ROW($A11)-ROW($A$5),MATCH(D$5,Metrics!$B$5:$H$5,0))),"") -> EBIT Margin | E11: =IFERROR(IF(LEN(INDEX(Metrics!$B$6:$H$14,ROW($A11)-ROW($A$5),MATCH(E$5,Metrics!$B$5:$H$5,0)))=0,"",INDEX(Metrics!$B$6:$H$14,ROW($A11)-ROW($A$5),MATCH(E$5,Metrics!$B$5:$H$5,0))),"") -> % | F11: 0.1267336 | G11: 0.1267336 | H11: 0.12166426 | I11: 0.12531418 | J11: 0.11904847 | K11: 0.12976284
B12: =IFERROR(IF(LEN(INDEX(Metrics!$B$6:$H$14,ROW($A12)-ROW($A$5),MATCH(B$5,Metrics!$B$5:$H$5,0)))=0,"",INDEX(Metrics!$B$6:$H$14,ROW($A12)-ROW($A$5),MATCH(B$5,Metrics!$B$5:$H$5,0))),"") -> 107 | C12: =IFERROR(IF(LEN(INDEX(Metrics!$B$6:$H$14,ROW($A12)-ROW($A$5),MATCH(C$5,Metrics!$B$5:$H$5,0)))=0,"",INDEX(Metrics!$B$6:$H$14,ROW($A12)-ROW($A$5),MATCH(C$5,Metrics!$B$5:$H$5,0))),"") -> Profit Metrics | D12: =IFERROR(IF(LEN(INDEX(Metrics!$B$6:$H$14,ROW($A12)-ROW($A$5),MATCH(D$5,Metrics!$B$5:$H$5,0)))=0,"",INDEX(Metrics!$B$6:$H$14,ROW($A12)-ROW($A$5),MATCH(D$5,Metrics!$B$5:$H$5,0))),"") -> Operating Expense Ratio | E12: =IFERROR(IF(LEN(INDEX(Metrics!$B$6:$H$14,ROW($A12)-ROW($A$5),MATCH(E$5,Metrics!$B$5:$H$5,0)))=0,"",INDEX(Metrics!$B$6:$H$14,ROW($A12)-ROW($A$5),MATCH(E$5,Metrics!$B$5:$H$5,0))),"") -> % | F12: 0.29148728 | G12: 0.29148728 | H12: 0.27982779 | I12: 0.28822262 | J12: 0.27381149 | K12: 0.29845453
B13: =IFERROR(IF(LEN(INDEX(Metrics!$B$6:$H$14,ROW($A13)-ROW($A$5),MATCH(B$5,Metrics!$B$5:$H$5,0)))=0,"",INDEX(Metrics!$B$6:$H$14,ROW($A13)-ROW($A$5),MATCH(B$5,Metrics!$B$5:$H$5,0))),"") -> 108 | C13: =IFERROR(IF(LEN(INDEX(Metrics!$B$6:$H$14,ROW($A13)-ROW($A$5),MATCH(C$5,Metrics!$B$5:$H$5,0)))=0,"",INDEX(Metrics!$B$6:$H$14,ROW($A13)-ROW($A$5),MATCH(C$5,Metrics!$B$5:$H$5,0))),"") -> Profit Metrics | D13: =IFERROR(IF(LEN(INDEX(Metrics!$B$6:$H$14,ROW($A13)-ROW($A$5),MATCH(D$5,Metrics!$B$5:$H$5,0)))=0,"",INDEX(Metrics!$B$6:$H$14,ROW($A13)-ROW($A$5),MATCH(D$5,Metrics!$B$5:$H$5,0))),"") | E13: =IFERROR(IF(LEN(INDEX(Metrics!$B$6:$H$14,ROW($A13)-ROW($A$5),MATCH(E$5,Metrics!$B$5:$H$5,0)))=0,"",INDEX(Metrics!$B$6:$H$14,ROW($A13)-ROW($A$5),MATCH(E$5,Metrics!$B$5:$H$5,0))),"")
B14: =IFERROR(IF(LEN(INDEX(Metrics!$B$6:$H$14,ROW($A14)-ROW($A$5),MATCH(B$5,Metrics!$B$5:$H$5,0)))=0,"",INDEX(Metrics!$B$6:$H$14,ROW($A14)-ROW($A$5),MATCH(B$5,Metrics!$B$5:$H$5,0))),"") -> 109 | C14: =IFERROR(IF(LEN(INDEX(Metrics!$B$6:$H$14,ROW($A14)-ROW($A$5),MATCH(C$5,Metrics!$B$5:$H$5,0)))=0,"",INDEX(Metrics!$B$6:$H$14,ROW($A14)-ROW($A$5),MATCH(C$5,Metrics!$B$5:$H$5,0))),"") -> Profit Metrics | D14: =IFERROR(IF(LEN(INDEX(Metrics!$B$6:$H$14,ROW($A14)-ROW($A$5),MATCH(D$5,Metrics!$B$5:$H$5,0)))=0,"",INDEX(Metrics!$B$6:$H$14,ROW($A14)-ROW($A$5),MATCH(D$5,Metrics!$B$5:$H$5,0))),"") | E14: =IFERROR(IF(LEN(INDEX(Metrics!$B$6:$H$14,ROW($A14)-ROW($A$5),MATCH(E$5,Metrics!$B$5:$H$5,0)))=0,"",INDEX(Metrics!$B$6:$H$14,ROW($A14)-ROW($A$5),MATCH(E$5,Metrics!$B$5:$H$5,0))),"")
B15: 201 | C15: Cash Flow Metrics | D15: Current Ratio | E15: %
B16: 202 | C16: Cash Flow Metrics | D16: Accounts Payable Trunover Ratio | E16: #
B17: 203 | C17: Cash Flow Metrics | D17: Accounts Receivable Days | E17: Days
B18: 204 | C18: Cash Flow Metrics | D18: Accounts Receivable Trunover Ratio | E18: #
B19: 205 | C19: Cash Flow Metrics
B20: 206 | C20: Cash Flow Metrics

Sheet CY_Target
C2: FINANCE KPI DASHBOARD
C3: CURRENT YEAR TARGETS
B5: KPI Code | C5: KPI Group | D5: Criteria | E5: Unit | F5: =IFERROR(INDEX(Calc!$H$7:$H$18,COLUMN(CY_Target!F4)-COLUMN(CY_Target!$E$4)),"") -> Jan 2022 | G5: =IFERROR(INDEX(Calc!$H$7:$H$18,COLUMN(CY_Target!G4)-COLUMN(CY_Target!$E$4)),"") -> Feb 2022 | H5: =IFERROR(INDEX(Calc!$H$7:$H$18,COLUMN(CY_Target!H4)-COLUMN(CY_Target!$E$4)),"") -> Mar 2022 | I5: =IFERROR(INDEX(Calc!$H$7:$H$18,COLUMN(CY_Target!I4)-COLUMN(CY_Target!$E$4)),"") -> Apr 2022 | J5: =IFERROR(INDEX(Calc!$H$7:$H$18,COLUMN(CY_Target!J4)-COLUMN(CY_Target!$E$4)),"") -> May 2022 | K5: =IFERROR(INDEX(Calc!$H$7:$H$18,COLUMN(CY_Target!K4)-COLUMN(CY_Target!$E$4)),"") -> Jun 2022 | L5: =IFERROR(INDEX(Calc!$H$7:$H$18,COLUMN(CY_Target!L4)-COLUMN(CY_Target!$E$4)),"") -> Jul 2022 | M5: =IFERROR(INDEX(Calc!$H$7:$H$18,COLUMN(CY_Target!M4)-COLUMN(CY_Target!$E$4)),"") -> Aug 2022 | ... Q5: =IFERROR(INDEX(Calc!$H$7:$H$18,COLUMN(CY_Target!Q4)-COLUMN(CY_Target!$E$4)),"") -> Dec 2022
B6: =IFERROR(IF(LEN(INDEX(Metrics!$B$6:$H$14,ROW($A6)-ROW($A$5),MATCH(B$5,Metrics!$B$5:$H$5,0)))=0,"",INDEX(Metrics!$B$6:$H$14,ROW($A6)-ROW($A$5),MATCH(B$5,Metrics!$B$5:$H$5,0))),"") -> 101 | C6: =IFERROR(IF(LEN(INDEX(Metrics!$B$6:$H$14,ROW($A6)-ROW($A$5),MATCH(C$5,Metrics!$B$5:$H$5,0)))=0,"",INDEX(Metrics!$B$6:$H$14,ROW($A6)-ROW($A$5),MATCH(C$5,Metrics!$B$5:$H$5,0))),"") -> Profit Metrics | D6: =IFERROR(IF(LEN(INDEX(Metrics!$B$6:$H$14,ROW($A6)-ROW($A$5),MATCH(D$5,Metrics!$B$5:$H$5,0)))=0,"",INDEX(Metrics!$B$6:$H$14,ROW($A6)-ROW($A$5),MATCH(D$5,Metrics!$B$5:$H$5,0))),"") -> Gross Profit | E6: =IFERROR(IF(LEN(INDEX(Metrics!$B$6:$H$14,ROW($A6)-ROW($A$5),MATCH(E$5,Metrics!$B$5:$H$5,0)))=0,"",INDEX(Metrics!$B$6:$H$14,ROW($A6)-ROW($A$5),MATCH(E$5,Metrics!$B$5:$H$5,0))),"") -> USD | F6: 67860 | G6: 77880 | H6: 79360 | I6: 62220 | J6: 88900 | K6: 64581
B7: =IFERROR(IF(LEN(INDEX(Metrics!$B$6:$H$14,ROW($A7)-ROW($A$5),MATCH(B$5,Metrics!$B$5:$H$5,0)))=0,"",INDEX(Metrics!$B$6:$H$14,ROW($A7)-ROW($A$5),MATCH(B$5,Metrics!$B$5:$H$5,0))),"") -> 102 | C7: =IFERROR(IF(LEN(INDEX(Metrics!$B$6:$H$14,ROW($A7)-ROW($A$5),MATCH(C$5,Metrics!$B$5:$H$5,0)))=0,"",INDEX(Metrics!$B$6:$H$14,ROW($A7)-ROW($A$5),MATCH(C$5,Metrics!$B$5:$H$5,0))),"") -> Profit Metrics | D7: =IFERROR(IF(LEN(INDEX(Metrics!$B$6:$H$14,ROW($A7)-ROW($A$5),MATCH(D$5,Metrics!$B$5:$H$5,0)))=0,"",INDEX(Metrics!$B$6:$H$14,ROW($A7)-ROW($A$5),MATCH(D$5,Metrics!$B$5:$H$5,0))),"") -> Gross Profit Margin | E7: =IFERROR(IF(LEN(INDEX(Metrics!$B$6:$H$14,ROW($A7)-ROW($A$5),MATCH(E$5,Metrics!$B$5:$H$5,0)))=0,"",INDEX(Metrics!$B$6:$H$14,ROW($A7)-ROW($A$5),MATCH(E$5,Metrics!$B$5:$H$5,0))),"") -> % | F7: 0.44296 | G7: 0.50176 | H7: 0.3424512 | I7: 0.36047693 | J7: 0.37191141 | K7: 0.41341083
B8: =IFERROR(IF(LEN(INDEX(Metrics!$B$6:$H$14,ROW($A8)-ROW($A$5),MATCH(B$5,Metrics!$B$5:$H$5,0)))=0,"",INDEX(Metrics!$B$6:$H$14,ROW($A8)-ROW($A$5),MATCH(B$5,Metrics!$B$5:$H$5,0))),"") -> 103 | C8: =IFERROR(IF(LEN(INDEX(Metrics!$B$6:$H$14,ROW($A8)-ROW($A$5),MATCH(C$5,Metrics!$B$5:$H$5,0)))=0,"",INDEX(Metrics!$B$6:$H$14,ROW($A8)-ROW($A$5),MATCH(C$5,Metrics!$B$5:$H$5,0))),"") -> Profit Metrics | D8: =IFERROR(IF(LEN(INDEX(Metrics!$B$6:$H$14,ROW($A8)-ROW($A$5),MATCH(D$5,Metrics!$B$5:$H$5,0)))=0,"",INDEX(Metrics!$B$6:$H$14,ROW($A8)-ROW($A$5),MATCH(D$5,Metrics!$B$5:$H$5,0))),"") -> Net Profit | E8: =IFERROR(IF(LEN(INDEX(Metrics!$B$6:$H$14,ROW($A8)-ROW($A$5),MATCH(E$5,Metrics!$B$5:$H$5,0)))=0,"",INDEX(Metrics!$B$6:$H$14,ROW($A8)-ROW($A$5),MATCH(E$5,Metrics!$B$5:$H$5,0))),"") -> USD | F8: 47402.55 | G8: 50107.2 | H8: 47654.4 | I8: 33879.3 | J8: 50078 | K8: 50348.1
B9: =IFERROR(IF(LEN(INDEX(Metrics!$B$6:$H$14,ROW($A9)-ROW($A$5),MATCH(B$5,Metrics!$B$5:$H$5,0)))=0,"",INDEX(Metrics!$B$6:$H$14,ROW($A9)-ROW($A$5),MATCH(B$5,Metrics!$B$5:$H$5,0))),"") -> 104 | C9: =IFERROR(IF(LEN(INDEX(Metrics!$B$6:$H$14,ROW($A9)-ROW($A$5),MATCH(C$5,Metrics!$B$5:$H$5,0)))=0,"",INDEX(Metrics!$B$6:$H$14,ROW($A9)-ROW($A$5),MATCH(C$5,Metrics!$B$5:$H$5,0))),"") -> Profit Metrics | D9: =IFERROR(IF(LEN(INDEX(Metrics!$B$6:$H$14,ROW($A9)-ROW($A$5),MATCH(D$5,Metrics!$B$5:$H$5,0)))=0,"",INDEX(Metrics!$B$6:$H$14,ROW($A9)-ROW($A$5),MATCH(D$5,Metrics!$B$5:$H$5,0))),"") -> Net Profit Margin | E9: =IFERROR(IF(LEN(INDEX(Metrics!$B$6:$H$14,ROW($A9)-ROW($A$5),MATCH(E$5,Metrics!$B$5:$H$5,0)))=0,"",INDEX(Metrics!$B$6:$H$14,ROW($A9)-ROW($A$5),MATCH(E$5,Metrics!$B$5:$H$5,0))),"") -> % | F9: 0.197372 | G9: 0.1994496 | H9: 0.21141658 | I9: 0.20543309 | J9: 0.20687112 | K9: 0.221235
B10: =IFERROR(IF(LEN(INDEX(Metrics!$B$6:$H$14,ROW($A10)-ROW($A$5),MATCH(B$5,Metrics!$B$5:$H$5,0)))=0,"",INDEX(Metrics!$B$6:$H$14,ROW($A10)-ROW($A$5),MATCH(B$5,Metrics!$B$5:$H$5,0))),"") -> 105 | C10: =IFERROR(IF(LEN(INDEX(Metrics!$B$6:$H$14,ROW($A10)-ROW($A$5),MATCH(C$5,Metrics!$B$5:$H$5,0)))=0,"",INDEX(Metrics!$B$6:$H$14,ROW($A10)-ROW($A$5),MATCH(C$5,Metrics!$B$5:$H$5,0))),"") -> Profit Metrics | D10: =IFERROR(IF(LEN(INDEX(Metrics!$B$6:$H$14,ROW($A10)-ROW($A$5),MATCH(D$5,Metrics!$B$5:$H$5,0)))=0,"",INDEX(Metrics!$B$6:$H$14,ROW($A10)-ROW($A$5),MATCH(D$5,Metrics!$B$5:$H$5,0))),"") -> EBIT | E10: =IFERROR(IF(LEN(INDEX(Metrics!$B$6:$H$14,ROW($A10)-ROW($A$5),MATCH(E$5,Metrics!$B$5:$H$5,0)))=0,"",INDEX(Metrics!$B$6:$H$14,ROW($A10)-ROW($A$5),MATCH(E$5,Metrics!$B$5:$H$5,0))),"") -> USD | F10: 38203.893 | G10: 31471.176 | H10: 43122.56 | I10: 30133.962 | J10: 44262.82 | K10: 37696.996
B11: =IFERROR(IF(LEN(INDEX(Metrics!$B$6:$H$14,ROW($A11)-ROW($A$5),MATCH(B$5,Metrics!$B$5:$H$5,0)))=0,"",INDEX(Metrics!$B$6:$H$14,ROW($A11)-ROW($A$5),MATCH(B$5,Metrics!$B$5:$H$5,0))),"") -> 106 | C11: =IFERROR(IF(LEN(INDEX(Metrics!$B$6:$H$14,ROW($A11)-ROW($A$5),MATCH(C$5,Metrics!$B$5:$H$5,0)))=0,"",INDEX(Metrics!$B$6:$H$14,ROW($A11)-ROW($A$5),MATCH(C$5,Metrics!$B$5:$H$5,0))),"") -> Profit Metrics | D11: =IFERROR(IF(LEN(INDEX(Metrics!$B$6:$H$14,ROW($A11)-ROW($A$5),MATCH(D$5,Metrics!$B$5:$H$5,0)))=0,"",INDEX(Metrics!$B$6:$H$14,ROW($A11)-ROW($A$5),MATCH(D$5,Metrics!$B$5:$H$5,0))),"") -> EBIT Margin | E11: =IFERROR(IF(LEN(INDEX(Metrics!$B$6:$H$14,ROW($A11)-ROW($A$5),MATCH(E$5,Metrics!$B$5:$H$5,0)))=0,"",INDEX(Metrics!$B$6:$H$14,ROW($A11)-ROW($A$5),MATCH(E$5,Metrics!$B$5:$H$5,0))),"") -> % | F11: 0.12926827 | G11: 0.16348634 | H11: 0.13626397 | I11: 0.14411131 | J11: 0.12619138 | K11: 0.14014386
B12: =IFERROR(IF(LEN(INDEX(Metrics!$B$6:$H$14,ROW($A12)-ROW($A$5),MATCH(B$5,Metrics!$B$5:$H$5,0)))=0,"",INDEX(Metrics!$B$6:$H$14,ROW($A12)-ROW($A$5),MATCH(B$5,Metrics!$B$5:$H$5,0))),"") -> 107 | C12: =IFERROR(IF(LEN(INDEX(Metrics!$B$6:$H$14,ROW($A12)-ROW($A$5),MATCH(C$5,Metrics!$B$5:$H$5,0)))=0,"",INDEX(Metrics!$B$6:$H$14,ROW($A12)-ROW($A$5),MATCH(C$5,Metrics!$B$5:$H$5,0))),"") -> Profit Metrics | D12: =IFERROR(IF(LEN(INDEX(Metrics!$B$6:$H$14,ROW($A12)-ROW($A$5),MATCH(D$5,Metrics!$B$5:$H$5,0)))=0,"",INDEX(Metrics!$B$6:$H$14,ROW($A12)-ROW($A$5),MATCH(D$5,Metrics!$B$5:$H$5,0))),"") -> Operating Expense Ratio | E12: =IFERROR(IF(LEN(INDEX(Metrics!$B$6:$H$14,ROW($A12)-ROW($A$5),MATCH(E$5,Metrics!$B$5:$H$5,0)))=0,"",INDEX(Metrics!$B$6:$H$14,ROW($A12)-ROW($A$5),MATCH(E$5,Metrics!$B$5:$H$5,0))),"") -> % | F12: 0.36727397 | G12: 0.3322955 | H12: 0.34418818 | I12: 0.28822262 | J12: 0.29571641 | K12: 0.34919179
B13: =IFERROR(IF(LEN(INDEX(Metrics!$B$6:$H$14,ROW($A13)-ROW($A$5),MATCH(B$5,Metrics!$B$5:$H$5,0)))=0,"",INDEX(Metrics!$B$6:$H$14,ROW($A13)-ROW($A$5),MATCH(B$5,Metrics!$B$5:$H$5,0))),"") -> 108 | C13: =IFERROR(IF(LEN(INDEX(Metrics!$B$6:$H$14,ROW($A13)-ROW($A$5),MATCH(C$5,Metrics!$B$5:$H$5,0)))=0,"",INDEX(Metrics!$B$6:$H$14,ROW($A13)-ROW($A$5),MATCH(C$5,Metrics!$B$5:$H$5,0))),"") -> Profit Metrics | D13: =IFERROR(IF(LEN(INDEX(Metrics!$B$6:$H$14,ROW($A13)-ROW($A$5),MATCH(D$5,Metrics!$B$5:$H$5,0)))=0,"",INDEX(Metrics!$B$6:$H$14,ROW($A13)-ROW($A$5),MATCH(D$5,Metrics!$B$5:$H$5,0))),"") | E13: =IFERROR(IF(LEN(INDEX(Metrics!$B$6:$H$14,ROW($A13)-ROW($A$5),MATCH(E$5,Metrics!$B$5:$H$5,0)))=0,"",INDEX(Metrics!$B$6:$H$14,ROW($A13)-ROW($A$5),MATCH(E$5,Metrics!$B$5:$H$5,0))),"")
B14: =IFERROR(IF(LEN(INDEX(Metrics!$B$6:$H$14,ROW($A14)-ROW($A$5),MATCH(B$5,Metrics!$B$5:$H$5,0)))=0,"",INDEX(Metrics!$B$6:$H$14,ROW($A14)-ROW($A$5),MATCH(B$5,Metrics!$B$5:$H$5,0))),"") -> 109 | C14: =IFERROR(IF(LEN(INDEX(Metrics!$B$6:$H$14,ROW($A14)-ROW($A$5),MATCH(C$5,Metrics!$B$5:$H$5,0)))=0,"",INDEX(Metrics!$B$6:$H$14,ROW($A14)-ROW($A$5),MATCH(C$5,Metrics!$B$5:$H$5,0))),"") -> Profit Metrics | D14: =IFERROR(IF(LEN(INDEX(Metrics!$B$6:$H$14,ROW($A14)-ROW($A$5),MATCH(D$5,Metrics!$B$5:$H$5,0)))=0,"",INDEX(Metrics!$B$6:$H$14,ROW($A14)-ROW($A$5),MATCH(D$5,Metrics!$B$5:$H$5,0))),"") | E14: =IFERROR(IF(LEN(INDEX(Metrics!$B$6:$H$14,ROW($A14)-ROW($A$5),MATCH(E$5,Metrics!$B$5:$H$5,0)))=0,"",INDEX(Metrics!$B$6:$H$14,ROW($A14)-ROW($A$5),MATCH(E$5,Metrics!$B$5:$H$5,0))),"")
B15: 201 | C15: Cash Flow Metrics | D15: Current Ratio | E15: %
B16: 202 | C16: Cash Flow Metrics | D16: Accounts Payable Trunover Ratio | E16: #
B17: 203 | C17: Cash Flow Metrics | D17: Accounts Receivable Days | E17: Days
B18: 204 | C18: Cash Flow Metrics | D18: Accounts Receivable Trunover Ratio | E18: #
B19: 205 | C19: Cash Flow Metrics
B20: 206 | C20: Cash Flow Metrics

Sheet PY_Actual
C2: FINANCE KPI DASHBOARD
C3: PREVIOUS YEAR ACTUALS
B5: KPI Code | C5: KPI Group | D5: Criteria | E5: Unit | F5: =IFERROR(INDEX(Calc!$I$7:$I$18,COLUMN(PY_Actual!F4)-COLUMN(PY_Actual!$E$4)),"") -> Jan 2021 | G5: =IFERROR(INDEX(Calc!$I$7:$I$18,COLUMN(PY_Actual!G4)-COLUMN(PY_Actual!$E$4)),"") -> Feb 2021 | H5: =IFERROR(INDEX(Calc!$I$7:$I$18,COLUMN(PY_Actual!H4)-COLUMN(PY_Actual!$E$4)),"") -> Mar 2021 | I5: =IFERROR(INDEX(Calc!$I$7:$I$18,COLUMN(PY_Actual!I4)-COLUMN(PY_Actual!$E$4)),"") -> Apr 2021 | J5: =IFERROR(INDEX(Calc!$I$7:$I$18,COLUMN(PY_Actual!J4)-COLUMN(PY_Actual!$E$4)),"") -> May 2021 | K5: =IFERROR(INDEX(Calc!$I$7:$I$18,COLUMN(PY_Actual!K4)-COLUMN(PY_Actual!$E$4)),"") -> Jun 2021 | L5: =IFERROR(INDEX(Calc!$I$7:$I$18,COLUMN(PY_Actual!L4)-COLUMN(PY_Actual!$E$4)),"") -> Jul 2021 | M5: =IFERROR(INDEX(Calc!$I$7:$I$18,COLUMN(PY_Actual!M4)-COLUMN(PY_Actual!$E$4)),"") -> Aug 2021 | ... Q5: =IFERROR(INDEX(Calc!$I$7:$I$18,COLUMN(PY_Actual!Q4)-COLUMN(PY_Actual!$E$4)),"") -> Dec 2021
B6: =IFERROR(IF(LEN(INDEX(Metrics!$B$6:$H$14,ROW($A6)-ROW($A$5),MATCH(B$5,Metrics!$B$5:$H$5,0)))=0,"",INDEX(Metrics!$B$6:$H$14,ROW($A6)-ROW($A$5),MATCH(B$5,Metrics!$B$5:$H$5,0))),"") -> 101 | C6: =IFERROR(IF(LEN(INDEX(Metrics!$B$6:$H$14,ROW($A6)-ROW($A$5),MATCH(C$5,Metrics!$B$5:$H$5,0)))=0,"",INDEX(Metrics!$B$6:$H$14,ROW($A6)-ROW($A$5),MATCH(C$5,Metrics!$B$5:$H$5,0))),"") -> Profit Metrics | D6: =IFERROR(IF(LEN(INDEX(Metrics!$B$6:$H$14,ROW($A6)-ROW($A$5),MATCH(D$5,Metrics!$B$5:$H$5,0)))=0,"",INDEX(Metrics!$B$6:$H$14,ROW($A6)-ROW($A$5),MATCH(D$5,Metrics!$B$5:$H$5,0))),"") -> Gross Profit | E6: =IFERROR(IF(LEN(INDEX(Metrics!$B$6:$H$14,ROW($A6)-ROW($A$5),MATCH(E$5,Metrics!$B$5:$H$5,0)))=0,"",INDEX(Metrics!$B$6:$H$14,ROW($A6)-ROW($A$5),MATCH(E$5,Metrics!$B$5:$H$5,0))),"") -> USD | F6: 66326.04 | G6: 59427.685 | H6: 52812.109 | I6: 64380.476 | J6: 66271.225 | K6: 46885.476
B7: =IFERROR(IF(LEN(INDEX(Metrics!$B$6:$H$14,ROW($A7)-ROW($A$5),MATCH(B$5,Metrics!$B$5:$H$5,0)))=0,"",INDEX(Metrics!$B$6:$H$14,ROW($A7)-ROW($A$5),MATCH(B$5,Metrics!$B$5:$H$5,0))),"") -> 102 | C7: =IFERROR(IF(LEN(INDEX(Metrics!$B$6:$H$14,ROW($A7)-ROW($A$5),MATCH(C$5,Metrics!$B$5:$H$5,0)))=0,"",INDEX(Metrics!$B$6:$H$14,ROW($A7)-ROW($A$5),MATCH(C$5,Metrics!$B$5:$H$5,0))),"") -> Profit Metrics | D7: =IFERROR(IF(LEN(INDEX(Metrics!$B$6:$H$14,ROW($A7)-ROW($A$5),MATCH(D$5,Metrics!$B$5:$H$5,0)))=0,"",INDEX(Metrics!$B$6:$H$14,ROW($A7)-ROW($A$5),MATCH(D$5,Metrics!$B$5:$H$5,0))),"") -> Gross Profit Margin | E7: =IFERROR(IF(LEN(INDEX(Metrics!$B$6:$H$14,ROW($A7)-ROW($A$5),MATCH(E$5,Metrics!$B$5:$H$5,0)))=0,"",INDEX(Metrics!$B$6:$H$14,ROW($A7)-ROW($A$5),MATCH(E$5,Metrics!$B$5:$H$5,0))),"") -> % | F7: 0.39462875 | G7: 0.3700305 | H7: 0.29752025 | I7: 0.40086939 | J7: 0.46588643 | K7: 0.24188948
B8: =IFERROR(IF(LEN(INDEX(Metrics!$B$6:$H$14,ROW($A8)-ROW($A$5),MATCH(B$5,Metrics!$B$5:$H$5,0)))=0,"",INDEX(Metrics!$B$6:$H$14,ROW($A8)-ROW($A$5),MATCH(B$5,Metrics!$B$5:$H$5,0))),"") -> 103 | C8: =IFERROR(IF(LEN(INDEX(Metrics!$B$6:$H$14,ROW($A8)-ROW($A$5),MATCH(C$5,Metrics!$B$5:$H$5,0)))=0,"",INDEX(Metrics!$B$6:$H$14,ROW($A8)-ROW($A$5),MATCH(C$5,Metrics!$B$5:$H$5,0))),"") -> Profit Metrics | D8: =IFERROR(IF(LEN(INDEX(Metrics!$B$6:$H$14,ROW($A8)-ROW($A$5),MATCH(D$5,Metrics!$B$5:$H$5,0)))=0,"",INDEX(Metrics!$B$6:$H$14,ROW($A8)-ROW($A$5),MATCH(D$5,Metrics!$B$5:$H$5,0))),"") -> Net Profit | E8: =IFERROR(IF(LEN(INDEX(Metrics!$B$6:$H$14,ROW($A8)-ROW($A$5),MATCH(E$5,Metrics!$B$5:$H$5,0)))=0,"",INDEX(Metrics!$B$6:$H$14,ROW($A8)-ROW($A$5),MATCH(E$5,Metrics!$B$5:$H$5,0))),"") -> USD | F8: 50569.921 | G8: 41432.448 | H8: 36716.99 | I8: 40219.226 | J8: 49418.381 | K8: 32270.603
B9: =IFERROR(IF(LEN(INDEX(Metrics!$B$6:$H$14,ROW($A9)-ROW($A$5),MATCH(B$5,Metrics!$B$5:$H$5,0)))=0,"",INDEX(Metrics!$B$6:$H$14,ROW($A9)-ROW($A$5),MATCH(B$5,Metrics!$B$5:$H$5,0))),"") -> 104 | C9: =IFERROR(IF(LEN(INDEX(Metrics!$B$6:$H$14,ROW($A9)-ROW($A$5),MATCH(C$5,Metrics!$B$5:$H$5,0)))=0,"",INDEX(Metrics!$B$6:$H$14,ROW($A9)-ROW($A$5),MATCH(C$5,Metrics!$B$5:$H$5,0))),"") -> Profit Metrics | D9: =IFERROR(IF(LEN(INDEX(Metrics!$B$6:$H$14,ROW($A9)-ROW($A$5),MATCH(D$5,Metrics!$B$5:$H$5,0)))=0,"",INDEX(Metrics!$B$6:$H$14,ROW($A9)-ROW($A$5),MATCH(D$5,Metrics!$B$5:$H$5,0))),"") -> Net Profit Margin | E9: =IFERROR(IF(LEN(INDEX(Metrics!$B$6:$H$14,ROW($A9)-ROW($A$5),MATCH(E$5,Metrics!$B$5:$H$5,0)))=0,"",INDEX(Metrics!$B$6:$H$14,ROW($A9)-ROW($A$5),MATCH(E$5,Metrics!$B$5:$H$5,0))),"") -> % | F9: 0.23347338 | G9: 0.18950551 | H9: 0.16930468 | I9: 0.19611764 | J9: 0.23516172 | K9: 0.1444108
B10: =IFERROR(IF(LEN(INDEX(Metrics!$B$6:$H$14,ROW($A10)-ROW($A$5),MATCH(B$5,Metrics!$B$5:$H$5,0)))=0,"",INDEX(Metrics!$B$6:$H$14,ROW($A10)-ROW($A$5),MATCH(B$5,Metrics!$B$5:$H$5,0))),"") -> 105 | C10: =IFERROR(IF(LEN(INDEX(Metrics!$B$6:$H$14,ROW($A10)-ROW($A$5),MATCH(C$5,Metrics!$B$5:$H$5,0)))=0,"",INDEX(Metrics!$B$6:$H$14,ROW($A10)-ROW($A$5),MATCH(C$5,Metrics!$B$5:$H$5,0))),"") -> Profit Metrics | D10: =IFERROR(IF(LEN(INDEX(Metrics!$B$6:$H$14,ROW($A10)-ROW($A$5),MATCH(D$5,Metrics!$B$5:$H$5,0)))=0,"",INDEX(Metrics!$B$6:$H$14,ROW($A10)-ROW($A$5),MATCH(D$5,Metrics!$B$5:$H$5,0))),"") -> EBIT | E10: =IFERROR(IF(LEN(INDEX(Metrics!$B$6:$H$14,ROW($A10)-ROW($A$5),MATCH(E$5,Metrics!$B$5:$H$5,0)))=0,"",INDEX(Metrics!$B$6:$H$14,ROW($A10)-ROW($A$5),MATCH(E$5,Metrics!$B$5:$H$5,0))),"") -> USD | F10: 39342.322 | G10: 34608.28 | H10: 26851.135 | I10: 28555.651 | J10: 35825.725 | K10: 22449.257
B11: =IFERROR(IF(LEN(INDEX(Metrics!$B$6:$H$14,ROW($A11)-ROW($A$5),MATCH(B$5,Metrics!$B$5:$H$5,0)))=0,"",INDEX(Metrics!$B$6:$H$14,ROW($A11)-ROW($A$5),MATCH(B$5,Metrics!$B$5:$H$5,0))),"") -> 106 | C11: =IFERROR(IF(LEN(INDEX(Metrics!$B$6:$H$14,ROW($A11)-ROW($A$5),MATCH(C$5,Metrics!$B$5:$H$5,0)))=0,"",INDEX(Metrics!$B$6:$H$14,ROW($A11)-ROW($A$5),MATCH(C$5,Metrics!$B$5:$H$5,0))),"") -> Profit Metrics | D11: =IFERROR(IF(LEN(INDEX(Metrics!$B$6:$H$14,ROW($A11)-ROW($A$5),MATCH(D$5,Metrics!$B$5:$H$5,0)))=0,"",INDEX(Metrics!$B$6:$H$14,ROW($A11)-ROW($A$5),MATCH(D$5,Metrics!$B$5:$H$5,0))),"") -> EBIT Margin | E11: =IFERROR(IF(LEN(INDEX(Metrics!$B$6:$H$14,ROW($A11)-ROW($A$5),MATCH(E$5,Metrics!$B$5:$H$5,0)))=0,"",INDEX(Metrics!$B$6:$H$14,ROW($A11)-ROW($A$5),MATCH(E$5,Metrics!$B$5:$H$5,0))),"") -> % | F11: 0.12609994 | G11: 0.11425419 | H11: 0.093150771 | I11: 0.10717012 | J11: 0.13340724 | K11: 0.094382774
B12: =IFERROR(IF(LEN(INDEX(Metrics!$B$6:$H$14,ROW($A12)-ROW($A$5),MATCH(B$5,Metrics!$B$5:$H$5,0)))=0,"",INDEX(Metrics!$B$6:$H$14,ROW($A12)-ROW($A$5),MATCH(B$5,Metrics!$B$5:$H$5,0))),"") -> 107 | C12: =IFERROR(IF(LEN(INDEX(Metrics!$B$6:$H$14,ROW($A12)-ROW($A$5),MATCH(C$5,Metrics!$B$5:$H$5,0)))=0,"",INDEX(Metrics!$B$6:$H$14,ROW($A12)-ROW($A$5),MATCH(C$5,Metrics!$B$5:$H$5,0))),"") -> Profit Metrics | D12: =IFERROR(IF(LEN(INDEX(Metrics!$B$6:$H$14,ROW($A12)-ROW($A$5),MATCH(D$5,Metrics!$B$5:$H$5,0)))=0,"",INDEX(Metrics!$B$6:$H$14,ROW($A12)-ROW($A$5),MATCH(D$5,Metrics!$B$5:$H$5,0))),"") -> Operating Expense Ratio | E12: =IFERROR(IF(LEN(INDEX(Metrics!$B$6:$H$14,ROW($A12)-ROW($A$5),MATCH(E$5,Metrics!$B$5:$H$5,0)))=0,"",INDEX(Metrics!$B$6:$H$14,ROW($A12)-ROW($A$5),MATCH(E$5,Metrics!$B$5:$H$5,0))),"") -> % | F12: 0.29685411 | G12: 0.28133415 | H12: 0.22589062 | I12: 0.29808247 | J12: 0.33323121 | K12: 0.21708038
B13: =IFERROR(IF(LEN(INDEX(Metrics!$B$6:$H$14,ROW($A13)-ROW($A$5),MATCH(B$5,Metrics!$B$5:$H$5,0)))=0,"",INDEX(Metrics!$B$6:$H$14,ROW($A13)-ROW($A$5),MATCH(B$5,Metrics!$B$5:$H$5,0))),"") -> 108 | C13: =IFERROR(IF(LEN(INDEX(Metrics!$B$6:$H$14,ROW($A13)-ROW($A$5),MATCH(C$5,Metrics!$B$5:$H$5,0)))=0,"",INDEX(Metrics!$B$6:$H$14,ROW($A13)-ROW($A$5),MATCH(C$5,Metrics!$B$5:$H$5,0))),"") -> Profit Metrics | D13: =IFERROR(IF(LEN(INDEX(Metrics!$B$6:$H$14,ROW($A13)-ROW($A$5),MATCH(D$5,Metrics!$B$5:$H$5,0)))=0,"",INDEX(Metrics!$B$6:$H$14,ROW($A13)-ROW($A$5),MATCH(D$5,Metrics!$B$5:$H$5,0))),"") | E13: =IFERROR(IF(LEN(INDEX(Metrics!$B$6:$H$14,ROW($A13)-ROW($A$5),MATCH(E$5,Metrics!$B$5:$H$5,0)))=0,"",INDEX(Metrics!$B$6:$H$14,ROW($A13)-ROW($A$5),MATCH(E$5,Metrics!$B$5:$H$5,0))),"")
B14: =IFERROR(IF(LEN(INDEX(Metrics!$B$6:$H$14,ROW($A14)-ROW($A$5),MATCH(B$5,Metrics!$B$5:$H$5,0)))=0,"",INDEX(Metrics!$B$6:$H$14,ROW($A14)-ROW($A$5),MATCH(B$5,Metrics!$B$5:$H$5,0))),"") -> 109 | C14: =IFERROR(IF(LEN(INDEX(Metrics!$B$6:$H$14,ROW($A14)-ROW($A$5),MATCH(C$5,Metrics!$B$5:$H$5,0)))=0,"",INDEX(Metrics!$B$6:$H$14,ROW($A14)-ROW($A$5),MATCH(C$5,Metrics!$B$5:$H$5,0))),"") -> Profit Metrics | D14: =IFERROR(IF(LEN(INDEX(Metrics!$B$6:$H$14,ROW($A14)-ROW($A$5),MATCH(D$5,Metrics!$B$5:$H$5,0)))=0,"",INDEX(Metrics!$B$6:$H$14,ROW($A14)-ROW($A$5),MATCH(D$5,Metrics!$B$5:$H$5,0))),"") | E14: =IFERROR(IF(LEN(INDEX(Metrics!$B$6:$H$14,ROW($A14)-ROW($A$5),MATCH(E$5,Metrics!$B$5:$H$5,0)))=0,"",INDEX(Metrics!$B$6:$H$14,ROW($A14)-ROW($A$5),MATCH(E$5,Metrics!$B$5:$H$5,0))),"")
B15: 201 | C15: Cash Flow Metrics | D15: Current Ratio | E15: %
B16: 202 | C16: Cash Flow Metrics | D16: Accounts Payable Trunover Ratio | E16: #
B17: 203 | C17: Cash Flow Metrics | D17: Accounts Receivable Days | E17: Days
B18: 204 | C18: Cash Flow Metrics | D18: Accounts Receivable Trunover Ratio | E18: #
B19: 205 | C19: Cash Flow Metrics
B20: 206 | C20: Cash Flow Metrics

Sheet CY_Actual_Cumulative
C2: FINANCE KPI DASHBOARD
C3: CURRENT YEAR ACTUALS - CUMULATIVE
B5: KPI Code | C5: KPI Group | D5: Criteria | E5: Unit | F5: =IFERROR(INDEX(Calc!$H$7:$H$18,COLUMN(CY_Actual_Cumulative!F4)-COLUMN(CY_Actual_Cumulative!$E$4)),"") -> Jan 2022 | G5: =IFERROR(INDEX(Calc!$H$7:$H$18,COLUMN(CY_Actual_Cumulative!G4)-COLUMN(CY_Actual_Cumulative!$E$4)),"") -> Feb 2022 | H5: =IFERROR(INDEX(Calc!$H$7:$H$18,COLUMN(CY_Actual_Cumulative!H4)-COLUMN(CY_Actual_Cumulative!$E$4)),"") -> Mar 2022 | I5: =IFERROR(INDEX(Calc!$H$7:$H$18,COLUMN(CY_Actual_Cumulative!I4)-COLUMN(CY_Actual_Cumulative!$E$4)),"") -> Apr 2022 | J5: =IFERROR(INDEX(Calc!$H$7:$H$18,COLUMN(CY_Actual_Cumulative!J4)-COLUMN(CY_Actual_Cumulative!$E$4)),"") -> May 2022 | K5: =IFERROR(INDEX(Calc!$H$7:$H$18,COLUMN(CY_Actual_Cumulative!K4)-COLUMN(CY_Actual_Cumulative!$E$4)),"") -> Jun 2022 | L5: =IFERROR(INDEX(Calc!$H$7:$H$18,COLUMN(CY_Actual_Cumulative!L4)-COLUMN(CY_Actual_Cumulative!$E$4)),"") -> Jul 2022 | M5: =IFERROR(INDEX(Calc!$H$7:$H$18,COLUMN(CY_Actual_Cumulative!M4)-COLUMN(CY_Actual_Cumulative!$E$4)),"") -> Aug 2022 | ... Q5: =IFERROR(INDEX(Calc!$H$7:$H$18,COLUMN(CY_Actual_Cumulative!Q4)-COLUMN(CY_Actual_Cumulative!$E$4)),"") -> Dec 2022
B6: =IFERROR(IF(LEN(INDEX(Metrics!$B$6:$E$14,ROW($A6)-ROW($A$5),MATCH(B$5,Metrics!$B$5:$E$5,0)))=0,"",INDEX(Metrics!$B$6:$E$14,ROW($A6)-ROW($A$5),MATCH(B$5,Metrics!$B$5:$E$5,0))),"") -> 101 | C6: =IFERROR(IF(LEN(INDEX(Metrics!$B$6:$E$14,ROW($A6)-ROW($A$5),MATCH(C$5,Metrics!$B$5:$E$5,0)))=0,"",INDEX(Metrics!$B$6:$E$14,ROW($A6)-ROW($A$5),MATCH(C$5,Metrics!$B$5:$E$5,0))),"") -> Profit Metrics | D6: =IFERROR(IF(LEN(INDEX(Metrics!$B$6:$E$14,ROW($A6)-ROW($A$5),MATCH(D$5,Metrics!$B$5:$E$5,0)))=0,"",INDEX(Metrics!$B$6:$E$14,ROW($A6)-ROW($A$5),MATCH(D$5,Metrics!$B$5:$E$5,0))),"") -> Gross Profit | E6: =IFERROR(IF(LEN(INDEX(Metrics!$B$6:$E$14,ROW($A6)-ROW($A$5),MATCH(E$5,Metrics!$B$5:$E$5,0)))=0,"",INDEX(Metrics!$B$6:$E$14,ROW($A6)-ROW($A$5),MATCH(E$5,Metrics!$B$5:$E$5,0))),"") -> USD | F6: =IFERROR(IF(INDEX(Metrics!$G$6:$G$14,MATCH(CY_Actual_Cumulative!$D6,Metrics!$D$6:$D$14,0))=Calc!$K$8,SUM(CY_Actual!$F6:F6),AVERAGE(CY_Actual!$F6:F6)),"") -> 58500 | G6: =IFERROR(IF(INDEX(Metrics!$G$6:$G$14,MATCH(CY_Actual_Cumulative!$D6,Metrics!$D$6:$D$14,0))=Calc!$K$8,SUM(CY_Actual!$F6:G6),AVERAGE(CY_Actual!$F6:G6)),"") -> 124500 | H6: =IFERROR(IF(INDEX(Metrics!$G$6:$G$14,MATCH(CY_Actual_Cumulative!$D6,Metrics!$D$6:$D$14,0))=Calc!$K$8,SUM(CY_Actual!$F6:H6),AVERAGE(CY_Actual!$F6:H6)),"") -> 188500 | I6: =IFERROR(IF(INDEX(Metrics!$G$6:$G$14,MATCH(CY_Actual_Cumulative!$D6,Metrics!$D$6:$D$14,0))=Calc!$K$8,SUM(CY_Actual!$F6:I6),AVERAGE(CY_Actual!$F6:I6)),"") -> 239500 | J6: =IFERROR(IF(INDEX(Metrics!$G$6:$G$14,MATCH(CY_Actual_Cumulative!$D6,Metrics!$D$6:$D$14,0))=Calc!$K$8,SUM(CY_Actual!$F6:J6),AVERAGE(CY_Actual!$F6:J6)),"") -> 309500 | K6: =IFERROR(IF(INDEX(Metrics!$G$6:$G$14,MATCH(CY_Actual_Cumulative!$D6,Metrics!$D$6:$D$14,0))=Calc!$K$8,SUM(CY_Actual!$F6:K6),AVERAGE(CY_Actual!$F6:K6)),"") -> 372200 | L6: =IFERROR(IF(INDEX(Metrics!$G$6:$G$14,MATCH(CY_Actual_Cumulative!$D6,Metrics!$D$6:$D$14,0))=Calc!$K$8,SUM(CY_Actual!$F6:L6),AVERAGE(CY_Actual!$F6:L6)),"") -> 372200 | M6: =IFERROR(IF(INDEX(Metrics!$G$6:$G$14,MATCH(CY_Actual_Cumulative!$D6,Metrics!$D$6:$D$14,0))=Calc!$K$8,SUM(CY_Actual!$F6:M6),AVERAGE(CY_Actual!$F6:M6)),"") -> 372200 | ... Q6: =IFERROR(IF(INDEX(Metrics!$G$6:$G$14,MATCH(CY_Actual_Cumulative!$D6,Metrics!$D$6:$D$14,0))=Calc!$K$8,SUM(CY_Actual!$F6:Q6),AVERAGE(CY_Actual!$F6:Q6)),"") -> 372200
B7: =IFERROR(IF(LEN(INDEX(Metrics!$B$6:$E$14,ROW($A7)-ROW($A$5),MATCH(B$5,Metrics!$B$5:$E$5,0)))=0,"",INDEX(Metrics!$B$6:$E$14,ROW($A7)-ROW($A$5),MATCH(B$5,Metrics!$B$5:$E$5,0))),"") -> 102 | C7: =IFERROR(IF(LEN(INDEX(Metrics!$B$6:$E$14,ROW($A7)-ROW($A$5),MATCH(C$5,Metrics!$B$5:$E$5,0)))=0,"",INDEX(Metrics!$B$6:$E$14,ROW($A7)-ROW($A$5),MATCH(C$5,Metrics!$B$5:$E$5,0))),"") -> Profit Metrics | D7: =IFERROR(IF(LEN(INDEX(Metrics!$B$6:$E$14,ROW($A7)-ROW($A$5),MATCH(D$5,Metrics!$B$5:$E$5,0)))=0,"",INDEX(Metrics!$B$6:$E$14,ROW($A7)-ROW($A$5),MATCH(D$5,Metrics!$B$5:$E$5,0))),"") -> Gross Profit Margin | E7: =IFERROR(IF(LEN(INDEX(Metrics!$B$6:$E$14,ROW($A7)-ROW($A$5),MATCH(E$5,Metrics!$B$5:$E$5,0)))=0,"",INDEX(Metrics!$B$6:$E$14,ROW($A7)-ROW($A$5),MATCH(E$5,Metrics!$B$5:$E$5,0))),"") -> % | F7: =IFERROR(IF(INDEX(Metrics!$G$6:$G$14,MATCH(CY_Actual_Cumulative!$D7,Metrics!$D$6:$D$14,0))=Calc!$K$8,SUM(CY_Actual!$F7:F7),AVERAGE(CY_Actual!$F7:F7)),"") -> 0.392 | G7: =IFERROR(IF(INDEX(Metrics!$G$6:$G$14,MATCH(CY_Actual_Cumulative!$D7,Metrics!$D$6:$D$14,0))=Calc!$K$8,SUM(CY_Actual!$F7:G7),AVERAGE(CY_Actual!$F7:G7)),"") -> 0.392 | H7: =IFERROR(IF(INDEX(Metrics!$G$6:$G$14,MATCH(CY_Actual_Cumulative!$D7,Metrics!$D$6:$D$14,0))=Calc!$K$8,SUM(CY_Actual!$F7:H7),AVERAGE(CY_Actual!$F7:H7)),"") -> 0.38677333 | I7: =IFERROR(IF(INDEX(Metrics!$G$6:$G$14,MATCH(CY_Actual_Cumulative!$D7,Metrics!$D$6:$D$14,0))=Calc!$K$8,SUM(CY_Actual!$F7:I7),AVERAGE(CY_Actual!$F7:I7)),"") -> 0.3869824 | J7: =IFERROR(IF(INDEX(Metrics!$G$6:$G$14,MATCH(CY_Actual_Cumulative!$D7,Metrics!$D$6:$D$14,0))=Calc!$K$8,SUM(CY_Actual!$F7:J7),AVERAGE(CY_Actual!$F7:J7)),"") -> 0.38323174 | K7: =IFERROR(IF(INDEX(Metrics!$G$6:$G$14,MATCH(CY_Actual_Cumulative!$D7,Metrics!$D$6:$D$14,0))=Calc!$K$8,SUM(CY_Actual!$F7:K7),AVERAGE(CY_Actual!$F7:K7)),"") -> 0.38625474 | L7: =IFERROR(IF(INDEX(Metrics!$G$6:$G$14,MATCH(CY_Actual_Cumulative!$D7,Metrics!$D$6:$D$14,0))=Calc!$K$8,SUM(CY_Actual!$F7:L7),AVERAGE(CY_Actual!$F7:L7)),"") -> 0.38625474 | M7: =IFERROR(IF(INDEX(Metrics!$G$6:$G$14,MATCH(CY_Actual_Cumulative!$D7,Metrics!$D$6:$D$14,0))=Calc!$K$8,SUM(CY_Actual!$F7:M7),AVERAGE(CY_Actual!$F7:M7)),"") -> 0.38625474 | ... Q7: =IFERROR(IF(INDEX(Metrics!$G$6:$G$14,MATCH(CY_Actual_Cumulative!$D7,Metrics!$D$6:$D$14,0))=Calc!$K$8,SUM(CY_Actual!$F7:Q7),AVERAGE(CY_Actual!$F7:Q7)),"") -> 0.38625474
B8: =IFERROR(IF(LEN(INDEX(Metrics!$B$6:$E$14,ROW($A8)-ROW($A$5),MATCH(B$5,Metrics!$B$5:$E$5,0)))=0,"",INDEX(Metrics!$B$6:$E$14,ROW($A8)-ROW($A$5),MATCH(B$5,Metrics!$B$5:$E$5,0))),"") -> 103 | C8: =IFERROR(IF(LEN(INDEX(Metrics!$B$6:$E$14,ROW($A8)-ROW($A$5),MATCH(C$5,Metrics!$B$5:$E$5,0)))=0,"",INDEX(Metrics!$B$6:$E$14,ROW($A8)-ROW($A$5),MATCH(C$5,Metrics!$B$5:$E$5,0))),"") -> Profit Metrics | D8: =IFERROR(IF(LEN(INDEX(Metrics!$B$6:$E$14,ROW($A8)-ROW($A$5),MATCH(D$5,Metrics!$B$5:$E$5,0)))=0,"",INDEX(Metrics!$B$6:$E$14,ROW($A8)-ROW($A$5),MATCH(D$5,Metrics!$B$5:$E$5,0))),"") -> Net Profit | E8: =IFERROR(IF(LEN(INDEX(Metrics!$B$6:$E$14,ROW($A8)-ROW($A$5),MATCH(E$5,Metrics!$B$5:$E$5,0)))=0,"",INDEX(Metrics!$B$6:$E$14,ROW($A8)-ROW($A$5),MATCH(E$5,Metrics!$B$5:$E$5,0))),"") -> USD | F8: =IFERROR(IF(INDEX(Metrics!$G$6:$G$14,MATCH(CY_Actual_Cumulative!$D8,Metrics!$D$6:$D$14,0))=Calc!$K$8,SUM(CY_Actual!$F8:F8),AVERAGE(CY_Actual!$F8:F8)),"") -> 42705 | G8: =IFERROR(IF(INDEX(Metrics!$G$6:$G$14,MATCH(CY_Actual_Cumulative!$D8,Metrics!$D$6:$D$14,0))=Calc!$K$8,SUM(CY_Actual!$F8:G8),AVERAGE(CY_Actual!$F8:G8)),"") -> 90885 | H8: =IFERROR(IF(INDEX(Metrics!$G$6:$G$14,MATCH(CY_Actual_Cumulative!$D8,Metrics!$D$6:$D$14,0))=Calc!$K$8,SUM(CY_Actual!$F8:H8),AVERAGE(CY_Actual!$F8:H8)),"") -> 137605 | I8: =IFERROR(IF(INDEX(Metrics!$G$6:$G$14,MATCH(CY_Actual_Cumulative!$D8,Metrics!$D$6:$D$14,0))=Calc!$K$8,SUM(CY_Actual!$F8:I8),AVERAGE(CY_Actual!$F8:I8)),"") -> 174835 | J8: =IFERROR(IF(INDEX(Metrics!$G$6:$G$14,MATCH(CY_Actual_Cumulative!$D8,Metrics!$D$6:$D$14,0))=Calc!$K$8,SUM(CY_Actual!$F8:J8),AVERAGE(CY_Actual!$F8:J8)),"") -> 225935 | K8: =IFERROR(IF(INDEX(Metrics!$G$6:$G$14,MATCH(CY_Actual_Cumulative!$D8,Metrics!$D$6:$D$14,0))=Calc!$K$8,SUM(CY_Actual!$F8:K8),AVERAGE(CY_Actual!$F8:K8)),"") -> 271706 | L8: =IFERROR(IF(INDEX(Metrics!$G$6:$G$14,MATCH(CY_Actual_Cumulative!$D8,Metrics!$D$6:$D$14,0))=Calc!$K$8,SUM(CY_Actual!$F8:L8),AVERAGE(CY_Actual!$F8:L8)),"") -> 271706 | M8: =IFERROR(IF(INDEX(Metrics!$G$6:$G$14,MATCH(CY_Actual_Cumulative!$D8,Metrics!$D$6:$D$14,0))=Calc!$K$8,SUM(CY_Actual!$F8:M8),AVERAGE(CY_Actual!$F8:M8)),"") -> 271706 | ... Q8: =IFERROR(IF(INDEX(Metrics!$G$6:$G$14,MATCH(CY_Actual_Cumulative!$D8,Metrics!$D$6:$D$14,0))=Calc!$K$8,SUM(CY_Actual!$F8:Q8),AVERAGE(CY_Actual!$F8:Q8)),"") -> 271706
B9: =IFERROR(IF(LEN(INDEX(Metrics!$B$6:$E$14,ROW($A9)-ROW($A$5),MATCH(B$5,Metrics!$B$5:$E$5,0)))=0,"",INDEX(Metrics!$B$6:$E$14,ROW($A9)-ROW($A$5),MATCH(B$5,Metrics!$B$5:$E$5,0))),"") -> 104 | C9: =IFERROR(IF(LEN(INDEX(Metrics!$B$6:$E$14,ROW($A9)-ROW($A$5),MATCH(C$5,Metrics!$B$5:$E$5,0)))=0,"",INDEX(Metrics!$B$6:$E$14,ROW($A9)-ROW($A$5),MATCH(C$5,Metrics!$B$5:$E$5,0))),"") -> Profit Metrics | D9: =IFERROR(IF(LEN(INDEX(Metrics!$B$6:$E$14,ROW($A9)-ROW($A$5),MATCH(D$5,Metrics!$B$5:$E$5,0)))=0,"",INDEX(Metrics!$B$6:$E$14,ROW($A9)-ROW($A$5),MATCH(D$5,Metrics!$B$5:$E$5,0))),"") -> Net Profit Margin | E9: =IFERROR(IF(LEN(INDEX(Metrics!$B$6:$E$14,ROW($A9)-ROW($A$5),MATCH(E$5,Metrics!$B$5:$E$5,0)))=0,"",INDEX(Metrics!$B$6:$E$14,ROW($A9)-ROW($A$5),MATCH(E$5,Metrics!$B$5:$E$5,0))),"") -> % | F9: =IFERROR(IF(INDEX(Metrics!$G$6:$G$14,MATCH(CY_Actual_Cumulative!$D9,Metrics!$D$6:$D$14,0))=Calc!$K$8,SUM(CY_Actual!$F9:F9),AVERAGE(CY_Actual!$F9:F9)),"") -> 0.20776 | G9: =IFERROR(IF(INDEX(Metrics!$G$6:$G$14,MATCH(CY_Actual_Cumulative!$D9,Metrics!$D$6:$D$14,0))=Calc!$K$8,SUM(CY_Actual!$F9:G9),AVERAGE(CY_Actual!$F9:G9)),"") -> 0.20776 | H9: =IFERROR(IF(INDEX(Metrics!$G$6:$G$14,MATCH(CY_Actual_Cumulative!$D9,Metrics!$D$6:$D$14,0))=Calc!$K$8,SUM(CY_Actual!$F9:H9),AVERAGE(CY_Actual!$F9:H9)),"") -> 0.20498987 | I9: =IFERROR(IF(INDEX(Metrics!$G$6:$G$14,MATCH(CY_Actual_Cumulative!$D9,Metrics!$D$6:$D$14,0))=Calc!$K$8,SUM(CY_Actual!$F9:I9),AVERAGE(CY_Actual!$F9:I9)),"") -> 0.20510067 | J9: =IFERROR(IF(INDEX(Metrics!$G$6:$G$14,MATCH(CY_Actual_Cumulative!$D9,Metrics!$D$6:$D$14,0))=Calc!$K$8,SUM(CY_Actual!$F9:J9),AVERAGE(CY_Actual!$F9:J9)),"") -> 0.20311282 | K9: =IFERROR(IF(INDEX(Metrics!$G$6:$G$14,MATCH(CY_Actual_Cumulative!$D9,Metrics!$D$6:$D$14,0))=Calc!$K$8,SUM(CY_Actual!$F9:K9),AVERAGE(CY_Actual!$F9:K9)),"") -> 0.20471501 | L9: =IFERROR(IF(INDEX(Metrics!$G$6:$G$14,MATCH(CY_Actual_Cumulative!$D9,Metrics!$D$6:$D$14,0))=Calc!$K$8,SUM(CY_Actual!$F9:L9),AVERAGE(CY_Actual!$F9:L9)),"") -> 0.20471501 | M9: =IFERROR(IF(INDEX(Metrics!$G$6:$G$14,MATCH(CY_Actual_Cumulative!$D9,Metrics!$D$6:$D$14,0))=Calc!$K$8,SUM(CY_Actual!$F9:M9),AVERAGE(CY_Actual!$F9:M9)),"") -> 0.20471501 | ... Q9: =IFERROR(IF(INDEX(Metrics!$G$6:$G$14,MATCH(CY_Actual_Cumulative!$D9,Metrics!$D$6:$D$14,0))=Calc!$K$8,SUM(CY_Actual!$F9:Q9),AVERAGE(CY_Actual!$F9:Q9)),"") -> 0.20471501
B10: =IFERROR(IF(LEN(INDEX(Metrics!$B$6:$E$14,ROW($A10)-ROW($A$5),MATCH(B$5,Metrics!$B$5:$E$5,0)))=0,"",INDEX(Metrics!$B$6:$E$14,ROW($A10)-ROW($A$5),MATCH(B$5,Metrics!$B$5:$E$5,0))),"") -> 105 | C10: =IFERROR(IF(LEN(INDEX(Metrics!$B$6:$E$14,ROW($A10)-ROW($A$5),MATCH(C$5,Metrics!$B$5:$E$5,0)))=0,"",INDEX(Metrics!$B$6:$E$14,ROW($A10)-ROW($A$5),MATCH(C$5,Metrics!$B$5:$E$5,0))),"") -> Profit Metrics | D10: =IFERROR(IF(LEN(INDEX(Metrics!$B$6:$E$14,ROW($A10)-ROW($A$5),MATCH(D$5,Metrics!$B$5:$E$5,0)))=0,"",INDEX(Metrics!$B$6:$E$14,ROW($A10)-ROW($A$5),MATCH(D$5,Metrics!$B$5:$E$5,0))),"") -> EBIT | E10: =IFERROR(IF(LEN(INDEX(Metrics!$B$6:$E$14,ROW($A10)-ROW($A$5),MATCH(E$5,Metrics!$B$5:$E$5,0)))=0,"",INDEX(Metrics!$B$6:$E$14,ROW($A10)-ROW($A$5),MATCH(E$5,Metrics!$B$5:$E$5,0))),"") -> USD | F10: =IFERROR(IF(INDEX(Metrics!$G$6:$G$14,MATCH(CY_Actual_Cumulative!$D10,Metrics!$D$6:$D$14,0))=Calc!$K$8,SUM(CY_Actual!$F10:F10),AVERAGE(CY_Actual!$F10:F10)),"") -> 30320.55 | G10: =IFERROR(IF(INDEX(Metrics!$G$6:$G$14,MATCH(CY_Actual_Cumulative!$D10,Metrics!$D$6:$D$14,0))=Calc!$K$8,SUM(CY_Actual!$F10:G10),AVERAGE(CY_Actual!$F10:G10)),"") -> 64528.35 | H10: =IFERROR(IF(INDEX(Metrics!$G$6:$G$14,MATCH(CY_Actual_Cumulative!$D10,Metrics!$D$6:$D$14,0))=Calc!$K$8,SUM(CY_Actual!$F10:H10),AVERAGE(CY_Actual!$F10:H10)),"") -> 97699.55 | I10: =IFERROR(IF(INDEX(Metrics!$G$6:$G$14,MATCH(CY_Actual_Cumulative!$D10,Metrics!$D$6:$D$14,0))=Calc!$K$8,SUM(CY_Actual!$F10:I10),AVERAGE(CY_Actual!$F10:I10)),"") -> 124132.85 | J10: =IFERROR(IF(INDEX(Metrics!$G$6:$G$14,MATCH(CY_Actual_Cumulative!$D10,Metrics!$D$6:$D$14,0))=Calc!$K$8,SUM(CY_Actual!$F10:J10),AVERAGE(CY_Actual!$F10:J10)),"") -> 160413.85 | K10: =IFERROR(IF(INDEX(Metrics!$G$6:$G$14,MATCH(CY_Actual_Cumulative!$D10,Metrics!$D$6:$D$14,0))=Calc!$K$8,SUM(CY_Actual!$F10:K10),AVERAGE(CY_Actual!$F10:K10)),"") -> 192911.26 | L10: =IFERROR(IF(INDEX(Metrics!$G$6:$G$14,MATCH(CY_Actual_Cumulative!$D10,Metrics!$D$6:$D$14,0))=Calc!$K$8,SUM(CY_Actual!$F10:L10),AVERAGE(CY_Actual!$F10:L10)),"") -> 192911.26 | M10: =IFERROR(IF(INDEX(Metrics!$G$6:$G$14,MATCH(CY_Actual_Cumulative!$D10,Metrics!$D$6:$D$14,0))=Calc!$K$8,SUM(CY_Actual!$F10:M10),AVERAGE(CY_Actual!$F10:M10)),"") -> 192911.26 | ... Q10: =IFERROR(IF(INDEX(Metrics!$G$6:$G$14,MATCH(CY_Actual_Cumulative!$D10,Metrics!$D$6:$D$14,0))=Calc!$K$8,SUM(CY_Actual!$F10:Q10),AVERAGE(CY_Actual!$F10:Q10)),"") -> 192911.26
B11: =IFERROR(IF(LEN(INDEX(Metrics!$B$6:$E$14,ROW($A11)-ROW($A$5),MATCH(B$5,Metrics!$B$5:$E$5,0)))=0,"",INDEX(Metrics!$B$6:$E$14,ROW($A11)-ROW($A$5),MATCH(B$5,Metrics!$B$5:$E$5,0))),"") -> 106 | C11: =IFERROR(IF(LEN(INDEX(Metrics!$B$6:$E$14,ROW($A11)-ROW($A$5),MATCH(C$5,Metrics!$B$5:$E$5,0)))=0,"",INDEX(Metrics!$B$6:$E$14,ROW($A11)-ROW($A$5),MATCH(C$5,Metrics!$B$5:$E$5,0))),"") -> Profit Metrics | D11: =IFERROR(IF(LEN(INDEX(Metrics!$B$6:$E$14,ROW($A11)-ROW($A$5),MATCH(D$5,Metrics!$B$5:$E$5,0)))=0,"",INDEX(Metrics!$B$6:$E$14,ROW($A11)-ROW($A$5),MATCH(D$5,Metrics!$B$5:$E$5,0))),"") -> EBIT Margin | E11: =IFERROR(IF(LEN(INDEX(Metrics!$B$6:$E$14,ROW($A11)-ROW($A$5),MATCH(E$5,Metrics!$B$5:$E$5,0)))=0,"",INDEX(Metrics!$B$6:$E$14,ROW($A11)-ROW($A$5),MATCH(E$5,Metrics!$B$5:$E$5,0))),"") -> % | F11: =IFERROR(IF(INDEX(Metrics!$G$6:$G$14,MATCH(CY_Actual_Cumulative!$D11,Metrics!$D$6:$D$14,0))=Calc!$K$8,SUM(CY_Actual!$F11:F11),AVERAGE(CY_Actual!$F11:F11)),"") -> 0.1267336 | G11: =IFERROR(IF(INDEX(Metrics!$G$6:$G$14,MATCH(CY_Actual_Cumulative!$D11,Metrics!$D$6:$D$14,0))=Calc!$K$8,SUM(CY_Actual!$F11:G11),AVERAGE(CY_Actual!$F11:G11)),"") -> 0.1267336 | H11: =IFERROR(IF(INDEX(Metrics!$G$6:$G$14,MATCH(CY_Actual_Cumulative!$D11,Metrics!$D$6:$D$14,0))=Calc!$K$8,SUM(CY_Actual!$F11:H11),AVERAGE(CY_Actual!$F11:H11)),"") -> 0.12504382 | I11: =IFERROR(IF(INDEX(Metrics!$G$6:$G$14,MATCH(CY_Actual_Cumulative!$D11,Metrics!$D$6:$D$14,0))=Calc!$K$8,SUM(CY_Actual!$F11:I11),AVERAGE(CY_Actual!$F11:I11)),"") -> 0.12511141 | J11: =IFERROR(IF(INDEX(Metrics!$G$6:$G$14,MATCH(CY_Actual_Cumulative!$D11,Metrics!$D$6:$D$14,0))=Calc!$K$8,SUM(CY_Actual!$F11:J11),AVERAGE(CY_Actual!$F11:J11)),"") -> 0.12389882 | K11: =IFERROR(IF(INDEX(Metrics!$G$6:$G$14,MATCH(CY_Actual_Cumulative!$D11,Metrics!$D$6:$D$14,0))=Calc!$K$8,SUM(CY_Actual!$F11:K11),AVERAGE(CY_Actual!$F11:K11)),"") -> 0.12487616 | L11: =IFERROR(IF(INDEX(Metrics!$G$6:$G$14,MATCH(CY_Actual_Cumulative!$D11,Metrics!$D$6:$D$14,0))=Calc!$K$8,SUM(CY_Actual!$F11:L11),AVERAGE(CY_Actual!$F11:L11)),"") -> 0.12487616 | M11: =IFERROR(IF(INDEX(Metrics!$G$6:$G$14,MATCH(CY_Actual_Cumulative!$D11,Metrics!$D$6:$D$14,0))=Calc!$K$8,SUM(CY_Actual!$F11:M11),AVERAGE(CY_Actual!$F11:M11)),"") -> 0.12487616 | ... Q11: =IFERROR(IF(INDEX(Metrics!$G$6:$G$14,MATCH(CY_Actual_Cumulative!$D11,Metrics!$D$6:$D$14,0))=Calc!$K$8,SUM(CY_Actual!$F11:Q11),AVERAGE(CY_Actual!$F11:Q11)),"") -> 0.12487616
B12: =IFERROR(IF(LEN(INDEX(Metrics!$B$6:$E$14,ROW($A12)-ROW($A$5),MATCH(B$5,Metrics!$B$5:$E$5,0)))=0,"",INDEX(Metrics!$B$6:$E$14,ROW($A12)-ROW($A$5),MATCH(B$5,Metrics!$B$5:$E$5,0))),"") -> 107 | C12: =IFERROR(IF(LEN(INDEX(Metrics!$B$6:$E$14,ROW($A12)-ROW($A$5),MATCH(C$5,Metrics!$B$5:$E$5,0)))=0,"",INDEX(Metrics!$B$6:$E$14,ROW($A12)-ROW($A$5),MATCH(C$5,Metrics!$B$5:$E$5,0))),"") -> Profit Metrics | D12: =IFERROR(IF(LEN(INDEX(Metrics!$B$6:$E$14,ROW($A12)-ROW($A$5),MATCH(D$5,Metrics!$B$5:$E$5,0)))=0,"",INDEX(Metrics!$B$6:$E$14,ROW($A12)-ROW($A$5),MATCH(D$5,Metrics!$B$5:$E$5,0))),"") -> Operating Expense Ratio | E12: =IFERROR(IF(LEN(INDEX(Metrics!$B$6:$E$14,ROW($A12)-ROW($A$5),MATCH(E$5,Metrics!$B$5:$E$5,0)))=0,"",INDEX(Metrics!$B$6:$E$14,ROW($A12)-ROW($A$5),MATCH(E$5,Metrics!$B$5:$E$5,0))),"") -> % | F12: =IFERROR(IF(INDEX(Metrics!$G$6:$G$14,MATCH(CY_Actual_Cumulative!$D12,Metrics!$D$6:$D$14,0))=Calc!$K$8,SUM(CY_Actual!$F12:F12),AVERAGE(CY_Actual!$F12:F12)),"") -> 0.29148728 | G12: =IFERROR(IF(INDEX(Metrics!$G$6:$G$14,MATCH(CY_Actual_Cumulative!$D12,Metrics!$D$6:$D$14,0))=Calc!$K$8,SUM(CY_Actual!$F12:G12),AVERAGE(CY_Actual!$F12:G12)),"") -> 0.29148728 | H12: =IFERROR(IF(INDEX(Metrics!$G$6:$G$14,MATCH(CY_Actual_Cumulative!$D12,Metrics!$D$6:$D$14,0))=Calc!$K$8,SUM(CY_Actual!$F12:H12),AVERAGE(CY_Actual!$F12:H12)),"") -> 0.28760078 | I12: =IFERROR(IF(INDEX(Metrics!$G$6:$G$14,MATCH(CY_Actual_Cumulative!$D12,Metrics!$D$6:$D$14,0))=Calc!$K$8,SUM(CY_Actual!$F12:I12),AVERAGE(CY_Actual!$F12:I12)),"") -> 0.28775624 | J12: =IFERROR(IF(INDEX(Metrics!$G$6:$G$14,MATCH(CY_Actual_Cumulative!$D12,Metrics!$D$6:$D$14,0))=Calc!$K$8,SUM(CY_Actual!$F12:J12),AVERAGE(CY_Actual!$F12:J12)),"") -> 0.28496729 | K12: =IFERROR(IF(INDEX(Metrics!$G$6:$G$14,MATCH(CY_Actual_Cumulative!$D12,Metrics!$D$6:$D$14,0))=Calc!$K$8,SUM(CY_Actual!$F12:K12),AVERAGE(CY_Actual!$F12:K12)),"") -> 0.28721516 | L12: =IFERROR(IF(INDEX(Metrics!$G$6:$G$14,MATCH(CY_Actual_Cumulative!$D12,Metrics!$D$6:$D$14,0))=Calc!$K$8,SUM(CY_Actual!$F12:L12),AVERAGE(CY_Actual!$F12:L12)),"") -> 0.28721516 | M12: =IFERROR(IF(INDEX(Metrics!$G$6:$G$14,MATCH(CY_Actual_Cumulative!$D12,Metrics!$D$6:$D$14,0))=Calc!$K$8,SUM(CY_Actual!$F12:M12),AVERAGE(CY_Actual!$F12:M12)),"") -> 0.28721516 | ... Q12: =IFERROR(IF(INDEX(Metrics!$G$6:$G$14,MATCH(CY_Actual_Cumulative!$D12,Metrics!$D$6:$D$14,0))=Calc!$K$8,SUM(CY_Actual!$F12:Q12),AVERAGE(CY_Actual!$F12:Q12)),"") -> 0.28721516
B13: =IFERROR(IF(LEN(INDEX(Metrics!$B$6:$E$14,ROW($A13)-ROW($A$5),MATCH(B$5,Metrics!$B$5:$E$5,0)))=0,"",INDEX(Metrics!$B$6:$E$14,ROW($A13)-ROW($A$5),MATCH(B$5,Metrics!$B$5:$E$5,0))),"") -> 108 | C13: =IFERROR(IF(LEN(INDEX(Metrics!$B$6:$E$14,ROW($A13)-ROW($A$5),MATCH(C$5,Metrics!$B$5:$E$5,0)))=0,"",INDEX(Metrics!$B$6:$E$14,ROW($A13)-ROW($A$5),MATCH(C$5,Metrics!$B$5:$E$5,0))),"") -> Profit Metrics | D13: =IFERROR(IF(LEN(INDEX(Metrics!$B$6:$E$14,ROW($A13)-ROW($A$5),MATCH(D$5,Metrics!$B$5:$E$5,0)))=0,"",INDEX(Metrics!$B$6:$E$14,ROW($A13)-ROW($A$5),MATCH(D$5,Metrics!$B$5:$E$5,0))),"") | E13: =IFERROR(IF(LEN(INDEX(Metrics!$B$6:$E$14,ROW($A13)-ROW($A$5),MATCH(E$5,Metrics!$B$5:$E$5,0)))=0,"",INDEX(Metrics!$B$6:$E$14,ROW($A13)-ROW($A$5),MATCH(E$5,Metrics!$B$5:$E$5,0))),"") | F13: =IFERROR(IF(INDEX(Metrics!$G$6:$G$14,MATCH(CY_Actual_Cumulative!$D13,Metrics!$D$6:$D$14,0))=Calc!$K$8,SUM(CY_Actual!$F13:F13),AVERAGE(CY_Actual!$F13:F13)),"") | G13: =IFERROR(IF(INDEX(Metrics!$G$6:$G$14,MATCH(CY_Actual_Cumulative!$D13,Metrics!$D$6:$D$14,0))=Calc!$K$8,SUM(CY_Actual!$F13:G13),AVERAGE(CY_Actual!$F13:G13)),"") | H13: =IFERROR(IF(INDEX(Metrics!$G$6:$G$14,MATCH(CY_Actual_Cumulative!$D13,Metrics!$D$6:$D$14,0))=Calc!$K$8,SUM(CY_Actual!$F13:H13),AVERAGE(CY_Actual!$F13:H13)),"") | I13: =IFERROR(IF(INDEX(Metrics!$G$6:$G$14,MATCH(CY_Actual_Cumulative!$D13,Metrics!$D$6:$D$14,0))=Calc!$K$8,SUM(CY_Actual!$F13:I13),AVERAGE(CY_Actual!$F13:I13)),"") | J13: =IFERROR(IF(INDEX(Metrics!$G$6:$G$14,MATCH(CY_Actual_Cumulative!$D13,Metrics!$D$6:$D$14,0))=Calc!$K$8,SUM(CY_Actual!$F13:J13),AVERAGE(CY_Actual!$F13:J13)),"") | K13: =IFERROR(IF(INDEX(Metrics!$G$6:$G$14,MATCH(CY_Actual_Cumulative!$D13,Metrics!$D$6:$D$14,0))=Calc!$K$8,SUM(CY_Actual!$F13:K13),AVERAGE(CY_Actual!$F13:K13)),"") | L13: =IFERROR(IF(INDEX(Metrics!$G$6:$G$14,MATCH(CY_Actual_Cumulative!$D13,Metrics!$D$6:$D$14,0))=Calc!$K$8,SUM(CY_Actual!$F13:L13),AVERAGE(CY_Actual!$F13:L13)),"") | M13: =IFERROR(IF(INDEX(Metrics!$G$6:$G$14,MATCH(CY_Actual_Cumulative!$D13,Metrics!$D$6:$D$14,0))=Calc!$K$8,SUM(CY_Actual!$F13:M13),AVERAGE(CY_Actual!$F13:M13)),"") | ... Q13: =IFERROR(IF(INDEX(Metrics!$G$6:$G$14,MATCH(CY_Actual_Cumulative!$D13,Metrics!$D$6:$D$14,0))=Calc!$K$8,SUM(CY_Actual!$F13:Q13),AVERAGE(CY_Actual!$F13:Q13)),"")
B14: =IFERROR(IF(LEN(INDEX(Metrics!$B$6:$E$14,ROW($A14)-ROW($A$5),MATCH(B$5,Metrics!$B$5:$E$5,0)))=0,"",INDEX(Metrics!$B$6:$E$14,ROW($A14)-ROW($A$5),MATCH(B$5,Metrics!$B$5:$E$5,0))),"") -> 109 | C14: =IFERROR(IF(LEN(INDEX(Metrics!$B$6:$E$14,ROW($A14)-ROW($A$5),MATCH(C$5,Metrics!$B$5:$E$5,0)))=0,"",INDEX(Metrics!$B$6:$E$14,ROW($A14)-ROW($A$5),MATCH(C$5,Metrics!$B$5:$E$5,0))),"") -> Profit Metrics | D14: =IFERROR(IF(LEN(INDEX(Metrics!$B$6:$E$14,ROW($A14)-ROW($A$5),MATCH(D$5,Metrics!$B$5:$E$5,0)))=0,"",INDEX(Metrics!$B$6:$E$14,ROW($A14)-ROW($A$5),MATCH(D$5,Metrics!$B$5:$E$5,0))),"") | E14: =IFERROR(IF(LEN(INDEX(Metrics!$B$6:$E$14,ROW($A14)-ROW($A$5),MATCH(E$5,Metrics!$B$5:$E$5,0)))=0,"",INDEX(Metrics!$B$6:$E$14,ROW($A14)-ROW($A$5),MATCH(E$5,Metrics!$B$5:$E$5,0))),"") | F14: =IFERROR(IF(INDEX(Metrics!$G$6:$G$14,MATCH(CY_Actual_Cumulative!$D14,Metrics!$D$6:$D$14,0))=Calc!$K$8,SUM(CY_Actual!$F14:F14),AVERAGE(CY_Actual!$F14:F14)),"") | G14: =IFERROR(IF(INDEX(Metrics!$G$6:$G$14,MATCH(CY_Actual_Cumulative!$D14,Metrics!$D$6:$D$14,0))=Calc!$K$8,SUM(CY_Actual!$F14:G14),AVERAGE(CY_Actual!$F14:G14)),"") | H14: =IFERROR(IF(INDEX(Metrics!$G$6:$G$14,MATCH(CY_Actual_Cumulative!$D14,Metrics!$D$6:$D$14,0))=Calc!$K$8,SUM(CY_Actual!$F14:H14),AVERAGE(CY_Actual!$F14:H14)),"") | I14: =IFERROR(IF(INDEX(Metrics!$G$6:$G$14,MATCH(CY_Actual_Cumulative!$D14,Metrics!$D$6:$D$14,0))=Calc!$K$8,SUM(CY_Actual!$F14:I14),AVERAGE(CY_Actual!$F14:I14)),"") | J14: =IFERROR(IF(INDEX(Metrics!$G$6:$G$14,MATCH(CY_Actual_Cumulative!$D14,Metrics!$D$6:$D$14,0))=Calc!$K$8,SUM(CY_Actual!$F14:J14),AVERAGE(CY_Actual!$F14:J14)),"") | K14: =IFERROR(IF(INDEX(Metrics!$G$6:$G$14,MATCH(CY_Actual_Cumulative!$D14,Metrics!$D$6:$D$14,0))=Calc!$K$8,SUM(CY_Actual!$F14:K14),AVERAGE(CY_Actual!$F14:K14)),"") | L14: =IFERROR(IF(INDEX(Metrics!$G$6:$G$14,MATCH(CY_Actual_Cumulative!$D14,Metrics!$D$6:$D$14,0))=Calc!$K$8,SUM(CY_Actual!$F14:L14),AVERAGE(CY_Actual!$F14:L14)),"") | M14: =IFERROR(IF(INDEX(Metrics!$G$6:$G$14,MATCH(CY_Actual_Cumulative!$D14,Metrics!$D$6:$D$14,0))=Calc!$K$8,SUM(CY_Actual!$F14:M14),AVERAGE(CY_Actual!$F14:M14)),"") | ... Q14: =IFERROR(IF(INDEX(Metrics!$G$6:$G$14,MATCH(CY_Actual_Cumulative!$D14,Metrics!$D$6:$D$14,0))=Calc!$K$8,SUM(CY_Actual!$F14:Q14),AVERAGE(CY_Actual!$F14:Q14)),"")
B15: 201 | C15: Cash Flow Metrics | D15: Current Ratio | E15: %
B16: 202 | C16: Cash Flow Metrics | D16: Accounts Payable Trunover Ratio | E16: #
B17: 203 | C17: Cash Flow Metrics | D17: Accounts Receivable Days | E17: Days
B18: 204 | C18: Cash Flow Metrics | D18: Accounts Receivable Trunover Ratio | E18: #
B19: 205 | C19: Cash Flow Metrics
B20: 206 | C20: Cash Flow Metrics

Sheet CY_Target_Cumulative
C2: FINANCE KPI DASHBOARD
C3: CURRENT YEAR TARGETS - CUMULATIVE
B5: KPI Code | C5: KPI Group | D5: Criteria | E5: Unit | F5: =IFERROR(INDEX(Calc!$H$7:$H$18,COLUMN(CY_Target_Cumulative!F4)-COLUMN(CY_Target_Cumulative!$E$4)),"") -> Jan 2022 | G5: =IFERROR(INDEX(Calc!$H$7:$H$18,COLUMN(CY_Target_Cumulative!G4)-COLUMN(CY_Target_Cumulative!$E$4)),"") -> Feb 2022 | H5: =IFERROR(INDEX(Calc!$H$7:$H$18,COLUMN(CY_Target_Cumulative!H4)-COLUMN(CY_Target_Cumulative!$E$4)),"") -> Mar 2022 | I5: =IFERROR(INDEX(Calc!$H$7:$H$18,COLUMN(CY_Target_Cumulative!I4)-COLUMN(CY_Target_Cumulative!$E$4)),"") -> Apr 2022 | J5: =IFERROR(INDEX(Calc!$H$7:$H$18,COLUMN(CY_Target_Cumulative!J4)-COLUMN(CY_Target_Cumulative!$E$4)),"") -> May 2022 | K5: =IFERROR(INDEX(Calc!$H$7:$H$18,COLUMN(CY_Target_Cumulative!K4)-COLUMN(CY_Target_Cumulative!$E$4)),"") -> Jun 2022 | L5: =IFERROR(INDEX(Calc!$H$7:$H$18,COLUMN(CY_Target_Cumulative!L4)-COLUMN(CY_Target_Cumulative!$E$4)),"") -> Jul 2022 | M5: =IFERROR(INDEX(Calc!$H$7:$H$18,COLUMN(CY_Target_Cumulative!M4)-COLUMN(CY_Target_Cumulative!$E$4)),"") -> Aug 2022 | ... Q5: =IFERROR(INDEX(Calc!$H$7:$H$18,COLUMN(CY_Target_Cumulative!Q4)-COLUMN(CY_Target_Cumulative!$E$4)),"") -> Dec 2022
B6: =IFERROR(IF(LEN(INDEX(Metrics!$B$6:$E$14,ROW($A6)-ROW($A$5),MATCH(B$5,Metrics!$B$5:$E$5,0)))=0,"",INDEX(Metrics!$B$6:$E$14,ROW($A6)-ROW($A$5),MATCH(B$5,Metrics!$B$5:$E$5,0))),"") -> 101 | C6: =IFERROR(IF(LEN(INDEX(Metrics!$B$6:$E$14,ROW($A6)-ROW($A$5),MATCH(C$5,Metrics!$B$5:$E$5,0)))=0,"",INDEX(Metrics!$B$6:$E$14,ROW($A6)-ROW($A$5),MATCH(C$5,Metrics!$B$5:$E$5,0))),"") -> Profit Metrics | D6: =IFERROR(IF(LEN(INDEX(Metrics!$B$6:$E$14,ROW($A6)-ROW($A$5),MATCH(D$5,Metrics!$B$5:$E$5,0)))=0,"",INDEX(Metrics!$B$6:$E$14,ROW($A6)-ROW($A$5),MATCH(D$5,Metrics!$B$5:$E$5,0))),"") -> Gross Profit | E6: =IFERROR(IF(LEN(INDEX(Metrics!$B$6:$E$14,ROW($A6)-ROW($A$5),MATCH(E$5,Metrics!$B$5:$E$5,0)))=0,"",INDEX(Metrics!$B$6:$E$14,ROW($A6)-ROW($A$5),MATCH(E$5,Metrics!$B$5:$E$5,0))),"") -> USD | F6: =IFERROR(IF(INDEX(Metrics!$G$6:$G$14,MATCH(CY_Target_Cumulative!$D6,Metrics!$D$6:$D$14,0))=Calc!$K$8,SUM(CY_Target!$F6:F6),AVERAGE(CY_Target!$F6:F6)),"") -> 67860 | G6: =IFERROR(IF(INDEX(Metrics!$G$6:$G$14,MATCH(CY_Target_Cumulative!$D6,Metrics!$D$6:$D$14,0))=Calc!$K$8,SUM(CY_Target!$F6:G6),AVERAGE(CY_Target!$F6:G6)),"") -> 145740 | H6: =IFERROR(IF(INDEX(Metrics!$G$6:$G$14,MATCH(CY_Target_Cumulative!$D6,Metrics!$D$6:$D$14,0))=Calc!$K$8,SUM(CY_Target!$F6:H6),AVERAGE(CY_Target!$F6:H6)),"") -> 225100 | I6: =IFERROR(IF(INDEX(Metrics!$G$6:$G$14,MATCH(CY_Target_Cumulative!$D6,Metrics!$D$6:$D$14,0))=Calc!$K$8,SUM(CY_Target!$F6:I6),AVERAGE(CY_Target!$F6:I6)),"") -> 287320 | J6: =IFERROR(IF(INDEX(Metrics!$G$6:$G$14,MATCH(CY_Target_Cumulative!$D6,Metrics!$D$6:$D$14,0))=Calc!$K$8,SUM(CY_Target!$F6:J6),AVERAGE(CY_Target!$F6:J6)),"") -> 376220 | K6: =IFERROR(IF(INDEX(Metrics!$G$6:$G$14,MATCH(CY_Target_Cumulative!$D6,Metrics!$D$6:$D$14,0))=Calc!$K$8,SUM(CY_Target!$F6:K6),AVERAGE(CY_Target!$F6:K6)),"") -> 440801 | L6: =IFERROR(IF(INDEX(Metrics!$G$6:$G$14,MATCH(CY_Target_Cumulative!$D6,Metrics!$D$6:$D$14,0))=Calc!$K$8,SUM(CY_Target!$F6:L6),AVERAGE(CY_Target!$F6:L6)),"") -> 440801 | M6: =IFERROR(IF(INDEX(Metrics!$G$6:$G$14,MATCH(CY_Target_Cumulative!$D6,Metrics!$D$6:$D$14,0))=Calc!$K$8,SUM(CY_Target!$F6:M6),AVERAGE(CY_Target!$F6:M6)),"") -> 440801 | ... Q6: =IFERROR(IF(INDEX(Metrics!$G$6:$G$14,MATCH(CY_Target_Cumulative!$D6,Metrics!$D$6:$D$14,0))=Calc!$K$8,SUM(CY_Target!$F6:Q6),AVERAGE(CY_Target!$F6:Q6)),"") -> 440801
B7: =IFERROR(IF(LEN(INDEX(Metrics!$B$6:$E$14,ROW($A7)-ROW($A$5),MATCH(B$5,Metrics!$B$5:$E$5,0)))=0,"",INDEX(Metrics!$B$6:$E$14,ROW($A7)-ROW($A$5),MATCH(B$5,Metrics!$B$5:$E$5,0))),"") -> 102 | C7: =IFERROR(IF(LEN(INDEX(Metrics!$B$6:$E$14,ROW($A7)-ROW($A$5),MATCH(C$5,Metrics!$B$5:$E$5,0)))=0,"",INDEX(Metrics!$B$6:$E$14,ROW($A7)-ROW($A$5),MATCH(C$5,Metrics!$B$5:$E$5,0))),"") -> Profit Metrics | D7: =IFERROR(IF(LEN(INDEX(Metrics!$B$6:$E$14,ROW($A7)-ROW($A$5),MATCH(D$5,Metrics!$B$5:$E$5,0)))=0,"",INDEX(Metrics!$B$6:$E$14,ROW($A7)-ROW($A$5),MATCH(D$5,Metrics!$B$5:$E$5,0))),"") -> Gross Profit Margin | E7: =IFERROR(IF(LEN(INDEX(Metrics!$B$6:$E$14,ROW($A7)-ROW($A$5),MATCH(E$5,Metrics!$B$5:$E$5,0)))=0,"",INDEX(Metrics!$B$6:$E$14,ROW($A7)-ROW($A$5),MATCH(E$5,Metrics!$B$5:$E$5,0))),"") -> % | F7: =IFERROR(IF(INDEX(Metrics!$G$6:$G$14,MATCH(CY_Target_Cumulative!$D7,Metrics!$D$6:$D$14,0))=Calc!$K$8,SUM(CY_Target!$F7:F7),AVERAGE(CY_Target!$F7:F7)),"") -> 0.44296 | G7: =IFERROR(IF(INDEX(Metrics!$G$6:$G$14,MATCH(CY_Target_Cumulative!$D7,Metrics!$D$6:$D$14,0))=Calc!$K$8,SUM(CY_Target!$F7:G7),AVERAGE(CY_Target!$F7:G7)),"") -> 0.47236 | H7: =IFERROR(IF(INDEX(Metrics!$G$6:$G$14,MATCH(CY_Target_Cumulative!$D7,Metrics!$D$6:$D$14,0))=Calc!$K$8,SUM(CY_Target!$F7:H7),AVERAGE(CY_Target!$F7:H7)),"") -> 0.42905707 | I7: =IFERROR(IF(INDEX(Metrics!$G$6:$G$14,MATCH(CY_Target_Cumulative!$D7,Metrics!$D$6:$D$14,0))=Calc!$K$8,SUM(CY_Target!$F7:I7),AVERAGE(CY_Target!$F7:I7)),"") -> 0.41191203 | J7: =IFERROR(IF(INDEX(Metrics!$G$6:$G$14,MATCH(CY_Target_Cumulative!$D7,Metrics!$D$6:$D$14,0))=Calc!$K$8,SUM(CY_Target!$F7:J7),AVERAGE(CY_Target!$F7:J7)),"") -> 0.40391191 | K7: =IFERROR(IF(INDEX(Metrics!$G$6:$G$14,MATCH(CY_Target_Cumulative!$D7,Metrics!$D$6:$D$14,0))=Calc!$K$8,SUM(CY_Target!$F7:K7),AVERAGE(CY_Target!$F7:K7)),"") -> 0.40549506 | L7: =IFERROR(IF(INDEX(Metrics!$G$6:$G$14,MATCH(CY_Target_Cumulative!$D7,Metrics!$D$6:$D$14,0))=Calc!$K$8,SUM(CY_Target!$F7:L7),AVERAGE(CY_Target!$F7:L7)),"") -> 0.40549506 | M7: =IFERROR(IF(INDEX(Metrics!$G$6:$G$14,MATCH(CY_Target_Cumulative!$D7,Metrics!$D$6:$D$14,0))=Calc!$K$8,SUM(CY_Target!$F7:M7),AVERAGE(CY_Target!$F7:M7)),"") -> 0.40549506 | ... Q7: =IFERROR(IF(INDEX(Metrics!$G$6:$G$14,MATCH(CY_Target_Cumulative!$D7,Metrics!$D$6:$D$14,0))=Calc!$K$8,SUM(CY_Target!$F7:Q7),AVERAGE(CY_Target!$F7:Q7)),"") -> 0.40549506
