Workbook
Name NoBlankCompany: Calc!$D$5:$D$14

Sheet Invoice
C2: CONTRACTOR INVOICE
C3: INVOICE
L8: INVOICE
L9: YOUR COMPANY NAME
L10: <123 Street Address>
L11: <City, State, Zip/Post Code>
L12: <Phone Number>
L13: <Email Address>
C17: BILL TO
L18: Invoice No. | M18: 2589/85
C19: Company A | L19: Invoice Date | M19: 25/8/2019
C20: =IFERROR(IF(INDEX(Customers!D$6:D$206,MATCH(C$19,Customers!$C$6:$C$206,0))=0,"",INDEX(Customers!D$6:D$206,MATCH(C$19,Customers!$C$6:$C$206,0))),"") -> Alan Smith | L20: Due Date | M20: 25/9/2019
C21: =IFERROR(IF(INDEX(Customers!E$6:E$206,MATCH(C$19,Customers!$C$6:$C$206,0))=0,"",INDEX(Customers!E$6:E$206,MATCH(C$19,Customers!$C$6:$C$206,0))),"") -> 3rd Street , Izmir
C22: =IFERROR(IF(INDEX(Customers!F$6:F$206,MATCH(C$19,Customers!$C$6:$C$206,0))=0,"",INDEX(Customers!F$6:F$206,MATCH(C$19,Customers!$C$6:$C$206,0))),"") -> +385 222 444 | L22: TOTAL | M22: =IFERROR(M88,"") -> 6153
C23: =IFERROR(IF(INDEX(Customers!G$6:G$206,MATCH(C$19,Customers!$C$6:$C$206,0))=0,"",INDEX(Customers!G$6:G$206,MATCH(C$19,Customers!$C$6:$C$206,0))),"") -> company@mycompany.com
C26: DESCRIPTION
C28: MATERIALS | I28: QUANTITY | J28: UNIT TYPE | K28: UNIT PRICE | M28: TOTAL
C29: Material 2 | I29: 250 | J29: =IFERROR(INDEX(Materials!F$7:F$206,MATCH(C29,Materials!$D$7:$D$206,0)),"") -> m | K29: =IFERROR(INDEX(Materials!G$7:G$206,MATCH(C29,Materials!$D$7:$D$206,0)),"") -> 20 | M29: =IFERROR(IF(LEN(C29)=0,"",I29*K29),"") -> 5000
C30: Material 3 | I30: 50 | J30: =IFERROR(INDEX(Materials!F$7:F$206,MATCH(C30,Materials!$D$7:$D$206,0)),"") -> piece | K30: =IFERROR(INDEX(Materials!G$7:G$206,MATCH(C30,Materials!$D$7:$D$206,0)),"") -> 10 | M30: =IFERROR(IF(LEN(C30)=0,"",I30*K30),"") -> 500
C31: Material 1 | I31: 15 | J31: =IFERROR(INDEX(Materials!F$7:F$206,MATCH(C31,Materials!$D$7:$D$206,0)),"") -> kg | K31: =IFERROR(INDEX(Materials!G$7:G$206,MATCH(C31,Materials!$D$7:$D$206,0)),"") -> 30 | M31: =IFERROR(IF(LEN(C31)=0,"",I31*K31),"") -> 450
J32: =IFERROR(INDEX(Materials!F$7:F$206,MATCH(C32,Materials!$D$7:$D$206,0)),"") | K32: =IFERROR(INDEX(Materials!G$7:G$206,MATCH(C32,Materials!$D$7:$D$206,0)),"") | M32: =IFERROR(IF(LEN(C32)=0,"",I32*K32),"")
J33: =IFERROR(INDEX(Materials!F$7:F$206,MATCH(C33,Materials!$D$7:$D$206,0)),"") | K33: =IFERROR(INDEX(Materials!G$7:G$206,MATCH(C33,Materials!$D$7:$D$206,0)),"") | M33: =IFERROR(IF(LEN(C33)=0,"",I33*K33),"")
J34: =IFERROR(INDEX(Materials!F$7:F$206,MATCH(C34,Materials!$D$7:$D$206,0)),"") | K34: =IFERROR(INDEX(Materials!G$7:G$206,MATCH(C34,Materials!$D$7:$D$206,0)),"") | M34: =IFERROR(IF(LEN(C34)=0,"",I34*K34),"")
J35: =IFERROR(INDEX(Materials!F$7:F$206,MATCH(C35,Materials!$D$7:$D$206,0)),"") | K35: =IFERROR(INDEX(Materials!G$7:G$206,MATCH(C35,Materials!$D$7:$D$206,0)),"") | M35: =IFERROR(IF(LEN(C35)=0,"",I35*K35),"")
J36: =IFERROR(INDEX(Materials!F$7:F$206,MATCH(C36,Materials!$D$7:$D$206,0)),"") | K36: =IFERROR(INDEX(Materials!G$7:G$206,MATCH(C36,Materials!$D$7:$D$206,0)),"") | M36: =IFERROR(IF(LEN(C36)=0,"",I36*K36),"")
J37: =IFERROR(INDEX(Materials!F$7:F$206,MATCH(C37,Materials!$D$7:$D$206,0)),"") | K37: =IFERROR(INDEX(Materials!G$7:G$206,MATCH(C37,Materials!$D$7:$D$206,0)),"") | M37: =IFERROR(IF(LEN(C37)=0,"",I37*K37),"")
J38: =IFERROR(INDEX(Materials!F$7:F$206,MATCH(C38,Materials!$D$7:$D$206,0)),"") | K38: =IFERROR(INDEX(Materials!G$7:G$206,MATCH(C38,Materials!$D$7:$D$206,0)),"") | M38: =IFERROR(IF(LEN(C38)=0,"",I38*K38),"")
J39: =IFERROR(INDEX(Materials!F$7:F$206,MATCH(C39,Materials!$D$7:$D$206,0)),"") | K39: =IFERROR(INDEX(Materials!G$7:G$206,MATCH(C39,Materials!$D$7:$D$206,0)),"") | M39: =IFERROR(IF(LEN(C39)=0,"",I39*K39),"")
J40: =IFERROR(INDEX(Materials!F$7:F$206,MATCH(C40,Materials!$D$7:$D$206,0)),"") | K40: =IFERROR(INDEX(Materials!G$7:G$206,MATCH(C40,Materials!$D$7:$D$206,0)),"") | M40: =IFERROR(IF(LEN(C40)=0,"",I40*K40),"")
J41: =IFERROR(INDEX(Materials!F$7:F$206,MATCH(C41,Materials!$D$7:$D$206,0)),"") | K41: =IFERROR(INDEX(Materials!G$7:G$206,MATCH(C41,Materials!$D$7:$D$206,0)),"") | M41: =IFERROR(IF(LEN(C41)=0,"",I41*K41),"")
J42: =IFERROR(INDEX(Materials!F$7:F$206,MATCH(C42,Materials!$D$7:$D$206,0)),"") | K42: =IFERROR(INDEX(Materials!G$7:G$206,MATCH(C42,Materials!$D$7:$D$206,0)),"") | M42: =IFERROR(IF(LEN(C42)=0,"",I42*K42),"")
J43: =IFERROR(INDEX(Materials!F$7:F$206,MATCH(C43,Materials!$D$7:$D$206,0)),"") | K43: =IFERROR(INDEX(Materials!G$7:G$206,MATCH(C43,Materials!$D$7:$D$206,0)),"") | M43: =IFERROR(IF(LEN(C43)=0,"",I43*K43),"")
... J48: =IFERROR(INDEX(Materials!F$7:F$206,MATCH(C48,Materials!$D$7:$D$206,0)),"") | K48: =IFERROR(INDEX(Materials!G$7:G$206,MATCH(C48,Materials!$D$7:$D$206,0)),"") | M48: =IFERROR(IF(LEN(C48)=0,"",I48*K48),"")
K50: MATERIALS TOTAL | M50: =IFERROR(SUM(M29:N48),"") -> 5950
C52: LABOR | I52: HOURS | K52: RATE | M52: TOTAL
C53: Labor 1 | I53: 8 | K53: =IFERROR(INDEX(Labor!F$7:F$206,MATCH(C53,Labor!$D$7:$D$206,0)),"") -> 15 | M53: =IFERROR(IF(LEN(C53)=0,"",I53*K53),"") -> 120
C54: Labor 2 | I54: 2 | K54: =IFERROR(INDEX(Labor!F$7:F$206,MATCH(C54,Labor!$D$7:$D$206,0)),"") -> 20 | M54: =IFERROR(IF(LEN(C54)=0,"",I54*K54),"") -> 40
C55: Labor 3 | I55: 10 | K55: =IFERROR(INDEX(Labor!F$7:F$206,MATCH(C55,Labor!$D$7:$D$206,0)),"") -> 25 | M55: =IFERROR(IF(LEN(C55)=0,"",I55*K55),"") -> 250
K56: =IFERROR(INDEX(Labor!F$7:F$206,MATCH(C56,Labor!$D$7:$D$206,0)),"") | M56: =IFERROR(IF(LEN(C56)=0,"",I56*K56),"")
K57: =IFERROR(INDEX(Labor!F$7:F$206,MATCH(C57,Labor!$D$7:$D$206,0)),"") | M57: =IFERROR(IF(LEN(C57)=0,"",I57*K57),"")
...

Sheet Customers
C2: CONTRACTOR INVOICE
C3: CUSTOMERS
B6: # | C6: CLIENT COMPANY NAME | D6: CONTACT NAME | E6: ADDRESS | F6: PHONE | G6: E-MAIL
B7: 1 | C7: Company A | D7: Alan Smith | E7: 3rd Street , Izmir | F7: +385 222 444 | G7: company@mycompany.com
B8: 2 | C8: Company B | D8: Denis Owen | E8: My street, Istanbul | F8: +385 333 888 | G8: owen@yahoo.com
B9: 3 | C9: Company C | D9: Adam Turner | E9: Downtown, New York | F9: +2857 555 555 | G9: adam@gmail.com

Sheet Materials
C2: CONTRACTOR INVOICE
C3: MATERIALS
B6: # | C6: MATERIAL CODE | D6: MATERIAL NAME | E6: DESCRIPTION OF MATERIAL | F6: UNIT TYPE | G6: PRICE
B7: 1 | C7: 10001 | D7: Material 1 | F7: kg | G7: 30
B8: 2 | C8: 10002 | D8: Material 2 | F8: m | G8: 20
B9: 3 | C9: 10003 | D9: Material 3 | F9: piece | G9: 10

Sheet Labor
C2: CONTRACTOR INVOICE
C3: LABOR
B6: # | C6: LABOR CODE | D6: LABOR NAME | E6: DESCRIPTION OF LABOR | F6: PRICE
B7: 1 | C7: 200001 | D7: Labor 1 | F7: 15
B8: 2 | C8: 200002 | D8: Labor 2 | F8: 20
B9: 3 | C9: 200003 | D9: Labor 3 | F9: 25

Sheet PaymentDetails
C2: CONTRACTOR INVOICE
C3: PAYMENT DETAILS
B6: # | C6: PAYMENT METHOD | D6: PROVIDER | E6: ACCOUNT/DETAILS | F6: DESCRIPTION | G6: FEES | H6: INTEREST | I6: TIME
B7: 1 | C7: Wire Transfer | D7: My Bank | E7: BA258698744 | F7: My Bank Transfer | G7: 0.2 | H7: 0.05 | I7: 15 days
B8: 2 | C8: PayPal | D8: My PayPal | E8: info@my.com | F8: Payment by PayPal to myname@email.com | G8: 0.5 | H8: 0.03 | I8: 7 days

Sheet Calc
B3: CUSTOMER | D3: =COUNTA(NoBlankCompany)-COUNTBLANK(NoBlankCompany) -> 3 | F3: MATERIALS | H3: =COUNTA(Calc!$H$5:$H$14)-COUNTBLANK(Calc!$H$5:$H$14) -> 3 | J3: LABOR | L3: =COUNTA(Calc!$L$5:$L$14)-COUNTBLANK(Calc!$L$5:$L$14) -> 3 | N3: PAYMENT | P3: =COUNTA(Calc!$P$5:$P$14)-COUNTBLANK(Calc!$P$5:$P$14) -> 2 | S3: Print Areas
B4: ID | C4: Input | D4: No blank | F4: ID | G4: Input | H4: No blank | J4: ID | K4: Input | L4: No blank | N4: ID | O4: Input | P4: No blank | S4: Customers | T4: Materials | U4: Labor | V4: Payment
B5: 1 | C5: =IFERROR(INDEX(Customers!$C$7:$C$16,MATCH(Customers!C7,Customers!$C$7:$C$16,0),1),"") -> Company A | D5: =IFERROR(INDEX($C$5:$C$14, MATCH(0,INDEX((LEN($C$5:$C$14)=0)+COUNTIF($D$4:$D4,$C$5:$C$14),0),0)),"") -> Company A | F5: 1 | G5: =IFERROR(INDEX(Materials!$D$7:$D$16,MATCH(Materials!D7,Materials!$D$7:$D$16,0),1),"") -> Material 1 | H5: =IFERROR(INDEX($G$5:$G$14, MATCH(0,INDEX((LEN($G$5:$G$14)=0)+COUNTIF($H$4:$H4,$G$5:$G$14),0),0)),"") -> Material 1 | J5: 1 | K5: =IFERROR(INDEX(Labor!$D$7:$D$16,MATCH(Labor!D7,Labor!$D$7:$D$16,0),1),"") -> Labor 1 | L5: =IFERROR(INDEX($K$5:$K$14, MATCH(0,INDEX((LEN($K$5:$K$14)=0)+COUNTIF($L$4:$L4,$K$5:$K$14),0),0)),"") -> Labor 1 | N5: 1 | O5: =IFERROR(INDEX(PaymentDetails!$C$7:$C$13,MATCH(PaymentDetails!C7,PaymentDetails!$C$7:$C$13,0),1),"") -> Wire Transfer | P5: =IFERROR(INDEX($O$5:$O$14, MATCH(0,INDEX((LEN($O$5:$O$14)=0)+COUNTIF($P$4:$P4,$O$5:$O$14),0),0)),"") -> Wire Transfer | R5: rows | S5: =MAX(COUNT(Customers!$B$7:$B$16),COUNT(Customers!$C$7:$C$16),COUNT(Customers!$D$7:$D$16),COUNT(Customers!$E$7:$E$16),COUNT(Customers!$F$7:$F$16),COUNT(Customers!$G$7:$G$16))+1 -> 4 | T5: =MAX(COUNT(Materials!$B$7:$B$16),COUNT(Materials!$C$7:$C$16),COUNT(Materials!$D$7:$D$16),COUNT(Materials!$E$7:$E$16),COUNT(Materials!$F$7:$F$16),COUNT(Materials!$G$7:$G$16))+1 -> 4 | U5: =MAX(COUNT(Labor!$B$7:$B$16),COUNT(Labor!$C$7:$C$16),COUNT(Labor!$D$7:$D$16),COUNT(Labor!$E$7:$E$16),COUNT(Labor!$F$7:$F$16),COUNT(Labor!$G$7:$G$16))+1 -> 4 | V5: =MAX(COUNT(PaymentDetails!$B$7:$B$13),COUNT(PaymentDetails!$C$7:$C$13),COUNT(PaymentDetails!$D$7:$D$13),COUNT(PaymentDetails!$E$7:$E$13),COUNT(PaymentDetails!$F$7:$F$13),COUNT(PaymentDetails!$G$7:$G$13),COUNT(PaymentDetails!$H$7:$H$13),COUNT(PaymentDetails!$I$7:$I$13))+1 -> 3
B6: 2 | C6: =IFERROR(INDEX(Customers!$C$7:$C$16,MATCH(Customers!C8,Customers!$C$7:$C$16,0),1),"") -> Company B | D6: =IFERROR(INDEX($C$5:$C$14, MATCH(0,INDEX((LEN($C$5:$C$14)=0)+COUNTIF($D$4:$D5,$C$5:$C$14),0),0)),"") -> Company B | F6: 2 | G6: =IFERROR(INDEX(Materials!$D$7:$D$16,MATCH(Materials!D8,Materials!$D$7:$D$16,0),1),"") -> Material 2 | H6: =IFERROR(INDEX($G$5:$G$14, MATCH(0,INDEX((LEN($G$5:$G$14)=0)+COUNTIF($H$4:$H5,$G$5:$G$14),0),0)),"") -> Material 2 | J6: 2 | K6: =IFERROR(INDEX(Labor!$D$7:$D$16,MATCH(Labor!D8,Labor!$D$7:$D$16,0),1),"") -> Labor 2 | L6: =IFERROR(INDEX($K$5:$K$14, MATCH(0,INDEX((LEN($K$5:$K$14)=0)+COUNTIF($L$4:$L5,$K$5:$K$14),0),0)),"") -> Labor 2 | N6: 2 | O6: =IFERROR(INDEX(PaymentDetails!$C$7:$C$13,MATCH(PaymentDetails!C8,PaymentDetails!$C$7:$C$13,0),1),"") -> PayPal | P6: =IFERROR(INDEX($O$5:$O$14, MATCH(0,INDEX((LEN($O$5:$O$14)=0)+COUNTIF($P$4:$P5,$O$5:$O$14),0),0)),"") -> PayPal | R6: columns | S6: =COUNTA(Customers!$B$6:$G$6) -> 6 | T6: =COUNTA(Materials!$B$6:$G$6) -> 6 | U6: =COUNTA(Labor!$B$6:$G$6) -> 5 | V6: =COUNTA(PaymentDetails!$B$6:$I$6) -> 8
B7: 3 | C7: =IFERROR(INDEX(Customers!$C$7:$C$16,MATCH(Customers!C9,Customers!$C$7:$C$16,0),1),"") -> Company C | D7: =IFERROR(INDEX($C$5:$C$14, MATCH(0,INDEX((LEN($C$5:$C$14)=0)+COUNTIF($D$4:$D6,$C$5:$C$14),0),0)),"") -> Company C | F7: 3 | G7: =IFERROR(INDEX(Materials!$D$7:$D$16,MATCH(Materials!D9,Materials!$D$7:$D$16,0),1),"") -> Material 3 | H7: =IFERROR(INDEX($G$5:$G$14, MATCH(0,INDEX((LEN($G$5:$G$14)=0)+COUNTIF($H$4:$H6,$G$5:$G$14),0),0)),"") -> Material 3 | J7: 3 | K7: =IFERROR(INDEX(Labor!$D$7:$D$16,MATCH(Labor!D9,Labor!$D$7:$D$16,0),1),"") -> Labor 3 | L7: =IFERROR(INDEX($K$5:$K$14, MATCH(0,INDEX((LEN($K$5:$K$14)=0)+COUNTIF($L$4:$L6,$K$5:$K$14),0),0)),"") -> Labor 3 | N7: 3 | O7: =IFERROR(INDEX(PaymentDetails!$C$7:$C$13,MATCH(PaymentDetails!C9,PaymentDetails!$C$7:$C$13,0),1),"") | P7: =IFERROR(INDEX($O$5:$O$14, MATCH(0,INDEX((LEN($O$5:$O$14)=0)+COUNTIF($P$4:$P6,$O$5:$O$14),0),0)),"")
B8: 4 | C8: =IFERROR(INDEX(Customers!$C$7:$C$16,MATCH(Customers!C10,Customers!$C$7:$C$16,0),1),"") | D8: =IFERROR(INDEX($C$5:$C$14, MATCH(0,INDEX((LEN($C$5:$C$14)=0)+COUNTIF($D$4:$D7,$C$5:$C$14),0),0)),"") | F8: 4 | G8: =IFERROR(INDEX(Materials!$D$7:$D$16,MATCH(Materials!D10,Materials!$D$7:$D$16,0),1),"") | H8: =IFERROR(INDEX($G$5:$G$14, MATCH(0,INDEX((LEN($G$5:$G$14)=0)+COUNTIF($H$4:$H7,$G$5:$G$14),0),0)),"") | J8: 4 | K8: =IFERROR(INDEX(Labor!$D$7:$D$16,MATCH(Labor!D10,Labor!$D$7:$D$16,0),1),"") | L8: =IFERROR(INDEX($K$5:$K$14, MATCH(0,INDEX((LEN($K$5:$K$14)=0)+COUNTIF($L$4:$L7,$K$5:$K$14),0),0)),"") | N8: 4 | O8: =IFERROR(INDEX(PaymentDetails!$C$7:$C$13,MATCH(PaymentDetails!C10,PaymentDetails!$C$7:$C$13,0),1),"") | P8: =IFERROR(INDEX($O$5:$O$14, MATCH(0,INDEX((LEN($O$5:$O$14)=0)+COUNTIF($P$4:$P7,$O$5:$O$14),0),0)),"")
B9: 5 | C9: =IFERROR(INDEX(Customers!$C$7:$C$16,MATCH(Customers!C11,Customers!$C$7:$C$16,0),1),"") | D9: =IFERROR(INDEX($C$5:$C$14, MATCH(0,INDEX((LEN($C$5:$C$14)=0)+COUNTIF($D$4:$D8,$C$5:$C$14),0),0)),"") | F9: 5 | G9: =IFERROR(INDEX(Materials!$D$7:$D$16,MATCH(Materials!D11,Materials!$D$7:$D$16,0),1),"") | H9: =IFERROR(INDEX($G$5:$G$14, MATCH(0,INDEX((LEN($G$5:$G$14)=0)+COUNTIF($H$4:$H8,$G$5:$G$14),0),0)),"") | J9: 5 | K9: =IFERROR(INDEX(Labor!$D$7:$D$16,MATCH(Labor!D11,Labor!$D$7:$D$16,0),1),"") | L9: =IFERROR(INDEX($K$5:$K$14, MATCH(0,INDEX((LEN($K$5:$K$14)=0)+COUNTIF($L$4:$L8,$K$5:$K$14),0),0)),"") | N9: 5 | O9: =IFERROR(INDEX(PaymentDetails!$C$7:$C$13,MATCH(PaymentDetails!C11,PaymentDetails!$C$7:$C$13,0),1),"") | P9: =IFERROR(INDEX($O$5:$O$14, MATCH(0,INDEX((LEN($O$5:$O$14)=0)+COUNTIF($P$4:$P8,$O$5:$O$14),0),0)),"")
B10: 6 | C10: =IFERROR(INDEX(Customers!$C$7:$C$16,MATCH(Customers!C12,Customers!$C$7:$C$16,0),1),"") | D10: =IFERROR(INDEX($C$5:$C$14, MATCH(0,INDEX((LEN($C$5:$C$14)=0)+COUNTIF($D$4:$D9,$C$5:$C$14),0),0)),"") | F10: 6 | G10: =IFERROR(INDEX(Materials!$D$7:$D$16,MATCH(Materials!D12,Materials!$D$7:$D$16,0),1),"") | H10: =IFERROR(INDEX($G$5:$G$14, MATCH(0,INDEX((LEN($G$5:$G$14)=0)+COUNTIF($H$4:$H9,$G$5:$G$14),0),0)),"") | J10: 6 | K10: =IFERROR(INDEX(Labor!$D$7:$D$16,MATCH(Labor!D12,Labor!$D$7:$D$16,0),1),"") | L10: =IFERROR(INDEX($K$5:$K$14, MATCH(0,INDEX((LEN($K$5:$K$14)=0)+COUNTIF($L$4:$L9,$K$5:$K$14),0),0)),"") | N10: 6 | O10: =IFERROR(INDEX(PaymentDetails!$C$7:$C$13,MATCH(PaymentDetails!C12,PaymentDetails!$C$7:$C$13,0),1),"") | P10: =IFERROR(INDEX($O$5:$O$14, MATCH(0,INDEX((LEN($O$5:$O$14)=0)+COUNTIF($P$4:$P9,$O$5:$O$14),0),0)),"")
B11: 7 | C11: =IFERROR(INDEX(Customers!$C$7:$C$16,MATCH(Customers!C13,Customers!$C$7:$C$16,0),1),"") | D11: =IFERROR(INDEX($C$5:$C$14, MATCH(0,INDEX((LEN($C$5:$C$14)=0)+COUNTIF($D$4:$D10,$C$5:$C$14),0),0)),"") | F11: 7 | G11: =IFERROR(INDEX(Materials!$D$7:$D$16,MATCH(Materials!D13,Materials!$D$7:$D$16,0),1),"") | H11: =IFERROR(INDEX($G$5:$G$14, MATCH(0,INDEX((LEN($G$5:$G$14)=0)+COUNTIF($H$4:$H10,$G$5:$G$14),0),0)),"") | J11: 7 | K11: =IFERROR(INDEX(Labor!$D$7:$D$16,MATCH(Labor!D13,Labor!$D$7:$D$16,0),1),"") | L11: =IFERROR(INDEX($K$5:$K$14, MATCH(0,INDEX((LEN($K$5:$K$14)=0)+COUNTIF($L$4:$L10,$K$5:$K$14),0),0)),"") | N11: 7 | O11: =IFERROR(INDEX(PaymentDetails!$C$7:$C$13,MATCH(PaymentDetails!C13,PaymentDetails!$C$7:$C$13,0),1),"") | P11: =IFERROR(INDEX($O$5:$O$14, MATCH(0,INDEX((LEN($O$5:$O$14)=0)+COUNTIF($P$4:$P10,$O$5:$O$14),0),0)),"")
B12: 8 | C12: =IFERROR(INDEX(Customers!$C$7:$C$16,MATCH(Customers!C14,Customers!$C$7:$C$16,0),1),"") | D12: =IFERROR(INDEX($C$5:$C$14, MATCH(0,INDEX((LEN($C$5:$C$14)=0)+COUNTIF($D$4:$D11,$C$5:$C$14),0),0)),"") | F12: 8 | G12: =IFERROR(INDEX(Materials!$D$7:$D$16,MATCH(Materials!D14,Materials!$D$7:$D$16,0),1),"") | H12: =IFERROR(INDEX($G$5:$G$14, MATCH(0,INDEX((LEN($G$5:$G$14)=0)+COUNTIF($H$4:$H11,$G$5:$G$14),0),0)),"") | J12: 8 | K12: =IFERROR(INDEX(Labor!$D$7:$D$16,MATCH(Labor!D14,Labor!$D$7:$D$16,0),1),"") | L12: =IFERROR(INDEX($K$5:$K$14, MATCH(0,INDEX((LEN($K$5:$K$14)=0)+COUNTIF($L$4:$L11,$K$5:$K$14),0),0)),"") | N12: 8 | O12: =IFERROR(INDEX(PaymentDetails!$C$7:$C$13,MATCH(PaymentDetails!C14,PaymentDetails!$C$7:$C$13,0),1),"") | P12: =IFERROR(INDEX($O$5:$O$14, MATCH(0,INDEX((LEN($O$5:$O$14)=0)+COUNTIF($P$4:$P11,$O$5:$O$14),0),0)),"")
B13: 9 | C13: =IFERROR(INDEX(Customers!$C$7:$C$16,MATCH(Customers!C15,Customers!$C$7:$C$16,0),1),"") | D13: =IFERROR(INDEX($C$5:$C$14, MATCH(0,INDEX((LEN($C$5:$C$14)=0)+COUNTIF($D$4:$D12,$C$5:$C$14),0),0)),"") | F13: 9 | G13: =IFERROR(INDEX(Materials!$D$7:$D$16,MATCH(Materials!D15,Materials!$D$7:$D$16,0),1),"") | H13: =IFERROR(INDEX($G$5:$G$14, MATCH(0,INDEX((LEN($G$5:$G$14)=0)+COUNTIF($H$4:$H12,$G$5:$G$14),0),0)),"") | J13: 9 | K13: =IFERROR(INDEX(Labor!$D$7:$D$16,MATCH(Labor!D15,Labor!$D$7:$D$16,0),1),"") | L13: =IFERROR(INDEX($K$5:$K$14, MATCH(0,INDEX((LEN($K$5:$K$14)=0)+COUNTIF($L$4:$L12,$K$5:$K$14),0),0)),"") | N13: 9 | O13: =IFERROR(INDEX(PaymentDetails!$C$7:$C$13,MATCH(PaymentDetails!C15,PaymentDetails!$C$7:$C$13,0),1),"") | P13: =IFERROR(INDEX($O$5:$O$14, MATCH(0,INDEX((LEN($O$5:$O$14)=0)+COUNTIF($P$4:$P12,$O$5:$O$14),0),0)),"")
B14: 10 | C14: =IFERROR(INDEX(Customers!$C$7:$C$16,MATCH(Customers!C16,Customers!$C$7:$C$16,0),1),"") | D14: =IFERROR(INDEX($C$5:$C$14, MATCH(0,INDEX((LEN($C$5:$C$14)=0)+COUNTIF($D$4:$D13,$C$5:$C$14),0),0)),"") | F14: 10 | G14: =IFERROR(INDEX(Materials!$D$7:$D$16,MATCH(Materials!D16,Materials!$D$7:$D$16,0),1),"") | H14: =IFERROR(INDEX($G$5:$G$14, MATCH(0,INDEX((LEN($G$5:$G$14)=0)+COUNTIF($H$4:$H13,$G$5:$G$14),0),0)),"") | J14: 10 | K14: =IFERROR(INDEX(Labor!$D$7:$D$16,MATCH(Labor!D16,Labor!$D$7:$D$16,0),1),"") | L14: =IFERROR(INDEX($K$5:$K$14, MATCH(0,INDEX((LEN($K$5:$K$14)=0)+COUNTIF($L$4:$L13,$K$5:$K$14),0),0)),"") | N14: 10 | O14: =IFERROR(INDEX(PaymentDetails!$C$7:$C$13,MATCH(PaymentDetails!C16,PaymentDetails!$C$7:$C$13,0),1),"") | P14: =IFERROR(INDEX($O$5:$O$14, MATCH(0,INDEX((LEN($O$5:$O$14)=0)+COUNTIF($P$4:$P13,$O$5:$O$14),0),0)),"")
