Workbook

Sheet Invoice
C2: AUTO REPAIR INVOICE
C3: INVOICE
C6: JB Cable Trade Ltd. | D6: 3001-IN
C8: INVOICE DATE: | D8: 44696 | F8: =$G$68 -> 1246.22
C9: DUE DATE: | D9: 44727
C11: Customer Information | E11: Vehicle Information
C13: Name | D13: Natasha Williams | E13: Make | F13: =IFERROR(IF(LEN(INDEX(CustomerDatabase!$B$6:$K$205,MATCH(Invoice!$D$13,CustomerDatabase!$B$6:$B$205,0),MATCH(Invoice!E13,CustomerDatabase!$B$5:$K$5,0))),INDEX(CustomerDatabase!$B$6:$K$205,MATCH(Invoice!$D$13,CustomerDatabase!$B$6:$B$205,0),MATCH(Invoice!E13,CustomerDatabase!$B$5:$K$5,0)),"-"),"-") -> BMW
C14: Address | D14: =IFERROR(IF(LEN(INDEX(CustomerDatabase!$B$6:$K$205,MATCH(Invoice!$D$13,CustomerDatabase!$B$6:$B$205,0),MATCH(Invoice!C14,CustomerDatabase!$B$5:$K$5,0)))>0,INDEX(CustomerDatabase!$B$6:$K$205,MATCH(Invoice!$D$13,CustomerDatabase!$B$6:$B$205,0),MATCH(Invoice!C14,CustomerDatabase!$B$5:$K$5,0)),"-"),"-") -> 116 West 42th Street | E14: Model | F14: =IFERROR(IF(LEN(INDEX(CustomerDatabase!$B$6:$K$205,MATCH(Invoice!$D$13,CustomerDatabase!$B$6:$B$205,0),MATCH(Invoice!E14,CustomerDatabase!$B$5:$K$5,0))),INDEX(CustomerDatabase!$B$6:$K$205,MATCH(Invoice!$D$13,CustomerDatabase!$B$6:$B$205,0),MATCH(Invoice!E14,CustomerDatabase!$B$5:$K$5,0)),"-"),"-") -> 5.20
C15: City-State-Zip | D15: =IFERROR(IF(LEN(INDEX(CustomerDatabase!$B$6:$K$205,MATCH(Invoice!$D$13,CustomerDatabase!$B$6:$B$205,0),MATCH(Invoice!C15,CustomerDatabase!$B$5:$K$5,0)))>0,INDEX(CustomerDatabase!$B$6:$K$205,MATCH(Invoice!$D$13,CustomerDatabase!$B$6:$B$205,0),MATCH(Invoice!C15,CustomerDatabase!$B$5:$K$5,0)),"-"),"-") -> NYC-NY-12349 | E15: Year | F15: =IFERROR(IF(LEN(INDEX(CustomerDatabase!$B$6:$K$205,MATCH(Invoice!$D$13,CustomerDatabase!$B$6:$B$205,0),MATCH(Invoice!E15,CustomerDatabase!$B$5:$K$5,0))),INDEX(CustomerDatabase!$B$6:$K$205,MATCH(Invoice!$D$13,CustomerDatabase!$B$6:$B$205,0),MATCH(Invoice!E15,CustomerDatabase!$B$5:$K$5,0)),"-"),"-") -> 2013
C16: Phone | D16: =IFERROR(IF(LEN(INDEX(CustomerDatabase!$B$6:$K$205,MATCH(Invoice!$D$13,CustomerDatabase!$B$6:$B$205,0),MATCH(Invoice!C16,CustomerDatabase!$B$5:$K$5,0)))>0,INDEX(CustomerDatabase!$B$6:$K$205,MATCH(Invoice!$D$13,CustomerDatabase!$B$6:$B$205,0),MATCH(Invoice!C16,CustomerDatabase!$B$5:$K$5,0)),"-"),"-") -> 480-242-4126 | E16: Color | F16: =IFERROR(IF(LEN(INDEX(CustomerDatabase!$B$6:$K$205,MATCH(Invoice!$D$13,CustomerDatabase!$B$6:$B$205,0),MATCH(Invoice!E16,CustomerDatabase!$B$5:$K$5,0))),INDEX(CustomerDatabase!$B$6:$K$205,MATCH(Invoice!$D$13,CustomerDatabase!$B$6:$B$205,0),MATCH(Invoice!E16,CustomerDatabase!$B$5:$K$5,0)),"-"),"-") -> Black
E17: Mileage | F17: =IFERROR(IF(LEN(INDEX(CustomerDatabase!$B$6:$K$205,MATCH(Invoice!$D$13,CustomerDatabase!$B$6:$B$205,0),MATCH(Invoice!E17,CustomerDatabase!$B$5:$K$5,0))),INDEX(CustomerDatabase!$B$6:$K$205,MATCH(Invoice!$D$13,CustomerDatabase!$B$6:$B$205,0),MATCH(Invoice!E17,CustomerDatabase!$B$5:$K$5,0)),"-"),"-") -> 63000
E18: License Plate No | F18: =IFERROR(IF(LEN(INDEX(CustomerDatabase!$B$6:$K$205,MATCH(Invoice!$D$13,CustomerDatabase!$B$6:$B$205,0),MATCH(Invoice!E18,CustomerDatabase!$B$5:$K$5,0))),INDEX(CustomerDatabase!$B$6:$K$205,MATCH(Invoice!$D$13,CustomerDatabase!$B$6:$B$205,0),MATCH(Invoice!E18,CustomerDatabase!$B$5:$K$5,0)),"-"),"-") -> NYS 789
C20: SERVICE PERFORMED | E20: HOURS | F20: RATE | G20: AMOUNT
C21: Labour | E21: 2 | F21: 85 | G21: =IFERROR(IF(LEN($C21)>0,E21*F21,""),"") -> 170
C22: Labour - 2 | E22: 3 | F22: 45 | G22: =IFERROR(IF(LEN($C22)>0,E22*F22,""),"") -> 135
C23: Labour - 3 | E23: 4 | F23: 75 | G23: =IFERROR(IF(LEN($C23)>0,E23*F23,""),"") -> 300
G24: =IFERROR(IF(LEN($C24)>0,E24*F24,""),"")
G25: =IFERROR(IF(LEN($C25)>0,E25*F25,""),"")
G26: =IFERROR(IF(LEN($C26)>0,E26*F26,""),"")
G27: =IFERROR(IF(LEN($C27)>0,E27*F27,""),"")
G28: =IFERROR(IF(LEN($C28)>0,E28*F28,""),"")
G29: =IFERROR(IF(LEN($C29)>0,E29*F29,""),"")
G30: =IFERROR(IF(LEN($C30)>0,E30*F30,""),"")
G31: =IFERROR(IF(LEN($C31)>0,E31*F31,""),"")
G32: =IFERROR(IF(LEN($C32)>0,E32*F32,""),"")
G33: =IFERROR(IF(LEN($C33)>0,E33*F33,""),"")
G34: =IFERROR(IF(LEN($C34)>0,E34*F34,""),"")
G35: =IFERROR(IF(LEN($C35)>0,E35*F35,""),"")
F37: SubTotal : | G37: =SUM(G21:G35) -> 605
F38: Tax Rate : | G38: 0.08
C41: PART NUMBER | D41: PART NAME | E41: QTY | F41: U.PRICE | G41: AMOUNT
C42: 12600 | D42: Part Name - 1 | E42: 2 | F42: 15 | G42: =IFERROR(IF(OR(LEN($E42)>0,LEN($F42)>0),E42*F42,""),"") -> 30
C43: 12650 | D43: Part Name - 2 | E43: 1 | F43: 12.5 | G43: =IFERROR(IF(OR(LEN($E43)>0,LEN($F43)>0),E43*F43,""),"") -> 12.5
C44: 22650 | D44: Part Name - 3 | E44: 3 | F44: 22 | G44: =IFERROR(IF(OR(LEN($E44)>0,LEN($F44)>0),E44*F44,""),"") -> 66
C45: 45123 | D45: Part Name - 4 | E45: 3 | F45: 50 | G45: =IFERROR(IF(OR(LEN($E45)>0,LEN($F45)>0),E45*F45,""),"") -> 150
C46: 12333 | D46: Part Name - 5 | E46: 2 | F46: 45 | G46: =IFERROR(IF(OR(LEN($E46)>0,LEN($F46)>0),E46*F46,""),"") -> 90
C47: 98789 | D47: Part Name - 6 | E47: 4 | F47: 62 | G47: =IFERROR(IF(OR(LEN($E47)>0,LEN($F47)>0),E47*F47,""),"") -> 248
C48: 56302 | D48: Part Name - 7 | E48: 3 | F48: 15 | G48: =IFERROR(IF(OR(LEN($E48)>0,LEN($F48)>0),E48*F48,""),"") -> 45
G49: =IFERROR(IF(OR(LEN($E49)>0,LEN($F49)>0),E49*F49,""),"")
G50: =IFERROR(IF(OR(LEN($E50)>0,LEN($F50)>0),E50*F50,""),"")
...

Sheet CustomerDatabase
B2: AUTO REPAIR INVOICE
B3: CUSTOMER DATABASE
B5: Customer Name | C5: Address | D5: City-State-Zip | E5: Phone | F5: Make | G5: Model | H5: Year | I5: Color | J5: License Plate No | K5: Mileage
B6: Alan Smith | C6: 123 Street | D6: NYC-NY-34567 | E6: 480-242-4277 | F6: BMW | G6: 3.20 | H6: 2008 | I6: Black | J6: NYS 213 | K6: 120000
B7: Mark Viduka | C7: 522 Fifth Avenue 10th Floor | D7: NYC-NY-12345 | E7: 480-242-4244 | F7: Audi | G7: A5 | H7: 2009 | I7: White | J7: TR6 1972 | K7: 165000
B8: Joe Cole | C8: 4000 Town Center Blvd Suite 100 | D8: NYC-NY-12346 | E8: 480-242-4123 | F8: Audi | G8: Q7 | H8: 2008 | I8: Red | J8: SB 3398 | K8: 145000
B9: William Gallas | C9: 114 West 47th Street | D9: NYC-NY-12347 | E9: 480-242-4124 | F9: Audi | G9: A6 | H9: 2015 | I9: Red | J9: SLW 946 | K9: 46000
B10: Lebron James | C10: 115 West 44th Street | D10: NYC-NY-12348 | E10: 480-242-4125 | F10: BMW | G10: 5.20 | H10: 2014 | I10: Blue | J10: NYS 456 | K10: 55000
B11: Natasha Williams | C11: 116 West 42th Street | D11: NYC-NY-12349 | E11: 480-242-4126 | F11: BMW | G11: 5.20 | H11: 2013 | I11: Black | J11: NYS 789 | K11: 63000
B12: Serena Welbeck | C12: 117 West 21th Street | D12: NYC-NY-12350 | E12: 480-242-4127 | F12: Audi | G12: Q6 | H12: 2014 | I12: Black | J12: SB 3418 | K12: 101000
B13: Tomas Gomez | C13: 118 West 58th Street | D13: NYC-NY-12351 | E13: 480-242-4128 | F13: BMW | G13: 5.20 | H13: 2014 | I13: Black | J13: SLW 9112 | K13: 102000
B14: Ernesto Sosa | C14: 119 West 23th Street | D14: NYC-NY-12352 | E14: 480-242-4129 | F14: Audi | G14: A3 | H14: 2013 | I14: White | J14: NYS 990 | K14: 98000
