Workbook
Name DatabaseHeaders: Calc!$D$6:$AI$6
Name DatabaseSource: OFFSET(Database!$B$8,0,0,Calc!$DG$14,Calc!$DG$15)
Name DropdownCounta: Calc!$DR$8:$EF$8
Name DropdownHeaders: Settings!$B$10:$P$10
Name FirstChartAxis: OFFSET(Calc!$CD$7,0,0,Calc!$CE$5,1)
Name FirstChartSeries: OFFSET(Calc!$CF$7,0,0,Calc!$CE$5,1)
Name FormMatchFunction: MATCH(Form!$D$7,Calc!$AJ$6:$AJ$1006,0)
Name FourthChart_Axis: OFFSET(Calc!$DB$7,0,0,Calc!$DC$5,1)
Name FourthChartSeries: OFFSET(Calc!$DD$7,0,0,Calc!$DC$5,1)
Name MainTable: OFFSET(Calc!$D$7,0,0,Calc!$DG$14,Calc!$DG$15)
Name MetricsList: OFFSET(Metrics!$B$7,0,0,COUNTA(Metrics!$B$7:$B$36),1)
Name SecondChartAxis: OFFSET(Calc!$CL$7,0,0,Calc!$CM$5,1)
Name SecondChartSeries: OFFSET(Calc!$CN$7,0,0,Calc!$CM$5,1)
Name ThirdChartAxis: OFFSET(Calc!$CT$7,0,0,Calc!$CU$5,1)
Name ThirdChartSeries: OFFSET(Calc!$CV$7,0,0,Calc!$CU$5,1)

Sheet Menu
C2: PRODUCT DATABASE TEMPLATE
C3: MENU

Sheet Metrics
B2: PRODUCT DATABASE TEMPLATE
B3: METRIC INFO
B6: Metric | C6: Description
B7: Category | C7: Group your products
B8: Description | C8: If you want to annotate your products, you can add this metric
B9: Origin | C9: Track the origins of your products
B10: Dimensions | C10: Package dimensions of your products
B11: Weight (g) | C11: Package weight of your products into this metric
B12: Color | C12: Group your products by color
B13: Material | C13: Group your products by material
B14: Usage Detail | C14: Instructions for use can be added to this field
B15: Name (Supplier) | C15: Supplier Info 1
B16: Contact Number (Supplier) | C16: Supplier Info 2
B17: Contact E-mail (Supplier) | C17: Supplier Info 3
... B32: Example Metric 5 | C32: It is a dummy metric data to show you the dynamic feature of the template

Sheet Settings
B2: PRODUCT DATABASE TEMPLATE
B3: SETTINGS
B6: =IF(LEN(B$10)>0,IF(ISNUMBER(MATCH(B$10,Metrics!$B$7:$B$36,0)),"","Please check the metric! ↓"),"") | C6: =IF(LEN(C$10)>0,IF(ISNUMBER(MATCH(C$10,Metrics!$B$7:$B$36,0)),"","Please check the metric!"),"") | D6: =IF(LEN(D$10)>0,IF(ISNUMBER(MATCH(D$10,Metrics!$B$7:$B$36,0)),"","Please check the metric!"),"") | E6: =IF(LEN(E$10)>0,IF(ISNUMBER(MATCH(E$10,Metrics!$B$7:$B$36,0)),"","Please check the metric!"),"") | F6: =IF(LEN(F$10)>0,IF(ISNUMBER(MATCH(F$10,Metrics!$B$7:$B$36,0)),"","Please check the metric!"),"") | G6: =IF(LEN(G$10)>0,IF(ISNUMBER(MATCH(G$10,Metrics!$B$7:$B$36,0)),"","Please check the metric!"),"") | H6: =IF(LEN(H$10)>0,IF(ISNUMBER(MATCH(H$10,Metrics!$B$7:$B$36,0)),"","Please check the metric!"),"") | I6: =IF(LEN(I$10)>0,IF(ISNUMBER(MATCH(I$10,Metrics!$B$7:$B$36,0)),"","Please check the metric!"),"") | J6: =IF(LEN(J$10)>0,IF(ISNUMBER(MATCH(J$10,Metrics!$B$7:$B$36,0)),"","Please check the metric!"),"") | ... P6: =IF(LEN(P$10)>0,IF(ISNUMBER(MATCH(P$10,Metrics!$B$7:$B$36,0)),"","Please check the metric!"),"")
B8: DROPDOWN OPTIONS
B10: Category | C10: Origin | D10: Color | E10: Material | F10: Payment Method | G10: Responsible Person
B11: Accessories & Supplies | C11: China | D11: Black | E11: Plastic | F11: Cash | G11: Amelia Morrison
B12: Camera & Photo | C12: Germany | D12: White | E12: Steel | F12: Debit cards | G12: Amy Murray
B13: Car & Vehicle Electronics | C13: United States | D13: Green | E13: Aluminium | F13: Credit cards | G13: Anne North
B14: Wearable Technology | C14: Italy | D14: Yellow | E14: Titanium | F14: Electronics bank transfers | G14: Katherine Short
B15: Video Game Consoles | C15: Japan | D15: Red | G15: Kimberly Simpson
B16: eBook Readers | C16: South Korea | D16: Orange | G16: Karen Sharp
B17: GPS & Navigation | D17: Gray | G17: Jessica Ogden
B18: Television & Video | G18: Joan Oliver
G19: Joanne Paige
G20: Julia Parr

Sheet Database
B2: PRODUCT DATABASE TEMPLATE
B3: DATABASE
D5: =IF(LEN(D$7)>0,IF(ISNUMBER(MATCH(D$7,Metrics!$B$7:$B$36,0)),"","Please check! ↓"),"") | E5: =IF(LEN(E$7)>0,IF(ISNUMBER(MATCH(E$7,Metrics!$B$7:$B$36,0)),"","Please check! ↓"),"") | F5: =IF(LEN(F$7)>0,IF(ISNUMBER(MATCH(F$7,Metrics!$B$7:$B$36,0)),"","Please check! ↓"),"") | G5: =IF(LEN(G$7)>0,IF(ISNUMBER(MATCH(G$7,Metrics!$B$7:$B$36,0)),"","Please check! ↓"),"") | H5: =IF(LEN(H$7)>0,IF(ISNUMBER(MATCH(H$7,Metrics!$B$7:$B$36,0)),"","Please check! ↓"),"") | I5: =IF(LEN(I$7)>0,IF(ISNUMBER(MATCH(I$7,Metrics!$B$7:$B$36,0)),"","Please check! ↓"),"") | J5: =IF(LEN(J$7)>0,IF(ISNUMBER(MATCH(J$7,Metrics!$B$7:$B$36,0)),"","Please check! ↓"),"") | K5: =IF(LEN(K$7)>0,IF(ISNUMBER(MATCH(K$7,Metrics!$B$7:$B$36,0)),"","Please check! ↓"),"") | ... AG5: =IF(LEN(AG$7)>0,IF(ISNUMBER(MATCH(AG$7,Metrics!$B$7:$B$36,0)),"","Please check! ↓"),"")
B7: Product Id/SKU | C7: Name | D7: Category | E7: Origin | F7: Color | G7: Weight (g) | H7: Cost of Unit ($) | I7: Responsible Person | J7: Contact E-mail
B8: 668759 | C8: Phone Holder | D8: Accessories & Supplies | E8: China | F8: Black | G8: 125 | H8: 25 | I8: Amelia Morrison | J8: ameliamorrison@mail.com
B9: 150461 | C9: Digital Picture Frame | D9: Accessories & Supplies | E9: China | F9: White | G9: 350 | H9: 65 | I9: Julia Parr | J9: juliaparr@mail.com
B10: 694775 | C10: USB Charging Cable | D10: Accessories & Supplies | E10: Germany | F10: White | G10: 25 | H10: 15 | I10: Amy Murray | J10: amymurray@mail.com
B11: 294194 | C11: Selfie Stick Tripod | D11: Camera & Photo | E11: China | F11: Green | G11: 100 | H11: 10 | I11: Joanne Paige | J11: joannepaige@mail.com
B12: 544617 | C12: MicroSD Card | D12: Camera & Photo | E12: Germany | F12: Gray | G12: 20 | H12: 35 | I12: Anne North | J12: annenorth@mail.com
B13: 597949 | C13: HDMI Cable | D13: Camera & Photo | E13: China | F13: Yellow | G13: 65 | H13: 25 | I13: Joan Oliver | J13: joanoliver@mail.com
B14: 268526 | C14: 35 mm Lense | D14: Camera & Photo | E14: South Korea | F14: Black | G14: 650 | H14: 265 | I14: Katherine Short | J14: katherineshort@mail.com
B15: 759238 | C15: Light Stand | D15: Camera & Photo | E15: China | F15: Black | G15: 145 | H15: 350 | I15: Jessica Ogden | J15: jessicaogden@mail.com
B16: 268215 | C16: External Hard Drive | D16: Computers & Accessories | E16: United States | F16: Green | G16: 255 | H16: 150 | I16: Kimberly Simpson | J16: kimberlysimpson@mail.com
B17: 360342 | C17: Laptop | D17: Computers & Accessories | E17: South Korea | F17: Red | G17: 1650 | H17: 1950 | I17: Karen Sharp | J17: karensharp@mail.com
B18: 283505 | C18: Graphic Card | D18: Computers & Accessories | E18: United States | F18: Yellow | G18: 850 | H18: 1250 | I18: Amelia Morrison | J18: ameliamorrison@mail.com
B19: 780807 | C19: Keyboard | D19: Computers & Accessories | E19: China | G19: 290 | H19: 15 | I19: Julia Parr | J19: juliaparr@mail.com
B20: 156558 | C20: Mouse | D20: Computers & Accessories | E20: China | G20: 120 | H20: 25 | I20: Amy Murray | J20: amymurray@mail.com
B21: 270729 | C21: Webcam | D21: Computers & Accessories | E21: United States | G21: 135 | H21: 30 | I21: Joanne Paige | J21: joannepaige@mail.com
B22: 156553 | C22: 16 GB Ram | D22: Computers & Accessories | E22: South Korea | G22: 85 | H22: 50 | I22: Anne North | J22: annenorth@mail.com
B23: 355243 | C23: 256 GB SSD | D23: Computers & Accessories | E23: South Korea | G23: 360 | H23: 85 | I23: Joan Oliver | J23: joanoliver@mail.com
B24: 366906 | C24: Monitor | D24: Computers & Accessories | E24: China | G24: 1950 | H24: 450 | I24: Katherine Short | J24: katherineshort@mail.com
B25: 758183 | C25: Laptop Stand | D25: Computers & Accessories | E25: China | G25: 265 | H25: 35 | I25: Jessica Ogden | J25: jessicaogden@mail.com
B26: 453919 | C26: Smartwatch | D26: Wearable Technology | E26: United States | G26: 125 | H26: 195 | I26: Julia Parr | J26: juliaparr@mail.com
B27: 209243 | C27: Bluetooth Earphones | D27: Wearable Technology | E27: United States | G27: 100 | H27: 190 | I27: Amy Murray | J27: amymurray@mail.com
B28: 119933 | C28: Overhead Headphones | D28: Wearable Technology | E28: South Korea | G28: 250 | H28: 320 | I28: Joanne Paige | J28: joannepaige@mail.com
B29: 414081 | C29: Smart Glass | D29: Wearable Technology | E29: Japan | F29: White | G29: 200 | H29: 120 | I29: Anne North | J29: annenorth@mail.com
B30: 598674 | C30: Remote Controller | D30: Video Game Consoles | E30: Japan | F30: Orange | G30: 75 | H30: 25 | I30: Joan Oliver | J30: joanoliver@mail.com
B31: 327866 | C31: Game Console | D31: Video Game Consoles | E31: United States | F31: White | G31: 125 | H31: 650 | I31: Katherine Short | J31: katherineshort@mail.com
B32: 484480 | C32: eBook Reader | D32: eBook Readers | E32: Germany | F32: Green | G32: 350 | H32: 200 | I32: Jessica Ogden | J32: jessicaogden@mail.com
B33: 508927 | C33: Reader Case | D33: eBook Readers | E33: China | F33: Yellow | G33: 125 | H33: 25 | I33: Julia Parr | J33: juliaparr@mail.com
B34: 890439 | C34: GPS Navigator | D34: GPS & Navigation | E34: South Korea | F34: Black | G34: 850 | H34: 360 | I34: Amy Murray | J34: amymurray@mail.com
B35: 169714 | C35: Key Finder | D35: GPS & Navigation | E35: South Korea | F35: Green | G35: 50 | H35: 35 | I35: Joanne Paige | J35: joannepaige@mail.com
B36: 197670 | C36: 4K Led TV | D36: Television & Video | E36: United States | F36: White | G36: 6580 | H36: 3500 | I36: Anne North | J36: annenorth@mail.com
B37: 480309 | C37: Streaming Stick | D37: Television & Video | E37: China | F37: Black | G37: 120 | H37: 150 | I37: Joan Oliver | J37: joanoliver@mail.com

Sheet DynamicList
B2: PRODUCT DATABASE TEMPLATE
B3: DYNAMIC LIST
E5: =IF(LEN(E$7)>0,IF(ISNUMBER(MATCH(E$7,Metrics!$B$7:$B$36,0)),"","Please check! ↓"),"") | F5: =IF(LEN(F$7)>0,IF(ISNUMBER(MATCH(F$7,Metrics!$B$7:$B$36,0)),"","Please check! ↓"),"") | G5: =IF(LEN(G$7)>0,IF(ISNUMBER(MATCH(G$7,Metrics!$B$7:$B$36,0)),"","Please check! ↓"),"") | H5: =IF(LEN(H$7)>0,IF(ISNUMBER(MATCH(H$7,Metrics!$B$7:$B$36,0)),"","Please check! ↓"),"") | I5: =IF(LEN(I$7)>0,IF(ISNUMBER(MATCH(I$7,Metrics!$B$7:$B$36,0)),"","Please check! ↓"),"") | J5: =IF(LEN(J$7)>0,IF(ISNUMBER(MATCH(J$7,Metrics!$B$7:$B$36,0)),"","Please check! ↓"),"") | K5: =IF(LEN(K$7)>0,IF(ISNUMBER(MATCH(K$7,Metrics!$B$7:$B$36,0)),"","Please check! ↓"),"") | L5: =IF(LEN(L$7)>0,IF(ISNUMBER(MATCH(L$7,Metrics!$B$7:$B$36,0)),"","Please check! ↓"),"") | ... N5: =IF(LEN(N$7)>0,IF(ISNUMBER(MATCH(N$7,Metrics!$B$7:$B$36,0)),"","Please check! ↓"),"")
B7: Filtering | D7: Product | E7: Category | F7: Origin | G7: Weight (g) | H7: Cost of Unit ($) | I7: Color | J7: Responsible Person | K7: Contact E-mail
D8: =IFERROR(INDEX(Calc!$BU$7:$BU$2006,MATCH(ROW(DynamicList!A8)-ROW(DynamicList!$A$7),Calc!$BT$7:$BT$2006,0)),"") -> 668759 - Phone Holder | E8: =IFERROR(IF(LEN(E$7)=0,"",INDEX(MainTable,Calc!$DM7,Calc!DS$15)),"") -> Accessories & Supplies | F8: =IFERROR(IF(LEN(F$7)=0,"",INDEX(MainTable,Calc!$DM7,Calc!DT$15)),"") -> China | G8: =IFERROR(IF(LEN(G$7)=0,"",INDEX(MainTable,Calc!$DM7,Calc!DU$15)),"") -> 125 | H8: =IFERROR(IF(LEN(H$7)=0,"",INDEX(MainTable,Calc!$DM7,Calc!DV$15)),"") -> 25 | I8: =IFERROR(IF(LEN(I$7)=0,"",INDEX(MainTable,Calc!$DM7,Calc!DW$15)),"") -> Black | J8: =IFERROR(IF(LEN(J$7)=0,"",INDEX(MainTable,Calc!$DM7,Calc!DX$15)),"") -> Amelia Morrison | K8: =IFERROR(IF(LEN(K$7)=0,"",INDEX(MainTable,Calc!$DM7,Calc!DY$15)),"") -> ameliamorrison@mail.com | L8: =IFERROR(IF(LEN(L$7)=0,"",INDEX(MainTable,Calc!$DM7,Calc!DZ$15)),"") | ... N8: =IFERROR(IF(LEN(N$7)=0,"",INDEX(MainTable,Calc!$DM7,Calc!EB$15)),"")
B9: Category | D9: =IFERROR(INDEX(Calc!$BU$7:$BU$2006,MATCH(ROW(DynamicList!A9)-ROW(DynamicList!$A$7),Calc!$BT$7:$BT$2006,0)),"") -> 150461 - Digital Picture Frame | E9: =IFERROR(IF(LEN(E$7)=0,"",INDEX(MainTable,Calc!$DM8,Calc!DS$15)),"") -> Accessories & Supplies | F9: =IFERROR(IF(LEN(F$7)=0,"",INDEX(MainTable,Calc!$DM8,Calc!DT$15)),"") -> China | G9: =IFERROR(IF(LEN(G$7)=0,"",INDEX(MainTable,Calc!$DM8,Calc!DU$15)),"") -> 350 | H9: =IFERROR(IF(LEN(H$7)=0,"",INDEX(MainTable,Calc!$DM8,Calc!DV$15)),"") -> 65 | I9: =IFERROR(IF(LEN(I$7)=0,"",INDEX(MainTable,Calc!$DM8,Calc!DW$15)),"") -> White | J9: =IFERROR(IF(LEN(J$7)=0,"",INDEX(MainTable,Calc!$DM8,Calc!DX$15)),"") -> Julia Parr | K9: =IFERROR(IF(LEN(K$7)=0,"",INDEX(MainTable,Calc!$DM8,Calc!DY$15)),"") -> juliaparr@mail.com | L9: =IFERROR(IF(LEN(L$7)=0,"",INDEX(MainTable,Calc!$DM8,Calc!DZ$15)),"") | ... N9: =IFERROR(IF(LEN(N$7)=0,"",INDEX(MainTable,Calc!$DM8,Calc!EB$15)),"")
B10: All | D10: =IFERROR(INDEX(Calc!$BU$7:$BU$2006,MATCH(ROW(DynamicList!A10)-ROW(DynamicList!$A$7),Calc!$BT$7:$BT$2006,0)),"") -> 694775 - USB Charging Cable | E10: =IFERROR(IF(LEN(E$7)=0,"",INDEX(MainTable,Calc!$DM9,Calc!DS$15)),"") -> Accessories & Supplies | F10: =IFERROR(IF(LEN(F$7)=0,"",INDEX(MainTable,Calc!$DM9,Calc!DT$15)),"") -> Germany | G10: =IFERROR(IF(LEN(G$7)=0,"",INDEX(MainTable,Calc!$DM9,Calc!DU$15)),"") -> 25 | H10: =IFERROR(IF(LEN(H$7)=0,"",INDEX(MainTable,Calc!$DM9,Calc!DV$15)),"") -> 15 | I10: =IFERROR(IF(LEN(I$7)=0,"",INDEX(MainTable,Calc!$DM9,Calc!DW$15)),"") -> White | J10: =IFERROR(IF(LEN(J$7)=0,"",INDEX(MainTable,Calc!$DM9,Calc!DX$15)),"") -> Amy Murray | K10: =IFERROR(IF(LEN(K$7)=0,"",INDEX(MainTable,Calc!$DM9,Calc!DY$15)),"") -> amymurray@mail.com | L10: =IFERROR(IF(LEN(L$7)=0,"",INDEX(MainTable,Calc!$DM9,Calc!DZ$15)),"") | ... N10: =IFERROR(IF(LEN(N$7)=0,"",INDEX(MainTable,Calc!$DM9,Calc!EB$15)),"")
D11: =IFERROR(INDEX(Calc!$BU$7:$BU$2006,MATCH(ROW(DynamicList!A11)-ROW(DynamicList!$A$7),Calc!$BT$7:$BT$2006,0)),"") -> 294194 - Selfie Stick Tripod | E11: =IFERROR(IF(LEN(E$7)=0,"",INDEX(MainTable,Calc!$DM10,Calc!DS$15)),"") -> Camera & Photo | F11: =IFERROR(IF(LEN(F$7)=0,"",INDEX(MainTable,Calc!$DM10,Calc!DT$15)),"") -> China | G11: =IFERROR(IF(LEN(G$7)=0,"",INDEX(MainTable,Calc!$DM10,Calc!DU$15)),"") -> 100 | H11: =IFERROR(IF(LEN(H$7)=0,"",INDEX(MainTable,Calc!$DM10,Calc!DV$15)),"") -> 10 | I11: =IFERROR(IF(LEN(I$7)=0,"",INDEX(MainTable,Calc!$DM10,Calc!DW$15)),"") -> Green | J11: =IFERROR(IF(LEN(J$7)=0,"",INDEX(MainTable,Calc!$DM10,Calc!DX$15)),"") -> Joanne Paige | K11: =IFERROR(IF(LEN(K$7)=0,"",INDEX(MainTable,Calc!$DM10,Calc!DY$15)),"") -> joannepaige@mail.com | L11: =IFERROR(IF(LEN(L$7)=0,"",INDEX(MainTable,Calc!$DM10,Calc!DZ$15)),"") | ... N11: =IFERROR(IF(LEN(N$7)=0,"",INDEX(MainTable,Calc!$DM10,Calc!EB$15)),"")
B12: Origin | D12: =IFERROR(INDEX(Calc!$BU$7:$BU$2006,MATCH(ROW(DynamicList!A12)-ROW(DynamicList!$A$7),Calc!$BT$7:$BT$2006,0)),"") -> 544617 - MicroSD Card | E12: =IFERROR(IF(LEN(E$7)=0,"",INDEX(MainTable,Calc!$DM11,Calc!DS$15)),"") -> Camera & Photo | F12: =IFERROR(IF(LEN(F$7)=0,"",INDEX(MainTable,Calc!$DM11,Calc!DT$15)),"") -> Germany | G12: =IFERROR(IF(LEN(G$7)=0,"",INDEX(MainTable,Calc!$DM11,Calc!DU$15)),"") -> 20 | H12: =IFERROR(IF(LEN(H$7)=0,"",INDEX(MainTable,Calc!$DM11,Calc!DV$15)),"") -> 35 | I12: =IFERROR(IF(LEN(I$7)=0,"",INDEX(MainTable,Calc!$DM11,Calc!DW$15)),"") -> Gray | J12: =IFERROR(IF(LEN(J$7)=0,"",INDEX(MainTable,Calc!$DM11,Calc!DX$15)),"") -> Anne North | K12: =IFERROR(IF(LEN(K$7)=0,"",INDEX(MainTable,Calc!$DM11,Calc!DY$15)),"") -> annenorth@mail.com | L12: =IFERROR(IF(LEN(L$7)=0,"",INDEX(MainTable,Calc!$DM11,Calc!DZ$15)),"") | ... N12: =IFERROR(IF(LEN(N$7)=0,"",INDEX(MainTable,Calc!$DM11,Calc!EB$15)),"")
B13: All | D13: =IFERROR(INDEX(Calc!$BU$7:$BU$2006,MATCH(ROW(DynamicList!A13)-ROW(DynamicList!$A$7),Calc!$BT$7:$BT$2006,0)),"") -> 597949 - HDMI Cable | E13: =IFERROR(IF(LEN(E$7)=0,"",INDEX(MainTable,Calc!$DM12,Calc!DS$15)),"") -> Camera & Photo | F13: =IFERROR(IF(LEN(F$7)=0,"",INDEX(MainTable,Calc!$DM12,Calc!DT$15)),"") -> China | G13: =IFERROR(IF(LEN(G$7)=0,"",INDEX(MainTable,Calc!$DM12,Calc!DU$15)),"") -> 65 | H13: =IFERROR(IF(LEN(H$7)=0,"",INDEX(MainTable,Calc!$DM12,Calc!DV$15)),"") -> 25 | I13: =IFERROR(IF(LEN(I$7)=0,"",INDEX(MainTable,Calc!$DM12,Calc!DW$15)),"") -> Yellow | J13: =IFERROR(IF(LEN(J$7)=0,"",INDEX(MainTable,Calc!$DM12,Calc!DX$15)),"") -> Joan Oliver | K13: =IFERROR(IF(LEN(K$7)=0,"",INDEX(MainTable,Calc!$DM12,Calc!DY$15)),"") -> joanoliver@mail.com | L13: =IFERROR(IF(LEN(L$7)=0,"",INDEX(MainTable,Calc!$DM12,Calc!DZ$15)),"") | ... N13: =IFERROR(IF(LEN(N$7)=0,"",INDEX(MainTable,Calc!$DM12,Calc!EB$15)),"")
D14: =IFERROR(INDEX(Calc!$BU$7:$BU$2006,MATCH(ROW(DynamicList!A14)-ROW(DynamicList!$A$7),Calc!$BT$7:$BT$2006,0)),"") -> 268526 - 35 mm Lense | E14: =IFERROR(IF(LEN(E$7)=0,"",INDEX(MainTable,Calc!$DM13,Calc!DS$15)),"") -> Camera & Photo | F14: =IFERROR(IF(LEN(F$7)=0,"",INDEX(MainTable,Calc!$DM13,Calc!DT$15)),"") -> South Korea | G14: =IFERROR(IF(LEN(G$7)=0,"",INDEX(MainTable,Calc!$DM13,Calc!DU$15)),"") -> 650 | H14: =IFERROR(IF(LEN(H$7)=0,"",INDEX(MainTable,Calc!$DM13,Calc!DV$15)),"") -> 265 | I14: =IFERROR(IF(LEN(I$7)=0,"",INDEX(MainTable,Calc!$DM13,Calc!DW$15)),"") -> Black | J14: =IFERROR(IF(LEN(J$7)=0,"",INDEX(MainTable,Calc!$DM13,Calc!DX$15)),"") -> Katherine Short | K14: =IFERROR(IF(LEN(K$7)=0,"",INDEX(MainTable,Calc!$DM13,Calc!DY$15)),"") -> katherineshort@mail.com | L14: =IFERROR(IF(LEN(L$7)=0,"",INDEX(MainTable,Calc!$DM13,Calc!DZ$15)),"") | ... N14: =IFERROR(IF(LEN(N$7)=0,"",INDEX(MainTable,Calc!$DM13,Calc!EB$15)),"")
B15: Weight (g) | D15: =IFERROR(INDEX(Calc!$BU$7:$BU$2006,MATCH(ROW(DynamicList!A15)-ROW(DynamicList!$A$7),Calc!$BT$7:$BT$2006,0)),"") -> 759238 - Light Stand | E15: =IFERROR(IF(LEN(E$7)=0,"",INDEX(MainTable,Calc!$DM14,Calc!DS$15)),"") -> Camera & Photo | F15: =IFERROR(IF(LEN(F$7)=0,"",INDEX(MainTable,Calc!$DM14,Calc!DT$15)),"") -> China | G15: =IFERROR(IF(LEN(G$7)=0,"",INDEX(MainTable,Calc!$DM14,Calc!DU$15)),"") -> 145 | H15: =IFERROR(IF(LEN(H$7)=0,"",INDEX(MainTable,Calc!$DM14,Calc!DV$15)),"") -> 350 | I15: =IFERROR(IF(LEN(I$7)=0,"",INDEX(MainTable,Calc!$DM14,Calc!DW$15)),"") -> Black | J15: =IFERROR(IF(LEN(J$7)=0,"",INDEX(MainTable,Calc!$DM14,Calc!DX$15)),"") -> Jessica Ogden | K15: =IFERROR(IF(LEN(K$7)=0,"",INDEX(MainTable,Calc!$DM14,Calc!DY$15)),"") -> jessicaogden@mail.com | L15: =IFERROR(IF(LEN(L$7)=0,"",INDEX(MainTable,Calc!$DM14,Calc!DZ$15)),"") | ... N15: =IFERROR(IF(LEN(N$7)=0,"",INDEX(MainTable,Calc!$DM14,Calc!EB$15)),"")
B16: All | D16: =IFERROR(INDEX(Calc!$BU$7:$BU$2006,MATCH(ROW(DynamicList!A16)-ROW(DynamicList!$A$7),Calc!$BT$7:$BT$2006,0)),"") -> 268215 - External Hard Drive | E16: =IFERROR(IF(LEN(E$7)=0,"",INDEX(MainTable,Calc!$DM15,Calc!DS$15)),"") -> Computers & Accessories | F16: =IFERROR(IF(LEN(F$7)=0,"",INDEX(MainTable,Calc!$DM15,Calc!DT$15)),"") -> United States | G16: =IFERROR(IF(LEN(G$7)=0,"",INDEX(MainTable,Calc!$DM15,Calc!DU$15)),"") -> 255 | H16: =IFERROR(IF(LEN(H$7)=0,"",INDEX(MainTable,Calc!$DM15,Calc!DV$15)),"") -> 150 | I16: =IFERROR(IF(LEN(I$7)=0,"",INDEX(MainTable,Calc!$DM15,Calc!DW$15)),"") -> Green | J16: =IFERROR(IF(LEN(J$7)=0,"",INDEX(MainTable,Calc!$DM15,Calc!DX$15)),"") -> Kimberly Simpson | K16: =IFERROR(IF(LEN(K$7)=0,"",INDEX(MainTable,Calc!$DM15,Calc!DY$15)),"") -> kimberlysimpson@mail.com | L16: =IFERROR(IF(LEN(L$7)=0,"",INDEX(MainTable,Calc!$DM15,Calc!DZ$15)),"") | ... N16: =IFERROR(IF(LEN(N$7)=0,"",INDEX(MainTable,Calc!$DM15,Calc!EB$15)),"")
D17: =IFERROR(INDEX(Calc!$BU$7:$BU$2006,MATCH(ROW(DynamicList!A17)-ROW(DynamicList!$A$7),Calc!$BT$7:$BT$2006,0)),"") -> 360342 - Laptop | E17: =IFERROR(IF(LEN(E$7)=0,"",INDEX(MainTable,Calc!$DM16,Calc!DS$15)),"") -> Computers & Accessories | F17: =IFERROR(IF(LEN(F$7)=0,"",INDEX(MainTable,Calc!$DM16,Calc!DT$15)),"") -> South Korea | G17: =IFERROR(IF(LEN(G$7)=0,"",INDEX(MainTable,Calc!$DM16,Calc!DU$15)),"") -> 1650 | H17: =IFERROR(IF(LEN(H$7)=0,"",INDEX(MainTable,Calc!$DM16,Calc!DV$15)),"") -> 1950 | I17: =IFERROR(IF(LEN(I$7)=0,"",INDEX(MainTable,Calc!$DM16,Calc!DW$15)),"") -> Red | J17: =IFERROR(IF(LEN(J$7)=0,"",INDEX(MainTable,Calc!$DM16,Calc!DX$15)),"") -> Karen Sharp | K17: =IFERROR(IF(LEN(K$7)=0,"",INDEX(MainTable,Calc!$DM16,Calc!DY$15)),"") -> karensharp@mail.com | L17: =IFERROR(IF(LEN(L$7)=0,"",INDEX(MainTable,Calc!$DM16,Calc!DZ$15)),"") | ... N17: =IFERROR(IF(LEN(N$7)=0,"",INDEX(MainTable,Calc!$DM16,Calc!EB$15)),"")
B18: Responsible Person | D18: =IFERROR(INDEX(Calc!$BU$7:$BU$2006,MATCH(ROW(DynamicList!A18)-ROW(DynamicList!$A$7),Calc!$BT$7:$BT$2006,0)),"") -> 283505 - Graphic Card | E18: =IFERROR(IF(LEN(E$7)=0,"",INDEX(MainTable,Calc!$DM17,Calc!DS$15)),"") -> Computers & Accessories | F18: =IFERROR(IF(LEN(F$7)=0,"",INDEX(MainTable,Calc!$DM17,Calc!DT$15)),"") -> United States | G18: =IFERROR(IF(LEN(G$7)=0,"",INDEX(MainTable,Calc!$DM17,Calc!DU$15)),"") -> 850 | H18: =IFERROR(IF(LEN(H$7)=0,"",INDEX(MainTable,Calc!$DM17,Calc!DV$15)),"") -> 1250 | I18: =IFERROR(IF(LEN(I$7)=0,"",INDEX(MainTable,Calc!$DM17,Calc!DW$15)),"") -> Yellow | J18: =IFERROR(IF(LEN(J$7)=0,"",INDEX(MainTable,Calc!$DM17,Calc!DX$15)),"") -> Amelia Morrison | K18: =IFERROR(IF(LEN(K$7)=0,"",INDEX(MainTable,Calc!$DM17,Calc!DY$15)),"") -> ameliamorrison@mail.com | L18: =IFERROR(IF(LEN(L$7)=0,"",INDEX(MainTable,Calc!$DM17,Calc!DZ$15)),"") | ... N18: =IFERROR(IF(LEN(N$7)=0,"",INDEX(MainTable,Calc!$DM17,Calc!EB$15)),"")
B19: All | D19: =IFERROR(INDEX(Calc!$BU$7:$BU$2006,MATCH(ROW(DynamicList!A19)-ROW(DynamicList!$A$7),Calc!$BT$7:$BT$2006,0)),"") -> 780807 - Keyboard | E19: =IFERROR(IF(LEN(E$7)=0,"",INDEX(MainTable,Calc!$DM18,Calc!DS$15)),"") -> Computers & Accessories | F19: =IFERROR(IF(LEN(F$7)=0,"",INDEX(MainTable,Calc!$DM18,Calc!DT$15)),"") -> China | G19: =IFERROR(IF(LEN(G$7)=0,"",INDEX(MainTable,Calc!$DM18,Calc!DU$15)),"") -> 290 | H19: =IFERROR(IF(LEN(H$7)=0,"",INDEX(MainTable,Calc!$DM18,Calc!DV$15)),"") -> 15 | I19: =IFERROR(IF(LEN(I$7)=0,"",INDEX(MainTable,Calc!$DM18,Calc!DW$15)),"") -> 0 | J19: =IFERROR(IF(LEN(J$7)=0,"",INDEX(MainTable,Calc!$DM18,Calc!DX$15)),"") -> Julia Parr | K19: =IFERROR(IF(LEN(K$7)=0,"",INDEX(MainTable,Calc!$DM18,Calc!DY$15)),"") -> juliaparr@mail.com | L19: =IFERROR(IF(LEN(L$7)=0,"",INDEX(MainTable,Calc!$DM18,Calc!DZ$15)),"") | ... N19: =IFERROR(IF(LEN(N$7)=0,"",INDEX(MainTable,Calc!$DM18,Calc!EB$15)),"")
D20: =IFERROR(INDEX(Calc!$BU$7:$BU$2006,MATCH(ROW(DynamicList!A20)-ROW(DynamicList!$A$7),Calc!$BT$7:$BT$2006,0)),"") -> 156558 - Mouse | E20: =IFERROR(IF(LEN(E$7)=0,"",INDEX(MainTable,Calc!$DM19,Calc!DS$15)),"") -> Computers & Accessories | F20: =IFERROR(IF(LEN(F$7)=0,"",INDEX(MainTable,Calc!$DM19,Calc!DT$15)),"") -> China | G20: =IFERROR(IF(LEN(G$7)=0,"",INDEX(MainTable,Calc!$DM19,Calc!DU$15)),"") -> 120 | H20: =IFERROR(IF(LEN(H$7)=0,"",INDEX(MainTable,Calc!$DM19,Calc!DV$15)),"") -> 25 | I20: =IFERROR(IF(LEN(I$7)=0,"",INDEX(MainTable,Calc!$DM19,Calc!DW$15)),"") -> 0 | J20: =IFERROR(IF(LEN(J$7)=0,"",INDEX(MainTable,Calc!$DM19,Calc!DX$15)),"") -> Amy Murray | K20: =IFERROR(IF(LEN(K$7)=0,"",INDEX(MainTable,Calc!$DM19,Calc!DY$15)),"") -> amymurray@mail.com | L20: =IFERROR(IF(LEN(L$7)=0,"",INDEX(MainTable,Calc!$DM19,Calc!DZ$15)),"") | ... N20: =IFERROR(IF(LEN(N$7)=0,"",INDEX(MainTable,Calc!$DM19,Calc!EB$15)),"")
D21: =IFERROR(INDEX(Calc!$BU$7:$BU$2006,MATCH(ROW(DynamicList!A21)-ROW(DynamicList!$A$7),Calc!$BT$7:$BT$2006,0)),"") -> 270729 - Webcam | E21: =IFERROR(IF(LEN(E$7)=0,"",INDEX(MainTable,Calc!$DM20,Calc!DS$15)),"") -> Computers & Accessories | F21: =IFERROR(IF(LEN(F$7)=0,"",INDEX(MainTable,Calc!$DM20,Calc!DT$15)),"") -> United States | G21: =IFERROR(IF(LEN(G$7)=0,"",INDEX(MainTable,Calc!$DM20,Calc!DU$15)),"") -> 135 | H21: =IFERROR(IF(LEN(H$7)=0,"",INDEX(MainTable,Calc!$DM20,Calc!DV$15)),"") -> 30 | I21: =IFERROR(IF(LEN(I$7)=0,"",INDEX(MainTable,Calc!$DM20,Calc!DW$15)),"") -> 0 | J21: =IFERROR(IF(LEN(J$7)=0,"",INDEX(MainTable,Calc!$DM20,Calc!DX$15)),"") -> Joanne Paige | K21: =IFERROR(IF(LEN(K$7)=0,"",INDEX(MainTable,Calc!$DM20,Calc!DY$15)),"") -> joannepaige@mail.com | L21: =IFERROR(IF(LEN(L$7)=0,"",INDEX(MainTable,Calc!$DM20,Calc!DZ$15)),"") | ... N21: =IFERROR(IF(LEN(N$7)=0,"",INDEX(MainTable,Calc!$DM20,Calc!EB$15)),"")
D22: =IFERROR(INDEX(Calc!$BU$7:$BU$2006,MATCH(ROW(DynamicList!A22)-ROW(DynamicList!$A$7),Calc!$BT$7:$BT$2006,0)),"") -> 156553 - 16 GB Ram | E22: =IFERROR(IF(LEN(E$7)=0,"",INDEX(MainTable,Calc!$DM21,Calc!DS$15)),"") -> Computers & Accessories | F22: =IFERROR(IF(LEN(F$7)=0,"",INDEX(MainTable,Calc!$DM21,Calc!DT$15)),"") -> South Korea | G22: =IFERROR(IF(LEN(G$7)=0,"",INDEX(MainTable,Calc!$DM21,Calc!DU$15)),"") -> 85 | H22: =IFERROR(IF(LEN(H$7)=0,"",INDEX(MainTable,Calc!$DM21,Calc!DV$15)),"") -> 50 | I22: =IFERROR(IF(LEN(I$7)=0,"",INDEX(MainTable,Calc!$DM21,Calc!DW$15)),"") -> 0 | J22: =IFERROR(IF(LEN(J$7)=0,"",INDEX(MainTable,Calc!$DM21,Calc!DX$15)),"") -> Anne North | K22: =IFERROR(IF(LEN(K$7)=0,"",INDEX(MainTable,Calc!$DM21,Calc!DY$15)),"") -> annenorth@mail.com | L22: =IFERROR(IF(LEN(L$7)=0,"",INDEX(MainTable,Calc!$DM21,Calc!DZ$15)),"") | ... N22: =IFERROR(IF(LEN(N$7)=0,"",INDEX(MainTable,Calc!$DM21,Calc!EB$15)),"")
D23: =IFERROR(INDEX(Calc!$BU$7:$BU$2006,MATCH(ROW(DynamicList!A23)-ROW(DynamicList!$A$7),Calc!$BT$7:$BT$2006,0)),"") -> 355243 - 256 GB SSD | E23: =IFERROR(IF(LEN(E$7)=0,"",INDEX(MainTable,Calc!$DM22,Calc!DS$15)),"") -> Computers & Accessories | F23: =IFERROR(IF(LEN(F$7)=0,"",INDEX(MainTable,Calc!$DM22,Calc!DT$15)),"") -> South Korea | G23: =IFERROR(IF(LEN(G$7)=0,"",INDEX(MainTable,Calc!$DM22,Calc!DU$15)),"") -> 360 | H23: =IFERROR(IF(LEN(H$7)=0,"",INDEX(MainTable,Calc!$DM22,Calc!DV$15)),"") -> 85 | I23: =IFERROR(IF(LEN(I$7)=0,"",INDEX(MainTable,Calc!$DM22,Calc!DW$15)),"") -> 0 | J23: =IFERROR(IF(LEN(J$7)=0,"",INDEX(MainTable,Calc!$DM22,Calc!DX$15)),"") -> Joan Oliver | K23: =IFERROR(IF(LEN(K$7)=0,"",INDEX(MainTable,Calc!$DM22,Calc!DY$15)),"") -> joanoliver@mail.com | L23: =IFERROR(IF(LEN(L$7)=0,"",INDEX(MainTable,Calc!$DM22,Calc!DZ$15)),"") | ... N23: =IFERROR(IF(LEN(N$7)=0,"",INDEX(MainTable,Calc!$DM22,Calc!EB$15)),"")
D24: =IFERROR(INDEX(Calc!$BU$7:$BU$2006,MATCH(ROW(DynamicList!A24)-ROW(DynamicList!$A$7),Calc!$BT$7:$BT$2006,0)),"") -> 366906 - Monitor | E24: =IFERROR(IF(LEN(E$7)=0,"",INDEX(MainTable,Calc!$DM23,Calc!DS$15)),"") -> Computers & Accessories | F24: =IFERROR(IF(LEN(F$7)=0,"",INDEX(MainTable,Calc!$DM23,Calc!DT$15)),"") -> China | G24: =IFERROR(IF(LEN(G$7)=0,"",INDEX(MainTable,Calc!$DM23,Calc!DU$15)),"") -> 1950 | H24: =IFERROR(IF(LEN(H$7)=0,"",INDEX(MainTable,Calc!$DM23,Calc!DV$15)),"") -> 450 | I24: =IFERROR(IF(LEN(I$7)=0,"",INDEX(MainTable,Calc!$DM23,Calc!DW$15)),"") -> 0 | J24: =IFERROR(IF(LEN(J$7)=0,"",INDEX(MainTable,Calc!$DM23,Calc!DX$15)),"") -> Katherine Short | K24: =IFERROR(IF(LEN(K$7)=0,"",INDEX(MainTable,Calc!$DM23,Calc!DY$15)),"") -> katherineshort@mail.com | L24: =IFERROR(IF(LEN(L$7)=0,"",INDEX(MainTable,Calc!$DM23,Calc!DZ$15)),"") | ... N24: =IFERROR(IF(LEN(N$7)=0,"",INDEX(MainTable,Calc!$DM23,Calc!EB$15)),"")
D25: =IFERROR(INDEX(Calc!$BU$7:$BU$2006,MATCH(ROW(DynamicList!A25)-ROW(DynamicList!$A$7),Calc!$BT$7:$BT$2006,0)),"") -> 758183 - Laptop Stand | E25: =IFERROR(IF(LEN(E$7)=0,"",INDEX(MainTable,Calc!$DM24,Calc!DS$15)),"") -> Computers & Accessories | F25: =IFERROR(IF(LEN(F$7)=0,"",INDEX(MainTable,Calc!$DM24,Calc!DT$15)),"") -> China | G25: =IFERROR(IF(LEN(G$7)=0,"",INDEX(MainTable,Calc!$DM24,Calc!DU$15)),"") -> 265 | H25: =IFERROR(IF(LEN(H$7)=0,"",INDEX(MainTable,Calc!$DM24,Calc!DV$15)),"") -> 35 | I25: =IFERROR(IF(LEN(I$7)=0,"",INDEX(MainTable,Calc!$DM24,Calc!DW$15)),"") -> 0 | J25: =IFERROR(IF(LEN(J$7)=0,"",INDEX(MainTable,Calc!$DM24,Calc!DX$15)),"") -> Jessica Ogden | K25: =IFERROR(IF(LEN(K$7)=0,"",INDEX(MainTable,Calc!$DM24,Calc!DY$15)),"") -> jessicaogden@mail.com | L25: =IFERROR(IF(LEN(L$7)=0,"",INDEX(MainTable,Calc!$DM24,Calc!DZ$15)),"") | ... N25: =IFERROR(IF(LEN(N$7)=0,"",INDEX(MainTable,Calc!$DM24,Calc!EB$15)),"")
D26: =IFERROR(INDEX(Calc!$BU$7:$BU$2006,MATCH(ROW(DynamicList!A26)-ROW(DynamicList!$A$7),Calc!$BT$7:$BT$2006,0)),"") -> 453919 - Smartwatch | E26: =IFERROR(IF(LEN(E$7)=0,"",INDEX(MainTable,Calc!$DM25,Calc!DS$15)),"") -> Wearable Technology | F26: =IFERROR(IF(LEN(F$7)=0,"",INDEX(MainTable,Calc!$DM25,Calc!DT$15)),"") -> United States | G26: =IFERROR(IF(LEN(G$7)=0,"",INDEX(MainTable,Calc!$DM25,Calc!DU$15)),"") -> 125 | H26: =IFERROR(IF(LEN(H$7)=0,"",INDEX(MainTable,Calc!$DM25,Calc!DV$15)),"") -> 195 | I26: =IFERROR(IF(LEN(I$7)=0,"",INDEX(MainTable,Calc!$DM25,Calc!DW$15)),"") -> 0 | J26: =IFERROR(IF(LEN(J$7)=0,"",INDEX(MainTable,Calc!$DM25,Calc!DX$15)),"") -> Julia Parr | K26: =IFERROR(IF(LEN(K$7)=0,"",INDEX(MainTable,Calc!$DM25,Calc!DY$15)),"") -> juliaparr@mail.com | L26: =IFERROR(IF(LEN(L$7)=0,"",INDEX(MainTable,Calc!$DM25,Calc!DZ$15)),"") | ... N26: =IFERROR(IF(LEN(N$7)=0,"",INDEX(MainTable,Calc!$DM25,Calc!EB$15)),"")
D27: =IFERROR(INDEX(Calc!$BU$7:$BU$2006,MATCH(ROW(DynamicList!A27)-ROW(DynamicList!$A$7),Calc!$BT$7:$BT$2006,0)),"") -> 209243 - Bluetooth Earphones | E27: =IFERROR(IF(LEN(E$7)=0,"",INDEX(MainTable,Calc!$DM26,Calc!DS$15)),"") -> Wearable Technology | F27: =IFERROR(IF(LEN(F$7)=0,"",INDEX(MainTable,Calc!$DM26,Calc!DT$15)),"") -> United States | G27: =IFERROR(IF(LEN(G$7)=0,"",INDEX(MainTable,Calc!$DM26,Calc!DU$15)),"") -> 100 | H27: =IFERROR(IF(LEN(H$7)=0,"",INDEX(MainTable,Calc!$DM26,Calc!DV$15)),"") -> 190 | I27: =IFERROR(IF(LEN(I$7)=0,"",INDEX(MainTable,Calc!$DM26,Calc!DW$15)),"") -> 0 | J27: =IFERROR(IF(LEN(J$7)=0,"",INDEX(MainTable,Calc!$DM26,Calc!DX$15)),"") -> Amy Murray | K27: =IFERROR(IF(LEN(K$7)=0,"",INDEX(MainTable,Calc!$DM26,Calc!DY$15)),"") -> amymurray@mail.com | L27: =IFERROR(IF(LEN(L$7)=0,"",INDEX(MainTable,Calc!$DM26,Calc!DZ$15)),"") | ... N27: =IFERROR(IF(LEN(N$7)=0,"",INDEX(MainTable,Calc!$DM26,Calc!EB$15)),"")
D28: =IFERROR(INDEX(Calc!$BU$7:$BU$2006,MATCH(ROW(DynamicList!A28)-ROW(DynamicList!$A$7),Calc!$BT$7:$BT$2006,0)),"") -> 119933 - Overhead Headphones | E28: =IFERROR(IF(LEN(E$7)=0,"",INDEX(MainTable,Calc!$DM27,Calc!DS$15)),"") -> Wearable Technology | F28: =IFERROR(IF(LEN(F$7)=0,"",INDEX(MainTable,Calc!$DM27,Calc!DT$15)),"") -> South Korea | G28: =IFERROR(IF(LEN(G$7)=0,"",INDEX(MainTable,Calc!$DM27,Calc!DU$15)),"") -> 250 | H28: =IFERROR(IF(LEN(H$7)=0,"",INDEX(MainTable,Calc!$DM27,Calc!DV$15)),"") -> 320 | I28: =IFERROR(IF(LEN(I$7)=0,"",INDEX(MainTable,Calc!$DM27,Calc!DW$15)),"") -> 0 | J28: =IFERROR(IF(LEN(J$7)=0,"",INDEX(MainTable,Calc!$DM27,Calc!DX$15)),"") -> Joanne Paige | K28: =IFERROR(IF(LEN(K$7)=0,"",INDEX(MainTable,Calc!$DM27,Calc!DY$15)),"") -> joannepaige@mail.com | L28: =IFERROR(IF(LEN(L$7)=0,"",INDEX(MainTable,Calc!$DM27,Calc!DZ$15)),"") | ... N28: =IFERROR(IF(LEN(N$7)=0,"",INDEX(MainTable,Calc!$DM27,Calc!EB$15)),"")
D29: =IFERROR(INDEX(Calc!$BU$7:$BU$2006,MATCH(ROW(DynamicList!A29)-ROW(DynamicList!$A$7),Calc!$BT$7:$BT$2006,0)),"") -> 414081 - Smart Glass | E29: =IFERROR(IF(LEN(E$7)=0,"",INDEX(MainTable,Calc!$DM28,Calc!DS$15)),"") -> Wearable Technology | F29: =IFERROR(IF(LEN(F$7)=0,"",INDEX(MainTable,Calc!$DM28,Calc!DT$15)),"") -> Japan | G29: =IFERROR(IF(LEN(G$7)=0,"",INDEX(MainTable,Calc!$DM28,Calc!DU$15)),"") -> 200 | H29: =IFERROR(IF(LEN(H$7)=0,"",INDEX(MainTable,Calc!$DM28,Calc!DV$15)),"") -> 120 | I29: =IFERROR(IF(LEN(I$7)=0,"",INDEX(MainTable,Calc!$DM28,Calc!DW$15)),"") -> White | J29: =IFERROR(IF(LEN(J$7)=0,"",INDEX(MainTable,Calc!$DM28,Calc!DX$15)),"") -> Anne North | K29: =IFERROR(IF(LEN(K$7)=0,"",INDEX(MainTable,Calc!$DM28,Calc!DY$15)),"") -> annenorth@mail.com | L29: =IFERROR(IF(LEN(L$7)=0,"",INDEX(MainTable,Calc!$DM28,Calc!DZ$15)),"") | ... N29: =IFERROR(IF(LEN(N$7)=0,"",INDEX(MainTable,Calc!$DM28,Calc!EB$15)),"")
D30: =IFERROR(INDEX(Calc!$BU$7:$BU$2006,MATCH(ROW(DynamicList!A30)-ROW(DynamicList!$A$7),Calc!$BT$7:$BT$2006,0)),"") -> 598674 - Remote Controller | E30: =IFERROR(IF(LEN(E$7)=0,"",INDEX(MainTable,Calc!$DM29,Calc!DS$15)),"") -> Video Game Consoles | F30: =IFERROR(IF(LEN(F$7)=0,"",INDEX(MainTable,Calc!$DM29,Calc!DT$15)),"") -> Japan | G30: =IFERROR(IF(LEN(G$7)=0,"",INDEX(MainTable,Calc!$DM29,Calc!DU$15)),"") -> 75 | H30: =IFERROR(IF(LEN(H$7)=0,"",INDEX(MainTable,Calc!$DM29,Calc!DV$15)),"") -> 25 | I30: =IFERROR(IF(LEN(I$7)=0,"",INDEX(MainTable,Calc!$DM29,Calc!DW$15)),"") -> Orange | J30: =IFERROR(IF(LEN(J$7)=0,"",INDEX(MainTable,Calc!$DM29,Calc!DX$15)),"") -> Joan Oliver | K30: =IFERROR(IF(LEN(K$7)=0,"",INDEX(MainTable,Calc!$DM29,Calc!DY$15)),"") -> joanoliver@mail.com | L30: =IFERROR(IF(LEN(L$7)=0,"",INDEX(MainTable,Calc!$DM29,Calc!DZ$15)),"") | ... N30: =IFERROR(IF(LEN(N$7)=0,"",INDEX(MainTable,Calc!$DM29,Calc!EB$15)),"")
D31: =IFERROR(INDEX(Calc!$BU$7:$BU$2006,MATCH(ROW(DynamicList!A31)-ROW(DynamicList!$A$7),Calc!$BT$7:$BT$2006,0)),"") -> 327866 - Game Console | E31: =IFERROR(IF(LEN(E$7)=0,"",INDEX(MainTable,Calc!$DM30,Calc!DS$15)),"") -> Video Game Consoles | F31: =IFERROR(IF(LEN(F$7)=0,"",INDEX(MainTable,Calc!$DM30,Calc!DT$15)),"") -> United States | G31: =IFERROR(IF(LEN(G$7)=0,"",INDEX(MainTable,Calc!$DM30,Calc!DU$15)),"") -> 125 | H31: =IFERROR(IF(LEN(H$7)=0,"",INDEX(MainTable,Calc!$DM30,Calc!DV$15)),"") -> 650 | I31: =IFERROR(IF(LEN(I$7)=0,"",INDEX(MainTable,Calc!$DM30,Calc!DW$15)),"") -> White | J31: =IFERROR(IF(LEN(J$7)=0,"",INDEX(MainTable,Calc!$DM30,Calc!DX$15)),"") -> Katherine Short | K31: =IFERROR(IF(LEN(K$7)=0,"",INDEX(MainTable,Calc!$DM30,Calc!DY$15)),"") -> katherineshort@mail.com | L31: =IFERROR(IF(LEN(L$7)=0,"",INDEX(MainTable,Calc!$DM30,Calc!DZ$15)),"") | ... N31: =IFERROR(IF(LEN(N$7)=0,"",INDEX(MainTable,Calc!$DM30,Calc!EB$15)),"")
... D57: =IFERROR(INDEX(Calc!$BU$7:$BU$2006,MATCH(ROW(DynamicList!A57)-ROW(DynamicList!$A$7),Calc!$BT$7:$BT$2006,0)),"") | E57: =IFERROR(IF(LEN(E$7)=0,"",INDEX(MainTable,Calc!$DM56,Calc!DS$15)),"") | F57: =IFERROR(IF(LEN(F$7)=0,"",INDEX(MainTable,Calc!$DM56,Calc!DT$15)),"") | G57: =IFERROR(IF(LEN(G$7)=0,"",INDEX(MainTable,Calc!$DM56,Calc!DU$15)),"") | H57: =IFERROR(IF(LEN(H$7)=0,"",INDEX(MainTable,Calc!$DM56,Calc!DV$15)),"") | I57: =IFERROR(IF(LEN(I$7)=0,"",INDEX(MainTable,Calc!$DM56,Calc!DW$15)),"") | J57: =IFERROR(IF(LEN(J$7)=0,"",INDEX(MainTable,Calc!$DM56,Calc!DX$15)),"") | K57: =IFERROR(IF(LEN(K$7)=0,"",INDEX(MainTable,Calc!$DM56,Calc!DY$15)),"") | L57: =IFERROR(IF(LEN(L$7)=0,"",INDEX(MainTable,Calc!$DM56,Calc!DZ$15)),"") | ... N57: =IFERROR(IF(LEN(N$7)=0,"",INDEX(MainTable,Calc!$DM56,Calc!EB$15)),"")

Sheet Form
C2: PRODUCT DATABASE TEMPLATE
C3: FORM
C7: Product Id - Name | D7: 327866 - Game Console
C9: Category | D9: =IFERROR(INDEX(Calc!$D$6:$AJ$1006,FormMatchFunction,MATCH($C9,Calc!$D$6:$AI$6,0)),"") -> Video Game Consoles
C10: Origin | D10: =IFERROR(INDEX(Calc!$D$6:$AJ$1006,FormMatchFunction,MATCH($C10,Calc!$D$6:$AI$6,0)),"") -> United States
D11: =IFERROR(INDEX(Calc!$D$6:$AJ$1006,FormMatchFunction,MATCH($C11,Calc!$D$6:$AI$6,0)),"")
C12: Weight (g) | D12: =IFERROR(INDEX(Calc!$D$6:$AJ$1006,FormMatchFunction,MATCH($C12,Calc!$D$6:$AI$6,0)),"") -> 125
D13: =IFERROR(INDEX(Calc!$D$6:$AJ$1006,FormMatchFunction,MATCH($C13,Calc!$D$6:$AI$6,0)),"")
C14: Color | D14: =IFERROR(INDEX(Calc!$D$6:$AJ$1006,FormMatchFunction,MATCH($C14,Calc!$D$6:$AI$6,0)),"") -> White
C15: Cost of Unit ($) | D15: =IFERROR(INDEX(Calc!$D$6:$AJ$1006,FormMatchFunction,MATCH($C15,Calc!$D$6:$AI$6,0)),"") -> 650
D16: =IFERROR(INDEX(Calc!$D$6:$AJ$1006,FormMatchFunction,MATCH($C16,Calc!$D$6:$AI$6,0)),"")
C17: Responsible Person | D17: =IFERROR(INDEX(Calc!$D$6:$AJ$1006,FormMatchFunction,MATCH($C17,Calc!$D$6:$AI$6,0)),"") -> Katherine Short
D18: =IFERROR(INDEX(Calc!$D$6:$AJ$1006,FormMatchFunction,MATCH($C18,Calc!$D$6:$AI$6,0)),"")
C19: Contact E-mail | D19: =IFERROR(INDEX(Calc!$D$6:$AJ$1006,FormMatchFunction,MATCH($C19,Calc!$D$6:$AI$6,0)),"") -> katherineshort@mail.com
D20: =IFERROR(INDEX(Calc!$D$6:$AJ$1006,FormMatchFunction,MATCH($C20,Calc!$D$6:$AI$6,0)),"")
D21: =IFERROR(INDEX(Calc!$D$6:$AJ$1006,FormMatchFunction,MATCH($C21,Calc!$D$6:$AI$6,0)),"")
D22: =IFERROR(INDEX(Calc!$D$6:$AJ$1006,FormMatchFunction,MATCH($C22,Calc!$D$6:$AI$6,0)),"")
D23: =IFERROR(INDEX(Calc!$D$6:$AJ$1006,FormMatchFunction,MATCH($C23,Calc!$D$6:$AI$6,0)),"")
D24: =IFERROR(INDEX(Calc!$D$6:$AJ$1006,FormMatchFunction,MATCH($C24,Calc!$D$6:$AI$6,0)),"")
D25: =IFERROR(INDEX(Calc!$D$6:$AJ$1006,FormMatchFunction,MATCH($C25,Calc!$D$6:$AI$6,0)),"")
D26: =IFERROR(INDEX(Calc!$D$6:$AJ$1006,FormMatchFunction,MATCH($C26,Calc!$D$6:$AI$6,0)),"")
D27: =IFERROR(INDEX(Calc!$D$6:$AJ$1006,FormMatchFunction,MATCH($C27,Calc!$D$6:$AI$6,0)),"")
D28: =IFERROR(INDEX(Calc!$D$6:$AJ$1006,FormMatchFunction,MATCH($C28,Calc!$D$6:$AI$6,0)),"")
D29: =IFERROR(INDEX(Calc!$D$6:$AJ$1006,FormMatchFunction,MATCH($C29,Calc!$D$6:$AI$6,0)),"")
D30: =IFERROR(INDEX(Calc!$D$6:$AJ$1006,FormMatchFunction,MATCH($C30,Calc!$D$6:$AI$6,0)),"")
D31: =IFERROR(INDEX(Calc!$D$6:$AJ$1006,FormMatchFunction,MATCH($C31,Calc!$D$6:$AI$6,0)),"")
... D38: =IFERROR(INDEX(Calc!$D$6:$AJ$1006,FormMatchFunction,MATCH($C38,Calc!$D$6:$AI$6,0)),"")

Sheet Dashboard
C2: PRODUCT DATABASE TEMPLATE
C3: DASHBOARD
C7: Category | E7: Origin | G7: Color
C10: Responsible Person

Sheet Calc
AM2: LIST FILTER DROPDOWNS | AS2: LIST FILTER DROPDOWNS | AY2: LIST FILTER DROPDOWNS | BE2: LIST FILTER DROPDOWNS
AM3: Filter 1 | AS3: Filter 2 | AY3: Filter 3 | BE3: Filter 4 | BZ3: DASHBOARD CHART AREA | CH3: DASHBOARD CHART AREA | CP3: DASHBOARD CHART AREA | CX3: DASHBOARD CHART AREA
AO4: =DynamicList!$B$9 -> Category | AQ4: =IFERROR(IF(ISNUMBER(AQ7),COUNT(AQ$7:AQ$56),COUNTIF(AQ$7:AQ$56,"?*")),1000) -> 8 | AU4: =DynamicList!$B$12 -> Origin | AW4: =IFERROR(IF(ISNUMBER(AW7),COUNT(AW$7:AW$56),COUNTIF(AW$7:AW$56,"?*")),1000) -> 5 | BA4: =DynamicList!$B$15 -> Weight (g) | BC4: =IFERROR(IF(ISNUMBER(BC7),COUNT(BC$7:BC$56),COUNTIF(BC$7:BC$56,"?*")),1000) -> 23 | BG4: =DynamicList!$B$18 -> Responsible Person | BI4: =IFERROR(IF(ISNUMBER(BI7),COUNT(BI$7:BI$56),COUNTIF(BI$7:BI$56,"?*")),1000) -> 10 | BZ4: 1st Chart | CH4: 2nd Chart | CP4: 3rd Chart | CX4: 4th Chart
D5: 1 | E5: 2 | F5: 3 | G5: 4 | H5: 5 | I5: 6 | J5: 7 | K5: 8 | L5: 9 | M5: 10 | N5: 11 | O5: 12 | P5: 13 | Q5: 14 | R5: 15 | S5: 16 | T5: 17 | U5: 18 | V5: 19 | W5: 20 | X5: 21 | Y5: 22 | Z5: 23 | AA5: 24 | AB5: 25 | AC5: 26 | AD5: 27 | AE5: 28 | AF5: 29 | AG5: 30 | AH5: 31 | AI5: 32 | AO5: Values | AP5: Without Duplicates | AQ5: Without Blanks | AU5: Values | AV5: Without Duplicates | AW5: Without Blanks | BA5: Values | BB5: Without Duplicates | BC5: Without Blanks | BG5: Values | BH5: Without Duplicates | BI5: Without Blanks | BK5: List Filters | BQ5: Listed Products | BW5: =COUNTIF($BW$7:$BW$2006,1) -> 30 | CD5: Size: | CE5: =IF(SUM($CE$7:$CE$56)=0,1,SUM($CE$7:$CE$56)) -> 8 | CL5: Size: | CM5: =IF(SUM($CM$7:$CM$56)=0,1,SUM($CM$7:$CM$56)) -> 7 | CT5: Size: | CU5: =IF(SUM($CU$7:$CU$56)=0,1,SUM($CU$7:$CU$56)) -> 5 | DB5: Size: | DC5: =IF(SUM($DC$7:$DC$56)=0,1,SUM($DC$7:$DC$56)) -> 10
B6: INDEX | C6: Status | D6: =IFERROR(IF(LEN(INDEX(Database!$B$7:$AG$7,1,Calc!D$5))=0,"",INDEX(Database!$B$7:$AG$7,1,Calc!D$5)),"") -> Product Id/SKU | E6: =IFERROR(IF(LEN(INDEX(Database!$B$7:$AG$7,1,Calc!E$5))=0,"",INDEX(Database!$B$7:$AG$7,1,Calc!E$5)),"") -> Name | F6: =IFERROR(IF(LEN(INDEX(Database!$B$7:$AG$7,1,Calc!F$5))=0,"",INDEX(Database!$B$7:$AG$7,1,Calc!F$5)),"") -> Category | G6: =IFERROR(IF(LEN(INDEX(Database!$B$7:$AG$7,1,Calc!G$5))=0,"",INDEX(Database!$B$7:$AG$7,1,Calc!G$5)),"") -> Origin | H6: =IFERROR(IF(LEN(INDEX(Database!$B$7:$AG$7,1,Calc!H$5))=0,"",INDEX(Database!$B$7:$AG$7,1,Calc!H$5)),"") -> Color | I6: =IFERROR(IF(LEN(INDEX(Database!$B$7:$AG$7,1,Calc!I$5))=0,"",INDEX(Database!$B$7:$AG$7,1,Calc!I$5)),"") -> Weight (g) | J6: =IFERROR(IF(LEN(INDEX(Database!$B$7:$AG$7,1,Calc!J$5))=0,"",INDEX(Database!$B$7:$AG$7,1,Calc!J$5)),"") -> Cost of Unit ($) | K6: =IFERROR(IF(LEN(INDEX(Database!$B$7:$AG$7,1,Calc!K$5))=0,"",INDEX(Database!$B$7:$AG$7,1,Calc!K$5)),"") -> Responsible Person | ... AI6: =IFERROR(IF(LEN(INDEX(Database!$B$7:$AG$7,1,Calc!AI$5))=0,"",INDEX(Database!$B$7:$AG$7,1,Calc!AI$5)),"") | AJ6: Product Id & Name | AK6: Row No | AM6: Filter Index | AN6: Index Without Blanks | AQ6: All | AS6: Filter Index | AT6: Index Without Blanks | AW6: All | AY6: Filter Index | AZ6: Index Without Blanks | BC6: All | BE6: Filter Index | BF6: Index Without Blanks | BI6: All | BK6: =DynamicList!$B$9 -> Category | BL6: =DynamicList!$B$12 -> Origin | BM6: =DynamicList!$B$15 -> Weight (g) | BN6: =DynamicList!$B$18 -> Responsible Person | BO6: TOTAL | BQ6: Filter Index | BR6: Index Without Blanks | BS6: List Product Id - Name | BT6: List Index | BU6: Remove Blanks List Product Id - Name | BW6: Row Number | BX6: Offset Values | BZ6: Filter Index | CA6: Index Without Blanks | CB6: =IFERROR(IF(LEN(Dashboard!$C$7)=0,"",Dashboard!$C$7),"") -> Category | CC6: ="Remove Duplicates " & $CB$6 -> Remove Duplicates Category | CD6: ="Remove Blanks " & $CB$6 -> Remove Blanks Category | CE6: Height | CF6: Total Amount | CH6: Filter Index | CI6: Index Without Blanks | CJ6: =IFERROR(IF(LEN(Dashboard!$G$7)=0,"",Dashboard!$G$7),"") -> Color | CK6: ="Remove Duplicates " & $CJ$6 -> Remove Duplicates Color | CL6: ="Remove Blanks " & $CJ$6 -> Remove Blanks Color | CM6: Height | CN6: Total Amount | CP6: Filter Index | CQ6: Index Without Blanks | CR6: =IFERROR(IF(LEN(Dashboard!$E$7)=0,"",Dashboard!$E$7),"") -> Origin | CS6: ="Remove Duplicates " & $CR$6 -> Remove Duplicates Origin | CT6: ="Remove Blanks " & $CR$6 -> Remove Blanks Origin | CU6: Height | CV6: Total Amount | CX6: Filter Index | CY6: Index Without Blanks | CZ6: =IFERROR(IF(LEN(Dashboard!$C$10)=0,"",Dashboard!$C$10),"") -> Responsible Person | DA6: ="Remove Duplicates " & $CZ$6 -> Remove Duplicates Responsible Person | DB6: ="Remove Blanks " & $CZ$6 -> Remove Blanks Responsible Person | DC6: Height | DD6: Total Amount | DF6: Chart Names | DI6: DATABASE (ROW NUMBER) | DK6: DYNAMIC LIST (ROW NUMBER) | DM6: DYNAMIC LIST (DYNAMIC ROW INDEX) | DO6: FORM (ROW NUMBER) | DQ6: SETTINGS
B7: 1 | C7: =IF(OR(LEN($D7)=0,LEN($E7)=0),"Passive","Active") -> Active | D7: =IFERROR(IF(LEN(INDEX(Database!B$8:B$2007,$B7,1))=0,"",INDEX(Database!B$8:B$2007,$B7,1)),"") -> 668759 | E7: =IFERROR(IF(LEN(INDEX(Database!C$8:C$2007,$B7,1))=0,"",INDEX(Database!C$8:C$2007,$B7,1)),"") -> Phone Holder | F7: =IFERROR(IF($C7="Passive","",INDEX(Database!D$8:D$2007,$B7,1)),"") -> Accessories & Supplies | G7: =IFERROR(IF($C7="Passive","",INDEX(Database!E$8:E$2007,$B7,1)),"") -> China | H7: =IFERROR(IF($C7="Passive","",INDEX(Database!F$8:F$2007,$B7,1)),"") -> Black | I7: =IFERROR(IF($C7="Passive","",INDEX(Database!G$8:G$2007,$B7,1)),"") -> 125 | J7: =IFERROR(IF($C7="Passive","",INDEX(Database!H$8:H$2007,$B7,1)),"") -> 25 | K7: =IFERROR(IF($C7="Passive","",INDEX(Database!I$8:I$2007,$B7,1)),"") -> Amelia Morrison | L7: =IFERROR(IF($C7="Passive","",INDEX(Database!J$8:J$2007,$B7,1)),"") -> ameliamorrison@mail.com | M7: =IFERROR(IF($C7="Passive","",INDEX(Database!K$8:K$2007,$B7,1)),"") -> 0 | ... AI7: =IFERROR(IF($C7="Passive","",INDEX(Database!AG$8:AG$2007,$B7,1)),"") -> 0 | AJ7: =IFERROR(IF(OR(LEN($D7)=0,LEN($E7)=0),"",$D7 & " - " & $E7),"") -> 668759 - Phone Holder | AK7: =IF(AND($D7="",$E7=""),"",ROW($DP7)-ROW($DK$6)) -> 1 | AM7: =IFERROR(IF(OR(LEN($AP7)=0,$AP7=0),"",$B7),"") -> 1 | AN7: =IFERROR(SMALL($AM$7:$AM$56,ROW($AN7)-ROW($AN$6)),"") -> 1 | AO7: =IFERROR(INDEX(MainTable,$B7,MATCH($AO$4,DatabaseHeaders,0),1),"") -> Accessories & Supplies | AP7: =IFERROR(IF(COUNTIF($AO$7:$AO7,$AO7)>1,"",$AO7),"") -> Accessories & Supplies | AQ7: =IF(LEN($AN7)>0,INDEX($AP$7:$AP$56,$AN7),"") -> Accessories & Supplies | AS7: =IFERROR(IF(OR(LEN($AV7)=0,$AV7=0),"",$B7),"") -> 1 | AT7: =IFERROR(SMALL($AS$7:$AS$56,ROW($AT7)-ROW($AT$6)),"") -> 1 | AU7: =IFERROR(INDEX(MainTable,$B7,MATCH($AU$4,DatabaseHeaders,0),1),"") -> China | AV7: =IFERROR(IF(COUNTIF($AU$7:$AU7,$AU7)>1,"",$AU7),"") -> China | AW7: =IF(LEN($AT7)>0,INDEX($AV$7:$AV$56,$AT7),"") -> China | AY7: =IFERROR(IF(OR(LEN($BB7)=0,$BB7=0),"",$B7),"") -> 1 | AZ7: =IFERROR(SMALL($AY$7:$AY$56,ROW($AZ7)-ROW($AZ$6)),"") -> 1 | BA7: =IFERROR(INDEX(MainTable,$B7,MATCH($BA$4,DatabaseHeaders,0),1),"") -> 125 | BB7: =IFERROR(IF(COUNTIF($BA$7:$BA7,$BA7)>1,"",$BA7),"") -> 125 | BC7: =IF(LEN($AZ7)>0,INDEX($BB$7:$BB$56,$AZ7),"") -> 125 | BE7: =IFERROR(IF(OR(LEN($BH7)=0,$BH7=0),"",$B7),"") -> 1 | BF7: =IFERROR(SMALL($BE$7:$BE$56,ROW($BF7)-ROW($BF$6)),"") -> 1 | BG7: =IFERROR(INDEX(MainTable,$B7,MATCH($BG$4,DatabaseHeaders,0),1),"") -> Amelia Morrison | BH7: =IFERROR(IF(COUNTIF($BG$7:$BG7,$BG7)>1,"",$BG7),"") -> Amelia Morrison | BI7: =IF(LEN($BF7)>0,INDEX($BH$7:$BH$56,$BF7),"") -> Amelia Morrison | BK7: =IFERROR(IF(LEN(BK$6)=0,1,IF(OR(DynamicList!$B$10="",DynamicList!$B$10="All"),1,IF(DynamicList!$B$10=INDEX(MainTable,$B7,MATCH(BK$6,DatabaseHeaders,0)),1,0))),0) -> 1 | BL7: =IFERROR(IF(LEN(BL$6)=0,1,IF(OR(DynamicList!$B$13="",DynamicList!$B$13="All"),1,IF(DynamicList!$B$13=INDEX(MainTable,$B7,MATCH(BL$6,DatabaseHeaders,0)),1,0))),0) -> 1 | BM7: =IFERROR(IF(LEN(BM$6)=0,1,IF(OR(DynamicList!$B$16="",DynamicList!$B$16="All"),1,IF(DynamicList!$B$16=INDEX(MainTable,$B7,MATCH(BM$6,DatabaseHeaders,0)),1,0))),0) -> 1 | BN7: =IFERROR(IF(LEN(BN$6)=0,1,IF(OR(DynamicList!$B$19="",DynamicList!$B$19="All"),1,IF(DynamicList!$B$19=INDEX(MainTable,$B7,MATCH(BN$6,DatabaseHeaders,0)),1,0))),0) -> 1 | BO7: =BK7*BL7*BM7*BN7 -> 1 | BQ7: =IFERROR(IF(OR(LEN($BS7)=0,$BS7=0),"",$B7),"") -> 1 | BR7: =IFERROR(SMALL($BQ$7:$BQ$56,ROW($BR7)-ROW($BR$6)),"") -> 1 | BS7: =IF($BO7=1,$AJ7,"") -> 668759 - Phone Holder | BT7: =IF(LEN($BU$7)>0,1,"") -> 1 | BU7: =IF(LEN($BR7)>0,INDEX($BS$7:$BS$56,$BR7),"") -> 668759 - Phone Holder | BW7: =IF($BX7<>"",1,"") -> 1 | BX7: =IFERROR(SMALL($AK$7:$AK$56,ROW(BX7)-ROW($BX$6)),"") -> 1 | BZ7: =IFERROR(IF(OR(LEN($CC7)=0,$CC7=0),"",$B7),"") -> 1 | CA7: =IFERROR(SMALL($BZ$7:$BZ$56,ROW($CA7)-ROW($CA$6)),"") -> 1 | CB7: =IFERROR(INDEX(MainTable,$BX7,MATCH($CB$6,DatabaseHeaders,0),1),"") -> Accessories & Supplies | CC7: =IFERROR(IF(COUNTIF($CB$7:$CB7,$CB7)>1,"",$CB7),"") -> Accessories & Supplies | CD7: =IF(LEN($CA7)>0,INDEX($CC$7:$CC$56,$CA7),"") -> Accessories & Supplies | CE7: =IF(LEN($CD7)>0,1,0) -> 1 | CF7: =IFERROR(IF(LEN($CD7)=0,"",COUNTIF($CB$7:$CB$56,$CD7)),"") -> 3 | CH7: =IFERROR(IF(OR(LEN($CK7)=0,$CK7=0),"",$B7),"") -> 1 | CI7: =IFERROR(SMALL($CH$7:$CH$56,ROW($CI7)-ROW($CI$6)),"") -> 1 | CJ7: =IFERROR(INDEX(MainTable,$BX7,MATCH($CJ$6,DatabaseHeaders,0),1),"") -> Black | CK7: =IFERROR(IF(COUNTIF($CJ$7:$CJ7,$CJ7)>1,"",$CJ7),"") -> Black | CL7: =IF(LEN($CI7)>0,INDEX($CK$7:$CK$56,$CI7),"") -> Black | CM7: =IF(LEN($CL7)>0,1,0) -> 1 | CN7: =IFERROR(IF(LEN($CL7)=0,"",COUNTIF($CJ$7:$CJ$56,$CL7)),"") -> 5 | CP7: =IFERROR(IF(OR(LEN($CS7)=0,$CS7=0),"",$B7),"") -> 1 | CQ7: =IFERROR(SMALL($CP$7:$CP$56,ROW($CQ7)-ROW($CQ$6)),"") -> 1 | CR7: =IFERROR(INDEX(MainTable,$BX7,MATCH($CR$6,DatabaseHeaders,0),1),"") -> China | CS7: =IFERROR(IF(COUNTIF($CR$7:$CR7,$CR7)>1,"",$CR7),"") -> China | CT7: =IF(LEN($CQ7)>0,INDEX($CS$7:$CS$56,$CQ7),"") -> China | CU7: =IF(LEN($CT7)>0,1,0) -> 1 | CV7: =IFERROR(IF(LEN($CT7)=0,"",COUNTIF($CR$7:$CR$56,$CT7)),"") -> 11 | CX7: =IFERROR(IF(OR(LEN($DA7)=0,$DA7=0),"",$B7),"") -> 1 | CY7: =IFERROR(SMALL($CX$7:$CX$56,ROW($CY7)-ROW($CY$6)),"") -> 1 | CZ7: =IFERROR(INDEX(MainTable,$BX7,MATCH($CZ$6,DatabaseHeaders,0),1),"") -> Amelia Morrison | DA7: =IFERROR(IF(COUNTIF($CZ$7:$CZ7,$CZ7)>1,"",$CZ7),"") -> Amelia Morrison | DB7: =IF(LEN($CY7)>0,INDEX($DA$7:$DA$56,$CY7),"") -> Amelia Morrison | DC7: =IF(LEN($DB7)>0,1,0) -> 1 | DD7: =IFERROR(IF(LEN($DB7)=0,"",COUNTIF($CZ$7:$CZ$56,$DB7)),"") -> 2 | DF7: 1st Chart Title | DG7: ="Count by - " & Dashboard!$C$7 -> Count by - Category | DI7: =IF(LEN(Database!$C8)>0,ROW(Database!$C8),"") -> 8 | DK7: =IF(DynamicList!$D8<>"",ROW(DynamicList!$D8),"") -> 8 | DM7: =IF(LEN(DynamicList!$D8)=0,"",MATCH(DynamicList!$D8,Calc!$AJ$7:$AJ$56,0)) -> 1 | DO7: =IF(LEN(Form!$C9)>0,ROW(Form!$C9),"") -> 9 | DQ7: Column Numbers | DR7: =IFERROR(IF(DR$8>0,COLUMN(Settings!B$10),""),"") -> 2 | DS7: =IFERROR(IF(DS$8>0,COLUMN(Settings!C$10),""),"") -> 3 | DT7: =IFERROR(IF(DT$8>0,COLUMN(Settings!D$10),""),"") -> 4 | DU7: =IFERROR(IF(DU$8>0,COLUMN(Settings!E$10),""),"") -> 5 | DV7: =IFERROR(IF(DV$8>0,COLUMN(Settings!F$10),""),"") -> 6 | DW7: =IFERROR(IF(DW$8>0,COLUMN(Settings!G$10),""),"") -> 7 | DX7: =IFERROR(IF(DX$8>0,COLUMN(Settings!H$10),""),"") | DY7: =IFERROR(IF(DY$8>0,COLUMN(Settings!I$10),""),"") | ... EF7: =IFERROR(IF(EF$8>0,COLUMN(Settings!P$10),""),"")
B8: 2 | C8: =IF(OR(LEN($D8)=0,LEN($E8)=0),"Passive","Active") -> Active | D8: =IFERROR(IF(LEN(INDEX(Database!B$8:B$2007,$B8,1))=0,"",INDEX(Database!B$8:B$2007,$B8,1)),"") -> 150461 | E8: =IFERROR(IF(LEN(INDEX(Database!C$8:C$2007,$B8,1))=0,"",INDEX(Database!C$8:C$2007,$B8,1)),"") -> Digital Picture Frame | F8: =IFERROR(IF($C8="Passive","",INDEX(Database!D$8:D$2007,$B8,1)),"") -> Accessories & Supplies | G8: =IFERROR(IF($C8="Passive","",INDEX(Database!E$8:E$2007,$B8,1)),"") -> China | H8: =IFERROR(IF($C8="Passive","",INDEX(Database!F$8:F$2007,$B8,1)),"") -> White | I8: =IFERROR(IF($C8="Passive","",INDEX(Database!G$8:G$2007,$B8,1)),"") -> 350 | J8: =IFERROR(IF($C8="Passive","",INDEX(Database!H$8:H$2007,$B8,1)),"") -> 65 | K8: =IFERROR(IF($C8="Passive","",INDEX(Database!I$8:I$2007,$B8,1)),"") -> Julia Parr | L8: =IFERROR(IF($C8="Passive","",INDEX(Database!J$8:J$2007,$B8,1)),"") -> juliaparr@mail.com | M8: =IFERROR(IF($C8="Passive","",INDEX(Database!K$8:K$2007,$B8,1)),"") -> 0 | ... AI8: =IFERROR(IF($C8="Passive","",INDEX(Database!AG$8:AG$2007,$B8,1)),"") -> 0 | AJ8: =IFERROR(IF(OR(LEN($D8)=0,LEN($E8)=0),"",$D8 & " - " & $E8),"") -> 150461 - Digital Picture Frame | AK8: =IF(AND($D8="",$E8=""),"",ROW($DP8)-ROW($DK$6)) -> 2 | AM8: =IFERROR(IF(OR(LEN($AP8)=0,$AP8=0),"",$B8),"") | AN8: =IFERROR(SMALL($AM$7:$AM$56,ROW($AN8)-ROW($AN$6)),"") -> 4 | AO8: =IFERROR(INDEX(MainTable,$B8,MATCH($AO$4,DatabaseHeaders,0),1),"") -> Accessories & Supplies | AP8: =IFERROR(IF(COUNTIF($AO$7:$AO8,$AO8)>1,"",$AO8),"") | AQ8: =IF(LEN($AN8)>0,INDEX($AP$7:$AP$56,$AN8),"") -> Camera & Photo | AS8: =IFERROR(IF(OR(LEN($AV8)=0,$AV8=0),"",$B8),"") | AT8: =IFERROR(SMALL($AS$7:$AS$56,ROW($AT8)-ROW($AT$6)),"") -> 3 | AU8: =IFERROR(INDEX(MainTable,$B8,MATCH($AU$4,DatabaseHeaders,0),1),"") -> China | AV8: =IFERROR(IF(COUNTIF($AU$7:$AU8,$AU8)>1,"",$AU8),"") | AW8: =IF(LEN($AT8)>0,INDEX($AV$7:$AV$56,$AT8),"") -> Germany | AY8: =IFERROR(IF(OR(LEN($BB8)=0,$BB8=0),"",$B8),"") -> 2 | AZ8: =IFERROR(SMALL($AY$7:$AY$56,ROW($AZ8)-ROW($AZ$6)),"") -> 2 | BA8: =IFERROR(INDEX(MainTable,$B8,MATCH($BA$4,DatabaseHeaders,0),1),"") -> 350 | BB8: =IFERROR(IF(COUNTIF($BA$7:$BA8,$BA8)>1,"",$BA8),"") -> 350 | BC8: =IF(LEN($AZ8)>0,INDEX($BB$7:$BB$56,$AZ8),"") -> 350 | BE8: =IFERROR(IF(OR(LEN($BH8)=0,$BH8=0),"",$B8),"") -> 2 | BF8: =IFERROR(SMALL($BE$7:$BE$56,ROW($BF8)-ROW($BF$6)),"") -> 2 | BG8: =IFERROR(INDEX(MainTable,$B8,MATCH($BG$4,DatabaseHeaders,0),1),"") -> Julia Parr | BH8: =IFERROR(IF(COUNTIF($BG$7:$BG8,$BG8)>1,"",$BG8),"") -> Julia Parr | BI8: =IF(LEN($BF8)>0,INDEX($BH$7:$BH$56,$BF8),"") -> Julia Parr | BK8: =IFERROR(IF(LEN(BK$6)=0,1,IF(OR(DynamicList!$B$10="",DynamicList!$B$10="All"),1,IF(DynamicList!$B$10=INDEX(MainTable,$B8,MATCH(BK$6,DatabaseHeaders,0)),1,0))),0) -> 1 | BL8: =IFERROR(IF(LEN(BL$6)=0,1,IF(OR(DynamicList!$B$13="",DynamicList!$B$13="All"),1,IF(DynamicList!$B$13=INDEX(MainTable,$B8,MATCH(BL$6,DatabaseHeaders,0)),1,0))),0) -> 1 | BM8: =IFERROR(IF(LEN(BM$6)=0,1,IF(OR(DynamicList!$B$16="",DynamicList!$B$16="All"),1,IF(DynamicList!$B$16=INDEX(MainTable,$B8,MATCH(BM$6,DatabaseHeaders,0)),1,0))),0) -> 1 | BN8: =IFERROR(IF(LEN(BN$6)=0,1,IF(OR(DynamicList!$B$19="",DynamicList!$B$19="All"),1,IF(DynamicList!$B$19=INDEX(MainTable,$B8,MATCH(BN$6,DatabaseHeaders,0)),1,0))),0) -> 1 | BO8: =BK8*BL8*BM8*BN8 -> 1 | BQ8: =IFERROR(IF(OR(LEN($BS8)=0,$BS8=0),"",$B8),"") -> 2 | BR8: =IFERROR(SMALL($BQ$7:$BQ$56,ROW($BR8)-ROW($BR$6)),"") -> 2 | BS8: =IF($BO8=1,$AJ8,"") -> 150461 - Digital Picture Frame | BT8: =IF(LEN($BU8)>0,BT7+1,"") -> 2 | BU8: =IF(LEN($BR8)>0,INDEX($BS$7:$BS$56,$BR8),"") -> 150461 - Digital Picture Frame | BW8: =IF($BX8<>"",1,"") -> 1 | BX8: =IFERROR(SMALL($AK$7:$AK$56,ROW(BX8)-ROW($BX$6)),"") -> 2 | BZ8: =IFERROR(IF(OR(LEN($CC8)=0,$CC8=0),"",$B8),"") | CA8: =IFERROR(SMALL($BZ$7:$BZ$56,ROW($CA8)-ROW($CA$6)),"") -> 4 | CB8: =IFERROR(INDEX(MainTable,$BX8,MATCH($CB$6,DatabaseHeaders,0),1),"") -> Accessories & Supplies | CC8: =IFERROR(IF(COUNTIF($CB$7:$CB8,$CB8)>1,"",$CB8),"") | CD8: =IF(LEN($CA8)>0,INDEX($CC$7:$CC$56,$CA8),"") -> Camera & Photo | CE8: =IF(LEN($CD8)>0,1,0) -> 1 | CF8: =IFERROR(IF(LEN($CD8)=0,"",COUNTIF($CB$7:$CB$56,$CD8)),"") -> 5 | CH8: =IFERROR(IF(OR(LEN($CK8)=0,$CK8=0),"",$B8),"") -> 2 | CI8: =IFERROR(SMALL($CH$7:$CH$56,ROW($CI8)-ROW($CI$6)),"") -> 2 | CJ8: =IFERROR(INDEX(MainTable,$BX8,MATCH($CJ$6,DatabaseHeaders,0),1),"") -> White | CK8: =IFERROR(IF(COUNTIF($CJ$7:$CJ8,$CJ8)>1,"",$CJ8),"") -> White | CL8: =IF(LEN($CI8)>0,INDEX($CK$7:$CK$56,$CI8),"") -> White | CM8: =IF(LEN($CL8)>0,1,0) -> 1 | CN8: =IFERROR(IF(LEN($CL8)=0,"",COUNTIF($CJ$7:$CJ$56,$CL8)),"") -> 5 | CP8: =IFERROR(IF(OR(LEN($CS8)=0,$CS8=0),"",$B8),"") | CQ8: =IFERROR(SMALL($CP$7:$CP$56,ROW($CQ8)-ROW($CQ$6)),"") -> 3 | CR8: =IFERROR(INDEX(MainTable,$BX8,MATCH($CR$6,DatabaseHeaders,0),1),"") -> China | CS8: =IFERROR(IF(COUNTIF($CR$7:$CR8,$CR8)>1,"",$CR8),"") | CT8: =IF(LEN($CQ8)>0,INDEX($CS$7:$CS$56,$CQ8),"") -> Germany | CU8: =IF(LEN($CT8)>0,1,0) -> 1 | CV8: =IFERROR(IF(LEN($CT8)=0,"",COUNTIF($CR$7:$CR$56,$CT8)),"") -> 3 | CX8: =IFERROR(IF(OR(LEN($DA8)=0,$DA8=0),"",$B8),"") -> 2 | CY8: =IFERROR(SMALL($CX$7:$CX$56,ROW($CY8)-ROW($CY$6)),"") -> 2 | CZ8: =IFERROR(INDEX(MainTable,$BX8,MATCH($CZ$6,DatabaseHeaders,0),1),"") -> Julia Parr | DA8: =IFERROR(IF(COUNTIF($CZ$7:$CZ8,$CZ8)>1,"",$CZ8),"") -> Julia Parr | DB8: =IF(LEN($CY8)>0,INDEX($DA$7:$DA$56,$CY8),"") -> Julia Parr | DC8: =IF(LEN($DB8)>0,1,0) -> 1 | DD8: =IFERROR(IF(LEN($DB8)=0,"",COUNTIF($CZ$7:$CZ$56,$DB8)),"") -> 4 | DF8: 2nd Chart Title | DG8: ="Count by - " & Dashboard!$G$7 -> Count by - Color | DI8: =IF(LEN(Database!$C9)>0,ROW(Database!$C9),"") -> 9 | DK8: =IF(DynamicList!$D9<>"",ROW(DynamicList!$D9),"") -> 9 | DM8: =IF(LEN(DynamicList!$D9)=0,"",MATCH(DynamicList!$D9,Calc!$AJ$7:$AJ$2006,0)) -> 2 | DO8: =IF(LEN(Form!$C10)>0,ROW(Form!$C10),"") -> 10 | DQ8: Rows Count for Each Section | DR8: =IFERROR(IF(COUNTA(Settings!B$11:B$35)=0,0,COUNTA(Settings!B$11:B$35)),0) -> 8 | DS8: =IFERROR(IF(COUNTA(Settings!C$11:C$35)=0,0,COUNTA(Settings!C$11:C$35)),0) -> 6 | DT8: =IFERROR(IF(COUNTA(Settings!D$11:D$35)=0,0,COUNTA(Settings!D$11:D$35)),0) -> 7 | DU8: =IFERROR(IF(COUNTA(Settings!E$11:E$35)=0,0,COUNTA(Settings!E$11:E$35)),0) -> 4 | DV8: =IFERROR(IF(COUNTA(Settings!F$11:F$35)=0,0,COUNTA(Settings!F$11:F$35)),0) -> 4 | DW8: =IFERROR(IF(COUNTA(Settings!G$11:G$35)=0,0,COUNTA(Settings!G$11:G$35)),0) -> 10 | DX8: =IFERROR(IF(COUNTA(Settings!H$11:H$35)=0,0,COUNTA(Settings!H$11:H$35)),0) -> 0 | DY8: =IFERROR(IF(COUNTA(Settings!I$11:I$35)=0,0,COUNTA(Settings!I$11:I$35)),0) -> 0 | ... EF8: =IFERROR(IF(COUNTA(Settings!P$11:P$35)=0,0,COUNTA(Settings!P$11:P$35)),0) -> 0
