Workbook
Name chart1range: OFFSET(Calc!$AI$4,,,Calc!$AI$2,)
Name chart1range2: OFFSET(Calc!$AJ$4,,,Calc!$AI$2,)
Name chart2range: OFFSET(Calc!$BR$4,,,Calc!$BR$2,)
Name chart2range2: OFFSET(Calc!$BS$4,,,Calc!$BR$2,)

Sheet Dashboard
D2: SKILLS MATRIX TEMPLATE
D3: DASHBOARD
C7: Choose Person | G7: Jemima Begum
C37: Choose Department | G37: Operations
C65: Choose Skill | G65: Teamwork/Collaboration
C67: # | D67: Best 10 Employee | E67: Department | F67: Point | H67: # | I67: Worst 10 Employee | J67: Department | K67: Point
C68: 1 | D68: {=INDEX(Calc!CA4:$CC$13,,)} -> Doris Power | E68: Finance | F68: 3 | H68: 1 | I68: {=INDEX(Calc!$CF$4:$CH$13,,)} -> Jessica Palmer | J68: Operations | K68: 1
C69: 2 | D69: Jemima Begum | E69: Marketing | F69: 2 | H69: 2 | I69: Carmel Beltran | J69: Finance | K69: 1
C70: 3 | D70: Carmel Beltran | E70: Finance | F70: 1 | H70: 3 | I70: Jemima Begum | J70: Marketing | K70: 2
C71: 4 | D71: Jessica Palmer | E71: Operations | F71: 1 | H71: 4 | I71: Doris Power | J71: Finance | K71: 3
C72: 5 | H72: 5
C73: 6 | H73: 6
C74: 7 | H74: 7
C75: 8 | H75: 8
C76: 9 | H76: 9
C77: 10 | H77: 10

Sheet Input
B2: SKILLS MATRIX TEMPLATE
B3: INPUT
B6: Name | C6: Department | D6: =IF(Settings!$E$10="","",Settings!$E$10) -> Communication Skills | E6: =IF(Settings!$E$11="","",Settings!$E$11) -> Teamwork/Collaboration | F6: =IF(Settings!$E$12="","",Settings!$E$12) -> Leadership | G6: =IF(Settings!$E$13="","",Settings!$E$13) -> Problem-Solving | H6: =IF(Settings!$E$14="","",Settings!$E$14) -> Time Management | I6: =IF(Settings!$E$15="","",Settings!$E$15) -> Adaptability/Flexibility | J6: =IF(Settings!$E$16="","",Settings!$E$16) -> Creativity/Innovation | K6: =IF(Settings!$E$17="","",Settings!$E$17) | L6: =IF(Settings!$E$18="","",Settings!$E$18) | M6: =IF(Settings!$E$19="","",Settings!$E$19) | N6: =IF(Settings!$E$20="","",Settings!$E$20) | O6: =IF(Settings!$E$21="","",Settings!$E$21) | P6: =IF(Settings!$E$22="","",Settings!$E$22) | Q6: =IF(Settings!$E$23="","",Settings!$E$23) | R6: =IF(Settings!$E$24="","",Settings!$E$24) | S6: =IF(Settings!$E$25="","",Settings!$E$25) | T6: =IF(Settings!$E$26="","",Settings!$E$26) | U6: =IF(Settings!$E$27="","",Settings!$E$27) | V6: =IF(Settings!$E$28="","",Settings!$E$28) | W6: =IF(Settings!$E$29="","",Settings!$E$29) | X6: =IF(Settings!$E$30="","",Settings!$E$30) | Y6: =IF(Settings!$E$31="","",Settings!$E$31) | Z6: =IF(Settings!$E$32="","",Settings!$E$32) | AA6: =IF(Settings!$E$33="","",Settings!$E$33) | AB6: =IF(Settings!$E$34="","",Settings!$E$34) | AC6: =IF(Settings!$E$35="","",Settings!$E$35) | AD6: =IF(Settings!$E$36="","",Settings!$E$36) | AE6: =IF(Settings!$E$37="","",Settings!$E$37) | AF6: =IF(Settings!$E$38="","",Settings!$E$38) | AG6: =IF(Settings!$E$39="","",Settings!$E$39)
B7: Jemima Begum | C7: Marketing | D7: 2 | E7: 2 | F7: 4 | G7: 5 | H7: 2 | I7: 4 | J7: 3
B8: Carmel Beltran | C8: Finance | D8: 5 | E8: 1 | F8: 2 | G8: 3 | H8: 3 | I8: 3 | J8: 5
B9: Doris Power | C9: Finance | D9: 3 | E9: 3 | F9: 1 | G9: 5 | H9: 5 | I9: 2 | J9: 2
B10: Jessica Palmer | C10: Operations | D10: 5 | E10: 1 | F10: 5 | G10: 5 | H10: 2 | I10: 4 | J10: 4

Sheet Settings
C2: SKILLS MATRIX TEMPLATE
C3: SETTINGS
C7: OPTIONS FOR DROPDOWN MENUS
C9: Departments | E9: Skills | G9: Rate | H9: Point
C10: Operations | E10: Communication Skills | G10: High | H10: 5
C11: Marketing | E11: Teamwork/Collaboration | G11: Good | H11: 4
C12: Finance | E12: Leadership | G12: Normal | H12: 3
C13: Sales | E13: Problem-Solving | G13: Need Improve | H13: 2
C14: HR | E14: Time Management | G14: Low | H14: 1
C15: Purchase | E15: Adaptability/Flexibility
C16: Accounting | E16: Creativity/Innovation

Sheet Calc
B2: =COUNTA(B3:B13)-COUNTBLANK(B3:B13) -> 5 | AI2: =COUNTA(AI4:AI13)-COUNTBLANK(AI4:AI13) -> 7 | AM2: =COUNTA(AM4:AM13)-COUNTBLANK(AM4:AM13) -> 3 | BR2: =IF(COUNTA(BS4:BS13)-COUNTBLANK(BS4:BS13)=0,1,COUNTA(BS4:BS13)-COUNTBLANK(BS4:BS13)) -> 7 | CA2: BEST 10 | CF2: worst 10
B3: =IFERROR(IF(Input!B6="","",Input!B6),"") -> Name | C3: =IFERROR(IF(Input!C6="","",Input!C6),"") -> Department | D3: =IFERROR(IF(Input!D6="","",Input!D6),"") -> Communication Skills | E3: =IFERROR(IF(Input!E6="","",Input!E6),"") -> Teamwork/Collaboration | F3: =IFERROR(IF(Input!F6="","",Input!F6),"") -> Leadership | G3: =IFERROR(IF(Input!G6="","",Input!G6),"") -> Problem-Solving | H3: =IFERROR(IF(Input!H6="","",Input!H6),"") -> Time Management | I3: =IFERROR(IF(Input!I6="","",Input!I6),"") -> Adaptability/Flexibility | ... M3: =IFERROR(IF(Input!M6="","",Input!M6),"") | AI3: Skill | AJ3: Point | AL3: Role | AM3: =IFERROR(IF(Input!D6="","",Input!D6),"") -> Communication Skills | AN3: =IFERROR(IF(Input!E6="","",Input!E6),"") -> Teamwork/Collaboration | AO3: =IFERROR(IF(Input!F6="","",Input!F6),"") -> Leadership | AP3: =IFERROR(IF(Input!G6="","",Input!G6),"") -> Problem-Solving | AQ3: =IFERROR(IF(Input!H6="","",Input!H6),"") -> Time Management | AR3: =IFERROR(IF(Input!I6="","",Input!I6),"") -> Adaptability/Flexibility | AS3: =IFERROR(IF(Input!J6="","",Input!J6),"") -> Creativity/Innovation | AT3: =IFERROR(IF(Input!K6="","",Input!K6),"") | ... AV3: =IFERROR(IF(Input!M6="","",Input!M6),"") | BR3: Skill | BS3: Average of Role | BU3: =Dashboard!G65 -> Teamwork/Collaboration | BW3: =MATCH(BU3,$D$3:$M$3,0) -> 2 | BX3: Rank | BZ3: Index | CA3: Name | CB3: Department | CC3: Point | CE3: Index | CF3: Name | CG3: Department | CH3: Point
B4: =IFERROR(IF(Input!B7="","",Input!B7),"") -> Jemima Begum | C4: =IFERROR(IF(Input!C7="","",Input!C7),"") -> Marketing | D4: =IFERROR(IF(Input!D7="","",Input!D7),"") -> 2 | E4: =IFERROR(IF(Input!E7="","",Input!E7),"") -> 2 | F4: =IFERROR(IF(Input!F7="","",Input!F7),"") -> 4 | G4: =IFERROR(IF(Input!G7="","",Input!G7),"") -> 5 | H4: =IFERROR(IF(Input!H7="","",Input!H7),"") -> 2 | I4: =IFERROR(IF(Input!I7="","",Input!I7),"") -> 4 | ... AG4: =IFERROR(IF(Input!AG7="","",Input!AG7),"") | AI4: =IF(Settings!E10="","",Settings!E10) -> Communication Skills | AJ4: =IFERROR(INDEX($B$4:$AG$503,MATCH(Dashboard!$G$7,Calc!$B$4:$B$503,0),MATCH(Calc!$AI4,Calc!$B$3:$AG$3,0)),"") -> 2 | AL4: =IF(Settings!C10="","",Settings!C10) -> Operations | AM4: =IFERROR(IF(AL4="","",SUMIF($C$4:$C$13,$AL4,D$4:D$13)/COUNTIF($C$4:$C$13,$AL4)),"") -> 5 | AN4: =IFERROR(IF(AM4="","",SUMIF($C$4:$C$13,$AL4,E$4:E$13)/COUNTIF($C$4:$C$13,$AL4)),"") -> 1 | AO4: =IFERROR(IF(AN4="","",SUMIF($C$4:$C$13,$AL4,F$4:F$13)/COUNTIF($C$4:$C$13,$AL4)),"") -> 5 | AP4: =IFERROR(IF(AO4="","",SUMIF($C$4:$C$13,$AL4,G$4:G$13)/COUNTIF($C$4:$C$13,$AL4)),"") -> 5 | AQ4: =IFERROR(IF(AP4="","",SUMIF($C$4:$C$13,$AL4,H$4:H$13)/COUNTIF($C$4:$C$13,$AL4)),"") -> 2 | AR4: =IFERROR(IF(AQ4="","",SUMIF($C$4:$C$13,$AL4,I$4:I$13)/COUNTIF($C$4:$C$13,$AL4)),"") -> 4 | AS4: =IFERROR(IF(AR4="","",SUMIF($C$4:$C$13,$AL4,J$4:J$13)/COUNTIF($C$4:$C$13,$AL4)),"") -> 4 | AT4: =IFERROR(IF(AS4="","",SUMIF($C$4:$C$13,$AL4,K$4:K$13)/COUNTIF($C$4:$C$13,$AL4)),"") -> 0 | ... AV4: =IFERROR(IF(AU4="","",SUMIF($C$4:$C$13,$AL4,M$4:M$13)/COUNTIF($C$4:$C$13,$AL4)),"") -> 0 | BR4: =IF(Settings!E10="","",Settings!E10) -> Communication Skills | BS4: =IFERROR(IF(INDEX($AL$4:$AV$13,MATCH(Dashboard!$G$37,Calc!$AL$4:$AL$13,0),MATCH(Calc!$BR4,Calc!$AL$3:$AV$3,0))=0,"",INDEX($AL$4:$AV$13,MATCH(Dashboard!$G$37,Calc!$AL$4:$AL$13,0),MATCH(Calc!$BR4,Calc!$AL$3:$AV$3,0))),"") -> 5 | BU4: =B4 -> Jemima Begum | BV4: =C4 -> Marketing | BW4: {=IFERROR(INDEX($D4:$M4,$BW$3),"")} -> 2 | BX4: =IFERROR(RANK(BW4,$BW$4:$BW$13)+COUNTIF($BW$4:BW4,BW4)-1,"") -> 2 | BZ4: 1 | CA4: =IFERROR(INDEX(BU$4:BU$13,MATCH($BZ4,$BX$4:$BX$13,0)),"") -> Doris Power | CB4: =IFERROR(INDEX(BV$4:BV$13,MATCH($BZ4,$BX$4:$BX$13,0)),"") -> Finance | CC4: =IFERROR(INDEX(BW$4:BW$13,MATCH($BZ4,$BX$4:$BX$13,0)),"") -> 3 | CE4: =BX505 -> 4 | CF4: =IFERROR(INDEX(BU$4:BU$13,MATCH($CE4,$BX$4:$BX$13,0)),"") -> Jessica Palmer | CG4: =IFERROR(INDEX(BV$4:BV$13,MATCH($CE4,$BX$4:$BX$13,0)),"") -> Operations | CH4: =IFERROR(INDEX(BW$4:BW$13,MATCH($CE4,$BX$4:$BX$13,0)),"") -> 1
B5: =IFERROR(IF(Input!B8="","",Input!B8),"") -> Carmel Beltran | C5: =IFERROR(IF(Input!C8="","",Input!C8),"") -> Finance | D5: =IFERROR(IF(Input!D8="","",Input!D8),"") -> 5 | E5: =IFERROR(IF(Input!E8="","",Input!E8),"") -> 1 | F5: =IFERROR(IF(Input!F8="","",Input!F8),"") -> 2 | G5: =IFERROR(IF(Input!G8="","",Input!G8),"") -> 3 | H5: =IFERROR(IF(Input!H8="","",Input!H8),"") -> 3 | I5: =IFERROR(IF(Input!I8="","",Input!I8),"") -> 3 | ... AG5: =IFERROR(IF(Input!AG8="","",Input!AG8),"") | AI5: =IF(Settings!E11="","",Settings!E11) -> Teamwork/Collaboration | AJ5: =IFERROR(INDEX($B$4:$AG$503,MATCH(Dashboard!$G$7,Calc!$B$4:$B$503,0),MATCH(Calc!$AI5,Calc!$B$3:$AG$3,0)),"") -> 2 | AL5: =IF(Settings!C11="","",Settings!C11) -> Marketing | AM5: =IFERROR(IF(AL5="","",SUMIF($C$4:$C$13,$AL5,D$4:D$13)/COUNTIF($C$4:$C$13,$AL5)),"") -> 2 | AN5: =IFERROR(IF(AM5="","",SUMIF($C$4:$C$13,$AL5,E$4:E$13)/COUNTIF($C$4:$C$13,$AL5)),"") -> 2 | AO5: =IFERROR(IF(AN5="","",SUMIF($C$4:$C$13,$AL5,F$4:F$13)/COUNTIF($C$4:$C$13,$AL5)),"") -> 4 | AP5: =IFERROR(IF(AO5="","",SUMIF($C$4:$C$13,$AL5,G$4:G$13)/COUNTIF($C$4:$C$13,$AL5)),"") -> 5 | AQ5: =IFERROR(IF(AP5="","",SUMIF($C$4:$C$13,$AL5,H$4:H$13)/COUNTIF($C$4:$C$13,$AL5)),"") -> 2 | AR5: =IFERROR(IF(AQ5="","",SUMIF($C$4:$C$13,$AL5,I$4:I$13)/COUNTIF($C$4:$C$13,$AL5)),"") -> 4 | AS5: =IFERROR(IF(AR5="","",SUMIF($C$4:$C$13,$AL5,J$4:J$13)/COUNTIF($C$4:$C$13,$AL5)),"") -> 3 | AT5: =IFERROR(IF(AS5="","",SUMIF($C$4:$C$13,$AL5,K$4:K$13)/COUNTIF($C$4:$C$13,$AL5)),"") -> 0 | ... AV5: =IFERROR(IF(AU5="","",SUMIF($C$4:$C$13,$AL5,M$4:M$13)/COUNTIF($C$4:$C$13,$AL5)),"") -> 0 | BR5: =IF(Settings!E11="","",Settings!E11) -> Teamwork/Collaboration | BS5: =IFERROR(IF(INDEX($AL$4:$AV$13,MATCH(Dashboard!$G$37,Calc!$AL$4:$AL$13,0),MATCH(Calc!$BR5,Calc!$AL$3:$AV$3,0))=0,"",INDEX($AL$4:$AV$13,MATCH(Dashboard!$G$37,Calc!$AL$4:$AL$13,0),MATCH(Calc!$BR5,Calc!$AL$3:$AV$3,0))),"") -> 1 | BU5: =B5 -> Carmel Beltran | BV5: =C5 -> Finance | BW5: {=IFERROR(INDEX($D5:$M5,$BW$3),"")} -> 1 | BX5: =IFERROR(RANK(BW5,$BW$4:$BW$13)+COUNTIF($BW$4:BW5,BW5)-1,"") -> 3 | BZ5: 2 | CA5: =IFERROR(INDEX(BU$4:BU$13,MATCH($BZ5,$BX$4:$BX$13,0)),"") -> Jemima Begum | CB5: =IFERROR(INDEX(BV$4:BV$13,MATCH($BZ5,$BX$4:$BX$13,0)),"") -> Marketing | CC5: =IFERROR(INDEX(BW$4:BW$13,MATCH($BZ5,$BX$4:$BX$13,0)),"") -> 2 | CE5: =CE4-1 -> 3 | CF5: =IFERROR(INDEX(BU$4:BU$13,MATCH($CE5,$BX$4:$BX$13,0)),"") -> Carmel Beltran | CG5: =IFERROR(INDEX(BV$4:BV$13,MATCH($CE5,$BX$4:$BX$13,0)),"") -> Finance | CH5: =IFERROR(INDEX(BW$4:BW$13,MATCH($CE5,$BX$4:$BX$13,0)),"") -> 1
B6: =IFERROR(IF(Input!B9="","",Input!B9),"") -> Doris Power | C6: =IFERROR(IF(Input!C9="","",Input!C9),"") -> Finance | D6: =IFERROR(IF(Input!D9="","",Input!D9),"") -> 3 | E6: =IFERROR(IF(Input!E9="","",Input!E9),"") -> 3 | F6: =IFERROR(IF(Input!F9="","",Input!F9),"") -> 1 | G6: =IFERROR(IF(Input!G9="","",Input!G9),"") -> 5 | H6: =IFERROR(IF(Input!H9="","",Input!H9),"") -> 5 | I6: =IFERROR(IF(Input!I9="","",Input!I9),"") -> 2 | ... AG6: =IFERROR(IF(Input!AG9="","",Input!AG9),"") | AI6: =IF(Settings!E12="","",Settings!E12) -> Leadership | AJ6: =IFERROR(INDEX($B$4:$AG$503,MATCH(Dashboard!$G$7,Calc!$B$4:$B$503,0),MATCH(Calc!$AI6,Calc!$B$3:$AG$3,0)),"") -> 4 | AL6: =IF(Settings!C12="","",Settings!C12) -> Finance | AM6: =IFERROR(IF(AL6="","",SUMIF($C$4:$C$13,$AL6,D$4:D$13)/COUNTIF($C$4:$C$13,$AL6)),"") -> 4 | AN6: =IFERROR(IF(AM6="","",SUMIF($C$4:$C$13,$AL6,E$4:E$13)/COUNTIF($C$4:$C$13,$AL6)),"") -> 2 | AO6: =IFERROR(IF(AN6="","",SUMIF($C$4:$C$13,$AL6,F$4:F$13)/COUNTIF($C$4:$C$13,$AL6)),"") -> 1.5 | AP6: =IFERROR(IF(AO6="","",SUMIF($C$4:$C$13,$AL6,G$4:G$13)/COUNTIF($C$4:$C$13,$AL6)),"") -> 4 | AQ6: =IFERROR(IF(AP6="","",SUMIF($C$4:$C$13,$AL6,H$4:H$13)/COUNTIF($C$4:$C$13,$AL6)),"") -> 4 | AR6: =IFERROR(IF(AQ6="","",SUMIF($C$4:$C$13,$AL6,I$4:I$13)/COUNTIF($C$4:$C$13,$AL6)),"") -> 2.5 | AS6: =IFERROR(IF(AR6="","",SUMIF($C$4:$C$13,$AL6,J$4:J$13)/COUNTIF($C$4:$C$13,$AL6)),"") -> 3.5 | AT6: =IFERROR(IF(AS6="","",SUMIF($C$4:$C$13,$AL6,K$4:K$13)/COUNTIF($C$4:$C$13,$AL6)),"") -> 0 | ... AV6: =IFERROR(IF(AU6="","",SUMIF($C$4:$C$13,$AL6,M$4:M$13)/COUNTIF($C$4:$C$13,$AL6)),"") -> 0 | BR6: =IF(Settings!E12="","",Settings!E12) -> Leadership | BS6: =IFERROR(IF(INDEX($AL$4:$AV$13,MATCH(Dashboard!$G$37,Calc!$AL$4:$AL$13,0),MATCH(Calc!$BR6,Calc!$AL$3:$AV$3,0))=0,"",INDEX($AL$4:$AV$13,MATCH(Dashboard!$G$37,Calc!$AL$4:$AL$13,0),MATCH(Calc!$BR6,Calc!$AL$3:$AV$3,0))),"") -> 5 | BU6: =B6 -> Doris Power | BV6: =C6 -> Finance | BW6: {=IFERROR(INDEX($D6:$M6,$BW$3),"")} -> 3 | BX6: =IFERROR(RANK(BW6,$BW$4:$BW$13)+COUNTIF($BW$4:BW6,BW6)-1,"") -> 1 | BZ6: 3 | CA6: =IFERROR(INDEX(BU$4:BU$13,MATCH($BZ6,$BX$4:$BX$13,0)),"") -> Carmel Beltran | CB6: =IFERROR(INDEX(BV$4:BV$13,MATCH($BZ6,$BX$4:$BX$13,0)),"") -> Finance | CC6: =IFERROR(INDEX(BW$4:BW$13,MATCH($BZ6,$BX$4:$BX$13,0)),"") -> 1 | CE6: =CE5-1 -> 2 | CF6: =IFERROR(INDEX(BU$4:BU$13,MATCH($CE6,$BX$4:$BX$13,0)),"") -> Jemima Begum | CG6: =IFERROR(INDEX(BV$4:BV$13,MATCH($CE6,$BX$4:$BX$13,0)),"") -> Marketing | CH6: =IFERROR(INDEX(BW$4:BW$13,MATCH($CE6,$BX$4:$BX$13,0)),"") -> 2
B7: =IFERROR(IF(Input!B10="","",Input!B10),"") -> Jessica Palmer | C7: =IFERROR(IF(Input!C10="","",Input!C10),"") -> Operations | D7: =IFERROR(IF(Input!D10="","",Input!D10),"") -> 5 | E7: =IFERROR(IF(Input!E10="","",Input!E10),"") -> 1 | F7: =IFERROR(IF(Input!F10="","",Input!F10),"") -> 5 | G7: =IFERROR(IF(Input!G10="","",Input!G10),"") -> 5 | H7: =IFERROR(IF(Input!H10="","",Input!H10),"") -> 2 | I7: =IFERROR(IF(Input!I10="","",Input!I10),"") -> 4 | ... AG7: =IFERROR(IF(Input!AG10="","",Input!AG10),"") | AI7: =IF(Settings!E13="","",Settings!E13) -> Problem-Solving | AJ7: =IFERROR(INDEX($B$4:$AG$503,MATCH(Dashboard!$G$7,Calc!$B$4:$B$503,0),MATCH(Calc!$AI7,Calc!$B$3:$AG$3,0)),"") -> 5 | AL7: =IF(Settings!C13="","",Settings!C13) -> Sales | AM7: =IFERROR(IF(AL7="","",SUMIF($C$4:$C$13,$AL7,D$4:D$13)/COUNTIF($C$4:$C$13,$AL7)),"") | AN7: =IFERROR(IF(AM7="","",SUMIF($C$4:$C$13,$AL7,E$4:E$13)/COUNTIF($C$4:$C$13,$AL7)),"") | AO7: =IFERROR(IF(AN7="","",SUMIF($C$4:$C$13,$AL7,F$4:F$13)/COUNTIF($C$4:$C$13,$AL7)),"") | AP7: =IFERROR(IF(AO7="","",SUMIF($C$4:$C$13,$AL7,G$4:G$13)/COUNTIF($C$4:$C$13,$AL7)),"") | AQ7: =IFERROR(IF(AP7="","",SUMIF($C$4:$C$13,$AL7,H$4:H$13)/COUNTIF($C$4:$C$13,$AL7)),"") | AR7: =IFERROR(IF(AQ7="","",SUMIF($C$4:$C$13,$AL7,I$4:I$13)/COUNTIF($C$4:$C$13,$AL7)),"") | AS7: =IFERROR(IF(AR7="","",SUMIF($C$4:$C$13,$AL7,J$4:J$13)/COUNTIF($C$4:$C$13,$AL7)),"") | AT7: =IFERROR(IF(AS7="","",SUMIF($C$4:$C$13,$AL7,K$4:K$13)/COUNTIF($C$4:$C$13,$AL7)),"") | ... AV7: =IFERROR(IF(AU7="","",SUMIF($C$4:$C$13,$AL7,M$4:M$13)/COUNTIF($C$4:$C$13,$AL7)),"") | BR7: =IF(Settings!E13="","",Settings!E13) -> Problem-Solving | BS7: =IFERROR(IF(INDEX($AL$4:$AV$13,MATCH(Dashboard!$G$37,Calc!$AL$4:$AL$13,0),MATCH(Calc!$BR7,Calc!$AL$3:$AV$3,0))=0,"",INDEX($AL$4:$AV$13,MATCH(Dashboard!$G$37,Calc!$AL$4:$AL$13,0),MATCH(Calc!$BR7,Calc!$AL$3:$AV$3,0))),"") -> 5 | BU7: =B7 -> Jessica Palmer | BV7: =C7 -> Operations | BW7: {=IFERROR(INDEX($D7:$M7,$BW$3),"")} -> 1 | BX7: =IFERROR(RANK(BW7,$BW$4:$BW$13)+COUNTIF($BW$4:BW7,BW7)-1,"") -> 4 | BZ7: 4 | CA7: =IFERROR(INDEX(BU$4:BU$13,MATCH($BZ7,$BX$4:$BX$13,0)),"") -> Jessica Palmer | CB7: =IFERROR(INDEX(BV$4:BV$13,MATCH($BZ7,$BX$4:$BX$13,0)),"") -> Operations | CC7: =IFERROR(INDEX(BW$4:BW$13,MATCH($BZ7,$BX$4:$BX$13,0)),"") -> 1 | CE7: =CE6-1 -> 1 | CF7: =IFERROR(INDEX(BU$4:BU$13,MATCH($CE7,$BX$4:$BX$13,0)),"") -> Doris Power | CG7: =IFERROR(INDEX(BV$4:BV$13,MATCH($CE7,$BX$4:$BX$13,0)),"") -> Finance | CH7: =IFERROR(INDEX(BW$4:BW$13,MATCH($CE7,$BX$4:$BX$13,0)),"") -> 3
B8: =IFERROR(IF(Input!B11="","",Input!B11),"") | C8: =IFERROR(IF(Input!C11="","",Input!C11),"") | D8: =IFERROR(IF(Input!D11="","",Input!D11),"") | E8: =IFERROR(IF(Input!E11="","",Input!E11),"") | F8: =IFERROR(IF(Input!F11="","",Input!F11),"") | G8: =IFERROR(IF(Input!G11="","",Input!G11),"") | H8: =IFERROR(IF(Input!H11="","",Input!H11),"") | I8: =IFERROR(IF(Input!I11="","",Input!I11),"") | ... AG8: =IFERROR(IF(Input!AG11="","",Input!AG11),"") | AI8: =IF(Settings!E14="","",Settings!E14) -> Time Management | AJ8: =IFERROR(INDEX($B$4:$AG$503,MATCH(Dashboard!$G$7,Calc!$B$4:$B$503,0),MATCH(Calc!$AI8,Calc!$B$3:$AG$3,0)),"") -> 2 | AL8: =IF(Settings!C14="","",Settings!C14) -> HR | AM8: =IFERROR(IF(AL8="","",SUMIF($C$4:$C$13,$AL8,D$4:D$13)/COUNTIF($C$4:$C$13,$AL8)),"") | AN8: =IFERROR(IF(AM8="","",SUMIF($C$4:$C$13,$AL8,E$4:E$13)/COUNTIF($C$4:$C$13,$AL8)),"") | AO8: =IFERROR(IF(AN8="","",SUMIF($C$4:$C$13,$AL8,F$4:F$13)/COUNTIF($C$4:$C$13,$AL8)),"") | AP8: =IFERROR(IF(AO8="","",SUMIF($C$4:$C$13,$AL8,G$4:G$13)/COUNTIF($C$4:$C$13,$AL8)),"") | AQ8: =IFERROR(IF(AP8="","",SUMIF($C$4:$C$13,$AL8,H$4:H$13)/COUNTIF($C$4:$C$13,$AL8)),"") | AR8: =IFERROR(IF(AQ8="","",SUMIF($C$4:$C$13,$AL8,I$4:I$13)/COUNTIF($C$4:$C$13,$AL8)),"") | AS8: =IFERROR(IF(AR8="","",SUMIF($C$4:$C$13,$AL8,J$4:J$13)/COUNTIF($C$4:$C$13,$AL8)),"") | AT8: =IFERROR(IF(AS8="","",SUMIF($C$4:$C$13,$AL8,K$4:K$13)/COUNTIF($C$4:$C$13,$AL8)),"") | ... AV8: =IFERROR(IF(AU8="","",SUMIF($C$4:$C$13,$AL8,M$4:M$13)/COUNTIF($C$4:$C$13,$AL8)),"") | BR8: =IF(Settings!E14="","",Settings!E14) -> Time Management | BS8: =IFERROR(IF(INDEX($AL$4:$AV$13,MATCH(Dashboard!$G$37,Calc!$AL$4:$AL$13,0),MATCH(Calc!$BR8,Calc!$AL$3:$AV$3,0))=0,"",INDEX($AL$4:$AV$13,MATCH(Dashboard!$G$37,Calc!$AL$4:$AL$13,0),MATCH(Calc!$BR8,Calc!$AL$3:$AV$3,0))),"") -> 2 | BU8: =B8 | BV8: =C8 | BW8: {=IFERROR(INDEX($D8:$AG8,$BW$3),"")} | BX8: =IFERROR(RANK(BW8,$BW$4:$BW$503)+COUNTIF($BW$4:BW8,BW8)-1,"") | BZ8: 5 | CA8: =IFERROR(INDEX(BU$4:BU$13,MATCH($BZ8,$BX$4:$BX$13,0)),"") | CB8: =IFERROR(INDEX(BV$4:BV$13,MATCH($BZ8,$BX$4:$BX$13,0)),"") | CC8: =IFERROR(INDEX(BW$4:BW$13,MATCH($BZ8,$BX$4:$BX$13,0)),"") | CE8: =CE7-1 -> 0 | CF8: =IFERROR(INDEX(BU$4:BU$13,MATCH($CE8,$BX$4:$BX$13,0)),"") | CG8: =IFERROR(INDEX(BV$4:BV$13,MATCH($CE8,$BX$4:$BX$13,0)),"") | CH8: =IFERROR(INDEX(BW$4:BW$13,MATCH($CE8,$BX$4:$BX$13,0)),"")
B9: =IFERROR(IF(Input!B12="","",Input!B12),"") | C9: =IFERROR(IF(Input!C12="","",Input!C12),"") | D9: =IFERROR(IF(Input!D12="","",Input!D12),"") | E9: =IFERROR(IF(Input!E12="","",Input!E12),"") | F9: =IFERROR(IF(Input!F12="","",Input!F12),"") | G9: =IFERROR(IF(Input!G12="","",Input!G12),"") | H9: =IFERROR(IF(Input!H12="","",Input!H12),"") | I9: =IFERROR(IF(Input!I12="","",Input!I12),"") | ... AG9: =IFERROR(IF(Input!AG12="","",Input!AG12),"") | AI9: =IF(Settings!E15="","",Settings!E15) -> Adaptability/Flexibility | AJ9: =IFERROR(INDEX($B$4:$AG$503,MATCH(Dashboard!$G$7,Calc!$B$4:$B$503,0),MATCH(Calc!$AI9,Calc!$B$3:$AG$3,0)),"") -> 4 | AL9: =IF(Settings!C15="","",Settings!C15) -> Purchase | AM9: =IFERROR(IF(AL9="","",SUMIF($C$4:$C$13,$AL9,D$4:D$13)/COUNTIF($C$4:$C$13,$AL9)),"") | AN9: =IFERROR(IF(AM9="","",SUMIF($C$4:$C$13,$AL9,E$4:E$13)/COUNTIF($C$4:$C$13,$AL9)),"") | AO9: =IFERROR(IF(AN9="","",SUMIF($C$4:$C$13,$AL9,F$4:F$13)/COUNTIF($C$4:$C$13,$AL9)),"") | AP9: =IFERROR(IF(AO9="","",SUMIF($C$4:$C$13,$AL9,G$4:G$13)/COUNTIF($C$4:$C$13,$AL9)),"") | AQ9: =IFERROR(IF(AP9="","",SUMIF($C$4:$C$13,$AL9,H$4:H$13)/COUNTIF($C$4:$C$13,$AL9)),"") | AR9: =IFERROR(IF(AQ9="","",SUMIF($C$4:$C$13,$AL9,I$4:I$13)/COUNTIF($C$4:$C$13,$AL9)),"") | AS9: =IFERROR(IF(AR9="","",SUMIF($C$4:$C$13,$AL9,J$4:J$13)/COUNTIF($C$4:$C$13,$AL9)),"") | AT9: =IFERROR(IF(AS9="","",SUMIF($C$4:$C$13,$AL9,K$4:K$13)/COUNTIF($C$4:$C$13,$AL9)),"") | ... AV9: =IFERROR(IF(AU9="","",SUMIF($C$4:$C$13,$AL9,M$4:M$13)/COUNTIF($C$4:$C$13,$AL9)),"") | BR9: =IF(Settings!E15="","",Settings!E15) -> Adaptability/Flexibility | BS9: =IFERROR(IF(INDEX($AL$4:$AV$13,MATCH(Dashboard!$G$37,Calc!$AL$4:$AL$13,0),MATCH(Calc!$BR9,Calc!$AL$3:$AV$3,0))=0,"",INDEX($AL$4:$AV$13,MATCH(Dashboard!$G$37,Calc!$AL$4:$AL$13,0),MATCH(Calc!$BR9,Calc!$AL$3:$AV$3,0))),"") -> 4 | BU9: =B9 | BV9: =C9 | BW9: {=IFERROR(INDEX($D9:$AG9,$BW$3),"")} | BX9: =IFERROR(RANK(BW9,$BW$4:$BW$503)+COUNTIF($BW$4:BW9,BW9)-1,"") | BZ9: 6 | CA9: =IFERROR(INDEX(BU$4:BU$13,MATCH($BZ9,$BX$4:$BX$13,0)),"") | CB9: =IFERROR(INDEX(BV$4:BV$13,MATCH($BZ9,$BX$4:$BX$13,0)),"") | CC9: =IFERROR(INDEX(BW$4:BW$13,MATCH($BZ9,$BX$4:$BX$13,0)),"") | CE9: =CE8-1 -> -1 | CF9: =IFERROR(INDEX(BU$4:BU$13,MATCH($CE9,$BX$4:$BX$13,0)),"") | CG9: =IFERROR(INDEX(BV$4:BV$13,MATCH($CE9,$BX$4:$BX$13,0)),"") | CH9: =IFERROR(INDEX(BW$4:BW$13,MATCH($CE9,$BX$4:$BX$13,0)),"")
B10: =IFERROR(IF(Input!B13="","",Input!B13),"") | C10: =IFERROR(IF(Input!C13="","",Input!C13),"") | D10: =IFERROR(IF(Input!D13="","",Input!D13),"") | E10: =IFERROR(IF(Input!E13="","",Input!E13),"") | F10: =IFERROR(IF(Input!F13="","",Input!F13),"") | G10: =IFERROR(IF(Input!G13="","",Input!G13),"") | H10: =IFERROR(IF(Input!H13="","",Input!H13),"") | I10: =IFERROR(IF(Input!I13="","",Input!I13),"") | ... AG10: =IFERROR(IF(Input!AG13="","",Input!AG13),"") | AI10: =IF(Settings!E16="","",Settings!E16) -> Creativity/Innovation | AJ10: =IFERROR(INDEX($B$4:$AG$503,MATCH(Dashboard!$G$7,Calc!$B$4:$B$503,0),MATCH(Calc!$AI10,Calc!$B$3:$AG$3,0)),"") -> 3 | AL10: =IF(Settings!C16="","",Settings!C16) -> Accounting | AM10: =IFERROR(IF(AL10="","",SUMIF($C$4:$C$13,$AL10,D$4:D$13)/COUNTIF($C$4:$C$13,$AL10)),"") | AN10: =IFERROR(IF(AM10="","",SUMIF($C$4:$C$13,$AL10,E$4:E$13)/COUNTIF($C$4:$C$13,$AL10)),"") | AO10: =IFERROR(IF(AN10="","",SUMIF($C$4:$C$13,$AL10,F$4:F$13)/COUNTIF($C$4:$C$13,$AL10)),"") | AP10: =IFERROR(IF(AO10="","",SUMIF($C$4:$C$13,$AL10,G$4:G$13)/COUNTIF($C$4:$C$13,$AL10)),"") | AQ10: =IFERROR(IF(AP10="","",SUMIF($C$4:$C$13,$AL10,H$4:H$13)/COUNTIF($C$4:$C$13,$AL10)),"") | AR10: =IFERROR(IF(AQ10="","",SUMIF($C$4:$C$13,$AL10,I$4:I$13)/COUNTIF($C$4:$C$13,$AL10)),"") | AS10: =IFERROR(IF(AR10="","",SUMIF($C$4:$C$13,$AL10,J$4:J$13)/COUNTIF($C$4:$C$13,$AL10)),"") | AT10: =IFERROR(IF(AS10="","",SUMIF($C$4:$C$13,$AL10,K$4:K$13)/COUNTIF($C$4:$C$13,$AL10)),"") | ... AV10: =IFERROR(IF(AU10="","",SUMIF($C$4:$C$13,$AL10,M$4:M$13)/COUNTIF($C$4:$C$13,$AL10)),"") | BR10: =IF(Settings!E16="","",Settings!E16) -> Creativity/Innovation | BS10: =IFERROR(IF(INDEX($AL$4:$AV$13,MATCH(Dashboard!$G$37,Calc!$AL$4:$AL$13,0),MATCH(Calc!$BR10,Calc!$AL$3:$AV$3,0))=0,"",INDEX($AL$4:$AV$13,MATCH(Dashboard!$G$37,Calc!$AL$4:$AL$13,0),MATCH(Calc!$BR10,Calc!$AL$3:$AV$3,0))),"") -> 4 | BU10: =B10 | BV10: =C10 | BW10: {=IFERROR(INDEX($D10:$AG10,$BW$3),"")} | BX10: =IFERROR(RANK(BW10,$BW$4:$BW$503)+COUNTIF($BW$4:BW10,BW10)-1,"") | BZ10: 7 | CA10: =IFERROR(INDEX(BU$4:BU$13,MATCH($BZ10,$BX$4:$BX$13,0)),"") | CB10: =IFERROR(INDEX(BV$4:BV$13,MATCH($BZ10,$BX$4:$BX$13,0)),"") | CC10: =IFERROR(INDEX(BW$4:BW$13,MATCH($BZ10,$BX$4:$BX$13,0)),"") | CE10: =CE9-1 -> -2 | CF10: =IFERROR(INDEX(BU$4:BU$13,MATCH($CE10,$BX$4:$BX$13,0)),"") | CG10: =IFERROR(INDEX(BV$4:BV$13,MATCH($CE10,$BX$4:$BX$13,0)),"") | CH10: =IFERROR(INDEX(BW$4:BW$13,MATCH($CE10,$BX$4:$BX$13,0)),"")
B11: =IFERROR(IF(Input!B14="","",Input!B14),"") | C11: =IFERROR(IF(Input!C14="","",Input!C14),"") | D11: =IFERROR(IF(Input!D14="","",Input!D14),"") | E11: =IFERROR(IF(Input!E14="","",Input!E14),"") | F11: =IFERROR(IF(Input!F14="","",Input!F14),"") | G11: =IFERROR(IF(Input!G14="","",Input!G14),"") | H11: =IFERROR(IF(Input!H14="","",Input!H14),"") | I11: =IFERROR(IF(Input!I14="","",Input!I14),"") | ... AG11: =IFERROR(IF(Input!AG14="","",Input!AG14),"") | AI11: =IF(Settings!E17="","",Settings!E17) | AJ11: =IFERROR(INDEX($B$4:$AG$503,MATCH(Dashboard!$G$7,Calc!$B$4:$B$503,0),MATCH(Calc!$AI11,Calc!$B$3:$AG$3,0)),"") | AL11: =IF(Settings!C17="","",Settings!C17) | AM11: =IFERROR(IF(AL11="","",SUMIF($C$4:$C$13,$AL11,D$4:D$13)/COUNTIF($C$4:$C$13,$AL11)),"") | AN11: =IFERROR(IF(AM11="","",SUMIF($C$4:$C$13,$AL11,E$4:E$13)/COUNTIF($C$4:$C$13,$AL11)),"") | AO11: =IFERROR(IF(AN11="","",SUMIF($C$4:$C$13,$AL11,F$4:F$13)/COUNTIF($C$4:$C$13,$AL11)),"") | AP11: =IFERROR(IF(AO11="","",SUMIF($C$4:$C$13,$AL11,G$4:G$13)/COUNTIF($C$4:$C$13,$AL11)),"") | AQ11: =IFERROR(IF(AP11="","",SUMIF($C$4:$C$13,$AL11,H$4:H$13)/COUNTIF($C$4:$C$13,$AL11)),"") | AR11: =IFERROR(IF(AQ11="","",SUMIF($C$4:$C$13,$AL11,I$4:I$13)/COUNTIF($C$4:$C$13,$AL11)),"") | AS11: =IFERROR(IF(AR11="","",SUMIF($C$4:$C$13,$AL11,J$4:J$13)/COUNTIF($C$4:$C$13,$AL11)),"") | AT11: =IFERROR(IF(AS11="","",SUMIF($C$4:$C$13,$AL11,K$4:K$13)/COUNTIF($C$4:$C$13,$AL11)),"") | ... AV11: =IFERROR(IF(AU11="","",SUMIF($C$4:$C$13,$AL11,M$4:M$13)/COUNTIF($C$4:$C$13,$AL11)),"") | BR11: =IF(Settings!E17="","",Settings!E17) | BS11: =IFERROR(IF(INDEX($AL$4:$AV$13,MATCH(Dashboard!$G$37,Calc!$AL$4:$AL$13,0),MATCH(Calc!$BR11,Calc!$AL$3:$AV$3,0))=0,"",INDEX($AL$4:$AV$13,MATCH(Dashboard!$G$37,Calc!$AL$4:$AL$13,0),MATCH(Calc!$BR11,Calc!$AL$3:$AV$3,0))),"") | BU11: =B11 | BV11: =C11 | BW11: {=IFERROR(INDEX($D11:$AG11,$BW$3),"")} | BX11: =IFERROR(RANK(BW11,$BW$4:$BW$503)+COUNTIF($BW$4:BW11,BW11)-1,"") | BZ11: 8 | CA11: =IFERROR(INDEX(BU$4:BU$13,MATCH($BZ11,$BX$4:$BX$13,0)),"") | CB11: =IFERROR(INDEX(BV$4:BV$13,MATCH($BZ11,$BX$4:$BX$13,0)),"") | CC11: =IFERROR(INDEX(BW$4:BW$13,MATCH($BZ11,$BX$4:$BX$13,0)),"") | CE11: =CE10-1 -> -3 | CF11: =IFERROR(INDEX(BU$4:BU$13,MATCH($CE11,$BX$4:$BX$13,0)),"") | CG11: =IFERROR(INDEX(BV$4:BV$13,MATCH($CE11,$BX$4:$BX$13,0)),"") | CH11: =IFERROR(INDEX(BW$4:BW$13,MATCH($CE11,$BX$4:$BX$13,0)),"")
B12: =IFERROR(IF(Input!B15="","",Input!B15),"") | C12: =IFERROR(IF(Input!C15="","",Input!C15),"") | D12: =IFERROR(IF(Input!D15="","",Input!D15),"") | E12: =IFERROR(IF(Input!E15="","",Input!E15),"") | F12: =IFERROR(IF(Input!F15="","",Input!F15),"") | G12: =IFERROR(IF(Input!G15="","",Input!G15),"") | H12: =IFERROR(IF(Input!H15="","",Input!H15),"") | I12: =IFERROR(IF(Input!I15="","",Input!I15),"") | ... AG12: =IFERROR(IF(Input!AG15="","",Input!AG15),"") | AI12: =IF(Settings!E18="","",Settings!E18) | AJ12: =IFERROR(INDEX($B$4:$AG$503,MATCH(Dashboard!$G$7,Calc!$B$4:$B$503,0),MATCH(Calc!$AI12,Calc!$B$3:$AG$3,0)),"") | AL12: =IF(Settings!C18="","",Settings!C18) | AM12: =IFERROR(IF(AL12="","",SUMIF($C$4:$C$13,$AL12,D$4:D$13)/COUNTIF($C$4:$C$13,$AL12)),"") | AN12: =IFERROR(IF(AM12="","",SUMIF($C$4:$C$13,$AL12,E$4:E$13)/COUNTIF($C$4:$C$13,$AL12)),"") | AO12: =IFERROR(IF(AN12="","",SUMIF($C$4:$C$13,$AL12,F$4:F$13)/COUNTIF($C$4:$C$13,$AL12)),"") | AP12: =IFERROR(IF(AO12="","",SUMIF($C$4:$C$13,$AL12,G$4:G$13)/COUNTIF($C$4:$C$13,$AL12)),"") | AQ12: =IFERROR(IF(AP12="","",SUMIF($C$4:$C$13,$AL12,H$4:H$13)/COUNTIF($C$4:$C$13,$AL12)),"") | AR12: =IFERROR(IF(AQ12="","",SUMIF($C$4:$C$13,$AL12,I$4:I$13)/COUNTIF($C$4:$C$13,$AL12)),"") | AS12: =IFERROR(IF(AR12="","",SUMIF($C$4:$C$13,$AL12,J$4:J$13)/COUNTIF($C$4:$C$13,$AL12)),"") | AT12: =IFERROR(IF(AS12="","",SUMIF($C$4:$C$13,$AL12,K$4:K$13)/COUNTIF($C$4:$C$13,$AL12)),"") | ... AV12: =IFERROR(IF(AU12="","",SUMIF($C$4:$C$13,$AL12,M$4:M$13)/COUNTIF($C$4:$C$13,$AL12)),"") | BR12: =IF(Settings!E18="","",Settings!E18) | BS12: =IFERROR(IF(INDEX($AL$4:$AV$13,MATCH(Dashboard!$G$37,Calc!$AL$4:$AL$13,0),MATCH(Calc!$BR12,Calc!$AL$3:$AV$3,0))=0,"",INDEX($AL$4:$AV$13,MATCH(Dashboard!$G$37,Calc!$AL$4:$AL$13,0),MATCH(Calc!$BR12,Calc!$AL$3:$AV$3,0))),"") | BU12: =B12 | BV12: =C12 | BW12: {=IFERROR(INDEX($D12:$AG12,$BW$3),"")} | BX12: =IFERROR(RANK(BW12,$BW$4:$BW$503)+COUNTIF($BW$4:BW12,BW12)-1,"") | BZ12: 9 | CA12: =IFERROR(INDEX(BU$4:BU$13,MATCH($BZ12,$BX$4:$BX$13,0)),"") | CB12: =IFERROR(INDEX(BV$4:BV$13,MATCH($BZ12,$BX$4:$BX$13,0)),"") | CC12: =IFERROR(INDEX(BW$4:BW$13,MATCH($BZ12,$BX$4:$BX$13,0)),"") | CE12: =CE11-1 -> -4 | CF12: =IFERROR(INDEX(BU$4:BU$13,MATCH($CE12,$BX$4:$BX$13,0)),"") | CG12: =IFERROR(INDEX(BV$4:BV$13,MATCH($CE12,$BX$4:$BX$13,0)),"") | CH12: =IFERROR(INDEX(BW$4:BW$13,MATCH($CE12,$BX$4:$BX$13,0)),"")
B13: =IFERROR(IF(Input!B16="","",Input!B16),"") | C13: =IFERROR(IF(Input!C16="","",Input!C16),"") | D13: =IFERROR(IF(Input!D16="","",Input!D16),"") | E13: =IFERROR(IF(Input!E16="","",Input!E16),"") | F13: =IFERROR(IF(Input!F16="","",Input!F16),"") | G13: =IFERROR(IF(Input!G16="","",Input!G16),"") | H13: =IFERROR(IF(Input!H16="","",Input!H16),"") | I13: =IFERROR(IF(Input!I16="","",Input!I16),"") | ... AG13: =IFERROR(IF(Input!AG16="","",Input!AG16),"") | AI13: =IF(Settings!E19="","",Settings!E19) | AJ13: =IFERROR(INDEX($B$4:$AG$503,MATCH(Dashboard!$G$7,Calc!$B$4:$B$503,0),MATCH(Calc!$AI13,Calc!$B$3:$AG$3,0)),"") | AL13: =IF(Settings!C19="","",Settings!C19) | AM13: =IFERROR(IF(AL13="","",SUMIF($C$4:$C$13,$AL13,D$4:D$13)/COUNTIF($C$4:$C$13,$AL13)),"") | AN13: =IFERROR(IF(AM13="","",SUMIF($C$4:$C$13,$AL13,E$4:E$13)/COUNTIF($C$4:$C$13,$AL13)),"") | AO13: =IFERROR(IF(AN13="","",SUMIF($C$4:$C$13,$AL13,F$4:F$13)/COUNTIF($C$4:$C$13,$AL13)),"") | AP13: =IFERROR(IF(AO13="","",SUMIF($C$4:$C$13,$AL13,G$4:G$13)/COUNTIF($C$4:$C$13,$AL13)),"") | AQ13: =IFERROR(IF(AP13="","",SUMIF($C$4:$C$13,$AL13,H$4:H$13)/COUNTIF($C$4:$C$13,$AL13)),"") | AR13: =IFERROR(IF(AQ13="","",SUMIF($C$4:$C$13,$AL13,I$4:I$13)/COUNTIF($C$4:$C$13,$AL13)),"") | AS13: =IFERROR(IF(AR13="","",SUMIF($C$4:$C$13,$AL13,J$4:J$13)/COUNTIF($C$4:$C$13,$AL13)),"") | AT13: =IFERROR(IF(AS13="","",SUMIF($C$4:$C$13,$AL13,K$4:K$13)/COUNTIF($C$4:$C$13,$AL13)),"") | ... AV13: =IFERROR(IF(AU13="","",SUMIF($C$4:$C$13,$AL13,M$4:M$13)/COUNTIF($C$4:$C$13,$AL13)),"") | BR13: =IF(Settings!E19="","",Settings!E19) | BS13: =IFERROR(IF(INDEX($AL$4:$AV$13,MATCH(Dashboard!$G$37,Calc!$AL$4:$AL$13,0),MATCH(Calc!$BR13,Calc!$AL$3:$AV$3,0))=0,"",INDEX($AL$4:$AV$13,MATCH(Dashboard!$G$37,Calc!$AL$4:$AL$13,0),MATCH(Calc!$BR13,Calc!$AL$3:$AV$3,0))),"") | BU13: =B13 | BV13: =C13 | BW13: {=IFERROR(INDEX($D13:$AG13,$BW$3),"")} | BX13: =IFERROR(RANK(BW13,$BW$4:$BW$503)+COUNTIF($BW$4:BW13,BW13)-1,"") | BZ13: 10 | CA13: =IFERROR(INDEX(BU$4:BU$13,MATCH($BZ13,$BX$4:$BX$13,0)),"") | CB13: =IFERROR(INDEX(BV$4:BV$13,MATCH($BZ13,$BX$4:$BX$13,0)),"") | CC13: =IFERROR(INDEX(BW$4:BW$13,MATCH($BZ13,$BX$4:$BX$13,0)),"") | CE13: =CE12-1 -> -5 | CF13: =IFERROR(INDEX(BU$4:BU$13,MATCH($CE13,$BX$4:$BX$13,0)),"") | CG13: =IFERROR(INDEX(BV$4:BV$13,MATCH($CE13,$BX$4:$BX$13,0)),"") | CH13: =IFERROR(INDEX(BW$4:BW$13,MATCH($CE13,$BX$4:$BX$13,0)),"")
AM14: =IFERROR(IF(AL14="","",SUMIF($C$4:$C$13,$AL14,D$4:D$13)/COUNTIF($C$4:$C$13,$AL14)),"") | AN14: =IFERROR(IF(AM14="","",SUMIF($C$4:$C$13,$AL14,E$4:E$13)/COUNTIF($C$4:$C$13,$AL14)),"") | AO14: =IFERROR(IF(AN14="","",SUMIF($C$4:$C$13,$AL14,F$4:F$13)/COUNTIF($C$4:$C$13,$AL14)),"") | AP14: =IFERROR(IF(AO14="","",SUMIF($C$4:$C$13,$AL14,G$4:G$13)/COUNTIF($C$4:$C$13,$AL14)),"") | AQ14: =IFERROR(IF(AP14="","",SUMIF($C$4:$C$13,$AL14,H$4:H$13)/COUNTIF($C$4:$C$13,$AL14)),"") | AR14: =IFERROR(IF(AQ14="","",SUMIF($C$4:$C$13,$AL14,I$4:I$13)/COUNTIF($C$4:$C$13,$AL14)),"") | AS14: =IFERROR(IF(AR14="","",SUMIF($C$4:$C$13,$AL14,J$4:J$13)/COUNTIF($C$4:$C$13,$AL14)),"") | AT14: =IFERROR(IF(AS14="","",SUMIF($C$4:$C$13,$AL14,K$4:K$13)/COUNTIF($C$4:$C$13,$AL14)),"") | ... AV14: =IFERROR(IF(AU14="","",SUMIF($C$4:$C$13,$AL14,M$4:M$13)/COUNTIF($C$4:$C$13,$AL14)),"")
AM15: =IFERROR(IF(AL15="","",SUMIF($C$4:$C$13,$AL15,D$4:D$13)/COUNTIF($C$4:$C$13,$AL15)),"") | AN15: =IFERROR(IF(AM15="","",SUMIF($C$4:$C$13,$AL15,E$4:E$13)/COUNTIF($C$4:$C$13,$AL15)),"") | AO15: =IFERROR(IF(AN15="","",SUMIF($C$4:$C$13,$AL15,F$4:F$13)/COUNTIF($C$4:$C$13,$AL15)),"") | AP15: =IFERROR(IF(AO15="","",SUMIF($C$4:$C$13,$AL15,G$4:G$13)/COUNTIF($C$4:$C$13,$AL15)),"") | AQ15: =IFERROR(IF(AP15="","",SUMIF($C$4:$C$13,$AL15,H$4:H$13)/COUNTIF($C$4:$C$13,$AL15)),"") | AR15: =IFERROR(IF(AQ15="","",SUMIF($C$4:$C$13,$AL15,I$4:I$13)/COUNTIF($C$4:$C$13,$AL15)),"") | AS15: =IFERROR(IF(AR15="","",SUMIF($C$4:$C$13,$AL15,J$4:J$13)/COUNTIF($C$4:$C$13,$AL15)),"") | AT15: =IFERROR(IF(AS15="","",SUMIF($C$4:$C$13,$AL15,K$4:K$13)/COUNTIF($C$4:$C$13,$AL15)),"") | ... AV15: =IFERROR(IF(AU15="","",SUMIF($C$4:$C$13,$AL15,M$4:M$13)/COUNTIF($C$4:$C$13,$AL15)),"")
AM16: =IFERROR(IF(AL16="","",SUMIF($C$4:$C$13,$AL16,D$4:D$13)/COUNTIF($C$4:$C$13,$AL16)),"") | AN16: =IFERROR(IF(AM16="","",SUMIF($C$4:$C$13,$AL16,E$4:E$13)/COUNTIF($C$4:$C$13,$AL16)),"") | AO16: =IFERROR(IF(AN16="","",SUMIF($C$4:$C$13,$AL16,F$4:F$13)/COUNTIF($C$4:$C$13,$AL16)),"") | AP16: =IFERROR(IF(AO16="","",SUMIF($C$4:$C$13,$AL16,G$4:G$13)/COUNTIF($C$4:$C$13,$AL16)),"") | AQ16: =IFERROR(IF(AP16="","",SUMIF($C$4:$C$13,$AL16,H$4:H$13)/COUNTIF($C$4:$C$13,$AL16)),"") | AR16: =IFERROR(IF(AQ16="","",SUMIF($C$4:$C$13,$AL16,I$4:I$13)/COUNTIF($C$4:$C$13,$AL16)),"") | AS16: =IFERROR(IF(AR16="","",SUMIF($C$4:$C$13,$AL16,J$4:J$13)/COUNTIF($C$4:$C$13,$AL16)),"") | AT16: =IFERROR(IF(AS16="","",SUMIF($C$4:$C$13,$AL16,K$4:K$13)/COUNTIF($C$4:$C$13,$AL16)),"") | ... AV16: =IFERROR(IF(AU16="","",SUMIF($C$4:$C$13,$AL16,M$4:M$13)/COUNTIF($C$4:$C$13,$AL16)),"")
AM17: =IFERROR(IF(AL17="","",SUMIF($C$4:$C$13,$AL17,D$4:D$13)/COUNTIF($C$4:$C$13,$AL17)),"") | AN17: =IFERROR(IF(AM17="","",SUMIF($C$4:$C$13,$AL17,E$4:E$13)/COUNTIF($C$4:$C$13,$AL17)),"") | AO17: =IFERROR(IF(AN17="","",SUMIF($C$4:$C$13,$AL17,F$4:F$13)/COUNTIF($C$4:$C$13,$AL17)),"") | AP17: =IFERROR(IF(AO17="","",SUMIF($C$4:$C$13,$AL17,G$4:G$13)/COUNTIF($C$4:$C$13,$AL17)),"") | AQ17: =IFERROR(IF(AP17="","",SUMIF($C$4:$C$13,$AL17,H$4:H$13)/COUNTIF($C$4:$C$13,$AL17)),"") | AR17: =IFERROR(IF(AQ17="","",SUMIF($C$4:$C$13,$AL17,I$4:I$13)/COUNTIF($C$4:$C$13,$AL17)),"") | AS17: =IFERROR(IF(AR17="","",SUMIF($C$4:$C$13,$AL17,J$4:J$13)/COUNTIF($C$4:$C$13,$AL17)),"") | AT17: =IFERROR(IF(AS17="","",SUMIF($C$4:$C$13,$AL17,K$4:K$13)/COUNTIF($C$4:$C$13,$AL17)),"") | ... AV17: =IFERROR(IF(AU17="","",SUMIF($C$4:$C$13,$AL17,M$4:M$13)/COUNTIF($C$4:$C$13,$AL17)),"")
AM18: =IFERROR(IF(AL18="","",SUMIF($C$4:$C$13,$AL18,D$4:D$13)/COUNTIF($C$4:$C$13,$AL18)),"") | AN18: =IFERROR(IF(AM18="","",SUMIF($C$4:$C$13,$AL18,E$4:E$13)/COUNTIF($C$4:$C$13,$AL18)),"") | AO18: =IFERROR(IF(AN18="","",SUMIF($C$4:$C$13,$AL18,F$4:F$13)/COUNTIF($C$4:$C$13,$AL18)),"") | AP18: =IFERROR(IF(AO18="","",SUMIF($C$4:$C$13,$AL18,G$4:G$13)/COUNTIF($C$4:$C$13,$AL18)),"") | AQ18: =IFERROR(IF(AP18="","",SUMIF($C$4:$C$13,$AL18,H$4:H$13)/COUNTIF($C$4:$C$13,$AL18)),"") | AR18: =IFERROR(IF(AQ18="","",SUMIF($C$4:$C$13,$AL18,I$4:I$13)/COUNTIF($C$4:$C$13,$AL18)),"") | AS18: =IFERROR(IF(AR18="","",SUMIF($C$4:$C$13,$AL18,J$4:J$13)/COUNTIF($C$4:$C$13,$AL18)),"") | AT18: =IFERROR(IF(AS18="","",SUMIF($C$4:$C$13,$AL18,K$4:K$13)/COUNTIF($C$4:$C$13,$AL18)),"") | ... AV18: =IFERROR(IF(AU18="","",SUMIF($C$4:$C$13,$AL18,M$4:M$13)/COUNTIF($C$4:$C$13,$AL18)),"")
AM19: =IFERROR(IF(AL19="","",SUMIF($C$4:$C$13,$AL19,D$4:D$13)/COUNTIF($C$4:$C$13,$AL19)),"") | AN19: =IFERROR(IF(AM19="","",SUMIF($C$4:$C$13,$AL19,E$4:E$13)/COUNTIF($C$4:$C$13,$AL19)),"") | AO19: =IFERROR(IF(AN19="","",SUMIF($C$4:$C$13,$AL19,F$4:F$13)/COUNTIF($C$4:$C$13,$AL19)),"") | AP19: =IFERROR(IF(AO19="","",SUMIF($C$4:$C$13,$AL19,G$4:G$13)/COUNTIF($C$4:$C$13,$AL19)),"") | AQ19: =IFERROR(IF(AP19="","",SUMIF($C$4:$C$13,$AL19,H$4:H$13)/COUNTIF($C$4:$C$13,$AL19)),"") | AR19: =IFERROR(IF(AQ19="","",SUMIF($C$4:$C$13,$AL19,I$4:I$13)/COUNTIF($C$4:$C$13,$AL19)),"") | AS19: =IFERROR(IF(AR19="","",SUMIF($C$4:$C$13,$AL19,J$4:J$13)/COUNTIF($C$4:$C$13,$AL19)),"") | AT19: =IFERROR(IF(AS19="","",SUMIF($C$4:$C$13,$AL19,K$4:K$13)/COUNTIF($C$4:$C$13,$AL19)),"") | ... AV19: =IFERROR(IF(AU19="","",SUMIF($C$4:$C$13,$AL19,M$4:M$13)/COUNTIF($C$4:$C$13,$AL19)),"")
AM20: =IFERROR(IF(AL20="","",SUMIF($C$4:$C$13,$AL20,D$4:D$13)/COUNTIF($C$4:$C$13,$AL20)),"") | AN20: =IFERROR(IF(AM20="","",SUMIF($C$4:$C$13,$AL20,E$4:E$13)/COUNTIF($C$4:$C$13,$AL20)),"") | AO20: =IFERROR(IF(AN20="","",SUMIF($C$4:$C$13,$AL20,F$4:F$13)/COUNTIF($C$4:$C$13,$AL20)),"") | AP20: =IFERROR(IF(AO20="","",SUMIF($C$4:$C$13,$AL20,G$4:G$13)/COUNTIF($C$4:$C$13,$AL20)),"") | AQ20: =IFERROR(IF(AP20="","",SUMIF($C$4:$C$13,$AL20,H$4:H$13)/COUNTIF($C$4:$C$13,$AL20)),"") | AR20: =IFERROR(IF(AQ20="","",SUMIF($C$4:$C$13,$AL20,I$4:I$13)/COUNTIF($C$4:$C$13,$AL20)),"") | AS20: =IFERROR(IF(AR20="","",SUMIF($C$4:$C$13,$AL20,J$4:J$13)/COUNTIF($C$4:$C$13,$AL20)),"") | AT20: =IFERROR(IF(AS20="","",SUMIF($C$4:$C$13,$AL20,K$4:K$13)/COUNTIF($C$4:$C$13,$AL20)),"") | ... AV20: =IFERROR(IF(AU20="","",SUMIF($C$4:$C$13,$AL20,M$4:M$13)/COUNTIF($C$4:$C$13,$AL20)),"")
AM21: =IFERROR(IF(AL21="","",SUMIF($C$4:$C$13,$AL21,D$4:D$13)/COUNTIF($C$4:$C$13,$AL21)),"") | AN21: =IFERROR(IF(AM21="","",SUMIF($C$4:$C$13,$AL21,E$4:E$13)/COUNTIF($C$4:$C$13,$AL21)),"") | AO21: =IFERROR(IF(AN21="","",SUMIF($C$4:$C$13,$AL21,F$4:F$13)/COUNTIF($C$4:$C$13,$AL21)),"") | AP21: =IFERROR(IF(AO21="","",SUMIF($C$4:$C$13,$AL21,G$4:G$13)/COUNTIF($C$4:$C$13,$AL21)),"") | AQ21: =IFERROR(IF(AP21="","",SUMIF($C$4:$C$13,$AL21,H$4:H$13)/COUNTIF($C$4:$C$13,$AL21)),"") | AR21: =IFERROR(IF(AQ21="","",SUMIF($C$4:$C$13,$AL21,I$4:I$13)/COUNTIF($C$4:$C$13,$AL21)),"") | AS21: =IFERROR(IF(AR21="","",SUMIF($C$4:$C$13,$AL21,J$4:J$13)/COUNTIF($C$4:$C$13,$AL21)),"") | AT21: =IFERROR(IF(AS21="","",SUMIF($C$4:$C$13,$AL21,K$4:K$13)/COUNTIF($C$4:$C$13,$AL21)),"") | ... AV21: =IFERROR(IF(AU21="","",SUMIF($C$4:$C$13,$AL21,M$4:M$13)/COUNTIF($C$4:$C$13,$AL21)),"")
AM22: =IFERROR(IF(AL22="","",SUMIF($C$4:$C$13,$AL22,D$4:D$13)/COUNTIF($C$4:$C$13,$AL22)),"") | AN22: =IFERROR(IF(AM22="","",SUMIF($C$4:$C$13,$AL22,E$4:E$13)/COUNTIF($C$4:$C$13,$AL22)),"") | AO22: =IFERROR(IF(AN22="","",SUMIF($C$4:$C$13,$AL22,F$4:F$13)/COUNTIF($C$4:$C$13,$AL22)),"") | AP22: =IFERROR(IF(AO22="","",SUMIF($C$4:$C$13,$AL22,G$4:G$13)/COUNTIF($C$4:$C$13,$AL22)),"") | AQ22: =IFERROR(IF(AP22="","",SUMIF($C$4:$C$13,$AL22,H$4:H$13)/COUNTIF($C$4:$C$13,$AL22)),"") | AR22: =IFERROR(IF(AQ22="","",SUMIF($C$4:$C$13,$AL22,I$4:I$13)/COUNTIF($C$4:$C$13,$AL22)),"") | AS22: =IFERROR(IF(AR22="","",SUMIF($C$4:$C$13,$AL22,J$4:J$13)/COUNTIF($C$4:$C$13,$AL22)),"") | AT22: =IFERROR(IF(AS22="","",SUMIF($C$4:$C$13,$AL22,K$4:K$13)/COUNTIF($C$4:$C$13,$AL22)),"") | ... AV22: =IFERROR(IF(AU22="","",SUMIF($C$4:$C$13,$AL22,M$4:M$13)/COUNTIF($C$4:$C$13,$AL22)),"")
AM23: =IFERROR(IF(AL23="","",SUMIF($C$4:$C$13,$AL23,D$4:D$13)/COUNTIF($C$4:$C$13,$AL23)),"") | AN23: =IFERROR(IF(AM23="","",SUMIF($C$4:$C$13,$AL23,E$4:E$13)/COUNTIF($C$4:$C$13,$AL23)),"") | AO23: =IFERROR(IF(AN23="","",SUMIF($C$4:$C$13,$AL23,F$4:F$13)/COUNTIF($C$4:$C$13,$AL23)),"") | AP23: =IFERROR(IF(AO23="","",SUMIF($C$4:$C$13,$AL23,G$4:G$13)/COUNTIF($C$4:$C$13,$AL23)),"") | AQ23: =IFERROR(IF(AP23="","",SUMIF($C$4:$C$13,$AL23,H$4:H$13)/COUNTIF($C$4:$C$13,$AL23)),"") | AR23: =IFERROR(IF(AQ23="","",SUMIF($C$4:$C$13,$AL23,I$4:I$13)/COUNTIF($C$4:$C$13,$AL23)),"") | AS23: =IFERROR(IF(AR23="","",SUMIF($C$4:$C$13,$AL23,J$4:J$13)/COUNTIF($C$4:$C$13,$AL23)),"") | AT23: =IFERROR(IF(AS23="","",SUMIF($C$4:$C$13,$AL23,K$4:K$13)/COUNTIF($C$4:$C$13,$AL23)),"") | ... AV23: =IFERROR(IF(AU23="","",SUMIF($C$4:$C$13,$AL23,M$4:M$13)/COUNTIF($C$4:$C$13,$AL23)),"")
AM24: =IFERROR(IF(AL24="","",SUMIF($C$4:$C$13,$AL24,D$4:D$13)/COUNTIF($C$4:$C$13,$AL24)),"") | AN24: =IFERROR(IF(AM24="","",SUMIF($C$4:$C$13,$AL24,E$4:E$13)/COUNTIF($C$4:$C$13,$AL24)),"") | AO24: =IFERROR(IF(AN24="","",SUMIF($C$4:$C$13,$AL24,F$4:F$13)/COUNTIF($C$4:$C$13,$AL24)),"") | AP24: =IFERROR(IF(AO24="","",SUMIF($C$4:$C$13,$AL24,G$4:G$13)/COUNTIF($C$4:$C$13,$AL24)),"") | AQ24: =IFERROR(IF(AP24="","",SUMIF($C$4:$C$13,$AL24,H$4:H$13)/COUNTIF($C$4:$C$13,$AL24)),"") | AR24: =IFERROR(IF(AQ24="","",SUMIF($C$4:$C$13,$AL24,I$4:I$13)/COUNTIF($C$4:$C$13,$AL24)),"") | AS24: =IFERROR(IF(AR24="","",SUMIF($C$4:$C$13,$AL24,J$4:J$13)/COUNTIF($C$4:$C$13,$AL24)),"") | AT24: =IFERROR(IF(AS24="","",SUMIF($C$4:$C$13,$AL24,K$4:K$13)/COUNTIF($C$4:$C$13,$AL24)),"") | ... AV24: =IFERROR(IF(AU24="","",SUMIF($C$4:$C$13,$AL24,M$4:M$13)/COUNTIF($C$4:$C$13,$AL24)),"")
AM25: =IFERROR(IF(AL25="","",SUMIF($C$4:$C$13,$AL25,D$4:D$13)/COUNTIF($C$4:$C$13,$AL25)),"") | AN25: =IFERROR(IF(AM25="","",SUMIF($C$4:$C$13,$AL25,E$4:E$13)/COUNTIF($C$4:$C$13,$AL25)),"") | AO25: =IFERROR(IF(AN25="","",SUMIF($C$4:$C$13,$AL25,F$4:F$13)/COUNTIF($C$4:$C$13,$AL25)),"") | AP25: =IFERROR(IF(AO25="","",SUMIF($C$4:$C$13,$AL25,G$4:G$13)/COUNTIF($C$4:$C$13,$AL25)),"") | AQ25: =IFERROR(IF(AP25="","",SUMIF($C$4:$C$13,$AL25,H$4:H$13)/COUNTIF($C$4:$C$13,$AL25)),"") | AR25: =IFERROR(IF(AQ25="","",SUMIF($C$4:$C$13,$AL25,I$4:I$13)/COUNTIF($C$4:$C$13,$AL25)),"") | AS25: =IFERROR(IF(AR25="","",SUMIF($C$4:$C$13,$AL25,J$4:J$13)/COUNTIF($C$4:$C$13,$AL25)),"") | AT25: =IFERROR(IF(AS25="","",SUMIF($C$4:$C$13,$AL25,K$4:K$13)/COUNTIF($C$4:$C$13,$AL25)),"") | ... AV25: =IFERROR(IF(AU25="","",SUMIF($C$4:$C$13,$AL25,M$4:M$13)/COUNTIF($C$4:$C$13,$AL25)),"")
... AM33: =IFERROR(IF(AL33="","",SUMIF($C$4:$C$13,$AL33,D$4:D$13)/COUNTIF($C$4:$C$13,$AL33)),"") | AN33: =IFERROR(IF(AM33="","",SUMIF($C$4:$C$13,$AL33,E$4:E$13)/COUNTIF($C$4:$C$13,$AL33)),"") | AO33: =IFERROR(IF(AN33="","",SUMIF($C$4:$C$13,$AL33,F$4:F$13)/COUNTIF($C$4:$C$13,$AL33)),"") | AP33: =IFERROR(IF(AO33="","",SUMIF($C$4:$C$13,$AL33,G$4:G$13)/COUNTIF($C$4:$C$13,$AL33)),"") | AQ33: =IFERROR(IF(AP33="","",SUMIF($C$4:$C$13,$AL33,H$4:H$13)/COUNTIF($C$4:$C$13,$AL33)),"") | AR33: =IFERROR(IF(AQ33="","",SUMIF($C$4:$C$13,$AL33,I$4:I$13)/COUNTIF($C$4:$C$13,$AL33)),"") | AS33: =IFERROR(IF(AR33="","",SUMIF($C$4:$C$13,$AL33,J$4:J$13)/COUNTIF($C$4:$C$13,$AL33)),"") | AT33: =IFERROR(IF(AS33="","",SUMIF($C$4:$C$13,$AL33,K$4:K$13)/COUNTIF($C$4:$C$13,$AL33)),"") | ... AV33: =IFERROR(IF(AU33="","",SUMIF($C$4:$C$13,$AL33,M$4:M$13)/COUNTIF($C$4:$C$13,$AL33)),"")
BW505: max | BX505: =MAX(BX4:BX503) -> 4
