Workbook
Name firstDay: Monthly!$P$2

Sheet Dashboard
C2: ROTATION SCHEDULE TEMPLATE
C3: DASHBOARD
C12: SETTINGS
C14: EMPLOYEES | E14: SHIFTS | G14: DAY BREAKS | I14: TIME SPACE
C15: Darcie-Mae Cooper | E15: Shift A | G15: Morning | I15: 30 Minutes
C16: Rahim Hoover | E16: Shift B | G16: Evening | I16: Full Hour
C17: Hallam Rogers | E17: Shift C | G17: Night
C18: Kaiya Russo
C19: Jemima Schofield
C20: Roisin Acevedo
C21: Joan Browne
C22: Marshall Cole
C23: Alanna Knowles
C24: Dina Romero

Sheet Monthly
C2: ROTATION SCHEDULE TEMPLATE
C3: MONTHLY ROTATION SCHEDULE
L6: Sun | M6: Mon | N6: Tue | O6: Wed | P6: Thu | Q6: Fri | R6: Sat | S6: Sun | T6: Mon | U6: Tue | V6: Wed | W6: Thu | X6: Fri | Y6: Sat | Z6: Sun | AA6: Mon | AB6: Tue | AC6: Wed | AD6: Thu | AE6: Fri | AF6: Sat | AG6: Sun | AH6: Mon | AI6: Tue | AJ6: Wed | AK6: Thu | AL6: Fri | AM6: Sat | AN6: Sun | AO6: Mon | AP6: Tue | AQ6: Wed | AR6: Thu | AS6: Fri | AT6: Sat | AU6: Sun | AV6: Mon
E7: WORK | F7: OFF | G7: START | I7: =IF(LEN($E$13)>0,INDEX(Calc!$L$5:$L$16,E13,1)&" "&E14,"") -> August 2022 | L7: =IFERROR(COLUMN(L6)-COLUMN($K$4)+DATE($E$14,$E13,1)-WEEKDAY(DATE($E$14,$E13,1),1),"") -> 44773 | M7: =IFERROR(COLUMN(M6)-COLUMN($K$4)+DATE($E$14,$E13,1)-WEEKDAY(DATE($E$14,$E13,1),1),"") -> 44774 | N7: =IFERROR(COLUMN(N6)-COLUMN($K$4)+DATE($E$14,$E13,1)-WEEKDAY(DATE($E$14,$E13,1),1),"") -> 44775 | O7: =IFERROR(COLUMN(O6)-COLUMN($K$4)+DATE($E$14,$E13,1)-WEEKDAY(DATE($E$14,$E13,1),1),"") -> 44776 | P7: =IFERROR(COLUMN(P6)-COLUMN($K$4)+DATE($E$14,$E13,1)-WEEKDAY(DATE($E$14,$E13,1),1),"") -> 44777 | Q7: =IFERROR(COLUMN(Q6)-COLUMN($K$4)+DATE($E$14,$E13,1)-WEEKDAY(DATE($E$14,$E13,1),1),"") -> 44778 | R7: =IFERROR(COLUMN(R6)-COLUMN($K$4)+DATE($E$14,$E13,1)-WEEKDAY(DATE($E$14,$E13,1),1),"") -> 44779 | S7: =IFERROR(COLUMN(S6)-COLUMN($K$4)+DATE($E$14,$E13,1)-WEEKDAY(DATE($E$14,$E13,1),1),"") -> 44780 | ... AV7: =IFERROR(COLUMN(AV6)-COLUMN($K$4)+DATE($E$14,$E13,1)-WEEKDAY(DATE($E$14,$E13,1),1),"") -> 44809
C8: Shift A | D8: =RIGHT(C8,1) -> A | E8: 3 | F8: 1 | G8: 1 | I8: =IF(LEN(C8)>0,"Number of employees at " & $C$8,"") -> Number of employees at Shift A | L8: =IFERROR(IF(LEN($C$8)=0,"",IF(MONTH(L$7)=$E$13,COUNTIF(L$13:L$20,$D$8),"")),"") | M8: =IFERROR(IF(LEN($C$8)=0,"",IF(MONTH(M$7)=$E$13,COUNTIF(M$13:M$20,$D$8),"")),"") -> 1 | N8: =IFERROR(IF(LEN($C$8)=0,"",IF(MONTH(N$7)=$E$13,COUNTIF(N$13:N$20,$D$8),"")),"") -> 1 | O8: =IFERROR(IF(LEN($C$8)=0,"",IF(MONTH(O$7)=$E$13,COUNTIF(O$13:O$20,$D$8),"")),"") -> 1 | P8: =IFERROR(IF(LEN($C$8)=0,"",IF(MONTH(P$7)=$E$13,COUNTIF(P$13:P$20,$D$8),"")),"") -> 0 | Q8: =IFERROR(IF(LEN($C$8)=0,"",IF(MONTH(Q$7)=$E$13,COUNTIF(Q$13:Q$20,$D$8),"")),"") -> 1 | R8: =IFERROR(IF(LEN($C$8)=0,"",IF(MONTH(R$7)=$E$13,COUNTIF(R$13:R$20,$D$8),"")),"") -> 1 | S8: =IFERROR(IF(LEN($C$8)=0,"",IF(MONTH(S$7)=$E$13,COUNTIF(S$13:S$20,$D$8),"")),"") -> 1 | ... AV8: =IFERROR(IF(LEN($C$8)=0,"",IF(MONTH(AV$7)=$E$13,COUNTIF(AV$13:AV$20,$D$8),"")),"")
C9: Shift B | D9: =RIGHT(C9,1) -> B | E9: 6 | F9: 3 | G9: 6 | I9: =IF(LEN(C9)>0,"Number of employees at " & $C$9,"") -> Number of employees at Shift B | L9: =IFERROR(IF(LEN($C$9)=0,"",IF(MONTH(L$7)=$E$13,COUNTIF(L$13:L$20,$D$9),"")),"") | M9: =IFERROR(IF(LEN($C$9)=0,"",IF(MONTH(M$7)=$E$13,COUNTIF(M$13:M$20,$D$9),"")),"") -> 0 | N9: =IFERROR(IF(LEN($C$9)=0,"",IF(MONTH(N$7)=$E$13,COUNTIF(N$13:N$20,$D$9),"")),"") -> 0 | O9: =IFERROR(IF(LEN($C$9)=0,"",IF(MONTH(O$7)=$E$13,COUNTIF(O$13:O$20,$D$9),"")),"") -> 0 | P9: =IFERROR(IF(LEN($C$9)=0,"",IF(MONTH(P$7)=$E$13,COUNTIF(P$13:P$20,$D$9),"")),"") -> 0 | Q9: =IFERROR(IF(LEN($C$9)=0,"",IF(MONTH(Q$7)=$E$13,COUNTIF(Q$13:Q$20,$D$9),"")),"") -> 0 | R9: =IFERROR(IF(LEN($C$9)=0,"",IF(MONTH(R$7)=$E$13,COUNTIF(R$13:R$20,$D$9),"")),"") -> 3 | S9: =IFERROR(IF(LEN($C$9)=0,"",IF(MONTH(S$7)=$E$13,COUNTIF(S$13:S$20,$D$9),"")),"") -> 3 | ... AV9: =IFERROR(IF(LEN($C$9)=0,"",IF(MONTH(AV$7)=$E$13,COUNTIF(AV$13:AV$20,$D$9),"")),"")
C10: Shift C | D10: =RIGHT(C10,1) -> C | E10: 6 | F10: 2 | G10: 4 | I10: =IF(LEN(C10)>0,"Number of employees at " & $C$10,"") -> Number of employees at Shift C | L10: =IFERROR(IF(LEN($C$10)=0,"",IF(MONTH(L$7)=$E$13,COUNTIF(L$13:L$20,$D$10),"")),"") | M10: =IFERROR(IF(LEN($C$10)=0,"",IF(MONTH(M$7)=$E$13,COUNTIF(M$13:M$20,$D$10),"")),"") -> 0 | N10: =IFERROR(IF(LEN($C$10)=0,"",IF(MONTH(N$7)=$E$13,COUNTIF(N$13:N$20,$D$10),"")),"") -> 0 | O10: =IFERROR(IF(LEN($C$10)=0,"",IF(MONTH(O$7)=$E$13,COUNTIF(O$13:O$20,$D$10),"")),"") -> 0 | P10: =IFERROR(IF(LEN($C$10)=0,"",IF(MONTH(P$7)=$E$13,COUNTIF(P$13:P$20,$D$10),"")),"") -> 1 | Q10: =IFERROR(IF(LEN($C$10)=0,"",IF(MONTH(Q$7)=$E$13,COUNTIF(Q$13:Q$20,$D$10),"")),"") -> 2 | R10: =IFERROR(IF(LEN($C$10)=0,"",IF(MONTH(R$7)=$E$13,COUNTIF(R$13:R$20,$D$10),"")),"") -> 2 | S10: =IFERROR(IF(LEN($C$10)=0,"",IF(MONTH(S$7)=$E$13,COUNTIF(S$13:S$20,$D$10),"")),"") -> 2 | ... AV10: =IFERROR(IF(LEN($C$10)=0,"",IF(MONTH(AV$7)=$E$13,COUNTIF(AV$13:AV$20,$D$10),"")),"")
I12: Shift | J12: Custom | K12: Employee
C13: Month: | E13: 8 | I13: Shift A | K13: Darcie-Mae Cooper | L13: =IFERROR(IF(MONTH(L$7)=$E$13,IF(AND($I13="",$J13=""),"", IF(AND($I13<>"",$I13=$C$8),IF(AND(MOD(DAY(L$7)-$G$8,($E$8+$F$8))<$E$8,DAY(L$7)-$G$8>=0),$D$8,"x"), IF(AND($I13<>"",$I13=$C$9),IF(AND(MOD(DAY(L$7)-$G$9,($E$9+$F$9))<$E$9, DAY(L$7)-$G$9>=0),$D$9,"x"), IF(AND($I13<>"",$I13=$C$10),IF(AND(MOD(DAY(L$7)-$G$10,($E$10+$F$10))<$E$10,DAY(L$7)-$G$10>=0),$D$10,"x"), MID(Calc!$O5,DAY(L$7),1))))),""),"") | M13: =IFERROR(IF(MONTH(M$7)=$E$13,IF(AND($I13="",$J13=""),"", IF(AND($I13<>"",$I13=$C$8),IF(AND(MOD(DAY(M$7)-$G$8,($E$8+$F$8))<$E$8,DAY(M$7)-$G$8>=0),$D$8,"x"), IF(AND($I13<>"",$I13=$C$9),IF(AND(MOD(DAY(M$7)-$G$9,($E$9+$F$9))<$E$9, DAY(M$7)-$G$9>=0),$D$9,"x"), IF(AND($I13<>"",$I13=$C$10),IF(AND(MOD(DAY(M$7)-$G$10,($E$10+$F$10))<$E$10,DAY(M$7)-$G$10>=0),$D$10,"x"), MID(Calc!$O5,DAY(M$7),1))))),""),"") -> A | N13: =IFERROR(IF(MONTH(N$7)=$E$13,IF(AND($I13="",$J13=""),"", IF(AND($I13<>"",$I13=$C$8),IF(AND(MOD(DAY(N$7)-$G$8,($E$8+$F$8))<$E$8,DAY(N$7)-$G$8>=0),$D$8,"x"), IF(AND($I13<>"",$I13=$C$9),IF(AND(MOD(DAY(N$7)-$G$9,($E$9+$F$9))<$E$9, DAY(N$7)-$G$9>=0),$D$9,"x"), IF(AND($I13<>"",$I13=$C$10),IF(AND(MOD(DAY(N$7)-$G$10,($E$10+$F$10))<$E$10,DAY(N$7)-$G$10>=0),$D$10,"x"), MID(Calc!$O5,DAY(N$7),1))))),""),"") -> A | O13: =IFERROR(IF(MONTH(O$7)=$E$13,IF(AND($I13="",$J13=""),"", IF(AND($I13<>"",$I13=$C$8),IF(AND(MOD(DAY(O$7)-$G$8,($E$8+$F$8))<$E$8,DAY(O$7)-$G$8>=0),$D$8,"x"), IF(AND($I13<>"",$I13=$C$9),IF(AND(MOD(DAY(O$7)-$G$9,($E$9+$F$9))<$E$9, DAY(O$7)-$G$9>=0),$D$9,"x"), IF(AND($I13<>"",$I13=$C$10),IF(AND(MOD(DAY(O$7)-$G$10,($E$10+$F$10))<$E$10,DAY(O$7)-$G$10>=0),$D$10,"x"), MID(Calc!$O5,DAY(O$7),1))))),""),"") -> A | P13: =IFERROR(IF(MONTH(P$7)=$E$13,IF(AND($I13="",$J13=""),"", IF(AND($I13<>"",$I13=$C$8),IF(AND(MOD(DAY(P$7)-$G$8,($E$8+$F$8))<$E$8,DAY(P$7)-$G$8>=0),$D$8,"x"), IF(AND($I13<>"",$I13=$C$9),IF(AND(MOD(DAY(P$7)-$G$9,($E$9+$F$9))<$E$9, DAY(P$7)-$G$9>=0),$D$9,"x"), IF(AND($I13<>"",$I13=$C$10),IF(AND(MOD(DAY(P$7)-$G$10,($E$10+$F$10))<$E$10,DAY(P$7)-$G$10>=0),$D$10,"x"), MID(Calc!$O5,DAY(P$7),1))))),""),"") -> x | Q13: =IFERROR(IF(MONTH(Q$7)=$E$13,IF(AND($I13="",$J13=""),"", IF(AND($I13<>"",$I13=$C$8),IF(AND(MOD(DAY(Q$7)-$G$8,($E$8+$F$8))<$E$8,DAY(Q$7)-$G$8>=0),$D$8,"x"), IF(AND($I13<>"",$I13=$C$9),IF(AND(MOD(DAY(Q$7)-$G$9,($E$9+$F$9))<$E$9, DAY(Q$7)-$G$9>=0),$D$9,"x"), IF(AND($I13<>"",$I13=$C$10),IF(AND(MOD(DAY(Q$7)-$G$10,($E$10+$F$10))<$E$10,DAY(Q$7)-$G$10>=0),$D$10,"x"), MID(Calc!$O5,DAY(Q$7),1))))),""),"") -> A | R13: =IFERROR(IF(MONTH(R$7)=$E$13,IF(AND($I13="",$J13=""),"", IF(AND($I13<>"",$I13=$C$8),IF(AND(MOD(DAY(R$7)-$G$8,($E$8+$F$8))<$E$8,DAY(R$7)-$G$8>=0),$D$8,"x"), IF(AND($I13<>"",$I13=$C$9),IF(AND(MOD(DAY(R$7)-$G$9,($E$9+$F$9))<$E$9, DAY(R$7)-$G$9>=0),$D$9,"x"), IF(AND($I13<>"",$I13=$C$10),IF(AND(MOD(DAY(R$7)-$G$10,($E$10+$F$10))<$E$10,DAY(R$7)-$G$10>=0),$D$10,"x"), MID(Calc!$O5,DAY(R$7),1))))),""),"") -> A | S13: =IFERROR(IF(MONTH(S$7)=$E$13,IF(AND($I13="",$J13=""),"", IF(AND($I13<>"",$I13=$C$8),IF(AND(MOD(DAY(S$7)-$G$8,($E$8+$F$8))<$E$8,DAY(S$7)-$G$8>=0),$D$8,"x"), IF(AND($I13<>"",$I13=$C$9),IF(AND(MOD(DAY(S$7)-$G$9,($E$9+$F$9))<$E$9, DAY(S$7)-$G$9>=0),$D$9,"x"), IF(AND($I13<>"",$I13=$C$10),IF(AND(MOD(DAY(S$7)-$G$10,($E$10+$F$10))<$E$10,DAY(S$7)-$G$10>=0),$D$10,"x"), MID(Calc!$O5,DAY(S$7),1))))),""),"") -> A | ... AV13: =IFERROR(IF(MONTH(AV$7)=$E$13,IF(AND($I13="",$J13=""),"", IF(AND($I13<>"",$I13=$C$8),IF(AND(MOD(DAY(AV$7)-$G$8,($E$8+$F$8))<$E$8,DAY(AV$7)-$G$8>=0),$D$8,"x"), IF(AND($I13<>"",$I13=$C$9),IF(AND(MOD(DAY(AV$7)-$G$9,($E$9+$F$9))<$E$9, DAY(AV$7)-$G$9>=0),$D$9,"x"), IF(AND($I13<>"",$I13=$C$10),IF(AND(MOD(DAY(AV$7)-$G$10,($E$10+$F$10))<$E$10,DAY(AV$7)-$G$10>=0),$D$10,"x"), MID(Calc!$O5,DAY(AV$7),1))))),""),"")
C14: Year: | E14: 2022 | I14: Shift B | K14: Rahim Hoover | L14: =IFERROR(IF(MONTH(L$7)=$E$13,IF(AND($I14="",$J14=""),"", IF(AND($I14<>"",$I14=$C$8),IF(AND(MOD(DAY(L$7)-$G$8,($E$8+$F$8))<$E$8,DAY(L$7)-$G$8>=0),$D$8,"x"), IF(AND($I14<>"",$I14=$C$9),IF(AND(MOD(DAY(L$7)-$G$9,($E$9+$F$9))<$E$9, DAY(L$7)-$G$9>=0),$D$9,"x"), IF(AND($I14<>"",$I14=$C$10),IF(AND(MOD(DAY(L$7)-$G$10,($E$10+$F$10))<$E$10,DAY(L$7)-$G$10>=0),$D$10,"x"), MID(Calc!$O6,DAY(L$7),1))))),""),"") | M14: =IFERROR(IF(MONTH(M$7)=$E$13,IF(AND($I14="",$J14=""),"", IF(AND($I14<>"",$I14=$C$8),IF(AND(MOD(DAY(M$7)-$G$8,($E$8+$F$8))<$E$8,DAY(M$7)-$G$8>=0),$D$8,"x"), IF(AND($I14<>"",$I14=$C$9),IF(AND(MOD(DAY(M$7)-$G$9,($E$9+$F$9))<$E$9, DAY(M$7)-$G$9>=0),$D$9,"x"), IF(AND($I14<>"",$I14=$C$10),IF(AND(MOD(DAY(M$7)-$G$10,($E$10+$F$10))<$E$10,DAY(M$7)-$G$10>=0),$D$10,"x"), MID(Calc!$O6,DAY(M$7),1))))),""),"") -> x | N14: =IFERROR(IF(MONTH(N$7)=$E$13,IF(AND($I14="",$J14=""),"", IF(AND($I14<>"",$I14=$C$8),IF(AND(MOD(DAY(N$7)-$G$8,($E$8+$F$8))<$E$8,DAY(N$7)-$G$8>=0),$D$8,"x"), IF(AND($I14<>"",$I14=$C$9),IF(AND(MOD(DAY(N$7)-$G$9,($E$9+$F$9))<$E$9, DAY(N$7)-$G$9>=0),$D$9,"x"), IF(AND($I14<>"",$I14=$C$10),IF(AND(MOD(DAY(N$7)-$G$10,($E$10+$F$10))<$E$10,DAY(N$7)-$G$10>=0),$D$10,"x"), MID(Calc!$O6,DAY(N$7),1))))),""),"") -> x | O14: =IFERROR(IF(MONTH(O$7)=$E$13,IF(AND($I14="",$J14=""),"", IF(AND($I14<>"",$I14=$C$8),IF(AND(MOD(DAY(O$7)-$G$8,($E$8+$F$8))<$E$8,DAY(O$7)-$G$8>=0),$D$8,"x"), IF(AND($I14<>"",$I14=$C$9),IF(AND(MOD(DAY(O$7)-$G$9,($E$9+$F$9))<$E$9, DAY(O$7)-$G$9>=0),$D$9,"x"), IF(AND($I14<>"",$I14=$C$10),IF(AND(MOD(DAY(O$7)-$G$10,($E$10+$F$10))<$E$10,DAY(O$7)-$G$10>=0),$D$10,"x"), MID(Calc!$O6,DAY(O$7),1))))),""),"") -> x | P14: =IFERROR(IF(MONTH(P$7)=$E$13,IF(AND($I14="",$J14=""),"", IF(AND($I14<>"",$I14=$C$8),IF(AND(MOD(DAY(P$7)-$G$8,($E$8+$F$8))<$E$8,DAY(P$7)-$G$8>=0),$D$8,"x"), IF(AND($I14<>"",$I14=$C$9),IF(AND(MOD(DAY(P$7)-$G$9,($E$9+$F$9))<$E$9, DAY(P$7)-$G$9>=0),$D$9,"x"), IF(AND($I14<>"",$I14=$C$10),IF(AND(MOD(DAY(P$7)-$G$10,($E$10+$F$10))<$E$10,DAY(P$7)-$G$10>=0),$D$10,"x"), MID(Calc!$O6,DAY(P$7),1))))),""),"") -> x | Q14: =IFERROR(IF(MONTH(Q$7)=$E$13,IF(AND($I14="",$J14=""),"", IF(AND($I14<>"",$I14=$C$8),IF(AND(MOD(DAY(Q$7)-$G$8,($E$8+$F$8))<$E$8,DAY(Q$7)-$G$8>=0),$D$8,"x"), IF(AND($I14<>"",$I14=$C$9),IF(AND(MOD(DAY(Q$7)-$G$9,($E$9+$F$9))<$E$9, DAY(Q$7)-$G$9>=0),$D$9,"x"), IF(AND($I14<>"",$I14=$C$10),IF(AND(MOD(DAY(Q$7)-$G$10,($E$10+$F$10))<$E$10,DAY(Q$7)-$G$10>=0),$D$10,"x"), MID(Calc!$O6,DAY(Q$7),1))))),""),"") -> x | R14: =IFERROR(IF(MONTH(R$7)=$E$13,IF(AND($I14="",$J14=""),"", IF(AND($I14<>"",$I14=$C$8),IF(AND(MOD(DAY(R$7)-$G$8,($E$8+$F$8))<$E$8,DAY(R$7)-$G$8>=0),$D$8,"x"), IF(AND($I14<>"",$I14=$C$9),IF(AND(MOD(DAY(R$7)-$G$9,($E$9+$F$9))<$E$9, DAY(R$7)-$G$9>=0),$D$9,"x"), IF(AND($I14<>"",$I14=$C$10),IF(AND(MOD(DAY(R$7)-$G$10,($E$10+$F$10))<$E$10,DAY(R$7)-$G$10>=0),$D$10,"x"), MID(Calc!$O6,DAY(R$7),1))))),""),"") -> B | S14: =IFERROR(IF(MONTH(S$7)=$E$13,IF(AND($I14="",$J14=""),"", IF(AND($I14<>"",$I14=$C$8),IF(AND(MOD(DAY(S$7)-$G$8,($E$8+$F$8))<$E$8,DAY(S$7)-$G$8>=0),$D$8,"x"), IF(AND($I14<>"",$I14=$C$9),IF(AND(MOD(DAY(S$7)-$G$9,($E$9+$F$9))<$E$9, DAY(S$7)-$G$9>=0),$D$9,"x"), IF(AND($I14<>"",$I14=$C$10),IF(AND(MOD(DAY(S$7)-$G$10,($E$10+$F$10))<$E$10,DAY(S$7)-$G$10>=0),$D$10,"x"), MID(Calc!$O6,DAY(S$7),1))))),""),"") -> B | ... AV14: =IFERROR(IF(MONTH(AV$7)=$E$13,IF(AND($I14="",$J14=""),"", IF(AND($I14<>"",$I14=$C$8),IF(AND(MOD(DAY(AV$7)-$G$8,($E$8+$F$8))<$E$8,DAY(AV$7)-$G$8>=0),$D$8,"x"), IF(AND($I14<>"",$I14=$C$9),IF(AND(MOD(DAY(AV$7)-$G$9,($E$9+$F$9))<$E$9, DAY(AV$7)-$G$9>=0),$D$9,"x"), IF(AND($I14<>"",$I14=$C$10),IF(AND(MOD(DAY(AV$7)-$G$10,($E$10+$F$10))<$E$10,DAY(AV$7)-$G$10>=0),$D$10,"x"), MID(Calc!$O6,DAY(AV$7),1))))),""),"")
I15: Shift C | K15: Hallam Rogers | L15: =IFERROR(IF(MONTH(L$7)=$E$13,IF(AND($I15="",$J15=""),"", IF(AND($I15<>"",$I15=$C$8),IF(AND(MOD(DAY(L$7)-$G$8,($E$8+$F$8))<$E$8,DAY(L$7)-$G$8>=0),$D$8,"x"), IF(AND($I15<>"",$I15=$C$9),IF(AND(MOD(DAY(L$7)-$G$9,($E$9+$F$9))<$E$9, DAY(L$7)-$G$9>=0),$D$9,"x"), IF(AND($I15<>"",$I15=$C$10),IF(AND(MOD(DAY(L$7)-$G$10,($E$10+$F$10))<$E$10,DAY(L$7)-$G$10>=0),$D$10,"x"), MID(Calc!$O7,DAY(L$7),1))))),""),"") | M15: =IFERROR(IF(MONTH(M$7)=$E$13,IF(AND($I15="",$J15=""),"", IF(AND($I15<>"",$I15=$C$8),IF(AND(MOD(DAY(M$7)-$G$8,($E$8+$F$8))<$E$8,DAY(M$7)-$G$8>=0),$D$8,"x"), IF(AND($I15<>"",$I15=$C$9),IF(AND(MOD(DAY(M$7)-$G$9,($E$9+$F$9))<$E$9, DAY(M$7)-$G$9>=0),$D$9,"x"), IF(AND($I15<>"",$I15=$C$10),IF(AND(MOD(DAY(M$7)-$G$10,($E$10+$F$10))<$E$10,DAY(M$7)-$G$10>=0),$D$10,"x"), MID(Calc!$O7,DAY(M$7),1))))),""),"") -> x | N15: =IFERROR(IF(MONTH(N$7)=$E$13,IF(AND($I15="",$J15=""),"", IF(AND($I15<>"",$I15=$C$8),IF(AND(MOD(DAY(N$7)-$G$8,($E$8+$F$8))<$E$8,DAY(N$7)-$G$8>=0),$D$8,"x"), IF(AND($I15<>"",$I15=$C$9),IF(AND(MOD(DAY(N$7)-$G$9,($E$9+$F$9))<$E$9, DAY(N$7)-$G$9>=0),$D$9,"x"), IF(AND($I15<>"",$I15=$C$10),IF(AND(MOD(DAY(N$7)-$G$10,($E$10+$F$10))<$E$10,DAY(N$7)-$G$10>=0),$D$10,"x"), MID(Calc!$O7,DAY(N$7),1))))),""),"") -> x | O15: =IFERROR(IF(MONTH(O$7)=$E$13,IF(AND($I15="",$J15=""),"", IF(AND($I15<>"",$I15=$C$8),IF(AND(MOD(DAY(O$7)-$G$8,($E$8+$F$8))<$E$8,DAY(O$7)-$G$8>=0),$D$8,"x"), IF(AND($I15<>"",$I15=$C$9),IF(AND(MOD(DAY(O$7)-$G$9,($E$9+$F$9))<$E$9, DAY(O$7)-$G$9>=0),$D$9,"x"), IF(AND($I15<>"",$I15=$C$10),IF(AND(MOD(DAY(O$7)-$G$10,($E$10+$F$10))<$E$10,DAY(O$7)-$G$10>=0),$D$10,"x"), MID(Calc!$O7,DAY(O$7),1))))),""),"") -> x | P15: =IFERROR(IF(MONTH(P$7)=$E$13,IF(AND($I15="",$J15=""),"", IF(AND($I15<>"",$I15=$C$8),IF(AND(MOD(DAY(P$7)-$G$8,($E$8+$F$8))<$E$8,DAY(P$7)-$G$8>=0),$D$8,"x"), IF(AND($I15<>"",$I15=$C$9),IF(AND(MOD(DAY(P$7)-$G$9,($E$9+$F$9))<$E$9, DAY(P$7)-$G$9>=0),$D$9,"x"), IF(AND($I15<>"",$I15=$C$10),IF(AND(MOD(DAY(P$7)-$G$10,($E$10+$F$10))<$E$10,DAY(P$7)-$G$10>=0),$D$10,"x"), MID(Calc!$O7,DAY(P$7),1))))),""),"") -> C | Q15: =IFERROR(IF(MONTH(Q$7)=$E$13,IF(AND($I15="",$J15=""),"", IF(AND($I15<>"",$I15=$C$8),IF(AND(MOD(DAY(Q$7)-$G$8,($E$8+$F$8))<$E$8,DAY(Q$7)-$G$8>=0),$D$8,"x"), IF(AND($I15<>"",$I15=$C$9),IF(AND(MOD(DAY(Q$7)-$G$9,($E$9+$F$9))<$E$9, DAY(Q$7)-$G$9>=0),$D$9,"x"), IF(AND($I15<>"",$I15=$C$10),IF(AND(MOD(DAY(Q$7)-$G$10,($E$10+$F$10))<$E$10,DAY(Q$7)-$G$10>=0),$D$10,"x"), MID(Calc!$O7,DAY(Q$7),1))))),""),"") -> C | R15: =IFERROR(IF(MONTH(R$7)=$E$13,IF(AND($I15="",$J15=""),"", IF(AND($I15<>"",$I15=$C$8),IF(AND(MOD(DAY(R$7)-$G$8,($E$8+$F$8))<$E$8,DAY(R$7)-$G$8>=0),$D$8,"x"), IF(AND($I15<>"",$I15=$C$9),IF(AND(MOD(DAY(R$7)-$G$9,($E$9+$F$9))<$E$9, DAY(R$7)-$G$9>=0),$D$9,"x"), IF(AND($I15<>"",$I15=$C$10),IF(AND(MOD(DAY(R$7)-$G$10,($E$10+$F$10))<$E$10,DAY(R$7)-$G$10>=0),$D$10,"x"), MID(Calc!$O7,DAY(R$7),1))))),""),"") -> C | S15: =IFERROR(IF(MONTH(S$7)=$E$13,IF(AND($I15="",$J15=""),"", IF(AND($I15<>"",$I15=$C$8),IF(AND(MOD(DAY(S$7)-$G$8,($E$8+$F$8))<$E$8,DAY(S$7)-$G$8>=0),$D$8,"x"), IF(AND($I15<>"",$I15=$C$9),IF(AND(MOD(DAY(S$7)-$G$9,($E$9+$F$9))<$E$9, DAY(S$7)-$G$9>=0),$D$9,"x"), IF(AND($I15<>"",$I15=$C$10),IF(AND(MOD(DAY(S$7)-$G$10,($E$10+$F$10))<$E$10,DAY(S$7)-$G$10>=0),$D$10,"x"), MID(Calc!$O7,DAY(S$7),1))))),""),"") -> C | ... AV15: =IFERROR(IF(MONTH(AV$7)=$E$13,IF(AND($I15="",$J15=""),"", IF(AND($I15<>"",$I15=$C$8),IF(AND(MOD(DAY(AV$7)-$G$8,($E$8+$F$8))<$E$8,DAY(AV$7)-$G$8>=0),$D$8,"x"), IF(AND($I15<>"",$I15=$C$9),IF(AND(MOD(DAY(AV$7)-$G$9,($E$9+$F$9))<$E$9, DAY(AV$7)-$G$9>=0),$D$9,"x"), IF(AND($I15<>"",$I15=$C$10),IF(AND(MOD(DAY(AV$7)-$G$10,($E$10+$F$10))<$E$10,DAY(AV$7)-$G$10>=0),$D$10,"x"), MID(Calc!$O7,DAY(AV$7),1))))),""),"")
J16: 5CCCCCCxx | K16: Kaiya Russo | L16: =IFERROR(IF(MONTH(L$7)=$E$13,IF(AND($I16="",$J16=""),"", IF(AND($I16<>"",$I16=$C$8),IF(AND(MOD(DAY(L$7)-$G$8,($E$8+$F$8))<$E$8,DAY(L$7)-$G$8>=0),$D$8,"x"), IF(AND($I16<>"",$I16=$C$9),IF(AND(MOD(DAY(L$7)-$G$9,($E$9+$F$9))<$E$9, DAY(L$7)-$G$9>=0),$D$9,"x"), IF(AND($I16<>"",$I16=$C$10),IF(AND(MOD(DAY(L$7)-$G$10,($E$10+$F$10))<$E$10,DAY(L$7)-$G$10>=0),$D$10,"x"), MID(Calc!$O8,DAY(L$7),1))))),""),"") | M16: =IFERROR(IF(MONTH(M$7)=$E$13,IF(AND($I16="",$J16=""),"", IF(AND($I16<>"",$I16=$C$8),IF(AND(MOD(DAY(M$7)-$G$8,($E$8+$F$8))<$E$8,DAY(M$7)-$G$8>=0),$D$8,"x"), IF(AND($I16<>"",$I16=$C$9),IF(AND(MOD(DAY(M$7)-$G$9,($E$9+$F$9))<$E$9, DAY(M$7)-$G$9>=0),$D$9,"x"), IF(AND($I16<>"",$I16=$C$10),IF(AND(MOD(DAY(M$7)-$G$10,($E$10+$F$10))<$E$10,DAY(M$7)-$G$10>=0),$D$10,"x"), MID(Calc!$O8,DAY(M$7),1))))),""),"") -> x | N16: =IFERROR(IF(MONTH(N$7)=$E$13,IF(AND($I16="",$J16=""),"", IF(AND($I16<>"",$I16=$C$8),IF(AND(MOD(DAY(N$7)-$G$8,($E$8+$F$8))<$E$8,DAY(N$7)-$G$8>=0),$D$8,"x"), IF(AND($I16<>"",$I16=$C$9),IF(AND(MOD(DAY(N$7)-$G$9,($E$9+$F$9))<$E$9, DAY(N$7)-$G$9>=0),$D$9,"x"), IF(AND($I16<>"",$I16=$C$10),IF(AND(MOD(DAY(N$7)-$G$10,($E$10+$F$10))<$E$10,DAY(N$7)-$G$10>=0),$D$10,"x"), MID(Calc!$O8,DAY(N$7),1))))),""),"") -> x | O16: =IFERROR(IF(MONTH(O$7)=$E$13,IF(AND($I16="",$J16=""),"", IF(AND($I16<>"",$I16=$C$8),IF(AND(MOD(DAY(O$7)-$G$8,($E$8+$F$8))<$E$8,DAY(O$7)-$G$8>=0),$D$8,"x"), IF(AND($I16<>"",$I16=$C$9),IF(AND(MOD(DAY(O$7)-$G$9,($E$9+$F$9))<$E$9, DAY(O$7)-$G$9>=0),$D$9,"x"), IF(AND($I16<>"",$I16=$C$10),IF(AND(MOD(DAY(O$7)-$G$10,($E$10+$F$10))<$E$10,DAY(O$7)-$G$10>=0),$D$10,"x"), MID(Calc!$O8,DAY(O$7),1))))),""),"") -> x | P16: =IFERROR(IF(MONTH(P$7)=$E$13,IF(AND($I16="",$J16=""),"", IF(AND($I16<>"",$I16=$C$8),IF(AND(MOD(DAY(P$7)-$G$8,($E$8+$F$8))<$E$8,DAY(P$7)-$G$8>=0),$D$8,"x"), IF(AND($I16<>"",$I16=$C$9),IF(AND(MOD(DAY(P$7)-$G$9,($E$9+$F$9))<$E$9, DAY(P$7)-$G$9>=0),$D$9,"x"), IF(AND($I16<>"",$I16=$C$10),IF(AND(MOD(DAY(P$7)-$G$10,($E$10+$F$10))<$E$10,DAY(P$7)-$G$10>=0),$D$10,"x"), MID(Calc!$O8,DAY(P$7),1))))),""),"") -> x | Q16: =IFERROR(IF(MONTH(Q$7)=$E$13,IF(AND($I16="",$J16=""),"", IF(AND($I16<>"",$I16=$C$8),IF(AND(MOD(DAY(Q$7)-$G$8,($E$8+$F$8))<$E$8,DAY(Q$7)-$G$8>=0),$D$8,"x"), IF(AND($I16<>"",$I16=$C$9),IF(AND(MOD(DAY(Q$7)-$G$9,($E$9+$F$9))<$E$9, DAY(Q$7)-$G$9>=0),$D$9,"x"), IF(AND($I16<>"",$I16=$C$10),IF(AND(MOD(DAY(Q$7)-$G$10,($E$10+$F$10))<$E$10,DAY(Q$7)-$G$10>=0),$D$10,"x"), MID(Calc!$O8,DAY(Q$7),1))))),""),"") -> C | R16: =IFERROR(IF(MONTH(R$7)=$E$13,IF(AND($I16="",$J16=""),"", IF(AND($I16<>"",$I16=$C$8),IF(AND(MOD(DAY(R$7)-$G$8,($E$8+$F$8))<$E$8,DAY(R$7)-$G$8>=0),$D$8,"x"), IF(AND($I16<>"",$I16=$C$9),IF(AND(MOD(DAY(R$7)-$G$9,($E$9+$F$9))<$E$9, DAY(R$7)-$G$9>=0),$D$9,"x"), IF(AND($I16<>"",$I16=$C$10),IF(AND(MOD(DAY(R$7)-$G$10,($E$10+$F$10))<$E$10,DAY(R$7)-$G$10>=0),$D$10,"x"), MID(Calc!$O8,DAY(R$7),1))))),""),"") -> C | S16: =IFERROR(IF(MONTH(S$7)=$E$13,IF(AND($I16="",$J16=""),"", IF(AND($I16<>"",$I16=$C$8),IF(AND(MOD(DAY(S$7)-$G$8,($E$8+$F$8))<$E$8,DAY(S$7)-$G$8>=0),$D$8,"x"), IF(AND($I16<>"",$I16=$C$9),IF(AND(MOD(DAY(S$7)-$G$9,($E$9+$F$9))<$E$9, DAY(S$7)-$G$9>=0),$D$9,"x"), IF(AND($I16<>"",$I16=$C$10),IF(AND(MOD(DAY(S$7)-$G$10,($E$10+$F$10))<$E$10,DAY(S$7)-$G$10>=0),$D$10,"x"), MID(Calc!$O8,DAY(S$7),1))))),""),"") -> C | ... AV16: =IFERROR(IF(MONTH(AV$7)=$E$13,IF(AND($I16="",$J16=""),"", IF(AND($I16<>"",$I16=$C$8),IF(AND(MOD(DAY(AV$7)-$G$8,($E$8+$F$8))<$E$8,DAY(AV$7)-$G$8>=0),$D$8,"x"), IF(AND($I16<>"",$I16=$C$9),IF(AND(MOD(DAY(AV$7)-$G$9,($E$9+$F$9))<$E$9, DAY(AV$7)-$G$9>=0),$D$9,"x"), IF(AND($I16<>"",$I16=$C$10),IF(AND(MOD(DAY(AV$7)-$G$10,($E$10+$F$10))<$E$10,DAY(AV$7)-$G$10>=0),$D$10,"x"), MID(Calc!$O8,DAY(AV$7),1))))),""),"")
I17: Shift B | K17: Jemima Schofield | L17: =IFERROR(IF(MONTH(L$7)=$E$13,IF(AND($I17="",$J17=""),"", IF(AND($I17<>"",$I17=$C$8),IF(AND(MOD(DAY(L$7)-$G$8,($E$8+$F$8))<$E$8,DAY(L$7)-$G$8>=0),$D$8,"x"), IF(AND($I17<>"",$I17=$C$9),IF(AND(MOD(DAY(L$7)-$G$9,($E$9+$F$9))<$E$9, DAY(L$7)-$G$9>=0),$D$9,"x"), IF(AND($I17<>"",$I17=$C$10),IF(AND(MOD(DAY(L$7)-$G$10,($E$10+$F$10))<$E$10,DAY(L$7)-$G$10>=0),$D$10,"x"), MID(Calc!$O9,DAY(L$7),1))))),""),"") | M17: =IFERROR(IF(MONTH(M$7)=$E$13,IF(AND($I17="",$J17=""),"", IF(AND($I17<>"",$I17=$C$8),IF(AND(MOD(DAY(M$7)-$G$8,($E$8+$F$8))<$E$8,DAY(M$7)-$G$8>=0),$D$8,"x"), IF(AND($I17<>"",$I17=$C$9),IF(AND(MOD(DAY(M$7)-$G$9,($E$9+$F$9))<$E$9, DAY(M$7)-$G$9>=0),$D$9,"x"), IF(AND($I17<>"",$I17=$C$10),IF(AND(MOD(DAY(M$7)-$G$10,($E$10+$F$10))<$E$10,DAY(M$7)-$G$10>=0),$D$10,"x"), MID(Calc!$O9,DAY(M$7),1))))),""),"") -> x | N17: =IFERROR(IF(MONTH(N$7)=$E$13,IF(AND($I17="",$J17=""),"", IF(AND($I17<>"",$I17=$C$8),IF(AND(MOD(DAY(N$7)-$G$8,($E$8+$F$8))<$E$8,DAY(N$7)-$G$8>=0),$D$8,"x"), IF(AND($I17<>"",$I17=$C$9),IF(AND(MOD(DAY(N$7)-$G$9,($E$9+$F$9))<$E$9, DAY(N$7)-$G$9>=0),$D$9,"x"), IF(AND($I17<>"",$I17=$C$10),IF(AND(MOD(DAY(N$7)-$G$10,($E$10+$F$10))<$E$10,DAY(N$7)-$G$10>=0),$D$10,"x"), MID(Calc!$O9,DAY(N$7),1))))),""),"") -> x | O17: =IFERROR(IF(MONTH(O$7)=$E$13,IF(AND($I17="",$J17=""),"", IF(AND($I17<>"",$I17=$C$8),IF(AND(MOD(DAY(O$7)-$G$8,($E$8+$F$8))<$E$8,DAY(O$7)-$G$8>=0),$D$8,"x"), IF(AND($I17<>"",$I17=$C$9),IF(AND(MOD(DAY(O$7)-$G$9,($E$9+$F$9))<$E$9, DAY(O$7)-$G$9>=0),$D$9,"x"), IF(AND($I17<>"",$I17=$C$10),IF(AND(MOD(DAY(O$7)-$G$10,($E$10+$F$10))<$E$10,DAY(O$7)-$G$10>=0),$D$10,"x"), MID(Calc!$O9,DAY(O$7),1))))),""),"") -> x | P17: =IFERROR(IF(MONTH(P$7)=$E$13,IF(AND($I17="",$J17=""),"", IF(AND($I17<>"",$I17=$C$8),IF(AND(MOD(DAY(P$7)-$G$8,($E$8+$F$8))<$E$8,DAY(P$7)-$G$8>=0),$D$8,"x"), IF(AND($I17<>"",$I17=$C$9),IF(AND(MOD(DAY(P$7)-$G$9,($E$9+$F$9))<$E$9, DAY(P$7)-$G$9>=0),$D$9,"x"), IF(AND($I17<>"",$I17=$C$10),IF(AND(MOD(DAY(P$7)-$G$10,($E$10+$F$10))<$E$10,DAY(P$7)-$G$10>=0),$D$10,"x"), MID(Calc!$O9,DAY(P$7),1))))),""),"") -> x | Q17: =IFERROR(IF(MONTH(Q$7)=$E$13,IF(AND($I17="",$J17=""),"", IF(AND($I17<>"",$I17=$C$8),IF(AND(MOD(DAY(Q$7)-$G$8,($E$8+$F$8))<$E$8,DAY(Q$7)-$G$8>=0),$D$8,"x"), IF(AND($I17<>"",$I17=$C$9),IF(AND(MOD(DAY(Q$7)-$G$9,($E$9+$F$9))<$E$9, DAY(Q$7)-$G$9>=0),$D$9,"x"), IF(AND($I17<>"",$I17=$C$10),IF(AND(MOD(DAY(Q$7)-$G$10,($E$10+$F$10))<$E$10,DAY(Q$7)-$G$10>=0),$D$10,"x"), MID(Calc!$O9,DAY(Q$7),1))))),""),"") -> x | R17: =IFERROR(IF(MONTH(R$7)=$E$13,IF(AND($I17="",$J17=""),"", IF(AND($I17<>"",$I17=$C$8),IF(AND(MOD(DAY(R$7)-$G$8,($E$8+$F$8))<$E$8,DAY(R$7)-$G$8>=0),$D$8,"x"), IF(AND($I17<>"",$I17=$C$9),IF(AND(MOD(DAY(R$7)-$G$9,($E$9+$F$9))<$E$9, DAY(R$7)-$G$9>=0),$D$9,"x"), IF(AND($I17<>"",$I17=$C$10),IF(AND(MOD(DAY(R$7)-$G$10,($E$10+$F$10))<$E$10,DAY(R$7)-$G$10>=0),$D$10,"x"), MID(Calc!$O9,DAY(R$7),1))))),""),"") -> B | S17: =IFERROR(IF(MONTH(S$7)=$E$13,IF(AND($I17="",$J17=""),"", IF(AND($I17<>"",$I17=$C$8),IF(AND(MOD(DAY(S$7)-$G$8,($E$8+$F$8))<$E$8,DAY(S$7)-$G$8>=0),$D$8,"x"), IF(AND($I17<>"",$I17=$C$9),IF(AND(MOD(DAY(S$7)-$G$9,($E$9+$F$9))<$E$9, DAY(S$7)-$G$9>=0),$D$9,"x"), IF(AND($I17<>"",$I17=$C$10),IF(AND(MOD(DAY(S$7)-$G$10,($E$10+$F$10))<$E$10,DAY(S$7)-$G$10>=0),$D$10,"x"), MID(Calc!$O9,DAY(S$7),1))))),""),"") -> B | ... AV17: =IFERROR(IF(MONTH(AV$7)=$E$13,IF(AND($I17="",$J17=""),"", IF(AND($I17<>"",$I17=$C$8),IF(AND(MOD(DAY(AV$7)-$G$8,($E$8+$F$8))<$E$8,DAY(AV$7)-$G$8>=0),$D$8,"x"), IF(AND($I17<>"",$I17=$C$9),IF(AND(MOD(DAY(AV$7)-$G$9,($E$9+$F$9))<$E$9, DAY(AV$7)-$G$9>=0),$D$9,"x"), IF(AND($I17<>"",$I17=$C$10),IF(AND(MOD(DAY(AV$7)-$G$10,($E$10+$F$10))<$E$10,DAY(AV$7)-$G$10>=0),$D$10,"x"), MID(Calc!$O9,DAY(AV$7),1))))),""),"")
I18: Shift B | K18: Roisin Acevedo | L18: =IFERROR(IF(MONTH(L$7)=$E$13,IF(AND($I18="",$J18=""),"", IF(AND($I18<>"",$I18=$C$8),IF(AND(MOD(DAY(L$7)-$G$8,($E$8+$F$8))<$E$8,DAY(L$7)-$G$8>=0),$D$8,"x"), IF(AND($I18<>"",$I18=$C$9),IF(AND(MOD(DAY(L$7)-$G$9,($E$9+$F$9))<$E$9, DAY(L$7)-$G$9>=0),$D$9,"x"), IF(AND($I18<>"",$I18=$C$10),IF(AND(MOD(DAY(L$7)-$G$10,($E$10+$F$10))<$E$10,DAY(L$7)-$G$10>=0),$D$10,"x"), MID(Calc!$O10,DAY(L$7),1))))),""),"") | M18: =IFERROR(IF(MONTH(M$7)=$E$13,IF(AND($I18="",$J18=""),"", IF(AND($I18<>"",$I18=$C$8),IF(AND(MOD(DAY(M$7)-$G$8,($E$8+$F$8))<$E$8,DAY(M$7)-$G$8>=0),$D$8,"x"), IF(AND($I18<>"",$I18=$C$9),IF(AND(MOD(DAY(M$7)-$G$9,($E$9+$F$9))<$E$9, DAY(M$7)-$G$9>=0),$D$9,"x"), IF(AND($I18<>"",$I18=$C$10),IF(AND(MOD(DAY(M$7)-$G$10,($E$10+$F$10))<$E$10,DAY(M$7)-$G$10>=0),$D$10,"x"), MID(Calc!$O10,DAY(M$7),1))))),""),"") -> x | N18: =IFERROR(IF(MONTH(N$7)=$E$13,IF(AND($I18="",$J18=""),"", IF(AND($I18<>"",$I18=$C$8),IF(AND(MOD(DAY(N$7)-$G$8,($E$8+$F$8))<$E$8,DAY(N$7)-$G$8>=0),$D$8,"x"), IF(AND($I18<>"",$I18=$C$9),IF(AND(MOD(DAY(N$7)-$G$9,($E$9+$F$9))<$E$9, DAY(N$7)-$G$9>=0),$D$9,"x"), IF(AND($I18<>"",$I18=$C$10),IF(AND(MOD(DAY(N$7)-$G$10,($E$10+$F$10))<$E$10,DAY(N$7)-$G$10>=0),$D$10,"x"), MID(Calc!$O10,DAY(N$7),1))))),""),"") -> x | O18: =IFERROR(IF(MONTH(O$7)=$E$13,IF(AND($I18="",$J18=""),"", IF(AND($I18<>"",$I18=$C$8),IF(AND(MOD(DAY(O$7)-$G$8,($E$8+$F$8))<$E$8,DAY(O$7)-$G$8>=0),$D$8,"x"), IF(AND($I18<>"",$I18=$C$9),IF(AND(MOD(DAY(O$7)-$G$9,($E$9+$F$9))<$E$9, DAY(O$7)-$G$9>=0),$D$9,"x"), IF(AND($I18<>"",$I18=$C$10),IF(AND(MOD(DAY(O$7)-$G$10,($E$10+$F$10))<$E$10,DAY(O$7)-$G$10>=0),$D$10,"x"), MID(Calc!$O10,DAY(O$7),1))))),""),"") -> x | P18: =IFERROR(IF(MONTH(P$7)=$E$13,IF(AND($I18="",$J18=""),"", IF(AND($I18<>"",$I18=$C$8),IF(AND(MOD(DAY(P$7)-$G$8,($E$8+$F$8))<$E$8,DAY(P$7)-$G$8>=0),$D$8,"x"), IF(AND($I18<>"",$I18=$C$9),IF(AND(MOD(DAY(P$7)-$G$9,($E$9+$F$9))<$E$9, DAY(P$7)-$G$9>=0),$D$9,"x"), IF(AND($I18<>"",$I18=$C$10),IF(AND(MOD(DAY(P$7)-$G$10,($E$10+$F$10))<$E$10,DAY(P$7)-$G$10>=0),$D$10,"x"), MID(Calc!$O10,DAY(P$7),1))))),""),"") -> x | Q18: =IFERROR(IF(MONTH(Q$7)=$E$13,IF(AND($I18="",$J18=""),"", IF(AND($I18<>"",$I18=$C$8),IF(AND(MOD(DAY(Q$7)-$G$8,($E$8+$F$8))<$E$8,DAY(Q$7)-$G$8>=0),$D$8,"x"), IF(AND($I18<>"",$I18=$C$9),IF(AND(MOD(DAY(Q$7)-$G$9,($E$9+$F$9))<$E$9, DAY(Q$7)-$G$9>=0),$D$9,"x"), IF(AND($I18<>"",$I18=$C$10),IF(AND(MOD(DAY(Q$7)-$G$10,($E$10+$F$10))<$E$10,DAY(Q$7)-$G$10>=0),$D$10,"x"), MID(Calc!$O10,DAY(Q$7),1))))),""),"") -> x | R18: =IFERROR(IF(MONTH(R$7)=$E$13,IF(AND($I18="",$J18=""),"", IF(AND($I18<>"",$I18=$C$8),IF(AND(MOD(DAY(R$7)-$G$8,($E$8+$F$8))<$E$8,DAY(R$7)-$G$8>=0),$D$8,"x"), IF(AND($I18<>"",$I18=$C$9),IF(AND(MOD(DAY(R$7)-$G$9,($E$9+$F$9))<$E$9, DAY(R$7)-$G$9>=0),$D$9,"x"), IF(AND($I18<>"",$I18=$C$10),IF(AND(MOD(DAY(R$7)-$G$10,($E$10+$F$10))<$E$10,DAY(R$7)-$G$10>=0),$D$10,"x"), MID(Calc!$O10,DAY(R$7),1))))),""),"") -> B | S18: =IFERROR(IF(MONTH(S$7)=$E$13,IF(AND($I18="",$J18=""),"", IF(AND($I18<>"",$I18=$C$8),IF(AND(MOD(DAY(S$7)-$G$8,($E$8+$F$8))<$E$8,DAY(S$7)-$G$8>=0),$D$8,"x"), IF(AND($I18<>"",$I18=$C$9),IF(AND(MOD(DAY(S$7)-$G$9,($E$9+$F$9))<$E$9, DAY(S$7)-$G$9>=0),$D$9,"x"), IF(AND($I18<>"",$I18=$C$10),IF(AND(MOD(DAY(S$7)-$G$10,($E$10+$F$10))<$E$10,DAY(S$7)-$G$10>=0),$D$10,"x"), MID(Calc!$O10,DAY(S$7),1))))),""),"") -> B | ... AV18: =IFERROR(IF(MONTH(AV$7)=$E$13,IF(AND($I18="",$J18=""),"", IF(AND($I18<>"",$I18=$C$8),IF(AND(MOD(DAY(AV$7)-$G$8,($E$8+$F$8))<$E$8,DAY(AV$7)-$G$8>=0),$D$8,"x"), IF(AND($I18<>"",$I18=$C$9),IF(AND(MOD(DAY(AV$7)-$G$9,($E$9+$F$9))<$E$9, DAY(AV$7)-$G$9>=0),$D$9,"x"), IF(AND($I18<>"",$I18=$C$10),IF(AND(MOD(DAY(AV$7)-$G$10,($E$10+$F$10))<$E$10,DAY(AV$7)-$G$10>=0),$D$10,"x"), MID(Calc!$O10,DAY(AV$7),1))))),""),"")
L19: =IFERROR(IF(MONTH(L$7)=$E$13,IF(AND($I19="",$J19=""),"", IF(AND($I19<>"",$I19=$C$8),IF(AND(MOD(DAY(L$7)-$G$8,($E$8+$F$8))<$E$8,DAY(L$7)-$G$8>=0),$D$8,"x"), IF(AND($I19<>"",$I19=$C$9),IF(AND(MOD(DAY(L$7)-$G$9,($E$9+$F$9))<$E$9, DAY(L$7)-$G$9>=0),$D$9,"x"), IF(AND($I19<>"",$I19=$C$10),IF(AND(MOD(DAY(L$7)-$G$10,($E$10+$F$10))<$E$10,DAY(L$7)-$G$10>=0),$D$10,"x"), MID(Calc!$O11,DAY(L$7),1))))),""),"") | M19: =IFERROR(IF(MONTH(M$7)=$E$13,IF(AND($I19="",$J19=""),"", IF(AND($I19<>"",$I19=$C$8),IF(AND(MOD(DAY(M$7)-$G$8,($E$8+$F$8))<$E$8,DAY(M$7)-$G$8>=0),$D$8,"x"), IF(AND($I19<>"",$I19=$C$9),IF(AND(MOD(DAY(M$7)-$G$9,($E$9+$F$9))<$E$9, DAY(M$7)-$G$9>=0),$D$9,"x"), IF(AND($I19<>"",$I19=$C$10),IF(AND(MOD(DAY(M$7)-$G$10,($E$10+$F$10))<$E$10,DAY(M$7)-$G$10>=0),$D$10,"x"), MID(Calc!$O11,DAY(M$7),1))))),""),"") | N19: =IFERROR(IF(MONTH(N$7)=$E$13,IF(AND($I19="",$J19=""),"", IF(AND($I19<>"",$I19=$C$8),IF(AND(MOD(DAY(N$7)-$G$8,($E$8+$F$8))<$E$8,DAY(N$7)-$G$8>=0),$D$8,"x"), IF(AND($I19<>"",$I19=$C$9),IF(AND(MOD(DAY(N$7)-$G$9,($E$9+$F$9))<$E$9, DAY(N$7)-$G$9>=0),$D$9,"x"), IF(AND($I19<>"",$I19=$C$10),IF(AND(MOD(DAY(N$7)-$G$10,($E$10+$F$10))<$E$10,DAY(N$7)-$G$10>=0),$D$10,"x"), MID(Calc!$O11,DAY(N$7),1))))),""),"") | O19: =IFERROR(IF(MONTH(O$7)=$E$13,IF(AND($I19="",$J19=""),"", IF(AND($I19<>"",$I19=$C$8),IF(AND(MOD(DAY(O$7)-$G$8,($E$8+$F$8))<$E$8,DAY(O$7)-$G$8>=0),$D$8,"x"), IF(AND($I19<>"",$I19=$C$9),IF(AND(MOD(DAY(O$7)-$G$9,($E$9+$F$9))<$E$9, DAY(O$7)-$G$9>=0),$D$9,"x"), IF(AND($I19<>"",$I19=$C$10),IF(AND(MOD(DAY(O$7)-$G$10,($E$10+$F$10))<$E$10,DAY(O$7)-$G$10>=0),$D$10,"x"), MID(Calc!$O11,DAY(O$7),1))))),""),"") | P19: =IFERROR(IF(MONTH(P$7)=$E$13,IF(AND($I19="",$J19=""),"", IF(AND($I19<>"",$I19=$C$8),IF(AND(MOD(DAY(P$7)-$G$8,($E$8+$F$8))<$E$8,DAY(P$7)-$G$8>=0),$D$8,"x"), IF(AND($I19<>"",$I19=$C$9),IF(AND(MOD(DAY(P$7)-$G$9,($E$9+$F$9))<$E$9, DAY(P$7)-$G$9>=0),$D$9,"x"), IF(AND($I19<>"",$I19=$C$10),IF(AND(MOD(DAY(P$7)-$G$10,($E$10+$F$10))<$E$10,DAY(P$7)-$G$10>=0),$D$10,"x"), MID(Calc!$O11,DAY(P$7),1))))),""),"") | Q19: =IFERROR(IF(MONTH(Q$7)=$E$13,IF(AND($I19="",$J19=""),"", IF(AND($I19<>"",$I19=$C$8),IF(AND(MOD(DAY(Q$7)-$G$8,($E$8+$F$8))<$E$8,DAY(Q$7)-$G$8>=0),$D$8,"x"), IF(AND($I19<>"",$I19=$C$9),IF(AND(MOD(DAY(Q$7)-$G$9,($E$9+$F$9))<$E$9, DAY(Q$7)-$G$9>=0),$D$9,"x"), IF(AND($I19<>"",$I19=$C$10),IF(AND(MOD(DAY(Q$7)-$G$10,($E$10+$F$10))<$E$10,DAY(Q$7)-$G$10>=0),$D$10,"x"), MID(Calc!$O11,DAY(Q$7),1))))),""),"") | R19: =IFERROR(IF(MONTH(R$7)=$E$13,IF(AND($I19="",$J19=""),"", IF(AND($I19<>"",$I19=$C$8),IF(AND(MOD(DAY(R$7)-$G$8,($E$8+$F$8))<$E$8,DAY(R$7)-$G$8>=0),$D$8,"x"), IF(AND($I19<>"",$I19=$C$9),IF(AND(MOD(DAY(R$7)-$G$9,($E$9+$F$9))<$E$9, DAY(R$7)-$G$9>=0),$D$9,"x"), IF(AND($I19<>"",$I19=$C$10),IF(AND(MOD(DAY(R$7)-$G$10,($E$10+$F$10))<$E$10,DAY(R$7)-$G$10>=0),$D$10,"x"), MID(Calc!$O11,DAY(R$7),1))))),""),"") | S19: =IFERROR(IF(MONTH(S$7)=$E$13,IF(AND($I19="",$J19=""),"", IF(AND($I19<>"",$I19=$C$8),IF(AND(MOD(DAY(S$7)-$G$8,($E$8+$F$8))<$E$8,DAY(S$7)-$G$8>=0),$D$8,"x"), IF(AND($I19<>"",$I19=$C$9),IF(AND(MOD(DAY(S$7)-$G$9,($E$9+$F$9))<$E$9, DAY(S$7)-$G$9>=0),$D$9,"x"), IF(AND($I19<>"",$I19=$C$10),IF(AND(MOD(DAY(S$7)-$G$10,($E$10+$F$10))<$E$10,DAY(S$7)-$G$10>=0),$D$10,"x"), MID(Calc!$O11,DAY(S$7),1))))),""),"") | ... AV19: =IFERROR(IF(MONTH(AV$7)=$E$13,IF(AND($I19="",$J19=""),"", IF(AND($I19<>"",$I19=$C$8),IF(AND(MOD(DAY(AV$7)-$G$8,($E$8+$F$8))<$E$8,DAY(AV$7)-$G$8>=0),$D$8,"x"), IF(AND($I19<>"",$I19=$C$9),IF(AND(MOD(DAY(AV$7)-$G$9,($E$9+$F$9))<$E$9, DAY(AV$7)-$G$9>=0),$D$9,"x"), IF(AND($I19<>"",$I19=$C$10),IF(AND(MOD(DAY(AV$7)-$G$10,($E$10+$F$10))<$E$10,DAY(AV$7)-$G$10>=0),$D$10,"x"), MID(Calc!$O11,DAY(AV$7),1))))),""),"")
L20: =IFERROR(IF(MONTH(L$7)=$E$13,IF(AND($I20="",$J20=""),"", IF(AND($I20<>"",$I20=$C$8),IF(AND(MOD(DAY(L$7)-$G$8,($E$8+$F$8))<$E$8,DAY(L$7)-$G$8>=0),$D$8,"x"), IF(AND($I20<>"",$I20=$C$9),IF(AND(MOD(DAY(L$7)-$G$9,($E$9+$F$9))<$E$9, DAY(L$7)-$G$9>=0),$D$9,"x"), IF(AND($I20<>"",$I20=$C$10),IF(AND(MOD(DAY(L$7)-$G$10,($E$10+$F$10))<$E$10,DAY(L$7)-$G$10>=0),$D$10,"x"), MID(Calc!$O12,DAY(L$7),1))))),""),"") | M20: =IFERROR(IF(MONTH(M$7)=$E$13,IF(AND($I20="",$J20=""),"", IF(AND($I20<>"",$I20=$C$8),IF(AND(MOD(DAY(M$7)-$G$8,($E$8+$F$8))<$E$8,DAY(M$7)-$G$8>=0),$D$8,"x"), IF(AND($I20<>"",$I20=$C$9),IF(AND(MOD(DAY(M$7)-$G$9,($E$9+$F$9))<$E$9, DAY(M$7)-$G$9>=0),$D$9,"x"), IF(AND($I20<>"",$I20=$C$10),IF(AND(MOD(DAY(M$7)-$G$10,($E$10+$F$10))<$E$10,DAY(M$7)-$G$10>=0),$D$10,"x"), MID(Calc!$O12,DAY(M$7),1))))),""),"") | N20: =IFERROR(IF(MONTH(N$7)=$E$13,IF(AND($I20="",$J20=""),"", IF(AND($I20<>"",$I20=$C$8),IF(AND(MOD(DAY(N$7)-$G$8,($E$8+$F$8))<$E$8,DAY(N$7)-$G$8>=0),$D$8,"x"), IF(AND($I20<>"",$I20=$C$9),IF(AND(MOD(DAY(N$7)-$G$9,($E$9+$F$9))<$E$9, DAY(N$7)-$G$9>=0),$D$9,"x"), IF(AND($I20<>"",$I20=$C$10),IF(AND(MOD(DAY(N$7)-$G$10,($E$10+$F$10))<$E$10,DAY(N$7)-$G$10>=0),$D$10,"x"), MID(Calc!$O12,DAY(N$7),1))))),""),"") | O20: =IFERROR(IF(MONTH(O$7)=$E$13,IF(AND($I20="",$J20=""),"", IF(AND($I20<>"",$I20=$C$8),IF(AND(MOD(DAY(O$7)-$G$8,($E$8+$F$8))<$E$8,DAY(O$7)-$G$8>=0),$D$8,"x"), IF(AND($I20<>"",$I20=$C$9),IF(AND(MOD(DAY(O$7)-$G$9,($E$9+$F$9))<$E$9, DAY(O$7)-$G$9>=0),$D$9,"x"), IF(AND($I20<>"",$I20=$C$10),IF(AND(MOD(DAY(O$7)-$G$10,($E$10+$F$10))<$E$10,DAY(O$7)-$G$10>=0),$D$10,"x"), MID(Calc!$O12,DAY(O$7),1))))),""),"") | P20: =IFERROR(IF(MONTH(P$7)=$E$13,IF(AND($I20="",$J20=""),"", IF(AND($I20<>"",$I20=$C$8),IF(AND(MOD(DAY(P$7)-$G$8,($E$8+$F$8))<$E$8,DAY(P$7)-$G$8>=0),$D$8,"x"), IF(AND($I20<>"",$I20=$C$9),IF(AND(MOD(DAY(P$7)-$G$9,($E$9+$F$9))<$E$9, DAY(P$7)-$G$9>=0),$D$9,"x"), IF(AND($I20<>"",$I20=$C$10),IF(AND(MOD(DAY(P$7)-$G$10,($E$10+$F$10))<$E$10,DAY(P$7)-$G$10>=0),$D$10,"x"), MID(Calc!$O12,DAY(P$7),1))))),""),"") | Q20: =IFERROR(IF(MONTH(Q$7)=$E$13,IF(AND($I20="",$J20=""),"", IF(AND($I20<>"",$I20=$C$8),IF(AND(MOD(DAY(Q$7)-$G$8,($E$8+$F$8))<$E$8,DAY(Q$7)-$G$8>=0),$D$8,"x"), IF(AND($I20<>"",$I20=$C$9),IF(AND(MOD(DAY(Q$7)-$G$9,($E$9+$F$9))<$E$9, DAY(Q$7)-$G$9>=0),$D$9,"x"), IF(AND($I20<>"",$I20=$C$10),IF(AND(MOD(DAY(Q$7)-$G$10,($E$10+$F$10))<$E$10,DAY(Q$7)-$G$10>=0),$D$10,"x"), MID(Calc!$O12,DAY(Q$7),1))))),""),"") | R20: =IFERROR(IF(MONTH(R$7)=$E$13,IF(AND($I20="",$J20=""),"", IF(AND($I20<>"",$I20=$C$8),IF(AND(MOD(DAY(R$7)-$G$8,($E$8+$F$8))<$E$8,DAY(R$7)-$G$8>=0),$D$8,"x"), IF(AND($I20<>"",$I20=$C$9),IF(AND(MOD(DAY(R$7)-$G$9,($E$9+$F$9))<$E$9, DAY(R$7)-$G$9>=0),$D$9,"x"), IF(AND($I20<>"",$I20=$C$10),IF(AND(MOD(DAY(R$7)-$G$10,($E$10+$F$10))<$E$10,DAY(R$7)-$G$10>=0),$D$10,"x"), MID(Calc!$O12,DAY(R$7),1))))),""),"") | S20: =IFERROR(IF(MONTH(S$7)=$E$13,IF(AND($I20="",$J20=""),"", IF(AND($I20<>"",$I20=$C$8),IF(AND(MOD(DAY(S$7)-$G$8,($E$8+$F$8))<$E$8,DAY(S$7)-$G$8>=0),$D$8,"x"), IF(AND($I20<>"",$I20=$C$9),IF(AND(MOD(DAY(S$7)-$G$9,($E$9+$F$9))<$E$9, DAY(S$7)-$G$9>=0),$D$9,"x"), IF(AND($I20<>"",$I20=$C$10),IF(AND(MOD(DAY(S$7)-$G$10,($E$10+$F$10))<$E$10,DAY(S$7)-$G$10>=0),$D$10,"x"), MID(Calc!$O12,DAY(S$7),1))))),""),"") | ... AV20: =IFERROR(IF(MONTH(AV$7)=$E$13,IF(AND($I20="",$J20=""),"", IF(AND($I20<>"",$I20=$C$8),IF(AND(MOD(DAY(AV$7)-$G$8,($E$8+$F$8))<$E$8,DAY(AV$7)-$G$8>=0),$D$8,"x"), IF(AND($I20<>"",$I20=$C$9),IF(AND(MOD(DAY(AV$7)-$G$9,($E$9+$F$9))<$E$9, DAY(AV$7)-$G$9>=0),$D$9,"x"), IF(AND($I20<>"",$I20=$C$10),IF(AND(MOD(DAY(AV$7)-$G$10,($E$10+$F$10))<$E$10,DAY(AV$7)-$G$10>=0),$D$10,"x"), MID(Calc!$O12,DAY(AV$7),1))))),""),"")

Sheet HourlyByEmployee
C2: ROTATION SCHEDULE TEMPLATE
C3: HOURLY SCHEDULE BY EMPLOYEE
C6: START HOUR | D6: 0.33333333 | F6: NUMBER of HOURS | I6: 12 | K6: TIME SPACE | N6: 30 Minutes
C8: Employee | D8: =IF(AND(LEN(D6)>0,LEN(I6)>0),D6,"") -> 0.33333333 | E8: =IFERROR(IF($N$6=Dashboard!$I$16,IF(COLUMN(E8)-COLUMN($D$8)>=$I$6,"",D8+1/24),IF(COLUMN(E8)-COLUMN($D$8)>=$I$6*2,"",D8+1/48)),"") -> 0.35416667 | F8: =IFERROR(IF($N$6=Dashboard!$I$16,IF(COLUMN(F8)-COLUMN($D$8)>=$I$6,"",E8+1/24),IF(COLUMN(F8)-COLUMN($D$8)>=$I$6*2,"",E8+1/48)),"") -> 0.375 | G8: =IFERROR(IF($N$6=Dashboard!$I$16,IF(COLUMN(G8)-COLUMN($D$8)>=$I$6,"",F8+1/24),IF(COLUMN(G8)-COLUMN($D$8)>=$I$6*2,"",F8+1/48)),"") -> 0.39583333 | H8: =IFERROR(IF($N$6=Dashboard!$I$16,IF(COLUMN(H8)-COLUMN($D$8)>=$I$6,"",G8+1/24),IF(COLUMN(H8)-COLUMN($D$8)>=$I$6*2,"",G8+1/48)),"") -> 0.41666667 | I8: =IFERROR(IF($N$6=Dashboard!$I$16,IF(COLUMN(I8)-COLUMN($D$8)>=$I$6,"",H8+1/24),IF(COLUMN(I8)-COLUMN($D$8)>=$I$6*2,"",H8+1/48)),"") -> 0.4375 | J8: =IFERROR(IF($N$6=Dashboard!$I$16,IF(COLUMN(J8)-COLUMN($D$8)>=$I$6,"",I8+1/24),IF(COLUMN(J8)-COLUMN($D$8)>=$I$6*2,"",I8+1/48)),"") -> 0.45833333 | K8: =IFERROR(IF($N$6=Dashboard!$I$16,IF(COLUMN(K8)-COLUMN($D$8)>=$I$6,"",J8+1/24),IF(COLUMN(K8)-COLUMN($D$8)>=$I$6*2,"",J8+1/48)),"") -> 0.47916667 | L8: =IFERROR(IF($N$6=Dashboard!$I$16,IF(COLUMN(L8)-COLUMN($D$8)>=$I$6,"",K8+1/24),IF(COLUMN(L8)-COLUMN($D$8)>=$I$6*2,"",K8+1/48)),"") -> 0.5 | ... AY8: =IFERROR(IF($N$6=Dashboard!$I$16,IF(COLUMN(AY8)-COLUMN($D$8)>=$I$6,"",AX8+1/24),IF(COLUMN(AY8)-COLUMN($D$8)>=$I$6*2,"",AX8+1/48)),"")
C9: Darcie-Mae Cooper | D9: w
C10: Rahim Hoover | F10: w | G10: w | K10: w
C11: Hallam Rogers
C12: Kaiya Russo
C13: Jemima Schofield | H13: w | I13: w | J13: w | K13: w

Sheet WeeklyByShift
C2: ROTATION SCHEDULE TEMPLATE
C3: WEEKLY SCHEDULE FOR A TEAM
D6: Working Hours | E6: Start - End
C7: Morning | D7: 8.5 | E7: 8:00-17:00
C8: Evening | D8: 8.5 | E8: 16:00-1:00
C9: Night | D9: 8.5 | E9: 00:00-9:00
C11: Employee | D11: Total Hours | E11: Monday | F11: Tuesday | G11: Wednesday | H11: Thursday | I11: Friday | J11: Saturday | K11: Sunday
C12: Darcie-Mae Cooper | D12: =IF(LEN(C12)>0,IF((COUNTIF(E12:K12,$C$7)*$D$7+COUNTIF(E12:K12,$C$8)*$D$8+COUNTIF(E12:K12,$C$9)*$D$9)=0,"",COUNTIF(E12:K12,$C$7)*$D$7+COUNTIF(E12:K12,$C$8)*$D$8+COUNTIF(E12:K12,$C$9)*$D$9),"") -> 42.5 | E12: Morning | F12: Morning | G12: Morning | H12: Morning | K12: Evening
C13: Rahim Hoover | D13: =IF(LEN(C13)>0,IF((COUNTIF(E13:K13,$C$7)*$D$7+COUNTIF(E13:K13,$C$8)*$D$8+COUNTIF(E13:K13,$C$9)*$D$9)=0,"",COUNTIF(E13:K13,$C$7)*$D$7+COUNTIF(E13:K13,$C$8)*$D$8+COUNTIF(E13:K13,$C$9)*$D$9),"") -> 42.5 | F13: Evening | G13: Evening | H13: Evening | I13: Evening | J13: Evening
C14: Hallam Rogers | D14: =IF(LEN(C14)>0,IF((COUNTIF(E14:K14,$C$7)*$D$7+COUNTIF(E14:K14,$C$8)*$D$8+COUNTIF(E14:K14,$C$9)*$D$9)=0,"",COUNTIF(E14:K14,$C$7)*$D$7+COUNTIF(E14:K14,$C$8)*$D$8+COUNTIF(E14:K14,$C$9)*$D$9),"") -> 42.5 | E14: Night | H14: Morning | I14: Morning | J14: Morning | K14: Morning
C15: Kaiya Russo | D15: =IF(LEN(C15)>0,IF((COUNTIF(E15:K15,$C$7)*$D$7+COUNTIF(E15:K15,$C$8)*$D$8+COUNTIF(E15:K15,$C$9)*$D$9)=0,"",COUNTIF(E15:K15,$C$7)*$D$7+COUNTIF(E15:K15,$C$8)*$D$8+COUNTIF(E15:K15,$C$9)*$D$9),"") -> 42.5 | E15: Evening | H15: Evening | I15: Evening | J15: Evening | K15: Evening
D16: =IF(LEN(C16)>0,IF((COUNTIF(E16:K16,$C$7)*$D$7+COUNTIF(E16:K16,$C$8)*$D$8+COUNTIF(E16:K16,$C$9)*$D$9)=0,"",COUNTIF(E16:K16,$C$7)*$D$7+COUNTIF(E16:K16,$C$8)*$D$8+COUNTIF(E16:K16,$C$9)*$D$9),"")
D17: =IF(LEN(C17)>0,IF((COUNTIF(E17:K17,$C$7)*$D$7+COUNTIF(E17:K17,$C$8)*$D$8+COUNTIF(E17:K17,$C$9)*$D$9)=0,"",COUNTIF(E17:K17,$C$7)*$D$7+COUNTIF(E17:K17,$C$8)*$D$8+COUNTIF(E17:K17,$C$9)*$D$9),"")

Sheet WeeklyByEmployee
C2: ROTATION SCHEDULE TEMPLATE
C3: WEEKLY SCHEDULE BY EMPLOYEE
C6: START HOUR | D6: 0.33333333 | F6: NUMBER of HOURS | G6: 3 | I6: TIME SPACE | J6: 30 minutes
C8: Hour | D8: Monday | E8: Tuesday | F8: Wednesday | G8: Thursday | H8: Friday | I8: Saturday | J8: Sunday
C9: =IFERROR(IF(LEN($D$6)>0,HOUR(Calc!J5)&":"&IF(MINUTE(Calc!J5)= 0,"00", "30")&" - "&HOUR(Calc!J6)&":"&IF(MINUTE(Calc!J6)= 0,"00","30"),""),"") -> 8:00 - 8:30 | J9: Kaiya Russo
C10: =IFERROR(IF(LEN($D$6)>0,HOUR(Calc!J6)&":"&IF(MINUTE(Calc!J6)= 0,"00", "30")&" - "&HOUR(Calc!J7)&":"&IF(MINUTE(Calc!J7)= 0,"00","30"),""),"") -> 8:30 - 9:00
C11: =IFERROR(IF(LEN($D$6)>0,HOUR(Calc!J7)&":"&IF(MINUTE(Calc!J7)= 0,"00", "30")&" - "&HOUR(Calc!J8)&":"&IF(MINUTE(Calc!J8)= 0,"00","30"),""),"") -> 9:00 - 9:30 | I11: Joan Browne
C12: =IFERROR(IF(LEN($D$6)>0,HOUR(Calc!J8)&":"&IF(MINUTE(Calc!J8)= 0,"00", "30")&" - "&HOUR(Calc!J9)&":"&IF(MINUTE(Calc!J9)= 0,"00","30"),""),"") -> 9:30 - 10:00
C13: =IFERROR(IF(LEN($D$6)>0,HOUR(Calc!J9)&":"&IF(MINUTE(Calc!J9)= 0,"00", "30")&" - "&HOUR(Calc!J10)&":"&IF(MINUTE(Calc!J10)= 0,"00","30"),""),"") -> 10:00 - 10:30
C14: =IFERROR(IF(LEN($D$6)>0,HOUR(Calc!J10)&":"&IF(MINUTE(Calc!J10)= 0,"00", "30")&" - "&HOUR(Calc!J11)&":"&IF(MINUTE(Calc!J11)= 0,"00","30"),""),"") -> 10:30 - 11:00
C15: =IFERROR(IF(LEN($D$6)>0,HOUR(Calc!J11)&":"&IF(MINUTE(Calc!J11)= 0,"00", "30")&" - "&HOUR(Calc!J12)&":"&IF(MINUTE(Calc!J12)= 0,"00","30"),""),"")
C16: =IFERROR(IF(LEN($D$6)>0,HOUR(Calc!J12)&":"&IF(MINUTE(Calc!J12)= 0,"00", "30")&" - "&HOUR(Calc!J13)&":"&IF(MINUTE(Calc!J13)= 0,"00","30"),""),"")

Sheet Calc
D3: =COUNTA($D$5:$D$54)-COUNTBLANK($D$5:$D$54) -> 10 | F3: =COUNTA($F$5:$F$7)-COUNTBLANK($F$5:$F$7) -> 3 | G3: =COUNTA($G$5:$G$6)-COUNTBLANK($G$5:$G$6) -> 2 | I3: =COUNTA($I$5:$I$7)-COUNTBLANK($I$5:$I$7) -> 3
B4: ID | C4: Employees | D4: Emp No blank | E4: Shifts | F4: No blank Shifts | G4: Time Space | H4: Day Breaks | I4: No blank Day Breaks | J4: Hours | K4: Dropdown in Hourly | L4: Months | N4: CUSTOM SHIFT
B5: 1 | C5: =IFERROR(IF(LEN(INDEX(Dashboard!$C$15:$C$64,Calc!B5,1))>0,INDEX(Dashboard!$C$15:$C$64,Calc!B5,1),""),"") -> Darcie-Mae Cooper | D5: {=IFERROR(INDEX($C$5:$C$54, MATCH(0,INDEX((LEN($C$5:$C$54)=0)+COUNTIF($D$4:$D4,$C$5:$C$54),0),0)),"")} -> Darcie-Mae Cooper | E5: =IF(LEN(Dashboard!E15)>0,INDEX(Dashboard!$E$15:$E$17,Calc!B5,1),"") -> Shift A | F5: {=IFERROR(INDEX($E$5:$E$7, MATCH(0,INDEX((LEN($E$5:$E$7)=0)+COUNTIF($F$4:$F4,$E$5:$E$7),0),0)),"")} -> Shift A | G5: =IF(LEN(Dashboard!I15)>0,INDEX(Dashboard!$I$15:$I$16,Calc!B5,1),"") -> 30 Minutes | H5: =IF(LEN(Dashboard!G15)>0,INDEX(Dashboard!$G$15:$G$17,Calc!B5,1),"") -> Morning | I5: {=IFERROR(INDEX($H$5:$H$7, MATCH(0,INDEX((LEN($H$5:$H$7)=0)+COUNTIF($I$4:$I4,$H$5:$H$7),0),0)),"")} -> Morning | J5: =WeeklyByEmployee!$D$6 -> 0.33333333 | K5: w | L5: January | N5: =IF(ISNUMBER(MID(Monthly!J13,1,2)*1),LEFT(Monthly!J13,2),IF(ISNUMBER(MID(Monthly!J13,1,1)*1),LEFT(Monthly!J13,1),1))-1 -> 0 | O5: =IFERROR(REPT("x",N5)&REPT(RIGHT(Monthly!J13,LEN(Monthly!J13)-IF(ISNUMBER(MID(Monthly!J13,1,2)*1),2,IF(ISNUMBER(MID(Monthly!J13,1,1)*1),1,0))),ROUNDUP((31-N5)/LEN(RIGHT(Monthly!J13,LEN(Monthly!J13)-IF(ISNUMBER(MID(Monthly!J13,1,2)*1),2,IF(ISNUMBER(MID(Monthly!J13,1,1)*1),1,0)))),0)),"")
B6: 2 | C6: =IFERROR(IF(LEN(INDEX(Dashboard!$C$15:$C$64,Calc!B6,1))>0,INDEX(Dashboard!$C$15:$C$64,Calc!B6,1),""),"") -> Rahim Hoover | D6: {=IFERROR(INDEX($C$5:$C$54, MATCH(0,INDEX((LEN($C$5:$C$54)=0)+COUNTIF($D$4:$D5,$C$5:$C$54),0),0)),"")} -> Rahim Hoover | E6: =IF(LEN(Dashboard!E16)>0,INDEX(Dashboard!$E$15:$E$17,Calc!B6,1),"") -> Shift B | F6: {=IFERROR(INDEX($E$5:$E$7, MATCH(0,INDEX((LEN($E$5:$E$7)=0)+COUNTIF($F$4:$F5,$E$5:$E$7),0),0)),"")} -> Shift B | G6: =IF(LEN(Dashboard!I16)>0,INDEX(Dashboard!$I$15:$I$16,Calc!B6,1),"") -> Full Hour | H6: =IF(LEN(Dashboard!G16)>0,INDEX(Dashboard!$G$15:$G$17,Calc!B6,1),"") -> Evening | I6: {=IFERROR(INDEX($H$5:$H$7, MATCH(0,INDEX((LEN($H$5:$H$7)=0)+COUNTIF($I$4:$I5,$H$5:$H$7),0),0)),"")} -> Evening | J6: =IFERROR(IF(WeeklyByEmployee!$J$6=Dashboard!$I$16,IF(ROW(J6)-ROW($J$5)>WeeklyByEmployee!$G$6,"",J5+1/24),IF(ROW(J6)-ROW($J$5)>2*WeeklyByEmployee!$G$6,"",J5+1/48)),"") -> 0.35416667 | L6: February | N6: =IF(ISNUMBER(MID(Monthly!J14,1,2)*1),LEFT(Monthly!J14,2),IF(ISNUMBER(MID(Monthly!J14,1,1)*1),LEFT(Monthly!J14,1),1))-1 -> 0 | O6: =IFERROR(REPT("x",N6)&REPT(RIGHT(Monthly!J14,LEN(Monthly!J14)-IF(ISNUMBER(MID(Monthly!J14,1,2)*1),2,IF(ISNUMBER(MID(Monthly!J14,1,1)*1),1,0))),ROUNDUP((31-N6)/LEN(RIGHT(Monthly!J14,LEN(Monthly!J14)-IF(ISNUMBER(MID(Monthly!J14,1,2)*1),2,IF(ISNUMBER(MID(Monthly!J14,1,1)*1),1,0)))),0)),"")
B7: 3 | C7: =IFERROR(IF(LEN(INDEX(Dashboard!$C$15:$C$64,Calc!B7,1))>0,INDEX(Dashboard!$C$15:$C$64,Calc!B7,1),""),"") -> Hallam Rogers | D7: =IFERROR(INDEX($C$5:$C$54, MATCH(0,INDEX((LEN($C$5:$C$54)=0)+COUNTIF($D$4:$D6,$C$5:$C$54),0),0)),"") -> Hallam Rogers | E7: =IF(LEN(Dashboard!E17)>0,INDEX(Dashboard!$E$15:$E$17,Calc!B7,1),"") -> Shift C | F7: {=IFERROR(INDEX($E$5:$E$7, MATCH(0,INDEX((LEN($E$5:$E$7)=0)+COUNTIF($F$4:$F6,$E$5:$E$7),0),0)),"")} -> Shift C | H7: =IF(LEN(Dashboard!G17)>0,INDEX(Dashboard!$G$15:$G$17,Calc!B7,1),"") -> Night | I7: {=IFERROR(INDEX($H$5:$H$7, MATCH(0,INDEX((LEN($H$5:$H$7)=0)+COUNTIF($I$4:$I6,$H$5:$H$7),0),0)),"")} -> Night | J7: =IFERROR(IF(WeeklyByEmployee!$J$6=Dashboard!$I$16,IF(ROW(J7)-ROW($J$5)>WeeklyByEmployee!$G$6,"",J6+1/24),IF(ROW(J7)-ROW($J$5)>2*WeeklyByEmployee!$G$6,"",J6+1/48)),"") -> 0.375 | L7: March | N7: =IF(ISNUMBER(MID(Monthly!J15,1,2)*1),LEFT(Monthly!J15,2),IF(ISNUMBER(MID(Monthly!J15,1,1)*1),LEFT(Monthly!J15,1),1))-1 -> 0 | O7: =IFERROR(REPT("x",N7)&REPT(RIGHT(Monthly!J15,LEN(Monthly!J15)-IF(ISNUMBER(MID(Monthly!J15,1,2)*1),2,IF(ISNUMBER(MID(Monthly!J15,1,1)*1),1,0))),ROUNDUP((31-N7)/LEN(RIGHT(Monthly!J15,LEN(Monthly!J15)-IF(ISNUMBER(MID(Monthly!J15,1,2)*1),2,IF(ISNUMBER(MID(Monthly!J15,1,1)*1),1,0)))),0)),"")
B8: 4 | C8: =IFERROR(IF(LEN(INDEX(Dashboard!$C$15:$C$64,Calc!B8,1))>0,INDEX(Dashboard!$C$15:$C$64,Calc!B8,1),""),"") -> Kaiya Russo | D8: {=IFERROR(INDEX($C$5:$C$54, MATCH(0,INDEX((LEN($C$5:$C$54)=0)+COUNTIF($D$4:$D7,$C$5:$C$54),0),0)),"")} -> Kaiya Russo | J8: =IFERROR(IF(WeeklyByEmployee!$J$6=Dashboard!$I$16,IF(ROW(J8)-ROW($J$5)>WeeklyByEmployee!$G$6,"",J7+1/24),IF(ROW(J8)-ROW($J$5)>2*WeeklyByEmployee!$G$6,"",J7+1/48)),"") -> 0.39583333 | L8: April | N8: =IF(ISNUMBER(MID(Monthly!J16,1,2)*1),LEFT(Monthly!J16,2),IF(ISNUMBER(MID(Monthly!J16,1,1)*1),LEFT(Monthly!J16,1),1))-1 -> 4 | O8: =IFERROR(REPT("x",N8)&REPT(RIGHT(Monthly!J16,LEN(Monthly!J16)-IF(ISNUMBER(MID(Monthly!J16,1,2)*1),2,IF(ISNUMBER(MID(Monthly!J16,1,1)*1),1,0))),ROUNDUP((31-N8)/LEN(RIGHT(Monthly!J16,LEN(Monthly!J16)-IF(ISNUMBER(MID(Monthly!J16,1,2)*1),2,IF(ISNUMBER(MID(Monthly!J16,1,1)*1),1,0)))),0)),"") -> xxxxCCCCCCxxCCCCCCxxCCCCCCxxCCCCCCxx
B9: 5 | C9: =IFERROR(IF(LEN(INDEX(Dashboard!$C$15:$C$64,Calc!B9,1))>0,INDEX(Dashboard!$C$15:$C$64,Calc!B9,1),""),"") -> Jemima Schofield | D9: =IFERROR(INDEX($C$5:$C$54, MATCH(0,INDEX((LEN($C$5:$C$54)=0)+COUNTIF($D$4:$D8,$C$5:$C$54),0),0)),"") -> Jemima Schofield | J9: =IFERROR(IF(WeeklyByEmployee!$J$6=Dashboard!$I$16,IF(ROW(J9)-ROW($J$5)>WeeklyByEmployee!$G$6,"",J8+1/24),IF(ROW(J9)-ROW($J$5)>2*WeeklyByEmployee!$G$6,"",J8+1/48)),"") -> 0.41666667 | L9: May | N9: =IF(ISNUMBER(MID(Monthly!J17,1,2)*1),LEFT(Monthly!J17,2),IF(ISNUMBER(MID(Monthly!J17,1,1)*1),LEFT(Monthly!J17,1),1))-1 -> 0 | O9: =IFERROR(REPT("x",N9)&REPT(RIGHT(Monthly!J17,LEN(Monthly!J17)-IF(ISNUMBER(MID(Monthly!J17,1,2)*1),2,IF(ISNUMBER(MID(Monthly!J17,1,1)*1),1,0))),ROUNDUP((31-N9)/LEN(RIGHT(Monthly!J17,LEN(Monthly!J17)-IF(ISNUMBER(MID(Monthly!J17,1,2)*1),2,IF(ISNUMBER(MID(Monthly!J17,1,1)*1),1,0)))),0)),"")
B10: 6 | C10: =IFERROR(IF(LEN(INDEX(Dashboard!$C$15:$C$64,Calc!B10,1))>0,INDEX(Dashboard!$C$15:$C$64,Calc!B10,1),""),"") -> Roisin Acevedo | D10: =IFERROR(INDEX($C$5:$C$54, MATCH(0,INDEX((LEN($C$5:$C$54)=0)+COUNTIF($D$4:$D9,$C$5:$C$54),0),0)),"") -> Roisin Acevedo | J10: =IFERROR(IF(WeeklyByEmployee!$J$6=Dashboard!$I$16,IF(ROW(J10)-ROW($J$5)>WeeklyByEmployee!$G$6,"",J9+1/24),IF(ROW(J10)-ROW($J$5)>2*WeeklyByEmployee!$G$6,"",J9+1/48)),"") -> 0.4375 | L10: June | N10: =IF(ISNUMBER(MID(Monthly!J18,1,2)*1),LEFT(Monthly!J18,2),IF(ISNUMBER(MID(Monthly!J18,1,1)*1),LEFT(Monthly!J18,1),1))-1 -> 0 | O10: =IFERROR(REPT("x",N10)&REPT(RIGHT(Monthly!J18,LEN(Monthly!J18)-IF(ISNUMBER(MID(Monthly!J18,1,2)*1),2,IF(ISNUMBER(MID(Monthly!J18,1,1)*1),1,0))),ROUNDUP((31-N10)/LEN(RIGHT(Monthly!J18,LEN(Monthly!J18)-IF(ISNUMBER(MID(Monthly!J18,1,2)*1),2,IF(ISNUMBER(MID(Monthly!J18,1,1)*1),1,0)))),0)),"")
B11: 7 | C11: =IFERROR(IF(LEN(INDEX(Dashboard!$C$15:$C$64,Calc!B11,1))>0,INDEX(Dashboard!$C$15:$C$64,Calc!B11,1),""),"") -> Joan Browne | D11: =IFERROR(INDEX($C$5:$C$54, MATCH(0,INDEX((LEN($C$5:$C$54)=0)+COUNTIF($D$4:$D10,$C$5:$C$54),0),0)),"") -> Joan Browne | J11: =IFERROR(IF(WeeklyByEmployee!$J$6=Dashboard!$I$16,IF(ROW(J11)-ROW($J$5)>WeeklyByEmployee!$G$6,"",J10+1/24),IF(ROW(J11)-ROW($J$5)>2*WeeklyByEmployee!$G$6,"",J10+1/48)),"") -> 0.45833333 | L11: July | N11: =IF(ISNUMBER(MID(Monthly!J19,1,2)*1),LEFT(Monthly!J19,2),IF(ISNUMBER(MID(Monthly!J19,1,1)*1),LEFT(Monthly!J19,1),1))-1 -> 0 | O11: =IFERROR(REPT("x",N11)&REPT(RIGHT(Monthly!J19,LEN(Monthly!J19)-IF(ISNUMBER(MID(Monthly!J19,1,2)*1),2,IF(ISNUMBER(MID(Monthly!J19,1,1)*1),1,0))),ROUNDUP((31-N11)/LEN(RIGHT(Monthly!J19,LEN(Monthly!J19)-IF(ISNUMBER(MID(Monthly!J19,1,2)*1),2,IF(ISNUMBER(MID(Monthly!J19,1,1)*1),1,0)))),0)),"")
B12: 8 | C12: =IFERROR(IF(LEN(INDEX(Dashboard!$C$15:$C$64,Calc!B12,1))>0,INDEX(Dashboard!$C$15:$C$64,Calc!B12,1),""),"") -> Marshall Cole | D12: =IFERROR(INDEX($C$5:$C$54, MATCH(0,INDEX((LEN($C$5:$C$54)=0)+COUNTIF($D$4:$D11,$C$5:$C$54),0),0)),"") -> Marshall Cole | J12: =IFERROR(IF(WeeklyByEmployee!$J$6=Dashboard!$I$16,IF(ROW(J12)-ROW($J$5)>WeeklyByEmployee!$G$6,"",J11+1/24),IF(ROW(J12)-ROW($J$5)>2*WeeklyByEmployee!$G$6,"",J11+1/48)),"") | L12: August | N12: =IF(ISNUMBER(MID(Monthly!J20,1,2)*1),LEFT(Monthly!J20,2),IF(ISNUMBER(MID(Monthly!J20,1,1)*1),LEFT(Monthly!J20,1),1))-1 -> 0 | O12: =IFERROR(REPT("x",N12)&REPT(RIGHT(Monthly!J20,LEN(Monthly!J20)-IF(ISNUMBER(MID(Monthly!J20,1,2)*1),2,IF(ISNUMBER(MID(Monthly!J20,1,1)*1),1,0))),ROUNDUP((31-N12)/LEN(RIGHT(Monthly!J20,LEN(Monthly!J20)-IF(ISNUMBER(MID(Monthly!J20,1,2)*1),2,IF(ISNUMBER(MID(Monthly!J20,1,1)*1),1,0)))),0)),"")
B13: 9 | C13: =IFERROR(IF(LEN(INDEX(Dashboard!$C$15:$C$64,Calc!B13,1))>0,INDEX(Dashboard!$C$15:$C$64,Calc!B13,1),""),"") -> Alanna Knowles | D13: =IFERROR(INDEX($C$5:$C$54, MATCH(0,INDEX((LEN($C$5:$C$54)=0)+COUNTIF($D$4:$D12,$C$5:$C$54),0),0)),"") -> Alanna Knowles | J13: =IFERROR(IF(WeeklyByEmployee!$J$6=Dashboard!$I$16,IF(ROW(J13)-ROW($J$5)>WeeklyByEmployee!$G$6,"",J12+1/24),IF(ROW(J13)-ROW($J$5)>2*WeeklyByEmployee!$G$6,"",J12+1/48)),"") | L13: September | N13: =IF(ISNUMBER(MID(Monthly!J21,1,2)*1),LEFT(Monthly!J21,2),IF(ISNUMBER(MID(Monthly!J21,1,1)*1),LEFT(Monthly!J21,1),1))-1 -> 0 | O13: =IFERROR(REPT("x",N13)&REPT(RIGHT(Monthly!J21,LEN(Monthly!J21)-IF(ISNUMBER(MID(Monthly!J21,1,2)*1),2,IF(ISNUMBER(MID(Monthly!J21,1,1)*1),1,0))),ROUNDUP((31-N13)/LEN(RIGHT(Monthly!J21,LEN(Monthly!J21)-IF(ISNUMBER(MID(Monthly!J21,1,2)*1),2,IF(ISNUMBER(MID(Monthly!J21,1,1)*1),1,0)))),0)),"")
B14: 10 | C14: =IFERROR(IF(LEN(INDEX(Dashboard!$C$15:$C$64,Calc!B14,1))>0,INDEX(Dashboard!$C$15:$C$64,Calc!B14,1),""),"") -> Dina Romero | D14: =IFERROR(INDEX($C$5:$C$54, MATCH(0,INDEX((LEN($C$5:$C$54)=0)+COUNTIF($D$4:$D13,$C$5:$C$54),0),0)),"") -> Dina Romero | J14: =IFERROR(IF(WeeklyByEmployee!$J$6=Dashboard!$I$16,IF(ROW(J14)-ROW($J$5)>WeeklyByEmployee!$G$6,"",J13+1/24),IF(ROW(J14)-ROW($J$5)>2*WeeklyByEmployee!$G$6,"",J13+1/48)),"") | L14: October | N14: =IF(ISNUMBER(MID(Monthly!J22,1,2)*1),LEFT(Monthly!J22,2),IF(ISNUMBER(MID(Monthly!J22,1,1)*1),LEFT(Monthly!J22,1),1))-1 -> 0 | O14: =IFERROR(REPT("x",N14)&REPT(RIGHT(Monthly!J22,LEN(Monthly!J22)-IF(ISNUMBER(MID(Monthly!J22,1,2)*1),2,IF(ISNUMBER(MID(Monthly!J22,1,1)*1),1,0))),ROUNDUP((31-N14)/LEN(RIGHT(Monthly!J22,LEN(Monthly!J22)-IF(ISNUMBER(MID(Monthly!J22,1,2)*1),2,IF(ISNUMBER(MID(Monthly!J22,1,1)*1),1,0)))),0)),"")
B15: 11 | C15: =IFERROR(IF(LEN(INDEX(Dashboard!$C$15:$C$64,Calc!B15,1))>0,INDEX(Dashboard!$C$15:$C$64,Calc!B15,1),""),"") | D15: =IFERROR(INDEX($C$5:$C$54, MATCH(0,INDEX((LEN($C$5:$C$54)=0)+COUNTIF($D$4:$D14,$C$5:$C$54),0),0)),"") | J15: =IFERROR(IF(WeeklyByEmployee!$J$6=Dashboard!$I$16,IF(ROW(J15)-ROW($J$5)>WeeklyByEmployee!$G$6,"",J14+1/24),IF(ROW(J15)-ROW($J$5)>2*WeeklyByEmployee!$G$6,"",J14+1/48)),"") | L15: November | N15: =IF(ISNUMBER(MID(Monthly!J23,1,2)*1),LEFT(Monthly!J23,2),IF(ISNUMBER(MID(Monthly!J23,1,1)*1),LEFT(Monthly!J23,1),1))-1 -> 0 | O15: =IFERROR(REPT("x",N15)&REPT(RIGHT(Monthly!J23,LEN(Monthly!J23)-IF(ISNUMBER(MID(Monthly!J23,1,2)*1),2,IF(ISNUMBER(MID(Monthly!J23,1,1)*1),1,0))),ROUNDUP((31-N15)/LEN(RIGHT(Monthly!J23,LEN(Monthly!J23)-IF(ISNUMBER(MID(Monthly!J23,1,2)*1),2,IF(ISNUMBER(MID(Monthly!J23,1,1)*1),1,0)))),0)),"")
B16: 12 | C16: =IFERROR(IF(LEN(INDEX(Dashboard!$C$15:$C$64,Calc!B16,1))>0,INDEX(Dashboard!$C$15:$C$64,Calc!B16,1),""),"") | D16: =IFERROR(INDEX($C$5:$C$54, MATCH(0,INDEX((LEN($C$5:$C$54)=0)+COUNTIF($D$4:$D15,$C$5:$C$54),0),0)),"") | J16: =IFERROR(IF(WeeklyByEmployee!$J$6=Dashboard!$I$16,IF(ROW(J16)-ROW($J$5)>WeeklyByEmployee!$G$6,"",J15+1/24),IF(ROW(J16)-ROW($J$5)>2*WeeklyByEmployee!$G$6,"",J15+1/48)),"") | L16: December | N16: =IF(ISNUMBER(MID(Monthly!J24,1,2)*1),LEFT(Monthly!J24,2),IF(ISNUMBER(MID(Monthly!J24,1,1)*1),LEFT(Monthly!J24,1),1))-1 -> 0 | O16: =IFERROR(REPT("x",N16)&REPT(RIGHT(Monthly!J24,LEN(Monthly!J24)-IF(ISNUMBER(MID(Monthly!J24,1,2)*1),2,IF(ISNUMBER(MID(Monthly!J24,1,1)*1),1,0))),ROUNDUP((31-N16)/LEN(RIGHT(Monthly!J24,LEN(Monthly!J24)-IF(ISNUMBER(MID(Monthly!J24,1,2)*1),2,IF(ISNUMBER(MID(Monthly!J24,1,1)*1),1,0)))),0)),"")
B17: 13 | C17: =IFERROR(IF(LEN(INDEX(Dashboard!$C$15:$C$64,Calc!B17,1))>0,INDEX(Dashboard!$C$15:$C$64,Calc!B17,1),""),"") | D17: =IFERROR(INDEX($C$5:$C$54, MATCH(0,INDEX((LEN($C$5:$C$54)=0)+COUNTIF($D$4:$D16,$C$5:$C$54),0),0)),"") | J17: =IFERROR(IF(WeeklyByEmployee!$J$6=Dashboard!$I$16,IF(ROW(J17)-ROW($J$5)>WeeklyByEmployee!$G$6,"",J16+1/24),IF(ROW(J17)-ROW($J$5)>2*WeeklyByEmployee!$G$6,"",J16+1/48)),"") | N17: =IF(ISNUMBER(MID(Monthly!J25,1,2)*1),LEFT(Monthly!J25,2),IF(ISNUMBER(MID(Monthly!J25,1,1)*1),LEFT(Monthly!J25,1),1))-1 -> 0 | O17: =IFERROR(REPT("x",N17)&REPT(RIGHT(Monthly!J25,LEN(Monthly!J25)-IF(ISNUMBER(MID(Monthly!J25,1,2)*1),2,IF(ISNUMBER(MID(Monthly!J25,1,1)*1),1,0))),ROUNDUP((31-N17)/LEN(RIGHT(Monthly!J25,LEN(Monthly!J25)-IF(ISNUMBER(MID(Monthly!J25,1,2)*1),2,IF(ISNUMBER(MID(Monthly!J25,1,1)*1),1,0)))),0)),"")
B18: 14 | C18: =IFERROR(IF(LEN(INDEX(Dashboard!$C$15:$C$64,Calc!B18,1))>0,INDEX(Dashboard!$C$15:$C$64,Calc!B18,1),""),"") | D18: =IFERROR(INDEX($C$5:$C$54, MATCH(0,INDEX((LEN($C$5:$C$54)=0)+COUNTIF($D$4:$D17,$C$5:$C$54),0),0)),"") | J18: =IFERROR(IF(WeeklyByEmployee!$J$6=Dashboard!$I$16,IF(ROW(J18)-ROW($J$5)>WeeklyByEmployee!$G$6,"",J17+1/24),IF(ROW(J18)-ROW($J$5)>2*WeeklyByEmployee!$G$6,"",J17+1/48)),"") | N18: =IF(ISNUMBER(MID(Monthly!J26,1,2)*1),LEFT(Monthly!J26,2),IF(ISNUMBER(MID(Monthly!J26,1,1)*1),LEFT(Monthly!J26,1),1))-1 -> 0 | O18: =IFERROR(REPT("x",N18)&REPT(RIGHT(Monthly!J26,LEN(Monthly!J26)-IF(ISNUMBER(MID(Monthly!J26,1,2)*1),2,IF(ISNUMBER(MID(Monthly!J26,1,1)*1),1,0))),ROUNDUP((31-N18)/LEN(RIGHT(Monthly!J26,LEN(Monthly!J26)-IF(ISNUMBER(MID(Monthly!J26,1,2)*1),2,IF(ISNUMBER(MID(Monthly!J26,1,1)*1),1,0)))),0)),"")
B19: 15 | C19: =IFERROR(IF(LEN(INDEX(Dashboard!$C$15:$C$64,Calc!B19,1))>0,INDEX(Dashboard!$C$15:$C$64,Calc!B19,1),""),"") | D19: =IFERROR(INDEX($C$5:$C$54, MATCH(0,INDEX((LEN($C$5:$C$54)=0)+COUNTIF($D$4:$D18,$C$5:$C$54),0),0)),"") | J19: =IFERROR(IF(WeeklyByEmployee!$J$6=Dashboard!$I$16,IF(ROW(J19)-ROW($J$5)>WeeklyByEmployee!$G$6,"",J18+1/24),IF(ROW(J19)-ROW($J$5)>2*WeeklyByEmployee!$G$6,"",J18+1/48)),"") | N19: =IF(ISNUMBER(MID(Monthly!J27,1,2)*1),LEFT(Monthly!J27,2),IF(ISNUMBER(MID(Monthly!J27,1,1)*1),LEFT(Monthly!J27,1),1))-1 -> 0 | O19: =IFERROR(REPT("x",N19)&REPT(RIGHT(Monthly!J27,LEN(Monthly!J27)-IF(ISNUMBER(MID(Monthly!J27,1,2)*1),2,IF(ISNUMBER(MID(Monthly!J27,1,1)*1),1,0))),ROUNDUP((31-N19)/LEN(RIGHT(Monthly!J27,LEN(Monthly!J27)-IF(ISNUMBER(MID(Monthly!J27,1,2)*1),2,IF(ISNUMBER(MID(Monthly!J27,1,1)*1),1,0)))),0)),"")
B20: 16 | C20: =IFERROR(IF(LEN(INDEX(Dashboard!$C$15:$C$64,Calc!B20,1))>0,INDEX(Dashboard!$C$15:$C$64,Calc!B20,1),""),"") | D20: =IFERROR(INDEX($C$5:$C$54, MATCH(0,INDEX((LEN($C$5:$C$54)=0)+COUNTIF($D$4:$D19,$C$5:$C$54),0),0)),"") | J20: =IFERROR(IF(WeeklyByEmployee!$J$6=Dashboard!$I$16,IF(ROW(J20)-ROW($J$5)>WeeklyByEmployee!$G$6,"",J19+1/24),IF(ROW(J20)-ROW($J$5)>2*WeeklyByEmployee!$G$6,"",J19+1/48)),"") | N20: =IF(ISNUMBER(MID(Monthly!J28,1,2)*1),LEFT(Monthly!J28,2),IF(ISNUMBER(MID(Monthly!J28,1,1)*1),LEFT(Monthly!J28,1),1))-1 -> 0 | O20: =IFERROR(REPT("x",N20)&REPT(RIGHT(Monthly!J28,LEN(Monthly!J28)-IF(ISNUMBER(MID(Monthly!J28,1,2)*1),2,IF(ISNUMBER(MID(Monthly!J28,1,1)*1),1,0))),ROUNDUP((31-N20)/LEN(RIGHT(Monthly!J28,LEN(Monthly!J28)-IF(ISNUMBER(MID(Monthly!J28,1,2)*1),2,IF(ISNUMBER(MID(Monthly!J28,1,1)*1),1,0)))),0)),"")
B21: 17 | C21: =IFERROR(IF(LEN(INDEX(Dashboard!$C$15:$C$64,Calc!B21,1))>0,INDEX(Dashboard!$C$15:$C$64,Calc!B21,1),""),"") | D21: =IFERROR(INDEX($C$5:$C$54, MATCH(0,INDEX((LEN($C$5:$C$54)=0)+COUNTIF($D$4:$D20,$C$5:$C$54),0),0)),"") | J21: =IFERROR(IF(WeeklyByEmployee!$J$6=Dashboard!$I$16,IF(ROW(J21)-ROW($J$5)>WeeklyByEmployee!$G$6,"",J20+1/24),IF(ROW(J21)-ROW($J$5)>2*WeeklyByEmployee!$G$6,"",J20+1/48)),"") | N21: =IF(ISNUMBER(MID(Monthly!J29,1,2)*1),LEFT(Monthly!J29,2),IF(ISNUMBER(MID(Monthly!J29,1,1)*1),LEFT(Monthly!J29,1),1))-1 -> 0 | O21: =IFERROR(REPT("x",N21)&REPT(RIGHT(Monthly!J29,LEN(Monthly!J29)-IF(ISNUMBER(MID(Monthly!J29,1,2)*1),2,IF(ISNUMBER(MID(Monthly!J29,1,1)*1),1,0))),ROUNDUP((31-N21)/LEN(RIGHT(Monthly!J29,LEN(Monthly!J29)-IF(ISNUMBER(MID(Monthly!J29,1,2)*1),2,IF(ISNUMBER(MID(Monthly!J29,1,1)*1),1,0)))),0)),"")
B22: 18 | C22: =IFERROR(IF(LEN(INDEX(Dashboard!$C$15:$C$64,Calc!B22,1))>0,INDEX(Dashboard!$C$15:$C$64,Calc!B22,1),""),"") | D22: =IFERROR(INDEX($C$5:$C$54, MATCH(0,INDEX((LEN($C$5:$C$54)=0)+COUNTIF($D$4:$D21,$C$5:$C$54),0),0)),"") | J22: =IFERROR(IF(WeeklyByEmployee!$J$6=Dashboard!$I$16,IF(ROW(J22)-ROW($J$5)>WeeklyByEmployee!$G$6,"",J21+1/24),IF(ROW(J22)-ROW($J$5)>2*WeeklyByEmployee!$G$6,"",J21+1/48)),"") | N22: =IF(ISNUMBER(MID(Monthly!J30,1,2)*1),LEFT(Monthly!J30,2),IF(ISNUMBER(MID(Monthly!J30,1,1)*1),LEFT(Monthly!J30,1),1))-1 -> 0 | O22: =IFERROR(REPT("x",N22)&REPT(RIGHT(Monthly!J30,LEN(Monthly!J30)-IF(ISNUMBER(MID(Monthly!J30,1,2)*1),2,IF(ISNUMBER(MID(Monthly!J30,1,1)*1),1,0))),ROUNDUP((31-N22)/LEN(RIGHT(Monthly!J30,LEN(Monthly!J30)-IF(ISNUMBER(MID(Monthly!J30,1,2)*1),2,IF(ISNUMBER(MID(Monthly!J30,1,1)*1),1,0)))),0)),"")
B23: 19 | C23: =IFERROR(IF(LEN(INDEX(Dashboard!$C$15:$C$64,Calc!B23,1))>0,INDEX(Dashboard!$C$15:$C$64,Calc!B23,1),""),"") | D23: =IFERROR(INDEX($C$5:$C$54, MATCH(0,INDEX((LEN($C$5:$C$54)=0)+COUNTIF($D$4:$D22,$C$5:$C$54),0),0)),"") | J23: =IFERROR(IF(WeeklyByEmployee!$J$6=Dashboard!$I$16,IF(ROW(J23)-ROW($J$5)>WeeklyByEmployee!$G$6,"",J22+1/24),IF(ROW(J23)-ROW($J$5)>2*WeeklyByEmployee!$G$6,"",J22+1/48)),"") | N23: =IF(ISNUMBER(MID(Monthly!J31,1,2)*1),LEFT(Monthly!J31,2),IF(ISNUMBER(MID(Monthly!J31,1,1)*1),LEFT(Monthly!J31,1),1))-1 -> 0 | O23: =IFERROR(REPT("x",N23)&REPT(RIGHT(Monthly!J31,LEN(Monthly!J31)-IF(ISNUMBER(MID(Monthly!J31,1,2)*1),2,IF(ISNUMBER(MID(Monthly!J31,1,1)*1),1,0))),ROUNDUP((31-N23)/LEN(RIGHT(Monthly!J31,LEN(Monthly!J31)-IF(ISNUMBER(MID(Monthly!J31,1,2)*1),2,IF(ISNUMBER(MID(Monthly!J31,1,1)*1),1,0)))),0)),"")
B24: 20 | C24: =IFERROR(IF(LEN(INDEX(Dashboard!$C$15:$C$64,Calc!B24,1))>0,INDEX(Dashboard!$C$15:$C$64,Calc!B24,1),""),"") | D24: =IFERROR(INDEX($C$5:$C$54, MATCH(0,INDEX((LEN($C$5:$C$54)=0)+COUNTIF($D$4:$D23,$C$5:$C$54),0),0)),"") | J24: =IFERROR(IF(WeeklyByEmployee!$J$6=Dashboard!$I$16,IF(ROW(J24)-ROW($J$5)>WeeklyByEmployee!$G$6,"",J23+1/24),IF(ROW(J24)-ROW($J$5)>2*WeeklyByEmployee!$G$6,"",J23+1/48)),"") | N24: =IF(ISNUMBER(MID(Monthly!J32,1,2)*1),LEFT(Monthly!J32,2),IF(ISNUMBER(MID(Monthly!J32,1,1)*1),LEFT(Monthly!J32,1),1))-1 -> 0 | O24: =IFERROR(REPT("x",N24)&REPT(RIGHT(Monthly!J32,LEN(Monthly!J32)-IF(ISNUMBER(MID(Monthly!J32,1,2)*1),2,IF(ISNUMBER(MID(Monthly!J32,1,1)*1),1,0))),ROUNDUP((31-N24)/LEN(RIGHT(Monthly!J32,LEN(Monthly!J32)-IF(ISNUMBER(MID(Monthly!J32,1,2)*1),2,IF(ISNUMBER(MID(Monthly!J32,1,1)*1),1,0)))),0)),"")
B25: 21 | C25: =IFERROR(IF(LEN(INDEX(Dashboard!$C$15:$C$64,Calc!B25,1))>0,INDEX(Dashboard!$C$15:$C$64,Calc!B25,1),""),"") | D25: =IFERROR(INDEX($C$5:$C$54, MATCH(0,INDEX((LEN($C$5:$C$54)=0)+COUNTIF($D$4:$D24,$C$5:$C$54),0),0)),"") | J25: =IFERROR(IF(WeeklyByEmployee!$J$6=Dashboard!$I$16,IF(ROW(J25)-ROW($J$5)>WeeklyByEmployee!$G$6,"",J24+1/24),IF(ROW(J25)-ROW($J$5)>2*WeeklyByEmployee!$G$6,"",J24+1/48)),"") | N25: =IF(ISNUMBER(MID(Monthly!J33,1,2)*1),LEFT(Monthly!J33,2),IF(ISNUMBER(MID(Monthly!J33,1,1)*1),LEFT(Monthly!J33,1),1))-1 -> 0 | O25: =IFERROR(REPT("x",N25)&REPT(RIGHT(Monthly!J33,LEN(Monthly!J33)-IF(ISNUMBER(MID(Monthly!J33,1,2)*1),2,IF(ISNUMBER(MID(Monthly!J33,1,1)*1),1,0))),ROUNDUP((31-N25)/LEN(RIGHT(Monthly!J33,LEN(Monthly!J33)-IF(ISNUMBER(MID(Monthly!J33,1,2)*1),2,IF(ISNUMBER(MID(Monthly!J33,1,1)*1),1,0)))),0)),"")
