Workbook

Sheet Dashboard
B2: PERFORMANCE REVIEW TEMPLATE
B3: DASHBOARD
B5: Employee Information | I5: Error Massage
B6: Employee Name: | C6: Brad Pitt | E6: Reviewers Name: | F6: Margaret Teacher | I6: =Cal!B10 -> There is no error. You can check the result!
B7: Employees Title: | C7: Business Analyst | E7: Reviewers Title: | F7: General Manager
B8: Employee ID: | C8: 452412 | E8: Department: | F8: Business Development
B9: Date: | C9: 44662 | E9: Last Review Date: | F9: 44297
B11: Performance Factors | C11: =IFERROR(Cal!$F$3,"") -> Poor | D11: =IFERROR(Cal!$F$4,"") -> Unsatisfactory | E11: =IFERROR(Cal!$F$5,"") -> Satisfactory | F11: =IFERROR(Cal!$F$6,"") -> Good | G11: =IFERROR(Cal!$F$7,"") -> Excellent | I11: Total Points | J11: Performance | K11: Point
B12: Job Knowledge | F12: X | H12: =IFERROR(INDEX(Cal!$Y$4:$Y$33,COUNTA($B$12:$B12)+COUNTBLANK($B$12:$B12),1),"") | I12: 0 | J12: Poor | K12: 2 | L12: =IFERROR(INDEX(Cal!$J$3:$J$7,COUNTA($I$11:$I11)+COUNTBLANK($I$11:$I11),1),"")
B13: Productivity | E13: X | H13: =IFERROR(INDEX(Cal!$Y$4:$Y$33,COUNTA($B$12:$B13)+COUNTBLANK($B$12:$B13),1),"") | I13: 30 | J13: Unsatisfactory | K13: 4 | L13: =IFERROR(INDEX(Cal!$J$3:$J$7,COUNTA($I$11:$I12)+COUNTBLANK($I$11:$I12),1),"")
B14: Work Quality | D14: X | H14: =IFERROR(INDEX(Cal!$Y$4:$Y$33,COUNTA($B$12:$B14)+COUNTBLANK($B$12:$B14),1),"") | I14: 50 | J14: Satisfactory | K14: 6 | L14: =IFERROR(INDEX(Cal!$J$3:$J$7,COUNTA($I$11:$I13)+COUNTBLANK($I$11:$I13),1),"")
B15: Consistency | G15: X | H15: =IFERROR(INDEX(Cal!$Y$4:$Y$33,COUNTA($B$12:$B15)+COUNTBLANK($B$12:$B15),1),"") | I15: 70 | J15: Good | K15: 8 | L15: =IFERROR(INDEX(Cal!$J$3:$J$7,COUNTA($I$11:$I14)+COUNTBLANK($I$11:$I14),1),"")
B16: Communication Skill | G16: X | H16: =IFERROR(INDEX(Cal!$Y$4:$Y$33,COUNTA($B$12:$B16)+COUNTBLANK($B$12:$B16),1),"") | I16: 90 | J16: Excellent | K16: 10 | L16: =IFERROR(INDEX(Cal!$J$3:$J$7,COUNTA($I$11:$I15)+COUNTBLANK($I$11:$I15),1),"")
B17: Independent Work | G17: X | H17: =IFERROR(INDEX(Cal!$Y$4:$Y$33,COUNTA($B$12:$B17)+COUNTBLANK($B$12:$B17),1),"")
B18: Creativity | F18: X | H18: =IFERROR(INDEX(Cal!$Y$4:$Y$33,COUNTA($B$12:$B18)+COUNTBLANK($B$12:$B18),1),"")
B19: Punctuality | F19: X | H19: =IFERROR(INDEX(Cal!$Y$4:$Y$33,COUNTA($B$12:$B19)+COUNTBLANK($B$12:$B19),1),"")
B20: Honesty | C20: X | H20: =IFERROR(INDEX(Cal!$Y$4:$Y$33,COUNTA($B$12:$B20)+COUNTBLANK($B$12:$B20),1),"")
B21: Integrity | E21: X | H21: =IFERROR(INDEX(Cal!$Y$4:$Y$33,COUNTA($B$12:$B21)+COUNTBLANK($B$12:$B21),1),"")
H22: =IFERROR(INDEX(Cal!$Y$4:$Y$33,COUNTA($B$12:$B22)+COUNTBLANK($B$12:$B22),1),"")
H23: =IFERROR(INDEX(Cal!$Y$4:$Y$33,COUNTA($B$12:$B23)+COUNTBLANK($B$12:$B23),1),"")
H24: =IFERROR(INDEX(Cal!$Y$4:$Y$33,COUNTA($B$12:$B24)+COUNTBLANK($B$12:$B24),1),"")
H25: =IFERROR(INDEX(Cal!$Y$4:$Y$33,COUNTA($B$12:$B25)+COUNTBLANK($B$12:$B25),1),"")
H26: =IFERROR(INDEX(Cal!$Y$4:$Y$33,COUNTA($B$12:$B26)+COUNTBLANK($B$12:$B26),1),"")
H27: =IFERROR(INDEX(Cal!$Y$4:$Y$33,COUNTA($B$12:$B27)+COUNTBLANK($B$12:$B27),1),"")
H28: =IFERROR(INDEX(Cal!$Y$4:$Y$33,COUNTA($B$12:$B28)+COUNTBLANK($B$12:$B28),1),"")
H29: =IFERROR(INDEX(Cal!$Y$4:$Y$33,COUNTA($B$12:$B29)+COUNTBLANK($B$12:$B29),1),"")
H30: =IFERROR(INDEX(Cal!$Y$4:$Y$33,COUNTA($B$12:$B30)+COUNTBLANK($B$12:$B30),1),"")
H31: =IFERROR(INDEX(Cal!$Y$4:$Y$33,COUNTA($B$12:$B31)+COUNTBLANK($B$12:$B31),1),"")
H32: =IFERROR(INDEX(Cal!$Y$4:$Y$33,COUNTA($B$12:$B32)+COUNTBLANK($B$12:$B32),1),"")
H33: =IFERROR(INDEX(Cal!$Y$4:$Y$33,COUNTA($B$12:$B33)+COUNTBLANK($B$12:$B33),1),"")
... H41: =IFERROR(INDEX(Cal!$Y$4:$Y$33,COUNTA($B$12:$B41)+COUNTBLANK($B$12:$B41),1),"")
B43: OVERALL POINTS: | D43: =IFERROR(Cal!U55,"") -> 72 | E43: OVERALL PERFORMANCE: | G43: =IFERROR(INDEX(Cal!$F$3:$F$7,MATCH(D43,Cal!$H$3:$H$7,1),1),"-") -> Good
B45: Comments
B53: Employee Signature | E53: Reviewer Signature

Sheet Cal
B2: Error Massage | E2: 1 | F2: 2 | G2: 3 | H2: Calculation | J2: Mark Check | L2: Dropdown list | O2: 1 | P2: 2 | Q2: 3 | R2: 4 | S2: 5 | T2: 6 | U2: Calculations
B3: =IF(COUNTIF(U4:U53,TRUE)>0,"There are more than one cross in factor "&"''"&INDEX(O4:O53,MATCH(TRUE,U4:U33,0),1)&"''"&".","") | D3: 1 | E3: =IFERROR(IF(LEN(INDEX(Dashboard!$I$12:$K$16,$D3,E$2))=0,"",INDEX(Dashboard!$I$12:$K$16,$D3,E$2)),"") -> 0 | F3: =IFERROR(IF(LEN(INDEX(Dashboard!$I$12:$K$16,$D3,F$2))=0,"",INDEX(Dashboard!$I$12:$K$16,$D3,F$2)),"") -> Poor | G3: =IFERROR(IF(LEN(INDEX(Dashboard!$I$12:$K$16,$D3,G$2))=0,"",INDEX(Dashboard!$I$12:$K$16,$D3,G$2)),"") -> 2 | H3: =IFERROR(IF(E3="",0,E3),0) -> 0 | I3: =IFERROR(IF(G3="",0,G3),0) -> 2 | J3: =IF(COUNTA(E3:G3)-COUNTBLANK(E3:G3)<3,"!","") | L3: X | N3: 1 | O3: =IFERROR(IF(LEN(INDEX(Dashboard!$B$11:$G$41,Cal!$N3,Cal!O$2))=0,"",INDEX(Dashboard!$B$11:$G$41,Cal!$N3,Cal!O$2)),"") -> Performance Factors | P3: =IFERROR(IF(LEN(INDEX(Dashboard!$B$11:$G$41,Cal!$N3,Cal!P$2))=0,"",INDEX(Dashboard!$B$11:$G$41,Cal!$N3,Cal!P$2)),"") -> Poor | Q3: =IFERROR(IF(LEN(INDEX(Dashboard!$B$11:$G$41,Cal!$N3,Cal!Q$2))=0,"",INDEX(Dashboard!$B$11:$G$41,Cal!$N3,Cal!Q$2)),"") -> Unsatisfactory | R3: =IFERROR(IF(LEN(INDEX(Dashboard!$B$11:$G$41,Cal!$N3,Cal!R$2))=0,"",INDEX(Dashboard!$B$11:$G$41,Cal!$N3,Cal!R$2)),"") -> Satisfactory | S3: =IFERROR(IF(LEN(INDEX(Dashboard!$B$11:$G$41,Cal!$N3,Cal!S$2))=0,"",INDEX(Dashboard!$B$11:$G$41,Cal!$N3,Cal!S$2)),"") -> Good | T3: =IFERROR(IF(LEN(INDEX(Dashboard!$B$11:$G$41,Cal!$N3,Cal!T$2))=0,"",INDEX(Dashboard!$B$11:$G$41,Cal!$N3,Cal!T$2)),"") -> Excellent | U3: Double "X" Check | V3: No "X" Check | W3: No Factor Check | X3: Performance Criteria Check | Y3: Mark Check
B4: =IF(COUNTIF(V4:V53,TRUE)>0,"There is no cross in factor "&"''"&INDEX(O4:O53,MATCH(TRUE,V4:V33,0),1)&"''"&".","") | D4: 2 | E4: =IFERROR(IF(LEN(INDEX(Dashboard!$I$12:$K$16,$D4,E$2))=0,"",INDEX(Dashboard!$I$12:$K$16,$D4,E$2)),"") -> 30 | F4: =IFERROR(IF(LEN(INDEX(Dashboard!$I$12:$K$16,$D4,F$2))=0,"",INDEX(Dashboard!$I$12:$K$16,$D4,F$2)),"") -> Unsatisfactory | G4: =IFERROR(IF(LEN(INDEX(Dashboard!$I$12:$K$16,$D4,G$2))=0,"",INDEX(Dashboard!$I$12:$K$16,$D4,G$2)),"") -> 4 | H4: =IFERROR(IF(E4="",0,E4),0) -> 30 | I4: =IFERROR(IF(G4="",0,G4),0) -> 4 | J4: =IF(COUNTA(E4:G4)-COUNTBLANK(E4:G4)<3,"!","") | N4: 2 | O4: =IFERROR(IF(LEN(INDEX(Dashboard!$B$11:$G$41,Cal!$N4,Cal!O$2))=0,"",INDEX(Dashboard!$B$11:$G$41,Cal!$N4,Cal!O$2)),"") -> Job Knowledge | P4: =IFERROR(IF(LEN(INDEX(Dashboard!$B$11:$G$41,Cal!$N4,Cal!P$2))=0,"",INDEX(Dashboard!$B$11:$G$41,Cal!$N4,Cal!P$2)),"") | Q4: =IFERROR(IF(LEN(INDEX(Dashboard!$B$11:$G$41,Cal!$N4,Cal!Q$2))=0,"",INDEX(Dashboard!$B$11:$G$41,Cal!$N4,Cal!Q$2)),"") | R4: =IFERROR(IF(LEN(INDEX(Dashboard!$B$11:$G$41,Cal!$N4,Cal!R$2))=0,"",INDEX(Dashboard!$B$11:$G$41,Cal!$N4,Cal!R$2)),"") | S4: =IFERROR(IF(LEN(INDEX(Dashboard!$B$11:$G$41,Cal!$N4,Cal!S$2))=0,"",INDEX(Dashboard!$B$11:$G$41,Cal!$N4,Cal!S$2)),"") -> X | T4: =IFERROR(IF(LEN(INDEX(Dashboard!$B$11:$G$41,Cal!$N4,Cal!T$2))=0,"",INDEX(Dashboard!$B$11:$G$41,Cal!$N4,Cal!T$2)),"") | U4: =IFERROR(IF(LEN(O4)>0,IF(COUNTBLANK(O4),0,1)-(COUNTA($P4:$T4)-COUNTBLANK($P4:$T4))<0,""),"") -> FALSE | V4: =IFERROR(IF(LEN(O4)>0,IF(COUNTBLANK(O4),0,1)-(COUNTA($P4:$T4)-COUNTBLANK($P4:$T4))>0,""),"") -> FALSE | W4: =IFERROR(IF(LEN(O4)=0,(COUNTA($P4:$T4)-COUNTBLANK($P4:$T4))>0,""),"") | X4: =IFERROR(LEN(INDEX($P$3:$T$3,1,MATCH("X",$P4:$T4,0)))=0,"") -> FALSE | Y4: =IFERROR(IF(COUNTIF(U4:X4,TRUE)=0,"","!"),"")
B5: =IF(COUNTIF(W4:W53,TRUE)>0,"There is a cross without factor.","") | D5: 3 | E5: =IFERROR(IF(LEN(INDEX(Dashboard!$I$12:$K$16,$D5,E$2))=0,"",INDEX(Dashboard!$I$12:$K$16,$D5,E$2)),"") -> 50 | F5: =IFERROR(IF(LEN(INDEX(Dashboard!$I$12:$K$16,$D5,F$2))=0,"",INDEX(Dashboard!$I$12:$K$16,$D5,F$2)),"") -> Satisfactory | G5: =IFERROR(IF(LEN(INDEX(Dashboard!$I$12:$K$16,$D5,G$2))=0,"",INDEX(Dashboard!$I$12:$K$16,$D5,G$2)),"") -> 6 | H5: =IFERROR(IF(E5="",0,E5),0) -> 50 | I5: =IFERROR(IF(G5="",0,G5),0) -> 6 | J5: =IF(COUNTA(E5:G5)-COUNTBLANK(E5:G5)<3,"!","") | N5: 3 | O5: =IFERROR(IF(LEN(INDEX(Dashboard!$B$11:$G$41,Cal!$N5,Cal!O$2))=0,"",INDEX(Dashboard!$B$11:$G$41,Cal!$N5,Cal!O$2)),"") -> Productivity | P5: =IFERROR(IF(LEN(INDEX(Dashboard!$B$11:$G$41,Cal!$N5,Cal!P$2))=0,"",INDEX(Dashboard!$B$11:$G$41,Cal!$N5,Cal!P$2)),"") | Q5: =IFERROR(IF(LEN(INDEX(Dashboard!$B$11:$G$41,Cal!$N5,Cal!Q$2))=0,"",INDEX(Dashboard!$B$11:$G$41,Cal!$N5,Cal!Q$2)),"") | R5: =IFERROR(IF(LEN(INDEX(Dashboard!$B$11:$G$41,Cal!$N5,Cal!R$2))=0,"",INDEX(Dashboard!$B$11:$G$41,Cal!$N5,Cal!R$2)),"") -> X | S5: =IFERROR(IF(LEN(INDEX(Dashboard!$B$11:$G$41,Cal!$N5,Cal!S$2))=0,"",INDEX(Dashboard!$B$11:$G$41,Cal!$N5,Cal!S$2)),"") | T5: =IFERROR(IF(LEN(INDEX(Dashboard!$B$11:$G$41,Cal!$N5,Cal!T$2))=0,"",INDEX(Dashboard!$B$11:$G$41,Cal!$N5,Cal!T$2)),"") | U5: =IFERROR(IF(LEN(O5)>0,IF(COUNTBLANK(O5),0,1)-(COUNTA($P5:$T5)-COUNTBLANK($P5:$T5))<0,""),"") -> FALSE | V5: =IFERROR(IF(LEN(O5)>0,IF(COUNTBLANK(O5),0,1)-(COUNTA($P5:$T5)-COUNTBLANK($P5:$T5))>0,""),"") -> FALSE | W5: =IFERROR(IF(LEN(O5)=0,(COUNTA($P5:$T5)-COUNTBLANK($P5:$T5))>0,""),"") | X5: =IFERROR(LEN(INDEX($P$3:$T$3,1,MATCH("X",$P5:$T5,0)))=0,"") -> FALSE | Y5: =IFERROR(IF(COUNTIF(U5:X5,TRUE)=0,"","!"),"")
B6: =IF(COUNTIF(X4:X53,TRUE)>0,"There is at least one cross without header.","") | D6: 4 | E6: =IFERROR(IF(LEN(INDEX(Dashboard!$I$12:$K$16,$D6,E$2))=0,"",INDEX(Dashboard!$I$12:$K$16,$D6,E$2)),"") -> 70 | F6: =IFERROR(IF(LEN(INDEX(Dashboard!$I$12:$K$16,$D6,F$2))=0,"",INDEX(Dashboard!$I$12:$K$16,$D6,F$2)),"") -> Good | G6: =IFERROR(IF(LEN(INDEX(Dashboard!$I$12:$K$16,$D6,G$2))=0,"",INDEX(Dashboard!$I$12:$K$16,$D6,G$2)),"") -> 8 | H6: =IFERROR(IF(E6="",0,E6),0) -> 70 | I6: =IFERROR(IF(G6="",0,G6),0) -> 8 | J6: =IF(COUNTA(E6:G6)-COUNTBLANK(E6:G6)<3,"!","") | N6: 4 | O6: =IFERROR(IF(LEN(INDEX(Dashboard!$B$11:$G$41,Cal!$N6,Cal!O$2))=0,"",INDEX(Dashboard!$B$11:$G$41,Cal!$N6,Cal!O$2)),"") -> Work Quality | P6: =IFERROR(IF(LEN(INDEX(Dashboard!$B$11:$G$41,Cal!$N6,Cal!P$2))=0,"",INDEX(Dashboard!$B$11:$G$41,Cal!$N6,Cal!P$2)),"") | Q6: =IFERROR(IF(LEN(INDEX(Dashboard!$B$11:$G$41,Cal!$N6,Cal!Q$2))=0,"",INDEX(Dashboard!$B$11:$G$41,Cal!$N6,Cal!Q$2)),"") -> X | R6: =IFERROR(IF(LEN(INDEX(Dashboard!$B$11:$G$41,Cal!$N6,Cal!R$2))=0,"",INDEX(Dashboard!$B$11:$G$41,Cal!$N6,Cal!R$2)),"") | S6: =IFERROR(IF(LEN(INDEX(Dashboard!$B$11:$G$41,Cal!$N6,Cal!S$2))=0,"",INDEX(Dashboard!$B$11:$G$41,Cal!$N6,Cal!S$2)),"") | T6: =IFERROR(IF(LEN(INDEX(Dashboard!$B$11:$G$41,Cal!$N6,Cal!T$2))=0,"",INDEX(Dashboard!$B$11:$G$41,Cal!$N6,Cal!T$2)),"") | U6: =IFERROR(IF(LEN(O6)>0,IF(COUNTBLANK(O6),0,1)-(COUNTA($P6:$T6)-COUNTBLANK($P6:$T6))<0,""),"") -> FALSE | V6: =IFERROR(IF(LEN(O6)>0,IF(COUNTBLANK(O6),0,1)-(COUNTA($P6:$T6)-COUNTBLANK($P6:$T6))>0,""),"") -> FALSE | W6: =IFERROR(IF(LEN(O6)=0,(COUNTA($P6:$T6)-COUNTBLANK($P6:$T6))>0,""),"") | X6: =IFERROR(LEN(INDEX($P$3:$T$3,1,MATCH("X",$P6:$T6,0)))=0,"") -> FALSE | Y6: =IFERROR(IF(COUNTIF(U6:X6,TRUE)=0,"","!"),"")
B7: =IF(COUNTA(G3:G7)-COUNTBLANK(G3:G7)<COUNTA(F3:F7)-COUNTBLANK(F3:F7),"There is no assigned point in one of the performance mesaure.","") | D7: 5 | E7: =IFERROR(IF(LEN(INDEX(Dashboard!$I$12:$K$16,$D7,E$2))=0,"",INDEX(Dashboard!$I$12:$K$16,$D7,E$2)),"") -> 90 | F7: =IFERROR(IF(LEN(INDEX(Dashboard!$I$12:$K$16,$D7,F$2))=0,"",INDEX(Dashboard!$I$12:$K$16,$D7,F$2)),"") -> Excellent | G7: =IFERROR(IF(LEN(INDEX(Dashboard!$I$12:$K$16,$D7,G$2))=0,"",INDEX(Dashboard!$I$12:$K$16,$D7,G$2)),"") -> 10 | H7: =IFERROR(IF(E7="",0,E7),0) -> 90 | I7: =IFERROR(IF(G7="",0,G7),0) -> 10 | J7: =IF(COUNTA(E7:G7)-COUNTBLANK(E7:G7)<3,"!","") | N7: 5 | O7: =IFERROR(IF(LEN(INDEX(Dashboard!$B$11:$G$41,Cal!$N7,Cal!O$2))=0,"",INDEX(Dashboard!$B$11:$G$41,Cal!$N7,Cal!O$2)),"") -> Consistency | P7: =IFERROR(IF(LEN(INDEX(Dashboard!$B$11:$G$41,Cal!$N7,Cal!P$2))=0,"",INDEX(Dashboard!$B$11:$G$41,Cal!$N7,Cal!P$2)),"") | Q7: =IFERROR(IF(LEN(INDEX(Dashboard!$B$11:$G$41,Cal!$N7,Cal!Q$2))=0,"",INDEX(Dashboard!$B$11:$G$41,Cal!$N7,Cal!Q$2)),"") | R7: =IFERROR(IF(LEN(INDEX(Dashboard!$B$11:$G$41,Cal!$N7,Cal!R$2))=0,"",INDEX(Dashboard!$B$11:$G$41,Cal!$N7,Cal!R$2)),"") | S7: =IFERROR(IF(LEN(INDEX(Dashboard!$B$11:$G$41,Cal!$N7,Cal!S$2))=0,"",INDEX(Dashboard!$B$11:$G$41,Cal!$N7,Cal!S$2)),"") | T7: =IFERROR(IF(LEN(INDEX(Dashboard!$B$11:$G$41,Cal!$N7,Cal!T$2))=0,"",INDEX(Dashboard!$B$11:$G$41,Cal!$N7,Cal!T$2)),"") -> X | U7: =IFERROR(IF(LEN(O7)>0,IF(COUNTBLANK(O7),0,1)-(COUNTA($P7:$T7)-COUNTBLANK($P7:$T7))<0,""),"") -> FALSE | V7: =IFERROR(IF(LEN(O7)>0,IF(COUNTBLANK(O7),0,1)-(COUNTA($P7:$T7)-COUNTBLANK($P7:$T7))>0,""),"") -> FALSE | W7: =IFERROR(IF(LEN(O7)=0,(COUNTA($P7:$T7)-COUNTBLANK($P7:$T7))>0,""),"") | X7: =IFERROR(LEN(INDEX($P$3:$T$3,1,MATCH("X",$P7:$T7,0)))=0,"") -> FALSE | Y7: =IFERROR(IF(COUNTIF(U7:X7,TRUE)=0,"","!"),"")
B8: =IF(COUNTA(E3:E7)-COUNTBLANK(E3:E7)<COUNTA(F3:F7)-COUNTBLANK(F3:F7),"There is no defined overall point in one of the performance mesaure.","") | N8: 6 | O8: =IFERROR(IF(LEN(INDEX(Dashboard!$B$11:$G$41,Cal!$N8,Cal!O$2))=0,"",INDEX(Dashboard!$B$11:$G$41,Cal!$N8,Cal!O$2)),"") -> Communication Skill | P8: =IFERROR(IF(LEN(INDEX(Dashboard!$B$11:$G$41,Cal!$N8,Cal!P$2))=0,"",INDEX(Dashboard!$B$11:$G$41,Cal!$N8,Cal!P$2)),"") | Q8: =IFERROR(IF(LEN(INDEX(Dashboard!$B$11:$G$41,Cal!$N8,Cal!Q$2))=0,"",INDEX(Dashboard!$B$11:$G$41,Cal!$N8,Cal!Q$2)),"") | R8: =IFERROR(IF(LEN(INDEX(Dashboard!$B$11:$G$41,Cal!$N8,Cal!R$2))=0,"",INDEX(Dashboard!$B$11:$G$41,Cal!$N8,Cal!R$2)),"") | S8: =IFERROR(IF(LEN(INDEX(Dashboard!$B$11:$G$41,Cal!$N8,Cal!S$2))=0,"",INDEX(Dashboard!$B$11:$G$41,Cal!$N8,Cal!S$2)),"") | T8: =IFERROR(IF(LEN(INDEX(Dashboard!$B$11:$G$41,Cal!$N8,Cal!T$2))=0,"",INDEX(Dashboard!$B$11:$G$41,Cal!$N8,Cal!T$2)),"") -> X | U8: =IFERROR(IF(LEN(O8)>0,IF(COUNTBLANK(O8),0,1)-(COUNTA($P8:$T8)-COUNTBLANK($P8:$T8))<0,""),"") -> FALSE | V8: =IFERROR(IF(LEN(O8)>0,IF(COUNTBLANK(O8),0,1)-(COUNTA($P8:$T8)-COUNTBLANK($P8:$T8))>0,""),"") -> FALSE | W8: =IFERROR(IF(LEN(O8)=0,(COUNTA($P8:$T8)-COUNTBLANK($P8:$T8))>0,""),"") | X8: =IFERROR(LEN(INDEX($P$3:$T$3,1,MATCH("X",$P8:$T8,0)))=0,"") -> FALSE | Y8: =IFERROR(IF(COUNTIF(U8:X8,TRUE)=0,"","!"),"")
B9: Result may be misleading! Please check. | N9: 7 | O9: =IFERROR(IF(LEN(INDEX(Dashboard!$B$11:$G$41,Cal!$N9,Cal!O$2))=0,"",INDEX(Dashboard!$B$11:$G$41,Cal!$N9,Cal!O$2)),"") -> Independent Work | P9: =IFERROR(IF(LEN(INDEX(Dashboard!$B$11:$G$41,Cal!$N9,Cal!P$2))=0,"",INDEX(Dashboard!$B$11:$G$41,Cal!$N9,Cal!P$2)),"") | Q9: =IFERROR(IF(LEN(INDEX(Dashboard!$B$11:$G$41,Cal!$N9,Cal!Q$2))=0,"",INDEX(Dashboard!$B$11:$G$41,Cal!$N9,Cal!Q$2)),"") | R9: =IFERROR(IF(LEN(INDEX(Dashboard!$B$11:$G$41,Cal!$N9,Cal!R$2))=0,"",INDEX(Dashboard!$B$11:$G$41,Cal!$N9,Cal!R$2)),"") | S9: =IFERROR(IF(LEN(INDEX(Dashboard!$B$11:$G$41,Cal!$N9,Cal!S$2))=0,"",INDEX(Dashboard!$B$11:$G$41,Cal!$N9,Cal!S$2)),"") | T9: =IFERROR(IF(LEN(INDEX(Dashboard!$B$11:$G$41,Cal!$N9,Cal!T$2))=0,"",INDEX(Dashboard!$B$11:$G$41,Cal!$N9,Cal!T$2)),"") -> X | U9: =IFERROR(IF(LEN(O9)>0,IF(COUNTBLANK(O9),0,1)-(COUNTA($P9:$T9)-COUNTBLANK($P9:$T9))<0,""),"") -> FALSE | V9: =IFERROR(IF(LEN(O9)>0,IF(COUNTBLANK(O9),0,1)-(COUNTA($P9:$T9)-COUNTBLANK($P9:$T9))>0,""),"") -> FALSE | W9: =IFERROR(IF(LEN(O9)=0,(COUNTA($P9:$T9)-COUNTBLANK($P9:$T9))>0,""),"") | X9: =IFERROR(LEN(INDEX($P$3:$T$3,1,MATCH("X",$P9:$T9,0)))=0,"") -> FALSE | Y9: =IFERROR(IF(COUNTIF(U9:X9,TRUE)=0,"","!"),"")
B10: =IF(COUNTA(B3:B8)-COUNTBLANK(B3:B8)>0,B3&B4&B5&B6&B7&B8&B9,"There is no error. You can check the result!") -> There is no error. You can check the result! | N10: 8 | O10: =IFERROR(IF(LEN(INDEX(Dashboard!$B$11:$G$41,Cal!$N10,Cal!O$2))=0,"",INDEX(Dashboard!$B$11:$G$41,Cal!$N10,Cal!O$2)),"") -> Creativity | P10: =IFERROR(IF(LEN(INDEX(Dashboard!$B$11:$G$41,Cal!$N10,Cal!P$2))=0,"",INDEX(Dashboard!$B$11:$G$41,Cal!$N10,Cal!P$2)),"") | Q10: =IFERROR(IF(LEN(INDEX(Dashboard!$B$11:$G$41,Cal!$N10,Cal!Q$2))=0,"",INDEX(Dashboard!$B$11:$G$41,Cal!$N10,Cal!Q$2)),"") | R10: =IFERROR(IF(LEN(INDEX(Dashboard!$B$11:$G$41,Cal!$N10,Cal!R$2))=0,"",INDEX(Dashboard!$B$11:$G$41,Cal!$N10,Cal!R$2)),"") | S10: =IFERROR(IF(LEN(INDEX(Dashboard!$B$11:$G$41,Cal!$N10,Cal!S$2))=0,"",INDEX(Dashboard!$B$11:$G$41,Cal!$N10,Cal!S$2)),"") -> X | T10: =IFERROR(IF(LEN(INDEX(Dashboard!$B$11:$G$41,Cal!$N10,Cal!T$2))=0,"",INDEX(Dashboard!$B$11:$G$41,Cal!$N10,Cal!T$2)),"") | U10: =IFERROR(IF(LEN(O10)>0,IF(COUNTBLANK(O10),0,1)-(COUNTA($P10:$T10)-COUNTBLANK($P10:$T10))<0,""),"") -> FALSE | V10: =IFERROR(IF(LEN(O10)>0,IF(COUNTBLANK(O10),0,1)-(COUNTA($P10:$T10)-COUNTBLANK($P10:$T10))>0,""),"") -> FALSE | W10: =IFERROR(IF(LEN(O10)=0,(COUNTA($P10:$T10)-COUNTBLANK($P10:$T10))>0,""),"") | X10: =IFERROR(LEN(INDEX($P$3:$T$3,1,MATCH("X",$P10:$T10,0)))=0,"") -> FALSE | Y10: =IFERROR(IF(COUNTIF(U10:X10,TRUE)=0,"","!"),"")
N11: 9 | O11: =IFERROR(IF(LEN(INDEX(Dashboard!$B$11:$G$41,Cal!$N11,Cal!O$2))=0,"",INDEX(Dashboard!$B$11:$G$41,Cal!$N11,Cal!O$2)),"") -> Punctuality | P11: =IFERROR(IF(LEN(INDEX(Dashboard!$B$11:$G$41,Cal!$N11,Cal!P$2))=0,"",INDEX(Dashboard!$B$11:$G$41,Cal!$N11,Cal!P$2)),"") | Q11: =IFERROR(IF(LEN(INDEX(Dashboard!$B$11:$G$41,Cal!$N11,Cal!Q$2))=0,"",INDEX(Dashboard!$B$11:$G$41,Cal!$N11,Cal!Q$2)),"") | R11: =IFERROR(IF(LEN(INDEX(Dashboard!$B$11:$G$41,Cal!$N11,Cal!R$2))=0,"",INDEX(Dashboard!$B$11:$G$41,Cal!$N11,Cal!R$2)),"") | S11: =IFERROR(IF(LEN(INDEX(Dashboard!$B$11:$G$41,Cal!$N11,Cal!S$2))=0,"",INDEX(Dashboard!$B$11:$G$41,Cal!$N11,Cal!S$2)),"") -> X | T11: =IFERROR(IF(LEN(INDEX(Dashboard!$B$11:$G$41,Cal!$N11,Cal!T$2))=0,"",INDEX(Dashboard!$B$11:$G$41,Cal!$N11,Cal!T$2)),"") | U11: =IFERROR(IF(LEN(O11)>0,IF(COUNTBLANK(O11),0,1)-(COUNTA($P11:$T11)-COUNTBLANK($P11:$T11))<0,""),"") -> FALSE | V11: =IFERROR(IF(LEN(O11)>0,IF(COUNTBLANK(O11),0,1)-(COUNTA($P11:$T11)-COUNTBLANK($P11:$T11))>0,""),"") -> FALSE | W11: =IFERROR(IF(LEN(O11)=0,(COUNTA($P11:$T11)-COUNTBLANK($P11:$T11))>0,""),"") | X11: =IFERROR(LEN(INDEX($P$3:$T$3,1,MATCH("X",$P11:$T11,0)))=0,"") -> FALSE | Y11: =IFERROR(IF(COUNTIF(U11:X11,TRUE)=0,"","!"),"")
N12: 10 | O12: =IFERROR(IF(LEN(INDEX(Dashboard!$B$11:$G$41,Cal!$N12,Cal!O$2))=0,"",INDEX(Dashboard!$B$11:$G$41,Cal!$N12,Cal!O$2)),"") -> Honesty | P12: =IFERROR(IF(LEN(INDEX(Dashboard!$B$11:$G$41,Cal!$N12,Cal!P$2))=0,"",INDEX(Dashboard!$B$11:$G$41,Cal!$N12,Cal!P$2)),"") -> X | Q12: =IFERROR(IF(LEN(INDEX(Dashboard!$B$11:$G$41,Cal!$N12,Cal!Q$2))=0,"",INDEX(Dashboard!$B$11:$G$41,Cal!$N12,Cal!Q$2)),"") | R12: =IFERROR(IF(LEN(INDEX(Dashboard!$B$11:$G$41,Cal!$N12,Cal!R$2))=0,"",INDEX(Dashboard!$B$11:$G$41,Cal!$N12,Cal!R$2)),"") | S12: =IFERROR(IF(LEN(INDEX(Dashboard!$B$11:$G$41,Cal!$N12,Cal!S$2))=0,"",INDEX(Dashboard!$B$11:$G$41,Cal!$N12,Cal!S$2)),"") | T12: =IFERROR(IF(LEN(INDEX(Dashboard!$B$11:$G$41,Cal!$N12,Cal!T$2))=0,"",INDEX(Dashboard!$B$11:$G$41,Cal!$N12,Cal!T$2)),"") | U12: =IFERROR(IF(LEN(O12)>0,IF(COUNTBLANK(O12),0,1)-(COUNTA($P12:$T12)-COUNTBLANK($P12:$T12))<0,""),"") -> FALSE | V12: =IFERROR(IF(LEN(O12)>0,IF(COUNTBLANK(O12),0,1)-(COUNTA($P12:$T12)-COUNTBLANK($P12:$T12))>0,""),"") -> FALSE | W12: =IFERROR(IF(LEN(O12)=0,(COUNTA($P12:$T12)-COUNTBLANK($P12:$T12))>0,""),"") | X12: =IFERROR(LEN(INDEX($P$3:$T$3,1,MATCH("X",$P12:$T12,0)))=0,"") -> FALSE | Y12: =IFERROR(IF(COUNTIF(U12:X12,TRUE)=0,"","!"),"")
N13: 11 | O13: =IFERROR(IF(LEN(INDEX(Dashboard!$B$11:$G$41,Cal!$N13,Cal!O$2))=0,"",INDEX(Dashboard!$B$11:$G$41,Cal!$N13,Cal!O$2)),"") -> Integrity | P13: =IFERROR(IF(LEN(INDEX(Dashboard!$B$11:$G$41,Cal!$N13,Cal!P$2))=0,"",INDEX(Dashboard!$B$11:$G$41,Cal!$N13,Cal!P$2)),"") | Q13: =IFERROR(IF(LEN(INDEX(Dashboard!$B$11:$G$41,Cal!$N13,Cal!Q$2))=0,"",INDEX(Dashboard!$B$11:$G$41,Cal!$N13,Cal!Q$2)),"") | R13: =IFERROR(IF(LEN(INDEX(Dashboard!$B$11:$G$41,Cal!$N13,Cal!R$2))=0,"",INDEX(Dashboard!$B$11:$G$41,Cal!$N13,Cal!R$2)),"") -> X | S13: =IFERROR(IF(LEN(INDEX(Dashboard!$B$11:$G$41,Cal!$N13,Cal!S$2))=0,"",INDEX(Dashboard!$B$11:$G$41,Cal!$N13,Cal!S$2)),"") | T13: =IFERROR(IF(LEN(INDEX(Dashboard!$B$11:$G$41,Cal!$N13,Cal!T$2))=0,"",INDEX(Dashboard!$B$11:$G$41,Cal!$N13,Cal!T$2)),"") | U13: =IFERROR(IF(LEN(O13)>0,IF(COUNTBLANK(O13),0,1)-(COUNTA($P13:$T13)-COUNTBLANK($P13:$T13))<0,""),"") -> FALSE | V13: =IFERROR(IF(LEN(O13)>0,IF(COUNTBLANK(O13),0,1)-(COUNTA($P13:$T13)-COUNTBLANK($P13:$T13))>0,""),"") -> FALSE | W13: =IFERROR(IF(LEN(O13)=0,(COUNTA($P13:$T13)-COUNTBLANK($P13:$T13))>0,""),"") | X13: =IFERROR(LEN(INDEX($P$3:$T$3,1,MATCH("X",$P13:$T13,0)))=0,"") -> FALSE | Y13: =IFERROR(IF(COUNTIF(U13:X13,TRUE)=0,"","!"),"")
N14: 12 | O14: =IFERROR(IF(LEN(INDEX(Dashboard!$B$11:$G$41,Cal!$N14,Cal!O$2))=0,"",INDEX(Dashboard!$B$11:$G$41,Cal!$N14,Cal!O$2)),"") | P14: =IFERROR(IF(LEN(INDEX(Dashboard!$B$11:$G$41,Cal!$N14,Cal!P$2))=0,"",INDEX(Dashboard!$B$11:$G$41,Cal!$N14,Cal!P$2)),"") | Q14: =IFERROR(IF(LEN(INDEX(Dashboard!$B$11:$G$41,Cal!$N14,Cal!Q$2))=0,"",INDEX(Dashboard!$B$11:$G$41,Cal!$N14,Cal!Q$2)),"") | R14: =IFERROR(IF(LEN(INDEX(Dashboard!$B$11:$G$41,Cal!$N14,Cal!R$2))=0,"",INDEX(Dashboard!$B$11:$G$41,Cal!$N14,Cal!R$2)),"") | S14: =IFERROR(IF(LEN(INDEX(Dashboard!$B$11:$G$41,Cal!$N14,Cal!S$2))=0,"",INDEX(Dashboard!$B$11:$G$41,Cal!$N14,Cal!S$2)),"") | T14: =IFERROR(IF(LEN(INDEX(Dashboard!$B$11:$G$41,Cal!$N14,Cal!T$2))=0,"",INDEX(Dashboard!$B$11:$G$41,Cal!$N14,Cal!T$2)),"") | U14: =IFERROR(IF(LEN(O14)>0,IF(COUNTBLANK(O14),0,1)-(COUNTA($P14:$T14)-COUNTBLANK($P14:$T14))<0,""),"") | V14: =IFERROR(IF(LEN(O14)>0,IF(COUNTBLANK(O14),0,1)-(COUNTA($P14:$T14)-COUNTBLANK($P14:$T14))>0,""),"") | W14: =IFERROR(IF(LEN(O14)=0,(COUNTA($P14:$T14)-COUNTBLANK($P14:$T14))>0,""),"") -> FALSE | X14: =IFERROR(LEN(INDEX($P$3:$T$3,1,MATCH("X",$P14:$T14,0)))=0,"") | Y14: =IFERROR(IF(COUNTIF(U14:X14,TRUE)=0,"","!"),"")
N15: 13 | O15: =IFERROR(IF(LEN(INDEX(Dashboard!$B$11:$G$41,Cal!$N15,Cal!O$2))=0,"",INDEX(Dashboard!$B$11:$G$41,Cal!$N15,Cal!O$2)),"") | P15: =IFERROR(IF(LEN(INDEX(Dashboard!$B$11:$G$41,Cal!$N15,Cal!P$2))=0,"",INDEX(Dashboard!$B$11:$G$41,Cal!$N15,Cal!P$2)),"") | Q15: =IFERROR(IF(LEN(INDEX(Dashboard!$B$11:$G$41,Cal!$N15,Cal!Q$2))=0,"",INDEX(Dashboard!$B$11:$G$41,Cal!$N15,Cal!Q$2)),"") | R15: =IFERROR(IF(LEN(INDEX(Dashboard!$B$11:$G$41,Cal!$N15,Cal!R$2))=0,"",INDEX(Dashboard!$B$11:$G$41,Cal!$N15,Cal!R$2)),"") | S15: =IFERROR(IF(LEN(INDEX(Dashboard!$B$11:$G$41,Cal!$N15,Cal!S$2))=0,"",INDEX(Dashboard!$B$11:$G$41,Cal!$N15,Cal!S$2)),"") | T15: =IFERROR(IF(LEN(INDEX(Dashboard!$B$11:$G$41,Cal!$N15,Cal!T$2))=0,"",INDEX(Dashboard!$B$11:$G$41,Cal!$N15,Cal!T$2)),"") | U15: =IFERROR(IF(LEN(O15)>0,IF(COUNTBLANK(O15),0,1)-(COUNTA($P15:$T15)-COUNTBLANK($P15:$T15))<0,""),"") | V15: =IFERROR(IF(LEN(O15)>0,IF(COUNTBLANK(O15),0,1)-(COUNTA($P15:$T15)-COUNTBLANK($P15:$T15))>0,""),"") | W15: =IFERROR(IF(LEN(O15)=0,(COUNTA($P15:$T15)-COUNTBLANK($P15:$T15))>0,""),"") -> FALSE | X15: =IFERROR(LEN(INDEX($P$3:$T$3,1,MATCH("X",$P15:$T15,0)))=0,"") | Y15: =IFERROR(IF(COUNTIF(U15:X15,TRUE)=0,"","!"),"")
N16: 14 | O16: =IFERROR(IF(LEN(INDEX(Dashboard!$B$11:$G$41,Cal!$N16,Cal!O$2))=0,"",INDEX(Dashboard!$B$11:$G$41,Cal!$N16,Cal!O$2)),"") | P16: =IFERROR(IF(LEN(INDEX(Dashboard!$B$11:$G$41,Cal!$N16,Cal!P$2))=0,"",INDEX(Dashboard!$B$11:$G$41,Cal!$N16,Cal!P$2)),"") | Q16: =IFERROR(IF(LEN(INDEX(Dashboard!$B$11:$G$41,Cal!$N16,Cal!Q$2))=0,"",INDEX(Dashboard!$B$11:$G$41,Cal!$N16,Cal!Q$2)),"") | R16: =IFERROR(IF(LEN(INDEX(Dashboard!$B$11:$G$41,Cal!$N16,Cal!R$2))=0,"",INDEX(Dashboard!$B$11:$G$41,Cal!$N16,Cal!R$2)),"") | S16: =IFERROR(IF(LEN(INDEX(Dashboard!$B$11:$G$41,Cal!$N16,Cal!S$2))=0,"",INDEX(Dashboard!$B$11:$G$41,Cal!$N16,Cal!S$2)),"") | T16: =IFERROR(IF(LEN(INDEX(Dashboard!$B$11:$G$41,Cal!$N16,Cal!T$2))=0,"",INDEX(Dashboard!$B$11:$G$41,Cal!$N16,Cal!T$2)),"") | U16: =IFERROR(IF(LEN(O16)>0,IF(COUNTBLANK(O16),0,1)-(COUNTA($P16:$T16)-COUNTBLANK($P16:$T16))<0,""),"") | V16: =IFERROR(IF(LEN(O16)>0,IF(COUNTBLANK(O16),0,1)-(COUNTA($P16:$T16)-COUNTBLANK($P16:$T16))>0,""),"") | W16: =IFERROR(IF(LEN(O16)=0,(COUNTA($P16:$T16)-COUNTBLANK($P16:$T16))>0,""),"") -> FALSE | X16: =IFERROR(LEN(INDEX($P$3:$T$3,1,MATCH("X",$P16:$T16,0)))=0,"") | Y16: =IFERROR(IF(COUNTIF(U16:X16,TRUE)=0,"","!"),"")
N17: 15 | O17: =IFERROR(IF(LEN(INDEX(Dashboard!$B$11:$G$41,Cal!$N17,Cal!O$2))=0,"",INDEX(Dashboard!$B$11:$G$41,Cal!$N17,Cal!O$2)),"") | P17: =IFERROR(IF(LEN(INDEX(Dashboard!$B$11:$G$41,Cal!$N17,Cal!P$2))=0,"",INDEX(Dashboard!$B$11:$G$41,Cal!$N17,Cal!P$2)),"") | Q17: =IFERROR(IF(LEN(INDEX(Dashboard!$B$11:$G$41,Cal!$N17,Cal!Q$2))=0,"",INDEX(Dashboard!$B$11:$G$41,Cal!$N17,Cal!Q$2)),"") | R17: =IFERROR(IF(LEN(INDEX(Dashboard!$B$11:$G$41,Cal!$N17,Cal!R$2))=0,"",INDEX(Dashboard!$B$11:$G$41,Cal!$N17,Cal!R$2)),"") | S17: =IFERROR(IF(LEN(INDEX(Dashboard!$B$11:$G$41,Cal!$N17,Cal!S$2))=0,"",INDEX(Dashboard!$B$11:$G$41,Cal!$N17,Cal!S$2)),"") | T17: =IFERROR(IF(LEN(INDEX(Dashboard!$B$11:$G$41,Cal!$N17,Cal!T$2))=0,"",INDEX(Dashboard!$B$11:$G$41,Cal!$N17,Cal!T$2)),"") | U17: =IFERROR(IF(LEN(O17)>0,IF(COUNTBLANK(O17),0,1)-(COUNTA($P17:$T17)-COUNTBLANK($P17:$T17))<0,""),"") | V17: =IFERROR(IF(LEN(O17)>0,IF(COUNTBLANK(O17),0,1)-(COUNTA($P17:$T17)-COUNTBLANK($P17:$T17))>0,""),"") | W17: =IFERROR(IF(LEN(O17)=0,(COUNTA($P17:$T17)-COUNTBLANK($P17:$T17))>0,""),"") -> FALSE | X17: =IFERROR(LEN(INDEX($P$3:$T$3,1,MATCH("X",$P17:$T17,0)))=0,"") | Y17: =IFERROR(IF(COUNTIF(U17:X17,TRUE)=0,"","!"),"")
N18: 16 | O18: =IFERROR(IF(LEN(INDEX(Dashboard!$B$11:$G$41,Cal!$N18,Cal!O$2))=0,"",INDEX(Dashboard!$B$11:$G$41,Cal!$N18,Cal!O$2)),"") | P18: =IFERROR(IF(LEN(INDEX(Dashboard!$B$11:$G$41,Cal!$N18,Cal!P$2))=0,"",INDEX(Dashboard!$B$11:$G$41,Cal!$N18,Cal!P$2)),"") | Q18: =IFERROR(IF(LEN(INDEX(Dashboard!$B$11:$G$41,Cal!$N18,Cal!Q$2))=0,"",INDEX(Dashboard!$B$11:$G$41,Cal!$N18,Cal!Q$2)),"") | R18: =IFERROR(IF(LEN(INDEX(Dashboard!$B$11:$G$41,Cal!$N18,Cal!R$2))=0,"",INDEX(Dashboard!$B$11:$G$41,Cal!$N18,Cal!R$2)),"") | S18: =IFERROR(IF(LEN(INDEX(Dashboard!$B$11:$G$41,Cal!$N18,Cal!S$2))=0,"",INDEX(Dashboard!$B$11:$G$41,Cal!$N18,Cal!S$2)),"") | T18: =IFERROR(IF(LEN(INDEX(Dashboard!$B$11:$G$41,Cal!$N18,Cal!T$2))=0,"",INDEX(Dashboard!$B$11:$G$41,Cal!$N18,Cal!T$2)),"") | U18: =IFERROR(IF(LEN(O18)>0,IF(COUNTBLANK(O18),0,1)-(COUNTA($P18:$T18)-COUNTBLANK($P18:$T18))<0,""),"") | V18: =IFERROR(IF(LEN(O18)>0,IF(COUNTBLANK(O18),0,1)-(COUNTA($P18:$T18)-COUNTBLANK($P18:$T18))>0,""),"") | W18: =IFERROR(IF(LEN(O18)=0,(COUNTA($P18:$T18)-COUNTBLANK($P18:$T18))>0,""),"") -> FALSE | X18: =IFERROR(LEN(INDEX($P$3:$T$3,1,MATCH("X",$P18:$T18,0)))=0,"") | Y18: =IFERROR(IF(COUNTIF(U18:X18,TRUE)=0,"","!"),"")
N19: 17 | O19: =IFERROR(IF(LEN(INDEX(Dashboard!$B$11:$G$41,Cal!$N19,Cal!O$2))=0,"",INDEX(Dashboard!$B$11:$G$41,Cal!$N19,Cal!O$2)),"") | P19: =IFERROR(IF(LEN(INDEX(Dashboard!$B$11:$G$41,Cal!$N19,Cal!P$2))=0,"",INDEX(Dashboard!$B$11:$G$41,Cal!$N19,Cal!P$2)),"") | Q19: =IFERROR(IF(LEN(INDEX(Dashboard!$B$11:$G$41,Cal!$N19,Cal!Q$2))=0,"",INDEX(Dashboard!$B$11:$G$41,Cal!$N19,Cal!Q$2)),"") | R19: =IFERROR(IF(LEN(INDEX(Dashboard!$B$11:$G$41,Cal!$N19,Cal!R$2))=0,"",INDEX(Dashboard!$B$11:$G$41,Cal!$N19,Cal!R$2)),"") | S19: =IFERROR(IF(LEN(INDEX(Dashboard!$B$11:$G$41,Cal!$N19,Cal!S$2))=0,"",INDEX(Dashboard!$B$11:$G$41,Cal!$N19,Cal!S$2)),"") | T19: =IFERROR(IF(LEN(INDEX(Dashboard!$B$11:$G$41,Cal!$N19,Cal!T$2))=0,"",INDEX(Dashboard!$B$11:$G$41,Cal!$N19,Cal!T$2)),"") | U19: =IFERROR(IF(LEN(O19)>0,IF(COUNTBLANK(O19),0,1)-(COUNTA($P19:$T19)-COUNTBLANK($P19:$T19))<0,""),"") | V19: =IFERROR(IF(LEN(O19)>0,IF(COUNTBLANK(O19),0,1)-(COUNTA($P19:$T19)-COUNTBLANK($P19:$T19))>0,""),"") | W19: =IFERROR(IF(LEN(O19)=0,(COUNTA($P19:$T19)-COUNTBLANK($P19:$T19))>0,""),"") -> FALSE | X19: =IFERROR(LEN(INDEX($P$3:$T$3,1,MATCH("X",$P19:$T19,0)))=0,"") | Y19: =IFERROR(IF(COUNTIF(U19:X19,TRUE)=0,"","!"),"")
N20: 18 | O20: =IFERROR(IF(LEN(INDEX(Dashboard!$B$11:$G$41,Cal!$N20,Cal!O$2))=0,"",INDEX(Dashboard!$B$11:$G$41,Cal!$N20,Cal!O$2)),"") | P20: =IFERROR(IF(LEN(INDEX(Dashboard!$B$11:$G$41,Cal!$N20,Cal!P$2))=0,"",INDEX(Dashboard!$B$11:$G$41,Cal!$N20,Cal!P$2)),"") | Q20: =IFERROR(IF(LEN(INDEX(Dashboard!$B$11:$G$41,Cal!$N20,Cal!Q$2))=0,"",INDEX(Dashboard!$B$11:$G$41,Cal!$N20,Cal!Q$2)),"") | R20: =IFERROR(IF(LEN(INDEX(Dashboard!$B$11:$G$41,Cal!$N20,Cal!R$2))=0,"",INDEX(Dashboard!$B$11:$G$41,Cal!$N20,Cal!R$2)),"") | S20: =IFERROR(IF(LEN(INDEX(Dashboard!$B$11:$G$41,Cal!$N20,Cal!S$2))=0,"",INDEX(Dashboard!$B$11:$G$41,Cal!$N20,Cal!S$2)),"") | T20: =IFERROR(IF(LEN(INDEX(Dashboard!$B$11:$G$41,Cal!$N20,Cal!T$2))=0,"",INDEX(Dashboard!$B$11:$G$41,Cal!$N20,Cal!T$2)),"") | U20: =IFERROR(IF(LEN(O20)>0,IF(COUNTBLANK(O20),0,1)-(COUNTA($P20:$T20)-COUNTBLANK($P20:$T20))<0,""),"") | V20: =IFERROR(IF(LEN(O20)>0,IF(COUNTBLANK(O20),0,1)-(COUNTA($P20:$T20)-COUNTBLANK($P20:$T20))>0,""),"") | W20: =IFERROR(IF(LEN(O20)=0,(COUNTA($P20:$T20)-COUNTBLANK($P20:$T20))>0,""),"") -> FALSE | X20: =IFERROR(LEN(INDEX($P$3:$T$3,1,MATCH("X",$P20:$T20,0)))=0,"") | Y20: =IFERROR(IF(COUNTIF(U20:X20,TRUE)=0,"","!"),"")
N21: 19 | O21: =IFERROR(IF(LEN(INDEX(Dashboard!$B$11:$G$41,Cal!$N21,Cal!O$2))=0,"",INDEX(Dashboard!$B$11:$G$41,Cal!$N21,Cal!O$2)),"") | P21: =IFERROR(IF(LEN(INDEX(Dashboard!$B$11:$G$41,Cal!$N21,Cal!P$2))=0,"",INDEX(Dashboard!$B$11:$G$41,Cal!$N21,Cal!P$2)),"") | Q21: =IFERROR(IF(LEN(INDEX(Dashboard!$B$11:$G$41,Cal!$N21,Cal!Q$2))=0,"",INDEX(Dashboard!$B$11:$G$41,Cal!$N21,Cal!Q$2)),"") | R21: =IFERROR(IF(LEN(INDEX(Dashboard!$B$11:$G$41,Cal!$N21,Cal!R$2))=0,"",INDEX(Dashboard!$B$11:$G$41,Cal!$N21,Cal!R$2)),"") | S21: =IFERROR(IF(LEN(INDEX(Dashboard!$B$11:$G$41,Cal!$N21,Cal!S$2))=0,"",INDEX(Dashboard!$B$11:$G$41,Cal!$N21,Cal!S$2)),"") | T21: =IFERROR(IF(LEN(INDEX(Dashboard!$B$11:$G$41,Cal!$N21,Cal!T$2))=0,"",INDEX(Dashboard!$B$11:$G$41,Cal!$N21,Cal!T$2)),"") | U21: =IFERROR(IF(LEN(O21)>0,IF(COUNTBLANK(O21),0,1)-(COUNTA($P21:$T21)-COUNTBLANK($P21:$T21))<0,""),"") | V21: =IFERROR(IF(LEN(O21)>0,IF(COUNTBLANK(O21),0,1)-(COUNTA($P21:$T21)-COUNTBLANK($P21:$T21))>0,""),"") | W21: =IFERROR(IF(LEN(O21)=0,(COUNTA($P21:$T21)-COUNTBLANK($P21:$T21))>0,""),"") -> FALSE | X21: =IFERROR(LEN(INDEX($P$3:$T$3,1,MATCH("X",$P21:$T21,0)))=0,"") | Y21: =IFERROR(IF(COUNTIF(U21:X21,TRUE)=0,"","!"),"")
N22: 20 | O22: =IFERROR(IF(LEN(INDEX(Dashboard!$B$11:$G$41,Cal!$N22,Cal!O$2))=0,"",INDEX(Dashboard!$B$11:$G$41,Cal!$N22,Cal!O$2)),"") | P22: =IFERROR(IF(LEN(INDEX(Dashboard!$B$11:$G$41,Cal!$N22,Cal!P$2))=0,"",INDEX(Dashboard!$B$11:$G$41,Cal!$N22,Cal!P$2)),"") | Q22: =IFERROR(IF(LEN(INDEX(Dashboard!$B$11:$G$41,Cal!$N22,Cal!Q$2))=0,"",INDEX(Dashboard!$B$11:$G$41,Cal!$N22,Cal!Q$2)),"") | R22: =IFERROR(IF(LEN(INDEX(Dashboard!$B$11:$G$41,Cal!$N22,Cal!R$2))=0,"",INDEX(Dashboard!$B$11:$G$41,Cal!$N22,Cal!R$2)),"") | S22: =IFERROR(IF(LEN(INDEX(Dashboard!$B$11:$G$41,Cal!$N22,Cal!S$2))=0,"",INDEX(Dashboard!$B$11:$G$41,Cal!$N22,Cal!S$2)),"") | T22: =IFERROR(IF(LEN(INDEX(Dashboard!$B$11:$G$41,Cal!$N22,Cal!T$2))=0,"",INDEX(Dashboard!$B$11:$G$41,Cal!$N22,Cal!T$2)),"") | U22: =IFERROR(IF(LEN(O22)>0,IF(COUNTBLANK(O22),0,1)-(COUNTA($P22:$T22)-COUNTBLANK($P22:$T22))<0,""),"") | V22: =IFERROR(IF(LEN(O22)>0,IF(COUNTBLANK(O22),0,1)-(COUNTA($P22:$T22)-COUNTBLANK($P22:$T22))>0,""),"") | W22: =IFERROR(IF(LEN(O22)=0,(COUNTA($P22:$T22)-COUNTBLANK($P22:$T22))>0,""),"") -> FALSE | X22: =IFERROR(LEN(INDEX($P$3:$T$3,1,MATCH("X",$P22:$T22,0)))=0,"") | Y22: =IFERROR(IF(COUNTIF(U22:X22,TRUE)=0,"","!"),"")
... N53: 51 | O53: =IFERROR(IF(LEN(INDEX(Dashboard!$B$11:$G$41,Cal!$N53,Cal!O$2))=0,"",INDEX(Dashboard!$B$11:$G$41,Cal!$N53,Cal!O$2)),"") | P53: =IFERROR(IF(LEN(INDEX(Dashboard!$B$11:$G$41,Cal!$N53,Cal!P$2))=0,"",INDEX(Dashboard!$B$11:$G$41,Cal!$N53,Cal!P$2)),"") | Q53: =IFERROR(IF(LEN(INDEX(Dashboard!$B$11:$G$41,Cal!$N53,Cal!Q$2))=0,"",INDEX(Dashboard!$B$11:$G$41,Cal!$N53,Cal!Q$2)),"") | R53: =IFERROR(IF(LEN(INDEX(Dashboard!$B$11:$G$41,Cal!$N53,Cal!R$2))=0,"",INDEX(Dashboard!$B$11:$G$41,Cal!$N53,Cal!R$2)),"") | S53: =IFERROR(IF(LEN(INDEX(Dashboard!$B$11:$G$41,Cal!$N53,Cal!S$2))=0,"",INDEX(Dashboard!$B$11:$G$41,Cal!$N53,Cal!S$2)),"") | T53: =IFERROR(IF(LEN(INDEX(Dashboard!$B$11:$G$41,Cal!$N53,Cal!T$2))=0,"",INDEX(Dashboard!$B$11:$G$41,Cal!$N53,Cal!T$2)),"") | U53: =IFERROR(IF(LEN(O53)>0,IF(COUNTBLANK(O53),0,1)-(COUNTA($P53:$T53)-COUNTBLANK($P53:$T53))<0,""),"") | V53: =IFERROR(IF(LEN(O53)>0,IF(COUNTBLANK(O53),0,1)-(COUNTA($P53:$T53)-COUNTBLANK($P53:$T53))>0,""),"") | W53: =IFERROR(IF(LEN(O53)=0,(COUNTA($P53:$T53)-COUNTBLANK($P53:$T53))>0,""),"") -> FALSE | X53: =IFERROR(LEN(INDEX($P$3:$T$3,1,MATCH("X",$P53:$T53,0)))=0,"") | Y53: =IFERROR(IF(COUNTIF(U53:X53,TRUE)=0,"","!"),"")
O55: TOTAL | P55: =COUNTIF(P$4:P$53,"X")*$I$3 -> 2 | Q55: =COUNTIF(Q$4:Q$53,"X")*$I$4 -> 4 | R55: =COUNTIF(R$4:R$53,"X")*$I$5 -> 12 | S55: =COUNTIF(S$4:S$53,"X")*$I$6 -> 24 | T55: =COUNTIF(T$4:T$53,"X")*$I$7 -> 30 | U55: =IFERROR(SUM($P$55:$T$55),"") -> 72
