Workbook
Name BudgetCompleted: Calc!$AA$38
Name HoursCompleted: Calc!$AA$32
Name PrntCalendar: OFFSET(Calendar!$B$5,0,0,MAX(Calc!$AN$37,1),22)
Name PrntEmployees: OFFSET(Employees!$B$5,0,0,MAX(COUNTIF(Employees!$B$5:$B$1005,"?*"),1),5)
Name PrntRegistration: OFFSET(Registration!$B$5,0,0,MAX(COUNTIF(Registration!$B$5:$B$4005,"?*"),1),6)
Name PrntSchedule: OFFSET(Scheduling!$B$5,0,0,MAX(COUNTIF(Scheduling!$B$5:$B$205,"?*"),1),6)
Name PrntTraining: OFFSET(Trainings!$B$5,0,0,MAX(COUNTIF(Trainings!$B$5:$B$55,"?*"),1),4)
Name TypeNumbers: OFFSET(Calc!$AA$16,0,0,MAX(COUNT(Calc!$AA$16:$AA$22),1),1)
Name Types: OFFSET(Calc!$Z$16,0,0,MAX(COUNTIF(Calc!$Z$16:$Z$22,"><"),1),1)

Sheet Dashboard
C2: EMPLOYEE TRAINING TRACKER
C3: DASHBOARD
B14: SETTINGS
C16: Departments | E16: Job Titles | G16: Training Categories | I16: Ratings for Trainings | L16: Training Types
C17: Sales | E17: Director | G17: Marketing | I17: 1 | J17: Poor | L17: Online
C18: Marketing | E18: Vice-Director | G18: Quality | I18: 2 | J18: Fair | L18: In House
C19: Accounting | E19: Expert | G19: Soft Skills | I19: 3 | J19: Average | L19: External
C20: Finance | E20: Salesman | G20: Legal | I20: 4 | J20: Good
G21: Accounting | I21: 5
I22: 6
I23: 7
I24: 8
I25: 9 | L25: Currency
I26: 10 | L26: USD

Sheet Employees
B2: EMPLOYEE TRAINING TRACKER
B3: EMPLOYEE DATABASE
B5: Name | C5: Department | D5: Job Title | E5: E-mail (Optional) | F5: Phone (Optional)
B6: Adam Roberts | C6: Sales | D6: Director | E6: roberts@mail.com
B7: Juliana Peterson | C7: Sales | D7: Salesman | E7: peterson@mail.com | F7: 1325
B8: Kailani Ortiz | C8: Sales | D8: Salesman | E8: ortiz@mail.com
B9: Ophelia Kelly | C9: Sales | D9: Salesman | E9: kelly@mail.com
B10: Joseph Gross | C10: Marketing | D10: Director | E10: gross@mail.com
B11: Zayne Hoffman | C11: Marketing | D11: Vice-Director | E11: hoffman@mail.com
B12: Noel Holmes | C12: Marketing | D12: Expert | E12: holmes@mail.com | F12: 1211
B13: Brody Taylor | C13: Marketing | D13: Salesman | E13: taylor@mail.com
B14: August Davidson | C14: Accounting | D14: Director | E14: davidson@mail.com
B15: Isabella Patterson | C15: Accounting | D15: Vice-Director | E15: patterson@mail.com

Sheet Trainings
B2: EMPLOYEE TRAINING TRACKER
B3: TRAINING DATABASE
B5: Training | C5: Category | D5: Type | E5: Duration (Hours)
B6: AGILE Practices | C6: Quality | D6: Online | E6: 40
B7: SAP | C7: Accounting | D7: In House | E7: 50
B8: MS Office | C8: Accounting | D8: In House | E8: 10
B9: Communication | C9: Soft Skills | D9: External | E9: 5
B10: Protection of personal data | C10: Legal | D10: In House | E10: 30
B11: Accounting codes | C11: Legal | D11: External | E11: 30
B12: SEO | C12: Marketing | D12: Online | E12: 20

Sheet Scheduling
B2: EMPLOYEE TRAINING TRACKER
B3: TRAINING SCHEDULE
B5: Training | C5: Start Date | D5: End Date | E5: Expected Trainee # | F5: ="Total Cost ("&Dashboard!L26&")" -> Total Cost (USD) | G5: Status
B6: AGILE Practices | C6: 44576 | D6: 44602 | E6: 10 | F6: 10000 | G6: In-Progress
B7: AGILE Practices | C7: 44648 | D7: 44672 | E7: 20 | F7: 20000 | G7: Cancelled
B8: SAP | C8: 44612 | D8: 44630 | E8: 8 | F8: 35000 | G8: Completed
B9: SAP | C9: 44691 | D9: 44701 | E9: 8 | F9: 35000 | G9: Completed
B10: SAP | C10: 44807 | D10: 44824 | E10: 8 | F10: 35000 | G10: Completed
B11: MS Office | C11: 44566 | D11: 44581 | E11: 5 | F11: 10000 | G11: Completed
B12: MS Office | C12: 44809 | D12: 44814 | E12: 10 | F12: 20000 | G12: In-Progress
B13: MS Office | C13: 44870 | D13: 44875 | E13: 5 | F13: 10000 | G13: Not Started
B14: Communication | C14: 44663 | D14: 44666 | E14: 20 | F14: 10000 | G14: Completed
B15: Accounting codes | C15: 44720 | D15: 44763 | E15: 6 | F15: 20000 | G15: Completed
B16: Accounting codes | C16: 44835 | D16: 44843 | E16: 5 | F16: 20000 | G16: Not Started
B17: Protection of personal data | C17: 44747 | D17: 44752 | E17: 5 | F17: 7500 | G17: Not Started
B18: Protection of personal data | C18: 44656 | D18: 44661 | E18: 5 | F18: 7500 | G18: Completed

Sheet Registration
B2: EMPLOYEE TRAINING TRACKER
B3: EMPLOYEE REGISTRATION
B5: Training | C5: Year | D5: Trainee | E5: Department | F5: Job Title | G5: Participated? | H5: Feedback Rating | O5: Category | P5: Feedback Point | R5: Category Filter | S5: Training Filter | T5: Participate Filter | U5: Year Filter | V5: Total Filter | X5: Average Filter | Y5: Average Rating | AA5: Participated Filter | AB5: Participated Trainee
B6: AGILE Practices | C6: 2022 | D6: Adam Roberts | E6: =IFERROR(IF(LEN(D6)=0,"",INDEX(Employees!$C$6:$C$1005,MATCH(D6,Employees!$B$6:$B$1005,0))),"") -> Sales | F6: =IFERROR(IF(LEN(E6)=0,"",INDEX(Employees!$D$6:$D$1005,MATCH(D6,Employees!$B$6:$B$1005,0))),"") -> Director | G6: Yes | H6: Average | O6: =IFERROR(IF(LEN(B6)=0,"",INDEX(Trainings!$C$6:$C$55,MATCH(Registration!$B6,Trainings!$B$6:$B$55,0),1)),"") -> Quality | P6: =IFERROR(IF(LEN(H6)=0,"",INDEX(Dashboard!$I$17:$I$26,MATCH($H6,Dashboard!$J$17:$J$26,0))),"") -> 3 | R6: =IF(LEN(O6)=0,0,IF(OR(Summary!$D$5="All",Summary!$D$5=""),1,IF(Summary!$D$5=O6,1,0))) -> 1 | S6: =IF(LEN(B6)=0,0,IF(OR(Summary!$G$5="All",Summary!$G$5=""),1,IF(Summary!$G$5=B6,1,0))) -> 1 | T6: =IF(G6="Yes",1,0) -> 1 | U6: =IF(LEN(C6)=0,0,IF(C6=Summary!$K$5,1,0)) -> 1 | V6: =R6*S6*T6*U6 -> 1 | X6: =V6*(IF(LEN(P6)=0,0,1)) -> 1 | Y6: {=IFERROR(SUMPRODUCT($P$6:$P$205,$V$6:$V$205)/SUM($X$6:$X$205),"")} -> 2.6666667 | AA6: =IF(G6="Yes",1,0) -> 1 | AB6: {=SUMPRODUCT(AA6:AA4005,V6:V4005)} -> 10
B7: AGILE Practices | C7: 2022 | D7: Juliana Peterson | E7: =IFERROR(IF(LEN(D7)=0,"",INDEX(Employees!$C$6:$C$1005,MATCH(D7,Employees!$B$6:$B$1005,0))),"") -> Sales | F7: =IFERROR(IF(LEN(E7)=0,"",INDEX(Employees!$D$6:$D$1005,MATCH(D7,Employees!$B$6:$B$1005,0))),"") -> Salesman | G7: Yes | H7: - | O7: =IFERROR(IF(LEN(B7)=0,"",INDEX(Trainings!$C$6:$C$55,MATCH(Registration!$B7,Trainings!$B$6:$B$55,0),1)),"") -> Quality | P7: =IFERROR(IF(LEN(H7)=0,"",INDEX(Dashboard!$I$17:$I$26,MATCH($H7,Dashboard!$J$17:$J$26,0))),"") | R7: =IF(LEN(O7)=0,0,IF(OR(Summary!$D$5="All",Summary!$D$5=""),1,IF(Summary!$D$5=O7,1,0))) -> 1 | S7: =IF(LEN(B7)=0,0,IF(OR(Summary!$G$5="All",Summary!$G$5=""),1,IF(Summary!$G$5=B7,1,0))) -> 1 | T7: =IF(G7="Yes",1,0) -> 1 | U7: =IF(LEN(C7)=0,0,IF(C7=Summary!$K$5,1,0)) -> 1 | V7: =R7*S7*T7*U7 -> 1 | X7: =V7*(IF(LEN(P7)=0,0,1)) -> 0 | AA7: =IF(G7="Yes",1,0) -> 1
B8: AGILE Practices | C8: 2022 | D8: Kailani Ortiz | E8: =IFERROR(IF(LEN(D8)=0,"",INDEX(Employees!$C$6:$C$1005,MATCH(D8,Employees!$B$6:$B$1005,0))),"") -> Sales | F8: =IFERROR(IF(LEN(E8)=0,"",INDEX(Employees!$D$6:$D$1005,MATCH(D8,Employees!$B$6:$B$1005,0))),"") -> Salesman | G8: No | H8: - | O8: =IFERROR(IF(LEN(B8)=0,"",INDEX(Trainings!$C$6:$C$55,MATCH(Registration!$B8,Trainings!$B$6:$B$55,0),1)),"") -> Quality | P8: =IFERROR(IF(LEN(H8)=0,"",INDEX(Dashboard!$I$17:$I$26,MATCH($H8,Dashboard!$J$17:$J$26,0))),"") | R8: =IF(LEN(O8)=0,0,IF(OR(Summary!$D$5="All",Summary!$D$5=""),1,IF(Summary!$D$5=O8,1,0))) -> 1 | S8: =IF(LEN(B8)=0,0,IF(OR(Summary!$G$5="All",Summary!$G$5=""),1,IF(Summary!$G$5=B8,1,0))) -> 1 | T8: =IF(G8="Yes",1,0) -> 0 | U8: =IF(LEN(C8)=0,0,IF(C8=Summary!$K$5,1,0)) -> 1 | V8: =R8*S8*T8*U8 -> 0 | X8: =V8*(IF(LEN(P8)=0,0,1)) -> 0 | AA8: =IF(G8="Yes",1,0) -> 0
B9: AGILE Practices | C9: 2022 | D9: Joseph Gross | E9: =IFERROR(IF(LEN(D9)=0,"",INDEX(Employees!$C$6:$C$1005,MATCH(D9,Employees!$B$6:$B$1005,0))),"") -> Marketing | F9: =IFERROR(IF(LEN(E9)=0,"",INDEX(Employees!$D$6:$D$1005,MATCH(D9,Employees!$B$6:$B$1005,0))),"") -> Director | G9: Yes | H9: Fair | O9: =IFERROR(IF(LEN(B9)=0,"",INDEX(Trainings!$C$6:$C$55,MATCH(Registration!$B9,Trainings!$B$6:$B$55,0),1)),"") -> Quality | P9: =IFERROR(IF(LEN(H9)=0,"",INDEX(Dashboard!$I$17:$I$26,MATCH($H9,Dashboard!$J$17:$J$26,0))),"") -> 2 | R9: =IF(LEN(O9)=0,0,IF(OR(Summary!$D$5="All",Summary!$D$5=""),1,IF(Summary!$D$5=O9,1,0))) -> 1 | S9: =IF(LEN(B9)=0,0,IF(OR(Summary!$G$5="All",Summary!$G$5=""),1,IF(Summary!$G$5=B9,1,0))) -> 1 | T9: =IF(G9="Yes",1,0) -> 1 | U9: =IF(LEN(C9)=0,0,IF(C9=Summary!$K$5,1,0)) -> 1 | V9: =R9*S9*T9*U9 -> 1 | X9: =V9*(IF(LEN(P9)=0,0,1)) -> 1 | AA9: =IF(G9="Yes",1,0) -> 1
B10: SAP | C10: 2022 | D10: Zayne Hoffman | E10: =IFERROR(IF(LEN(D10)=0,"",INDEX(Employees!$C$6:$C$1005,MATCH(D10,Employees!$B$6:$B$1005,0))),"") -> Marketing | F10: =IFERROR(IF(LEN(E10)=0,"",INDEX(Employees!$D$6:$D$1005,MATCH(D10,Employees!$B$6:$B$1005,0))),"") -> Vice-Director | G10: Yes | H10: Good | O10: =IFERROR(IF(LEN(B10)=0,"",INDEX(Trainings!$C$6:$C$55,MATCH(Registration!$B10,Trainings!$B$6:$B$55,0),1)),"") -> Accounting | P10: =IFERROR(IF(LEN(H10)=0,"",INDEX(Dashboard!$I$17:$I$26,MATCH($H10,Dashboard!$J$17:$J$26,0))),"") -> 4 | R10: =IF(LEN(O10)=0,0,IF(OR(Summary!$D$5="All",Summary!$D$5=""),1,IF(Summary!$D$5=O10,1,0))) -> 1 | S10: =IF(LEN(B10)=0,0,IF(OR(Summary!$G$5="All",Summary!$G$5=""),1,IF(Summary!$G$5=B10,1,0))) -> 1 | T10: =IF(G10="Yes",1,0) -> 1 | U10: =IF(LEN(C10)=0,0,IF(C10=Summary!$K$5,1,0)) -> 1 | V10: =R10*S10*T10*U10 -> 1 | X10: =V10*(IF(LEN(P10)=0,0,1)) -> 1 | AA10: =IF(G10="Yes",1,0) -> 1
B11: SAP | C11: 2022 | D11: Noel Holmes | E11: =IFERROR(IF(LEN(D11)=0,"",INDEX(Employees!$C$6:$C$1005,MATCH(D11,Employees!$B$6:$B$1005,0))),"") -> Marketing | F11: =IFERROR(IF(LEN(E11)=0,"",INDEX(Employees!$D$6:$D$1005,MATCH(D11,Employees!$B$6:$B$1005,0))),"") -> Expert | G11: Yes | H11: Poor | O11: =IFERROR(IF(LEN(B11)=0,"",INDEX(Trainings!$C$6:$C$55,MATCH(Registration!$B11,Trainings!$B$6:$B$55,0),1)),"") -> Accounting | P11: =IFERROR(IF(LEN(H11)=0,"",INDEX(Dashboard!$I$17:$I$26,MATCH($H11,Dashboard!$J$17:$J$26,0))),"") -> 1 | R11: =IF(LEN(O11)=0,0,IF(OR(Summary!$D$5="All",Summary!$D$5=""),1,IF(Summary!$D$5=O11,1,0))) -> 1 | S11: =IF(LEN(B11)=0,0,IF(OR(Summary!$G$5="All",Summary!$G$5=""),1,IF(Summary!$G$5=B11,1,0))) -> 1 | T11: =IF(G11="Yes",1,0) -> 1 | U11: =IF(LEN(C11)=0,0,IF(C11=Summary!$K$5,1,0)) -> 1 | V11: =R11*S11*T11*U11 -> 1 | X11: =V11*(IF(LEN(P11)=0,0,1)) -> 1 | AA11: =IF(G11="Yes",1,0) -> 1
B12: SAP | C12: 2022 | D12: Brody Taylor | E12: =IFERROR(IF(LEN(D12)=0,"",INDEX(Employees!$C$6:$C$1005,MATCH(D12,Employees!$B$6:$B$1005,0))),"") -> Marketing | F12: =IFERROR(IF(LEN(E12)=0,"",INDEX(Employees!$D$6:$D$1005,MATCH(D12,Employees!$B$6:$B$1005,0))),"") -> Salesman | G12: Yes | H12: Average | O12: =IFERROR(IF(LEN(B12)=0,"",INDEX(Trainings!$C$6:$C$55,MATCH(Registration!$B12,Trainings!$B$6:$B$55,0),1)),"") -> Accounting | P12: =IFERROR(IF(LEN(H12)=0,"",INDEX(Dashboard!$I$17:$I$26,MATCH($H12,Dashboard!$J$17:$J$26,0))),"") -> 3 | R12: =IF(LEN(O12)=0,0,IF(OR(Summary!$D$5="All",Summary!$D$5=""),1,IF(Summary!$D$5=O12,1,0))) -> 1 | S12: =IF(LEN(B12)=0,0,IF(OR(Summary!$G$5="All",Summary!$G$5=""),1,IF(Summary!$G$5=B12,1,0))) -> 1 | T12: =IF(G12="Yes",1,0) -> 1 | U12: =IF(LEN(C12)=0,0,IF(C12=Summary!$K$5,1,0)) -> 1 | V12: =R12*S12*T12*U12 -> 1 | X12: =V12*(IF(LEN(P12)=0,0,1)) -> 1 | AA12: =IF(G12="Yes",1,0) -> 1
B13: MS Office | C13: 2022 | D13: August Davidson | E13: =IFERROR(IF(LEN(D13)=0,"",INDEX(Employees!$C$6:$C$1005,MATCH(D13,Employees!$B$6:$B$1005,0))),"") -> Accounting | F13: =IFERROR(IF(LEN(E13)=0,"",INDEX(Employees!$D$6:$D$1005,MATCH(D13,Employees!$B$6:$B$1005,0))),"") -> Director | G13: Yes | H13: Average | O13: =IFERROR(IF(LEN(B13)=0,"",INDEX(Trainings!$C$6:$C$55,MATCH(Registration!$B13,Trainings!$B$6:$B$55,0),1)),"") -> Accounting | P13: =IFERROR(IF(LEN(H13)=0,"",INDEX(Dashboard!$I$17:$I$26,MATCH($H13,Dashboard!$J$17:$J$26,0))),"") -> 3 | R13: =IF(LEN(O13)=0,0,IF(OR(Summary!$D$5="All",Summary!$D$5=""),1,IF(Summary!$D$5=O13,1,0))) -> 1 | S13: =IF(LEN(B13)=0,0,IF(OR(Summary!$G$5="All",Summary!$G$5=""),1,IF(Summary!$G$5=B13,1,0))) -> 1 | T13: =IF(G13="Yes",1,0) -> 1 | U13: =IF(LEN(C13)=0,0,IF(C13=Summary!$K$5,1,0)) -> 1 | V13: =R13*S13*T13*U13 -> 1 | X13: =V13*(IF(LEN(P13)=0,0,1)) -> 1 | AA13: =IF(G13="Yes",1,0) -> 1
B14: MS Office | C14: 2022 | D14: Isabella Patterson | E14: =IFERROR(IF(LEN(D14)=0,"",INDEX(Employees!$C$6:$C$1005,MATCH(D14,Employees!$B$6:$B$1005,0))),"") -> Accounting | F14: =IFERROR(IF(LEN(E14)=0,"",INDEX(Employees!$D$6:$D$1005,MATCH(D14,Employees!$B$6:$B$1005,0))),"") -> Vice-Director | G14: No | H14: - | O14: =IFERROR(IF(LEN(B14)=0,"",INDEX(Trainings!$C$6:$C$55,MATCH(Registration!$B14,Trainings!$B$6:$B$55,0),1)),"") -> Accounting | P14: =IFERROR(IF(LEN(H14)=0,"",INDEX(Dashboard!$I$17:$I$26,MATCH($H14,Dashboard!$J$17:$J$26,0))),"") | R14: =IF(LEN(O14)=0,0,IF(OR(Summary!$D$5="All",Summary!$D$5=""),1,IF(Summary!$D$5=O14,1,0))) -> 1 | S14: =IF(LEN(B14)=0,0,IF(OR(Summary!$G$5="All",Summary!$G$5=""),1,IF(Summary!$G$5=B14,1,0))) -> 1 | T14: =IF(G14="Yes",1,0) -> 0 | U14: =IF(LEN(C14)=0,0,IF(C14=Summary!$K$5,1,0)) -> 1 | V14: =R14*S14*T14*U14 -> 0 | X14: =V14*(IF(LEN(P14)=0,0,1)) -> 0 | AA14: =IF(G14="Yes",1,0) -> 0
B15: MS Office | C15: 2022 | D15: Kailani Ortiz | E15: =IFERROR(IF(LEN(D15)=0,"",INDEX(Employees!$C$6:$C$1005,MATCH(D15,Employees!$B$6:$B$1005,0))),"") -> Sales | F15: =IFERROR(IF(LEN(E15)=0,"",INDEX(Employees!$D$6:$D$1005,MATCH(D15,Employees!$B$6:$B$1005,0))),"") -> Salesman | G15: Yes | H15: Average | O15: =IFERROR(IF(LEN(B15)=0,"",INDEX(Trainings!$C$6:$C$55,MATCH(Registration!$B15,Trainings!$B$6:$B$55,0),1)),"") -> Accounting | P15: =IFERROR(IF(LEN(H15)=0,"",INDEX(Dashboard!$I$17:$I$26,MATCH($H15,Dashboard!$J$17:$J$26,0))),"") -> 3 | R15: =IF(LEN(O15)=0,0,IF(OR(Summary!$D$5="All",Summary!$D$5=""),1,IF(Summary!$D$5=O15,1,0))) -> 1 | S15: =IF(LEN(B15)=0,0,IF(OR(Summary!$G$5="All",Summary!$G$5=""),1,IF(Summary!$G$5=B15,1,0))) -> 1 | T15: =IF(G15="Yes",1,0) -> 1 | U15: =IF(LEN(C15)=0,0,IF(C15=Summary!$K$5,1,0)) -> 1 | V15: =R15*S15*T15*U15 -> 1 | X15: =V15*(IF(LEN(P15)=0,0,1)) -> 1 | AA15: =IF(G15="Yes",1,0) -> 1
B16: Communication | C16: 2022 | D16: Joseph Gross | E16: =IFERROR(IF(LEN(D16)=0,"",INDEX(Employees!$C$6:$C$1005,MATCH(D16,Employees!$B$6:$B$1005,0))),"") -> Marketing | F16: =IFERROR(IF(LEN(E16)=0,"",INDEX(Employees!$D$6:$D$1005,MATCH(D16,Employees!$B$6:$B$1005,0))),"") -> Director | G16: Yes | H16: Fair | O16: =IFERROR(IF(LEN(B16)=0,"",INDEX(Trainings!$C$6:$C$55,MATCH(Registration!$B16,Trainings!$B$6:$B$55,0),1)),"") -> Soft Skills | P16: =IFERROR(IF(LEN(H16)=0,"",INDEX(Dashboard!$I$17:$I$26,MATCH($H16,Dashboard!$J$17:$J$26,0))),"") -> 2 | R16: =IF(LEN(O16)=0,0,IF(OR(Summary!$D$5="All",Summary!$D$5=""),1,IF(Summary!$D$5=O16,1,0))) -> 1 | S16: =IF(LEN(B16)=0,0,IF(OR(Summary!$G$5="All",Summary!$G$5=""),1,IF(Summary!$G$5=B16,1,0))) -> 1 | T16: =IF(G16="Yes",1,0) -> 1 | U16: =IF(LEN(C16)=0,0,IF(C16=Summary!$K$5,1,0)) -> 1 | V16: =R16*S16*T16*U16 -> 1 | X16: =V16*(IF(LEN(P16)=0,0,1)) -> 1 | AA16: =IF(G16="Yes",1,0) -> 1
B17: Communication | C17: 2022 | D17: Kailani Ortiz | E17: =IFERROR(IF(LEN(D17)=0,"",INDEX(Employees!$C$6:$C$1005,MATCH(D17,Employees!$B$6:$B$1005,0))),"") -> Sales | F17: =IFERROR(IF(LEN(E17)=0,"",INDEX(Employees!$D$6:$D$1005,MATCH(D17,Employees!$B$6:$B$1005,0))),"") -> Salesman | G17: Yes | H17: Average | O17: =IFERROR(IF(LEN(B17)=0,"",INDEX(Trainings!$C$6:$C$55,MATCH(Registration!$B17,Trainings!$B$6:$B$55,0),1)),"") -> Soft Skills | P17: =IFERROR(IF(LEN(H17)=0,"",INDEX(Dashboard!$I$17:$I$26,MATCH($H17,Dashboard!$J$17:$J$26,0))),"") -> 3 | R17: =IF(LEN(O17)=0,0,IF(OR(Summary!$D$5="All",Summary!$D$5=""),1,IF(Summary!$D$5=O17,1,0))) -> 1 | S17: =IF(LEN(B17)=0,0,IF(OR(Summary!$G$5="All",Summary!$G$5=""),1,IF(Summary!$G$5=B17,1,0))) -> 1 | T17: =IF(G17="Yes",1,0) -> 1 | U17: =IF(LEN(C17)=0,0,IF(C17=Summary!$K$5,1,0)) -> 1 | V17: =R17*S17*T17*U17 -> 1 | X17: =V17*(IF(LEN(P17)=0,0,1)) -> 1 | AA17: =IF(G17="Yes",1,0) -> 1
E18: =IFERROR(IF(LEN(D18)=0,"",INDEX(Employees!$C$6:$C$1005,MATCH(D18,Employees!$B$6:$B$1005,0))),"") | F18: =IFERROR(IF(LEN(E18)=0,"",INDEX(Employees!$D$6:$D$1005,MATCH(D18,Employees!$B$6:$B$1005,0))),"") | O18: =IFERROR(IF(LEN(B18)=0,"",INDEX(Trainings!$C$6:$C$55,MATCH(Registration!$B18,Trainings!$B$6:$B$55,0),1)),"") | P18: =IFERROR(IF(LEN(H18)=0,"",INDEX(Dashboard!$I$17:$I$26,MATCH($H18,Dashboard!$J$17:$J$26,0))),"") | R18: =IF(LEN(O18)=0,0,IF(OR(Summary!$D$5="All",Summary!$D$5=""),1,IF(Summary!$D$5=O18,1,0))) -> 0 | S18: =IF(LEN(B18)=0,0,IF(OR(Summary!$G$5="All",Summary!$G$5=""),1,IF(Summary!$G$5=B18,1,0))) -> 0 | T18: =IF(G18="Yes",1,0) -> 0 | U18: =IF(LEN(C18)=0,0,IF(C18=Summary!$K$5,1,0)) -> 0 | V18: =R18*S18*T18*U18 -> 0 | X18: =V18*(IF(LEN(P18)=0,0,1)) -> 0 | AA18: =IF(G18="Yes",1,0) -> 0
E19: =IFERROR(IF(LEN(D19)=0,"",INDEX(Employees!$C$6:$C$1005,MATCH(D19,Employees!$B$6:$B$1005,0))),"") | F19: =IFERROR(IF(LEN(E19)=0,"",INDEX(Employees!$D$6:$D$1005,MATCH(D19,Employees!$B$6:$B$1005,0))),"") | O19: =IFERROR(IF(LEN(B19)=0,"",INDEX(Trainings!$C$6:$C$55,MATCH(Registration!$B19,Trainings!$B$6:$B$55,0),1)),"") | P19: =IFERROR(IF(LEN(H19)=0,"",INDEX(Dashboard!$I$17:$I$26,MATCH($H19,Dashboard!$J$17:$J$26,0))),"") | R19: =IF(LEN(O19)=0,0,IF(OR(Summary!$D$5="All",Summary!$D$5=""),1,IF(Summary!$D$5=O19,1,0))) -> 0 | S19: =IF(LEN(B19)=0,0,IF(OR(Summary!$G$5="All",Summary!$G$5=""),1,IF(Summary!$G$5=B19,1,0))) -> 0 | T19: =IF(G19="Yes",1,0) -> 0 | U19: =IF(LEN(C19)=0,0,IF(C19=Summary!$K$5,1,0)) -> 0 | V19: =R19*S19*T19*U19 -> 0 | X19: =V19*(IF(LEN(P19)=0,0,1)) -> 0 | AA19: =IF(G19="Yes",1,0) -> 0
E20: =IFERROR(IF(LEN(D20)=0,"",INDEX(Employees!$C$6:$C$1005,MATCH(D20,Employees!$B$6:$B$1005,0))),"") | F20: =IFERROR(IF(LEN(E20)=0,"",INDEX(Employees!$D$6:$D$1005,MATCH(D20,Employees!$B$6:$B$1005,0))),"") | O20: =IFERROR(IF(LEN(B20)=0,"",INDEX(Trainings!$C$6:$C$55,MATCH(Registration!$B20,Trainings!$B$6:$B$55,0),1)),"") | P20: =IFERROR(IF(LEN(H20)=0,"",INDEX(Dashboard!$I$17:$I$26,MATCH($H20,Dashboard!$J$17:$J$26,0))),"") | R20: =IF(LEN(O20)=0,0,IF(OR(Summary!$D$5="All",Summary!$D$5=""),1,IF(Summary!$D$5=O20,1,0))) -> 0 | S20: =IF(LEN(B20)=0,0,IF(OR(Summary!$G$5="All",Summary!$G$5=""),1,IF(Summary!$G$5=B20,1,0))) -> 0 | T20: =IF(G20="Yes",1,0) -> 0 | U20: =IF(LEN(C20)=0,0,IF(C20=Summary!$K$5,1,0)) -> 0 | V20: =R20*S20*T20*U20 -> 0 | X20: =V20*(IF(LEN(P20)=0,0,1)) -> 0 | AA20: =IF(G20="Yes",1,0) -> 0
O21: =IFERROR(IF(LEN(B21)=0,"",INDEX(Trainings!$C$6:$C$55,MATCH(Registration!$B21,Trainings!$B$6:$B$55,0),1)),"") | P21: =IFERROR(IF(LEN(H21)=0,"",INDEX(Dashboard!$I$17:$I$26,MATCH($H21,Dashboard!$J$17:$J$26,0))),"") | R21: =IF(LEN(O21)=0,0,IF(OR(Summary!$D$5="All",Summary!$D$5=""),1,IF(Summary!$D$5=O21,1,0))) -> 0 | S21: =IF(LEN(B21)=0,0,IF(OR(Summary!$G$5="All",Summary!$G$5=""),1,IF(Summary!$G$5=B21,1,0))) -> 0 | T21: =IF(G21="Yes",1,0) -> 0 | U21: =IF(LEN(C21)=0,0,IF(C21=Summary!$K$5,1,0)) -> 0 | V21: =R21*S21*T21*U21 -> 0 | X21: =V21*(IF(LEN(P21)=0,0,1)) -> 0 | AA21: =IF(G21="Yes",1,0) -> 0
O22: =IFERROR(IF(LEN(B22)=0,"",INDEX(Trainings!$C$6:$C$55,MATCH(Registration!$B22,Trainings!$B$6:$B$55,0),1)),"") | P22: =IFERROR(IF(LEN(H22)=0,"",INDEX(Dashboard!$I$17:$I$26,MATCH($H22,Dashboard!$J$17:$J$26,0))),"") | R22: =IF(LEN(O22)=0,0,IF(OR(Summary!$D$5="All",Summary!$D$5=""),1,IF(Summary!$D$5=O22,1,0))) -> 0 | S22: =IF(LEN(B22)=0,0,IF(OR(Summary!$G$5="All",Summary!$G$5=""),1,IF(Summary!$G$5=B22,1,0))) -> 0 | T22: =IF(G22="Yes",1,0) -> 0 | U22: =IF(LEN(C22)=0,0,IF(C22=Summary!$K$5,1,0)) -> 0 | V22: =R22*S22*T22*U22 -> 0 | X22: =V22*(IF(LEN(P22)=0,0,1)) -> 0 | AA22: =IF(G22="Yes",1,0) -> 0
O23: =IFERROR(IF(LEN(B23)=0,"",INDEX(Trainings!$C$6:$C$55,MATCH(Registration!$B23,Trainings!$B$6:$B$55,0),1)),"") | P23: =IFERROR(IF(LEN(H23)=0,"",INDEX(Dashboard!$I$17:$I$26,MATCH($H23,Dashboard!$J$17:$J$26,0))),"") | R23: =IF(LEN(O23)=0,0,IF(OR(Summary!$D$5="All",Summary!$D$5=""),1,IF(Summary!$D$5=O23,1,0))) -> 0 | S23: =IF(LEN(B23)=0,0,IF(OR(Summary!$G$5="All",Summary!$G$5=""),1,IF(Summary!$G$5=B23,1,0))) -> 0 | T23: =IF(G23="Yes",1,0) -> 0 | U23: =IF(LEN(C23)=0,0,IF(C23=Summary!$K$5,1,0)) -> 0 | V23: =R23*S23*T23*U23 -> 0 | X23: =V23*(IF(LEN(P23)=0,0,1)) -> 0 | AA23: =IF(G23="Yes",1,0) -> 0
O24: =IFERROR(IF(LEN(B24)=0,"",INDEX(Trainings!$C$6:$C$55,MATCH(Registration!$B24,Trainings!$B$6:$B$55,0),1)),"") | P24: =IFERROR(IF(LEN(H24)=0,"",INDEX(Dashboard!$I$17:$I$26,MATCH($H24,Dashboard!$J$17:$J$26,0))),"") | R24: =IF(LEN(O24)=0,0,IF(OR(Summary!$D$5="All",Summary!$D$5=""),1,IF(Summary!$D$5=O24,1,0))) -> 0 | S24: =IF(LEN(B24)=0,0,IF(OR(Summary!$G$5="All",Summary!$G$5=""),1,IF(Summary!$G$5=B24,1,0))) -> 0 | T24: =IF(G24="Yes",1,0) -> 0 | U24: =IF(LEN(C24)=0,0,IF(C24=Summary!$K$5,1,0)) -> 0 | V24: =R24*S24*T24*U24 -> 0 | X24: =V24*(IF(LEN(P24)=0,0,1)) -> 0 | AA24: =IF(G24="Yes",1,0) -> 0
O25: =IFERROR(IF(LEN(B25)=0,"",INDEX(Trainings!$C$6:$C$55,MATCH(Registration!$B25,Trainings!$B$6:$B$55,0),1)),"") | P25: =IFERROR(IF(LEN(H25)=0,"",INDEX(Dashboard!$I$17:$I$26,MATCH($H25,Dashboard!$J$17:$J$26,0))),"") | R25: =IF(LEN(O25)=0,0,IF(OR(Summary!$D$5="All",Summary!$D$5=""),1,IF(Summary!$D$5=O25,1,0))) -> 0 | S25: =IF(LEN(B25)=0,0,IF(OR(Summary!$G$5="All",Summary!$G$5=""),1,IF(Summary!$G$5=B25,1,0))) -> 0 | T25: =IF(G25="Yes",1,0) -> 0 | U25: =IF(LEN(C25)=0,0,IF(C25=Summary!$K$5,1,0)) -> 0 | V25: =R25*S25*T25*U25 -> 0 | X25: =V25*(IF(LEN(P25)=0,0,1)) -> 0 | AA25: =IF(G25="Yes",1,0) -> 0
O26: =IFERROR(IF(LEN(B26)=0,"",INDEX(Trainings!$C$6:$C$55,MATCH(Registration!$B26,Trainings!$B$6:$B$55,0),1)),"") | P26: =IFERROR(IF(LEN(H26)=0,"",INDEX(Dashboard!$I$17:$I$26,MATCH($H26,Dashboard!$J$17:$J$26,0))),"") | R26: =IF(LEN(O26)=0,0,IF(OR(Summary!$D$5="All",Summary!$D$5=""),1,IF(Summary!$D$5=O26,1,0))) -> 0 | S26: =IF(LEN(B26)=0,0,IF(OR(Summary!$G$5="All",Summary!$G$5=""),1,IF(Summary!$G$5=B26,1,0))) -> 0 | T26: =IF(G26="Yes",1,0) -> 0 | U26: =IF(LEN(C26)=0,0,IF(C26=Summary!$K$5,1,0)) -> 0 | V26: =R26*S26*T26*U26 -> 0 | X26: =V26*(IF(LEN(P26)=0,0,1)) -> 0 | AA26: =IF(G26="Yes",1,0) -> 0
O27: =IFERROR(IF(LEN(B27)=0,"",INDEX(Trainings!$C$6:$C$55,MATCH(Registration!$B27,Trainings!$B$6:$B$55,0),1)),"") | P27: =IFERROR(IF(LEN(H27)=0,"",INDEX(Dashboard!$I$17:$I$26,MATCH($H27,Dashboard!$J$17:$J$26,0))),"") | R27: =IF(LEN(O27)=0,0,IF(OR(Summary!$D$5="All",Summary!$D$5=""),1,IF(Summary!$D$5=O27,1,0))) -> 0 | S27: =IF(LEN(B27)=0,0,IF(OR(Summary!$G$5="All",Summary!$G$5=""),1,IF(Summary!$G$5=B27,1,0))) -> 0 | T27: =IF(G27="Yes",1,0) -> 0 | U27: =IF(LEN(C27)=0,0,IF(C27=Summary!$K$5,1,0)) -> 0 | V27: =R27*S27*T27*U27 -> 0 | X27: =V27*(IF(LEN(P27)=0,0,1)) -> 0 | AA27: =IF(G27="Yes",1,0) -> 0
O28: =IFERROR(IF(LEN(B28)=0,"",INDEX(Trainings!$C$6:$C$55,MATCH(Registration!$B28,Trainings!$B$6:$B$55,0),1)),"") | P28: =IFERROR(IF(LEN(H28)=0,"",INDEX(Dashboard!$I$17:$I$26,MATCH($H28,Dashboard!$J$17:$J$26,0))),"") | R28: =IF(LEN(O28)=0,0,IF(OR(Summary!$D$5="All",Summary!$D$5=""),1,IF(Summary!$D$5=O28,1,0))) -> 0 | S28: =IF(LEN(B28)=0,0,IF(OR(Summary!$G$5="All",Summary!$G$5=""),1,IF(Summary!$G$5=B28,1,0))) -> 0 | T28: =IF(G28="Yes",1,0) -> 0 | U28: =IF(LEN(C28)=0,0,IF(C28=Summary!$K$5,1,0)) -> 0 | V28: =R28*S28*T28*U28 -> 0 | X28: =V28*(IF(LEN(P28)=0,0,1)) -> 0 | AA28: =IF(G28="Yes",1,0) -> 0
O29: =IFERROR(IF(LEN(B29)=0,"",INDEX(Trainings!$C$6:$C$55,MATCH(Registration!$B29,Trainings!$B$6:$B$55,0),1)),"") | P29: =IFERROR(IF(LEN(H29)=0,"",INDEX(Dashboard!$I$17:$I$26,MATCH($H29,Dashboard!$J$17:$J$26,0))),"") | R29: =IF(LEN(O29)=0,0,IF(OR(Summary!$D$5="All",Summary!$D$5=""),1,IF(Summary!$D$5=O29,1,0))) -> 0 | S29: =IF(LEN(B29)=0,0,IF(OR(Summary!$G$5="All",Summary!$G$5=""),1,IF(Summary!$G$5=B29,1,0))) -> 0 | T29: =IF(G29="Yes",1,0) -> 0 | U29: =IF(LEN(C29)=0,0,IF(C29=Summary!$K$5,1,0)) -> 0 | V29: =R29*S29*T29*U29 -> 0 | X29: =V29*(IF(LEN(P29)=0,0,1)) -> 0 | AA29: =IF(G29="Yes",1,0) -> 0
O30: =IFERROR(IF(LEN(B30)=0,"",INDEX(Trainings!$C$6:$C$55,MATCH(Registration!$B30,Trainings!$B$6:$B$55,0),1)),"") | P30: =IFERROR(IF(LEN(H30)=0,"",INDEX(Dashboard!$I$17:$I$26,MATCH($H30,Dashboard!$J$17:$J$26,0))),"") | R30: =IF(LEN(O30)=0,0,IF(OR(Summary!$D$5="All",Summary!$D$5=""),1,IF(Summary!$D$5=O30,1,0))) -> 0 | S30: =IF(LEN(B30)=0,0,IF(OR(Summary!$G$5="All",Summary!$G$5=""),1,IF(Summary!$G$5=B30,1,0))) -> 0 | T30: =IF(G30="Yes",1,0) -> 0 | U30: =IF(LEN(C30)=0,0,IF(C30=Summary!$K$5,1,0)) -> 0 | V30: =R30*S30*T30*U30 -> 0 | X30: =V30*(IF(LEN(P30)=0,0,1)) -> 0 | AA30: =IF(G30="Yes",1,0) -> 0
O31: =IFERROR(IF(LEN(B31)=0,"",INDEX(Trainings!$C$6:$C$55,MATCH(Registration!$B31,Trainings!$B$6:$B$55,0),1)),"") | P31: =IFERROR(IF(LEN(H31)=0,"",INDEX(Dashboard!$I$17:$I$26,MATCH($H31,Dashboard!$J$17:$J$26,0))),"") | R31: =IF(LEN(O31)=0,0,IF(OR(Summary!$D$5="All",Summary!$D$5=""),1,IF(Summary!$D$5=O31,1,0))) -> 0 | S31: =IF(LEN(B31)=0,0,IF(OR(Summary!$G$5="All",Summary!$G$5=""),1,IF(Summary!$G$5=B31,1,0))) -> 0 | T31: =IF(G31="Yes",1,0) -> 0 | U31: =IF(LEN(C31)=0,0,IF(C31=Summary!$K$5,1,0)) -> 0 | V31: =R31*S31*T31*U31 -> 0 | X31: =V31*(IF(LEN(P31)=0,0,1)) -> 0 | AA31: =IF(G31="Yes",1,0) -> 0
O32: =IFERROR(IF(LEN(B32)=0,"",INDEX(Trainings!$C$6:$C$55,MATCH(Registration!$B32,Trainings!$B$6:$B$55,0),1)),"") | P32: =IFERROR(IF(LEN(H32)=0,"",INDEX(Dashboard!$I$17:$I$26,MATCH($H32,Dashboard!$J$17:$J$26,0))),"") | R32: =IF(LEN(O32)=0,0,IF(OR(Summary!$D$5="All",Summary!$D$5=""),1,IF(Summary!$D$5=O32,1,0))) -> 0 | S32: =IF(LEN(B32)=0,0,IF(OR(Summary!$G$5="All",Summary!$G$5=""),1,IF(Summary!$G$5=B32,1,0))) -> 0 | T32: =IF(G32="Yes",1,0) -> 0 | U32: =IF(LEN(C32)=0,0,IF(C32=Summary!$K$5,1,0)) -> 0 | V32: =R32*S32*T32*U32 -> 0 | X32: =V32*(IF(LEN(P32)=0,0,1)) -> 0 | AA32: =IF(G32="Yes",1,0) -> 0
... O4005: =IFERROR(IF(LEN(B4005)=0,"",INDEX(Trainings!$C$6:$C$55,MATCH(Registration!$B4005,Trainings!$B$6:$B$55,0),1)),"") | P4005: =IFERROR(IF(LEN(H4005)=0,"",INDEX(Dashboard!$I$17:$I$26,MATCH($H4005,Dashboard!$J$17:$J$26,0))),"") | R4005: =IF(LEN(O4005)=0,0,IF(OR(Summary!$D$5="All",Summary!$D$5=""),1,IF(Summary!$D$5=O4005,1,0))) -> 0 | S4005: =IF(LEN(B4005)=0,0,IF(OR(Summary!$G$5="All",Summary!$G$5=""),1,IF(Summary!$G$5=B4005,1,0))) -> 0 | T4005: =IF(G4005="Yes",1,0) -> 0 | U4005: =IF(LEN(C4005)=0,0,IF(C4005=Summary!$K$5,1,0)) -> 0 | V4005: =R4005*S4005*T4005*U4005 -> 0 | X4005: =V4005*(IF(LEN(P4005)=0,0,1)) -> 0 | AA4005: =IF(G4005="Yes",1,0) -> 0

Sheet Summary
C2: EMPLOYEE TRAINING TRACKER
C3: SUMMARY
C5: Category | D5: All | F5: Training | G5: All | I5: Year | K5: 2022
C9: Training Number
C11: =Calc!AA7 -> 13
C14: Average Rating
C16: =Registration!Y6 -> 2.6666667
C19: Hours | J19: Top 3 Departments Participated
J20: =IF(LEN(K20)=0,"",ROW(H20)-ROW($H$19)) -> 1 | K20: =IFERROR(Calc!AD40,"") -> Marketing | L20: =IFERROR(IF(LEN(K20)=0,"",Calc!AE40),"") -> 5
C21: =Calc!AA29 -> 385 | J21: =IF(LEN(K21)=0,"",ROW(H21)-ROW($H$19)) -> 2 | K21: =IFERROR(Calc!AD41,"") -> Sales | L21: =IFERROR(IF(LEN(K21)=0,"",Calc!AE41),"") -> 4
J22: =IF(LEN(K22)=0,"",ROW(H22)-ROW($H$19)) -> 3 | K22: =IFERROR(Calc!AD42,"") -> Accounting | L22: =IFERROR(IF(LEN(K22)=0,"",Calc!AE42),"") -> 1
C24: ="Budget ("&Dashboard!L26&")" -> Budget (USD) | J24: Top 3 Titles Participated
J25: =IF(LEN(K25)=0,"",ROW(H25)-ROW($H$24)) -> 1 | K25: =IFERROR(Calc!AI40,"") -> Director | L25: =IFERROR(IF(LEN(K25)=0,"",Calc!AJ40),"") -> 4
C26: =Calc!AA35 -> 240000 | J26: =IF(LEN(K26)=0,"",ROW(H26)-ROW($H$24)) -> 2 | K26: =IFERROR(Calc!AI41,"") -> Salesman | L26: =IFERROR(IF(LEN(K26)=0,"",Calc!AJ41),"") -> 4
J27: =IF(LEN(K27)=0,"",ROW(H27)-ROW($H$24)) -> 3 | K27: =IFERROR(Calc!AI42,"") -> Vice-Director | L27: =IFERROR(IF(LEN(K27)=0,"",Calc!AJ42),"") -> 1

Sheet Calendar
D2: EMPLOYEE TRAINING TRACKER
D3: CALENDAR
D5: Year | G5: 2022 | J5: Month | M5: January | P5: Show weekends? | S5: Yes
C8: MONDAY | F8: TUESDAY | I8: WEDNESDAY | L8: THURSDAY | O8: FRIDAY | R8: SATURDAY | U8: SUNDAY
D10: =IFERROR(IF(WEEKDAY(Calc!$AN$19)=2,Calc!$AN$19,""),"") | G10: =IFERROR(IF(LEN(D10)>0,D10+1,IF(WEEKDAY(Calc!$AN$19)=3,Calc!$AN$19,"")),"") | J10: =IFERROR(IF(LEN(G10)>0,G10+1,IF(WEEKDAY(Calc!$AN$19)=4,Calc!$AN$19,"")),"") | M10: =IFERROR(IF(LEN(J10)>0,J10+1,IF(WEEKDAY(Calc!$AN$19)=5,Calc!$AN$19,"")),"") | P10: =IFERROR(IF(LEN(M10)>0,M10+1,IF(WEEKDAY(Calc!$AN$19)=6,Calc!$AN$19,"")),"") | S10: =IFERROR(IF(LEN(P10)>0,P10+1,IF(WEEKDAY(Calc!$AN$19)=7,Calc!$AN$19,"")),"") -> 44562 | V10: =IFERROR(IF(LEN(S10)>0,S10+1,IF(WEEKDAY(Calc!$AN$19)=1,Calc!$AN$19,"")),"") -> 44563
D12: {=IFERROR(INDEX(Calc!$D$6:$D$20,SMALL(IF(($D$10>=Calc!$E$6:$E$20)*($D$10<=Calc!$H$6:$H$20)*(Calc!$M$6:$M$20<>"Cancelled"),ROW(Calc!$D$6:$D$20)-ROW(INDEX(Calc!$D$6:$D$20,1,1))+1),1)),"")} | G12: {=IFERROR(INDEX(Calc!$D$6:$D$20,SMALL(IF(($G$10>=Calc!$E$6:$E$20)*($G$10<=Calc!$H$6:$H$20)*(Calc!$M$6:$M$20<>"Cancelled"),ROW(Calc!$D$6:$D$20)-ROW(INDEX(Calc!$D$6:$D$20,1,1))+1),1)),"")} | J12: {=IFERROR(INDEX(Calc!$D$6:$D$20,SMALL(IF(($J$10>=Calc!$E$6:$E$20)*($J$10<=Calc!$H$6:$H$20)*(Calc!$M$6:$M$20<>"Cancelled"),ROW(Calc!$D$6:$D$20)-ROW(INDEX(Calc!$D$6:$D$20,1,1))+1),1)),"")} | M12: {=IFERROR(INDEX(Calc!$D$6:$D$20,SMALL(IF(($M$10>=Calc!$E$6:$E$20)*($M$10<=Calc!$H$6:$H$20)*(Calc!$M$6:$M$20<>"Cancelled"),ROW(Calc!$D$6:$D$20)-ROW(INDEX(Calc!$D$6:$D$20,1,1))+1),1)),"")} | P12: {=IFERROR(INDEX(Calc!$D$6:$D$20,SMALL(IF(($P$10>=Calc!$E$6:$E$20)*($P$10<=Calc!$H$6:$H$20)*(Calc!$M$6:$M$20<>"Cancelled"),ROW(Calc!$D$6:$D$20)-ROW(INDEX(Calc!$D$6:$D$20,1,1))+1),1)),"")} | S12: {=IFERROR(INDEX(Calc!$D$6:$D$20,SMALL(IF(($S$10>=Calc!$E$6:$E$20)*($S$10<=Calc!$H$6:$H$20)*(Calc!$M$6:$M$20<>"Cancelled"),ROW(Calc!$D$6:$D$20)-ROW(INDEX(Calc!$D$6:$D$20,1,1))+1),1)),"")} | V12: {=IFERROR(INDEX(Calc!$D$6:$D$20,SMALL(IF(($V$10>=Calc!$E$6:$E$20)*($V$10<=Calc!$H$6:$H$20)*(Calc!$M$6:$M$20<>"Cancelled"),ROW(Calc!$D$6:$D$20)-ROW(INDEX(Calc!$D$6:$D$20,1,1))+1),1)),"")}
D14: {=IFERROR(INDEX(Calc!$D$6:$D$20,SMALL(IF(($D$10>=Calc!$E$6:$E$20)*($D$10<=Calc!$H$6:$H$20)*(Calc!$M$6:$M$20<>"Cancelled"),ROW(Calc!$D$6:$D$20)-ROW(INDEX(Calc!$D$6:$D$20,1,1))+1),2)),"")} | G14: {=IFERROR(INDEX(Calc!$D$6:$D$20,SMALL(IF(($G$10>=Calc!$E$6:$E$20)*($G$10<=Calc!$H$6:$H$20)*(Calc!$M$6:$M$20<>"Cancelled"),ROW(Calc!$D$6:$D$20)-ROW(INDEX(Calc!$D$6:$D$20,1,1))+1),2)),"")} | J14: {=IFERROR(INDEX(Calc!$D$6:$D$20,SMALL(IF(($J$10>=Calc!$E$6:$E$20)*($J$10<=Calc!$H$6:$H$20)*(Calc!$M$6:$M$20<>"Cancelled"),ROW(Calc!$D$6:$D$20)-ROW(INDEX(Calc!$D$6:$D$20,1,1))+1),2)),"")} | M14: {=IFERROR(INDEX(Calc!$D$6:$D$20,SMALL(IF(($M$10>=Calc!$E$6:$E$20)*($M$10<=Calc!$H$6:$H$20)*(Calc!$M$6:$M$20<>"Cancelled"),ROW(Calc!$D$6:$D$20)-ROW(INDEX(Calc!$D$6:$D$20,1,1))+1),2)),"")} | P14: {=IFERROR(INDEX(Calc!$D$6:$D$20,SMALL(IF(($P$10>=Calc!$E$6:$E$20)*($P$10<=Calc!$H$6:$H$20)*(Calc!$M$6:$M$20<>"Cancelled"),ROW(Calc!$D$6:$D$20)-ROW(INDEX(Calc!$D$6:$D$20,1,1))+1),2)),"")} | S14: {=IFERROR(INDEX(Calc!$D$6:$D$20,SMALL(IF(($S$10>=Calc!$E$6:$E$20)*($S$10<=Calc!$H$6:$H$20)*(Calc!$M$6:$M$20<>"Cancelled"),ROW(Calc!$D$6:$D$20)-ROW(INDEX(Calc!$D$6:$D$20,1,1))+1),2)),"")} | V14: {=IFERROR(INDEX(Calc!$D$6:$D$20,SMALL(IF(($V$10>=Calc!$E$6:$E$20)*($V$10<=Calc!$H$6:$H$20)*(Calc!$M$6:$M$20<>"Cancelled"),ROW(Calc!$D$6:$D$20)-ROW(INDEX(Calc!$D$6:$D$20,1,1))+1),2)),"")}
D16: {=IFERROR(INDEX(Calc!$D$6:$D$20,SMALL(IF(($D$10>=Calc!$E$6:$E$20)*($D$10<=Calc!$H$6:$H$20)*(Calc!$M$6:$M$20<>"Cancelled"),ROW(Calc!$D$6:$D$20)-ROW(INDEX(Calc!$D$6:$D$20,1,1))+1),3)),"")} | G16: {=IFERROR(INDEX(Calc!$D$6:$D$20,SMALL(IF(($G$10>=Calc!$E$6:$E$20)*($G$10<=Calc!$H$6:$H$20)*(Calc!$M$6:$M$20<>"Cancelled"),ROW(Calc!$D$6:$D$20)-ROW(INDEX(Calc!$D$6:$D$20,1,1))+1),3)),"")} | J16: {=IFERROR(INDEX(Calc!$D$6:$D$20,SMALL(IF(($J$10>=Calc!$E$6:$E$20)*($J$10<=Calc!$H$6:$H$20)*(Calc!$M$6:$M$20<>"Cancelled"),ROW(Calc!$D$6:$D$20)-ROW(INDEX(Calc!$D$6:$D$20,1,1))+1),3)),"")} | M16: {=IFERROR(INDEX(Calc!$D$6:$D$20,SMALL(IF(($M$10>=Calc!$E$6:$E$20)*($M$10<=Calc!$H$6:$H$20)*(Calc!$M$6:$M$20<>"Cancelled"),ROW(Calc!$D$6:$D$20)-ROW(INDEX(Calc!$D$6:$D$20,1,1))+1),3)),"")} | P16: {=IFERROR(INDEX(Calc!$D$6:$D$20,SMALL(IF(($P$10>=Calc!$E$6:$E$20)*($P$10<=Calc!$H$6:$H$20)*(Calc!$M$6:$M$20<>"Cancelled"),ROW(Calc!$D$6:$D$20)-ROW(INDEX(Calc!$D$6:$D$20,1,1))+1),3)),"")} | S16: {=IFERROR(INDEX(Calc!$D$6:$D$20,SMALL(IF(($S$10>=Calc!$E$6:$E$20)*($S$10<=Calc!$H$6:$H$20)*(Calc!$M$6:$M$20<>"Cancelled"),ROW(Calc!$D$6:$D$20)-ROW(INDEX(Calc!$D$6:$D$20,1,1))+1),3)),"")} | V16: {=IFERROR(INDEX(Calc!$D$6:$D$20,SMALL(IF(($V$10>=Calc!$E$6:$E$20)*($V$10<=Calc!$H$6:$H$20)*(Calc!$M$6:$M$20<>"Cancelled"),ROW(Calc!$D$6:$D$20)-ROW(INDEX(Calc!$D$6:$D$20,1,1))+1),3)),"")}
D18: {=IFERROR(INDEX(Calc!$D$6:$D$20,SMALL(IF(($D$10>=Calc!$E$6:$E$20)*($D$10<=Calc!$H$6:$H$20)*(Calc!$M$6:$M$20<>"Cancelled"),ROW(Calc!$D$6:$D$20)-ROW(INDEX(Calc!$D$6:$D$20,1,1))+1),4)),"")} | G18: {=IFERROR(INDEX(Calc!$D$6:$D$20,SMALL(IF(($G$10>=Calc!$E$6:$E$20)*($G$10<=Calc!$H$6:$H$20)*(Calc!$M$6:$M$20<>"Cancelled"),ROW(Calc!$D$6:$D$20)-ROW(INDEX(Calc!$D$6:$D$20,1,1))+1),4)),"")} | J18: {=IFERROR(INDEX(Calc!$D$6:$D$20,SMALL(IF(($J$10>=Calc!$E$6:$E$20)*($J$10<=Calc!$H$6:$H$20)*(Calc!$M$6:$M$20<>"Cancelled"),ROW(Calc!$D$6:$D$20)-ROW(INDEX(Calc!$D$6:$D$20,1,1))+1),4)),"")} | M18: {=IFERROR(INDEX(Calc!$D$6:$D$20,SMALL(IF(($M$10>=Calc!$E$6:$E$20)*($M$10<=Calc!$H$6:$H$20)*(Calc!$M$6:$M$20<>"Cancelled"),ROW(Calc!$D$6:$D$20)-ROW(INDEX(Calc!$D$6:$D$20,1,1))+1),4)),"")} | P18: {=IFERROR(INDEX(Calc!$D$6:$D$20,SMALL(IF(($P$10>=Calc!$E$6:$E$20)*($P$10<=Calc!$H$6:$H$20)*(Calc!$M$6:$M$20<>"Cancelled"),ROW(Calc!$D$6:$D$20)-ROW(INDEX(Calc!$D$6:$D$20,1,1))+1),4)),"")} | S18: {=IFERROR(INDEX(Calc!$D$6:$D$20,SMALL(IF(($S$10>=Calc!$E$6:$E$20)*($S$10<=Calc!$H$6:$H$20)*(Calc!$M$6:$M$20<>"Cancelled"),ROW(Calc!$D$6:$D$20)-ROW(INDEX(Calc!$D$6:$D$20,1,1))+1),4)),"")} | V18: {=IFERROR(INDEX(Calc!$D$6:$D$20,SMALL(IF(($V$10>=Calc!$E$6:$E$20)*($V$10<=Calc!$H$6:$H$20)*(Calc!$M$6:$M$20<>"Cancelled"),ROW(Calc!$D$6:$D$20)-ROW(INDEX(Calc!$D$6:$D$20,1,1))+1),4)),"")}
D20: {=IFERROR(INDEX(Calc!$D$6:$D$20,SMALL(IF(($D$10>=Calc!$E$6:$E$20)*($D$10<=Calc!$H$6:$H$20)*(Calc!$M$6:$M$20<>"Cancelled"),ROW(Calc!$D$6:$D$20)-ROW(INDEX(Calc!$D$6:$D$20,1,1))+1),5)),"")} | G20: {=IFERROR(INDEX(Calc!$D$6:$D$20,SMALL(IF(($G$10>=Calc!$E$6:$E$20)*($G$10<=Calc!$H$6:$H$20)*(Calc!$M$6:$M$20<>"Cancelled"),ROW(Calc!$D$6:$D$20)-ROW(INDEX(Calc!$D$6:$D$20,1,1))+1),5)),"")} | J20: {=IFERROR(INDEX(Calc!$D$6:$D$20,SMALL(IF(($J$10>=Calc!$E$6:$E$20)*($J$10<=Calc!$H$6:$H$20)*(Calc!$M$6:$M$20<>"Cancelled"),ROW(Calc!$D$6:$D$20)-ROW(INDEX(Calc!$D$6:$D$20,1,1))+1),5)),"")} | M20: {=IFERROR(INDEX(Calc!$D$6:$D$20,SMALL(IF(($M$10>=Calc!$E$6:$E$20)*($M$10<=Calc!$H$6:$H$20)*(Calc!$M$6:$M$20<>"Cancelled"),ROW(Calc!$D$6:$D$20)-ROW(INDEX(Calc!$D$6:$D$20,1,1))+1),5)),"")} | P20: {=IFERROR(INDEX(Calc!$D$6:$D$20,SMALL(IF(($P$10>=Calc!$E$6:$E$20)*($P$10<=Calc!$H$6:$H$20)*(Calc!$M$6:$M$20<>"Cancelled"),ROW(Calc!$D$6:$D$20)-ROW(INDEX(Calc!$D$6:$D$20,1,1))+1),5)),"")} | S20: {=IFERROR(INDEX(Calc!$D$6:$D$20,SMALL(IF(($S$10>=Calc!$E$6:$E$20)*($S$10<=Calc!$H$6:$H$20)*(Calc!$M$6:$M$20<>"Cancelled"),ROW(Calc!$D$6:$D$20)-ROW(INDEX(Calc!$D$6:$D$20,1,1))+1),5)),"")} | V20: {=IFERROR(INDEX(Calc!$D$6:$D$20,SMALL(IF(($V$10>=Calc!$E$6:$E$20)*($V$10<=Calc!$H$6:$H$20)*(Calc!$M$6:$M$20<>"Cancelled"),ROW(Calc!$D$6:$D$20)-ROW(INDEX(Calc!$D$6:$D$20,1,1))+1),5)),"")}
D22: =IFERROR(IF(LEN(V10)=0,"",IF(MONTH(V10+1)=MONTH(V10),V10+1,"")),"") -> 44564 | G22: =IFERROR(IF(LEN(D22)=0,"",IF(MONTH(D22+1)=MONTH(D22),D22+1,"")),"") -> 44565 | J22: =IFERROR(IF(LEN(G22)=0,"",IF(MONTH(G22+1)=MONTH(G22),G22+1,"")),"") -> 44566 | M22: =IFERROR(IF(LEN(J22)=0,"",IF(MONTH(J22+1)=MONTH(J22),J22+1,"")),"") -> 44567 | P22: =IFERROR(IF(LEN(M22)=0,"",IF(MONTH(M22+1)=MONTH(M22),M22+1,"")),"") -> 44568 | S22: =IFERROR(IF(LEN(P22)=0,"",IF(MONTH(P22+1)=MONTH(P22),P22+1,"")),"") -> 44569 | V22: =IFERROR(IF(LEN(S22)=0,"",IF(MONTH(S22+1)=MONTH(S22),S22+1,"")),"") -> 44570
D24: {=IFERROR(INDEX(Calc!$D$6:$D$20,SMALL(IF(($D$22>=Calc!$E$6:$E$20)*($D$22<=Calc!$H$6:$H$20)*(Calc!$M$6:$M$20<>"Cancelled"),ROW(Calc!$D$6:$D$20)-ROW(INDEX(Calc!$D$6:$D$20,1,1))+1),1)),"")} | G24: {=IFERROR(INDEX(Calc!$D$6:$D$20,SMALL(IF(($G$22>=Calc!$E$6:$E$20)*($G$22<=Calc!$H$6:$H$20)*(Calc!$M$6:$M$20<>"Cancelled"),ROW(Calc!$D$6:$D$20)-ROW(INDEX(Calc!$D$6:$D$20,1,1))+1),1)),"")} | J24: {=IFERROR(INDEX(Calc!$D$6:$D$20,SMALL(IF(($J$22>=Calc!$E$6:$E$20)*($J$22<=Calc!$H$6:$H$20)*(Calc!$M$6:$M$20<>"Cancelled"),ROW(Calc!$D$6:$D$20)-ROW(INDEX(Calc!$D$6:$D$20,1,1))+1),1)),"")} -> MS Office | M24: {=IFERROR(INDEX(Calc!$D$6:$D$20,SMALL(IF(($M$22>=Calc!$E$6:$E$20)*($M$22<=Calc!$H$6:$H$20)*(Calc!$M$6:$M$20<>"Cancelled"),ROW(Calc!$D$6:$D$20)-ROW(INDEX(Calc!$D$6:$D$20,1,1))+1),1)),"")} -> MS Office | P24: {=IFERROR(INDEX(Calc!$D$6:$D$20,SMALL(IF(($P$22>=Calc!$E$6:$E$20)*($P$22<=Calc!$H$6:$H$20)*(Calc!$M$6:$M$20<>"Cancelled"),ROW(Calc!$D$6:$D$20)-ROW(INDEX(Calc!$D$6:$D$20,1,1))+1),1)),"")} -> MS Office | S24: {=IFERROR(INDEX(Calc!$D$6:$D$20,SMALL(IF(($S$22>=Calc!$E$6:$E$20)*($S$22<=Calc!$H$6:$H$20)*(Calc!$M$6:$M$20<>"Cancelled"),ROW(Calc!$D$6:$D$20)-ROW(INDEX(Calc!$D$6:$D$20,1,1))+1),1)),"")} -> MS Office | V24: {=IFERROR(INDEX(Calc!$D$6:$D$20,SMALL(IF(($V$22>=Calc!$E$6:$E$20)*($V$22<=Calc!$H$6:$H$20)*(Calc!$M$6:$M$20<>"Cancelled"),ROW(Calc!$D$6:$D$20)-ROW(INDEX(Calc!$D$6:$D$20,1,1))+1),1)),"")} -> MS Office
D26: {=IFERROR(INDEX(Calc!$D$6:$D$20,SMALL(IF(($D$22>=Calc!$E$6:$E$20)*($D$22<=Calc!$H$6:$H$20)*(Calc!$M$6:$M$20<>"Cancelled"),ROW(Calc!$D$6:$D$20)-ROW(INDEX(Calc!$D$6:$D$20,1,1))+1),2)),"")} | G26: {=IFERROR(INDEX(Calc!$D$6:$D$20,SMALL(IF(($G$22>=Calc!$E$6:$E$20)*($G$22<=Calc!$H$6:$H$20)*(Calc!$M$6:$M$20<>"Cancelled"),ROW(Calc!$D$6:$D$20)-ROW(INDEX(Calc!$D$6:$D$20,1,1))+1),2)),"")} | J26: {=IFERROR(INDEX(Calc!$D$6:$D$20,SMALL(IF(($J$22>=Calc!$E$6:$E$20)*($J$22<=Calc!$H$6:$H$20)*(Calc!$M$6:$M$20<>"Cancelled"),ROW(Calc!$D$6:$D$20)-ROW(INDEX(Calc!$D$6:$D$20,1,1))+1),2)),"")} | M26: {=IFERROR(INDEX(Calc!$D$6:$D$20,SMALL(IF(($M$22>=Calc!$E$6:$E$20)*($M$22<=Calc!$H$6:$H$20)*(Calc!$M$6:$M$20<>"Cancelled"),ROW(Calc!$D$6:$D$20)-ROW(INDEX(Calc!$D$6:$D$20,1,1))+1),2)),"")} | P26: {=IFERROR(INDEX(Calc!$D$6:$D$20,SMALL(IF(($P$22>=Calc!$E$6:$E$20)*($P$22<=Calc!$H$6:$H$20)*(Calc!$M$6:$M$20<>"Cancelled"),ROW(Calc!$D$6:$D$20)-ROW(INDEX(Calc!$D$6:$D$20,1,1))+1),2)),"")} | S26: {=IFERROR(INDEX(Calc!$D$6:$D$20,SMALL(IF(($S$22>=Calc!$E$6:$E$20)*($S$22<=Calc!$H$6:$H$20)*(Calc!$M$6:$M$20<>"Cancelled"),ROW(Calc!$D$6:$D$20)-ROW(INDEX(Calc!$D$6:$D$20,1,1))+1),2)),"")} | V26: {=IFERROR(INDEX(Calc!$D$6:$D$20,SMALL(IF(($V$22>=Calc!$E$6:$E$20)*($V$22<=Calc!$H$6:$H$20)*(Calc!$M$6:$M$20<>"Cancelled"),ROW(Calc!$D$6:$D$20)-ROW(INDEX(Calc!$D$6:$D$20,1,1))+1),2)),"")}
D28: {=IFERROR(INDEX(Calc!$D$6:$D$20,SMALL(IF(($D$22>=Calc!$E$6:$E$20)*($D$22<=Calc!$H$6:$H$20)*(Calc!$M$6:$M$20<>"Cancelled"),ROW(Calc!$D$6:$D$20)-ROW(INDEX(Calc!$D$6:$D$20,1,1))+1),3)),"")} | G28: {=IFERROR(INDEX(Calc!$D$6:$D$20,SMALL(IF(($G$22>=Calc!$E$6:$E$20)*($G$22<=Calc!$H$6:$H$20)*(Calc!$M$6:$M$20<>"Cancelled"),ROW(Calc!$D$6:$D$20)-ROW(INDEX(Calc!$D$6:$D$20,1,1))+1),3)),"")} | J28: {=IFERROR(INDEX(Calc!$D$6:$D$20,SMALL(IF(($J$22>=Calc!$E$6:$E$20)*($J$22<=Calc!$H$6:$H$20)*(Calc!$M$6:$M$20<>"Cancelled"),ROW(Calc!$D$6:$D$20)-ROW(INDEX(Calc!$D$6:$D$20,1,1))+1),3)),"")} | M28: {=IFERROR(INDEX(Calc!$D$6:$D$20,SMALL(IF(($M$22>=Calc!$E$6:$E$20)*($M$22<=Calc!$H$6:$H$20)*(Calc!$M$6:$M$20<>"Cancelled"),ROW(Calc!$D$6:$D$20)-ROW(INDEX(Calc!$D$6:$D$20,1,1))+1),3)),"")} | P28: {=IFERROR(INDEX(Calc!$D$6:$D$20,SMALL(IF(($P$22>=Calc!$E$6:$E$20)*($P$22<=Calc!$H$6:$H$20)*(Calc!$M$6:$M$20<>"Cancelled"),ROW(Calc!$D$6:$D$20)-ROW(INDEX(Calc!$D$6:$D$20,1,1))+1),3)),"")} | S28: {=IFERROR(INDEX(Calc!$D$6:$D$20,SMALL(IF(($S$22>=Calc!$E$6:$E$20)*($S$22<=Calc!$H$6:$H$20)*(Calc!$M$6:$M$20<>"Cancelled"),ROW(Calc!$D$6:$D$20)-ROW(INDEX(Calc!$D$6:$D$20,1,1))+1),3)),"")} | V28: {=IFERROR(INDEX(Calc!$D$6:$D$20,SMALL(IF(($V$22>=Calc!$E$6:$E$20)*($V$22<=Calc!$H$6:$H$20)*(Calc!$M$6:$M$20<>"Cancelled"),ROW(Calc!$D$6:$D$20)-ROW(INDEX(Calc!$D$6:$D$20,1,1))+1),3)),"")}
D30: {=IFERROR(INDEX(Calc!$D$6:$D$20,SMALL(IF(($D$22>=Calc!$E$6:$E$20)*($D$22<=Calc!$H$6:$H$20)*(Calc!$M$6:$M$20<>"Cancelled"),ROW(Calc!$D$6:$D$20)-ROW(INDEX(Calc!$D$6:$D$20,1,1))+1),4)),"")} | G30: {=IFERROR(INDEX(Calc!$D$6:$D$20,SMALL(IF(($G$22>=Calc!$E$6:$E$20)*($G$22<=Calc!$H$6:$H$20)*(Calc!$M$6:$M$20<>"Cancelled"),ROW(Calc!$D$6:$D$20)-ROW(INDEX(Calc!$D$6:$D$20,1,1))+1),4)),"")} | J30: {=IFERROR(INDEX(Calc!$D$6:$D$20,SMALL(IF(($J$22>=Calc!$E$6:$E$20)*($J$22<=Calc!$H$6:$H$20)*(Calc!$M$6:$M$20<>"Cancelled"),ROW(Calc!$D$6:$D$20)-ROW(INDEX(Calc!$D$6:$D$20,1,1))+1),4)),"")} | M30: {=IFERROR(INDEX(Calc!$D$6:$D$20,SMALL(IF(($M$22>=Calc!$E$6:$E$20)*($M$22<=Calc!$H$6:$H$20)*(Calc!$M$6:$M$20<>"Cancelled"),ROW(Calc!$D$6:$D$20)-ROW(INDEX(Calc!$D$6:$D$20,1,1))+1),4)),"")} | P30: {=IFERROR(INDEX(Calc!$D$6:$D$20,SMALL(IF(($P$22>=Calc!$E$6:$E$20)*($P$22<=Calc!$H$6:$H$20)*(Calc!$M$6:$M$20<>"Cancelled"),ROW(Calc!$D$6:$D$20)-ROW(INDEX(Calc!$D$6:$D$20,1,1))+1),4)),"")} | S30: {=IFERROR(INDEX(Calc!$D$6:$D$20,SMALL(IF(($S$22>=Calc!$E$6:$E$20)*($S$22<=Calc!$H$6:$H$20)*(Calc!$M$6:$M$20<>"Cancelled"),ROW(Calc!$D$6:$D$20)-ROW(INDEX(Calc!$D$6:$D$20,1,1))+1),4)),"")} | V30: {=IFERROR(INDEX(Calc!$D$6:$D$20,SMALL(IF(($V$22>=Calc!$E$6:$E$20)*($V$22<=Calc!$H$6:$H$20)*(Calc!$M$6:$M$20<>"Cancelled"),ROW(Calc!$D$6:$D$20)-ROW(INDEX(Calc!$D$6:$D$20,1,1))+1),4)),"")}
D32: {=IFERROR(INDEX(Calc!$D$6:$D$20,SMALL(IF(($D$22>=Calc!$E$6:$E$20)*($D$22<=Calc!$H$6:$H$20)*(Calc!$M$6:$M$20<>"Cancelled"),ROW(Calc!$D$6:$D$20)-ROW(INDEX(Calc!$D$6:$D$20,1,1))+1),5)),"")} | G32: {=IFERROR(INDEX(Calc!$D$6:$D$20,SMALL(IF(($G$22>=Calc!$E$6:$E$20)*($G$22<=Calc!$H$6:$H$20)*(Calc!$M$6:$M$20<>"Cancelled"),ROW(Calc!$D$6:$D$20)-ROW(INDEX(Calc!$D$6:$D$20,1,1))+1),5)),"")} | J32: {=IFERROR(INDEX(Calc!$D$6:$D$20,SMALL(IF(($J$22>=Calc!$E$6:$E$20)*($J$22<=Calc!$H$6:$H$20)*(Calc!$M$6:$M$20<>"Cancelled"),ROW(Calc!$D$6:$D$20)-ROW(INDEX(Calc!$D$6:$D$20,1,1))+1),5)),"")} | M32: {=IFERROR(INDEX(Calc!$D$6:$D$20,SMALL(IF(($M$22>=Calc!$E$6:$E$20)*($M$22<=Calc!$H$6:$H$20)*(Calc!$M$6:$M$20<>"Cancelled"),ROW(Calc!$D$6:$D$20)-ROW(INDEX(Calc!$D$6:$D$20,1,1))+1),5)),"")} | P32: {=IFERROR(INDEX(Calc!$D$6:$D$20,SMALL(IF(($P$22>=Calc!$E$6:$E$20)*($P$22<=Calc!$H$6:$H$20)*(Calc!$M$6:$M$20<>"Cancelled"),ROW(Calc!$D$6:$D$20)-ROW(INDEX(Calc!$D$6:$D$20,1,1))+1),5)),"")} | S32: {=IFERROR(INDEX(Calc!$D$6:$D$20,SMALL(IF(($S$22>=Calc!$E$6:$E$20)*($S$22<=Calc!$H$6:$H$20)*(Calc!$M$6:$M$20<>"Cancelled"),ROW(Calc!$D$6:$D$20)-ROW(INDEX(Calc!$D$6:$D$20,1,1))+1),5)),"")} | V32: {=IFERROR(INDEX(Calc!$D$6:$D$20,SMALL(IF(($V$22>=Calc!$E$6:$E$20)*($V$22<=Calc!$H$6:$H$20)*(Calc!$M$6:$M$20<>"Cancelled"),ROW(Calc!$D$6:$D$20)-ROW(INDEX(Calc!$D$6:$D$20,1,1))+1),5)),"")}
D34: =IFERROR(IF(LEN(V22)=0,"",IF(MONTH(V22+1)=MONTH(V22),V22+1,"")),"") -> 44571 | G34: =IFERROR(IF(LEN(D34)=0,"",IF(MONTH(D34+1)=MONTH(D34),D34+1,"")),"") -> 44572 | J34: =IFERROR(IF(LEN(G34)=0,"",IF(MONTH(G34+1)=MONTH(G34),G34+1,"")),"") -> 44573 | M34: =IFERROR(IF(LEN(J34)=0,"",IF(MONTH(J34+1)=MONTH(J34),J34+1,"")),"") -> 44574 | P34: =IFERROR(IF(LEN(M34)=0,"",IF(MONTH(M34+1)=MONTH(M34),M34+1,"")),"") -> 44575 | S34: =IFERROR(IF(LEN(P34)=0,"",IF(MONTH(P34+1)=MONTH(P34),P34+1,"")),"") -> 44576 | V34: =IFERROR(IF(LEN(S34)=0,"",IF(MONTH(S34+1)=MONTH(S34),S34+1,"")),"") -> 44577
D36: {=IFERROR(INDEX(Calc!$D$6:$D$20,SMALL(IF(($D$34>=Calc!$E$6:$E$20)*($D$34<=Calc!$H$6:$H$20)*(Calc!$M$6:$M$20<>"Cancelled"),ROW(Calc!$D$6:$D$20)-ROW(INDEX(Calc!$D$6:$D$20,1,1))+1),1)),"")} -> MS Office | G36: {=IFERROR(INDEX(Calc!$D$6:$D$20,SMALL(IF(($G$34>=Calc!$E$6:$E$20)*($G$34<=Calc!$H$6:$H$20)*(Calc!$M$6:$M$20<>"Cancelled"),ROW(Calc!$D$6:$D$20)-ROW(INDEX(Calc!$D$6:$D$20,1,1))+1),1)),"")} -> MS Office | J36: {=IFERROR(INDEX(Calc!$D$6:$D$20,SMALL(IF(($J$34>=Calc!$E$6:$E$20)*($J$34<=Calc!$H$6:$H$20)*(Calc!$M$6:$M$20<>"Cancelled"),ROW(Calc!$D$6:$D$20)-ROW(INDEX(Calc!$D$6:$D$20,1,1))+1),1)),"")} -> MS Office | M36: {=IFERROR(INDEX(Calc!$D$6:$D$20,SMALL(IF(($M$34>=Calc!$E$6:$E$20)*($M$34<=Calc!$H$6:$H$20)*(Calc!$M$6:$M$20<>"Cancelled"),ROW(Calc!$D$6:$D$20)-ROW(INDEX(Calc!$D$6:$D$20,1,1))+1),1)),"")} -> MS Office | P36: {=IFERROR(INDEX(Calc!$D$6:$D$20,SMALL(IF(($P$34>=Calc!$E$6:$E$20)*($P$34<=Calc!$H$6:$H$20)*(Calc!$M$6:$M$20<>"Cancelled"),ROW(Calc!$D$6:$D$20)-ROW(INDEX(Calc!$D$6:$D$20,1,1))+1),1)),"")} -> MS Office | S36: {=IFERROR(INDEX(Calc!$D$6:$D$20,SMALL(IF(($S$34>=Calc!$E$6:$E$20)*($S$34<=Calc!$H$6:$H$20)*(Calc!$M$6:$M$20<>"Cancelled"),ROW(Calc!$D$6:$D$20)-ROW(INDEX(Calc!$D$6:$D$20,1,1))+1),1)),"")} -> AGILE Practices | V36: {=IFERROR(INDEX(Calc!$D$6:$D$20,SMALL(IF(($V$34>=Calc!$E$6:$E$20)*($V$34<=Calc!$H$6:$H$20)*(Calc!$M$6:$M$20<>"Cancelled"),ROW(Calc!$D$6:$D$20)-ROW(INDEX(Calc!$D$6:$D$20,1,1))+1),1)),"")} -> AGILE Practices
D38: {=IFERROR(INDEX(Calc!$D$6:$D$20,SMALL(IF(($D$34>=Calc!$E$6:$E$20)*($D$34<=Calc!$H$6:$H$20)*(Calc!$M$6:$M$20<>"Cancelled"),ROW(Calc!$D$6:$D$20)-ROW(INDEX(Calc!$D$6:$D$20,1,1))+1),2)),"")} | G38: {=IFERROR(INDEX(Calc!$D$6:$D$20,SMALL(IF(($G$34>=Calc!$E$6:$E$20)*($G$34<=Calc!$H$6:$H$20)*(Calc!$M$6:$M$20<>"Cancelled"),ROW(Calc!$D$6:$D$20)-ROW(INDEX(Calc!$D$6:$D$20,1,1))+1),2)),"")} | J38: {=IFERROR(INDEX(Calc!$D$6:$D$20,SMALL(IF(($J$34>=Calc!$E$6:$E$20)*($J$34<=Calc!$H$6:$H$20)*(Calc!$M$6:$M$20<>"Cancelled"),ROW(Calc!$D$6:$D$20)-ROW(INDEX(Calc!$D$6:$D$20,1,1))+1),2)),"")} | M38: {=IFERROR(INDEX(Calc!$D$6:$D$20,SMALL(IF(($M$34>=Calc!$E$6:$E$20)*($M$34<=Calc!$H$6:$H$20)*(Calc!$M$6:$M$20<>"Cancelled"),ROW(Calc!$D$6:$D$20)-ROW(INDEX(Calc!$D$6:$D$20,1,1))+1),2)),"")} | P38: {=IFERROR(INDEX(Calc!$D$6:$D$20,SMALL(IF(($P$34>=Calc!$E$6:$E$20)*($P$34<=Calc!$H$6:$H$20)*(Calc!$M$6:$M$20<>"Cancelled"),ROW(Calc!$D$6:$D$20)-ROW(INDEX(Calc!$D$6:$D$20,1,1))+1),2)),"")} | S38: {=IFERROR(INDEX(Calc!$D$6:$D$20,SMALL(IF(($S$34>=Calc!$E$6:$E$20)*($S$34<=Calc!$H$6:$H$20)*(Calc!$M$6:$M$20<>"Cancelled"),ROW(Calc!$D$6:$D$20)-ROW(INDEX(Calc!$D$6:$D$20,1,1))+1),2)),"")} -> MS Office | V38: {=IFERROR(INDEX(Calc!$D$6:$D$20,SMALL(IF(($V$34>=Calc!$E$6:$E$20)*($V$34<=Calc!$H$6:$H$20)*(Calc!$M$6:$M$20<>"Cancelled"),ROW(Calc!$D$6:$D$20)-ROW(INDEX(Calc!$D$6:$D$20,1,1))+1),2)),"")} -> MS Office
D40: {=IFERROR(INDEX(Calc!$D$6:$D$20,SMALL(IF(($D$34>=Calc!$E$6:$E$20)*($D$34<=Calc!$H$6:$H$20)*(Calc!$M$6:$M$20<>"Cancelled"),ROW(Calc!$D$6:$D$20)-ROW(INDEX(Calc!$D$6:$D$20,1,1))+1),3)),"")} | G40: {=IFERROR(INDEX(Calc!$D$6:$D$20,SMALL(IF(($G$34>=Calc!$E$6:$E$20)*($G$34<=Calc!$H$6:$H$20)*(Calc!$M$6:$M$20<>"Cancelled"),ROW(Calc!$D$6:$D$20)-ROW(INDEX(Calc!$D$6:$D$20,1,1))+1),3)),"")} | J40: {=IFERROR(INDEX(Calc!$D$6:$D$20,SMALL(IF(($J$34>=Calc!$E$6:$E$20)*($J$34<=Calc!$H$6:$H$20)*(Calc!$M$6:$M$20<>"Cancelled"),ROW(Calc!$D$6:$D$20)-ROW(INDEX(Calc!$D$6:$D$20,1,1))+1),3)),"")} | M40: {=IFERROR(INDEX(Calc!$D$6:$D$20,SMALL(IF(($M$34>=Calc!$E$6:$E$20)*($M$34<=Calc!$H$6:$H$20)*(Calc!$M$6:$M$20<>"Cancelled"),ROW(Calc!$D$6:$D$20)-ROW(INDEX(Calc!$D$6:$D$20,1,1))+1),3)),"")} | P40: {=IFERROR(INDEX(Calc!$D$6:$D$20,SMALL(IF(($P$34>=Calc!$E$6:$E$20)*($P$34<=Calc!$H$6:$H$20)*(Calc!$M$6:$M$20<>"Cancelled"),ROW(Calc!$D$6:$D$20)-ROW(INDEX(Calc!$D$6:$D$20,1,1))+1),3)),"")} | S40: {=IFERROR(INDEX(Calc!$D$6:$D$20,SMALL(IF(($S$34>=Calc!$E$6:$E$20)*($S$34<=Calc!$H$6:$H$20)*(Calc!$M$6:$M$20<>"Cancelled"),ROW(Calc!$D$6:$D$20)-ROW(INDEX(Calc!$D$6:$D$20,1,1))+1),3)),"")} | V40: {=IFERROR(INDEX(Calc!$D$6:$D$20,SMALL(IF(($V$34>=Calc!$E$6:$E$20)*($V$34<=Calc!$H$6:$H$20)*(Calc!$M$6:$M$20<>"Cancelled"),ROW(Calc!$D$6:$D$20)-ROW(INDEX(Calc!$D$6:$D$20,1,1))+1),3)),"")}
D42: {=IFERROR(INDEX(Calc!$D$6:$D$20,SMALL(IF(($D$34>=Calc!$E$6:$E$20)*($D$34<=Calc!$H$6:$H$20)*(Calc!$M$6:$M$20<>"Cancelled"),ROW(Calc!$D$6:$D$20)-ROW(INDEX(Calc!$D$6:$D$20,1,1))+1),4)),"")} | G42: {=IFERROR(INDEX(Calc!$D$6:$D$20,SMALL(IF(($G$34>=Calc!$E$6:$E$20)*($G$34<=Calc!$H$6:$H$20)*(Calc!$M$6:$M$20<>"Cancelled"),ROW(Calc!$D$6:$D$20)-ROW(INDEX(Calc!$D$6:$D$20,1,1))+1),4)),"")} | J42: {=IFERROR(INDEX(Calc!$D$6:$D$20,SMALL(IF(($J$34>=Calc!$E$6:$E$20)*($J$34<=Calc!$H$6:$H$20)*(Calc!$M$6:$M$20<>"Cancelled"),ROW(Calc!$D$6:$D$20)-ROW(INDEX(Calc!$D$6:$D$20,1,1))+1),4)),"")} | M42: {=IFERROR(INDEX(Calc!$D$6:$D$20,SMALL(IF(($M$34>=Calc!$E$6:$E$20)*($M$34<=Calc!$H$6:$H$20)*(Calc!$M$6:$M$20<>"Cancelled"),ROW(Calc!$D$6:$D$20)-ROW(INDEX(Calc!$D$6:$D$20,1,1))+1),4)),"")} | P42: {=IFERROR(INDEX(Calc!$D$6:$D$20,SMALL(IF(($P$34>=Calc!$E$6:$E$20)*($P$34<=Calc!$H$6:$H$20)*(Calc!$M$6:$M$20<>"Cancelled"),ROW(Calc!$D$6:$D$20)-ROW(INDEX(Calc!$D$6:$D$20,1,1))+1),4)),"")} | S42: {=IFERROR(INDEX(Calc!$D$6:$D$20,SMALL(IF(($S$34>=Calc!$E$6:$E$20)*($S$34<=Calc!$H$6:$H$20)*(Calc!$M$6:$M$20<>"Cancelled"),ROW(Calc!$D$6:$D$20)-ROW(INDEX(Calc!$D$6:$D$20,1,1))+1),4)),"")} | V42: {=IFERROR(INDEX(Calc!$D$6:$D$20,SMALL(IF(($V$34>=Calc!$E$6:$E$20)*($V$34<=Calc!$H$6:$H$20)*(Calc!$M$6:$M$20<>"Cancelled"),ROW(Calc!$D$6:$D$20)-ROW(INDEX(Calc!$D$6:$D$20,1,1))+1),4)),"")}
D44: {=IFERROR(INDEX(Calc!$D$6:$D$20,SMALL(IF(($D$34>=Calc!$E$6:$E$20)*($D$34<=Calc!$H$6:$H$20)*(Calc!$M$6:$M$20<>"Cancelled"),ROW(Calc!$D$6:$D$20)-ROW(INDEX(Calc!$D$6:$D$20,1,1))+1),5)),"")} | G44: {=IFERROR(INDEX(Calc!$D$6:$D$20,SMALL(IF(($G$34>=Calc!$E$6:$E$20)*($G$34<=Calc!$H$6:$H$20)*(Calc!$M$6:$M$20<>"Cancelled"),ROW(Calc!$D$6:$D$20)-ROW(INDEX(Calc!$D$6:$D$20,1,1))+1),5)),"")} | J44: {=IFERROR(INDEX(Calc!$D$6:$D$20,SMALL(IF(($J$34>=Calc!$E$6:$E$20)*($J$34<=Calc!$H$6:$H$20)*(Calc!$M$6:$M$20<>"Cancelled"),ROW(Calc!$D$6:$D$20)-ROW(INDEX(Calc!$D$6:$D$20,1,1))+1),5)),"")} | M44: {=IFERROR(INDEX(Calc!$D$6:$D$20,SMALL(IF(($M$34>=Calc!$E$6:$E$20)*($M$34<=Calc!$H$6:$H$20)*(Calc!$M$6:$M$20<>"Cancelled"),ROW(Calc!$D$6:$D$20)-ROW(INDEX(Calc!$D$6:$D$20,1,1))+1),5)),"")} | P44: {=IFERROR(INDEX(Calc!$D$6:$D$20,SMALL(IF(($P$34>=Calc!$E$6:$E$20)*($P$34<=Calc!$H$6:$H$20)*(Calc!$M$6:$M$20<>"Cancelled"),ROW(Calc!$D$6:$D$20)-ROW(INDEX(Calc!$D$6:$D$20,1,1))+1),5)),"")} | S44: {=IFERROR(INDEX(Calc!$D$6:$D$20,SMALL(IF(($S$34>=Calc!$E$6:$E$20)*($S$34<=Calc!$H$6:$H$20)*(Calc!$M$6:$M$20<>"Cancelled"),ROW(Calc!$D$6:$D$20)-ROW(INDEX(Calc!$D$6:$D$20,1,1))+1),5)),"")} | V44: {=IFERROR(INDEX(Calc!$D$6:$D$20,SMALL(IF(($V$34>=Calc!$E$6:$E$20)*($V$34<=Calc!$H$6:$H$20)*(Calc!$M$6:$M$20<>"Cancelled"),ROW(Calc!$D$6:$D$20)-ROW(INDEX(Calc!$D$6:$D$20,1,1))+1),5)),"")}
D46: =IFERROR(IF(LEN(V34)=0,"",IF(MONTH(V34+1)=MONTH(V34),V34+1,"")),"") -> 44578 | G46: =IFERROR(IF(LEN(D46)=0,"",IF(MONTH(D46+1)=MONTH(D46),D46+1,"")),"") -> 44579 | J46: =IFERROR(IF(LEN(G46)=0,"",IF(MONTH(G46+1)=MONTH(G46),G46+1,"")),"") -> 44580 | M46: =IFERROR(IF(LEN(J46)=0,"",IF(MONTH(J46+1)=MONTH(J46),J46+1,"")),"") -> 44581 | P46: =IFERROR(IF(LEN(M46)=0,"",IF(MONTH(M46+1)=MONTH(M46),M46+1,"")),"") -> 44582 | S46: =IFERROR(IF(LEN(P46)=0,"",IF(MONTH(P46+1)=MONTH(P46),P46+1,"")),"") -> 44583 | V46: =IFERROR(IF(LEN(S46)=0,"",IF(MONTH(S46+1)=MONTH(S46),S46+1,"")),"") -> 44584
D48: {=IFERROR(INDEX(Calc!$D$6:$D$20,SMALL(IF(($D$46>=Calc!$E$6:$E$20)*($D$46<=Calc!$H$6:$H$20)*(Calc!$M$6:$M$20<>"Cancelled"),ROW(Calc!$D$6:$D$20)-ROW(INDEX(Calc!$D$6:$D$20,1,1))+1),1)),"")} -> AGILE Practices | G48: {=IFERROR(INDEX(Calc!$D$6:$D$20,SMALL(IF(($G$46>=Calc!$E$6:$E$20)*($G$46<=Calc!$H$6:$H$20)*(Calc!$M$6:$M$20<>"Cancelled"),ROW(Calc!$D$6:$D$20)-ROW(INDEX(Calc!$D$6:$D$20,1,1))+1),1)),"")} -> AGILE Practices | J48: {=IFERROR(INDEX(Calc!$D$6:$D$20,SMALL(IF(($J$46>=Calc!$E$6:$E$20)*($J$46<=Calc!$H$6:$H$20)*(Calc!$M$6:$M$20<>"Cancelled"),ROW(Calc!$D$6:$D$20)-ROW(INDEX(Calc!$D$6:$D$20,1,1))+1),1)),"")} -> AGILE Practices | M48: {=IFERROR(INDEX(Calc!$D$6:$D$20,SMALL(IF(($M$46>=Calc!$E$6:$E$20)*($M$46<=Calc!$H$6:$H$20)*(Calc!$M$6:$M$20<>"Cancelled"),ROW(Calc!$D$6:$D$20)-ROW(INDEX(Calc!$D$6:$D$20,1,1))+1),1)),"")} -> AGILE Practices | P48: {=IFERROR(INDEX(Calc!$D$6:$D$20,SMALL(IF(($P$46>=Calc!$E$6:$E$20)*($P$46<=Calc!$H$6:$H$20)*(Calc!$M$6:$M$20<>"Cancelled"),ROW(Calc!$D$6:$D$20)-ROW(INDEX(Calc!$D$6:$D$20,1,1))+1),1)),"")} -> AGILE Practices | S48: {=IFERROR(INDEX(Calc!$D$6:$D$20,SMALL(IF(($S$46>=Calc!$E$6:$E$20)*($S$46<=Calc!$H$6:$H$20)*(Calc!$M$6:$M$20<>"Cancelled"),ROW(Calc!$D$6:$D$20)-ROW(INDEX(Calc!$D$6:$D$20,1,1))+1),1)),"")} -> AGILE Practices | V48: {=IFERROR(INDEX(Calc!$D$6:$D$20,SMALL(IF(($V$46>=Calc!$E$6:$E$20)*($V$46<=Calc!$H$6:$H$20)*(Calc!$M$6:$M$20<>"Cancelled"),ROW(Calc!$D$6:$D$20)-ROW(INDEX(Calc!$D$6:$D$20,1,1))+1),1)),"")} -> AGILE Practices
D50: {=IFERROR(INDEX(Calc!$D$6:$D$20,SMALL(IF(($D$46>=Calc!$E$6:$E$20)*($D$46<=Calc!$H$6:$H$20)*(Calc!$M$6:$M$20<>"Cancelled"),ROW(Calc!$D$6:$D$20)-ROW(INDEX(Calc!$D$6:$D$20,1,1))+1),2)),"")} -> MS Office | G50: {=IFERROR(INDEX(Calc!$D$6:$D$20,SMALL(IF(($G$46>=Calc!$E$6:$E$20)*($G$46<=Calc!$H$6:$H$20)*(Calc!$M$6:$M$20<>"Cancelled"),ROW(Calc!$D$6:$D$20)-ROW(INDEX(Calc!$D$6:$D$20,1,1))+1),2)),"")} -> MS Office | J50: {=IFERROR(INDEX(Calc!$D$6:$D$20,SMALL(IF(($J$46>=Calc!$E$6:$E$20)*($J$46<=Calc!$H$6:$H$20)*(Calc!$M$6:$M$20<>"Cancelled"),ROW(Calc!$D$6:$D$20)-ROW(INDEX(Calc!$D$6:$D$20,1,1))+1),2)),"")} -> MS Office | M50: {=IFERROR(INDEX(Calc!$D$6:$D$20,SMALL(IF(($M$46>=Calc!$E$6:$E$20)*($M$46<=Calc!$H$6:$H$20)*(Calc!$M$6:$M$20<>"Cancelled"),ROW(Calc!$D$6:$D$20)-ROW(INDEX(Calc!$D$6:$D$20,1,1))+1),2)),"")} -> MS Office | P50: {=IFERROR(INDEX(Calc!$D$6:$D$20,SMALL(IF(($P$46>=Calc!$E$6:$E$20)*($P$46<=Calc!$H$6:$H$20)*(Calc!$M$6:$M$20<>"Cancelled"),ROW(Calc!$D$6:$D$20)-ROW(INDEX(Calc!$D$6:$D$20,1,1))+1),2)),"")} | S50: {=IFERROR(INDEX(Calc!$D$6:$D$20,SMALL(IF(($S$46>=Calc!$E$6:$E$20)*($S$46<=Calc!$H$6:$H$20)*(Calc!$M$6:$M$20<>"Cancelled"),ROW(Calc!$D$6:$D$20)-ROW(INDEX(Calc!$D$6:$D$20,1,1))+1),2)),"")} | V50: {=IFERROR(INDEX(Calc!$D$6:$D$20,SMALL(IF(($V$46>=Calc!$E$6:$E$20)*($V$46<=Calc!$H$6:$H$20)*(Calc!$M$6:$M$20<>"Cancelled"),ROW(Calc!$D$6:$D$20)-ROW(INDEX(Calc!$D$6:$D$20,1,1))+1),2)),"")}
D52: {=IFERROR(INDEX(Calc!$D$6:$D$20,SMALL(IF(($D$46>=Calc!$E$6:$E$20)*($D$46<=Calc!$H$6:$H$20)*(Calc!$M$6:$M$20<>"Cancelled"),ROW(Calc!$D$6:$D$20)-ROW(INDEX(Calc!$D$6:$D$20,1,1))+1),3)),"")} | G52: {=IFERROR(INDEX(Calc!$D$6:$D$20,SMALL(IF(($G$46>=Calc!$E$6:$E$20)*($G$46<=Calc!$H$6:$H$20)*(Calc!$M$6:$M$20<>"Cancelled"),ROW(Calc!$D$6:$D$20)-ROW(INDEX(Calc!$D$6:$D$20,1,1))+1),3)),"")} | J52: {=IFERROR(INDEX(Calc!$D$6:$D$20,SMALL(IF(($J$46>=Calc!$E$6:$E$20)*($J$46<=Calc!$H$6:$H$20)*(Calc!$M$6:$M$20<>"Cancelled"),ROW(Calc!$D$6:$D$20)-ROW(INDEX(Calc!$D$6:$D$20,1,1))+1),3)),"")} | M52: {=IFERROR(INDEX(Calc!$D$6:$D$20,SMALL(IF(($M$46>=Calc!$E$6:$E$20)*($M$46<=Calc!$H$6:$H$20)*(Calc!$M$6:$M$20<>"Cancelled"),ROW(Calc!$D$6:$D$20)-ROW(INDEX(Calc!$D$6:$D$20,1,1))+1),3)),"")} | P52: {=IFERROR(INDEX(Calc!$D$6:$D$20,SMALL(IF(($P$46>=Calc!$E$6:$E$20)*($P$46<=Calc!$H$6:$H$20)*(Calc!$M$6:$M$20<>"Cancelled"),ROW(Calc!$D$6:$D$20)-ROW(INDEX(Calc!$D$6:$D$20,1,1))+1),3)),"")} | S52: {=IFERROR(INDEX(Calc!$D$6:$D$20,SMALL(IF(($S$46>=Calc!$E$6:$E$20)*($S$46<=Calc!$H$6:$H$20)*(Calc!$M$6:$M$20<>"Cancelled"),ROW(Calc!$D$6:$D$20)-ROW(INDEX(Calc!$D$6:$D$20,1,1))+1),3)),"")} | V52: {=IFERROR(INDEX(Calc!$D$6:$D$20,SMALL(IF(($V$46>=Calc!$E$6:$E$20)*($V$46<=Calc!$H$6:$H$20)*(Calc!$M$6:$M$20<>"Cancelled"),ROW(Calc!$D$6:$D$20)-ROW(INDEX(Calc!$D$6:$D$20,1,1))+1),3)),"")}
D54: {=IFERROR(INDEX(Calc!$D$6:$D$20,SMALL(IF(($D$46>=Calc!$E$6:$E$20)*($D$46<=Calc!$H$6:$H$20)*(Calc!$M$6:$M$20<>"Cancelled"),ROW(Calc!$D$6:$D$20)-ROW(INDEX(Calc!$D$6:$D$20,1,1))+1),4)),"")} | G54: {=IFERROR(INDEX(Calc!$D$6:$D$20,SMALL(IF(($G$46>=Calc!$E$6:$E$20)*($G$46<=Calc!$H$6:$H$20)*(Calc!$M$6:$M$20<>"Cancelled"),ROW(Calc!$D$6:$D$20)-ROW(INDEX(Calc!$D$6:$D$20,1,1))+1),4)),"")} | J54: {=IFERROR(INDEX(Calc!$D$6:$D$20,SMALL(IF(($J$46>=Calc!$E$6:$E$20)*($J$46<=Calc!$H$6:$H$20)*(Calc!$M$6:$M$20<>"Cancelled"),ROW(Calc!$D$6:$D$20)-ROW(INDEX(Calc!$D$6:$D$20,1,1))+1),4)),"")} | M54: {=IFERROR(INDEX(Calc!$D$6:$D$20,SMALL(IF(($M$46>=Calc!$E$6:$E$20)*($M$46<=Calc!$H$6:$H$20)*(Calc!$M$6:$M$20<>"Cancelled"),ROW(Calc!$D$6:$D$20)-ROW(INDEX(Calc!$D$6:$D$20,1,1))+1),4)),"")} | P54: {=IFERROR(INDEX(Calc!$D$6:$D$20,SMALL(IF(($P$46>=Calc!$E$6:$E$20)*($P$46<=Calc!$H$6:$H$20)*(Calc!$M$6:$M$20<>"Cancelled"),ROW(Calc!$D$6:$D$20)-ROW(INDEX(Calc!$D$6:$D$20,1,1))+1),4)),"")} | S54: {=IFERROR(INDEX(Calc!$D$6:$D$20,SMALL(IF(($S$46>=Calc!$E$6:$E$20)*($S$46<=Calc!$H$6:$H$20)*(Calc!$M$6:$M$20<>"Cancelled"),ROW(Calc!$D$6:$D$20)-ROW(INDEX(Calc!$D$6:$D$20,1,1))+1),4)),"")} | V54: {=IFERROR(INDEX(Calc!$D$6:$D$20,SMALL(IF(($V$46>=Calc!$E$6:$E$20)*($V$46<=Calc!$H$6:$H$20)*(Calc!$M$6:$M$20<>"Cancelled"),ROW(Calc!$D$6:$D$20)-ROW(INDEX(Calc!$D$6:$D$20,1,1))+1),4)),"")}
D56: {=IFERROR(INDEX(Calc!$D$6:$D$20,SMALL(IF(($D$46>=Calc!$E$6:$E$20)*($D$46<=Calc!$H$6:$H$20)*(Calc!$M$6:$M$20<>"Cancelled"),ROW(Calc!$D$6:$D$20)-ROW(INDEX(Calc!$D$6:$D$20,1,1))+1),5)),"")} | G56: {=IFERROR(INDEX(Calc!$D$6:$D$20,SMALL(IF(($G$46>=Calc!$E$6:$E$20)*($G$46<=Calc!$H$6:$H$20)*(Calc!$M$6:$M$20<>"Cancelled"),ROW(Calc!$D$6:$D$20)-ROW(INDEX(Calc!$D$6:$D$20,1,1))+1),5)),"")} | J56: {=IFERROR(INDEX(Calc!$D$6:$D$20,SMALL(IF(($J$46>=Calc!$E$6:$E$20)*($J$46<=Calc!$H$6:$H$20)*(Calc!$M$6:$M$20<>"Cancelled"),ROW(Calc!$D$6:$D$20)-ROW(INDEX(Calc!$D$6:$D$20,1,1))+1),5)),"")} | M56: {=IFERROR(INDEX(Calc!$D$6:$D$20,SMALL(IF(($M$46>=Calc!$E$6:$E$20)*($M$46<=Calc!$H$6:$H$20)*(Calc!$M$6:$M$20<>"Cancelled"),ROW(Calc!$D$6:$D$20)-ROW(INDEX(Calc!$D$6:$D$20,1,1))+1),5)),"")} | P56: {=IFERROR(INDEX(Calc!$D$6:$D$20,SMALL(IF(($P$46>=Calc!$E$6:$E$20)*($P$46<=Calc!$H$6:$H$20)*(Calc!$M$6:$M$20<>"Cancelled"),ROW(Calc!$D$6:$D$20)-ROW(INDEX(Calc!$D$6:$D$20,1,1))+1),5)),"")} | S56: {=IFERROR(INDEX(Calc!$D$6:$D$20,SMALL(IF(($S$46>=Calc!$E$6:$E$20)*($S$46<=Calc!$H$6:$H$20)*(Calc!$M$6:$M$20<>"Cancelled"),ROW(Calc!$D$6:$D$20)-ROW(INDEX(Calc!$D$6:$D$20,1,1))+1),5)),"")} | V56: {=IFERROR(INDEX(Calc!$D$6:$D$20,SMALL(IF(($V$46>=Calc!$E$6:$E$20)*($V$46<=Calc!$H$6:$H$20)*(Calc!$M$6:$M$20<>"Cancelled"),ROW(Calc!$D$6:$D$20)-ROW(INDEX(Calc!$D$6:$D$20,1,1))+1),5)),"")}
D58: =IFERROR(IF(LEN(V46)=0,"",IF(MONTH(V46+1)=MONTH(V46),V46+1,"")),"") -> 44585 | G58: =IFERROR(IF(LEN(D58)=0,"",IF(MONTH(D58+1)=MONTH(D58),D58+1,"")),"") -> 44586 | J58: =IFERROR(IF(LEN(G58)=0,"",IF(MONTH(G58+1)=MONTH(G58),G58+1,"")),"") -> 44587 | M58: =IFERROR(IF(LEN(J58)=0,"",IF(MONTH(J58+1)=MONTH(J58),J58+1,"")),"") -> 44588 | P58: =IFERROR(IF(LEN(M58)=0,"",IF(MONTH(M58+1)=MONTH(M58),M58+1,"")),"") -> 44589 | S58: =IFERROR(IF(LEN(P58)=0,"",IF(MONTH(P58+1)=MONTH(P58),P58+1,"")),"") -> 44590 | V58: =IFERROR(IF(LEN(S58)=0,"",IF(MONTH(S58+1)=MONTH(S58),S58+1,"")),"") -> 44591
D60: {=IFERROR(INDEX(Calc!$D$6:$D$20,SMALL(IF(($D$58>=Calc!$E$6:$E$20)*($D$58<=Calc!$H$6:$H$20)*(Calc!$M$6:$M$20<>"Cancelled"),ROW(Calc!$D$6:$D$20)-ROW(INDEX(Calc!$D$6:$D$20,1,1))+1),1)),"")} -> AGILE Practices | G60: {=IFERROR(INDEX(Calc!$D$6:$D$20,SMALL(IF(($G$58>=Calc!$E$6:$E$20)*($G$58<=Calc!$H$6:$H$20)*(Calc!$M$6:$M$20<>"Cancelled"),ROW(Calc!$D$6:$D$20)-ROW(INDEX(Calc!$D$6:$D$20,1,1))+1),1)),"")} -> AGILE Practices | J60: {=IFERROR(INDEX(Calc!$D$6:$D$20,SMALL(IF(($J$58>=Calc!$E$6:$E$20)*($J$58<=Calc!$H$6:$H$20)*(Calc!$M$6:$M$20<>"Cancelled"),ROW(Calc!$D$6:$D$20)-ROW(INDEX(Calc!$D$6:$D$20,1,1))+1),1)),"")} -> AGILE Practices | M60: {=IFERROR(INDEX(Calc!$D$6:$D$20,SMALL(IF(($M$58>=Calc!$E$6:$E$20)*($M$58<=Calc!$H$6:$H$20)*(Calc!$M$6:$M$20<>"Cancelled"),ROW(Calc!$D$6:$D$20)-ROW(INDEX(Calc!$D$6:$D$20,1,1))+1),1)),"")} -> AGILE Practices | P60: {=IFERROR(INDEX(Calc!$D$6:$D$20,SMALL(IF(($P$58>=Calc!$E$6:$E$20)*($P$58<=Calc!$H$6:$H$20)*(Calc!$M$6:$M$20<>"Cancelled"),ROW(Calc!$D$6:$D$20)-ROW(INDEX(Calc!$D$6:$D$20,1,1))+1),1)),"")} -> AGILE Practices | S60: {=IFERROR(INDEX(Calc!$D$6:$D$20,SMALL(IF(($S$58>=Calc!$E$6:$E$20)*($S$58<=Calc!$H$6:$H$20)*(Calc!$M$6:$M$20<>"Cancelled")*(Calc!$M$6:$M$20<>"Cancelled"),ROW(Calc!$D$6:$D$20)-ROW(INDEX(Calc!$D$6:$D$20,1,1))+1),1)),"")} -> AGILE Practices | V60: {=IFERROR(INDEX(Calc!$D$6:$D$20,SMALL(IF(($V$58>=Calc!$E$6:$E$20)*($V$58<=Calc!$H$6:$H$20)*(Calc!$M$6:$M$20<>"Cancelled"),ROW(Calc!$D$6:$D$20)-ROW(INDEX(Calc!$D$6:$D$20,1,1))+1),1)),"")} -> AGILE Practices
D62: {=IFERROR(INDEX(Calc!$D$6:$D$20,SMALL(IF(($D$58>=Calc!$E$6:$E$20)*($D$58<=Calc!$H$6:$H$20)*(Calc!$M$6:$M$20<>"Cancelled"),ROW(Calc!$D$6:$D$20)-ROW(INDEX(Calc!$D$6:$D$20,1,1))+1),2)),"")} | G62: {=IFERROR(INDEX(Calc!$D$6:$D$20,SMALL(IF(($G$58>=Calc!$E$6:$E$20)*($G$58<=Calc!$H$6:$H$20)*(Calc!$M$6:$M$20<>"Cancelled"),ROW(Calc!$D$6:$D$20)-ROW(INDEX(Calc!$D$6:$D$20,1,1))+1),2)),"")} | J62: {=IFERROR(INDEX(Calc!$D$6:$D$20,SMALL(IF(($J$58>=Calc!$E$6:$E$20)*($J$58<=Calc!$H$6:$H$20)*(Calc!$M$6:$M$20<>"Cancelled"),ROW(Calc!$D$6:$D$20)-ROW(INDEX(Calc!$D$6:$D$20,1,1))+1),2)),"")} | M62: {=IFERROR(INDEX(Calc!$D$6:$D$20,SMALL(IF(($M$58>=Calc!$E$6:$E$20)*($M$58<=Calc!$H$6:$H$20)*(Calc!$M$6:$M$20<>"Cancelled"),ROW(Calc!$D$6:$D$20)-ROW(INDEX(Calc!$D$6:$D$20,1,1))+1),2)),"")} | P62: {=IFERROR(INDEX(Calc!$D$6:$D$20,SMALL(IF(($P$58>=Calc!$E$6:$E$20)*($P$58<=Calc!$H$6:$H$20)*(Calc!$M$6:$M$20<>"Cancelled"),ROW(Calc!$D$6:$D$20)-ROW(INDEX(Calc!$D$6:$D$20,1,1))+1),2)),"")} | S62: {=IFERROR(INDEX(Calc!$D$6:$D$20,SMALL(IF(($S$58>=Calc!$E$6:$E$20)*($S$58<=Calc!$H$6:$H$20)*(Calc!$M$6:$M$20<>"Cancelled"),ROW(Calc!$D$6:$D$20)-ROW(INDEX(Calc!$D$6:$D$20,1,1))+1),2)),"")} | V62: {=IFERROR(INDEX(Calc!$D$6:$D$20,SMALL(IF(($V$58>=Calc!$E$6:$E$20)*($V$58<=Calc!$H$6:$H$20)*(Calc!$M$6:$M$20<>"Cancelled"),ROW(Calc!$D$6:$D$20)-ROW(INDEX(Calc!$D$6:$D$20,1,1))+1),2)),"")}
D64: {=IFERROR(INDEX(Calc!$D$6:$D$20,SMALL(IF(($D$58>=Calc!$E$6:$E$20)*($D$58<=Calc!$H$6:$H$20)*(Calc!$M$6:$M$20<>"Cancelled"),ROW(Calc!$D$6:$D$20)-ROW(INDEX(Calc!$D$6:$D$20,1,1))+1),3)),"")} | G64: {=IFERROR(INDEX(Calc!$D$6:$D$20,SMALL(IF(($G$58>=Calc!$E$6:$E$20)*($G$58<=Calc!$H$6:$H$20)*(Calc!$M$6:$M$20<>"Cancelled"),ROW(Calc!$D$6:$D$20)-ROW(INDEX(Calc!$D$6:$D$20,1,1))+1),3)),"")} | J64: {=IFERROR(INDEX(Calc!$D$6:$D$20,SMALL(IF(($J$58>=Calc!$E$6:$E$20)*($J$58<=Calc!$H$6:$H$20)*(Calc!$M$6:$M$20<>"Cancelled"),ROW(Calc!$D$6:$D$20)-ROW(INDEX(Calc!$D$6:$D$20,1,1))+1),3)),"")} | M64: {=IFERROR(INDEX(Calc!$D$6:$D$20,SMALL(IF(($M$58>=Calc!$E$6:$E$20)*($M$58<=Calc!$H$6:$H$20)*(Calc!$M$6:$M$20<>"Cancelled"),ROW(Calc!$D$6:$D$20)-ROW(INDEX(Calc!$D$6:$D$20,1,1))+1),3)),"")} | P64: {=IFERROR(INDEX(Calc!$D$6:$D$20,SMALL(IF(($P$58>=Calc!$E$6:$E$20)*($P$58<=Calc!$H$6:$H$20)*(Calc!$M$6:$M$20<>"Cancelled"),ROW(Calc!$D$6:$D$20)-ROW(INDEX(Calc!$D$6:$D$20,1,1))+1),3)),"")} | S64: {=IFERROR(INDEX(Calc!$D$6:$D$20,SMALL(IF(($S$58>=Calc!$E$6:$E$20)*($S$58<=Calc!$H$6:$H$20)*(Calc!$M$6:$M$20<>"Cancelled"),ROW(Calc!$D$6:$D$20)-ROW(INDEX(Calc!$D$6:$D$20,1,1))+1),3)),"")} | V64: {=IFERROR(INDEX(Calc!$D$6:$D$20,SMALL(IF(($V$58>=Calc!$E$6:$E$20)*($V$58<=Calc!$H$6:$H$20)*(Calc!$M$6:$M$20<>"Cancelled"),ROW(Calc!$D$6:$D$20)-ROW(INDEX(Calc!$D$6:$D$20,1,1))+1),3)),"")}
D66: {=IFERROR(INDEX(Calc!$D$6:$D$20,SMALL(IF(($D$58>=Calc!$E$6:$E$20)*($D$58<=Calc!$H$6:$H$20)*(Calc!$M$6:$M$20<>"Cancelled"),ROW(Calc!$D$6:$D$20)-ROW(INDEX(Calc!$D$6:$D$20,1,1))+1),4)),"")} | G66: {=IFERROR(INDEX(Calc!$D$6:$D$20,SMALL(IF(($G$58>=Calc!$E$6:$E$20)*($G$58<=Calc!$H$6:$H$20)*(Calc!$M$6:$M$20<>"Cancelled"),ROW(Calc!$D$6:$D$20)-ROW(INDEX(Calc!$D$6:$D$20,1,1))+1),4)),"")} | J66: {=IFERROR(INDEX(Calc!$D$6:$D$20,SMALL(IF(($J$58>=Calc!$E$6:$E$20)*($J$58<=Calc!$H$6:$H$20)*(Calc!$M$6:$M$20<>"Cancelled"),ROW(Calc!$D$6:$D$20)-ROW(INDEX(Calc!$D$6:$D$20,1,1))+1),4)),"")} | M66: {=IFERROR(INDEX(Calc!$D$6:$D$20,SMALL(IF(($M$58>=Calc!$E$6:$E$20)*($M$58<=Calc!$H$6:$H$20)*(Calc!$M$6:$M$20<>"Cancelled"),ROW(Calc!$D$6:$D$20)-ROW(INDEX(Calc!$D$6:$D$20,1,1))+1),4)),"")} | P66: {=IFERROR(INDEX(Calc!$D$6:$D$20,SMALL(IF(($P$58>=Calc!$E$6:$E$20)*($P$58<=Calc!$H$6:$H$20)*(Calc!$M$6:$M$20<>"Cancelled"),ROW(Calc!$D$6:$D$20)-ROW(INDEX(Calc!$D$6:$D$20,1,1))+1),4)),"")} | S66: {=IFERROR(INDEX(Calc!$D$6:$D$20,SMALL(IF(($S$58>=Calc!$E$6:$E$20)*($S$58<=Calc!$H$6:$H$20)*(Calc!$M$6:$M$20<>"Cancelled"),ROW(Calc!$D$6:$D$20)-ROW(INDEX(Calc!$D$6:$D$20,1,1))+1),4)),"")} | V66: {=IFERROR(INDEX(Calc!$D$6:$D$20,SMALL(IF(($V$58>=Calc!$E$6:$E$20)*($V$58<=Calc!$H$6:$H$20)*(Calc!$M$6:$M$20<>"Cancelled"),ROW(Calc!$D$6:$D$20)-ROW(INDEX(Calc!$D$6:$D$20,1,1))+1),4)),"")}
D68: {=IFERROR(INDEX(Calc!$D$6:$D$20,SMALL(IF(($D$58>=Calc!$E$6:$E$20)*($D$58<=Calc!$H$6:$H$20)*(Calc!$M$6:$M$20<>"Cancelled"),ROW(Calc!$D$6:$D$20)-ROW(INDEX(Calc!$D$6:$D$20,1,1))+1),5)),"")} | G68: {=IFERROR(INDEX(Calc!$D$6:$D$20,SMALL(IF(($G$58>=Calc!$E$6:$E$20)*($G$58<=Calc!$H$6:$H$20)*(Calc!$M$6:$M$20<>"Cancelled"),ROW(Calc!$D$6:$D$20)-ROW(INDEX(Calc!$D$6:$D$20,1,1))+1),5)),"")} | J68: {=IFERROR(INDEX(Calc!$D$6:$D$20,SMALL(IF(($J$58>=Calc!$E$6:$E$20)*($J$58<=Calc!$H$6:$H$20)*(Calc!$M$6:$M$20<>"Cancelled"),ROW(Calc!$D$6:$D$20)-ROW(INDEX(Calc!$D$6:$D$20,1,1))+1),5)),"")} | M68: {=IFERROR(INDEX(Calc!$D$6:$D$20,SMALL(IF(($M$58>=Calc!$E$6:$E$20)*($M$58<=Calc!$H$6:$H$20)*(Calc!$M$6:$M$20<>"Cancelled"),ROW(Calc!$D$6:$D$20)-ROW(INDEX(Calc!$D$6:$D$20,1,1))+1),5)),"")} | P68: {=IFERROR(INDEX(Calc!$D$6:$D$20,SMALL(IF(($P$58>=Calc!$E$6:$E$20)*($P$58<=Calc!$H$6:$H$20)*(Calc!$M$6:$M$20<>"Cancelled"),ROW(Calc!$D$6:$D$20)-ROW(INDEX(Calc!$D$6:$D$20,1,1))+1),5)),"")} | S68: {=IFERROR(INDEX(Calc!$D$6:$D$20,SMALL(IF(($S$58>=Calc!$E$6:$E$20)*($S$58<=Calc!$H$6:$H$20)*(Calc!$M$6:$M$20<>"Cancelled"),ROW(Calc!$D$6:$D$20)-ROW(INDEX(Calc!$D$6:$D$20,1,1))+1),5)),"")} | V68: {=IFERROR(INDEX(Calc!$D$6:$D$20,SMALL(IF(($V$58>=Calc!$E$6:$E$20)*($V$58<=Calc!$H$6:$H$20)*(Calc!$M$6:$M$20<>"Cancelled"),ROW(Calc!$D$6:$D$20)-ROW(INDEX(Calc!$D$6:$D$20,1,1))+1),5)),"")}
D70: =IFERROR(IF(LEN(V58)=0,"",IF(MONTH(V58+1)=MONTH(V58),V58+1,"")),"") -> 44592 | G70: =IFERROR(IF(LEN(D70)=0,"",IF(MONTH(D70+1)=MONTH(D70),D70+1,"")),"") | J70: =IFERROR(IF(LEN(G70)=0,"",IF(MONTH(G70+1)=MONTH(G70),G70+1,"")),"") | M70: =IFERROR(IF(LEN(J70)=0,"",IF(MONTH(J70+1)=MONTH(J70),J70+1,"")),"") | P70: =IFERROR(IF(LEN(M70)=0,"",IF(MONTH(M70+1)=MONTH(M70),M70+1,"")),"") | S70: =IFERROR(IF(LEN(P70)=0,"",IF(MONTH(P70+1)=MONTH(P70),P70+1,"")),"") | V70: =IFERROR(IF(LEN(S70)=0,"",IF(MONTH(S70+1)=MONTH(S70),S70+1,"")),"")
D72: {=IFERROR(INDEX(Calc!$D$6:$D$20,SMALL(IF(($D$70>=Calc!$E$6:$E$20)*($D$70<=Calc!$H$6:$H$20)*(Calc!$M$6:$M$20<>"Cancelled"),ROW(Calc!$D$6:$D$20)-ROW(INDEX(Calc!$D$6:$D$20,1,1))+1),1)),"")} -> AGILE Practices | G72: {=IFERROR(INDEX(Calc!$D$6:$D$20,SMALL(IF(($G$70>=Calc!$E$6:$E$20)*($G$70<=Calc!$H$6:$H$20)*(Calc!$M$6:$M$20<>"Cancelled"),ROW(Calc!$D$6:$D$20)-ROW(INDEX(Calc!$D$6:$D$20,1,1))+1),1)),"")} | J72: {=IFERROR(INDEX(Calc!$D$6:$D$20,SMALL(IF(($J$70>=Calc!$E$6:$E$20)*($J$70<=Calc!$H$6:$H$20)*(Calc!$M$6:$M$20<>"Cancelled"),ROW(Calc!$D$6:$D$20)-ROW(INDEX(Calc!$D$6:$D$20,1,1))+1),1)),"")} | M72: {=IFERROR(INDEX(Calc!$D$6:$D$20,SMALL(IF(($M$70>=Calc!$E$6:$E$20)*($M$70<=Calc!$H$6:$H$20)*(Calc!$M$6:$M$20<>"Cancelled"),ROW(Calc!$D$6:$D$20)-ROW(INDEX(Calc!$D$6:$D$20,1,1))+1),1)),"")} | P72: {=IFERROR(INDEX(Calc!$D$6:$D$20,SMALL(IF(($P$70>=Calc!$E$6:$E$20)*($P$70<=Calc!$H$6:$H$20)*(Calc!$M$6:$M$20<>"Cancelled"),ROW(Calc!$D$6:$D$20)-ROW(INDEX(Calc!$D$6:$D$20,1,1))+1),1)),"")} | S72: {=IFERROR(INDEX(Calc!$D$6:$D$20,SMALL(IF(($S$70>=Calc!$E$6:$E$20)*($S$70<=Calc!$H$6:$H$20)*(Calc!$M$6:$M$20<>"Cancelled"),ROW(Calc!$D$6:$D$20)-ROW(INDEX(Calc!$D$6:$D$20,1,1))+1),1)),"")} | V72: {=IFERROR(INDEX(Calc!$D$6:$D$20,SMALL(IF(($V$70>=Calc!$E$6:$E$20)*($V$70<=Calc!$H$6:$H$20)*(Calc!$M$6:$M$20<>"Cancelled"),ROW(Calc!$D$6:$D$20)-ROW(INDEX(Calc!$D$6:$D$20,1,1))+1),1)),"")}
D74: {=IFERROR(INDEX(Calc!$D$6:$D$20,SMALL(IF(($D$70>=Calc!$E$6:$E$20)*($D$70<=Calc!$H$6:$H$20)*(Calc!$M$6:$M$20<>"Cancelled"),ROW(Calc!$D$6:$D$20)-ROW(INDEX(Calc!$D$6:$D$20,1,1))+1),2)),"")} | G74: {=IFERROR(INDEX(Calc!$D$6:$D$20,SMALL(IF(($G$70>=Calc!$E$6:$E$20)*($G$70<=Calc!$H$6:$H$20)*(Calc!$M$6:$M$20<>"Cancelled"),ROW(Calc!$D$6:$D$20)-ROW(INDEX(Calc!$D$6:$D$20,1,1))+1),2)),"")} | J74: {=IFERROR(INDEX(Calc!$D$6:$D$20,SMALL(IF(($J$70>=Calc!$E$6:$E$20)*($J$70<=Calc!$H$6:$H$20)*(Calc!$M$6:$M$20<>"Cancelled"),ROW(Calc!$D$6:$D$20)-ROW(INDEX(Calc!$D$6:$D$20,1,1))+1),2)),"")} | M74: {=IFERROR(INDEX(Calc!$D$6:$D$20,SMALL(IF(($M$70>=Calc!$E$6:$E$20)*($M$70<=Calc!$H$6:$H$20)*(Calc!$M$6:$M$20<>"Cancelled"),ROW(Calc!$D$6:$D$20)-ROW(INDEX(Calc!$D$6:$D$20,1,1))+1),2)),"")} | P74: {=IFERROR(INDEX(Calc!$D$6:$D$20,SMALL(IF(($P$70>=Calc!$E$6:$E$20)*($P$70<=Calc!$H$6:$H$20)*(Calc!$M$6:$M$20<>"Cancelled"),ROW(Calc!$D$6:$D$20)-ROW(INDEX(Calc!$D$6:$D$20,1,1))+1),2)),"")} | S74: {=IFERROR(INDEX(Calc!$D$6:$D$20,SMALL(IF(($S$70>=Calc!$E$6:$E$20)*($S$70<=Calc!$H$6:$H$20)*(Calc!$M$6:$M$20<>"Cancelled"),ROW(Calc!$D$6:$D$20)-ROW(INDEX(Calc!$D$6:$D$20,1,1))+1),2)),"")} | V74: {=IFERROR(INDEX(Calc!$D$6:$D$20,SMALL(IF(($V$70>=Calc!$E$6:$E$20)*($V$70<=Calc!$H$6:$H$20)*(Calc!$M$6:$M$20<>"Cancelled"),ROW(Calc!$D$6:$D$20)-ROW(INDEX(Calc!$D$6:$D$20,1,1))+1),2)),"")}
D76: {=IFERROR(INDEX(Calc!$D$6:$D$20,SMALL(IF(($D$70>=Calc!$E$6:$E$20)*($D$70<=Calc!$H$6:$H$20)*(Calc!$M$6:$M$20<>"Cancelled"),ROW(Calc!$D$6:$D$20)-ROW(INDEX(Calc!$D$6:$D$20,1,1))+1),3)),"")} | G76: {=IFERROR(INDEX(Calc!$D$6:$D$20,SMALL(IF(($G$70>=Calc!$E$6:$E$20)*($G$70<=Calc!$H$6:$H$20)*(Calc!$M$6:$M$20<>"Cancelled"),ROW(Calc!$D$6:$D$20)-ROW(INDEX(Calc!$D$6:$D$20,1,1))+1),3)),"")} | J76: {=IFERROR(INDEX(Calc!$D$6:$D$20,SMALL(IF(($J$70>=Calc!$E$6:$E$20)*($J$70<=Calc!$H$6:$H$20)*(Calc!$M$6:$M$20<>"Cancelled"),ROW(Calc!$D$6:$D$20)-ROW(INDEX(Calc!$D$6:$D$20,1,1))+1),3)),"")} | M76: {=IFERROR(INDEX(Calc!$D$6:$D$20,SMALL(IF(($M$70>=Calc!$E$6:$E$20)*($M$70<=Calc!$H$6:$H$20)*(Calc!$M$6:$M$20<>"Cancelled"),ROW(Calc!$D$6:$D$20)-ROW(INDEX(Calc!$D$6:$D$20,1,1))+1),3)),"")} | P76: {=IFERROR(INDEX(Calc!$D$6:$D$20,SMALL(IF(($P$70>=Calc!$E$6:$E$20)*($P$70<=Calc!$H$6:$H$20)*(Calc!$M$6:$M$20<>"Cancelled"),ROW(Calc!$D$6:$D$20)-ROW(INDEX(Calc!$D$6:$D$20,1,1))+1),3)),"")} | S76: {=IFERROR(INDEX(Calc!$D$6:$D$20,SMALL(IF(($S$70>=Calc!$E$6:$E$20)*($S$70<=Calc!$H$6:$H$20)*(Calc!$M$6:$M$20<>"Cancelled"),ROW(Calc!$D$6:$D$20)-ROW(INDEX(Calc!$D$6:$D$20,1,1))+1),3)),"")} | V76: {=IFERROR(INDEX(Calc!$D$6:$D$20,SMALL(IF(($V$70>=Calc!$E$6:$E$20)*($V$70<=Calc!$H$6:$H$20)*(Calc!$M$6:$M$20<>"Cancelled"),ROW(Calc!$D$6:$D$20)-ROW(INDEX(Calc!$D$6:$D$20,1,1))+1),3)),"")}
D78: {=IFERROR(INDEX(Calc!$D$6:$D$20,SMALL(IF(($D$70>=Calc!$E$6:$E$20)*($D$70<=Calc!$H$6:$H$20)*(Calc!$M$6:$M$20<>"Cancelled"),ROW(Calc!$D$6:$D$20)-ROW(INDEX(Calc!$D$6:$D$20,1,1))+1),4)),"")} | G78: {=IFERROR(INDEX(Calc!$D$6:$D$20,SMALL(IF(($G$70>=Calc!$E$6:$E$20)*($G$70<=Calc!$H$6:$H$20)*(Calc!$M$6:$M$20<>"Cancelled"),ROW(Calc!$D$6:$D$20)-ROW(INDEX(Calc!$D$6:$D$20,1,1))+1),4)),"")} | J78: {=IFERROR(INDEX(Calc!$D$6:$D$20,SMALL(IF(($J$70>=Calc!$E$6:$E$20)*($J$70<=Calc!$H$6:$H$20)*(Calc!$M$6:$M$20<>"Cancelled"),ROW(Calc!$D$6:$D$20)-ROW(INDEX(Calc!$D$6:$D$20,1,1))+1),4)),"")} | M78: {=IFERROR(INDEX(Calc!$D$6:$D$20,SMALL(IF(($M$70>=Calc!$E$6:$E$20)*($M$70<=Calc!$H$6:$H$20)*(Calc!$M$6:$M$20<>"Cancelled"),ROW(Calc!$D$6:$D$20)-ROW(INDEX(Calc!$D$6:$D$20,1,1))+1),4)),"")} | P78: {=IFERROR(INDEX(Calc!$D$6:$D$20,SMALL(IF(($P$70>=Calc!$E$6:$E$20)*($P$70<=Calc!$H$6:$H$20)*(Calc!$M$6:$M$20<>"Cancelled"),ROW(Calc!$D$6:$D$20)-ROW(INDEX(Calc!$D$6:$D$20,1,1))+1),4)),"")} | S78: {=IFERROR(INDEX(Calc!$D$6:$D$20,SMALL(IF(($S$70>=Calc!$E$6:$E$20)*($S$70<=Calc!$H$6:$H$20)*(Calc!$M$6:$M$20<>"Cancelled"),ROW(Calc!$D$6:$D$20)-ROW(INDEX(Calc!$D$6:$D$20,1,1))+1),4)),"")} | V78: {=IFERROR(INDEX(Calc!$D$6:$D$20,SMALL(IF(($V$70>=Calc!$E$6:$E$20)*($V$70<=Calc!$H$6:$H$20)*(Calc!$M$6:$M$20<>"Cancelled"),ROW(Calc!$D$6:$D$20)-ROW(INDEX(Calc!$D$6:$D$20,1,1))+1),4)),"")}
D80: {=IFERROR(INDEX(Calc!$D$6:$D$20,SMALL(IF(($D$70>=Calc!$E$6:$E$20)*($D$70<=Calc!$H$6:$H$20)*(Calc!$M$6:$M$20<>"Cancelled"),ROW(Calc!$D$6:$D$20)-ROW(INDEX(Calc!$D$6:$D$20,1,1))+1),5)),"")} | G80: {=IFERROR(INDEX(Calc!$D$6:$D$20,SMALL(IF(($G$70>=Calc!$E$6:$E$20)*($G$70<=Calc!$H$6:$H$20)*(Calc!$M$6:$M$20<>"Cancelled"),ROW(Calc!$D$6:$D$20)-ROW(INDEX(Calc!$D$6:$D$20,1,1))+1),5)),"")} | J80: {=IFERROR(INDEX(Calc!$D$6:$D$20,SMALL(IF(($J$70>=Calc!$E$6:$E$20)*($J$70<=Calc!$H$6:$H$20)*(Calc!$M$6:$M$20<>"Cancelled"),ROW(Calc!$D$6:$D$20)-ROW(INDEX(Calc!$D$6:$D$20,1,1))+1),5)),"")} | M80: {=IFERROR(INDEX(Calc!$D$6:$D$20,SMALL(IF(($M$70>=Calc!$E$6:$E$20)*($M$70<=Calc!$H$6:$H$20)*(Calc!$M$6:$M$20<>"Cancelled"),ROW(Calc!$D$6:$D$20)-ROW(INDEX(Calc!$D$6:$D$20,1,1))+1),5)),"")} | P80: {=IFERROR(INDEX(Calc!$D$6:$D$20,SMALL(IF(($P$70>=Calc!$E$6:$E$20)*($P$70<=Calc!$H$6:$H$20)*(Calc!$M$6:$M$20<>"Cancelled"),ROW(Calc!$D$6:$D$20)-ROW(INDEX(Calc!$D$6:$D$20,1,1))+1),5)),"")} | S80: {=IFERROR(INDEX(Calc!$D$6:$D$20,SMALL(IF(($S$70>=Calc!$E$6:$E$20)*($S$70<=Calc!$H$6:$H$20)*(Calc!$M$6:$M$20<>"Cancelled"),ROW(Calc!$D$6:$D$20)-ROW(INDEX(Calc!$D$6:$D$20,1,1))+1),5)),"")} | V80: {=IFERROR(INDEX(Calc!$D$6:$D$20,SMALL(IF(($V$70>=Calc!$E$6:$E$20)*($V$70<=Calc!$H$6:$H$20)*(Calc!$M$6:$M$20<>"Cancelled"),ROW(Calc!$D$6:$D$20)-ROW(INDEX(Calc!$D$6:$D$20,1,1))+1),5)),"")}

Sheet Calc
B4: DATABASE | U4: FILTERS | Z4: SUMMARY SHEET STATISTICS | AM4: DROP-DOWN MENUS
B5: # | C5: Training | D5: Calendar Trainings (Cancelled) | E5: Start Date | F5: Start Month Index | G5: Start Month | H5: End Date | I5: End Month Index | J5: End Month | K5: Category | L5: Type | M5: Status | N5: Duration (Hours) | O5: Completed Duration | P5: Expected # of Trainees | Q5: Total Cost | R5: Completed Total Cost | S5: Average Ratings | U5: Category | V5: Training | W5: Year | X5: Total | Z5: Total Statistics | AC5: Department and Job Title Statistic | AM5: Index | AN5: Months | AP5: Employees | AQ5: Trainings | AR5: Ratings | AS5: Types | AT5: Departments | AU5: Job Titles | AW5: CATEGORY VS. TRAINING TABLE | BI5: TRAINING
B6: =IFERROR(IF(LEN($C6)=0,"",ROW($A6)-ROW($A$5)),"") -> 1 | C6: =IFERROR(IF(LEN(Scheduling!B6)=0,"",Scheduling!B6),"") -> AGILE Practices | D6: =IFERROR(IF(LEN(C6)=0,"",IF(M6="Cancelled","",C6)),"") -> AGILE Practices | E6: =IFERROR(IF(LEN(Scheduling!C6)=0,"",Scheduling!C6),"") -> 44576 | F6: =IFERROR(MONTH(E6),"") -> 1 | G6: =IFERROR(INDEX($AN$6:$AN$17,MATCH($F6,$AM$6:$AM$17,0),1),"") -> January | H6: =IFERROR(IF(LEN(Scheduling!D6)=0,"",Scheduling!D6),"") -> 44602 | I6: =IFERROR(MONTH(H6),"") -> 2 | J6: =IFERROR(INDEX($AN$6:$AN$17,MATCH($I6,$AM$6:$AM$17,0),1),"") -> February | K6: =IFERROR(INDEX(Trainings!$C$6:$C$55,MATCH($C6,Trainings!$B$6:$B$55,0)),"") -> Quality | L6: =IFERROR(INDEX(Trainings!$D$6:$D$55,MATCH($C6,Trainings!$B$6:$B$55,0)),"") -> Online | M6: =IFERROR(IF(LEN(Scheduling!G6)=0,"",Scheduling!G6),"") -> In-Progress | N6: =IFERROR(INDEX(Trainings!$E$6:$E$55,MATCH($C6,Trainings!$B$6:$B$55,0)),"") -> 40 | O6: =IF(LEN(N6)=0,"",IF(M6="Completed",N6,0)) -> 0 | P6: =IFERROR(IF(LEN(Scheduling!E6)=0,"",Scheduling!E6),"") -> 10 | Q6: =IFERROR(IF(LEN(C6)=0,"",Scheduling!$F6),"") -> 10000 | R6: =IF(LEN(C6)=0,"",IF(M6="Completed",Q6,0)) -> 0 | S6: =IFERROR(AVERAGEIF(Registration!$B$6:$B$4005,C6,Registration!$P$6:$P$4005),"") -> 2.5 | U6: =IF(LEN(K6)=0,0,IF(OR(Summary!$D$5="All",Summary!$D$5=""),1,IF(Summary!$D$5=K6,1,0))) -> 1 | V6: =IF(LEN(C6)=0,0,IF(OR(Summary!$G$5="All",Summary!$G$5=""),1,IF(Summary!$G$5=C6,1,0))) -> 1 | W6: =IFERROR(IF(LEN(E6)=0,0,IF(YEAR(E6)=Summary!$K$5,1,0)),0) -> 1 | X6: =U6*V6*W6 -> 1 | AC6: Departments | AD6: Trainee # | AE6: Rank | AF6: Helper | AH6: Job Titles | AI6: Trainee # | AJ6: Rank | AK6: Helper | AM6: 1 | AN6: January | AP6: All | AQ6: All | AR6: - | AS6: All | AT6: All | AU6: All | AW6: All | AX6: {=IFERROR(INDEX(Dashboard!$G$17:$G$26,SMALL(IF(LEN(Dashboard!$G$17:$G$26)>0,ROW(Dashboard!$G$17:$G$26)-ROW(INDEX(Dashboard!$G$17:$G$26,1,1))+1),ROW(Dashboard!$A17)-ROW(Dashboard!$A$16))),"")} -> Marketing | AY6: {=IFERROR(INDEX(Dashboard!$G$17:$G$26,SMALL(IF(LEN(Dashboard!$G$17:$G$26)>0,ROW(Dashboard!$G$17:$G$26)-ROW(INDEX(Dashboard!$G$17:$G$26,1,1))+1),ROW(Dashboard!$A18)-ROW(Dashboard!$A$16))),"")} -> Quality | AZ6: {=IFERROR(INDEX(Dashboard!$G$17:$G$26,SMALL(IF(LEN(Dashboard!$G$17:$G$26)>0,ROW(Dashboard!$G$17:$G$26)-ROW(INDEX(Dashboard!$G$17:$G$26,1,1))+1),ROW(Dashboard!$A19)-ROW(Dashboard!$A$16))),"")} -> Soft Skills | BA6: {=IFERROR(INDEX(Dashboard!$G$17:$G$26,SMALL(IF(LEN(Dashboard!$G$17:$G$26)>0,ROW(Dashboard!$G$17:$G$26)-ROW(INDEX(Dashboard!$G$17:$G$26,1,1))+1),ROW(Dashboard!$A20)-ROW(Dashboard!$A$16))),"")} -> Legal | BB6: {=IFERROR(INDEX(Dashboard!$G$17:$G$26,SMALL(IF(LEN(Dashboard!$G$17:$G$26)>0,ROW(Dashboard!$G$17:$G$26)-ROW(INDEX(Dashboard!$G$17:$G$26,1,1))+1),ROW(Dashboard!$A21)-ROW(Dashboard!$A$16))),"")} -> Accounting | BC6: {=IFERROR(INDEX(Dashboard!$G$17:$G$26,SMALL(IF(LEN(Dashboard!$G$17:$G$26)>0,ROW(Dashboard!$G$17:$G$26)-ROW(INDEX(Dashboard!$G$17:$G$26,1,1))+1),ROW(Dashboard!$A22)-ROW(Dashboard!$A$16))),"")} | BD6: {=IFERROR(INDEX(Dashboard!$G$17:$G$26,SMALL(IF(LEN(Dashboard!$G$17:$G$26)>0,ROW(Dashboard!$G$17:$G$26)-ROW(INDEX(Dashboard!$G$17:$G$26,1,1))+1),ROW(Dashboard!$A23)-ROW(Dashboard!$A$16))),"")} | BE6: {=IFERROR(INDEX(Dashboard!$G$17:$G$26,SMALL(IF(LEN(Dashboard!$G$17:$G$26)>0,ROW(Dashboard!$G$17:$G$26)-ROW(INDEX(Dashboard!$G$17:$G$26,1,1))+1),ROW(Dashboard!$A24)-ROW(Dashboard!$A$16))),"")} | BF6: {=IFERROR(INDEX(Dashboard!$G$17:$G$26,SMALL(IF(LEN(Dashboard!$G$17:$G$26)>0,ROW(Dashboard!$G$17:$G$26)-ROW(INDEX(Dashboard!$G$17:$G$26,1,1))+1),ROW(Dashboard!$A25)-ROW(Dashboard!$A$16))),"")} | BG6: {=IFERROR(INDEX(Dashboard!$G$17:$G$26,SMALL(IF(LEN(Dashboard!$G$17:$G$26)>0,ROW(Dashboard!$G$17:$G$26)-ROW(INDEX(Dashboard!$G$17:$G$26,1,1))+1),ROW(Dashboard!$A26)-ROW(Dashboard!$A$16))),"")} | BI6: Dependant DropDown)
B7: =IFERROR(IF(LEN($C7)=0,"",ROW($A7)-ROW($A$5)),"") -> 2 | C7: =IFERROR(IF(LEN(Scheduling!B7)=0,"",Scheduling!B7),"") -> AGILE Practices | D7: =IFERROR(IF(LEN(C7)=0,"",IF(M7="Cancelled","",C7)),"") | E7: =IFERROR(IF(LEN(Scheduling!C7)=0,"",Scheduling!C7),"") -> 44648 | F7: =IFERROR(MONTH(E7),"") -> 3 | G7: =IFERROR(INDEX($AN$6:$AN$17,MATCH($F7,$AM$6:$AM$17,0),1),"") -> March | H7: =IFERROR(IF(LEN(Scheduling!D7)=0,"",Scheduling!D7),"") -> 44672 | I7: =IFERROR(MONTH(H7),"") -> 4 | J7: =IFERROR(INDEX($AN$6:$AN$17,MATCH($I7,$AM$6:$AM$17,0),1),"") -> April | K7: =IFERROR(INDEX(Trainings!$C$6:$C$55,MATCH($C7,Trainings!$B$6:$B$55,0)),"") -> Quality | L7: =IFERROR(INDEX(Trainings!$D$6:$D$55,MATCH($C7,Trainings!$B$6:$B$55,0)),"") -> Online | M7: =IFERROR(IF(LEN(Scheduling!G7)=0,"",Scheduling!G7),"") -> Cancelled | N7: =IFERROR(INDEX(Trainings!$E$6:$E$55,MATCH($C7,Trainings!$B$6:$B$55,0)),"") -> 40 | O7: =IF(LEN(N7)=0,"",IF(M7="Completed",N7,0)) -> 0 | P7: =IFERROR(IF(LEN(Scheduling!E7)=0,"",Scheduling!E7),"") -> 20 | Q7: =IFERROR(IF(LEN(C7)=0,"",Scheduling!$F7),"") -> 20000 | R7: =IF(LEN(C7)=0,"",IF(M7="Completed",Q7,0)) -> 0 | S7: =IFERROR(AVERAGEIF(Registration!$B$6:$B$4005,C7,Registration!$P$6:$P$4005),"") -> 2.5 | U7: =IF(LEN(K7)=0,0,IF(OR(Summary!$D$5="All",Summary!$D$5=""),1,IF(Summary!$D$5=K7,1,0))) -> 1 | V7: =IF(LEN(C7)=0,0,IF(OR(Summary!$G$5="All",Summary!$G$5=""),1,IF(Summary!$G$5=C7,1,0))) -> 1 | W7: =IFERROR(IF(LEN(E7)=0,0,IF(YEAR(E7)=Summary!$K$5,1,0)),0) -> 1 | X7: =U7*V7*W7 -> 1 | Z7: Total # Of Trainings | AA7: =SUM(X6:X20) -> 13 | AC7: =AT7 -> Sales | AD7: {=IFERROR(IF(AC7="",0,SUMPRODUCT((Registration!$E$6:$E$20=$AC7)*(Registration!$V$6:$V$20))),"")} -> 4 | AE7: =RANK(AD7,$AD$7:$AD$36) -> 2 | AF7: =IF(COUNTIF($AE$7:AE7,AE7)>1,AE7+COUNTIF($AE$7:AE7,AE7)-1,AE7) -> 2 | AH7: =AU7 -> Director | AI7: {=IFERROR(IF(AH7="",0,SUMPRODUCT((Registration!$F$6:$F$20=$AH7)*(Registration!$V$6:$V$20))),"")} -> 4 | AJ7: =RANK(AI7,$AI$7:$AI$36) -> 1 | AK7: =IF(COUNTIF($AJ$7:AJ7,AJ7)>1,AJ7+COUNTIF($AJ$7:AJ7,AJ7)-1,AJ7) -> 1 | AM7: 2 | AN7: February | AP7: {=IFERROR(INDEX(Employees!$B$6:$B$1005,SMALL(IF(LEN(Employees!$B$6:$B$1005)>0,ROW(Employees!$B$6:$B$1005)-ROW(INDEX(Employees!$B$6:$B$1005,1,1))+1),ROW(Employees!A6)-ROW(Employees!$A$5))),"")} -> Adam Roberts | AQ7: {=IFERROR(INDEX(Trainings!$B$6:$B$55,SMALL(IF(LEN(Trainings!$B$6:$B$55)>0,ROW(Trainings!$B$6:$B$55)-ROW(INDEX(Trainings!$B$6:$B$55,1,1))+1),ROW(A6)-ROW($A$5))),"")} -> AGILE Practices | AR7: =IF(LEN(Dashboard!$J17)=0,"",Dashboard!$J17) -> Poor | AS7: {=IFERROR(INDEX(Dashboard!$L$17:$L$23,SMALL(IF(LEN(Dashboard!$L$17:$L$23)>0,ROW(Dashboard!$L$17:$L$23)-ROW(INDEX(Dashboard!$L$17:$L$23,1,1))+1),ROW(Dashboard!K17)-ROW(Dashboard!$K$16))),"")} -> Online | AT7: {=IFERROR(INDEX(Dashboard!$C$17:$C$46,SMALL(IF(LEN(Dashboard!$C$17:$C$46)>0,ROW(Dashboard!$C$17:$C$46)-ROW(INDEX(Dashboard!$C$17:$C$46,1,1))+1),ROW(Dashboard!A17)-ROW(Dashboard!$A$16))),"")} -> Sales | AU7: {=IFERROR(INDEX(Dashboard!$E$17:$E$46,SMALL(IF(LEN(Dashboard!$E$17:$E$46)>0,ROW(Dashboard!$E$17:$E$46)-ROW(INDEX(Dashboard!$E$17:$E$46,1,1))+1),ROW(Dashboard!A17)-ROW(Dashboard!$A$16))),"")} -> Director | AW7: All | AX7: All | AY7: All | AZ7: All | BA7: All | BB7: All | BC7: All | BD7: All | BE7: All | BF7: All | BG7: All | BI7: All
B8: =IFERROR(IF(LEN($C8)=0,"",ROW($A8)-ROW($A$5)),"") -> 3 | C8: =IFERROR(IF(LEN(Scheduling!B8)=0,"",Scheduling!B8),"") -> SAP | D8: =IFERROR(IF(LEN(C8)=0,"",IF(M8="Cancelled","",C8)),"") -> SAP | E8: =IFERROR(IF(LEN(Scheduling!C8)=0,"",Scheduling!C8),"") -> 44612 | F8: =IFERROR(MONTH(E8),"") -> 2 | G8: =IFERROR(INDEX($AN$6:$AN$17,MATCH($F8,$AM$6:$AM$17,0),1),"") -> February | H8: =IFERROR(IF(LEN(Scheduling!D8)=0,"",Scheduling!D8),"") -> 44630 | I8: =IFERROR(MONTH(H8),"") -> 3 | J8: =IFERROR(INDEX($AN$6:$AN$17,MATCH($I8,$AM$6:$AM$17,0),1),"") -> March | K8: =IFERROR(INDEX(Trainings!$C$6:$C$55,MATCH($C8,Trainings!$B$6:$B$55,0)),"") -> Accounting | L8: =IFERROR(INDEX(Trainings!$D$6:$D$55,MATCH($C8,Trainings!$B$6:$B$55,0)),"") -> In House | M8: =IFERROR(IF(LEN(Scheduling!G8)=0,"",Scheduling!G8),"") -> Completed | N8: =IFERROR(INDEX(Trainings!$E$6:$E$55,MATCH($C8,Trainings!$B$6:$B$55,0)),"") -> 50 | O8: =IF(LEN(N8)=0,"",IF(M8="Completed",N8,0)) -> 50 | P8: =IFERROR(IF(LEN(Scheduling!E8)=0,"",Scheduling!E8),"") -> 8 | Q8: =IFERROR(IF(LEN(C8)=0,"",Scheduling!$F8),"") -> 35000 | R8: =IF(LEN(C8)=0,"",IF(M8="Completed",Q8,0)) -> 35000 | S8: =IFERROR(AVERAGEIF(Registration!$B$6:$B$4005,C8,Registration!$P$6:$P$4005),"") -> 2.6666667 | U8: =IF(LEN(K8)=0,0,IF(OR(Summary!$D$5="All",Summary!$D$5=""),1,IF(Summary!$D$5=K8,1,0))) -> 1 | V8: =IF(LEN(C8)=0,0,IF(OR(Summary!$G$5="All",Summary!$G$5=""),1,IF(Summary!$G$5=C8,1,0))) -> 1 | W8: =IFERROR(IF(LEN(E8)=0,0,IF(YEAR(E8)=Summary!$K$5,1,0)),0) -> 1 | X8: =U8*V8*W8 -> 1 | AC8: =AT8 -> Marketing | AD8: {=IFERROR(IF(AC8="",0,SUMPRODUCT((Registration!$E$6:$E$20=$AC8)*(Registration!$V$6:$V$20))),"")} -> 5 | AE8: =RANK(AD8,$AD$7:$AD$36) -> 1 | AF8: =IF(COUNTIF($AE$7:AE8,AE8)>1,AE8+COUNTIF($AE$7:AE8,AE8)-1,AE8) -> 1 | AH8: =AU8 -> Vice-Director | AI8: {=IFERROR(IF(AH8="",0,SUMPRODUCT((Registration!$F$6:$F$20=$AH8)*(Registration!$V$6:$V$20))),"")} -> 1 | AJ8: =RANK(AI8,$AI$7:$AI$36) -> 3 | AK8: =IF(COUNTIF($AJ$7:AJ8,AJ8)>1,AJ8+COUNTIF($AJ$7:AJ8,AJ8)-1,AJ8) -> 3 | AM8: 3 | AN8: March | AP8: {=IFERROR(INDEX(Employees!$B$6:$B$1005,SMALL(IF(LEN(Employees!$B$6:$B$1005)>0,ROW(Employees!$B$6:$B$1005)-ROW(INDEX(Employees!$B$6:$B$1005,1,1))+1),ROW(Employees!A7)-ROW(Employees!$A$5))),"")} -> Juliana Peterson | AQ8: {=IFERROR(INDEX(Trainings!$B$6:$B$55,SMALL(IF(LEN(Trainings!$B$6:$B$55)>0,ROW(Trainings!$B$6:$B$55)-ROW(INDEX(Trainings!$B$6:$B$55,1,1))+1),ROW(A7)-ROW($A$5))),"")} -> SAP | AR8: =IF(LEN(Dashboard!$J18)=0,"",Dashboard!$J18) -> Fair | AS8: {=IFERROR(INDEX(Dashboard!$L$17:$L$23,SMALL(IF(LEN(Dashboard!$L$17:$L$23)>0,ROW(Dashboard!$L$17:$L$23)-ROW(INDEX(Dashboard!$L$17:$L$23,1,1))+1),ROW(Dashboard!K18)-ROW(Dashboard!$K$16))),"")} -> In House | AT8: {=IFERROR(INDEX(Dashboard!$C$17:$C$46,SMALL(IF(LEN(Dashboard!$C$17:$C$46)>0,ROW(Dashboard!$C$17:$C$46)-ROW(INDEX(Dashboard!$C$17:$C$46,1,1))+1),ROW(Dashboard!A18)-ROW(Dashboard!$A$16))),"")} -> Marketing | AU8: {=IFERROR(INDEX(Dashboard!$E$17:$E$46,SMALL(IF(LEN(Dashboard!$E$17:$E$46)>0,ROW(Dashboard!$E$17:$E$46)-ROW(INDEX(Dashboard!$E$17:$E$46,1,1))+1),ROW(Dashboard!A18)-ROW(Dashboard!$A$16))),"")} -> Vice-Director | AW8: {=IFERROR(INDEX(Trainings!$B$6:$B$55,SMALL(IF(LEN(Trainings!$B$6:$B$55)>0,ROW(Trainings!$B$6:$B$55)-ROW(INDEX(Trainings!$B$6:$B$55,1,1))+1),ROW(Trainings!A6)-ROW(Trainings!$A$5))),"")} -> AGILE Practices | AX8: {=IFERROR(IF(LEN(AX$6)=0,"",INDEX(Trainings!$B$6:$B$55,SMALL(IF(Trainings!$C$6:$C$55=Calc!AX$6,ROW(Trainings!$B$6:$B$55)-ROW(INDEX(Trainings!$B$6:$B$55,1,1))+1),ROW(Trainings!E6)-ROW(Trainings!$A$5)))),"")} -> SEO | AY8: {=IFERROR(IF(LEN(AY$6)=0,"",INDEX(Trainings!$B$6:$B$55,SMALL(IF(Trainings!$C$6:$C$55=Calc!AY$6,ROW(Trainings!$B$6:$B$55)-ROW(INDEX(Trainings!$B$6:$B$55,1,1))+1),ROW(Trainings!F6)-ROW(Trainings!$A$5)))),"")} -> AGILE Practices | AZ8: {=IFERROR(IF(LEN(AZ$6)=0,"",INDEX(Trainings!$B$6:$B$55,SMALL(IF(Trainings!$C$6:$C$55=Calc!AZ$6,ROW(Trainings!$B$6:$B$55)-ROW(INDEX(Trainings!$B$6:$B$55,1,1))+1),ROW(Trainings!G6)-ROW(Trainings!$A$5)))),"")} -> Communication | BA8: {=IFERROR(IF(LEN(BA$6)=0,"",INDEX(Trainings!$B$6:$B$55,SMALL(IF(Trainings!$C$6:$C$55=Calc!BA$6,ROW(Trainings!$B$6:$B$55)-ROW(INDEX(Trainings!$B$6:$B$55,1,1))+1),ROW(Trainings!H6)-ROW(Trainings!$A$5)))),"")} -> Protection of personal data | BB8: {=IFERROR(IF(LEN(BB$6)=0,"",INDEX(Trainings!$B$6:$B$55,SMALL(IF(Trainings!$C$6:$C$55=Calc!BB$6,ROW(Trainings!$B$6:$B$55)-ROW(INDEX(Trainings!$B$6:$B$55,1,1))+1),ROW(Trainings!I6)-ROW(Trainings!$A$5)))),"")} -> SAP | BC8: {=IFERROR(IF(LEN(BC$6)=0,"",INDEX(Trainings!$B$6:$B$55,SMALL(IF(Trainings!$C$6:$C$55=Calc!BC$6,ROW(Trainings!$B$6:$B$55)-ROW(INDEX(Trainings!$B$6:$B$55,1,1))+1),ROW(Trainings!J6)-ROW(Trainings!$A$5)))),"")} | BD8: {=IFERROR(IF(LEN(BD$6)=0,"",INDEX(Trainings!$B$6:$B$55,SMALL(IF(Trainings!$C$6:$C$55=Calc!BD$6,ROW(Trainings!$B$6:$B$55)-ROW(INDEX(Trainings!$B$6:$B$55,1,1))+1),ROW(Trainings!K6)-ROW(Trainings!$A$5)))),"")} | BE8: {=IFERROR(IF(LEN(BE$6)=0,"",INDEX(Trainings!$B$6:$B$55,SMALL(IF(Trainings!$C$6:$C$55=Calc!BE$6,ROW(Trainings!$B$6:$B$55)-ROW(INDEX(Trainings!$B$6:$B$55,1,1))+1),ROW(Trainings!L6)-ROW(Trainings!$A$5)))),"")} | ... BG8: {=IFERROR(IF(LEN(BG$6)=0,"",INDEX(Trainings!$B$6:$B$55,SMALL(IF(Trainings!$C$6:$C$55=Calc!BG$6,ROW(Trainings!$B$6:$B$55)-ROW(INDEX(Trainings!$B$6:$B$55,1,1))+1),ROW(Trainings!N6)-ROW(Trainings!$A$5)))),"")} | BI8: =IFERROR(INDEX($K$6:$K$20,MATCH(Summary!$G$5,$C$6:$C$20,0)),"")
B9: =IFERROR(IF(LEN($C9)=0,"",ROW($A9)-ROW($A$5)),"") -> 4 | C9: =IFERROR(IF(LEN(Scheduling!B9)=0,"",Scheduling!B9),"") -> SAP | D9: =IFERROR(IF(LEN(C9)=0,"",IF(M9="Cancelled","",C9)),"") -> SAP | E9: =IFERROR(IF(LEN(Scheduling!C9)=0,"",Scheduling!C9),"") -> 44691 | F9: =IFERROR(MONTH(E9),"") -> 5 | G9: =IFERROR(INDEX($AN$6:$AN$17,MATCH($F9,$AM$6:$AM$17,0),1),"") -> May | H9: =IFERROR(IF(LEN(Scheduling!D9)=0,"",Scheduling!D9),"") -> 44701 | I9: =IFERROR(MONTH(H9),"") -> 5 | J9: =IFERROR(INDEX($AN$6:$AN$17,MATCH($I9,$AM$6:$AM$17,0),1),"") -> May | K9: =IFERROR(INDEX(Trainings!$C$6:$C$55,MATCH($C9,Trainings!$B$6:$B$55,0)),"") -> Accounting | L9: =IFERROR(INDEX(Trainings!$D$6:$D$55,MATCH($C9,Trainings!$B$6:$B$55,0)),"") -> In House | M9: =IFERROR(IF(LEN(Scheduling!G9)=0,"",Scheduling!G9),"") -> Completed | N9: =IFERROR(INDEX(Trainings!$E$6:$E$55,MATCH($C9,Trainings!$B$6:$B$55,0)),"") -> 50 | O9: =IF(LEN(N9)=0,"",IF(M9="Completed",N9,0)) -> 50 | P9: =IFERROR(IF(LEN(Scheduling!E9)=0,"",Scheduling!E9),"") -> 8 | Q9: =IFERROR(IF(LEN(C9)=0,"",Scheduling!$F9),"") -> 35000 | R9: =IF(LEN(C9)=0,"",IF(M9="Completed",Q9,0)) -> 35000 | S9: =IFERROR(AVERAGEIF(Registration!$B$6:$B$4005,C9,Registration!$P$6:$P$4005),"") -> 2.6666667 | U9: =IF(LEN(K9)=0,0,IF(OR(Summary!$D$5="All",Summary!$D$5=""),1,IF(Summary!$D$5=K9,1,0))) -> 1 | V9: =IF(LEN(C9)=0,0,IF(OR(Summary!$G$5="All",Summary!$G$5=""),1,IF(Summary!$G$5=C9,1,0))) -> 1 | W9: =IFERROR(IF(LEN(E9)=0,0,IF(YEAR(E9)=Summary!$K$5,1,0)),0) -> 1 | X9: =U9*V9*W9 -> 1 | AA9: # of Trainings | AC9: =AT9 -> Accounting | AD9: {=IFERROR(IF(AC9="",0,SUMPRODUCT((Registration!$E$6:$E$20=$AC9)*(Registration!$V$6:$V$20))),"")} -> 1 | AE9: =RANK(AD9,$AD$7:$AD$36) -> 3 | AF9: =IF(COUNTIF($AE$7:AE9,AE9)>1,AE9+COUNTIF($AE$7:AE9,AE9)-1,AE9) -> 3 | AH9: =AU9 -> Expert | AI9: {=IFERROR(IF(AH9="",0,SUMPRODUCT((Registration!$F$6:$F$20=$AH9)*(Registration!$V$6:$V$20))),"")} -> 1 | AJ9: =RANK(AI9,$AI$7:$AI$36) -> 3 | AK9: =IF(COUNTIF($AJ$7:AJ9,AJ9)>1,AJ9+COUNTIF($AJ$7:AJ9,AJ9)-1,AJ9) -> 4 | AM9: 4 | AN9: April | AP9: {=IFERROR(INDEX(Employees!$B$6:$B$1005,SMALL(IF(LEN(Employees!$B$6:$B$1005)>0,ROW(Employees!$B$6:$B$1005)-ROW(INDEX(Employees!$B$6:$B$1005,1,1))+1),ROW(Employees!A8)-ROW(Employees!$A$5))),"")} -> Kailani Ortiz | AQ9: {=IFERROR(INDEX(Trainings!$B$6:$B$55,SMALL(IF(LEN(Trainings!$B$6:$B$55)>0,ROW(Trainings!$B$6:$B$55)-ROW(INDEX(Trainings!$B$6:$B$55,1,1))+1),ROW(A8)-ROW($A$5))),"")} -> MS Office | AR9: =IF(LEN(Dashboard!$J19)=0,"",Dashboard!$J19) -> Average | AS9: {=IFERROR(INDEX(Dashboard!$L$17:$L$23,SMALL(IF(LEN(Dashboard!$L$17:$L$23)>0,ROW(Dashboard!$L$17:$L$23)-ROW(INDEX(Dashboard!$L$17:$L$23,1,1))+1),ROW(Dashboard!K19)-ROW(Dashboard!$K$16))),"")} -> External | AT9: {=IFERROR(INDEX(Dashboard!$C$17:$C$46,SMALL(IF(LEN(Dashboard!$C$17:$C$46)>0,ROW(Dashboard!$C$17:$C$46)-ROW(INDEX(Dashboard!$C$17:$C$46,1,1))+1),ROW(Dashboard!A19)-ROW(Dashboard!$A$16))),"")} -> Accounting | AU9: {=IFERROR(INDEX(Dashboard!$E$17:$E$46,SMALL(IF(LEN(Dashboard!$E$17:$E$46)>0,ROW(Dashboard!$E$17:$E$46)-ROW(INDEX(Dashboard!$E$17:$E$46,1,1))+1),ROW(Dashboard!A19)-ROW(Dashboard!$A$16))),"")} -> Expert | AW9: {=IFERROR(INDEX(Trainings!$B$6:$B$55,SMALL(IF(LEN(Trainings!$B$6:$B$55)>0,ROW(Trainings!$B$6:$B$55)-ROW(INDEX(Trainings!$B$6:$B$55,1,1))+1),ROW(Trainings!A7)-ROW(Trainings!$A$5))),"")} -> SAP | AX9: {=IFERROR(IF(LEN(AX$6)=0,"",INDEX(Trainings!$B$6:$B$55,SMALL(IF(Trainings!$C$6:$C$55=Calc!AX$6,ROW(Trainings!$B$6:$B$55)-ROW(INDEX(Trainings!$B$6:$B$55,1,1))+1),ROW(Trainings!E7)-ROW(Trainings!$A$5)))),"")} | AY9: {=IFERROR(IF(LEN(AY$6)=0,"",INDEX(Trainings!$B$6:$B$55,SMALL(IF(Trainings!$C$6:$C$55=Calc!AY$6,ROW(Trainings!$B$6:$B$55)-ROW(INDEX(Trainings!$B$6:$B$55,1,1))+1),ROW(Trainings!F7)-ROW(Trainings!$A$5)))),"")} | AZ9: {=IFERROR(IF(LEN(AZ$6)=0,"",INDEX(Trainings!$B$6:$B$55,SMALL(IF(Trainings!$C$6:$C$55=Calc!AZ$6,ROW(Trainings!$B$6:$B$55)-ROW(INDEX(Trainings!$B$6:$B$55,1,1))+1),ROW(Trainings!G7)-ROW(Trainings!$A$5)))),"")} | BA9: {=IFERROR(IF(LEN(BA$6)=0,"",INDEX(Trainings!$B$6:$B$55,SMALL(IF(Trainings!$C$6:$C$55=Calc!BA$6,ROW(Trainings!$B$6:$B$55)-ROW(INDEX(Trainings!$B$6:$B$55,1,1))+1),ROW(Trainings!H7)-ROW(Trainings!$A$5)))),"")} -> Accounting codes | BB9: {=IFERROR(IF(LEN(BB$6)=0,"",INDEX(Trainings!$B$6:$B$55,SMALL(IF(Trainings!$C$6:$C$55=Calc!BB$6,ROW(Trainings!$B$6:$B$55)-ROW(INDEX(Trainings!$B$6:$B$55,1,1))+1),ROW(Trainings!I7)-ROW(Trainings!$A$5)))),"")} -> MS Office | BC9: {=IFERROR(IF(LEN(BC$6)=0,"",INDEX(Trainings!$B$6:$B$55,SMALL(IF(Trainings!$C$6:$C$55=Calc!BC$6,ROW(Trainings!$B$6:$B$55)-ROW(INDEX(Trainings!$B$6:$B$55,1,1))+1),ROW(Trainings!J7)-ROW(Trainings!$A$5)))),"")} | BD9: {=IFERROR(IF(LEN(BD$6)=0,"",INDEX(Trainings!$B$6:$B$55,SMALL(IF(Trainings!$C$6:$C$55=Calc!BD$6,ROW(Trainings!$B$6:$B$55)-ROW(INDEX(Trainings!$B$6:$B$55,1,1))+1),ROW(Trainings!K7)-ROW(Trainings!$A$5)))),"")} | BE9: {=IFERROR(IF(LEN(BE$6)=0,"",INDEX(Trainings!$B$6:$B$55,SMALL(IF(Trainings!$C$6:$C$55=Calc!BE$6,ROW(Trainings!$B$6:$B$55)-ROW(INDEX(Trainings!$B$6:$B$55,1,1))+1),ROW(Trainings!L7)-ROW(Trainings!$A$5)))),"")} | ... BG9: {=IFERROR(IF(LEN(BG$6)=0,"",INDEX(Trainings!$B$6:$B$55,SMALL(IF(Trainings!$C$6:$C$55=Calc!BG$6,ROW(Trainings!$B$6:$B$55)-ROW(INDEX(Trainings!$B$6:$B$55,1,1))+1),ROW(Trainings!N7)-ROW(Trainings!$A$5)))),"")}
B10: =IFERROR(IF(LEN($C10)=0,"",ROW($A10)-ROW($A$5)),"") -> 5 | C10: =IFERROR(IF(LEN(Scheduling!B10)=0,"",Scheduling!B10),"") -> SAP | D10: =IFERROR(IF(LEN(C10)=0,"",IF(M10="Cancelled","",C10)),"") -> SAP | E10: =IFERROR(IF(LEN(Scheduling!C10)=0,"",Scheduling!C10),"") -> 44807 | F10: =IFERROR(MONTH(E10),"") -> 9 | G10: =IFERROR(INDEX($AN$6:$AN$17,MATCH($F10,$AM$6:$AM$17,0),1),"") -> September | H10: =IFERROR(IF(LEN(Scheduling!D10)=0,"",Scheduling!D10),"") -> 44824 | I10: =IFERROR(MONTH(H10),"") -> 9 | J10: =IFERROR(INDEX($AN$6:$AN$17,MATCH($I10,$AM$6:$AM$17,0),1),"") -> September | K10: =IFERROR(INDEX(Trainings!$C$6:$C$55,MATCH($C10,Trainings!$B$6:$B$55,0)),"") -> Accounting | L10: =IFERROR(INDEX(Trainings!$D$6:$D$55,MATCH($C10,Trainings!$B$6:$B$55,0)),"") -> In House | M10: =IFERROR(IF(LEN(Scheduling!G10)=0,"",Scheduling!G10),"") -> Completed | N10: =IFERROR(INDEX(Trainings!$E$6:$E$55,MATCH($C10,Trainings!$B$6:$B$55,0)),"") -> 50 | O10: =IF(LEN(N10)=0,"",IF(M10="Completed",N10,0)) -> 50 | P10: =IFERROR(IF(LEN(Scheduling!E10)=0,"",Scheduling!E10),"") -> 8 | Q10: =IFERROR(IF(LEN(C10)=0,"",Scheduling!$F10),"") -> 35000 | R10: =IF(LEN(C10)=0,"",IF(M10="Completed",Q10,0)) -> 35000 | S10: =IFERROR(AVERAGEIF(Registration!$B$6:$B$4005,C10,Registration!$P$6:$P$4005),"") -> 2.6666667 | U10: =IF(LEN(K10)=0,0,IF(OR(Summary!$D$5="All",Summary!$D$5=""),1,IF(Summary!$D$5=K10,1,0))) -> 1 | V10: =IF(LEN(C10)=0,0,IF(OR(Summary!$G$5="All",Summary!$G$5=""),1,IF(Summary!$G$5=C10,1,0))) -> 1 | W10: =IFERROR(IF(LEN(E10)=0,0,IF(YEAR(E10)=Summary!$K$5,1,0)),0) -> 1 | X10: =U10*V10*W10 -> 1 | Z10: Not Started | AA10: {=SUMPRODUCT(($M$6:$M$20=$Z10)*($X$6:$X$20))} -> 3 | AC10: =AT10 -> Finance | AD10: {=IFERROR(IF(AC10="",0,SUMPRODUCT((Registration!$E$6:$E$20=$AC10)*(Registration!$V$6:$V$20))),"")} -> 0 | AE10: =RANK(AD10,$AD$7:$AD$36) -> 4 | AF10: =IF(COUNTIF($AE$7:AE10,AE10)>1,AE10+COUNTIF($AE$7:AE10,AE10)-1,AE10) -> 4 | AH10: =AU10 -> Salesman | AI10: {=IFERROR(IF(AH10="",0,SUMPRODUCT((Registration!$F$6:$F$20=$AH10)*(Registration!$V$6:$V$20))),"")} -> 4 | AJ10: =RANK(AI10,$AI$7:$AI$36) -> 1 | AK10: =IF(COUNTIF($AJ$7:AJ10,AJ10)>1,AJ10+COUNTIF($AJ$7:AJ10,AJ10)-1,AJ10) -> 2 | AM10: 5 | AN10: May | AP10: {=IFERROR(INDEX(Employees!$B$6:$B$1005,SMALL(IF(LEN(Employees!$B$6:$B$1005)>0,ROW(Employees!$B$6:$B$1005)-ROW(INDEX(Employees!$B$6:$B$1005,1,1))+1),ROW(Employees!A9)-ROW(Employees!$A$5))),"")} -> Ophelia Kelly | AQ10: {=IFERROR(INDEX(Trainings!$B$6:$B$55,SMALL(IF(LEN(Trainings!$B$6:$B$55)>0,ROW(Trainings!$B$6:$B$55)-ROW(INDEX(Trainings!$B$6:$B$55,1,1))+1),ROW(A9)-ROW($A$5))),"")} -> Communication | AR10: =IF(LEN(Dashboard!$J20)=0,"",Dashboard!$J20) -> Good | AS10: {=IFERROR(INDEX(Dashboard!$L$17:$L$23,SMALL(IF(LEN(Dashboard!$L$17:$L$23)>0,ROW(Dashboard!$L$17:$L$23)-ROW(INDEX(Dashboard!$L$17:$L$23,1,1))+1),ROW(Dashboard!K20)-ROW(Dashboard!$K$16))),"")} | AT10: {=IFERROR(INDEX(Dashboard!$C$17:$C$46,SMALL(IF(LEN(Dashboard!$C$17:$C$46)>0,ROW(Dashboard!$C$17:$C$46)-ROW(INDEX(Dashboard!$C$17:$C$46,1,1))+1),ROW(Dashboard!A20)-ROW(Dashboard!$A$16))),"")} -> Finance | AU10: {=IFERROR(INDEX(Dashboard!$E$17:$E$46,SMALL(IF(LEN(Dashboard!$E$17:$E$46)>0,ROW(Dashboard!$E$17:$E$46)-ROW(INDEX(Dashboard!$E$17:$E$46,1,1))+1),ROW(Dashboard!A20)-ROW(Dashboard!$A$16))),"")} -> Salesman | AW10: {=IFERROR(INDEX(Trainings!$B$6:$B$55,SMALL(IF(LEN(Trainings!$B$6:$B$55)>0,ROW(Trainings!$B$6:$B$55)-ROW(INDEX(Trainings!$B$6:$B$55,1,1))+1),ROW(Trainings!A8)-ROW(Trainings!$A$5))),"")} -> MS Office | AX10: {=IFERROR(IF(LEN(AX$6)=0,"",INDEX(Trainings!$B$6:$B$55,SMALL(IF(Trainings!$C$6:$C$55=Calc!AX$6,ROW(Trainings!$B$6:$B$55)-ROW(INDEX(Trainings!$B$6:$B$55,1,1))+1),ROW(Trainings!E8)-ROW(Trainings!$A$5)))),"")} | AY10: {=IFERROR(IF(LEN(AY$6)=0,"",INDEX(Trainings!$B$6:$B$55,SMALL(IF(Trainings!$C$6:$C$55=Calc!AY$6,ROW(Trainings!$B$6:$B$55)-ROW(INDEX(Trainings!$B$6:$B$55,1,1))+1),ROW(Trainings!F8)-ROW(Trainings!$A$5)))),"")} | AZ10: {=IFERROR(IF(LEN(AZ$6)=0,"",INDEX(Trainings!$B$6:$B$55,SMALL(IF(Trainings!$C$6:$C$55=Calc!AZ$6,ROW(Trainings!$B$6:$B$55)-ROW(INDEX(Trainings!$B$6:$B$55,1,1))+1),ROW(Trainings!G8)-ROW(Trainings!$A$5)))),"")} | BA10: {=IFERROR(IF(LEN(BA$6)=0,"",INDEX(Trainings!$B$6:$B$55,SMALL(IF(Trainings!$C$6:$C$55=Calc!BA$6,ROW(Trainings!$B$6:$B$55)-ROW(INDEX(Trainings!$B$6:$B$55,1,1))+1),ROW(Trainings!H8)-ROW(Trainings!$A$5)))),"")} | BB10: {=IFERROR(IF(LEN(BB$6)=0,"",INDEX(Trainings!$B$6:$B$55,SMALL(IF(Trainings!$C$6:$C$55=Calc!BB$6,ROW(Trainings!$B$6:$B$55)-ROW(INDEX(Trainings!$B$6:$B$55,1,1))+1),ROW(Trainings!I8)-ROW(Trainings!$A$5)))),"")} | BC10: {=IFERROR(IF(LEN(BC$6)=0,"",INDEX(Trainings!$B$6:$B$55,SMALL(IF(Trainings!$C$6:$C$55=Calc!BC$6,ROW(Trainings!$B$6:$B$55)-ROW(INDEX(Trainings!$B$6:$B$55,1,1))+1),ROW(Trainings!J8)-ROW(Trainings!$A$5)))),"")} | BD10: {=IFERROR(IF(LEN(BD$6)=0,"",INDEX(Trainings!$B$6:$B$55,SMALL(IF(Trainings!$C$6:$C$55=Calc!BD$6,ROW(Trainings!$B$6:$B$55)-ROW(INDEX(Trainings!$B$6:$B$55,1,1))+1),ROW(Trainings!K8)-ROW(Trainings!$A$5)))),"")} | BE10: {=IFERROR(IF(LEN(BE$6)=0,"",INDEX(Trainings!$B$6:$B$55,SMALL(IF(Trainings!$C$6:$C$55=Calc!BE$6,ROW(Trainings!$B$6:$B$55)-ROW(INDEX(Trainings!$B$6:$B$55,1,1))+1),ROW(Trainings!L8)-ROW(Trainings!$A$5)))),"")} | ... BG10: {=IFERROR(IF(LEN(BG$6)=0,"",INDEX(Trainings!$B$6:$B$55,SMALL(IF(Trainings!$C$6:$C$55=Calc!BG$6,ROW(Trainings!$B$6:$B$55)-ROW(INDEX(Trainings!$B$6:$B$55,1,1))+1),ROW(Trainings!N8)-ROW(Trainings!$A$5)))),"")}
B11: =IFERROR(IF(LEN($C11)=0,"",ROW($A11)-ROW($A$5)),"") -> 6 | C11: =IFERROR(IF(LEN(Scheduling!B11)=0,"",Scheduling!B11),"") -> MS Office | D11: =IFERROR(IF(LEN(C11)=0,"",IF(M11="Cancelled","",C11)),"") -> MS Office | E11: =IFERROR(IF(LEN(Scheduling!C11)=0,"",Scheduling!C11),"") -> 44566 | F11: =IFERROR(MONTH(E11),"") -> 1 | G11: =IFERROR(INDEX($AN$6:$AN$17,MATCH($F11,$AM$6:$AM$17,0),1),"") -> January | H11: =IFERROR(IF(LEN(Scheduling!D11)=0,"",Scheduling!D11),"") -> 44581 | I11: =IFERROR(MONTH(H11),"") -> 1 | J11: =IFERROR(INDEX($AN$6:$AN$17,MATCH($I11,$AM$6:$AM$17,0),1),"") -> January | K11: =IFERROR(INDEX(Trainings!$C$6:$C$55,MATCH($C11,Trainings!$B$6:$B$55,0)),"") -> Accounting | L11: =IFERROR(INDEX(Trainings!$D$6:$D$55,MATCH($C11,Trainings!$B$6:$B$55,0)),"") -> In House | M11: =IFERROR(IF(LEN(Scheduling!G11)=0,"",Scheduling!G11),"") -> Completed | N11: =IFERROR(INDEX(Trainings!$E$6:$E$55,MATCH($C11,Trainings!$B$6:$B$55,0)),"") -> 10 | O11: =IF(LEN(N11)=0,"",IF(M11="Completed",N11,0)) -> 10 | P11: =IFERROR(IF(LEN(Scheduling!E11)=0,"",Scheduling!E11),"") -> 5 | Q11: =IFERROR(IF(LEN(C11)=0,"",Scheduling!$F11),"") -> 10000 | R11: =IF(LEN(C11)=0,"",IF(M11="Completed",Q11,0)) -> 10000 | S11: =IFERROR(AVERAGEIF(Registration!$B$6:$B$4005,C11,Registration!$P$6:$P$4005),"") -> 3 | U11: =IF(LEN(K11)=0,0,IF(OR(Summary!$D$5="All",Summary!$D$5=""),1,IF(Summary!$D$5=K11,1,0))) -> 1 | V11: =IF(LEN(C11)=0,0,IF(OR(Summary!$G$5="All",Summary!$G$5=""),1,IF(Summary!$G$5=C11,1,0))) -> 1 | W11: =IFERROR(IF(LEN(E11)=0,0,IF(YEAR(E11)=Summary!$K$5,1,0)),0) -> 1 | X11: =U11*V11*W11 -> 1 | Z11: In-Progress | AA11: {=SUMPRODUCT(($M$6:$M$20=$Z11)*($X$6:$X$20))} -> 2 | AC11: =AT11 | AD11: {=IFERROR(IF(AC11="",0,SUMPRODUCT((Registration!$E$6:$E$20=$AC11)*(Registration!$V$6:$V$20))),"")} -> 0 | AE11: =RANK(AD11,$AD$7:$AD$36) -> 4 | AF11: =IF(COUNTIF($AE$7:AE11,AE11)>1,AE11+COUNTIF($AE$7:AE11,AE11)-1,AE11) -> 5 | AH11: =AU11 | AI11: {=IFERROR(IF(AH11="",0,SUMPRODUCT((Registration!$F$6:$F$20=$AH11)*(Registration!$V$6:$V$20))),"")} -> 0 | AJ11: =RANK(AI11,$AI$7:$AI$36) -> 5 | AK11: =IF(COUNTIF($AJ$7:AJ11,AJ11)>1,AJ11+COUNTIF($AJ$7:AJ11,AJ11)-1,AJ11) -> 5 | AM11: 6 | AN11: June | AP11: {=IFERROR(INDEX(Employees!$B$6:$B$1005,SMALL(IF(LEN(Employees!$B$6:$B$1005)>0,ROW(Employees!$B$6:$B$1005)-ROW(INDEX(Employees!$B$6:$B$1005,1,1))+1),ROW(Employees!A10)-ROW(Employees!$A$5))),"")} -> Joseph Gross | AQ11: {=IFERROR(INDEX(Trainings!$B$6:$B$55,SMALL(IF(LEN(Trainings!$B$6:$B$55)>0,ROW(Trainings!$B$6:$B$55)-ROW(INDEX(Trainings!$B$6:$B$55,1,1))+1),ROW(A10)-ROW($A$5))),"")} -> Protection of personal data | AR11: =IF(LEN(Dashboard!$J21)=0,"",Dashboard!$J21) | AS11: {=IFERROR(INDEX(Dashboard!$L$17:$L$23,SMALL(IF(LEN(Dashboard!$L$17:$L$23)>0,ROW(Dashboard!$L$17:$L$23)-ROW(INDEX(Dashboard!$L$17:$L$23,1,1))+1),ROW(Dashboard!K21)-ROW(Dashboard!$K$16))),"")} | AT11: {=IFERROR(INDEX(Dashboard!$C$17:$C$46,SMALL(IF(LEN(Dashboard!$C$17:$C$46)>0,ROW(Dashboard!$C$17:$C$46)-ROW(INDEX(Dashboard!$C$17:$C$46,1,1))+1),ROW(Dashboard!A21)-ROW(Dashboard!$A$16))),"")} | AU11: {=IFERROR(INDEX(Dashboard!$E$17:$E$46,SMALL(IF(LEN(Dashboard!$E$17:$E$46)>0,ROW(Dashboard!$E$17:$E$46)-ROW(INDEX(Dashboard!$E$17:$E$46,1,1))+1),ROW(Dashboard!A21)-ROW(Dashboard!$A$16))),"")} | AW11: {=IFERROR(INDEX(Trainings!$B$6:$B$55,SMALL(IF(LEN(Trainings!$B$6:$B$55)>0,ROW(Trainings!$B$6:$B$55)-ROW(INDEX(Trainings!$B$6:$B$55,1,1))+1),ROW(Trainings!A9)-ROW(Trainings!$A$5))),"")} -> Communication | AX11: {=IFERROR(IF(LEN(AX$6)=0,"",INDEX(Trainings!$B$6:$B$55,SMALL(IF(Trainings!$C$6:$C$55=Calc!AX$6,ROW(Trainings!$B$6:$B$55)-ROW(INDEX(Trainings!$B$6:$B$55,1,1))+1),ROW(Trainings!E9)-ROW(Trainings!$A$5)))),"")} | AY11: {=IFERROR(IF(LEN(AY$6)=0,"",INDEX(Trainings!$B$6:$B$55,SMALL(IF(Trainings!$C$6:$C$55=Calc!AY$6,ROW(Trainings!$B$6:$B$55)-ROW(INDEX(Trainings!$B$6:$B$55,1,1))+1),ROW(Trainings!F9)-ROW(Trainings!$A$5)))),"")} | AZ11: {=IFERROR(IF(LEN(AZ$6)=0,"",INDEX(Trainings!$B$6:$B$55,SMALL(IF(Trainings!$C$6:$C$55=Calc!AZ$6,ROW(Trainings!$B$6:$B$55)-ROW(INDEX(Trainings!$B$6:$B$55,1,1))+1),ROW(Trainings!G9)-ROW(Trainings!$A$5)))),"")} | BA11: {=IFERROR(IF(LEN(BA$6)=0,"",INDEX(Trainings!$B$6:$B$55,SMALL(IF(Trainings!$C$6:$C$55=Calc!BA$6,ROW(Trainings!$B$6:$B$55)-ROW(INDEX(Trainings!$B$6:$B$55,1,1))+1),ROW(Trainings!H9)-ROW(Trainings!$A$5)))),"")} | BB11: {=IFERROR(IF(LEN(BB$6)=0,"",INDEX(Trainings!$B$6:$B$55,SMALL(IF(Trainings!$C$6:$C$55=Calc!BB$6,ROW(Trainings!$B$6:$B$55)-ROW(INDEX(Trainings!$B$6:$B$55,1,1))+1),ROW(Trainings!I9)-ROW(Trainings!$A$5)))),"")} | BC11: {=IFERROR(IF(LEN(BC$6)=0,"",INDEX(Trainings!$B$6:$B$55,SMALL(IF(Trainings!$C$6:$C$55=Calc!BC$6,ROW(Trainings!$B$6:$B$55)-ROW(INDEX(Trainings!$B$6:$B$55,1,1))+1),ROW(Trainings!J9)-ROW(Trainings!$A$5)))),"")} | BD11: {=IFERROR(IF(LEN(BD$6)=0,"",INDEX(Trainings!$B$6:$B$55,SMALL(IF(Trainings!$C$6:$C$55=Calc!BD$6,ROW(Trainings!$B$6:$B$55)-ROW(INDEX(Trainings!$B$6:$B$55,1,1))+1),ROW(Trainings!K9)-ROW(Trainings!$A$5)))),"")} | BE11: {=IFERROR(IF(LEN(BE$6)=0,"",INDEX(Trainings!$B$6:$B$55,SMALL(IF(Trainings!$C$6:$C$55=Calc!BE$6,ROW(Trainings!$B$6:$B$55)-ROW(INDEX(Trainings!$B$6:$B$55,1,1))+1),ROW(Trainings!L9)-ROW(Trainings!$A$5)))),"")} | ... BG11: {=IFERROR(IF(LEN(BG$6)=0,"",INDEX(Trainings!$B$6:$B$55,SMALL(IF(Trainings!$C$6:$C$55=Calc!BG$6,ROW(Trainings!$B$6:$B$55)-ROW(INDEX(Trainings!$B$6:$B$55,1,1))+1),ROW(Trainings!N9)-ROW(Trainings!$A$5)))),"")}
B12: =IFERROR(IF(LEN($C12)=0,"",ROW($A12)-ROW($A$5)),"") -> 7 | C12: =IFERROR(IF(LEN(Scheduling!B12)=0,"",Scheduling!B12),"") -> MS Office | D12: =IFERROR(IF(LEN(C12)=0,"",IF(M12="Cancelled","",C12)),"") -> MS Office | E12: =IFERROR(IF(LEN(Scheduling!C12)=0,"",Scheduling!C12),"") -> 44809 | F12: =IFERROR(MONTH(E12),"") -> 9 | G12: =IFERROR(INDEX($AN$6:$AN$17,MATCH($F12,$AM$6:$AM$17,0),1),"") -> September | H12: =IFERROR(IF(LEN(Scheduling!D12)=0,"",Scheduling!D12),"") -> 44814 | I12: =IFERROR(MONTH(H12),"") -> 9 | J12: =IFERROR(INDEX($AN$6:$AN$17,MATCH($I12,$AM$6:$AM$17,0),1),"") -> September | K12: =IFERROR(INDEX(Trainings!$C$6:$C$55,MATCH($C12,Trainings!$B$6:$B$55,0)),"") -> Accounting | L12: =IFERROR(INDEX(Trainings!$D$6:$D$55,MATCH($C12,Trainings!$B$6:$B$55,0)),"") -> In House | M12: =IFERROR(IF(LEN(Scheduling!G12)=0,"",Scheduling!G12),"") -> In-Progress | N12: =IFERROR(INDEX(Trainings!$E$6:$E$55,MATCH($C12,Trainings!$B$6:$B$55,0)),"") -> 10 | O12: =IF(LEN(N12)=0,"",IF(M12="Completed",N12,0)) -> 0 | P12: =IFERROR(IF(LEN(Scheduling!E12)=0,"",Scheduling!E12),"") -> 10 | Q12: =IFERROR(IF(LEN(C12)=0,"",Scheduling!$F12),"") -> 20000 | R12: =IF(LEN(C12)=0,"",IF(M12="Completed",Q12,0)) -> 0 | S12: =IFERROR(AVERAGEIF(Registration!$B$6:$B$4005,C12,Registration!$P$6:$P$4005),"") -> 3 | U12: =IF(LEN(K12)=0,0,IF(OR(Summary!$D$5="All",Summary!$D$5=""),1,IF(Summary!$D$5=K12,1,0))) -> 1 | V12: =IF(LEN(C12)=0,0,IF(OR(Summary!$G$5="All",Summary!$G$5=""),1,IF(Summary!$G$5=C12,1,0))) -> 1 | W12: =IFERROR(IF(LEN(E12)=0,0,IF(YEAR(E12)=Summary!$K$5,1,0)),0) -> 1 | X12: =U12*V12*W12 -> 1 | Z12: Completed | AA12: {=SUMPRODUCT(($M$6:$M$20=$Z12)*($X$6:$X$20))} -> 7 | AC12: =AT12 | AD12: {=IFERROR(IF(AC12="",0,SUMPRODUCT((Registration!$E$6:$E$20=$AC12)*(Registration!$V$6:$V$20))),"")} -> 0 | AE12: =RANK(AD12,$AD$7:$AD$36) -> 4 | AF12: =IF(COUNTIF($AE$7:AE12,AE12)>1,AE12+COUNTIF($AE$7:AE12,AE12)-1,AE12) -> 6 | AH12: =AU12 | AI12: {=IFERROR(IF(AH12="",0,SUMPRODUCT((Registration!$F$6:$F$20=$AH12)*(Registration!$V$6:$V$20))),"")} -> 0 | AJ12: =RANK(AI12,$AI$7:$AI$36) -> 5 | AK12: =IF(COUNTIF($AJ$7:AJ12,AJ12)>1,AJ12+COUNTIF($AJ$7:AJ12,AJ12)-1,AJ12) -> 6 | AM12: 7 | AN12: July | AP12: {=IFERROR(INDEX(Employees!$B$6:$B$1005,SMALL(IF(LEN(Employees!$B$6:$B$1005)>0,ROW(Employees!$B$6:$B$1005)-ROW(INDEX(Employees!$B$6:$B$1005,1,1))+1),ROW(Employees!A11)-ROW(Employees!$A$5))),"")} -> Zayne Hoffman | AQ12: {=IFERROR(INDEX(Trainings!$B$6:$B$55,SMALL(IF(LEN(Trainings!$B$6:$B$55)>0,ROW(Trainings!$B$6:$B$55)-ROW(INDEX(Trainings!$B$6:$B$55,1,1))+1),ROW(A11)-ROW($A$5))),"")} -> Accounting codes | AR12: =IF(LEN(Dashboard!$J22)=0,"",Dashboard!$J22) | AS12: {=IFERROR(INDEX(Dashboard!$L$17:$L$23,SMALL(IF(LEN(Dashboard!$L$17:$L$23)>0,ROW(Dashboard!$L$17:$L$23)-ROW(INDEX(Dashboard!$L$17:$L$23,1,1))+1),ROW(Dashboard!K22)-ROW(Dashboard!$K$16))),"")} | AT12: {=IFERROR(INDEX(Dashboard!$C$17:$C$46,SMALL(IF(LEN(Dashboard!$C$17:$C$46)>0,ROW(Dashboard!$C$17:$C$46)-ROW(INDEX(Dashboard!$C$17:$C$46,1,1))+1),ROW(Dashboard!A22)-ROW(Dashboard!$A$16))),"")} | AU12: {=IFERROR(INDEX(Dashboard!$E$17:$E$46,SMALL(IF(LEN(Dashboard!$E$17:$E$46)>0,ROW(Dashboard!$E$17:$E$46)-ROW(INDEX(Dashboard!$E$17:$E$46,1,1))+1),ROW(Dashboard!A22)-ROW(Dashboard!$A$16))),"")} | AW12: {=IFERROR(INDEX(Trainings!$B$6:$B$55,SMALL(IF(LEN(Trainings!$B$6:$B$55)>0,ROW(Trainings!$B$6:$B$55)-ROW(INDEX(Trainings!$B$6:$B$55,1,1))+1),ROW(Trainings!A10)-ROW(Trainings!$A$5))),"")} -> Protection of personal data | AX12: {=IFERROR(IF(LEN(AX$6)=0,"",INDEX(Trainings!$B$6:$B$55,SMALL(IF(Trainings!$C$6:$C$55=Calc!AX$6,ROW(Trainings!$B$6:$B$55)-ROW(INDEX(Trainings!$B$6:$B$55,1,1))+1),ROW(Trainings!E10)-ROW(Trainings!$A$5)))),"")} | AY12: {=IFERROR(IF(LEN(AY$6)=0,"",INDEX(Trainings!$B$6:$B$55,SMALL(IF(Trainings!$C$6:$C$55=Calc!AY$6,ROW(Trainings!$B$6:$B$55)-ROW(INDEX(Trainings!$B$6:$B$55,1,1))+1),ROW(Trainings!F10)-ROW(Trainings!$A$5)))),"")} | AZ12: {=IFERROR(IF(LEN(AZ$6)=0,"",INDEX(Trainings!$B$6:$B$55,SMALL(IF(Trainings!$C$6:$C$55=Calc!AZ$6,ROW(Trainings!$B$6:$B$55)-ROW(INDEX(Trainings!$B$6:$B$55,1,1))+1),ROW(Trainings!G10)-ROW(Trainings!$A$5)))),"")} | BA12: {=IFERROR(IF(LEN(BA$6)=0,"",INDEX(Trainings!$B$6:$B$55,SMALL(IF(Trainings!$C$6:$C$55=Calc!BA$6,ROW(Trainings!$B$6:$B$55)-ROW(INDEX(Trainings!$B$6:$B$55,1,1))+1),ROW(Trainings!H10)-ROW(Trainings!$A$5)))),"")} | BB12: {=IFERROR(IF(LEN(BB$6)=0,"",INDEX(Trainings!$B$6:$B$55,SMALL(IF(Trainings!$C$6:$C$55=Calc!BB$6,ROW(Trainings!$B$6:$B$55)-ROW(INDEX(Trainings!$B$6:$B$55,1,1))+1),ROW(Trainings!I10)-ROW(Trainings!$A$5)))),"")} | BC12: {=IFERROR(IF(LEN(BC$6)=0,"",INDEX(Trainings!$B$6:$B$55,SMALL(IF(Trainings!$C$6:$C$55=Calc!BC$6,ROW(Trainings!$B$6:$B$55)-ROW(INDEX(Trainings!$B$6:$B$55,1,1))+1),ROW(Trainings!J10)-ROW(Trainings!$A$5)))),"")} | BD12: {=IFERROR(IF(LEN(BD$6)=0,"",INDEX(Trainings!$B$6:$B$55,SMALL(IF(Trainings!$C$6:$C$55=Calc!BD$6,ROW(Trainings!$B$6:$B$55)-ROW(INDEX(Trainings!$B$6:$B$55,1,1))+1),ROW(Trainings!K10)-ROW(Trainings!$A$5)))),"")} | BE12: {=IFERROR(IF(LEN(BE$6)=0,"",INDEX(Trainings!$B$6:$B$55,SMALL(IF(Trainings!$C$6:$C$55=Calc!BE$6,ROW(Trainings!$B$6:$B$55)-ROW(INDEX(Trainings!$B$6:$B$55,1,1))+1),ROW(Trainings!L10)-ROW(Trainings!$A$5)))),"")} | ... BG12: {=IFERROR(IF(LEN(BG$6)=0,"",INDEX(Trainings!$B$6:$B$55,SMALL(IF(Trainings!$C$6:$C$55=Calc!BG$6,ROW(Trainings!$B$6:$B$55)-ROW(INDEX(Trainings!$B$6:$B$55,1,1))+1),ROW(Trainings!N10)-ROW(Trainings!$A$5)))),"")}
B13: =IFERROR(IF(LEN($C13)=0,"",ROW($A13)-ROW($A$5)),"") -> 8 | C13: =IFERROR(IF(LEN(Scheduling!B13)=0,"",Scheduling!B13),"") -> MS Office | D13: =IFERROR(IF(LEN(C13)=0,"",IF(M13="Cancelled","",C13)),"") -> MS Office | E13: =IFERROR(IF(LEN(Scheduling!C13)=0,"",Scheduling!C13),"") -> 44870 | F13: =IFERROR(MONTH(E13),"") -> 11 | G13: =IFERROR(INDEX($AN$6:$AN$17,MATCH($F13,$AM$6:$AM$17,0),1),"") -> November | H13: =IFERROR(IF(LEN(Scheduling!D13)=0,"",Scheduling!D13),"") -> 44875 | I13: =IFERROR(MONTH(H13),"") -> 11 | J13: =IFERROR(INDEX($AN$6:$AN$17,MATCH($I13,$AM$6:$AM$17,0),1),"") -> November | K13: =IFERROR(INDEX(Trainings!$C$6:$C$55,MATCH($C13,Trainings!$B$6:$B$55,0)),"") -> Accounting | L13: =IFERROR(INDEX(Trainings!$D$6:$D$55,MATCH($C13,Trainings!$B$6:$B$55,0)),"") -> In House | M13: =IFERROR(IF(LEN(Scheduling!G13)=0,"",Scheduling!G13),"") -> Not Started | N13: =IFERROR(INDEX(Trainings!$E$6:$E$55,MATCH($C13,Trainings!$B$6:$B$55,0)),"") -> 10 | O13: =IF(LEN(N13)=0,"",IF(M13="Completed",N13,0)) -> 0 | P13: =IFERROR(IF(LEN(Scheduling!E13)=0,"",Scheduling!E13),"") -> 5 | Q13: =IFERROR(IF(LEN(C13)=0,"",Scheduling!$F13),"") -> 10000 | R13: =IF(LEN(C13)=0,"",IF(M13="Completed",Q13,0)) -> 0 | S13: =IFERROR(AVERAGEIF(Registration!$B$6:$B$4005,C13,Registration!$P$6:$P$4005),"") -> 3 | U13: =IF(LEN(K13)=0,0,IF(OR(Summary!$D$5="All",Summary!$D$5=""),1,IF(Summary!$D$5=K13,1,0))) -> 1 | V13: =IF(LEN(C13)=0,0,IF(OR(Summary!$G$5="All",Summary!$G$5=""),1,IF(Summary!$G$5=C13,1,0))) -> 1 | W13: =IFERROR(IF(LEN(E13)=0,0,IF(YEAR(E13)=Summary!$K$5,1,0)),0) -> 1 | X13: =U13*V13*W13 -> 1 | Z13: Cancelled | AA13: {=SUMPRODUCT(($M$6:$M$20=$Z13)*($X$6:$X$20))} -> 1 | AC13: =AT13 | AD13: {=IFERROR(IF(AC13="",0,SUMPRODUCT((Registration!$E$6:$E$20=$AC13)*(Registration!$V$6:$V$20))),"")} -> 0 | AE13: =RANK(AD13,$AD$7:$AD$36) -> 4 | AF13: =IF(COUNTIF($AE$7:AE13,AE13)>1,AE13+COUNTIF($AE$7:AE13,AE13)-1,AE13) -> 7 | AH13: =AU13 | AI13: {=IFERROR(IF(AH13="",0,SUMPRODUCT((Registration!$F$6:$F$20=$AH13)*(Registration!$V$6:$V$20))),"")} -> 0 | AJ13: =RANK(AI13,$AI$7:$AI$36) -> 5 | AK13: =IF(COUNTIF($AJ$7:AJ13,AJ13)>1,AJ13+COUNTIF($AJ$7:AJ13,AJ13)-1,AJ13) -> 7 | AM13: 8 | AN13: August | AP13: {=IFERROR(INDEX(Employees!$B$6:$B$1005,SMALL(IF(LEN(Employees!$B$6:$B$1005)>0,ROW(Employees!$B$6:$B$1005)-ROW(INDEX(Employees!$B$6:$B$1005,1,1))+1),ROW(Employees!A12)-ROW(Employees!$A$5))),"")} -> Noel Holmes | AQ13: {=IFERROR(INDEX(Trainings!$B$6:$B$55,SMALL(IF(LEN(Trainings!$B$6:$B$55)>0,ROW(Trainings!$B$6:$B$55)-ROW(INDEX(Trainings!$B$6:$B$55,1,1))+1),ROW(A12)-ROW($A$5))),"")} -> SEO | AR13: =IF(LEN(Dashboard!$J23)=0,"",Dashboard!$J23) | AS13: {=IFERROR(INDEX(Dashboard!$L$17:$L$23,SMALL(IF(LEN(Dashboard!$L$17:$L$23)>0,ROW(Dashboard!$L$17:$L$23)-ROW(INDEX(Dashboard!$L$17:$L$23,1,1))+1),ROW(Dashboard!K23)-ROW(Dashboard!$K$16))),"")} | AT13: {=IFERROR(INDEX(Dashboard!$C$17:$C$46,SMALL(IF(LEN(Dashboard!$C$17:$C$46)>0,ROW(Dashboard!$C$17:$C$46)-ROW(INDEX(Dashboard!$C$17:$C$46,1,1))+1),ROW(Dashboard!A23)-ROW(Dashboard!$A$16))),"")} | AU13: {=IFERROR(INDEX(Dashboard!$E$17:$E$46,SMALL(IF(LEN(Dashboard!$E$17:$E$46)>0,ROW(Dashboard!$E$17:$E$46)-ROW(INDEX(Dashboard!$E$17:$E$46,1,1))+1),ROW(Dashboard!A23)-ROW(Dashboard!$A$16))),"")} | AW13: {=IFERROR(INDEX(Trainings!$B$6:$B$55,SMALL(IF(LEN(Trainings!$B$6:$B$55)>0,ROW(Trainings!$B$6:$B$55)-ROW(INDEX(Trainings!$B$6:$B$55,1,1))+1),ROW(Trainings!A11)-ROW(Trainings!$A$5))),"")} -> Accounting codes | AX13: {=IFERROR(IF(LEN(AX$6)=0,"",INDEX(Trainings!$B$6:$B$55,SMALL(IF(Trainings!$C$6:$C$55=Calc!AX$6,ROW(Trainings!$B$6:$B$55)-ROW(INDEX(Trainings!$B$6:$B$55,1,1))+1),ROW(Trainings!E11)-ROW(Trainings!$A$5)))),"")} | AY13: {=IFERROR(IF(LEN(AY$6)=0,"",INDEX(Trainings!$B$6:$B$55,SMALL(IF(Trainings!$C$6:$C$55=Calc!AY$6,ROW(Trainings!$B$6:$B$55)-ROW(INDEX(Trainings!$B$6:$B$55,1,1))+1),ROW(Trainings!F11)-ROW(Trainings!$A$5)))),"")} | AZ13: {=IFERROR(IF(LEN(AZ$6)=0,"",INDEX(Trainings!$B$6:$B$55,SMALL(IF(Trainings!$C$6:$C$55=Calc!AZ$6,ROW(Trainings!$B$6:$B$55)-ROW(INDEX(Trainings!$B$6:$B$55,1,1))+1),ROW(Trainings!G11)-ROW(Trainings!$A$5)))),"")} | BA13: {=IFERROR(IF(LEN(BA$6)=0,"",INDEX(Trainings!$B$6:$B$55,SMALL(IF(Trainings!$C$6:$C$55=Calc!BA$6,ROW(Trainings!$B$6:$B$55)-ROW(INDEX(Trainings!$B$6:$B$55,1,1))+1),ROW(Trainings!H11)-ROW(Trainings!$A$5)))),"")} | BB13: {=IFERROR(IF(LEN(BB$6)=0,"",INDEX(Trainings!$B$6:$B$55,SMALL(IF(Trainings!$C$6:$C$55=Calc!BB$6,ROW(Trainings!$B$6:$B$55)-ROW(INDEX(Trainings!$B$6:$B$55,1,1))+1),ROW(Trainings!I11)-ROW(Trainings!$A$5)))),"")} | BC13: {=IFERROR(IF(LEN(BC$6)=0,"",INDEX(Trainings!$B$6:$B$55,SMALL(IF(Trainings!$C$6:$C$55=Calc!BC$6,ROW(Trainings!$B$6:$B$55)-ROW(INDEX(Trainings!$B$6:$B$55,1,1))+1),ROW(Trainings!J11)-ROW(Trainings!$A$5)))),"")} | BD13: {=IFERROR(IF(LEN(BD$6)=0,"",INDEX(Trainings!$B$6:$B$55,SMALL(IF(Trainings!$C$6:$C$55=Calc!BD$6,ROW(Trainings!$B$6:$B$55)-ROW(INDEX(Trainings!$B$6:$B$55,1,1))+1),ROW(Trainings!K11)-ROW(Trainings!$A$5)))),"")} | BE13: {=IFERROR(IF(LEN(BE$6)=0,"",INDEX(Trainings!$B$6:$B$55,SMALL(IF(Trainings!$C$6:$C$55=Calc!BE$6,ROW(Trainings!$B$6:$B$55)-ROW(INDEX(Trainings!$B$6:$B$55,1,1))+1),ROW(Trainings!L11)-ROW(Trainings!$A$5)))),"")} | ... BG13: {=IFERROR(IF(LEN(BG$6)=0,"",INDEX(Trainings!$B$6:$B$55,SMALL(IF(Trainings!$C$6:$C$55=Calc!BG$6,ROW(Trainings!$B$6:$B$55)-ROW(INDEX(Trainings!$B$6:$B$55,1,1))+1),ROW(Trainings!N11)-ROW(Trainings!$A$5)))),"")}
B14: =IFERROR(IF(LEN($C14)=0,"",ROW($A14)-ROW($A$5)),"") -> 9 | C14: =IFERROR(IF(LEN(Scheduling!B14)=0,"",Scheduling!B14),"") -> Communication | D14: =IFERROR(IF(LEN(C14)=0,"",IF(M14="Cancelled","",C14)),"") -> Communication | E14: =IFERROR(IF(LEN(Scheduling!C14)=0,"",Scheduling!C14),"") -> 44663 | F14: =IFERROR(MONTH(E14),"") -> 4 | G14: =IFERROR(INDEX($AN$6:$AN$17,MATCH($F14,$AM$6:$AM$17,0),1),"") -> April | H14: =IFERROR(IF(LEN(Scheduling!D14)=0,"",Scheduling!D14),"") -> 44666 | I14: =IFERROR(MONTH(H14),"") -> 4 | J14: =IFERROR(INDEX($AN$6:$AN$17,MATCH($I14,$AM$6:$AM$17,0),1),"") -> April | K14: =IFERROR(INDEX(Trainings!$C$6:$C$55,MATCH($C14,Trainings!$B$6:$B$55,0)),"") -> Soft Skills | L14: =IFERROR(INDEX(Trainings!$D$6:$D$55,MATCH($C14,Trainings!$B$6:$B$55,0)),"") -> External | M14: =IFERROR(IF(LEN(Scheduling!G14)=0,"",Scheduling!G14),"") -> Completed | N14: =IFERROR(INDEX(Trainings!$E$6:$E$55,MATCH($C14,Trainings!$B$6:$B$55,0)),"") -> 5 | O14: =IF(LEN(N14)=0,"",IF(M14="Completed",N14,0)) -> 5 | P14: =IFERROR(IF(LEN(Scheduling!E14)=0,"",Scheduling!E14),"") -> 20 | Q14: =IFERROR(IF(LEN(C14)=0,"",Scheduling!$F14),"") -> 10000 | R14: =IF(LEN(C14)=0,"",IF(M14="Completed",Q14,0)) -> 10000 | S14: =IFERROR(AVERAGEIF(Registration!$B$6:$B$4005,C14,Registration!$P$6:$P$4005),"") -> 2.5 | U14: =IF(LEN(K14)=0,0,IF(OR(Summary!$D$5="All",Summary!$D$5=""),1,IF(Summary!$D$5=K14,1,0))) -> 1 | V14: =IF(LEN(C14)=0,0,IF(OR(Summary!$G$5="All",Summary!$G$5=""),1,IF(Summary!$G$5=C14,1,0))) -> 1 | W14: =IFERROR(IF(LEN(E14)=0,0,IF(YEAR(E14)=Summary!$K$5,1,0)),0) -> 1 | X14: =U14*V14*W14 -> 1 | AC14: =AT14 | AD14: {=IFERROR(IF(AC14="",0,SUMPRODUCT((Registration!$E$6:$E$20=$AC14)*(Registration!$V$6:$V$20))),"")} -> 0 | AE14: =RANK(AD14,$AD$7:$AD$36) -> 4 | AF14: =IF(COUNTIF($AE$7:AE14,AE14)>1,AE14+COUNTIF($AE$7:AE14,AE14)-1,AE14) -> 8 | AH14: =AU14 | AI14: {=IFERROR(IF(AH14="",0,SUMPRODUCT((Registration!$F$6:$F$20=$AH14)*(Registration!$V$6:$V$20))),"")} -> 0 | AJ14: =RANK(AI14,$AI$7:$AI$36) -> 5 | AK14: =IF(COUNTIF($AJ$7:AJ14,AJ14)>1,AJ14+COUNTIF($AJ$7:AJ14,AJ14)-1,AJ14) -> 8 | AM14: 9 | AN14: September | AP14: {=IFERROR(INDEX(Employees!$B$6:$B$1005,SMALL(IF(LEN(Employees!$B$6:$B$1005)>0,ROW(Employees!$B$6:$B$1005)-ROW(INDEX(Employees!$B$6:$B$1005,1,1))+1),ROW(Employees!A13)-ROW(Employees!$A$5))),"")} -> Brody Taylor | AQ14: {=IFERROR(INDEX(Trainings!$B$6:$B$55,SMALL(IF(LEN(Trainings!$B$6:$B$55)>0,ROW(Trainings!$B$6:$B$55)-ROW(INDEX(Trainings!$B$6:$B$55,1,1))+1),ROW(A13)-ROW($A$5))),"")} | AR14: =IF(LEN(Dashboard!$J24)=0,"",Dashboard!$J24) | AT14: {=IFERROR(INDEX(Dashboard!$C$17:$C$46,SMALL(IF(LEN(Dashboard!$C$17:$C$46)>0,ROW(Dashboard!$C$17:$C$46)-ROW(INDEX(Dashboard!$C$17:$C$46,1,1))+1),ROW(Dashboard!A24)-ROW(Dashboard!$A$16))),"")} | AU14: {=IFERROR(INDEX(Dashboard!$E$17:$E$46,SMALL(IF(LEN(Dashboard!$E$17:$E$46)>0,ROW(Dashboard!$E$17:$E$46)-ROW(INDEX(Dashboard!$E$17:$E$46,1,1))+1),ROW(Dashboard!A24)-ROW(Dashboard!$A$16))),"")} | AW14: {=IFERROR(INDEX(Trainings!$B$6:$B$55,SMALL(IF(LEN(Trainings!$B$6:$B$55)>0,ROW(Trainings!$B$6:$B$55)-ROW(INDEX(Trainings!$B$6:$B$55,1,1))+1),ROW(Trainings!A12)-ROW(Trainings!$A$5))),"")} -> SEO | AX14: {=IFERROR(IF(LEN(AX$6)=0,"",INDEX(Trainings!$B$6:$B$55,SMALL(IF(Trainings!$C$6:$C$55=Calc!AX$6,ROW(Trainings!$B$6:$B$55)-ROW(INDEX(Trainings!$B$6:$B$55,1,1))+1),ROW(Trainings!E12)-ROW(Trainings!$A$5)))),"")} | AY14: {=IFERROR(IF(LEN(AY$6)=0,"",INDEX(Trainings!$B$6:$B$55,SMALL(IF(Trainings!$C$6:$C$55=Calc!AY$6,ROW(Trainings!$B$6:$B$55)-ROW(INDEX(Trainings!$B$6:$B$55,1,1))+1),ROW(Trainings!F12)-ROW(Trainings!$A$5)))),"")} | AZ14: {=IFERROR(IF(LEN(AZ$6)=0,"",INDEX(Trainings!$B$6:$B$55,SMALL(IF(Trainings!$C$6:$C$55=Calc!AZ$6,ROW(Trainings!$B$6:$B$55)-ROW(INDEX(Trainings!$B$6:$B$55,1,1))+1),ROW(Trainings!G12)-ROW(Trainings!$A$5)))),"")} | BA14: {=IFERROR(IF(LEN(BA$6)=0,"",INDEX(Trainings!$B$6:$B$55,SMALL(IF(Trainings!$C$6:$C$55=Calc!BA$6,ROW(Trainings!$B$6:$B$55)-ROW(INDEX(Trainings!$B$6:$B$55,1,1))+1),ROW(Trainings!H12)-ROW(Trainings!$A$5)))),"")} | BB14: {=IFERROR(IF(LEN(BB$6)=0,"",INDEX(Trainings!$B$6:$B$55,SMALL(IF(Trainings!$C$6:$C$55=Calc!BB$6,ROW(Trainings!$B$6:$B$55)-ROW(INDEX(Trainings!$B$6:$B$55,1,1))+1),ROW(Trainings!I12)-ROW(Trainings!$A$5)))),"")} | BC14: {=IFERROR(IF(LEN(BC$6)=0,"",INDEX(Trainings!$B$6:$B$55,SMALL(IF(Trainings!$C$6:$C$55=Calc!BC$6,ROW(Trainings!$B$6:$B$55)-ROW(INDEX(Trainings!$B$6:$B$55,1,1))+1),ROW(Trainings!J12)-ROW(Trainings!$A$5)))),"")} | BD14: {=IFERROR(IF(LEN(BD$6)=0,"",INDEX(Trainings!$B$6:$B$55,SMALL(IF(Trainings!$C$6:$C$55=Calc!BD$6,ROW(Trainings!$B$6:$B$55)-ROW(INDEX(Trainings!$B$6:$B$55,1,1))+1),ROW(Trainings!K12)-ROW(Trainings!$A$5)))),"")} | BE14: {=IFERROR(IF(LEN(BE$6)=0,"",INDEX(Trainings!$B$6:$B$55,SMALL(IF(Trainings!$C$6:$C$55=Calc!BE$6,ROW(Trainings!$B$6:$B$55)-ROW(INDEX(Trainings!$B$6:$B$55,1,1))+1),ROW(Trainings!L12)-ROW(Trainings!$A$5)))),"")} | ... BG14: {=IFERROR(IF(LEN(BG$6)=0,"",INDEX(Trainings!$B$6:$B$55,SMALL(IF(Trainings!$C$6:$C$55=Calc!BG$6,ROW(Trainings!$B$6:$B$55)-ROW(INDEX(Trainings!$B$6:$B$55,1,1))+1),ROW(Trainings!N12)-ROW(Trainings!$A$5)))),"")}
B15: =IFERROR(IF(LEN($C15)=0,"",ROW($A15)-ROW($A$5)),"") -> 10 | C15: =IFERROR(IF(LEN(Scheduling!B15)=0,"",Scheduling!B15),"") -> Accounting codes | D15: =IFERROR(IF(LEN(C15)=0,"",IF(M15="Cancelled","",C15)),"") -> Accounting codes | E15: =IFERROR(IF(LEN(Scheduling!C15)=0,"",Scheduling!C15),"") -> 44720 | F15: =IFERROR(MONTH(E15),"") -> 6 | G15: =IFERROR(INDEX($AN$6:$AN$17,MATCH($F15,$AM$6:$AM$17,0),1),"") -> June | H15: =IFERROR(IF(LEN(Scheduling!D15)=0,"",Scheduling!D15),"") -> 44763 | I15: =IFERROR(MONTH(H15),"") -> 7 | J15: =IFERROR(INDEX($AN$6:$AN$17,MATCH($I15,$AM$6:$AM$17,0),1),"") -> July | K15: =IFERROR(INDEX(Trainings!$C$6:$C$55,MATCH($C15,Trainings!$B$6:$B$55,0)),"") -> Legal | L15: =IFERROR(INDEX(Trainings!$D$6:$D$55,MATCH($C15,Trainings!$B$6:$B$55,0)),"") -> External | M15: =IFERROR(IF(LEN(Scheduling!G15)=0,"",Scheduling!G15),"") -> Completed | N15: =IFERROR(INDEX(Trainings!$E$6:$E$55,MATCH($C15,Trainings!$B$6:$B$55,0)),"") -> 30 | O15: =IF(LEN(N15)=0,"",IF(M15="Completed",N15,0)) -> 30 | P15: =IFERROR(IF(LEN(Scheduling!E15)=0,"",Scheduling!E15),"") -> 6 | Q15: =IFERROR(IF(LEN(C15)=0,"",Scheduling!$F15),"") -> 20000 | R15: =IF(LEN(C15)=0,"",IF(M15="Completed",Q15,0)) -> 20000 | S15: =IFERROR(AVERAGEIF(Registration!$B$6:$B$4005,C15,Registration!$P$6:$P$4005),"") | U15: =IF(LEN(K15)=0,0,IF(OR(Summary!$D$5="All",Summary!$D$5=""),1,IF(Summary!$D$5=K15,1,0))) -> 1 | V15: =IF(LEN(C15)=0,0,IF(OR(Summary!$G$5="All",Summary!$G$5=""),1,IF(Summary!$G$5=C15,1,0))) -> 1 | W15: =IFERROR(IF(LEN(E15)=0,0,IF(YEAR(E15)=Summary!$K$5,1,0)),0) -> 1 | X15: =U15*V15*W15 -> 1 | AA15: # of Trainings | AC15: =AT15 | AD15: {=IFERROR(IF(AC15="",0,SUMPRODUCT((Registration!$E$6:$E$20=$AC15)*(Registration!$V$6:$V$20))),"")} -> 0 | AE15: =RANK(AD15,$AD$7:$AD$36) -> 4 | AF15: =IF(COUNTIF($AE$7:AE15,AE15)>1,AE15+COUNTIF($AE$7:AE15,AE15)-1,AE15) -> 9 | AH15: =AU15 | AI15: {=IFERROR(IF(AH15="",0,SUMPRODUCT((Registration!$F$6:$F$20=$AH15)*(Registration!$V$6:$V$20))),"")} -> 0 | AJ15: =RANK(AI15,$AI$7:$AI$36) -> 5 | AK15: =IF(COUNTIF($AJ$7:AJ15,AJ15)>1,AJ15+COUNTIF($AJ$7:AJ15,AJ15)-1,AJ15) -> 9 | AM15: 10 | AN15: October | AP15: {=IFERROR(INDEX(Employees!$B$6:$B$1005,SMALL(IF(LEN(Employees!$B$6:$B$1005)>0,ROW(Employees!$B$6:$B$1005)-ROW(INDEX(Employees!$B$6:$B$1005,1,1))+1),ROW(Employees!A14)-ROW(Employees!$A$5))),"")} -> August Davidson | AQ15: {=IFERROR(INDEX(Trainings!$B$6:$B$55,SMALL(IF(LEN(Trainings!$B$6:$B$55)>0,ROW(Trainings!$B$6:$B$55)-ROW(INDEX(Trainings!$B$6:$B$55,1,1))+1),ROW(A14)-ROW($A$5))),"")} | AR15: =IF(LEN(Dashboard!$J25)=0,"",Dashboard!$J25) | AT15: {=IFERROR(INDEX(Dashboard!$C$17:$C$46,SMALL(IF(LEN(Dashboard!$C$17:$C$46)>0,ROW(Dashboard!$C$17:$C$46)-ROW(INDEX(Dashboard!$C$17:$C$46,1,1))+1),ROW(Dashboard!A25)-ROW(Dashboard!$A$16))),"")} | AU15: {=IFERROR(INDEX(Dashboard!$E$17:$E$46,SMALL(IF(LEN(Dashboard!$E$17:$E$46)>0,ROW(Dashboard!$E$17:$E$46)-ROW(INDEX(Dashboard!$E$17:$E$46,1,1))+1),ROW(Dashboard!A25)-ROW(Dashboard!$A$16))),"")} | AW15: {=IFERROR(INDEX(Trainings!$B$6:$B$55,SMALL(IF(LEN(Trainings!$B$6:$B$55)>0,ROW(Trainings!$B$6:$B$55)-ROW(INDEX(Trainings!$B$6:$B$55,1,1))+1),ROW(Trainings!A13)-ROW(Trainings!$A$5))),"")} | AX15: {=IFERROR(IF(LEN(AX$6)=0,"",INDEX(Trainings!$B$6:$B$55,SMALL(IF(Trainings!$C$6:$C$55=Calc!AX$6,ROW(Trainings!$B$6:$B$55)-ROW(INDEX(Trainings!$B$6:$B$55,1,1))+1),ROW(Trainings!E13)-ROW(Trainings!$A$5)))),"")} | AY15: {=IFERROR(IF(LEN(AY$6)=0,"",INDEX(Trainings!$B$6:$B$55,SMALL(IF(Trainings!$C$6:$C$55=Calc!AY$6,ROW(Trainings!$B$6:$B$55)-ROW(INDEX(Trainings!$B$6:$B$55,1,1))+1),ROW(Trainings!F13)-ROW(Trainings!$A$5)))),"")} | AZ15: {=IFERROR(IF(LEN(AZ$6)=0,"",INDEX(Trainings!$B$6:$B$55,SMALL(IF(Trainings!$C$6:$C$55=Calc!AZ$6,ROW(Trainings!$B$6:$B$55)-ROW(INDEX(Trainings!$B$6:$B$55,1,1))+1),ROW(Trainings!G13)-ROW(Trainings!$A$5)))),"")} | BA15: {=IFERROR(IF(LEN(BA$6)=0,"",INDEX(Trainings!$B$6:$B$55,SMALL(IF(Trainings!$C$6:$C$55=Calc!BA$6,ROW(Trainings!$B$6:$B$55)-ROW(INDEX(Trainings!$B$6:$B$55,1,1))+1),ROW(Trainings!H13)-ROW(Trainings!$A$5)))),"")} | BB15: {=IFERROR(IF(LEN(BB$6)=0,"",INDEX(Trainings!$B$6:$B$55,SMALL(IF(Trainings!$C$6:$C$55=Calc!BB$6,ROW(Trainings!$B$6:$B$55)-ROW(INDEX(Trainings!$B$6:$B$55,1,1))+1),ROW(Trainings!I13)-ROW(Trainings!$A$5)))),"")} | BC15: {=IFERROR(IF(LEN(BC$6)=0,"",INDEX(Trainings!$B$6:$B$55,SMALL(IF(Trainings!$C$6:$C$55=Calc!BC$6,ROW(Trainings!$B$6:$B$55)-ROW(INDEX(Trainings!$B$6:$B$55,1,1))+1),ROW(Trainings!J13)-ROW(Trainings!$A$5)))),"")} | BD15: {=IFERROR(IF(LEN(BD$6)=0,"",INDEX(Trainings!$B$6:$B$55,SMALL(IF(Trainings!$C$6:$C$55=Calc!BD$6,ROW(Trainings!$B$6:$B$55)-ROW(INDEX(Trainings!$B$6:$B$55,1,1))+1),ROW(Trainings!K13)-ROW(Trainings!$A$5)))),"")} | BE15: {=IFERROR(IF(LEN(BE$6)=0,"",INDEX(Trainings!$B$6:$B$55,SMALL(IF(Trainings!$C$6:$C$55=Calc!BE$6,ROW(Trainings!$B$6:$B$55)-ROW(INDEX(Trainings!$B$6:$B$55,1,1))+1),ROW(Trainings!L13)-ROW(Trainings!$A$5)))),"")} | ... BG15: {=IFERROR(IF(LEN(BG$6)=0,"",INDEX(Trainings!$B$6:$B$55,SMALL(IF(Trainings!$C$6:$C$55=Calc!BG$6,ROW(Trainings!$B$6:$B$55)-ROW(INDEX(Trainings!$B$6:$B$55,1,1))+1),ROW(Trainings!N13)-ROW(Trainings!$A$5)))),"")}
B16: =IFERROR(IF(LEN($C16)=0,"",ROW($A16)-ROW($A$5)),"") -> 11 | C16: =IFERROR(IF(LEN(Scheduling!B16)=0,"",Scheduling!B16),"") -> Accounting codes | D16: =IFERROR(IF(LEN(C16)=0,"",IF(M16="Cancelled","",C16)),"") -> Accounting codes | E16: =IFERROR(IF(LEN(Scheduling!C16)=0,"",Scheduling!C16),"") -> 44835 | F16: =IFERROR(MONTH(E16),"") -> 10 | G16: =IFERROR(INDEX($AN$6:$AN$17,MATCH($F16,$AM$6:$AM$17,0),1),"") -> October | H16: =IFERROR(IF(LEN(Scheduling!D16)=0,"",Scheduling!D16),"") -> 44843 | I16: =IFERROR(MONTH(H16),"") -> 10 | J16: =IFERROR(INDEX($AN$6:$AN$17,MATCH($I16,$AM$6:$AM$17,0),1),"") -> October | K16: =IFERROR(INDEX(Trainings!$C$6:$C$55,MATCH($C16,Trainings!$B$6:$B$55,0)),"") -> Legal | L16: =IFERROR(INDEX(Trainings!$D$6:$D$55,MATCH($C16,Trainings!$B$6:$B$55,0)),"") -> External | M16: =IFERROR(IF(LEN(Scheduling!G16)=0,"",Scheduling!G16),"") -> Not Started | N16: =IFERROR(INDEX(Trainings!$E$6:$E$55,MATCH($C16,Trainings!$B$6:$B$55,0)),"") -> 30 | O16: =IF(LEN(N16)=0,"",IF(M16="Completed",N16,0)) -> 0 | P16: =IFERROR(IF(LEN(Scheduling!E16)=0,"",Scheduling!E16),"") -> 5 | Q16: =IFERROR(IF(LEN(C16)=0,"",Scheduling!$F16),"") -> 20000 | R16: =IF(LEN(C16)=0,"",IF(M16="Completed",Q16,0)) -> 0 | S16: =IFERROR(AVERAGEIF(Registration!$B$6:$B$4005,C16,Registration!$P$6:$P$4005),"") | U16: =IF(LEN(K16)=0,0,IF(OR(Summary!$D$5="All",Summary!$D$5=""),1,IF(Summary!$D$5=K16,1,0))) -> 1 | V16: =IF(LEN(C16)=0,0,IF(OR(Summary!$G$5="All",Summary!$G$5=""),1,IF(Summary!$G$5=C16,1,0))) -> 1 | W16: =IFERROR(IF(LEN(E16)=0,0,IF(YEAR(E16)=Summary!$K$5,1,0)),0) -> 1 | X16: =U16*V16*W16 -> 1 | Z16: =AS7 -> Online | AA16: {=IF(LEN($Z16)=0,"",SUMPRODUCT(($L$6:$L$20=$Z16)*($X$6:$X$20)))} -> 2 | AC16: =AT16 | AD16: {=IFERROR(IF(AC16="",0,SUMPRODUCT((Registration!$E$6:$E$20=$AC16)*(Registration!$V$6:$V$20))),"")} -> 0 | AE16: =RANK(AD16,$AD$7:$AD$36) -> 4 | AF16: =IF(COUNTIF($AE$7:AE16,AE16)>1,AE16+COUNTIF($AE$7:AE16,AE16)-1,AE16) -> 10 | AH16: =AU16 | AI16: {=IFERROR(IF(AH16="",0,SUMPRODUCT((Registration!$F$6:$F$20=$AH16)*(Registration!$V$6:$V$20))),"")} -> 0 | AJ16: =RANK(AI16,$AI$7:$AI$36) -> 5 | AK16: =IF(COUNTIF($AJ$7:AJ16,AJ16)>1,AJ16+COUNTIF($AJ$7:AJ16,AJ16)-1,AJ16) -> 10 | AM16: 11 | AN16: November | AP16: {=IFERROR(INDEX(Employees!$B$6:$B$1005,SMALL(IF(LEN(Employees!$B$6:$B$1005)>0,ROW(Employees!$B$6:$B$1005)-ROW(INDEX(Employees!$B$6:$B$1005,1,1))+1),ROW(Employees!A15)-ROW(Employees!$A$5))),"")} -> Isabella Patterson | AQ16: {=IFERROR(INDEX(Trainings!$B$6:$B$55,SMALL(IF(LEN(Trainings!$B$6:$B$55)>0,ROW(Trainings!$B$6:$B$55)-ROW(INDEX(Trainings!$B$6:$B$55,1,1))+1),ROW(A15)-ROW($A$5))),"")} | AR16: =IF(LEN(Dashboard!$J26)=0,"",Dashboard!$J26) | AT16: {=IFERROR(INDEX(Dashboard!$C$17:$C$46,SMALL(IF(LEN(Dashboard!$C$17:$C$46)>0,ROW(Dashboard!$C$17:$C$46)-ROW(INDEX(Dashboard!$C$17:$C$46,1,1))+1),ROW(Dashboard!A26)-ROW(Dashboard!$A$16))),"")} | AU16: {=IFERROR(INDEX(Dashboard!$E$17:$E$46,SMALL(IF(LEN(Dashboard!$E$17:$E$46)>0,ROW(Dashboard!$E$17:$E$46)-ROW(INDEX(Dashboard!$E$17:$E$46,1,1))+1),ROW(Dashboard!A26)-ROW(Dashboard!$A$16))),"")} | AW16: {=IFERROR(INDEX(Trainings!$B$6:$B$55,SMALL(IF(LEN(Trainings!$B$6:$B$55)>0,ROW(Trainings!$B$6:$B$55)-ROW(INDEX(Trainings!$B$6:$B$55,1,1))+1),ROW(Trainings!A14)-ROW(Trainings!$A$5))),"")} | AX16: {=IFERROR(IF(LEN(AX$6)=0,"",INDEX(Trainings!$B$6:$B$55,SMALL(IF(Trainings!$C$6:$C$55=Calc!AX$6,ROW(Trainings!$B$6:$B$55)-ROW(INDEX(Trainings!$B$6:$B$55,1,1))+1),ROW(Trainings!E14)-ROW(Trainings!$A$5)))),"")} | AY16: {=IFERROR(IF(LEN(AY$6)=0,"",INDEX(Trainings!$B$6:$B$55,SMALL(IF(Trainings!$C$6:$C$55=Calc!AY$6,ROW(Trainings!$B$6:$B$55)-ROW(INDEX(Trainings!$B$6:$B$55,1,1))+1),ROW(Trainings!F14)-ROW(Trainings!$A$5)))),"")} | AZ16: {=IFERROR(IF(LEN(AZ$6)=0,"",INDEX(Trainings!$B$6:$B$55,SMALL(IF(Trainings!$C$6:$C$55=Calc!AZ$6,ROW(Trainings!$B$6:$B$55)-ROW(INDEX(Trainings!$B$6:$B$55,1,1))+1),ROW(Trainings!G14)-ROW(Trainings!$A$5)))),"")} | BA16: {=IFERROR(IF(LEN(BA$6)=0,"",INDEX(Trainings!$B$6:$B$55,SMALL(IF(Trainings!$C$6:$C$55=Calc!BA$6,ROW(Trainings!$B$6:$B$55)-ROW(INDEX(Trainings!$B$6:$B$55,1,1))+1),ROW(Trainings!H14)-ROW(Trainings!$A$5)))),"")} | BB16: {=IFERROR(IF(LEN(BB$6)=0,"",INDEX(Trainings!$B$6:$B$55,SMALL(IF(Trainings!$C$6:$C$55=Calc!BB$6,ROW(Trainings!$B$6:$B$55)-ROW(INDEX(Trainings!$B$6:$B$55,1,1))+1),ROW(Trainings!I14)-ROW(Trainings!$A$5)))),"")} | BC16: {=IFERROR(IF(LEN(BC$6)=0,"",INDEX(Trainings!$B$6:$B$55,SMALL(IF(Trainings!$C$6:$C$55=Calc!BC$6,ROW(Trainings!$B$6:$B$55)-ROW(INDEX(Trainings!$B$6:$B$55,1,1))+1),ROW(Trainings!J14)-ROW(Trainings!$A$5)))),"")} | BD16: {=IFERROR(IF(LEN(BD$6)=0,"",INDEX(Trainings!$B$6:$B$55,SMALL(IF(Trainings!$C$6:$C$55=Calc!BD$6,ROW(Trainings!$B$6:$B$55)-ROW(INDEX(Trainings!$B$6:$B$55,1,1))+1),ROW(Trainings!K14)-ROW(Trainings!$A$5)))),"")} | BE16: {=IFERROR(IF(LEN(BE$6)=0,"",INDEX(Trainings!$B$6:$B$55,SMALL(IF(Trainings!$C$6:$C$55=Calc!BE$6,ROW(Trainings!$B$6:$B$55)-ROW(INDEX(Trainings!$B$6:$B$55,1,1))+1),ROW(Trainings!L14)-ROW(Trainings!$A$5)))),"")} | ... BG16: {=IFERROR(IF(LEN(BG$6)=0,"",INDEX(Trainings!$B$6:$B$55,SMALL(IF(Trainings!$C$6:$C$55=Calc!BG$6,ROW(Trainings!$B$6:$B$55)-ROW(INDEX(Trainings!$B$6:$B$55,1,1))+1),ROW(Trainings!N14)-ROW(Trainings!$A$5)))),"")}
B17: =IFERROR(IF(LEN($C17)=0,"",ROW($A17)-ROW($A$5)),"") -> 12 | C17: =IFERROR(IF(LEN(Scheduling!B17)=0,"",Scheduling!B17),"") -> Protection of personal data | D17: =IFERROR(IF(LEN(C17)=0,"",IF(M17="Cancelled","",C17)),"") -> Protection of personal data | E17: =IFERROR(IF(LEN(Scheduling!C17)=0,"",Scheduling!C17),"") -> 44747 | F17: =IFERROR(MONTH(E17),"") -> 7 | G17: =IFERROR(INDEX($AN$6:$AN$17,MATCH($F17,$AM$6:$AM$17,0),1),"") -> July | H17: =IFERROR(IF(LEN(Scheduling!D17)=0,"",Scheduling!D17),"") -> 44752 | I17: =IFERROR(MONTH(H17),"") -> 7 | J17: =IFERROR(INDEX($AN$6:$AN$17,MATCH($I17,$AM$6:$AM$17,0),1),"") -> July | K17: =IFERROR(INDEX(Trainings!$C$6:$C$55,MATCH($C17,Trainings!$B$6:$B$55,0)),"") -> Legal | L17: =IFERROR(INDEX(Trainings!$D$6:$D$55,MATCH($C17,Trainings!$B$6:$B$55,0)),"") -> In House | M17: =IFERROR(IF(LEN(Scheduling!G17)=0,"",Scheduling!G17),"") -> Not Started | N17: =IFERROR(INDEX(Trainings!$E$6:$E$55,MATCH($C17,Trainings!$B$6:$B$55,0)),"") -> 30 | O17: =IF(LEN(N17)=0,"",IF(M17="Completed",N17,0)) -> 0 | P17: =IFERROR(IF(LEN(Scheduling!E17)=0,"",Scheduling!E17),"") -> 5 | Q17: =IFERROR(IF(LEN(C17)=0,"",Scheduling!$F17),"") -> 7500 | R17: =IF(LEN(C17)=0,"",IF(M17="Completed",Q17,0)) -> 0 | S17: =IFERROR(AVERAGEIF(Registration!$B$6:$B$4005,C17,Registration!$P$6:$P$4005),"") | U17: =IF(LEN(K17)=0,0,IF(OR(Summary!$D$5="All",Summary!$D$5=""),1,IF(Summary!$D$5=K17,1,0))) -> 1 | V17: =IF(LEN(C17)=0,0,IF(OR(Summary!$G$5="All",Summary!$G$5=""),1,IF(Summary!$G$5=C17,1,0))) -> 1 | W17: =IFERROR(IF(LEN(E17)=0,0,IF(YEAR(E17)=Summary!$K$5,1,0)),0) -> 1 | X17: =U17*V17*W17 -> 1 | Z17: =AS8 -> In House | AA17: {=IF(LEN($Z17)=0,"",SUMPRODUCT(($L$6:$L$20=$Z17)*($X$6:$X$20)))} -> 8 | AC17: =AT17 | AD17: {=IFERROR(IF(AC17="",0,SUMPRODUCT((Registration!$E$6:$E$20=$AC17)*(Registration!$V$6:$V$20))),"")} -> 0 | AE17: =RANK(AD17,$AD$7:$AD$36) -> 4 | AF17: =IF(COUNTIF($AE$7:AE17,AE17)>1,AE17+COUNTIF($AE$7:AE17,AE17)-1,AE17) -> 11 | AH17: =AU17 | AI17: {=IFERROR(IF(AH17="",0,SUMPRODUCT((Registration!$F$6:$F$20=$AH17)*(Registration!$V$6:$V$20))),"")} -> 0 | AJ17: =RANK(AI17,$AI$7:$AI$36) -> 5 | AK17: =IF(COUNTIF($AJ$7:AJ17,AJ17)>1,AJ17+COUNTIF($AJ$7:AJ17,AJ17)-1,AJ17) -> 11 | AM17: 12 | AN17: December | AP17: {=IFERROR(INDEX(Employees!$B$6:$B$1005,SMALL(IF(LEN(Employees!$B$6:$B$1005)>0,ROW(Employees!$B$6:$B$1005)-ROW(INDEX(Employees!$B$6:$B$1005,1,1))+1),ROW(Employees!A16)-ROW(Employees!$A$5))),"")} | AQ17: {=IFERROR(INDEX(Trainings!$B$6:$B$55,SMALL(IF(LEN(Trainings!$B$6:$B$55)>0,ROW(Trainings!$B$6:$B$55)-ROW(INDEX(Trainings!$B$6:$B$55,1,1))+1),ROW(A16)-ROW($A$5))),"")} | AT17: {=IFERROR(INDEX(Dashboard!$C$17:$C$46,SMALL(IF(LEN(Dashboard!$C$17:$C$46)>0,ROW(Dashboard!$C$17:$C$46)-ROW(INDEX(Dashboard!$C$17:$C$46,1,1))+1),ROW(Dashboard!A27)-ROW(Dashboard!$A$16))),"")} | AU17: {=IFERROR(INDEX(Dashboard!$E$17:$E$46,SMALL(IF(LEN(Dashboard!$E$17:$E$46)>0,ROW(Dashboard!$E$17:$E$46)-ROW(INDEX(Dashboard!$E$17:$E$46,1,1))+1),ROW(Dashboard!A27)-ROW(Dashboard!$A$16))),"")} | AW17: {=IFERROR(INDEX(Trainings!$B$6:$B$55,SMALL(IF(LEN(Trainings!$B$6:$B$55)>0,ROW(Trainings!$B$6:$B$55)-ROW(INDEX(Trainings!$B$6:$B$55,1,1))+1),ROW(Trainings!A15)-ROW(Trainings!$A$5))),"")} | AX17: {=IFERROR(IF(LEN(AX$6)=0,"",INDEX(Trainings!$B$6:$B$55,SMALL(IF(Trainings!$C$6:$C$55=Calc!AX$6,ROW(Trainings!$B$6:$B$55)-ROW(INDEX(Trainings!$B$6:$B$55,1,1))+1),ROW(Trainings!E15)-ROW(Trainings!$A$5)))),"")} | AY17: {=IFERROR(IF(LEN(AY$6)=0,"",INDEX(Trainings!$B$6:$B$55,SMALL(IF(Trainings!$C$6:$C$55=Calc!AY$6,ROW(Trainings!$B$6:$B$55)-ROW(INDEX(Trainings!$B$6:$B$55,1,1))+1),ROW(Trainings!F15)-ROW(Trainings!$A$5)))),"")} | AZ17: {=IFERROR(IF(LEN(AZ$6)=0,"",INDEX(Trainings!$B$6:$B$55,SMALL(IF(Trainings!$C$6:$C$55=Calc!AZ$6,ROW(Trainings!$B$6:$B$55)-ROW(INDEX(Trainings!$B$6:$B$55,1,1))+1),ROW(Trainings!G15)-ROW(Trainings!$A$5)))),"")} | BA17: {=IFERROR(IF(LEN(BA$6)=0,"",INDEX(Trainings!$B$6:$B$55,SMALL(IF(Trainings!$C$6:$C$55=Calc!BA$6,ROW(Trainings!$B$6:$B$55)-ROW(INDEX(Trainings!$B$6:$B$55,1,1))+1),ROW(Trainings!H15)-ROW(Trainings!$A$5)))),"")} | BB17: {=IFERROR(IF(LEN(BB$6)=0,"",INDEX(Trainings!$B$6:$B$55,SMALL(IF(Trainings!$C$6:$C$55=Calc!BB$6,ROW(Trainings!$B$6:$B$55)-ROW(INDEX(Trainings!$B$6:$B$55,1,1))+1),ROW(Trainings!I15)-ROW(Trainings!$A$5)))),"")} | BC17: {=IFERROR(IF(LEN(BC$6)=0,"",INDEX(Trainings!$B$6:$B$55,SMALL(IF(Trainings!$C$6:$C$55=Calc!BC$6,ROW(Trainings!$B$6:$B$55)-ROW(INDEX(Trainings!$B$6:$B$55,1,1))+1),ROW(Trainings!J15)-ROW(Trainings!$A$5)))),"")} | BD17: {=IFERROR(IF(LEN(BD$6)=0,"",INDEX(Trainings!$B$6:$B$55,SMALL(IF(Trainings!$C$6:$C$55=Calc!BD$6,ROW(Trainings!$B$6:$B$55)-ROW(INDEX(Trainings!$B$6:$B$55,1,1))+1),ROW(Trainings!K15)-ROW(Trainings!$A$5)))),"")} | BE17: {=IFERROR(IF(LEN(BE$6)=0,"",INDEX(Trainings!$B$6:$B$55,SMALL(IF(Trainings!$C$6:$C$55=Calc!BE$6,ROW(Trainings!$B$6:$B$55)-ROW(INDEX(Trainings!$B$6:$B$55,1,1))+1),ROW(Trainings!L15)-ROW(Trainings!$A$5)))),"")} | ... BG17: {=IFERROR(IF(LEN(BG$6)=0,"",INDEX(Trainings!$B$6:$B$55,SMALL(IF(Trainings!$C$6:$C$55=Calc!BG$6,ROW(Trainings!$B$6:$B$55)-ROW(INDEX(Trainings!$B$6:$B$55,1,1))+1),ROW(Trainings!N15)-ROW(Trainings!$A$5)))),"")}
B18: =IFERROR(IF(LEN($C18)=0,"",ROW($A18)-ROW($A$5)),"") -> 13 | C18: =IFERROR(IF(LEN(Scheduling!B18)=0,"",Scheduling!B18),"") -> Protection of personal data | D18: =IFERROR(IF(LEN(C18)=0,"",IF(M18="Cancelled","",C18)),"") -> Protection of personal data | E18: =IFERROR(IF(LEN(Scheduling!C18)=0,"",Scheduling!C18),"") -> 44656 | F18: =IFERROR(MONTH(E18),"") -> 4 | G18: =IFERROR(INDEX($AN$6:$AN$17,MATCH($F18,$AM$6:$AM$17,0),1),"") -> April | H18: =IFERROR(IF(LEN(Scheduling!D18)=0,"",Scheduling!D18),"") -> 44661 | I18: =IFERROR(MONTH(H18),"") -> 4 | J18: =IFERROR(INDEX($AN$6:$AN$17,MATCH($I18,$AM$6:$AM$17,0),1),"") -> April | K18: =IFERROR(INDEX(Trainings!$C$6:$C$55,MATCH($C18,Trainings!$B$6:$B$55,0)),"") -> Legal | L18: =IFERROR(INDEX(Trainings!$D$6:$D$55,MATCH($C18,Trainings!$B$6:$B$55,0)),"") -> In House | M18: =IFERROR(IF(LEN(Scheduling!G18)=0,"",Scheduling!G18),"") -> Completed | N18: =IFERROR(INDEX(Trainings!$E$6:$E$55,MATCH($C18,Trainings!$B$6:$B$55,0)),"") -> 30 | O18: =IF(LEN(N18)=0,"",IF(M18="Completed",N18,0)) -> 30 | P18: =IFERROR(IF(LEN(Scheduling!E18)=0,"",Scheduling!E18),"") -> 5 | Q18: =IFERROR(IF(LEN(C18)=0,"",Scheduling!$F18),"") -> 7500 | R18: =IF(LEN(C18)=0,"",IF(M18="Completed",Q18,0)) -> 7500 | S18: =IFERROR(AVERAGEIF(Registration!$B$6:$B$4005,C18,Registration!$P$6:$P$4005),"") | U18: =IF(LEN(K18)=0,0,IF(OR(Summary!$D$5="All",Summary!$D$5=""),1,IF(Summary!$D$5=K18,1,0))) -> 1 | V18: =IF(LEN(C18)=0,0,IF(OR(Summary!$G$5="All",Summary!$G$5=""),1,IF(Summary!$G$5=C18,1,0))) -> 1 | W18: =IFERROR(IF(LEN(E18)=0,0,IF(YEAR(E18)=Summary!$K$5,1,0)),0) -> 1 | X18: =U18*V18*W18 -> 1 | Z18: =AS9 -> External | AA18: {=IF(LEN($Z18)=0,"",SUMPRODUCT(($L$6:$L$20=$Z18)*($X$6:$X$20)))} -> 3 | AC18: =AT18 | AD18: {=IFERROR(IF(AC18="",0,SUMPRODUCT((Registration!$E$6:$E$20=$AC18)*(Registration!$V$6:$V$20))),"")} -> 0 | AE18: =RANK(AD18,$AD$7:$AD$36) -> 4 | AF18: =IF(COUNTIF($AE$7:AE18,AE18)>1,AE18+COUNTIF($AE$7:AE18,AE18)-1,AE18) -> 12 | AH18: =AU18 | AI18: {=IFERROR(IF(AH18="",0,SUMPRODUCT((Registration!$F$6:$F$20=$AH18)*(Registration!$V$6:$V$20))),"")} -> 0 | AJ18: =RANK(AI18,$AI$7:$AI$36) -> 5 | AK18: =IF(COUNTIF($AJ$7:AJ18,AJ18)>1,AJ18+COUNTIF($AJ$7:AJ18,AJ18)-1,AJ18) -> 12 | AP18: {=IFERROR(INDEX(Employees!$B$6:$B$1005,SMALL(IF(LEN(Employees!$B$6:$B$1005)>0,ROW(Employees!$B$6:$B$1005)-ROW(INDEX(Employees!$B$6:$B$1005,1,1))+1),ROW(Employees!A17)-ROW(Employees!$A$5))),"")} | AQ18: {=IFERROR(INDEX(Trainings!$B$6:$B$55,SMALL(IF(LEN(Trainings!$B$6:$B$55)>0,ROW(Trainings!$B$6:$B$55)-ROW(INDEX(Trainings!$B$6:$B$55,1,1))+1),ROW(A17)-ROW($A$5))),"")} | AT18: {=IFERROR(INDEX(Dashboard!$C$17:$C$46,SMALL(IF(LEN(Dashboard!$C$17:$C$46)>0,ROW(Dashboard!$C$17:$C$46)-ROW(INDEX(Dashboard!$C$17:$C$46,1,1))+1),ROW(Dashboard!A28)-ROW(Dashboard!$A$16))),"")} | AU18: {=IFERROR(INDEX(Dashboard!$E$17:$E$46,SMALL(IF(LEN(Dashboard!$E$17:$E$46)>0,ROW(Dashboard!$E$17:$E$46)-ROW(INDEX(Dashboard!$E$17:$E$46,1,1))+1),ROW(Dashboard!A28)-ROW(Dashboard!$A$16))),"")} | AW18: {=IFERROR(INDEX(Trainings!$B$6:$B$55,SMALL(IF(LEN(Trainings!$B$6:$B$55)>0,ROW(Trainings!$B$6:$B$55)-ROW(INDEX(Trainings!$B$6:$B$55,1,1))+1),ROW(Trainings!A16)-ROW(Trainings!$A$5))),"")} | AX18: {=IFERROR(IF(LEN(AX$6)=0,"",INDEX(Trainings!$B$6:$B$55,SMALL(IF(Trainings!$C$6:$C$55=Calc!AX$6,ROW(Trainings!$B$6:$B$55)-ROW(INDEX(Trainings!$B$6:$B$55,1,1))+1),ROW(Trainings!E16)-ROW(Trainings!$A$5)))),"")} | AY18: {=IFERROR(IF(LEN(AY$6)=0,"",INDEX(Trainings!$B$6:$B$55,SMALL(IF(Trainings!$C$6:$C$55=Calc!AY$6,ROW(Trainings!$B$6:$B$55)-ROW(INDEX(Trainings!$B$6:$B$55,1,1))+1),ROW(Trainings!F16)-ROW(Trainings!$A$5)))),"")} | AZ18: {=IFERROR(IF(LEN(AZ$6)=0,"",INDEX(Trainings!$B$6:$B$55,SMALL(IF(Trainings!$C$6:$C$55=Calc!AZ$6,ROW(Trainings!$B$6:$B$55)-ROW(INDEX(Trainings!$B$6:$B$55,1,1))+1),ROW(Trainings!G16)-ROW(Trainings!$A$5)))),"")} | BA18: {=IFERROR(IF(LEN(BA$6)=0,"",INDEX(Trainings!$B$6:$B$55,SMALL(IF(Trainings!$C$6:$C$55=Calc!BA$6,ROW(Trainings!$B$6:$B$55)-ROW(INDEX(Trainings!$B$6:$B$55,1,1))+1),ROW(Trainings!H16)-ROW(Trainings!$A$5)))),"")} | BB18: {=IFERROR(IF(LEN(BB$6)=0,"",INDEX(Trainings!$B$6:$B$55,SMALL(IF(Trainings!$C$6:$C$55=Calc!BB$6,ROW(Trainings!$B$6:$B$55)-ROW(INDEX(Trainings!$B$6:$B$55,1,1))+1),ROW(Trainings!I16)-ROW(Trainings!$A$5)))),"")} | BC18: {=IFERROR(IF(LEN(BC$6)=0,"",INDEX(Trainings!$B$6:$B$55,SMALL(IF(Trainings!$C$6:$C$55=Calc!BC$6,ROW(Trainings!$B$6:$B$55)-ROW(INDEX(Trainings!$B$6:$B$55,1,1))+1),ROW(Trainings!J16)-ROW(Trainings!$A$5)))),"")} | BD18: {=IFERROR(IF(LEN(BD$6)=0,"",INDEX(Trainings!$B$6:$B$55,SMALL(IF(Trainings!$C$6:$C$55=Calc!BD$6,ROW(Trainings!$B$6:$B$55)-ROW(INDEX(Trainings!$B$6:$B$55,1,1))+1),ROW(Trainings!K16)-ROW(Trainings!$A$5)))),"")} | BE18: {=IFERROR(IF(LEN(BE$6)=0,"",INDEX(Trainings!$B$6:$B$55,SMALL(IF(Trainings!$C$6:$C$55=Calc!BE$6,ROW(Trainings!$B$6:$B$55)-ROW(INDEX(Trainings!$B$6:$B$55,1,1))+1),ROW(Trainings!L16)-ROW(Trainings!$A$5)))),"")} | ... BG18: {=IFERROR(IF(LEN(BG$6)=0,"",INDEX(Trainings!$B$6:$B$55,SMALL(IF(Trainings!$C$6:$C$55=Calc!BG$6,ROW(Trainings!$B$6:$B$55)-ROW(INDEX(Trainings!$B$6:$B$55,1,1))+1),ROW(Trainings!N16)-ROW(Trainings!$A$5)))),"")}
B19: =IFERROR(IF(LEN($C19)=0,"",ROW($A19)-ROW($A$5)),"") | C19: =IFERROR(IF(LEN(Scheduling!B19)=0,"",Scheduling!B19),"") | D19: =IFERROR(IF(LEN(C19)=0,"",IF(M19="Cancelled","",C19)),"") | E19: =IFERROR(IF(LEN(Scheduling!C19)=0,"",Scheduling!C19),"") | F19: =IFERROR(MONTH(E19),"") | G19: =IFERROR(INDEX($AN$6:$AN$17,MATCH($F19,$AM$6:$AM$17,0),1),"") | H19: =IFERROR(IF(LEN(Scheduling!D19)=0,"",Scheduling!D19),"") | I19: =IFERROR(MONTH(H19),"") | J19: =IFERROR(INDEX($AN$6:$AN$17,MATCH($I19,$AM$6:$AM$17,0),1),"") | K19: =IFERROR(INDEX(Trainings!$C$6:$C$55,MATCH($C19,Trainings!$B$6:$B$55,0)),"") | L19: =IFERROR(INDEX(Trainings!$D$6:$D$55,MATCH($C19,Trainings!$B$6:$B$55,0)),"") | M19: =IFERROR(IF(LEN(Scheduling!G19)=0,"",Scheduling!G19),"") | N19: =IFERROR(INDEX(Trainings!$E$6:$E$55,MATCH($C19,Trainings!$B$6:$B$55,0)),"") | O19: =IF(LEN(N19)=0,"",IF(M19="Completed",N19,0)) | P19: =IFERROR(IF(LEN(Scheduling!E19)=0,"",Scheduling!E19),"") | Q19: =IFERROR(IF(LEN(C19)=0,"",Scheduling!$F19),"") | R19: =IF(LEN(C19)=0,"",IF(M19="Completed",Q19,0)) | S19: =IFERROR(AVERAGEIF(Registration!$B$6:$B$4005,C19,Registration!$P$6:$P$4005),"") | U19: =IF(LEN(K19)=0,0,IF(OR(Summary!$D$5="All",Summary!$D$5=""),1,IF(Summary!$D$5=K19,1,0))) -> 0 | V19: =IF(LEN(C19)=0,0,IF(OR(Summary!$G$5="All",Summary!$G$5=""),1,IF(Summary!$G$5=C19,1,0))) -> 0 | W19: =IFERROR(IF(LEN(E19)=0,0,IF(YEAR(E19)=Summary!$K$5,1,0)),0) -> 0 | X19: =U19*V19*W19 -> 0 | Z19: =AS10 | AA19: {=IF(LEN($Z19)=0,"",SUMPRODUCT(($L$6:$L$20=$Z19)*($X$6:$X$20)))} | AC19: =AT19 | AD19: {=IFERROR(IF(AC19="",0,SUMPRODUCT((Registration!$E$6:$E$20=$AC19)*(Registration!$V$6:$V$20))),"")} -> 0 | AE19: =RANK(AD19,$AD$7:$AD$36) -> 4 | AF19: =IF(COUNTIF($AE$7:AE19,AE19)>1,AE19+COUNTIF($AE$7:AE19,AE19)-1,AE19) -> 13 | AH19: =AU19 | AI19: {=IFERROR(IF(AH19="",0,SUMPRODUCT((Registration!$F$6:$F$20=$AH19)*(Registration!$V$6:$V$20))),"")} -> 0 | AJ19: =RANK(AI19,$AI$7:$AI$36) -> 5 | AK19: =IF(COUNTIF($AJ$7:AJ19,AJ19)>1,AJ19+COUNTIF($AJ$7:AJ19,AJ19)-1,AJ19) -> 13 | AM19: Calendar Date | AN19: =IF(Calendar!G5="","",DATE(Calendar!G5,INDEX($AM$6:$AM$17,MATCH(Calendar!M5,$AN$6:$AN$17,0)),1)) -> 44562 | AP19: {=IFERROR(INDEX(Employees!$B$6:$B$1005,SMALL(IF(LEN(Employees!$B$6:$B$1005)>0,ROW(Employees!$B$6:$B$1005)-ROW(INDEX(Employees!$B$6:$B$1005,1,1))+1),ROW(Employees!A18)-ROW(Employees!$A$5))),"")} | AQ19: {=IFERROR(INDEX(Trainings!$B$6:$B$55,SMALL(IF(LEN(Trainings!$B$6:$B$55)>0,ROW(Trainings!$B$6:$B$55)-ROW(INDEX(Trainings!$B$6:$B$55,1,1))+1),ROW(A18)-ROW($A$5))),"")} | AT19: {=IFERROR(INDEX(Dashboard!$C$17:$C$46,SMALL(IF(LEN(Dashboard!$C$17:$C$46)>0,ROW(Dashboard!$C$17:$C$46)-ROW(INDEX(Dashboard!$C$17:$C$46,1,1))+1),ROW(Dashboard!A29)-ROW(Dashboard!$A$16))),"")} | AU19: {=IFERROR(INDEX(Dashboard!$E$17:$E$46,SMALL(IF(LEN(Dashboard!$E$17:$E$46)>0,ROW(Dashboard!$E$17:$E$46)-ROW(INDEX(Dashboard!$E$17:$E$46,1,1))+1),ROW(Dashboard!A29)-ROW(Dashboard!$A$16))),"")} | AW19: {=IFERROR(INDEX(Trainings!$B$6:$B$55,SMALL(IF(LEN(Trainings!$B$6:$B$55)>0,ROW(Trainings!$B$6:$B$55)-ROW(INDEX(Trainings!$B$6:$B$55,1,1))+1),ROW(Trainings!A17)-ROW(Trainings!$A$5))),"")} | AX19: {=IFERROR(IF(LEN(AX$6)=0,"",INDEX(Trainings!$B$6:$B$55,SMALL(IF(Trainings!$C$6:$C$55=Calc!AX$6,ROW(Trainings!$B$6:$B$55)-ROW(INDEX(Trainings!$B$6:$B$55,1,1))+1),ROW(Trainings!E17)-ROW(Trainings!$A$5)))),"")} | AY19: {=IFERROR(IF(LEN(AY$6)=0,"",INDEX(Trainings!$B$6:$B$55,SMALL(IF(Trainings!$C$6:$C$55=Calc!AY$6,ROW(Trainings!$B$6:$B$55)-ROW(INDEX(Trainings!$B$6:$B$55,1,1))+1),ROW(Trainings!F17)-ROW(Trainings!$A$5)))),"")} | AZ19: {=IFERROR(IF(LEN(AZ$6)=0,"",INDEX(Trainings!$B$6:$B$55,SMALL(IF(Trainings!$C$6:$C$55=Calc!AZ$6,ROW(Trainings!$B$6:$B$55)-ROW(INDEX(Trainings!$B$6:$B$55,1,1))+1),ROW(Trainings!G17)-ROW(Trainings!$A$5)))),"")} | BA19: {=IFERROR(IF(LEN(BA$6)=0,"",INDEX(Trainings!$B$6:$B$55,SMALL(IF(Trainings!$C$6:$C$55=Calc!BA$6,ROW(Trainings!$B$6:$B$55)-ROW(INDEX(Trainings!$B$6:$B$55,1,1))+1),ROW(Trainings!H17)-ROW(Trainings!$A$5)))),"")} | BB19: {=IFERROR(IF(LEN(BB$6)=0,"",INDEX(Trainings!$B$6:$B$55,SMALL(IF(Trainings!$C$6:$C$55=Calc!BB$6,ROW(Trainings!$B$6:$B$55)-ROW(INDEX(Trainings!$B$6:$B$55,1,1))+1),ROW(Trainings!I17)-ROW(Trainings!$A$5)))),"")} | BC19: {=IFERROR(IF(LEN(BC$6)=0,"",INDEX(Trainings!$B$6:$B$55,SMALL(IF(Trainings!$C$6:$C$55=Calc!BC$6,ROW(Trainings!$B$6:$B$55)-ROW(INDEX(Trainings!$B$6:$B$55,1,1))+1),ROW(Trainings!J17)-ROW(Trainings!$A$5)))),"")} | BD19: {=IFERROR(IF(LEN(BD$6)=0,"",INDEX(Trainings!$B$6:$B$55,SMALL(IF(Trainings!$C$6:$C$55=Calc!BD$6,ROW(Trainings!$B$6:$B$55)-ROW(INDEX(Trainings!$B$6:$B$55,1,1))+1),ROW(Trainings!K17)-ROW(Trainings!$A$5)))),"")} | BE19: {=IFERROR(IF(LEN(BE$6)=0,"",INDEX(Trainings!$B$6:$B$55,SMALL(IF(Trainings!$C$6:$C$55=Calc!BE$6,ROW(Trainings!$B$6:$B$55)-ROW(INDEX(Trainings!$B$6:$B$55,1,1))+1),ROW(Trainings!L17)-ROW(Trainings!$A$5)))),"")} | ... BG19: {=IFERROR(IF(LEN(BG$6)=0,"",INDEX(Trainings!$B$6:$B$55,SMALL(IF(Trainings!$C$6:$C$55=Calc!BG$6,ROW(Trainings!$B$6:$B$55)-ROW(INDEX(Trainings!$B$6:$B$55,1,1))+1),ROW(Trainings!N17)-ROW(Trainings!$A$5)))),"")}
B20: =IFERROR(IF(LEN($C20)=0,"",ROW($A20)-ROW($A$5)),"") | C20: =IFERROR(IF(LEN(Scheduling!B20)=0,"",Scheduling!B20),"") | D20: =IFERROR(IF(LEN(C20)=0,"",IF(M20="Cancelled","",C20)),"") | E20: =IFERROR(IF(LEN(Scheduling!C20)=0,"",Scheduling!C20),"") | F20: =IFERROR(MONTH(E20),"") | G20: =IFERROR(INDEX($AN$6:$AN$17,MATCH($F20,$AM$6:$AM$17,0),1),"") | H20: =IFERROR(IF(LEN(Scheduling!D20)=0,"",Scheduling!D20),"") | I20: =IFERROR(MONTH(H20),"") | J20: =IFERROR(INDEX($AN$6:$AN$17,MATCH($I20,$AM$6:$AM$17,0),1),"") | K20: =IFERROR(INDEX(Trainings!$C$6:$C$55,MATCH($C20,Trainings!$B$6:$B$55,0)),"") | L20: =IFERROR(INDEX(Trainings!$D$6:$D$55,MATCH($C20,Trainings!$B$6:$B$55,0)),"") | M20: =IFERROR(IF(LEN(Scheduling!G20)=0,"",Scheduling!G20),"") | N20: =IFERROR(INDEX(Trainings!$E$6:$E$55,MATCH($C20,Trainings!$B$6:$B$55,0)),"") | O20: =IF(LEN(N20)=0,"",IF(M20="Completed",N20,0)) | P20: =IFERROR(IF(LEN(Scheduling!E20)=0,"",Scheduling!E20),"") | Q20: =IFERROR(IF(LEN(C20)=0,"",Scheduling!$F20),"") | R20: =IF(LEN(C20)=0,"",IF(M20="Completed",Q20,0)) | S20: =IFERROR(AVERAGEIF(Registration!$B$6:$B$4005,C20,Registration!$P$6:$P$4005),"") | U20: =IF(LEN(K20)=0,0,IF(OR(Summary!$D$5="All",Summary!$D$5=""),1,IF(Summary!$D$5=K20,1,0))) -> 0 | V20: =IF(LEN(C20)=0,0,IF(OR(Summary!$G$5="All",Summary!$G$5=""),1,IF(Summary!$G$5=C20,1,0))) -> 0 | W20: =IFERROR(IF(LEN(E20)=0,0,IF(YEAR(E20)=Summary!$K$5,1,0)),0) -> 0 | X20: =U20*V20*W20 -> 0 | Z20: =AS11 | AA20: {=IF(LEN($Z20)=0,"",SUMPRODUCT(($L$6:$L$20=$Z20)*($X$6:$X$20)))} | AC20: =AT20 | AD20: {=IFERROR(IF(AC20="",0,SUMPRODUCT((Registration!$E$6:$E$20=$AC20)*(Registration!$V$6:$V$20))),"")} -> 0 | AE20: =RANK(AD20,$AD$7:$AD$36) -> 4 | AF20: =IF(COUNTIF($AE$7:AE20,AE20)>1,AE20+COUNTIF($AE$7:AE20,AE20)-1,AE20) -> 14 | AH20: =AU20 | AI20: {=IFERROR(IF(AH20="",0,SUMPRODUCT((Registration!$F$6:$F$20=$AH20)*(Registration!$V$6:$V$20))),"")} -> 0 | AJ20: =RANK(AI20,$AI$7:$AI$36) -> 5 | AK20: =IF(COUNTIF($AJ$7:AJ20,AJ20)>1,AJ20+COUNTIF($AJ$7:AJ20,AJ20)-1,AJ20) -> 14 | AP20: {=IFERROR(INDEX(Employees!$B$6:$B$1005,SMALL(IF(LEN(Employees!$B$6:$B$1005)>0,ROW(Employees!$B$6:$B$1005)-ROW(INDEX(Employees!$B$6:$B$1005,1,1))+1),ROW(Employees!A19)-ROW(Employees!$A$5))),"")} | AQ20: {=IFERROR(INDEX(Trainings!$B$6:$B$55,SMALL(IF(LEN(Trainings!$B$6:$B$55)>0,ROW(Trainings!$B$6:$B$55)-ROW(INDEX(Trainings!$B$6:$B$55,1,1))+1),ROW(A19)-ROW($A$5))),"")} | AT20: {=IFERROR(INDEX(Dashboard!$C$17:$C$46,SMALL(IF(LEN(Dashboard!$C$17:$C$46)>0,ROW(Dashboard!$C$17:$C$46)-ROW(INDEX(Dashboard!$C$17:$C$46,1,1))+1),ROW(Dashboard!A30)-ROW(Dashboard!$A$16))),"")} | AU20: {=IFERROR(INDEX(Dashboard!$E$17:$E$46,SMALL(IF(LEN(Dashboard!$E$17:$E$46)>0,ROW(Dashboard!$E$17:$E$46)-ROW(INDEX(Dashboard!$E$17:$E$46,1,1))+1),ROW(Dashboard!A30)-ROW(Dashboard!$A$16))),"")} | AW20: {=IFERROR(INDEX(Trainings!$B$6:$B$55,SMALL(IF(LEN(Trainings!$B$6:$B$55)>0,ROW(Trainings!$B$6:$B$55)-ROW(INDEX(Trainings!$B$6:$B$55,1,1))+1),ROW(Trainings!A18)-ROW(Trainings!$A$5))),"")} | AX20: {=IFERROR(IF(LEN(AX$6)=0,"",INDEX(Trainings!$B$6:$B$55,SMALL(IF(Trainings!$C$6:$C$55=Calc!AX$6,ROW(Trainings!$B$6:$B$55)-ROW(INDEX(Trainings!$B$6:$B$55,1,1))+1),ROW(Trainings!E18)-ROW(Trainings!$A$5)))),"")} | AY20: {=IFERROR(IF(LEN(AY$6)=0,"",INDEX(Trainings!$B$6:$B$55,SMALL(IF(Trainings!$C$6:$C$55=Calc!AY$6,ROW(Trainings!$B$6:$B$55)-ROW(INDEX(Trainings!$B$6:$B$55,1,1))+1),ROW(Trainings!F18)-ROW(Trainings!$A$5)))),"")} | AZ20: {=IFERROR(IF(LEN(AZ$6)=0,"",INDEX(Trainings!$B$6:$B$55,SMALL(IF(Trainings!$C$6:$C$55=Calc!AZ$6,ROW(Trainings!$B$6:$B$55)-ROW(INDEX(Trainings!$B$6:$B$55,1,1))+1),ROW(Trainings!G18)-ROW(Trainings!$A$5)))),"")} | BA20: {=IFERROR(IF(LEN(BA$6)=0,"",INDEX(Trainings!$B$6:$B$55,SMALL(IF(Trainings!$C$6:$C$55=Calc!BA$6,ROW(Trainings!$B$6:$B$55)-ROW(INDEX(Trainings!$B$6:$B$55,1,1))+1),ROW(Trainings!H18)-ROW(Trainings!$A$5)))),"")} | BB20: {=IFERROR(IF(LEN(BB$6)=0,"",INDEX(Trainings!$B$6:$B$55,SMALL(IF(Trainings!$C$6:$C$55=Calc!BB$6,ROW(Trainings!$B$6:$B$55)-ROW(INDEX(Trainings!$B$6:$B$55,1,1))+1),ROW(Trainings!I18)-ROW(Trainings!$A$5)))),"")} | BC20: {=IFERROR(IF(LEN(BC$6)=0,"",INDEX(Trainings!$B$6:$B$55,SMALL(IF(Trainings!$C$6:$C$55=Calc!BC$6,ROW(Trainings!$B$6:$B$55)-ROW(INDEX(Trainings!$B$6:$B$55,1,1))+1),ROW(Trainings!J18)-ROW(Trainings!$A$5)))),"")} | BD20: {=IFERROR(IF(LEN(BD$6)=0,"",INDEX(Trainings!$B$6:$B$55,SMALL(IF(Trainings!$C$6:$C$55=Calc!BD$6,ROW(Trainings!$B$6:$B$55)-ROW(INDEX(Trainings!$B$6:$B$55,1,1))+1),ROW(Trainings!K18)-ROW(Trainings!$A$5)))),"")} | BE20: {=IFERROR(IF(LEN(BE$6)=0,"",INDEX(Trainings!$B$6:$B$55,SMALL(IF(Trainings!$C$6:$C$55=Calc!BE$6,ROW(Trainings!$B$6:$B$55)-ROW(INDEX(Trainings!$B$6:$B$55,1,1))+1),ROW(Trainings!L18)-ROW(Trainings!$A$5)))),"")} | ... BG20: {=IFERROR(IF(LEN(BG$6)=0,"",INDEX(Trainings!$B$6:$B$55,SMALL(IF(Trainings!$C$6:$C$55=Calc!BG$6,ROW(Trainings!$B$6:$B$55)-ROW(INDEX(Trainings!$B$6:$B$55,1,1))+1),ROW(Trainings!N18)-ROW(Trainings!$A$5)))),"")}
Z21: =AS12 | AA21: {=IF(LEN($Z21)=0,"",SUMPRODUCT(($L$6:$L$20=$Z21)*($X$6:$X$20)))} | AC21: =AT21 | AD21: {=IFERROR(IF(AC21="",0,SUMPRODUCT((Registration!$E$6:$E$20=$AC21)*(Registration!$V$6:$V$20))),"")} -> 0 | AE21: =RANK(AD21,$AD$7:$AD$36) -> 4 | AF21: =IF(COUNTIF($AE$7:AE21,AE21)>1,AE21+COUNTIF($AE$7:AE21,AE21)-1,AE21) -> 15 | AH21: =AU21 | AI21: {=IFERROR(IF(AH21="",0,SUMPRODUCT((Registration!$F$6:$F$20=$AH21)*(Registration!$V$6:$V$20))),"")} -> 0 | AJ21: =RANK(AI21,$AI$7:$AI$36) -> 5 | AK21: =IF(COUNTIF($AJ$7:AJ21,AJ21)>1,AJ21+COUNTIF($AJ$7:AJ21,AJ21)-1,AJ21) -> 15 | AM21: Employee ID Row | AN21: {=MAX(IF(LEN($AP$7:$AP$1006)>0,ROW($AP$7:$AP$1006)-ROW($AP$6),0))} -> 10 | AP21: {=IFERROR(INDEX(Employees!$B$6:$B$1005,SMALL(IF(LEN(Employees!$B$6:$B$1005)>0,ROW(Employees!$B$6:$B$1005)-ROW(INDEX(Employees!$B$6:$B$1005,1,1))+1),ROW(Employees!A20)-ROW(Employees!$A$5))),"")} | AQ21: {=IFERROR(INDEX(Trainings!$B$6:$B$55,SMALL(IF(LEN(Trainings!$B$6:$B$55)>0,ROW(Trainings!$B$6:$B$55)-ROW(INDEX(Trainings!$B$6:$B$55,1,1))+1),ROW(A20)-ROW($A$5))),"")} | AT21: {=IFERROR(INDEX(Dashboard!$C$17:$C$46,SMALL(IF(LEN(Dashboard!$C$17:$C$46)>0,ROW(Dashboard!$C$17:$C$46)-ROW(INDEX(Dashboard!$C$17:$C$46,1,1))+1),ROW(Dashboard!A31)-ROW(Dashboard!$A$16))),"")} | AU21: {=IFERROR(INDEX(Dashboard!$E$17:$E$46,SMALL(IF(LEN(Dashboard!$E$17:$E$46)>0,ROW(Dashboard!$E$17:$E$46)-ROW(INDEX(Dashboard!$E$17:$E$46,1,1))+1),ROW(Dashboard!A31)-ROW(Dashboard!$A$16))),"")} | AW21: {=IFERROR(INDEX(Trainings!$B$6:$B$55,SMALL(IF(LEN(Trainings!$B$6:$B$55)>0,ROW(Trainings!$B$6:$B$55)-ROW(INDEX(Trainings!$B$6:$B$55,1,1))+1),ROW(Trainings!A19)-ROW(Trainings!$A$5))),"")} | AX21: {=IFERROR(IF(LEN(AX$6)=0,"",INDEX(Trainings!$B$6:$B$55,SMALL(IF(Trainings!$C$6:$C$55=Calc!AX$6,ROW(Trainings!$B$6:$B$55)-ROW(INDEX(Trainings!$B$6:$B$55,1,1))+1),ROW(Trainings!E19)-ROW(Trainings!$A$5)))),"")} | AY21: {=IFERROR(IF(LEN(AY$6)=0,"",INDEX(Trainings!$B$6:$B$55,SMALL(IF(Trainings!$C$6:$C$55=Calc!AY$6,ROW(Trainings!$B$6:$B$55)-ROW(INDEX(Trainings!$B$6:$B$55,1,1))+1),ROW(Trainings!F19)-ROW(Trainings!$A$5)))),"")} | AZ21: {=IFERROR(IF(LEN(AZ$6)=0,"",INDEX(Trainings!$B$6:$B$55,SMALL(IF(Trainings!$C$6:$C$55=Calc!AZ$6,ROW(Trainings!$B$6:$B$55)-ROW(INDEX(Trainings!$B$6:$B$55,1,1))+1),ROW(Trainings!G19)-ROW(Trainings!$A$5)))),"")} | BA21: {=IFERROR(IF(LEN(BA$6)=0,"",INDEX(Trainings!$B$6:$B$55,SMALL(IF(Trainings!$C$6:$C$55=Calc!BA$6,ROW(Trainings!$B$6:$B$55)-ROW(INDEX(Trainings!$B$6:$B$55,1,1))+1),ROW(Trainings!H19)-ROW(Trainings!$A$5)))),"")} | BB21: {=IFERROR(IF(LEN(BB$6)=0,"",INDEX(Trainings!$B$6:$B$55,SMALL(IF(Trainings!$C$6:$C$55=Calc!BB$6,ROW(Trainings!$B$6:$B$55)-ROW(INDEX(Trainings!$B$6:$B$55,1,1))+1),ROW(Trainings!I19)-ROW(Trainings!$A$5)))),"")} | BC21: {=IFERROR(IF(LEN(BC$6)=0,"",INDEX(Trainings!$B$6:$B$55,SMALL(IF(Trainings!$C$6:$C$55=Calc!BC$6,ROW(Trainings!$B$6:$B$55)-ROW(INDEX(Trainings!$B$6:$B$55,1,1))+1),ROW(Trainings!J19)-ROW(Trainings!$A$5)))),"")} | BD21: {=IFERROR(IF(LEN(BD$6)=0,"",INDEX(Trainings!$B$6:$B$55,SMALL(IF(Trainings!$C$6:$C$55=Calc!BD$6,ROW(Trainings!$B$6:$B$55)-ROW(INDEX(Trainings!$B$6:$B$55,1,1))+1),ROW(Trainings!K19)-ROW(Trainings!$A$5)))),"")} | BE21: {=IFERROR(IF(LEN(BE$6)=0,"",INDEX(Trainings!$B$6:$B$55,SMALL(IF(Trainings!$C$6:$C$55=Calc!BE$6,ROW(Trainings!$B$6:$B$55)-ROW(INDEX(Trainings!$B$6:$B$55,1,1))+1),ROW(Trainings!L19)-ROW(Trainings!$A$5)))),"")} | ... BG21: {=IFERROR(IF(LEN(BG$6)=0,"",INDEX(Trainings!$B$6:$B$55,SMALL(IF(Trainings!$C$6:$C$55=Calc!BG$6,ROW(Trainings!$B$6:$B$55)-ROW(INDEX(Trainings!$B$6:$B$55,1,1))+1),ROW(Trainings!N19)-ROW(Trainings!$A$5)))),"")}
Z22: =AS13 | AA22: {=IF(LEN($Z22)=0,"",SUMPRODUCT(($L$6:$L$20=$Z22)*($X$6:$X$20)))} | AC22: =AT22 | AD22: {=IFERROR(IF(AC22="",0,SUMPRODUCT((Registration!$E$6:$E$20=$AC22)*(Registration!$V$6:$V$20))),"")} -> 0 | AE22: =RANK(AD22,$AD$7:$AD$36) -> 4 | AF22: =IF(COUNTIF($AE$7:AE22,AE22)>1,AE22+COUNTIF($AE$7:AE22,AE22)-1,AE22) -> 16 | AH22: =AU22 | AI22: {=IFERROR(IF(AH22="",0,SUMPRODUCT((Registration!$F$6:$F$20=$AH22)*(Registration!$V$6:$V$20))),"")} -> 0 | AJ22: =RANK(AI22,$AI$7:$AI$36) -> 5 | AK22: =IF(COUNTIF($AJ$7:AJ22,AJ22)>1,AJ22+COUNTIF($AJ$7:AJ22,AJ22)-1,AJ22) -> 16 | AP22: {=IFERROR(INDEX(Employees!$B$6:$B$1005,SMALL(IF(LEN(Employees!$B$6:$B$1005)>0,ROW(Employees!$B$6:$B$1005)-ROW(INDEX(Employees!$B$6:$B$1005,1,1))+1),ROW(Employees!A21)-ROW(Employees!$A$5))),"")} | AQ22: {=IFERROR(INDEX(Trainings!$B$6:$B$55,SMALL(IF(LEN(Trainings!$B$6:$B$55)>0,ROW(Trainings!$B$6:$B$55)-ROW(INDEX(Trainings!$B$6:$B$55,1,1))+1),ROW(A21)-ROW($A$5))),"")} | AT22: {=IFERROR(INDEX(Dashboard!$C$17:$C$46,SMALL(IF(LEN(Dashboard!$C$17:$C$46)>0,ROW(Dashboard!$C$17:$C$46)-ROW(INDEX(Dashboard!$C$17:$C$46,1,1))+1),ROW(Dashboard!A32)-ROW(Dashboard!$A$16))),"")} | AU22: {=IFERROR(INDEX(Dashboard!$E$17:$E$46,SMALL(IF(LEN(Dashboard!$E$17:$E$46)>0,ROW(Dashboard!$E$17:$E$46)-ROW(INDEX(Dashboard!$E$17:$E$46,1,1))+1),ROW(Dashboard!A32)-ROW(Dashboard!$A$16))),"")} | AW22: {=IFERROR(INDEX(Trainings!$B$6:$B$55,SMALL(IF(LEN(Trainings!$B$6:$B$55)>0,ROW(Trainings!$B$6:$B$55)-ROW(INDEX(Trainings!$B$6:$B$55,1,1))+1),ROW(Trainings!A20)-ROW(Trainings!$A$5))),"")} | AX22: {=IFERROR(IF(LEN(AX$6)=0,"",INDEX(Trainings!$B$6:$B$55,SMALL(IF(Trainings!$C$6:$C$55=Calc!AX$6,ROW(Trainings!$B$6:$B$55)-ROW(INDEX(Trainings!$B$6:$B$55,1,1))+1),ROW(Trainings!E20)-ROW(Trainings!$A$5)))),"")} | AY22: {=IFERROR(IF(LEN(AY$6)=0,"",INDEX(Trainings!$B$6:$B$55,SMALL(IF(Trainings!$C$6:$C$55=Calc!AY$6,ROW(Trainings!$B$6:$B$55)-ROW(INDEX(Trainings!$B$6:$B$55,1,1))+1),ROW(Trainings!F20)-ROW(Trainings!$A$5)))),"")} | AZ22: {=IFERROR(IF(LEN(AZ$6)=0,"",INDEX(Trainings!$B$6:$B$55,SMALL(IF(Trainings!$C$6:$C$55=Calc!AZ$6,ROW(Trainings!$B$6:$B$55)-ROW(INDEX(Trainings!$B$6:$B$55,1,1))+1),ROW(Trainings!G20)-ROW(Trainings!$A$5)))),"")} | BA22: {=IFERROR(IF(LEN(BA$6)=0,"",INDEX(Trainings!$B$6:$B$55,SMALL(IF(Trainings!$C$6:$C$55=Calc!BA$6,ROW(Trainings!$B$6:$B$55)-ROW(INDEX(Trainings!$B$6:$B$55,1,1))+1),ROW(Trainings!H20)-ROW(Trainings!$A$5)))),"")} | BB22: {=IFERROR(IF(LEN(BB$6)=0,"",INDEX(Trainings!$B$6:$B$55,SMALL(IF(Trainings!$C$6:$C$55=Calc!BB$6,ROW(Trainings!$B$6:$B$55)-ROW(INDEX(Trainings!$B$6:$B$55,1,1))+1),ROW(Trainings!I20)-ROW(Trainings!$A$5)))),"")} | BC22: {=IFERROR(IF(LEN(BC$6)=0,"",INDEX(Trainings!$B$6:$B$55,SMALL(IF(Trainings!$C$6:$C$55=Calc!BC$6,ROW(Trainings!$B$6:$B$55)-ROW(INDEX(Trainings!$B$6:$B$55,1,1))+1),ROW(Trainings!J20)-ROW(Trainings!$A$5)))),"")} | BD22: {=IFERROR(IF(LEN(BD$6)=0,"",INDEX(Trainings!$B$6:$B$55,SMALL(IF(Trainings!$C$6:$C$55=Calc!BD$6,ROW(Trainings!$B$6:$B$55)-ROW(INDEX(Trainings!$B$6:$B$55,1,1))+1),ROW(Trainings!K20)-ROW(Trainings!$A$5)))),"")} | BE22: {=IFERROR(IF(LEN(BE$6)=0,"",INDEX(Trainings!$B$6:$B$55,SMALL(IF(Trainings!$C$6:$C$55=Calc!BE$6,ROW(Trainings!$B$6:$B$55)-ROW(INDEX(Trainings!$B$6:$B$55,1,1))+1),ROW(Trainings!L20)-ROW(Trainings!$A$5)))),"")} | ... BG22: {=IFERROR(IF(LEN(BG$6)=0,"",INDEX(Trainings!$B$6:$B$55,SMALL(IF(Trainings!$C$6:$C$55=Calc!BG$6,ROW(Trainings!$B$6:$B$55)-ROW(INDEX(Trainings!$B$6:$B$55,1,1))+1),ROW(Trainings!N20)-ROW(Trainings!$A$5)))),"")}
AC23: =AT23 | AD23: {=IFERROR(IF(AC23="",0,SUMPRODUCT((Registration!$E$6:$E$20=$AC23)*(Registration!$V$6:$V$20))),"")} -> 0 | AE23: =RANK(AD23,$AD$7:$AD$36) -> 4 | AF23: =IF(COUNTIF($AE$7:AE23,AE23)>1,AE23+COUNTIF($AE$7:AE23,AE23)-1,AE23) -> 17 | AH23: =AU23 | AI23: {=IFERROR(IF(AH23="",0,SUMPRODUCT((Registration!$F$6:$F$20=$AH23)*(Registration!$V$6:$V$20))),"")} -> 0 | AJ23: =RANK(AI23,$AI$7:$AI$36) -> 5 | AK23: =IF(COUNTIF($AJ$7:AJ23,AJ23)>1,AJ23+COUNTIF($AJ$7:AJ23,AJ23)-1,AJ23) -> 17 | AM23: Trainings Row | AN23: {=MAX(IF(LEN($AQ$7:$AQ$205)>0,ROW($AQ$7:$AQ$205)-ROW($AQ$6),0))} -> 7 | AP23: {=IFERROR(INDEX(Employees!$B$6:$B$1005,SMALL(IF(LEN(Employees!$B$6:$B$1005)>0,ROW(Employees!$B$6:$B$1005)-ROW(INDEX(Employees!$B$6:$B$1005,1,1))+1),ROW(Employees!A22)-ROW(Employees!$A$5))),"")} | AQ23: {=IFERROR(INDEX(Trainings!$B$6:$B$55,SMALL(IF(LEN(Trainings!$B$6:$B$55)>0,ROW(Trainings!$B$6:$B$55)-ROW(INDEX(Trainings!$B$6:$B$55,1,1))+1),ROW(A22)-ROW($A$5))),"")} | AT23: {=IFERROR(INDEX(Dashboard!$C$17:$C$46,SMALL(IF(LEN(Dashboard!$C$17:$C$46)>0,ROW(Dashboard!$C$17:$C$46)-ROW(INDEX(Dashboard!$C$17:$C$46,1,1))+1),ROW(Dashboard!A33)-ROW(Dashboard!$A$16))),"")} | AU23: {=IFERROR(INDEX(Dashboard!$E$17:$E$46,SMALL(IF(LEN(Dashboard!$E$17:$E$46)>0,ROW(Dashboard!$E$17:$E$46)-ROW(INDEX(Dashboard!$E$17:$E$46,1,1))+1),ROW(Dashboard!A33)-ROW(Dashboard!$A$16))),"")} | AW23: {=IFERROR(INDEX(Trainings!$B$6:$B$55,SMALL(IF(LEN(Trainings!$B$6:$B$55)>0,ROW(Trainings!$B$6:$B$55)-ROW(INDEX(Trainings!$B$6:$B$55,1,1))+1),ROW(Trainings!A21)-ROW(Trainings!$A$5))),"")} | AX23: {=IFERROR(IF(LEN(AX$6)=0,"",INDEX(Trainings!$B$6:$B$55,SMALL(IF(Trainings!$C$6:$C$55=Calc!AX$6,ROW(Trainings!$B$6:$B$55)-ROW(INDEX(Trainings!$B$6:$B$55,1,1))+1),ROW(Trainings!E21)-ROW(Trainings!$A$5)))),"")} | AY23: {=IFERROR(IF(LEN(AY$6)=0,"",INDEX(Trainings!$B$6:$B$55,SMALL(IF(Trainings!$C$6:$C$55=Calc!AY$6,ROW(Trainings!$B$6:$B$55)-ROW(INDEX(Trainings!$B$6:$B$55,1,1))+1),ROW(Trainings!F21)-ROW(Trainings!$A$5)))),"")} | AZ23: {=IFERROR(IF(LEN(AZ$6)=0,"",INDEX(Trainings!$B$6:$B$55,SMALL(IF(Trainings!$C$6:$C$55=Calc!AZ$6,ROW(Trainings!$B$6:$B$55)-ROW(INDEX(Trainings!$B$6:$B$55,1,1))+1),ROW(Trainings!G21)-ROW(Trainings!$A$5)))),"")} | BA23: {=IFERROR(IF(LEN(BA$6)=0,"",INDEX(Trainings!$B$6:$B$55,SMALL(IF(Trainings!$C$6:$C$55=Calc!BA$6,ROW(Trainings!$B$6:$B$55)-ROW(INDEX(Trainings!$B$6:$B$55,1,1))+1),ROW(Trainings!H21)-ROW(Trainings!$A$5)))),"")} | BB23: {=IFERROR(IF(LEN(BB$6)=0,"",INDEX(Trainings!$B$6:$B$55,SMALL(IF(Trainings!$C$6:$C$55=Calc!BB$6,ROW(Trainings!$B$6:$B$55)-ROW(INDEX(Trainings!$B$6:$B$55,1,1))+1),ROW(Trainings!I21)-ROW(Trainings!$A$5)))),"")} | BC23: {=IFERROR(IF(LEN(BC$6)=0,"",INDEX(Trainings!$B$6:$B$55,SMALL(IF(Trainings!$C$6:$C$55=Calc!BC$6,ROW(Trainings!$B$6:$B$55)-ROW(INDEX(Trainings!$B$6:$B$55,1,1))+1),ROW(Trainings!J21)-ROW(Trainings!$A$5)))),"")} | BD23: {=IFERROR(IF(LEN(BD$6)=0,"",INDEX(Trainings!$B$6:$B$55,SMALL(IF(Trainings!$C$6:$C$55=Calc!BD$6,ROW(Trainings!$B$6:$B$55)-ROW(INDEX(Trainings!$B$6:$B$55,1,1))+1),ROW(Trainings!K21)-ROW(Trainings!$A$5)))),"")} | BE23: {=IFERROR(IF(LEN(BE$6)=0,"",INDEX(Trainings!$B$6:$B$55,SMALL(IF(Trainings!$C$6:$C$55=Calc!BE$6,ROW(Trainings!$B$6:$B$55)-ROW(INDEX(Trainings!$B$6:$B$55,1,1))+1),ROW(Trainings!L21)-ROW(Trainings!$A$5)))),"")} | ... BG23: {=IFERROR(IF(LEN(BG$6)=0,"",INDEX(Trainings!$B$6:$B$55,SMALL(IF(Trainings!$C$6:$C$55=Calc!BG$6,ROW(Trainings!$B$6:$B$55)-ROW(INDEX(Trainings!$B$6:$B$55,1,1))+1),ROW(Trainings!N21)-ROW(Trainings!$A$5)))),"")}
AA24: # of Trainee | AC24: =AT24 | AD24: {=IFERROR(IF(AC24="",0,SUMPRODUCT((Registration!$E$6:$E$20=$AC24)*(Registration!$V$6:$V$20))),"")} -> 0 | AE24: =RANK(AD24,$AD$7:$AD$36) -> 4 | AF24: =IF(COUNTIF($AE$7:AE24,AE24)>1,AE24+COUNTIF($AE$7:AE24,AE24)-1,AE24) -> 18 | AH24: =AU24 | AI24: {=IFERROR(IF(AH24="",0,SUMPRODUCT((Registration!$F$6:$F$20=$AH24)*(Registration!$V$6:$V$20))),"")} -> 0 | AJ24: =RANK(AI24,$AI$7:$AI$36) -> 5 | AK24: =IF(COUNTIF($AJ$7:AJ24,AJ24)>1,AJ24+COUNTIF($AJ$7:AJ24,AJ24)-1,AJ24) -> 18 | AP24: {=IFERROR(INDEX(Employees!$B$6:$B$1005,SMALL(IF(LEN(Employees!$B$6:$B$1005)>0,ROW(Employees!$B$6:$B$1005)-ROW(INDEX(Employees!$B$6:$B$1005,1,1))+1),ROW(Employees!A23)-ROW(Employees!$A$5))),"")} | AQ24: {=IFERROR(INDEX(Trainings!$B$6:$B$55,SMALL(IF(LEN(Trainings!$B$6:$B$55)>0,ROW(Trainings!$B$6:$B$55)-ROW(INDEX(Trainings!$B$6:$B$55,1,1))+1),ROW(A23)-ROW($A$5))),"")} | AT24: {=IFERROR(INDEX(Dashboard!$C$17:$C$46,SMALL(IF(LEN(Dashboard!$C$17:$C$46)>0,ROW(Dashboard!$C$17:$C$46)-ROW(INDEX(Dashboard!$C$17:$C$46,1,1))+1),ROW(Dashboard!A34)-ROW(Dashboard!$A$16))),"")} | AU24: {=IFERROR(INDEX(Dashboard!$E$17:$E$46,SMALL(IF(LEN(Dashboard!$E$17:$E$46)>0,ROW(Dashboard!$E$17:$E$46)-ROW(INDEX(Dashboard!$E$17:$E$46,1,1))+1),ROW(Dashboard!A34)-ROW(Dashboard!$A$16))),"")} | AW24: {=IFERROR(INDEX(Trainings!$B$6:$B$55,SMALL(IF(LEN(Trainings!$B$6:$B$55)>0,ROW(Trainings!$B$6:$B$55)-ROW(INDEX(Trainings!$B$6:$B$55,1,1))+1),ROW(Trainings!A22)-ROW(Trainings!$A$5))),"")} | AX24: {=IFERROR(IF(LEN(AX$6)=0,"",INDEX(Trainings!$B$6:$B$55,SMALL(IF(Trainings!$C$6:$C$55=Calc!AX$6,ROW(Trainings!$B$6:$B$55)-ROW(INDEX(Trainings!$B$6:$B$55,1,1))+1),ROW(Trainings!E22)-ROW(Trainings!$A$5)))),"")} | AY24: {=IFERROR(IF(LEN(AY$6)=0,"",INDEX(Trainings!$B$6:$B$55,SMALL(IF(Trainings!$C$6:$C$55=Calc!AY$6,ROW(Trainings!$B$6:$B$55)-ROW(INDEX(Trainings!$B$6:$B$55,1,1))+1),ROW(Trainings!F22)-ROW(Trainings!$A$5)))),"")} | AZ24: {=IFERROR(IF(LEN(AZ$6)=0,"",INDEX(Trainings!$B$6:$B$55,SMALL(IF(Trainings!$C$6:$C$55=Calc!AZ$6,ROW(Trainings!$B$6:$B$55)-ROW(INDEX(Trainings!$B$6:$B$55,1,1))+1),ROW(Trainings!G22)-ROW(Trainings!$A$5)))),"")} | BA24: {=IFERROR(IF(LEN(BA$6)=0,"",INDEX(Trainings!$B$6:$B$55,SMALL(IF(Trainings!$C$6:$C$55=Calc!BA$6,ROW(Trainings!$B$6:$B$55)-ROW(INDEX(Trainings!$B$6:$B$55,1,1))+1),ROW(Trainings!H22)-ROW(Trainings!$A$5)))),"")} | BB24: {=IFERROR(IF(LEN(BB$6)=0,"",INDEX(Trainings!$B$6:$B$55,SMALL(IF(Trainings!$C$6:$C$55=Calc!BB$6,ROW(Trainings!$B$6:$B$55)-ROW(INDEX(Trainings!$B$6:$B$55,1,1))+1),ROW(Trainings!I22)-ROW(Trainings!$A$5)))),"")} | BC24: {=IFERROR(IF(LEN(BC$6)=0,"",INDEX(Trainings!$B$6:$B$55,SMALL(IF(Trainings!$C$6:$C$55=Calc!BC$6,ROW(Trainings!$B$6:$B$55)-ROW(INDEX(Trainings!$B$6:$B$55,1,1))+1),ROW(Trainings!J22)-ROW(Trainings!$A$5)))),"")} | BD24: {=IFERROR(IF(LEN(BD$6)=0,"",INDEX(Trainings!$B$6:$B$55,SMALL(IF(Trainings!$C$6:$C$55=Calc!BD$6,ROW(Trainings!$B$6:$B$55)-ROW(INDEX(Trainings!$B$6:$B$55,1,1))+1),ROW(Trainings!K22)-ROW(Trainings!$A$5)))),"")} | BE24: {=IFERROR(IF(LEN(BE$6)=0,"",INDEX(Trainings!$B$6:$B$55,SMALL(IF(Trainings!$C$6:$C$55=Calc!BE$6,ROW(Trainings!$B$6:$B$55)-ROW(INDEX(Trainings!$B$6:$B$55,1,1))+1),ROW(Trainings!L22)-ROW(Trainings!$A$5)))),"")} | ... BG24: {=IFERROR(IF(LEN(BG$6)=0,"",INDEX(Trainings!$B$6:$B$55,SMALL(IF(Trainings!$C$6:$C$55=Calc!BG$6,ROW(Trainings!$B$6:$B$55)-ROW(INDEX(Trainings!$B$6:$B$55,1,1))+1),ROW(Trainings!N22)-ROW(Trainings!$A$5)))),"")}
Z25: Expected | AA25: {=SUMPRODUCT($P$6:$P$20,$X$6:$X$20)} -> 115 | AC25: =AT25 | AD25: {=IFERROR(IF(AC25="",0,SUMPRODUCT((Registration!$E$6:$E$20=$AC25)*(Registration!$V$6:$V$20))),"")} -> 0 | AE25: =RANK(AD25,$AD$7:$AD$36) -> 4 | AF25: =IF(COUNTIF($AE$7:AE25,AE25)>1,AE25+COUNTIF($AE$7:AE25,AE25)-1,AE25) -> 19 | AH25: =AU25 | AI25: {=IFERROR(IF(AH25="",0,SUMPRODUCT((Registration!$F$6:$F$20=$AH25)*(Registration!$V$6:$V$20))),"")} -> 0 | AJ25: =RANK(AI25,$AI$7:$AI$36) -> 5 | AK25: =IF(COUNTIF($AJ$7:AJ25,AJ25)>1,AJ25+COUNTIF($AJ$7:AJ25,AJ25)-1,AJ25) -> 19 | AM25: Types Row | AN25: {=MAX(IF(LEN($AS$7:$AS$16)>0,ROW($AS$7:$AS$16)-ROW($AS$6),0))} -> 3 | AP25: {=IFERROR(INDEX(Employees!$B$6:$B$1005,SMALL(IF(LEN(Employees!$B$6:$B$1005)>0,ROW(Employees!$B$6:$B$1005)-ROW(INDEX(Employees!$B$6:$B$1005,1,1))+1),ROW(Employees!A24)-ROW(Employees!$A$5))),"")} | AQ25: {=IFERROR(INDEX(Trainings!$B$6:$B$55,SMALL(IF(LEN(Trainings!$B$6:$B$55)>0,ROW(Trainings!$B$6:$B$55)-ROW(INDEX(Trainings!$B$6:$B$55,1,1))+1),ROW(A24)-ROW($A$5))),"")} | AT25: {=IFERROR(INDEX(Dashboard!$C$17:$C$46,SMALL(IF(LEN(Dashboard!$C$17:$C$46)>0,ROW(Dashboard!$C$17:$C$46)-ROW(INDEX(Dashboard!$C$17:$C$46,1,1))+1),ROW(Dashboard!A35)-ROW(Dashboard!$A$16))),"")} | AU25: {=IFERROR(INDEX(Dashboard!$E$17:$E$46,SMALL(IF(LEN(Dashboard!$E$17:$E$46)>0,ROW(Dashboard!$E$17:$E$46)-ROW(INDEX(Dashboard!$E$17:$E$46,1,1))+1),ROW(Dashboard!A35)-ROW(Dashboard!$A$16))),"")} | AW25: {=IFERROR(INDEX(Trainings!$B$6:$B$55,SMALL(IF(LEN(Trainings!$B$6:$B$55)>0,ROW(Trainings!$B$6:$B$55)-ROW(INDEX(Trainings!$B$6:$B$55,1,1))+1),ROW(Trainings!A23)-ROW(Trainings!$A$5))),"")} | AX25: {=IFERROR(IF(LEN(AX$6)=0,"",INDEX(Trainings!$B$6:$B$55,SMALL(IF(Trainings!$C$6:$C$55=Calc!AX$6,ROW(Trainings!$B$6:$B$55)-ROW(INDEX(Trainings!$B$6:$B$55,1,1))+1),ROW(Trainings!E23)-ROW(Trainings!$A$5)))),"")} | AY25: {=IFERROR(IF(LEN(AY$6)=0,"",INDEX(Trainings!$B$6:$B$55,SMALL(IF(Trainings!$C$6:$C$55=Calc!AY$6,ROW(Trainings!$B$6:$B$55)-ROW(INDEX(Trainings!$B$6:$B$55,1,1))+1),ROW(Trainings!F23)-ROW(Trainings!$A$5)))),"")} | AZ25: {=IFERROR(IF(LEN(AZ$6)=0,"",INDEX(Trainings!$B$6:$B$55,SMALL(IF(Trainings!$C$6:$C$55=Calc!AZ$6,ROW(Trainings!$B$6:$B$55)-ROW(INDEX(Trainings!$B$6:$B$55,1,1))+1),ROW(Trainings!G23)-ROW(Trainings!$A$5)))),"")} | BA25: {=IFERROR(IF(LEN(BA$6)=0,"",INDEX(Trainings!$B$6:$B$55,SMALL(IF(Trainings!$C$6:$C$55=Calc!BA$6,ROW(Trainings!$B$6:$B$55)-ROW(INDEX(Trainings!$B$6:$B$55,1,1))+1),ROW(Trainings!H23)-ROW(Trainings!$A$5)))),"")} | BB25: {=IFERROR(IF(LEN(BB$6)=0,"",INDEX(Trainings!$B$6:$B$55,SMALL(IF(Trainings!$C$6:$C$55=Calc!BB$6,ROW(Trainings!$B$6:$B$55)-ROW(INDEX(Trainings!$B$6:$B$55,1,1))+1),ROW(Trainings!I23)-ROW(Trainings!$A$5)))),"")} | BC25: {=IFERROR(IF(LEN(BC$6)=0,"",INDEX(Trainings!$B$6:$B$55,SMALL(IF(Trainings!$C$6:$C$55=Calc!BC$6,ROW(Trainings!$B$6:$B$55)-ROW(INDEX(Trainings!$B$6:$B$55,1,1))+1),ROW(Trainings!J23)-ROW(Trainings!$A$5)))),"")} | BD25: {=IFERROR(IF(LEN(BD$6)=0,"",INDEX(Trainings!$B$6:$B$55,SMALL(IF(Trainings!$C$6:$C$55=Calc!BD$6,ROW(Trainings!$B$6:$B$55)-ROW(INDEX(Trainings!$B$6:$B$55,1,1))+1),ROW(Trainings!K23)-ROW(Trainings!$A$5)))),"")} | BE25: {=IFERROR(IF(LEN(BE$6)=0,"",INDEX(Trainings!$B$6:$B$55,SMALL(IF(Trainings!$C$6:$C$55=Calc!BE$6,ROW(Trainings!$B$6:$B$55)-ROW(INDEX(Trainings!$B$6:$B$55,1,1))+1),ROW(Trainings!L23)-ROW(Trainings!$A$5)))),"")} | ... BG25: {=IFERROR(IF(LEN(BG$6)=0,"",INDEX(Trainings!$B$6:$B$55,SMALL(IF(Trainings!$C$6:$C$55=Calc!BG$6,ROW(Trainings!$B$6:$B$55)-ROW(INDEX(Trainings!$B$6:$B$55,1,1))+1),ROW(Trainings!N23)-ROW(Trainings!$A$5)))),"")}
Z26: Participated | AA26: =Registration!AB6 -> 10 | AC26: =AT26 | AD26: {=IFERROR(IF(AC26="",0,SUMPRODUCT((Registration!$E$6:$E$20=$AC26)*(Registration!$V$6:$V$20))),"")} -> 0 | AE26: =RANK(AD26,$AD$7:$AD$36) -> 4 | AF26: =IF(COUNTIF($AE$7:AE26,AE26)>1,AE26+COUNTIF($AE$7:AE26,AE26)-1,AE26) -> 20 | AH26: =AU26 | AI26: {=IFERROR(IF(AH26="",0,SUMPRODUCT((Registration!$F$6:$F$20=$AH26)*(Registration!$V$6:$V$20))),"")} -> 0 | AJ26: =RANK(AI26,$AI$7:$AI$36) -> 5 | AK26: =IF(COUNTIF($AJ$7:AJ26,AJ26)>1,AJ26+COUNTIF($AJ$7:AJ26,AJ26)-1,AJ26) -> 20 | AP26: {=IFERROR(INDEX(Employees!$B$6:$B$1005,SMALL(IF(LEN(Employees!$B$6:$B$1005)>0,ROW(Employees!$B$6:$B$1005)-ROW(INDEX(Employees!$B$6:$B$1005,1,1))+1),ROW(Employees!A25)-ROW(Employees!$A$5))),"")} | AQ26: {=IFERROR(INDEX(Trainings!$B$6:$B$55,SMALL(IF(LEN(Trainings!$B$6:$B$55)>0,ROW(Trainings!$B$6:$B$55)-ROW(INDEX(Trainings!$B$6:$B$55,1,1))+1),ROW(A25)-ROW($A$5))),"")} | AT26: {=IFERROR(INDEX(Dashboard!$C$17:$C$46,SMALL(IF(LEN(Dashboard!$C$17:$C$46)>0,ROW(Dashboard!$C$17:$C$46)-ROW(INDEX(Dashboard!$C$17:$C$46,1,1))+1),ROW(Dashboard!A36)-ROW(Dashboard!$A$16))),"")} | AU26: {=IFERROR(INDEX(Dashboard!$E$17:$E$46,SMALL(IF(LEN(Dashboard!$E$17:$E$46)>0,ROW(Dashboard!$E$17:$E$46)-ROW(INDEX(Dashboard!$E$17:$E$46,1,1))+1),ROW(Dashboard!A36)-ROW(Dashboard!$A$16))),"")} | AW26: {=IFERROR(INDEX(Trainings!$B$6:$B$55,SMALL(IF(LEN(Trainings!$B$6:$B$55)>0,ROW(Trainings!$B$6:$B$55)-ROW(INDEX(Trainings!$B$6:$B$55,1,1))+1),ROW(Trainings!A24)-ROW(Trainings!$A$5))),"")} | AX26: {=IFERROR(IF(LEN(AX$6)=0,"",INDEX(Trainings!$B$6:$B$55,SMALL(IF(Trainings!$C$6:$C$55=Calc!AX$6,ROW(Trainings!$B$6:$B$55)-ROW(INDEX(Trainings!$B$6:$B$55,1,1))+1),ROW(Trainings!E24)-ROW(Trainings!$A$5)))),"")} | AY26: {=IFERROR(IF(LEN(AY$6)=0,"",INDEX(Trainings!$B$6:$B$55,SMALL(IF(Trainings!$C$6:$C$55=Calc!AY$6,ROW(Trainings!$B$6:$B$55)-ROW(INDEX(Trainings!$B$6:$B$55,1,1))+1),ROW(Trainings!F24)-ROW(Trainings!$A$5)))),"")} | AZ26: {=IFERROR(IF(LEN(AZ$6)=0,"",INDEX(Trainings!$B$6:$B$55,SMALL(IF(Trainings!$C$6:$C$55=Calc!AZ$6,ROW(Trainings!$B$6:$B$55)-ROW(INDEX(Trainings!$B$6:$B$55,1,1))+1),ROW(Trainings!G24)-ROW(Trainings!$A$5)))),"")} | BA26: {=IFERROR(IF(LEN(BA$6)=0,"",INDEX(Trainings!$B$6:$B$55,SMALL(IF(Trainings!$C$6:$C$55=Calc!BA$6,ROW(Trainings!$B$6:$B$55)-ROW(INDEX(Trainings!$B$6:$B$55,1,1))+1),ROW(Trainings!H24)-ROW(Trainings!$A$5)))),"")} | BB26: {=IFERROR(IF(LEN(BB$6)=0,"",INDEX(Trainings!$B$6:$B$55,SMALL(IF(Trainings!$C$6:$C$55=Calc!BB$6,ROW(Trainings!$B$6:$B$55)-ROW(INDEX(Trainings!$B$6:$B$55,1,1))+1),ROW(Trainings!I24)-ROW(Trainings!$A$5)))),"")} | BC26: {=IFERROR(IF(LEN(BC$6)=0,"",INDEX(Trainings!$B$6:$B$55,SMALL(IF(Trainings!$C$6:$C$55=Calc!BC$6,ROW(Trainings!$B$6:$B$55)-ROW(INDEX(Trainings!$B$6:$B$55,1,1))+1),ROW(Trainings!J24)-ROW(Trainings!$A$5)))),"")} | BD26: {=IFERROR(IF(LEN(BD$6)=0,"",INDEX(Trainings!$B$6:$B$55,SMALL(IF(Trainings!$C$6:$C$55=Calc!BD$6,ROW(Trainings!$B$6:$B$55)-ROW(INDEX(Trainings!$B$6:$B$55,1,1))+1),ROW(Trainings!K24)-ROW(Trainings!$A$5)))),"")} | BE26: {=IFERROR(IF(LEN(BE$6)=0,"",INDEX(Trainings!$B$6:$B$55,SMALL(IF(Trainings!$C$6:$C$55=Calc!BE$6,ROW(Trainings!$B$6:$B$55)-ROW(INDEX(Trainings!$B$6:$B$55,1,1))+1),ROW(Trainings!L24)-ROW(Trainings!$A$5)))),"")} | ... BG26: {=IFERROR(IF(LEN(BG$6)=0,"",INDEX(Trainings!$B$6:$B$55,SMALL(IF(Trainings!$C$6:$C$55=Calc!BG$6,ROW(Trainings!$B$6:$B$55)-ROW(INDEX(Trainings!$B$6:$B$55,1,1))+1),ROW(Trainings!N24)-ROW(Trainings!$A$5)))),"")}
AC27: =AT27 | AD27: {=IFERROR(IF(AC27="",0,SUMPRODUCT((Registration!$E$6:$E$20=$AC27)*(Registration!$V$6:$V$20))),"")} -> 0 | AE27: =RANK(AD27,$AD$7:$AD$36) -> 4 | AF27: =IF(COUNTIF($AE$7:AE27,AE27)>1,AE27+COUNTIF($AE$7:AE27,AE27)-1,AE27) -> 21 | AH27: =AU27 | AI27: {=IFERROR(IF(AH27="",0,SUMPRODUCT((Registration!$F$6:$F$20=$AH27)*(Registration!$V$6:$V$20))),"")} -> 0 | AJ27: =RANK(AI27,$AI$7:$AI$36) -> 5 | AK27: =IF(COUNTIF($AJ$7:AJ27,AJ27)>1,AJ27+COUNTIF($AJ$7:AJ27,AJ27)-1,AJ27) -> 21 | AM27: Department Row | AN27: {=MAX(IF(LEN($AT$7:$AT$46)>0,ROW($AT$7:$AT$46)-ROW($AT$6),0))} -> 4 | AP27: {=IFERROR(INDEX(Employees!$B$6:$B$1005,SMALL(IF(LEN(Employees!$B$6:$B$1005)>0,ROW(Employees!$B$6:$B$1005)-ROW(INDEX(Employees!$B$6:$B$1005,1,1))+1),ROW(Employees!A26)-ROW(Employees!$A$5))),"")} | AQ27: {=IFERROR(INDEX(Trainings!$B$6:$B$55,SMALL(IF(LEN(Trainings!$B$6:$B$55)>0,ROW(Trainings!$B$6:$B$55)-ROW(INDEX(Trainings!$B$6:$B$55,1,1))+1),ROW(A26)-ROW($A$5))),"")} | AT27: {=IFERROR(INDEX(Dashboard!$C$17:$C$46,SMALL(IF(LEN(Dashboard!$C$17:$C$46)>0,ROW(Dashboard!$C$17:$C$46)-ROW(INDEX(Dashboard!$C$17:$C$46,1,1))+1),ROW(Dashboard!A37)-ROW(Dashboard!$A$16))),"")} | AU27: {=IFERROR(INDEX(Dashboard!$E$17:$E$46,SMALL(IF(LEN(Dashboard!$E$17:$E$46)>0,ROW(Dashboard!$E$17:$E$46)-ROW(INDEX(Dashboard!$E$17:$E$46,1,1))+1),ROW(Dashboard!A37)-ROW(Dashboard!$A$16))),"")} | AW27: {=IFERROR(INDEX(Trainings!$B$6:$B$55,SMALL(IF(LEN(Trainings!$B$6:$B$55)>0,ROW(Trainings!$B$6:$B$55)-ROW(INDEX(Trainings!$B$6:$B$55,1,1))+1),ROW(Trainings!A25)-ROW(Trainings!$A$5))),"")} | AX27: {=IFERROR(IF(LEN(AX$6)=0,"",INDEX(Trainings!$B$6:$B$55,SMALL(IF(Trainings!$C$6:$C$55=Calc!AX$6,ROW(Trainings!$B$6:$B$55)-ROW(INDEX(Trainings!$B$6:$B$55,1,1))+1),ROW(Trainings!E25)-ROW(Trainings!$A$5)))),"")} | AY27: {=IFERROR(IF(LEN(AY$6)=0,"",INDEX(Trainings!$B$6:$B$55,SMALL(IF(Trainings!$C$6:$C$55=Calc!AY$6,ROW(Trainings!$B$6:$B$55)-ROW(INDEX(Trainings!$B$6:$B$55,1,1))+1),ROW(Trainings!F25)-ROW(Trainings!$A$5)))),"")} | AZ27: {=IFERROR(IF(LEN(AZ$6)=0,"",INDEX(Trainings!$B$6:$B$55,SMALL(IF(Trainings!$C$6:$C$55=Calc!AZ$6,ROW(Trainings!$B$6:$B$55)-ROW(INDEX(Trainings!$B$6:$B$55,1,1))+1),ROW(Trainings!G25)-ROW(Trainings!$A$5)))),"")} | BA27: {=IFERROR(IF(LEN(BA$6)=0,"",INDEX(Trainings!$B$6:$B$55,SMALL(IF(Trainings!$C$6:$C$55=Calc!BA$6,ROW(Trainings!$B$6:$B$55)-ROW(INDEX(Trainings!$B$6:$B$55,1,1))+1),ROW(Trainings!H25)-ROW(Trainings!$A$5)))),"")} | BB27: {=IFERROR(IF(LEN(BB$6)=0,"",INDEX(Trainings!$B$6:$B$55,SMALL(IF(Trainings!$C$6:$C$55=Calc!BB$6,ROW(Trainings!$B$6:$B$55)-ROW(INDEX(Trainings!$B$6:$B$55,1,1))+1),ROW(Trainings!I25)-ROW(Trainings!$A$5)))),"")} | BC27: {=IFERROR(IF(LEN(BC$6)=0,"",INDEX(Trainings!$B$6:$B$55,SMALL(IF(Trainings!$C$6:$C$55=Calc!BC$6,ROW(Trainings!$B$6:$B$55)-ROW(INDEX(Trainings!$B$6:$B$55,1,1))+1),ROW(Trainings!J25)-ROW(Trainings!$A$5)))),"")} | BD27: {=IFERROR(IF(LEN(BD$6)=0,"",INDEX(Trainings!$B$6:$B$55,SMALL(IF(Trainings!$C$6:$C$55=Calc!BD$6,ROW(Trainings!$B$6:$B$55)-ROW(INDEX(Trainings!$B$6:$B$55,1,1))+1),ROW(Trainings!K25)-ROW(Trainings!$A$5)))),"")} | BE27: {=IFERROR(IF(LEN(BE$6)=0,"",INDEX(Trainings!$B$6:$B$55,SMALL(IF(Trainings!$C$6:$C$55=Calc!BE$6,ROW(Trainings!$B$6:$B$55)-ROW(INDEX(Trainings!$B$6:$B$55,1,1))+1),ROW(Trainings!L25)-ROW(Trainings!$A$5)))),"")} | ... BG27: {=IFERROR(IF(LEN(BG$6)=0,"",INDEX(Trainings!$B$6:$B$55,SMALL(IF(Trainings!$C$6:$C$55=Calc!BG$6,ROW(Trainings!$B$6:$B$55)-ROW(INDEX(Trainings!$B$6:$B$55,1,1))+1),ROW(Trainings!N25)-ROW(Trainings!$A$5)))),"")}
AA28: Duration | AC28: =AT28 | AD28: {=IFERROR(IF(AC28="",0,SUMPRODUCT((Registration!$E$6:$E$20=$AC28)*(Registration!$V$6:$V$20))),"")} -> 0 | AE28: =RANK(AD28,$AD$7:$AD$36) -> 4 | AF28: =IF(COUNTIF($AE$7:AE28,AE28)>1,AE28+COUNTIF($AE$7:AE28,AE28)-1,AE28) -> 22 | AH28: =AU28 | AI28: {=IFERROR(IF(AH28="",0,SUMPRODUCT((Registration!$F$6:$F$20=$AH28)*(Registration!$V$6:$V$20))),"")} -> 0 | AJ28: =RANK(AI28,$AI$7:$AI$36) -> 5 | AK28: =IF(COUNTIF($AJ$7:AJ28,AJ28)>1,AJ28+COUNTIF($AJ$7:AJ28,AJ28)-1,AJ28) -> 22 | AP28: {=IFERROR(INDEX(Employees!$B$6:$B$1005,SMALL(IF(LEN(Employees!$B$6:$B$1005)>0,ROW(Employees!$B$6:$B$1005)-ROW(INDEX(Employees!$B$6:$B$1005,1,1))+1),ROW(Employees!A27)-ROW(Employees!$A$5))),"")} | AQ28: {=IFERROR(INDEX(Trainings!$B$6:$B$55,SMALL(IF(LEN(Trainings!$B$6:$B$55)>0,ROW(Trainings!$B$6:$B$55)-ROW(INDEX(Trainings!$B$6:$B$55,1,1))+1),ROW(A27)-ROW($A$5))),"")} | AT28: {=IFERROR(INDEX(Dashboard!$C$17:$C$46,SMALL(IF(LEN(Dashboard!$C$17:$C$46)>0,ROW(Dashboard!$C$17:$C$46)-ROW(INDEX(Dashboard!$C$17:$C$46,1,1))+1),ROW(Dashboard!A38)-ROW(Dashboard!$A$16))),"")} | AU28: {=IFERROR(INDEX(Dashboard!$E$17:$E$46,SMALL(IF(LEN(Dashboard!$E$17:$E$46)>0,ROW(Dashboard!$E$17:$E$46)-ROW(INDEX(Dashboard!$E$17:$E$46,1,1))+1),ROW(Dashboard!A38)-ROW(Dashboard!$A$16))),"")} | AW28: {=IFERROR(INDEX(Trainings!$B$6:$B$55,SMALL(IF(LEN(Trainings!$B$6:$B$55)>0,ROW(Trainings!$B$6:$B$55)-ROW(INDEX(Trainings!$B$6:$B$55,1,1))+1),ROW(Trainings!A26)-ROW(Trainings!$A$5))),"")} | AX28: {=IFERROR(IF(LEN(AX$6)=0,"",INDEX(Trainings!$B$6:$B$55,SMALL(IF(Trainings!$C$6:$C$55=Calc!AX$6,ROW(Trainings!$B$6:$B$55)-ROW(INDEX(Trainings!$B$6:$B$55,1,1))+1),ROW(Trainings!E26)-ROW(Trainings!$A$5)))),"")} | AY28: {=IFERROR(IF(LEN(AY$6)=0,"",INDEX(Trainings!$B$6:$B$55,SMALL(IF(Trainings!$C$6:$C$55=Calc!AY$6,ROW(Trainings!$B$6:$B$55)-ROW(INDEX(Trainings!$B$6:$B$55,1,1))+1),ROW(Trainings!F26)-ROW(Trainings!$A$5)))),"")} | AZ28: {=IFERROR(IF(LEN(AZ$6)=0,"",INDEX(Trainings!$B$6:$B$55,SMALL(IF(Trainings!$C$6:$C$55=Calc!AZ$6,ROW(Trainings!$B$6:$B$55)-ROW(INDEX(Trainings!$B$6:$B$55,1,1))+1),ROW(Trainings!G26)-ROW(Trainings!$A$5)))),"")} | BA28: {=IFERROR(IF(LEN(BA$6)=0,"",INDEX(Trainings!$B$6:$B$55,SMALL(IF(Trainings!$C$6:$C$55=Calc!BA$6,ROW(Trainings!$B$6:$B$55)-ROW(INDEX(Trainings!$B$6:$B$55,1,1))+1),ROW(Trainings!H26)-ROW(Trainings!$A$5)))),"")} | BB28: {=IFERROR(IF(LEN(BB$6)=0,"",INDEX(Trainings!$B$6:$B$55,SMALL(IF(Trainings!$C$6:$C$55=Calc!BB$6,ROW(Trainings!$B$6:$B$55)-ROW(INDEX(Trainings!$B$6:$B$55,1,1))+1),ROW(Trainings!I26)-ROW(Trainings!$A$5)))),"")} | BC28: {=IFERROR(IF(LEN(BC$6)=0,"",INDEX(Trainings!$B$6:$B$55,SMALL(IF(Trainings!$C$6:$C$55=Calc!BC$6,ROW(Trainings!$B$6:$B$55)-ROW(INDEX(Trainings!$B$6:$B$55,1,1))+1),ROW(Trainings!J26)-ROW(Trainings!$A$5)))),"")} | BD28: {=IFERROR(IF(LEN(BD$6)=0,"",INDEX(Trainings!$B$6:$B$55,SMALL(IF(Trainings!$C$6:$C$55=Calc!BD$6,ROW(Trainings!$B$6:$B$55)-ROW(INDEX(Trainings!$B$6:$B$55,1,1))+1),ROW(Trainings!K26)-ROW(Trainings!$A$5)))),"")} | BE28: {=IFERROR(IF(LEN(BE$6)=0,"",INDEX(Trainings!$B$6:$B$55,SMALL(IF(Trainings!$C$6:$C$55=Calc!BE$6,ROW(Trainings!$B$6:$B$55)-ROW(INDEX(Trainings!$B$6:$B$55,1,1))+1),ROW(Trainings!L26)-ROW(Trainings!$A$5)))),"")} | ... BG28: {=IFERROR(IF(LEN(BG$6)=0,"",INDEX(Trainings!$B$6:$B$55,SMALL(IF(Trainings!$C$6:$C$55=Calc!BG$6,ROW(Trainings!$B$6:$B$55)-ROW(INDEX(Trainings!$B$6:$B$55,1,1))+1),ROW(Trainings!N26)-ROW(Trainings!$A$5)))),"")}
Z29: Planned | AA29: {=SUMPRODUCT($N$6:$N$20,$X$6:$X$20)} -> 385 | AC29: =AT29 | AD29: {=IFERROR(IF(AC29="",0,SUMPRODUCT((Registration!$E$6:$E$20=$AC29)*(Registration!$V$6:$V$20))),"")} -> 0 | AE29: =RANK(AD29,$AD$7:$AD$36) -> 4 | AF29: =IF(COUNTIF($AE$7:AE29,AE29)>1,AE29+COUNTIF($AE$7:AE29,AE29)-1,AE29) -> 23 | AH29: =AU29 | AI29: {=IFERROR(IF(AH29="",0,SUMPRODUCT((Registration!$F$6:$F$20=$AH29)*(Registration!$V$6:$V$20))),"")} -> 0 | AJ29: =RANK(AI29,$AI$7:$AI$36) -> 5 | AK29: =IF(COUNTIF($AJ$7:AJ29,AJ29)>1,AJ29+COUNTIF($AJ$7:AJ29,AJ29)-1,AJ29) -> 23 | AM29: Job Title Row | AN29: {=MAX(IF(LEN($AU$7:$AU$46)>0,ROW($AU$7:$AU$46)-ROW($AU$6),0))} -> 4 | AP29: {=IFERROR(INDEX(Employees!$B$6:$B$1005,SMALL(IF(LEN(Employees!$B$6:$B$1005)>0,ROW(Employees!$B$6:$B$1005)-ROW(INDEX(Employees!$B$6:$B$1005,1,1))+1),ROW(Employees!A28)-ROW(Employees!$A$5))),"")} | AQ29: {=IFERROR(INDEX(Trainings!$B$6:$B$55,SMALL(IF(LEN(Trainings!$B$6:$B$55)>0,ROW(Trainings!$B$6:$B$55)-ROW(INDEX(Trainings!$B$6:$B$55,1,1))+1),ROW(A28)-ROW($A$5))),"")} | AT29: {=IFERROR(INDEX(Dashboard!$C$17:$C$46,SMALL(IF(LEN(Dashboard!$C$17:$C$46)>0,ROW(Dashboard!$C$17:$C$46)-ROW(INDEX(Dashboard!$C$17:$C$46,1,1))+1),ROW(Dashboard!A39)-ROW(Dashboard!$A$16))),"")} | AU29: {=IFERROR(INDEX(Dashboard!$E$17:$E$46,SMALL(IF(LEN(Dashboard!$E$17:$E$46)>0,ROW(Dashboard!$E$17:$E$46)-ROW(INDEX(Dashboard!$E$17:$E$46,1,1))+1),ROW(Dashboard!A39)-ROW(Dashboard!$A$16))),"")} | AW29: {=IFERROR(INDEX(Trainings!$B$6:$B$55,SMALL(IF(LEN(Trainings!$B$6:$B$55)>0,ROW(Trainings!$B$6:$B$55)-ROW(INDEX(Trainings!$B$6:$B$55,1,1))+1),ROW(Trainings!A27)-ROW(Trainings!$A$5))),"")} | AX29: {=IFERROR(IF(LEN(AX$6)=0,"",INDEX(Trainings!$B$6:$B$55,SMALL(IF(Trainings!$C$6:$C$55=Calc!AX$6,ROW(Trainings!$B$6:$B$55)-ROW(INDEX(Trainings!$B$6:$B$55,1,1))+1),ROW(Trainings!E27)-ROW(Trainings!$A$5)))),"")} | AY29: {=IFERROR(IF(LEN(AY$6)=0,"",INDEX(Trainings!$B$6:$B$55,SMALL(IF(Trainings!$C$6:$C$55=Calc!AY$6,ROW(Trainings!$B$6:$B$55)-ROW(INDEX(Trainings!$B$6:$B$55,1,1))+1),ROW(Trainings!F27)-ROW(Trainings!$A$5)))),"")} | AZ29: {=IFERROR(IF(LEN(AZ$6)=0,"",INDEX(Trainings!$B$6:$B$55,SMALL(IF(Trainings!$C$6:$C$55=Calc!AZ$6,ROW(Trainings!$B$6:$B$55)-ROW(INDEX(Trainings!$B$6:$B$55,1,1))+1),ROW(Trainings!G27)-ROW(Trainings!$A$5)))),"")} | BA29: {=IFERROR(IF(LEN(BA$6)=0,"",INDEX(Trainings!$B$6:$B$55,SMALL(IF(Trainings!$C$6:$C$55=Calc!BA$6,ROW(Trainings!$B$6:$B$55)-ROW(INDEX(Trainings!$B$6:$B$55,1,1))+1),ROW(Trainings!H27)-ROW(Trainings!$A$5)))),"")} | BB29: {=IFERROR(IF(LEN(BB$6)=0,"",INDEX(Trainings!$B$6:$B$55,SMALL(IF(Trainings!$C$6:$C$55=Calc!BB$6,ROW(Trainings!$B$6:$B$55)-ROW(INDEX(Trainings!$B$6:$B$55,1,1))+1),ROW(Trainings!I27)-ROW(Trainings!$A$5)))),"")} | BC29: {=IFERROR(IF(LEN(BC$6)=0,"",INDEX(Trainings!$B$6:$B$55,SMALL(IF(Trainings!$C$6:$C$55=Calc!BC$6,ROW(Trainings!$B$6:$B$55)-ROW(INDEX(Trainings!$B$6:$B$55,1,1))+1),ROW(Trainings!J27)-ROW(Trainings!$A$5)))),"")} | BD29: {=IFERROR(IF(LEN(BD$6)=0,"",INDEX(Trainings!$B$6:$B$55,SMALL(IF(Trainings!$C$6:$C$55=Calc!BD$6,ROW(Trainings!$B$6:$B$55)-ROW(INDEX(Trainings!$B$6:$B$55,1,1))+1),ROW(Trainings!K27)-ROW(Trainings!$A$5)))),"")} | BE29: {=IFERROR(IF(LEN(BE$6)=0,"",INDEX(Trainings!$B$6:$B$55,SMALL(IF(Trainings!$C$6:$C$55=Calc!BE$6,ROW(Trainings!$B$6:$B$55)-ROW(INDEX(Trainings!$B$6:$B$55,1,1))+1),ROW(Trainings!L27)-ROW(Trainings!$A$5)))),"")} | ... BG29: {=IFERROR(IF(LEN(BG$6)=0,"",INDEX(Trainings!$B$6:$B$55,SMALL(IF(Trainings!$C$6:$C$55=Calc!BG$6,ROW(Trainings!$B$6:$B$55)-ROW(INDEX(Trainings!$B$6:$B$55,1,1))+1),ROW(Trainings!N27)-ROW(Trainings!$A$5)))),"")}
Z30: Completed | AA30: {=SUMPRODUCT($O$6:$O$20,$X$6:$X$20)} -> 225 | AC30: =AT30 | AD30: {=IFERROR(IF(AC30="",0,SUMPRODUCT((Registration!$E$6:$E$20=$AC30)*(Registration!$V$6:$V$20))),"")} -> 0 | AE30: =RANK(AD30,$AD$7:$AD$36) -> 4 | AF30: =IF(COUNTIF($AE$7:AE30,AE30)>1,AE30+COUNTIF($AE$7:AE30,AE30)-1,AE30) -> 24 | AH30: =AU30 | AI30: {=IFERROR(IF(AH30="",0,SUMPRODUCT((Registration!$F$6:$F$20=$AH30)*(Registration!$V$6:$V$20))),"")} -> 0 | AJ30: =RANK(AI30,$AI$7:$AI$36) -> 5 | AK30: =IF(COUNTIF($AJ$7:AJ30,AJ30)>1,AJ30+COUNTIF($AJ$7:AJ30,AJ30)-1,AJ30) -> 24 | AP30: {=IFERROR(INDEX(Employees!$B$6:$B$1005,SMALL(IF(LEN(Employees!$B$6:$B$1005)>0,ROW(Employees!$B$6:$B$1005)-ROW(INDEX(Employees!$B$6:$B$1005,1,1))+1),ROW(Employees!A29)-ROW(Employees!$A$5))),"")} | AQ30: {=IFERROR(INDEX(Trainings!$B$6:$B$55,SMALL(IF(LEN(Trainings!$B$6:$B$55)>0,ROW(Trainings!$B$6:$B$55)-ROW(INDEX(Trainings!$B$6:$B$55,1,1))+1),ROW(A29)-ROW($A$5))),"")} | AT30: {=IFERROR(INDEX(Dashboard!$C$17:$C$46,SMALL(IF(LEN(Dashboard!$C$17:$C$46)>0,ROW(Dashboard!$C$17:$C$46)-ROW(INDEX(Dashboard!$C$17:$C$46,1,1))+1),ROW(Dashboard!A40)-ROW(Dashboard!$A$16))),"")} | AU30: {=IFERROR(INDEX(Dashboard!$E$17:$E$46,SMALL(IF(LEN(Dashboard!$E$17:$E$46)>0,ROW(Dashboard!$E$17:$E$46)-ROW(INDEX(Dashboard!$E$17:$E$46,1,1))+1),ROW(Dashboard!A40)-ROW(Dashboard!$A$16))),"")} | AW30: {=IFERROR(INDEX(Trainings!$B$6:$B$55,SMALL(IF(LEN(Trainings!$B$6:$B$55)>0,ROW(Trainings!$B$6:$B$55)-ROW(INDEX(Trainings!$B$6:$B$55,1,1))+1),ROW(Trainings!A28)-ROW(Trainings!$A$5))),"")} | AX30: {=IFERROR(IF(LEN(AX$6)=0,"",INDEX(Trainings!$B$6:$B$55,SMALL(IF(Trainings!$C$6:$C$55=Calc!AX$6,ROW(Trainings!$B$6:$B$55)-ROW(INDEX(Trainings!$B$6:$B$55,1,1))+1),ROW(Trainings!E28)-ROW(Trainings!$A$5)))),"")} | AY30: {=IFERROR(IF(LEN(AY$6)=0,"",INDEX(Trainings!$B$6:$B$55,SMALL(IF(Trainings!$C$6:$C$55=Calc!AY$6,ROW(Trainings!$B$6:$B$55)-ROW(INDEX(Trainings!$B$6:$B$55,1,1))+1),ROW(Trainings!F28)-ROW(Trainings!$A$5)))),"")} | AZ30: {=IFERROR(IF(LEN(AZ$6)=0,"",INDEX(Trainings!$B$6:$B$55,SMALL(IF(Trainings!$C$6:$C$55=Calc!AZ$6,ROW(Trainings!$B$6:$B$55)-ROW(INDEX(Trainings!$B$6:$B$55,1,1))+1),ROW(Trainings!G28)-ROW(Trainings!$A$5)))),"")} | BA30: {=IFERROR(IF(LEN(BA$6)=0,"",INDEX(Trainings!$B$6:$B$55,SMALL(IF(Trainings!$C$6:$C$55=Calc!BA$6,ROW(Trainings!$B$6:$B$55)-ROW(INDEX(Trainings!$B$6:$B$55,1,1))+1),ROW(Trainings!H28)-ROW(Trainings!$A$5)))),"")} | BB30: {=IFERROR(IF(LEN(BB$6)=0,"",INDEX(Trainings!$B$6:$B$55,SMALL(IF(Trainings!$C$6:$C$55=Calc!BB$6,ROW(Trainings!$B$6:$B$55)-ROW(INDEX(Trainings!$B$6:$B$55,1,1))+1),ROW(Trainings!I28)-ROW(Trainings!$A$5)))),"")} | BC30: {=IFERROR(IF(LEN(BC$6)=0,"",INDEX(Trainings!$B$6:$B$55,SMALL(IF(Trainings!$C$6:$C$55=Calc!BC$6,ROW(Trainings!$B$6:$B$55)-ROW(INDEX(Trainings!$B$6:$B$55,1,1))+1),ROW(Trainings!J28)-ROW(Trainings!$A$5)))),"")} | BD30: {=IFERROR(IF(LEN(BD$6)=0,"",INDEX(Trainings!$B$6:$B$55,SMALL(IF(Trainings!$C$6:$C$55=Calc!BD$6,ROW(Trainings!$B$6:$B$55)-ROW(INDEX(Trainings!$B$6:$B$55,1,1))+1),ROW(Trainings!K28)-ROW(Trainings!$A$5)))),"")} | BE30: {=IFERROR(IF(LEN(BE$6)=0,"",INDEX(Trainings!$B$6:$B$55,SMALL(IF(Trainings!$C$6:$C$55=Calc!BE$6,ROW(Trainings!$B$6:$B$55)-ROW(INDEX(Trainings!$B$6:$B$55,1,1))+1),ROW(Trainings!L28)-ROW(Trainings!$A$5)))),"")} | ... BG30: {=IFERROR(IF(LEN(BG$6)=0,"",INDEX(Trainings!$B$6:$B$55,SMALL(IF(Trainings!$C$6:$C$55=Calc!BG$6,ROW(Trainings!$B$6:$B$55)-ROW(INDEX(Trainings!$B$6:$B$55,1,1))+1),ROW(Trainings!N28)-ROW(Trainings!$A$5)))),"")}
Z31: Remaining | AA31: =AA29-AA30 -> 160 | AC31: =AT31 | AD31: {=IFERROR(IF(AC31="",0,SUMPRODUCT((Registration!$E$6:$E$20=$AC31)*(Registration!$V$6:$V$20))),"")} -> 0 | AE31: =RANK(AD31,$AD$7:$AD$36) -> 4 | AF31: =IF(COUNTIF($AE$7:AE31,AE31)>1,AE31+COUNTIF($AE$7:AE31,AE31)-1,AE31) -> 25 | AH31: =AU31 | AI31: {=IFERROR(IF(AH31="",0,SUMPRODUCT((Registration!$F$6:$F$20=$AH31)*(Registration!$V$6:$V$20))),"")} -> 0 | AJ31: =RANK(AI31,$AI$7:$AI$36) -> 5 | AK31: =IF(COUNTIF($AJ$7:AJ31,AJ31)>1,AJ31+COUNTIF($AJ$7:AJ31,AJ31)-1,AJ31) -> 25 | AM31: Program Row | AN31: {=MAX(IF(LEN($AW$8:$AW$57)>0,ROW($AW$8:$AW$57)-ROW($AW$6),0))} -> 8 | AP31: {=IFERROR(INDEX(Employees!$B$6:$B$1005,SMALL(IF(LEN(Employees!$B$6:$B$1005)>0,ROW(Employees!$B$6:$B$1005)-ROW(INDEX(Employees!$B$6:$B$1005,1,1))+1),ROW(Employees!A30)-ROW(Employees!$A$5))),"")} | AQ31: {=IFERROR(INDEX(Trainings!$B$6:$B$55,SMALL(IF(LEN(Trainings!$B$6:$B$55)>0,ROW(Trainings!$B$6:$B$55)-ROW(INDEX(Trainings!$B$6:$B$55,1,1))+1),ROW(A30)-ROW($A$5))),"")} | AT31: {=IFERROR(INDEX(Dashboard!$C$17:$C$46,SMALL(IF(LEN(Dashboard!$C$17:$C$46)>0,ROW(Dashboard!$C$17:$C$46)-ROW(INDEX(Dashboard!$C$17:$C$46,1,1))+1),ROW(Dashboard!A41)-ROW(Dashboard!$A$16))),"")} | AU31: {=IFERROR(INDEX(Dashboard!$E$17:$E$46,SMALL(IF(LEN(Dashboard!$E$17:$E$46)>0,ROW(Dashboard!$E$17:$E$46)-ROW(INDEX(Dashboard!$E$17:$E$46,1,1))+1),ROW(Dashboard!A41)-ROW(Dashboard!$A$16))),"")} | AW31: {=IFERROR(INDEX(Trainings!$B$6:$B$55,SMALL(IF(LEN(Trainings!$B$6:$B$55)>0,ROW(Trainings!$B$6:$B$55)-ROW(INDEX(Trainings!$B$6:$B$55,1,1))+1),ROW(Trainings!A29)-ROW(Trainings!$A$5))),"")} | AX31: {=IFERROR(IF(LEN(AX$6)=0,"",INDEX(Trainings!$B$6:$B$55,SMALL(IF(Trainings!$C$6:$C$55=Calc!AX$6,ROW(Trainings!$B$6:$B$55)-ROW(INDEX(Trainings!$B$6:$B$55,1,1))+1),ROW(Trainings!E29)-ROW(Trainings!$A$5)))),"")} | AY31: {=IFERROR(IF(LEN(AY$6)=0,"",INDEX(Trainings!$B$6:$B$55,SMALL(IF(Trainings!$C$6:$C$55=Calc!AY$6,ROW(Trainings!$B$6:$B$55)-ROW(INDEX(Trainings!$B$6:$B$55,1,1))+1),ROW(Trainings!F29)-ROW(Trainings!$A$5)))),"")} | AZ31: {=IFERROR(IF(LEN(AZ$6)=0,"",INDEX(Trainings!$B$6:$B$55,SMALL(IF(Trainings!$C$6:$C$55=Calc!AZ$6,ROW(Trainings!$B$6:$B$55)-ROW(INDEX(Trainings!$B$6:$B$55,1,1))+1),ROW(Trainings!G29)-ROW(Trainings!$A$5)))),"")} | BA31: {=IFERROR(IF(LEN(BA$6)=0,"",INDEX(Trainings!$B$6:$B$55,SMALL(IF(Trainings!$C$6:$C$55=Calc!BA$6,ROW(Trainings!$B$6:$B$55)-ROW(INDEX(Trainings!$B$6:$B$55,1,1))+1),ROW(Trainings!H29)-ROW(Trainings!$A$5)))),"")} | BB31: {=IFERROR(IF(LEN(BB$6)=0,"",INDEX(Trainings!$B$6:$B$55,SMALL(IF(Trainings!$C$6:$C$55=Calc!BB$6,ROW(Trainings!$B$6:$B$55)-ROW(INDEX(Trainings!$B$6:$B$55,1,1))+1),ROW(Trainings!I29)-ROW(Trainings!$A$5)))),"")} | BC31: {=IFERROR(IF(LEN(BC$6)=0,"",INDEX(Trainings!$B$6:$B$55,SMALL(IF(Trainings!$C$6:$C$55=Calc!BC$6,ROW(Trainings!$B$6:$B$55)-ROW(INDEX(Trainings!$B$6:$B$55,1,1))+1),ROW(Trainings!J29)-ROW(Trainings!$A$5)))),"")} | BD31: {=IFERROR(IF(LEN(BD$6)=0,"",INDEX(Trainings!$B$6:$B$55,SMALL(IF(Trainings!$C$6:$C$55=Calc!BD$6,ROW(Trainings!$B$6:$B$55)-ROW(INDEX(Trainings!$B$6:$B$55,1,1))+1),ROW(Trainings!K29)-ROW(Trainings!$A$5)))),"")} | BE31: {=IFERROR(IF(LEN(BE$6)=0,"",INDEX(Trainings!$B$6:$B$55,SMALL(IF(Trainings!$C$6:$C$55=Calc!BE$6,ROW(Trainings!$B$6:$B$55)-ROW(INDEX(Trainings!$B$6:$B$55,1,1))+1),ROW(Trainings!L29)-ROW(Trainings!$A$5)))),"")} | ... BG31: {=IFERROR(IF(LEN(BG$6)=0,"",INDEX(Trainings!$B$6:$B$55,SMALL(IF(Trainings!$C$6:$C$55=Calc!BG$6,ROW(Trainings!$B$6:$B$55)-ROW(INDEX(Trainings!$B$6:$B$55,1,1))+1),ROW(Trainings!N29)-ROW(Trainings!$A$5)))),"")}
Z32: % | AA32: =IFERROR("%"&ROUND(AA30/AA29*100,1),"") -> %58,4 | AC32: =AT32 | AD32: {=IFERROR(IF(AC32="",0,SUMPRODUCT((Registration!$E$6:$E$20=$AC32)*(Registration!$V$6:$V$20))),"")} -> 0 | AE32: =RANK(AD32,$AD$7:$AD$36) -> 4 | AF32: =IF(COUNTIF($AE$7:AE32,AE32)>1,AE32+COUNTIF($AE$7:AE32,AE32)-1,AE32) -> 26 | AH32: =AU32 | AI32: {=IFERROR(IF(AH32="",0,SUMPRODUCT((Registration!$F$6:$F$20=$AH32)*(Registration!$V$6:$V$20))),"")} -> 0 | AJ32: =RANK(AI32,$AI$7:$AI$36) -> 5 | AK32: =IF(COUNTIF($AJ$7:AJ32,AJ32)>1,AJ32+COUNTIF($AJ$7:AJ32,AJ32)-1,AJ32) -> 26 | AP32: {=IFERROR(INDEX(Employees!$B$6:$B$1005,SMALL(IF(LEN(Employees!$B$6:$B$1005)>0,ROW(Employees!$B$6:$B$1005)-ROW(INDEX(Employees!$B$6:$B$1005,1,1))+1),ROW(Employees!A31)-ROW(Employees!$A$5))),"")} | AQ32: {=IFERROR(INDEX(Trainings!$B$6:$B$55,SMALL(IF(LEN(Trainings!$B$6:$B$55)>0,ROW(Trainings!$B$6:$B$55)-ROW(INDEX(Trainings!$B$6:$B$55,1,1))+1),ROW(A31)-ROW($A$5))),"")} | AT32: {=IFERROR(INDEX(Dashboard!$C$17:$C$46,SMALL(IF(LEN(Dashboard!$C$17:$C$46)>0,ROW(Dashboard!$C$17:$C$46)-ROW(INDEX(Dashboard!$C$17:$C$46,1,1))+1),ROW(Dashboard!A42)-ROW(Dashboard!$A$16))),"")} | AU32: {=IFERROR(INDEX(Dashboard!$E$17:$E$46,SMALL(IF(LEN(Dashboard!$E$17:$E$46)>0,ROW(Dashboard!$E$17:$E$46)-ROW(INDEX(Dashboard!$E$17:$E$46,1,1))+1),ROW(Dashboard!A42)-ROW(Dashboard!$A$16))),"")} | AW32: {=IFERROR(INDEX(Trainings!$B$6:$B$55,SMALL(IF(LEN(Trainings!$B$6:$B$55)>0,ROW(Trainings!$B$6:$B$55)-ROW(INDEX(Trainings!$B$6:$B$55,1,1))+1),ROW(Trainings!A30)-ROW(Trainings!$A$5))),"")} | AX32: {=IFERROR(IF(LEN(AX$6)=0,"",INDEX(Trainings!$B$6:$B$55,SMALL(IF(Trainings!$C$6:$C$55=Calc!AX$6,ROW(Trainings!$B$6:$B$55)-ROW(INDEX(Trainings!$B$6:$B$55,1,1))+1),ROW(Trainings!E30)-ROW(Trainings!$A$5)))),"")} | AY32: {=IFERROR(IF(LEN(AY$6)=0,"",INDEX(Trainings!$B$6:$B$55,SMALL(IF(Trainings!$C$6:$C$55=Calc!AY$6,ROW(Trainings!$B$6:$B$55)-ROW(INDEX(Trainings!$B$6:$B$55,1,1))+1),ROW(Trainings!F30)-ROW(Trainings!$A$5)))),"")} | AZ32: {=IFERROR(IF(LEN(AZ$6)=0,"",INDEX(Trainings!$B$6:$B$55,SMALL(IF(Trainings!$C$6:$C$55=Calc!AZ$6,ROW(Trainings!$B$6:$B$55)-ROW(INDEX(Trainings!$B$6:$B$55,1,1))+1),ROW(Trainings!G30)-ROW(Trainings!$A$5)))),"")} | BA32: {=IFERROR(IF(LEN(BA$6)=0,"",INDEX(Trainings!$B$6:$B$55,SMALL(IF(Trainings!$C$6:$C$55=Calc!BA$6,ROW(Trainings!$B$6:$B$55)-ROW(INDEX(Trainings!$B$6:$B$55,1,1))+1),ROW(Trainings!H30)-ROW(Trainings!$A$5)))),"")} | BB32: {=IFERROR(IF(LEN(BB$6)=0,"",INDEX(Trainings!$B$6:$B$55,SMALL(IF(Trainings!$C$6:$C$55=Calc!BB$6,ROW(Trainings!$B$6:$B$55)-ROW(INDEX(Trainings!$B$6:$B$55,1,1))+1),ROW(Trainings!I30)-ROW(Trainings!$A$5)))),"")} | BC32: {=IFERROR(IF(LEN(BC$6)=0,"",INDEX(Trainings!$B$6:$B$55,SMALL(IF(Trainings!$C$6:$C$55=Calc!BC$6,ROW(Trainings!$B$6:$B$55)-ROW(INDEX(Trainings!$B$6:$B$55,1,1))+1),ROW(Trainings!J30)-ROW(Trainings!$A$5)))),"")} | BD32: {=IFERROR(IF(LEN(BD$6)=0,"",INDEX(Trainings!$B$6:$B$55,SMALL(IF(Trainings!$C$6:$C$55=Calc!BD$6,ROW(Trainings!$B$6:$B$55)-ROW(INDEX(Trainings!$B$6:$B$55,1,1))+1),ROW(Trainings!K30)-ROW(Trainings!$A$5)))),"")} | BE32: {=IFERROR(IF(LEN(BE$6)=0,"",INDEX(Trainings!$B$6:$B$55,SMALL(IF(Trainings!$C$6:$C$55=Calc!BE$6,ROW(Trainings!$B$6:$B$55)-ROW(INDEX(Trainings!$B$6:$B$55,1,1))+1),ROW(Trainings!L30)-ROW(Trainings!$A$5)))),"")} | ... BG32: {=IFERROR(IF(LEN(BG$6)=0,"",INDEX(Trainings!$B$6:$B$55,SMALL(IF(Trainings!$C$6:$C$55=Calc!BG$6,ROW(Trainings!$B$6:$B$55)-ROW(INDEX(Trainings!$B$6:$B$55,1,1))+1),ROW(Trainings!N30)-ROW(Trainings!$A$5)))),"")}
AC33: =AT33 | AD33: {=IFERROR(IF(AC33="",0,SUMPRODUCT((Registration!$E$6:$E$20=$AC33)*(Registration!$V$6:$V$20))),"")} -> 0 | AE33: =RANK(AD33,$AD$7:$AD$36) -> 4 | AF33: =IF(COUNTIF($AE$7:AE33,AE33)>1,AE33+COUNTIF($AE$7:AE33,AE33)-1,AE33) -> 27 | AH33: =AU33 | AI33: {=IFERROR(IF(AH33="",0,SUMPRODUCT((Registration!$F$6:$F$20=$AH33)*(Registration!$V$6:$V$20))),"")} -> 0 | AJ33: =RANK(AI33,$AI$7:$AI$36) -> 5 | AK33: =IF(COUNTIF($AJ$7:AJ33,AJ33)>1,AJ33+COUNTIF($AJ$7:AJ33,AJ33)-1,AJ33) -> 27 | AM33: Category Row | AN33: {=MAX(IF(LEN($AW$6:$BG$6)>0,COLUMN($AW$6:$BG$6)-COLUMN($AW$6),0))} -> 5 | AP33: {=IFERROR(INDEX(Employees!$B$6:$B$1005,SMALL(IF(LEN(Employees!$B$6:$B$1005)>0,ROW(Employees!$B$6:$B$1005)-ROW(INDEX(Employees!$B$6:$B$1005,1,1))+1),ROW(Employees!A32)-ROW(Employees!$A$5))),"")} | AQ33: {=IFERROR(INDEX(Trainings!$B$6:$B$55,SMALL(IF(LEN(Trainings!$B$6:$B$55)>0,ROW(Trainings!$B$6:$B$55)-ROW(INDEX(Trainings!$B$6:$B$55,1,1))+1),ROW(A32)-ROW($A$5))),"")} | AT33: {=IFERROR(INDEX(Dashboard!$C$17:$C$46,SMALL(IF(LEN(Dashboard!$C$17:$C$46)>0,ROW(Dashboard!$C$17:$C$46)-ROW(INDEX(Dashboard!$C$17:$C$46,1,1))+1),ROW(Dashboard!A43)-ROW(Dashboard!$A$16))),"")} | AU33: {=IFERROR(INDEX(Dashboard!$E$17:$E$46,SMALL(IF(LEN(Dashboard!$E$17:$E$46)>0,ROW(Dashboard!$E$17:$E$46)-ROW(INDEX(Dashboard!$E$17:$E$46,1,1))+1),ROW(Dashboard!A43)-ROW(Dashboard!$A$16))),"")} | AW33: {=IFERROR(INDEX(Trainings!$B$6:$B$55,SMALL(IF(LEN(Trainings!$B$6:$B$55)>0,ROW(Trainings!$B$6:$B$55)-ROW(INDEX(Trainings!$B$6:$B$55,1,1))+1),ROW(Trainings!A31)-ROW(Trainings!$A$5))),"")} | AX33: {=IFERROR(IF(LEN(AX$6)=0,"",INDEX(Trainings!$B$6:$B$55,SMALL(IF(Trainings!$C$6:$C$55=Calc!AX$6,ROW(Trainings!$B$6:$B$55)-ROW(INDEX(Trainings!$B$6:$B$55,1,1))+1),ROW(Trainings!E31)-ROW(Trainings!$A$5)))),"")} | AY33: {=IFERROR(IF(LEN(AY$6)=0,"",INDEX(Trainings!$B$6:$B$55,SMALL(IF(Trainings!$C$6:$C$55=Calc!AY$6,ROW(Trainings!$B$6:$B$55)-ROW(INDEX(Trainings!$B$6:$B$55,1,1))+1),ROW(Trainings!F31)-ROW(Trainings!$A$5)))),"")} | AZ33: {=IFERROR(IF(LEN(AZ$6)=0,"",INDEX(Trainings!$B$6:$B$55,SMALL(IF(Trainings!$C$6:$C$55=Calc!AZ$6,ROW(Trainings!$B$6:$B$55)-ROW(INDEX(Trainings!$B$6:$B$55,1,1))+1),ROW(Trainings!G31)-ROW(Trainings!$A$5)))),"")} | BA33: {=IFERROR(IF(LEN(BA$6)=0,"",INDEX(Trainings!$B$6:$B$55,SMALL(IF(Trainings!$C$6:$C$55=Calc!BA$6,ROW(Trainings!$B$6:$B$55)-ROW(INDEX(Trainings!$B$6:$B$55,1,1))+1),ROW(Trainings!H31)-ROW(Trainings!$A$5)))),"")} | BB33: {=IFERROR(IF(LEN(BB$6)=0,"",INDEX(Trainings!$B$6:$B$55,SMALL(IF(Trainings!$C$6:$C$55=Calc!BB$6,ROW(Trainings!$B$6:$B$55)-ROW(INDEX(Trainings!$B$6:$B$55,1,1))+1),ROW(Trainings!I31)-ROW(Trainings!$A$5)))),"")} | BC33: {=IFERROR(IF(LEN(BC$6)=0,"",INDEX(Trainings!$B$6:$B$55,SMALL(IF(Trainings!$C$6:$C$55=Calc!BC$6,ROW(Trainings!$B$6:$B$55)-ROW(INDEX(Trainings!$B$6:$B$55,1,1))+1),ROW(Trainings!J31)-ROW(Trainings!$A$5)))),"")} | BD33: {=IFERROR(IF(LEN(BD$6)=0,"",INDEX(Trainings!$B$6:$B$55,SMALL(IF(Trainings!$C$6:$C$55=Calc!BD$6,ROW(Trainings!$B$6:$B$55)-ROW(INDEX(Trainings!$B$6:$B$55,1,1))+1),ROW(Trainings!K31)-ROW(Trainings!$A$5)))),"")} | BE33: {=IFERROR(IF(LEN(BE$6)=0,"",INDEX(Trainings!$B$6:$B$55,SMALL(IF(Trainings!$C$6:$C$55=Calc!BE$6,ROW(Trainings!$B$6:$B$55)-ROW(INDEX(Trainings!$B$6:$B$55,1,1))+1),ROW(Trainings!L31)-ROW(Trainings!$A$5)))),"")} | ... BG33: {=IFERROR(IF(LEN(BG$6)=0,"",INDEX(Trainings!$B$6:$B$55,SMALL(IF(Trainings!$C$6:$C$55=Calc!BG$6,ROW(Trainings!$B$6:$B$55)-ROW(INDEX(Trainings!$B$6:$B$55,1,1))+1),ROW(Trainings!N31)-ROW(Trainings!$A$5)))),"")}
AA34: Budget | AC34: =AT34 | AD34: {=IFERROR(IF(AC34="",0,SUMPRODUCT((Registration!$E$6:$E$20=$AC34)*(Registration!$V$6:$V$20))),"")} -> 0 | AE34: =RANK(AD34,$AD$7:$AD$36) -> 4 | AF34: =IF(COUNTIF($AE$7:AE34,AE34)>1,AE34+COUNTIF($AE$7:AE34,AE34)-1,AE34) -> 28 | AH34: =AU34 | AI34: {=IFERROR(IF(AH34="",0,SUMPRODUCT((Registration!$F$6:$F$20=$AH34)*(Registration!$V$6:$V$20))),"")} -> 0 | AJ34: =RANK(AI34,$AI$7:$AI$36) -> 5 | AK34: =IF(COUNTIF($AJ$7:AJ34,AJ34)>1,AJ34+COUNTIF($AJ$7:AJ34,AJ34)-1,AJ34) -> 28 | AP34: {=IFERROR(INDEX(Employees!$B$6:$B$1005,SMALL(IF(LEN(Employees!$B$6:$B$1005)>0,ROW(Employees!$B$6:$B$1005)-ROW(INDEX(Employees!$B$6:$B$1005,1,1))+1),ROW(Employees!A33)-ROW(Employees!$A$5))),"")} | AQ34: {=IFERROR(INDEX(Trainings!$B$6:$B$55,SMALL(IF(LEN(Trainings!$B$6:$B$55)>0,ROW(Trainings!$B$6:$B$55)-ROW(INDEX(Trainings!$B$6:$B$55,1,1))+1),ROW(A33)-ROW($A$5))),"")} | AT34: {=IFERROR(INDEX(Dashboard!$C$17:$C$46,SMALL(IF(LEN(Dashboard!$C$17:$C$46)>0,ROW(Dashboard!$C$17:$C$46)-ROW(INDEX(Dashboard!$C$17:$C$46,1,1))+1),ROW(Dashboard!A44)-ROW(Dashboard!$A$16))),"")} | AU34: {=IFERROR(INDEX(Dashboard!$E$17:$E$46,SMALL(IF(LEN(Dashboard!$E$17:$E$46)>0,ROW(Dashboard!$E$17:$E$46)-ROW(INDEX(Dashboard!$E$17:$E$46,1,1))+1),ROW(Dashboard!A44)-ROW(Dashboard!$A$16))),"")} | AW34: {=IFERROR(INDEX(Trainings!$B$6:$B$55,SMALL(IF(LEN(Trainings!$B$6:$B$55)>0,ROW(Trainings!$B$6:$B$55)-ROW(INDEX(Trainings!$B$6:$B$55,1,1))+1),ROW(Trainings!A32)-ROW(Trainings!$A$5))),"")} | AX34: {=IFERROR(IF(LEN(AX$6)=0,"",INDEX(Trainings!$B$6:$B$55,SMALL(IF(Trainings!$C$6:$C$55=Calc!AX$6,ROW(Trainings!$B$6:$B$55)-ROW(INDEX(Trainings!$B$6:$B$55,1,1))+1),ROW(Trainings!E32)-ROW(Trainings!$A$5)))),"")} | AY34: {=IFERROR(IF(LEN(AY$6)=0,"",INDEX(Trainings!$B$6:$B$55,SMALL(IF(Trainings!$C$6:$C$55=Calc!AY$6,ROW(Trainings!$B$6:$B$55)-ROW(INDEX(Trainings!$B$6:$B$55,1,1))+1),ROW(Trainings!F32)-ROW(Trainings!$A$5)))),"")} | AZ34: {=IFERROR(IF(LEN(AZ$6)=0,"",INDEX(Trainings!$B$6:$B$55,SMALL(IF(Trainings!$C$6:$C$55=Calc!AZ$6,ROW(Trainings!$B$6:$B$55)-ROW(INDEX(Trainings!$B$6:$B$55,1,1))+1),ROW(Trainings!G32)-ROW(Trainings!$A$5)))),"")} | BA34: {=IFERROR(IF(LEN(BA$6)=0,"",INDEX(Trainings!$B$6:$B$55,SMALL(IF(Trainings!$C$6:$C$55=Calc!BA$6,ROW(Trainings!$B$6:$B$55)-ROW(INDEX(Trainings!$B$6:$B$55,1,1))+1),ROW(Trainings!H32)-ROW(Trainings!$A$5)))),"")} | BB34: {=IFERROR(IF(LEN(BB$6)=0,"",INDEX(Trainings!$B$6:$B$55,SMALL(IF(Trainings!$C$6:$C$55=Calc!BB$6,ROW(Trainings!$B$6:$B$55)-ROW(INDEX(Trainings!$B$6:$B$55,1,1))+1),ROW(Trainings!I32)-ROW(Trainings!$A$5)))),"")} | BC34: {=IFERROR(IF(LEN(BC$6)=0,"",INDEX(Trainings!$B$6:$B$55,SMALL(IF(Trainings!$C$6:$C$55=Calc!BC$6,ROW(Trainings!$B$6:$B$55)-ROW(INDEX(Trainings!$B$6:$B$55,1,1))+1),ROW(Trainings!J32)-ROW(Trainings!$A$5)))),"")} | BD34: {=IFERROR(IF(LEN(BD$6)=0,"",INDEX(Trainings!$B$6:$B$55,SMALL(IF(Trainings!$C$6:$C$55=Calc!BD$6,ROW(Trainings!$B$6:$B$55)-ROW(INDEX(Trainings!$B$6:$B$55,1,1))+1),ROW(Trainings!K32)-ROW(Trainings!$A$5)))),"")} | BE34: {=IFERROR(IF(LEN(BE$6)=0,"",INDEX(Trainings!$B$6:$B$55,SMALL(IF(Trainings!$C$6:$C$55=Calc!BE$6,ROW(Trainings!$B$6:$B$55)-ROW(INDEX(Trainings!$B$6:$B$55,1,1))+1),ROW(Trainings!L32)-ROW(Trainings!$A$5)))),"")} | ... BG34: {=IFERROR(IF(LEN(BG$6)=0,"",INDEX(Trainings!$B$6:$B$55,SMALL(IF(Trainings!$C$6:$C$55=Calc!BG$6,ROW(Trainings!$B$6:$B$55)-ROW(INDEX(Trainings!$B$6:$B$55,1,1))+1),ROW(Trainings!N32)-ROW(Trainings!$A$5)))),"")}
