Workbook
Name BudgetCompleted: Calc!$AA$38
Name HoursCompleted: Calc!$AA$32
Name PrntCalendar: OFFSET(Calendar!$B$5,0,0,MAX(Calc!$AN$37,1),22)
Name PrntEmployees: OFFSET(Employees!$B$5,0,0,MAX(COUNTIF(Employees!$B$5:$B$1005,"?*"),1),5)
Name PrntRegistration: OFFSET(Registration!$B$5,0,0,MAX(COUNTIF(Registration!$B$5:$B$4005,"?*"),1),6)
Name PrntSchedule: OFFSET(Scheduling!$B$5,0,0,MAX(COUNTIF(Scheduling!$B$5:$B$205,"?*"),1),6)
Name PrntTraining: OFFSET(Trainings!$B$5,0,0,MAX(COUNTIF(Trainings!$B$5:$B$55,"?*"),1),4)
Name TypeNumbers: OFFSET(Calc!$AA$16,0,0,MAX(COUNT(Calc!$AA$16:$AA$22),1),1)
Name Types: OFFSET(Calc!$Z$16,0,0,MAX(COUNTIF(Calc!$Z$16:$Z$22,"><"),1),1)

Sheet Dashboard
C2: EMPLOYEE TRAINING TRACKER
C3: DASHBOARD
B14: SETTINGS
C16: Departments | E16: Job Titles | G16: Training Categories | I16: Ratings for Trainings | L16: Training Types
C17: Sales | E17: Director | G17: Marketing | I17: 1 | J17: Poor | L17: Online
C18: Marketing | E18: Vice-Director | G18: Quality | I18: 2 | J18: Fair | L18: In House
C19: Accounting | E19: Expert | G19: Soft Skills | I19: 3 | J19: Average | L19: External
C20: Finance | E20: Salesman | G20: Legal | I20: 4 | J20: Good
G21: Accounting | I21: 5
I22: 6
I23: 7
I24: 8
I25: 9 | L25: Currency
I26: 10 | L26: USD

Sheet Employees
B2: EMPLOYEE TRAINING TRACKER
B3: EMPLOYEE DATABASE
B5: Name | C5: Department | D5: Job Title | E5: E-mail (Optional) | F5: Phone (Optional)
B6: Adam Roberts | C6: Sales | D6: Director | E6: roberts@mail.com
B7: Juliana Peterson | C7: Sales | D7: Salesman | E7: peterson@mail.com | F7: 1325
B8: Kailani Ortiz | C8: Sales | D8: Salesman | E8: ortiz@mail.com
B9: Ophelia Kelly | C9: Sales | D9: Salesman | E9: kelly@mail.com
B10: Joseph Gross | C10: Marketing | D10: Director | E10: gross@mail.com
B11: Zayne Hoffman | C11: Marketing | D11: Vice-Director | E11: hoffman@mail.com
B12: Noel Holmes | C12: Marketing | D12: Expert | E12: holmes@mail.com | F12: 1211
B13: Brody Taylor | C13: Marketing | D13: Salesman | E13: taylor@mail.com
B14: August Davidson | C14: Accounting | D14: Director | E14: davidson@mail.com
B15: Isabella Patterson | C15: Accounting | D15: Vice-Director | E15: patterson@mail.com

Sheet Trainings
B2: EMPLOYEE TRAINING TRACKER
B3: TRAINING DATABASE
B5: Training | C5: Category | D5: Type | E5: Duration (Hours)
B6: AGILE Practices | C6: Quality | D6: Online | E6: 40
B7: SAP | C7: Accounting | D7: In House | E7: 50
B8: MS Office | C8: Accounting | D8: In House | E8: 10
B9: Communication | C9: Soft Skills | D9: External | E9: 5
B10: Protection of personal data | C10: Legal | D10: In House | E10: 30
B11: Accounting codes | C11: Legal | D11: External | E11: 30
B12: SEO | C12: Marketing | D12: Online | E12: 20

Sheet Scheduling
B2: EMPLOYEE TRAINING TRACKER
B3: TRAINING SCHEDULE
B5: Training | C5: Start Date | D5: End Date | E5: Expected Trainee # | F5: ="Total Cost ("&Dashboard!L26&")" -> Total Cost (USD) | G5: Status
B6: AGILE Practices | C6: 44576 | D6: 44602 | E6: 10 | F6: 10000 | G6: In-Progress
B7: AGILE Practices | C7: 44648 | D7: 44672 | E7: 20 | F7: 20000 | G7: Cancelled
B8: SAP | C8: 44612 | D8: 44630 | E8: 8 | F8: 35000 | G8: Completed
B9: SAP | C9: 44691 | D9: 44701 | E9: 8 | F9: 35000 | G9: Completed
B10: SAP | C10: 44807 | D10: 44824 | E10: 8 | F10: 35000 | G10: Completed
B11: MS Office | C11: 44566 | D11: 44581 | E11: 5 | F11: 10000 | G11: Completed
B12: MS Office | C12: 44809 | D12: 44814 | E12: 10 | F12: 20000 | G12: In-Progress
B13: MS Office | C13: 44870 | D13: 44875 | E13: 5 | F13: 10000 | G13: Not Started
B14: Communication | C14: 44663 | D14: 44666 | E14: 20 | F14: 10000 | G14: Completed
B15: Accounting codes | C15: 44720 | D15: 44763 | E15: 6 | F15: 20000 | G15: Completed
B16: Accounting codes | C16: 44835 | D16: 44843 | E16: 5 | F16: 20000 | G16: Not Started
B17: Protection of personal data | C17: 44747 | D17: 44752 | E17: 5 | F17: 7500 | G17: Not Started
B18: Protection of personal data | C18: 44656 | D18: 44661 | E18: 5 | F18: 7500 | G18: Completed

Sheet Registration
B2: EMPLOYEE TRAINING TRACKER
B3: EMPLOYEE REGISTRATION
B5: Training | C5: Year | D5: Trainee | E5: Department | F5: Job Title | G5: Participated? | H5: Feedback Rating | O5: Category | P5: Feedback Point | R5: Category Filter | S5: Training Filter | T5: Participate Filter | U5: Year Filter | V5: Total Filter | X5: Average Filter | Y5: Average Rating | AA5: Participated Filter | AB5: Participated Trainee
B6: AGILE Practices | C6: 2022 | D6: Adam Roberts | E6: =IFERROR(IF(LEN(D6)=0,"",INDEX(Employees!$C$6:$C$1005,MATCH(D6,Employees!$B$6:$B$1005,0))),"") -> Sales | F6: =IFERROR(IF(LEN(E6)=0,"",INDEX(Employees!$D$6:$D$1005,MATCH(D6,Employees!$B$6:$B$1005,0))),"") -> Director | G6: Yes | H6: Average | O6: =IFERROR(IF(LEN(B6)=0,"",INDEX(Trainings!$C$6:$C$55,MATCH(Registration!$B6,Trainings!$B$6:$B$55,0),1)),"") -> Quality | P6: =IFERROR(IF(LEN(H6)=0,"",INDEX(Dashboard!$I$17:$I$26,MATCH($H6,Dashboard!$J$17:$J$26,0))),"") -> 3 | R6: =IF(LEN(O6)=0,0,IF(OR(Summary!$D$5="All",Summary!$D$5=""),1,IF(Summary!$D$5=O6,1,0))) -> 1 | S6: =IF(LEN(B6)=0,0,IF(OR(Summary!$G$5="All",Summary!$G$5=""),1,IF(Summary!$G$5=B6,1,0))) -> 1 | T6: =IF(G6="Yes",1,0) -> 1 | U6: =IF(LEN(C6)=0,0,IF(C6=Summary!$K$5,1,0)) -> 1 | V6: =R6*S6*T6*U6 -> 1 | X6: =V6*(IF(LEN(P6)=0,0,1)) -> 1 | Y6: {=IFERROR(SUMPRODUCT($P$6:$P$205,$V$6:$V$205)/SUM($X$6:$X$205),"")} -> 2.6666667 | AA6: =IF(G6="Yes",1,0) -> 1 | AB6: {=SUMPRODUCT(AA6:AA4005,V6:V4005)} -> 10
B7: AGILE Practices | C7: 2022 | D7: Juliana Peterson | E7: =IFERROR(IF(LEN(D7)=0,"",INDEX(Employees!$C$6:$C$1005,MATCH(D7,Employees!$B$6:$B$1005,0))),"") -> Sales | F7: =IFERROR(IF(LEN(E7)=0,"",INDEX(Employees!$D$6:$D$1005,MATCH(D7,Employees!$B$6:$B$1005,0))),"") -> Salesman | G7: Yes | H7: - | O7: =IFERROR(IF(LEN(B7)=0,"",INDEX(Trainings!$C$6:$C$55,MATCH(Registration!$B7,Trainings!$B$6:$B$55,0),1)),"") -> Quality | P7: =IFERROR(IF(LEN(H7)=0,"",INDEX(Dashboard!$I$17:$I$26,MATCH($H7,Dashboard!$J$17:$J$26,0))),"") | R7: =IF(LEN(O7)=0,0,IF(OR(Summary!$D$5="All",Summary!$D$5=""),1,IF(Summary!$D$5=O7,1,0))) -> 1 | S7: =IF(LEN(B7)=0,0,IF(OR(Summary!$G$5="All",Summary!$G$5=""),1,IF(Summary!$G$5=B7,1,0))) -> 1 | T7: =IF(G7="Yes",1,0) -> 1 | U7: =IF(LEN(C7)=0,0,IF(C7=Summary!$K$5,1,0)) -> 1 | V7: =R7*S7*T7*U7 -> 1 | X7: =V7*(IF(LEN(P7)=0,0,1)) -> 0 | AA7: =IF(G7="Yes",1,0) -> 1
B8: AGILE Practices | C8: 2022 | D8: Kailani Ortiz | E8: =IFERROR(IF(LEN(D8)=0,"",INDEX(Employees!$C$6:$C$1005,MATCH(D8,Employees!$B$6:$B$1005,0))),"") -> Sales | F8: =IFERROR(IF(LEN(E8)=0,"",INDEX(Employees!$D$6:$D$1005,MATCH(D8,Employees!$B$6:$B$1005,0))),"") -> Salesman | G8: No | H8: - | O8: =IFERROR(IF(LEN(B8)=0,"",INDEX(Trainings!$C$6:$C$55,MATCH(Registration!$B8,Trainings!$B$6:$B$55,0),1)),"") -> Quality | P8: =IFERROR(IF(LEN(H8)=0,"",INDEX(Dashboard!$I$17:$I$26,MATCH($H8,Dashboard!$J$17:$J$26,0))),"") | R8: =IF(LEN(O8)=0,0,IF(OR(Summary!$D$5="All",Summary!$D$5=""),1,IF(Summary!$D$5=O8,1,0))) -> 1 | S8: =IF(LEN(B8)=0,0,IF(OR(Summary!$G$5="All",Summary!$G$5=""),1,IF(Summary!$G$5=B8,1,0))) -> 1 | T8: =IF(G8="Yes",1,0) -> 0 | U8: =IF(LEN(C8)=0,0,IF(C8=Summary!$K$5,1,0)) -> 1 | V8: =R8*S8*T8*U8 -> 0 | X8: =V8*(IF(LEN(P8)=0,0,1)) -> 0 | AA8: =IF(G8="Yes",1,0) -> 0
B9: AGILE Practices | C9: 2022 | D9: Joseph Gross | E9: =IFERROR(IF(LEN(D9)=0,"",INDEX(Employees!$C$6:$C$1005,MATCH(D9,Employees!$B$6:$B$1005,0))),"") -> Marketing | F9: =IFERROR(IF(LEN(E9)=0,"",INDEX(Employees!$D$6:$D$1005,MATCH(D9,Employees!$B$6:$B$1005,0))),"") -> Director | G9: Yes | H9: Fair | O9: =IFERROR(IF(LEN(B9)=0,"",INDEX(Trainings!$C$6:$C$55,MATCH(Registration!$B9,Trainings!$B$6:$B$55,0),1)),"") -> Quality | P9: =IFERROR(IF(LEN(H9)=0,"",INDEX(Dashboard!$I$17:$I$26,MATCH($H9,Dashboard!$J$17:$J$26,0))),"") -> 2 | R9: =IF(LEN(O9)=0,0,IF(OR(Summary!$D$5="All",Summary!$D$5=""),1,IF(Summary!$D$5=O9,1,0))) -> 1 | S9: =IF(LEN(B9)=0,0,IF(OR(Summary!$G$5="All",Summary!$G$5=""),1,IF(Summary!$G$5=B9,1,0))) -> 1 | T9: =IF(G9="Yes",1,0) -> 1 | U9: =IF(LEN(C9)=0,0,IF(C9=Summary!$K$5,1,0)) -> 1 | V9: =R9*S9*T9*U9 -> 1 | X9: =V9*(IF(LEN(P9)=0,0,1)) -> 1 | AA9: =IF(G9="Yes",1,0) -> 1
B10: SAP | C10: 2022 | D10: Zayne Hoffman | E10: =IFERROR(IF(LEN(D10)=0,"",INDEX(Employees!$C$6:$C$1005,MATCH(D10,Employees!$B$6:$B$1005,0))),"") -> Marketing | F10: =IFERROR(IF(LEN(E10)=0,"",INDEX(Employees!$D$6:$D$1005,MATCH(D10,Employees!$B$6:$B$1005,0))),"") -> Vice-Director | G10: Yes | H10: Good | O10: =IFERROR(IF(LEN(B10)=0,"",INDEX(Trainings!$C$6:$C$55,MATCH(Registration!$B10,Trainings!$B$6:$B$55,0),1)),"") -> Accounting | P10: =IFERROR(IF(LEN(H10)=0,"",INDEX(Dashboard!$I$17:$I$26,MATCH($H10,Dashboard!$J$17:$J$26,0))),"") -> 4 | R10: =IF(LEN(O10)=0,0,IF(OR(Summary!$D$5="All",Summary!$D$5=""),1,IF(Summary!$D$5=O10,1,0))) -> 1 | S10: =IF(LEN(B10)=0,0,IF(OR(Summary!$G$5="All",Summary!$G$5=""),1,IF(Summary!$G$5=B10,1,0))) -> 1 | T10: =IF(G10="Yes",1,0) -> 1 | U10: =IF(LEN(C10)=0,0,IF(C10=Summary!$K$5,1,0)) -> 1 | V10: =R10*S10*T10*U10 -> 1 | X10: =V10*(IF(LEN(P10)=0,0,1)) -> 1 | AA10: =IF(G10="Yes",1,0) -> 1
B11: SAP | C11: 2022 | D11: Noel Holmes | E11: =IFERROR(IF(LEN(D11)=0,"",INDEX(Employees!$C$6:$C$1005,MATCH(D11,Employees!$B$6:$B$1005,0))),"") -> Marketing | F11: =IFERROR(IF(LEN(E11)=0,"",INDEX(Employees!$D$6:$D$1005,MATCH(D11,Employees!$B$6:$B$1005,0))),"") -> Expert | G11: Yes | H11: Poor | O11: =IFERROR(IF(LEN(B11)=0,"",INDEX(Trainings!$C$6:$C$55,MATCH(Registration!$B11,Trainings!$B$6:$B$55,0),1)),"") -> Accounting | P11: =IFERROR(IF(LEN(H11)=0,"",INDEX(Dashboard!$I$17:$I$26,MATCH($H11,Dashboard!$J$17:$J$26,0))),"") -> 1 | R11: =IF(LEN(O11)=0,0,IF(OR(Summary!$D$5="All",Summary!$D$5=""),1,IF(Summary!$D$5=O11,1,0))) -> 1 | S11: =IF(LEN(B11)=0,0,IF(OR(Summary!$G$5="All",Summary!$G$5=""),1,IF(Summary!$G$5=B11,1,0))) -> 1 | T11: =IF(G11="Yes",1,0) -> 1 | U11: =IF(LEN(C11)=0,0,IF(C11=Summary!$K$5,1,0)) -> 1 | V11: =R11*S11*T11*U11 -> 1 | X11: =V11*(IF(LEN(P11)=0,0,1)) -> 1 | AA11: =IF(G11="Yes",1,0) -> 1
B12: SAP | C12: 2022 | D12: Brody Taylor | E12: =IFERROR(IF(LEN(D12)=0,"",INDEX(Employees!$C$6:$C$1005,MATCH(D12,Employees!$B$6:$B$1005,0))),"") -> Marketing | F12: =IFERROR(IF(LEN(E12)=0,"",INDEX(Employees!$D$6:$D$1005,MATCH(D12,Employees!$B$6:$B$1005,0))),"") -> Salesman | G12: Yes | H12: Average | O12: =IFERROR(IF(LEN(B12)=0,"",INDEX(Trainings!$C$6:$C$55,MATCH(Registration!$B12,Trainings!$B$6:$B$55,0),1)),"") -> Accounting | P12: =IFERROR(IF(LEN(H12)=0,"",INDEX(Dashboard!$I$17:$I$26,MATCH($H12,Dashboard!$J$17:$J$26,0))),"") -> 3 | R12: =IF(LEN(O12)=0,0,IF(OR(Summary!$D$5="All",Summary!$D$5=""),1,IF(Summary!$D$5=O12,1,0))) -> 1 | S12: =IF(LEN(B12)=0,0,IF(OR(Summary!$G$5="All",Summary!$G$5=""),1,IF(Summary!$G$5=B12,1,0))) -> 1 | T12: =IF(G12="Yes",1,0) -> 1 | U12: =IF(LEN(C12)=0,0,IF(C12=Summary!$K$5,1,0)) -> 1 | V12: =R12*S12*T12*U12 -> 1 | X12: =V12*(IF(LEN(P12)=0,0,1)) -> 1 | AA12: =IF(G12="Yes",1,0) -> 1
B13: MS Office | C13: 2022 | D13: August Davidson | E13: =IFERROR(IF(LEN(D13)=0,"",INDEX(Employees!$C$6:$C$1005,MATCH(D13,Employees!$B$6:$B$1005,0))),"") -> Accounting | F13: =IFERROR(IF(LEN(E13)=0,"",INDEX(Employees!$D$6:$D$1005,MATCH(D13,Employees!$B$6:$B$1005,0))),"") -> Director | G13: Yes | H13: Average | O13: =IFERROR(IF(LEN(B13)=0,"",INDEX(Trainings!$C$6:$C$55,MATCH(Registration!$B13,Trainings!$B$6:$B$55,0),1)),"") -> Accounting | P13: =IFERROR(IF(LEN(H13)=0,"",INDEX(Dashboard!$I$17:$I$26,MATCH($H13,Dashboard!$J$17:$J$26,0))),"") -> 3 | R13: =IF(LEN(O13)=0,0,IF(OR(Summary!$D$5="All",Summary!$D$5=""),1,IF(Summary!$D$5=O13,1,0))) -> 1 | S13: =IF(LEN(B13)=0,0,IF(OR(Summary!$G$5="All",Summary!$G$5=""),1,IF(Summary!$G$5=B13,1,0))) -> 1 | T13: =IF(G13="Yes",1,0) -> 1 | U13: =IF(LEN(C13)=0,0,IF(C13=Summary!$K$5,1,0)) -> 1 | V13: =R13*S13*T13*U13 -> 1 | X13: =V13*(IF(LEN(P13)=0,0,1)) -> 1 | AA13: =IF(G13="Yes",1,0) -> 1
B14: MS Office | C14: 2022 | D14: Isabella Patterson | E14: =IFERROR(IF(LEN(D14)=0,"",INDEX(Employees!$C$6:$C$1005,MATCH(D14,Employees!$B$6:$B$1005,0))),"") -> Accounting | F14: =IFERROR(IF(LEN(E14)=0,"",INDEX(Employees!$D$6:$D$1005,MATCH(D14,Employees!$B$6:$B$1005,0))),"") -> Vice-Director | G14: No | H14: - | O14: =IFERROR(IF(LEN(B14)=0,"",INDEX(Trainings!$C$6:$C$55,MATCH(Registration!$B14,Trainings!$B$6:$B$55,0),1)),"") -> Accounting | P14: =IFERROR(IF(LEN(H14)=0,"",INDEX(Dashboard!$I$17:$I$26,MATCH($H14,Dashboard!$J$17:$J$26,0))),"") | R14: =IF(LEN(O14)=0,0,IF(OR(Summary!$D$5="All",Summary!$D$5=""),1,IF(Summary!$D$5=O14,1,0))) -> 1 | S14: =IF(LEN(B14)=0,0,IF(OR(Summary!$G$5="All",Summary!$G$5=""),1,IF(Summary!$G$5=B14,1,0))) -> 1 | T14: =IF(G14="Yes",1,0) -> 0 | U14: =IF(LEN(C14)=0,0,IF(C14=Summary!$K$5,1,0)) -> 1 | V14: =R14*S14*T14*U14 -> 0 | X14: =V14*(IF(LEN(P14)=0,0,1)) -> 0 | AA14: =IF(G14="Yes",1,0) -> 0
B15: MS Office | C15: 2022 | D15: Kailani Ortiz | E15: =IFERROR(IF(LEN(D15)=0,"",INDEX(Employees!$C$6:$C$1005,MATCH(D15,Employees!$B$6:$B$1005,0))),"") -> Sales | F15: =IFERROR(IF(LEN(E15)=0,"",INDEX(Employees!$D$6:$D$1005,MATCH(D15,Employees!$B$6:$B$1005,0))),"") -> Salesman | G15: Yes | H15: Average | O15: =IFERROR(IF(LEN(B15)=0,"",INDEX(Trainings!$C$6:$C$55,MATCH(Registration!$B15,Trainings!$B$6:$B$55,0),1)),"") -> Accounting | P15: =IFERROR(IF(LEN(H15)=0,"",INDEX(Dashboard!$I$17:$I$26,MATCH($H15,Dashboard!$J$17:$J$26,0))),"") -> 3 | R15: =IF(LEN(O15)=0,0,IF(OR(Summary!$D$5="All",Summary!$D$5=""),1,IF(Summary!$D$5=O15,1,0))) -> 1 | S15: =IF(LEN(B15)=0,0,IF(OR(Summary!$G$5="All",Summary!$G$5=""),1,IF(Summary!$G$5=B15,1,0))) -> 1 | T15: =IF(G15="Yes",1,0) -> 1 | U15: =IF(LEN(C15)=0,0,IF(C15=Summary!$K$5,1,0)) -> 1 | V15: =R15*S15*T15*U15 -> 1 | X15: =V15*(IF(LEN(P15)=0,0,1)) -> 1 | AA15: =IF(G15="Yes",1,0) -> 1
B16: Communication | C16: 2022 | D16: Joseph Gross | E16: =IFERROR(IF(LEN(D16)=0,"",INDEX(Employees!$C$6:$C$1005,MATCH(D16,Employees!$B$6:$B$1005,0))),"") -> Marketing | F16: =IFERROR(IF(LEN(E16)=0,"",INDEX(Employees!$D$6:$D$1005,MATCH(D16,Employees!$B$6:$B$1005,0))),"") -> Director | G16: Yes | H16: Fair | O16: =IFERROR(IF(LEN(B16)=0,"",INDEX(Trainings!$C$6:$C$55,MATCH(Registration!$B16,Trainings!$B$6:$B$55,0),1)),"") -> Soft Skills | P16: =IFERROR(IF(LEN(H16)=0,"",INDEX(Dashboard!$I$17:$I$26,MATCH($H16,Dashboard!$J$17:$J$26,0))),"") -> 2 | R16: =IF(LEN(O16)=0,0,IF(OR(Summary!$D$5="All",Summary!$D$5=""),1,IF(Summary!$D$5=O16,1,0))) -> 1 | S16: =IF(LEN(B16)=0,0,IF(OR(Summary!$G$5="All",Summary!$G$5=""),1,IF(Summary!$G$5=B16,1,0))) -> 1 | T16: =IF(G16="Yes",1,0) -> 1 | U16: =IF(LEN(C16)=0,0,IF(C16=Summary!$K$5,1,0)) -> 1 | V16: =R16*S16*T16*U16 -> 1 | X16: =V16*(IF(LEN(P16)=0,0,1)) -> 1 | AA16: =IF(G16="Yes",1,0) -> 1
B17: Communication | C17: 2022 | D17: Kailani Ortiz | E17: =IFERROR(IF(LEN(D17)=0,"",INDEX(Employees!$C$6:$C$1005,MATCH(D17,Employees!$B$6:$B$1005,0))),"") -> Sales | F17: =IFERROR(IF(LEN(E17)=0,"",INDEX(Employees!$D$6:$D$1005,MATCH(D17,Employees!$B$6:$B$1005,0))),"") -> Salesman | G17: Yes | H17: Average | O17: =IFERROR(IF(LEN(B17)=0,"",INDEX(Trainings!$C$6:$C$55,MATCH(Registration!$B17,Trainings!$B$6:$B$55,0),1)),"") -> Soft Skills | P17: =IFERROR(IF(LEN(H17)=0,"",INDEX(Dashboard!$I$17:$I$26,MATCH($H17,Dashboard!$J$17:$J$26,0))),"") -> 3 | R17: =IF(LEN(O17)=0,0,IF(OR(Summary!$D$5="All",Summary!$D$5=""),1,IF(Summary!$D$5=O17,1,0))) -> 1 | S17: =IF(LEN(B17)=0,0,IF(OR(Summary!$G$5="All",Summary!$G$5=""),1,IF(Summary!$G$5=B17,1,0))) -> 1 | T17: =IF(G17="Yes",1,0) -> 1 | U17: =IF(LEN(C17)=0,0,IF(C17=Summary!$K$5,1,0)) -> 1 | V17: =R17*S17*T17*U17 -> 1 | X17: =V17*(IF(LEN(P17)=0,0,1)) -> 1 | AA17: =IF(G17="Yes",1,0) -> 1
E18: =IFERROR(IF(LEN(D18)=0,"",INDEX(Employees!$C$6:$C$1005,MATCH(D18,Employees!$B$6:$B$1005,0))),"") | F18: =IFERROR(IF(LEN(E18)=0,"",INDEX(Employees!$D$6:$D$1005,MATCH(D18,Employees!$B$6:$B$1005,0))),"") | O18: =IFERROR(IF(LEN(B18)=0,"",INDEX(Trainings!$C$6:$C$55,MATCH(Registration!$B18,Trainings!$B$6:$B$55,0),1)),"") | P18: =IFERROR(IF(LEN(H18)=0,"",INDEX(Dashboard!$I$17:$I$26,MATCH($H18,Dashboard!$J$17:$J$26,0))),"") | R18: =IF(LEN(O18)=0,0,IF(OR(Summary!$D$5="All",Summary!$D$5=""),1,IF(Summary!$D$5=O18,1,0))) -> 0 | S18: =IF(LEN(B18)=0,0,IF(OR(Summary!$G$5="All",Summary!$G$5=""),1,IF(Summary!$G$5=B18,1,0))) -> 0 | T18: =IF(G18="Yes",1,0) -> 0 | U18: =IF(LEN(C18)=0,0,IF(C18=Summary!$K$5,1,0)) -> 0 | V18: =R18*S18*T18*U18 -> 0 | X18: =V18*(IF(LEN(P18)=0,0,1)) -> 0 | AA18: =IF(G18="Yes",1,0) -> 0
E19: =IFERROR(IF(LEN(D19)=0,"",INDEX(Employees!$C$6:$C$1005,MATCH(D19,Employees!$B$6:$B$1005,0))),"") | F19: =IFERROR(IF(LEN(E19)=0,"",INDEX(Employees!$D$6:$D$1005,MATCH(D19,Employees!$B$6:$B$1005,0))),"") | O19: =IFERROR(IF(LEN(B19)=0,"",INDEX(Trainings!$C$6:$C$55,MATCH(Registration!$B19,Trainings!$B$6:$B$55,0),1)),"") | P19: =IFERROR(IF(LEN(H19)=0,"",INDEX(Dashboard!$I$17:$I$26,MATCH($H19,Dashboard!$J$17:$J$26,0))),"") | R19: =IF(LEN(O19)=0,0,IF(OR(Summary!$D$5="All",Summary!$D$5=""),1,IF(Summary!$D$5=O19,1,0))) -> 0 | S19: =IF(LEN(B19)=0,0,IF(OR(Summary!$G$5="All",Summary!$G$5=""),1,IF(Summary!$G$5=B19,1,0))) -> 0 | T19: =IF(G19="Yes",1,0) -> 0 | U19: =IF(LEN(C19)=0,0,IF(C19=Summary!$K$5,1,0)) -> 0 | V19: =R19*S19*T19*U19 -> 0 | X19: =V19*(IF(LEN(P19)=0,0,1)) -> 0 | AA19: =IF(G19="Yes",1,0) -> 0
E20: =IFERROR(IF(LEN(D20)=0,"",INDEX(Employees!$C$6:$C$1005,MATCH(D20,Employees!$B$6:$B$1005,0))),"") | F20: =IFERROR(IF(LEN(E20)=0,"",INDEX(Employees!$D$6:$D$1005,MATCH(D20,Employees!$B$6:$B$1005,0))),"") | O20: =IFERROR(IF(LEN(B20)=0,"",INDEX(Trainings!$C$6:$C$55,MATCH(Registration!$B20,Trainings!$B$6:$B$55,0),1)),"") | P20: =IFERROR(IF(LEN(H20)=0,"",INDEX(Dashboard!$I$17:$I$26,MATCH($H20,Dashboard!$J$17:$J$26,0))),"") | R20: =IF(LEN(O20)=0,0,IF(OR(Summary!$D$5="All",Summary!$D$5=""),1,IF(Summary!$D$5=O20,1,0))) -> 0 | S20: =IF(LEN(B20)=0,0,IF(OR(Summary!$G$5="All",Summary!$G$5=""),1,IF(Summary!$G$5=B20,1,0))) -> 0 | T20: =IF(G20="Yes",1,0) -> 0 | U20: =IF(LEN(C20)=0,0,IF(C20=Summary!$K$5,1,0)) -> 0 | V20: =R20*S20*T20*U20 -> 0 | X20: =V20*(IF(LEN(P20)=0,0,1)) -> 0 | AA20: =IF(G20="Yes",1,0) -> 0
O21: =IFERROR(IF(LEN(B21)=0,"",INDEX(Trainings!$C$6:$C$55,MATCH(Registration!$B21,Trainings!$B$6:$B$55,0),1)),"") | P21: =IFERROR(IF(LEN(H21)=0,"",INDEX(Dashboard!$I$17:$I$26,MATCH($H21,Dashboard!$J$17:$J$26,0))),"") | R21: =IF(LEN(O21)=0,0,IF(OR(Summary!$D$5="All",Summary!$D$5=""),1,IF(Summary!$D$5=O21,1,0))) -> 0 | S21: =IF(LEN(B21)=0,0,IF(OR(Summary!$G$5="All",Summary!$G$5=""),1,IF(Summary!$G$5=B21,1,0))) -> 0 | T21: =IF(G21="Yes",1,0) -> 0 | U21: =IF(LEN(C21)=0,0,IF(C21=Summary!$K$5,1,0)) -> 0 | V21: =R21*S21*T21*U21 -> 0 | X21: =V21*(IF(LEN(P21)=0,0,1)) -> 0 | AA21: =IF(G21="Yes",1,0) -> 0
O22: =IFERROR(IF(LEN(B22)=0,"",INDEX(Trainings!$C$6:$C$55,MATCH(Registration!$B22,Trainings!$B$6:$B$55,0),1)),"") | P22: =IFERROR(IF(LEN(H22)=0,"",INDEX(Dashboard!$I$17:$I$26,MATCH($H22,Dashboard!$J$17:$J$26,0))),"") | R22: =IF(LEN(O22)=0,0,IF(OR(Summary!$D$5="All",Summary!$D$5=""),1,IF(Summary!$D$5=O22,1,0))) -> 0 | S22: =IF(LEN(B22)=0,0,IF(OR(Summary!$G$5="All",Summary!$G$5=""),1,IF(Summary!$G$5=B22,1,0))) -> 0 | T22: =IF(G22="Yes",1,0) -> 0 | U22: =IF(LEN(C22)=0,0,IF(C22=Summary!$K$5,1,0)) -> 0 | V22: =R22*S22*T22*U22 -> 0 | X22: =V22*(IF(LEN(P22)=0,0,1)) -> 0 | AA22: =IF(G22="Yes",1,0) -> 0
O23: =IFERROR(IF(LEN(B23)=0,"",INDEX(Trainings!$C$6:$C$55,MATCH(Registration!$B23,Trainings!$B$6:$B$55,0),1)),"") | P23: =IFERROR(IF(LEN(H23)=0,"",INDEX(Dashboard!$I$17:$I$26,MATCH($H23,Dashboard!$J$17:$J$26,0))),"") | R23: =IF(LEN(O23)=0,0,IF(OR(Summary!$D$5="All",Summary!$D$5=""),1,IF(Summary!$D$5=O23,1,0))) -> 0 | S23: =IF(LEN(B23)=0,0,IF(OR(Summary!$G$5="All",Summary!$G$5=""),1,IF(Summary!$G$5=B23,1,0))) -> 0 | T23: =IF(G23="Yes",1,0) -> 0 | U23: =IF(LEN(C23)=0,0,IF(C23=Summary!$K$5,1,0)) -> 0 | V23: =R23*S23*T23*U23 -> 0 | X23: =V23*(IF(LEN(P23)=0,0,1)) -> 0 | AA23: =IF(G23="Yes",1,0) -> 0
O24: =IFERROR(IF(LEN(B24)=0,"",INDEX(Trainings!$C$6:$C$55,MATCH(Registration!$B24,Trainings!$B$6:$B$55,0),1)),"") | P24: =IFERROR(IF(LEN(H24)=0,"",INDEX(Dashboard!$I$17:$I$26,MATCH($H24,Dashboard!$J$17:$J$26,0))),"") | R24: =IF(LEN(O24)=0,0,IF(OR(Summary!$D$5="All",Summary!$D$5=""),1,IF(Summary!$D$5=O24,1,0))) -> 0 | S24: =IF(LEN(B24)=0,0,IF(OR(Summary!$G$5="All",Summary!$G$5=""),1,IF(Summary!$G$5=B24,1,0))) -> 0 | T24: =IF(G24="Yes",1,0) -> 0 | U24: =IF(LEN(C24)=0,0,IF(C24=Summary!$K$5,1,0)) -> 0 | V24: =R24*S24*T24*U24 -> 0 | X24: =V24*(IF(LEN(P24)=0,0,1)) -> 0 | AA24: =IF(G24="Yes",1,0) -> 0
O25: =IFERROR(IF(LEN(B25)=0,"",INDEX(Trainings!$C$6:$C$55,MATCH(Registration!$B25,Trainings!$B$6:$B$55,0),1)),"") | P25: =IFERROR(IF(LEN(H25)=0,"",INDEX(Dashboard!$I$17:$I$26,MATCH($H25,Dashboard!$J$17:$J$26,0))),"") | R25: =IF(LEN(O25)=0,0,IF(OR(Summary!$D$5="All",Summary!$D$5=""),1,IF(Summary!$D$5=O25,1,0))) -> 0 | S25: =IF(LEN(B25)=0,0,IF(OR(Summary!$G$5="All",Summary!$G$5=""),1,IF(Summary!$G$5=B25,1,0))) -> 0 | T25: =IF(G25="Yes",1,0) -> 0 | U25: =IF(LEN(C25)=0,0,IF(C25=Summary!$K$5,1,0)) -> 0 | V25: =R25*S25*T25*U25 -> 0 | X25: =V25*(IF(LEN(P25)=0,0,1)) -> 0 | AA25: =IF(G25="Yes",1,0) -> 0
O26: =IFERROR(IF(LEN(B26)=0,"",INDEX(Trainings!$C$6:$C$55,MATCH(Registration!$B26,Trainings!$B$6:$B$55,0),1)),"") | P26: =IFERROR(IF(LEN(H26)=0,"",INDEX(Dashboard!$I$17:$I$26,MATCH($H26,Dashboard!$J$17:$J$26,0))),"") | R26: =IF(LEN(O26)=0,0,IF(OR(Summary!$D$5="All",Summary!$D$5=""),1,IF(Summary!$D$5=O26,1,0))) -> 0 | S26: =IF(LEN(B26)=0,0,IF(OR(Summary!$G$5="All",Summary!$G$5=""),1,IF(Summary!$G$5=B26,1,0))) -> 0 | T26: =IF(G26="Yes",1,0) -> 0 | U26: =IF(LEN(C26)=0,0,IF(C26=Summary!$K$5,1,0)) -> 0 | V26: =R26*S26*T26*U26 -> 0 | X26: =V26*(IF(LEN(P26)=0,0,1)) -> 0 | AA26: =IF(G26="Yes",1,0) -> 0
O27: =IFERROR(IF(LEN(B27)=0,"",INDEX(Trainings!$C$6:$C$55,MATCH(Registration!$B27,Trainings!$B$6:$B$55,0),1)),"") | P27: =IFERROR(IF(LEN(H27)=0,"",INDEX(Dashboard!$I$17:$I$26,MATCH($H27,Dashboard!$J$17:$J$26,0))),"") | R27: =IF(LEN(O27)=0,0,IF(OR(Summary!$D$5="All",Summary!$D$5=""),1,IF(Summary!$D$5=O27,1,0))) -> 0 | S27: =IF(LEN(B27)=0,0,IF(OR(Summary!$G$5="All",Summary!$G$5=""),1,IF(Summary!$G$5=B27,1,0))) -> 0 | T27: =IF(G27="Yes",1,0) -> 0 | U27: =IF(LEN(C27)=0,0,IF(C27=Summary!$K$5,1,0)) -> 0 | V27: =R27*S27*T27*U27 -> 0 | X27: =V27*(IF(LEN(P27)=0,0,1)) -> 0 | AA27: =IF(G27="Yes",1,0) -> 0
O28: =IFERROR(IF(LEN(B28)=0,"",INDEX(Trainings!$C$6:$C$55,MATCH(Registration!$B28,Trainings!$B$6:$B$55,0),1)),"") | P28: =IFERROR(IF(LEN(H28)=0,"",INDEX(Dashboard!$I$17:$I$26,MATCH($H28,Dashboard!$J$17:$J$26,0))),"") | R28: =IF(LEN(O28)=0,0,IF(OR(Summary!$D$5="All",Summary!$D$5=""),1,IF(Summary!$D$5=O28,1,0))) -> 0 | S28: =IF(LEN(B28)=0,0,IF(OR(Summary!$G$5="All",Summary!$G$5=""),1,IF(Summary!$G$5=B28,1,0))) -> 0 | T28: =IF(G28="Yes",1,0) -> 0 | U28: =IF(LEN(C28)=0,0,IF(C28=Summary!$K$5,1,0)) -> 0 | V28: =R28*S28*T28*U28 -> 0 | X28: =V28*(IF(LEN(P28)=0,0,1)) -> 0 | AA28: =IF(G28="Yes",1,0) -> 0
O29: =IFERROR(IF(LEN(B29)=0,"",INDEX(Trainings!$C$6:$C$55,MATCH(Registration!$B29,Trainings!$B$6:$B$55,0),1)),"") | P29: =IFERROR(IF(LEN(H29)=0,"",INDEX(Dashboard!$I$17:$I$26,MATCH($H29,Dashboard!$J$17:$J$26,0))),"") | R29: =IF(LEN(O29)=0,0,IF(OR(Summary!$D$5="All",Summary!$D$5=""),1,IF(Summary!$D$5=O29,1,0))) -> 0 | S29: =IF(LEN(B29)=0,0,IF(OR(Summary!$G$5="All",Summary!$G$5=""),1,IF(Summary!$G$5=B29,1,0))) -> 0 | T29: =IF(G29="Yes",1,0) -> 0 | U29: =IF(LEN(C29)=0,0,IF(C29=Summary!$K$5,1,0)) -> 0 | V29: =R29*S29*T29*U29 -> 0 | X29: =V29*(IF(LEN(P29)=0,0,1)) -> 0 | AA29: =IF(G29="Yes",1,0) -> 0
O30: =IFERROR(IF(LEN(B30)=0,"",INDEX(Trainings!$C$6:$C$55,MATCH(Registration!$B30,Trainings!$B$6:$B$55,0),1)),"") | P30: =IFERROR(IF(LEN(H30)=0,"",INDEX(Dashboard!$I$17:$I$26,MATCH($H30,Dashboard!$J$17:$J$26,0))),"") | R30: =IF(LEN(O30)=0,0,IF(OR(Summary!$D$5="All",Summary!$D$5=""),1,IF(Summary!$D$5=O30,1,0))) -> 0 | S30: =IF(LEN(B30)=0,0,IF(OR(Summary!$G$5="All",Summary!$G$5=""),1,IF(Summary!$G$5=B30,1,0))) -> 0 | T30: =IF(G30="Yes",1,0) -> 0 | U30: =IF(LEN(C30)=0,0,IF(C30=Summary!$K$5,1,0)) -> 0 | V30: =R30*S30*T30*U30 -> 0 | X30: =V30*(IF(LEN(P30)=0,0,1)) -> 0 | AA30: =IF(G30="Yes",1,0) -> 0
O31: =IFERROR(IF(LEN(B31)=0,"",INDEX(Trainings!$C$6:$C$55,MATCH(Registration!$B31,Trainings!$B$6:$B$55,0),1)),"") | P31: =IFERROR(IF(LEN(H31)=0,"",INDEX(Dashboard!$I$17:$I$26,MATCH($H31,Dashboard!$J$17:$J$26,0))),"") | R31: =IF(LEN(O31)=0,0,IF(OR(Summary!$D$5="All",Summary!$D$5=""),1,IF(Summary!$D$5=O31,1,0))) -> 0 | S31: =IF(LEN(B31)=0,0,IF(OR(Summary!$G$5="All",Summary!$G$5=""),1,IF(Summary!$G$5=B31,1,0))) -> 0 | T31: =IF(G31="Yes",1,0) -> 0 | U31: =IF(LEN(C31)=0,0,IF(C31=Summary!$K$5,1,0)) -> 0 | V31: =R31*S31*T31*U31 -> 0 | X31: =V31*(IF(LEN(P31)=0,0,1)) -> 0 | AA31: =IF(G31="Yes",1,0) -> 0
O32: =IFERROR(IF(LEN(B32)=0,"",INDEX(Trainings!$C$6:$C$55,MATCH(Registration!$B32,Trainings!$B$6:$B$55,0),1)),"") | P32: =IFERROR(IF(LEN(H32)=0,"",INDEX(Dashboard!$I$17:$I$26,MATCH($H32,Dashboard!$J$17:$J$26,0))),"") | R32: =IF(LEN(O32)=0,0,IF(OR(Summary!$D$5="All",Summary!$D$5=""),1,IF(Summary!$D$5=O32,1,0))) -> 0 | S32: =IF(LEN(B32)=0,0,IF(OR(Summary!$G$5="All",Summary!$G$5=""),1,IF(Summary!$G$5=B32,1,0))) -> 0 | T32: =IF(G32="Yes",1,0) -> 0 | U32: =IF(LEN(C32)=0,0,IF(C32=Summary!$K$5,1,0)) -> 0 | V32: =R32*S32*T32*U32 -> 0 | X32: =V32*(IF(LEN(P32)=0,0,1)) -> 0 | AA32: =IF(G32="Yes",1,0) -> 0
... O4005: =IFERROR(IF(LEN(B4005)=0,"",INDEX(Trainings!$C$6:$C$55,MATCH(Registration!$B4005,Trainings!$B$6:$B$55,0),1)),"") | P4005: =IFERROR(IF(LEN(H4005)=0,"",INDEX(Dashboard!$I$17:$I$26,MATCH($H4005,Dashboard!$J$17:$J$26,0))),"") | R4005: =IF(LEN(O4005)=0,0,IF(OR(Summary!$D$5="All",Summary!$D$5=""),1,IF(Summary!$D$5=O4005,1,0))) -> 0 | S4005: =IF(LEN(B4005)=0,0,IF(OR(Summary!$G$5="All",Summary!$G$5=""),1,IF(Summary!$G$5=B4005,1,0))) -> 0 | T4005: =IF(G4005="Yes",1,0) -> 0 | U4005: =IF(LEN(C4005)=0,0,IF(C4005=Summary!$K$5,1,0)) -> 0 | V4005: =R4005*S4005*T4005*U4005 -> 0 | X4005: =V4005*(IF(LEN(P4005)=0,0,1)) -> 0 | AA4005: =IF(G4005="Yes",1,0) -> 0

Sheet Summary
C2: EMPLOYEE TRAINING TRACKER
C3: SUMMARY
C5: Category | D5: All | F5: Training | G5: All | I5: Year | K5: 2022
C9: Training Number
C11: =Calc!AA7 -> 13
C14: Average Rating
C16: =Registration!Y6 -> 2.6666667
C19: Hours | J19: Top 3 Departments Participated
J20: =IF(LEN(K20)=0,"",ROW(H20)-ROW($H$19)) -> 1 | K20: =IFERROR(Calc!AD40,"") -> Marketing | L20: =IFERROR(IF(LEN(K20)=0,"",Calc!AE40),"") -> 5
C21: =Calc!AA29 -> 385 | J21: =IF(LEN(K21)=0,"",ROW(H21)-ROW($H$19)) -> 2 | K21: =IFERROR(Calc!AD41,"") -> Sales | L21: =IFERROR(IF(LEN(K21)=0,"",Calc!AE41),"") -> 4
J22: =IF(LEN(K22)=0,"",ROW(H22)-ROW($H$19)) -> 3 | K22: =IFERROR(Calc!AD42,"") -> Accounting | L22: =IFERROR(IF(LEN(K22)=0,"",Calc!AE42),"") -> 1
C24: ="Budget ("&Dashboard!L26&")" -> Budget (USD) | J24: Top 3 Titles Participated
J25: =IF(LEN(K25)=0,"",ROW(H25)-ROW($H$24)) -> 1 | K25: =IFERROR(Calc!AI40,"") -> Director | L25: =IFERROR(IF(LEN(K25)=0,"",Calc!AJ40),"") -> 4
C26: =Calc!AA35 -> 240000 | J26: =IF(LEN(K26)=0,"",ROW(H26)-ROW($H$24)) -> 2 | K26: =IFERROR(Calc!AI41,"") -> Salesman | L26: =IFERROR(IF(LEN(K26)=0,"",Calc!AJ41),"") -> 4
J27: =IF(LEN(K27)=0,"",ROW(H27)-ROW($H$24)) -> 3 | K27: =IFERROR(Calc!AI42,"") -> Vice-Director | L27: =IFERROR(IF(LEN(K27)=0,"",Calc!AJ42),"") -> 1

Sheet Calendar
D2: EMPLOYEE TRAINING TRACKER
D3: CALENDAR
D5: Year | G5: 2022 | J5: Month | M5: January | P5: Show weekends? | S5: Yes
C8: MONDAY | F8: TUESDAY | I8: WEDNESDAY | L8: THURSDAY | O8: FRIDAY | R8: SATURDAY | U8: SUNDAY
D10: =IFERROR(IF(WEEKDAY(Calc!$AN$19)=2,Calc!$AN$19,""),"") | G10: =IFERROR(IF(LEN(D10)>0,D10+1,IF(WEEKDAY(Calc!$AN$19)=3,Calc!$AN$19,"")),"") | J10: =IFERROR(IF(LEN(G10)>0,G10+1,IF(WEEKDAY(Calc!$AN$19)=4,Calc!$AN$19,"")),"") | M10: =IFERROR(IF(LEN(J10)>0,J10+1,IF(WEEKDAY(Calc!$AN$19)=5,Calc!$AN$19,"")),"") | P10: =IFERROR(IF(LEN(M10)>0,M10+1,IF(WEEKDAY(Calc!$AN$19)=6,Calc!$AN$19,"")),"") | S10: =IFERROR(IF(LEN(P10)>0,P10+1,IF(WEEKDAY(Calc!$AN$19)=7,Calc!$AN$19,"")),"") -> 44562 | V10: =IFERROR(IF(LEN(S10)>0,S10+1,IF(WEEKDAY(Calc!$AN$19)=1,Calc!$AN$19,"")),"") -> 44563
D12: {=IFERROR(INDEX(Calc!$D$6:$D$20,SMALL(IF(($D$10>=Calc!$E$6:$E$20)*($D$10<=Calc!$H$6:$H$20)*(Calc!$M$6:$M$20<>"Cancelled"),ROW(Calc!$D$6:$D$20)-ROW(INDEX(Calc!$D$6:$D$20,1,1))+1),1)),"")} | G12: {=IFERROR(INDEX(Calc!$D$6:$D$20,SMALL(IF(($G$10>=Calc!$E$6:$E$20)*($G$10<=Calc!$H$6:$H$20)*(Calc!$M$6:$M$20<>"Cancelled"),ROW(Calc!$D$6:$D$20)-ROW(INDEX(Calc!$D$6:$D$20,1,1))+1),1)),"")} | J12: {=IFERROR(INDEX(Calc!$D$6:$D$20,SMALL(IF(($J$10>=Calc!$E$6:$E$20)*($J$10<=Calc!$H$6:$H$20)*(Calc!$M$6:$M$20<>"Cancelled"),ROW(Calc!$D$6:$D$20)-ROW(INDEX(Calc!$D$6:$D$20,1,1))+1),1)),"")} | M12: {=IFERROR(INDEX(Calc!$D$6:$D$20,SMALL(IF(($M$10>=Calc!$E$6:$E$20)*($M$10<=Calc!$H$6:$H$20)*(Calc!$M$6:$M$20<>"Cancelled"),ROW(Calc!$D$6:$D$20)-ROW(INDEX(Calc!$D$6:$D$20,1,1))+1),1)),"")} | P12: {=IFERROR(INDEX(Calc!$D$6:$D$20,SMALL(IF(($P$10>=Calc!$E$6:$E$20)*($P$10<=Calc!$H$6:$H$20)*(Calc!$M$6:$M$20<>"Cancelled"),ROW(Calc!$D$6:$D$20)-ROW(INDEX(Calc!$D$6:$D$20,1,1))+1),1)),"")} | S12: {=IFERROR(INDEX(Calc!$D$6:$D$20,SMALL(IF(($S$10>=Calc!$E$6:$E$20)*($S$10<=Calc!$H$6:$H$20)*(Calc!$M$6:$M$20<>"Cancelled"),ROW(Calc!$D$6:$D$20)-ROW(INDEX(Calc!$D$6:$D$20,1,1))+1),1)),"")} | V12: {=IFERROR(INDEX(Calc!$D$6:$D$20,SMALL(IF(($V$10>=Calc!$E$6:$E$20)*($V$10<=Calc!$H$6:$H$20)*(Calc!$M$6:$M$20<>"Cancelled"),ROW(Calc!$D$6:$D$20)-ROW(INDEX(Calc!$D$6:$D$20,1,1))+1),1)),"")}
D14: {=IFERROR(INDEX(Calc!$D$6:$D$20,SMALL(IF(($D$10>=Calc!$E$6:$E$20)*($D$10<=Calc!$H$6:$H$20)*(Calc!$M$6:$M$20<>"Cancelled"),ROW(Calc!$D$6:$D$20)-ROW(INDEX(Calc!$D$6:$D$20,1,1))+1),2)),"")} | G14: {=IFERROR(INDEX(Calc!$D$6:$D$20,SMALL(IF(($G$10>=Calc!$E$6:$E$20)*($G$10<=Calc!$H$6:$H$20)*(Calc!$M$6:$M$20<>"Cancelled"),ROW(Calc!$D$6:$D$20)-ROW(INDEX(Calc!$D$6:$D$20,1,1))+1),2)),"")} | J14: {=IFERROR(INDEX(Calc!$D$6:$D$20,SMALL(IF(($J$10>=Calc!$E$6:$E$20)*($J$10<=Calc!$H$6:$H$20)*(Calc!$M$6:$M$20<>"Cancelled"),ROW(Calc!$D$6:$D$20)-ROW(INDEX(Calc!$D$6:$D$20,1,1))+1),2)),"")} | M14: {=IFERROR(INDEX(Calc!$D$6:$D$20,SMALL(IF(($M$10>=Calc!$E$6:$E$20)*($M$10<=Calc!$H$6:$H$20)*(Calc!$M$6:$M$20<>"Cancelled"),ROW(Calc!$D$6:$D$20)-ROW(INDEX(Calc!$D$6:$D$20,1,1))+1),2)),"")} | P14: {=IFERROR(INDEX(Calc!$D$6:$D$20,SMALL(IF(($P$10>=Calc!$E$6:$E$20)*($P$10<=Calc!$H$6:$H$20)*(Calc!$M$6:$M$20<>"Cancelled"),ROW(Calc!$D$6:$D$20)-ROW(INDEX(Calc!$D$6:$D$20,1,1))+1),2)),"")} | S14: {=IFERROR(INDEX(Calc!$D$6:$D$20,SMALL(IF(($S$10>=Calc!$E$6:$E$20)*($S$10<=Calc!$H$6:$H$20)*(Calc!$M$6:$M$20<>"Cancelled"),ROW(Calc!$D$6:$D$20)-ROW(INDEX(Calc!$D$6:$D$20,1,1))+1),2)),"")} | V14: {=IFERROR(INDEX(Calc!$D$6:$D$20,SMALL(IF(($V$10>=Calc!$E$6:$E$20)*($V$10<=Calc!$H$6:$H$20)*(Calc!$M$6:$M$20<>"Cancelled"),ROW(Calc!$D$6:$D$20)-ROW(INDEX(Calc!$D$6:$D$20,1,1))+1),2)),"")}
D16: {=IFERROR(INDEX(Calc!$D$6:$D$20,SMALL(IF(($D$10>=Calc!$E$6:$E$20)*($D$10<=Calc!$H$6:$H$20)*(Calc!$M$6:$M$20<>"Cancelled"),ROW(Calc!$D$6:$D$20)-ROW(INDEX(Calc!$D$6:$D$20,1,1))+1),3)),"")} | G16: {=IFERROR(INDEX(Calc!$D$6:$D$20,SMALL(IF(($G$10>=Calc!$E$6:$E$20)*($G$10<=Calc!$H$6:$H$20)*(Calc!$M$6:$M$20<>"Cancelled"),ROW(Calc!$D$6:$D$20)-ROW(INDEX(Calc!$D$6:$D$20,1,1))+1),3)),"")} | J16: {=IFERROR(INDEX(Calc!$D$6:$D$20,SMALL(IF(($J$10>=Calc!$E$6:$E$20)*($J$10<=Calc!$H$6:$H$20)*(Calc!$M$6:$M$20<>"Cancelled"),ROW(Calc!$D$6:$D$20)-ROW(INDEX(Calc!$D$6:$D$20,1,1))+1),3)),"")} | M16: {=IFERROR(INDEX(Calc!$D$6:$D$20,SMALL(IF(($M$10>=Calc!$E$6:$E$20)*($M$10<=Calc!$H$6:$H$20)*(Calc!$M$6:$M$20<>"Cancelled"),ROW(Calc!$D$6:$D$20)-ROW(INDEX(Calc!$D$6:$D$20,1,1))+1),3)),"")} | P16: {=IFERROR(INDEX(Calc!$D$6:$D$20,SMALL(IF(($P$10>=Calc!$E$6:$E$20)*($P$10<=Calc!$H$6:$H$20)*(Calc!$M$6:$M$20<>"Cancelled"),ROW(Calc!$D$6:$D$20)-ROW(INDEX(Calc!$D$6:$D$20,1,1))+1),3)),"")} | S16: {=IFERROR(INDEX(Calc!$D$6:$D$20,SMALL(IF(($S$10>=Calc!$E$6:$E$20)*($S$10<=Calc!$H$6:$H$20)*(Calc!$M$6:$M$20<>"Cancelled"),ROW(Calc!$D$6:$D$20)-ROW(INDEX(Calc!$D$6:$D$20,1,1))+1),3)),"")} | V16: {=IFERROR(INDEX(Calc!$D$6:$D$20,SMALL(IF(($V$10>=Calc!$E$6:$E$20)*($V$10<=Calc!$H$6:$H$20)*(Calc!$M$6:$M$20<>"Cancelled"),ROW(Calc!$D$6:$D$20)-ROW(INDEX(Calc!$D$6:$D$20,1,1))+1),3)),"")}
D18: {=IFERROR(INDEX(Calc!$D$6:$D$20,SMALL(IF(($D$10>=Calc!$E$6:$E$20)*($D$10<=Calc!$H$6:$H$20)*(Calc!$M$6:$M$20<>"Cancelled"),ROW(Calc!$D$6:$D$20)-ROW(INDEX(Calc!$D$6:$D$20,1,1))+1),4)),"")} | G18: {=IFERROR(INDEX(Calc!$D$6:$D$20,SMALL(IF(($G$10>=Calc!$E$6:$E$20)*($G$10<=Calc!$H$6:$H$20)*(Calc!$M$6:$M$20<>"Cancelled"),ROW(Calc!$D$6:$D$20)-ROW(INDEX(Calc!$D$6:$D$20,1,1))+1),4)),"")} | J18: {=IFERROR(INDEX(Calc!$D$6:$D$20,SMALL(IF(($J$10>=Calc!$E$6:$E$20)*($J$10<=Calc!$H$6:$H$20)*(Calc!$M$6:$M$20<>"Cancelled"),ROW(Calc!$D$6:$D$20)-ROW(INDEX(Calc!$D$6:$D$20,1,1))+1),4)),"")} | M18: {=IFERROR(INDEX(Calc!$D$6:$D$20,SMALL(IF(($M$10>=Calc!$E$6:$E$20)*($M$10<=Calc!$H$6:$H$20)*(Calc!$M$6:$M$20<>"Cancelled"),ROW(Calc!$D$6:$D$20)-ROW(INDEX(Calc!$D$6:$D$20,1,1))+1),4)),"")} | P18: {=IFERROR(INDEX(Calc!$D$6:$D$20,SMALL(IF(($P$10>=Calc!$E$6:$E$20)*($P$10<=Calc!$H$6:$H$20)*(Calc!$M$6:$M$20<>"Cancelled"),ROW(Calc!$D$6:$D$20)-ROW(INDEX(Calc!$D$6:$D$20,1,1))+1),4)),"")} | S18: {=IFERROR(INDEX(Calc!$D$6:$D$20,SMALL(IF(($S$10>=Calc!$E$6:$E$20)*($S$10<=Calc!$H$6:$H$20)*(Calc!$M$6:$M$20<>"Cancelled"),ROW(Calc!$D$6:$D$20)-ROW(INDEX(Calc!$D$6:$D$20,1,1))+1),4)),"")} | V18: {=IFERROR(INDEX(Calc!$D$6:$D$20,SMALL(IF(($V$10>=Calc!$E$6:$E$20)*($V$10<=Calc!$H$6:$H$20)*(Calc!$M$6:$M$20<>"Cancelled"),ROW(Calc!$D$6:$D$20)-ROW(INDEX(Calc!$D$6:$D$20,1,1))+1),4)),"")}
D20: {=IFERROR(INDEX(Calc!$D$6:$D$20,SMALL(IF(($D$10>=Calc!$E$6:$E$20)*($D$10<=Calc!$H$6:$H$20)*(Calc!$M$6:$M$20<>"Cancelled"),ROW(Calc!$D$6:$D$20)-ROW(INDEX(Calc!$D$6:$D$20,1,1))+1),5)),"")} | G20: {=IFERROR(INDEX(Calc!$D$6:$D$20,SMALL(IF(($G$10>=Calc!$E$6:$E$20)*($G$10<=Calc!$H$6:$H$20)*(Calc!$M$6:$M$20<>"Cancelled"),ROW(Calc!$D$6:$D$20)-ROW(INDEX(Calc!$D$6:$D$20,1,1))+1),5)),"")} | J20: {=IFERROR(INDEX(Calc!$D$6:$D$20,SMALL(IF(($J$10>=Calc!$E$6:$E$20)*($J$10<=Calc!$H$6:$H$20)*(Calc!$M$6:$M$20<>"Cancelled"),ROW(Calc!$D$6:$D$20)-ROW(INDEX(Calc!$D$6:$D$20,1,1))+1),5)),"")} | M20: {=IFERROR(INDEX(Calc!$D$6:$D$20,SMALL(IF(($M$10>=Calc!$E$6:$E$20)*($M$10<=Calc!$H$6:$H$20)*(Calc!$M$6:$M$20<>"Cancelled"),ROW(Calc!$D$6:$D$20)-ROW(INDEX(Calc!$D$6:$D$20,1,1))+1),5)),"")} | P20: {=IFERROR(INDEX(Calc!$D$6:$D$20,SMALL(IF(($P$10>=Calc!$E$6:$E$20)*($P$10<=Calc!$H$6:$H$20)*(Calc!$M$6:$M$20<>"Cancelled"),ROW(Calc!$D$6:$D$20)-ROW(INDEX(Calc!$D$6:$D$20,1,1))+1),5)),"")} | S20: {=IFERROR(INDEX(Calc!$D$6:$D$20,SMALL(IF(($S$10>=Calc!$E$6:$E$20)*($S$10<=Calc!$H$6:$H$20)*(Calc!$M$6:$M$20<>"Cancelled"),ROW(Calc!$D$6:$D$20)-ROW(INDEX(Calc!$D$6:$D$20,1,1))+1),5)),"")} | V20: {=IFERROR(INDEX(Calc!$D$6:$D$20,SMALL(IF(($V$10>=Calc!$E$6:$E$20)*($V$10<=Calc!$H$6:$H$20)*(Calc!$M$6:$M$20<>"Cancelled"),ROW(Calc!$D$6:$D$20)-ROW(INDEX(Calc!$D$6:$D$20,1,1))+1),5)),"")}
D22: =IFERROR(IF(LEN(V10)=0,"",IF(MONTH(V10+1)=MONTH(V10),V10+1,"")),"") -> 44564 | G22: =IFERROR(IF(LEN(D22)=0,"",IF(MONTH(D22+1)=MONTH(D22),D22+1,"")),"") -> 44565 | J22: =IFERROR(IF(LEN(G22)=0,"",IF(MONTH(G22+1)=MONTH(G22),G22+1,"")),"") -> 44566 | M22: =IFERROR(IF(LEN(J22)=0,"",IF(MONTH(J22+1)=MONTH(J22),J22+1,"")),"") -> 44567 | P22: =IFERROR(IF(LEN(M22)=0,"",IF(MONTH(M22+1)=MONTH(M22),M22+1,"")),"") -> 44568 | S22: =IFERROR(IF(LEN(P22)=0,"",IF(MONTH(P22+1)=MONTH(P22),P22+1,"")),"") -> 44569 | V22: =IFERROR(IF(LEN(S22)=0,"",IF(MONTH(S22+1)=MONTH(S22),S22+1,"")),"") -> 44570
D24: {=IFERROR(INDEX(Calc!$D$6:$D$20,SMALL(IF(($D$22>=Calc!$E$6:$E$20)*($D$22<=Calc!$H$6:$H$20)*(Calc!$M$6:$M$20<>"Cancelled"),ROW(Calc!$D$6:$D$20)-ROW(INDEX(Calc!$D$6:$D$20,1,1))+1),1)),"")} | G24: {=IFERROR(INDEX(Calc!$D$6:$D$20,SMALL(IF(($G$22>=Calc!$E$6:$E$20)*($G$22<=Calc!$H$6:$H$20)*(Calc!$M$6:$M$20<>"Cancelled"),ROW(Calc!$D$6:$D$20)-ROW(INDEX(Calc!$D$6:$D$20,1,1))+1),1)),"")} | J24: {=IFERROR(INDEX(Calc!$D$6:$D$20,SMALL(IF(($J$22>=Calc!$E$6:$E$20)*($J$22<=Calc!$H$6:$H$20)*(Calc!$M$6:$M$20<>"Cancelled"),ROW(Calc!$D$6:$D$20)-ROW(INDEX(Calc!$D$6:$D$20,1,1))+1),1)),"")} -> MS Office | M24: {=IFERROR(INDEX(Calc!$D$6:$D$20,SMALL(IF(($M$22>=Calc!$E$6:$E$20)*($M$22<=Calc!$H$6:$H$20)*(Calc!$M$6:$M$20<>"Cancelled"),ROW(Calc!$D$6:$D$20)-ROW(INDEX(Calc!$D$6:$D$20,1,1))+1),1)),"")} -> MS Office | P24: {=IFERROR(INDEX(Calc!$D$6:$D$20,SMALL(IF(($P$22>=Calc!$E$6:$E$20)*($P$22<=Calc!$H$6:$H$20)*(Calc!$M$6:$M$20<>"Cancelled"),ROW(Calc!$D$6:$D$20)-ROW(INDEX(Calc!$D$6:$D$20,1,1))+1),1)),"")} -> MS Office | S24: {=IFERROR(INDEX(Calc!$D$6:$D$20,SMALL(IF(($S$22>=Calc!$E$6:$E$20)*($S$22<=Calc!$H$6:$H$20)*(Calc!$M$6:$M$20<>"Cancelled"),ROW(Calc!$D$6:$D$20)-ROW(INDEX(Calc!$D$6:$D$20,1,1))+1),1)),"")} -> MS Office | V24: {=IFERROR(INDEX(Calc!$D$6:$D$20,SMALL(IF(($V$22>=Calc!$E$6:$E$20)*($V$22<=Calc!$H$6:$H$20)*(Calc!$M$6:$M$20<>"Cancelled"),ROW(Calc!$D$6:$D$20)-ROW(INDEX(Calc!$D$6:$D$20,1,1))+1),1)),"")} -> MS Office
D26: {=IFERROR(INDEX(Calc!$D$6:$D$20,SMALL(IF(($D$22>=Calc!$E$6:$E$20)*($D$22<=Calc!$H$6:$H$20)*(Calc!$M$6:$M$20<>"Cancelled"),ROW(Calc!$D$6:$D$20)-ROW(INDEX(Calc!$D$6:$D$20,1,1))+1),2)),"")} | G26: {=IFERROR(INDEX(Calc!$D$6:$D$20,SMALL(IF(($G$22>=Calc!$E$6:$E$20)*($G$22<=Calc!$H$6:$H$20)*(Calc!$M$6:$M$20<>"Cancelled"),ROW(Calc!$D$6:$D$20)-ROW(INDEX(Calc!$D$6:$D$20,1,1))+1),2)),"")} | J26: {=IFERROR(INDEX(Calc!$D$6:$D$20,SMALL(IF(($J$22>=Calc!$E$6:$E$20)*($J$22<=Calc!$H$6:$H$20)*(Calc!$M$6:$M$20<>"Cancelled"),ROW(Calc!$D$6:$D$20)-ROW(INDEX(Calc!$D$6:$D$20,1,1))+1),2)),"")} | M26: {=IFERROR(INDEX(Calc!$D$6:$D$20,SMALL(IF(($M$22>=Calc!$E$6:$E$20)*($M$22<=Calc!$H$6:$H$20)*(Calc!$M$6:$M$20<>"Cancelled"),ROW(Calc!$D$6:$D$20)-ROW(INDEX(Calc!$D$6:$D$20,1,1))+1),2)),"")} | P26: {=IFERROR(INDEX(Calc!$D$6:$D$20,SMALL(IF(($P$22>=Calc!$E$6:$E$20)*($P$22<=Calc!$H$6:$H$20)*(Calc!$M$6:$M$20<>"Cancelled"),ROW(Calc!$D$6:$D$20)-ROW(INDEX(Calc!$D$6:$D$20,1,1))+1),2)),"")} | S26: {=IFERROR(INDEX(Calc!$D$6:$D$20,SMALL(IF(($S$22>=Calc!$E$6:$E$20)*($S$22<=Calc!$H$6:$H$20)*(Calc!$M$6:$M$20<>"Cancelled"),ROW(Calc!$D$6:$D$20)-ROW(INDEX(Calc!$D$6:$D$20,1,1))+1),2)),"")} | V26: {=IFERROR(INDEX(Calc!$D$6:$D$20,SMALL(IF(($V$22>=Calc!$E$6:$E$20)*($V$22<=Calc!$H$6:$H$20)*(Calc!$M$6:$M$20<>"Cancelled"),ROW(Calc!$D$6:$D$20)-ROW(INDEX(Calc!$D$6:$D$20,1,1))+1),2)),"")}
D28: {=IFERROR(INDEX(Calc!$D$6:$D$20,SMALL(IF(($D$22>=Calc!$E$6:$E$20)*($D$22<=Calc!$H$6:$H$20)*(Calc!$M$6:$M$20<>"Cancelled"),ROW(Calc!$D$6:$D$20)-ROW(INDEX(Calc!$D$6:$D$20,1,1))+1),3)),"")} | G28: {=IFERROR(INDEX(Calc!$D$6:$D$20,SMALL(IF(($G$22>=Calc!$E$6:$E$20)*($G$22<=Calc!$H$6:$H$20)*(Calc!$M$6:$M$20<>"Cancelled"),ROW(Calc!$D$6:$D$20)-ROW(INDEX(Calc!$D$6:$D$20,1,1))+1),3)),"")} | J28: {=IFERROR(INDEX(Calc!$D$6:$D$20,SMALL(IF(($J$22>=Calc!$E$6:$E$20)*($J$22<=Calc!$H$6:$H$20)*(Calc!$M$6:$M$20<>"Cancelled"),ROW(Calc!$D$6:$D$20)-ROW(INDEX(Calc!$D$6:$D$20,1,1))+1),3)),"")} | M28: {=IFERROR(INDEX(Calc!$D$6:$D$20,SMALL(IF(($M$22>=Calc!$E$6:$E$20)*($M$22<=Calc!$H$6:$H$20)*(Calc!$M$6:$M$20<>"Cancelled"),ROW(Calc!$D$6:$D$20)-ROW(INDEX(Calc!$D$6:$D$20,1,1))+1),3)),"")} | P28: {=IFERROR(INDEX(Calc!$D$6:$D$20,SMALL(IF(($P$22>=Calc!$E$6:$E$20)*($P$22<=Calc!$H$6:$H$20)*(Calc!$M$6:$M$20<>"Cancelled"),ROW(Calc!$D$6:$D$20)-ROW(INDEX(Calc!$D$6:$D$20,1,1))+1),3)),"")} | S28: {=IFERROR(INDEX(Calc!$D$6:$D$20,SMALL(IF(($S$22>=Calc!$E$6:$E$20)*($S$22<=Calc!$H$6:$H$20)*(Calc!$M$6:$M$20<>"Cancelled"),ROW(Calc!$D$6:$D$20)-ROW(INDEX(Calc!$D$6:$D$20,1,1))+1),3)),"")} | V28: {=IFERROR(INDEX(Calc!$D$6:$D$20,SMALL(IF(($V$22>=Calc!$E$6:$E$20)*($V$22<=Calc!$H$6:$H$20)*(Calc!$M$6:$M$20<>"Cancelled"),ROW(Calc!$D$6:$D$20)-ROW(INDEX(Calc!$D$6:$D$20,1,1))+1),3)),"")}
D30: {=IFERROR(INDEX(Calc!$D$6:$D$20,SMALL(IF(($D$22>=Calc!$E$6:$E$20)*($D$22<=Calc!$H$6:$H$20)*(Calc!$M$6:$M$20<>"Cancelled"),ROW(Calc!$D$6:$D$20)-ROW(INDEX(Calc!$D$6:$D$20,1,1))+1),4)),"")} | G30: {=IFERROR(INDEX(Calc!$D$6:$D$20,SMALL(IF(($G$22>=Calc!$E$6:$E$20)*($G$22<=Calc!$H$6:$H$20)*(Calc!$M$6:$M$20<>"Cancelled"),ROW(Calc!$D$6:$D$20)-ROW(INDEX(Calc!$D$6:$D$20,1,1))+1),4)),"")} | J30: {=IFERROR(INDEX(Calc!$D$6:$D$20,SMALL(IF(($J$22>=Calc!$E$6:$E$20)*($J$22<=Calc!$H$6:$H$20)*(Calc!$M$6:$M$20<>"Cancelled"),ROW(Calc!$D$6:$D$20)-ROW(INDEX(Calc!$D$6:$D$20,1,1))+1),4)),"")} | M30: {=IFERROR(INDEX(Calc!$D$6:$D$20,SMALL(IF(($M$22>=Calc!$E$6:$E$20)*($M$22<=Calc!$H$6:$H$20)*(Calc!$M$6:$M$20<>"Cancelled"),ROW(Calc!$D$6:$D$20)-ROW(INDEX(Calc!$D$6:$D$20,1,1))+1),4)),"")} | P30: {=IFERROR(INDEX(Calc!$D$6:$D$20,SMALL(IF(($P$22>=Calc!$E$6:$E$20)*($P$22<=Calc!$H$6:$H$20)*(Calc!$M$6:$M$20<>"Cancelled"),ROW(Calc!$D$6:$D$20)-ROW(INDEX(Calc!$D$6:$D$20,1,1))+1),4)),"")} | S30: {=IFERROR(INDEX(Calc!$D$6:$D$20,SMALL(IF(($S$22>=Calc!$E$6:$E$20)*($S$22<=Calc!$H$6:$H$20)*(Calc!$M$6:$M$20<>"Cancelled"),ROW(Calc!$D$6:$D$20)-ROW(INDEX(Calc!$D$6:$D$20,1,1))+1),4)),"")} | V30: {=IFERROR(INDEX(Calc!$D$6:$D$20,SMALL(IF(($V$22>=Calc!$E$6:$E$20)*($V$22<=Calc!$H$6:$H$20)*(Calc!$M$6:$M$20<>"Cancelled"),ROW(Calc!$D$6:$D$20)-ROW(INDEX(Calc!$D$6:$D$20,1,1))+1),4)),"")}
D32: {=IFERROR(INDEX(Calc!$D$6:$D$20,SMALL(IF(($D$22>=Calc!$E$6:$E$20)*($D$22<=Calc!$H$6:$H$20)*(Calc!$M$6:$M$20<>"Cancelled"),ROW(Calc!$D$6:$D$20)-ROW(INDEX(Calc!$D$6:$D$20,1,1))+1),5)),"")} | G32: {=IFERROR(INDEX(Calc!$D$6:$D$20,SMALL(IF(($G$22>=Calc!$E$6:$E$20)*($G$22<=Calc!$H$6:$H$20)*(Calc!$M$6:$M$20<>"Cancelled"),ROW(Calc!$D$6:$D$20)-ROW(INDEX(Calc!$D$6:$D$20,1,1))+1),5)),"")} | J32: {=IFERROR(INDEX(Calc!$D$6:$D$20,SMALL(IF(($J$22>=Calc!$E$6:$E$20)*($J$22<=Calc!$H$6:$H$20)*(Calc!$M$6:$M$20<>"Cancelled"),ROW(Calc!$D$6:$D$20)-ROW(INDEX(Calc!$D$6:$D$20,1,1))+1),5)),"")} | M32: {=IFERROR(INDEX(Calc!$D$6:$D$20,SMALL(IF(($M$22>=Calc!$E$6:$E$20)*($M$22<=Calc!$H$6:$H$20)*(Calc!$M$6:$M$20<>"Cancelled"),ROW(Calc!$D$6:$D$20)-ROW(INDEX(Calc!$D$6:$D$20,1,1))+1),5)),"")} | P32: {=IFERROR(INDEX(Calc!$D$6:$D$20,SMALL(IF(($P$22>=Calc!$E$6:$E$20)*($P$22<=Calc!$H$6:$H$20)*(Calc!$M$6:$M$20<>"Cancelled"),ROW(Calc!$D$6:$D$20)-ROW(INDEX(Calc!$D$6:$D$20,1,1))+1),5)),"")} | S32: {=IFERROR(INDEX(Calc!$D$6:$D$20,SMALL(IF(($S$22>=Calc!$E$6:$E$20)*($S$22<=Calc!$H$6:$H$20)*(Calc!$M$6:$M$20<>"Cancelled"),ROW(Calc!$D$6:$D$20)-ROW(INDEX(Calc!$D$6:$D$20,1,1))+1),5)),"")} | V32: {=IFERROR(INDEX(Calc!$D$6:$D$20,SMALL(IF(($V$22>=Calc!$E$6:$E$20)*($V$22<=Calc!$H$6:$H$20)*(Calc!$M$6:$M$20<>"Cancelled"),ROW(Calc!$D$6:$D$20)-ROW(INDEX(Calc!$D$6:$D$20,1,1))+1),5)),"")}
D34: =IFERROR(IF(LEN(V22)=0,"",IF(MONTH(V22+1)=MONTH(V22),V22+1,"")),"") -> 44571 | G34: =IFERROR(IF(LEN(D34)=0,"",IF(MONTH(D34+1)=MONTH(D34),D34+1,"")),"") -> 44572 | J34: =IFERROR(IF(LEN(G34)=0,"",IF(MONTH(G34+1)=MONTH(G34),G34+1,"")),"") -> 44573 | M34: =IFERROR(IF(LEN(J34)=0,"",IF(MONTH(J34+1)=MONTH(J34),J34+1,"")),"") -> 44574 | P34: =IFERROR(IF(LEN(M34)=0,"",IF(MONTH(M34+1)=MONTH(M34),M34+1,"")),"") -> 44575 | S34: =IFERROR(IF(LEN(P34)=0,"",IF(MONTH(P34+1)=MONTH(P34),P34+1,"")),"") -> 44576 | V34: =IFERROR(IF(LEN(S34)=0,"",IF(MONTH(S34+1)=MONTH(S34),S34+1,"")),"") -> 44577
D36: {=IFERROR(INDEX(Calc!$D$6:$D$20,SMALL(IF(($D$34>=Calc!$E$6:$E$20)*($D$34<=Calc!$H$6:$H$20)*(Calc!$M$6:$M$20<>"Cancelled"),ROW(Calc!$D$6:$D$20)-ROW(INDEX(Calc!$D$6:$D$20,1,1))+1),1)),"")} -> MS Office | G36: {=IFERROR(INDEX(Calc!$D$6:$D$20,SMALL(IF(($G$34>=Calc!$E$6:$E$20)*($G$34<=Calc!$H$6:$H$20)*(Calc!$M$6:$M$20<>"Cancelled"),ROW(Calc!$D$6:$D$20)-ROW(INDEX(Calc!$D$6:$D$20,1,1))+1),1)),"")} -> MS Office | J36: {=IFERROR(INDEX(Calc!$D$6:$D$20,SMALL(IF(($J$34>=Calc!$E$6:$E$20)*($J$34<=Calc!$H$6:$H$20)*(Calc!$M$6:$M$20<>"Cancelled"),ROW(Calc!$D$6:$D$20)-ROW(INDEX(Calc!$D$6:$D$20,1,1))+1),1)),"")} -> MS Office | M36: {=IFERROR(INDEX(Calc!$D$6:$D$20,SMALL(IF(($M$34>=Calc!$E$6:$E$20)*($M$34<=Calc!$H$6:$H$20)*(Calc!$M$6:$M$20<>"Cancelled"),ROW(Calc!$D$6:$D$20)-ROW(INDEX(Calc!$D$6:$D$20,1,1))+1),1)),"")} -> MS Office | P36: {=IFERROR(INDEX(Calc!$D$6:$D$20,SMALL(IF(($P$34>=Calc!$E$6:$E$20)*($P$34<=Calc!$H$6:$H$20)*(Calc!$M$6:$M$20<>"Cancelled"),ROW(Calc!$D$6:$D$20)-ROW(INDEX(Calc!$D$6:$D$20,1,1))+1),1)),"")} -> MS Office | S36: {=IFERROR(INDEX(Calc!$D$6:$D$20,SMALL(IF(($S$34>=Calc!$E$6:$E$20)*($S$34<=Calc!$H$6:$H$20)*(Calc!$M$6:$M$20<>"Cancelled"),ROW(Calc!$D$6:$D$20)-ROW(INDEX(Calc!$D$6:$D$20,1,1))+1),1)),"")} -> AGILE Practices | V36: {=IFERROR(INDEX(Calc!$D$6:$D$20,SMALL(IF(($V$34>=Calc!$E$6:$E$20)*($V$34<=Calc!$H$6:$H$20)*(Calc!$M$6:$M$20<>"Cancelled"),ROW(Calc!$D$6:$D$20)-ROW(INDEX(Calc!$D$6:$D$20,1,1))+1),1)),"")} -> AGILE Practices
D38: {=IFERROR(INDEX(Calc!$D$6:$D$20,SMALL(IF(($D$34>=Calc!$E$6:$E$20)*($D$34<=Calc!$H$6:$H$20)*(Calc!$M$6:$M$20<>"Cancelled"),ROW(Calc!$D$6:$D$20)-ROW(INDEX(Calc!$D$6:$D$20,1,1))+1),2)),"")} | G38: {=IFERROR(INDEX(Calc!$D$6:$D$20,SMALL(IF(($G$34>=Calc!$E$6:$E$20)*($G$34<=Calc!$H$6:$H$20)*(Calc!$M$6:$M$20<>"Cancelled"),ROW(Calc!$D$6:$D$20)-ROW(INDEX(Calc!$D$6:$D$20,1,1))+1),2)),"")} | J38: {=IFERROR(INDEX(Calc!$D$6:$D$20,SMALL(IF(($J$34>=Calc!$E$6:$E$20)*($J$34<=Calc!$H$6:$H$20)*(Calc!$M$6:$M$20<>"Cancelled"),ROW(Calc!$D$6:$D$20)-ROW(INDEX(Calc!$D$6:$D$20,1,1))+1),2)),"")} | M38: {=IFERROR(INDEX(Calc!$D$6:$D$20,SMALL(IF(($M$34>=Calc!$E$6:$E$20)*($M$34<=Calc!$H$6:$H$20)*(Calc!$M$6:$M$20<>"Cancelled"),ROW(Calc!$D$6:$D$20)-ROW(INDEX(Calc!$D$6:$D$20,1,1))+1),2)),"")} | P38: {=IFERROR(INDEX(Calc!$D$6:$D$20,SMALL(IF(($P$34>=Calc!$E$6:$E$20)*($P$34<=Calc!$H$6:$H$20)*(Calc!$M$6:$M$20<>"Cancelled"),ROW(Calc!$D$6:$D$20)-ROW(INDEX(Calc!$D$6:$D$20,1,1))+1),2)),"")} | S38: {=IFERROR(INDEX(Calc!$D$6:$D$20,SMALL(IF(($S$34>=Calc!$E$6:$E$20)*($S$34<=Calc!$H$6:$H$20)*(Calc!$M$6:$M$20<>"Cancelled"),ROW(Calc!$D$6:$D$20)-ROW(INDEX(Calc!$D$6:$D$20,1,1))+1),2)),"")} -> MS Office | V38: {=IFERROR(INDEX(Calc!$D$6:$D$20,SMALL(IF(($V$34>=Calc!$E$6:$E$20)*($V$34<=Calc!$H$6:$H$20)*(Calc!$M$6:$M$20<>"Cancelled"),ROW(Calc!$D$6:$D$20)-ROW(INDEX(Calc!$D$6:$D$20,1,1))+1),2)),"")} -> MS Office
D40: {=IFERROR(INDEX(Calc!$D$6:$D$20,SMALL(IF(($D$34>=Calc!$E$6:$E$20)*($D$34<=Calc!$H$6:$H$20)*(Calc!$M$6:$M$20<>"Cancelled"),ROW(Calc!$D$6:$D$20)-ROW(INDEX(Calc!$D$6:$D$20,1,1))+1),3)),"")} | G40: {=IFERROR(INDEX(Calc!$D$6:$D$20,SMALL(IF(($G$34>=Calc!$E$6:$E$20)*($G$34<=Calc!$H$6:$H$20)*(Calc!$M$6:$M$20<>"Cancelled"),ROW(Calc!$D$6:$D$20)-ROW(INDEX(Calc!$D$6:$D$20,1,1))+1),3)),"")} | J40: {=IFERROR(INDEX(Calc!$D$6:$D$20,SMALL(IF(($J$34>=Calc!$E$6:$E$20)*($J$34<=Calc!$H$6:$H$20)*(Calc!$M$6:$M$20<>"Cancelled"),ROW(Calc!$D$6:$D$20)-ROW(INDEX(Calc!$D$6:$D$20,1,1))+1),3)),"")} | M40: {=IFERROR(INDEX(Calc!$D$6:$D$20,SMALL(IF(($M$34>=Calc!$E$6:$E$20)*($M$34<=Calc!$H$6:$H$20)*(Calc!$M$6:$M$20<>"Cancelled"),ROW(Calc!$D$6:$D$20)-ROW(INDEX(Calc!$D$6:$D$20,1,1))+1),3)),"")} | P40: {=IFERROR(INDEX(Calc!$D$6:$D$20,SMALL(IF(($P$34>=Calc!$E$6:$E$20)*($P$34<=Calc!$H$6:$H$20)*(Calc!$M$6:$M$20<>"Cancelled"),ROW(Calc!$D$6:$D$20)-ROW(INDEX(Calc!$D$6:$D$20,1,1))+1),3)),"")} | S40: {=IFERROR(INDEX(Calc!$D$6:$D$20,SMALL(IF(($S$34>=Calc!$E$6:$E$20)*($S$34<=Calc!$H$6:$H$20)*(Calc!$M$6:$M$20<>"Cancelled"),ROW(Calc!$D$6:$D$20)-ROW(INDEX(Calc!$D$6:$D$20,1,1))+1),3)),"")} | V40: {=IFERROR(INDEX(Calc!$D$6:$D$20,SMALL(IF(($V$34>=Calc!$E$6:$E$20)*($V$34<=Calc!$H$6:$H$20)*(Calc!$M$6:$M$20<>"Cancelled"),ROW(Calc!$D$6:$D$20)-ROW(INDEX(Calc!$D$6:$D$20,1,1))+1),3)),"")}
D42: {=IFERROR(INDEX(Calc!$D$6:$D$20,SMALL(IF(($D$34>=Calc!$E$6:$E$20)*($D$34<=Calc!$H$6:$H$20)*(Calc!$M$6:$M$20<>"Cancelled"),ROW(Calc!$D$6:$D$20)-ROW(INDEX(Calc!$D$6:$D$20,1,1))+1),4)),"")} | G42: {=IFERROR(INDEX(Calc!$D$6:$D$20,SMALL(IF(($G$34>=Calc!$E$6:$E$20)*($G$34<=Calc!$H$6:$H$20)*(Calc!$M$6:$M$20<>"Cancelled"),ROW(Calc!$D$6:$D$20)-ROW(INDEX(Calc!$D$6:$D$20,1,1))+1),4)),"")} | J42: {=IFERROR(INDEX(Calc!$D$6:$D$20,SMALL(IF(($J$34>=Calc!$E$6:$E$20)*($J$34<=Calc!$H$6:$H$20)*(Calc!$M$6:$M$20<>"Cancelled"),ROW(Calc!$D$6:$D$20)-ROW(INDEX(Calc!$D$6:$D$20,1,1))+1),4)),"")} | M42: {=IFERROR(INDEX(Calc!$D$6:$D$20,SMALL(IF(($M$34>=Calc!$E$6:$E$20)*($M$34<=Calc!$H$6:$H$20)*(Calc!$M$6:$M$20<>"Cancelled"),ROW(Calc!$D$6:$D$20)-ROW(INDEX(Calc!$D$6:$D$20,1,1))+1),4)),"")} | P42: {=IFERROR(INDEX(Calc!$D$6:$D$20,SMALL(IF(($P$34>=Calc!$E$6:$E$20)*($P$34<=Calc!$H$6:$H$20)*(Calc!$M$6:$M$20<>"Cancelled"),ROW(Calc!$D$6:$D$20)-ROW(INDEX(Calc!$D$6:$D$20,1,1))+1),4)),"")} | S42: {=IFERROR(INDEX(Calc!$D$6:$D$20,SMALL(IF(($S$34>=Calc!$E$6:$E$20)*($S$34<=Calc!$H$6:$H$20)*(Calc!$M$6:$M$20<>"Cancelled"),ROW(Calc!$D$6:$D$20)-ROW(INDEX(Calc!$D$6:$D$20,1,1))+1),4)),"")} | V42: {=IFERROR(INDEX(Calc!$D$6:$D$20,SMALL(IF(($V$34>=Calc!$E$6:$E$20)*($V$34<=Calc!$H$6:$H$20)*(Calc!$M$6:$M$20<>"Cancelled"),ROW(Calc!$D$6:$D$20)-ROW(INDEX(Calc!$D$6:$D$20,1,1))+1),4)),"")}
D44: {=IFERROR(INDEX(Calc!$D$6:$D$20,SMALL(IF(($D$34>=Calc!$E$6:$E$20)*($D$34<=Calc!$H$6:$H$20)*(Calc!$M$6:$M$20<>"Cancelled"),ROW(Calc!$D$6:$D$20)-ROW(INDEX(Calc!$D$6:$D$20,1,1))+1),5)),"")} | G44: {=IFERROR(INDEX(Calc!$D$6:$D$20,SMALL(IF(($G$34>=Calc!$E$6:$E$20)*($G$34<=Calc!$H$6:$H$20)*(Calc!$M$6:$M$20<>"Cancelled"),ROW(Calc!$D$6:$D$20)-ROW(INDEX(Calc!$D$6:$D$20,1,1))+1),5)),"")} | J44: {=IFERROR(INDEX(Calc!$D$6:$D$20,SMALL(IF(($J$34>=Calc!$E$6:$E$20)*($J$34<=Calc!$H$6:$H$20)*(Calc!$M$6:$M$20<>"Cancelled"),ROW(Calc!$D$6:$D$20)-ROW(INDEX(Calc!$D$6:$D$20,1,1))+1),5)),"")} | M44: {=IFERROR(INDEX(Calc!$D$6:$D$20,SMALL(IF(($M$34>=Calc!$E$6:$E$20)*($M$34<=Calc!$H$6:$H$20)*(Calc!$M$6:$M$20<>"Cancelled"),ROW(Calc!$D$6:$D$20)-ROW(INDEX(Calc!$D$6:$D$20,1,1))+1),5)),"")} | P44: {=IFERROR(INDEX(Calc!$D$6:$D$20,SMALL(IF(($P$34>=Calc!$E$6:$E$20)*($P$34<=Calc!$H$6:$H$20)*(Calc!$M$6:$M$20<>"Cancelled"),ROW(Calc!$D$6:$D$20)-ROW(INDEX(Calc!$D$6:$D$20,1,1))+1),5)),"")} | S44: {=IFERROR(INDEX(Calc!$D$6:$D$20,SMALL(IF(($S$34>=Calc!$E$6:$E$20)*($S$34<=Calc!$H$6:$H$20)*(Calc!$M$6:$M$20<>"Cancelled"),ROW(Calc!$D$6:$D$20)-ROW(INDEX(Calc!$D$6:$D$20,1,1))+1),5)),"")} | V44: {=IFERROR(INDEX(Calc!$D$6:$D$20,SMALL(IF(($V$34>=Calc!$E$6:$E$20)*($V$34<=Calc!$H$6:$H$20)*(Calc!$M$6:$M$20<>"Cancelled"),ROW(Calc!$D$6:$D$20)-ROW(INDEX(Calc!$D$6:$D$20,1,1))+1),5)),"")}
D46: =IFERROR(IF(LEN(V34)=0,"",IF(MONTH(V34+1)=MONTH(V34),V34+1,"")),"") -> 44578 | G46: =IFERROR(IF(LEN(D46)=0,"",IF(MONTH(D46+1)=MONTH(D46),D46+1,"")),"") -> 44579 | J46: =IFERROR(IF(LEN(G46)=0,"",IF(MONTH(G46+1)=MONTH(G46),G46+1,"")),"") -> 44580 | M46: =IFERROR(IF(LEN(J46)=0,"",IF(MONTH(J46+1)=MONTH(J46),J46+1,"")),"") -> 44581 | P46: =IFERROR(IF(LEN(M46)=0,"",IF(MONTH(M46+1)=MONTH(M46),M46+1,"")),"") -> 44582 | S46: =IFERROR(IF(LEN(P46)=0,"",IF(MONTH(P46+1)=MONTH(P46),P46+1,"")),"") -> 44583 | V46: =IFERROR(IF(LEN(S46)=0,"",IF(MONTH(S46+1)=MONTH(S46),S46+1,"")),"") -> 44584
D48: {=IFERROR(INDEX(Calc!$D$6:$D$20,SMALL(IF(($D$46>=Calc!$E$6:$E$20)*($D$46<=Calc!$H$6:$H$20)*(Calc!$M$6:$M$20<>"Cancelled"),ROW(Calc!$D$6:$D$20)-ROW(INDEX(Calc!$D$6:$D$20,1,1))+1),1)),"")} -> AGILE Practices | G48: {=IFERROR(INDEX(Calc!$D$6:$D$20,SMALL(IF(($G$46>=Calc!$E$6:$E$20)*($G$46<=Calc!$H$6:$H$20)*(Calc!$M$6:$M$20<>"Cancelled"),ROW(Calc!$D$6:$D$20)-ROW(INDEX(Calc!$D$6:$D$20,1,1))+1),1)),"")} -> AGILE Practices | J48: {=IFERROR(INDEX(Calc!$D$6:$D$20,SMALL(IF(($J$46>=Calc!$E$6:$E$20)*($J$46<=Calc!$H$6:$H$20)*(Calc!$M$6:$M$20<>"Cancelled"),ROW(Calc!$D$6:$D$20)-ROW(INDEX(Calc!$D$6:$D$20,1,1))+1),1)),"")} -> AGILE Practices | M48: {=IFERROR(INDEX(Calc!$D$6:$D$20,SMALL(IF(($M$46>=Calc!$E$6:$E$20)*($M$46<=Calc!$H$6:$H$20)*(Calc!$M$6:$M$20<>"Cancelled"),ROW(Calc!$D$6:$D$20)-ROW(INDEX(Calc!$D$6:$D$20,1,1))+1),1)),"")} -> AGILE Practices | P48: {=IFERROR(INDEX(Calc!$D$6:$D$20,SMALL(IF(($P$46>=Calc!$E$6:$E$20)*($P$46<=Calc!$H$6:$H$20)*(Calc!$M$6:$M$20<>"Cancelled"),ROW(Calc!$D$6:$D$20)-ROW(INDEX(Calc!$D$6:$D$20,1,1))+1),1)),"")} -> AGILE Practices | S48: {=IFERROR(INDEX(Calc!$D$6:$D$20,SMALL(IF(($S$46>=Calc!$E$6:$E$20)*($S$46<=Calc!$H$6:$H$20)*(Calc!$M$6:$M$20<>"Cancelled"),ROW(Calc!$D$6:$D$20)-ROW(INDEX(Calc!$D$6:$D$20,1,1))+1),1)),"")} -> AGILE Practices | V48: {=IFERROR(INDEX(Calc!$D$6:$D$20,SMALL(IF(($V$46>=Calc!$E$6:$E$20)*($V$46<=Calc!$H$6:$H$20)*(Calc!$M$6:$M$20<>"Cancelled"),ROW(Calc!$D$6:$D$20)-ROW(INDEX(Calc!$D$6:$D$20,1,1))+1),1)),"")} -> AGILE Practices
D50: {=IFERROR(INDEX(Calc!$D$6:$D$20,SMALL(IF(($D$46>=Calc!$E$6:$E$20)*($D$46<=Calc!$H$6:$H$20)*(Calc!$M$6:$M$20<>"Cancelled"),ROW(Calc!$D$6:$D$20)-ROW(INDEX(Calc!$D$6:$D$20,1,1))+1),2)),"")} -> MS Office | G50: {=IFERROR(INDEX(Calc!$D$6:$D$20,SMALL(IF(($G$46>=Calc!$E$6:$E$20)*($G$46<=Calc!$H$6:$H$20)*(Calc!$M$6:$M$20<>"Cancelled"),ROW(Calc!$D$6:$D$20)-ROW(INDEX(Calc!$D$6:$D$20,1,1))+1),2)),"")} -> MS Office | J50: {=IFERROR(INDEX(Calc!$D$6:$D$20,SMALL(IF(($J$46>=Calc!$E$6:$E$20)*($J$46<=Calc!$H$6:$H$20)*(Calc!$M$6:$M$20<>"Cancelled"),ROW(Calc!$D$6:$D$20)-ROW(INDEX(Calc!$D$6:$D$20,1,1))+1),2)),"")} -> MS Office | M50: {=IFERROR(INDEX(Calc!$D$6:$D$20,SMALL(IF(($M$46>=Calc!$E$6:$E$20)*($M$46<=Calc!$H$6:$H$20)*(Calc!$M$6:$M$20<>"Cancelled"),ROW(Calc!$D$6:$D$20)-ROW(INDEX(Calc!$D$6:$D$20,1,1))+1),2)),"")} -> MS Office | P50: {=IFERROR(INDEX(Calc!$D$6:$D$20,SMALL(IF(($P$46>=Calc!$E$6:$E$20)*($P$46<=Calc!$H$6:$H$20)*(Calc!$M$6:$M$20<>"Cancelled"),ROW(Calc!$D$6:$D$20)-ROW(INDEX(Calc!$D$6:$D$20,1,1))+1),2)),"")} | S50: {=IFERROR(INDEX(Calc!$D$6:$D$20,SMALL(IF(($S$46>=Calc!$E$6:$E$20)*($S$46<=Calc!$H$6:$H$20)*(Calc!$M$6:$M$20<>"Cancelled"),ROW(Calc!$D$6:$D$20)-ROW(INDEX(Calc!$D$6:$D$20,1,1))+1),2)),"")} | V50: {=IFERROR(INDEX(Calc!$D$6:$D$20,SMALL(IF(($V$46>=Calc!$E$6:$E$20)*($V$46<=Calc!$H$6:$H$20)*(Calc!$M$6:$M$20<>"Cancelled"),ROW(Calc!$D$6:$D$20)-ROW(INDEX(Calc!$D$6:$D$20,1,1))+1),2)),"")}
D52: {=IFERROR(INDEX(Calc!$D$6:$D$20,SMALL(IF(($D$46>=Calc!$E$6:$E$20)*($D$46<=Calc!$H$6:$H$20)*(Calc!$M$6:$M$20<>"Cancelled"),ROW(Calc!$D$6:$D$20)-ROW(INDEX(Calc!$D$6:$D$20,1,1))+1),3)),"")} | G52: {=IFERROR(INDEX(Calc!$D$6:$D$20,SMALL(IF(($G$46>=Calc!$E$6:$E$20)*($G$46<=Calc!$H$6:$H$20)*(Calc!$M$6:$M$20<>"Cancelled"),ROW(Calc!$D$6:$D$20)-ROW(INDEX(Calc!$D$6:$D$20,1,1))+1),3)),"")} | J52: {=IFERROR(INDEX(Calc!$D$6:$D$20,SMALL(IF(($J$46>=Calc!$E$6:$E$20)*($J$46<=Calc!$H$6:$H$20)*(Calc!$M$6:$M$20<>"Cancelled"),ROW(Calc!$D$6:$D$20)-ROW(INDEX(Calc!$D$6:$D$20,1,1))+1),3)),"")} | M52: {=IFERROR(INDEX(Calc!$D$6:$D$20,SMALL(IF(($M$46>=Calc!$E$6:$E$20)*($M$46<=Calc!$H$6:$H$20)*(Calc!$M$6:$M$20<>"Cancelled"),ROW(Calc!$D$6:$D$20)-ROW(INDEX(Calc!$D$6:$D$20,1,1))+1),3)),"")} | P52: {=IFERROR(INDEX(Calc!$D$6:$D$20,SMALL(IF(($P$46>=Calc!$E$6:$E$20)*($P$46<=Calc!$H$6:$H$20)*(Calc!$M$6:$M$20<>"Cancelled"),ROW(Calc!$D$6:$D$20)-ROW(INDEX(Calc!$D$6:$D$20,1,1))+1),3)),"")} | S52: {=IFERROR(INDEX(Calc!$D$6:$D$20,SMALL(IF(($S$46>=Calc!$E$6:$E$20)*($S$46<=Calc!$H$6:$H$20)*(Calc!$M$6:$M$20<>"Cancelled"),ROW(Calc!$D$6:$D$20)-ROW(INDEX(Calc!$D$6:$D$20,1,1))+1),3)),"")} | V52: {=IFERROR(INDEX(Calc!$D$6:$D$20,SMALL(IF(($V$46>=Calc!$E$6:$E$20)*($V$46<=Calc!$H$6:$H$20)*(Calc!$M$6:$M$20<>"Cancelled"),ROW(Calc!$D$6:$D$20)-ROW(INDEX(Calc!$D$6:$D$20,1,1))+1),3)),"")}
D54: {=IFERROR(INDEX(Calc!$D$6:$D$20,SMALL(IF(($D$46>=Calc!$E$6:$E$20)*($D$46<=Calc!$H$6:$H$20)*(Calc!$M$6:$M$20<>"Cancelled"),ROW(Calc!$D$6:$D$20)-ROW(INDEX(Calc!$D$6:$D$20,1,1))+1),4)),"")} | G54: {=IFERROR(INDEX(Calc!$D$6:$D$20,SMALL(IF(($G$46>=Calc!$E$6:$E$20)*($G$46<=Calc!$H$6:$H$20)*(Calc!$M$6:$M$20<>"Cancelled"),ROW(Calc!$D$6:$D$20)-ROW(INDEX(Calc!$D$6:$D$20,1,1))+1),4)),"")} | J54: {=IFERROR(INDEX(Calc!$D$6:$D$20,SMALL(IF(($J$46>=Calc!$E$6:$E$20)*($J$46<=Calc!$H$6:$H$20)*(Calc!$M$6:$M$20<>"Cancelled"),ROW(Calc!$D$6:$D$20)-ROW(INDEX(Calc!$D$6:$D$20,1,1))+1),4)),"")} | M54: {=IFERROR(INDEX(Calc!$D$6:$D$20,SMALL(IF(($M$46>=Calc!$E$6:$E$20)*($M$46<=Calc!$H$6:$H$20)*(Calc!$M$6:$M$20<>"Cancelled"),ROW(Calc!$D$6:$D$20)-ROW(INDEX(Calc!$D$6:$D$20,1,1))+1),4)),"")} | P54: {=IFERROR(INDEX(Calc!$D$6:$D$20,SMALL(IF(($P$46>=Calc!$E$6:$E$20)*($P$46<=Calc!$H$6:$H$20)*(Calc!$M$6:$M$20<>"Cancelled"),ROW(Calc!$D$6:$D$20)-ROW(INDEX(Calc!$D$6:$D$20,1,1))+1),4)),"")} | S54: {=IFERROR(INDEX(Calc!$D$6:$D$20,SMALL(IF(($S$46>=Calc!$E$6:$E$20)*($S$46<=Calc!$H$6:$H$20)*(Calc!$M$6:$M$20<>"Cancelled"),ROW(Calc!$D$6:$D$20)-ROW(INDEX(Calc!$D$6:$D$20,1,1))+1),4)),"")} | V54: {=IFERROR(INDEX(Calc!$D$6:$D$20,SMALL(IF(($V$46>=Calc!$E$6:$E$20)*($V$46<=Calc!$H$6:$H$20)*(Calc!$M$6:$M$20<>"Cancelled"),ROW(Calc!$D$6:$D$20)-ROW(INDEX(Calc!$D$6:$D$20,1,1))+1),4)),"")}
D56: {=IFERROR(INDEX(Calc!$D$6:$D$20,SMALL(IF(($D$46>=Calc!$E$6:$E$20)*($D$46<=Calc!$H$6:$H$20)*(Calc!$M$6:$M$20<>"Cancelled"),ROW(Calc!$D$6:$D$20)-ROW(INDEX(Calc!$D$6:$D$20,1,1))+1),5)),"")} | G56: {=IFERROR(INDEX(Calc!$D$6:$D$20,SMALL(IF(($G$46>=Calc!$E$6:$E$20)*($G$46<=Calc!$H$6:$H$20)*(Calc!$M$6:$M$20<>"Cancelled"),ROW(Calc!$D$6:$D$20)-ROW(INDEX(Calc!$D$6:$D$20,1,1))+1),5)),"")} | J56: {=IFERROR(INDEX(Calc!$D$6:$D$20,SMALL(IF(($J$46>=Calc!$E$6:$E$20)*($J$46<=Calc!$H$6:$H$20)*(Calc!$M$6:$M$20<>"Cancelled"),ROW(Calc!$D$6:$D$20)-ROW(INDEX(Calc!$D$6:$D$20,1,1))+1),5)),"")} | M56: {=IFERROR(INDEX(Calc!$D$6:$D$20,SMALL(IF(($M$46>=Calc!$E$6:$E$20)*($M$46<=Calc!$H$6:$H$20)*(Calc!$M$6:$M$20<>"Cancelled"),ROW(Calc!$D$6:$D$20)-ROW(INDEX(Calc!$D$6:$D$20,1,1))+1),5)),"")} | P56: {=IFERROR(INDEX(Calc!$D$6:$D$20,SMALL(IF(($P$46>=Calc!$E$6:$E$20)*($P$46<=Calc!$H$6:$H$20)*(Calc!$M$6:$M$20<>"Cancelled"),ROW(Calc!$D$6:$D$20)-ROW(INDEX(Calc!$D$6:$D$20,1,1))+1),5)),"")} | S56: {=IFERROR(INDEX(Calc!$D$6:$D$20,SMALL(IF(($S$46>=Calc!$E$6:$E$20)*($S$46<=Calc!$H$6:$H$20)*(Calc!$M$6:$M$20<>"Cancelled"),ROW(Calc!$D$6:$D$20)-ROW(INDEX(Calc!$D$6:$D$20,1,1))+1),5)),"")} | V56: {=IFERROR(INDEX(Calc!$D$6:$D$20,SMALL(IF(($V$46>=Calc!$E$6:$E$20)*($V$46<=Calc!$H$6:$H$20)*(Calc!$M$6:$M$20<>"Cancelled"),ROW(Calc!$D$6:$D$20)-ROW(INDEX(Calc!$D$6:$D$20,1,1))+1),5)),"")}
D58: =IFERROR(IF(LEN(V46)=0,"",IF(MONTH(V46+1)=MONTH(V46),V46+1,"")),"") -> 44585 | G58: =IFERROR(IF(LEN(D58)=0,"",IF(MONTH(D58+1)=MONTH(D58),D58+1,"")),"") -> 44586 | J58: =IFERROR(IF(LEN(G58)=0,"",IF(MONTH(G58+1)=MONTH(G58),G58+1,"")),"") -> 44587 | M58: =IFERROR(IF(LEN(J58)=0,"",IF(MONTH(J58+1)=MONTH(J58),J58+1,"")),"") -> 44588 | P58: =IFERROR(IF(LEN(M58)=0,"",IF(MONTH(M58+1)=MONTH(M58),M58+1,"")),"") -> 44589 | S58: =IFERROR(IF(LEN(P58)=0,"",IF(MONTH(P58+1)=MONTH(P58),P58+1,"")),"") -> 44590 | V58: =IFERROR(IF(LEN(S58)=0,"",IF(MONTH(S58+1)=MONTH(S58),S58+1,"")),"") -> 44591
D60: {=IFERROR(INDEX(Calc!$D$6:$D$20,SMALL(IF(($D$58>=Calc!$E$6:$E$20)*($D$58<=Calc!$H$6:$H$20)*(Calc!$M$6:$M$20<>"Cancelled"),ROW(Calc!$D$6:$D$20)-ROW(INDEX(Calc!$D$6:$D$20,1,1))+1),1)),"")} -> AGILE Practices | G60: {=IFERROR(INDEX(Calc!$D$6:$D$20,SMALL(IF(($G$58>=Calc!$E$6:$E$20)*($G$58<=Calc!$H$6:$H$20)*(Calc!$M$6:$M$20<>"Cancelled"),ROW(Calc!$D$6:$D$20)-ROW(INDEX(Calc!$D$6:$D$20,1,1))+1),1)),"")} -> AGILE Practices | J60: {=IFERROR(INDEX(Calc!$D$6:$D$20,SMALL(IF(($J$58>=Calc!$E$6:$E$20)*($J$58<=Calc!$H$6:$H$20)*(Calc!$M$6:$M$20<>"Cancelled"),ROW(Calc!$D$6:$D$20)-ROW(INDEX(Calc!$D$6:$D$20,1,1))+1),1)),"")} -> AGILE Practices | M60: {=IFERROR(INDEX(Calc!$D$6:$D$20,SMALL(IF(($M$58>=Calc!$E$6:$E$20)*($M$58<=Calc!$H$6:$H$20)*(Calc!$M$6:$M$20<>"Cancelled"),ROW(Calc!$D$6:$D$20)-ROW(INDEX(Calc!$D$6:$D$20,1,1))+1),1)),"")} -> AGILE Practices | P60: {=IFERROR(INDEX(Calc!$D$6:$D$20,SMALL(IF(($P$58>=Calc!$E$6:$E$20)*($P$58<=Calc!$H$6:$H$20)*(Calc!$M$6:$M$20<>"Cancelled"),ROW(Calc!$D$6:$D$20)-ROW(INDEX(Calc!$D$6:$D$20,1,1))+1),1)),"")} -> AGILE Practices | S60: {=IFERROR(INDEX(Calc!$D$6:$D$20,SMALL(IF(($S$58>=Calc!$E$6:$E$20)*($S$58<=Calc!$H$6:$H$20)*(Calc!$M$6:$M$20<>"Cancelled")*(Calc!$M$6:$M$20<>"Cancelled"),ROW(Calc!$D$6:$D$20)-ROW(INDEX(Calc!$D$6:$D$20,1,1))+1),1)),"")} -> AGILE Practices | V60: {=IFERROR(INDEX(Calc!$D$6:$D$20,SMALL(IF(($V$58>=Calc!$E$6:$E$20)*($V$58<=Calc!$H$6:$H$20)*(Calc!$M$6:$M$20<>"Cancelled"),ROW(Calc!$D$6:$D$20)-ROW(INDEX(Calc!$D$6:$D$20,1,1))+1),1)),"")} -> AGILE Practices
