Workbook
Name days_month: Calculations!$D$5
Name selected_month: Calculations!$C$5

Sheet Dashboard
B2: EMPLOYEE TIME TRACKER
B3: DASHBOARD
C6: YEAR | D6: 2022 | F6: =IFERROR(IF(LEN(Settings!$I7)>0,Settings!$I7,""),"") -> W | G6: =IFERROR(IF(LEN(Settings!$H7)>0,Settings!$H7,""),"") -> Work Shift | K6: =IFERROR(IF(LEN(Settings!$I8)>0,Settings!$I8,""),"") -> O | L6: =IFERROR(IF(LEN(Settings!$H8)>0,Settings!$H8,""),"") -> Overtime | P6: =IFERROR(IF(LEN(Settings!$I9)>0,Settings!$I9,""),"") -> WH | Q6: =IFERROR(IF(LEN(Settings!$H9)>0,Settings!$H9,""),"") -> Work in Holiday | U6: =IFERROR(IF(LEN(Settings!$I10)>0,Settings!$I10,""),"") -> H | V6: =IFERROR(IF(LEN(Settings!$H10)>0,Settings!$H10,""),"") -> Holiday | Z6: =IFERROR(IF(LEN(Settings!$I11)>0,Settings!$I11,""),"") -> S | AA6: =IFERROR(IF(LEN(Settings!$H11)>0,Settings!$H11,""),"") -> Sick | AE6: =IFERROR(IF(LEN(Settings!$I12)>0,Settings!$I12,""),"") -> V | AF6: =IFERROR(IF(LEN(Settings!$H12)>0,Settings!$H12,""),"") -> Vacation
C7: MONTH | D7: June | AK7: =$AL$9 -> Total Pay ($) | AL7: =SUM($AL$10:$AL$59) -> 9390
F8: {=IFERROR(INDEX(Calculations!$K$8:$AO$10,3,MATCH(Dashboard!F$9,Calculations!$K$8:$AO$8,0)),"")} -> Wed | G8: {=IFERROR(INDEX(Calculations!$K$8:$AO$10,3,MATCH(Dashboard!G$9,Calculations!$K$8:$AO$8,0)),"")} -> Thu | H8: {=IFERROR(INDEX(Calculations!$K$8:$AO$10,3,MATCH(Dashboard!H$9,Calculations!$K$8:$AO$8,0)),"")} -> Fri | I8: {=IFERROR(INDEX(Calculations!$K$8:$AO$10,3,MATCH(Dashboard!I$9,Calculations!$K$8:$AO$8,0)),"")} -> Sat | J8: {=IFERROR(INDEX(Calculations!$K$8:$AO$10,3,MATCH(Dashboard!J$9,Calculations!$K$8:$AO$8,0)),"")} -> Sun | K8: {=IFERROR(INDEX(Calculations!$K$8:$AO$10,3,MATCH(Dashboard!K$9,Calculations!$K$8:$AO$8,0)),"")} -> Mon | L8: {=IFERROR(INDEX(Calculations!$K$8:$AO$10,3,MATCH(Dashboard!L$9,Calculations!$K$8:$AO$8,0)),"")} -> Tue | M8: {=IFERROR(INDEX(Calculations!$K$8:$AO$10,3,MATCH(Dashboard!M$9,Calculations!$K$8:$AO$8,0)),"")} -> Wed | ... AJ8: {=IFERROR(INDEX(Calculations!$K$8:$AO$10,3,MATCH(Dashboard!AJ$9,Calculations!$K$8:$AO$8,0)),"")}
C9: Employee | D9: Job | E9: =Settings!F6 -> Daily Rate ($) | F9: 1 | G9: 2 | H9: 3 | I9: 4 | J9: 5 | K9: 6 | L9: 7 | M9: 8 | N9: 9 | O9: 10 | P9: 11 | Q9: 12 | R9: 13 | S9: 14 | T9: 15 | U9: 16 | V9: 17 | W9: 18 | X9: 19 | Y9: 20 | Z9: 21 | AA9: 22 | AB9: 23 | AC9: 24 | AD9: 25 | AE9: 26 | AF9: 27 | AG9: 28 | AH9: 29 | AI9: 30 | AJ9: 31 | AK9: Total Worked Days | AL9: Total Pay ($)
C10: Corby May | D10: Roofer | E10: =IFERROR(IF(OR(LEN($C10)>0,LEN($D10)>0),INDEX(Calculations!$BC$10:$BD$34,MATCH($D10,Calculations!$BC$10:$BC$34,0),2),""),"") -> 100 | G10: W | H10: W | I10: W | J10: W | K10: W | M10: WH | N10: W | O10: W | P10: H | Q10: W | R10: W | U10: W | V10: W | W10: H | X10: W | Y10: W | AB10: W | AC10: W | AD10: H | AE10: W | AF10: W | AI10: W | AJ10: W | AK10: =IFERROR(IF(OR(LEN($C10)>0,LEN($D10)>0),COUNTIFS($F10:$AJ10,Calculations!$BG$10,Calculations!$K$9:$AO$9,"YES"),""),"") -> 18 | AL10: =IFERROR(IF(OR(LEN($C10)>0,LEN($D10)>0),SUMIF(Calculations!$AT$8:$AY$8,"Y",Calculations!$AT10:$AZ10)*$E10,""),"") -> 2000
C11: Nicole Andres | D11: Plasterer | E11: =IFERROR(IF(OR(LEN($C11)>0,LEN($D11)>0),INDEX(Calculations!$BC$10:$BD$34,MATCH($D11,Calculations!$BC$10:$BC$34,0),2),""),"") -> 55 | G11: W | H11: W | I11: W | J11: W | K11: W | N11: W | O11: W | P11: H | Q11: W | R11: O | U11: W | V11: W | W11: WH | X11: W | Y11: W | AB11: W | AC11: W | AD11: WH | AE11: W | AF11: O | AI11: W | AJ11: O | AK11: =IFERROR(IF(OR(LEN($C11)>0,LEN($D11)>0),COUNTIFS($F11:$AJ11,Calculations!$BG$10,Calculations!$K$9:$AO$9,"YES"),""),"") -> 16 | AL11: =IFERROR(IF(OR(LEN($C11)>0,LEN($D11)>0),SUMIF(Calculations!$AT$8:$AY$8,"Y",Calculations!$AT11:$AZ11)*$E11,""),"") -> 1100
C12: Leonard Boccia | D12: Carpenter | E12: =IFERROR(IF(OR(LEN($C12)>0,LEN($D12)>0),INDEX(Calculations!$BC$10:$BD$34,MATCH($D12,Calculations!$BC$10:$BC$34,0),2),""),"") -> 100 | G12: W | H12: W | I12: W | J12: W | K12: O | N12: W | O12: W | P12: H | Q12: W | R12: W | U12: W | V12: W | W12: H | X12: W | Y12: W | AB12: W | AC12: W | AD12: H | AE12: W | AF12: W | AI12: W | AJ12: W | AK12: =IFERROR(IF(OR(LEN($C12)>0,LEN($D12)>0),COUNTIFS($F12:$AJ12,Calculations!$BG$10,Calculations!$K$9:$AO$9,"YES"),""),"") -> 17 | AL12: =IFERROR(IF(OR(LEN($C12)>0,LEN($D12)>0),SUMIF(Calculations!$AT$8:$AY$8,"Y",Calculations!$AT12:$AZ12)*$E12,""),"") -> 1700
C13: William Einstein | D13: Plumber | E13: =IFERROR(IF(OR(LEN($C13)>0,LEN($D13)>0),INDEX(Calculations!$BC$10:$BD$34,MATCH($D13,Calculations!$BC$10:$BC$34,0),2),""),"") -> 75 | G13: W | H13: W | I13: W | J13: W | K13: W | N13: V | O13: V | P13: H | Q13: V | R13: W | U13: W | V13: W | W13: H | X13: W | Y13: W | AB13: W | AC13: W | AD13: H | AE13: W | AF13: W | AI13: W | AJ13: W | AK13: =IFERROR(IF(OR(LEN($C13)>0,LEN($D13)>0),COUNTIFS($F13:$AJ13,Calculations!$BG$10,Calculations!$K$9:$AO$9,"YES"),""),"") -> 15 | AL13: =IFERROR(IF(OR(LEN($C13)>0,LEN($D13)>0),SUMIF(Calculations!$AT$8:$AY$8,"Y",Calculations!$AT13:$AZ13)*$E13,""),"") -> 1350
C14: Craig Pastolove | D14: Electrician | E14: =IFERROR(IF(OR(LEN($C14)>0,LEN($D14)>0),INDEX(Calculations!$BC$10:$BD$34,MATCH($D14,Calculations!$BC$10:$BC$34,0),2),""),"") -> 90 | G14: W | H14: W | I14: W | J14: W | K14: W | L14: WH | N14: W | O14: W | P14: H | Q14: W | R14: W | U14: W | V14: W | W14: H | X14: W | Y14: W | AB14: W | AC14: W | AD14: H | AE14: W | AF14: W | AI14: W | AJ14: W | AK14: =IFERROR(IF(OR(LEN($C14)>0,LEN($D14)>0),COUNTIFS($F14:$AJ14,Calculations!$BG$10,Calculations!$K$9:$AO$9,"YES"),""),"") -> 18 | AL14: =IFERROR(IF(OR(LEN($C14)>0,LEN($D14)>0),SUMIF(Calculations!$AT$8:$AY$8,"Y",Calculations!$AT14:$AZ14)*$E14,""),"") -> 1800
C15: Craig Pastolove | D15: Electrician | E15: =IFERROR(IF(OR(LEN($C15)>0,LEN($D15)>0),INDEX(Calculations!$BC$10:$BD$34,MATCH($D15,Calculations!$BC$10:$BC$34,0),2),""),"") -> 90 | G15: W | H15: W | I15: W | J15: W | K15: W | N15: W | O15: W | P15: H | Q15: W | R15: W | U15: W | V15: W | W15: H | X15: S | Y15: S | AB15: W | AC15: W | AD15: H | AE15: W | AF15: W | AI15: W | AJ15: W | AK15: =IFERROR(IF(OR(LEN($C15)>0,LEN($D15)>0),COUNTIFS($F15:$AJ15,Calculations!$BG$10,Calculations!$K$9:$AO$9,"YES"),""),"") -> 16 | AL15: =IFERROR(IF(OR(LEN($C15)>0,LEN($D15)>0),SUMIF(Calculations!$AT$8:$AY$8,"Y",Calculations!$AT15:$AZ15)*$E15,""),"") -> 1440
E16: =IFERROR(IF(OR(LEN($C16)>0,LEN($D16)>0),INDEX(Calculations!$BC$10:$BD$34,MATCH($D16,Calculations!$BC$10:$BC$34,0),2),""),"") | AK16: =IFERROR(IF(OR(LEN($C16)>0,LEN($D16)>0),COUNTIFS($F16:$AJ16,Calculations!$BG$10,Calculations!$K$9:$AO$9,"YES"),""),"") | AL16: =IFERROR(IF(OR(LEN($C16)>0,LEN($D16)>0),SUMIF(Calculations!$AT$8:$AY$8,"Y",Calculations!$AT16:$AZ16)*$E16,""),"")
E17: =IFERROR(IF(OR(LEN($C17)>0,LEN($D17)>0),INDEX(Calculations!$BC$10:$BD$34,MATCH($D17,Calculations!$BC$10:$BC$34,0),2),""),"") | AK17: =IFERROR(IF(OR(LEN($C17)>0,LEN($D17)>0),COUNTIFS($F17:$AJ17,Calculations!$BG$10,Calculations!$K$9:$AO$9,"YES"),""),"") | AL17: =IFERROR(IF(OR(LEN($C17)>0,LEN($D17)>0),SUMIF(Calculations!$AT$8:$AY$8,"Y",Calculations!$AT17:$AZ17)*$E17,""),"")
E18: =IFERROR(IF(OR(LEN($C18)>0,LEN($D18)>0),INDEX(Calculations!$BC$10:$BD$34,MATCH($D18,Calculations!$BC$10:$BC$34,0),2),""),"") | AK18: =IFERROR(IF(OR(LEN($C18)>0,LEN($D18)>0),COUNTIFS($F18:$AJ18,Calculations!$BG$10,Calculations!$K$9:$AO$9,"YES"),""),"") | AL18: =IFERROR(IF(OR(LEN($C18)>0,LEN($D18)>0),SUMIF(Calculations!$AT$8:$AY$8,"Y",Calculations!$AT18:$AZ18)*$E18,""),"")
E19: =IFERROR(IF(OR(LEN($C19)>0,LEN($D19)>0),INDEX(Calculations!$BC$10:$BD$34,MATCH($D19,Calculations!$BC$10:$BC$34,0),2),""),"") | AK19: =IFERROR(IF(OR(LEN($C19)>0,LEN($D19)>0),COUNTIFS($F19:$AJ19,Calculations!$BG$10,Calculations!$K$9:$AO$9,"YES"),""),"") | AL19: =IFERROR(IF(OR(LEN($C19)>0,LEN($D19)>0),SUMIF(Calculations!$AT$8:$AY$8,"Y",Calculations!$AT19:$AZ19)*$E19,""),"")
E20: =IFERROR(IF(OR(LEN($C20)>0,LEN($D20)>0),INDEX(Calculations!$BC$10:$BD$34,MATCH($D20,Calculations!$BC$10:$BC$34,0),2),""),"") | AK20: =IFERROR(IF(OR(LEN($C20)>0,LEN($D20)>0),COUNTIFS($F20:$AJ20,Calculations!$BG$10,Calculations!$K$9:$AO$9,"YES"),""),"") | AL20: =IFERROR(IF(OR(LEN($C20)>0,LEN($D20)>0),SUMIF(Calculations!$AT$8:$AY$8,"Y",Calculations!$AT20:$AZ20)*$E20,""),"")
E21: =IFERROR(IF(OR(LEN($C21)>0,LEN($D21)>0),INDEX(Calculations!$BC$10:$BD$34,MATCH($D21,Calculations!$BC$10:$BC$34,0),2),""),"") | AK21: =IFERROR(IF(OR(LEN($C21)>0,LEN($D21)>0),COUNTIFS($F21:$AJ21,Calculations!$BG$10,Calculations!$K$9:$AO$9,"YES"),""),"") | AL21: =IFERROR(IF(OR(LEN($C21)>0,LEN($D21)>0),SUMIF(Calculations!$AT$8:$AY$8,"Y",Calculations!$AT21:$AZ21)*$E21,""),"")
E22: =IFERROR(IF(OR(LEN($C22)>0,LEN($D22)>0),INDEX(Calculations!$BC$10:$BD$34,MATCH($D22,Calculations!$BC$10:$BC$34,0),2),""),"") | AK22: =IFERROR(IF(OR(LEN($C22)>0,LEN($D22)>0),COUNTIFS($F22:$AJ22,Calculations!$BG$10,Calculations!$K$9:$AO$9,"YES"),""),"") | AL22: =IFERROR(IF(OR(LEN($C22)>0,LEN($D22)>0),SUMIF(Calculations!$AT$8:$AY$8,"Y",Calculations!$AT22:$AZ22)*$E22,""),"")
E23: =IFERROR(IF(OR(LEN($C23)>0,LEN($D23)>0),INDEX(Calculations!$BC$10:$BD$34,MATCH($D23,Calculations!$BC$10:$BC$34,0),2),""),"") | AK23: =IFERROR(IF(OR(LEN($C23)>0,LEN($D23)>0),COUNTIFS($F23:$AJ23,Calculations!$BG$10,Calculations!$K$9:$AO$9,"YES"),""),"") | AL23: =IFERROR(IF(OR(LEN($C23)>0,LEN($D23)>0),SUMIF(Calculations!$AT$8:$AY$8,"Y",Calculations!$AT23:$AZ23)*$E23,""),"")
E24: =IFERROR(IF(OR(LEN($C24)>0,LEN($D24)>0),INDEX(Calculations!$BC$10:$BD$34,MATCH($D24,Calculations!$BC$10:$BC$34,0),2),""),"") | AK24: =IFERROR(IF(OR(LEN($C24)>0,LEN($D24)>0),COUNTIFS($F24:$AJ24,Calculations!$BG$10,Calculations!$K$9:$AO$9,"YES"),""),"") | AL24: =IFERROR(IF(OR(LEN($C24)>0,LEN($D24)>0),SUMIF(Calculations!$AT$8:$AY$8,"Y",Calculations!$AT24:$AZ24)*$E24,""),"")
E25: =IFERROR(IF(OR(LEN($C25)>0,LEN($D25)>0),INDEX(Calculations!$BC$10:$BD$34,MATCH($D25,Calculations!$BC$10:$BC$34,0),2),""),"") | AK25: =IFERROR(IF(OR(LEN($C25)>0,LEN($D25)>0),COUNTIFS($F25:$AJ25,Calculations!$BG$10,Calculations!$K$9:$AO$9,"YES"),""),"") | AL25: =IFERROR(IF(OR(LEN($C25)>0,LEN($D25)>0),SUMIF(Calculations!$AT$8:$AY$8,"Y",Calculations!$AT25:$AZ25)*$E25,""),"")
E26: =IFERROR(IF(OR(LEN($C26)>0,LEN($D26)>0),INDEX(Calculations!$BC$10:$BD$34,MATCH($D26,Calculations!$BC$10:$BC$34,0),2),""),"") | AK26: =IFERROR(IF(OR(LEN($C26)>0,LEN($D26)>0),COUNTIFS($F26:$AJ26,Calculations!$BG$10,Calculations!$K$9:$AO$9,"YES"),""),"") | AL26: =IFERROR(IF(OR(LEN($C26)>0,LEN($D26)>0),SUMIF(Calculations!$AT$8:$AY$8,"Y",Calculations!$AT26:$AZ26)*$E26,""),"")
E27: =IFERROR(IF(OR(LEN($C27)>0,LEN($D27)>0),INDEX(Calculations!$BC$10:$BD$34,MATCH($D27,Calculations!$BC$10:$BC$34,0),2),""),"") | AK27: =IFERROR(IF(OR(LEN($C27)>0,LEN($D27)>0),COUNTIFS($F27:$AJ27,Calculations!$BG$10,Calculations!$K$9:$AO$9,"YES"),""),"") | AL27: =IFERROR(IF(OR(LEN($C27)>0,LEN($D27)>0),SUMIF(Calculations!$AT$8:$AY$8,"Y",Calculations!$AT27:$AZ27)*$E27,""),"")
... E59: =IFERROR(IF(OR(LEN($C59)>0,LEN($D59)>0),INDEX(Calculations!$BC$10:$BD$34,MATCH($D59,Calculations!$BC$10:$BC$34,0),2),""),"") | AK59: =IFERROR(IF(OR(LEN($C59)>0,LEN($D59)>0),COUNTIFS($F59:$AJ59,Calculations!$BG$10,Calculations!$K$9:$AO$9,"YES"),""),"") | AL59: =IFERROR(IF(OR(LEN($C59)>0,LEN($D59)>0),SUMIF(Calculations!$AT$8:$AY$8,"Y",Calculations!$AT59:$AZ59)*$E59,""),"")

Sheet Settings
B2: EMPLOYEE TIME TRACKER
B3: SETTINGS
B6: Name | C6: Contact Info | E6: Job | F6: Daily Rate ($) | H6: Status | I6: Sign | J6: Payment | K6: Percentage
B7: Corby May | C7: 504-621-8927 | E7: Roofer | F7: 100 | H7: Work Shift | I7: W | J7: Yes | K7: 1
B8: Nicole Andres | C8: 810-292-9388 | E8: Plasterer | F8: 55 | H8: Overtime | I8: O | J8: No | K8: 0
B9: Leonard Boccia | C9: leonard@mail.com | E9: Carpenter | F9: 100 | H9: Work in Holiday | I9: WH | J9: Yes | K9: 2
B10: William Einstein | C10: 907-385-4412 | E10: Plumber | F10: 75 | H10: Holiday | I10: H | J10: No | K10: 0
B11: Craig Pastolove | C11: 513-570-1893 | E11: Electrician | F11: 90 | H11: Sick | I11: S | J11: No | K11: 0
B12: Geri Pell | C12: pell@mail.com | E12: Painter | F12: 60 | H12: Vacation | I12: V | J12: Yes | K12: 1
B13: Richard Salvino | C13: 773-573-6914
B14: Frank Sabia | C14: fsabia@mail.com
B15: Michael Bapis | C15: 605-414-2147
B16: Grant Rawdin | C16: grawdin@mail.com

Sheet Calculations
C4: Filter Month | D4: Filter Days | E4: Filter Year
C5: {=MATCH(Dashboard!$D$7,$E$9:$E$20,0)} -> 6 | D5: {=INDEX($C$9:$H$20,C5,6)} -> 30 | E5: {=Dashboard!$D$6} -> 2022
C8: Year List | D8: Month Code | E8: Month Name | F8: Start Date | G8: End Date | H8: Number of Days | J8: Days | K8: 1 | L8: 2 | M8: 3 | N8: 4 | O8: 5 | P8: 6 | Q8: 7 | R8: 8 | S8: 9 | T8: 10 | U8: 11 | V8: 12 | W8: 13 | X8: 14 | Y8: 15 | Z8: 16 | AA8: 17 | AB8: 18 | AC8: 19 | AD8: 20 | AE8: 21 | AF8: 22 | AG8: 23 | AH8: 24 | AI8: 25 | AJ8: 26 | AK8: 27 | AL8: 28 | AM8: 29 | AN8: 30 | AO8: 31 | AT8: =IFERROR(IF(Settings!$J$7="Yes","Y","N"),"") -> Y | AU8: =IFERROR(IF(Settings!$J$8="Yes","Y","N"),"") -> N | AV8: =IFERROR(IF(Settings!$J$9="Yes","Y","N"),"") -> Y | AW8: =IFERROR(IF(Settings!$J$10="Yes","Y","N"),"") -> N | AX8: =IFERROR(IF(Settings!$J$11="Yes","Y","N"),"") -> N | AY8: =IFERROR(IF(Settings!$J$12="Yes","Y","N"),"") -> Y
C9: 2020 | D9: 1 | E9: January | F9: {=DATE($E$5,D9,1)} -> 44562 | G9: {=EOMONTH(F9,0)} -> 44592 | H9: {=DAY(G9)} -> 31 | J9: Status | K9: =IF(Dashboard!F$9<=days_month,"YES","NE") -> YES | L9: =IF(Dashboard!G$9<=days_month,"YES","NE") -> YES | M9: =IF(Dashboard!H$9<=days_month,"YES","NE") -> YES | N9: =IF(Dashboard!I$9<=days_month,"YES","NE") -> YES | O9: =IF(Dashboard!J$9<=days_month,"YES","NE") -> YES | P9: =IF(Dashboard!K$9<=days_month,"YES","NE") -> YES | Q9: =IF(Dashboard!L$9<=days_month,"YES","NE") -> YES | R9: =IF(Dashboard!M$9<=days_month,"YES","NE") -> YES | ... AO9: =IF(Dashboard!AJ$9<=days_month,"YES","NE") -> NE | AT9: =Calculations!$BG$10 -> W | AU9: =Calculations!$BG$11 -> O | AV9: =Calculations!$BG$12 -> WH | AW9: =Calculations!$BG$13 -> H | AX9: =Calculations!$BG$14 -> S | AY9: =Calculations!$BG$15 -> V | BA9: Name | BC9: Job | BD9: Daily Rate ($) | BF9: Status | BG9: Sign
C10: 2021 | D10: 2 | E10: February | F10: {=DATE($E$5,D10,1)} -> 44593 | G10: {=EOMONTH(F10,0)} -> 44620 | H10: {=DAY(G10)} -> 28 | J10: Day Code | K10: {=IF(K$9="NE","",INDEX($K$12:$Q$13,2,MATCH(WEEKDAY(DATE($E$5,selected_month,K$8),2),$K$12:$Q$12,0)))} -> Wed | L10: {=IF(L$9="NE","",INDEX($K$12:$Q$13,2,MATCH(WEEKDAY(DATE($E$5,selected_month,L$8),2),$K$12:$Q$12,0)))} -> Thu | M10: {=IF(M$9="NE","",INDEX($K$12:$Q$13,2,MATCH(WEEKDAY(DATE($E$5,selected_month,M$8),2),$K$12:$Q$12,0)))} -> Fri | N10: {=IF(N$9="NE","",INDEX($K$12:$Q$13,2,MATCH(WEEKDAY(DATE($E$5,selected_month,N$8),2),$K$12:$Q$12,0)))} -> Sat | O10: {=IF(O$9="NE","",INDEX($K$12:$Q$13,2,MATCH(WEEKDAY(DATE($E$5,selected_month,O$8),2),$K$12:$Q$12,0)))} -> Sun | P10: {=IF(P$9="NE","",INDEX($K$12:$Q$13,2,MATCH(WEEKDAY(DATE($E$5,selected_month,P$8),2),$K$12:$Q$12,0)))} -> Mon | Q10: {=IF(Q$9="NE","",INDEX($K$12:$Q$13,2,MATCH(WEEKDAY(DATE($E$5,selected_month,Q$8),2),$K$12:$Q$12,0)))} -> Tue | R10: {=IF(R$9="NE","",INDEX($K$12:$Q$13,2,MATCH(WEEKDAY(DATE($E$5,selected_month,R$8),2),$K$12:$Q$12,0)))} -> Wed | ... AO10: {=IF(AO$9="NE","",INDEX($K$12:$Q$13,2,MATCH(WEEKDAY(DATE($E$5,selected_month,AO$8),2),$K$12:$Q$12,0)))} | AT10: =IFERROR(IF(LEN(Settings!$K$7)>0,COUNTIFS(Dashboard!$F10:$AJ10,$AT$9,$K$9:$AO$9,"YES")*Settings!$K$7,""),"0") -> 18 | AU10: =IFERROR(IF(LEN(Settings!$K$7)>0,COUNTIFS(Dashboard!$F10:$AJ10,$AU$9,$K$9:$AO$9,"YES")*Settings!$K$8,""),"0") -> 0 | AV10: =IFERROR(IF(LEN(Settings!$K$7)>0,COUNTIFS(Dashboard!$F10:$AJ10,$AV$9,$K$9:$AO$9,"YES")*Settings!$K$9,""),"0") -> 2 | AW10: =IFERROR(IF(LEN(Settings!$K$7)>0,COUNTIFS(Dashboard!$F10:$AJ10,$AW$9,$K$9:$AO$9,"YES")*Settings!$K$10,""),"0") -> 0 | AX10: =IFERROR(IF(LEN(Settings!$K$7)>0,COUNTIFS(Dashboard!$F10:$AJ10,$AX$9,$K$9:$AO$9,"YES")*Settings!$K$11,""),"0") -> 0 | AY10: =IFERROR(IF(LEN(Settings!$K$7)>0,COUNTIFS(Dashboard!$F10:$AJ10,$AY$9,$K$9:$AO$9,"YES")*Settings!$K$12,""),"0") -> 0 | BA10: =IFERROR(IF(LEN(Settings!$B7)>0,Settings!$B7,""),"") -> Corby May | BC10: =IFERROR(IF(LEN(Settings!$E7)>0,Settings!$E7,""),"") -> Roofer | BD10: =IFERROR(IF(LEN(Settings!$F7)>0,Settings!$F7,""),"") -> 100 | BF10: =IFERROR(IF(LEN(Settings!$H7)>0,Settings!$H7,""),"") -> Work Shift | BG10: =IFERROR(IF(LEN(Settings!$I7)>0,Settings!$I7,""),"") -> W
C11: 2022 | D11: 3 | E11: March | F11: {=DATE($E$5,D11,1)} -> 44621 | G11: {=EOMONTH(F11,0)} -> 44651 | H11: {=DAY(G11)} -> 31 | AT11: =IFERROR(IF(LEN(Settings!$K$7)>0,COUNTIFS(Dashboard!$F11:$AJ11,$AT$9,$K$9:$AO$9,"YES")*Settings!$K$7,""),"0") -> 16 | AU11: =IFERROR(IF(LEN(Settings!$K$7)>0,COUNTIFS(Dashboard!$F11:$AJ11,$AU$9,$K$9:$AO$9,"YES")*Settings!$K$8,""),"0") -> 0 | AV11: =IFERROR(IF(LEN(Settings!$K$7)>0,COUNTIFS(Dashboard!$F11:$AJ11,$AV$9,$K$9:$AO$9,"YES")*Settings!$K$9,""),"0") -> 4 | AW11: =IFERROR(IF(LEN(Settings!$K$7)>0,COUNTIFS(Dashboard!$F11:$AJ11,$AW$9,$K$9:$AO$9,"YES")*Settings!$K$10,""),"0") -> 0 | AX11: =IFERROR(IF(LEN(Settings!$K$7)>0,COUNTIFS(Dashboard!$F11:$AJ11,$AX$9,$K$9:$AO$9,"YES")*Settings!$K$11,""),"0") -> 0 | AY11: =IFERROR(IF(LEN(Settings!$K$7)>0,COUNTIFS(Dashboard!$F11:$AJ11,$AY$9,$K$9:$AO$9,"YES")*Settings!$K$12,""),"0") -> 0 | BA11: =IFERROR(IF(LEN(Settings!$B8)>0,Settings!$B8,""),"") -> Nicole Andres | BC11: =IFERROR(IF(LEN(Settings!$E8)>0,Settings!$E8,""),"") -> Plasterer | BD11: =IFERROR(IF(LEN(Settings!$F8)>0,Settings!$F8,""),"") -> 55 | BF11: =IFERROR(IF(LEN(Settings!$H8)>0,Settings!$H8,""),"") -> Overtime | BG11: =IFERROR(IF(LEN(Settings!$I8)>0,Settings!$I8,""),"") -> O
C12: 2023 | D12: 4 | E12: April | F12: {=DATE($E$5,D12,1)} -> 44652 | G12: {=EOMONTH(F12,0)} -> 44681 | H12: {=DAY(G12)} -> 30 | J12: Day List | K12: 1 | L12: 2 | M12: 3 | N12: 4 | O12: 5 | P12: 6 | Q12: 7 | AT12: =IFERROR(IF(LEN(Settings!$K$7)>0,COUNTIFS(Dashboard!$F12:$AJ12,$AT$9,$K$9:$AO$9,"YES")*Settings!$K$7,""),"0") -> 17 | AU12: =IFERROR(IF(LEN(Settings!$K$7)>0,COUNTIFS(Dashboard!$F12:$AJ12,$AU$9,$K$9:$AO$9,"YES")*Settings!$K$8,""),"0") -> 0 | AV12: =IFERROR(IF(LEN(Settings!$K$7)>0,COUNTIFS(Dashboard!$F12:$AJ12,$AV$9,$K$9:$AO$9,"YES")*Settings!$K$9,""),"0") -> 0 | AW12: =IFERROR(IF(LEN(Settings!$K$7)>0,COUNTIFS(Dashboard!$F12:$AJ12,$AW$9,$K$9:$AO$9,"YES")*Settings!$K$10,""),"0") -> 0 | AX12: =IFERROR(IF(LEN(Settings!$K$7)>0,COUNTIFS(Dashboard!$F12:$AJ12,$AX$9,$K$9:$AO$9,"YES")*Settings!$K$11,""),"0") -> 0 | AY12: =IFERROR(IF(LEN(Settings!$K$7)>0,COUNTIFS(Dashboard!$F12:$AJ12,$AY$9,$K$9:$AO$9,"YES")*Settings!$K$12,""),"0") -> 0 | BA12: =IFERROR(IF(LEN(Settings!$B9)>0,Settings!$B9,""),"") -> Leonard Boccia | BC12: =IFERROR(IF(LEN(Settings!$E9)>0,Settings!$E9,""),"") -> Carpenter | BD12: =IFERROR(IF(LEN(Settings!$F9)>0,Settings!$F9,""),"") -> 100 | BF12: =IFERROR(IF(LEN(Settings!$H9)>0,Settings!$H9,""),"") -> Work in Holiday | BG12: =IFERROR(IF(LEN(Settings!$I9)>0,Settings!$I9,""),"") -> WH
C13: 2024 | D13: 5 | E13: May | F13: {=DATE($E$5,D13,1)} -> 44682 | G13: {=EOMONTH(F13,0)} -> 44712 | H13: {=DAY(G13)} -> 31 | J13: Day Name | K13: Mon | L13: Tue | M13: Wed | N13: Thu | O13: Fri | P13: Sat | Q13: Sun | AT13: =IFERROR(IF(LEN(Settings!$K$7)>0,COUNTIFS(Dashboard!$F13:$AJ13,$AT$9,$K$9:$AO$9,"YES")*Settings!$K$7,""),"0") -> 15 | AU13: =IFERROR(IF(LEN(Settings!$K$7)>0,COUNTIFS(Dashboard!$F13:$AJ13,$AU$9,$K$9:$AO$9,"YES")*Settings!$K$8,""),"0") -> 0 | AV13: =IFERROR(IF(LEN(Settings!$K$7)>0,COUNTIFS(Dashboard!$F13:$AJ13,$AV$9,$K$9:$AO$9,"YES")*Settings!$K$9,""),"0") -> 0 | AW13: =IFERROR(IF(LEN(Settings!$K$7)>0,COUNTIFS(Dashboard!$F13:$AJ13,$AW$9,$K$9:$AO$9,"YES")*Settings!$K$10,""),"0") -> 0 | AX13: =IFERROR(IF(LEN(Settings!$K$7)>0,COUNTIFS(Dashboard!$F13:$AJ13,$AX$9,$K$9:$AO$9,"YES")*Settings!$K$11,""),"0") -> 0 | AY13: =IFERROR(IF(LEN(Settings!$K$7)>0,COUNTIFS(Dashboard!$F13:$AJ13,$AY$9,$K$9:$AO$9,"YES")*Settings!$K$12,""),"0") -> 3 | BA13: =IFERROR(IF(LEN(Settings!$B10)>0,Settings!$B10,""),"") -> William Einstein | BC13: =IFERROR(IF(LEN(Settings!$E10)>0,Settings!$E10,""),"") -> Plumber | BD13: =IFERROR(IF(LEN(Settings!$F10)>0,Settings!$F10,""),"") -> 75 | BF13: =IFERROR(IF(LEN(Settings!$H10)>0,Settings!$H10,""),"") -> Holiday | BG13: =IFERROR(IF(LEN(Settings!$I10)>0,Settings!$I10,""),"") -> H
C14: 2025 | D14: 6 | E14: June | F14: {=DATE($E$5,D14,1)} -> 44713 | G14: {=EOMONTH(F14,0)} -> 44742 | H14: {=DAY(G14)} -> 30 | AT14: =IFERROR(IF(LEN(Settings!$K$7)>0,COUNTIFS(Dashboard!$F14:$AJ14,$AT$9,$K$9:$AO$9,"YES")*Settings!$K$7,""),"0") -> 18 | AU14: =IFERROR(IF(LEN(Settings!$K$7)>0,COUNTIFS(Dashboard!$F14:$AJ14,$AU$9,$K$9:$AO$9,"YES")*Settings!$K$8,""),"0") -> 0 | AV14: =IFERROR(IF(LEN(Settings!$K$7)>0,COUNTIFS(Dashboard!$F14:$AJ14,$AV$9,$K$9:$AO$9,"YES")*Settings!$K$9,""),"0") -> 2 | AW14: =IFERROR(IF(LEN(Settings!$K$7)>0,COUNTIFS(Dashboard!$F14:$AJ14,$AW$9,$K$9:$AO$9,"YES")*Settings!$K$10,""),"0") -> 0 | AX14: =IFERROR(IF(LEN(Settings!$K$7)>0,COUNTIFS(Dashboard!$F14:$AJ14,$AX$9,$K$9:$AO$9,"YES")*Settings!$K$11,""),"0") -> 0 | AY14: =IFERROR(IF(LEN(Settings!$K$7)>0,COUNTIFS(Dashboard!$F14:$AJ14,$AY$9,$K$9:$AO$9,"YES")*Settings!$K$12,""),"0") -> 0 | BA14: =IFERROR(IF(LEN(Settings!$B11)>0,Settings!$B11,""),"") -> Craig Pastolove | BC14: =IFERROR(IF(LEN(Settings!$E11)>0,Settings!$E11,""),"") -> Electrician | BD14: =IFERROR(IF(LEN(Settings!$F11)>0,Settings!$F11,""),"") -> 90 | BF14: =IFERROR(IF(LEN(Settings!$H11)>0,Settings!$H11,""),"") -> Sick | BG14: =IFERROR(IF(LEN(Settings!$I11)>0,Settings!$I11,""),"") -> S
C15: 2026 | D15: 7 | E15: July | F15: {=DATE($E$5,D15,1)} -> 44743 | G15: {=EOMONTH(F15,0)} -> 44773 | H15: {=DAY(G15)} -> 31 | AT15: =IFERROR(IF(LEN(Settings!$K$7)>0,COUNTIFS(Dashboard!$F15:$AJ15,$AT$9,$K$9:$AO$9,"YES")*Settings!$K$7,""),"0") -> 16 | AU15: =IFERROR(IF(LEN(Settings!$K$7)>0,COUNTIFS(Dashboard!$F15:$AJ15,$AU$9,$K$9:$AO$9,"YES")*Settings!$K$8,""),"0") -> 0 | AV15: =IFERROR(IF(LEN(Settings!$K$7)>0,COUNTIFS(Dashboard!$F15:$AJ15,$AV$9,$K$9:$AO$9,"YES")*Settings!$K$9,""),"0") -> 0 | AW15: =IFERROR(IF(LEN(Settings!$K$7)>0,COUNTIFS(Dashboard!$F15:$AJ15,$AW$9,$K$9:$AO$9,"YES")*Settings!$K$10,""),"0") -> 0 | AX15: =IFERROR(IF(LEN(Settings!$K$7)>0,COUNTIFS(Dashboard!$F15:$AJ15,$AX$9,$K$9:$AO$9,"YES")*Settings!$K$11,""),"0") -> 0 | AY15: =IFERROR(IF(LEN(Settings!$K$7)>0,COUNTIFS(Dashboard!$F15:$AJ15,$AY$9,$K$9:$AO$9,"YES")*Settings!$K$12,""),"0") -> 0 | BA15: =IFERROR(IF(LEN(Settings!$B12)>0,Settings!$B12,""),"") -> Geri Pell | BC15: =IFERROR(IF(LEN(Settings!$E12)>0,Settings!$E12,""),"") -> Painter | BD15: =IFERROR(IF(LEN(Settings!$F12)>0,Settings!$F12,""),"") -> 60 | BF15: =IFERROR(IF(LEN(Settings!$H12)>0,Settings!$H12,""),"") -> Vacation | BG15: =IFERROR(IF(LEN(Settings!$I12)>0,Settings!$I12,""),"") -> V
C16: 2027 | D16: 8 | E16: August | F16: {=DATE($E$5,D16,1)} -> 44774 | G16: {=EOMONTH(F16,0)} -> 44804 | H16: {=DAY(G16)} -> 31 | AT16: =IFERROR(IF(LEN(Settings!$K$7)>0,COUNTIFS(Dashboard!$F16:$AJ16,$AT$9,$K$9:$AO$9,"YES")*Settings!$K$7,""),"0") -> 0 | AU16: =IFERROR(IF(LEN(Settings!$K$7)>0,COUNTIFS(Dashboard!$F16:$AJ16,$AU$9,$K$9:$AO$9,"YES")*Settings!$K$8,""),"0") -> 0 | AV16: =IFERROR(IF(LEN(Settings!$K$7)>0,COUNTIFS(Dashboard!$F16:$AJ16,$AV$9,$K$9:$AO$9,"YES")*Settings!$K$9,""),"0") -> 0 | AW16: =IFERROR(IF(LEN(Settings!$K$7)>0,COUNTIFS(Dashboard!$F16:$AJ16,$AW$9,$K$9:$AO$9,"YES")*Settings!$K$10,""),"0") -> 0 | AX16: =IFERROR(IF(LEN(Settings!$K$7)>0,COUNTIFS(Dashboard!$F16:$AJ16,$AX$9,$K$9:$AO$9,"YES")*Settings!$K$11,""),"0") -> 0 | AY16: =IFERROR(IF(LEN(Settings!$K$7)>0,COUNTIFS(Dashboard!$F16:$AJ16,$AY$9,$K$9:$AO$9,"YES")*Settings!$K$12,""),"0") -> 0 | BA16: =IFERROR(IF(LEN(Settings!$B13)>0,Settings!$B13,""),"") -> Richard Salvino | BC16: =IFERROR(IF(LEN(Settings!$E13)>0,Settings!$E13,""),"") | BD16: =IFERROR(IF(LEN(Settings!$F13)>0,Settings!$F13,""),"")
C17: 2028 | D17: 9 | E17: September | F17: {=DATE($E$5,D17,1)} -> 44805 | G17: {=EOMONTH(F17,0)} -> 44834 | H17: {=DAY(G17)} -> 30 | AT17: =IFERROR(IF(LEN(Settings!$K$7)>0,COUNTIFS(Dashboard!$F17:$AJ17,$AT$9,$K$9:$AO$9,"YES")*Settings!$K$7,""),"0") -> 0 | AU17: =IFERROR(IF(LEN(Settings!$K$7)>0,COUNTIFS(Dashboard!$F17:$AJ17,$AU$9,$K$9:$AO$9,"YES")*Settings!$K$8,""),"0") -> 0 | AV17: =IFERROR(IF(LEN(Settings!$K$7)>0,COUNTIFS(Dashboard!$F17:$AJ17,$AV$9,$K$9:$AO$9,"YES")*Settings!$K$9,""),"0") -> 0 | AW17: =IFERROR(IF(LEN(Settings!$K$7)>0,COUNTIFS(Dashboard!$F17:$AJ17,$AW$9,$K$9:$AO$9,"YES")*Settings!$K$10,""),"0") -> 0 | AX17: =IFERROR(IF(LEN(Settings!$K$7)>0,COUNTIFS(Dashboard!$F17:$AJ17,$AX$9,$K$9:$AO$9,"YES")*Settings!$K$11,""),"0") -> 0 | AY17: =IFERROR(IF(LEN(Settings!$K$7)>0,COUNTIFS(Dashboard!$F17:$AJ17,$AY$9,$K$9:$AO$9,"YES")*Settings!$K$12,""),"0") -> 0 | BA17: =IFERROR(IF(LEN(Settings!$B14)>0,Settings!$B14,""),"") -> Frank Sabia | BC17: =IFERROR(IF(LEN(Settings!$E14)>0,Settings!$E14,""),"") | BD17: =IFERROR(IF(LEN(Settings!$F14)>0,Settings!$F14,""),"")
C18: 2029 | D18: 10 | E18: October | F18: {=DATE($E$5,D18,1)} -> 44835 | G18: {=EOMONTH(F18,0)} -> 44865 | H18: {=DAY(G18)} -> 31 | AT18: =IFERROR(IF(LEN(Settings!$K$7)>0,COUNTIFS(Dashboard!$F18:$AJ18,$AT$9,$K$9:$AO$9,"YES")*Settings!$K$7,""),"0") -> 0 | AU18: =IFERROR(IF(LEN(Settings!$K$7)>0,COUNTIFS(Dashboard!$F18:$AJ18,$AU$9,$K$9:$AO$9,"YES")*Settings!$K$8,""),"0") -> 0 | AV18: =IFERROR(IF(LEN(Settings!$K$7)>0,COUNTIFS(Dashboard!$F18:$AJ18,$AV$9,$K$9:$AO$9,"YES")*Settings!$K$9,""),"0") -> 0 | AW18: =IFERROR(IF(LEN(Settings!$K$7)>0,COUNTIFS(Dashboard!$F18:$AJ18,$AW$9,$K$9:$AO$9,"YES")*Settings!$K$10,""),"0") -> 0 | AX18: =IFERROR(IF(LEN(Settings!$K$7)>0,COUNTIFS(Dashboard!$F18:$AJ18,$AX$9,$K$9:$AO$9,"YES")*Settings!$K$11,""),"0") -> 0 | AY18: =IFERROR(IF(LEN(Settings!$K$7)>0,COUNTIFS(Dashboard!$F18:$AJ18,$AY$9,$K$9:$AO$9,"YES")*Settings!$K$12,""),"0") -> 0 | BA18: =IFERROR(IF(LEN(Settings!$B15)>0,Settings!$B15,""),"") -> Michael Bapis | BC18: =IFERROR(IF(LEN(Settings!$E15)>0,Settings!$E15,""),"") | BD18: =IFERROR(IF(LEN(Settings!$F15)>0,Settings!$F15,""),"")
C19: 2030 | D19: 11 | E19: November | F19: {=DATE($E$5,D19,1)} -> 44866 | G19: {=EOMONTH(F19,0)} -> 44895 | H19: {=DAY(G19)} -> 30 | AT19: =IFERROR(IF(LEN(Settings!$K$7)>0,COUNTIFS(Dashboard!$F19:$AJ19,$AT$9,$K$9:$AO$9,"YES")*Settings!$K$7,""),"0") -> 0 | AU19: =IFERROR(IF(LEN(Settings!$K$7)>0,COUNTIFS(Dashboard!$F19:$AJ19,$AU$9,$K$9:$AO$9,"YES")*Settings!$K$8,""),"0") -> 0 | AV19: =IFERROR(IF(LEN(Settings!$K$7)>0,COUNTIFS(Dashboard!$F19:$AJ19,$AV$9,$K$9:$AO$9,"YES")*Settings!$K$9,""),"0") -> 0 | AW19: =IFERROR(IF(LEN(Settings!$K$7)>0,COUNTIFS(Dashboard!$F19:$AJ19,$AW$9,$K$9:$AO$9,"YES")*Settings!$K$10,""),"0") -> 0 | AX19: =IFERROR(IF(LEN(Settings!$K$7)>0,COUNTIFS(Dashboard!$F19:$AJ19,$AX$9,$K$9:$AO$9,"YES")*Settings!$K$11,""),"0") -> 0 | AY19: =IFERROR(IF(LEN(Settings!$K$7)>0,COUNTIFS(Dashboard!$F19:$AJ19,$AY$9,$K$9:$AO$9,"YES")*Settings!$K$12,""),"0") -> 0 | BA19: =IFERROR(IF(LEN(Settings!$B16)>0,Settings!$B16,""),"") -> Grant Rawdin | BC19: =IFERROR(IF(LEN(Settings!$E16)>0,Settings!$E16,""),"") | BD19: =IFERROR(IF(LEN(Settings!$F16)>0,Settings!$F16,""),"")
C20: 2031 | D20: 12 | E20: December | F20: {=DATE($E$5,D20,1)} -> 44896 | G20: {=EOMONTH(F20,0)} -> 44926 | H20: {=DAY(G20)} -> 31 | AT20: =IFERROR(IF(LEN(Settings!$K$7)>0,COUNTIFS(Dashboard!$F20:$AJ20,$AT$9,$K$9:$AO$9,"YES")*Settings!$K$7,""),"0") -> 0 | AU20: =IFERROR(IF(LEN(Settings!$K$7)>0,COUNTIFS(Dashboard!$F20:$AJ20,$AU$9,$K$9:$AO$9,"YES")*Settings!$K$8,""),"0") -> 0 | AV20: =IFERROR(IF(LEN(Settings!$K$7)>0,COUNTIFS(Dashboard!$F20:$AJ20,$AV$9,$K$9:$AO$9,"YES")*Settings!$K$9,""),"0") -> 0 | AW20: =IFERROR(IF(LEN(Settings!$K$7)>0,COUNTIFS(Dashboard!$F20:$AJ20,$AW$9,$K$9:$AO$9,"YES")*Settings!$K$10,""),"0") -> 0 | AX20: =IFERROR(IF(LEN(Settings!$K$7)>0,COUNTIFS(Dashboard!$F20:$AJ20,$AX$9,$K$9:$AO$9,"YES")*Settings!$K$11,""),"0") -> 0 | AY20: =IFERROR(IF(LEN(Settings!$K$7)>0,COUNTIFS(Dashboard!$F20:$AJ20,$AY$9,$K$9:$AO$9,"YES")*Settings!$K$12,""),"0") -> 0 | BA20: =IFERROR(IF(LEN(Settings!$B17)>0,Settings!$B17,""),"") | BC20: =IFERROR(IF(LEN(Settings!$E17)>0,Settings!$E17,""),"") | BD20: =IFERROR(IF(LEN(Settings!$F17)>0,Settings!$F17,""),"")
AT21: =IFERROR(IF(LEN(Settings!$K$7)>0,COUNTIFS(Dashboard!$F21:$AJ21,$AT$9,$K$9:$AO$9,"YES")*Settings!$K$7,""),"0") -> 0 | AU21: =IFERROR(IF(LEN(Settings!$K$7)>0,COUNTIFS(Dashboard!$F21:$AJ21,$AU$9,$K$9:$AO$9,"YES")*Settings!$K$8,""),"0") -> 0 | AV21: =IFERROR(IF(LEN(Settings!$K$7)>0,COUNTIFS(Dashboard!$F21:$AJ21,$AV$9,$K$9:$AO$9,"YES")*Settings!$K$9,""),"0") -> 0 | AW21: =IFERROR(IF(LEN(Settings!$K$7)>0,COUNTIFS(Dashboard!$F21:$AJ21,$AW$9,$K$9:$AO$9,"YES")*Settings!$K$10,""),"0") -> 0 | AX21: =IFERROR(IF(LEN(Settings!$K$7)>0,COUNTIFS(Dashboard!$F21:$AJ21,$AX$9,$K$9:$AO$9,"YES")*Settings!$K$11,""),"0") -> 0 | AY21: =IFERROR(IF(LEN(Settings!$K$7)>0,COUNTIFS(Dashboard!$F21:$AJ21,$AY$9,$K$9:$AO$9,"YES")*Settings!$K$12,""),"0") -> 0 | BA21: =IFERROR(IF(LEN(Settings!$B18)>0,Settings!$B18,""),"") | BC21: =IFERROR(IF(LEN(Settings!$E18)>0,Settings!$E18,""),"") | BD21: =IFERROR(IF(LEN(Settings!$F18)>0,Settings!$F18,""),"")
AT22: =IFERROR(IF(LEN(Settings!$K$7)>0,COUNTIFS(Dashboard!$F22:$AJ22,$AT$9,$K$9:$AO$9,"YES")*Settings!$K$7,""),"0") -> 0 | AU22: =IFERROR(IF(LEN(Settings!$K$7)>0,COUNTIFS(Dashboard!$F22:$AJ22,$AU$9,$K$9:$AO$9,"YES")*Settings!$K$8,""),"0") -> 0 | AV22: =IFERROR(IF(LEN(Settings!$K$7)>0,COUNTIFS(Dashboard!$F22:$AJ22,$AV$9,$K$9:$AO$9,"YES")*Settings!$K$9,""),"0") -> 0 | AW22: =IFERROR(IF(LEN(Settings!$K$7)>0,COUNTIFS(Dashboard!$F22:$AJ22,$AW$9,$K$9:$AO$9,"YES")*Settings!$K$10,""),"0") -> 0 | AX22: =IFERROR(IF(LEN(Settings!$K$7)>0,COUNTIFS(Dashboard!$F22:$AJ22,$AX$9,$K$9:$AO$9,"YES")*Settings!$K$11,""),"0") -> 0 | AY22: =IFERROR(IF(LEN(Settings!$K$7)>0,COUNTIFS(Dashboard!$F22:$AJ22,$AY$9,$K$9:$AO$9,"YES")*Settings!$K$12,""),"0") -> 0 | BA22: =IFERROR(IF(LEN(Settings!$B19)>0,Settings!$B19,""),"") | BC22: =IFERROR(IF(LEN(Settings!$E19)>0,Settings!$E19,""),"") | BD22: =IFERROR(IF(LEN(Settings!$F19)>0,Settings!$F19,""),"")
AT23: =IFERROR(IF(LEN(Settings!$K$7)>0,COUNTIFS(Dashboard!$F23:$AJ23,$AT$9,$K$9:$AO$9,"YES")*Settings!$K$7,""),"0") -> 0 | AU23: =IFERROR(IF(LEN(Settings!$K$7)>0,COUNTIFS(Dashboard!$F23:$AJ23,$AU$9,$K$9:$AO$9,"YES")*Settings!$K$8,""),"0") -> 0 | AV23: =IFERROR(IF(LEN(Settings!$K$7)>0,COUNTIFS(Dashboard!$F23:$AJ23,$AV$9,$K$9:$AO$9,"YES")*Settings!$K$9,""),"0") -> 0 | AW23: =IFERROR(IF(LEN(Settings!$K$7)>0,COUNTIFS(Dashboard!$F23:$AJ23,$AW$9,$K$9:$AO$9,"YES")*Settings!$K$10,""),"0") -> 0 | AX23: =IFERROR(IF(LEN(Settings!$K$7)>0,COUNTIFS(Dashboard!$F23:$AJ23,$AX$9,$K$9:$AO$9,"YES")*Settings!$K$11,""),"0") -> 0 | AY23: =IFERROR(IF(LEN(Settings!$K$7)>0,COUNTIFS(Dashboard!$F23:$AJ23,$AY$9,$K$9:$AO$9,"YES")*Settings!$K$12,""),"0") -> 0 | BA23: =IFERROR(IF(LEN(Settings!$B20)>0,Settings!$B20,""),"") | BC23: =IFERROR(IF(LEN(Settings!$E20)>0,Settings!$E20,""),"") | BD23: =IFERROR(IF(LEN(Settings!$F20)>0,Settings!$F20,""),"")
AT24: =IFERROR(IF(LEN(Settings!$K$7)>0,COUNTIFS(Dashboard!$F24:$AJ24,$AT$9,$K$9:$AO$9,"YES")*Settings!$K$7,""),"0") -> 0 | AU24: =IFERROR(IF(LEN(Settings!$K$7)>0,COUNTIFS(Dashboard!$F24:$AJ24,$AU$9,$K$9:$AO$9,"YES")*Settings!$K$8,""),"0") -> 0 | AV24: =IFERROR(IF(LEN(Settings!$K$7)>0,COUNTIFS(Dashboard!$F24:$AJ24,$AV$9,$K$9:$AO$9,"YES")*Settings!$K$9,""),"0") -> 0 | AW24: =IFERROR(IF(LEN(Settings!$K$7)>0,COUNTIFS(Dashboard!$F24:$AJ24,$AW$9,$K$9:$AO$9,"YES")*Settings!$K$10,""),"0") -> 0 | AX24: =IFERROR(IF(LEN(Settings!$K$7)>0,COUNTIFS(Dashboard!$F24:$AJ24,$AX$9,$K$9:$AO$9,"YES")*Settings!$K$11,""),"0") -> 0 | AY24: =IFERROR(IF(LEN(Settings!$K$7)>0,COUNTIFS(Dashboard!$F24:$AJ24,$AY$9,$K$9:$AO$9,"YES")*Settings!$K$12,""),"0") -> 0 | BA24: =IFERROR(IF(LEN(Settings!$B21)>0,Settings!$B21,""),"") | BC24: =IFERROR(IF(LEN(Settings!$E21)>0,Settings!$E21,""),"") | BD24: =IFERROR(IF(LEN(Settings!$F21)>0,Settings!$F21,""),"")
AT25: =IFERROR(IF(LEN(Settings!$K$7)>0,COUNTIFS(Dashboard!$F25:$AJ25,$AT$9,$K$9:$AO$9,"YES")*Settings!$K$7,""),"0") -> 0 | AU25: =IFERROR(IF(LEN(Settings!$K$7)>0,COUNTIFS(Dashboard!$F25:$AJ25,$AU$9,$K$9:$AO$9,"YES")*Settings!$K$8,""),"0") -> 0 | AV25: =IFERROR(IF(LEN(Settings!$K$7)>0,COUNTIFS(Dashboard!$F25:$AJ25,$AV$9,$K$9:$AO$9,"YES")*Settings!$K$9,""),"0") -> 0 | AW25: =IFERROR(IF(LEN(Settings!$K$7)>0,COUNTIFS(Dashboard!$F25:$AJ25,$AW$9,$K$9:$AO$9,"YES")*Settings!$K$10,""),"0") -> 0 | AX25: =IFERROR(IF(LEN(Settings!$K$7)>0,COUNTIFS(Dashboard!$F25:$AJ25,$AX$9,$K$9:$AO$9,"YES")*Settings!$K$11,""),"0") -> 0 | AY25: =IFERROR(IF(LEN(Settings!$K$7)>0,COUNTIFS(Dashboard!$F25:$AJ25,$AY$9,$K$9:$AO$9,"YES")*Settings!$K$12,""),"0") -> 0 | BA25: =IFERROR(IF(LEN(Settings!$B22)>0,Settings!$B22,""),"") | BC25: =IFERROR(IF(LEN(Settings!$E22)>0,Settings!$E22,""),"") | BD25: =IFERROR(IF(LEN(Settings!$F22)>0,Settings!$F22,""),"")
AT26: =IFERROR(IF(LEN(Settings!$K$7)>0,COUNTIFS(Dashboard!$F26:$AJ26,$AT$9,$K$9:$AO$9,"YES")*Settings!$K$7,""),"0") -> 0 | AU26: =IFERROR(IF(LEN(Settings!$K$7)>0,COUNTIFS(Dashboard!$F26:$AJ26,$AU$9,$K$9:$AO$9,"YES")*Settings!$K$8,""),"0") -> 0 | AV26: =IFERROR(IF(LEN(Settings!$K$7)>0,COUNTIFS(Dashboard!$F26:$AJ26,$AV$9,$K$9:$AO$9,"YES")*Settings!$K$9,""),"0") -> 0 | AW26: =IFERROR(IF(LEN(Settings!$K$7)>0,COUNTIFS(Dashboard!$F26:$AJ26,$AW$9,$K$9:$AO$9,"YES")*Settings!$K$10,""),"0") -> 0 | AX26: =IFERROR(IF(LEN(Settings!$K$7)>0,COUNTIFS(Dashboard!$F26:$AJ26,$AX$9,$K$9:$AO$9,"YES")*Settings!$K$11,""),"0") -> 0 | AY26: =IFERROR(IF(LEN(Settings!$K$7)>0,COUNTIFS(Dashboard!$F26:$AJ26,$AY$9,$K$9:$AO$9,"YES")*Settings!$K$12,""),"0") -> 0 | BA26: =IFERROR(IF(LEN(Settings!$B23)>0,Settings!$B23,""),"") | BC26: =IFERROR(IF(LEN(Settings!$E23)>0,Settings!$E23,""),"") | BD26: =IFERROR(IF(LEN(Settings!$F23)>0,Settings!$F23,""),"")
AT27: =IFERROR(IF(LEN(Settings!$K$7)>0,COUNTIFS(Dashboard!$F27:$AJ27,$AT$9,$K$9:$AO$9,"YES")*Settings!$K$7,""),"0") -> 0 | AU27: =IFERROR(IF(LEN(Settings!$K$7)>0,COUNTIFS(Dashboard!$F27:$AJ27,$AU$9,$K$9:$AO$9,"YES")*Settings!$K$8,""),"0") -> 0 | AV27: =IFERROR(IF(LEN(Settings!$K$7)>0,COUNTIFS(Dashboard!$F27:$AJ27,$AV$9,$K$9:$AO$9,"YES")*Settings!$K$9,""),"0") -> 0 | AW27: =IFERROR(IF(LEN(Settings!$K$7)>0,COUNTIFS(Dashboard!$F27:$AJ27,$AW$9,$K$9:$AO$9,"YES")*Settings!$K$10,""),"0") -> 0 | AX27: =IFERROR(IF(LEN(Settings!$K$7)>0,COUNTIFS(Dashboard!$F27:$AJ27,$AX$9,$K$9:$AO$9,"YES")*Settings!$K$11,""),"0") -> 0 | AY27: =IFERROR(IF(LEN(Settings!$K$7)>0,COUNTIFS(Dashboard!$F27:$AJ27,$AY$9,$K$9:$AO$9,"YES")*Settings!$K$12,""),"0") -> 0 | BA27: =IFERROR(IF(LEN(Settings!$B24)>0,Settings!$B24,""),"") | BC27: =IFERROR(IF(LEN(Settings!$E24)>0,Settings!$E24,""),"") | BD27: =IFERROR(IF(LEN(Settings!$F24)>0,Settings!$F24,""),"")
AT28: =IFERROR(IF(LEN(Settings!$K$7)>0,COUNTIFS(Dashboard!$F28:$AJ28,$AT$9,$K$9:$AO$9,"YES")*Settings!$K$7,""),"0") -> 0 | AU28: =IFERROR(IF(LEN(Settings!$K$7)>0,COUNTIFS(Dashboard!$F28:$AJ28,$AU$9,$K$9:$AO$9,"YES")*Settings!$K$8,""),"0") -> 0 | AV28: =IFERROR(IF(LEN(Settings!$K$7)>0,COUNTIFS(Dashboard!$F28:$AJ28,$AV$9,$K$9:$AO$9,"YES")*Settings!$K$9,""),"0") -> 0 | AW28: =IFERROR(IF(LEN(Settings!$K$7)>0,COUNTIFS(Dashboard!$F28:$AJ28,$AW$9,$K$9:$AO$9,"YES")*Settings!$K$10,""),"0") -> 0 | AX28: =IFERROR(IF(LEN(Settings!$K$7)>0,COUNTIFS(Dashboard!$F28:$AJ28,$AX$9,$K$9:$AO$9,"YES")*Settings!$K$11,""),"0") -> 0 | AY28: =IFERROR(IF(LEN(Settings!$K$7)>0,COUNTIFS(Dashboard!$F28:$AJ28,$AY$9,$K$9:$AO$9,"YES")*Settings!$K$12,""),"0") -> 0 | BA28: =IFERROR(IF(LEN(Settings!$B25)>0,Settings!$B25,""),"") | BC28: =IFERROR(IF(LEN(Settings!$E25)>0,Settings!$E25,""),"") | BD28: =IFERROR(IF(LEN(Settings!$F25)>0,Settings!$F25,""),"")
AT29: =IFERROR(IF(LEN(Settings!$K$7)>0,COUNTIFS(Dashboard!$F29:$AJ29,$AT$9,$K$9:$AO$9,"YES")*Settings!$K$7,""),"0") -> 0 | AU29: =IFERROR(IF(LEN(Settings!$K$7)>0,COUNTIFS(Dashboard!$F29:$AJ29,$AU$9,$K$9:$AO$9,"YES")*Settings!$K$8,""),"0") -> 0 | AV29: =IFERROR(IF(LEN(Settings!$K$7)>0,COUNTIFS(Dashboard!$F29:$AJ29,$AV$9,$K$9:$AO$9,"YES")*Settings!$K$9,""),"0") -> 0 | AW29: =IFERROR(IF(LEN(Settings!$K$7)>0,COUNTIFS(Dashboard!$F29:$AJ29,$AW$9,$K$9:$AO$9,"YES")*Settings!$K$10,""),"0") -> 0 | AX29: =IFERROR(IF(LEN(Settings!$K$7)>0,COUNTIFS(Dashboard!$F29:$AJ29,$AX$9,$K$9:$AO$9,"YES")*Settings!$K$11,""),"0") -> 0 | AY29: =IFERROR(IF(LEN(Settings!$K$7)>0,COUNTIFS(Dashboard!$F29:$AJ29,$AY$9,$K$9:$AO$9,"YES")*Settings!$K$12,""),"0") -> 0 | BA29: =IFERROR(IF(LEN(Settings!$B26)>0,Settings!$B26,""),"") | BC29: =IFERROR(IF(LEN(Settings!$E26)>0,Settings!$E26,""),"") | BD29: =IFERROR(IF(LEN(Settings!$F26)>0,Settings!$F26,""),"")
AT30: =IFERROR(IF(LEN(Settings!$K$7)>0,COUNTIFS(Dashboard!$F30:$AJ30,$AT$9,$K$9:$AO$9,"YES")*Settings!$K$7,""),"0") -> 0 | AU30: =IFERROR(IF(LEN(Settings!$K$7)>0,COUNTIFS(Dashboard!$F30:$AJ30,$AU$9,$K$9:$AO$9,"YES")*Settings!$K$8,""),"0") -> 0 | AV30: =IFERROR(IF(LEN(Settings!$K$7)>0,COUNTIFS(Dashboard!$F30:$AJ30,$AV$9,$K$9:$AO$9,"YES")*Settings!$K$9,""),"0") -> 0 | AW30: =IFERROR(IF(LEN(Settings!$K$7)>0,COUNTIFS(Dashboard!$F30:$AJ30,$AW$9,$K$9:$AO$9,"YES")*Settings!$K$10,""),"0") -> 0 | AX30: =IFERROR(IF(LEN(Settings!$K$7)>0,COUNTIFS(Dashboard!$F30:$AJ30,$AX$9,$K$9:$AO$9,"YES")*Settings!$K$11,""),"0") -> 0 | AY30: =IFERROR(IF(LEN(Settings!$K$7)>0,COUNTIFS(Dashboard!$F30:$AJ30,$AY$9,$K$9:$AO$9,"YES")*Settings!$K$12,""),"0") -> 0 | BA30: =IFERROR(IF(LEN(Settings!$B27)>0,Settings!$B27,""),"") | BC30: =IFERROR(IF(LEN(Settings!$E27)>0,Settings!$E27,""),"") | BD30: =IFERROR(IF(LEN(Settings!$F27)>0,Settings!$F27,""),"")
AT31: =IFERROR(IF(LEN(Settings!$K$7)>0,COUNTIFS(Dashboard!$F31:$AJ31,$AT$9,$K$9:$AO$9,"YES")*Settings!$K$7,""),"0") -> 0 | AU31: =IFERROR(IF(LEN(Settings!$K$7)>0,COUNTIFS(Dashboard!$F31:$AJ31,$AU$9,$K$9:$AO$9,"YES")*Settings!$K$8,""),"0") -> 0 | AV31: =IFERROR(IF(LEN(Settings!$K$7)>0,COUNTIFS(Dashboard!$F31:$AJ31,$AV$9,$K$9:$AO$9,"YES")*Settings!$K$9,""),"0") -> 0 | AW31: =IFERROR(IF(LEN(Settings!$K$7)>0,COUNTIFS(Dashboard!$F31:$AJ31,$AW$9,$K$9:$AO$9,"YES")*Settings!$K$10,""),"0") -> 0 | AX31: =IFERROR(IF(LEN(Settings!$K$7)>0,COUNTIFS(Dashboard!$F31:$AJ31,$AX$9,$K$9:$AO$9,"YES")*Settings!$K$11,""),"0") -> 0 | AY31: =IFERROR(IF(LEN(Settings!$K$7)>0,COUNTIFS(Dashboard!$F31:$AJ31,$AY$9,$K$9:$AO$9,"YES")*Settings!$K$12,""),"0") -> 0 | BA31: =IFERROR(IF(LEN(Settings!$B28)>0,Settings!$B28,""),"") | BC31: =IFERROR(IF(LEN(Settings!$E28)>0,Settings!$E28,""),"") | BD31: =IFERROR(IF(LEN(Settings!$F28)>0,Settings!$F28,""),"")
AT32: =IFERROR(IF(LEN(Settings!$K$7)>0,COUNTIFS(Dashboard!$F32:$AJ32,$AT$9,$K$9:$AO$9,"YES")*Settings!$K$7,""),"0") -> 0 | AU32: =IFERROR(IF(LEN(Settings!$K$7)>0,COUNTIFS(Dashboard!$F32:$AJ32,$AU$9,$K$9:$AO$9,"YES")*Settings!$K$8,""),"0") -> 0 | AV32: =IFERROR(IF(LEN(Settings!$K$7)>0,COUNTIFS(Dashboard!$F32:$AJ32,$AV$9,$K$9:$AO$9,"YES")*Settings!$K$9,""),"0") -> 0 | AW32: =IFERROR(IF(LEN(Settings!$K$7)>0,COUNTIFS(Dashboard!$F32:$AJ32,$AW$9,$K$9:$AO$9,"YES")*Settings!$K$10,""),"0") -> 0 | AX32: =IFERROR(IF(LEN(Settings!$K$7)>0,COUNTIFS(Dashboard!$F32:$AJ32,$AX$9,$K$9:$AO$9,"YES")*Settings!$K$11,""),"0") -> 0 | AY32: =IFERROR(IF(LEN(Settings!$K$7)>0,COUNTIFS(Dashboard!$F32:$AJ32,$AY$9,$K$9:$AO$9,"YES")*Settings!$K$12,""),"0") -> 0 | BA32: =IFERROR(IF(LEN(Settings!$B29)>0,Settings!$B29,""),"") | BC32: =IFERROR(IF(LEN(Settings!$E29)>0,Settings!$E29,""),"") | BD32: =IFERROR(IF(LEN(Settings!$F29)>0,Settings!$F29,""),"")
... AT34: =IFERROR(IF(LEN(Settings!$K$7)>0,COUNTIFS(Dashboard!$F34:$AJ34,$AT$9,$K$9:$AO$9,"YES")*Settings!$K$7,""),"0") -> 0 | AU34: =IFERROR(IF(LEN(Settings!$K$7)>0,COUNTIFS(Dashboard!$F34:$AJ34,$AU$9,$K$9:$AO$9,"YES")*Settings!$K$8,""),"0") -> 0 | AV34: =IFERROR(IF(LEN(Settings!$K$7)>0,COUNTIFS(Dashboard!$F34:$AJ34,$AV$9,$K$9:$AO$9,"YES")*Settings!$K$9,""),"0") -> 0 | AW34: =IFERROR(IF(LEN(Settings!$K$7)>0,COUNTIFS(Dashboard!$F34:$AJ34,$AW$9,$K$9:$AO$9,"YES")*Settings!$K$10,""),"0") -> 0 | AX34: =IFERROR(IF(LEN(Settings!$K$7)>0,COUNTIFS(Dashboard!$F34:$AJ34,$AX$9,$K$9:$AO$9,"YES")*Settings!$K$11,""),"0") -> 0 | AY34: =IFERROR(IF(LEN(Settings!$K$7)>0,COUNTIFS(Dashboard!$F34:$AJ34,$AY$9,$K$9:$AO$9,"YES")*Settings!$K$12,""),"0") -> 0 | BA34: =IFERROR(IF(LEN(Settings!$B31)>0,Settings!$B31,""),"") | BC34: =IFERROR(IF(LEN(Settings!$E31)>0,Settings!$E31,""),"") | BD34: =IFERROR(IF(LEN(Settings!$F31)>0,Settings!$F31,""),"")
AT35: =IFERROR(IF(LEN(Settings!$K$7)>0,COUNTIFS(Dashboard!$F35:$AJ35,$AT$9,$K$9:$AO$9,"YES")*Settings!$K$7,""),"0") -> 0 | AU35: =IFERROR(IF(LEN(Settings!$K$7)>0,COUNTIFS(Dashboard!$F35:$AJ35,$AU$9,$K$9:$AO$9,"YES")*Settings!$K$8,""),"0") -> 0 | AV35: =IFERROR(IF(LEN(Settings!$K$7)>0,COUNTIFS(Dashboard!$F35:$AJ35,$AV$9,$K$9:$AO$9,"YES")*Settings!$K$9,""),"0") -> 0 | AW35: =IFERROR(IF(LEN(Settings!$K$7)>0,COUNTIFS(Dashboard!$F35:$AJ35,$AW$9,$K$9:$AO$9,"YES")*Settings!$K$10,""),"0") -> 0 | AX35: =IFERROR(IF(LEN(Settings!$K$7)>0,COUNTIFS(Dashboard!$F35:$AJ35,$AX$9,$K$9:$AO$9,"YES")*Settings!$K$11,""),"0") -> 0 | AY35: =IFERROR(IF(LEN(Settings!$K$7)>0,COUNTIFS(Dashboard!$F35:$AJ35,$AY$9,$K$9:$AO$9,"YES")*Settings!$K$12,""),"0") -> 0 | BA35: =IFERROR(IF(LEN(Settings!$B32)>0,Settings!$B32,""),"")
AT36: =IFERROR(IF(LEN(Settings!$K$7)>0,COUNTIFS(Dashboard!$F36:$AJ36,$AT$9,$K$9:$AO$9,"YES")*Settings!$K$7,""),"0") -> 0 | AU36: =IFERROR(IF(LEN(Settings!$K$7)>0,COUNTIFS(Dashboard!$F36:$AJ36,$AU$9,$K$9:$AO$9,"YES")*Settings!$K$8,""),"0") -> 0 | AV36: =IFERROR(IF(LEN(Settings!$K$7)>0,COUNTIFS(Dashboard!$F36:$AJ36,$AV$9,$K$9:$AO$9,"YES")*Settings!$K$9,""),"0") -> 0 | AW36: =IFERROR(IF(LEN(Settings!$K$7)>0,COUNTIFS(Dashboard!$F36:$AJ36,$AW$9,$K$9:$AO$9,"YES")*Settings!$K$10,""),"0") -> 0 | AX36: =IFERROR(IF(LEN(Settings!$K$7)>0,COUNTIFS(Dashboard!$F36:$AJ36,$AX$9,$K$9:$AO$9,"YES")*Settings!$K$11,""),"0") -> 0 | AY36: =IFERROR(IF(LEN(Settings!$K$7)>0,COUNTIFS(Dashboard!$F36:$AJ36,$AY$9,$K$9:$AO$9,"YES")*Settings!$K$12,""),"0") -> 0 | BA36: =IFERROR(IF(LEN(Settings!$B33)>0,Settings!$B33,""),"")
AT37: =IFERROR(IF(LEN(Settings!$K$7)>0,COUNTIFS(Dashboard!$F37:$AJ37,$AT$9,$K$9:$AO$9,"YES")*Settings!$K$7,""),"0") -> 0 | AU37: =IFERROR(IF(LEN(Settings!$K$7)>0,COUNTIFS(Dashboard!$F37:$AJ37,$AU$9,$K$9:$AO$9,"YES")*Settings!$K$8,""),"0") -> 0 | AV37: =IFERROR(IF(LEN(Settings!$K$7)>0,COUNTIFS(Dashboard!$F37:$AJ37,$AV$9,$K$9:$AO$9,"YES")*Settings!$K$9,""),"0") -> 0 | AW37: =IFERROR(IF(LEN(Settings!$K$7)>0,COUNTIFS(Dashboard!$F37:$AJ37,$AW$9,$K$9:$AO$9,"YES")*Settings!$K$10,""),"0") -> 0 | AX37: =IFERROR(IF(LEN(Settings!$K$7)>0,COUNTIFS(Dashboard!$F37:$AJ37,$AX$9,$K$9:$AO$9,"YES")*Settings!$K$11,""),"0") -> 0 | AY37: =IFERROR(IF(LEN(Settings!$K$7)>0,COUNTIFS(Dashboard!$F37:$AJ37,$AY$9,$K$9:$AO$9,"YES")*Settings!$K$12,""),"0") -> 0 | BA37: =IFERROR(IF(LEN(Settings!$B34)>0,Settings!$B34,""),"")
AT38: =IFERROR(IF(LEN(Settings!$K$7)>0,COUNTIFS(Dashboard!$F38:$AJ38,$AT$9,$K$9:$AO$9,"YES")*Settings!$K$7,""),"0") -> 0 | AU38: =IFERROR(IF(LEN(Settings!$K$7)>0,COUNTIFS(Dashboard!$F38:$AJ38,$AU$9,$K$9:$AO$9,"YES")*Settings!$K$8,""),"0") -> 0 | AV38: =IFERROR(IF(LEN(Settings!$K$7)>0,COUNTIFS(Dashboard!$F38:$AJ38,$AV$9,$K$9:$AO$9,"YES")*Settings!$K$9,""),"0") -> 0 | AW38: =IFERROR(IF(LEN(Settings!$K$7)>0,COUNTIFS(Dashboard!$F38:$AJ38,$AW$9,$K$9:$AO$9,"YES")*Settings!$K$10,""),"0") -> 0 | AX38: =IFERROR(IF(LEN(Settings!$K$7)>0,COUNTIFS(Dashboard!$F38:$AJ38,$AX$9,$K$9:$AO$9,"YES")*Settings!$K$11,""),"0") -> 0 | AY38: =IFERROR(IF(LEN(Settings!$K$7)>0,COUNTIFS(Dashboard!$F38:$AJ38,$AY$9,$K$9:$AO$9,"YES")*Settings!$K$12,""),"0") -> 0 | BA38: =IFERROR(IF(LEN(Settings!$B35)>0,Settings!$B35,""),"")
AT39: =IFERROR(IF(LEN(Settings!$K$7)>0,COUNTIFS(Dashboard!$F39:$AJ39,$AT$9,$K$9:$AO$9,"YES")*Settings!$K$7,""),"0") -> 0 | AU39: =IFERROR(IF(LEN(Settings!$K$7)>0,COUNTIFS(Dashboard!$F39:$AJ39,$AU$9,$K$9:$AO$9,"YES")*Settings!$K$8,""),"0") -> 0 | AV39: =IFERROR(IF(LEN(Settings!$K$7)>0,COUNTIFS(Dashboard!$F39:$AJ39,$AV$9,$K$9:$AO$9,"YES")*Settings!$K$9,""),"0") -> 0 | AW39: =IFERROR(IF(LEN(Settings!$K$7)>0,COUNTIFS(Dashboard!$F39:$AJ39,$AW$9,$K$9:$AO$9,"YES")*Settings!$K$10,""),"0") -> 0 | AX39: =IFERROR(IF(LEN(Settings!$K$7)>0,COUNTIFS(Dashboard!$F39:$AJ39,$AX$9,$K$9:$AO$9,"YES")*Settings!$K$11,""),"0") -> 0 | AY39: =IFERROR(IF(LEN(Settings!$K$7)>0,COUNTIFS(Dashboard!$F39:$AJ39,$AY$9,$K$9:$AO$9,"YES")*Settings!$K$12,""),"0") -> 0 | BA39: =IFERROR(IF(LEN(Settings!$B36)>0,Settings!$B36,""),"")
AT40: =IFERROR(IF(LEN(Settings!$K$7)>0,COUNTIFS(Dashboard!$F40:$AJ40,$AT$9,$K$9:$AO$9,"YES")*Settings!$K$7,""),"0") -> 0 | AU40: =IFERROR(IF(LEN(Settings!$K$7)>0,COUNTIFS(Dashboard!$F40:$AJ40,$AU$9,$K$9:$AO$9,"YES")*Settings!$K$8,""),"0") -> 0 | AV40: =IFERROR(IF(LEN(Settings!$K$7)>0,COUNTIFS(Dashboard!$F40:$AJ40,$AV$9,$K$9:$AO$9,"YES")*Settings!$K$9,""),"0") -> 0 | AW40: =IFERROR(IF(LEN(Settings!$K$7)>0,COUNTIFS(Dashboard!$F40:$AJ40,$AW$9,$K$9:$AO$9,"YES")*Settings!$K$10,""),"0") -> 0 | AX40: =IFERROR(IF(LEN(Settings!$K$7)>0,COUNTIFS(Dashboard!$F40:$AJ40,$AX$9,$K$9:$AO$9,"YES")*Settings!$K$11,""),"0") -> 0 | AY40: =IFERROR(IF(LEN(Settings!$K$7)>0,COUNTIFS(Dashboard!$F40:$AJ40,$AY$9,$K$9:$AO$9,"YES")*Settings!$K$12,""),"0") -> 0 | BA40: =IFERROR(IF(LEN(Settings!$B37)>0,Settings!$B37,""),"")
AT41: =IFERROR(IF(LEN(Settings!$K$7)>0,COUNTIFS(Dashboard!$F41:$AJ41,$AT$9,$K$9:$AO$9,"YES")*Settings!$K$7,""),"0") -> 0 | AU41: =IFERROR(IF(LEN(Settings!$K$7)>0,COUNTIFS(Dashboard!$F41:$AJ41,$AU$9,$K$9:$AO$9,"YES")*Settings!$K$8,""),"0") -> 0 | AV41: =IFERROR(IF(LEN(Settings!$K$7)>0,COUNTIFS(Dashboard!$F41:$AJ41,$AV$9,$K$9:$AO$9,"YES")*Settings!$K$9,""),"0") -> 0 | AW41: =IFERROR(IF(LEN(Settings!$K$7)>0,COUNTIFS(Dashboard!$F41:$AJ41,$AW$9,$K$9:$AO$9,"YES")*Settings!$K$10,""),"0") -> 0 | AX41: =IFERROR(IF(LEN(Settings!$K$7)>0,COUNTIFS(Dashboard!$F41:$AJ41,$AX$9,$K$9:$AO$9,"YES")*Settings!$K$11,""),"0") -> 0 | AY41: =IFERROR(IF(LEN(Settings!$K$7)>0,COUNTIFS(Dashboard!$F41:$AJ41,$AY$9,$K$9:$AO$9,"YES")*Settings!$K$12,""),"0") -> 0 | BA41: =IFERROR(IF(LEN(Settings!$B38)>0,Settings!$B38,""),"")
AT42: =IFERROR(IF(LEN(Settings!$K$7)>0,COUNTIFS(Dashboard!$F42:$AJ42,$AT$9,$K$9:$AO$9,"YES")*Settings!$K$7,""),"0") -> 0 | AU42: =IFERROR(IF(LEN(Settings!$K$7)>0,COUNTIFS(Dashboard!$F42:$AJ42,$AU$9,$K$9:$AO$9,"YES")*Settings!$K$8,""),"0") -> 0 | AV42: =IFERROR(IF(LEN(Settings!$K$7)>0,COUNTIFS(Dashboard!$F42:$AJ42,$AV$9,$K$9:$AO$9,"YES")*Settings!$K$9,""),"0") -> 0 | AW42: =IFERROR(IF(LEN(Settings!$K$7)>0,COUNTIFS(Dashboard!$F42:$AJ42,$AW$9,$K$9:$AO$9,"YES")*Settings!$K$10,""),"0") -> 0 | AX42: =IFERROR(IF(LEN(Settings!$K$7)>0,COUNTIFS(Dashboard!$F42:$AJ42,$AX$9,$K$9:$AO$9,"YES")*Settings!$K$11,""),"0") -> 0 | AY42: =IFERROR(IF(LEN(Settings!$K$7)>0,COUNTIFS(Dashboard!$F42:$AJ42,$AY$9,$K$9:$AO$9,"YES")*Settings!$K$12,""),"0") -> 0 | BA42: =IFERROR(IF(LEN(Settings!$B39)>0,Settings!$B39,""),"")
AT43: =IFERROR(IF(LEN(Settings!$K$7)>0,COUNTIFS(Dashboard!$F43:$AJ43,$AT$9,$K$9:$AO$9,"YES")*Settings!$K$7,""),"0") -> 0 | AU43: =IFERROR(IF(LEN(Settings!$K$7)>0,COUNTIFS(Dashboard!$F43:$AJ43,$AU$9,$K$9:$AO$9,"YES")*Settings!$K$8,""),"0") -> 0 | AV43: =IFERROR(IF(LEN(Settings!$K$7)>0,COUNTIFS(Dashboard!$F43:$AJ43,$AV$9,$K$9:$AO$9,"YES")*Settings!$K$9,""),"0") -> 0 | AW43: =IFERROR(IF(LEN(Settings!$K$7)>0,COUNTIFS(Dashboard!$F43:$AJ43,$AW$9,$K$9:$AO$9,"YES")*Settings!$K$10,""),"0") -> 0 | AX43: =IFERROR(IF(LEN(Settings!$K$7)>0,COUNTIFS(Dashboard!$F43:$AJ43,$AX$9,$K$9:$AO$9,"YES")*Settings!$K$11,""),"0") -> 0 | AY43: =IFERROR(IF(LEN(Settings!$K$7)>0,COUNTIFS(Dashboard!$F43:$AJ43,$AY$9,$K$9:$AO$9,"YES")*Settings!$K$12,""),"0") -> 0 | BA43: =IFERROR(IF(LEN(Settings!$B40)>0,Settings!$B40,""),"")
AT44: =IFERROR(IF(LEN(Settings!$K$7)>0,COUNTIFS(Dashboard!$F44:$AJ44,$AT$9,$K$9:$AO$9,"YES")*Settings!$K$7,""),"0") -> 0 | AU44: =IFERROR(IF(LEN(Settings!$K$7)>0,COUNTIFS(Dashboard!$F44:$AJ44,$AU$9,$K$9:$AO$9,"YES")*Settings!$K$8,""),"0") -> 0 | AV44: =IFERROR(IF(LEN(Settings!$K$7)>0,COUNTIFS(Dashboard!$F44:$AJ44,$AV$9,$K$9:$AO$9,"YES")*Settings!$K$9,""),"0") -> 0 | AW44: =IFERROR(IF(LEN(Settings!$K$7)>0,COUNTIFS(Dashboard!$F44:$AJ44,$AW$9,$K$9:$AO$9,"YES")*Settings!$K$10,""),"0") -> 0 | AX44: =IFERROR(IF(LEN(Settings!$K$7)>0,COUNTIFS(Dashboard!$F44:$AJ44,$AX$9,$K$9:$AO$9,"YES")*Settings!$K$11,""),"0") -> 0 | AY44: =IFERROR(IF(LEN(Settings!$K$7)>0,COUNTIFS(Dashboard!$F44:$AJ44,$AY$9,$K$9:$AO$9,"YES")*Settings!$K$12,""),"0") -> 0 | BA44: =IFERROR(IF(LEN(Settings!$B41)>0,Settings!$B41,""),"")
AT45: =IFERROR(IF(LEN(Settings!$K$7)>0,COUNTIFS(Dashboard!$F45:$AJ45,$AT$9,$K$9:$AO$9,"YES")*Settings!$K$7,""),"0") -> 0 | AU45: =IFERROR(IF(LEN(Settings!$K$7)>0,COUNTIFS(Dashboard!$F45:$AJ45,$AU$9,$K$9:$AO$9,"YES")*Settings!$K$8,""),"0") -> 0 | AV45: =IFERROR(IF(LEN(Settings!$K$7)>0,COUNTIFS(Dashboard!$F45:$AJ45,$AV$9,$K$9:$AO$9,"YES")*Settings!$K$9,""),"0") -> 0 | AW45: =IFERROR(IF(LEN(Settings!$K$7)>0,COUNTIFS(Dashboard!$F45:$AJ45,$AW$9,$K$9:$AO$9,"YES")*Settings!$K$10,""),"0") -> 0 | AX45: =IFERROR(IF(LEN(Settings!$K$7)>0,COUNTIFS(Dashboard!$F45:$AJ45,$AX$9,$K$9:$AO$9,"YES")*Settings!$K$11,""),"0") -> 0 | AY45: =IFERROR(IF(LEN(Settings!$K$7)>0,COUNTIFS(Dashboard!$F45:$AJ45,$AY$9,$K$9:$AO$9,"YES")*Settings!$K$12,""),"0") -> 0 | BA45: =IFERROR(IF(LEN(Settings!$B42)>0,Settings!$B42,""),"")
AT46: =IFERROR(IF(LEN(Settings!$K$7)>0,COUNTIFS(Dashboard!$F46:$AJ46,$AT$9,$K$9:$AO$9,"YES")*Settings!$K$7,""),"0") -> 0 | AU46: =IFERROR(IF(LEN(Settings!$K$7)>0,COUNTIFS(Dashboard!$F46:$AJ46,$AU$9,$K$9:$AO$9,"YES")*Settings!$K$8,""),"0") -> 0 | AV46: =IFERROR(IF(LEN(Settings!$K$7)>0,COUNTIFS(Dashboard!$F46:$AJ46,$AV$9,$K$9:$AO$9,"YES")*Settings!$K$9,""),"0") -> 0 | AW46: =IFERROR(IF(LEN(Settings!$K$7)>0,COUNTIFS(Dashboard!$F46:$AJ46,$AW$9,$K$9:$AO$9,"YES")*Settings!$K$10,""),"0") -> 0 | AX46: =IFERROR(IF(LEN(Settings!$K$7)>0,COUNTIFS(Dashboard!$F46:$AJ46,$AX$9,$K$9:$AO$9,"YES")*Settings!$K$11,""),"0") -> 0 | AY46: =IFERROR(IF(LEN(Settings!$K$7)>0,COUNTIFS(Dashboard!$F46:$AJ46,$AY$9,$K$9:$AO$9,"YES")*Settings!$K$12,""),"0") -> 0 | BA46: =IFERROR(IF(LEN(Settings!$B43)>0,Settings!$B43,""),"")
... AT59: =IFERROR(IF(LEN(Settings!$K$7)>0,COUNTIFS(Dashboard!$F59:$AJ59,$AT$9,$K$9:$AO$9,"YES")*Settings!$K$7,""),"0") -> 0 | AU59: =IFERROR(IF(LEN(Settings!$K$7)>0,COUNTIFS(Dashboard!$F59:$AJ59,$AU$9,$K$9:$AO$9,"YES")*Settings!$K$8,""),"0") -> 0 | AV59: =IFERROR(IF(LEN(Settings!$K$7)>0,COUNTIFS(Dashboard!$F59:$AJ59,$AV$9,$K$9:$AO$9,"YES")*Settings!$K$9,""),"0") -> 0 | AW59: =IFERROR(IF(LEN(Settings!$K$7)>0,COUNTIFS(Dashboard!$F59:$AJ59,$AW$9,$K$9:$AO$9,"YES")*Settings!$K$10,""),"0") -> 0 | AX59: =IFERROR(IF(LEN(Settings!$K$7)>0,COUNTIFS(Dashboard!$F59:$AJ59,$AX$9,$K$9:$AO$9,"YES")*Settings!$K$11,""),"0") -> 0 | AY59: =IFERROR(IF(LEN(Settings!$K$7)>0,COUNTIFS(Dashboard!$F59:$AJ59,$AY$9,$K$9:$AO$9,"YES")*Settings!$K$12,""),"0") -> 0 | BA59: =IFERROR(IF(LEN(Settings!$B56)>0,Settings!$B56,""),"")
