Workbook
Name days: Calc!$FA$29:$FC$35
Name EmployeeOption: Employee!$G$6
Name Holidays: Dashboard!$C$20:$C$69
Name MainReg: Calc!$D$11:$X$25
Name months: Calc!$FA$14:$FC$25
Name StartYear: Calc!$FC$40
Name TeamMonth: Team!$C$7
Name types: Dashboard!$L$20:$L$26

Sheet Dashboard
C2: EMPLOYEE LEAVE TRACKER
C3: DASHBOARD
C17: SETTINGS
C19: Holidays | D19: Description [Optional] | F19: Departments | H19: Work Days | K19: Colors | L19: Leave Types | M19: Carry Over to Next Year? | O19: Starting Year
C20: 44562 | D20: New Year's Day | F20: Sales | H20: Mon | I20: Yes | L20: Vacation | M20: Yes | O20: 2022
C21: 44578 | D21: Martin Luther King Jr. Day | F21: Marketing | H21: Tue | I21: Yes | L21: Sick Leave | M21: No
C22: 44613 | D22: President's Day | F22: Accounting | H22: Wed | I22: Yes | L22: Unpaid Leave | M22: Yes
C23: 44711 | D23: Memorial Day | F23: Finance | H23: Thu | I23: Yes | L23: Other | M23: Yes
C24: 44746 | D24: Independence Day | F24: HR | H24: Fri | I24: Yes | L24: Remotely Working | M24: No
C25: 44809 | D25: Labor Day | H25: Sat | I25: No
C26: 44889 | D26: Thanksgiving | H26: Sun | I26: No
C27: 44921 | D27: Christmas Day

Sheet EmployeeList
B2: EMPLOYEE LEAVE TRACKER
B3: EMPLOYEE LIST
B6: Employee Name | C6: Department | D6: Notes [Optional]
B7: Jonah Peterson | C7: HR
B8: Laila Robinson | C8: Marketing
B9: Vincent Collins | C9: Marketing
B10: Noah Kim | C10: Finance
B11: Kane Watts | C11: Finance
B12: Ryan Briggs | C12: Accounting
B13: Kobe Murphy | C13: Accounting | D13: Works remotely
B14: Rylie Norman | C14: Sales
B15: Adalynn Turner | C15: Sales
B16: Aylin Berry | C16: Sales | D16: Temporary employee

Sheet Entitlement
B2: EMPLOYEE LEAVE TRACKER
B3: ANNUAL ENTITLEMENT LISTS
B5: Go To →
E7: Annual Leave Entitlement List
B8: Year | C8: Employee Name | D8: Department [Optional] | E8: =IF(Dashboard!$L20="","",Dashboard!$L20) -> Vacation | F8: =IF(Dashboard!$L21="","",Dashboard!$L21) -> Sick Leave | G8: =IF(Dashboard!$L22="","",Dashboard!$L22) -> Unpaid Leave | H8: =IF(Dashboard!$L23="","",Dashboard!$L23) -> Other | I8: =IF(Dashboard!$L24="","",Dashboard!$L24) -> Remotely Working | J8: =IF(Dashboard!$L25="","",Dashboard!$L25) | K8: =IF(Dashboard!$L26="","",Dashboard!$L26)
B9: =IFERROR(IF(LEN(C9)=0,"",StartYear),"") -> 2022 | C9: =IFERROR(IF(INDEX(TableEmployeeList[Employee Name],Calc!B11)="","",INDEX(TableEmployeeList[Employee Name],Calc!B11)),"") -> Jonah Peterson | D9: =IFERROR(IF(INDEX(TableEmployeeList[Department],Calc!B11)="","",INDEX(TableEmployeeList[Department],Calc!B11)),"") -> HR | E9: 20 | F9: 10 | G9: 30 | H9: 8 | I9: 20
B10: =IFERROR(IF(LEN(C10)=0,"",StartYear),"") -> 2022 | C10: =IFERROR(IF(INDEX(TableEmployeeList[Employee Name],Calc!B12)="","",INDEX(TableEmployeeList[Employee Name],Calc!B12)),"") -> Laila Robinson | D10: =IFERROR(IF(INDEX(TableEmployeeList[Department],Calc!B12)="","",INDEX(TableEmployeeList[Department],Calc!B12)),"") -> Marketing | E10: 20 | F10: 10 | G10: 30 | H10: 8 | I10: 20
B11: =IFERROR(IF(LEN(C11)=0,"",StartYear),"") -> 2022 | C11: =IFERROR(IF(INDEX(TableEmployeeList[Employee Name],Calc!B13)="","",INDEX(TableEmployeeList[Employee Name],Calc!B13)),"") -> Vincent Collins | D11: =IFERROR(IF(INDEX(TableEmployeeList[Department],Calc!B13)="","",INDEX(TableEmployeeList[Department],Calc!B13)),"") -> Marketing | E11: 20 | F11: 10 | G11: 30 | H11: 8 | I11: 20
B12: =IFERROR(IF(LEN(C12)=0,"",StartYear),"") -> 2022 | C12: =IFERROR(IF(INDEX(TableEmployeeList[Employee Name],Calc!B14)="","",INDEX(TableEmployeeList[Employee Name],Calc!B14)),"") -> Noah Kim | D12: =IFERROR(IF(INDEX(TableEmployeeList[Department],Calc!B14)="","",INDEX(TableEmployeeList[Department],Calc!B14)),"") -> Finance | E12: 20 | F12: 10 | G12: 30 | H12: 8 | I12: 20
B13: =IFERROR(IF(LEN(C13)=0,"",StartYear),"") -> 2022 | C13: =IFERROR(IF(INDEX(TableEmployeeList[Employee Name],Calc!B15)="","",INDEX(TableEmployeeList[Employee Name],Calc!B15)),"") -> Kane Watts | D13: =IFERROR(IF(INDEX(TableEmployeeList[Department],Calc!B15)="","",INDEX(TableEmployeeList[Department],Calc!B15)),"") -> Finance | E13: 20 | F13: 10 | G13: 30 | H13: 8 | I13: 20
B14: =IFERROR(IF(LEN(C14)=0,"",StartYear),"") -> 2022 | C14: =IFERROR(IF(INDEX(TableEmployeeList[Employee Name],Calc!B16)="","",INDEX(TableEmployeeList[Employee Name],Calc!B16)),"") -> Ryan Briggs | D14: =IFERROR(IF(INDEX(TableEmployeeList[Department],Calc!B16)="","",INDEX(TableEmployeeList[Department],Calc!B16)),"") -> Accounting | E14: 20 | F14: 10 | G14: 30 | H14: 8 | I14: 20
B15: =IFERROR(IF(LEN(C15)=0,"",StartYear),"") -> 2022 | C15: =IFERROR(IF(INDEX(TableEmployeeList[Employee Name],Calc!B17)="","",INDEX(TableEmployeeList[Employee Name],Calc!B17)),"") -> Kobe Murphy | D15: =IFERROR(IF(INDEX(TableEmployeeList[Department],Calc!B17)="","",INDEX(TableEmployeeList[Department],Calc!B17)),"") -> Accounting | E15: 20 | F15: 10 | G15: 30 | H15: 8 | I15: 360
B16: =IFERROR(IF(LEN(C16)=0,"",StartYear),"") -> 2022 | C16: =IFERROR(IF(INDEX(TableEmployeeList[Employee Name],Calc!B18)="","",INDEX(TableEmployeeList[Employee Name],Calc!B18)),"") -> Rylie Norman | D16: =IFERROR(IF(INDEX(TableEmployeeList[Department],Calc!B18)="","",INDEX(TableEmployeeList[Department],Calc!B18)),"") -> Sales | E16: 20 | F16: 10 | G16: 30 | H16: 8 | I16: 20
B17: =IFERROR(IF(LEN(C17)=0,"",StartYear),"") -> 2022 | C17: =IFERROR(IF(INDEX(TableEmployeeList[Employee Name],Calc!B19)="","",INDEX(TableEmployeeList[Employee Name],Calc!B19)),"") -> Adalynn Turner | D17: =IFERROR(IF(INDEX(TableEmployeeList[Department],Calc!B19)="","",INDEX(TableEmployeeList[Department],Calc!B19)),"") -> Sales | E17: 20 | F17: 10 | G17: 30 | H17: 8 | I17: 20
B18: =IFERROR(IF(LEN(C18)=0,"",StartYear),"") -> 2022 | C18: =IFERROR(IF(INDEX(TableEmployeeList[Employee Name],Calc!B20)="","",INDEX(TableEmployeeList[Employee Name],Calc!B20)),"") -> Aylin Berry | D18: =IFERROR(IF(INDEX(TableEmployeeList[Department],Calc!B20)="","",INDEX(TableEmployeeList[Department],Calc!B20)),"") -> Sales | E18: 5 | F18: 10 | G18: 0 | H18: 8 | I18: 0
B19: =IFERROR(IF(LEN(C19)=0,"",StartYear),"") | C19: =IFERROR(IF(INDEX(TableEmployeeList[Employee Name],Calc!B21)="","",INDEX(TableEmployeeList[Employee Name],Calc!B21)),"") | D19: =IFERROR(IF(INDEX(TableEmployeeList[Department],Calc!B21)="","",INDEX(TableEmployeeList[Department],Calc!B21)),"")
B20: =IFERROR(IF(LEN(C20)=0,"",StartYear),"") | C20: =IFERROR(IF(INDEX(TableEmployeeList[Employee Name],Calc!B22)="","",INDEX(TableEmployeeList[Employee Name],Calc!B22)),"") | D20: =IFERROR(IF(INDEX(TableEmployeeList[Department],Calc!B22)="","",INDEX(TableEmployeeList[Department],Calc!B22)),"")
B21: =IFERROR(IF(LEN(C21)=0,"",StartYear),"") | C21: =IFERROR(IF(INDEX(TableEmployeeList[Employee Name],Calc!B23)="","",INDEX(TableEmployeeList[Employee Name],Calc!B23)),"") | D21: =IFERROR(IF(INDEX(TableEmployeeList[Department],Calc!B23)="","",INDEX(TableEmployeeList[Department],Calc!B23)),"")
B22: =IFERROR(IF(LEN(C22)=0,"",StartYear),"") | C22: =IFERROR(IF(INDEX(TableEmployeeList[Employee Name],Calc!B24)="","",INDEX(TableEmployeeList[Employee Name],Calc!B24)),"") | D22: =IFERROR(IF(INDEX(TableEmployeeList[Department],Calc!B24)="","",INDEX(TableEmployeeList[Department],Calc!B24)),"")
B23: =IFERROR(IF(LEN(C23)=0,"",StartYear),"") | C23: =IFERROR(IF(INDEX(TableEmployeeList[Employee Name],Calc!B25)="","",INDEX(TableEmployeeList[Employee Name],Calc!B25)),"") | D23: =IFERROR(IF(INDEX(TableEmployeeList[Department],Calc!B25)="","",INDEX(TableEmployeeList[Department],Calc!B25)),"")
B510: =IFERROR(IF(LEN(C510)=0,"",StartYear+1),"") -> 2023 | C510: =IFERROR(IF(INDEX(TableEmployeeList[Employee Name],Calc!B11)="","",INDEX(TableEmployeeList[Employee Name],Calc!B11)),"") -> Jonah Peterson | D510: =IFERROR(IF(INDEX(TableEmployeeList[Department],Calc!B11)="","",INDEX(TableEmployeeList[Department],Calc!B11)),"") -> HR
B511: =IFERROR(IF(LEN(C511)=0,"",StartYear+1),"") -> 2023 | C511: =IFERROR(IF(INDEX(TableEmployeeList[Employee Name],Calc!B12)="","",INDEX(TableEmployeeList[Employee Name],Calc!B12)),"") -> Laila Robinson | D511: =IFERROR(IF(INDEX(TableEmployeeList[Department],Calc!B12)="","",INDEX(TableEmployeeList[Department],Calc!B12)),"") -> Marketing
B512: =IFERROR(IF(LEN(C512)=0,"",StartYear+1),"") -> 2023 | C512: =IFERROR(IF(INDEX(TableEmployeeList[Employee Name],Calc!B13)="","",INDEX(TableEmployeeList[Employee Name],Calc!B13)),"") -> Vincent Collins | D512: =IFERROR(IF(INDEX(TableEmployeeList[Department],Calc!B13)="","",INDEX(TableEmployeeList[Department],Calc!B13)),"") -> Marketing
B513: =IFERROR(IF(LEN(C513)=0,"",StartYear+1),"") -> 2023 | C513: =IFERROR(IF(INDEX(TableEmployeeList[Employee Name],Calc!B14)="","",INDEX(TableEmployeeList[Employee Name],Calc!B14)),"") -> Noah Kim | D513: =IFERROR(IF(INDEX(TableEmployeeList[Department],Calc!B14)="","",INDEX(TableEmployeeList[Department],Calc!B14)),"") -> Finance
B514: =IFERROR(IF(LEN(C514)=0,"",StartYear+1),"") -> 2023 | C514: =IFERROR(IF(INDEX(TableEmployeeList[Employee Name],Calc!B15)="","",INDEX(TableEmployeeList[Employee Name],Calc!B15)),"") -> Kane Watts | D514: =IFERROR(IF(INDEX(TableEmployeeList[Department],Calc!B15)="","",INDEX(TableEmployeeList[Department],Calc!B15)),"") -> Finance
B515: =IFERROR(IF(LEN(C515)=0,"",StartYear+1),"") -> 2023 | C515: =IFERROR(IF(INDEX(TableEmployeeList[Employee Name],Calc!B16)="","",INDEX(TableEmployeeList[Employee Name],Calc!B16)),"") -> Ryan Briggs | D515: =IFERROR(IF(INDEX(TableEmployeeList[Department],Calc!B16)="","",INDEX(TableEmployeeList[Department],Calc!B16)),"") -> Accounting
B516: =IFERROR(IF(LEN(C516)=0,"",StartYear+1),"") -> 2023 | C516: =IFERROR(IF(INDEX(TableEmployeeList[Employee Name],Calc!B17)="","",INDEX(TableEmployeeList[Employee Name],Calc!B17)),"") -> Kobe Murphy | D516: =IFERROR(IF(INDEX(TableEmployeeList[Department],Calc!B17)="","",INDEX(TableEmployeeList[Department],Calc!B17)),"") -> Accounting
B517: =IFERROR(IF(LEN(C517)=0,"",StartYear+1),"") -> 2023 | C517: =IFERROR(IF(INDEX(TableEmployeeList[Employee Name],Calc!B18)="","",INDEX(TableEmployeeList[Employee Name],Calc!B18)),"") -> Rylie Norman | D517: =IFERROR(IF(INDEX(TableEmployeeList[Department],Calc!B18)="","",INDEX(TableEmployeeList[Department],Calc!B18)),"") -> Sales
B518: =IFERROR(IF(LEN(C518)=0,"",StartYear+1),"") -> 2023 | C518: =IFERROR(IF(INDEX(TableEmployeeList[Employee Name],Calc!B19)="","",INDEX(TableEmployeeList[Employee Name],Calc!B19)),"") -> Adalynn Turner | D518: =IFERROR(IF(INDEX(TableEmployeeList[Department],Calc!B19)="","",INDEX(TableEmployeeList[Department],Calc!B19)),"") -> Sales
B519: =IFERROR(IF(LEN(C519)=0,"",StartYear+1),"") -> 2023 | C519: =IFERROR(IF(INDEX(TableEmployeeList[Employee Name],Calc!B20)="","",INDEX(TableEmployeeList[Employee Name],Calc!B20)),"") -> Aylin Berry | D519: =IFERROR(IF(INDEX(TableEmployeeList[Department],Calc!B20)="","",INDEX(TableEmployeeList[Department],Calc!B20)),"") -> Sales
B520: =IFERROR(IF(LEN(C520)=0,"",StartYear+1),"") | C520: =IFERROR(IF(INDEX(TableEmployeeList[Employee Name],Calc!B21)="","",INDEX(TableEmployeeList[Employee Name],Calc!B21)),"") | D520: =IFERROR(IF(INDEX(TableEmployeeList[Department],Calc!B21)="","",INDEX(TableEmployeeList[Department],Calc!B21)),"")
B521: =IFERROR(IF(LEN(C521)=0,"",StartYear+1),"") | C521: =IFERROR(IF(INDEX(TableEmployeeList[Employee Name],Calc!B22)="","",INDEX(TableEmployeeList[Employee Name],Calc!B22)),"") | D521: =IFERROR(IF(INDEX(TableEmployeeList[Department],Calc!B22)="","",INDEX(TableEmployeeList[Department],Calc!B22)),"")
... B524: =IFERROR(IF(LEN(C524)=0,"",StartYear+1),"") | C524: =IFERROR(IF(INDEX(TableEmployeeList[Employee Name],Calc!B25)="","",INDEX(TableEmployeeList[Employee Name],Calc!B25)),"") | D524: =IFERROR(IF(INDEX(TableEmployeeList[Department],Calc!B25)="","",INDEX(TableEmployeeList[Department],Calc!B25)),"")
B1011: =IFERROR(IF(LEN(C1011)=0,"",StartYear+2),"") -> 2024 | C1011: =IFERROR(IF(INDEX(TableEmployeeList[Employee Name],Calc!B11)="","",INDEX(TableEmployeeList[Employee Name],Calc!B11)),"") -> Jonah Peterson | D1011: =IFERROR(IF(INDEX(TableEmployeeList[Department],Calc!B11)="","",INDEX(TableEmployeeList[Department],Calc!B11)),"") -> HR
B1012: =IFERROR(IF(LEN(C1012)=0,"",StartYear+2),"") -> 2024 | C1012: =IFERROR(IF(INDEX(TableEmployeeList[Employee Name],Calc!B12)="","",INDEX(TableEmployeeList[Employee Name],Calc!B12)),"") -> Laila Robinson | D1012: =IFERROR(IF(INDEX(TableEmployeeList[Department],Calc!B12)="","",INDEX(TableEmployeeList[Department],Calc!B12)),"") -> Marketing
B1013: =IFERROR(IF(LEN(C1013)=0,"",StartYear+2),"") -> 2024 | C1013: =IFERROR(IF(INDEX(TableEmployeeList[Employee Name],Calc!B13)="","",INDEX(TableEmployeeList[Employee Name],Calc!B13)),"") -> Vincent Collins | D1013: =IFERROR(IF(INDEX(TableEmployeeList[Department],Calc!B13)="","",INDEX(TableEmployeeList[Department],Calc!B13)),"") -> Marketing
B1014: =IFERROR(IF(LEN(C1014)=0,"",StartYear+2),"") -> 2024 | C1014: =IFERROR(IF(INDEX(TableEmployeeList[Employee Name],Calc!B14)="","",INDEX(TableEmployeeList[Employee Name],Calc!B14)),"") -> Noah Kim | D1014: =IFERROR(IF(INDEX(TableEmployeeList[Department],Calc!B14)="","",INDEX(TableEmployeeList[Department],Calc!B14)),"") -> Finance
B1015: =IFERROR(IF(LEN(C1015)=0,"",StartYear+2),"") -> 2024 | C1015: =IFERROR(IF(INDEX(TableEmployeeList[Employee Name],Calc!B15)="","",INDEX(TableEmployeeList[Employee Name],Calc!B15)),"") -> Kane Watts | D1015: =IFERROR(IF(INDEX(TableEmployeeList[Department],Calc!B15)="","",INDEX(TableEmployeeList[Department],Calc!B15)),"") -> Finance
B1016: =IFERROR(IF(LEN(C1016)=0,"",StartYear+2),"") -> 2024 | C1016: =IFERROR(IF(INDEX(TableEmployeeList[Employee Name],Calc!B16)="","",INDEX(TableEmployeeList[Employee Name],Calc!B16)),"") -> Ryan Briggs | D1016: =IFERROR(IF(INDEX(TableEmployeeList[Department],Calc!B16)="","",INDEX(TableEmployeeList[Department],Calc!B16)),"") -> Accounting
B1017: =IFERROR(IF(LEN(C1017)=0,"",StartYear+2),"") -> 2024 | C1017: =IFERROR(IF(INDEX(TableEmployeeList[Employee Name],Calc!B17)="","",INDEX(TableEmployeeList[Employee Name],Calc!B17)),"") -> Kobe Murphy | D1017: =IFERROR(IF(INDEX(TableEmployeeList[Department],Calc!B17)="","",INDEX(TableEmployeeList[Department],Calc!B17)),"") -> Accounting
...

Sheet Registration
B2: EMPLOYEE LEAVE TRACKER
B3: LEAVE REGISTRATION
D5: First Day of the Leave
B6: Employee Name | C6: Leave Type | D6: Day | E6: Month | F6: Year | G6: How Many Days? | H6: Next Working Day | I6: Compensated?
B7: Jonah Peterson | C7: Vacation | D7: 3 | E7: 1 | F7: 2022 | G7: 1 | H7: =IFERROR(IF(LEN(Calc!R11)=0,"",Calc!R11),"") -> 44565
B8: Vincent Collins | C8: Sick Leave | D8: 2 | E8: 1 | F8: 2022 | G8: 2 | H8: =IFERROR(IF(LEN(Calc!R12)=0,"",Calc!R12),"") -> 44566 | I8: No
B9: Laila Robinson | C9: Unpaid Leave | D9: 8 | E9: 1 | F9: 2022 | G9: 10 | H9: =IFERROR(IF(LEN(Calc!R13)=0,"",Calc!R13),"") -> 44586
B10: Kane Watts | C10: Vacation | D10: 11 | E10: 1 | F10: 2022 | G10: 10 | H10: =IFERROR(IF(LEN(Calc!R14)=0,"",Calc!R14),"") -> 44587 | I10: No
B11: Ryan Briggs | C11: Unpaid Leave | D11: 5 | E11: 1 | F11: 2022 | G11: 5 | H11: =IFERROR(IF(LEN(Calc!R15)=0,"",Calc!R15),"") -> 44573 | I11: Yes
B12: Jonah Peterson | C12: Other | D12: 8 | E12: 2 | F12: 2022 | G12: 5.5 | H12: =IFERROR(IF(LEN(Calc!R16)=0,"",Calc!R16),"") -> 44608
B13: Rylie Norman | C13: Remotely Working | D13: 1 | E13: 3 | F13: 2022 | G13: 10 | H13: =IFERROR(IF(LEN(Calc!R17)=0,"",Calc!R17),"") -> 44635
B14: Kobe Murphy | C14: Vacation | D14: 5 | E14: 3 | F14: 2022 | G14: 5 | H14: =IFERROR(IF(LEN(Calc!R18)=0,"",Calc!R18),"") -> 44634 | I14: Yes
B15: Jonah Peterson | C15: Sick Leave | D15: 8 | E15: 4 | F15: 2022 | G15: 0.5 | H15: =IFERROR(IF(LEN(Calc!R19)=0,"",Calc!R19),"") -> 44662
B16: Kane Watts | C16: Vacation | D16: 9 | E16: 4 | F16: 2022 | G16: 3 | H16: =IFERROR(IF(LEN(Calc!R20)=0,"",Calc!R20),"") -> 44665
B17: Adalynn Turner | C17: Other | D17: 10 | E17: 5 | F17: 2022 | G17: 5 | H17: =IFERROR(IF(LEN(Calc!R21)=0,"",Calc!R21),"") -> 44698
H18: =IFERROR(IF(LEN(Calc!R22)=0,"",Calc!R22),"")
H19: =IFERROR(IF(LEN(Calc!R23)=0,"",Calc!R23),"")
H20: =IFERROR(IF(LEN(Calc!R24)=0,"",Calc!R24),"")
H21: =IFERROR(IF(LEN(Calc!R25)=0,"",Calc!R25),"")

Sheet Team
B2: EMPLOYEE LEAVE TRACKER
B3: TEAM TRACKER
B5: Year | C5: 2022 | E5: Holiday | J5: =IF(Dashboard!L20="","",Dashboard!L20) -> Vacation | O5: =IF(Dashboard!L21="","",Dashboard!L21) -> Sick Leave | T5: =IF(Dashboard!L22="","",Dashboard!L22) -> Unpaid Leave | AJ5: Next Month: | AM5: =IFERROR(IF(TeamMonth="December",C5+1,C5)&" / "&IF(TeamMonth="December","January",INDEX(Calc!$FB$14:$FB$25,MATCH(TeamMonth,Calc!$FB$14:$FB$25,0)+1)),"") -> 2022 / February
B7: Month | C7: January | E7: =IF(Dashboard!L23="","",Dashboard!L23) -> Other | J7: =IF(Dashboard!L24="","",Dashboard!L24) -> Remotely Working | O7: =IF(Dashboard!L25="","",Dashboard!L25) | T7: =IF(Dashboard!L26="","",Dashboard!L26)
B9: EMPLOYEE | D9: =IFERROR(INDEX(days,MATCH(WEEKDAY(Calc!AE8),Calc!$FA$29:$FA$35,0),3),"") -> Sat | E9: =IFERROR(INDEX(days,MATCH(WEEKDAY(Calc!AF8),Calc!$FA$29:$FA$35,0),3),"") -> Sun | F9: =IFERROR(INDEX(days,MATCH(WEEKDAY(Calc!AG8),Calc!$FA$29:$FA$35,0),3),"") -> Mon | G9: =IFERROR(INDEX(days,MATCH(WEEKDAY(Calc!AH8),Calc!$FA$29:$FA$35,0),3),"") -> Tue | H9: =IFERROR(INDEX(days,MATCH(WEEKDAY(Calc!AI8),Calc!$FA$29:$FA$35,0),3),"") -> Wed | I9: =IFERROR(INDEX(days,MATCH(WEEKDAY(Calc!AJ8),Calc!$FA$29:$FA$35,0),3),"") -> Thu | J9: =IFERROR(INDEX(days,MATCH(WEEKDAY(Calc!AK8),Calc!$FA$29:$FA$35,0),3),"") -> Fri | K9: =IFERROR(INDEX(days,MATCH(WEEKDAY(Calc!AL8),Calc!$FA$29:$FA$35,0),3),"") -> Sat | ... AH9: =IFERROR(INDEX(days,MATCH(WEEKDAY(Calc!BI8),Calc!$FA$29:$FA$35,0),3),"") -> Mon | AJ9: =IFERROR(INDEX(days,MATCH(WEEKDAY(Calc!BK8),Calc!$FA$29:$FA$35,0),3),"") -> Tue | AK9: =IFERROR(INDEX(days,MATCH(WEEKDAY(Calc!BL8),Calc!$FA$29:$FA$35,0),3),"") -> Wed | AL9: =IFERROR(INDEX(days,MATCH(WEEKDAY(Calc!BM8),Calc!$FA$29:$FA$35,0),3),"") -> Thu | AM9: =IFERROR(INDEX(days,MATCH(WEEKDAY(Calc!BN8),Calc!$FA$29:$FA$35,0),3),"") -> Fri | AN9: =IFERROR(INDEX(days,MATCH(WEEKDAY(Calc!BO8),Calc!$FA$29:$FA$35,0),3),"") -> Sat | AO9: =IFERROR(INDEX(days,MATCH(WEEKDAY(Calc!BP8),Calc!$FA$29:$FA$35,0),3),"") -> Sun | AP9: =IFERROR(INDEX(days,MATCH(WEEKDAY(Calc!BQ8),Calc!$FA$29:$FA$35,0),3),"") -> Mon | AQ9: =IFERROR(INDEX(days,MATCH(WEEKDAY(Calc!BR8),Calc!$FA$29:$FA$35,0),3),"") -> Tue | ... BN9: =IFERROR(INDEX(days,MATCH(WEEKDAY(Calc!CO8),Calc!$FA$29:$FA$35,0),3),"") -> Thu
B10: Name | C10: Department | D10: 1 | E10: 2 | F10: 3 | G10: 4 | H10: 5 | I10: 6 | J10: 7 | K10: 8 | L10: 9 | M10: 10 | N10: 11 | O10: 12 | P10: 13 | Q10: 14 | R10: 15 | S10: 16 | T10: 17 | U10: 18 | V10: 19 | W10: 20 | X10: 21 | Y10: 22 | Z10: 23 | AA10: 24 | AB10: 25 | AC10: 26 | AD10: 27 | AE10: 28 | AF10: 29 | AG10: 30 | AH10: 31 | AJ10: 1 | AK10: 2 | AL10: 3 | AM10: 4 | AN10: 5 | AO10: 6 | AP10: 7 | AQ10: 8 | AR10: 9 | AS10: 10 | AT10: 11 | AU10: 12 | AV10: 13 | AW10: 14 | AX10: 15 | AY10: 16 | AZ10: 17 | BA10: 18 | BB10: 19 | BC10: 20 | BD10: 21 | BE10: 22 | BF10: 23 | BG10: 24 | BH10: 25 | BI10: 26 | BJ10: 27 | BK10: 28 | BL10: 29 | BM10: 30 | BN10: 31
B11: =IFERROR(IF(INDEX(TableEmployeeList[],Calc!$AC11,1)="","",INDEX(TableEmployeeList[],Calc!$AC11,1)),"") -> Jonah Peterson | C11: =IFERROR(IF(INDEX(TableEmployeeList[],Calc!$AC11,2)="","",INDEX(TableEmployeeList[],Calc!$AC11,2)),"") -> HR
B12: =IFERROR(IF(INDEX(TableEmployeeList[],Calc!$AC12,1)="","",INDEX(TableEmployeeList[],Calc!$AC12,1)),"") -> Laila Robinson | C12: =IFERROR(IF(INDEX(TableEmployeeList[],Calc!$AC12,2)="","",INDEX(TableEmployeeList[],Calc!$AC12,2)),"") -> Marketing
B13: =IFERROR(IF(INDEX(TableEmployeeList[],Calc!$AC13,1)="","",INDEX(TableEmployeeList[],Calc!$AC13,1)),"") -> Vincent Collins | C13: =IFERROR(IF(INDEX(TableEmployeeList[],Calc!$AC13,2)="","",INDEX(TableEmployeeList[],Calc!$AC13,2)),"") -> Marketing
B14: =IFERROR(IF(INDEX(TableEmployeeList[],Calc!$AC14,1)="","",INDEX(TableEmployeeList[],Calc!$AC14,1)),"") -> Noah Kim | C14: =IFERROR(IF(INDEX(TableEmployeeList[],Calc!$AC14,2)="","",INDEX(TableEmployeeList[],Calc!$AC14,2)),"") -> Finance
B15: =IFERROR(IF(INDEX(TableEmployeeList[],Calc!$AC15,1)="","",INDEX(TableEmployeeList[],Calc!$AC15,1)),"") -> Kane Watts | C15: =IFERROR(IF(INDEX(TableEmployeeList[],Calc!$AC15,2)="","",INDEX(TableEmployeeList[],Calc!$AC15,2)),"") -> Finance
B16: =IFERROR(IF(INDEX(TableEmployeeList[],Calc!$AC16,1)="","",INDEX(TableEmployeeList[],Calc!$AC16,1)),"") -> Ryan Briggs | C16: =IFERROR(IF(INDEX(TableEmployeeList[],Calc!$AC16,2)="","",INDEX(TableEmployeeList[],Calc!$AC16,2)),"") -> Accounting
B17: =IFERROR(IF(INDEX(TableEmployeeList[],Calc!$AC17,1)="","",INDEX(TableEmployeeList[],Calc!$AC17,1)),"") -> Kobe Murphy | C17: =IFERROR(IF(INDEX(TableEmployeeList[],Calc!$AC17,2)="","",INDEX(TableEmployeeList[],Calc!$AC17,2)),"") -> Accounting
B18: =IFERROR(IF(INDEX(TableEmployeeList[],Calc!$AC18,1)="","",INDEX(TableEmployeeList[],Calc!$AC18,1)),"") -> Rylie Norman | C18: =IFERROR(IF(INDEX(TableEmployeeList[],Calc!$AC18,2)="","",INDEX(TableEmployeeList[],Calc!$AC18,2)),"") -> Sales
B19: =IFERROR(IF(INDEX(TableEmployeeList[],Calc!$AC19,1)="","",INDEX(TableEmployeeList[],Calc!$AC19,1)),"") -> Adalynn Turner | C19: =IFERROR(IF(INDEX(TableEmployeeList[],Calc!$AC19,2)="","",INDEX(TableEmployeeList[],Calc!$AC19,2)),"") -> Sales
B20: =IFERROR(IF(INDEX(TableEmployeeList[],Calc!$AC20,1)="","",INDEX(TableEmployeeList[],Calc!$AC20,1)),"") -> Aylin Berry | C20: =IFERROR(IF(INDEX(TableEmployeeList[],Calc!$AC20,2)="","",INDEX(TableEmployeeList[],Calc!$AC20,2)),"") -> Sales
B21: =IFERROR(IF(INDEX(TableEmployeeList[],Calc!$AC21,1)="","",INDEX(TableEmployeeList[],Calc!$AC21,1)),"") | C21: =IFERROR(IF(INDEX(TableEmployeeList[],Calc!$AC21,2)="","",INDEX(TableEmployeeList[],Calc!$AC21,2)),"")
B22: =IFERROR(IF(INDEX(TableEmployeeList[],Calc!$AC22,1)="","",INDEX(TableEmployeeList[],Calc!$AC22,1)),"") | C22: =IFERROR(IF(INDEX(TableEmployeeList[],Calc!$AC22,2)="","",INDEX(TableEmployeeList[],Calc!$AC22,2)),"")
... B510: =IFERROR(IF(INDEX(TableEmployeeList[],Calc!$AC510,1)="","",INDEX(TableEmployeeList[],Calc!$AC510,1)),"") | C510: =IFERROR(IF(INDEX(TableEmployeeList[],Calc!$AC510,2)="","",INDEX(TableEmployeeList[],Calc!$AC510,2)),"")

Sheet Employee
D2: EMPLOYEE LEAVE TRACKER
D3: EMPLOYEE TRACKER
C6: Employee | G6: Jonah Peterson | O6: Holiday | T6: =IF(LEN(Dashboard!L20)=0,"",Dashboard!L20) -> Vacation | Y6: =IF(LEN(Dashboard!L21)=0,"",Dashboard!L21) -> Sick Leave | AD6: =IF(LEN(Dashboard!L22)=0,"",Dashboard!L22) -> Unpaid Leave
C8: Year | G8: 2022 | O8: =IF(LEN(Dashboard!L23)=0,"",Dashboard!L23) -> Other | T8: =IF(LEN(Dashboard!L24)=0,"",Dashboard!L24) -> Remotely Working | Y8: =IF(LEN(Dashboard!L25)=0,"",Dashboard!L25) | AD8: =IF(LEN(Dashboard!L26)=0,"",Dashboard!L26)
C11: January | K11: February | S11: March | AA11: April | AJ11: Employee Leave Card
C12: Mon | D12: Tue | E12: Wed | F12: Thu | G12: Fri | H12: Sat | I12: Sun | K12: Mon | L12: Tue | M12: Wed | N12: Thu | O12: Fri | P12: Sat | Q12: Sun | S12: Mon | T12: Tue | U12: Wed | V12: Thu | W12: Fri | X12: Sat | Y12: Sun | AA12: Mon | AB12: Tue | AC12: Wed | AD12: Thu | AE12: Fri | AF12: Sat | AG12: Sun
C13: =IFERROR(IF(WEEKDAY(Calc!$CR$13)=2,Calc!$CR$13,""),"") | D13: =IFERROR(IF(LEN(C13)>0,C13+1,IF(WEEKDAY(Calc!$CR$13)=3,Calc!$CR$13,"")),"") | E13: =IFERROR(IF(LEN(D13)>0,D13+1,IF(WEEKDAY(Calc!$CR$13)=4,Calc!$CR$13,"")),"") | F13: =IFERROR(IF(LEN(E13)>0,E13+1,IF(WEEKDAY(Calc!$CR$13)=5,Calc!$CR$13,"")),"") | G13: =IFERROR(IF(LEN(F13)>0,F13+1,IF(WEEKDAY(Calc!$CR$13)=6,Calc!$CR$13,"")),"") | H13: =IFERROR(IF(LEN(G13)>0,G13+1,IF(WEEKDAY(Calc!$CR$13)=7,Calc!$CR$13,"")),"") -> 44562 | I13: =IFERROR(IF(LEN(H13)>0,H13+1,IF(WEEKDAY(Calc!$CR$13)=1,Calc!$CR$13,"")),"") -> 44563 | K13: =IFERROR(IF(WEEKDAY(Calc!$CR$14)=2,Calc!$CR$14,""),"") | L13: =IFERROR(IF(LEN(K13)>0,K13+1,IF(WEEKDAY(Calc!$CR$14)=3,Calc!$CR$14,"")),"") -> 44593 | M13: =IFERROR(IF(LEN(L13)>0,L13+1,IF(WEEKDAY(Calc!$CR$14)=4,Calc!$CR$14,"")),"") -> 44594 | N13: =IFERROR(IF(LEN(M13)>0,M13+1,IF(WEEKDAY(Calc!$CR$14)=5,Calc!$CR$14,"")),"") -> 44595 | O13: =IFERROR(IF(LEN(N13)>0,N13+1,IF(WEEKDAY(Calc!$CR$14)=6,Calc!$CR$14,"")),"") -> 44596 | P13: =IFERROR(IF(LEN(O13)>0,O13+1,IF(WEEKDAY(Calc!$CR$14)=7,Calc!$CR$14,"")),"") -> 44597 | Q13: =IFERROR(IF(LEN(P13)>0,P13+1,IF(WEEKDAY(Calc!$CR$14)=1,Calc!$CR$14,"")),"") -> 44598 | S13: =IFERROR(IF(WEEKDAY(Calc!$CR$15)=2,Calc!$CR$15,""),"") | T13: =IFERROR(IF(LEN(S13)>0,S13+1,IF(WEEKDAY(Calc!$CR$15)=3,Calc!$CR$15,"")),"") -> 44621 | U13: =IFERROR(IF(LEN(T13)>0,T13+1,IF(WEEKDAY(Calc!$CR$15)=4,Calc!$CR$15,"")),"") -> 44622 | V13: =IFERROR(IF(LEN(U13)>0,U13+1,IF(WEEKDAY(Calc!$CR$15)=5,Calc!$CR$15,"")),"") -> 44623 | W13: =IFERROR(IF(LEN(V13)>0,V13+1,IF(WEEKDAY(Calc!$CR$15)=6,Calc!$CR$15,"")),"") -> 44624 | X13: =IFERROR(IF(LEN(W13)>0,W13+1,IF(WEEKDAY(Calc!$CR$15)=7,Calc!$CR$15,"")),"") -> 44625 | Y13: =IFERROR(IF(LEN(X13)>0,X13+1,IF(WEEKDAY(Calc!$CR$15)=1,Calc!$CR$15,"")),"") -> 44626 | AA13: =IFERROR(IF(WEEKDAY(Calc!$CR$16)=2,Calc!$CR$16,""),"") | AB13: =IFERROR(IF(LEN(AA13)>0,AA13+1,IF(WEEKDAY(Calc!$CR$16)=3,Calc!$CR$16,"")),"") | AC13: =IFERROR(IF(LEN(AB13)>0,AB13+1,IF(WEEKDAY(Calc!$CR$16)=4,Calc!$CR$16,"")),"") | AD13: =IFERROR(IF(LEN(AC13)>0,AC13+1,IF(WEEKDAY(Calc!$CR$16)=5,Calc!$CR$16,"")),"") | AE13: =IFERROR(IF(LEN(AD13)>0,AD13+1,IF(WEEKDAY(Calc!$CR$16)=6,Calc!$CR$16,"")),"") -> 44652 | AF13: =IFERROR(IF(LEN(AE13)>0,AE13+1,IF(WEEKDAY(Calc!$CR$16)=7,Calc!$CR$16,"")),"") -> 44653 | AG13: =IFERROR(IF(LEN(AF13)>0,AF13+1,IF(WEEKDAY(Calc!$CR$16)=1,Calc!$CR$16,"")),"") -> 44654 | AK13: Entitlement | AL13: Carried Over | AM13: Used | AN13: Remaining
C14: =IFERROR(IF(LEN(I13)=0,"",IF(MONTH(I13+1)=MONTH(I13),I13+1,"")),"") -> 44564 | D14: =IFERROR(IF(LEN(C14)=0,"",IF(MONTH(C14+1)=MONTH(C14),C14+1,"")),"") -> 44565 | E14: =IFERROR(IF(LEN(D14)=0,"",IF(MONTH(D14+1)=MONTH(D14),D14+1,"")),"") -> 44566 | F14: =IFERROR(IF(LEN(E14)=0,"",IF(MONTH(E14+1)=MONTH(E14),E14+1,"")),"") -> 44567 | G14: =IFERROR(IF(LEN(F14)=0,"",IF(MONTH(F14+1)=MONTH(F14),F14+1,"")),"") -> 44568 | H14: =IFERROR(IF(LEN(G14)=0,"",IF(MONTH(G14+1)=MONTH(G14),G14+1,"")),"") -> 44569 | I14: =IFERROR(IF(LEN(H14)=0,"",IF(MONTH(H14+1)=MONTH(H14),H14+1,"")),"") -> 44570 | K14: =IFERROR(IF(LEN(Q13)=0,"",IF(MONTH(Q13+1)=MONTH(Q13),Q13+1,"")),"") -> 44599 | L14: =IFERROR(IF(LEN(K14)=0,"",IF(MONTH(K14+1)=MONTH(K14),K14+1,"")),"") -> 44600 | M14: =IFERROR(IF(LEN(L14)=0,"",IF(MONTH(L14+1)=MONTH(L14),L14+1,"")),"") -> 44601 | N14: =IFERROR(IF(LEN(M14)=0,"",IF(MONTH(M14+1)=MONTH(M14),M14+1,"")),"") -> 44602 | O14: =IFERROR(IF(LEN(N14)=0,"",IF(MONTH(N14+1)=MONTH(N14),N14+1,"")),"") -> 44603 | P14: =IFERROR(IF(LEN(O14)=0,"",IF(MONTH(O14+1)=MONTH(O14),O14+1,"")),"") -> 44604 | Q14: =IFERROR(IF(LEN(P14)=0,"",IF(MONTH(P14+1)=MONTH(P14),P14+1,"")),"") -> 44605 | S14: =IFERROR(IF(LEN(Y13)=0,"",IF(MONTH(Y13+1)=MONTH(Y13),Y13+1,"")),"") -> 44627 | T14: =IFERROR(IF(LEN(S14)=0,"",IF(MONTH(S14+1)=MONTH(S14),S14+1,"")),"") -> 44628 | U14: =IFERROR(IF(LEN(T14)=0,"",IF(MONTH(T14+1)=MONTH(T14),T14+1,"")),"") -> 44629 | V14: =IFERROR(IF(LEN(U14)=0,"",IF(MONTH(U14+1)=MONTH(U14),U14+1,"")),"") -> 44630 | W14: =IFERROR(IF(LEN(V14)=0,"",IF(MONTH(V14+1)=MONTH(V14),V14+1,"")),"") -> 44631 | X14: =IFERROR(IF(LEN(W14)=0,"",IF(MONTH(W14+1)=MONTH(W14),W14+1,"")),"") -> 44632 | Y14: =IFERROR(IF(LEN(X14)=0,"",IF(MONTH(X14+1)=MONTH(X14),X14+1,"")),"") -> 44633 | AA14: =IFERROR(IF(LEN(AG13)=0,"",IF(MONTH(AG13+1)=MONTH(AG13),AG13+1,"")),"") -> 44655 | AB14: =IFERROR(IF(LEN(AA14)=0,"",IF(MONTH(AA14+1)=MONTH(AA14),AA14+1,"")),"") -> 44656 | AC14: =IFERROR(IF(LEN(AB14)=0,"",IF(MONTH(AB14+1)=MONTH(AB14),AB14+1,"")),"") -> 44657 | AD14: =IFERROR(IF(LEN(AC14)=0,"",IF(MONTH(AC14+1)=MONTH(AC14),AC14+1,"")),"") -> 44658 | AE14: =IFERROR(IF(LEN(AD14)=0,"",IF(MONTH(AD14+1)=MONTH(AD14),AD14+1,"")),"") -> 44659 | AF14: =IFERROR(IF(LEN(AE14)=0,"",IF(MONTH(AE14+1)=MONTH(AE14),AE14+1,"")),"") -> 44660 | AG14: =IFERROR(IF(LEN(AF14)=0,"",IF(MONTH(AF14+1)=MONTH(AF14),AF14+1,"")),"") -> 44661 | AJ14: =IF(LEN(Dashboard!L20)=0,"",Dashboard!L20) -> Vacation | AK14: =IFERROR(INDEX(Calc!$EF$14:$EO$20,Calc!ED23,MATCH(Employee!$G$8,Calc!$EF$13:$EO$13,0)),"") -> 20 | AL14: =IFERROR(INDEX(Calc!$EF$33:$EO$39,Calc!ED23,MATCH(Employee!$G$8,Calc!$EF$32:$EO$32,0)),"") -> 0 | AM14: =IFERROR(INDEX(Calc!$EF$23:$EO$29,Calc!ED23,MATCH(Employee!$G$8,Calc!$EF$22:$EO$22,0)),"") -> 1 | AN14: =IFERROR(INDEX(Calc!$EF$43:$EO$49,Calc!ED23,MATCH(Employee!$G$8,Calc!$EF$42:$EO$42,0)),"") -> 19
C15: =IFERROR(IF(LEN(I14)=0,"",IF(MONTH(I14+1)=MONTH(I14),I14+1,"")),"") -> 44571 | D15: =IFERROR(IF(LEN(C15)=0,"",IF(MONTH(C15+1)=MONTH(C15),C15+1,"")),"") -> 44572 | E15: =IFERROR(IF(LEN(D15)=0,"",IF(MONTH(D15+1)=MONTH(D15),D15+1,"")),"") -> 44573 | F15: =IFERROR(IF(LEN(E15)=0,"",IF(MONTH(E15+1)=MONTH(E15),E15+1,"")),"") -> 44574 | G15: =IFERROR(IF(LEN(F15)=0,"",IF(MONTH(F15+1)=MONTH(F15),F15+1,"")),"") -> 44575 | H15: =IFERROR(IF(LEN(G15)=0,"",IF(MONTH(G15+1)=MONTH(G15),G15+1,"")),"") -> 44576 | I15: =IFERROR(IF(LEN(H15)=0,"",IF(MONTH(H15+1)=MONTH(H15),H15+1,"")),"") -> 44577 | K15: =IFERROR(IF(LEN(Q14)=0,"",IF(MONTH(Q14+1)=MONTH(Q14),Q14+1,"")),"") -> 44606 | L15: =IFERROR(IF(LEN(K15)=0,"",IF(MONTH(K15+1)=MONTH(K15),K15+1,"")),"") -> 44607 | M15: =IFERROR(IF(LEN(L15)=0,"",IF(MONTH(L15+1)=MONTH(L15),L15+1,"")),"") -> 44608 | N15: =IFERROR(IF(LEN(M15)=0,"",IF(MONTH(M15+1)=MONTH(M15),M15+1,"")),"") -> 44609 | O15: =IFERROR(IF(LEN(N15)=0,"",IF(MONTH(N15+1)=MONTH(N15),N15+1,"")),"") -> 44610 | P15: =IFERROR(IF(LEN(O15)=0,"",IF(MONTH(O15+1)=MONTH(O15),O15+1,"")),"") -> 44611 | Q15: =IFERROR(IF(LEN(P15)=0,"",IF(MONTH(P15+1)=MONTH(P15),P15+1,"")),"") -> 44612 | S15: =IFERROR(IF(LEN(Y14)=0,"",IF(MONTH(Y14+1)=MONTH(Y14),Y14+1,"")),"") -> 44634 | T15: =IFERROR(IF(LEN(S15)=0,"",IF(MONTH(S15+1)=MONTH(S15),S15+1,"")),"") -> 44635 | U15: =IFERROR(IF(LEN(T15)=0,"",IF(MONTH(T15+1)=MONTH(T15),T15+1,"")),"") -> 44636 | V15: =IFERROR(IF(LEN(U15)=0,"",IF(MONTH(U15+1)=MONTH(U15),U15+1,"")),"") -> 44637 | W15: =IFERROR(IF(LEN(V15)=0,"",IF(MONTH(V15+1)=MONTH(V15),V15+1,"")),"") -> 44638 | X15: =IFERROR(IF(LEN(W15)=0,"",IF(MONTH(W15+1)=MONTH(W15),W15+1,"")),"") -> 44639 | Y15: =IFERROR(IF(LEN(X15)=0,"",IF(MONTH(X15+1)=MONTH(X15),X15+1,"")),"") -> 44640 | AA15: =IFERROR(IF(LEN(AG14)=0,"",IF(MONTH(AG14+1)=MONTH(AG14),AG14+1,"")),"") -> 44662 | AB15: =IFERROR(IF(LEN(AA15)=0,"",IF(MONTH(AA15+1)=MONTH(AA15),AA15+1,"")),"") -> 44663 | AC15: =IFERROR(IF(LEN(AB15)=0,"",IF(MONTH(AB15+1)=MONTH(AB15),AB15+1,"")),"") -> 44664 | AD15: =IFERROR(IF(LEN(AC15)=0,"",IF(MONTH(AC15+1)=MONTH(AC15),AC15+1,"")),"") -> 44665 | AE15: =IFERROR(IF(LEN(AD15)=0,"",IF(MONTH(AD15+1)=MONTH(AD15),AD15+1,"")),"") -> 44666 | AF15: =IFERROR(IF(LEN(AE15)=0,"",IF(MONTH(AE15+1)=MONTH(AE15),AE15+1,"")),"") -> 44667 | AG15: =IFERROR(IF(LEN(AF15)=0,"",IF(MONTH(AF15+1)=MONTH(AF15),AF15+1,"")),"") -> 44668 | AJ15: =IF(LEN(Dashboard!L21)=0,"",Dashboard!L21) -> Sick Leave | AK15: =IFERROR(INDEX(Calc!$EF$14:$EO$20,Calc!ED24,MATCH(Employee!$G$8,Calc!$EF$13:$EO$13,0)),"") -> 10 | AL15: =IFERROR(INDEX(Calc!$EF$33:$EO$39,Calc!ED24,MATCH(Employee!$G$8,Calc!$EF$32:$EO$32,0)),"") -> 0 | AM15: =IFERROR(INDEX(Calc!$EF$23:$EO$29,Calc!ED24,MATCH(Employee!$G$8,Calc!$EF$22:$EO$22,0)),"") -> 0.5 | AN15: =IFERROR(INDEX(Calc!$EF$43:$EO$49,Calc!ED24,MATCH(Employee!$G$8,Calc!$EF$42:$EO$42,0)),"") -> 9.5
C16: =IFERROR(IF(LEN(I15)=0,"",IF(MONTH(I15+1)=MONTH(I15),I15+1,"")),"") -> 44578 | D16: =IFERROR(IF(LEN(C16)=0,"",IF(MONTH(C16+1)=MONTH(C16),C16+1,"")),"") -> 44579 | E16: =IFERROR(IF(LEN(D16)=0,"",IF(MONTH(D16+1)=MONTH(D16),D16+1,"")),"") -> 44580 | F16: =IFERROR(IF(LEN(E16)=0,"",IF(MONTH(E16+1)=MONTH(E16),E16+1,"")),"") -> 44581 | G16: =IFERROR(IF(LEN(F16)=0,"",IF(MONTH(F16+1)=MONTH(F16),F16+1,"")),"") -> 44582 | H16: =IFERROR(IF(LEN(G16)=0,"",IF(MONTH(G16+1)=MONTH(G16),G16+1,"")),"") -> 44583 | I16: =IFERROR(IF(LEN(H16)=0,"",IF(MONTH(H16+1)=MONTH(H16),H16+1,"")),"") -> 44584 | K16: =IFERROR(IF(LEN(Q15)=0,"",IF(MONTH(Q15+1)=MONTH(Q15),Q15+1,"")),"") -> 44613 | L16: =IFERROR(IF(LEN(K16)=0,"",IF(MONTH(K16+1)=MONTH(K16),K16+1,"")),"") -> 44614 | M16: =IFERROR(IF(LEN(L16)=0,"",IF(MONTH(L16+1)=MONTH(L16),L16+1,"")),"") -> 44615 | N16: =IFERROR(IF(LEN(M16)=0,"",IF(MONTH(M16+1)=MONTH(M16),M16+1,"")),"") -> 44616 | O16: =IFERROR(IF(LEN(N16)=0,"",IF(MONTH(N16+1)=MONTH(N16),N16+1,"")),"") -> 44617 | P16: =IFERROR(IF(LEN(O16)=0,"",IF(MONTH(O16+1)=MONTH(O16),O16+1,"")),"") -> 44618 | Q16: =IFERROR(IF(LEN(P16)=0,"",IF(MONTH(P16+1)=MONTH(P16),P16+1,"")),"") -> 44619 | S16: =IFERROR(IF(LEN(Y15)=0,"",IF(MONTH(Y15+1)=MONTH(Y15),Y15+1,"")),"") -> 44641 | T16: =IFERROR(IF(LEN(S16)=0,"",IF(MONTH(S16+1)=MONTH(S16),S16+1,"")),"") -> 44642 | U16: =IFERROR(IF(LEN(T16)=0,"",IF(MONTH(T16+1)=MONTH(T16),T16+1,"")),"") -> 44643 | V16: =IFERROR(IF(LEN(U16)=0,"",IF(MONTH(U16+1)=MONTH(U16),U16+1,"")),"") -> 44644 | W16: =IFERROR(IF(LEN(V16)=0,"",IF(MONTH(V16+1)=MONTH(V16),V16+1,"")),"") -> 44645 | X16: =IFERROR(IF(LEN(W16)=0,"",IF(MONTH(W16+1)=MONTH(W16),W16+1,"")),"") -> 44646 | Y16: =IFERROR(IF(LEN(X16)=0,"",IF(MONTH(X16+1)=MONTH(X16),X16+1,"")),"") -> 44647 | AA16: =IFERROR(IF(LEN(AG15)=0,"",IF(MONTH(AG15+1)=MONTH(AG15),AG15+1,"")),"") -> 44669 | AB16: =IFERROR(IF(LEN(AA16)=0,"",IF(MONTH(AA16+1)=MONTH(AA16),AA16+1,"")),"") -> 44670 | AC16: =IFERROR(IF(LEN(AB16)=0,"",IF(MONTH(AB16+1)=MONTH(AB16),AB16+1,"")),"") -> 44671 | AD16: =IFERROR(IF(LEN(AC16)=0,"",IF(MONTH(AC16+1)=MONTH(AC16),AC16+1,"")),"") -> 44672 | AE16: =IFERROR(IF(LEN(AD16)=0,"",IF(MONTH(AD16+1)=MONTH(AD16),AD16+1,"")),"") -> 44673 | AF16: =IFERROR(IF(LEN(AE16)=0,"",IF(MONTH(AE16+1)=MONTH(AE16),AE16+1,"")),"") -> 44674 | AG16: =IFERROR(IF(LEN(AF16)=0,"",IF(MONTH(AF16+1)=MONTH(AF16),AF16+1,"")),"") -> 44675 | AJ16: =IF(LEN(Dashboard!L22)=0,"",Dashboard!L22) -> Unpaid Leave | AK16: =IFERROR(INDEX(Calc!$EF$14:$EO$20,Calc!ED25,MATCH(Employee!$G$8,Calc!$EF$13:$EO$13,0)),"") -> 30 | AL16: =IFERROR(INDEX(Calc!$EF$33:$EO$39,Calc!ED25,MATCH(Employee!$G$8,Calc!$EF$32:$EO$32,0)),"") -> 0 | AM16: =IFERROR(INDEX(Calc!$EF$23:$EO$29,Calc!ED25,MATCH(Employee!$G$8,Calc!$EF$22:$EO$22,0)),"") -> 0 | AN16: =IFERROR(INDEX(Calc!$EF$43:$EO$49,Calc!ED25,MATCH(Employee!$G$8,Calc!$EF$42:$EO$42,0)),"") -> 30
C17: =IFERROR(IF(LEN(I16)=0,"",IF(MONTH(I16+1)=MONTH(I16),I16+1,"")),"") -> 44585 | D17: =IFERROR(IF(LEN(C17)=0,"",IF(MONTH(C17+1)=MONTH(C17),C17+1,"")),"") -> 44586 | E17: =IFERROR(IF(LEN(D17)=0,"",IF(MONTH(D17+1)=MONTH(D17),D17+1,"")),"") -> 44587 | F17: =IFERROR(IF(LEN(E17)=0,"",IF(MONTH(E17+1)=MONTH(E17),E17+1,"")),"") -> 44588 | G17: =IFERROR(IF(LEN(F17)=0,"",IF(MONTH(F17+1)=MONTH(F17),F17+1,"")),"") -> 44589 | H17: =IFERROR(IF(LEN(G17)=0,"",IF(MONTH(G17+1)=MONTH(G17),G17+1,"")),"") -> 44590 | I17: =IFERROR(IF(LEN(H17)=0,"",IF(MONTH(H17+1)=MONTH(H17),H17+1,"")),"") -> 44591 | K17: =IFERROR(IF(LEN(Q16)=0,"",IF(MONTH(Q16+1)=MONTH(Q16),Q16+1,"")),"") -> 44620 | L17: =IFERROR(IF(LEN(K17)=0,"",IF(MONTH(K17+1)=MONTH(K17),K17+1,"")),"") | M17: =IFERROR(IF(LEN(L17)=0,"",IF(MONTH(L17+1)=MONTH(L17),L17+1,"")),"") | N17: =IFERROR(IF(LEN(M17)=0,"",IF(MONTH(M17+1)=MONTH(M17),M17+1,"")),"") | O17: =IFERROR(IF(LEN(N17)=0,"",IF(MONTH(N17+1)=MONTH(N17),N17+1,"")),"") | P17: =IFERROR(IF(LEN(O17)=0,"",IF(MONTH(O17+1)=MONTH(O17),O17+1,"")),"") | Q17: =IFERROR(IF(LEN(P17)=0,"",IF(MONTH(P17+1)=MONTH(P17),P17+1,"")),"") | S17: =IFERROR(IF(LEN(Y16)=0,"",IF(MONTH(Y16+1)=MONTH(Y16),Y16+1,"")),"") -> 44648 | T17: =IFERROR(IF(LEN(S17)=0,"",IF(MONTH(S17+1)=MONTH(S17),S17+1,"")),"") -> 44649 | U17: =IFERROR(IF(LEN(T17)=0,"",IF(MONTH(T17+1)=MONTH(T17),T17+1,"")),"") -> 44650 | V17: =IFERROR(IF(LEN(U17)=0,"",IF(MONTH(U17+1)=MONTH(U17),U17+1,"")),"") -> 44651 | W17: =IFERROR(IF(LEN(V17)=0,"",IF(MONTH(V17+1)=MONTH(V17),V17+1,"")),"") | X17: =IFERROR(IF(LEN(W17)=0,"",IF(MONTH(W17+1)=MONTH(W17),W17+1,"")),"") | Y17: =IFERROR(IF(LEN(X17)=0,"",IF(MONTH(X17+1)=MONTH(X17),X17+1,"")),"") | AA17: =IFERROR(IF(LEN(AG16)=0,"",IF(MONTH(AG16+1)=MONTH(AG16),AG16+1,"")),"") -> 44676 | AB17: =IFERROR(IF(LEN(AA17)=0,"",IF(MONTH(AA17+1)=MONTH(AA17),AA17+1,"")),"") -> 44677 | AC17: =IFERROR(IF(LEN(AB17)=0,"",IF(MONTH(AB17+1)=MONTH(AB17),AB17+1,"")),"") -> 44678 | AD17: =IFERROR(IF(LEN(AC17)=0,"",IF(MONTH(AC17+1)=MONTH(AC17),AC17+1,"")),"") -> 44679 | AE17: =IFERROR(IF(LEN(AD17)=0,"",IF(MONTH(AD17+1)=MONTH(AD17),AD17+1,"")),"") -> 44680 | AF17: =IFERROR(IF(LEN(AE17)=0,"",IF(MONTH(AE17+1)=MONTH(AE17),AE17+1,"")),"") -> 44681 | AG17: =IFERROR(IF(LEN(AF17)=0,"",IF(MONTH(AF17+1)=MONTH(AF17),AF17+1,"")),"") | AJ17: =IF(LEN(Dashboard!L23)=0,"",Dashboard!L23) -> Other | AK17: =IFERROR(INDEX(Calc!$EF$14:$EO$20,Calc!ED26,MATCH(Employee!$G$8,Calc!$EF$13:$EO$13,0)),"") -> 8 | AL17: =IFERROR(INDEX(Calc!$EF$33:$EO$39,Calc!ED26,MATCH(Employee!$G$8,Calc!$EF$32:$EO$32,0)),"") -> 0 | AM17: =IFERROR(INDEX(Calc!$EF$23:$EO$29,Calc!ED26,MATCH(Employee!$G$8,Calc!$EF$22:$EO$22,0)),"") -> 5.5 | AN17: =IFERROR(INDEX(Calc!$EF$43:$EO$49,Calc!ED26,MATCH(Employee!$G$8,Calc!$EF$42:$EO$42,0)),"") -> 2.5
C18: =IFERROR(IF(LEN(I17)=0,"",IF(MONTH(I17+1)=MONTH(I17),I17+1,"")),"") -> 44592 | D18: =IFERROR(IF(LEN(C18)=0,"",IF(MONTH(C18+1)=MONTH(C18),C18+1,"")),"") | E18: =IFERROR(IF(LEN(D18)=0,"",IF(MONTH(D18+1)=MONTH(D18),D18+1,"")),"") | F18: =IFERROR(IF(LEN(E18)=0,"",IF(MONTH(E18+1)=MONTH(E18),E18+1,"")),"") | G18: =IFERROR(IF(LEN(F18)=0,"",IF(MONTH(F18+1)=MONTH(F18),F18+1,"")),"") | H18: =IFERROR(IF(LEN(G18)=0,"",IF(MONTH(G18+1)=MONTH(G18),G18+1,"")),"") | I18: =IFERROR(IF(LEN(H18)=0,"",IF(MONTH(H18+1)=MONTH(H18),H18+1,"")),"") | K18: =IFERROR(IF(LEN(Q17)=0,"",IF(MONTH(Q17+1)=MONTH(Q17),Q17+1,"")),"") | L18: =IFERROR(IF(LEN(K18)=0,"",IF(MONTH(K18+1)=MONTH(K18),K18+1,"")),"") | M18: =IFERROR(IF(LEN(L18)=0,"",IF(MONTH(L18+1)=MONTH(L18),L18+1,"")),"") | N18: =IFERROR(IF(LEN(M18)=0,"",IF(MONTH(M18+1)=MONTH(M18),M18+1,"")),"") | O18: =IFERROR(IF(LEN(N18)=0,"",IF(MONTH(N18+1)=MONTH(N18),N18+1,"")),"") | P18: =IFERROR(IF(LEN(O18)=0,"",IF(MONTH(O18+1)=MONTH(O18),O18+1,"")),"") | Q18: =IFERROR(IF(LEN(P18)=0,"",IF(MONTH(P18+1)=MONTH(P18),P18+1,"")),"") | S18: =IFERROR(IF(LEN(Y17)=0,"",IF(MONTH(Y17+1)=MONTH(Y17),Y17+1,"")),"") | T18: =IFERROR(IF(LEN(S18)=0,"",IF(MONTH(S18+1)=MONTH(S18),S18+1,"")),"") | U18: =IFERROR(IF(LEN(T18)=0,"",IF(MONTH(T18+1)=MONTH(T18),T18+1,"")),"") | V18: =IFERROR(IF(LEN(U18)=0,"",IF(MONTH(U18+1)=MONTH(U18),U18+1,"")),"") | W18: =IFERROR(IF(LEN(V18)=0,"",IF(MONTH(V18+1)=MONTH(V18),V18+1,"")),"") | X18: =IFERROR(IF(LEN(W18)=0,"",IF(MONTH(W18+1)=MONTH(W18),W18+1,"")),"") | Y18: =IFERROR(IF(LEN(X18)=0,"",IF(MONTH(X18+1)=MONTH(X18),X18+1,"")),"") | AA18: =IFERROR(IF(LEN(AG17)=0,"",IF(MONTH(AG17+1)=MONTH(AG17),AG17+1,"")),"") | AB18: =IFERROR(IF(LEN(AA18)=0,"",IF(MONTH(AA18+1)=MONTH(AA18),AA18+1,"")),"") | AC18: =IFERROR(IF(LEN(AB18)=0,"",IF(MONTH(AB18+1)=MONTH(AB18),AB18+1,"")),"") | AD18: =IFERROR(IF(LEN(AC18)=0,"",IF(MONTH(AC18+1)=MONTH(AC18),AC18+1,"")),"") | AE18: =IFERROR(IF(LEN(AD18)=0,"",IF(MONTH(AD18+1)=MONTH(AD18),AD18+1,"")),"") | AF18: =IFERROR(IF(LEN(AE18)=0,"",IF(MONTH(AE18+1)=MONTH(AE18),AE18+1,"")),"") | AG18: =IFERROR(IF(LEN(AF18)=0,"",IF(MONTH(AF18+1)=MONTH(AF18),AF18+1,"")),"") | AJ18: =IF(LEN(Dashboard!L24)=0,"",Dashboard!L24) -> Remotely Working | AK18: =IFERROR(INDEX(Calc!$EF$14:$EO$20,Calc!ED27,MATCH(Employee!$G$8,Calc!$EF$13:$EO$13,0)),"") -> 20 | AL18: =IFERROR(INDEX(Calc!$EF$33:$EO$39,Calc!ED27,MATCH(Employee!$G$8,Calc!$EF$32:$EO$32,0)),"") -> 0 | AM18: =IFERROR(INDEX(Calc!$EF$23:$EO$29,Calc!ED27,MATCH(Employee!$G$8,Calc!$EF$22:$EO$22,0)),"") -> 0 | AN18: =IFERROR(INDEX(Calc!$EF$43:$EO$49,Calc!ED27,MATCH(Employee!$G$8,Calc!$EF$42:$EO$42,0)),"") -> 20
AJ19: =IF(LEN(Dashboard!L25)=0,"",Dashboard!L25) | AK19: =IFERROR(INDEX(Calc!$EF$14:$EO$20,Calc!ED28,MATCH(Employee!$G$8,Calc!$EF$13:$EO$13,0)),"") -> 0 | AL19: =IFERROR(INDEX(Calc!$EF$33:$EO$39,Calc!ED28,MATCH(Employee!$G$8,Calc!$EF$32:$EO$32,0)),"") -> 0 | AM19: =IFERROR(INDEX(Calc!$EF$23:$EO$29,Calc!ED28,MATCH(Employee!$G$8,Calc!$EF$22:$EO$22,0)),"") -> 0 | AN19: =IFERROR(INDEX(Calc!$EF$43:$EO$49,Calc!ED28,MATCH(Employee!$G$8,Calc!$EF$42:$EO$42,0)),"") -> 0
C20: May | K20: June | S20: July | AA20: August | AJ20: =IF(LEN(Dashboard!L26)=0,"",Dashboard!L26) | AK20: =IFERROR(INDEX(Calc!$EF$14:$EO$20,Calc!ED29,MATCH(Employee!$G$8,Calc!$EF$13:$EO$13,0)),"") -> 0 | AL20: =IFERROR(INDEX(Calc!$EF$33:$EO$39,Calc!ED29,MATCH(Employee!$G$8,Calc!$EF$32:$EO$32,0)),"") -> 0 | AM20: =IFERROR(INDEX(Calc!$EF$23:$EO$29,Calc!ED29,MATCH(Employee!$G$8,Calc!$EF$22:$EO$22,0)),"") -> 0 | AN20: =IFERROR(INDEX(Calc!$EF$43:$EO$49,Calc!ED29,MATCH(Employee!$G$8,Calc!$EF$42:$EO$42,0)),"") -> 0
C21: Mon | D21: Tue | E21: Wed | F21: Thu | G21: Fri | H21: Sat | I21: Sun | K21: Mon | L21: Tue | M21: Wed | N21: Thu | O21: Fri | P21: Sat | Q21: Sun | S21: Mon | T21: Tue | U21: Wed | V21: Thu | W21: Fri | X21: Sat | Y21: Sun | AA21: Mon | AB21: Tue | AC21: Wed | AD21: Thu | AE21: Fri | AF21: Sat | AG21: Sun
C22: =IFERROR(IF(WEEKDAY(Calc!$CR$17)=2,Calc!$CR$17,""),"") | D22: =IFERROR(IF(LEN(C22)>0,C22+1,IF(WEEKDAY(Calc!$CR$17)=3,Calc!$CR$17,"")),"") | E22: =IFERROR(IF(LEN(D22)>0,D22+1,IF(WEEKDAY(Calc!$CR$17)=4,Calc!$CR$17,"")),"") | F22: =IFERROR(IF(LEN(E22)>0,E22+1,IF(WEEKDAY(Calc!$CR$17)=5,Calc!$CR$17,"")),"") | G22: =IFERROR(IF(LEN(F22)>0,F22+1,IF(WEEKDAY(Calc!$CR$17)=6,Calc!$CR$17,"")),"") | H22: =IFERROR(IF(LEN(G22)>0,G22+1,IF(WEEKDAY(Calc!$CR$17)=7,Calc!$CR$17,"")),"") | I22: =IFERROR(IF(LEN(H22)>0,H22+1,IF(WEEKDAY(Calc!$CR$17)=1,Calc!$CR$17,"")),"") -> 44682 | K22: =IFERROR(IF(WEEKDAY(Calc!$CR$18)=2,Calc!$CR$18,""),"") | L22: =IFERROR(IF(LEN(K22)>0,K22+1,IF(WEEKDAY(Calc!$CR$18)=3,Calc!$CR$18,"")),"") | M22: =IFERROR(IF(LEN(L22)>0,L22+1,IF(WEEKDAY(Calc!$CR$18)=4,Calc!$CR$18,"")),"") -> 44713 | N22: =IFERROR(IF(LEN(M22)>0,M22+1,IF(WEEKDAY(Calc!$CR$18)=5,Calc!$CR$18,"")),"") -> 44714 | O22: =IFERROR(IF(LEN(N22)>0,N22+1,IF(WEEKDAY(Calc!$CR$18)=6,Calc!$CR$18,"")),"") -> 44715 | P22: =IFERROR(IF(LEN(O22)>0,O22+1,IF(WEEKDAY(Calc!$CR$18)=7,Calc!$CR$18,"")),"") -> 44716 | Q22: =IFERROR(IF(LEN(P22)>0,P22+1,IF(WEEKDAY(Calc!$CR$18)=1,Calc!$CR$18,"")),"") -> 44717 | S22: =IFERROR(IF(WEEKDAY(Calc!$CR$19)=2,Calc!$CR$19,""),"") | T22: =IFERROR(IF(LEN(S22)>0,S22+1,IF(WEEKDAY(Calc!$CR$19)=3,Calc!$CR$19,"")),"") | U22: =IFERROR(IF(LEN(T22)>0,T22+1,IF(WEEKDAY(Calc!$CR$19)=4,Calc!$CR$19,"")),"") | V22: =IFERROR(IF(LEN(U22)>0,U22+1,IF(WEEKDAY(Calc!$CR$19)=5,Calc!$CR$19,"")),"") | W22: =IFERROR(IF(LEN(V22)>0,V22+1,IF(WEEKDAY(Calc!$CR$19)=6,Calc!$CR$19,"")),"") -> 44743 | X22: =IFERROR(IF(LEN(W22)>0,W22+1,IF(WEEKDAY(Calc!$CR$19)=7,Calc!$CR$19,"")),"") -> 44744 | Y22: =IFERROR(IF(LEN(X22)>0,X22+1,IF(WEEKDAY(Calc!$CR$19)=1,Calc!$CR$19,"")),"") -> 44745 | AA22: =IFERROR(IF(WEEKDAY(Calc!$CR$20)=2,Calc!$CR$20,""),"") -> 44774 | AB22: =IFERROR(IF(LEN(AA22)>0,AA22+1,IF(WEEKDAY(Calc!$CR$20)=3,Calc!$CR$20,"")),"") -> 44775 | AC22: =IFERROR(IF(LEN(AB22)>0,AB22+1,IF(WEEKDAY(Calc!$CR$20)=4,Calc!$CR$20,"")),"") -> 44776 | AD22: =IFERROR(IF(LEN(AC22)>0,AC22+1,IF(WEEKDAY(Calc!$CR$20)=5,Calc!$CR$20,"")),"") -> 44777 | AE22: =IFERROR(IF(LEN(AD22)>0,AD22+1,IF(WEEKDAY(Calc!$CR$20)=6,Calc!$CR$20,"")),"") -> 44778 | AF22: =IFERROR(IF(LEN(AE22)>0,AE22+1,IF(WEEKDAY(Calc!$CR$20)=7,Calc!$CR$20,"")),"") -> 44779 | AG22: =IFERROR(IF(LEN(AF22)>0,AF22+1,IF(WEEKDAY(Calc!$CR$20)=1,Calc!$CR$20,"")),"") -> 44780
C23: =IFERROR(IF(LEN(I22)=0,"",IF(MONTH(I22+1)=MONTH(I22),I22+1,"")),"") -> 44683 | D23: =IFERROR(IF(LEN(C23)=0,"",IF(MONTH(C23+1)=MONTH(C23),C23+1,"")),"") -> 44684 | E23: =IFERROR(IF(LEN(D23)=0,"",IF(MONTH(D23+1)=MONTH(D23),D23+1,"")),"") -> 44685 | F23: =IFERROR(IF(LEN(E23)=0,"",IF(MONTH(E23+1)=MONTH(E23),E23+1,"")),"") -> 44686 | G23: =IFERROR(IF(LEN(F23)=0,"",IF(MONTH(F23+1)=MONTH(F23),F23+1,"")),"") -> 44687 | H23: =IFERROR(IF(LEN(G23)=0,"",IF(MONTH(G23+1)=MONTH(G23),G23+1,"")),"") -> 44688 | I23: =IFERROR(IF(LEN(H23)=0,"",IF(MONTH(H23+1)=MONTH(H23),H23+1,"")),"") -> 44689 | K23: =IFERROR(IF(LEN(Q22)=0,"",IF(MONTH(Q22+1)=MONTH(Q22),Q22+1,"")),"") -> 44718 | L23: =IFERROR(IF(LEN(K23)=0,"",IF(MONTH(K23+1)=MONTH(K23),K23+1,"")),"") -> 44719 | M23: =IFERROR(IF(LEN(L23)=0,"",IF(MONTH(L23+1)=MONTH(L23),L23+1,"")),"") -> 44720 | N23: =IFERROR(IF(LEN(M23)=0,"",IF(MONTH(M23+1)=MONTH(M23),M23+1,"")),"") -> 44721 | O23: =IFERROR(IF(LEN(N23)=0,"",IF(MONTH(N23+1)=MONTH(N23),N23+1,"")),"") -> 44722 | P23: =IFERROR(IF(LEN(O23)=0,"",IF(MONTH(O23+1)=MONTH(O23),O23+1,"")),"") -> 44723 | Q23: =IFERROR(IF(LEN(P23)=0,"",IF(MONTH(P23+1)=MONTH(P23),P23+1,"")),"") -> 44724 | S23: =IFERROR(IF(LEN(Y22)=0,"",IF(MONTH(Y22+1)=MONTH(Y22),Y22+1,"")),"") -> 44746 | T23: =IFERROR(IF(LEN(S23)=0,"",IF(MONTH(S23+1)=MONTH(S23),S23+1,"")),"") -> 44747 | U23: =IFERROR(IF(LEN(T23)=0,"",IF(MONTH(T23+1)=MONTH(T23),T23+1,"")),"") -> 44748 | V23: =IFERROR(IF(LEN(U23)=0,"",IF(MONTH(U23+1)=MONTH(U23),U23+1,"")),"") -> 44749 | W23: =IFERROR(IF(LEN(V23)=0,"",IF(MONTH(V23+1)=MONTH(V23),V23+1,"")),"") -> 44750 | X23: =IFERROR(IF(LEN(W23)=0,"",IF(MONTH(W23+1)=MONTH(W23),W23+1,"")),"") -> 44751 | Y23: =IFERROR(IF(LEN(X23)=0,"",IF(MONTH(X23+1)=MONTH(X23),X23+1,"")),"") -> 44752 | AA23: =IFERROR(IF(LEN(AG22)=0,"",IF(MONTH(AG22+1)=MONTH(AG22),AG22+1,"")),"") -> 44781 | AB23: =IFERROR(IF(LEN(AA23)=0,"",IF(MONTH(AA23+1)=MONTH(AA23),AA23+1,"")),"") -> 44782 | AC23: =IFERROR(IF(LEN(AB23)=0,"",IF(MONTH(AB23+1)=MONTH(AB23),AB23+1,"")),"") -> 44783 | AD23: =IFERROR(IF(LEN(AC23)=0,"",IF(MONTH(AC23+1)=MONTH(AC23),AC23+1,"")),"") -> 44784 | AE23: =IFERROR(IF(LEN(AD23)=0,"",IF(MONTH(AD23+1)=MONTH(AD23),AD23+1,"")),"") -> 44785 | AF23: =IFERROR(IF(LEN(AE23)=0,"",IF(MONTH(AE23+1)=MONTH(AE23),AE23+1,"")),"") -> 44786 | AG23: =IFERROR(IF(LEN(AF23)=0,"",IF(MONTH(AF23+1)=MONTH(AF23),AF23+1,"")),"") -> 44787 | AJ23: Monthly Absence Breakdown
C24: =IFERROR(IF(LEN(I23)=0,"",IF(MONTH(I23+1)=MONTH(I23),I23+1,"")),"") -> 44690 | D24: =IFERROR(IF(LEN(C24)=0,"",IF(MONTH(C24+1)=MONTH(C24),C24+1,"")),"") -> 44691 | E24: =IFERROR(IF(LEN(D24)=0,"",IF(MONTH(D24+1)=MONTH(D24),D24+1,"")),"") -> 44692 | F24: =IFERROR(IF(LEN(E24)=0,"",IF(MONTH(E24+1)=MONTH(E24),E24+1,"")),"") -> 44693 | G24: =IFERROR(IF(LEN(F24)=0,"",IF(MONTH(F24+1)=MONTH(F24),F24+1,"")),"") -> 44694 | H24: =IFERROR(IF(LEN(G24)=0,"",IF(MONTH(G24+1)=MONTH(G24),G24+1,"")),"") -> 44695 | I24: =IFERROR(IF(LEN(H24)=0,"",IF(MONTH(H24+1)=MONTH(H24),H24+1,"")),"") -> 44696 | K24: =IFERROR(IF(LEN(Q23)=0,"",IF(MONTH(Q23+1)=MONTH(Q23),Q23+1,"")),"") -> 44725 | L24: =IFERROR(IF(LEN(K24)=0,"",IF(MONTH(K24+1)=MONTH(K24),K24+1,"")),"") -> 44726 | M24: =IFERROR(IF(LEN(L24)=0,"",IF(MONTH(L24+1)=MONTH(L24),L24+1,"")),"") -> 44727 | N24: =IFERROR(IF(LEN(M24)=0,"",IF(MONTH(M24+1)=MONTH(M24),M24+1,"")),"") -> 44728 | O24: =IFERROR(IF(LEN(N24)=0,"",IF(MONTH(N24+1)=MONTH(N24),N24+1,"")),"") -> 44729 | P24: =IFERROR(IF(LEN(O24)=0,"",IF(MONTH(O24+1)=MONTH(O24),O24+1,"")),"") -> 44730 | Q24: =IFERROR(IF(LEN(P24)=0,"",IF(MONTH(P24+1)=MONTH(P24),P24+1,"")),"") -> 44731 | S24: =IFERROR(IF(LEN(Y23)=0,"",IF(MONTH(Y23+1)=MONTH(Y23),Y23+1,"")),"") -> 44753 | T24: =IFERROR(IF(LEN(S24)=0,"",IF(MONTH(S24+1)=MONTH(S24),S24+1,"")),"") -> 44754 | U24: =IFERROR(IF(LEN(T24)=0,"",IF(MONTH(T24+1)=MONTH(T24),T24+1,"")),"") -> 44755 | V24: =IFERROR(IF(LEN(U24)=0,"",IF(MONTH(U24+1)=MONTH(U24),U24+1,"")),"") -> 44756 | W24: =IFERROR(IF(LEN(V24)=0,"",IF(MONTH(V24+1)=MONTH(V24),V24+1,"")),"") -> 44757 | X24: =IFERROR(IF(LEN(W24)=0,"",IF(MONTH(W24+1)=MONTH(W24),W24+1,"")),"") -> 44758 | Y24: =IFERROR(IF(LEN(X24)=0,"",IF(MONTH(X24+1)=MONTH(X24),X24+1,"")),"") -> 44759 | AA24: =IFERROR(IF(LEN(AG23)=0,"",IF(MONTH(AG23+1)=MONTH(AG23),AG23+1,"")),"") -> 44788 | AB24: =IFERROR(IF(LEN(AA24)=0,"",IF(MONTH(AA24+1)=MONTH(AA24),AA24+1,"")),"") -> 44789 | AC24: =IFERROR(IF(LEN(AB24)=0,"",IF(MONTH(AB24+1)=MONTH(AB24),AB24+1,"")),"") -> 44790 | AD24: =IFERROR(IF(LEN(AC24)=0,"",IF(MONTH(AC24+1)=MONTH(AC24),AC24+1,"")),"") -> 44791 | AE24: =IFERROR(IF(LEN(AD24)=0,"",IF(MONTH(AD24+1)=MONTH(AD24),AD24+1,"")),"") -> 44792 | AF24: =IFERROR(IF(LEN(AE24)=0,"",IF(MONTH(AE24+1)=MONTH(AE24),AE24+1,"")),"") -> 44793 | AG24: =IFERROR(IF(LEN(AF24)=0,"",IF(MONTH(AF24+1)=MONTH(AF24),AF24+1,"")),"") -> 44794
C25: =IFERROR(IF(LEN(I24)=0,"",IF(MONTH(I24+1)=MONTH(I24),I24+1,"")),"") -> 44697 | D25: =IFERROR(IF(LEN(C25)=0,"",IF(MONTH(C25+1)=MONTH(C25),C25+1,"")),"") -> 44698 | E25: =IFERROR(IF(LEN(D25)=0,"",IF(MONTH(D25+1)=MONTH(D25),D25+1,"")),"") -> 44699 | F25: =IFERROR(IF(LEN(E25)=0,"",IF(MONTH(E25+1)=MONTH(E25),E25+1,"")),"") -> 44700 | G25: =IFERROR(IF(LEN(F25)=0,"",IF(MONTH(F25+1)=MONTH(F25),F25+1,"")),"") -> 44701 | H25: =IFERROR(IF(LEN(G25)=0,"",IF(MONTH(G25+1)=MONTH(G25),G25+1,"")),"") -> 44702 | I25: =IFERROR(IF(LEN(H25)=0,"",IF(MONTH(H25+1)=MONTH(H25),H25+1,"")),"") -> 44703 | K25: =IFERROR(IF(LEN(Q24)=0,"",IF(MONTH(Q24+1)=MONTH(Q24),Q24+1,"")),"") -> 44732 | L25: =IFERROR(IF(LEN(K25)=0,"",IF(MONTH(K25+1)=MONTH(K25),K25+1,"")),"") -> 44733 | M25: =IFERROR(IF(LEN(L25)=0,"",IF(MONTH(L25+1)=MONTH(L25),L25+1,"")),"") -> 44734 | N25: =IFERROR(IF(LEN(M25)=0,"",IF(MONTH(M25+1)=MONTH(M25),M25+1,"")),"") -> 44735 | O25: =IFERROR(IF(LEN(N25)=0,"",IF(MONTH(N25+1)=MONTH(N25),N25+1,"")),"") -> 44736 | P25: =IFERROR(IF(LEN(O25)=0,"",IF(MONTH(O25+1)=MONTH(O25),O25+1,"")),"") -> 44737 | Q25: =IFERROR(IF(LEN(P25)=0,"",IF(MONTH(P25+1)=MONTH(P25),P25+1,"")),"") -> 44738 | S25: =IFERROR(IF(LEN(Y24)=0,"",IF(MONTH(Y24+1)=MONTH(Y24),Y24+1,"")),"") -> 44760 | T25: =IFERROR(IF(LEN(S25)=0,"",IF(MONTH(S25+1)=MONTH(S25),S25+1,"")),"") -> 44761 | U25: =IFERROR(IF(LEN(T25)=0,"",IF(MONTH(T25+1)=MONTH(T25),T25+1,"")),"") -> 44762 | V25: =IFERROR(IF(LEN(U25)=0,"",IF(MONTH(U25+1)=MONTH(U25),U25+1,"")),"") -> 44763 | W25: =IFERROR(IF(LEN(V25)=0,"",IF(MONTH(V25+1)=MONTH(V25),V25+1,"")),"") -> 44764 | X25: =IFERROR(IF(LEN(W25)=0,"",IF(MONTH(W25+1)=MONTH(W25),W25+1,"")),"") -> 44765 | Y25: =IFERROR(IF(LEN(X25)=0,"",IF(MONTH(X25+1)=MONTH(X25),X25+1,"")),"") -> 44766 | AA25: =IFERROR(IF(LEN(AG24)=0,"",IF(MONTH(AG24+1)=MONTH(AG24),AG24+1,"")),"") -> 44795 | AB25: =IFERROR(IF(LEN(AA25)=0,"",IF(MONTH(AA25+1)=MONTH(AA25),AA25+1,"")),"") -> 44796 | AC25: =IFERROR(IF(LEN(AB25)=0,"",IF(MONTH(AB25+1)=MONTH(AB25),AB25+1,"")),"") -> 44797 | AD25: =IFERROR(IF(LEN(AC25)=0,"",IF(MONTH(AC25+1)=MONTH(AC25),AC25+1,"")),"") -> 44798 | AE25: =IFERROR(IF(LEN(AD25)=0,"",IF(MONTH(AD25+1)=MONTH(AD25),AD25+1,"")),"") -> 44799 | AF25: =IFERROR(IF(LEN(AE25)=0,"",IF(MONTH(AE25+1)=MONTH(AE25),AE25+1,"")),"") -> 44800 | AG25: =IFERROR(IF(LEN(AF25)=0,"",IF(MONTH(AF25+1)=MONTH(AF25),AF25+1,"")),"") -> 44801 | AJ25: Leave Type | AK25: All
C26: =IFERROR(IF(LEN(I25)=0,"",IF(MONTH(I25+1)=MONTH(I25),I25+1,"")),"") -> 44704 | D26: =IFERROR(IF(LEN(C26)=0,"",IF(MONTH(C26+1)=MONTH(C26),C26+1,"")),"") -> 44705 | E26: =IFERROR(IF(LEN(D26)=0,"",IF(MONTH(D26+1)=MONTH(D26),D26+1,"")),"") -> 44706 | F26: =IFERROR(IF(LEN(E26)=0,"",IF(MONTH(E26+1)=MONTH(E26),E26+1,"")),"") -> 44707 | G26: =IFERROR(IF(LEN(F26)=0,"",IF(MONTH(F26+1)=MONTH(F26),F26+1,"")),"") -> 44708 | H26: =IFERROR(IF(LEN(G26)=0,"",IF(MONTH(G26+1)=MONTH(G26),G26+1,"")),"") -> 44709 | I26: =IFERROR(IF(LEN(H26)=0,"",IF(MONTH(H26+1)=MONTH(H26),H26+1,"")),"") -> 44710 | K26: =IFERROR(IF(LEN(Q25)=0,"",IF(MONTH(Q25+1)=MONTH(Q25),Q25+1,"")),"") -> 44739 | L26: =IFERROR(IF(LEN(K26)=0,"",IF(MONTH(K26+1)=MONTH(K26),K26+1,"")),"") -> 44740 | M26: =IFERROR(IF(LEN(L26)=0,"",IF(MONTH(L26+1)=MONTH(L26),L26+1,"")),"") -> 44741 | N26: =IFERROR(IF(LEN(M26)=0,"",IF(MONTH(M26+1)=MONTH(M26),M26+1,"")),"") -> 44742 | O26: =IFERROR(IF(LEN(N26)=0,"",IF(MONTH(N26+1)=MONTH(N26),N26+1,"")),"") | P26: =IFERROR(IF(LEN(O26)=0,"",IF(MONTH(O26+1)=MONTH(O26),O26+1,"")),"") | Q26: =IFERROR(IF(LEN(P26)=0,"",IF(MONTH(P26+1)=MONTH(P26),P26+1,"")),"") | S26: =IFERROR(IF(LEN(Y25)=0,"",IF(MONTH(Y25+1)=MONTH(Y25),Y25+1,"")),"") -> 44767 | T26: =IFERROR(IF(LEN(S26)=0,"",IF(MONTH(S26+1)=MONTH(S26),S26+1,"")),"") -> 44768 | U26: =IFERROR(IF(LEN(T26)=0,"",IF(MONTH(T26+1)=MONTH(T26),T26+1,"")),"") -> 44769 | V26: =IFERROR(IF(LEN(U26)=0,"",IF(MONTH(U26+1)=MONTH(U26),U26+1,"")),"") -> 44770 | W26: =IFERROR(IF(LEN(V26)=0,"",IF(MONTH(V26+1)=MONTH(V26),V26+1,"")),"") -> 44771 | X26: =IFERROR(IF(LEN(W26)=0,"",IF(MONTH(W26+1)=MONTH(W26),W26+1,"")),"") -> 44772 | Y26: =IFERROR(IF(LEN(X26)=0,"",IF(MONTH(X26+1)=MONTH(X26),X26+1,"")),"") -> 44773 | AA26: =IFERROR(IF(LEN(AG25)=0,"",IF(MONTH(AG25+1)=MONTH(AG25),AG25+1,"")),"") -> 44802 | AB26: =IFERROR(IF(LEN(AA26)=0,"",IF(MONTH(AA26+1)=MONTH(AA26),AA26+1,"")),"") -> 44803 | AC26: =IFERROR(IF(LEN(AB26)=0,"",IF(MONTH(AB26+1)=MONTH(AB26),AB26+1,"")),"") -> 44804 | AD26: =IFERROR(IF(LEN(AC26)=0,"",IF(MONTH(AC26+1)=MONTH(AC26),AC26+1,"")),"") | AE26: =IFERROR(IF(LEN(AD26)=0,"",IF(MONTH(AD26+1)=MONTH(AD26),AD26+1,"")),"") | AF26: =IFERROR(IF(LEN(AE26)=0,"",IF(MONTH(AE26+1)=MONTH(AE26),AE26+1,"")),"") | AG26: =IFERROR(IF(LEN(AF26)=0,"",IF(MONTH(AF26+1)=MONTH(AF26),AF26+1,"")),"")
C27: =IFERROR(IF(LEN(I26)=0,"",IF(MONTH(I26+1)=MONTH(I26),I26+1,"")),"") -> 44711 | D27: =IFERROR(IF(LEN(C27)=0,"",IF(MONTH(C27+1)=MONTH(C27),C27+1,"")),"") -> 44712 | E27: =IFERROR(IF(LEN(D27)=0,"",IF(MONTH(D27+1)=MONTH(D27),D27+1,"")),"") | F27: =IFERROR(IF(LEN(E27)=0,"",IF(MONTH(E27+1)=MONTH(E27),E27+1,"")),"") | G27: =IFERROR(IF(LEN(F27)=0,"",IF(MONTH(F27+1)=MONTH(F27),F27+1,"")),"") | H27: =IFERROR(IF(LEN(G27)=0,"",IF(MONTH(G27+1)=MONTH(G27),G27+1,"")),"") | I27: =IFERROR(IF(LEN(H27)=0,"",IF(MONTH(H27+1)=MONTH(H27),H27+1,"")),"") | K27: =IFERROR(IF(LEN(Q26)=0,"",IF(MONTH(Q26+1)=MONTH(Q26),Q26+1,"")),"") | L27: =IFERROR(IF(LEN(K27)=0,"",IF(MONTH(K27+1)=MONTH(K27),K27+1,"")),"") | M27: =IFERROR(IF(LEN(L27)=0,"",IF(MONTH(L27+1)=MONTH(L27),L27+1,"")),"") | N27: =IFERROR(IF(LEN(M27)=0,"",IF(MONTH(M27+1)=MONTH(M27),M27+1,"")),"") | O27: =IFERROR(IF(LEN(N27)=0,"",IF(MONTH(N27+1)=MONTH(N27),N27+1,"")),"") | P27: =IFERROR(IF(LEN(O27)=0,"",IF(MONTH(O27+1)=MONTH(O27),O27+1,"")),"") | Q27: =IFERROR(IF(LEN(P27)=0,"",IF(MONTH(P27+1)=MONTH(P27),P27+1,"")),"") | S27: =IFERROR(IF(LEN(Y26)=0,"",IF(MONTH(Y26+1)=MONTH(Y26),Y26+1,"")),"") | T27: =IFERROR(IF(LEN(S27)=0,"",IF(MONTH(S27+1)=MONTH(S27),S27+1,"")),"") | U27: =IFERROR(IF(LEN(T27)=0,"",IF(MONTH(T27+1)=MONTH(T27),T27+1,"")),"") | V27: =IFERROR(IF(LEN(U27)=0,"",IF(MONTH(U27+1)=MONTH(U27),U27+1,"")),"") | W27: =IFERROR(IF(LEN(V27)=0,"",IF(MONTH(V27+1)=MONTH(V27),V27+1,"")),"") | X27: =IFERROR(IF(LEN(W27)=0,"",IF(MONTH(W27+1)=MONTH(W27),W27+1,"")),"") | Y27: =IFERROR(IF(LEN(X27)=0,"",IF(MONTH(X27+1)=MONTH(X27),X27+1,"")),"") | AA27: =IFERROR(IF(LEN(AG26)=0,"",IF(MONTH(AG26+1)=MONTH(AG26),AG26+1,"")),"") | AB27: =IFERROR(IF(LEN(AA27)=0,"",IF(MONTH(AA27+1)=MONTH(AA27),AA27+1,"")),"") | AC27: =IFERROR(IF(LEN(AB27)=0,"",IF(MONTH(AB27+1)=MONTH(AB27),AB27+1,"")),"") | AD27: =IFERROR(IF(LEN(AC27)=0,"",IF(MONTH(AC27+1)=MONTH(AC27),AC27+1,"")),"") | AE27: =IFERROR(IF(LEN(AD27)=0,"",IF(MONTH(AD27+1)=MONTH(AD27),AD27+1,"")),"") | AF27: =IFERROR(IF(LEN(AE27)=0,"",IF(MONTH(AE27+1)=MONTH(AE27),AE27+1,"")),"") | AG27: =IFERROR(IF(LEN(AF27)=0,"",IF(MONTH(AF27+1)=MONTH(AF27),AF27+1,"")),"")
C29: September | K29: October | S29: November | AA29: December
C30: Mon | D30: Tue | E30: Wed | F30: Thu | G30: Fri | H30: Sat | I30: Sun | K30: Mon | L30: Tue | M30: Wed | N30: Thu | O30: Fri | P30: Sat | Q30: Sun | S30: Mon | T30: Tue | U30: Wed | V30: Thu | W30: Fri | X30: Sat | Y30: Sun | AA30: Mon | AB30: Tue | AC30: Wed | AD30: Thu | AE30: Fri | AF30: Sat | AG30: Sun
C31: =IFERROR(IF(WEEKDAY(Calc!$CR$21)=2,Calc!$CR$21,""),"") | D31: =IFERROR(IF(LEN(C31)>0,C31+1,IF(WEEKDAY(Calc!$CR$21)=3,Calc!$CR$21,"")),"") | E31: =IFERROR(IF(LEN(D31)>0,D31+1,IF(WEEKDAY(Calc!$CR$21)=4,Calc!$CR$21,"")),"") | F31: =IFERROR(IF(LEN(E31)>0,E31+1,IF(WEEKDAY(Calc!$CR$21)=5,Calc!$CR$21,"")),"") -> 44805 | G31: =IFERROR(IF(LEN(F31)>0,F31+1,IF(WEEKDAY(Calc!$CR$21)=6,Calc!$CR$21,"")),"") -> 44806 | H31: =IFERROR(IF(LEN(G31)>0,G31+1,IF(WEEKDAY(Calc!$CR$21)=7,Calc!$CR$21,"")),"") -> 44807 | I31: =IFERROR(IF(LEN(H31)>0,H31+1,IF(WEEKDAY(Calc!$CR$21)=1,Calc!$CR$21,"")),"") -> 44808 | K31: =IFERROR(IF(WEEKDAY(Calc!$CR$22)=2,Calc!$CR$22,""),"") | L31: =IFERROR(IF(LEN(K31)>0,K31+1,IF(WEEKDAY(Calc!$CR$22)=3,Calc!$CR$22,"")),"") | M31: =IFERROR(IF(LEN(L31)>0,L31+1,IF(WEEKDAY(Calc!$CR$22)=4,Calc!$CR$22,"")),"") | N31: =IFERROR(IF(LEN(M31)>0,M31+1,IF(WEEKDAY(Calc!$CR$22)=5,Calc!$CR$22,"")),"") | O31: =IFERROR(IF(LEN(N31)>0,N31+1,IF(WEEKDAY(Calc!$CR$22)=6,Calc!$CR$22,"")),"") | P31: =IFERROR(IF(LEN(O31)>0,O31+1,IF(WEEKDAY(Calc!$CR$22)=7,Calc!$CR$22,"")),"") -> 44835 | Q31: =IFERROR(IF(LEN(P31)>0,P31+1,IF(WEEKDAY(Calc!$CR$22)=1,Calc!$CR$22,"")),"") -> 44836 | S31: =IFERROR(IF(WEEKDAY(Calc!$CR$23)=2,Calc!$CR$23,""),"") | T31: =IFERROR(IF(LEN(S31)>0,S31+1,IF(WEEKDAY(Calc!$CR$23)=3,Calc!$CR$23,"")),"") -> 44866 | U31: =IFERROR(IF(LEN(T31)>0,T31+1,IF(WEEKDAY(Calc!$CR$23)=4,Calc!$CR$23,"")),"") -> 44867 | V31: =IFERROR(IF(LEN(U31)>0,U31+1,IF(WEEKDAY(Calc!$CR$23)=5,Calc!$CR$23,"")),"") -> 44868 | W31: =IFERROR(IF(LEN(V31)>0,V31+1,IF(WEEKDAY(Calc!$CR$23)=6,Calc!$CR$23,"")),"") -> 44869 | X31: =IFERROR(IF(LEN(W31)>0,W31+1,IF(WEEKDAY(Calc!$CR$23)=7,Calc!$CR$23,"")),"") -> 44870 | Y31: =IFERROR(IF(LEN(X31)>0,X31+1,IF(WEEKDAY(Calc!$CR$23)=1,Calc!$CR$23,"")),"") -> 44871 | AA31: =IFERROR(IF(WEEKDAY(Calc!$CR$24)=2,Calc!$CR$24,""),"") | AB31: =IFERROR(IF(LEN(AA31)>0,AA31+1,IF(WEEKDAY(Calc!$CR$24)=3,Calc!$CR$24,"")),"") | AC31: =IFERROR(IF(LEN(AB31)>0,AB31+1,IF(WEEKDAY(Calc!$CR$24)=4,Calc!$CR$24,"")),"") | AD31: =IFERROR(IF(LEN(AC31)>0,AC31+1,IF(WEEKDAY(Calc!$CR$24)=5,Calc!$CR$24,"")),"") -> 44896 | AE31: =IFERROR(IF(LEN(AD31)>0,AD31+1,IF(WEEKDAY(Calc!$CR$24)=6,Calc!$CR$24,"")),"") -> 44897 | AF31: =IFERROR(IF(LEN(AE31)>0,AE31+1,IF(WEEKDAY(Calc!$CR$24)=7,Calc!$CR$24,"")),"") -> 44898 | AG31: =IFERROR(IF(LEN(AF31)>0,AF31+1,IF(WEEKDAY(Calc!$CR$24)=1,Calc!$CR$24,"")),"") -> 44899
