Workbook
Name days: Calc!$FA$29:$FC$35
Name EmployeeOption: Employee!$G$6
Name Holidays: Dashboard!$C$20:$C$69
Name MainReg: Calc!$D$11:$X$25
Name months: Calc!$FA$14:$FC$25
Name StartYear: Calc!$FC$40
Name TeamMonth: Team!$C$7
Name types: Dashboard!$L$20:$L$26

Sheet Dashboard
C2: EMPLOYEE LEAVE TRACKER
C3: DASHBOARD
C17: SETTINGS
C19: Holidays | D19: Description [Optional] | F19: Departments | H19: Work Days | K19: Colors | L19: Leave Types | M19: Carry Over to Next Year? | O19: Starting Year
C20: 44562 | D20: New Year's Day | F20: Sales | H20: Mon | I20: Yes | L20: Vacation | M20: Yes | O20: 2022
C21: 44578 | D21: Martin Luther King Jr. Day | F21: Marketing | H21: Tue | I21: Yes | L21: Sick Leave | M21: No
C22: 44613 | D22: President's Day | F22: Accounting | H22: Wed | I22: Yes | L22: Unpaid Leave | M22: Yes
C23: 44711 | D23: Memorial Day | F23: Finance | H23: Thu | I23: Yes | L23: Other | M23: Yes
C24: 44746 | D24: Independence Day | F24: HR | H24: Fri | I24: Yes | L24: Remotely Working | M24: No
C25: 44809 | D25: Labor Day | H25: Sat | I25: No
C26: 44889 | D26: Thanksgiving | H26: Sun | I26: No
C27: 44921 | D27: Christmas Day

Sheet EmployeeList
B2: EMPLOYEE LEAVE TRACKER
B3: EMPLOYEE LIST
B6: Employee Name | C6: Department | D6: Notes [Optional]
B7: Jonah Peterson | C7: HR
B8: Laila Robinson | C8: Marketing
B9: Vincent Collins | C9: Marketing
B10: Noah Kim | C10: Finance
B11: Kane Watts | C11: Finance
B12: Ryan Briggs | C12: Accounting
B13: Kobe Murphy | C13: Accounting | D13: Works remotely
B14: Rylie Norman | C14: Sales
B15: Adalynn Turner | C15: Sales
B16: Aylin Berry | C16: Sales | D16: Temporary employee

Sheet Entitlement
B2: EMPLOYEE LEAVE TRACKER
B3: ANNUAL ENTITLEMENT LISTS
B5: Go To →
E7: Annual Leave Entitlement List
B8: Year | C8: Employee Name | D8: Department [Optional] | E8: =IF(Dashboard!$L20="","",Dashboard!$L20) -> Vacation | F8: =IF(Dashboard!$L21="","",Dashboard!$L21) -> Sick Leave | G8: =IF(Dashboard!$L22="","",Dashboard!$L22) -> Unpaid Leave | H8: =IF(Dashboard!$L23="","",Dashboard!$L23) -> Other | I8: =IF(Dashboard!$L24="","",Dashboard!$L24) -> Remotely Working | J8: =IF(Dashboard!$L25="","",Dashboard!$L25) | K8: =IF(Dashboard!$L26="","",Dashboard!$L26)
B9: =IFERROR(IF(LEN(C9)=0,"",StartYear),"") -> 2022 | C9: =IFERROR(IF(INDEX(TableEmployeeList[Employee Name],Calc!B11)="","",INDEX(TableEmployeeList[Employee Name],Calc!B11)),"") -> Jonah Peterson | D9: =IFERROR(IF(INDEX(TableEmployeeList[Department],Calc!B11)="","",INDEX(TableEmployeeList[Department],Calc!B11)),"") -> HR | E9: 20 | F9: 10 | G9: 30 | H9: 8 | I9: 20
B10: =IFERROR(IF(LEN(C10)=0,"",StartYear),"") -> 2022 | C10: =IFERROR(IF(INDEX(TableEmployeeList[Employee Name],Calc!B12)="","",INDEX(TableEmployeeList[Employee Name],Calc!B12)),"") -> Laila Robinson | D10: =IFERROR(IF(INDEX(TableEmployeeList[Department],Calc!B12)="","",INDEX(TableEmployeeList[Department],Calc!B12)),"") -> Marketing | E10: 20 | F10: 10 | G10: 30 | H10: 8 | I10: 20
B11: =IFERROR(IF(LEN(C11)=0,"",StartYear),"") -> 2022 | C11: =IFERROR(IF(INDEX(TableEmployeeList[Employee Name],Calc!B13)="","",INDEX(TableEmployeeList[Employee Name],Calc!B13)),"") -> Vincent Collins | D11: =IFERROR(IF(INDEX(TableEmployeeList[Department],Calc!B13)="","",INDEX(TableEmployeeList[Department],Calc!B13)),"") -> Marketing | E11: 20 | F11: 10 | G11: 30 | H11: 8 | I11: 20
B12: =IFERROR(IF(LEN(C12)=0,"",StartYear),"") -> 2022 | C12: =IFERROR(IF(INDEX(TableEmployeeList[Employee Name],Calc!B14)="","",INDEX(TableEmployeeList[Employee Name],Calc!B14)),"") -> Noah Kim | D12: =IFERROR(IF(INDEX(TableEmployeeList[Department],Calc!B14)="","",INDEX(TableEmployeeList[Department],Calc!B14)),"") -> Finance | E12: 20 | F12: 10 | G12: 30 | H12: 8 | I12: 20
B13: =IFERROR(IF(LEN(C13)=0,"",StartYear),"") -> 2022 | C13: =IFERROR(IF(INDEX(TableEmployeeList[Employee Name],Calc!B15)="","",INDEX(TableEmployeeList[Employee Name],Calc!B15)),"") -> Kane Watts | D13: =IFERROR(IF(INDEX(TableEmployeeList[Department],Calc!B15)="","",INDEX(TableEmployeeList[Department],Calc!B15)),"") -> Finance | E13: 20 | F13: 10 | G13: 30 | H13: 8 | I13: 20
B14: =IFERROR(IF(LEN(C14)=0,"",StartYear),"") -> 2022 | C14: =IFERROR(IF(INDEX(TableEmployeeList[Employee Name],Calc!B16)="","",INDEX(TableEmployeeList[Employee Name],Calc!B16)),"") -> Ryan Briggs | D14: =IFERROR(IF(INDEX(TableEmployeeList[Department],Calc!B16)="","",INDEX(TableEmployeeList[Department],Calc!B16)),"") -> Accounting | E14: 20 | F14: 10 | G14: 30 | H14: 8 | I14: 20
B15: =IFERROR(IF(LEN(C15)=0,"",StartYear),"") -> 2022 | C15: =IFERROR(IF(INDEX(TableEmployeeList[Employee Name],Calc!B17)="","",INDEX(TableEmployeeList[Employee Name],Calc!B17)),"") -> Kobe Murphy | D15: =IFERROR(IF(INDEX(TableEmployeeList[Department],Calc!B17)="","",INDEX(TableEmployeeList[Department],Calc!B17)),"") -> Accounting | E15: 20 | F15: 10 | G15: 30 | H15: 8 | I15: 360
B16: =IFERROR(IF(LEN(C16)=0,"",StartYear),"") -> 2022 | C16: =IFERROR(IF(INDEX(TableEmployeeList[Employee Name],Calc!B18)="","",INDEX(TableEmployeeList[Employee Name],Calc!B18)),"") -> Rylie Norman | D16: =IFERROR(IF(INDEX(TableEmployeeList[Department],Calc!B18)="","",INDEX(TableEmployeeList[Department],Calc!B18)),"") -> Sales | E16: 20 | F16: 10 | G16: 30 | H16: 8 | I16: 20
B17: =IFERROR(IF(LEN(C17)=0,"",StartYear),"") -> 2022 | C17: =IFERROR(IF(INDEX(TableEmployeeList[Employee Name],Calc!B19)="","",INDEX(TableEmployeeList[Employee Name],Calc!B19)),"") -> Adalynn Turner | D17: =IFERROR(IF(INDEX(TableEmployeeList[Department],Calc!B19)="","",INDEX(TableEmployeeList[Department],Calc!B19)),"") -> Sales | E17: 20 | F17: 10 | G17: 30 | H17: 8 | I17: 20
B18: =IFERROR(IF(LEN(C18)=0,"",StartYear),"") -> 2022 | C18: =IFERROR(IF(INDEX(TableEmployeeList[Employee Name],Calc!B20)="","",INDEX(TableEmployeeList[Employee Name],Calc!B20)),"") -> Aylin Berry | D18: =IFERROR(IF(INDEX(TableEmployeeList[Department],Calc!B20)="","",INDEX(TableEmployeeList[Department],Calc!B20)),"") -> Sales | E18: 5 | F18: 10 | G18: 0 | H18: 8 | I18: 0
B19: =IFERROR(IF(LEN(C19)=0,"",StartYear),"") | C19: =IFERROR(IF(INDEX(TableEmployeeList[Employee Name],Calc!B21)="","",INDEX(TableEmployeeList[Employee Name],Calc!B21)),"") | D19: =IFERROR(IF(INDEX(TableEmployeeList[Department],Calc!B21)="","",INDEX(TableEmployeeList[Department],Calc!B21)),"")
B20: =IFERROR(IF(LEN(C20)=0,"",StartYear),"") | C20: =IFERROR(IF(INDEX(TableEmployeeList[Employee Name],Calc!B22)="","",INDEX(TableEmployeeList[Employee Name],Calc!B22)),"") | D20: =IFERROR(IF(INDEX(TableEmployeeList[Department],Calc!B22)="","",INDEX(TableEmployeeList[Department],Calc!B22)),"")
B21: =IFERROR(IF(LEN(C21)=0,"",StartYear),"") | C21: =IFERROR(IF(INDEX(TableEmployeeList[Employee Name],Calc!B23)="","",INDEX(TableEmployeeList[Employee Name],Calc!B23)),"") | D21: =IFERROR(IF(INDEX(TableEmployeeList[Department],Calc!B23)="","",INDEX(TableEmployeeList[Department],Calc!B23)),"")
B22: =IFERROR(IF(LEN(C22)=0,"",StartYear),"") | C22: =IFERROR(IF(INDEX(TableEmployeeList[Employee Name],Calc!B24)="","",INDEX(TableEmployeeList[Employee Name],Calc!B24)),"") | D22: =IFERROR(IF(INDEX(TableEmployeeList[Department],Calc!B24)="","",INDEX(TableEmployeeList[Department],Calc!B24)),"")
B23: =IFERROR(IF(LEN(C23)=0,"",StartYear),"") | C23: =IFERROR(IF(INDEX(TableEmployeeList[Employee Name],Calc!B25)="","",INDEX(TableEmployeeList[Employee Name],Calc!B25)),"") | D23: =IFERROR(IF(INDEX(TableEmployeeList[Department],Calc!B25)="","",INDEX(TableEmployeeList[Department],Calc!B25)),"")
B510: =IFERROR(IF(LEN(C510)=0,"",StartYear+1),"") -> 2023 | C510: =IFERROR(IF(INDEX(TableEmployeeList[Employee Name],Calc!B11)="","",INDEX(TableEmployeeList[Employee Name],Calc!B11)),"") -> Jonah Peterson | D510: =IFERROR(IF(INDEX(TableEmployeeList[Department],Calc!B11)="","",INDEX(TableEmployeeList[Department],Calc!B11)),"") -> HR
B511: =IFERROR(IF(LEN(C511)=0,"",StartYear+1),"") -> 2023 | C511: =IFERROR(IF(INDEX(TableEmployeeList[Employee Name],Calc!B12)="","",INDEX(TableEmployeeList[Employee Name],Calc!B12)),"") -> Laila Robinson | D511: =IFERROR(IF(INDEX(TableEmployeeList[Department],Calc!B12)="","",INDEX(TableEmployeeList[Department],Calc!B12)),"") -> Marketing
B512: =IFERROR(IF(LEN(C512)=0,"",StartYear+1),"") -> 2023 | C512: =IFERROR(IF(INDEX(TableEmployeeList[Employee Name],Calc!B13)="","",INDEX(TableEmployeeList[Employee Name],Calc!B13)),"") -> Vincent Collins | D512: =IFERROR(IF(INDEX(TableEmployeeList[Department],Calc!B13)="","",INDEX(TableEmployeeList[Department],Calc!B13)),"") -> Marketing
B513: =IFERROR(IF(LEN(C513)=0,"",StartYear+1),"") -> 2023 | C513: =IFERROR(IF(INDEX(TableEmployeeList[Employee Name],Calc!B14)="","",INDEX(TableEmployeeList[Employee Name],Calc!B14)),"") -> Noah Kim | D513: =IFERROR(IF(INDEX(TableEmployeeList[Department],Calc!B14)="","",INDEX(TableEmployeeList[Department],Calc!B14)),"") -> Finance
B514: =IFERROR(IF(LEN(C514)=0,"",StartYear+1),"") -> 2023 | C514: =IFERROR(IF(INDEX(TableEmployeeList[Employee Name],Calc!B15)="","",INDEX(TableEmployeeList[Employee Name],Calc!B15)),"") -> Kane Watts | D514: =IFERROR(IF(INDEX(TableEmployeeList[Department],Calc!B15)="","",INDEX(TableEmployeeList[Department],Calc!B15)),"") -> Finance
B515: =IFERROR(IF(LEN(C515)=0,"",StartYear+1),"") -> 2023 | C515: =IFERROR(IF(INDEX(TableEmployeeList[Employee Name],Calc!B16)="","",INDEX(TableEmployeeList[Employee Name],Calc!B16)),"") -> Ryan Briggs | D515: =IFERROR(IF(INDEX(TableEmployeeList[Department],Calc!B16)="","",INDEX(TableEmployeeList[Department],Calc!B16)),"") -> Accounting
B516: =IFERROR(IF(LEN(C516)=0,"",StartYear+1),"") -> 2023 | C516: =IFERROR(IF(INDEX(TableEmployeeList[Employee Name],Calc!B17)="","",INDEX(TableEmployeeList[Employee Name],Calc!B17)),"") -> Kobe Murphy | D516: =IFERROR(IF(INDEX(TableEmployeeList[Department],Calc!B17)="","",INDEX(TableEmployeeList[Department],Calc!B17)),"") -> Accounting
B517: =IFERROR(IF(LEN(C517)=0,"",StartYear+1),"") -> 2023 | C517: =IFERROR(IF(INDEX(TableEmployeeList[Employee Name],Calc!B18)="","",INDEX(TableEmployeeList[Employee Name],Calc!B18)),"") -> Rylie Norman | D517: =IFERROR(IF(INDEX(TableEmployeeList[Department],Calc!B18)="","",INDEX(TableEmployeeList[Department],Calc!B18)),"") -> Sales
B518: =IFERROR(IF(LEN(C518)=0,"",StartYear+1),"") -> 2023 | C518: =IFERROR(IF(INDEX(TableEmployeeList[Employee Name],Calc!B19)="","",INDEX(TableEmployeeList[Employee Name],Calc!B19)),"") -> Adalynn Turner | D518: =IFERROR(IF(INDEX(TableEmployeeList[Department],Calc!B19)="","",INDEX(TableEmployeeList[Department],Calc!B19)),"") -> Sales
B519: =IFERROR(IF(LEN(C519)=0,"",StartYear+1),"") -> 2023 | C519: =IFERROR(IF(INDEX(TableEmployeeList[Employee Name],Calc!B20)="","",INDEX(TableEmployeeList[Employee Name],Calc!B20)),"") -> Aylin Berry | D519: =IFERROR(IF(INDEX(TableEmployeeList[Department],Calc!B20)="","",INDEX(TableEmployeeList[Department],Calc!B20)),"") -> Sales
B520: =IFERROR(IF(LEN(C520)=0,"",StartYear+1),"") | C520: =IFERROR(IF(INDEX(TableEmployeeList[Employee Name],Calc!B21)="","",INDEX(TableEmployeeList[Employee Name],Calc!B21)),"") | D520: =IFERROR(IF(INDEX(TableEmployeeList[Department],Calc!B21)="","",INDEX(TableEmployeeList[Department],Calc!B21)),"")
B521: =IFERROR(IF(LEN(C521)=0,"",StartYear+1),"") | C521: =IFERROR(IF(INDEX(TableEmployeeList[Employee Name],Calc!B22)="","",INDEX(TableEmployeeList[Employee Name],Calc!B22)),"") | D521: =IFERROR(IF(INDEX(TableEmployeeList[Department],Calc!B22)="","",INDEX(TableEmployeeList[Department],Calc!B22)),"")
... B524: =IFERROR(IF(LEN(C524)=0,"",StartYear+1),"") | C524: =IFERROR(IF(INDEX(TableEmployeeList[Employee Name],Calc!B25)="","",INDEX(TableEmployeeList[Employee Name],Calc!B25)),"") | D524: =IFERROR(IF(INDEX(TableEmployeeList[Department],Calc!B25)="","",INDEX(TableEmployeeList[Department],Calc!B25)),"")
B1011: =IFERROR(IF(LEN(C1011)=0,"",StartYear+2),"") -> 2024 | C1011: =IFERROR(IF(INDEX(TableEmployeeList[Employee Name],Calc!B11)="","",INDEX(TableEmployeeList[Employee Name],Calc!B11)),"") -> Jonah Peterson | D1011: =IFERROR(IF(INDEX(TableEmployeeList[Department],Calc!B11)="","",INDEX(TableEmployeeList[Department],Calc!B11)),"") -> HR
B1012: =IFERROR(IF(LEN(C1012)=0,"",StartYear+2),"") -> 2024 | C1012: =IFERROR(IF(INDEX(TableEmployeeList[Employee Name],Calc!B12)="","",INDEX(TableEmployeeList[Employee Name],Calc!B12)),"") -> Laila Robinson | D1012: =IFERROR(IF(INDEX(TableEmployeeList[Department],Calc!B12)="","",INDEX(TableEmployeeList[Department],Calc!B12)),"") -> Marketing
B1013: =IFERROR(IF(LEN(C1013)=0,"",StartYear+2),"") -> 2024 | C1013: =IFERROR(IF(INDEX(TableEmployeeList[Employee Name],Calc!B13)="","",INDEX(TableEmployeeList[Employee Name],Calc!B13)),"") -> Vincent Collins | D1013: =IFERROR(IF(INDEX(TableEmployeeList[Department],Calc!B13)="","",INDEX(TableEmployeeList[Department],Calc!B13)),"") -> Marketing
B1014: =IFERROR(IF(LEN(C1014)=0,"",StartYear+2),"") -> 2024 | C1014: =IFERROR(IF(INDEX(TableEmployeeList[Employee Name],Calc!B14)="","",INDEX(TableEmployeeList[Employee Name],Calc!B14)),"") -> Noah Kim | D1014: =IFERROR(IF(INDEX(TableEmployeeList[Department],Calc!B14)="","",INDEX(TableEmployeeList[Department],Calc!B14)),"") -> Finance
B1015: =IFERROR(IF(LEN(C1015)=0,"",StartYear+2),"") -> 2024 | C1015: =IFERROR(IF(INDEX(TableEmployeeList[Employee Name],Calc!B15)="","",INDEX(TableEmployeeList[Employee Name],Calc!B15)),"") -> Kane Watts | D1015: =IFERROR(IF(INDEX(TableEmployeeList[Department],Calc!B15)="","",INDEX(TableEmployeeList[Department],Calc!B15)),"") -> Finance
B1016: =IFERROR(IF(LEN(C1016)=0,"",StartYear+2),"") -> 2024 | C1016: =IFERROR(IF(INDEX(TableEmployeeList[Employee Name],Calc!B16)="","",INDEX(TableEmployeeList[Employee Name],Calc!B16)),"") -> Ryan Briggs | D1016: =IFERROR(IF(INDEX(TableEmployeeList[Department],Calc!B16)="","",INDEX(TableEmployeeList[Department],Calc!B16)),"") -> Accounting
B1017: =IFERROR(IF(LEN(C1017)=0,"",StartYear+2),"") -> 2024 | C1017: =IFERROR(IF(INDEX(TableEmployeeList[Employee Name],Calc!B17)="","",INDEX(TableEmployeeList[Employee Name],Calc!B17)),"") -> Kobe Murphy | D1017: =IFERROR(IF(INDEX(TableEmployeeList[Department],Calc!B17)="","",INDEX(TableEmployeeList[Department],Calc!B17)),"") -> Accounting
B1018: =IFERROR(IF(LEN(C1018)=0,"",StartYear+2),"") -> 2024 | C1018: =IFERROR(IF(INDEX(TableEmployeeList[Employee Name],Calc!B18)="","",INDEX(TableEmployeeList[Employee Name],Calc!B18)),"") -> Rylie Norman | D1018: =IFERROR(IF(INDEX(TableEmployeeList[Department],Calc!B18)="","",INDEX(TableEmployeeList[Department],Calc!B18)),"") -> Sales
B1019: =IFERROR(IF(LEN(C1019)=0,"",StartYear+2),"") -> 2024 | C1019: =IFERROR(IF(INDEX(TableEmployeeList[Employee Name],Calc!B19)="","",INDEX(TableEmployeeList[Employee Name],Calc!B19)),"") -> Adalynn Turner | D1019: =IFERROR(IF(INDEX(TableEmployeeList[Department],Calc!B19)="","",INDEX(TableEmployeeList[Department],Calc!B19)),"") -> Sales
B1020: =IFERROR(IF(LEN(C1020)=0,"",StartYear+2),"") -> 2024 | C1020: =IFERROR(IF(INDEX(TableEmployeeList[Employee Name],Calc!B20)="","",INDEX(TableEmployeeList[Employee Name],Calc!B20)),"") -> Aylin Berry | D1020: =IFERROR(IF(INDEX(TableEmployeeList[Department],Calc!B20)="","",INDEX(TableEmployeeList[Department],Calc!B20)),"") -> Sales
B1021: =IFERROR(IF(LEN(C1021)=0,"",StartYear+2),"") | C1021: =IFERROR(IF(INDEX(TableEmployeeList[Employee Name],Calc!B21)="","",INDEX(TableEmployeeList[Employee Name],Calc!B21)),"") | D1021: =IFERROR(IF(INDEX(TableEmployeeList[Department],Calc!B21)="","",INDEX(TableEmployeeList[Department],Calc!B21)),"")
B1022: =IFERROR(IF(LEN(C1022)=0,"",StartYear+2),"") | C1022: =IFERROR(IF(INDEX(TableEmployeeList[Employee Name],Calc!B22)="","",INDEX(TableEmployeeList[Employee Name],Calc!B22)),"") | D1022: =IFERROR(IF(INDEX(TableEmployeeList[Department],Calc!B22)="","",INDEX(TableEmployeeList[Department],Calc!B22)),"")
... B1025: =IFERROR(IF(LEN(C1025)=0,"",StartYear+2),"") | C1025: =IFERROR(IF(INDEX(TableEmployeeList[Employee Name],Calc!B25)="","",INDEX(TableEmployeeList[Employee Name],Calc!B25)),"") | D1025: =IFERROR(IF(INDEX(TableEmployeeList[Department],Calc!B25)="","",INDEX(TableEmployeeList[Department],Calc!B25)),"")
B1512: =IFERROR(IF(LEN(C1512)=0,"",StartYear+3),"") -> 2025 | C1512: =IFERROR(IF(INDEX(TableEmployeeList[Employee Name],Calc!B11)="","",INDEX(TableEmployeeList[Employee Name],Calc!B11)),"") -> Jonah Peterson | D1512: =IFERROR(IF(INDEX(TableEmployeeList[Department],Calc!B11)="","",INDEX(TableEmployeeList[Department],Calc!B11)),"") -> HR
B1513: =IFERROR(IF(LEN(C1513)=0,"",StartYear+3),"") -> 2025 | C1513: =IFERROR(IF(INDEX(TableEmployeeList[Employee Name],Calc!B12)="","",INDEX(TableEmployeeList[Employee Name],Calc!B12)),"") -> Laila Robinson | D1513: =IFERROR(IF(INDEX(TableEmployeeList[Department],Calc!B12)="","",INDEX(TableEmployeeList[Department],Calc!B12)),"") -> Marketing
B1514: =IFERROR(IF(LEN(C1514)=0,"",StartYear+3),"") -> 2025 | C1514: =IFERROR(IF(INDEX(TableEmployeeList[Employee Name],Calc!B13)="","",INDEX(TableEmployeeList[Employee Name],Calc!B13)),"") -> Vincent Collins | D1514: =IFERROR(IF(INDEX(TableEmployeeList[Department],Calc!B13)="","",INDEX(TableEmployeeList[Department],Calc!B13)),"") -> Marketing
B1515: =IFERROR(IF(LEN(C1515)=0,"",StartYear+3),"") -> 2025 | C1515: =IFERROR(IF(INDEX(TableEmployeeList[Employee Name],Calc!B14)="","",INDEX(TableEmployeeList[Employee Name],Calc!B14)),"") -> Noah Kim | D1515: =IFERROR(IF(INDEX(TableEmployeeList[Department],Calc!B14)="","",INDEX(TableEmployeeList[Department],Calc!B14)),"") -> Finance
B1516: =IFERROR(IF(LEN(C1516)=0,"",StartYear+3),"") -> 2025 | C1516: =IFERROR(IF(INDEX(TableEmployeeList[Employee Name],Calc!B15)="","",INDEX(TableEmployeeList[Employee Name],Calc!B15)),"") -> Kane Watts | D1516: =IFERROR(IF(INDEX(TableEmployeeList[Department],Calc!B15)="","",INDEX(TableEmployeeList[Department],Calc!B15)),"") -> Finance
B1517: =IFERROR(IF(LEN(C1517)=0,"",StartYear+3),"") -> 2025 | C1517: =IFERROR(IF(INDEX(TableEmployeeList[Employee Name],Calc!B16)="","",INDEX(TableEmployeeList[Employee Name],Calc!B16)),"") -> Ryan Briggs | D1517: =IFERROR(IF(INDEX(TableEmployeeList[Department],Calc!B16)="","",INDEX(TableEmployeeList[Department],Calc!B16)),"") -> Accounting
B1518: =IFERROR(IF(LEN(C1518)=0,"",StartYear+3),"") -> 2025 | C1518: =IFERROR(IF(INDEX(TableEmployeeList[Employee Name],Calc!B17)="","",INDEX(TableEmployeeList[Employee Name],Calc!B17)),"") -> Kobe Murphy | D1518: =IFERROR(IF(INDEX(TableEmployeeList[Department],Calc!B17)="","",INDEX(TableEmployeeList[Department],Calc!B17)),"") -> Accounting
B1519: =IFERROR(IF(LEN(C1519)=0,"",StartYear+3),"") -> 2025 | C1519: =IFERROR(IF(INDEX(TableEmployeeList[Employee Name],Calc!B18)="","",INDEX(TableEmployeeList[Employee Name],Calc!B18)),"") -> Rylie Norman | D1519: =IFERROR(IF(INDEX(TableEmployeeList[Department],Calc!B18)="","",INDEX(TableEmployeeList[Department],Calc!B18)),"") -> Sales
B1520: =IFERROR(IF(LEN(C1520)=0,"",StartYear+3),"") -> 2025 | C1520: =IFERROR(IF(INDEX(TableEmployeeList[Employee Name],Calc!B19)="","",INDEX(TableEmployeeList[Employee Name],Calc!B19)),"") -> Adalynn Turner | D1520: =IFERROR(IF(INDEX(TableEmployeeList[Department],Calc!B19)="","",INDEX(TableEmployeeList[Department],Calc!B19)),"") -> Sales
B1521: =IFERROR(IF(LEN(C1521)=0,"",StartYear+3),"") -> 2025 | C1521: =IFERROR(IF(INDEX(TableEmployeeList[Employee Name],Calc!B20)="","",INDEX(TableEmployeeList[Employee Name],Calc!B20)),"") -> Aylin Berry | D1521: =IFERROR(IF(INDEX(TableEmployeeList[Department],Calc!B20)="","",INDEX(TableEmployeeList[Department],Calc!B20)),"") -> Sales
B1522: =IFERROR(IF(LEN(C1522)=0,"",StartYear+3),"") | C1522: =IFERROR(IF(INDEX(TableEmployeeList[Employee Name],Calc!B21)="","",INDEX(TableEmployeeList[Employee Name],Calc!B21)),"") | D1522: =IFERROR(IF(INDEX(TableEmployeeList[Department],Calc!B21)="","",INDEX(TableEmployeeList[Department],Calc!B21)),"")
B1523: =IFERROR(IF(LEN(C1523)=0,"",StartYear+3),"") | C1523: =IFERROR(IF(INDEX(TableEmployeeList[Employee Name],Calc!B22)="","",INDEX(TableEmployeeList[Employee Name],Calc!B22)),"") | D1523: =IFERROR(IF(INDEX(TableEmployeeList[Department],Calc!B22)="","",INDEX(TableEmployeeList[Department],Calc!B22)),"")
... B1526: =IFERROR(IF(LEN(C1526)=0,"",StartYear+3),"") | C1526: =IFERROR(IF(INDEX(TableEmployeeList[Employee Name],Calc!B25)="","",INDEX(TableEmployeeList[Employee Name],Calc!B25)),"") | D1526: =IFERROR(IF(INDEX(TableEmployeeList[Department],Calc!B25)="","",INDEX(TableEmployeeList[Department],Calc!B25)),"")
B2013: =IFERROR(IF(LEN(C2013)=0,"",StartYear+4),"") -> 2026 | C2013: =IFERROR(IF(INDEX(TableEmployeeList[Employee Name],Calc!B11)="","",INDEX(TableEmployeeList[Employee Name],Calc!B11)),"") -> Jonah Peterson | D2013: =IFERROR(IF(INDEX(TableEmployeeList[Department],Calc!B11)="","",INDEX(TableEmployeeList[Department],Calc!B11)),"") -> HR
B2014: =IFERROR(IF(LEN(C2014)=0,"",StartYear+4),"") -> 2026 | C2014: =IFERROR(IF(INDEX(TableEmployeeList[Employee Name],Calc!B12)="","",INDEX(TableEmployeeList[Employee Name],Calc!B12)),"") -> Laila Robinson | D2014: =IFERROR(IF(INDEX(TableEmployeeList[Department],Calc!B12)="","",INDEX(TableEmployeeList[Department],Calc!B12)),"") -> Marketing
B2015: =IFERROR(IF(LEN(C2015)=0,"",StartYear+4),"") -> 2026 | C2015: =IFERROR(IF(INDEX(TableEmployeeList[Employee Name],Calc!B13)="","",INDEX(TableEmployeeList[Employee Name],Calc!B13)),"") -> Vincent Collins | D2015: =IFERROR(IF(INDEX(TableEmployeeList[Department],Calc!B13)="","",INDEX(TableEmployeeList[Department],Calc!B13)),"") -> Marketing
B2016: =IFERROR(IF(LEN(C2016)=0,"",StartYear+4),"") -> 2026 | C2016: =IFERROR(IF(INDEX(TableEmployeeList[Employee Name],Calc!B14)="","",INDEX(TableEmployeeList[Employee Name],Calc!B14)),"") -> Noah Kim | D2016: =IFERROR(IF(INDEX(TableEmployeeList[Department],Calc!B14)="","",INDEX(TableEmployeeList[Department],Calc!B14)),"") -> Finance
B2017: =IFERROR(IF(LEN(C2017)=0,"",StartYear+4),"") -> 2026 | C2017: =IFERROR(IF(INDEX(TableEmployeeList[Employee Name],Calc!B15)="","",INDEX(TableEmployeeList[Employee Name],Calc!B15)),"") -> Kane Watts | D2017: =IFERROR(IF(INDEX(TableEmployeeList[Department],Calc!B15)="","",INDEX(TableEmployeeList[Department],Calc!B15)),"") -> Finance
B2018: =IFERROR(IF(LEN(C2018)=0,"",StartYear+4),"") -> 2026 | C2018: =IFERROR(IF(INDEX(TableEmployeeList[Employee Name],Calc!B16)="","",INDEX(TableEmployeeList[Employee Name],Calc!B16)),"") -> Ryan Briggs | D2018: =IFERROR(IF(INDEX(TableEmployeeList[Department],Calc!B16)="","",INDEX(TableEmployeeList[Department],Calc!B16)),"") -> Accounting
B2019: =IFERROR(IF(LEN(C2019)=0,"",StartYear+4),"") -> 2026 | C2019: =IFERROR(IF(INDEX(TableEmployeeList[Employee Name],Calc!B17)="","",INDEX(TableEmployeeList[Employee Name],Calc!B17)),"") -> Kobe Murphy | D2019: =IFERROR(IF(INDEX(TableEmployeeList[Department],Calc!B17)="","",INDEX(TableEmployeeList[Department],Calc!B17)),"") -> Accounting
B2020: =IFERROR(IF(LEN(C2020)=0,"",StartYear+4),"") -> 2026 | C2020: =IFERROR(IF(INDEX(TableEmployeeList[Employee Name],Calc!B18)="","",INDEX(TableEmployeeList[Employee Name],Calc!B18)),"") -> Rylie Norman | D2020: =IFERROR(IF(INDEX(TableEmployeeList[Department],Calc!B18)="","",INDEX(TableEmployeeList[Department],Calc!B18)),"") -> Sales
B2021: =IFERROR(IF(LEN(C2021)=0,"",StartYear+4),"") -> 2026 | C2021: =IFERROR(IF(INDEX(TableEmployeeList[Employee Name],Calc!B19)="","",INDEX(TableEmployeeList[Employee Name],Calc!B19)),"") -> Adalynn Turner | D2021: =IFERROR(IF(INDEX(TableEmployeeList[Department],Calc!B19)="","",INDEX(TableEmployeeList[Department],Calc!B19)),"") -> Sales
B2022: =IFERROR(IF(LEN(C2022)=0,"",StartYear+4),"") -> 2026 | C2022: =IFERROR(IF(INDEX(TableEmployeeList[Employee Name],Calc!B20)="","",INDEX(TableEmployeeList[Employee Name],Calc!B20)),"") -> Aylin Berry | D2022: =IFERROR(IF(INDEX(TableEmployeeList[Department],Calc!B20)="","",INDEX(TableEmployeeList[Department],Calc!B20)),"") -> Sales
B2023: =IFERROR(IF(LEN(C2023)=0,"",StartYear+4),"") | C2023: =IFERROR(IF(INDEX(TableEmployeeList[Employee Name],Calc!B21)="","",INDEX(TableEmployeeList[Employee Name],Calc!B21)),"") | D2023: =IFERROR(IF(INDEX(TableEmployeeList[Department],Calc!B21)="","",INDEX(TableEmployeeList[Department],Calc!B21)),"")
B2024: =IFERROR(IF(LEN(C2024)=0,"",StartYear+4),"") | C2024: =IFERROR(IF(INDEX(TableEmployeeList[Employee Name],Calc!B22)="","",INDEX(TableEmployeeList[Employee Name],Calc!B22)),"") | D2024: =IFERROR(IF(INDEX(TableEmployeeList[Department],Calc!B22)="","",INDEX(TableEmployeeList[Department],Calc!B22)),"")
... B2027: =IFERROR(IF(LEN(C2027)=0,"",StartYear+4),"") | C2027: =IFERROR(IF(INDEX(TableEmployeeList[Employee Name],Calc!B25)="","",INDEX(TableEmployeeList[Employee Name],Calc!B25)),"") | D2027: =IFERROR(IF(INDEX(TableEmployeeList[Department],Calc!B25)="","",INDEX(TableEmployeeList[Department],Calc!B25)),"")
B2514: =IFERROR(IF(LEN(C2514)=0,"",StartYear+5),"") -> 2027 | C2514: =IFERROR(IF(INDEX(TableEmployeeList[Employee Name],Calc!B11)="","",INDEX(TableEmployeeList[Employee Name],Calc!B11)),"") -> Jonah Peterson | D2514: =IFERROR(IF(INDEX(TableEmployeeList[Department],Calc!B11)="","",INDEX(TableEmployeeList[Department],Calc!B11)),"") -> HR
B2515: =IFERROR(IF(LEN(C2515)=0,"",StartYear+5),"") -> 2027 | C2515: =IFERROR(IF(INDEX(TableEmployeeList[Employee Name],Calc!B12)="","",INDEX(TableEmployeeList[Employee Name],Calc!B12)),"") -> Laila Robinson | D2515: =IFERROR(IF(INDEX(TableEmployeeList[Department],Calc!B12)="","",INDEX(TableEmployeeList[Department],Calc!B12)),"") -> Marketing
B2516: =IFERROR(IF(LEN(C2516)=0,"",StartYear+5),"") -> 2027 | C2516: =IFERROR(IF(INDEX(TableEmployeeList[Employee Name],Calc!B13)="","",INDEX(TableEmployeeList[Employee Name],Calc!B13)),"") -> Vincent Collins | D2516: =IFERROR(IF(INDEX(TableEmployeeList[Department],Calc!B13)="","",INDEX(TableEmployeeList[Department],Calc!B13)),"") -> Marketing
B2517: =IFERROR(IF(LEN(C2517)=0,"",StartYear+5),"") -> 2027 | C2517: =IFERROR(IF(INDEX(TableEmployeeList[Employee Name],Calc!B14)="","",INDEX(TableEmployeeList[Employee Name],Calc!B14)),"") -> Noah Kim | D2517: =IFERROR(IF(INDEX(TableEmployeeList[Department],Calc!B14)="","",INDEX(TableEmployeeList[Department],Calc!B14)),"") -> Finance
B2518: =IFERROR(IF(LEN(C2518)=0,"",StartYear+5),"") -> 2027 | C2518: =IFERROR(IF(INDEX(TableEmployeeList[Employee Name],Calc!B15)="","",INDEX(TableEmployeeList[Employee Name],Calc!B15)),"") -> Kane Watts | D2518: =IFERROR(IF(INDEX(TableEmployeeList[Department],Calc!B15)="","",INDEX(TableEmployeeList[Department],Calc!B15)),"") -> Finance
B2519: =IFERROR(IF(LEN(C2519)=0,"",StartYear+5),"") -> 2027 | C2519: =IFERROR(IF(INDEX(TableEmployeeList[Employee Name],Calc!B16)="","",INDEX(TableEmployeeList[Employee Name],Calc!B16)),"") -> Ryan Briggs | D2519: =IFERROR(IF(INDEX(TableEmployeeList[Department],Calc!B16)="","",INDEX(TableEmployeeList[Department],Calc!B16)),"") -> Accounting
B2520: =IFERROR(IF(LEN(C2520)=0,"",StartYear+5),"") -> 2027 | C2520: =IFERROR(IF(INDEX(TableEmployeeList[Employee Name],Calc!B17)="","",INDEX(TableEmployeeList[Employee Name],Calc!B17)),"") -> Kobe Murphy | D2520: =IFERROR(IF(INDEX(TableEmployeeList[Department],Calc!B17)="","",INDEX(TableEmployeeList[Department],Calc!B17)),"") -> Accounting
B2521: =IFERROR(IF(LEN(C2521)=0,"",StartYear+5),"") -> 2027 | C2521: =IFERROR(IF(INDEX(TableEmployeeList[Employee Name],Calc!B18)="","",INDEX(TableEmployeeList[Employee Name],Calc!B18)),"") -> Rylie Norman | D2521: =IFERROR(IF(INDEX(TableEmployeeList[Department],Calc!B18)="","",INDEX(TableEmployeeList[Department],Calc!B18)),"") -> Sales
B2522: =IFERROR(IF(LEN(C2522)=0,"",StartYear+5),"") -> 2027 | C2522: =IFERROR(IF(INDEX(TableEmployeeList[Employee Name],Calc!B19)="","",INDEX(TableEmployeeList[Employee Name],Calc!B19)),"") -> Adalynn Turner | D2522: =IFERROR(IF(INDEX(TableEmployeeList[Department],Calc!B19)="","",INDEX(TableEmployeeList[Department],Calc!B19)),"") -> Sales
B2523: =IFERROR(IF(LEN(C2523)=0,"",StartYear+5),"") -> 2027 | C2523: =IFERROR(IF(INDEX(TableEmployeeList[Employee Name],Calc!B20)="","",INDEX(TableEmployeeList[Employee Name],Calc!B20)),"") -> Aylin Berry | D2523: =IFERROR(IF(INDEX(TableEmployeeList[Department],Calc!B20)="","",INDEX(TableEmployeeList[Department],Calc!B20)),"") -> Sales
B2524: =IFERROR(IF(LEN(C2524)=0,"",StartYear+5),"") | C2524: =IFERROR(IF(INDEX(TableEmployeeList[Employee Name],Calc!B21)="","",INDEX(TableEmployeeList[Employee Name],Calc!B21)),"") | D2524: =IFERROR(IF(INDEX(TableEmployeeList[Department],Calc!B21)="","",INDEX(TableEmployeeList[Department],Calc!B21)),"")
B2525: =IFERROR(IF(LEN(C2525)=0,"",StartYear+5),"") | C2525: =IFERROR(IF(INDEX(TableEmployeeList[Employee Name],Calc!B22)="","",INDEX(TableEmployeeList[Employee Name],Calc!B22)),"") | D2525: =IFERROR(IF(INDEX(TableEmployeeList[Department],Calc!B22)="","",INDEX(TableEmployeeList[Department],Calc!B22)),"")
... B2528: =IFERROR(IF(LEN(C2528)=0,"",StartYear+5),"") | C2528: =IFERROR(IF(INDEX(TableEmployeeList[Employee Name],Calc!B25)="","",INDEX(TableEmployeeList[Employee Name],Calc!B25)),"") | D2528: =IFERROR(IF(INDEX(TableEmployeeList[Department],Calc!B25)="","",INDEX(TableEmployeeList[Department],Calc!B25)),"")
B3015: =IFERROR(IF(LEN(C3015)=0,"",StartYear+6),"") -> 2028 | C3015: =IFERROR(IF(INDEX(TableEmployeeList[Employee Name],Calc!B11)="","",INDEX(TableEmployeeList[Employee Name],Calc!B11)),"") -> Jonah Peterson | D3015: =IFERROR(IF(INDEX(TableEmployeeList[Department],Calc!B11)="","",INDEX(TableEmployeeList[Department],Calc!B11)),"") -> HR
B3016: =IFERROR(IF(LEN(C3016)=0,"",StartYear+6),"") -> 2028 | C3016: =IFERROR(IF(INDEX(TableEmployeeList[Employee Name],Calc!B12)="","",INDEX(TableEmployeeList[Employee Name],Calc!B12)),"") -> Laila Robinson | D3016: =IFERROR(IF(INDEX(TableEmployeeList[Department],Calc!B12)="","",INDEX(TableEmployeeList[Department],Calc!B12)),"") -> Marketing
B3017: =IFERROR(IF(LEN(C3017)=0,"",StartYear+6),"") -> 2028 | C3017: =IFERROR(IF(INDEX(TableEmployeeList[Employee Name],Calc!B13)="","",INDEX(TableEmployeeList[Employee Name],Calc!B13)),"") -> Vincent Collins | D3017: =IFERROR(IF(INDEX(TableEmployeeList[Department],Calc!B13)="","",INDEX(TableEmployeeList[Department],Calc!B13)),"") -> Marketing
B3018: =IFERROR(IF(LEN(C3018)=0,"",StartYear+6),"") -> 2028 | C3018: =IFERROR(IF(INDEX(TableEmployeeList[Employee Name],Calc!B14)="","",INDEX(TableEmployeeList[Employee Name],Calc!B14)),"") -> Noah Kim | D3018: =IFERROR(IF(INDEX(TableEmployeeList[Department],Calc!B14)="","",INDEX(TableEmployeeList[Department],Calc!B14)),"") -> Finance
B3019: =IFERROR(IF(LEN(C3019)=0,"",StartYear+6),"") -> 2028 | C3019: =IFERROR(IF(INDEX(TableEmployeeList[Employee Name],Calc!B15)="","",INDEX(TableEmployeeList[Employee Name],Calc!B15)),"") -> Kane Watts | D3019: =IFERROR(IF(INDEX(TableEmployeeList[Department],Calc!B15)="","",INDEX(TableEmployeeList[Department],Calc!B15)),"") -> Finance
B3020: =IFERROR(IF(LEN(C3020)=0,"",StartYear+6),"") -> 2028 | C3020: =IFERROR(IF(INDEX(TableEmployeeList[Employee Name],Calc!B16)="","",INDEX(TableEmployeeList[Employee Name],Calc!B16)),"") -> Ryan Briggs | D3020: =IFERROR(IF(INDEX(TableEmployeeList[Department],Calc!B16)="","",INDEX(TableEmployeeList[Department],Calc!B16)),"") -> Accounting
B3021: =IFERROR(IF(LEN(C3021)=0,"",StartYear+6),"") -> 2028 | C3021: =IFERROR(IF(INDEX(TableEmployeeList[Employee Name],Calc!B17)="","",INDEX(TableEmployeeList[Employee Name],Calc!B17)),"") -> Kobe Murphy | D3021: =IFERROR(IF(INDEX(TableEmployeeList[Department],Calc!B17)="","",INDEX(TableEmployeeList[Department],Calc!B17)),"") -> Accounting
B3022: =IFERROR(IF(LEN(C3022)=0,"",StartYear+6),"") -> 2028 | C3022: =IFERROR(IF(INDEX(TableEmployeeList[Employee Name],Calc!B18)="","",INDEX(TableEmployeeList[Employee Name],Calc!B18)),"") -> Rylie Norman | D3022: =IFERROR(IF(INDEX(TableEmployeeList[Department],Calc!B18)="","",INDEX(TableEmployeeList[Department],Calc!B18)),"") -> Sales
B3023: =IFERROR(IF(LEN(C3023)=0,"",StartYear+6),"") -> 2028 | C3023: =IFERROR(IF(INDEX(TableEmployeeList[Employee Name],Calc!B19)="","",INDEX(TableEmployeeList[Employee Name],Calc!B19)),"") -> Adalynn Turner | D3023: =IFERROR(IF(INDEX(TableEmployeeList[Department],Calc!B19)="","",INDEX(TableEmployeeList[Department],Calc!B19)),"") -> Sales
B3024: =IFERROR(IF(LEN(C3024)=0,"",StartYear+6),"") -> 2028 | C3024: =IFERROR(IF(INDEX(TableEmployeeList[Employee Name],Calc!B20)="","",INDEX(TableEmployeeList[Employee Name],Calc!B20)),"") -> Aylin Berry | D3024: =IFERROR(IF(INDEX(TableEmployeeList[Department],Calc!B20)="","",INDEX(TableEmployeeList[Department],Calc!B20)),"") -> Sales
B3025: =IFERROR(IF(LEN(C3025)=0,"",StartYear+6),"") | C3025: =IFERROR(IF(INDEX(TableEmployeeList[Employee Name],Calc!B21)="","",INDEX(TableEmployeeList[Employee Name],Calc!B21)),"") | D3025: =IFERROR(IF(INDEX(TableEmployeeList[Department],Calc!B21)="","",INDEX(TableEmployeeList[Department],Calc!B21)),"")
B3026: =IFERROR(IF(LEN(C3026)=0,"",StartYear+6),"") | C3026: =IFERROR(IF(INDEX(TableEmployeeList[Employee Name],Calc!B22)="","",INDEX(TableEmployeeList[Employee Name],Calc!B22)),"") | D3026: =IFERROR(IF(INDEX(TableEmployeeList[Department],Calc!B22)="","",INDEX(TableEmployeeList[Department],Calc!B22)),"")
... B3029: =IFERROR(IF(LEN(C3029)=0,"",StartYear+6),"") | C3029: =IFERROR(IF(INDEX(TableEmployeeList[Employee Name],Calc!B25)="","",INDEX(TableEmployeeList[Employee Name],Calc!B25)),"") | D3029: =IFERROR(IF(INDEX(TableEmployeeList[Department],Calc!B25)="","",INDEX(TableEmployeeList[Department],Calc!B25)),"")
B3516: =IFERROR(IF(LEN(C3516)=0,"",StartYear+7),"") -> 2029 | C3516: =IFERROR(IF(INDEX(TableEmployeeList[Employee Name],Calc!B11)="","",INDEX(TableEmployeeList[Employee Name],Calc!B11)),"") -> Jonah Peterson | D3516: =IFERROR(IF(INDEX(TableEmployeeList[Department],Calc!B11)="","",INDEX(TableEmployeeList[Department],Calc!B11)),"") -> HR
B3517: =IFERROR(IF(LEN(C3517)=0,"",StartYear+7),"") -> 2029 | C3517: =IFERROR(IF(INDEX(TableEmployeeList[Employee Name],Calc!B12)="","",INDEX(TableEmployeeList[Employee Name],Calc!B12)),"") -> Laila Robinson | D3517: =IFERROR(IF(INDEX(TableEmployeeList[Department],Calc!B12)="","",INDEX(TableEmployeeList[Department],Calc!B12)),"") -> Marketing
...

Sheet Registration
B2: EMPLOYEE LEAVE TRACKER
B3: LEAVE REGISTRATION
D5: First Day of the Leave
B6: Employee Name | C6: Leave Type | D6: Day | E6: Month | F6: Year | G6: How Many Days? | H6: Next Working Day | I6: Compensated?
B7: Jonah Peterson | C7: Vacation | D7: 3 | E7: 1 | F7: 2022 | G7: 1 | H7: =IFERROR(IF(LEN(Calc!R11)=0,"",Calc!R11),"") -> 44565
B8: Vincent Collins | C8: Sick Leave | D8: 2 | E8: 1 | F8: 2022 | G8: 2 | H8: =IFERROR(IF(LEN(Calc!R12)=0,"",Calc!R12),"") -> 44566 | I8: No
B9: Laila Robinson | C9: Unpaid Leave | D9: 8 | E9: 1 | F9: 2022 | G9: 10 | H9: =IFERROR(IF(LEN(Calc!R13)=0,"",Calc!R13),"") -> 44586
B10: Kane Watts | C10: Vacation | D10: 11 | E10: 1 | F10: 2022 | G10: 10 | H10: =IFERROR(IF(LEN(Calc!R14)=0,"",Calc!R14),"") -> 44587 | I10: No
B11: Ryan Briggs | C11: Unpaid Leave | D11: 5 | E11: 1 | F11: 2022 | G11: 5 | H11: =IFERROR(IF(LEN(Calc!R15)=0,"",Calc!R15),"") -> 44573 | I11: Yes
B12: Jonah Peterson | C12: Other | D12: 8 | E12: 2 | F12: 2022 | G12: 5.5 | H12: =IFERROR(IF(LEN(Calc!R16)=0,"",Calc!R16),"") -> 44608
B13: Rylie Norman | C13: Remotely Working | D13: 1 | E13: 3 | F13: 2022 | G13: 10 | H13: =IFERROR(IF(LEN(Calc!R17)=0,"",Calc!R17),"") -> 44635
B14: Kobe Murphy | C14: Vacation | D14: 5 | E14: 3 | F14: 2022 | G14: 5 | H14: =IFERROR(IF(LEN(Calc!R18)=0,"",Calc!R18),"") -> 44634 | I14: Yes
B15: Jonah Peterson | C15: Sick Leave | D15: 8 | E15: 4 | F15: 2022 | G15: 0.5 | H15: =IFERROR(IF(LEN(Calc!R19)=0,"",Calc!R19),"") -> 44662
B16: Kane Watts | C16: Vacation | D16: 9 | E16: 4 | F16: 2022 | G16: 3 | H16: =IFERROR(IF(LEN(Calc!R20)=0,"",Calc!R20),"") -> 44665
B17: Adalynn Turner | C17: Other | D17: 10 | E17: 5 | F17: 2022 | G17: 5 | H17: =IFERROR(IF(LEN(Calc!R21)=0,"",Calc!R21),"") -> 44698
H18: =IFERROR(IF(LEN(Calc!R22)=0,"",Calc!R22),"")
H19: =IFERROR(IF(LEN(Calc!R23)=0,"",Calc!R23),"")
H20: =IFERROR(IF(LEN(Calc!R24)=0,"",Calc!R24),"")
H21: =IFERROR(IF(LEN(Calc!R25)=0,"",Calc!R25),"")

Sheet Team
B2: EMPLOYEE LEAVE TRACKER
B3: TEAM TRACKER
B5: Year | C5: 2022 | E5: Holiday | J5: =IF(Dashboard!L20="","",Dashboard!L20) -> Vacation | O5: =IF(Dashboard!L21="","",Dashboard!L21) -> Sick Leave | T5: =IF(Dashboard!L22="","",Dashboard!L22) -> Unpaid Leave | AJ5: Next Month: | AM5: =IFERROR(IF(TeamMonth="December",C5+1,C5)&" / "&IF(TeamMonth="December","January",INDEX(Calc!$FB$14:$FB$25,MATCH(TeamMonth,Calc!$FB$14:$FB$25,0)+1)),"") -> 2022 / February
B7: Month | C7: January | E7: =IF(Dashboard!L23="","",Dashboard!L23) -> Other | J7: =IF(Dashboard!L24="","",Dashboard!L24) -> Remotely Working | O7: =IF(Dashboard!L25="","",Dashboard!L25) | T7: =IF(Dashboard!L26="","",Dashboard!L26)
B9: EMPLOYEE | D9: =IFERROR(INDEX(days,MATCH(WEEKDAY(Calc!AE8),Calc!$FA$29:$FA$35,0),3),"") -> Sat | E9: =IFERROR(INDEX(days,MATCH(WEEKDAY(Calc!AF8),Calc!$FA$29:$FA$35,0),3),"") -> Sun | F9: =IFERROR(INDEX(days,MATCH(WEEKDAY(Calc!AG8),Calc!$FA$29:$FA$35,0),3),"") -> Mon | G9: =IFERROR(INDEX(days,MATCH(WEEKDAY(Calc!AH8),Calc!$FA$29:$FA$35,0),3),"") -> Tue | H9: =IFERROR(INDEX(days,MATCH(WEEKDAY(Calc!AI8),Calc!$FA$29:$FA$35,0),3),"") -> Wed | I9: =IFERROR(INDEX(days,MATCH(WEEKDAY(Calc!AJ8),Calc!$FA$29:$FA$35,0),3),"") -> Thu | J9: =IFERROR(INDEX(days,MATCH(WEEKDAY(Calc!AK8),Calc!$FA$29:$FA$35,0),3),"") -> Fri | K9: =IFERROR(INDEX(days,MATCH(WEEKDAY(Calc!AL8),Calc!$FA$29:$FA$35,0),3),"") -> Sat | ... AH9: =IFERROR(INDEX(days,MATCH(WEEKDAY(Calc!BI8),Calc!$FA$29:$FA$35,0),3),"") -> Mon | AJ9: =IFERROR(INDEX(days,MATCH(WEEKDAY(Calc!BK8),Calc!$FA$29:$FA$35,0),3),"") -> Tue | AK9: =IFERROR(INDEX(days,MATCH(WEEKDAY(Calc!BL8),Calc!$FA$29:$FA$35,0),3),"") -> Wed | AL9: =IFERROR(INDEX(days,MATCH(WEEKDAY(Calc!BM8),Calc!$FA$29:$FA$35,0),3),"") -> Thu | AM9: =IFERROR(INDEX(days,MATCH(WEEKDAY(Calc!BN8),Calc!$FA$29:$FA$35,0),3),"") -> Fri | AN9: =IFERROR(INDEX(days,MATCH(WEEKDAY(Calc!BO8),Calc!$FA$29:$FA$35,0),3),"") -> Sat | AO9: =IFERROR(INDEX(days,MATCH(WEEKDAY(Calc!BP8),Calc!$FA$29:$FA$35,0),3),"") -> Sun | AP9: =IFERROR(INDEX(days,MATCH(WEEKDAY(Calc!BQ8),Calc!$FA$29:$FA$35,0),3),"") -> Mon | AQ9: =IFERROR(INDEX(days,MATCH(WEEKDAY(Calc!BR8),Calc!$FA$29:$FA$35,0),3),"") -> Tue | ... BN9: =IFERROR(INDEX(days,MATCH(WEEKDAY(Calc!CO8),Calc!$FA$29:$FA$35,0),3),"") -> Thu
B10: Name | C10: Department | D10: 1 | E10: 2 | F10: 3 | G10: 4 | H10: 5 | I10: 6 | J10: 7 | K10: 8 | L10: 9 | M10: 10 | N10: 11 | O10: 12 | P10: 13 | Q10: 14 | R10: 15 | S10: 16 | T10: 17 | U10: 18 | V10: 19 | W10: 20 | X10: 21 | Y10: 22 | Z10: 23 | AA10: 24 | AB10: 25 | AC10: 26 | AD10: 27 | AE10: 28 | AF10: 29 | AG10: 30 | AH10: 31 | AJ10: 1 | AK10: 2 | AL10: 3 | AM10: 4 | AN10: 5 | AO10: 6 | AP10: 7 | AQ10: 8 | AR10: 9 | AS10: 10 | AT10: 11 | AU10: 12 | AV10: 13 | AW10: 14 | AX10: 15 | AY10: 16 | AZ10: 17 | BA10: 18 | BB10: 19 | BC10: 20 | BD10: 21 | BE10: 22 | BF10: 23 | BG10: 24 | BH10: 25 | BI10: 26 | BJ10: 27 | BK10: 28 | BL10: 29 | BM10: 30 | BN10: 31
B11: =IFERROR(IF(INDEX(TableEmployeeList[],Calc!$AC11,1)="","",INDEX(TableEmployeeList[],Calc!$AC11,1)),"") -> Jonah Peterson | C11: =IFERROR(IF(INDEX(TableEmployeeList[],Calc!$AC11,2)="","",INDEX(TableEmployeeList[],Calc!$AC11,2)),"") -> HR
B12: =IFERROR(IF(INDEX(TableEmployeeList[],Calc!$AC12,1)="","",INDEX(TableEmployeeList[],Calc!$AC12,1)),"") -> Laila Robinson | C12: =IFERROR(IF(INDEX(TableEmployeeList[],Calc!$AC12,2)="","",INDEX(TableEmployeeList[],Calc!$AC12,2)),"") -> Marketing
B13: =IFERROR(IF(INDEX(TableEmployeeList[],Calc!$AC13,1)="","",INDEX(TableEmployeeList[],Calc!$AC13,1)),"") -> Vincent Collins | C13: =IFERROR(IF(INDEX(TableEmployeeList[],Calc!$AC13,2)="","",INDEX(TableEmployeeList[],Calc!$AC13,2)),"") -> Marketing
B14: =IFERROR(IF(INDEX(TableEmployeeList[],Calc!$AC14,1)="","",INDEX(TableEmployeeList[],Calc!$AC14,1)),"") -> Noah Kim | C14: =IFERROR(IF(INDEX(TableEmployeeList[],Calc!$AC14,2)="","",INDEX(TableEmployeeList[],Calc!$AC14,2)),"") -> Finance
B15: =IFERROR(IF(INDEX(TableEmployeeList[],Calc!$AC15,1)="","",INDEX(TableEmployeeList[],Calc!$AC15,1)),"") -> Kane Watts | C15: =IFERROR(IF(INDEX(TableEmployeeList[],Calc!$AC15,2)="","",INDEX(TableEmployeeList[],Calc!$AC15,2)),"") -> Finance
B16: =IFERROR(IF(INDEX(TableEmployeeList[],Calc!$AC16,1)="","",INDEX(TableEmployeeList[],Calc!$AC16,1)),"") -> Ryan Briggs | C16: =IFERROR(IF(INDEX(TableEmployeeList[],Calc!$AC16,2)="","",INDEX(TableEmployeeList[],Calc!$AC16,2)),"") -> Accounting
B17: =IFERROR(IF(INDEX(TableEmployeeList[],Calc!$AC17,1)="","",INDEX(TableEmployeeList[],Calc!$AC17,1)),"") -> Kobe Murphy | C17: =IFERROR(IF(INDEX(TableEmployeeList[],Calc!$AC17,2)="","",INDEX(TableEmployeeList[],Calc!$AC17,2)),"") -> Accounting
B18: =IFERROR(IF(INDEX(TableEmployeeList[],Calc!$AC18,1)="","",INDEX(TableEmployeeList[],Calc!$AC18,1)),"") -> Rylie Norman | C18: =IFERROR(IF(INDEX(TableEmployeeList[],Calc!$AC18,2)="","",INDEX(TableEmployeeList[],Calc!$AC18,2)),"") -> Sales
B19: =IFERROR(IF(INDEX(TableEmployeeList[],Calc!$AC19,1)="","",INDEX(TableEmployeeList[],Calc!$AC19,1)),"") -> Adalynn Turner | C19: =IFERROR(IF(INDEX(TableEmployeeList[],Calc!$AC19,2)="","",INDEX(TableEmployeeList[],Calc!$AC19,2)),"") -> Sales
B20: =IFERROR(IF(INDEX(TableEmployeeList[],Calc!$AC20,1)="","",INDEX(TableEmployeeList[],Calc!$AC20,1)),"") -> Aylin Berry | C20: =IFERROR(IF(INDEX(TableEmployeeList[],Calc!$AC20,2)="","",INDEX(TableEmployeeList[],Calc!$AC20,2)),"") -> Sales
B21: =IFERROR(IF(INDEX(TableEmployeeList[],Calc!$AC21,1)="","",INDEX(TableEmployeeList[],Calc!$AC21,1)),"") | C21: =IFERROR(IF(INDEX(TableEmployeeList[],Calc!$AC21,2)="","",INDEX(TableEmployeeList[],Calc!$AC21,2)),"")
B22: =IFERROR(IF(INDEX(TableEmployeeList[],Calc!$AC22,1)="","",INDEX(TableEmployeeList[],Calc!$AC22,1)),"") | C22: =IFERROR(IF(INDEX(TableEmployeeList[],Calc!$AC22,2)="","",INDEX(TableEmployeeList[],Calc!$AC22,2)),"")
... B510: =IFERROR(IF(INDEX(TableEmployeeList[],Calc!$AC510,1)="","",INDEX(TableEmployeeList[],Calc!$AC510,1)),"") | C510: =IFERROR(IF(INDEX(TableEmployeeList[],Calc!$AC510,2)="","",INDEX(TableEmployeeList[],Calc!$AC510,2)),"")

Sheet Employee
D2: EMPLOYEE LEAVE TRACKER
D3: EMPLOYEE TRACKER
C6: Employee | G6: Jonah Peterson | O6: Holiday | T6: =IF(LEN(Dashboard!L20)=0,"",Dashboard!L20) -> Vacation | Y6: =IF(LEN(Dashboard!L21)=0,"",Dashboard!L21) -> Sick Leave | AD6: =IF(LEN(Dashboard!L22)=0,"",Dashboard!L22) -> Unpaid Leave
C8: Year | G8: 2022 | O8: =IF(LEN(Dashboard!L23)=0,"",Dashboard!L23) -> Other | T8: =IF(LEN(Dashboard!L24)=0,"",Dashboard!L24) -> Remotely Working | Y8: =IF(LEN(Dashboard!L25)=0,"",Dashboard!L25) | AD8: =IF(LEN(Dashboard!L26)=0,"",Dashboard!L26)
C11: January | K11: February | S11: March | AA11: April | AJ11: Employee Leave Card
C12: Mon | D12: Tue | E12: Wed | F12: Thu | G12: Fri | H12: Sat | I12: Sun | K12: Mon | L12: Tue | M12: Wed | N12: Thu | O12: Fri | P12: Sat | Q12: Sun | S12: Mon | T12: Tue | U12: Wed | V12: Thu | W12: Fri | X12: Sat | Y12: Sun | AA12: Mon | AB12: Tue | AC12: Wed | AD12: Thu | AE12: Fri | AF12: Sat | AG12: Sun
C13: =IFERROR(IF(WEEKDAY(Calc!$CR$13)=2,Calc!$CR$13,""),"") | D13: =IFERROR(IF(LEN(C13)>0,C13+1,IF(WEEKDAY(Calc!$CR$13)=3,Calc!$CR$13,"")),"") | E13: =IFERROR(IF(LEN(D13)>0,D13+1,IF(WEEKDAY(Calc!$CR$13)=4,Calc!$CR$13,"")),"") | F13: =IFERROR(IF(LEN(E13)>0,E13+1,IF(WEEKDAY(Calc!$CR$13)=5,Calc!$CR$13,"")),"") | G13: =IFERROR(IF(LEN(F13)>0,F13+1,IF(WEEKDAY(Calc!$CR$13)=6,Calc!$CR$13,"")),"") | H13: =IFERROR(IF(LEN(G13)>0,G13+1,IF(WEEKDAY(Calc!$CR$13)=7,Calc!$CR$13,"")),"") -> 44562 | I13: =IFERROR(IF(LEN(H13)>0,H13+1,IF(WEEKDAY(Calc!$CR$13)=1,Calc!$CR$13,"")),"") -> 44563 | K13: =IFERROR(IF(WEEKDAY(Calc!$CR$14)=2,Calc!$CR$14,""),"") | L13: =IFERROR(IF(LEN(K13)>0,K13+1,IF(WEEKDAY(Calc!$CR$14)=3,Calc!$CR$14,"")),"") -> 44593 | M13: =IFERROR(IF(LEN(L13)>0,L13+1,IF(WEEKDAY(Calc!$CR$14)=4,Calc!$CR$14,"")),"") -> 44594 | N13: =IFERROR(IF(LEN(M13)>0,M13+1,IF(WEEKDAY(Calc!$CR$14)=5,Calc!$CR$14,"")),"") -> 44595 | O13: =IFERROR(IF(LEN(N13)>0,N13+1,IF(WEEKDAY(Calc!$CR$14)=6,Calc!$CR$14,"")),"") -> 44596 | P13: =IFERROR(IF(LEN(O13)>0,O13+1,IF(WEEKDAY(Calc!$CR$14)=7,Calc!$CR$14,"")),"") -> 44597 | Q13: =IFERROR(IF(LEN(P13)>0,P13+1,IF(WEEKDAY(Calc!$CR$14)=1,Calc!$CR$14,"")),"") -> 44598 | S13: =IFERROR(IF(WEEKDAY(Calc!$CR$15)=2,Calc!$CR$15,""),"") | T13: =IFERROR(IF(LEN(S13)>0,S13+1,IF(WEEKDAY(Calc!$CR$15)=3,Calc!$CR$15,"")),"") -> 44621 | U13: =IFERROR(IF(LEN(T13)>0,T13+1,IF(WEEKDAY(Calc!$CR$15)=4,Calc!$CR$15,"")),"") -> 44622 | V13: =IFERROR(IF(LEN(U13)>0,U13+1,IF(WEEKDAY(Calc!$CR$15)=5,Calc!$CR$15,"")),"") -> 44623 | W13: =IFERROR(IF(LEN(V13)>0,V13+1,IF(WEEKDAY(Calc!$CR$15)=6,Calc!$CR$15,"")),"") -> 44624 | X13: =IFERROR(IF(LEN(W13)>0,W13+1,IF(WEEKDAY(Calc!$CR$15)=7,Calc!$CR$15,"")),"") -> 44625 | Y13: =IFERROR(IF(LEN(X13)>0,X13+1,IF(WEEKDAY(Calc!$CR$15)=1,Calc!$CR$15,"")),"") -> 44626 | AA13: =IFERROR(IF(WEEKDAY(Calc!$CR$16)=2,Calc!$CR$16,""),"") | AB13: =IFERROR(IF(LEN(AA13)>0,AA13+1,IF(WEEKDAY(Calc!$CR$16)=3,Calc!$CR$16,"")),"") | AC13: =IFERROR(IF(LEN(AB13)>0,AB13+1,IF(WEEKDAY(Calc!$CR$16)=4,Calc!$CR$16,"")),"") | AD13: =IFERROR(IF(LEN(AC13)>0,AC13+1,IF(WEEKDAY(Calc!$CR$16)=5,Calc!$CR$16,"")),"") | AE13: =IFERROR(IF(LEN(AD13)>0,AD13+1,IF(WEEKDAY(Calc!$CR$16)=6,Calc!$CR$16,"")),"") -> 44652 | AF13: =IFERROR(IF(LEN(AE13)>0,AE13+1,IF(WEEKDAY(Calc!$CR$16)=7,Calc!$CR$16,"")),"") -> 44653 | AG13: =IFERROR(IF(LEN(AF13)>0,AF13+1,IF(WEEKDAY(Calc!$CR$16)=1,Calc!$CR$16,"")),"") -> 44654 | AK13: Entitlement | AL13: Carried Over | AM13: Used | AN13: Remaining
C14: =IFERROR(IF(LEN(I13)=0,"",IF(MONTH(I13+1)=MONTH(I13),I13+1,"")),"") -> 44564 | D14: =IFERROR(IF(LEN(C14)=0,"",IF(MONTH(C14+1)=MONTH(C14),C14+1,"")),"") -> 44565 | E14: =IFERROR(IF(LEN(D14)=0,"",IF(MONTH(D14+1)=MONTH(D14),D14+1,"")),"") -> 44566 | F14: =IFERROR(IF(LEN(E14)=0,"",IF(MONTH(E14+1)=MONTH(E14),E14+1,"")),"") -> 44567 | G14: =IFERROR(IF(LEN(F14)=0,"",IF(MONTH(F14+1)=MONTH(F14),F14+1,"")),"") -> 44568 | H14: =IFERROR(IF(LEN(G14)=0,"",IF(MONTH(G14+1)=MONTH(G14),G14+1,"")),"") -> 44569 | I14: =IFERROR(IF(LEN(H14)=0,"",IF(MONTH(H14+1)=MONTH(H14),H14+1,"")),"") -> 44570 | K14: =IFERROR(IF(LEN(Q13)=0,"",IF(MONTH(Q13+1)=MONTH(Q13),Q13+1,"")),"") -> 44599 | L14: =IFERROR(IF(LEN(K14)=0,"",IF(MONTH(K14+1)=MONTH(K14),K14+1,"")),"") -> 44600 | M14: =IFERROR(IF(LEN(L14)=0,"",IF(MONTH(L14+1)=MONTH(L14),L14+1,"")),"") -> 44601 | N14: =IFERROR(IF(LEN(M14)=0,"",IF(MONTH(M14+1)=MONTH(M14),M14+1,"")),"") -> 44602 | O14: =IFERROR(IF(LEN(N14)=0,"",IF(MONTH(N14+1)=MONTH(N14),N14+1,"")),"") -> 44603 | P14: =IFERROR(IF(LEN(O14)=0,"",IF(MONTH(O14+1)=MONTH(O14),O14+1,"")),"") -> 44604 | Q14: =IFERROR(IF(LEN(P14)=0,"",IF(MONTH(P14+1)=MONTH(P14),P14+1,"")),"") -> 44605 | S14: =IFERROR(IF(LEN(Y13)=0,"",IF(MONTH(Y13+1)=MONTH(Y13),Y13+1,"")),"") -> 44627 | T14: =IFERROR(IF(LEN(S14)=0,"",IF(MONTH(S14+1)=MONTH(S14),S14+1,"")),"") -> 44628 | U14: =IFERROR(IF(LEN(T14)=0,"",IF(MONTH(T14+1)=MONTH(T14),T14+1,"")),"") -> 44629 | V14: =IFERROR(IF(LEN(U14)=0,"",IF(MONTH(U14+1)=MONTH(U14),U14+1,"")),"") -> 44630 | W14: =IFERROR(IF(LEN(V14)=0,"",IF(MONTH(V14+1)=MONTH(V14),V14+1,"")),"") -> 44631 | X14: =IFERROR(IF(LEN(W14)=0,"",IF(MONTH(W14+1)=MONTH(W14),W14+1,"")),"") -> 44632 | Y14: =IFERROR(IF(LEN(X14)=0,"",IF(MONTH(X14+1)=MONTH(X14),X14+1,"")),"") -> 44633 | AA14: =IFERROR(IF(LEN(AG13)=0,"",IF(MONTH(AG13+1)=MONTH(AG13),AG13+1,"")),"") -> 44655 | AB14: =IFERROR(IF(LEN(AA14)=0,"",IF(MONTH(AA14+1)=MONTH(AA14),AA14+1,"")),"") -> 44656 | AC14: =IFERROR(IF(LEN(AB14)=0,"",IF(MONTH(AB14+1)=MONTH(AB14),AB14+1,"")),"") -> 44657 | AD14: =IFERROR(IF(LEN(AC14)=0,"",IF(MONTH(AC14+1)=MONTH(AC14),AC14+1,"")),"") -> 44658 | AE14: =IFERROR(IF(LEN(AD14)=0,"",IF(MONTH(AD14+1)=MONTH(AD14),AD14+1,"")),"") -> 44659 | AF14: =IFERROR(IF(LEN(AE14)=0,"",IF(MONTH(AE14+1)=MONTH(AE14),AE14+1,"")),"") -> 44660 | AG14: =IFERROR(IF(LEN(AF14)=0,"",IF(MONTH(AF14+1)=MONTH(AF14),AF14+1,"")),"") -> 44661 | AJ14: =IF(LEN(Dashboard!L20)=0,"",Dashboard!L20) -> Vacation | AK14: =IFERROR(INDEX(Calc!$EF$14:$EO$20,Calc!ED23,MATCH(Employee!$G$8,Calc!$EF$13:$EO$13,0)),"") -> 20 | AL14: =IFERROR(INDEX(Calc!$EF$33:$EO$39,Calc!ED23,MATCH(Employee!$G$8,Calc!$EF$32:$EO$32,0)),"") -> 0 | AM14: =IFERROR(INDEX(Calc!$EF$23:$EO$29,Calc!ED23,MATCH(Employee!$G$8,Calc!$EF$22:$EO$22,0)),"") -> 1 | AN14: =IFERROR(INDEX(Calc!$EF$43:$EO$49,Calc!ED23,MATCH(Employee!$G$8,Calc!$EF$42:$EO$42,0)),"") -> 19
C15: =IFERROR(IF(LEN(I14)=0,"",IF(MONTH(I14+1)=MONTH(I14),I14+1,"")),"") -> 44571 | D15: =IFERROR(IF(LEN(C15)=0,"",IF(MONTH(C15+1)=MONTH(C15),C15+1,"")),"") -> 44572 | E15: =IFERROR(IF(LEN(D15)=0,"",IF(MONTH(D15+1)=MONTH(D15),D15+1,"")),"") -> 44573 | F15: =IFERROR(IF(LEN(E15)=0,"",IF(MONTH(E15+1)=MONTH(E15),E15+1,"")),"") -> 44574 | G15: =IFERROR(IF(LEN(F15)=0,"",IF(MONTH(F15+1)=MONTH(F15),F15+1,"")),"") -> 44575 | H15: =IFERROR(IF(LEN(G15)=0,"",IF(MONTH(G15+1)=MONTH(G15),G15+1,"")),"") -> 44576 | I15: =IFERROR(IF(LEN(H15)=0,"",IF(MONTH(H15+1)=MONTH(H15),H15+1,"")),"") -> 44577 | K15: =IFERROR(IF(LEN(Q14)=0,"",IF(MONTH(Q14+1)=MONTH(Q14),Q14+1,"")),"") -> 44606 | L15: =IFERROR(IF(LEN(K15)=0,"",IF(MONTH(K15+1)=MONTH(K15),K15+1,"")),"") -> 44607 | M15: =IFERROR(IF(LEN(L15)=0,"",IF(MONTH(L15+1)=MONTH(L15),L15+1,"")),"") -> 44608 | N15: =IFERROR(IF(LEN(M15)=0,"",IF(MONTH(M15+1)=MONTH(M15),M15+1,"")),"") -> 44609 | O15: =IFERROR(IF(LEN(N15)=0,"",IF(MONTH(N15+1)=MONTH(N15),N15+1,"")),"") -> 44610 | P15: =IFERROR(IF(LEN(O15)=0,"",IF(MONTH(O15+1)=MONTH(O15),O15+1,"")),"") -> 44611 | Q15: =IFERROR(IF(LEN(P15)=0,"",IF(MONTH(P15+1)=MONTH(P15),P15+1,"")),"") -> 44612 | S15: =IFERROR(IF(LEN(Y14)=0,"",IF(MONTH(Y14+1)=MONTH(Y14),Y14+1,"")),"") -> 44634 | T15: =IFERROR(IF(LEN(S15)=0,"",IF(MONTH(S15+1)=MONTH(S15),S15+1,"")),"") -> 44635 | U15: =IFERROR(IF(LEN(T15)=0,"",IF(MONTH(T15+1)=MONTH(T15),T15+1,"")),"") -> 44636 | V15: =IFERROR(IF(LEN(U15)=0,"",IF(MONTH(U15+1)=MONTH(U15),U15+1,"")),"") -> 44637 | W15: =IFERROR(IF(LEN(V15)=0,"",IF(MONTH(V15+1)=MONTH(V15),V15+1,"")),"") -> 44638 | X15: =IFERROR(IF(LEN(W15)=0,"",IF(MONTH(W15+1)=MONTH(W15),W15+1,"")),"") -> 44639 | Y15: =IFERROR(IF(LEN(X15)=0,"",IF(MONTH(X15+1)=MONTH(X15),X15+1,"")),"") -> 44640 | AA15: =IFERROR(IF(LEN(AG14)=0,"",IF(MONTH(AG14+1)=MONTH(AG14),AG14+1,"")),"") -> 44662 | AB15: =IFERROR(IF(LEN(AA15)=0,"",IF(MONTH(AA15+1)=MONTH(AA15),AA15+1,"")),"") -> 44663 | AC15: =IFERROR(IF(LEN(AB15)=0,"",IF(MONTH(AB15+1)=MONTH(AB15),AB15+1,"")),"") -> 44664 | AD15: =IFERROR(IF(LEN(AC15)=0,"",IF(MONTH(AC15+1)=MONTH(AC15),AC15+1,"")),"") -> 44665 | AE15: =IFERROR(IF(LEN(AD15)=0,"",IF(MONTH(AD15+1)=MONTH(AD15),AD15+1,"")),"") -> 44666 | AF15: =IFERROR(IF(LEN(AE15)=0,"",IF(MONTH(AE15+1)=MONTH(AE15),AE15+1,"")),"") -> 44667 | AG15: =IFERROR(IF(LEN(AF15)=0,"",IF(MONTH(AF15+1)=MONTH(AF15),AF15+1,"")),"") -> 44668 | AJ15: =IF(LEN(Dashboard!L21)=0,"",Dashboard!L21) -> Sick Leave | AK15: =IFERROR(INDEX(Calc!$EF$14:$EO$20,Calc!ED24,MATCH(Employee!$G$8,Calc!$EF$13:$EO$13,0)),"") -> 10 | AL15: =IFERROR(INDEX(Calc!$EF$33:$EO$39,Calc!ED24,MATCH(Employee!$G$8,Calc!$EF$32:$EO$32,0)),"") -> 0 | AM15: =IFERROR(INDEX(Calc!$EF$23:$EO$29,Calc!ED24,MATCH(Employee!$G$8,Calc!$EF$22:$EO$22,0)),"") -> 0.5 | AN15: =IFERROR(INDEX(Calc!$EF$43:$EO$49,Calc!ED24,MATCH(Employee!$G$8,Calc!$EF$42:$EO$42,0)),"") -> 9.5
C16: =IFERROR(IF(LEN(I15)=0,"",IF(MONTH(I15+1)=MONTH(I15),I15+1,"")),"") -> 44578 | D16: =IFERROR(IF(LEN(C16)=0,"",IF(MONTH(C16+1)=MONTH(C16),C16+1,"")),"") -> 44579 | E16: =IFERROR(IF(LEN(D16)=0,"",IF(MONTH(D16+1)=MONTH(D16),D16+1,"")),"") -> 44580 | F16: =IFERROR(IF(LEN(E16)=0,"",IF(MONTH(E16+1)=MONTH(E16),E16+1,"")),"") -> 44581 | G16: =IFERROR(IF(LEN(F16)=0,"",IF(MONTH(F16+1)=MONTH(F16),F16+1,"")),"") -> 44582 | H16: =IFERROR(IF(LEN(G16)=0,"",IF(MONTH(G16+1)=MONTH(G16),G16+1,"")),"") -> 44583 | I16: =IFERROR(IF(LEN(H16)=0,"",IF(MONTH(H16+1)=MONTH(H16),H16+1,"")),"") -> 44584 | K16: =IFERROR(IF(LEN(Q15)=0,"",IF(MONTH(Q15+1)=MONTH(Q15),Q15+1,"")),"") -> 44613 | L16: =IFERROR(IF(LEN(K16)=0,"",IF(MONTH(K16+1)=MONTH(K16),K16+1,"")),"") -> 44614 | M16: =IFERROR(IF(LEN(L16)=0,"",IF(MONTH(L16+1)=MONTH(L16),L16+1,"")),"") -> 44615 | N16: =IFERROR(IF(LEN(M16)=0,"",IF(MONTH(M16+1)=MONTH(M16),M16+1,"")),"") -> 44616 | O16: =IFERROR(IF(LEN(N16)=0,"",IF(MONTH(N16+1)=MONTH(N16),N16+1,"")),"") -> 44617 | P16: =IFERROR(IF(LEN(O16)=0,"",IF(MONTH(O16+1)=MONTH(O16),O16+1,"")),"") -> 44618 | Q16: =IFERROR(IF(LEN(P16)=0,"",IF(MONTH(P16+1)=MONTH(P16),P16+1,"")),"") -> 44619 | S16: =IFERROR(IF(LEN(Y15)=0,"",IF(MONTH(Y15+1)=MONTH(Y15),Y15+1,"")),"") -> 44641 | T16: =IFERROR(IF(LEN(S16)=0,"",IF(MONTH(S16+1)=MONTH(S16),S16+1,"")),"") -> 44642 | U16: =IFERROR(IF(LEN(T16)=0,"",IF(MONTH(T16+1)=MONTH(T16),T16+1,"")),"") -> 44643 | V16: =IFERROR(IF(LEN(U16)=0,"",IF(MONTH(U16+1)=MONTH(U16),U16+1,"")),"") -> 44644 | W16: =IFERROR(IF(LEN(V16)=0,"",IF(MONTH(V16+1)=MONTH(V16),V16+1,"")),"") -> 44645 | X16: =IFERROR(IF(LEN(W16)=0,"",IF(MONTH(W16+1)=MONTH(W16),W16+1,"")),"") -> 44646 | Y16: =IFERROR(IF(LEN(X16)=0,"",IF(MONTH(X16+1)=MONTH(X16),X16+1,"")),"") -> 44647 | AA16: =IFERROR(IF(LEN(AG15)=0,"",IF(MONTH(AG15+1)=MONTH(AG15),AG15+1,"")),"") -> 44669 | AB16: =IFERROR(IF(LEN(AA16)=0,"",IF(MONTH(AA16+1)=MONTH(AA16),AA16+1,"")),"") -> 44670 | AC16: =IFERROR(IF(LEN(AB16)=0,"",IF(MONTH(AB16+1)=MONTH(AB16),AB16+1,"")),"") -> 44671 | AD16: =IFERROR(IF(LEN(AC16)=0,"",IF(MONTH(AC16+1)=MONTH(AC16),AC16+1,"")),"") -> 44672 | AE16: =IFERROR(IF(LEN(AD16)=0,"",IF(MONTH(AD16+1)=MONTH(AD16),AD16+1,"")),"") -> 44673 | AF16: =IFERROR(IF(LEN(AE16)=0,"",IF(MONTH(AE16+1)=MONTH(AE16),AE16+1,"")),"") -> 44674 | AG16: =IFERROR(IF(LEN(AF16)=0,"",IF(MONTH(AF16+1)=MONTH(AF16),AF16+1,"")),"") -> 44675 | AJ16: =IF(LEN(Dashboard!L22)=0,"",Dashboard!L22) -> Unpaid Leave | AK16: =IFERROR(INDEX(Calc!$EF$14:$EO$20,Calc!ED25,MATCH(Employee!$G$8,Calc!$EF$13:$EO$13,0)),"") -> 30 | AL16: =IFERROR(INDEX(Calc!$EF$33:$EO$39,Calc!ED25,MATCH(Employee!$G$8,Calc!$EF$32:$EO$32,0)),"") -> 0 | AM16: =IFERROR(INDEX(Calc!$EF$23:$EO$29,Calc!ED25,MATCH(Employee!$G$8,Calc!$EF$22:$EO$22,0)),"") -> 0 | AN16: =IFERROR(INDEX(Calc!$EF$43:$EO$49,Calc!ED25,MATCH(Employee!$G$8,Calc!$EF$42:$EO$42,0)),"") -> 30
C17: =IFERROR(IF(LEN(I16)=0,"",IF(MONTH(I16+1)=MONTH(I16),I16+1,"")),"") -> 44585 | D17: =IFERROR(IF(LEN(C17)=0,"",IF(MONTH(C17+1)=MONTH(C17),C17+1,"")),"") -> 44586 | E17: =IFERROR(IF(LEN(D17)=0,"",IF(MONTH(D17+1)=MONTH(D17),D17+1,"")),"") -> 44587 | F17: =IFERROR(IF(LEN(E17)=0,"",IF(MONTH(E17+1)=MONTH(E17),E17+1,"")),"") -> 44588 | G17: =IFERROR(IF(LEN(F17)=0,"",IF(MONTH(F17+1)=MONTH(F17),F17+1,"")),"") -> 44589 | H17: =IFERROR(IF(LEN(G17)=0,"",IF(MONTH(G17+1)=MONTH(G17),G17+1,"")),"") -> 44590 | I17: =IFERROR(IF(LEN(H17)=0,"",IF(MONTH(H17+1)=MONTH(H17),H17+1,"")),"") -> 44591 | K17: =IFERROR(IF(LEN(Q16)=0,"",IF(MONTH(Q16+1)=MONTH(Q16),Q16+1,"")),"") -> 44620 | L17: =IFERROR(IF(LEN(K17)=0,"",IF(MONTH(K17+1)=MONTH(K17),K17+1,"")),"") | M17: =IFERROR(IF(LEN(L17)=0,"",IF(MONTH(L17+1)=MONTH(L17),L17+1,"")),"") | N17: =IFERROR(IF(LEN(M17)=0,"",IF(MONTH(M17+1)=MONTH(M17),M17+1,"")),"") | O17: =IFERROR(IF(LEN(N17)=0,"",IF(MONTH(N17+1)=MONTH(N17),N17+1,"")),"") | P17: =IFERROR(IF(LEN(O17)=0,"",IF(MONTH(O17+1)=MONTH(O17),O17+1,"")),"") | Q17: =IFERROR(IF(LEN(P17)=0,"",IF(MONTH(P17+1)=MONTH(P17),P17+1,"")),"") | S17: =IFERROR(IF(LEN(Y16)=0,"",IF(MONTH(Y16+1)=MONTH(Y16),Y16+1,"")),"") -> 44648 | T17: =IFERROR(IF(LEN(S17)=0,"",IF(MONTH(S17+1)=MONTH(S17),S17+1,"")),"") -> 44649 | U17: =IFERROR(IF(LEN(T17)=0,"",IF(MONTH(T17+1)=MONTH(T17),T17+1,"")),"") -> 44650 | V17: =IFERROR(IF(LEN(U17)=0,"",IF(MONTH(U17+1)=MONTH(U17),U17+1,"")),"") -> 44651 | W17: =IFERROR(IF(LEN(V17)=0,"",IF(MONTH(V17+1)=MONTH(V17),V17+1,"")),"") | X17: =IFERROR(IF(LEN(W17)=0,"",IF(MONTH(W17+1)=MONTH(W17),W17+1,"")),"") | Y17: =IFERROR(IF(LEN(X17)=0,"",IF(MONTH(X17+1)=MONTH(X17),X17+1,"")),"") | AA17: =IFERROR(IF(LEN(AG16)=0,"",IF(MONTH(AG16+1)=MONTH(AG16),AG16+1,"")),"") -> 44676 | AB17: =IFERROR(IF(LEN(AA17)=0,"",IF(MONTH(AA17+1)=MONTH(AA17),AA17+1,"")),"") -> 44677 | AC17: =IFERROR(IF(LEN(AB17)=0,"",IF(MONTH(AB17+1)=MONTH(AB17),AB17+1,"")),"") -> 44678 | AD17: =IFERROR(IF(LEN(AC17)=0,"",IF(MONTH(AC17+1)=MONTH(AC17),AC17+1,"")),"") -> 44679 | AE17: =IFERROR(IF(LEN(AD17)=0,"",IF(MONTH(AD17+1)=MONTH(AD17),AD17+1,"")),"") -> 44680 | AF17: =IFERROR(IF(LEN(AE17)=0,"",IF(MONTH(AE17+1)=MONTH(AE17),AE17+1,"")),"") -> 44681 | AG17: =IFERROR(IF(LEN(AF17)=0,"",IF(MONTH(AF17+1)=MONTH(AF17),AF17+1,"")),"") | AJ17: =IF(LEN(Dashboard!L23)=0,"",Dashboard!L23) -> Other | AK17: =IFERROR(INDEX(Calc!$EF$14:$EO$20,Calc!ED26,MATCH(Employee!$G$8,Calc!$EF$13:$EO$13,0)),"") -> 8 | AL17: =IFERROR(INDEX(Calc!$EF$33:$EO$39,Calc!ED26,MATCH(Employee!$G$8,Calc!$EF$32:$EO$32,0)),"") -> 0 | AM17: =IFERROR(INDEX(Calc!$EF$23:$EO$29,Calc!ED26,MATCH(Employee!$G$8,Calc!$EF$22:$EO$22,0)),"") -> 5.5 | AN17: =IFERROR(INDEX(Calc!$EF$43:$EO$49,Calc!ED26,MATCH(Employee!$G$8,Calc!$EF$42:$EO$42,0)),"") -> 2.5
C18: =IFERROR(IF(LEN(I17)=0,"",IF(MONTH(I17+1)=MONTH(I17),I17+1,"")),"") -> 44592 | D18: =IFERROR(IF(LEN(C18)=0,"",IF(MONTH(C18+1)=MONTH(C18),C18+1,"")),"") | E18: =IFERROR(IF(LEN(D18)=0,"",IF(MONTH(D18+1)=MONTH(D18),D18+1,"")),"") | F18: =IFERROR(IF(LEN(E18)=0,"",IF(MONTH(E18+1)=MONTH(E18),E18+1,"")),"") | G18: =IFERROR(IF(LEN(F18)=0,"",IF(MONTH(F18+1)=MONTH(F18),F18+1,"")),"") | H18: =IFERROR(IF(LEN(G18)=0,"",IF(MONTH(G18+1)=MONTH(G18),G18+1,"")),"") | I18: =IFERROR(IF(LEN(H18)=0,"",IF(MONTH(H18+1)=MONTH(H18),H18+1,"")),"") | K18: =IFERROR(IF(LEN(Q17)=0,"",IF(MONTH(Q17+1)=MONTH(Q17),Q17+1,"")),"") | L18: =IFERROR(IF(LEN(K18)=0,"",IF(MONTH(K18+1)=MONTH(K18),K18+1,"")),"") | M18: =IFERROR(IF(LEN(L18)=0,"",IF(MONTH(L18+1)=MONTH(L18),L18+1,"")),"") | N18: =IFERROR(IF(LEN(M18)=0,"",IF(MONTH(M18+1)=MONTH(M18),M18+1,"")),"") | O18: =IFERROR(IF(LEN(N18)=0,"",IF(MONTH(N18+1)=MONTH(N18),N18+1,"")),"") | P18: =IFERROR(IF(LEN(O18)=0,"",IF(MONTH(O18+1)=MONTH(O18),O18+1,"")),"") | Q18: =IFERROR(IF(LEN(P18)=0,"",IF(MONTH(P18+1)=MONTH(P18),P18+1,"")),"") | S18: =IFERROR(IF(LEN(Y17)=0,"",IF(MONTH(Y17+1)=MONTH(Y17),Y17+1,"")),"") | T18: =IFERROR(IF(LEN(S18)=0,"",IF(MONTH(S18+1)=MONTH(S18),S18+1,"")),"") | U18: =IFERROR(IF(LEN(T18)=0,"",IF(MONTH(T18+1)=MONTH(T18),T18+1,"")),"") | V18: =IFERROR(IF(LEN(U18)=0,"",IF(MONTH(U18+1)=MONTH(U18),U18+1,"")),"") | W18: =IFERROR(IF(LEN(V18)=0,"",IF(MONTH(V18+1)=MONTH(V18),V18+1,"")),"") | X18: =IFERROR(IF(LEN(W18)=0,"",IF(MONTH(W18+1)=MONTH(W18),W18+1,"")),"") | Y18: =IFERROR(IF(LEN(X18)=0,"",IF(MONTH(X18+1)=MONTH(X18),X18+1,"")),"") | AA18: =IFERROR(IF(LEN(AG17)=0,"",IF(MONTH(AG17+1)=MONTH(AG17),AG17+1,"")),"") | AB18: =IFERROR(IF(LEN(AA18)=0,"",IF(MONTH(AA18+1)=MONTH(AA18),AA18+1,"")),"") | AC18: =IFERROR(IF(LEN(AB18)=0,"",IF(MONTH(AB18+1)=MONTH(AB18),AB18+1,"")),"") | AD18: =IFERROR(IF(LEN(AC18)=0,"",IF(MONTH(AC18+1)=MONTH(AC18),AC18+1,"")),"") | AE18: =IFERROR(IF(LEN(AD18)=0,"",IF(MONTH(AD18+1)=MONTH(AD18),AD18+1,"")),"") | AF18: =IFERROR(IF(LEN(AE18)=0,"",IF(MONTH(AE18+1)=MONTH(AE18),AE18+1,"")),"") | AG18: =IFERROR(IF(LEN(AF18)=0,"",IF(MONTH(AF18+1)=MONTH(AF18),AF18+1,"")),"") | AJ18: =IF(LEN(Dashboard!L24)=0,"",Dashboard!L24) -> Remotely Working | AK18: =IFERROR(INDEX(Calc!$EF$14:$EO$20,Calc!ED27,MATCH(Employee!$G$8,Calc!$EF$13:$EO$13,0)),"") -> 20 | AL18: =IFERROR(INDEX(Calc!$EF$33:$EO$39,Calc!ED27,MATCH(Employee!$G$8,Calc!$EF$32:$EO$32,0)),"") -> 0 | AM18: =IFERROR(INDEX(Calc!$EF$23:$EO$29,Calc!ED27,MATCH(Employee!$G$8,Calc!$EF$22:$EO$22,0)),"") -> 0 | AN18: =IFERROR(INDEX(Calc!$EF$43:$EO$49,Calc!ED27,MATCH(Employee!$G$8,Calc!$EF$42:$EO$42,0)),"") -> 20
AJ19: =IF(LEN(Dashboard!L25)=0,"",Dashboard!L25) | AK19: =IFERROR(INDEX(Calc!$EF$14:$EO$20,Calc!ED28,MATCH(Employee!$G$8,Calc!$EF$13:$EO$13,0)),"") -> 0 | AL19: =IFERROR(INDEX(Calc!$EF$33:$EO$39,Calc!ED28,MATCH(Employee!$G$8,Calc!$EF$32:$EO$32,0)),"") -> 0 | AM19: =IFERROR(INDEX(Calc!$EF$23:$EO$29,Calc!ED28,MATCH(Employee!$G$8,Calc!$EF$22:$EO$22,0)),"") -> 0 | AN19: =IFERROR(INDEX(Calc!$EF$43:$EO$49,Calc!ED28,MATCH(Employee!$G$8,Calc!$EF$42:$EO$42,0)),"") -> 0
C20: May | K20: June | S20: July | AA20: August | AJ20: =IF(LEN(Dashboard!L26)=0,"",Dashboard!L26) | AK20: =IFERROR(INDEX(Calc!$EF$14:$EO$20,Calc!ED29,MATCH(Employee!$G$8,Calc!$EF$13:$EO$13,0)),"") -> 0 | AL20: =IFERROR(INDEX(Calc!$EF$33:$EO$39,Calc!ED29,MATCH(Employee!$G$8,Calc!$EF$32:$EO$32,0)),"") -> 0 | AM20: =IFERROR(INDEX(Calc!$EF$23:$EO$29,Calc!ED29,MATCH(Employee!$G$8,Calc!$EF$22:$EO$22,0)),"") -> 0 | AN20: =IFERROR(INDEX(Calc!$EF$43:$EO$49,Calc!ED29,MATCH(Employee!$G$8,Calc!$EF$42:$EO$42,0)),"") -> 0
C21: Mon | D21: Tue | E21: Wed | F21: Thu | G21: Fri | H21: Sat | I21: Sun | K21: Mon | L21: Tue | M21: Wed | N21: Thu | O21: Fri | P21: Sat | Q21: Sun | S21: Mon | T21: Tue | U21: Wed | V21: Thu | W21: Fri | X21: Sat | Y21: Sun | AA21: Mon | AB21: Tue | AC21: Wed | AD21: Thu | AE21: Fri | AF21: Sat | AG21: Sun
C22: =IFERROR(IF(WEEKDAY(Calc!$CR$17)=2,Calc!$CR$17,""),"") | D22: =IFERROR(IF(LEN(C22)>0,C22+1,IF(WEEKDAY(Calc!$CR$17)=3,Calc!$CR$17,"")),"") | E22: =IFERROR(IF(LEN(D22)>0,D22+1,IF(WEEKDAY(Calc!$CR$17)=4,Calc!$CR$17,"")),"") | F22: =IFERROR(IF(LEN(E22)>0,E22+1,IF(WEEKDAY(Calc!$CR$17)=5,Calc!$CR$17,"")),"") | G22: =IFERROR(IF(LEN(F22)>0,F22+1,IF(WEEKDAY(Calc!$CR$17)=6,Calc!$CR$17,"")),"") | H22: =IFERROR(IF(LEN(G22)>0,G22+1,IF(WEEKDAY(Calc!$CR$17)=7,Calc!$CR$17,"")),"") | I22: =IFERROR(IF(LEN(H22)>0,H22+1,IF(WEEKDAY(Calc!$CR$17)=1,Calc!$CR$17,"")),"") -> 44682 | K22: =IFERROR(IF(WEEKDAY(Calc!$CR$18)=2,Calc!$CR$18,""),"") | L22: =IFERROR(IF(LEN(K22)>0,K22+1,IF(WEEKDAY(Calc!$CR$18)=3,Calc!$CR$18,"")),"") | M22: =IFERROR(IF(LEN(L22)>0,L22+1,IF(WEEKDAY(Calc!$CR$18)=4,Calc!$CR$18,"")),"") -> 44713 | N22: =IFERROR(IF(LEN(M22)>0,M22+1,IF(WEEKDAY(Calc!$CR$18)=5,Calc!$CR$18,"")),"") -> 44714 | O22: =IFERROR(IF(LEN(N22)>0,N22+1,IF(WEEKDAY(Calc!$CR$18)=6,Calc!$CR$18,"")),"") -> 44715 | P22: =IFERROR(IF(LEN(O22)>0,O22+1,IF(WEEKDAY(Calc!$CR$18)=7,Calc!$CR$18,"")),"") -> 44716 | Q22: =IFERROR(IF(LEN(P22)>0,P22+1,IF(WEEKDAY(Calc!$CR$18)=1,Calc!$CR$18,"")),"") -> 44717 | S22: =IFERROR(IF(WEEKDAY(Calc!$CR$19)=2,Calc!$CR$19,""),"") | T22: =IFERROR(IF(LEN(S22)>0,S22+1,IF(WEEKDAY(Calc!$CR$19)=3,Calc!$CR$19,"")),"") | U22: =IFERROR(IF(LEN(T22)>0,T22+1,IF(WEEKDAY(Calc!$CR$19)=4,Calc!$CR$19,"")),"") | V22: =IFERROR(IF(LEN(U22)>0,U22+1,IF(WEEKDAY(Calc!$CR$19)=5,Calc!$CR$19,"")),"") | W22: =IFERROR(IF(LEN(V22)>0,V22+1,IF(WEEKDAY(Calc!$CR$19)=6,Calc!$CR$19,"")),"") -> 44743 | X22: =IFERROR(IF(LEN(W22)>0,W22+1,IF(WEEKDAY(Calc!$CR$19)=7,Calc!$CR$19,"")),"") -> 44744 | Y22: =IFERROR(IF(LEN(X22)>0,X22+1,IF(WEEKDAY(Calc!$CR$19)=1,Calc!$CR$19,"")),"") -> 44745 | AA22: =IFERROR(IF(WEEKDAY(Calc!$CR$20)=2,Calc!$CR$20,""),"") -> 44774 | AB22: =IFERROR(IF(LEN(AA22)>0,AA22+1,IF(WEEKDAY(Calc!$CR$20)=3,Calc!$CR$20,"")),"") -> 44775 | AC22: =IFERROR(IF(LEN(AB22)>0,AB22+1,IF(WEEKDAY(Calc!$CR$20)=4,Calc!$CR$20,"")),"") -> 44776 | AD22: =IFERROR(IF(LEN(AC22)>0,AC22+1,IF(WEEKDAY(Calc!$CR$20)=5,Calc!$CR$20,"")),"") -> 44777 | AE22: =IFERROR(IF(LEN(AD22)>0,AD22+1,IF(WEEKDAY(Calc!$CR$20)=6,Calc!$CR$20,"")),"") -> 44778 | AF22: =IFERROR(IF(LEN(AE22)>0,AE22+1,IF(WEEKDAY(Calc!$CR$20)=7,Calc!$CR$20,"")),"") -> 44779 | AG22: =IFERROR(IF(LEN(AF22)>0,AF22+1,IF(WEEKDAY(Calc!$CR$20)=1,Calc!$CR$20,"")),"") -> 44780
C23: =IFERROR(IF(LEN(I22)=0,"",IF(MONTH(I22+1)=MONTH(I22),I22+1,"")),"") -> 44683 | D23: =IFERROR(IF(LEN(C23)=0,"",IF(MONTH(C23+1)=MONTH(C23),C23+1,"")),"") -> 44684 | E23: =IFERROR(IF(LEN(D23)=0,"",IF(MONTH(D23+1)=MONTH(D23),D23+1,"")),"") -> 44685 | F23: =IFERROR(IF(LEN(E23)=0,"",IF(MONTH(E23+1)=MONTH(E23),E23+1,"")),"") -> 44686 | G23: =IFERROR(IF(LEN(F23)=0,"",IF(MONTH(F23+1)=MONTH(F23),F23+1,"")),"") -> 44687 | H23: =IFERROR(IF(LEN(G23)=0,"",IF(MONTH(G23+1)=MONTH(G23),G23+1,"")),"") -> 44688 | I23: =IFERROR(IF(LEN(H23)=0,"",IF(MONTH(H23+1)=MONTH(H23),H23+1,"")),"") -> 44689 | K23: =IFERROR(IF(LEN(Q22)=0,"",IF(MONTH(Q22+1)=MONTH(Q22),Q22+1,"")),"") -> 44718 | L23: =IFERROR(IF(LEN(K23)=0,"",IF(MONTH(K23+1)=MONTH(K23),K23+1,"")),"") -> 44719 | M23: =IFERROR(IF(LEN(L23)=0,"",IF(MONTH(L23+1)=MONTH(L23),L23+1,"")),"") -> 44720 | N23: =IFERROR(IF(LEN(M23)=0,"",IF(MONTH(M23+1)=MONTH(M23),M23+1,"")),"") -> 44721 | O23: =IFERROR(IF(LEN(N23)=0,"",IF(MONTH(N23+1)=MONTH(N23),N23+1,"")),"") -> 44722 | P23: =IFERROR(IF(LEN(O23)=0,"",IF(MONTH(O23+1)=MONTH(O23),O23+1,"")),"") -> 44723 | Q23: =IFERROR(IF(LEN(P23)=0,"",IF(MONTH(P23+1)=MONTH(P23),P23+1,"")),"") -> 44724 | S23: =IFERROR(IF(LEN(Y22)=0,"",IF(MONTH(Y22+1)=MONTH(Y22),Y22+1,"")),"") -> 44746 | T23: =IFERROR(IF(LEN(S23)=0,"",IF(MONTH(S23+1)=MONTH(S23),S23+1,"")),"") -> 44747 | U23: =IFERROR(IF(LEN(T23)=0,"",IF(MONTH(T23+1)=MONTH(T23),T23+1,"")),"") -> 44748 | V23: =IFERROR(IF(LEN(U23)=0,"",IF(MONTH(U23+1)=MONTH(U23),U23+1,"")),"") -> 44749 | W23: =IFERROR(IF(LEN(V23)=0,"",IF(MONTH(V23+1)=MONTH(V23),V23+1,"")),"") -> 44750 | X23: =IFERROR(IF(LEN(W23)=0,"",IF(MONTH(W23+1)=MONTH(W23),W23+1,"")),"") -> 44751 | Y23: =IFERROR(IF(LEN(X23)=0,"",IF(MONTH(X23+1)=MONTH(X23),X23+1,"")),"") -> 44752 | AA23: =IFERROR(IF(LEN(AG22)=0,"",IF(MONTH(AG22+1)=MONTH(AG22),AG22+1,"")),"") -> 44781 | AB23: =IFERROR(IF(LEN(AA23)=0,"",IF(MONTH(AA23+1)=MONTH(AA23),AA23+1,"")),"") -> 44782 | AC23: =IFERROR(IF(LEN(AB23)=0,"",IF(MONTH(AB23+1)=MONTH(AB23),AB23+1,"")),"") -> 44783 | AD23: =IFERROR(IF(LEN(AC23)=0,"",IF(MONTH(AC23+1)=MONTH(AC23),AC23+1,"")),"") -> 44784 | AE23: =IFERROR(IF(LEN(AD23)=0,"",IF(MONTH(AD23+1)=MONTH(AD23),AD23+1,"")),"") -> 44785 | AF23: =IFERROR(IF(LEN(AE23)=0,"",IF(MONTH(AE23+1)=MONTH(AE23),AE23+1,"")),"") -> 44786 | AG23: =IFERROR(IF(LEN(AF23)=0,"",IF(MONTH(AF23+1)=MONTH(AF23),AF23+1,"")),"") -> 44787 | AJ23: Monthly Absence Breakdown
C24: =IFERROR(IF(LEN(I23)=0,"",IF(MONTH(I23+1)=MONTH(I23),I23+1,"")),"") -> 44690 | D24: =IFERROR(IF(LEN(C24)=0,"",IF(MONTH(C24+1)=MONTH(C24),C24+1,"")),"") -> 44691 | E24: =IFERROR(IF(LEN(D24)=0,"",IF(MONTH(D24+1)=MONTH(D24),D24+1,"")),"") -> 44692 | F24: =IFERROR(IF(LEN(E24)=0,"",IF(MONTH(E24+1)=MONTH(E24),E24+1,"")),"") -> 44693 | G24: =IFERROR(IF(LEN(F24)=0,"",IF(MONTH(F24+1)=MONTH(F24),F24+1,"")),"") -> 44694 | H24: =IFERROR(IF(LEN(G24)=0,"",IF(MONTH(G24+1)=MONTH(G24),G24+1,"")),"") -> 44695 | I24: =IFERROR(IF(LEN(H24)=0,"",IF(MONTH(H24+1)=MONTH(H24),H24+1,"")),"") -> 44696 | K24: =IFERROR(IF(LEN(Q23)=0,"",IF(MONTH(Q23+1)=MONTH(Q23),Q23+1,"")),"") -> 44725 | L24: =IFERROR(IF(LEN(K24)=0,"",IF(MONTH(K24+1)=MONTH(K24),K24+1,"")),"") -> 44726 | M24: =IFERROR(IF(LEN(L24)=0,"",IF(MONTH(L24+1)=MONTH(L24),L24+1,"")),"") -> 44727 | N24: =IFERROR(IF(LEN(M24)=0,"",IF(MONTH(M24+1)=MONTH(M24),M24+1,"")),"") -> 44728 | O24: =IFERROR(IF(LEN(N24)=0,"",IF(MONTH(N24+1)=MONTH(N24),N24+1,"")),"") -> 44729 | P24: =IFERROR(IF(LEN(O24)=0,"",IF(MONTH(O24+1)=MONTH(O24),O24+1,"")),"") -> 44730 | Q24: =IFERROR(IF(LEN(P24)=0,"",IF(MONTH(P24+1)=MONTH(P24),P24+1,"")),"") -> 44731 | S24: =IFERROR(IF(LEN(Y23)=0,"",IF(MONTH(Y23+1)=MONTH(Y23),Y23+1,"")),"") -> 44753 | T24: =IFERROR(IF(LEN(S24)=0,"",IF(MONTH(S24+1)=MONTH(S24),S24+1,"")),"") -> 44754 | U24: =IFERROR(IF(LEN(T24)=0,"",IF(MONTH(T24+1)=MONTH(T24),T24+1,"")),"") -> 44755 | V24: =IFERROR(IF(LEN(U24)=0,"",IF(MONTH(U24+1)=MONTH(U24),U24+1,"")),"") -> 44756 | W24: =IFERROR(IF(LEN(V24)=0,"",IF(MONTH(V24+1)=MONTH(V24),V24+1,"")),"") -> 44757 | X24: =IFERROR(IF(LEN(W24)=0,"",IF(MONTH(W24+1)=MONTH(W24),W24+1,"")),"") -> 44758 | Y24: =IFERROR(IF(LEN(X24)=0,"",IF(MONTH(X24+1)=MONTH(X24),X24+1,"")),"") -> 44759 | AA24: =IFERROR(IF(LEN(AG23)=0,"",IF(MONTH(AG23+1)=MONTH(AG23),AG23+1,"")),"") -> 44788 | AB24: =IFERROR(IF(LEN(AA24)=0,"",IF(MONTH(AA24+1)=MONTH(AA24),AA24+1,"")),"") -> 44789 | AC24: =IFERROR(IF(LEN(AB24)=0,"",IF(MONTH(AB24+1)=MONTH(AB24),AB24+1,"")),"") -> 44790 | AD24: =IFERROR(IF(LEN(AC24)=0,"",IF(MONTH(AC24+1)=MONTH(AC24),AC24+1,"")),"") -> 44791 | AE24: =IFERROR(IF(LEN(AD24)=0,"",IF(MONTH(AD24+1)=MONTH(AD24),AD24+1,"")),"") -> 44792 | AF24: =IFERROR(IF(LEN(AE24)=0,"",IF(MONTH(AE24+1)=MONTH(AE24),AE24+1,"")),"") -> 44793 | AG24: =IFERROR(IF(LEN(AF24)=0,"",IF(MONTH(AF24+1)=MONTH(AF24),AF24+1,"")),"") -> 44794
C25: =IFERROR(IF(LEN(I24)=0,"",IF(MONTH(I24+1)=MONTH(I24),I24+1,"")),"") -> 44697 | D25: =IFERROR(IF(LEN(C25)=0,"",IF(MONTH(C25+1)=MONTH(C25),C25+1,"")),"") -> 44698 | E25: =IFERROR(IF(LEN(D25)=0,"",IF(MONTH(D25+1)=MONTH(D25),D25+1,"")),"") -> 44699 | F25: =IFERROR(IF(LEN(E25)=0,"",IF(MONTH(E25+1)=MONTH(E25),E25+1,"")),"") -> 44700 | G25: =IFERROR(IF(LEN(F25)=0,"",IF(MONTH(F25+1)=MONTH(F25),F25+1,"")),"") -> 44701 | H25: =IFERROR(IF(LEN(G25)=0,"",IF(MONTH(G25+1)=MONTH(G25),G25+1,"")),"") -> 44702 | I25: =IFERROR(IF(LEN(H25)=0,"",IF(MONTH(H25+1)=MONTH(H25),H25+1,"")),"") -> 44703 | K25: =IFERROR(IF(LEN(Q24)=0,"",IF(MONTH(Q24+1)=MONTH(Q24),Q24+1,"")),"") -> 44732 | L25: =IFERROR(IF(LEN(K25)=0,"",IF(MONTH(K25+1)=MONTH(K25),K25+1,"")),"") -> 44733 | M25: =IFERROR(IF(LEN(L25)=0,"",IF(MONTH(L25+1)=MONTH(L25),L25+1,"")),"") -> 44734 | N25: =IFERROR(IF(LEN(M25)=0,"",IF(MONTH(M25+1)=MONTH(M25),M25+1,"")),"") -> 44735 | O25: =IFERROR(IF(LEN(N25)=0,"",IF(MONTH(N25+1)=MONTH(N25),N25+1,"")),"") -> 44736 | P25: =IFERROR(IF(LEN(O25)=0,"",IF(MONTH(O25+1)=MONTH(O25),O25+1,"")),"") -> 44737 | Q25: =IFERROR(IF(LEN(P25)=0,"",IF(MONTH(P25+1)=MONTH(P25),P25+1,"")),"") -> 44738 | S25: =IFERROR(IF(LEN(Y24)=0,"",IF(MONTH(Y24+1)=MONTH(Y24),Y24+1,"")),"") -> 44760 | T25: =IFERROR(IF(LEN(S25)=0,"",IF(MONTH(S25+1)=MONTH(S25),S25+1,"")),"") -> 44761 | U25: =IFERROR(IF(LEN(T25)=0,"",IF(MONTH(T25+1)=MONTH(T25),T25+1,"")),"") -> 44762 | V25: =IFERROR(IF(LEN(U25)=0,"",IF(MONTH(U25+1)=MONTH(U25),U25+1,"")),"") -> 44763 | W25: =IFERROR(IF(LEN(V25)=0,"",IF(MONTH(V25+1)=MONTH(V25),V25+1,"")),"") -> 44764 | X25: =IFERROR(IF(LEN(W25)=0,"",IF(MONTH(W25+1)=MONTH(W25),W25+1,"")),"") -> 44765 | Y25: =IFERROR(IF(LEN(X25)=0,"",IF(MONTH(X25+1)=MONTH(X25),X25+1,"")),"") -> 44766 | AA25: =IFERROR(IF(LEN(AG24)=0,"",IF(MONTH(AG24+1)=MONTH(AG24),AG24+1,"")),"") -> 44795 | AB25: =IFERROR(IF(LEN(AA25)=0,"",IF(MONTH(AA25+1)=MONTH(AA25),AA25+1,"")),"") -> 44796 | AC25: =IFERROR(IF(LEN(AB25)=0,"",IF(MONTH(AB25+1)=MONTH(AB25),AB25+1,"")),"") -> 44797 | AD25: =IFERROR(IF(LEN(AC25)=0,"",IF(MONTH(AC25+1)=MONTH(AC25),AC25+1,"")),"") -> 44798 | AE25: =IFERROR(IF(LEN(AD25)=0,"",IF(MONTH(AD25+1)=MONTH(AD25),AD25+1,"")),"") -> 44799 | AF25: =IFERROR(IF(LEN(AE25)=0,"",IF(MONTH(AE25+1)=MONTH(AE25),AE25+1,"")),"") -> 44800 | AG25: =IFERROR(IF(LEN(AF25)=0,"",IF(MONTH(AF25+1)=MONTH(AF25),AF25+1,"")),"") -> 44801 | AJ25: Leave Type | AK25: All
C26: =IFERROR(IF(LEN(I25)=0,"",IF(MONTH(I25+1)=MONTH(I25),I25+1,"")),"") -> 44704 | D26: =IFERROR(IF(LEN(C26)=0,"",IF(MONTH(C26+1)=MONTH(C26),C26+1,"")),"") -> 44705 | E26: =IFERROR(IF(LEN(D26)=0,"",IF(MONTH(D26+1)=MONTH(D26),D26+1,"")),"") -> 44706 | F26: =IFERROR(IF(LEN(E26)=0,"",IF(MONTH(E26+1)=MONTH(E26),E26+1,"")),"") -> 44707 | G26: =IFERROR(IF(LEN(F26)=0,"",IF(MONTH(F26+1)=MONTH(F26),F26+1,"")),"") -> 44708 | H26: =IFERROR(IF(LEN(G26)=0,"",IF(MONTH(G26+1)=MONTH(G26),G26+1,"")),"") -> 44709 | I26: =IFERROR(IF(LEN(H26)=0,"",IF(MONTH(H26+1)=MONTH(H26),H26+1,"")),"") -> 44710 | K26: =IFERROR(IF(LEN(Q25)=0,"",IF(MONTH(Q25+1)=MONTH(Q25),Q25+1,"")),"") -> 44739 | L26: =IFERROR(IF(LEN(K26)=0,"",IF(MONTH(K26+1)=MONTH(K26),K26+1,"")),"") -> 44740 | M26: =IFERROR(IF(LEN(L26)=0,"",IF(MONTH(L26+1)=MONTH(L26),L26+1,"")),"") -> 44741 | N26: =IFERROR(IF(LEN(M26)=0,"",IF(MONTH(M26+1)=MONTH(M26),M26+1,"")),"") -> 44742 | O26: =IFERROR(IF(LEN(N26)=0,"",IF(MONTH(N26+1)=MONTH(N26),N26+1,"")),"") | P26: =IFERROR(IF(LEN(O26)=0,"",IF(MONTH(O26+1)=MONTH(O26),O26+1,"")),"") | Q26: =IFERROR(IF(LEN(P26)=0,"",IF(MONTH(P26+1)=MONTH(P26),P26+1,"")),"") | S26: =IFERROR(IF(LEN(Y25)=0,"",IF(MONTH(Y25+1)=MONTH(Y25),Y25+1,"")),"") -> 44767 | T26: =IFERROR(IF(LEN(S26)=0,"",IF(MONTH(S26+1)=MONTH(S26),S26+1,"")),"") -> 44768 | U26: =IFERROR(IF(LEN(T26)=0,"",IF(MONTH(T26+1)=MONTH(T26),T26+1,"")),"") -> 44769 | V26: =IFERROR(IF(LEN(U26)=0,"",IF(MONTH(U26+1)=MONTH(U26),U26+1,"")),"") -> 44770 | W26: =IFERROR(IF(LEN(V26)=0,"",IF(MONTH(V26+1)=MONTH(V26),V26+1,"")),"") -> 44771 | X26: =IFERROR(IF(LEN(W26)=0,"",IF(MONTH(W26+1)=MONTH(W26),W26+1,"")),"") -> 44772 | Y26: =IFERROR(IF(LEN(X26)=0,"",IF(MONTH(X26+1)=MONTH(X26),X26+1,"")),"") -> 44773 | AA26: =IFERROR(IF(LEN(AG25)=0,"",IF(MONTH(AG25+1)=MONTH(AG25),AG25+1,"")),"") -> 44802 | AB26: =IFERROR(IF(LEN(AA26)=0,"",IF(MONTH(AA26+1)=MONTH(AA26),AA26+1,"")),"") -> 44803 | AC26: =IFERROR(IF(LEN(AB26)=0,"",IF(MONTH(AB26+1)=MONTH(AB26),AB26+1,"")),"") -> 44804 | AD26: =IFERROR(IF(LEN(AC26)=0,"",IF(MONTH(AC26+1)=MONTH(AC26),AC26+1,"")),"") | AE26: =IFERROR(IF(LEN(AD26)=0,"",IF(MONTH(AD26+1)=MONTH(AD26),AD26+1,"")),"") | AF26: =IFERROR(IF(LEN(AE26)=0,"",IF(MONTH(AE26+1)=MONTH(AE26),AE26+1,"")),"") | AG26: =IFERROR(IF(LEN(AF26)=0,"",IF(MONTH(AF26+1)=MONTH(AF26),AF26+1,"")),"")
C27: =IFERROR(IF(LEN(I26)=0,"",IF(MONTH(I26+1)=MONTH(I26),I26+1,"")),"") -> 44711 | D27: =IFERROR(IF(LEN(C27)=0,"",IF(MONTH(C27+1)=MONTH(C27),C27+1,"")),"") -> 44712 | E27: =IFERROR(IF(LEN(D27)=0,"",IF(MONTH(D27+1)=MONTH(D27),D27+1,"")),"") | F27: =IFERROR(IF(LEN(E27)=0,"",IF(MONTH(E27+1)=MONTH(E27),E27+1,"")),"") | G27: =IFERROR(IF(LEN(F27)=0,"",IF(MONTH(F27+1)=MONTH(F27),F27+1,"")),"") | H27: =IFERROR(IF(LEN(G27)=0,"",IF(MONTH(G27+1)=MONTH(G27),G27+1,"")),"") | I27: =IFERROR(IF(LEN(H27)=0,"",IF(MONTH(H27+1)=MONTH(H27),H27+1,"")),"") | K27: =IFERROR(IF(LEN(Q26)=0,"",IF(MONTH(Q26+1)=MONTH(Q26),Q26+1,"")),"") | L27: =IFERROR(IF(LEN(K27)=0,"",IF(MONTH(K27+1)=MONTH(K27),K27+1,"")),"") | M27: =IFERROR(IF(LEN(L27)=0,"",IF(MONTH(L27+1)=MONTH(L27),L27+1,"")),"") | N27: =IFERROR(IF(LEN(M27)=0,"",IF(MONTH(M27+1)=MONTH(M27),M27+1,"")),"") | O27: =IFERROR(IF(LEN(N27)=0,"",IF(MONTH(N27+1)=MONTH(N27),N27+1,"")),"") | P27: =IFERROR(IF(LEN(O27)=0,"",IF(MONTH(O27+1)=MONTH(O27),O27+1,"")),"") | Q27: =IFERROR(IF(LEN(P27)=0,"",IF(MONTH(P27+1)=MONTH(P27),P27+1,"")),"") | S27: =IFERROR(IF(LEN(Y26)=0,"",IF(MONTH(Y26+1)=MONTH(Y26),Y26+1,"")),"") | T27: =IFERROR(IF(LEN(S27)=0,"",IF(MONTH(S27+1)=MONTH(S27),S27+1,"")),"") | U27: =IFERROR(IF(LEN(T27)=0,"",IF(MONTH(T27+1)=MONTH(T27),T27+1,"")),"") | V27: =IFERROR(IF(LEN(U27)=0,"",IF(MONTH(U27+1)=MONTH(U27),U27+1,"")),"") | W27: =IFERROR(IF(LEN(V27)=0,"",IF(MONTH(V27+1)=MONTH(V27),V27+1,"")),"") | X27: =IFERROR(IF(LEN(W27)=0,"",IF(MONTH(W27+1)=MONTH(W27),W27+1,"")),"") | Y27: =IFERROR(IF(LEN(X27)=0,"",IF(MONTH(X27+1)=MONTH(X27),X27+1,"")),"") | AA27: =IFERROR(IF(LEN(AG26)=0,"",IF(MONTH(AG26+1)=MONTH(AG26),AG26+1,"")),"") | AB27: =IFERROR(IF(LEN(AA27)=0,"",IF(MONTH(AA27+1)=MONTH(AA27),AA27+1,"")),"") | AC27: =IFERROR(IF(LEN(AB27)=0,"",IF(MONTH(AB27+1)=MONTH(AB27),AB27+1,"")),"") | AD27: =IFERROR(IF(LEN(AC27)=0,"",IF(MONTH(AC27+1)=MONTH(AC27),AC27+1,"")),"") | AE27: =IFERROR(IF(LEN(AD27)=0,"",IF(MONTH(AD27+1)=MONTH(AD27),AD27+1,"")),"") | AF27: =IFERROR(IF(LEN(AE27)=0,"",IF(MONTH(AE27+1)=MONTH(AE27),AE27+1,"")),"") | AG27: =IFERROR(IF(LEN(AF27)=0,"",IF(MONTH(AF27+1)=MONTH(AF27),AF27+1,"")),"")
C29: September | K29: October | S29: November | AA29: December
C30: Mon | D30: Tue | E30: Wed | F30: Thu | G30: Fri | H30: Sat | I30: Sun | K30: Mon | L30: Tue | M30: Wed | N30: Thu | O30: Fri | P30: Sat | Q30: Sun | S30: Mon | T30: Tue | U30: Wed | V30: Thu | W30: Fri | X30: Sat | Y30: Sun | AA30: Mon | AB30: Tue | AC30: Wed | AD30: Thu | AE30: Fri | AF30: Sat | AG30: Sun
C31: =IFERROR(IF(WEEKDAY(Calc!$CR$21)=2,Calc!$CR$21,""),"") | D31: =IFERROR(IF(LEN(C31)>0,C31+1,IF(WEEKDAY(Calc!$CR$21)=3,Calc!$CR$21,"")),"") | E31: =IFERROR(IF(LEN(D31)>0,D31+1,IF(WEEKDAY(Calc!$CR$21)=4,Calc!$CR$21,"")),"") | F31: =IFERROR(IF(LEN(E31)>0,E31+1,IF(WEEKDAY(Calc!$CR$21)=5,Calc!$CR$21,"")),"") -> 44805 | G31: =IFERROR(IF(LEN(F31)>0,F31+1,IF(WEEKDAY(Calc!$CR$21)=6,Calc!$CR$21,"")),"") -> 44806 | H31: =IFERROR(IF(LEN(G31)>0,G31+1,IF(WEEKDAY(Calc!$CR$21)=7,Calc!$CR$21,"")),"") -> 44807 | I31: =IFERROR(IF(LEN(H31)>0,H31+1,IF(WEEKDAY(Calc!$CR$21)=1,Calc!$CR$21,"")),"") -> 44808 | K31: =IFERROR(IF(WEEKDAY(Calc!$CR$22)=2,Calc!$CR$22,""),"") | L31: =IFERROR(IF(LEN(K31)>0,K31+1,IF(WEEKDAY(Calc!$CR$22)=3,Calc!$CR$22,"")),"") | M31: =IFERROR(IF(LEN(L31)>0,L31+1,IF(WEEKDAY(Calc!$CR$22)=4,Calc!$CR$22,"")),"") | N31: =IFERROR(IF(LEN(M31)>0,M31+1,IF(WEEKDAY(Calc!$CR$22)=5,Calc!$CR$22,"")),"") | O31: =IFERROR(IF(LEN(N31)>0,N31+1,IF(WEEKDAY(Calc!$CR$22)=6,Calc!$CR$22,"")),"") | P31: =IFERROR(IF(LEN(O31)>0,O31+1,IF(WEEKDAY(Calc!$CR$22)=7,Calc!$CR$22,"")),"") -> 44835 | Q31: =IFERROR(IF(LEN(P31)>0,P31+1,IF(WEEKDAY(Calc!$CR$22)=1,Calc!$CR$22,"")),"") -> 44836 | S31: =IFERROR(IF(WEEKDAY(Calc!$CR$23)=2,Calc!$CR$23,""),"") | T31: =IFERROR(IF(LEN(S31)>0,S31+1,IF(WEEKDAY(Calc!$CR$23)=3,Calc!$CR$23,"")),"") -> 44866 | U31: =IFERROR(IF(LEN(T31)>0,T31+1,IF(WEEKDAY(Calc!$CR$23)=4,Calc!$CR$23,"")),"") -> 44867 | V31: =IFERROR(IF(LEN(U31)>0,U31+1,IF(WEEKDAY(Calc!$CR$23)=5,Calc!$CR$23,"")),"") -> 44868 | W31: =IFERROR(IF(LEN(V31)>0,V31+1,IF(WEEKDAY(Calc!$CR$23)=6,Calc!$CR$23,"")),"") -> 44869 | X31: =IFERROR(IF(LEN(W31)>0,W31+1,IF(WEEKDAY(Calc!$CR$23)=7,Calc!$CR$23,"")),"") -> 44870 | Y31: =IFERROR(IF(LEN(X31)>0,X31+1,IF(WEEKDAY(Calc!$CR$23)=1,Calc!$CR$23,"")),"") -> 44871 | AA31: =IFERROR(IF(WEEKDAY(Calc!$CR$24)=2,Calc!$CR$24,""),"") | AB31: =IFERROR(IF(LEN(AA31)>0,AA31+1,IF(WEEKDAY(Calc!$CR$24)=3,Calc!$CR$24,"")),"") | AC31: =IFERROR(IF(LEN(AB31)>0,AB31+1,IF(WEEKDAY(Calc!$CR$24)=4,Calc!$CR$24,"")),"") | AD31: =IFERROR(IF(LEN(AC31)>0,AC31+1,IF(WEEKDAY(Calc!$CR$24)=5,Calc!$CR$24,"")),"") -> 44896 | AE31: =IFERROR(IF(LEN(AD31)>0,AD31+1,IF(WEEKDAY(Calc!$CR$24)=6,Calc!$CR$24,"")),"") -> 44897 | AF31: =IFERROR(IF(LEN(AE31)>0,AE31+1,IF(WEEKDAY(Calc!$CR$24)=7,Calc!$CR$24,"")),"") -> 44898 | AG31: =IFERROR(IF(LEN(AF31)>0,AF31+1,IF(WEEKDAY(Calc!$CR$24)=1,Calc!$CR$24,"")),"") -> 44899
C32: =IFERROR(IF(LEN(I31)=0,"",IF(MONTH(I31+1)=MONTH(I31),I31+1,"")),"") -> 44809 | D32: =IFERROR(IF(LEN(C32)=0,"",IF(MONTH(C32+1)=MONTH(C32),C32+1,"")),"") -> 44810 | E32: =IFERROR(IF(LEN(D32)=0,"",IF(MONTH(D32+1)=MONTH(D32),D32+1,"")),"") -> 44811 | F32: =IFERROR(IF(LEN(E32)=0,"",IF(MONTH(E32+1)=MONTH(E32),E32+1,"")),"") -> 44812 | G32: =IFERROR(IF(LEN(F32)=0,"",IF(MONTH(F32+1)=MONTH(F32),F32+1,"")),"") -> 44813 | H32: =IFERROR(IF(LEN(G32)=0,"",IF(MONTH(G32+1)=MONTH(G32),G32+1,"")),"") -> 44814 | I32: =IFERROR(IF(LEN(H32)=0,"",IF(MONTH(H32+1)=MONTH(H32),H32+1,"")),"") -> 44815 | K32: =IFERROR(IF(LEN(Q31)=0,"",IF(MONTH(Q31+1)=MONTH(Q31),Q31+1,"")),"") -> 44837 | L32: =IFERROR(IF(LEN(K32)=0,"",IF(MONTH(K32+1)=MONTH(K32),K32+1,"")),"") -> 44838 | M32: =IFERROR(IF(LEN(L32)=0,"",IF(MONTH(L32+1)=MONTH(L32),L32+1,"")),"") -> 44839 | N32: =IFERROR(IF(LEN(M32)=0,"",IF(MONTH(M32+1)=MONTH(M32),M32+1,"")),"") -> 44840 | O32: =IFERROR(IF(LEN(N32)=0,"",IF(MONTH(N32+1)=MONTH(N32),N32+1,"")),"") -> 44841 | P32: =IFERROR(IF(LEN(O32)=0,"",IF(MONTH(O32+1)=MONTH(O32),O32+1,"")),"") -> 44842 | Q32: =IFERROR(IF(LEN(P32)=0,"",IF(MONTH(P32+1)=MONTH(P32),P32+1,"")),"") -> 44843 | S32: =IFERROR(IF(LEN(Y31)=0,"",IF(MONTH(Y31+1)=MONTH(Y31),Y31+1,"")),"") -> 44872 | T32: =IFERROR(IF(LEN(S32)=0,"",IF(MONTH(S32+1)=MONTH(S32),S32+1,"")),"") -> 44873 | U32: =IFERROR(IF(LEN(T32)=0,"",IF(MONTH(T32+1)=MONTH(T32),T32+1,"")),"") -> 44874 | V32: =IFERROR(IF(LEN(U32)=0,"",IF(MONTH(U32+1)=MONTH(U32),U32+1,"")),"") -> 44875 | W32: =IFERROR(IF(LEN(V32)=0,"",IF(MONTH(V32+1)=MONTH(V32),V32+1,"")),"") -> 44876 | X32: =IFERROR(IF(LEN(W32)=0,"",IF(MONTH(W32+1)=MONTH(W32),W32+1,"")),"") -> 44877 | Y32: =IFERROR(IF(LEN(X32)=0,"",IF(MONTH(X32+1)=MONTH(X32),X32+1,"")),"") -> 44878 | AA32: =IFERROR(IF(LEN(AG31)=0,"",IF(MONTH(AG31+1)=MONTH(AG31),AG31+1,"")),"") -> 44900 | AB32: =IFERROR(IF(LEN(AA32)=0,"",IF(MONTH(AA32+1)=MONTH(AA32),AA32+1,"")),"") -> 44901 | AC32: =IFERROR(IF(LEN(AB32)=0,"",IF(MONTH(AB32+1)=MONTH(AB32),AB32+1,"")),"") -> 44902 | AD32: =IFERROR(IF(LEN(AC32)=0,"",IF(MONTH(AC32+1)=MONTH(AC32),AC32+1,"")),"") -> 44903 | AE32: =IFERROR(IF(LEN(AD32)=0,"",IF(MONTH(AD32+1)=MONTH(AD32),AD32+1,"")),"") -> 44904 | AF32: =IFERROR(IF(LEN(AE32)=0,"",IF(MONTH(AE32+1)=MONTH(AE32),AE32+1,"")),"") -> 44905 | AG32: =IFERROR(IF(LEN(AF32)=0,"",IF(MONTH(AF32+1)=MONTH(AF32),AF32+1,"")),"") -> 44906
C33: =IFERROR(IF(LEN(I32)=0,"",IF(MONTH(I32+1)=MONTH(I32),I32+1,"")),"") -> 44816 | D33: =IFERROR(IF(LEN(C33)=0,"",IF(MONTH(C33+1)=MONTH(C33),C33+1,"")),"") -> 44817 | E33: =IFERROR(IF(LEN(D33)=0,"",IF(MONTH(D33+1)=MONTH(D33),D33+1,"")),"") -> 44818 | F33: =IFERROR(IF(LEN(E33)=0,"",IF(MONTH(E33+1)=MONTH(E33),E33+1,"")),"") -> 44819 | G33: =IFERROR(IF(LEN(F33)=0,"",IF(MONTH(F33+1)=MONTH(F33),F33+1,"")),"") -> 44820 | H33: =IFERROR(IF(LEN(G33)=0,"",IF(MONTH(G33+1)=MONTH(G33),G33+1,"")),"") -> 44821 | I33: =IFERROR(IF(LEN(H33)=0,"",IF(MONTH(H33+1)=MONTH(H33),H33+1,"")),"") -> 44822 | K33: =IFERROR(IF(LEN(Q32)=0,"",IF(MONTH(Q32+1)=MONTH(Q32),Q32+1,"")),"") -> 44844 | L33: =IFERROR(IF(LEN(K33)=0,"",IF(MONTH(K33+1)=MONTH(K33),K33+1,"")),"") -> 44845 | M33: =IFERROR(IF(LEN(L33)=0,"",IF(MONTH(L33+1)=MONTH(L33),L33+1,"")),"") -> 44846 | N33: =IFERROR(IF(LEN(M33)=0,"",IF(MONTH(M33+1)=MONTH(M33),M33+1,"")),"") -> 44847 | O33: =IFERROR(IF(LEN(N33)=0,"",IF(MONTH(N33+1)=MONTH(N33),N33+1,"")),"") -> 44848 | P33: =IFERROR(IF(LEN(O33)=0,"",IF(MONTH(O33+1)=MONTH(O33),O33+1,"")),"") -> 44849 | Q33: =IFERROR(IF(LEN(P33)=0,"",IF(MONTH(P33+1)=MONTH(P33),P33+1,"")),"") -> 44850 | S33: =IFERROR(IF(LEN(Y32)=0,"",IF(MONTH(Y32+1)=MONTH(Y32),Y32+1,"")),"") -> 44879 | T33: =IFERROR(IF(LEN(S33)=0,"",IF(MONTH(S33+1)=MONTH(S33),S33+1,"")),"") -> 44880 | U33: =IFERROR(IF(LEN(T33)=0,"",IF(MONTH(T33+1)=MONTH(T33),T33+1,"")),"") -> 44881 | V33: =IFERROR(IF(LEN(U33)=0,"",IF(MONTH(U33+1)=MONTH(U33),U33+1,"")),"") -> 44882 | W33: =IFERROR(IF(LEN(V33)=0,"",IF(MONTH(V33+1)=MONTH(V33),V33+1,"")),"") -> 44883 | X33: =IFERROR(IF(LEN(W33)=0,"",IF(MONTH(W33+1)=MONTH(W33),W33+1,"")),"") -> 44884 | Y33: =IFERROR(IF(LEN(X33)=0,"",IF(MONTH(X33+1)=MONTH(X33),X33+1,"")),"") -> 44885 | AA33: =IFERROR(IF(LEN(AG32)=0,"",IF(MONTH(AG32+1)=MONTH(AG32),AG32+1,"")),"") -> 44907 | AB33: =IFERROR(IF(LEN(AA33)=0,"",IF(MONTH(AA33+1)=MONTH(AA33),AA33+1,"")),"") -> 44908 | AC33: =IFERROR(IF(LEN(AB33)=0,"",IF(MONTH(AB33+1)=MONTH(AB33),AB33+1,"")),"") -> 44909 | AD33: =IFERROR(IF(LEN(AC33)=0,"",IF(MONTH(AC33+1)=MONTH(AC33),AC33+1,"")),"") -> 44910 | AE33: =IFERROR(IF(LEN(AD33)=0,"",IF(MONTH(AD33+1)=MONTH(AD33),AD33+1,"")),"") -> 44911 | AF33: =IFERROR(IF(LEN(AE33)=0,"",IF(MONTH(AE33+1)=MONTH(AE33),AE33+1,"")),"") -> 44912 | AG33: =IFERROR(IF(LEN(AF33)=0,"",IF(MONTH(AF33+1)=MONTH(AF33),AF33+1,"")),"") -> 44913
C34: =IFERROR(IF(LEN(I33)=0,"",IF(MONTH(I33+1)=MONTH(I33),I33+1,"")),"") -> 44823 | D34: =IFERROR(IF(LEN(C34)=0,"",IF(MONTH(C34+1)=MONTH(C34),C34+1,"")),"") -> 44824 | E34: =IFERROR(IF(LEN(D34)=0,"",IF(MONTH(D34+1)=MONTH(D34),D34+1,"")),"") -> 44825 | F34: =IFERROR(IF(LEN(E34)=0,"",IF(MONTH(E34+1)=MONTH(E34),E34+1,"")),"") -> 44826 | G34: =IFERROR(IF(LEN(F34)=0,"",IF(MONTH(F34+1)=MONTH(F34),F34+1,"")),"") -> 44827 | H34: =IFERROR(IF(LEN(G34)=0,"",IF(MONTH(G34+1)=MONTH(G34),G34+1,"")),"") -> 44828 | I34: =IFERROR(IF(LEN(H34)=0,"",IF(MONTH(H34+1)=MONTH(H34),H34+1,"")),"") -> 44829 | K34: =IFERROR(IF(LEN(Q33)=0,"",IF(MONTH(Q33+1)=MONTH(Q33),Q33+1,"")),"") -> 44851 | L34: =IFERROR(IF(LEN(K34)=0,"",IF(MONTH(K34+1)=MONTH(K34),K34+1,"")),"") -> 44852 | M34: =IFERROR(IF(LEN(L34)=0,"",IF(MONTH(L34+1)=MONTH(L34),L34+1,"")),"") -> 44853 | N34: =IFERROR(IF(LEN(M34)=0,"",IF(MONTH(M34+1)=MONTH(M34),M34+1,"")),"") -> 44854 | O34: =IFERROR(IF(LEN(N34)=0,"",IF(MONTH(N34+1)=MONTH(N34),N34+1,"")),"") -> 44855 | P34: =IFERROR(IF(LEN(O34)=0,"",IF(MONTH(O34+1)=MONTH(O34),O34+1,"")),"") -> 44856 | Q34: =IFERROR(IF(LEN(P34)=0,"",IF(MONTH(P34+1)=MONTH(P34),P34+1,"")),"") -> 44857 | S34: =IFERROR(IF(LEN(Y33)=0,"",IF(MONTH(Y33+1)=MONTH(Y33),Y33+1,"")),"") -> 44886 | T34: =IFERROR(IF(LEN(S34)=0,"",IF(MONTH(S34+1)=MONTH(S34),S34+1,"")),"") -> 44887 | U34: =IFERROR(IF(LEN(T34)=0,"",IF(MONTH(T34+1)=MONTH(T34),T34+1,"")),"") -> 44888 | V34: =IFERROR(IF(LEN(U34)=0,"",IF(MONTH(U34+1)=MONTH(U34),U34+1,"")),"") -> 44889 | W34: =IFERROR(IF(LEN(V34)=0,"",IF(MONTH(V34+1)=MONTH(V34),V34+1,"")),"") -> 44890 | X34: =IFERROR(IF(LEN(W34)=0,"",IF(MONTH(W34+1)=MONTH(W34),W34+1,"")),"") -> 44891 | Y34: =IFERROR(IF(LEN(X34)=0,"",IF(MONTH(X34+1)=MONTH(X34),X34+1,"")),"") -> 44892 | AA34: =IFERROR(IF(LEN(AG33)=0,"",IF(MONTH(AG33+1)=MONTH(AG33),AG33+1,"")),"") -> 44914 | AB34: =IFERROR(IF(LEN(AA34)=0,"",IF(MONTH(AA34+1)=MONTH(AA34),AA34+1,"")),"") -> 44915 | AC34: =IFERROR(IF(LEN(AB34)=0,"",IF(MONTH(AB34+1)=MONTH(AB34),AB34+1,"")),"") -> 44916 | AD34: =IFERROR(IF(LEN(AC34)=0,"",IF(MONTH(AC34+1)=MONTH(AC34),AC34+1,"")),"") -> 44917 | AE34: =IFERROR(IF(LEN(AD34)=0,"",IF(MONTH(AD34+1)=MONTH(AD34),AD34+1,"")),"") -> 44918 | AF34: =IFERROR(IF(LEN(AE34)=0,"",IF(MONTH(AE34+1)=MONTH(AE34),AE34+1,"")),"") -> 44919 | AG34: =IFERROR(IF(LEN(AF34)=0,"",IF(MONTH(AF34+1)=MONTH(AF34),AF34+1,"")),"") -> 44920
C35: =IFERROR(IF(LEN(I34)=0,"",IF(MONTH(I34+1)=MONTH(I34),I34+1,"")),"") -> 44830 | D35: =IFERROR(IF(LEN(C35)=0,"",IF(MONTH(C35+1)=MONTH(C35),C35+1,"")),"") -> 44831 | E35: =IFERROR(IF(LEN(D35)=0,"",IF(MONTH(D35+1)=MONTH(D35),D35+1,"")),"") -> 44832 | F35: =IFERROR(IF(LEN(E35)=0,"",IF(MONTH(E35+1)=MONTH(E35),E35+1,"")),"") -> 44833 | G35: =IFERROR(IF(LEN(F35)=0,"",IF(MONTH(F35+1)=MONTH(F35),F35+1,"")),"") -> 44834 | H35: =IFERROR(IF(LEN(G35)=0,"",IF(MONTH(G35+1)=MONTH(G35),G35+1,"")),"") | I35: =IFERROR(IF(LEN(H35)=0,"",IF(MONTH(H35+1)=MONTH(H35),H35+1,"")),"") | K35: =IFERROR(IF(LEN(Q34)=0,"",IF(MONTH(Q34+1)=MONTH(Q34),Q34+1,"")),"") -> 44858 | L35: =IFERROR(IF(LEN(K35)=0,"",IF(MONTH(K35+1)=MONTH(K35),K35+1,"")),"") -> 44859 | M35: =IFERROR(IF(LEN(L35)=0,"",IF(MONTH(L35+1)=MONTH(L35),L35+1,"")),"") -> 44860 | N35: =IFERROR(IF(LEN(M35)=0,"",IF(MONTH(M35+1)=MONTH(M35),M35+1,"")),"") -> 44861 | O35: =IFERROR(IF(LEN(N35)=0,"",IF(MONTH(N35+1)=MONTH(N35),N35+1,"")),"") -> 44862 | P35: =IFERROR(IF(LEN(O35)=0,"",IF(MONTH(O35+1)=MONTH(O35),O35+1,"")),"") -> 44863 | Q35: =IFERROR(IF(LEN(P35)=0,"",IF(MONTH(P35+1)=MONTH(P35),P35+1,"")),"") -> 44864 | S35: =IFERROR(IF(LEN(Y34)=0,"",IF(MONTH(Y34+1)=MONTH(Y34),Y34+1,"")),"") -> 44893 | T35: =IFERROR(IF(LEN(S35)=0,"",IF(MONTH(S35+1)=MONTH(S35),S35+1,"")),"") -> 44894 | U35: =IFERROR(IF(LEN(T35)=0,"",IF(MONTH(T35+1)=MONTH(T35),T35+1,"")),"") -> 44895 | V35: =IFERROR(IF(LEN(U35)=0,"",IF(MONTH(U35+1)=MONTH(U35),U35+1,"")),"") | W35: =IFERROR(IF(LEN(V35)=0,"",IF(MONTH(V35+1)=MONTH(V35),V35+1,"")),"") | X35: =IFERROR(IF(LEN(W35)=0,"",IF(MONTH(W35+1)=MONTH(W35),W35+1,"")),"") | Y35: =IFERROR(IF(LEN(X35)=0,"",IF(MONTH(X35+1)=MONTH(X35),X35+1,"")),"") | AA35: =IFERROR(IF(LEN(AG34)=0,"",IF(MONTH(AG34+1)=MONTH(AG34),AG34+1,"")),"") -> 44921 | AB35: =IFERROR(IF(LEN(AA35)=0,"",IF(MONTH(AA35+1)=MONTH(AA35),AA35+1,"")),"") -> 44922 | AC35: =IFERROR(IF(LEN(AB35)=0,"",IF(MONTH(AB35+1)=MONTH(AB35),AB35+1,"")),"") -> 44923 | AD35: =IFERROR(IF(LEN(AC35)=0,"",IF(MONTH(AC35+1)=MONTH(AC35),AC35+1,"")),"") -> 44924 | AE35: =IFERROR(IF(LEN(AD35)=0,"",IF(MONTH(AD35+1)=MONTH(AD35),AD35+1,"")),"") -> 44925 | AF35: =IFERROR(IF(LEN(AE35)=0,"",IF(MONTH(AE35+1)=MONTH(AE35),AE35+1,"")),"") -> 44926 | AG35: =IFERROR(IF(LEN(AF35)=0,"",IF(MONTH(AF35+1)=MONTH(AF35),AF35+1,"")),"")
C36: =IFERROR(IF(LEN(I35)=0,"",IF(MONTH(I35+1)=MONTH(I35),I35+1,"")),"") | D36: =IFERROR(IF(LEN(C36)=0,"",IF(MONTH(C36+1)=MONTH(C36),C36+1,"")),"") | E36: =IFERROR(IF(LEN(D36)=0,"",IF(MONTH(D36+1)=MONTH(D36),D36+1,"")),"") | F36: =IFERROR(IF(LEN(E36)=0,"",IF(MONTH(E36+1)=MONTH(E36),E36+1,"")),"") | G36: =IFERROR(IF(LEN(F36)=0,"",IF(MONTH(F36+1)=MONTH(F36),F36+1,"")),"") | H36: =IFERROR(IF(LEN(G36)=0,"",IF(MONTH(G36+1)=MONTH(G36),G36+1,"")),"") | I36: =IFERROR(IF(LEN(H36)=0,"",IF(MONTH(H36+1)=MONTH(H36),H36+1,"")),"") | K36: =IFERROR(IF(LEN(Q35)=0,"",IF(MONTH(Q35+1)=MONTH(Q35),Q35+1,"")),"") -> 44865 | L36: =IFERROR(IF(LEN(K36)=0,"",IF(MONTH(K36+1)=MONTH(K36),K36+1,"")),"") | M36: =IFERROR(IF(LEN(L36)=0,"",IF(MONTH(L36+1)=MONTH(L36),L36+1,"")),"") | N36: =IFERROR(IF(LEN(M36)=0,"",IF(MONTH(M36+1)=MONTH(M36),M36+1,"")),"") | O36: =IFERROR(IF(LEN(N36)=0,"",IF(MONTH(N36+1)=MONTH(N36),N36+1,"")),"") | P36: =IFERROR(IF(LEN(O36)=0,"",IF(MONTH(O36+1)=MONTH(O36),O36+1,"")),"") | Q36: =IFERROR(IF(LEN(P36)=0,"",IF(MONTH(P36+1)=MONTH(P36),P36+1,"")),"") | S36: =IFERROR(IF(LEN(Y35)=0,"",IF(MONTH(Y35+1)=MONTH(Y35),Y35+1,"")),"") | T36: =IFERROR(IF(LEN(S36)=0,"",IF(MONTH(S36+1)=MONTH(S36),S36+1,"")),"") | U36: =IFERROR(IF(LEN(T36)=0,"",IF(MONTH(T36+1)=MONTH(T36),T36+1,"")),"") | V36: =IFERROR(IF(LEN(U36)=0,"",IF(MONTH(U36+1)=MONTH(U36),U36+1,"")),"") | W36: =IFERROR(IF(LEN(V36)=0,"",IF(MONTH(V36+1)=MONTH(V36),V36+1,"")),"") | X36: =IFERROR(IF(LEN(W36)=0,"",IF(MONTH(W36+1)=MONTH(W36),W36+1,"")),"") | Y36: =IFERROR(IF(LEN(X36)=0,"",IF(MONTH(X36+1)=MONTH(X36),X36+1,"")),"") | AA36: =IFERROR(IF(LEN(AG35)=0,"",IF(MONTH(AG35+1)=MONTH(AG35),AG35+1,"")),"") | AB36: =IFERROR(IF(LEN(AA36)=0,"",IF(MONTH(AA36+1)=MONTH(AA36),AA36+1,"")),"") | AC36: =IFERROR(IF(LEN(AB36)=0,"",IF(MONTH(AB36+1)=MONTH(AB36),AB36+1,"")),"") | AD36: =IFERROR(IF(LEN(AC36)=0,"",IF(MONTH(AC36+1)=MONTH(AC36),AC36+1,"")),"") | AE36: =IFERROR(IF(LEN(AD36)=0,"",IF(MONTH(AD36+1)=MONTH(AD36),AD36+1,"")),"") | AF36: =IFERROR(IF(LEN(AE36)=0,"",IF(MONTH(AE36+1)=MONTH(AE36),AE36+1,"")),"") | AG36: =IFERROR(IF(LEN(AF36)=0,"",IF(MONTH(AF36+1)=MONTH(AF36),AF36+1,"")),"")

Sheet Calendar
C2: EMPLOYEE LEAVE TRACKER
C3: ABSENCE CALENDAR
C5: Year | E5: 2022 | G5: Department | I5: All | K5: Show non-working days? | M5: Yes
C7: Month | E7: January | G7: Leave Type | I7: All | K7: Show by? | M7: Name
C10: MONDAY | E10: TUESDAY | G10: WEDNESDAY | I10: THURSDAY | K10: FRIDAY | M10: SATURDAY | O10: SUNDAY
C12: =IFERROR(IF(WEEKDAY(Calc!EV14)=2,Calc!EV14,""),"") | E12: =IFERROR(IF(LEN(C12)>0,C12+1,IF(WEEKDAY(Calc!EV14)=3,Calc!EV14,"")),"") | G12: =IFERROR(IF(LEN(E12)>0,E12+1,IF(WEEKDAY(Calc!EV14)=4,Calc!EV14,"")),"") | I12: =IFERROR(IF(LEN(G12)>0,G12+1,IF(WEEKDAY(Calc!EV14)=5,Calc!EV14,"")),"") | K12: =IFERROR(IF(LEN(I12)>0,I12+1,IF(WEEKDAY(Calc!EV14)=6,Calc!EV14,"")),"") | M12: =IFERROR(IF(LEN(K12)>0,K12+1,IF(WEEKDAY(Calc!EV14)=7,Calc!EV14,"")),"") -> 44562 | O12: =IFERROR(IF(LEN(M12)>0,M12+1,IF(WEEKDAY(Calc!EV14)=1,Calc!EV14,"")),"") -> 44563
C14: {=IFERROR(INDEX(Calc!$X$11:$X$25,SMALL(IF((C$12>=Calc!$L$11:$L$25)*(C$12<=Calc!$S$11:$S$25)*(Calc!$ES$11:$ES$25),ROW(Calc!$X$11:$X$25)-ROW(INDEX(Calc!$X$11:$X$25,1,1))+1),Calc!$EU17)),"")} | E14: {=IFERROR(INDEX(Calc!$X$11:$X$25,SMALL(IF((E$12>=Calc!$L$11:$L$25)*(E$12<=Calc!$S$11:$S$25)*(Calc!$ES$11:$ES$25),ROW(Calc!$X$11:$X$25)-ROW(INDEX(Calc!$X$11:$X$25,1,1))+1),Calc!$EU17)),"")} | G14: {=IFERROR(INDEX(Calc!$X$11:$X$25,SMALL(IF((G$12>=Calc!$L$11:$L$25)*(G$12<=Calc!$S$11:$S$25)*(Calc!$ES$11:$ES$25),ROW(Calc!$X$11:$X$25)-ROW(INDEX(Calc!$X$11:$X$25,1,1))+1),Calc!$EU17)),"")} | I14: {=IFERROR(INDEX(Calc!$X$11:$X$25,SMALL(IF((I$12>=Calc!$L$11:$L$25)*(I$12<=Calc!$S$11:$S$25)*(Calc!$ES$11:$ES$25),ROW(Calc!$X$11:$X$25)-ROW(INDEX(Calc!$X$11:$X$25,1,1))+1),Calc!$EU17)),"")} | K14: {=IFERROR(INDEX(Calc!$X$11:$X$25,SMALL(IF((K$12>=Calc!$L$11:$L$25)*(K$12<=Calc!$S$11:$S$25)*(Calc!$ES$11:$ES$25),ROW(Calc!$X$11:$X$25)-ROW(INDEX(Calc!$X$11:$X$25,1,1))+1),Calc!$EU17)),"")} | M14: {=IFERROR(INDEX(Calc!$X$11:$X$25,SMALL(IF((M$12>=Calc!$L$11:$L$25)*(M$12<=Calc!$S$11:$S$25)*(Calc!$ES$11:$ES$25),ROW(Calc!$X$11:$X$25)-ROW(INDEX(Calc!$X$11:$X$25,1,1))+1),Calc!$EU17)),"")} | O14: {=IFERROR(INDEX(Calc!$X$11:$X$25,SMALL(IF((O$12>=Calc!$L$11:$L$25)*(O$12<=Calc!$S$11:$S$25)*(Calc!$ES$11:$ES$25),ROW(Calc!$X$11:$X$25)-ROW(INDEX(Calc!$X$11:$X$25,1,1))+1),Calc!$EU17)),"")} -> Vincent Collins
C15: {=IFERROR(INDEX(Calc!$X$11:$X$25,SMALL(IF((C$12>=Calc!$L$11:$L$25)*(C$12<=Calc!$S$11:$S$25)*(Calc!$ES$11:$ES$25),ROW(Calc!$X$11:$X$25)-ROW(INDEX(Calc!$X$11:$X$25,1,1))+1),Calc!$EU18)),"")} | E15: {=IFERROR(INDEX(Calc!$X$11:$X$25,SMALL(IF((E$12>=Calc!$L$11:$L$25)*(E$12<=Calc!$S$11:$S$25)*(Calc!$ES$11:$ES$25),ROW(Calc!$X$11:$X$25)-ROW(INDEX(Calc!$X$11:$X$25,1,1))+1),Calc!$EU18)),"")} | G15: {=IFERROR(INDEX(Calc!$X$11:$X$25,SMALL(IF((G$12>=Calc!$L$11:$L$25)*(G$12<=Calc!$S$11:$S$25)*(Calc!$ES$11:$ES$25),ROW(Calc!$X$11:$X$25)-ROW(INDEX(Calc!$X$11:$X$25,1,1))+1),Calc!$EU18)),"")} | I15: {=IFERROR(INDEX(Calc!$X$11:$X$25,SMALL(IF((I$12>=Calc!$L$11:$L$25)*(I$12<=Calc!$S$11:$S$25)*(Calc!$ES$11:$ES$25),ROW(Calc!$X$11:$X$25)-ROW(INDEX(Calc!$X$11:$X$25,1,1))+1),Calc!$EU18)),"")} | K15: {=IFERROR(INDEX(Calc!$X$11:$X$25,SMALL(IF((K$12>=Calc!$L$11:$L$25)*(K$12<=Calc!$S$11:$S$25)*(Calc!$ES$11:$ES$25),ROW(Calc!$X$11:$X$25)-ROW(INDEX(Calc!$X$11:$X$25,1,1))+1),Calc!$EU18)),"")} | M15: {=IFERROR(INDEX(Calc!$X$11:$X$25,SMALL(IF((M$12>=Calc!$L$11:$L$25)*(M$12<=Calc!$S$11:$S$25)*(Calc!$ES$11:$ES$25),ROW(Calc!$X$11:$X$25)-ROW(INDEX(Calc!$X$11:$X$25,1,1))+1),Calc!$EU18)),"")} | O15: {=IFERROR(INDEX(Calc!$X$11:$X$25,SMALL(IF((O$12>=Calc!$L$11:$L$25)*(O$12<=Calc!$S$11:$S$25)*(Calc!$ES$11:$ES$25),ROW(Calc!$X$11:$X$25)-ROW(INDEX(Calc!$X$11:$X$25,1,1))+1),Calc!$EU18)),"")}
C16: {=IFERROR(INDEX(Calc!$X$11:$X$25,SMALL(IF((C$12>=Calc!$L$11:$L$25)*(C$12<=Calc!$S$11:$S$25)*(Calc!$ES$11:$ES$25),ROW(Calc!$X$11:$X$25)-ROW(INDEX(Calc!$X$11:$X$25,1,1))+1),Calc!$EU19)),"")} | E16: {=IFERROR(INDEX(Calc!$X$11:$X$25,SMALL(IF((E$12>=Calc!$L$11:$L$25)*(E$12<=Calc!$S$11:$S$25)*(Calc!$ES$11:$ES$25),ROW(Calc!$X$11:$X$25)-ROW(INDEX(Calc!$X$11:$X$25,1,1))+1),Calc!$EU19)),"")} | G16: {=IFERROR(INDEX(Calc!$X$11:$X$25,SMALL(IF((G$12>=Calc!$L$11:$L$25)*(G$12<=Calc!$S$11:$S$25)*(Calc!$ES$11:$ES$25),ROW(Calc!$X$11:$X$25)-ROW(INDEX(Calc!$X$11:$X$25,1,1))+1),Calc!$EU19)),"")} | I16: {=IFERROR(INDEX(Calc!$X$11:$X$25,SMALL(IF((I$12>=Calc!$L$11:$L$25)*(I$12<=Calc!$S$11:$S$25)*(Calc!$ES$11:$ES$25),ROW(Calc!$X$11:$X$25)-ROW(INDEX(Calc!$X$11:$X$25,1,1))+1),Calc!$EU19)),"")} | K16: {=IFERROR(INDEX(Calc!$X$11:$X$25,SMALL(IF((K$12>=Calc!$L$11:$L$25)*(K$12<=Calc!$S$11:$S$25)*(Calc!$ES$11:$ES$25),ROW(Calc!$X$11:$X$25)-ROW(INDEX(Calc!$X$11:$X$25,1,1))+1),Calc!$EU19)),"")} | M16: {=IFERROR(INDEX(Calc!$X$11:$X$25,SMALL(IF((M$12>=Calc!$L$11:$L$25)*(M$12<=Calc!$S$11:$S$25)*(Calc!$ES$11:$ES$25),ROW(Calc!$X$11:$X$25)-ROW(INDEX(Calc!$X$11:$X$25,1,1))+1),Calc!$EU19)),"")} | O16: {=IFERROR(INDEX(Calc!$X$11:$X$25,SMALL(IF((O$12>=Calc!$L$11:$L$25)*(O$12<=Calc!$S$11:$S$25)*(Calc!$ES$11:$ES$25),ROW(Calc!$X$11:$X$25)-ROW(INDEX(Calc!$X$11:$X$25,1,1))+1),Calc!$EU19)),"")}
C17: {=IFERROR(INDEX(Calc!$X$11:$X$25,SMALL(IF((C$12>=Calc!$L$11:$L$25)*(C$12<=Calc!$S$11:$S$25)*(Calc!$ES$11:$ES$25),ROW(Calc!$X$11:$X$25)-ROW(INDEX(Calc!$X$11:$X$25,1,1))+1),Calc!$EU20)),"")} | E17: {=IFERROR(INDEX(Calc!$X$11:$X$25,SMALL(IF((E$12>=Calc!$L$11:$L$25)*(E$12<=Calc!$S$11:$S$25)*(Calc!$ES$11:$ES$25),ROW(Calc!$X$11:$X$25)-ROW(INDEX(Calc!$X$11:$X$25,1,1))+1),Calc!$EU20)),"")} | G17: {=IFERROR(INDEX(Calc!$X$11:$X$25,SMALL(IF((G$12>=Calc!$L$11:$L$25)*(G$12<=Calc!$S$11:$S$25)*(Calc!$ES$11:$ES$25),ROW(Calc!$X$11:$X$25)-ROW(INDEX(Calc!$X$11:$X$25,1,1))+1),Calc!$EU20)),"")} | I17: {=IFERROR(INDEX(Calc!$X$11:$X$25,SMALL(IF((I$12>=Calc!$L$11:$L$25)*(I$12<=Calc!$S$11:$S$25)*(Calc!$ES$11:$ES$25),ROW(Calc!$X$11:$X$25)-ROW(INDEX(Calc!$X$11:$X$25,1,1))+1),Calc!$EU20)),"")} | K17: {=IFERROR(INDEX(Calc!$X$11:$X$25,SMALL(IF((K$12>=Calc!$L$11:$L$25)*(K$12<=Calc!$S$11:$S$25)*(Calc!$ES$11:$ES$25),ROW(Calc!$X$11:$X$25)-ROW(INDEX(Calc!$X$11:$X$25,1,1))+1),Calc!$EU20)),"")} | M17: {=IFERROR(INDEX(Calc!$X$11:$X$25,SMALL(IF((M$12>=Calc!$L$11:$L$25)*(M$12<=Calc!$S$11:$S$25)*(Calc!$ES$11:$ES$25),ROW(Calc!$X$11:$X$25)-ROW(INDEX(Calc!$X$11:$X$25,1,1))+1),Calc!$EU20)),"")} | O17: {=IFERROR(INDEX(Calc!$X$11:$X$25,SMALL(IF((O$12>=Calc!$L$11:$L$25)*(O$12<=Calc!$S$11:$S$25)*(Calc!$ES$11:$ES$25),ROW(Calc!$X$11:$X$25)-ROW(INDEX(Calc!$X$11:$X$25,1,1))+1),Calc!$EU20)),"")}
C18: {=IFERROR(INDEX(Calc!$X$11:$X$25,SMALL(IF((C$12>=Calc!$L$11:$L$25)*(C$12<=Calc!$S$11:$S$25)*(Calc!$ES$11:$ES$25),ROW(Calc!$X$11:$X$25)-ROW(INDEX(Calc!$X$11:$X$25,1,1))+1),Calc!$EU21)),"")} | E18: {=IFERROR(INDEX(Calc!$X$11:$X$25,SMALL(IF((E$12>=Calc!$L$11:$L$25)*(E$12<=Calc!$S$11:$S$25)*(Calc!$ES$11:$ES$25),ROW(Calc!$X$11:$X$25)-ROW(INDEX(Calc!$X$11:$X$25,1,1))+1),Calc!$EU21)),"")} | G18: {=IFERROR(INDEX(Calc!$X$11:$X$25,SMALL(IF((G$12>=Calc!$L$11:$L$25)*(G$12<=Calc!$S$11:$S$25)*(Calc!$ES$11:$ES$25),ROW(Calc!$X$11:$X$25)-ROW(INDEX(Calc!$X$11:$X$25,1,1))+1),Calc!$EU21)),"")} | I18: {=IFERROR(INDEX(Calc!$X$11:$X$25,SMALL(IF((I$12>=Calc!$L$11:$L$25)*(I$12<=Calc!$S$11:$S$25)*(Calc!$ES$11:$ES$25),ROW(Calc!$X$11:$X$25)-ROW(INDEX(Calc!$X$11:$X$25,1,1))+1),Calc!$EU21)),"")} | K18: {=IFERROR(INDEX(Calc!$X$11:$X$25,SMALL(IF((K$12>=Calc!$L$11:$L$25)*(K$12<=Calc!$S$11:$S$25)*(Calc!$ES$11:$ES$25),ROW(Calc!$X$11:$X$25)-ROW(INDEX(Calc!$X$11:$X$25,1,1))+1),Calc!$EU21)),"")} | M18: {=IFERROR(INDEX(Calc!$X$11:$X$25,SMALL(IF((M$12>=Calc!$L$11:$L$25)*(M$12<=Calc!$S$11:$S$25)*(Calc!$ES$11:$ES$25),ROW(Calc!$X$11:$X$25)-ROW(INDEX(Calc!$X$11:$X$25,1,1))+1),Calc!$EU21)),"")} | O18: {=IFERROR(INDEX(Calc!$X$11:$X$25,SMALL(IF((O$12>=Calc!$L$11:$L$25)*(O$12<=Calc!$S$11:$S$25)*(Calc!$ES$11:$ES$25),ROW(Calc!$X$11:$X$25)-ROW(INDEX(Calc!$X$11:$X$25,1,1))+1),Calc!$EU21)),"")}
C19: {=IFERROR(INDEX(Calc!$X$11:$X$25,SMALL(IF((C$12>=Calc!$L$11:$L$25)*(C$12<=Calc!$S$11:$S$25)*(Calc!$ES$11:$ES$25),ROW(Calc!$X$11:$X$25)-ROW(INDEX(Calc!$X$11:$X$25,1,1))+1),Calc!$EU22)),"")} | E19: {=IFERROR(INDEX(Calc!$X$11:$X$25,SMALL(IF((E$12>=Calc!$L$11:$L$25)*(E$12<=Calc!$S$11:$S$25)*(Calc!$ES$11:$ES$25),ROW(Calc!$X$11:$X$25)-ROW(INDEX(Calc!$X$11:$X$25,1,1))+1),Calc!$EU22)),"")} | G19: {=IFERROR(INDEX(Calc!$X$11:$X$25,SMALL(IF((G$12>=Calc!$L$11:$L$25)*(G$12<=Calc!$S$11:$S$25)*(Calc!$ES$11:$ES$25),ROW(Calc!$X$11:$X$25)-ROW(INDEX(Calc!$X$11:$X$25,1,1))+1),Calc!$EU22)),"")} | I19: {=IFERROR(INDEX(Calc!$X$11:$X$25,SMALL(IF((I$12>=Calc!$L$11:$L$25)*(I$12<=Calc!$S$11:$S$25)*(Calc!$ES$11:$ES$25),ROW(Calc!$X$11:$X$25)-ROW(INDEX(Calc!$X$11:$X$25,1,1))+1),Calc!$EU22)),"")} | K19: {=IFERROR(INDEX(Calc!$X$11:$X$25,SMALL(IF((K$12>=Calc!$L$11:$L$25)*(K$12<=Calc!$S$11:$S$25)*(Calc!$ES$11:$ES$25),ROW(Calc!$X$11:$X$25)-ROW(INDEX(Calc!$X$11:$X$25,1,1))+1),Calc!$EU22)),"")} | M19: {=IFERROR(INDEX(Calc!$X$11:$X$25,SMALL(IF((M$12>=Calc!$L$11:$L$25)*(M$12<=Calc!$S$11:$S$25)*(Calc!$ES$11:$ES$25),ROW(Calc!$X$11:$X$25)-ROW(INDEX(Calc!$X$11:$X$25,1,1))+1),Calc!$EU22)),"")} | O19: {=IFERROR(INDEX(Calc!$X$11:$X$25,SMALL(IF((O$12>=Calc!$L$11:$L$25)*(O$12<=Calc!$S$11:$S$25)*(Calc!$ES$11:$ES$25),ROW(Calc!$X$11:$X$25)-ROW(INDEX(Calc!$X$11:$X$25,1,1))+1),Calc!$EU22)),"")}
C20: {=IFERROR(INDEX(Calc!$X$11:$X$25,SMALL(IF((C$12>=Calc!$L$11:$L$25)*(C$12<=Calc!$S$11:$S$25)*(Calc!$ES$11:$ES$25),ROW(Calc!$X$11:$X$25)-ROW(INDEX(Calc!$X$11:$X$25,1,1))+1),Calc!$EU23)),"")} | E20: {=IFERROR(INDEX(Calc!$X$11:$X$25,SMALL(IF((E$12>=Calc!$L$11:$L$25)*(E$12<=Calc!$S$11:$S$25)*(Calc!$ES$11:$ES$25),ROW(Calc!$X$11:$X$25)-ROW(INDEX(Calc!$X$11:$X$25,1,1))+1),Calc!$EU23)),"")} | G20: {=IFERROR(INDEX(Calc!$X$11:$X$25,SMALL(IF((G$12>=Calc!$L$11:$L$25)*(G$12<=Calc!$S$11:$S$25)*(Calc!$ES$11:$ES$25),ROW(Calc!$X$11:$X$25)-ROW(INDEX(Calc!$X$11:$X$25,1,1))+1),Calc!$EU23)),"")} | I20: {=IFERROR(INDEX(Calc!$X$11:$X$25,SMALL(IF((I$12>=Calc!$L$11:$L$25)*(I$12<=Calc!$S$11:$S$25)*(Calc!$ES$11:$ES$25),ROW(Calc!$X$11:$X$25)-ROW(INDEX(Calc!$X$11:$X$25,1,1))+1),Calc!$EU23)),"")} | K20: {=IFERROR(INDEX(Calc!$X$11:$X$25,SMALL(IF((K$12>=Calc!$L$11:$L$25)*(K$12<=Calc!$S$11:$S$25)*(Calc!$ES$11:$ES$25),ROW(Calc!$X$11:$X$25)-ROW(INDEX(Calc!$X$11:$X$25,1,1))+1),Calc!$EU23)),"")} | M20: {=IFERROR(INDEX(Calc!$X$11:$X$25,SMALL(IF((M$12>=Calc!$L$11:$L$25)*(M$12<=Calc!$S$11:$S$25)*(Calc!$ES$11:$ES$25),ROW(Calc!$X$11:$X$25)-ROW(INDEX(Calc!$X$11:$X$25,1,1))+1),Calc!$EU23)),"")} | O20: {=IFERROR(INDEX(Calc!$X$11:$X$25,SMALL(IF((O$12>=Calc!$L$11:$L$25)*(O$12<=Calc!$S$11:$S$25)*(Calc!$ES$11:$ES$25),ROW(Calc!$X$11:$X$25)-ROW(INDEX(Calc!$X$11:$X$25,1,1))+1),Calc!$EU23)),"")}
C21: {=IFERROR(INDEX(Calc!$X$11:$X$25,SMALL(IF((C$12>=Calc!$L$11:$L$25)*(C$12<=Calc!$S$11:$S$25)*(Calc!$ES$11:$ES$25),ROW(Calc!$X$11:$X$25)-ROW(INDEX(Calc!$X$11:$X$25,1,1))+1),Calc!$EU24)),"")} | E21: {=IFERROR(INDEX(Calc!$X$11:$X$25,SMALL(IF((E$12>=Calc!$L$11:$L$25)*(E$12<=Calc!$S$11:$S$25)*(Calc!$ES$11:$ES$25),ROW(Calc!$X$11:$X$25)-ROW(INDEX(Calc!$X$11:$X$25,1,1))+1),Calc!$EU24)),"")} | G21: {=IFERROR(INDEX(Calc!$X$11:$X$25,SMALL(IF((G$12>=Calc!$L$11:$L$25)*(G$12<=Calc!$S$11:$S$25)*(Calc!$ES$11:$ES$25),ROW(Calc!$X$11:$X$25)-ROW(INDEX(Calc!$X$11:$X$25,1,1))+1),Calc!$EU24)),"")} | I21: {=IFERROR(INDEX(Calc!$X$11:$X$25,SMALL(IF((I$12>=Calc!$L$11:$L$25)*(I$12<=Calc!$S$11:$S$25)*(Calc!$ES$11:$ES$25),ROW(Calc!$X$11:$X$25)-ROW(INDEX(Calc!$X$11:$X$25,1,1))+1),Calc!$EU24)),"")} | K21: {=IFERROR(INDEX(Calc!$X$11:$X$25,SMALL(IF((K$12>=Calc!$L$11:$L$25)*(K$12<=Calc!$S$11:$S$25)*(Calc!$ES$11:$ES$25),ROW(Calc!$X$11:$X$25)-ROW(INDEX(Calc!$X$11:$X$25,1,1))+1),Calc!$EU24)),"")} | M21: {=IFERROR(INDEX(Calc!$X$11:$X$25,SMALL(IF((M$12>=Calc!$L$11:$L$25)*(M$12<=Calc!$S$11:$S$25)*(Calc!$ES$11:$ES$25),ROW(Calc!$X$11:$X$25)-ROW(INDEX(Calc!$X$11:$X$25,1,1))+1),Calc!$EU24)),"")} | O21: {=IFERROR(INDEX(Calc!$X$11:$X$25,SMALL(IF((O$12>=Calc!$L$11:$L$25)*(O$12<=Calc!$S$11:$S$25)*(Calc!$ES$11:$ES$25),ROW(Calc!$X$11:$X$25)-ROW(INDEX(Calc!$X$11:$X$25,1,1))+1),Calc!$EU24)),"")}
C22: {=IFERROR(INDEX(Calc!$X$11:$X$25,SMALL(IF((C$12>=Calc!$L$11:$L$25)*(C$12<=Calc!$S$11:$S$25)*(Calc!$ES$11:$ES$25),ROW(Calc!$X$11:$X$25)-ROW(INDEX(Calc!$X$11:$X$25,1,1))+1),Calc!$EU25)),"")} | E22: {=IFERROR(INDEX(Calc!$X$11:$X$25,SMALL(IF((E$12>=Calc!$L$11:$L$25)*(E$12<=Calc!$S$11:$S$25)*(Calc!$ES$11:$ES$25),ROW(Calc!$X$11:$X$25)-ROW(INDEX(Calc!$X$11:$X$25,1,1))+1),Calc!$EU25)),"")} | G22: {=IFERROR(INDEX(Calc!$X$11:$X$25,SMALL(IF((G$12>=Calc!$L$11:$L$25)*(G$12<=Calc!$S$11:$S$25)*(Calc!$ES$11:$ES$25),ROW(Calc!$X$11:$X$25)-ROW(INDEX(Calc!$X$11:$X$25,1,1))+1),Calc!$EU25)),"")} | I22: {=IFERROR(INDEX(Calc!$X$11:$X$25,SMALL(IF((I$12>=Calc!$L$11:$L$25)*(I$12<=Calc!$S$11:$S$25)*(Calc!$ES$11:$ES$25),ROW(Calc!$X$11:$X$25)-ROW(INDEX(Calc!$X$11:$X$25,1,1))+1),Calc!$EU25)),"")} | K22: {=IFERROR(INDEX(Calc!$X$11:$X$25,SMALL(IF((K$12>=Calc!$L$11:$L$25)*(K$12<=Calc!$S$11:$S$25)*(Calc!$ES$11:$ES$25),ROW(Calc!$X$11:$X$25)-ROW(INDEX(Calc!$X$11:$X$25,1,1))+1),Calc!$EU25)),"")} | M22: {=IFERROR(INDEX(Calc!$X$11:$X$25,SMALL(IF((M$12>=Calc!$L$11:$L$25)*(M$12<=Calc!$S$11:$S$25)*(Calc!$ES$11:$ES$25),ROW(Calc!$X$11:$X$25)-ROW(INDEX(Calc!$X$11:$X$25,1,1))+1),Calc!$EU25)),"")} | O22: {=IFERROR(INDEX(Calc!$X$11:$X$25,SMALL(IF((O$12>=Calc!$L$11:$L$25)*(O$12<=Calc!$S$11:$S$25)*(Calc!$ES$11:$ES$25),ROW(Calc!$X$11:$X$25)-ROW(INDEX(Calc!$X$11:$X$25,1,1))+1),Calc!$EU25)),"")}
C23: {=IFERROR(INDEX(Calc!$X$11:$X$25,SMALL(IF((C$12>=Calc!$L$11:$L$25)*(C$12<=Calc!$S$11:$S$25)*(Calc!$ES$11:$ES$25),ROW(Calc!$X$11:$X$25)-ROW(INDEX(Calc!$X$11:$X$25,1,1))+1),Calc!$EU26)),"")} | E23: {=IFERROR(INDEX(Calc!$X$11:$X$25,SMALL(IF((E$12>=Calc!$L$11:$L$25)*(E$12<=Calc!$S$11:$S$25)*(Calc!$ES$11:$ES$25),ROW(Calc!$X$11:$X$25)-ROW(INDEX(Calc!$X$11:$X$25,1,1))+1),Calc!$EU26)),"")} | G23: {=IFERROR(INDEX(Calc!$X$11:$X$25,SMALL(IF((G$12>=Calc!$L$11:$L$25)*(G$12<=Calc!$S$11:$S$25)*(Calc!$ES$11:$ES$25),ROW(Calc!$X$11:$X$25)-ROW(INDEX(Calc!$X$11:$X$25,1,1))+1),Calc!$EU26)),"")} | I23: {=IFERROR(INDEX(Calc!$X$11:$X$25,SMALL(IF((I$12>=Calc!$L$11:$L$25)*(I$12<=Calc!$S$11:$S$25)*(Calc!$ES$11:$ES$25),ROW(Calc!$X$11:$X$25)-ROW(INDEX(Calc!$X$11:$X$25,1,1))+1),Calc!$EU26)),"")} | K23: {=IFERROR(INDEX(Calc!$X$11:$X$25,SMALL(IF((K$12>=Calc!$L$11:$L$25)*(K$12<=Calc!$S$11:$S$25)*(Calc!$ES$11:$ES$25),ROW(Calc!$X$11:$X$25)-ROW(INDEX(Calc!$X$11:$X$25,1,1))+1),Calc!$EU26)),"")} | M23: {=IFERROR(INDEX(Calc!$X$11:$X$25,SMALL(IF((M$12>=Calc!$L$11:$L$25)*(M$12<=Calc!$S$11:$S$25)*(Calc!$ES$11:$ES$25),ROW(Calc!$X$11:$X$25)-ROW(INDEX(Calc!$X$11:$X$25,1,1))+1),Calc!$EU26)),"")} | O23: {=IFERROR(INDEX(Calc!$X$11:$X$25,SMALL(IF((O$12>=Calc!$L$11:$L$25)*(O$12<=Calc!$S$11:$S$25)*(Calc!$ES$11:$ES$25),ROW(Calc!$X$11:$X$25)-ROW(INDEX(Calc!$X$11:$X$25,1,1))+1),Calc!$EU26)),"")}
C25: =IFERROR(IF(LEN(O12)=0,"",IF(MONTH(O12+1)=MONTH(O12),O12+1,"")),"") -> 44564 | E25: =IFERROR(IF(LEN(C25)=0,"",IF(MONTH(C25+1)=MONTH(C25),C25+1,"")),"") -> 44565 | G25: =IFERROR(IF(LEN(E25)=0,"",IF(MONTH(E25+1)=MONTH(E25),E25+1,"")),"") -> 44566 | I25: =IFERROR(IF(LEN(G25)=0,"",IF(MONTH(G25+1)=MONTH(G25),G25+1,"")),"") -> 44567 | K25: =IFERROR(IF(LEN(I25)=0,"",IF(MONTH(I25+1)=MONTH(I25),I25+1,"")),"") -> 44568 | M25: =IFERROR(IF(LEN(K25)=0,"",IF(MONTH(K25+1)=MONTH(K25),K25+1,"")),"") -> 44569 | O25: =IFERROR(IF(LEN(M25)=0,"",IF(MONTH(M25+1)=MONTH(M25),M25+1,"")),"") -> 44570
C27: {=IFERROR(INDEX(Calc!$X$11:$X$25,SMALL(IF((C$25>=Calc!$L$11:$L$25)*(C$25<=Calc!$S$11:$S$25)*(Calc!$ES$11:$ES$25),ROW(Calc!$X$11:$X$25)-ROW(INDEX(Calc!$X$11:$X$25,1,1))+1),Calc!$EU17)),"")} -> Jonah Peterson | E27: {=IFERROR(INDEX(Calc!$X$11:$X$25,SMALL(IF((E$25>=Calc!$L$11:$L$25)*(E$25<=Calc!$S$11:$S$25)*(Calc!$ES$11:$ES$25),ROW(Calc!$X$11:$X$25)-ROW(INDEX(Calc!$X$11:$X$25,1,1))+1),Calc!$EU17)),"")} -> Vincent Collins | G27: {=IFERROR(INDEX(Calc!$X$11:$X$25,SMALL(IF((G$25>=Calc!$L$11:$L$25)*(G$25<=Calc!$S$11:$S$25)*(Calc!$ES$11:$ES$25),ROW(Calc!$X$11:$X$25)-ROW(INDEX(Calc!$X$11:$X$25,1,1))+1),Calc!$EU17)),"")} -> Ryan Briggs | I27: {=IFERROR(INDEX(Calc!$X$11:$X$25,SMALL(IF((I$25>=Calc!$L$11:$L$25)*(I$25<=Calc!$S$11:$S$25)*(Calc!$ES$11:$ES$25),ROW(Calc!$X$11:$X$25)-ROW(INDEX(Calc!$X$11:$X$25,1,1))+1),Calc!$EU17)),"")} -> Ryan Briggs | K27: {=IFERROR(INDEX(Calc!$X$11:$X$25,SMALL(IF((K$25>=Calc!$L$11:$L$25)*(K$25<=Calc!$S$11:$S$25)*(Calc!$ES$11:$ES$25),ROW(Calc!$X$11:$X$25)-ROW(INDEX(Calc!$X$11:$X$25,1,1))+1),Calc!$EU17)),"")} -> Ryan Briggs | M27: {=IFERROR(INDEX(Calc!$X$11:$X$25,SMALL(IF((M$25>=Calc!$L$11:$L$25)*(M$25<=Calc!$S$11:$S$25)*(Calc!$ES$11:$ES$25),ROW(Calc!$X$11:$X$25)-ROW(INDEX(Calc!$X$11:$X$25,1,1))+1),Calc!$EU17)),"")} -> Laila Robinson | O27: {=IFERROR(INDEX(Calc!$X$11:$X$25,SMALL(IF((O$25>=Calc!$L$11:$L$25)*(O$25<=Calc!$S$11:$S$25)*(Calc!$ES$11:$ES$25),ROW(Calc!$X$11:$X$25)-ROW(INDEX(Calc!$X$11:$X$25,1,1))+1),Calc!$EU17)),"")} -> Laila Robinson
C28: {=IFERROR(INDEX(Calc!$X$11:$X$25,SMALL(IF((C$25>=Calc!$L$11:$L$25)*(C$25<=Calc!$S$11:$S$25)*(Calc!$ES$11:$ES$25),ROW(Calc!$X$11:$X$25)-ROW(INDEX(Calc!$X$11:$X$25,1,1))+1),Calc!$EU18)),"")} -> Vincent Collins | E28: {=IFERROR(INDEX(Calc!$X$11:$X$25,SMALL(IF((E$25>=Calc!$L$11:$L$25)*(E$25<=Calc!$S$11:$S$25)*(Calc!$ES$11:$ES$25),ROW(Calc!$X$11:$X$25)-ROW(INDEX(Calc!$X$11:$X$25,1,1))+1),Calc!$EU18)),"")} | G28: {=IFERROR(INDEX(Calc!$X$11:$X$25,SMALL(IF((G$25>=Calc!$L$11:$L$25)*(G$25<=Calc!$S$11:$S$25)*(Calc!$ES$11:$ES$25),ROW(Calc!$X$11:$X$25)-ROW(INDEX(Calc!$X$11:$X$25,1,1))+1),Calc!$EU18)),"")} | I28: {=IFERROR(INDEX(Calc!$X$11:$X$25,SMALL(IF((I$25>=Calc!$L$11:$L$25)*(I$25<=Calc!$S$11:$S$25)*(Calc!$ES$11:$ES$25),ROW(Calc!$X$11:$X$25)-ROW(INDEX(Calc!$X$11:$X$25,1,1))+1),Calc!$EU18)),"")} | K28: {=IFERROR(INDEX(Calc!$X$11:$X$25,SMALL(IF((K$25>=Calc!$L$11:$L$25)*(K$25<=Calc!$S$11:$S$25)*(Calc!$ES$11:$ES$25),ROW(Calc!$X$11:$X$25)-ROW(INDEX(Calc!$X$11:$X$25,1,1))+1),Calc!$EU18)),"")} | M28: {=IFERROR(INDEX(Calc!$X$11:$X$25,SMALL(IF((M$25>=Calc!$L$11:$L$25)*(M$25<=Calc!$S$11:$S$25)*(Calc!$ES$11:$ES$25),ROW(Calc!$X$11:$X$25)-ROW(INDEX(Calc!$X$11:$X$25,1,1))+1),Calc!$EU18)),"")} -> Ryan Briggs | O28: {=IFERROR(INDEX(Calc!$X$11:$X$25,SMALL(IF((O$25>=Calc!$L$11:$L$25)*(O$25<=Calc!$S$11:$S$25)*(Calc!$ES$11:$ES$25),ROW(Calc!$X$11:$X$25)-ROW(INDEX(Calc!$X$11:$X$25,1,1))+1),Calc!$EU18)),"")} -> Ryan Briggs
C29: {=IFERROR(INDEX(Calc!$X$11:$X$25,SMALL(IF((C$25>=Calc!$L$11:$L$25)*(C$25<=Calc!$S$11:$S$25)*(Calc!$ES$11:$ES$25),ROW(Calc!$X$11:$X$25)-ROW(INDEX(Calc!$X$11:$X$25,1,1))+1),Calc!$EU19)),"")} | E29: {=IFERROR(INDEX(Calc!$X$11:$X$25,SMALL(IF((E$25>=Calc!$L$11:$L$25)*(E$25<=Calc!$S$11:$S$25)*(Calc!$ES$11:$ES$25),ROW(Calc!$X$11:$X$25)-ROW(INDEX(Calc!$X$11:$X$25,1,1))+1),Calc!$EU19)),"")} | G29: {=IFERROR(INDEX(Calc!$X$11:$X$25,SMALL(IF((G$25>=Calc!$L$11:$L$25)*(G$25<=Calc!$S$11:$S$25)*(Calc!$ES$11:$ES$25),ROW(Calc!$X$11:$X$25)-ROW(INDEX(Calc!$X$11:$X$25,1,1))+1),Calc!$EU19)),"")} | I29: {=IFERROR(INDEX(Calc!$X$11:$X$25,SMALL(IF((I$25>=Calc!$L$11:$L$25)*(I$25<=Calc!$S$11:$S$25)*(Calc!$ES$11:$ES$25),ROW(Calc!$X$11:$X$25)-ROW(INDEX(Calc!$X$11:$X$25,1,1))+1),Calc!$EU19)),"")} | K29: {=IFERROR(INDEX(Calc!$X$11:$X$25,SMALL(IF((K$25>=Calc!$L$11:$L$25)*(K$25<=Calc!$S$11:$S$25)*(Calc!$ES$11:$ES$25),ROW(Calc!$X$11:$X$25)-ROW(INDEX(Calc!$X$11:$X$25,1,1))+1),Calc!$EU19)),"")} | M29: {=IFERROR(INDEX(Calc!$X$11:$X$25,SMALL(IF((M$25>=Calc!$L$11:$L$25)*(M$25<=Calc!$S$11:$S$25)*(Calc!$ES$11:$ES$25),ROW(Calc!$X$11:$X$25)-ROW(INDEX(Calc!$X$11:$X$25,1,1))+1),Calc!$EU19)),"")} | O29: {=IFERROR(INDEX(Calc!$X$11:$X$25,SMALL(IF((O$25>=Calc!$L$11:$L$25)*(O$25<=Calc!$S$11:$S$25)*(Calc!$ES$11:$ES$25),ROW(Calc!$X$11:$X$25)-ROW(INDEX(Calc!$X$11:$X$25,1,1))+1),Calc!$EU19)),"")}
C30: {=IFERROR(INDEX(Calc!$X$11:$X$25,SMALL(IF((C$25>=Calc!$L$11:$L$25)*(C$25<=Calc!$S$11:$S$25)*(Calc!$ES$11:$ES$25),ROW(Calc!$X$11:$X$25)-ROW(INDEX(Calc!$X$11:$X$25,1,1))+1),Calc!$EU20)),"")} | E30: {=IFERROR(INDEX(Calc!$X$11:$X$25,SMALL(IF((E$25>=Calc!$L$11:$L$25)*(E$25<=Calc!$S$11:$S$25)*(Calc!$ES$11:$ES$25),ROW(Calc!$X$11:$X$25)-ROW(INDEX(Calc!$X$11:$X$25,1,1))+1),Calc!$EU20)),"")} | G30: {=IFERROR(INDEX(Calc!$X$11:$X$25,SMALL(IF((G$25>=Calc!$L$11:$L$25)*(G$25<=Calc!$S$11:$S$25)*(Calc!$ES$11:$ES$25),ROW(Calc!$X$11:$X$25)-ROW(INDEX(Calc!$X$11:$X$25,1,1))+1),Calc!$EU20)),"")} | I30: {=IFERROR(INDEX(Calc!$X$11:$X$25,SMALL(IF((I$25>=Calc!$L$11:$L$25)*(I$25<=Calc!$S$11:$S$25)*(Calc!$ES$11:$ES$25),ROW(Calc!$X$11:$X$25)-ROW(INDEX(Calc!$X$11:$X$25,1,1))+1),Calc!$EU20)),"")} | K30: {=IFERROR(INDEX(Calc!$X$11:$X$25,SMALL(IF((K$25>=Calc!$L$11:$L$25)*(K$25<=Calc!$S$11:$S$25)*(Calc!$ES$11:$ES$25),ROW(Calc!$X$11:$X$25)-ROW(INDEX(Calc!$X$11:$X$25,1,1))+1),Calc!$EU20)),"")} | M30: {=IFERROR(INDEX(Calc!$X$11:$X$25,SMALL(IF((M$25>=Calc!$L$11:$L$25)*(M$25<=Calc!$S$11:$S$25)*(Calc!$ES$11:$ES$25),ROW(Calc!$X$11:$X$25)-ROW(INDEX(Calc!$X$11:$X$25,1,1))+1),Calc!$EU20)),"")} | O30: {=IFERROR(INDEX(Calc!$X$11:$X$25,SMALL(IF((O$25>=Calc!$L$11:$L$25)*(O$25<=Calc!$S$11:$S$25)*(Calc!$ES$11:$ES$25),ROW(Calc!$X$11:$X$25)-ROW(INDEX(Calc!$X$11:$X$25,1,1))+1),Calc!$EU20)),"")}
C31: {=IFERROR(INDEX(Calc!$X$11:$X$25,SMALL(IF((C$25>=Calc!$L$11:$L$25)*(C$25<=Calc!$S$11:$S$25)*(Calc!$ES$11:$ES$25),ROW(Calc!$X$11:$X$25)-ROW(INDEX(Calc!$X$11:$X$25,1,1))+1),Calc!$EU21)),"")} | E31: {=IFERROR(INDEX(Calc!$X$11:$X$25,SMALL(IF((E$25>=Calc!$L$11:$L$25)*(E$25<=Calc!$S$11:$S$25)*(Calc!$ES$11:$ES$25),ROW(Calc!$X$11:$X$25)-ROW(INDEX(Calc!$X$11:$X$25,1,1))+1),Calc!$EU21)),"")} | G31: {=IFERROR(INDEX(Calc!$X$11:$X$25,SMALL(IF((G$25>=Calc!$L$11:$L$25)*(G$25<=Calc!$S$11:$S$25)*(Calc!$ES$11:$ES$25),ROW(Calc!$X$11:$X$25)-ROW(INDEX(Calc!$X$11:$X$25,1,1))+1),Calc!$EU21)),"")} | I31: {=IFERROR(INDEX(Calc!$X$11:$X$25,SMALL(IF((I$25>=Calc!$L$11:$L$25)*(I$25<=Calc!$S$11:$S$25)*(Calc!$ES$11:$ES$25),ROW(Calc!$X$11:$X$25)-ROW(INDEX(Calc!$X$11:$X$25,1,1))+1),Calc!$EU21)),"")} | K31: {=IFERROR(INDEX(Calc!$X$11:$X$25,SMALL(IF((K$25>=Calc!$L$11:$L$25)*(K$25<=Calc!$S$11:$S$25)*(Calc!$ES$11:$ES$25),ROW(Calc!$X$11:$X$25)-ROW(INDEX(Calc!$X$11:$X$25,1,1))+1),Calc!$EU21)),"")} | M31: {=IFERROR(INDEX(Calc!$X$11:$X$25,SMALL(IF((M$25>=Calc!$L$11:$L$25)*(M$25<=Calc!$S$11:$S$25)*(Calc!$ES$11:$ES$25),ROW(Calc!$X$11:$X$25)-ROW(INDEX(Calc!$X$11:$X$25,1,1))+1),Calc!$EU21)),"")} | O31: {=IFERROR(INDEX(Calc!$X$11:$X$25,SMALL(IF((O$25>=Calc!$L$11:$L$25)*(O$25<=Calc!$S$11:$S$25)*(Calc!$ES$11:$ES$25),ROW(Calc!$X$11:$X$25)-ROW(INDEX(Calc!$X$11:$X$25,1,1))+1),Calc!$EU21)),"")}
C32: {=IFERROR(INDEX(Calc!$X$11:$X$25,SMALL(IF((C$25>=Calc!$L$11:$L$25)*(C$25<=Calc!$S$11:$S$25)*(Calc!$ES$11:$ES$25),ROW(Calc!$X$11:$X$25)-ROW(INDEX(Calc!$X$11:$X$25,1,1))+1),Calc!$EU22)),"")} | E32: {=IFERROR(INDEX(Calc!$X$11:$X$25,SMALL(IF((E$25>=Calc!$L$11:$L$25)*(E$25<=Calc!$S$11:$S$25)*(Calc!$ES$11:$ES$25),ROW(Calc!$X$11:$X$25)-ROW(INDEX(Calc!$X$11:$X$25,1,1))+1),Calc!$EU22)),"")} | G32: {=IFERROR(INDEX(Calc!$X$11:$X$25,SMALL(IF((G$25>=Calc!$L$11:$L$25)*(G$25<=Calc!$S$11:$S$25)*(Calc!$ES$11:$ES$25),ROW(Calc!$X$11:$X$25)-ROW(INDEX(Calc!$X$11:$X$25,1,1))+1),Calc!$EU22)),"")} | I32: {=IFERROR(INDEX(Calc!$X$11:$X$25,SMALL(IF((I$25>=Calc!$L$11:$L$25)*(I$25<=Calc!$S$11:$S$25)*(Calc!$ES$11:$ES$25),ROW(Calc!$X$11:$X$25)-ROW(INDEX(Calc!$X$11:$X$25,1,1))+1),Calc!$EU22)),"")} | K32: {=IFERROR(INDEX(Calc!$X$11:$X$25,SMALL(IF((K$25>=Calc!$L$11:$L$25)*(K$25<=Calc!$S$11:$S$25)*(Calc!$ES$11:$ES$25),ROW(Calc!$X$11:$X$25)-ROW(INDEX(Calc!$X$11:$X$25,1,1))+1),Calc!$EU22)),"")} | M32: {=IFERROR(INDEX(Calc!$X$11:$X$25,SMALL(IF((M$25>=Calc!$L$11:$L$25)*(M$25<=Calc!$S$11:$S$25)*(Calc!$ES$11:$ES$25),ROW(Calc!$X$11:$X$25)-ROW(INDEX(Calc!$X$11:$X$25,1,1))+1),Calc!$EU22)),"")} | O32: {=IFERROR(INDEX(Calc!$X$11:$X$25,SMALL(IF((O$25>=Calc!$L$11:$L$25)*(O$25<=Calc!$S$11:$S$25)*(Calc!$ES$11:$ES$25),ROW(Calc!$X$11:$X$25)-ROW(INDEX(Calc!$X$11:$X$25,1,1))+1),Calc!$EU22)),"")}
C33: {=IFERROR(INDEX(Calc!$X$11:$X$25,SMALL(IF((C$25>=Calc!$L$11:$L$25)*(C$25<=Calc!$S$11:$S$25)*(Calc!$ES$11:$ES$25),ROW(Calc!$X$11:$X$25)-ROW(INDEX(Calc!$X$11:$X$25,1,1))+1),Calc!$EU23)),"")} | E33: {=IFERROR(INDEX(Calc!$X$11:$X$25,SMALL(IF((E$25>=Calc!$L$11:$L$25)*(E$25<=Calc!$S$11:$S$25)*(Calc!$ES$11:$ES$25),ROW(Calc!$X$11:$X$25)-ROW(INDEX(Calc!$X$11:$X$25,1,1))+1),Calc!$EU23)),"")} | G33: {=IFERROR(INDEX(Calc!$X$11:$X$25,SMALL(IF((G$25>=Calc!$L$11:$L$25)*(G$25<=Calc!$S$11:$S$25)*(Calc!$ES$11:$ES$25),ROW(Calc!$X$11:$X$25)-ROW(INDEX(Calc!$X$11:$X$25,1,1))+1),Calc!$EU23)),"")} | I33: {=IFERROR(INDEX(Calc!$X$11:$X$25,SMALL(IF((I$25>=Calc!$L$11:$L$25)*(I$25<=Calc!$S$11:$S$25)*(Calc!$ES$11:$ES$25),ROW(Calc!$X$11:$X$25)-ROW(INDEX(Calc!$X$11:$X$25,1,1))+1),Calc!$EU23)),"")} | K33: {=IFERROR(INDEX(Calc!$X$11:$X$25,SMALL(IF((K$25>=Calc!$L$11:$L$25)*(K$25<=Calc!$S$11:$S$25)*(Calc!$ES$11:$ES$25),ROW(Calc!$X$11:$X$25)-ROW(INDEX(Calc!$X$11:$X$25,1,1))+1),Calc!$EU23)),"")} | M33: {=IFERROR(INDEX(Calc!$X$11:$X$25,SMALL(IF((M$25>=Calc!$L$11:$L$25)*(M$25<=Calc!$S$11:$S$25)*(Calc!$ES$11:$ES$25),ROW(Calc!$X$11:$X$25)-ROW(INDEX(Calc!$X$11:$X$25,1,1))+1),Calc!$EU23)),"")} | O33: {=IFERROR(INDEX(Calc!$X$11:$X$25,SMALL(IF((O$25>=Calc!$L$11:$L$25)*(O$25<=Calc!$S$11:$S$25)*(Calc!$ES$11:$ES$25),ROW(Calc!$X$11:$X$25)-ROW(INDEX(Calc!$X$11:$X$25,1,1))+1),Calc!$EU23)),"")}
C34: {=IFERROR(INDEX(Calc!$X$11:$X$25,SMALL(IF((C$25>=Calc!$L$11:$L$25)*(C$25<=Calc!$S$11:$S$25)*(Calc!$ES$11:$ES$25),ROW(Calc!$X$11:$X$25)-ROW(INDEX(Calc!$X$11:$X$25,1,1))+1),Calc!$EU24)),"")} | E34: {=IFERROR(INDEX(Calc!$X$11:$X$25,SMALL(IF((E$25>=Calc!$L$11:$L$25)*(E$25<=Calc!$S$11:$S$25)*(Calc!$ES$11:$ES$25),ROW(Calc!$X$11:$X$25)-ROW(INDEX(Calc!$X$11:$X$25,1,1))+1),Calc!$EU24)),"")} | G34: {=IFERROR(INDEX(Calc!$X$11:$X$25,SMALL(IF((G$25>=Calc!$L$11:$L$25)*(G$25<=Calc!$S$11:$S$25)*(Calc!$ES$11:$ES$25),ROW(Calc!$X$11:$X$25)-ROW(INDEX(Calc!$X$11:$X$25,1,1))+1),Calc!$EU24)),"")} | I34: {=IFERROR(INDEX(Calc!$X$11:$X$25,SMALL(IF((I$25>=Calc!$L$11:$L$25)*(I$25<=Calc!$S$11:$S$25)*(Calc!$ES$11:$ES$25),ROW(Calc!$X$11:$X$25)-ROW(INDEX(Calc!$X$11:$X$25,1,1))+1),Calc!$EU24)),"")} | K34: {=IFERROR(INDEX(Calc!$X$11:$X$25,SMALL(IF((K$25>=Calc!$L$11:$L$25)*(K$25<=Calc!$S$11:$S$25)*(Calc!$ES$11:$ES$25),ROW(Calc!$X$11:$X$25)-ROW(INDEX(Calc!$X$11:$X$25,1,1))+1),Calc!$EU24)),"")} | M34: {=IFERROR(INDEX(Calc!$X$11:$X$25,SMALL(IF((M$25>=Calc!$L$11:$L$25)*(M$25<=Calc!$S$11:$S$25)*(Calc!$ES$11:$ES$25),ROW(Calc!$X$11:$X$25)-ROW(INDEX(Calc!$X$11:$X$25,1,1))+1),Calc!$EU24)),"")} | O34: {=IFERROR(INDEX(Calc!$X$11:$X$25,SMALL(IF((O$25>=Calc!$L$11:$L$25)*(O$25<=Calc!$S$11:$S$25)*(Calc!$ES$11:$ES$25),ROW(Calc!$X$11:$X$25)-ROW(INDEX(Calc!$X$11:$X$25,1,1))+1),Calc!$EU24)),"")}
C35: {=IFERROR(INDEX(Calc!$X$11:$X$25,SMALL(IF((C$25>=Calc!$L$11:$L$25)*(C$25<=Calc!$S$11:$S$25)*(Calc!$ES$11:$ES$25),ROW(Calc!$X$11:$X$25)-ROW(INDEX(Calc!$X$11:$X$25,1,1))+1),Calc!$EU25)),"")} | E35: {=IFERROR(INDEX(Calc!$X$11:$X$25,SMALL(IF((E$25>=Calc!$L$11:$L$25)*(E$25<=Calc!$S$11:$S$25)*(Calc!$ES$11:$ES$25),ROW(Calc!$X$11:$X$25)-ROW(INDEX(Calc!$X$11:$X$25,1,1))+1),Calc!$EU25)),"")} | G35: {=IFERROR(INDEX(Calc!$X$11:$X$25,SMALL(IF((G$25>=Calc!$L$11:$L$25)*(G$25<=Calc!$S$11:$S$25)*(Calc!$ES$11:$ES$25),ROW(Calc!$X$11:$X$25)-ROW(INDEX(Calc!$X$11:$X$25,1,1))+1),Calc!$EU25)),"")} | I35: {=IFERROR(INDEX(Calc!$X$11:$X$25,SMALL(IF((I$25>=Calc!$L$11:$L$25)*(I$25<=Calc!$S$11:$S$25)*(Calc!$ES$11:$ES$25),ROW(Calc!$X$11:$X$25)-ROW(INDEX(Calc!$X$11:$X$25,1,1))+1),Calc!$EU25)),"")} | K35: {=IFERROR(INDEX(Calc!$X$11:$X$25,SMALL(IF((K$25>=Calc!$L$11:$L$25)*(K$25<=Calc!$S$11:$S$25)*(Calc!$ES$11:$ES$25),ROW(Calc!$X$11:$X$25)-ROW(INDEX(Calc!$X$11:$X$25,1,1))+1),Calc!$EU25)),"")} | M35: {=IFERROR(INDEX(Calc!$X$11:$X$25,SMALL(IF((M$25>=Calc!$L$11:$L$25)*(M$25<=Calc!$S$11:$S$25)*(Calc!$ES$11:$ES$25),ROW(Calc!$X$11:$X$25)-ROW(INDEX(Calc!$X$11:$X$25,1,1))+1),Calc!$EU25)),"")} | O35: {=IFERROR(INDEX(Calc!$X$11:$X$25,SMALL(IF((O$25>=Calc!$L$11:$L$25)*(O$25<=Calc!$S$11:$S$25)*(Calc!$ES$11:$ES$25),ROW(Calc!$X$11:$X$25)-ROW(INDEX(Calc!$X$11:$X$25,1,1))+1),Calc!$EU25)),"")}
C36: {=IFERROR(INDEX(Calc!$X$11:$X$25,SMALL(IF((C$25>=Calc!$L$11:$L$25)*(C$25<=Calc!$S$11:$S$25)*(Calc!$ES$11:$ES$25),ROW(Calc!$X$11:$X$25)-ROW(INDEX(Calc!$X$11:$X$25,1,1))+1),Calc!$EU26)),"")} | E36: {=IFERROR(INDEX(Calc!$X$11:$X$25,SMALL(IF((E$25>=Calc!$L$11:$L$25)*(E$25<=Calc!$S$11:$S$25)*(Calc!$ES$11:$ES$25),ROW(Calc!$X$11:$X$25)-ROW(INDEX(Calc!$X$11:$X$25,1,1))+1),Calc!$EU26)),"")} | G36: {=IFERROR(INDEX(Calc!$X$11:$X$25,SMALL(IF((G$25>=Calc!$L$11:$L$25)*(G$25<=Calc!$S$11:$S$25)*(Calc!$ES$11:$ES$25),ROW(Calc!$X$11:$X$25)-ROW(INDEX(Calc!$X$11:$X$25,1,1))+1),Calc!$EU26)),"")} | I36: {=IFERROR(INDEX(Calc!$X$11:$X$25,SMALL(IF((I$25>=Calc!$L$11:$L$25)*(I$25<=Calc!$S$11:$S$25)*(Calc!$ES$11:$ES$25),ROW(Calc!$X$11:$X$25)-ROW(INDEX(Calc!$X$11:$X$25,1,1))+1),Calc!$EU26)),"")} | K36: {=IFERROR(INDEX(Calc!$X$11:$X$25,SMALL(IF((K$25>=Calc!$L$11:$L$25)*(K$25<=Calc!$S$11:$S$25)*(Calc!$ES$11:$ES$25),ROW(Calc!$X$11:$X$25)-ROW(INDEX(Calc!$X$11:$X$25,1,1))+1),Calc!$EU26)),"")} | M36: {=IFERROR(INDEX(Calc!$X$11:$X$25,SMALL(IF((M$25>=Calc!$L$11:$L$25)*(M$25<=Calc!$S$11:$S$25)*(Calc!$ES$11:$ES$25),ROW(Calc!$X$11:$X$25)-ROW(INDEX(Calc!$X$11:$X$25,1,1))+1),Calc!$EU26)),"")} | O36: {=IFERROR(INDEX(Calc!$X$11:$X$25,SMALL(IF((O$25>=Calc!$L$11:$L$25)*(O$25<=Calc!$S$11:$S$25)*(Calc!$ES$11:$ES$25),ROW(Calc!$X$11:$X$25)-ROW(INDEX(Calc!$X$11:$X$25,1,1))+1),Calc!$EU26)),"")}
C38: =IFERROR(IF(LEN(O25)=0,"",IF(MONTH(O25+1)=MONTH(O25),O25+1,"")),"") -> 44571 | E38: =IFERROR(IF(LEN(C38)=0,"",IF(MONTH(C38+1)=MONTH(C38),C38+1,"")),"") -> 44572 | G38: =IFERROR(IF(LEN(E38)=0,"",IF(MONTH(E38+1)=MONTH(E38),E38+1,"")),"") -> 44573 | I38: =IFERROR(IF(LEN(G38)=0,"",IF(MONTH(G38+1)=MONTH(G38),G38+1,"")),"") -> 44574 | K38: =IFERROR(IF(LEN(I38)=0,"",IF(MONTH(I38+1)=MONTH(I38),I38+1,"")),"") -> 44575 | M38: =IFERROR(IF(LEN(K38)=0,"",IF(MONTH(K38+1)=MONTH(K38),K38+1,"")),"") -> 44576 | O38: =IFERROR(IF(LEN(M38)=0,"",IF(MONTH(M38+1)=MONTH(M38),M38+1,"")),"") -> 44577
C40: {=IFERROR(INDEX(Calc!$X$11:$X$25,SMALL(IF((C$38>=Calc!$L$11:$L$25)*(C$38<=Calc!$S$11:$S$25)*(Calc!$ES$11:$ES$25),ROW(Calc!$X$11:$X$25)-ROW(INDEX(Calc!$X$11:$X$25,1,1))+1),Calc!$EU17)),"")} -> Laila Robinson | E40: {=IFERROR(INDEX(Calc!$X$11:$X$25,SMALL(IF((E$38>=Calc!$L$11:$L$25)*(E$38<=Calc!$S$11:$S$25)*(Calc!$ES$11:$ES$25),ROW(Calc!$X$11:$X$25)-ROW(INDEX(Calc!$X$11:$X$25,1,1))+1),Calc!$EU17)),"")} -> Laila Robinson | G40: {=IFERROR(INDEX(Calc!$X$11:$X$25,SMALL(IF((G$38>=Calc!$L$11:$L$25)*(G$38<=Calc!$S$11:$S$25)*(Calc!$ES$11:$ES$25),ROW(Calc!$X$11:$X$25)-ROW(INDEX(Calc!$X$11:$X$25,1,1))+1),Calc!$EU17)),"")} -> Laila Robinson | I40: {=IFERROR(INDEX(Calc!$X$11:$X$25,SMALL(IF((I$38>=Calc!$L$11:$L$25)*(I$38<=Calc!$S$11:$S$25)*(Calc!$ES$11:$ES$25),ROW(Calc!$X$11:$X$25)-ROW(INDEX(Calc!$X$11:$X$25,1,1))+1),Calc!$EU17)),"")} -> Laila Robinson | K40: {=IFERROR(INDEX(Calc!$X$11:$X$25,SMALL(IF((K$38>=Calc!$L$11:$L$25)*(K$38<=Calc!$S$11:$S$25)*(Calc!$ES$11:$ES$25),ROW(Calc!$X$11:$X$25)-ROW(INDEX(Calc!$X$11:$X$25,1,1))+1),Calc!$EU17)),"")} -> Laila Robinson | M40: {=IFERROR(INDEX(Calc!$X$11:$X$25,SMALL(IF((M$38>=Calc!$L$11:$L$25)*(M$38<=Calc!$S$11:$S$25)*(Calc!$ES$11:$ES$25),ROW(Calc!$X$11:$X$25)-ROW(INDEX(Calc!$X$11:$X$25,1,1))+1),Calc!$EU17)),"")} -> Laila Robinson | O40: {=IFERROR(INDEX(Calc!$X$11:$X$25,SMALL(IF((O$38>=Calc!$L$11:$L$25)*(O$38<=Calc!$S$11:$S$25)*(Calc!$ES$11:$ES$25),ROW(Calc!$X$11:$X$25)-ROW(INDEX(Calc!$X$11:$X$25,1,1))+1),Calc!$EU17)),"")} -> Laila Robinson
C41: {=IFERROR(INDEX(Calc!$X$11:$X$25,SMALL(IF((C$38>=Calc!$L$11:$L$25)*(C$38<=Calc!$S$11:$S$25)*(Calc!$ES$11:$ES$25),ROW(Calc!$X$11:$X$25)-ROW(INDEX(Calc!$X$11:$X$25,1,1))+1),Calc!$EU18)),"")} -> Ryan Briggs | E41: {=IFERROR(INDEX(Calc!$X$11:$X$25,SMALL(IF((E$38>=Calc!$L$11:$L$25)*(E$38<=Calc!$S$11:$S$25)*(Calc!$ES$11:$ES$25),ROW(Calc!$X$11:$X$25)-ROW(INDEX(Calc!$X$11:$X$25,1,1))+1),Calc!$EU18)),"")} -> Kane Watts | G41: {=IFERROR(INDEX(Calc!$X$11:$X$25,SMALL(IF((G$38>=Calc!$L$11:$L$25)*(G$38<=Calc!$S$11:$S$25)*(Calc!$ES$11:$ES$25),ROW(Calc!$X$11:$X$25)-ROW(INDEX(Calc!$X$11:$X$25,1,1))+1),Calc!$EU18)),"")} -> Kane Watts | I41: {=IFERROR(INDEX(Calc!$X$11:$X$25,SMALL(IF((I$38>=Calc!$L$11:$L$25)*(I$38<=Calc!$S$11:$S$25)*(Calc!$ES$11:$ES$25),ROW(Calc!$X$11:$X$25)-ROW(INDEX(Calc!$X$11:$X$25,1,1))+1),Calc!$EU18)),"")} -> Kane Watts | K41: {=IFERROR(INDEX(Calc!$X$11:$X$25,SMALL(IF((K$38>=Calc!$L$11:$L$25)*(K$38<=Calc!$S$11:$S$25)*(Calc!$ES$11:$ES$25),ROW(Calc!$X$11:$X$25)-ROW(INDEX(Calc!$X$11:$X$25,1,1))+1),Calc!$EU18)),"")} -> Kane Watts | M41: {=IFERROR(INDEX(Calc!$X$11:$X$25,SMALL(IF((M$38>=Calc!$L$11:$L$25)*(M$38<=Calc!$S$11:$S$25)*(Calc!$ES$11:$ES$25),ROW(Calc!$X$11:$X$25)-ROW(INDEX(Calc!$X$11:$X$25,1,1))+1),Calc!$EU18)),"")} -> Kane Watts | O41: {=IFERROR(INDEX(Calc!$X$11:$X$25,SMALL(IF((O$38>=Calc!$L$11:$L$25)*(O$38<=Calc!$S$11:$S$25)*(Calc!$ES$11:$ES$25),ROW(Calc!$X$11:$X$25)-ROW(INDEX(Calc!$X$11:$X$25,1,1))+1),Calc!$EU18)),"")} -> Kane Watts
C42: {=IFERROR(INDEX(Calc!$X$11:$X$25,SMALL(IF((C$38>=Calc!$L$11:$L$25)*(C$38<=Calc!$S$11:$S$25)*(Calc!$ES$11:$ES$25),ROW(Calc!$X$11:$X$25)-ROW(INDEX(Calc!$X$11:$X$25,1,1))+1),Calc!$EU19)),"")} | E42: {=IFERROR(INDEX(Calc!$X$11:$X$25,SMALL(IF((E$38>=Calc!$L$11:$L$25)*(E$38<=Calc!$S$11:$S$25)*(Calc!$ES$11:$ES$25),ROW(Calc!$X$11:$X$25)-ROW(INDEX(Calc!$X$11:$X$25,1,1))+1),Calc!$EU19)),"")} -> Ryan Briggs | G42: {=IFERROR(INDEX(Calc!$X$11:$X$25,SMALL(IF((G$38>=Calc!$L$11:$L$25)*(G$38<=Calc!$S$11:$S$25)*(Calc!$ES$11:$ES$25),ROW(Calc!$X$11:$X$25)-ROW(INDEX(Calc!$X$11:$X$25,1,1))+1),Calc!$EU19)),"")} | I42: {=IFERROR(INDEX(Calc!$X$11:$X$25,SMALL(IF((I$38>=Calc!$L$11:$L$25)*(I$38<=Calc!$S$11:$S$25)*(Calc!$ES$11:$ES$25),ROW(Calc!$X$11:$X$25)-ROW(INDEX(Calc!$X$11:$X$25,1,1))+1),Calc!$EU19)),"")} | K42: {=IFERROR(INDEX(Calc!$X$11:$X$25,SMALL(IF((K$38>=Calc!$L$11:$L$25)*(K$38<=Calc!$S$11:$S$25)*(Calc!$ES$11:$ES$25),ROW(Calc!$X$11:$X$25)-ROW(INDEX(Calc!$X$11:$X$25,1,1))+1),Calc!$EU19)),"")} | M42: {=IFERROR(INDEX(Calc!$X$11:$X$25,SMALL(IF((M$38>=Calc!$L$11:$L$25)*(M$38<=Calc!$S$11:$S$25)*(Calc!$ES$11:$ES$25),ROW(Calc!$X$11:$X$25)-ROW(INDEX(Calc!$X$11:$X$25,1,1))+1),Calc!$EU19)),"")} | O42: {=IFERROR(INDEX(Calc!$X$11:$X$25,SMALL(IF((O$38>=Calc!$L$11:$L$25)*(O$38<=Calc!$S$11:$S$25)*(Calc!$ES$11:$ES$25),ROW(Calc!$X$11:$X$25)-ROW(INDEX(Calc!$X$11:$X$25,1,1))+1),Calc!$EU19)),"")}
C43: {=IFERROR(INDEX(Calc!$X$11:$X$25,SMALL(IF((C$38>=Calc!$L$11:$L$25)*(C$38<=Calc!$S$11:$S$25)*(Calc!$ES$11:$ES$25),ROW(Calc!$X$11:$X$25)-ROW(INDEX(Calc!$X$11:$X$25,1,1))+1),Calc!$EU20)),"")} | E43: {=IFERROR(INDEX(Calc!$X$11:$X$25,SMALL(IF((E$38>=Calc!$L$11:$L$25)*(E$38<=Calc!$S$11:$S$25)*(Calc!$ES$11:$ES$25),ROW(Calc!$X$11:$X$25)-ROW(INDEX(Calc!$X$11:$X$25,1,1))+1),Calc!$EU20)),"")} | G43: {=IFERROR(INDEX(Calc!$X$11:$X$25,SMALL(IF((G$38>=Calc!$L$11:$L$25)*(G$38<=Calc!$S$11:$S$25)*(Calc!$ES$11:$ES$25),ROW(Calc!$X$11:$X$25)-ROW(INDEX(Calc!$X$11:$X$25,1,1))+1),Calc!$EU20)),"")} | I43: {=IFERROR(INDEX(Calc!$X$11:$X$25,SMALL(IF((I$38>=Calc!$L$11:$L$25)*(I$38<=Calc!$S$11:$S$25)*(Calc!$ES$11:$ES$25),ROW(Calc!$X$11:$X$25)-ROW(INDEX(Calc!$X$11:$X$25,1,1))+1),Calc!$EU20)),"")} | K43: {=IFERROR(INDEX(Calc!$X$11:$X$25,SMALL(IF((K$38>=Calc!$L$11:$L$25)*(K$38<=Calc!$S$11:$S$25)*(Calc!$ES$11:$ES$25),ROW(Calc!$X$11:$X$25)-ROW(INDEX(Calc!$X$11:$X$25,1,1))+1),Calc!$EU20)),"")} | M43: {=IFERROR(INDEX(Calc!$X$11:$X$25,SMALL(IF((M$38>=Calc!$L$11:$L$25)*(M$38<=Calc!$S$11:$S$25)*(Calc!$ES$11:$ES$25),ROW(Calc!$X$11:$X$25)-ROW(INDEX(Calc!$X$11:$X$25,1,1))+1),Calc!$EU20)),"")} | O43: {=IFERROR(INDEX(Calc!$X$11:$X$25,SMALL(IF((O$38>=Calc!$L$11:$L$25)*(O$38<=Calc!$S$11:$S$25)*(Calc!$ES$11:$ES$25),ROW(Calc!$X$11:$X$25)-ROW(INDEX(Calc!$X$11:$X$25,1,1))+1),Calc!$EU20)),"")}
C44: {=IFERROR(INDEX(Calc!$X$11:$X$25,SMALL(IF((C$38>=Calc!$L$11:$L$25)*(C$38<=Calc!$S$11:$S$25)*(Calc!$ES$11:$ES$25),ROW(Calc!$X$11:$X$25)-ROW(INDEX(Calc!$X$11:$X$25,1,1))+1),Calc!$EU21)),"")} | E44: {=IFERROR(INDEX(Calc!$X$11:$X$25,SMALL(IF((E$38>=Calc!$L$11:$L$25)*(E$38<=Calc!$S$11:$S$25)*(Calc!$ES$11:$ES$25),ROW(Calc!$X$11:$X$25)-ROW(INDEX(Calc!$X$11:$X$25,1,1))+1),Calc!$EU21)),"")} | G44: {=IFERROR(INDEX(Calc!$X$11:$X$25,SMALL(IF((G$38>=Calc!$L$11:$L$25)*(G$38<=Calc!$S$11:$S$25)*(Calc!$ES$11:$ES$25),ROW(Calc!$X$11:$X$25)-ROW(INDEX(Calc!$X$11:$X$25,1,1))+1),Calc!$EU21)),"")} | I44: {=IFERROR(INDEX(Calc!$X$11:$X$25,SMALL(IF((I$38>=Calc!$L$11:$L$25)*(I$38<=Calc!$S$11:$S$25)*(Calc!$ES$11:$ES$25),ROW(Calc!$X$11:$X$25)-ROW(INDEX(Calc!$X$11:$X$25,1,1))+1),Calc!$EU21)),"")} | K44: {=IFERROR(INDEX(Calc!$X$11:$X$25,SMALL(IF((K$38>=Calc!$L$11:$L$25)*(K$38<=Calc!$S$11:$S$25)*(Calc!$ES$11:$ES$25),ROW(Calc!$X$11:$X$25)-ROW(INDEX(Calc!$X$11:$X$25,1,1))+1),Calc!$EU21)),"")} | M44: {=IFERROR(INDEX(Calc!$X$11:$X$25,SMALL(IF((M$38>=Calc!$L$11:$L$25)*(M$38<=Calc!$S$11:$S$25)*(Calc!$ES$11:$ES$25),ROW(Calc!$X$11:$X$25)-ROW(INDEX(Calc!$X$11:$X$25,1,1))+1),Calc!$EU21)),"")} | O44: {=IFERROR(INDEX(Calc!$X$11:$X$25,SMALL(IF((O$38>=Calc!$L$11:$L$25)*(O$38<=Calc!$S$11:$S$25)*(Calc!$ES$11:$ES$25),ROW(Calc!$X$11:$X$25)-ROW(INDEX(Calc!$X$11:$X$25,1,1))+1),Calc!$EU21)),"")}
C45: {=IFERROR(INDEX(Calc!$X$11:$X$25,SMALL(IF((C$38>=Calc!$L$11:$L$25)*(C$38<=Calc!$S$11:$S$25)*(Calc!$ES$11:$ES$25),ROW(Calc!$X$11:$X$25)-ROW(INDEX(Calc!$X$11:$X$25,1,1))+1),Calc!$EU22)),"")} | E45: {=IFERROR(INDEX(Calc!$X$11:$X$25,SMALL(IF((E$38>=Calc!$L$11:$L$25)*(E$38<=Calc!$S$11:$S$25)*(Calc!$ES$11:$ES$25),ROW(Calc!$X$11:$X$25)-ROW(INDEX(Calc!$X$11:$X$25,1,1))+1),Calc!$EU22)),"")} | G45: {=IFERROR(INDEX(Calc!$X$11:$X$25,SMALL(IF((G$38>=Calc!$L$11:$L$25)*(G$38<=Calc!$S$11:$S$25)*(Calc!$ES$11:$ES$25),ROW(Calc!$X$11:$X$25)-ROW(INDEX(Calc!$X$11:$X$25,1,1))+1),Calc!$EU22)),"")} | I45: {=IFERROR(INDEX(Calc!$X$11:$X$25,SMALL(IF((I$38>=Calc!$L$11:$L$25)*(I$38<=Calc!$S$11:$S$25)*(Calc!$ES$11:$ES$25),ROW(Calc!$X$11:$X$25)-ROW(INDEX(Calc!$X$11:$X$25,1,1))+1),Calc!$EU22)),"")} | K45: {=IFERROR(INDEX(Calc!$X$11:$X$25,SMALL(IF((K$38>=Calc!$L$11:$L$25)*(K$38<=Calc!$S$11:$S$25)*(Calc!$ES$11:$ES$25),ROW(Calc!$X$11:$X$25)-ROW(INDEX(Calc!$X$11:$X$25,1,1))+1),Calc!$EU22)),"")} | M45: {=IFERROR(INDEX(Calc!$X$11:$X$25,SMALL(IF((M$38>=Calc!$L$11:$L$25)*(M$38<=Calc!$S$11:$S$25)*(Calc!$ES$11:$ES$25),ROW(Calc!$X$11:$X$25)-ROW(INDEX(Calc!$X$11:$X$25,1,1))+1),Calc!$EU22)),"")} | O45: {=IFERROR(INDEX(Calc!$X$11:$X$25,SMALL(IF((O$38>=Calc!$L$11:$L$25)*(O$38<=Calc!$S$11:$S$25)*(Calc!$ES$11:$ES$25),ROW(Calc!$X$11:$X$25)-ROW(INDEX(Calc!$X$11:$X$25,1,1))+1),Calc!$EU22)),"")}
C46: {=IFERROR(INDEX(Calc!$X$11:$X$25,SMALL(IF((C$38>=Calc!$L$11:$L$25)*(C$38<=Calc!$S$11:$S$25)*(Calc!$ES$11:$ES$25),ROW(Calc!$X$11:$X$25)-ROW(INDEX(Calc!$X$11:$X$25,1,1))+1),Calc!$EU23)),"")} | E46: {=IFERROR(INDEX(Calc!$X$11:$X$25,SMALL(IF((E$38>=Calc!$L$11:$L$25)*(E$38<=Calc!$S$11:$S$25)*(Calc!$ES$11:$ES$25),ROW(Calc!$X$11:$X$25)-ROW(INDEX(Calc!$X$11:$X$25,1,1))+1),Calc!$EU23)),"")} | G46: {=IFERROR(INDEX(Calc!$X$11:$X$25,SMALL(IF((G$38>=Calc!$L$11:$L$25)*(G$38<=Calc!$S$11:$S$25)*(Calc!$ES$11:$ES$25),ROW(Calc!$X$11:$X$25)-ROW(INDEX(Calc!$X$11:$X$25,1,1))+1),Calc!$EU23)),"")} | I46: {=IFERROR(INDEX(Calc!$X$11:$X$25,SMALL(IF((I$38>=Calc!$L$11:$L$25)*(I$38<=Calc!$S$11:$S$25)*(Calc!$ES$11:$ES$25),ROW(Calc!$X$11:$X$25)-ROW(INDEX(Calc!$X$11:$X$25,1,1))+1),Calc!$EU23)),"")} | K46: {=IFERROR(INDEX(Calc!$X$11:$X$25,SMALL(IF((K$38>=Calc!$L$11:$L$25)*(K$38<=Calc!$S$11:$S$25)*(Calc!$ES$11:$ES$25),ROW(Calc!$X$11:$X$25)-ROW(INDEX(Calc!$X$11:$X$25,1,1))+1),Calc!$EU23)),"")} | M46: {=IFERROR(INDEX(Calc!$X$11:$X$25,SMALL(IF((M$38>=Calc!$L$11:$L$25)*(M$38<=Calc!$S$11:$S$25)*(Calc!$ES$11:$ES$25),ROW(Calc!$X$11:$X$25)-ROW(INDEX(Calc!$X$11:$X$25,1,1))+1),Calc!$EU23)),"")} | O46: {=IFERROR(INDEX(Calc!$X$11:$X$25,SMALL(IF((O$38>=Calc!$L$11:$L$25)*(O$38<=Calc!$S$11:$S$25)*(Calc!$ES$11:$ES$25),ROW(Calc!$X$11:$X$25)-ROW(INDEX(Calc!$X$11:$X$25,1,1))+1),Calc!$EU23)),"")}
C47: {=IFERROR(INDEX(Calc!$X$11:$X$25,SMALL(IF((C$38>=Calc!$L$11:$L$25)*(C$38<=Calc!$S$11:$S$25)*(Calc!$ES$11:$ES$25),ROW(Calc!$X$11:$X$25)-ROW(INDEX(Calc!$X$11:$X$25,1,1))+1),Calc!$EU24)),"")} | E47: {=IFERROR(INDEX(Calc!$X$11:$X$25,SMALL(IF((E$38>=Calc!$L$11:$L$25)*(E$38<=Calc!$S$11:$S$25)*(Calc!$ES$11:$ES$25),ROW(Calc!$X$11:$X$25)-ROW(INDEX(Calc!$X$11:$X$25,1,1))+1),Calc!$EU24)),"")} | G47: {=IFERROR(INDEX(Calc!$X$11:$X$25,SMALL(IF((G$38>=Calc!$L$11:$L$25)*(G$38<=Calc!$S$11:$S$25)*(Calc!$ES$11:$ES$25),ROW(Calc!$X$11:$X$25)-ROW(INDEX(Calc!$X$11:$X$25,1,1))+1),Calc!$EU24)),"")} | I47: {=IFERROR(INDEX(Calc!$X$11:$X$25,SMALL(IF((I$38>=Calc!$L$11:$L$25)*(I$38<=Calc!$S$11:$S$25)*(Calc!$ES$11:$ES$25),ROW(Calc!$X$11:$X$25)-ROW(INDEX(Calc!$X$11:$X$25,1,1))+1),Calc!$EU24)),"")} | K47: {=IFERROR(INDEX(Calc!$X$11:$X$25,SMALL(IF((K$38>=Calc!$L$11:$L$25)*(K$38<=Calc!$S$11:$S$25)*(Calc!$ES$11:$ES$25),ROW(Calc!$X$11:$X$25)-ROW(INDEX(Calc!$X$11:$X$25,1,1))+1),Calc!$EU24)),"")} | M47: {=IFERROR(INDEX(Calc!$X$11:$X$25,SMALL(IF((M$38>=Calc!$L$11:$L$25)*(M$38<=Calc!$S$11:$S$25)*(Calc!$ES$11:$ES$25),ROW(Calc!$X$11:$X$25)-ROW(INDEX(Calc!$X$11:$X$25,1,1))+1),Calc!$EU24)),"")} | O47: {=IFERROR(INDEX(Calc!$X$11:$X$25,SMALL(IF((O$38>=Calc!$L$11:$L$25)*(O$38<=Calc!$S$11:$S$25)*(Calc!$ES$11:$ES$25),ROW(Calc!$X$11:$X$25)-ROW(INDEX(Calc!$X$11:$X$25,1,1))+1),Calc!$EU24)),"")}
C48: {=IFERROR(INDEX(Calc!$X$11:$X$25,SMALL(IF((C$38>=Calc!$L$11:$L$25)*(C$38<=Calc!$S$11:$S$25)*(Calc!$ES$11:$ES$25),ROW(Calc!$X$11:$X$25)-ROW(INDEX(Calc!$X$11:$X$25,1,1))+1),Calc!$EU25)),"")} | E48: {=IFERROR(INDEX(Calc!$X$11:$X$25,SMALL(IF((E$38>=Calc!$L$11:$L$25)*(E$38<=Calc!$S$11:$S$25)*(Calc!$ES$11:$ES$25),ROW(Calc!$X$11:$X$25)-ROW(INDEX(Calc!$X$11:$X$25,1,1))+1),Calc!$EU25)),"")} | G48: {=IFERROR(INDEX(Calc!$X$11:$X$25,SMALL(IF((G$38>=Calc!$L$11:$L$25)*(G$38<=Calc!$S$11:$S$25)*(Calc!$ES$11:$ES$25),ROW(Calc!$X$11:$X$25)-ROW(INDEX(Calc!$X$11:$X$25,1,1))+1),Calc!$EU25)),"")} | I48: {=IFERROR(INDEX(Calc!$X$11:$X$25,SMALL(IF((I$38>=Calc!$L$11:$L$25)*(I$38<=Calc!$S$11:$S$25)*(Calc!$ES$11:$ES$25),ROW(Calc!$X$11:$X$25)-ROW(INDEX(Calc!$X$11:$X$25,1,1))+1),Calc!$EU25)),"")} | K48: {=IFERROR(INDEX(Calc!$X$11:$X$25,SMALL(IF((K$38>=Calc!$L$11:$L$25)*(K$38<=Calc!$S$11:$S$25)*(Calc!$ES$11:$ES$25),ROW(Calc!$X$11:$X$25)-ROW(INDEX(Calc!$X$11:$X$25,1,1))+1),Calc!$EU25)),"")} | M48: {=IFERROR(INDEX(Calc!$X$11:$X$25,SMALL(IF((M$38>=Calc!$L$11:$L$25)*(M$38<=Calc!$S$11:$S$25)*(Calc!$ES$11:$ES$25),ROW(Calc!$X$11:$X$25)-ROW(INDEX(Calc!$X$11:$X$25,1,1))+1),Calc!$EU25)),"")} | O48: {=IFERROR(INDEX(Calc!$X$11:$X$25,SMALL(IF((O$38>=Calc!$L$11:$L$25)*(O$38<=Calc!$S$11:$S$25)*(Calc!$ES$11:$ES$25),ROW(Calc!$X$11:$X$25)-ROW(INDEX(Calc!$X$11:$X$25,1,1))+1),Calc!$EU25)),"")}
C49: {=IFERROR(INDEX(Calc!$X$11:$X$25,SMALL(IF((C$38>=Calc!$L$11:$L$25)*(C$38<=Calc!$S$11:$S$25)*(Calc!$ES$11:$ES$25),ROW(Calc!$X$11:$X$25)-ROW(INDEX(Calc!$X$11:$X$25,1,1))+1),Calc!$EU26)),"")} | E49: {=IFERROR(INDEX(Calc!$X$11:$X$25,SMALL(IF((E$38>=Calc!$L$11:$L$25)*(E$38<=Calc!$S$11:$S$25)*(Calc!$ES$11:$ES$25),ROW(Calc!$X$11:$X$25)-ROW(INDEX(Calc!$X$11:$X$25,1,1))+1),Calc!$EU26)),"")} | G49: {=IFERROR(INDEX(Calc!$X$11:$X$25,SMALL(IF((G$38>=Calc!$L$11:$L$25)*(G$38<=Calc!$S$11:$S$25)*(Calc!$ES$11:$ES$25),ROW(Calc!$X$11:$X$25)-ROW(INDEX(Calc!$X$11:$X$25,1,1))+1),Calc!$EU26)),"")} | I49: {=IFERROR(INDEX(Calc!$X$11:$X$25,SMALL(IF((I$38>=Calc!$L$11:$L$25)*(I$38<=Calc!$S$11:$S$25)*(Calc!$ES$11:$ES$25),ROW(Calc!$X$11:$X$25)-ROW(INDEX(Calc!$X$11:$X$25,1,1))+1),Calc!$EU26)),"")} | K49: {=IFERROR(INDEX(Calc!$X$11:$X$25,SMALL(IF((K$38>=Calc!$L$11:$L$25)*(K$38<=Calc!$S$11:$S$25)*(Calc!$ES$11:$ES$25),ROW(Calc!$X$11:$X$25)-ROW(INDEX(Calc!$X$11:$X$25,1,1))+1),Calc!$EU26)),"")} | M49: {=IFERROR(INDEX(Calc!$X$11:$X$25,SMALL(IF((M$38>=Calc!$L$11:$L$25)*(M$38<=Calc!$S$11:$S$25)*(Calc!$ES$11:$ES$25),ROW(Calc!$X$11:$X$25)-ROW(INDEX(Calc!$X$11:$X$25,1,1))+1),Calc!$EU26)),"")} | O49: {=IFERROR(INDEX(Calc!$X$11:$X$25,SMALL(IF((O$38>=Calc!$L$11:$L$25)*(O$38<=Calc!$S$11:$S$25)*(Calc!$ES$11:$ES$25),ROW(Calc!$X$11:$X$25)-ROW(INDEX(Calc!$X$11:$X$25,1,1))+1),Calc!$EU26)),"")}
C51: =IFERROR(IF(LEN(O38)=0,"",IF(MONTH(O38+1)=MONTH(O38),O38+1,"")),"") -> 44578 | E51: =IFERROR(IF(LEN(C51)=0,"",IF(MONTH(C51+1)=MONTH(C51),C51+1,"")),"") -> 44579 | G51: =IFERROR(IF(LEN(E51)=0,"",IF(MONTH(E51+1)=MONTH(E51),E51+1,"")),"") -> 44580 | I51: =IFERROR(IF(LEN(G51)=0,"",IF(MONTH(G51+1)=MONTH(G51),G51+1,"")),"") -> 44581 | K51: =IFERROR(IF(LEN(I51)=0,"",IF(MONTH(I51+1)=MONTH(I51),I51+1,"")),"") -> 44582 | M51: =IFERROR(IF(LEN(K51)=0,"",IF(MONTH(K51+1)=MONTH(K51),K51+1,"")),"") -> 44583 | O51: =IFERROR(IF(LEN(M51)=0,"",IF(MONTH(M51+1)=MONTH(M51),M51+1,"")),"") -> 44584
C53: {=IFERROR(INDEX(Calc!$X$11:$X$25,SMALL(IF((C$51>=Calc!$L$11:$L$25)*(C$51<=Calc!$S$11:$S$25)*(Calc!$ES$11:$ES$25),ROW(Calc!$X$11:$X$25)-ROW(INDEX(Calc!$X$11:$X$25,1,1))+1),Calc!$EU17)),"")} -> Laila Robinson | E53: {=IFERROR(INDEX(Calc!$X$11:$X$25,SMALL(IF((E$51>=Calc!$L$11:$L$25)*(E$51<=Calc!$S$11:$S$25)*(Calc!$ES$11:$ES$25),ROW(Calc!$X$11:$X$25)-ROW(INDEX(Calc!$X$11:$X$25,1,1))+1),Calc!$EU17)),"")} -> Laila Robinson | G53: {=IFERROR(INDEX(Calc!$X$11:$X$25,SMALL(IF((G$51>=Calc!$L$11:$L$25)*(G$51<=Calc!$S$11:$S$25)*(Calc!$ES$11:$ES$25),ROW(Calc!$X$11:$X$25)-ROW(INDEX(Calc!$X$11:$X$25,1,1))+1),Calc!$EU17)),"")} -> Laila Robinson | I53: {=IFERROR(INDEX(Calc!$X$11:$X$25,SMALL(IF((I$51>=Calc!$L$11:$L$25)*(I$51<=Calc!$S$11:$S$25)*(Calc!$ES$11:$ES$25),ROW(Calc!$X$11:$X$25)-ROW(INDEX(Calc!$X$11:$X$25,1,1))+1),Calc!$EU17)),"")} -> Laila Robinson | K53: {=IFERROR(INDEX(Calc!$X$11:$X$25,SMALL(IF((K$51>=Calc!$L$11:$L$25)*(K$51<=Calc!$S$11:$S$25)*(Calc!$ES$11:$ES$25),ROW(Calc!$X$11:$X$25)-ROW(INDEX(Calc!$X$11:$X$25,1,1))+1),Calc!$EU17)),"")} -> Laila Robinson | M53: {=IFERROR(INDEX(Calc!$X$11:$X$25,SMALL(IF((M$51>=Calc!$L$11:$L$25)*(M$51<=Calc!$S$11:$S$25)*(Calc!$ES$11:$ES$25),ROW(Calc!$X$11:$X$25)-ROW(INDEX(Calc!$X$11:$X$25,1,1))+1),Calc!$EU17)),"")} -> Laila Robinson | O53: {=IFERROR(INDEX(Calc!$X$11:$X$25,SMALL(IF((O$51>=Calc!$L$11:$L$25)*(O$51<=Calc!$S$11:$S$25)*(Calc!$ES$11:$ES$25),ROW(Calc!$X$11:$X$25)-ROW(INDEX(Calc!$X$11:$X$25,1,1))+1),Calc!$EU17)),"")} -> Laila Robinson
C54: {=IFERROR(INDEX(Calc!$X$11:$X$25,SMALL(IF((C$51>=Calc!$L$11:$L$25)*(C$51<=Calc!$S$11:$S$25)*(Calc!$ES$11:$ES$25),ROW(Calc!$X$11:$X$25)-ROW(INDEX(Calc!$X$11:$X$25,1,1))+1),Calc!$EU18)),"")} -> Kane Watts | E54: {=IFERROR(INDEX(Calc!$X$11:$X$25,SMALL(IF((E$51>=Calc!$L$11:$L$25)*(E$51<=Calc!$S$11:$S$25)*(Calc!$ES$11:$ES$25),ROW(Calc!$X$11:$X$25)-ROW(INDEX(Calc!$X$11:$X$25,1,1))+1),Calc!$EU18)),"")} -> Kane Watts | G54: {=IFERROR(INDEX(Calc!$X$11:$X$25,SMALL(IF((G$51>=Calc!$L$11:$L$25)*(G$51<=Calc!$S$11:$S$25)*(Calc!$ES$11:$ES$25),ROW(Calc!$X$11:$X$25)-ROW(INDEX(Calc!$X$11:$X$25,1,1))+1),Calc!$EU18)),"")} -> Kane Watts | I54: {=IFERROR(INDEX(Calc!$X$11:$X$25,SMALL(IF((I$51>=Calc!$L$11:$L$25)*(I$51<=Calc!$S$11:$S$25)*(Calc!$ES$11:$ES$25),ROW(Calc!$X$11:$X$25)-ROW(INDEX(Calc!$X$11:$X$25,1,1))+1),Calc!$EU18)),"")} -> Kane Watts | K54: {=IFERROR(INDEX(Calc!$X$11:$X$25,SMALL(IF((K$51>=Calc!$L$11:$L$25)*(K$51<=Calc!$S$11:$S$25)*(Calc!$ES$11:$ES$25),ROW(Calc!$X$11:$X$25)-ROW(INDEX(Calc!$X$11:$X$25,1,1))+1),Calc!$EU18)),"")} -> Kane Watts | M54: {=IFERROR(INDEX(Calc!$X$11:$X$25,SMALL(IF((M$51>=Calc!$L$11:$L$25)*(M$51<=Calc!$S$11:$S$25)*(Calc!$ES$11:$ES$25),ROW(Calc!$X$11:$X$25)-ROW(INDEX(Calc!$X$11:$X$25,1,1))+1),Calc!$EU18)),"")} -> Kane Watts | O54: {=IFERROR(INDEX(Calc!$X$11:$X$25,SMALL(IF((O$51>=Calc!$L$11:$L$25)*(O$51<=Calc!$S$11:$S$25)*(Calc!$ES$11:$ES$25),ROW(Calc!$X$11:$X$25)-ROW(INDEX(Calc!$X$11:$X$25,1,1))+1),Calc!$EU18)),"")} -> Kane Watts
C55: {=IFERROR(INDEX(Calc!$X$11:$X$25,SMALL(IF((C$51>=Calc!$L$11:$L$25)*(C$51<=Calc!$S$11:$S$25)*(Calc!$ES$11:$ES$25),ROW(Calc!$X$11:$X$25)-ROW(INDEX(Calc!$X$11:$X$25,1,1))+1),Calc!$EU19)),"")} | E55: {=IFERROR(INDEX(Calc!$X$11:$X$25,SMALL(IF((E$51>=Calc!$L$11:$L$25)*(E$51<=Calc!$S$11:$S$25)*(Calc!$ES$11:$ES$25),ROW(Calc!$X$11:$X$25)-ROW(INDEX(Calc!$X$11:$X$25,1,1))+1),Calc!$EU19)),"")} | G55: {=IFERROR(INDEX(Calc!$X$11:$X$25,SMALL(IF((G$51>=Calc!$L$11:$L$25)*(G$51<=Calc!$S$11:$S$25)*(Calc!$ES$11:$ES$25),ROW(Calc!$X$11:$X$25)-ROW(INDEX(Calc!$X$11:$X$25,1,1))+1),Calc!$EU19)),"")} | I55: {=IFERROR(INDEX(Calc!$X$11:$X$25,SMALL(IF((I$51>=Calc!$L$11:$L$25)*(I$51<=Calc!$S$11:$S$25)*(Calc!$ES$11:$ES$25),ROW(Calc!$X$11:$X$25)-ROW(INDEX(Calc!$X$11:$X$25,1,1))+1),Calc!$EU19)),"")} | K55: {=IFERROR(INDEX(Calc!$X$11:$X$25,SMALL(IF((K$51>=Calc!$L$11:$L$25)*(K$51<=Calc!$S$11:$S$25)*(Calc!$ES$11:$ES$25),ROW(Calc!$X$11:$X$25)-ROW(INDEX(Calc!$X$11:$X$25,1,1))+1),Calc!$EU19)),"")} | M55: {=IFERROR(INDEX(Calc!$X$11:$X$25,SMALL(IF((M$51>=Calc!$L$11:$L$25)*(M$51<=Calc!$S$11:$S$25)*(Calc!$ES$11:$ES$25),ROW(Calc!$X$11:$X$25)-ROW(INDEX(Calc!$X$11:$X$25,1,1))+1),Calc!$EU19)),"")} | O55: {=IFERROR(INDEX(Calc!$X$11:$X$25,SMALL(IF((O$51>=Calc!$L$11:$L$25)*(O$51<=Calc!$S$11:$S$25)*(Calc!$ES$11:$ES$25),ROW(Calc!$X$11:$X$25)-ROW(INDEX(Calc!$X$11:$X$25,1,1))+1),Calc!$EU19)),"")}
C56: {=IFERROR(INDEX(Calc!$X$11:$X$25,SMALL(IF((C$51>=Calc!$L$11:$L$25)*(C$51<=Calc!$S$11:$S$25)*(Calc!$ES$11:$ES$25),ROW(Calc!$X$11:$X$25)-ROW(INDEX(Calc!$X$11:$X$25,1,1))+1),Calc!$EU20)),"")} | E56: {=IFERROR(INDEX(Calc!$X$11:$X$25,SMALL(IF((E$51>=Calc!$L$11:$L$25)*(E$51<=Calc!$S$11:$S$25)*(Calc!$ES$11:$ES$25),ROW(Calc!$X$11:$X$25)-ROW(INDEX(Calc!$X$11:$X$25,1,1))+1),Calc!$EU20)),"")} | G56: {=IFERROR(INDEX(Calc!$X$11:$X$25,SMALL(IF((G$51>=Calc!$L$11:$L$25)*(G$51<=Calc!$S$11:$S$25)*(Calc!$ES$11:$ES$25),ROW(Calc!$X$11:$X$25)-ROW(INDEX(Calc!$X$11:$X$25,1,1))+1),Calc!$EU20)),"")} | I56: {=IFERROR(INDEX(Calc!$X$11:$X$25,SMALL(IF((I$51>=Calc!$L$11:$L$25)*(I$51<=Calc!$S$11:$S$25)*(Calc!$ES$11:$ES$25),ROW(Calc!$X$11:$X$25)-ROW(INDEX(Calc!$X$11:$X$25,1,1))+1),Calc!$EU20)),"")} | K56: {=IFERROR(INDEX(Calc!$X$11:$X$25,SMALL(IF((K$51>=Calc!$L$11:$L$25)*(K$51<=Calc!$S$11:$S$25)*(Calc!$ES$11:$ES$25),ROW(Calc!$X$11:$X$25)-ROW(INDEX(Calc!$X$11:$X$25,1,1))+1),Calc!$EU20)),"")} | M56: {=IFERROR(INDEX(Calc!$X$11:$X$25,SMALL(IF((M$51>=Calc!$L$11:$L$25)*(M$51<=Calc!$S$11:$S$25)*(Calc!$ES$11:$ES$25),ROW(Calc!$X$11:$X$25)-ROW(INDEX(Calc!$X$11:$X$25,1,1))+1),Calc!$EU20)),"")} | O56: {=IFERROR(INDEX(Calc!$X$11:$X$25,SMALL(IF((O$51>=Calc!$L$11:$L$25)*(O$51<=Calc!$S$11:$S$25)*(Calc!$ES$11:$ES$25),ROW(Calc!$X$11:$X$25)-ROW(INDEX(Calc!$X$11:$X$25,1,1))+1),Calc!$EU20)),"")}
C57: {=IFERROR(INDEX(Calc!$X$11:$X$25,SMALL(IF((C$51>=Calc!$L$11:$L$25)*(C$51<=Calc!$S$11:$S$25)*(Calc!$ES$11:$ES$25),ROW(Calc!$X$11:$X$25)-ROW(INDEX(Calc!$X$11:$X$25,1,1))+1),Calc!$EU21)),"")} | E57: {=IFERROR(INDEX(Calc!$X$11:$X$25,SMALL(IF((E$51>=Calc!$L$11:$L$25)*(E$51<=Calc!$S$11:$S$25)*(Calc!$ES$11:$ES$25),ROW(Calc!$X$11:$X$25)-ROW(INDEX(Calc!$X$11:$X$25,1,1))+1),Calc!$EU21)),"")} | G57: {=IFERROR(INDEX(Calc!$X$11:$X$25,SMALL(IF((G$51>=Calc!$L$11:$L$25)*(G$51<=Calc!$S$11:$S$25)*(Calc!$ES$11:$ES$25),ROW(Calc!$X$11:$X$25)-ROW(INDEX(Calc!$X$11:$X$25,1,1))+1),Calc!$EU21)),"")} | I57: {=IFERROR(INDEX(Calc!$X$11:$X$25,SMALL(IF((I$51>=Calc!$L$11:$L$25)*(I$51<=Calc!$S$11:$S$25)*(Calc!$ES$11:$ES$25),ROW(Calc!$X$11:$X$25)-ROW(INDEX(Calc!$X$11:$X$25,1,1))+1),Calc!$EU21)),"")} | K57: {=IFERROR(INDEX(Calc!$X$11:$X$25,SMALL(IF((K$51>=Calc!$L$11:$L$25)*(K$51<=Calc!$S$11:$S$25)*(Calc!$ES$11:$ES$25),ROW(Calc!$X$11:$X$25)-ROW(INDEX(Calc!$X$11:$X$25,1,1))+1),Calc!$EU21)),"")} | M57: {=IFERROR(INDEX(Calc!$X$11:$X$25,SMALL(IF((M$51>=Calc!$L$11:$L$25)*(M$51<=Calc!$S$11:$S$25)*(Calc!$ES$11:$ES$25),ROW(Calc!$X$11:$X$25)-ROW(INDEX(Calc!$X$11:$X$25,1,1))+1),Calc!$EU21)),"")} | O57: {=IFERROR(INDEX(Calc!$X$11:$X$25,SMALL(IF((O$51>=Calc!$L$11:$L$25)*(O$51<=Calc!$S$11:$S$25)*(Calc!$ES$11:$ES$25),ROW(Calc!$X$11:$X$25)-ROW(INDEX(Calc!$X$11:$X$25,1,1))+1),Calc!$EU21)),"")}
C58: {=IFERROR(INDEX(Calc!$X$11:$X$25,SMALL(IF((C$51>=Calc!$L$11:$L$25)*(C$51<=Calc!$S$11:$S$25)*(Calc!$ES$11:$ES$25),ROW(Calc!$X$11:$X$25)-ROW(INDEX(Calc!$X$11:$X$25,1,1))+1),Calc!$EU22)),"")} | E58: {=IFERROR(INDEX(Calc!$X$11:$X$25,SMALL(IF((E$51>=Calc!$L$11:$L$25)*(E$51<=Calc!$S$11:$S$25)*(Calc!$ES$11:$ES$25),ROW(Calc!$X$11:$X$25)-ROW(INDEX(Calc!$X$11:$X$25,1,1))+1),Calc!$EU22)),"")} | G58: {=IFERROR(INDEX(Calc!$X$11:$X$25,SMALL(IF((G$51>=Calc!$L$11:$L$25)*(G$51<=Calc!$S$11:$S$25)*(Calc!$ES$11:$ES$25),ROW(Calc!$X$11:$X$25)-ROW(INDEX(Calc!$X$11:$X$25,1,1))+1),Calc!$EU22)),"")} | I58: {=IFERROR(INDEX(Calc!$X$11:$X$25,SMALL(IF((I$51>=Calc!$L$11:$L$25)*(I$51<=Calc!$S$11:$S$25)*(Calc!$ES$11:$ES$25),ROW(Calc!$X$11:$X$25)-ROW(INDEX(Calc!$X$11:$X$25,1,1))+1),Calc!$EU22)),"")} | K58: {=IFERROR(INDEX(Calc!$X$11:$X$25,SMALL(IF((K$51>=Calc!$L$11:$L$25)*(K$51<=Calc!$S$11:$S$25)*(Calc!$ES$11:$ES$25),ROW(Calc!$X$11:$X$25)-ROW(INDEX(Calc!$X$11:$X$25,1,1))+1),Calc!$EU22)),"")} | M58: {=IFERROR(INDEX(Calc!$X$11:$X$25,SMALL(IF((M$51>=Calc!$L$11:$L$25)*(M$51<=Calc!$S$11:$S$25)*(Calc!$ES$11:$ES$25),ROW(Calc!$X$11:$X$25)-ROW(INDEX(Calc!$X$11:$X$25,1,1))+1),Calc!$EU22)),"")} | O58: {=IFERROR(INDEX(Calc!$X$11:$X$25,SMALL(IF((O$51>=Calc!$L$11:$L$25)*(O$51<=Calc!$S$11:$S$25)*(Calc!$ES$11:$ES$25),ROW(Calc!$X$11:$X$25)-ROW(INDEX(Calc!$X$11:$X$25,1,1))+1),Calc!$EU22)),"")}
C59: {=IFERROR(INDEX(Calc!$X$11:$X$25,SMALL(IF((C$51>=Calc!$L$11:$L$25)*(C$51<=Calc!$S$11:$S$25)*(Calc!$ES$11:$ES$25),ROW(Calc!$X$11:$X$25)-ROW(INDEX(Calc!$X$11:$X$25,1,1))+1),Calc!$EU23)),"")} | E59: {=IFERROR(INDEX(Calc!$X$11:$X$25,SMALL(IF((E$51>=Calc!$L$11:$L$25)*(E$51<=Calc!$S$11:$S$25)*(Calc!$ES$11:$ES$25),ROW(Calc!$X$11:$X$25)-ROW(INDEX(Calc!$X$11:$X$25,1,1))+1),Calc!$EU23)),"")} | G59: {=IFERROR(INDEX(Calc!$X$11:$X$25,SMALL(IF((G$51>=Calc!$L$11:$L$25)*(G$51<=Calc!$S$11:$S$25)*(Calc!$ES$11:$ES$25),ROW(Calc!$X$11:$X$25)-ROW(INDEX(Calc!$X$11:$X$25,1,1))+1),Calc!$EU23)),"")} | I59: {=IFERROR(INDEX(Calc!$X$11:$X$25,SMALL(IF((I$51>=Calc!$L$11:$L$25)*(I$51<=Calc!$S$11:$S$25)*(Calc!$ES$11:$ES$25),ROW(Calc!$X$11:$X$25)-ROW(INDEX(Calc!$X$11:$X$25,1,1))+1),Calc!$EU23)),"")} | K59: {=IFERROR(INDEX(Calc!$X$11:$X$25,SMALL(IF((K$51>=Calc!$L$11:$L$25)*(K$51<=Calc!$S$11:$S$25)*(Calc!$ES$11:$ES$25),ROW(Calc!$X$11:$X$25)-ROW(INDEX(Calc!$X$11:$X$25,1,1))+1),Calc!$EU23)),"")} | M59: {=IFERROR(INDEX(Calc!$X$11:$X$25,SMALL(IF((M$51>=Calc!$L$11:$L$25)*(M$51<=Calc!$S$11:$S$25)*(Calc!$ES$11:$ES$25),ROW(Calc!$X$11:$X$25)-ROW(INDEX(Calc!$X$11:$X$25,1,1))+1),Calc!$EU23)),"")} | O59: {=IFERROR(INDEX(Calc!$X$11:$X$25,SMALL(IF((O$51>=Calc!$L$11:$L$25)*(O$51<=Calc!$S$11:$S$25)*(Calc!$ES$11:$ES$25),ROW(Calc!$X$11:$X$25)-ROW(INDEX(Calc!$X$11:$X$25,1,1))+1),Calc!$EU23)),"")}
C60: {=IFERROR(INDEX(Calc!$X$11:$X$25,SMALL(IF((C$51>=Calc!$L$11:$L$25)*(C$51<=Calc!$S$11:$S$25)*(Calc!$ES$11:$ES$25),ROW(Calc!$X$11:$X$25)-ROW(INDEX(Calc!$X$11:$X$25,1,1))+1),Calc!$EU24)),"")} | E60: {=IFERROR(INDEX(Calc!$X$11:$X$25,SMALL(IF((E$51>=Calc!$L$11:$L$25)*(E$51<=Calc!$S$11:$S$25)*(Calc!$ES$11:$ES$25),ROW(Calc!$X$11:$X$25)-ROW(INDEX(Calc!$X$11:$X$25,1,1))+1),Calc!$EU24)),"")} | G60: {=IFERROR(INDEX(Calc!$X$11:$X$25,SMALL(IF((G$51>=Calc!$L$11:$L$25)*(G$51<=Calc!$S$11:$S$25)*(Calc!$ES$11:$ES$25),ROW(Calc!$X$11:$X$25)-ROW(INDEX(Calc!$X$11:$X$25,1,1))+1),Calc!$EU24)),"")} | I60: {=IFERROR(INDEX(Calc!$X$11:$X$25,SMALL(IF((I$51>=Calc!$L$11:$L$25)*(I$51<=Calc!$S$11:$S$25)*(Calc!$ES$11:$ES$25),ROW(Calc!$X$11:$X$25)-ROW(INDEX(Calc!$X$11:$X$25,1,1))+1),Calc!$EU24)),"")} | K60: {=IFERROR(INDEX(Calc!$X$11:$X$25,SMALL(IF((K$51>=Calc!$L$11:$L$25)*(K$51<=Calc!$S$11:$S$25)*(Calc!$ES$11:$ES$25),ROW(Calc!$X$11:$X$25)-ROW(INDEX(Calc!$X$11:$X$25,1,1))+1),Calc!$EU24)),"")} | M60: {=IFERROR(INDEX(Calc!$X$11:$X$25,SMALL(IF((M$51>=Calc!$L$11:$L$25)*(M$51<=Calc!$S$11:$S$25)*(Calc!$ES$11:$ES$25),ROW(Calc!$X$11:$X$25)-ROW(INDEX(Calc!$X$11:$X$25,1,1))+1),Calc!$EU24)),"")} | O60: {=IFERROR(INDEX(Calc!$X$11:$X$25,SMALL(IF((O$51>=Calc!$L$11:$L$25)*(O$51<=Calc!$S$11:$S$25)*(Calc!$ES$11:$ES$25),ROW(Calc!$X$11:$X$25)-ROW(INDEX(Calc!$X$11:$X$25,1,1))+1),Calc!$EU24)),"")}
C61: {=IFERROR(INDEX(Calc!$X$11:$X$25,SMALL(IF((C$51>=Calc!$L$11:$L$25)*(C$51<=Calc!$S$11:$S$25)*(Calc!$ES$11:$ES$25),ROW(Calc!$X$11:$X$25)-ROW(INDEX(Calc!$X$11:$X$25,1,1))+1),Calc!$EU25)),"")} | E61: {=IFERROR(INDEX(Calc!$X$11:$X$25,SMALL(IF((E$51>=Calc!$L$11:$L$25)*(E$51<=Calc!$S$11:$S$25)*(Calc!$ES$11:$ES$25),ROW(Calc!$X$11:$X$25)-ROW(INDEX(Calc!$X$11:$X$25,1,1))+1),Calc!$EU25)),"")} | G61: {=IFERROR(INDEX(Calc!$X$11:$X$25,SMALL(IF((G$51>=Calc!$L$11:$L$25)*(G$51<=Calc!$S$11:$S$25)*(Calc!$ES$11:$ES$25),ROW(Calc!$X$11:$X$25)-ROW(INDEX(Calc!$X$11:$X$25,1,1))+1),Calc!$EU25)),"")} | I61: {=IFERROR(INDEX(Calc!$X$11:$X$25,SMALL(IF((I$51>=Calc!$L$11:$L$25)*(I$51<=Calc!$S$11:$S$25)*(Calc!$ES$11:$ES$25),ROW(Calc!$X$11:$X$25)-ROW(INDEX(Calc!$X$11:$X$25,1,1))+1),Calc!$EU25)),"")} | K61: {=IFERROR(INDEX(Calc!$X$11:$X$25,SMALL(IF((K$51>=Calc!$L$11:$L$25)*(K$51<=Calc!$S$11:$S$25)*(Calc!$ES$11:$ES$25),ROW(Calc!$X$11:$X$25)-ROW(INDEX(Calc!$X$11:$X$25,1,1))+1),Calc!$EU25)),"")} | M61: {=IFERROR(INDEX(Calc!$X$11:$X$25,SMALL(IF((M$51>=Calc!$L$11:$L$25)*(M$51<=Calc!$S$11:$S$25)*(Calc!$ES$11:$ES$25),ROW(Calc!$X$11:$X$25)-ROW(INDEX(Calc!$X$11:$X$25,1,1))+1),Calc!$EU25)),"")} | O61: {=IFERROR(INDEX(Calc!$X$11:$X$25,SMALL(IF((O$51>=Calc!$L$11:$L$25)*(O$51<=Calc!$S$11:$S$25)*(Calc!$ES$11:$ES$25),ROW(Calc!$X$11:$X$25)-ROW(INDEX(Calc!$X$11:$X$25,1,1))+1),Calc!$EU25)),"")}
C62: {=IFERROR(INDEX(Calc!$X$11:$X$25,SMALL(IF((C$51>=Calc!$L$11:$L$25)*(C$51<=Calc!$S$11:$S$25)*(Calc!$ES$11:$ES$25),ROW(Calc!$X$11:$X$25)-ROW(INDEX(Calc!$X$11:$X$25,1,1))+1),Calc!$EU26)),"")} | E62: {=IFERROR(INDEX(Calc!$X$11:$X$25,SMALL(IF((E$51>=Calc!$L$11:$L$25)*(E$51<=Calc!$S$11:$S$25)*(Calc!$ES$11:$ES$25),ROW(Calc!$X$11:$X$25)-ROW(INDEX(Calc!$X$11:$X$25,1,1))+1),Calc!$EU26)),"")} | G62: {=IFERROR(INDEX(Calc!$X$11:$X$25,SMALL(IF((G$51>=Calc!$L$11:$L$25)*(G$51<=Calc!$S$11:$S$25)*(Calc!$ES$11:$ES$25),ROW(Calc!$X$11:$X$25)-ROW(INDEX(Calc!$X$11:$X$25,1,1))+1),Calc!$EU26)),"")} | I62: {=IFERROR(INDEX(Calc!$X$11:$X$25,SMALL(IF((I$51>=Calc!$L$11:$L$25)*(I$51<=Calc!$S$11:$S$25)*(Calc!$ES$11:$ES$25),ROW(Calc!$X$11:$X$25)-ROW(INDEX(Calc!$X$11:$X$25,1,1))+1),Calc!$EU26)),"")} | K62: {=IFERROR(INDEX(Calc!$X$11:$X$25,SMALL(IF((K$51>=Calc!$L$11:$L$25)*(K$51<=Calc!$S$11:$S$25)*(Calc!$ES$11:$ES$25),ROW(Calc!$X$11:$X$25)-ROW(INDEX(Calc!$X$11:$X$25,1,1))+1),Calc!$EU26)),"")} | M62: {=IFERROR(INDEX(Calc!$X$11:$X$25,SMALL(IF((M$51>=Calc!$L$11:$L$25)*(M$51<=Calc!$S$11:$S$25)*(Calc!$ES$11:$ES$25),ROW(Calc!$X$11:$X$25)-ROW(INDEX(Calc!$X$11:$X$25,1,1))+1),Calc!$EU26)),"")} | O62: {=IFERROR(INDEX(Calc!$X$11:$X$25,SMALL(IF((O$51>=Calc!$L$11:$L$25)*(O$51<=Calc!$S$11:$S$25)*(Calc!$ES$11:$ES$25),ROW(Calc!$X$11:$X$25)-ROW(INDEX(Calc!$X$11:$X$25,1,1))+1),Calc!$EU26)),"")}
C64: =IFERROR(IF(LEN(O51)=0,"",IF(MONTH(O51+1)=MONTH(O51),O51+1,"")),"") -> 44585 | E64: =IFERROR(IF(LEN(C64)=0,"",IF(MONTH(C64+1)=MONTH(C64),C64+1,"")),"") -> 44586 | G64: =IFERROR(IF(LEN(E64)=0,"",IF(MONTH(E64+1)=MONTH(E64),E64+1,"")),"") -> 44587 | I64: =IFERROR(IF(LEN(G64)=0,"",IF(MONTH(G64+1)=MONTH(G64),G64+1,"")),"") -> 44588 | K64: =IFERROR(IF(LEN(I64)=0,"",IF(MONTH(I64+1)=MONTH(I64),I64+1,"")),"") -> 44589 | M64: =IFERROR(IF(LEN(K64)=0,"",IF(MONTH(K64+1)=MONTH(K64),K64+1,"")),"") -> 44590 | O64: =IFERROR(IF(LEN(M64)=0,"",IF(MONTH(M64+1)=MONTH(M64),M64+1,"")),"") -> 44591
C66: {=IFERROR(INDEX(Calc!$X$11:$X$25,SMALL(IF((C$64>=Calc!$L$11:$L$25)*(C$64<=Calc!$S$11:$S$25)*(Calc!$ES$11:$ES$25),ROW(Calc!$X$11:$X$25)-ROW(INDEX(Calc!$X$11:$X$25,1,1))+1),Calc!$EU17)),"")} -> Laila Robinson | E66: {=IFERROR(INDEX(Calc!$X$11:$X$25,SMALL(IF((E$64>=Calc!$L$11:$L$25)*(E$64<=Calc!$S$11:$S$25)*(Calc!$ES$11:$ES$25),ROW(Calc!$X$11:$X$25)-ROW(INDEX(Calc!$X$11:$X$25,1,1))+1),Calc!$EU17)),"")} -> Kane Watts | G66: {=IFERROR(INDEX(Calc!$X$11:$X$25,SMALL(IF((G$64>=Calc!$L$11:$L$25)*(G$64<=Calc!$S$11:$S$25)*(Calc!$ES$11:$ES$25),ROW(Calc!$X$11:$X$25)-ROW(INDEX(Calc!$X$11:$X$25,1,1))+1),Calc!$EU17)),"")} | I66: {=IFERROR(INDEX(Calc!$X$11:$X$25,SMALL(IF((I$64>=Calc!$L$11:$L$25)*(I$64<=Calc!$S$11:$S$25)*(Calc!$ES$11:$ES$25),ROW(Calc!$X$11:$X$25)-ROW(INDEX(Calc!$X$11:$X$25,1,1))+1),Calc!$EU17)),"")} | K66: {=IFERROR(INDEX(Calc!$X$11:$X$25,SMALL(IF((K$64>=Calc!$L$11:$L$25)*(K$64<=Calc!$S$11:$S$25)*(Calc!$ES$11:$ES$25),ROW(Calc!$X$11:$X$25)-ROW(INDEX(Calc!$X$11:$X$25,1,1))+1),Calc!$EU17)),"")} | M66: {=IFERROR(INDEX(Calc!$X$11:$X$25,SMALL(IF((M$64>=Calc!$L$11:$L$25)*(M$64<=Calc!$S$11:$S$25)*(Calc!$ES$11:$ES$25),ROW(Calc!$X$11:$X$25)-ROW(INDEX(Calc!$X$11:$X$25,1,1))+1),Calc!$EU17)),"")} | O66: {=IFERROR(INDEX(Calc!$X$11:$X$25,SMALL(IF((O$64>=Calc!$L$11:$L$25)*(O$64<=Calc!$S$11:$S$25)*(Calc!$ES$11:$ES$25),ROW(Calc!$X$11:$X$25)-ROW(INDEX(Calc!$X$11:$X$25,1,1))+1),Calc!$EU17)),"")}
C67: {=IFERROR(INDEX(Calc!$X$11:$X$25,SMALL(IF((C$64>=Calc!$L$11:$L$25)*(C$64<=Calc!$S$11:$S$25)*(Calc!$ES$11:$ES$25),ROW(Calc!$X$11:$X$25)-ROW(INDEX(Calc!$X$11:$X$25,1,1))+1),Calc!$EU18)),"")} -> Kane Watts | E67: {=IFERROR(INDEX(Calc!$X$11:$X$25,SMALL(IF((E$64>=Calc!$L$11:$L$25)*(E$64<=Calc!$S$11:$S$25)*(Calc!$ES$11:$ES$25),ROW(Calc!$X$11:$X$25)-ROW(INDEX(Calc!$X$11:$X$25,1,1))+1),Calc!$EU18)),"")} | G67: {=IFERROR(INDEX(Calc!$X$11:$X$25,SMALL(IF((G$64>=Calc!$L$11:$L$25)*(G$64<=Calc!$S$11:$S$25)*(Calc!$ES$11:$ES$25),ROW(Calc!$X$11:$X$25)-ROW(INDEX(Calc!$X$11:$X$25,1,1))+1),Calc!$EU18)),"")} | I67: {=IFERROR(INDEX(Calc!$X$11:$X$25,SMALL(IF((I$64>=Calc!$L$11:$L$25)*(I$64<=Calc!$S$11:$S$25)*(Calc!$ES$11:$ES$25),ROW(Calc!$X$11:$X$25)-ROW(INDEX(Calc!$X$11:$X$25,1,1))+1),Calc!$EU18)),"")} | K67: {=IFERROR(INDEX(Calc!$X$11:$X$25,SMALL(IF((K$64>=Calc!$L$11:$L$25)*(K$64<=Calc!$S$11:$S$25)*(Calc!$ES$11:$ES$25),ROW(Calc!$X$11:$X$25)-ROW(INDEX(Calc!$X$11:$X$25,1,1))+1),Calc!$EU18)),"")} | M67: {=IFERROR(INDEX(Calc!$X$11:$X$25,SMALL(IF((M$64>=Calc!$L$11:$L$25)*(M$64<=Calc!$S$11:$S$25)*(Calc!$ES$11:$ES$25),ROW(Calc!$X$11:$X$25)-ROW(INDEX(Calc!$X$11:$X$25,1,1))+1),Calc!$EU18)),"")} | O67: {=IFERROR(INDEX(Calc!$X$11:$X$25,SMALL(IF((O$64>=Calc!$L$11:$L$25)*(O$64<=Calc!$S$11:$S$25)*(Calc!$ES$11:$ES$25),ROW(Calc!$X$11:$X$25)-ROW(INDEX(Calc!$X$11:$X$25,1,1))+1),Calc!$EU18)),"")}
C68: {=IFERROR(INDEX(Calc!$X$11:$X$25,SMALL(IF((C$64>=Calc!$L$11:$L$25)*(C$64<=Calc!$S$11:$S$25)*(Calc!$ES$11:$ES$25),ROW(Calc!$X$11:$X$25)-ROW(INDEX(Calc!$X$11:$X$25,1,1))+1),Calc!$EU19)),"")} | E68: {=IFERROR(INDEX(Calc!$X$11:$X$25,SMALL(IF((E$64>=Calc!$L$11:$L$25)*(E$64<=Calc!$S$11:$S$25)*(Calc!$ES$11:$ES$25),ROW(Calc!$X$11:$X$25)-ROW(INDEX(Calc!$X$11:$X$25,1,1))+1),Calc!$EU19)),"")} | G68: {=IFERROR(INDEX(Calc!$X$11:$X$25,SMALL(IF((G$64>=Calc!$L$11:$L$25)*(G$64<=Calc!$S$11:$S$25)*(Calc!$ES$11:$ES$25),ROW(Calc!$X$11:$X$25)-ROW(INDEX(Calc!$X$11:$X$25,1,1))+1),Calc!$EU19)),"")} | I68: {=IFERROR(INDEX(Calc!$X$11:$X$25,SMALL(IF((I$64>=Calc!$L$11:$L$25)*(I$64<=Calc!$S$11:$S$25)*(Calc!$ES$11:$ES$25),ROW(Calc!$X$11:$X$25)-ROW(INDEX(Calc!$X$11:$X$25,1,1))+1),Calc!$EU19)),"")} | K68: {=IFERROR(INDEX(Calc!$X$11:$X$25,SMALL(IF((K$64>=Calc!$L$11:$L$25)*(K$64<=Calc!$S$11:$S$25)*(Calc!$ES$11:$ES$25),ROW(Calc!$X$11:$X$25)-ROW(INDEX(Calc!$X$11:$X$25,1,1))+1),Calc!$EU19)),"")} | M68: {=IFERROR(INDEX(Calc!$X$11:$X$25,SMALL(IF((M$64>=Calc!$L$11:$L$25)*(M$64<=Calc!$S$11:$S$25)*(Calc!$ES$11:$ES$25),ROW(Calc!$X$11:$X$25)-ROW(INDEX(Calc!$X$11:$X$25,1,1))+1),Calc!$EU19)),"")} | O68: {=IFERROR(INDEX(Calc!$X$11:$X$25,SMALL(IF((O$64>=Calc!$L$11:$L$25)*(O$64<=Calc!$S$11:$S$25)*(Calc!$ES$11:$ES$25),ROW(Calc!$X$11:$X$25)-ROW(INDEX(Calc!$X$11:$X$25,1,1))+1),Calc!$EU19)),"")}
C69: {=IFERROR(INDEX(Calc!$X$11:$X$25,SMALL(IF((C$64>=Calc!$L$11:$L$25)*(C$64<=Calc!$S$11:$S$25)*(Calc!$ES$11:$ES$25),ROW(Calc!$X$11:$X$25)-ROW(INDEX(Calc!$X$11:$X$25,1,1))+1),Calc!$EU20)),"")} | E69: {=IFERROR(INDEX(Calc!$X$11:$X$25,SMALL(IF((E$64>=Calc!$L$11:$L$25)*(E$64<=Calc!$S$11:$S$25)*(Calc!$ES$11:$ES$25),ROW(Calc!$X$11:$X$25)-ROW(INDEX(Calc!$X$11:$X$25,1,1))+1),Calc!$EU20)),"")} | G69: {=IFERROR(INDEX(Calc!$X$11:$X$25,SMALL(IF((G$64>=Calc!$L$11:$L$25)*(G$64<=Calc!$S$11:$S$25)*(Calc!$ES$11:$ES$25),ROW(Calc!$X$11:$X$25)-ROW(INDEX(Calc!$X$11:$X$25,1,1))+1),Calc!$EU20)),"")} | I69: {=IFERROR(INDEX(Calc!$X$11:$X$25,SMALL(IF((I$64>=Calc!$L$11:$L$25)*(I$64<=Calc!$S$11:$S$25)*(Calc!$ES$11:$ES$25),ROW(Calc!$X$11:$X$25)-ROW(INDEX(Calc!$X$11:$X$25,1,1))+1),Calc!$EU20)),"")} | K69: {=IFERROR(INDEX(Calc!$X$11:$X$25,SMALL(IF((K$64>=Calc!$L$11:$L$25)*(K$64<=Calc!$S$11:$S$25)*(Calc!$ES$11:$ES$25),ROW(Calc!$X$11:$X$25)-ROW(INDEX(Calc!$X$11:$X$25,1,1))+1),Calc!$EU20)),"")} | M69: {=IFERROR(INDEX(Calc!$X$11:$X$25,SMALL(IF((M$64>=Calc!$L$11:$L$25)*(M$64<=Calc!$S$11:$S$25)*(Calc!$ES$11:$ES$25),ROW(Calc!$X$11:$X$25)-ROW(INDEX(Calc!$X$11:$X$25,1,1))+1),Calc!$EU20)),"")} | O69: {=IFERROR(INDEX(Calc!$X$11:$X$25,SMALL(IF((O$64>=Calc!$L$11:$L$25)*(O$64<=Calc!$S$11:$S$25)*(Calc!$ES$11:$ES$25),ROW(Calc!$X$11:$X$25)-ROW(INDEX(Calc!$X$11:$X$25,1,1))+1),Calc!$EU20)),"")}
C70: {=IFERROR(INDEX(Calc!$X$11:$X$25,SMALL(IF((C$64>=Calc!$L$11:$L$25)*(C$64<=Calc!$S$11:$S$25)*(Calc!$ES$11:$ES$25),ROW(Calc!$X$11:$X$25)-ROW(INDEX(Calc!$X$11:$X$25,1,1))+1),Calc!$EU21)),"")} | E70: {=IFERROR(INDEX(Calc!$X$11:$X$25,SMALL(IF((E$64>=Calc!$L$11:$L$25)*(E$64<=Calc!$S$11:$S$25)*(Calc!$ES$11:$ES$25),ROW(Calc!$X$11:$X$25)-ROW(INDEX(Calc!$X$11:$X$25,1,1))+1),Calc!$EU21)),"")} | G70: {=IFERROR(INDEX(Calc!$X$11:$X$25,SMALL(IF((G$64>=Calc!$L$11:$L$25)*(G$64<=Calc!$S$11:$S$25)*(Calc!$ES$11:$ES$25),ROW(Calc!$X$11:$X$25)-ROW(INDEX(Calc!$X$11:$X$25,1,1))+1),Calc!$EU21)),"")} | I70: {=IFERROR(INDEX(Calc!$X$11:$X$25,SMALL(IF((I$64>=Calc!$L$11:$L$25)*(I$64<=Calc!$S$11:$S$25)*(Calc!$ES$11:$ES$25),ROW(Calc!$X$11:$X$25)-ROW(INDEX(Calc!$X$11:$X$25,1,1))+1),Calc!$EU21)),"")} | K70: {=IFERROR(INDEX(Calc!$X$11:$X$25,SMALL(IF((K$64>=Calc!$L$11:$L$25)*(K$64<=Calc!$S$11:$S$25)*(Calc!$ES$11:$ES$25),ROW(Calc!$X$11:$X$25)-ROW(INDEX(Calc!$X$11:$X$25,1,1))+1),Calc!$EU21)),"")} | M70: {=IFERROR(INDEX(Calc!$X$11:$X$25,SMALL(IF((M$64>=Calc!$L$11:$L$25)*(M$64<=Calc!$S$11:$S$25)*(Calc!$ES$11:$ES$25),ROW(Calc!$X$11:$X$25)-ROW(INDEX(Calc!$X$11:$X$25,1,1))+1),Calc!$EU21)),"")} | O70: {=IFERROR(INDEX(Calc!$X$11:$X$25,SMALL(IF((O$64>=Calc!$L$11:$L$25)*(O$64<=Calc!$S$11:$S$25)*(Calc!$ES$11:$ES$25),ROW(Calc!$X$11:$X$25)-ROW(INDEX(Calc!$X$11:$X$25,1,1))+1),Calc!$EU21)),"")}
C71: {=IFERROR(INDEX(Calc!$X$11:$X$25,SMALL(IF((C$64>=Calc!$L$11:$L$25)*(C$64<=Calc!$S$11:$S$25)*(Calc!$ES$11:$ES$25),ROW(Calc!$X$11:$X$25)-ROW(INDEX(Calc!$X$11:$X$25,1,1))+1),Calc!$EU22)),"")} | E71: {=IFERROR(INDEX(Calc!$X$11:$X$25,SMALL(IF((E$64>=Calc!$L$11:$L$25)*(E$64<=Calc!$S$11:$S$25)*(Calc!$ES$11:$ES$25),ROW(Calc!$X$11:$X$25)-ROW(INDEX(Calc!$X$11:$X$25,1,1))+1),Calc!$EU22)),"")} | G71: {=IFERROR(INDEX(Calc!$X$11:$X$25,SMALL(IF((G$64>=Calc!$L$11:$L$25)*(G$64<=Calc!$S$11:$S$25)*(Calc!$ES$11:$ES$25),ROW(Calc!$X$11:$X$25)-ROW(INDEX(Calc!$X$11:$X$25,1,1))+1),Calc!$EU22)),"")} | I71: {=IFERROR(INDEX(Calc!$X$11:$X$25,SMALL(IF((I$64>=Calc!$L$11:$L$25)*(I$64<=Calc!$S$11:$S$25)*(Calc!$ES$11:$ES$25),ROW(Calc!$X$11:$X$25)-ROW(INDEX(Calc!$X$11:$X$25,1,1))+1),Calc!$EU22)),"")} | K71: {=IFERROR(INDEX(Calc!$X$11:$X$25,SMALL(IF((K$64>=Calc!$L$11:$L$25)*(K$64<=Calc!$S$11:$S$25)*(Calc!$ES$11:$ES$25),ROW(Calc!$X$11:$X$25)-ROW(INDEX(Calc!$X$11:$X$25,1,1))+1),Calc!$EU22)),"")} | M71: {=IFERROR(INDEX(Calc!$X$11:$X$25,SMALL(IF((M$64>=Calc!$L$11:$L$25)*(M$64<=Calc!$S$11:$S$25)*(Calc!$ES$11:$ES$25),ROW(Calc!$X$11:$X$25)-ROW(INDEX(Calc!$X$11:$X$25,1,1))+1),Calc!$EU22)),"")} | O71: {=IFERROR(INDEX(Calc!$X$11:$X$25,SMALL(IF((O$64>=Calc!$L$11:$L$25)*(O$64<=Calc!$S$11:$S$25)*(Calc!$ES$11:$ES$25),ROW(Calc!$X$11:$X$25)-ROW(INDEX(Calc!$X$11:$X$25,1,1))+1),Calc!$EU22)),"")}
C72: {=IFERROR(INDEX(Calc!$X$11:$X$25,SMALL(IF((C$64>=Calc!$L$11:$L$25)*(C$64<=Calc!$S$11:$S$25)*(Calc!$ES$11:$ES$25),ROW(Calc!$X$11:$X$25)-ROW(INDEX(Calc!$X$11:$X$25,1,1))+1),Calc!$EU23)),"")} | E72: {=IFERROR(INDEX(Calc!$X$11:$X$25,SMALL(IF((E$64>=Calc!$L$11:$L$25)*(E$64<=Calc!$S$11:$S$25)*(Calc!$ES$11:$ES$25),ROW(Calc!$X$11:$X$25)-ROW(INDEX(Calc!$X$11:$X$25,1,1))+1),Calc!$EU23)),"")} | G72: {=IFERROR(INDEX(Calc!$X$11:$X$25,SMALL(IF((G$64>=Calc!$L$11:$L$25)*(G$64<=Calc!$S$11:$S$25)*(Calc!$ES$11:$ES$25),ROW(Calc!$X$11:$X$25)-ROW(INDEX(Calc!$X$11:$X$25,1,1))+1),Calc!$EU23)),"")} | I72: {=IFERROR(INDEX(Calc!$X$11:$X$25,SMALL(IF((I$64>=Calc!$L$11:$L$25)*(I$64<=Calc!$S$11:$S$25)*(Calc!$ES$11:$ES$25),ROW(Calc!$X$11:$X$25)-ROW(INDEX(Calc!$X$11:$X$25,1,1))+1),Calc!$EU23)),"")} | K72: {=IFERROR(INDEX(Calc!$X$11:$X$25,SMALL(IF((K$64>=Calc!$L$11:$L$25)*(K$64<=Calc!$S$11:$S$25)*(Calc!$ES$11:$ES$25),ROW(Calc!$X$11:$X$25)-ROW(INDEX(Calc!$X$11:$X$25,1,1))+1),Calc!$EU23)),"")} | M72: {=IFERROR(INDEX(Calc!$X$11:$X$25,SMALL(IF((M$64>=Calc!$L$11:$L$25)*(M$64<=Calc!$S$11:$S$25)*(Calc!$ES$11:$ES$25),ROW(Calc!$X$11:$X$25)-ROW(INDEX(Calc!$X$11:$X$25,1,1))+1),Calc!$EU23)),"")} | O72: {=IFERROR(INDEX(Calc!$X$11:$X$25,SMALL(IF((O$64>=Calc!$L$11:$L$25)*(O$64<=Calc!$S$11:$S$25)*(Calc!$ES$11:$ES$25),ROW(Calc!$X$11:$X$25)-ROW(INDEX(Calc!$X$11:$X$25,1,1))+1),Calc!$EU23)),"")}
C73: {=IFERROR(INDEX(Calc!$X$11:$X$25,SMALL(IF((C$64>=Calc!$L$11:$L$25)*(C$64<=Calc!$S$11:$S$25)*(Calc!$ES$11:$ES$25),ROW(Calc!$X$11:$X$25)-ROW(INDEX(Calc!$X$11:$X$25,1,1))+1),Calc!$EU24)),"")} | E73: {=IFERROR(INDEX(Calc!$X$11:$X$25,SMALL(IF((E$64>=Calc!$L$11:$L$25)*(E$64<=Calc!$S$11:$S$25)*(Calc!$ES$11:$ES$25),ROW(Calc!$X$11:$X$25)-ROW(INDEX(Calc!$X$11:$X$25,1,1))+1),Calc!$EU24)),"")} | G73: {=IFERROR(INDEX(Calc!$X$11:$X$25,SMALL(IF((G$64>=Calc!$L$11:$L$25)*(G$64<=Calc!$S$11:$S$25)*(Calc!$ES$11:$ES$25),ROW(Calc!$X$11:$X$25)-ROW(INDEX(Calc!$X$11:$X$25,1,1))+1),Calc!$EU24)),"")} | I73: {=IFERROR(INDEX(Calc!$X$11:$X$25,SMALL(IF((I$64>=Calc!$L$11:$L$25)*(I$64<=Calc!$S$11:$S$25)*(Calc!$ES$11:$ES$25),ROW(Calc!$X$11:$X$25)-ROW(INDEX(Calc!$X$11:$X$25,1,1))+1),Calc!$EU24)),"")} | K73: {=IFERROR(INDEX(Calc!$X$11:$X$25,SMALL(IF((K$64>=Calc!$L$11:$L$25)*(K$64<=Calc!$S$11:$S$25)*(Calc!$ES$11:$ES$25),ROW(Calc!$X$11:$X$25)-ROW(INDEX(Calc!$X$11:$X$25,1,1))+1),Calc!$EU24)),"")} | M73: {=IFERROR(INDEX(Calc!$X$11:$X$25,SMALL(IF((M$64>=Calc!$L$11:$L$25)*(M$64<=Calc!$S$11:$S$25)*(Calc!$ES$11:$ES$25),ROW(Calc!$X$11:$X$25)-ROW(INDEX(Calc!$X$11:$X$25,1,1))+1),Calc!$EU24)),"")} | O73: {=IFERROR(INDEX(Calc!$X$11:$X$25,SMALL(IF((O$64>=Calc!$L$11:$L$25)*(O$64<=Calc!$S$11:$S$25)*(Calc!$ES$11:$ES$25),ROW(Calc!$X$11:$X$25)-ROW(INDEX(Calc!$X$11:$X$25,1,1))+1),Calc!$EU24)),"")}
C74: {=IFERROR(INDEX(Calc!$X$11:$X$25,SMALL(IF((C$64>=Calc!$L$11:$L$25)*(C$64<=Calc!$S$11:$S$25)*(Calc!$ES$11:$ES$25),ROW(Calc!$X$11:$X$25)-ROW(INDEX(Calc!$X$11:$X$25,1,1))+1),Calc!$EU25)),"")} | E74: {=IFERROR(INDEX(Calc!$X$11:$X$25,SMALL(IF((E$64>=Calc!$L$11:$L$25)*(E$64<=Calc!$S$11:$S$25)*(Calc!$ES$11:$ES$25),ROW(Calc!$X$11:$X$25)-ROW(INDEX(Calc!$X$11:$X$25,1,1))+1),Calc!$EU25)),"")} | G74: {=IFERROR(INDEX(Calc!$X$11:$X$25,SMALL(IF((G$64>=Calc!$L$11:$L$25)*(G$64<=Calc!$S$11:$S$25)*(Calc!$ES$11:$ES$25),ROW(Calc!$X$11:$X$25)-ROW(INDEX(Calc!$X$11:$X$25,1,1))+1),Calc!$EU25)),"")} | I74: {=IFERROR(INDEX(Calc!$X$11:$X$25,SMALL(IF((I$64>=Calc!$L$11:$L$25)*(I$64<=Calc!$S$11:$S$25)*(Calc!$ES$11:$ES$25),ROW(Calc!$X$11:$X$25)-ROW(INDEX(Calc!$X$11:$X$25,1,1))+1),Calc!$EU25)),"")} | K74: {=IFERROR(INDEX(Calc!$X$11:$X$25,SMALL(IF((K$64>=Calc!$L$11:$L$25)*(K$64<=Calc!$S$11:$S$25)*(Calc!$ES$11:$ES$25),ROW(Calc!$X$11:$X$25)-ROW(INDEX(Calc!$X$11:$X$25,1,1))+1),Calc!$EU25)),"")} | M74: {=IFERROR(INDEX(Calc!$X$11:$X$25,SMALL(IF((M$64>=Calc!$L$11:$L$25)*(M$64<=Calc!$S$11:$S$25)*(Calc!$ES$11:$ES$25),ROW(Calc!$X$11:$X$25)-ROW(INDEX(Calc!$X$11:$X$25,1,1))+1),Calc!$EU25)),"")} | O74: {=IFERROR(INDEX(Calc!$X$11:$X$25,SMALL(IF((O$64>=Calc!$L$11:$L$25)*(O$64<=Calc!$S$11:$S$25)*(Calc!$ES$11:$ES$25),ROW(Calc!$X$11:$X$25)-ROW(INDEX(Calc!$X$11:$X$25,1,1))+1),Calc!$EU25)),"")}
C75: {=IFERROR(INDEX(Calc!$X$11:$X$25,SMALL(IF((C$64>=Calc!$L$11:$L$25)*(C$64<=Calc!$S$11:$S$25)*(Calc!$ES$11:$ES$25),ROW(Calc!$X$11:$X$25)-ROW(INDEX(Calc!$X$11:$X$25,1,1))+1),Calc!$EU26)),"")} | E75: {=IFERROR(INDEX(Calc!$X$11:$X$25,SMALL(IF((E$64>=Calc!$L$11:$L$25)*(E$64<=Calc!$S$11:$S$25)*(Calc!$ES$11:$ES$25),ROW(Calc!$X$11:$X$25)-ROW(INDEX(Calc!$X$11:$X$25,1,1))+1),Calc!$EU26)),"")} | G75: {=IFERROR(INDEX(Calc!$X$11:$X$25,SMALL(IF((G$64>=Calc!$L$11:$L$25)*(G$64<=Calc!$S$11:$S$25)*(Calc!$ES$11:$ES$25),ROW(Calc!$X$11:$X$25)-ROW(INDEX(Calc!$X$11:$X$25,1,1))+1),Calc!$EU26)),"")} | I75: {=IFERROR(INDEX(Calc!$X$11:$X$25,SMALL(IF((I$64>=Calc!$L$11:$L$25)*(I$64<=Calc!$S$11:$S$25)*(Calc!$ES$11:$ES$25),ROW(Calc!$X$11:$X$25)-ROW(INDEX(Calc!$X$11:$X$25,1,1))+1),Calc!$EU26)),"")} | K75: {=IFERROR(INDEX(Calc!$X$11:$X$25,SMALL(IF((K$64>=Calc!$L$11:$L$25)*(K$64<=Calc!$S$11:$S$25)*(Calc!$ES$11:$ES$25),ROW(Calc!$X$11:$X$25)-ROW(INDEX(Calc!$X$11:$X$25,1,1))+1),Calc!$EU26)),"")} | M75: {=IFERROR(INDEX(Calc!$X$11:$X$25,SMALL(IF((M$64>=Calc!$L$11:$L$25)*(M$64<=Calc!$S$11:$S$25)*(Calc!$ES$11:$ES$25),ROW(Calc!$X$11:$X$25)-ROW(INDEX(Calc!$X$11:$X$25,1,1))+1),Calc!$EU26)),"")} | O75: {=IFERROR(INDEX(Calc!$X$11:$X$25,SMALL(IF((O$64>=Calc!$L$11:$L$25)*(O$64<=Calc!$S$11:$S$25)*(Calc!$ES$11:$ES$25),ROW(Calc!$X$11:$X$25)-ROW(INDEX(Calc!$X$11:$X$25,1,1))+1),Calc!$EU26)),"")}
C77: =IFERROR(IF(LEN(O64)=0,"",IF(MONTH(O64+1)=MONTH(O64),O64+1,"")),"") -> 44592 | E77: =IFERROR(IF(LEN(C77)=0,"",IF(MONTH(C77+1)=MONTH(C77),C77+1,"")),"")
C79: {=IFERROR(INDEX(Calc!$X$11:$X$25,SMALL(IF((C$77>=Calc!$L$11:$L$25)*(C$77<=Calc!$S$11:$S$25)*(Calc!$ES$11:$ES$25),ROW(Calc!$X$11:$X$25)-ROW(INDEX(Calc!$X$11:$X$25,1,1))+1),Calc!$EU17)),"")} | E79: {=IFERROR(INDEX(Calc!$X$11:$X$25,SMALL(IF((E$77>=Calc!$L$11:$L$25)*(E$77<=Calc!$S$11:$S$25)*(Calc!$ES$11:$ES$25),ROW(Calc!$X$11:$X$25)-ROW(INDEX(Calc!$X$11:$X$25,1,1))+1),Calc!$EU17)),"")}
C80: {=IFERROR(INDEX(Calc!$X$11:$X$25,SMALL(IF((C$77>=Calc!$L$11:$L$25)*(C$77<=Calc!$S$11:$S$25)*(Calc!$ES$11:$ES$25),ROW(Calc!$X$11:$X$25)-ROW(INDEX(Calc!$X$11:$X$25,1,1))+1),Calc!$EU18)),"")} | E80: {=IFERROR(INDEX(Calc!$X$11:$X$25,SMALL(IF((E$77>=Calc!$L$11:$L$25)*(E$77<=Calc!$S$11:$S$25)*(Calc!$ES$11:$ES$25),ROW(Calc!$X$11:$X$25)-ROW(INDEX(Calc!$X$11:$X$25,1,1))+1),Calc!$EU18)),"")}
C81: {=IFERROR(INDEX(Calc!$X$11:$X$25,SMALL(IF((C$77>=Calc!$L$11:$L$25)*(C$77<=Calc!$S$11:$S$25)*(Calc!$ES$11:$ES$25),ROW(Calc!$X$11:$X$25)-ROW(INDEX(Calc!$X$11:$X$25,1,1))+1),Calc!$EU19)),"")} | E81: {=IFERROR(INDEX(Calc!$X$11:$X$25,SMALL(IF((E$77>=Calc!$L$11:$L$25)*(E$77<=Calc!$S$11:$S$25)*(Calc!$ES$11:$ES$25),ROW(Calc!$X$11:$X$25)-ROW(INDEX(Calc!$X$11:$X$25,1,1))+1),Calc!$EU19)),"")}
C82: {=IFERROR(INDEX(Calc!$X$11:$X$25,SMALL(IF((C$77>=Calc!$L$11:$L$25)*(C$77<=Calc!$S$11:$S$25)*(Calc!$ES$11:$ES$25),ROW(Calc!$X$11:$X$25)-ROW(INDEX(Calc!$X$11:$X$25,1,1))+1),Calc!$EU20)),"")} | E82: {=IFERROR(INDEX(Calc!$X$11:$X$25,SMALL(IF((E$77>=Calc!$L$11:$L$25)*(E$77<=Calc!$S$11:$S$25)*(Calc!$ES$11:$ES$25),ROW(Calc!$X$11:$X$25)-ROW(INDEX(Calc!$X$11:$X$25,1,1))+1),Calc!$EU20)),"")}
C83: {=IFERROR(INDEX(Calc!$X$11:$X$25,SMALL(IF((C$77>=Calc!$L$11:$L$25)*(C$77<=Calc!$S$11:$S$25)*(Calc!$ES$11:$ES$25),ROW(Calc!$X$11:$X$25)-ROW(INDEX(Calc!$X$11:$X$25,1,1))+1),Calc!$EU21)),"")} | E83: {=IFERROR(INDEX(Calc!$X$11:$X$25,SMALL(IF((E$77>=Calc!$L$11:$L$25)*(E$77<=Calc!$S$11:$S$25)*(Calc!$ES$11:$ES$25),ROW(Calc!$X$11:$X$25)-ROW(INDEX(Calc!$X$11:$X$25,1,1))+1),Calc!$EU21)),"")}
C84: {=IFERROR(INDEX(Calc!$X$11:$X$25,SMALL(IF((C$77>=Calc!$L$11:$L$25)*(C$77<=Calc!$S$11:$S$25)*(Calc!$ES$11:$ES$25),ROW(Calc!$X$11:$X$25)-ROW(INDEX(Calc!$X$11:$X$25,1,1))+1),Calc!$EU22)),"")} | E84: {=IFERROR(INDEX(Calc!$X$11:$X$25,SMALL(IF((E$77>=Calc!$L$11:$L$25)*(E$77<=Calc!$S$11:$S$25)*(Calc!$ES$11:$ES$25),ROW(Calc!$X$11:$X$25)-ROW(INDEX(Calc!$X$11:$X$25,1,1))+1),Calc!$EU22)),"")}
C85: {=IFERROR(INDEX(Calc!$X$11:$X$25,SMALL(IF((C$77>=Calc!$L$11:$L$25)*(C$77<=Calc!$S$11:$S$25)*(Calc!$ES$11:$ES$25),ROW(Calc!$X$11:$X$25)-ROW(INDEX(Calc!$X$11:$X$25,1,1))+1),Calc!$EU23)),"")} | E85: {=IFERROR(INDEX(Calc!$X$11:$X$25,SMALL(IF((E$77>=Calc!$L$11:$L$25)*(E$77<=Calc!$S$11:$S$25)*(Calc!$ES$11:$ES$25),ROW(Calc!$X$11:$X$25)-ROW(INDEX(Calc!$X$11:$X$25,1,1))+1),Calc!$EU23)),"")}
C86: {=IFERROR(INDEX(Calc!$X$11:$X$25,SMALL(IF((C$77>=Calc!$L$11:$L$25)*(C$77<=Calc!$S$11:$S$25)*(Calc!$ES$11:$ES$25),ROW(Calc!$X$11:$X$25)-ROW(INDEX(Calc!$X$11:$X$25,1,1))+1),Calc!$EU24)),"")} | E86: {=IFERROR(INDEX(Calc!$X$11:$X$25,SMALL(IF((E$77>=Calc!$L$11:$L$25)*(E$77<=Calc!$S$11:$S$25)*(Calc!$ES$11:$ES$25),ROW(Calc!$X$11:$X$25)-ROW(INDEX(Calc!$X$11:$X$25,1,1))+1),Calc!$EU24)),"")}
C87: {=IFERROR(INDEX(Calc!$X$11:$X$25,SMALL(IF((C$77>=Calc!$L$11:$L$25)*(C$77<=Calc!$S$11:$S$25)*(Calc!$ES$11:$ES$25),ROW(Calc!$X$11:$X$25)-ROW(INDEX(Calc!$X$11:$X$25,1,1))+1),Calc!$EU25)),"")} | E87: {=IFERROR(INDEX(Calc!$X$11:$X$25,SMALL(IF((E$77>=Calc!$L$11:$L$25)*(E$77<=Calc!$S$11:$S$25)*(Calc!$ES$11:$ES$25),ROW(Calc!$X$11:$X$25)-ROW(INDEX(Calc!$X$11:$X$25,1,1))+1),Calc!$EU25)),"")}
C88: {=IFERROR(INDEX(Calc!$X$11:$X$25,SMALL(IF((C$77>=Calc!$L$11:$L$25)*(C$77<=Calc!$S$11:$S$25)*(Calc!$ES$11:$ES$25),ROW(Calc!$X$11:$X$25)-ROW(INDEX(Calc!$X$11:$X$25,1,1))+1),Calc!$EU26)),"")} | E88: {=IFERROR(INDEX(Calc!$X$11:$X$25,SMALL(IF((E$77>=Calc!$L$11:$L$25)*(E$77<=Calc!$S$11:$S$25)*(Calc!$ES$11:$ES$25),ROW(Calc!$X$11:$X$25)-ROW(INDEX(Calc!$X$11:$X$25,1,1))+1),Calc!$EU26)),"")}
C91: Next Month: | E91: =IFERROR(Calc!EY12&" / "&INDEX(Calc!FB14:FB25,Calc!EY13,1),"") -> 2022 / February
C95: MONDAY | E95: TUESDAY | G95: WEDNESDAY | I95: THURSDAY | K95: FRIDAY | M95: SATURDAY | O95: SUNDAY
C97: =IFERROR(IF(WEEKDAY(Calc!EY14)=2,Calc!EY14,""),"") | E97: =IFERROR(IF(LEN(C97)>0,C97+1,IF(WEEKDAY(Calc!EY14)=3,Calc!EY14,"")),"") -> 44593 | G97: =IFERROR(IF(LEN(E97)>0,E97+1,IF(WEEKDAY(Calc!EY14)=4,Calc!EY14,"")),"") -> 44594 | I97: =IFERROR(IF(LEN(G97)>0,G97+1,IF(WEEKDAY(Calc!EY14)=5,Calc!EY14,"")),"") -> 44595 | K97: =IFERROR(IF(LEN(I97)>0,I97+1,IF(WEEKDAY(Calc!EY14)=6,Calc!EY14,"")),"") -> 44596 | M97: =IFERROR(IF(LEN(K97)>0,K97+1,IF(WEEKDAY(Calc!EY14)=7,Calc!EY14,"")),"") -> 44597 | O97: =IFERROR(IF(LEN(M97)>0,M97+1,IF(WEEKDAY(Calc!EY14)=1,Calc!EY14,"")),"") -> 44598
C99: {=IFERROR(INDEX(Calc!$X$11:$X$25,SMALL(IF((C$97>=Calc!$L$11:$L$25)*(C$97<=Calc!$S$11:$S$25)*(Calc!$ES$11:$ES$25),ROW(Calc!$X$11:$X$25)-ROW(INDEX(Calc!$X$11:$X$25,1,1))+1),Calc!$EU17)),"")} | E99: {=IFERROR(INDEX(Calc!$X$11:$X$25,SMALL(IF((E$97>=Calc!$L$11:$L$25)*(E$97<=Calc!$S$11:$S$25)*(Calc!$ES$11:$ES$25),ROW(Calc!$X$11:$X$25)-ROW(INDEX(Calc!$X$11:$X$25,1,1))+1),Calc!$EU17)),"")} | G99: {=IFERROR(INDEX(Calc!$X$11:$X$25,SMALL(IF((G$97>=Calc!$L$11:$L$25)*(G$97<=Calc!$S$11:$S$25)*(Calc!$ES$11:$ES$25),ROW(Calc!$X$11:$X$25)-ROW(INDEX(Calc!$X$11:$X$25,1,1))+1),Calc!$EU17)),"")} | I99: {=IFERROR(INDEX(Calc!$X$11:$X$25,SMALL(IF((I$97>=Calc!$L$11:$L$25)*(I$97<=Calc!$S$11:$S$25)*(Calc!$ES$11:$ES$25),ROW(Calc!$X$11:$X$25)-ROW(INDEX(Calc!$X$11:$X$25,1,1))+1),Calc!$EU17)),"")} | K99: {=IFERROR(INDEX(Calc!$X$11:$X$25,SMALL(IF((K$97>=Calc!$L$11:$L$25)*(K$97<=Calc!$S$11:$S$25)*(Calc!$ES$11:$ES$25),ROW(Calc!$X$11:$X$25)-ROW(INDEX(Calc!$X$11:$X$25,1,1))+1),Calc!$EU17)),"")} | M99: {=IFERROR(INDEX(Calc!$X$11:$X$25,SMALL(IF((M$97>=Calc!$L$11:$L$25)*(M$97<=Calc!$S$11:$S$25)*(Calc!$ES$11:$ES$25),ROW(Calc!$X$11:$X$25)-ROW(INDEX(Calc!$X$11:$X$25,1,1))+1),Calc!$EU17)),"")} | O99: {=IFERROR(INDEX(Calc!$X$11:$X$25,SMALL(IF((O$97>=Calc!$L$11:$L$25)*(O$97<=Calc!$S$11:$S$25)*(Calc!$ES$11:$ES$25),ROW(Calc!$X$11:$X$25)-ROW(INDEX(Calc!$X$11:$X$25,1,1))+1),Calc!$EU17)),"")}
C100: {=IFERROR(INDEX(Calc!$X$11:$X$25,SMALL(IF((C$97>=Calc!$L$11:$L$25)*(C$97<=Calc!$S$11:$S$25)*(Calc!$ES$11:$ES$25),ROW(Calc!$X$11:$X$25)-ROW(INDEX(Calc!$X$11:$X$25,1,1))+1),Calc!$EU18)),"")} | E100: {=IFERROR(INDEX(Calc!$X$11:$X$25,SMALL(IF((E$97>=Calc!$L$11:$L$25)*(E$97<=Calc!$S$11:$S$25)*(Calc!$ES$11:$ES$25),ROW(Calc!$X$11:$X$25)-ROW(INDEX(Calc!$X$11:$X$25,1,1))+1),Calc!$EU18)),"")} | G100: {=IFERROR(INDEX(Calc!$X$11:$X$25,SMALL(IF((G$97>=Calc!$L$11:$L$25)*(G$97<=Calc!$S$11:$S$25)*(Calc!$ES$11:$ES$25),ROW(Calc!$X$11:$X$25)-ROW(INDEX(Calc!$X$11:$X$25,1,1))+1),Calc!$EU18)),"")} | I100: {=IFERROR(INDEX(Calc!$X$11:$X$25,SMALL(IF((I$97>=Calc!$L$11:$L$25)*(I$97<=Calc!$S$11:$S$25)*(Calc!$ES$11:$ES$25),ROW(Calc!$X$11:$X$25)-ROW(INDEX(Calc!$X$11:$X$25,1,1))+1),Calc!$EU18)),"")} | K100: {=IFERROR(INDEX(Calc!$X$11:$X$25,SMALL(IF((K$97>=Calc!$L$11:$L$25)*(K$97<=Calc!$S$11:$S$25)*(Calc!$ES$11:$ES$25),ROW(Calc!$X$11:$X$25)-ROW(INDEX(Calc!$X$11:$X$25,1,1))+1),Calc!$EU18)),"")} | M100: {=IFERROR(INDEX(Calc!$X$11:$X$25,SMALL(IF((M$97>=Calc!$L$11:$L$25)*(M$97<=Calc!$S$11:$S$25)*(Calc!$ES$11:$ES$25),ROW(Calc!$X$11:$X$25)-ROW(INDEX(Calc!$X$11:$X$25,1,1))+1),Calc!$EU18)),"")} | O100: {=IFERROR(INDEX(Calc!$X$11:$X$25,SMALL(IF((O$97>=Calc!$L$11:$L$25)*(O$97<=Calc!$S$11:$S$25)*(Calc!$ES$11:$ES$25),ROW(Calc!$X$11:$X$25)-ROW(INDEX(Calc!$X$11:$X$25,1,1))+1),Calc!$EU18)),"")}
C101: {=IFERROR(INDEX(Calc!$X$11:$X$25,SMALL(IF((C$97>=Calc!$L$11:$L$25)*(C$97<=Calc!$S$11:$S$25)*(Calc!$ES$11:$ES$25),ROW(Calc!$X$11:$X$25)-ROW(INDEX(Calc!$X$11:$X$25,1,1))+1),Calc!$EU19)),"")} | E101: {=IFERROR(INDEX(Calc!$X$11:$X$25,SMALL(IF((E$97>=Calc!$L$11:$L$25)*(E$97<=Calc!$S$11:$S$25)*(Calc!$ES$11:$ES$25),ROW(Calc!$X$11:$X$25)-ROW(INDEX(Calc!$X$11:$X$25,1,1))+1),Calc!$EU19)),"")} | G101: {=IFERROR(INDEX(Calc!$X$11:$X$25,SMALL(IF((G$97>=Calc!$L$11:$L$25)*(G$97<=Calc!$S$11:$S$25)*(Calc!$ES$11:$ES$25),ROW(Calc!$X$11:$X$25)-ROW(INDEX(Calc!$X$11:$X$25,1,1))+1),Calc!$EU19)),"")} | I101: {=IFERROR(INDEX(Calc!$X$11:$X$25,SMALL(IF((I$97>=Calc!$L$11:$L$25)*(I$97<=Calc!$S$11:$S$25)*(Calc!$ES$11:$ES$25),ROW(Calc!$X$11:$X$25)-ROW(INDEX(Calc!$X$11:$X$25,1,1))+1),Calc!$EU19)),"")} | K101: {=IFERROR(INDEX(Calc!$X$11:$X$25,SMALL(IF((K$97>=Calc!$L$11:$L$25)*(K$97<=Calc!$S$11:$S$25)*(Calc!$ES$11:$ES$25),ROW(Calc!$X$11:$X$25)-ROW(INDEX(Calc!$X$11:$X$25,1,1))+1),Calc!$EU19)),"")} | M101: {=IFERROR(INDEX(Calc!$X$11:$X$25,SMALL(IF((M$97>=Calc!$L$11:$L$25)*(M$97<=Calc!$S$11:$S$25)*(Calc!$ES$11:$ES$25),ROW(Calc!$X$11:$X$25)-ROW(INDEX(Calc!$X$11:$X$25,1,1))+1),Calc!$EU19)),"")} | O101: {=IFERROR(INDEX(Calc!$X$11:$X$25,SMALL(IF((O$97>=Calc!$L$11:$L$25)*(O$97<=Calc!$S$11:$S$25)*(Calc!$ES$11:$ES$25),ROW(Calc!$X$11:$X$25)-ROW(INDEX(Calc!$X$11:$X$25,1,1))+1),Calc!$EU19)),"")}
C102: {=IFERROR(INDEX(Calc!$X$11:$X$25,SMALL(IF((C$97>=Calc!$L$11:$L$25)*(C$97<=Calc!$S$11:$S$25)*(Calc!$ES$11:$ES$25),ROW(Calc!$X$11:$X$25)-ROW(INDEX(Calc!$X$11:$X$25,1,1))+1),Calc!$EU20)),"")} | E102: {=IFERROR(INDEX(Calc!$X$11:$X$25,SMALL(IF((E$97>=Calc!$L$11:$L$25)*(E$97<=Calc!$S$11:$S$25)*(Calc!$ES$11:$ES$25),ROW(Calc!$X$11:$X$25)-ROW(INDEX(Calc!$X$11:$X$25,1,1))+1),Calc!$EU20)),"")} | G102: {=IFERROR(INDEX(Calc!$X$11:$X$25,SMALL(IF((G$97>=Calc!$L$11:$L$25)*(G$97<=Calc!$S$11:$S$25)*(Calc!$ES$11:$ES$25),ROW(Calc!$X$11:$X$25)-ROW(INDEX(Calc!$X$11:$X$25,1,1))+1),Calc!$EU20)),"")} | I102: {=IFERROR(INDEX(Calc!$X$11:$X$25,SMALL(IF((I$97>=Calc!$L$11:$L$25)*(I$97<=Calc!$S$11:$S$25)*(Calc!$ES$11:$ES$25),ROW(Calc!$X$11:$X$25)-ROW(INDEX(Calc!$X$11:$X$25,1,1))+1),Calc!$EU20)),"")} | K102: {=IFERROR(INDEX(Calc!$X$11:$X$25,SMALL(IF((K$97>=Calc!$L$11:$L$25)*(K$97<=Calc!$S$11:$S$25)*(Calc!$ES$11:$ES$25),ROW(Calc!$X$11:$X$25)-ROW(INDEX(Calc!$X$11:$X$25,1,1))+1),Calc!$EU20)),"")} | M102: {=IFERROR(INDEX(Calc!$X$11:$X$25,SMALL(IF((M$97>=Calc!$L$11:$L$25)*(M$97<=Calc!$S$11:$S$25)*(Calc!$ES$11:$ES$25),ROW(Calc!$X$11:$X$25)-ROW(INDEX(Calc!$X$11:$X$25,1,1))+1),Calc!$EU20)),"")} | O102: {=IFERROR(INDEX(Calc!$X$11:$X$25,SMALL(IF((O$97>=Calc!$L$11:$L$25)*(O$97<=Calc!$S$11:$S$25)*(Calc!$ES$11:$ES$25),ROW(Calc!$X$11:$X$25)-ROW(INDEX(Calc!$X$11:$X$25,1,1))+1),Calc!$EU20)),"")}
C103: {=IFERROR(INDEX(Calc!$X$11:$X$25,SMALL(IF((C$97>=Calc!$L$11:$L$25)*(C$97<=Calc!$S$11:$S$25)*(Calc!$ES$11:$ES$25),ROW(Calc!$X$11:$X$25)-ROW(INDEX(Calc!$X$11:$X$25,1,1))+1),Calc!$EU21)),"")} | E103: {=IFERROR(INDEX(Calc!$X$11:$X$25,SMALL(IF((E$97>=Calc!$L$11:$L$25)*(E$97<=Calc!$S$11:$S$25)*(Calc!$ES$11:$ES$25),ROW(Calc!$X$11:$X$25)-ROW(INDEX(Calc!$X$11:$X$25,1,1))+1),Calc!$EU21)),"")} | G103: {=IFERROR(INDEX(Calc!$X$11:$X$25,SMALL(IF((G$97>=Calc!$L$11:$L$25)*(G$97<=Calc!$S$11:$S$25)*(Calc!$ES$11:$ES$25),ROW(Calc!$X$11:$X$25)-ROW(INDEX(Calc!$X$11:$X$25,1,1))+1),Calc!$EU21)),"")} | I103: {=IFERROR(INDEX(Calc!$X$11:$X$25,SMALL(IF((I$97>=Calc!$L$11:$L$25)*(I$97<=Calc!$S$11:$S$25)*(Calc!$ES$11:$ES$25),ROW(Calc!$X$11:$X$25)-ROW(INDEX(Calc!$X$11:$X$25,1,1))+1),Calc!$EU21)),"")} | K103: {=IFERROR(INDEX(Calc!$X$11:$X$25,SMALL(IF((K$97>=Calc!$L$11:$L$25)*(K$97<=Calc!$S$11:$S$25)*(Calc!$ES$11:$ES$25),ROW(Calc!$X$11:$X$25)-ROW(INDEX(Calc!$X$11:$X$25,1,1))+1),Calc!$EU21)),"")} | M103: {=IFERROR(INDEX(Calc!$X$11:$X$25,SMALL(IF((M$97>=Calc!$L$11:$L$25)*(M$97<=Calc!$S$11:$S$25)*(Calc!$ES$11:$ES$25),ROW(Calc!$X$11:$X$25)-ROW(INDEX(Calc!$X$11:$X$25,1,1))+1),Calc!$EU21)),"")} | O103: {=IFERROR(INDEX(Calc!$X$11:$X$25,SMALL(IF((O$97>=Calc!$L$11:$L$25)*(O$97<=Calc!$S$11:$S$25)*(Calc!$ES$11:$ES$25),ROW(Calc!$X$11:$X$25)-ROW(INDEX(Calc!$X$11:$X$25,1,1))+1),Calc!$EU21)),"")}
C104: {=IFERROR(INDEX(Calc!$X$11:$X$25,SMALL(IF((C$97>=Calc!$L$11:$L$25)*(C$97<=Calc!$S$11:$S$25)*(Calc!$ES$11:$ES$25),ROW(Calc!$X$11:$X$25)-ROW(INDEX(Calc!$X$11:$X$25,1,1))+1),Calc!$EU22)),"")} | E104: {=IFERROR(INDEX(Calc!$X$11:$X$25,SMALL(IF((E$97>=Calc!$L$11:$L$25)*(E$97<=Calc!$S$11:$S$25)*(Calc!$ES$11:$ES$25),ROW(Calc!$X$11:$X$25)-ROW(INDEX(Calc!$X$11:$X$25,1,1))+1),Calc!$EU22)),"")} | G104: {=IFERROR(INDEX(Calc!$X$11:$X$25,SMALL(IF((G$97>=Calc!$L$11:$L$25)*(G$97<=Calc!$S$11:$S$25)*(Calc!$ES$11:$ES$25),ROW(Calc!$X$11:$X$25)-ROW(INDEX(Calc!$X$11:$X$25,1,1))+1),Calc!$EU22)),"")} | I104: {=IFERROR(INDEX(Calc!$X$11:$X$25,SMALL(IF((I$97>=Calc!$L$11:$L$25)*(I$97<=Calc!$S$11:$S$25)*(Calc!$ES$11:$ES$25),ROW(Calc!$X$11:$X$25)-ROW(INDEX(Calc!$X$11:$X$25,1,1))+1),Calc!$EU22)),"")} | K104: {=IFERROR(INDEX(Calc!$X$11:$X$25,SMALL(IF((K$97>=Calc!$L$11:$L$25)*(K$97<=Calc!$S$11:$S$25)*(Calc!$ES$11:$ES$25),ROW(Calc!$X$11:$X$25)-ROW(INDEX(Calc!$X$11:$X$25,1,1))+1),Calc!$EU22)),"")} | M104: {=IFERROR(INDEX(Calc!$X$11:$X$25,SMALL(IF((M$97>=Calc!$L$11:$L$25)*(M$97<=Calc!$S$11:$S$25)*(Calc!$ES$11:$ES$25),ROW(Calc!$X$11:$X$25)-ROW(INDEX(Calc!$X$11:$X$25,1,1))+1),Calc!$EU22)),"")} | O104: {=IFERROR(INDEX(Calc!$X$11:$X$25,SMALL(IF((O$97>=Calc!$L$11:$L$25)*(O$97<=Calc!$S$11:$S$25)*(Calc!$ES$11:$ES$25),ROW(Calc!$X$11:$X$25)-ROW(INDEX(Calc!$X$11:$X$25,1,1))+1),Calc!$EU22)),"")}
C105: {=IFERROR(INDEX(Calc!$X$11:$X$25,SMALL(IF((C$97>=Calc!$L$11:$L$25)*(C$97<=Calc!$S$11:$S$25)*(Calc!$ES$11:$ES$25),ROW(Calc!$X$11:$X$25)-ROW(INDEX(Calc!$X$11:$X$25,1,1))+1),Calc!$EU23)),"")} | E105: {=IFERROR(INDEX(Calc!$X$11:$X$25,SMALL(IF((E$97>=Calc!$L$11:$L$25)*(E$97<=Calc!$S$11:$S$25)*(Calc!$ES$11:$ES$25),ROW(Calc!$X$11:$X$25)-ROW(INDEX(Calc!$X$11:$X$25,1,1))+1),Calc!$EU23)),"")} | G105: {=IFERROR(INDEX(Calc!$X$11:$X$25,SMALL(IF((G$97>=Calc!$L$11:$L$25)*(G$97<=Calc!$S$11:$S$25)*(Calc!$ES$11:$ES$25),ROW(Calc!$X$11:$X$25)-ROW(INDEX(Calc!$X$11:$X$25,1,1))+1),Calc!$EU23)),"")} | I105: {=IFERROR(INDEX(Calc!$X$11:$X$25,SMALL(IF((I$97>=Calc!$L$11:$L$25)*(I$97<=Calc!$S$11:$S$25)*(Calc!$ES$11:$ES$25),ROW(Calc!$X$11:$X$25)-ROW(INDEX(Calc!$X$11:$X$25,1,1))+1),Calc!$EU23)),"")} | K105: {=IFERROR(INDEX(Calc!$X$11:$X$25,SMALL(IF((K$97>=Calc!$L$11:$L$25)*(K$97<=Calc!$S$11:$S$25)*(Calc!$ES$11:$ES$25),ROW(Calc!$X$11:$X$25)-ROW(INDEX(Calc!$X$11:$X$25,1,1))+1),Calc!$EU23)),"")} | M105: {=IFERROR(INDEX(Calc!$X$11:$X$25,SMALL(IF((M$97>=Calc!$L$11:$L$25)*(M$97<=Calc!$S$11:$S$25)*(Calc!$ES$11:$ES$25),ROW(Calc!$X$11:$X$25)-ROW(INDEX(Calc!$X$11:$X$25,1,1))+1),Calc!$EU23)),"")} | O105: {=IFERROR(INDEX(Calc!$X$11:$X$25,SMALL(IF((O$97>=Calc!$L$11:$L$25)*(O$97<=Calc!$S$11:$S$25)*(Calc!$ES$11:$ES$25),ROW(Calc!$X$11:$X$25)-ROW(INDEX(Calc!$X$11:$X$25,1,1))+1),Calc!$EU23)),"")}
C106: {=IFERROR(INDEX(Calc!$X$11:$X$25,SMALL(IF((C$97>=Calc!$L$11:$L$25)*(C$97<=Calc!$S$11:$S$25)*(Calc!$ES$11:$ES$25),ROW(Calc!$X$11:$X$25)-ROW(INDEX(Calc!$X$11:$X$25,1,1))+1),Calc!$EU24)),"")} | E106: {=IFERROR(INDEX(Calc!$X$11:$X$25,SMALL(IF((E$97>=Calc!$L$11:$L$25)*(E$97<=Calc!$S$11:$S$25)*(Calc!$ES$11:$ES$25),ROW(Calc!$X$11:$X$25)-ROW(INDEX(Calc!$X$11:$X$25,1,1))+1),Calc!$EU24)),"")} | G106: {=IFERROR(INDEX(Calc!$X$11:$X$25,SMALL(IF((G$97>=Calc!$L$11:$L$25)*(G$97<=Calc!$S$11:$S$25)*(Calc!$ES$11:$ES$25),ROW(Calc!$X$11:$X$25)-ROW(INDEX(Calc!$X$11:$X$25,1,1))+1),Calc!$EU24)),"")} | I106: {=IFERROR(INDEX(Calc!$X$11:$X$25,SMALL(IF((I$97>=Calc!$L$11:$L$25)*(I$97<=Calc!$S$11:$S$25)*(Calc!$ES$11:$ES$25),ROW(Calc!$X$11:$X$25)-ROW(INDEX(Calc!$X$11:$X$25,1,1))+1),Calc!$EU24)),"")} | K106: {=IFERROR(INDEX(Calc!$X$11:$X$25,SMALL(IF((K$97>=Calc!$L$11:$L$25)*(K$97<=Calc!$S$11:$S$25)*(Calc!$ES$11:$ES$25),ROW(Calc!$X$11:$X$25)-ROW(INDEX(Calc!$X$11:$X$25,1,1))+1),Calc!$EU24)),"")} | M106: {=IFERROR(INDEX(Calc!$X$11:$X$25,SMALL(IF((M$97>=Calc!$L$11:$L$25)*(M$97<=Calc!$S$11:$S$25)*(Calc!$ES$11:$ES$25),ROW(Calc!$X$11:$X$25)-ROW(INDEX(Calc!$X$11:$X$25,1,1))+1),Calc!$EU24)),"")} | O106: {=IFERROR(INDEX(Calc!$X$11:$X$25,SMALL(IF((O$97>=Calc!$L$11:$L$25)*(O$97<=Calc!$S$11:$S$25)*(Calc!$ES$11:$ES$25),ROW(Calc!$X$11:$X$25)-ROW(INDEX(Calc!$X$11:$X$25,1,1))+1),Calc!$EU24)),"")}
C107: {=IFERROR(INDEX(Calc!$X$11:$X$25,SMALL(IF((C$97>=Calc!$L$11:$L$25)*(C$97<=Calc!$S$11:$S$25)*(Calc!$ES$11:$ES$25),ROW(Calc!$X$11:$X$25)-ROW(INDEX(Calc!$X$11:$X$25,1,1))+1),Calc!$EU25)),"")} | E107: {=IFERROR(INDEX(Calc!$X$11:$X$25,SMALL(IF((E$97>=Calc!$L$11:$L$25)*(E$97<=Calc!$S$11:$S$25)*(Calc!$ES$11:$ES$25),ROW(Calc!$X$11:$X$25)-ROW(INDEX(Calc!$X$11:$X$25,1,1))+1),Calc!$EU25)),"")} | G107: {=IFERROR(INDEX(Calc!$X$11:$X$25,SMALL(IF((G$97>=Calc!$L$11:$L$25)*(G$97<=Calc!$S$11:$S$25)*(Calc!$ES$11:$ES$25),ROW(Calc!$X$11:$X$25)-ROW(INDEX(Calc!$X$11:$X$25,1,1))+1),Calc!$EU25)),"")} | I107: {=IFERROR(INDEX(Calc!$X$11:$X$25,SMALL(IF((I$97>=Calc!$L$11:$L$25)*(I$97<=Calc!$S$11:$S$25)*(Calc!$ES$11:$ES$25),ROW(Calc!$X$11:$X$25)-ROW(INDEX(Calc!$X$11:$X$25,1,1))+1),Calc!$EU25)),"")} | K107: {=IFERROR(INDEX(Calc!$X$11:$X$25,SMALL(IF((K$97>=Calc!$L$11:$L$25)*(K$97<=Calc!$S$11:$S$25)*(Calc!$ES$11:$ES$25),ROW(Calc!$X$11:$X$25)-ROW(INDEX(Calc!$X$11:$X$25,1,1))+1),Calc!$EU25)),"")} | M107: {=IFERROR(INDEX(Calc!$X$11:$X$25,SMALL(IF((M$97>=Calc!$L$11:$L$25)*(M$97<=Calc!$S$11:$S$25)*(Calc!$ES$11:$ES$25),ROW(Calc!$X$11:$X$25)-ROW(INDEX(Calc!$X$11:$X$25,1,1))+1),Calc!$EU25)),"")} | O107: {=IFERROR(INDEX(Calc!$X$11:$X$25,SMALL(IF((O$97>=Calc!$L$11:$L$25)*(O$97<=Calc!$S$11:$S$25)*(Calc!$ES$11:$ES$25),ROW(Calc!$X$11:$X$25)-ROW(INDEX(Calc!$X$11:$X$25,1,1))+1),Calc!$EU25)),"")}
C108: {=IFERROR(INDEX(Calc!$X$11:$X$25,SMALL(IF((C$97>=Calc!$L$11:$L$25)*(C$97<=Calc!$S$11:$S$25)*(Calc!$ES$11:$ES$25),ROW(Calc!$X$11:$X$25)-ROW(INDEX(Calc!$X$11:$X$25,1,1))+1),Calc!$EU26)),"")} | E108: {=IFERROR(INDEX(Calc!$X$11:$X$25,SMALL(IF((E$97>=Calc!$L$11:$L$25)*(E$97<=Calc!$S$11:$S$25)*(Calc!$ES$11:$ES$25),ROW(Calc!$X$11:$X$25)-ROW(INDEX(Calc!$X$11:$X$25,1,1))+1),Calc!$EU26)),"")} | G108: {=IFERROR(INDEX(Calc!$X$11:$X$25,SMALL(IF((G$97>=Calc!$L$11:$L$25)*(G$97<=Calc!$S$11:$S$25)*(Calc!$ES$11:$ES$25),ROW(Calc!$X$11:$X$25)-ROW(INDEX(Calc!$X$11:$X$25,1,1))+1),Calc!$EU26)),"")} | I108: {=IFERROR(INDEX(Calc!$X$11:$X$25,SMALL(IF((I$97>=Calc!$L$11:$L$25)*(I$97<=Calc!$S$11:$S$25)*(Calc!$ES$11:$ES$25),ROW(Calc!$X$11:$X$25)-ROW(INDEX(Calc!$X$11:$X$25,1,1))+1),Calc!$EU26)),"")} | K108: {=IFERROR(INDEX(Calc!$X$11:$X$25,SMALL(IF((K$97>=Calc!$L$11:$L$25)*(K$97<=Calc!$S$11:$S$25)*(Calc!$ES$11:$ES$25),ROW(Calc!$X$11:$X$25)-ROW(INDEX(Calc!$X$11:$X$25,1,1))+1),Calc!$EU26)),"")} | M108: {=IFERROR(INDEX(Calc!$X$11:$X$25,SMALL(IF((M$97>=Calc!$L$11:$L$25)*(M$97<=Calc!$S$11:$S$25)*(Calc!$ES$11:$ES$25),ROW(Calc!$X$11:$X$25)-ROW(INDEX(Calc!$X$11:$X$25,1,1))+1),Calc!$EU26)),"")} | O108: {=IFERROR(INDEX(Calc!$X$11:$X$25,SMALL(IF((O$97>=Calc!$L$11:$L$25)*(O$97<=Calc!$S$11:$S$25)*(Calc!$ES$11:$ES$25),ROW(Calc!$X$11:$X$25)-ROW(INDEX(Calc!$X$11:$X$25,1,1))+1),Calc!$EU26)),"")}
C110: =IFERROR(IF(LEN(O97)=0,"",IF(MONTH(O97+1)=MONTH(O97),O97+1,"")),"") -> 44599 | E110: =IFERROR(IF(LEN(C110)=0,"",IF(MONTH(C110+1)=MONTH(C110),C110+1,"")),"") -> 44600 | G110: =IFERROR(IF(LEN(E110)=0,"",IF(MONTH(E110+1)=MONTH(E110),E110+1,"")),"") -> 44601 | I110: =IFERROR(IF(LEN(G110)=0,"",IF(MONTH(G110+1)=MONTH(G110),G110+1,"")),"") -> 44602 | K110: =IFERROR(IF(LEN(I110)=0,"",IF(MONTH(I110+1)=MONTH(I110),I110+1,"")),"") -> 44603 | M110: =IFERROR(IF(LEN(K110)=0,"",IF(MONTH(K110+1)=MONTH(K110),K110+1,"")),"") -> 44604 | O110: =IFERROR(IF(LEN(M110)=0,"",IF(MONTH(M110+1)=MONTH(M110),M110+1,"")),"") -> 44605
C112: {=IFERROR(INDEX(Calc!$X$11:$X$25,SMALL(IF((C$110>=Calc!$L$11:$L$25)*(C$110<=Calc!$S$11:$S$25)*(Calc!$ES$11:$ES$25),ROW(Calc!$X$11:$X$25)-ROW(INDEX(Calc!$X$11:$X$25,1,1))+1),Calc!$EU17)),"")} | E112: {=IFERROR(INDEX(Calc!$X$11:$X$25,SMALL(IF((E$110>=Calc!$L$11:$L$25)*(E$110<=Calc!$S$11:$S$25)*(Calc!$ES$11:$ES$25),ROW(Calc!$X$11:$X$25)-ROW(INDEX(Calc!$X$11:$X$25,1,1))+1),Calc!$EU17)),"")} -> Jonah Peterson | G112: {=IFERROR(INDEX(Calc!$X$11:$X$25,SMALL(IF((G$110>=Calc!$L$11:$L$25)*(G$110<=Calc!$S$11:$S$25)*(Calc!$ES$11:$ES$25),ROW(Calc!$X$11:$X$25)-ROW(INDEX(Calc!$X$11:$X$25,1,1))+1),Calc!$EU17)),"")} -> Jonah Peterson | I112: {=IFERROR(INDEX(Calc!$X$11:$X$25,SMALL(IF((I$110>=Calc!$L$11:$L$25)*(I$110<=Calc!$S$11:$S$25)*(Calc!$ES$11:$ES$25),ROW(Calc!$X$11:$X$25)-ROW(INDEX(Calc!$X$11:$X$25,1,1))+1),Calc!$EU17)),"")} -> Jonah Peterson | K112: {=IFERROR(INDEX(Calc!$X$11:$X$25,SMALL(IF((K$110>=Calc!$L$11:$L$25)*(K$110<=Calc!$S$11:$S$25)*(Calc!$ES$11:$ES$25),ROW(Calc!$X$11:$X$25)-ROW(INDEX(Calc!$X$11:$X$25,1,1))+1),Calc!$EU17)),"")} -> Jonah Peterson | M112: {=IFERROR(INDEX(Calc!$X$11:$X$25,SMALL(IF((M$110>=Calc!$L$11:$L$25)*(M$110<=Calc!$S$11:$S$25)*(Calc!$ES$11:$ES$25),ROW(Calc!$X$11:$X$25)-ROW(INDEX(Calc!$X$11:$X$25,1,1))+1),Calc!$EU17)),"")} -> Jonah Peterson | O112: {=IFERROR(INDEX(Calc!$X$11:$X$25,SMALL(IF((O$110>=Calc!$L$11:$L$25)*(O$110<=Calc!$S$11:$S$25)*(Calc!$ES$11:$ES$25),ROW(Calc!$X$11:$X$25)-ROW(INDEX(Calc!$X$11:$X$25,1,1))+1),Calc!$EU17)),"")} -> Jonah Peterson
C113: {=IFERROR(INDEX(Calc!$X$11:$X$25,SMALL(IF((C$110>=Calc!$L$11:$L$25)*(C$110<=Calc!$S$11:$S$25)*(Calc!$ES$11:$ES$25),ROW(Calc!$X$11:$X$25)-ROW(INDEX(Calc!$X$11:$X$25,1,1))+1),Calc!$EU18)),"")} | E113: {=IFERROR(INDEX(Calc!$X$11:$X$25,SMALL(IF((E$110>=Calc!$L$11:$L$25)*(E$110<=Calc!$S$11:$S$25)*(Calc!$ES$11:$ES$25),ROW(Calc!$X$11:$X$25)-ROW(INDEX(Calc!$X$11:$X$25,1,1))+1),Calc!$EU18)),"")} | G113: {=IFERROR(INDEX(Calc!$X$11:$X$25,SMALL(IF((G$110>=Calc!$L$11:$L$25)*(G$110<=Calc!$S$11:$S$25)*(Calc!$ES$11:$ES$25),ROW(Calc!$X$11:$X$25)-ROW(INDEX(Calc!$X$11:$X$25,1,1))+1),Calc!$EU18)),"")} | I113: {=IFERROR(INDEX(Calc!$X$11:$X$25,SMALL(IF((I$110>=Calc!$L$11:$L$25)*(I$110<=Calc!$S$11:$S$25)*(Calc!$ES$11:$ES$25),ROW(Calc!$X$11:$X$25)-ROW(INDEX(Calc!$X$11:$X$25,1,1))+1),Calc!$EU18)),"")} | K113: {=IFERROR(INDEX(Calc!$X$11:$X$25,SMALL(IF((K$110>=Calc!$L$11:$L$25)*(K$110<=Calc!$S$11:$S$25)*(Calc!$ES$11:$ES$25),ROW(Calc!$X$11:$X$25)-ROW(INDEX(Calc!$X$11:$X$25,1,1))+1),Calc!$EU18)),"")} | M113: {=IFERROR(INDEX(Calc!$X$11:$X$25,SMALL(IF((M$110>=Calc!$L$11:$L$25)*(M$110<=Calc!$S$11:$S$25)*(Calc!$ES$11:$ES$25),ROW(Calc!$X$11:$X$25)-ROW(INDEX(Calc!$X$11:$X$25,1,1))+1),Calc!$EU18)),"")} | O113: {=IFERROR(INDEX(Calc!$X$11:$X$25,SMALL(IF((O$110>=Calc!$L$11:$L$25)*(O$110<=Calc!$S$11:$S$25)*(Calc!$ES$11:$ES$25),ROW(Calc!$X$11:$X$25)-ROW(INDEX(Calc!$X$11:$X$25,1,1))+1),Calc!$EU18)),"")}
C114: {=IFERROR(INDEX(Calc!$X$11:$X$25,SMALL(IF((C$110>=Calc!$L$11:$L$25)*(C$110<=Calc!$S$11:$S$25)*(Calc!$ES$11:$ES$25),ROW(Calc!$X$11:$X$25)-ROW(INDEX(Calc!$X$11:$X$25,1,1))+1),Calc!$EU19)),"")} | E114: {=IFERROR(INDEX(Calc!$X$11:$X$25,SMALL(IF((E$110>=Calc!$L$11:$L$25)*(E$110<=Calc!$S$11:$S$25)*(Calc!$ES$11:$ES$25),ROW(Calc!$X$11:$X$25)-ROW(INDEX(Calc!$X$11:$X$25,1,1))+1),Calc!$EU19)),"")} | G114: {=IFERROR(INDEX(Calc!$X$11:$X$25,SMALL(IF((G$110>=Calc!$L$11:$L$25)*(G$110<=Calc!$S$11:$S$25)*(Calc!$ES$11:$ES$25),ROW(Calc!$X$11:$X$25)-ROW(INDEX(Calc!$X$11:$X$25,1,1))+1),Calc!$EU19)),"")} | I114: {=IFERROR(INDEX(Calc!$X$11:$X$25,SMALL(IF((I$110>=Calc!$L$11:$L$25)*(I$110<=Calc!$S$11:$S$25)*(Calc!$ES$11:$ES$25),ROW(Calc!$X$11:$X$25)-ROW(INDEX(Calc!$X$11:$X$25,1,1))+1),Calc!$EU19)),"")} | K114: {=IFERROR(INDEX(Calc!$X$11:$X$25,SMALL(IF((K$110>=Calc!$L$11:$L$25)*(K$110<=Calc!$S$11:$S$25)*(Calc!$ES$11:$ES$25),ROW(Calc!$X$11:$X$25)-ROW(INDEX(Calc!$X$11:$X$25,1,1))+1),Calc!$EU19)),"")} | M114: {=IFERROR(INDEX(Calc!$X$11:$X$25,SMALL(IF((M$110>=Calc!$L$11:$L$25)*(M$110<=Calc!$S$11:$S$25)*(Calc!$ES$11:$ES$25),ROW(Calc!$X$11:$X$25)-ROW(INDEX(Calc!$X$11:$X$25,1,1))+1),Calc!$EU19)),"")} | O114: {=IFERROR(INDEX(Calc!$X$11:$X$25,SMALL(IF((O$110>=Calc!$L$11:$L$25)*(O$110<=Calc!$S$11:$S$25)*(Calc!$ES$11:$ES$25),ROW(Calc!$X$11:$X$25)-ROW(INDEX(Calc!$X$11:$X$25,1,1))+1),Calc!$EU19)),"")}
C115: {=IFERROR(INDEX(Calc!$X$11:$X$25,SMALL(IF((C$110>=Calc!$L$11:$L$25)*(C$110<=Calc!$S$11:$S$25)*(Calc!$ES$11:$ES$25),ROW(Calc!$X$11:$X$25)-ROW(INDEX(Calc!$X$11:$X$25,1,1))+1),Calc!$EU20)),"")} | E115: {=IFERROR(INDEX(Calc!$X$11:$X$25,SMALL(IF((E$110>=Calc!$L$11:$L$25)*(E$110<=Calc!$S$11:$S$25)*(Calc!$ES$11:$ES$25),ROW(Calc!$X$11:$X$25)-ROW(INDEX(Calc!$X$11:$X$25,1,1))+1),Calc!$EU20)),"")} | G115: {=IFERROR(INDEX(Calc!$X$11:$X$25,SMALL(IF((G$110>=Calc!$L$11:$L$25)*(G$110<=Calc!$S$11:$S$25)*(Calc!$ES$11:$ES$25),ROW(Calc!$X$11:$X$25)-ROW(INDEX(Calc!$X$11:$X$25,1,1))+1),Calc!$EU20)),"")} | I115: {=IFERROR(INDEX(Calc!$X$11:$X$25,SMALL(IF((I$110>=Calc!$L$11:$L$25)*(I$110<=Calc!$S$11:$S$25)*(Calc!$ES$11:$ES$25),ROW(Calc!$X$11:$X$25)-ROW(INDEX(Calc!$X$11:$X$25,1,1))+1),Calc!$EU20)),"")} | K115: {=IFERROR(INDEX(Calc!$X$11:$X$25,SMALL(IF((K$110>=Calc!$L$11:$L$25)*(K$110<=Calc!$S$11:$S$25)*(Calc!$ES$11:$ES$25),ROW(Calc!$X$11:$X$25)-ROW(INDEX(Calc!$X$11:$X$25,1,1))+1),Calc!$EU20)),"")} | M115: {=IFERROR(INDEX(Calc!$X$11:$X$25,SMALL(IF((M$110>=Calc!$L$11:$L$25)*(M$110<=Calc!$S$11:$S$25)*(Calc!$ES$11:$ES$25),ROW(Calc!$X$11:$X$25)-ROW(INDEX(Calc!$X$11:$X$25,1,1))+1),Calc!$EU20)),"")} | O115: {=IFERROR(INDEX(Calc!$X$11:$X$25,SMALL(IF((O$110>=Calc!$L$11:$L$25)*(O$110<=Calc!$S$11:$S$25)*(Calc!$ES$11:$ES$25),ROW(Calc!$X$11:$X$25)-ROW(INDEX(Calc!$X$11:$X$25,1,1))+1),Calc!$EU20)),"")}
C116: {=IFERROR(INDEX(Calc!$X$11:$X$25,SMALL(IF((C$110>=Calc!$L$11:$L$25)*(C$110<=Calc!$S$11:$S$25)*(Calc!$ES$11:$ES$25),ROW(Calc!$X$11:$X$25)-ROW(INDEX(Calc!$X$11:$X$25,1,1))+1),Calc!$EU21)),"")} | E116: {=IFERROR(INDEX(Calc!$X$11:$X$25,SMALL(IF((E$110>=Calc!$L$11:$L$25)*(E$110<=Calc!$S$11:$S$25)*(Calc!$ES$11:$ES$25),ROW(Calc!$X$11:$X$25)-ROW(INDEX(Calc!$X$11:$X$25,1,1))+1),Calc!$EU21)),"")} | G116: {=IFERROR(INDEX(Calc!$X$11:$X$25,SMALL(IF((G$110>=Calc!$L$11:$L$25)*(G$110<=Calc!$S$11:$S$25)*(Calc!$ES$11:$ES$25),ROW(Calc!$X$11:$X$25)-ROW(INDEX(Calc!$X$11:$X$25,1,1))+1),Calc!$EU21)),"")} | I116: {=IFERROR(INDEX(Calc!$X$11:$X$25,SMALL(IF((I$110>=Calc!$L$11:$L$25)*(I$110<=Calc!$S$11:$S$25)*(Calc!$ES$11:$ES$25),ROW(Calc!$X$11:$X$25)-ROW(INDEX(Calc!$X$11:$X$25,1,1))+1),Calc!$EU21)),"")} | K116: {=IFERROR(INDEX(Calc!$X$11:$X$25,SMALL(IF((K$110>=Calc!$L$11:$L$25)*(K$110<=Calc!$S$11:$S$25)*(Calc!$ES$11:$ES$25),ROW(Calc!$X$11:$X$25)-ROW(INDEX(Calc!$X$11:$X$25,1,1))+1),Calc!$EU21)),"")} | M116: {=IFERROR(INDEX(Calc!$X$11:$X$25,SMALL(IF((M$110>=Calc!$L$11:$L$25)*(M$110<=Calc!$S$11:$S$25)*(Calc!$ES$11:$ES$25),ROW(Calc!$X$11:$X$25)-ROW(INDEX(Calc!$X$11:$X$25,1,1))+1),Calc!$EU21)),"")} | O116: {=IFERROR(INDEX(Calc!$X$11:$X$25,SMALL(IF((O$110>=Calc!$L$11:$L$25)*(O$110<=Calc!$S$11:$S$25)*(Calc!$ES$11:$ES$25),ROW(Calc!$X$11:$X$25)-ROW(INDEX(Calc!$X$11:$X$25,1,1))+1),Calc!$EU21)),"")}
C117: {=IFERROR(INDEX(Calc!$X$11:$X$25,SMALL(IF((C$110>=Calc!$L$11:$L$25)*(C$110<=Calc!$S$11:$S$25)*(Calc!$ES$11:$ES$25),ROW(Calc!$X$11:$X$25)-ROW(INDEX(Calc!$X$11:$X$25,1,1))+1),Calc!$EU22)),"")} | E117: {=IFERROR(INDEX(Calc!$X$11:$X$25,SMALL(IF((E$110>=Calc!$L$11:$L$25)*(E$110<=Calc!$S$11:$S$25)*(Calc!$ES$11:$ES$25),ROW(Calc!$X$11:$X$25)-ROW(INDEX(Calc!$X$11:$X$25,1,1))+1),Calc!$EU22)),"")} | G117: {=IFERROR(INDEX(Calc!$X$11:$X$25,SMALL(IF((G$110>=Calc!$L$11:$L$25)*(G$110<=Calc!$S$11:$S$25)*(Calc!$ES$11:$ES$25),ROW(Calc!$X$11:$X$25)-ROW(INDEX(Calc!$X$11:$X$25,1,1))+1),Calc!$EU22)),"")} | I117: {=IFERROR(INDEX(Calc!$X$11:$X$25,SMALL(IF((I$110>=Calc!$L$11:$L$25)*(I$110<=Calc!$S$11:$S$25)*(Calc!$ES$11:$ES$25),ROW(Calc!$X$11:$X$25)-ROW(INDEX(Calc!$X$11:$X$25,1,1))+1),Calc!$EU22)),"")} | K117: {=IFERROR(INDEX(Calc!$X$11:$X$25,SMALL(IF((K$110>=Calc!$L$11:$L$25)*(K$110<=Calc!$S$11:$S$25)*(Calc!$ES$11:$ES$25),ROW(Calc!$X$11:$X$25)-ROW(INDEX(Calc!$X$11:$X$25,1,1))+1),Calc!$EU22)),"")} | M117: {=IFERROR(INDEX(Calc!$X$11:$X$25,SMALL(IF((M$110>=Calc!$L$11:$L$25)*(M$110<=Calc!$S$11:$S$25)*(Calc!$ES$11:$ES$25),ROW(Calc!$X$11:$X$25)-ROW(INDEX(Calc!$X$11:$X$25,1,1))+1),Calc!$EU22)),"")} | O117: {=IFERROR(INDEX(Calc!$X$11:$X$25,SMALL(IF((O$110>=Calc!$L$11:$L$25)*(O$110<=Calc!$S$11:$S$25)*(Calc!$ES$11:$ES$25),ROW(Calc!$X$11:$X$25)-ROW(INDEX(Calc!$X$11:$X$25,1,1))+1),Calc!$EU22)),"")}
C118: {=IFERROR(INDEX(Calc!$X$11:$X$25,SMALL(IF((C$110>=Calc!$L$11:$L$25)*(C$110<=Calc!$S$11:$S$25)*(Calc!$ES$11:$ES$25),ROW(Calc!$X$11:$X$25)-ROW(INDEX(Calc!$X$11:$X$25,1,1))+1),Calc!$EU23)),"")} | E118: {=IFERROR(INDEX(Calc!$X$11:$X$25,SMALL(IF((E$110>=Calc!$L$11:$L$25)*(E$110<=Calc!$S$11:$S$25)*(Calc!$ES$11:$ES$25),ROW(Calc!$X$11:$X$25)-ROW(INDEX(Calc!$X$11:$X$25,1,1))+1),Calc!$EU23)),"")} | G118: {=IFERROR(INDEX(Calc!$X$11:$X$25,SMALL(IF((G$110>=Calc!$L$11:$L$25)*(G$110<=Calc!$S$11:$S$25)*(Calc!$ES$11:$ES$25),ROW(Calc!$X$11:$X$25)-ROW(INDEX(Calc!$X$11:$X$25,1,1))+1),Calc!$EU23)),"")} | I118: {=IFERROR(INDEX(Calc!$X$11:$X$25,SMALL(IF((I$110>=Calc!$L$11:$L$25)*(I$110<=Calc!$S$11:$S$25)*(Calc!$ES$11:$ES$25),ROW(Calc!$X$11:$X$25)-ROW(INDEX(Calc!$X$11:$X$25,1,1))+1),Calc!$EU23)),"")} | K118: {=IFERROR(INDEX(Calc!$X$11:$X$25,SMALL(IF((K$110>=Calc!$L$11:$L$25)*(K$110<=Calc!$S$11:$S$25)*(Calc!$ES$11:$ES$25),ROW(Calc!$X$11:$X$25)-ROW(INDEX(Calc!$X$11:$X$25,1,1))+1),Calc!$EU23)),"")} | M118: {=IFERROR(INDEX(Calc!$X$11:$X$25,SMALL(IF((M$110>=Calc!$L$11:$L$25)*(M$110<=Calc!$S$11:$S$25)*(Calc!$ES$11:$ES$25),ROW(Calc!$X$11:$X$25)-ROW(INDEX(Calc!$X$11:$X$25,1,1))+1),Calc!$EU23)),"")} | O118: {=IFERROR(INDEX(Calc!$X$11:$X$25,SMALL(IF((O$110>=Calc!$L$11:$L$25)*(O$110<=Calc!$S$11:$S$25)*(Calc!$ES$11:$ES$25),ROW(Calc!$X$11:$X$25)-ROW(INDEX(Calc!$X$11:$X$25,1,1))+1),Calc!$EU23)),"")}
C119: {=IFERROR(INDEX(Calc!$X$11:$X$25,SMALL(IF((C$110>=Calc!$L$11:$L$25)*(C$110<=Calc!$S$11:$S$25)*(Calc!$ES$11:$ES$25),ROW(Calc!$X$11:$X$25)-ROW(INDEX(Calc!$X$11:$X$25,1,1))+1),Calc!$EU24)),"")} | E119: {=IFERROR(INDEX(Calc!$X$11:$X$25,SMALL(IF((E$110>=Calc!$L$11:$L$25)*(E$110<=Calc!$S$11:$S$25)*(Calc!$ES$11:$ES$25),ROW(Calc!$X$11:$X$25)-ROW(INDEX(Calc!$X$11:$X$25,1,1))+1),Calc!$EU24)),"")} | G119: {=IFERROR(INDEX(Calc!$X$11:$X$25,SMALL(IF((G$110>=Calc!$L$11:$L$25)*(G$110<=Calc!$S$11:$S$25)*(Calc!$ES$11:$ES$25),ROW(Calc!$X$11:$X$25)-ROW(INDEX(Calc!$X$11:$X$25,1,1))+1),Calc!$EU24)),"")} | I119: {=IFERROR(INDEX(Calc!$X$11:$X$25,SMALL(IF((I$110>=Calc!$L$11:$L$25)*(I$110<=Calc!$S$11:$S$25)*(Calc!$ES$11:$ES$25),ROW(Calc!$X$11:$X$25)-ROW(INDEX(Calc!$X$11:$X$25,1,1))+1),Calc!$EU24)),"")} | K119: {=IFERROR(INDEX(Calc!$X$11:$X$25,SMALL(IF((K$110>=Calc!$L$11:$L$25)*(K$110<=Calc!$S$11:$S$25)*(Calc!$ES$11:$ES$25),ROW(Calc!$X$11:$X$25)-ROW(INDEX(Calc!$X$11:$X$25,1,1))+1),Calc!$EU24)),"")} | M119: {=IFERROR(INDEX(Calc!$X$11:$X$25,SMALL(IF((M$110>=Calc!$L$11:$L$25)*(M$110<=Calc!$S$11:$S$25)*(Calc!$ES$11:$ES$25),ROW(Calc!$X$11:$X$25)-ROW(INDEX(Calc!$X$11:$X$25,1,1))+1),Calc!$EU24)),"")} | O119: {=IFERROR(INDEX(Calc!$X$11:$X$25,SMALL(IF((O$110>=Calc!$L$11:$L$25)*(O$110<=Calc!$S$11:$S$25)*(Calc!$ES$11:$ES$25),ROW(Calc!$X$11:$X$25)-ROW(INDEX(Calc!$X$11:$X$25,1,1))+1),Calc!$EU24)),"")}
C120: {=IFERROR(INDEX(Calc!$X$11:$X$25,SMALL(IF((C$110>=Calc!$L$11:$L$25)*(C$110<=Calc!$S$11:$S$25)*(Calc!$ES$11:$ES$25),ROW(Calc!$X$11:$X$25)-ROW(INDEX(Calc!$X$11:$X$25,1,1))+1),Calc!$EU25)),"")} | E120: {=IFERROR(INDEX(Calc!$X$11:$X$25,SMALL(IF((E$110>=Calc!$L$11:$L$25)*(E$110<=Calc!$S$11:$S$25)*(Calc!$ES$11:$ES$25),ROW(Calc!$X$11:$X$25)-ROW(INDEX(Calc!$X$11:$X$25,1,1))+1),Calc!$EU25)),"")} | G120: {=IFERROR(INDEX(Calc!$X$11:$X$25,SMALL(IF((G$110>=Calc!$L$11:$L$25)*(G$110<=Calc!$S$11:$S$25)*(Calc!$ES$11:$ES$25),ROW(Calc!$X$11:$X$25)-ROW(INDEX(Calc!$X$11:$X$25,1,1))+1),Calc!$EU25)),"")} | I120: {=IFERROR(INDEX(Calc!$X$11:$X$25,SMALL(IF((I$110>=Calc!$L$11:$L$25)*(I$110<=Calc!$S$11:$S$25)*(Calc!$ES$11:$ES$25),ROW(Calc!$X$11:$X$25)-ROW(INDEX(Calc!$X$11:$X$25,1,1))+1),Calc!$EU25)),"")} | K120: {=IFERROR(INDEX(Calc!$X$11:$X$25,SMALL(IF((K$110>=Calc!$L$11:$L$25)*(K$110<=Calc!$S$11:$S$25)*(Calc!$ES$11:$ES$25),ROW(Calc!$X$11:$X$25)-ROW(INDEX(Calc!$X$11:$X$25,1,1))+1),Calc!$EU25)),"")} | M120: {=IFERROR(INDEX(Calc!$X$11:$X$25,SMALL(IF((M$110>=Calc!$L$11:$L$25)*(M$110<=Calc!$S$11:$S$25)*(Calc!$ES$11:$ES$25),ROW(Calc!$X$11:$X$25)-ROW(INDEX(Calc!$X$11:$X$25,1,1))+1),Calc!$EU25)),"")} | O120: {=IFERROR(INDEX(Calc!$X$11:$X$25,SMALL(IF((O$110>=Calc!$L$11:$L$25)*(O$110<=Calc!$S$11:$S$25)*(Calc!$ES$11:$ES$25),ROW(Calc!$X$11:$X$25)-ROW(INDEX(Calc!$X$11:$X$25,1,1))+1),Calc!$EU25)),"")}
C121: {=IFERROR(INDEX(Calc!$X$11:$X$25,SMALL(IF((C$110>=Calc!$L$11:$L$25)*(C$110<=Calc!$S$11:$S$25)*(Calc!$ES$11:$ES$25),ROW(Calc!$X$11:$X$25)-ROW(INDEX(Calc!$X$11:$X$25,1,1))+1),Calc!$EU26)),"")} | E121: {=IFERROR(INDEX(Calc!$X$11:$X$25,SMALL(IF((E$110>=Calc!$L$11:$L$25)*(E$110<=Calc!$S$11:$S$25)*(Calc!$ES$11:$ES$25),ROW(Calc!$X$11:$X$25)-ROW(INDEX(Calc!$X$11:$X$25,1,1))+1),Calc!$EU26)),"")} | G121: {=IFERROR(INDEX(Calc!$X$11:$X$25,SMALL(IF((G$110>=Calc!$L$11:$L$25)*(G$110<=Calc!$S$11:$S$25)*(Calc!$ES$11:$ES$25),ROW(Calc!$X$11:$X$25)-ROW(INDEX(Calc!$X$11:$X$25,1,1))+1),Calc!$EU26)),"")} | I121: {=IFERROR(INDEX(Calc!$X$11:$X$25,SMALL(IF((I$110>=Calc!$L$11:$L$25)*(I$110<=Calc!$S$11:$S$25)*(Calc!$ES$11:$ES$25),ROW(Calc!$X$11:$X$25)-ROW(INDEX(Calc!$X$11:$X$25,1,1))+1),Calc!$EU26)),"")} | K121: {=IFERROR(INDEX(Calc!$X$11:$X$25,SMALL(IF((K$110>=Calc!$L$11:$L$25)*(K$110<=Calc!$S$11:$S$25)*(Calc!$ES$11:$ES$25),ROW(Calc!$X$11:$X$25)-ROW(INDEX(Calc!$X$11:$X$25,1,1))+1),Calc!$EU26)),"")} | M121: {=IFERROR(INDEX(Calc!$X$11:$X$25,SMALL(IF((M$110>=Calc!$L$11:$L$25)*(M$110<=Calc!$S$11:$S$25)*(Calc!$ES$11:$ES$25),ROW(Calc!$X$11:$X$25)-ROW(INDEX(Calc!$X$11:$X$25,1,1))+1),Calc!$EU26)),"")} | O121: {=IFERROR(INDEX(Calc!$X$11:$X$25,SMALL(IF((O$110>=Calc!$L$11:$L$25)*(O$110<=Calc!$S$11:$S$25)*(Calc!$ES$11:$ES$25),ROW(Calc!$X$11:$X$25)-ROW(INDEX(Calc!$X$11:$X$25,1,1))+1),Calc!$EU26)),"")}
C123: =IFERROR(IF(LEN(O110)=0,"",IF(MONTH(O110+1)=MONTH(O110),O110+1,"")),"") -> 44606 | E123: =IFERROR(IF(LEN(C123)=0,"",IF(MONTH(C123+1)=MONTH(C123),C123+1,"")),"") -> 44607 | G123: =IFERROR(IF(LEN(E123)=0,"",IF(MONTH(E123+1)=MONTH(E123),E123+1,"")),"") -> 44608 | I123: =IFERROR(IF(LEN(G123)=0,"",IF(MONTH(G123+1)=MONTH(G123),G123+1,"")),"") -> 44609 | K123: =IFERROR(IF(LEN(I123)=0,"",IF(MONTH(I123+1)=MONTH(I123),I123+1,"")),"") -> 44610 | M123: =IFERROR(IF(LEN(K123)=0,"",IF(MONTH(K123+1)=MONTH(K123),K123+1,"")),"") -> 44611 | O123: =IFERROR(IF(LEN(M123)=0,"",IF(MONTH(M123+1)=MONTH(M123),M123+1,"")),"") -> 44612
C125: {=IFERROR(INDEX(Calc!$X$11:$X$25,SMALL(IF((C$123>=Calc!$L$11:$L$25)*(C$123<=Calc!$S$11:$S$25)*(Calc!$ES$11:$ES$25),ROW(Calc!$X$11:$X$25)-ROW(INDEX(Calc!$X$11:$X$25,1,1))+1),Calc!$EU17)),"")} -> Jonah Peterson | E125: {=IFERROR(INDEX(Calc!$X$11:$X$25,SMALL(IF((E$123>=Calc!$L$11:$L$25)*(E$123<=Calc!$S$11:$S$25)*(Calc!$ES$11:$ES$25),ROW(Calc!$X$11:$X$25)-ROW(INDEX(Calc!$X$11:$X$25,1,1))+1),Calc!$EU17)),"")} -> Jonah Peterson | G125: {=IFERROR(INDEX(Calc!$X$11:$X$25,SMALL(IF((G$123>=Calc!$L$11:$L$25)*(G$123<=Calc!$S$11:$S$25)*(Calc!$ES$11:$ES$25),ROW(Calc!$X$11:$X$25)-ROW(INDEX(Calc!$X$11:$X$25,1,1))+1),Calc!$EU17)),"")} | I125: {=IFERROR(INDEX(Calc!$X$11:$X$25,SMALL(IF((I$123>=Calc!$L$11:$L$25)*(I$123<=Calc!$S$11:$S$25)*(Calc!$ES$11:$ES$25),ROW(Calc!$X$11:$X$25)-ROW(INDEX(Calc!$X$11:$X$25,1,1))+1),Calc!$EU17)),"")} | K125: {=IFERROR(INDEX(Calc!$X$11:$X$25,SMALL(IF((K$123>=Calc!$L$11:$L$25)*(K$123<=Calc!$S$11:$S$25)*(Calc!$ES$11:$ES$25),ROW(Calc!$X$11:$X$25)-ROW(INDEX(Calc!$X$11:$X$25,1,1))+1),Calc!$EU17)),"")} | M125: {=IFERROR(INDEX(Calc!$X$11:$X$25,SMALL(IF((M$123>=Calc!$L$11:$L$25)*(M$123<=Calc!$S$11:$S$25)*(Calc!$ES$11:$ES$25),ROW(Calc!$X$11:$X$25)-ROW(INDEX(Calc!$X$11:$X$25,1,1))+1),Calc!$EU17)),"")} | O125: {=IFERROR(INDEX(Calc!$X$11:$X$25,SMALL(IF((O$123>=Calc!$L$11:$L$25)*(O$123<=Calc!$S$11:$S$25)*(Calc!$ES$11:$ES$25),ROW(Calc!$X$11:$X$25)-ROW(INDEX(Calc!$X$11:$X$25,1,1))+1),Calc!$EU17)),"")}
C126: {=IFERROR(INDEX(Calc!$X$11:$X$25,SMALL(IF((C$123>=Calc!$L$11:$L$25)*(C$123<=Calc!$S$11:$S$25)*(Calc!$ES$11:$ES$25),ROW(Calc!$X$11:$X$25)-ROW(INDEX(Calc!$X$11:$X$25,1,1))+1),Calc!$EU18)),"")} | E126: {=IFERROR(INDEX(Calc!$X$11:$X$25,SMALL(IF((E$123>=Calc!$L$11:$L$25)*(E$123<=Calc!$S$11:$S$25)*(Calc!$ES$11:$ES$25),ROW(Calc!$X$11:$X$25)-ROW(INDEX(Calc!$X$11:$X$25,1,1))+1),Calc!$EU18)),"")} | G126: {=IFERROR(INDEX(Calc!$X$11:$X$25,SMALL(IF((G$123>=Calc!$L$11:$L$25)*(G$123<=Calc!$S$11:$S$25)*(Calc!$ES$11:$ES$25),ROW(Calc!$X$11:$X$25)-ROW(INDEX(Calc!$X$11:$X$25,1,1))+1),Calc!$EU18)),"")} | I126: {=IFERROR(INDEX(Calc!$X$11:$X$25,SMALL(IF((I$123>=Calc!$L$11:$L$25)*(I$123<=Calc!$S$11:$S$25)*(Calc!$ES$11:$ES$25),ROW(Calc!$X$11:$X$25)-ROW(INDEX(Calc!$X$11:$X$25,1,1))+1),Calc!$EU18)),"")} | K126: {=IFERROR(INDEX(Calc!$X$11:$X$25,SMALL(IF((K$123>=Calc!$L$11:$L$25)*(K$123<=Calc!$S$11:$S$25)*(Calc!$ES$11:$ES$25),ROW(Calc!$X$11:$X$25)-ROW(INDEX(Calc!$X$11:$X$25,1,1))+1),Calc!$EU18)),"")} | M126: {=IFERROR(INDEX(Calc!$X$11:$X$25,SMALL(IF((M$123>=Calc!$L$11:$L$25)*(M$123<=Calc!$S$11:$S$25)*(Calc!$ES$11:$ES$25),ROW(Calc!$X$11:$X$25)-ROW(INDEX(Calc!$X$11:$X$25,1,1))+1),Calc!$EU18)),"")} | O126: {=IFERROR(INDEX(Calc!$X$11:$X$25,SMALL(IF((O$123>=Calc!$L$11:$L$25)*(O$123<=Calc!$S$11:$S$25)*(Calc!$ES$11:$ES$25),ROW(Calc!$X$11:$X$25)-ROW(INDEX(Calc!$X$11:$X$25,1,1))+1),Calc!$EU18)),"")}
C127: {=IFERROR(INDEX(Calc!$X$11:$X$25,SMALL(IF((C$123>=Calc!$L$11:$L$25)*(C$123<=Calc!$S$11:$S$25)*(Calc!$ES$11:$ES$25),ROW(Calc!$X$11:$X$25)-ROW(INDEX(Calc!$X$11:$X$25,1,1))+1),Calc!$EU19)),"")} | E127: {=IFERROR(INDEX(Calc!$X$11:$X$25,SMALL(IF((E$123>=Calc!$L$11:$L$25)*(E$123<=Calc!$S$11:$S$25)*(Calc!$ES$11:$ES$25),ROW(Calc!$X$11:$X$25)-ROW(INDEX(Calc!$X$11:$X$25,1,1))+1),Calc!$EU19)),"")} | G127: {=IFERROR(INDEX(Calc!$X$11:$X$25,SMALL(IF((G$123>=Calc!$L$11:$L$25)*(G$123<=Calc!$S$11:$S$25)*(Calc!$ES$11:$ES$25),ROW(Calc!$X$11:$X$25)-ROW(INDEX(Calc!$X$11:$X$25,1,1))+1),Calc!$EU19)),"")} | I127: {=IFERROR(INDEX(Calc!$X$11:$X$25,SMALL(IF((I$123>=Calc!$L$11:$L$25)*(I$123<=Calc!$S$11:$S$25)*(Calc!$ES$11:$ES$25),ROW(Calc!$X$11:$X$25)-ROW(INDEX(Calc!$X$11:$X$25,1,1))+1),Calc!$EU19)),"")} | K127: {=IFERROR(INDEX(Calc!$X$11:$X$25,SMALL(IF((K$123>=Calc!$L$11:$L$25)*(K$123<=Calc!$S$11:$S$25)*(Calc!$ES$11:$ES$25),ROW(Calc!$X$11:$X$25)-ROW(INDEX(Calc!$X$11:$X$25,1,1))+1),Calc!$EU19)),"")} | M127: {=IFERROR(INDEX(Calc!$X$11:$X$25,SMALL(IF((M$123>=Calc!$L$11:$L$25)*(M$123<=Calc!$S$11:$S$25)*(Calc!$ES$11:$ES$25),ROW(Calc!$X$11:$X$25)-ROW(INDEX(Calc!$X$11:$X$25,1,1))+1),Calc!$EU19)),"")} | O127: {=IFERROR(INDEX(Calc!$X$11:$X$25,SMALL(IF((O$123>=Calc!$L$11:$L$25)*(O$123<=Calc!$S$11:$S$25)*(Calc!$ES$11:$ES$25),ROW(Calc!$X$11:$X$25)-ROW(INDEX(Calc!$X$11:$X$25,1,1))+1),Calc!$EU19)),"")}
