Workbook

Sheet Dashboard
C2: EMPLOYEE EVALUATION
C3: DASHBOARD
C7: Settings
C8: Total Score Reference | D8: Performance | E8: Points per review
C9: 0 | D9: Poor | E9: 1
C10: 25 | D10: Unsatisfactory | E10: 2
C11: 50 | D11: Satisfactory | E11: 3
C12: 75 | D12: Good | E12: 4
C13: 90 | D13: Excellent | E13: 5
C15: Performance Evaluation Bell Curve
C16: Evaluation | D16: Expected Performance | E16: Actual Performance
C17: =$D9 -> Poor | D17: 0.1 | E17: =Calc!$U4 -> 0.2
C18: =$D10 -> Unsatisfactory | D18: 0.2 | E18: =Calc!$U5 -> 0.2
C19: =$D11 -> Satisfactory | D19: 0.4 | E19: =Calc!$U6 -> 0.2
C20: =$D12 -> Good | D20: 0.2 | E20: =Calc!$U7 -> 0.2
C21: =$D13 -> Excellent | D21: 0.1 | E21: =Calc!$U8 -> 0.2
C23: Top Performer | D23: 2nd Best Performer | E23: 3rd Best Performer
C24: =Calc!S$12 -> Richard Blue | D24: =Calc!S$15 -> Anthony Hopkins | E24: =Calc!S$18 -> Angela Martini
C25: =Calc!T$12 -> 100 | D25: =Calc!T$15 -> 89 | E25: =Calc!T$18 -> 59
C26: =Calc!U$12 -> Excellent | D26: =Calc!U$15 -> Good | E26: =Calc!U$18 -> Satisfactory
C27: =Calc!V$12 -> Manufacturing | D27: =Calc!V$15 -> Manufacturing | E27: =Calc!V$18 -> Sales & Marketing
C29: Worst Performer | D29: 2nd Worst Performer | E29: 3rd Worst Performer
C30: =Calc!S$21 -> Jack Morrison | D30: =Calc!S$24 -> Anthony Joshua | E30: =Calc!S$27 -> Angela Martini
C31: =Calc!T$21 -> 23 | D31: =Calc!T$24 -> 47 | E31: =Calc!T$27 -> 59
C32: =Calc!U$21 -> Poor | D32: =Calc!U$24 -> Unsatisfactory | E32: =Calc!U$27 -> Satisfactory
C33: =Calc!V$21 -> CEO Office | D33: =Calc!V$24 -> Sales & Marketing | E33: =Calc!V$27 -> Sales & Marketing

Sheet Database
C2: EMPLOYEE EVALUATION
C3: DATABASE
B5: # | C5: NAME SURNAME | E5: DEPARTMENT / TEAM | F5: JOB TITLE | G5: EMPLOYMENT DATE | H5: REVIEW PERIOD | I5: REVIEWING MANAGER
B6: 1 | C6: Jack Morrison | D6: =IF(ISBLANK(C6),"","Review") -> Review | E6: CEO Office | F6: General Manager | G6: 44681 | H6: First Half of 2019 | I6: Shareholders
B7: 2 | C7: Anthony Joshua | D7: =IF(ISBLANK(C7),"","Review") -> Review | E7: Sales & Marketing | F7: Head of Sales & Marketing | G7: 44533 | H7: First Half of 2019 | I7: Jack Morrison
B8: 3 | C8: Angela Martini | D8: =IF(ISBLANK(C8),"","Review") -> Review | E8: Sales & Marketing | F8: Account Manager | G8: 44373 | H8: First Half of 2019 | I8: Anthony Joshua
B9: 4 | C9: Anthony Hopkins | D9: =IF(ISBLANK(C9),"","Review") -> Review | E9: Manufacturing | F9: Manufacturing Officer | G9: 44533 | H9: First Half of 2019 | I9: Jack Morrison
B10: 5 | C10: Richard Blue | D10: =IF(ISBLANK(C10),"","Review") -> Review | E10: Manufacturing | F10: Manufacturing Officer | G10: 44373 | H10: First Half of 2019 | I10: Anthony Joshua
B11: 6 | D11: =IF(ISBLANK(C11),"","Review")
B12: 7 | D12: =IF(ISBLANK(C12),"","Review")
B13: 8 | D13: =IF(ISBLANK(C13),"","Review")
B14: 9 | D14: =IF(ISBLANK(C14),"","Review")
B15: 10 | D15: =IF(ISBLANK(C15),"","Review")
B16: 11
B17: 12
B18: 13
B19: 14
B20: 15
B21: 16
B22: 17
B23: 18
B24: 19
B25: 20
B26: 21
B27: 22
... B55: 50

Sheet Employee1
C2: EMPLOYEE EVALUATION
C3: INDIVIDUAL REVIEW
E6: Employee # | F6: =IF(LEN(Database!$B$6)>0,Database!$B$6,"") -> 1
E7: Employee Name | F7: =IF(LEN(INDEX(Database!$B$6:$I$15,$F$6,2))=0,"",INDEX(Database!$B$6:$I$15,$F$6,2)) -> Jack Morrison
E8: Department | F8: =IF(LEN(INDEX(Database!$B$6:$I$15,$F$6,4))=0,"",INDEX(Database!$B$6:$I$15,$F$6,4)) -> CEO Office
E9: Job Title | F9: =IF(LEN(INDEX(Database!$B$6:$I$15,$F$6,5))=0,"",INDEX(Database!$B$6:$I$15,$F$6,5)) -> General Manager
E10: Employment Date | F10: =IF(LEN(INDEX(Database!$B$6:$I$15,$F$6,6))=0,"",INDEX(Database!$B$6:$I$15,$F$6,6)) -> 44681
E11: Review Period | F11: =IF(LEN(INDEX(Database!$B$6:$I$15,$F$6,7))=0,"",INDEX(Database!$B$6:$I$15,$F$6,7)) -> First Half of 2019
E12: Reviewer | F12: =IF(LEN(INDEX(Database!$B$6:$I$15,$F$6,8))=0,"",INDEX(Database!$B$6:$I$15,$F$6,8)) -> Shareholders
E13: Review Date
C15: Personal Evaluation | D15: =IF(LEN(Dashboard!$D$9)=0,"",Dashboard!$D$9) -> Poor | E15: =IF(LEN(Dashboard!$D$10)=0,"",Dashboard!$D$10) -> Unsatisfactory | F15: =IF(LEN(Dashboard!$D$11)=0,"",Dashboard!$D$11) -> Satisfactory | G15: =IF(LEN(Dashboard!$D$12)=0,"",Dashboard!$D$12) -> Good | H15: =IF(LEN(Dashboard!$D$13)=0,"",Dashboard!$D$13) -> Excellent
C16: Job Knowledge | D16: X | K16: =IF(COUNTA(D16:H16)>1,"Please check this row!","")
C17: Productivity | D17: X | K17: =IF(COUNTA(D17:H17)>1,"Please check this row!","")
C18: Work Quality | D18: X | K18: =IF(COUNTA(D18:H18)>1,"Please check this row!","")
C19: Consistency | D19: X | K19: =IF(COUNTA(D19:H19)>1,"Please check this row!","")
C20: Communication Skills | D20: X | K20: =IF(COUNTA(D20:H20)>1,"Please check this row!","")
C21: Independent Work | D21: X | K21: =IF(COUNTA(D21:H21)>1,"Please check this row!","")
C22: Creativity | D22: X | K22: =IF(COUNTA(D22:H22)>1,"Please check this row!","")
C23: Punctuality | D23: X | K23: =IF(COUNTA(D23:H23)>1,"Please check this row!","")
C24: Honesty | D24: X | K24: =IF(COUNTA(D24:H24)>1,"Please check this row!","")
C25: Integrity | F25: X | K25: =IF(COUNTA(D25:H25)>1,"Please check this row!","")
C26: Group Work | D26: X | K26: =IF(COUNTA(D26:H26)>1,"Please check this row!","")
C27: Initiative | E27: X | K27: =IF(COUNTA(D27:H27)>1,"Please check this row!","")
C28: Client Relations | D28: X | K28: =IF(COUNTA(D28:H28)>1,"Please check this row!","")
C29: Coworker Relations | D29: X | K29: =IF(COUNTA(D29:H29)>1,"Please check this row!","")
C30: Engagement | D30: X | K30: =IF(COUNTA(D30:H30)>1,"Please check this row!","")
C31: Takes Initiative | D31: X | K31: =IF(COUNTA(D31:H31)>1,"Please check this row!","")
C32: Attendance | D32: X | K32: =IF(COUNTA(D32:H32)>1,"Please check this row!","")
C33: Responsibility | D33: X | K33: =IF(COUNTA(D33:H33)>1,"Please check this row!","")
C34: Enthusiasm | D34: X | K34: =IF(COUNTA(D34:H34)>1,"Please check this row!","")
C35: Technical Skills | D35: X | K35: =IF(COUNTA(D35:H35)>1,"Please check this row!","")
C37: OVERALL SCORE: | E37: =INDEX(Calc!$K$4:$L$53,MATCH($F$6,Calc!$B$4:$B$53,0),1) -> 23 | F37: OVERALL PERFORMANCE: | H37: =INDEX(Calc!$K$4:$L$53,MATCH($F$6,Calc!$B$4:$B$53,0),2) -> Poor
C39: Comments
C46: Employee Signature | F46: Reviewer Signature

Sheet Employee2
C2: EMPLOYEE EVALUATION
C3: INDIVIDUAL REVIEW
E6: Employee # | F6: =IF(LEN(Database!$B$7)>0,Database!$B$7,"") -> 2
E7: Employee Name | F7: =IF(LEN(INDEX(Database!$B$6:$I$15,$F$6,2))=0,"",INDEX(Database!$B$6:$I$15,$F$6,2)) -> Anthony Joshua
E8: Department | F8: =IF(LEN(INDEX(Database!$B$6:$I$15,$F$6,4))=0,"",INDEX(Database!$B$6:$I$15,$F$6,4)) -> Sales & Marketing
E9: Job Title | F9: =IF(LEN(INDEX(Database!$B$6:$I$15,$F$6,5))=0,"",INDEX(Database!$B$6:$I$15,$F$6,5)) -> Head of Sales & Marketing
E10: Employment Date | F10: =IF(LEN(INDEX(Database!$B$6:$I$15,$F$6,6))=0,"",INDEX(Database!$B$6:$I$15,$F$6,6)) -> 44533
E11: Review Period | F11: =IF(LEN(INDEX(Database!$B$6:$I$15,$F$6,7))=0,"",INDEX(Database!$B$6:$I$15,$F$6,7)) -> First Half of 2019
E12: Reviewer | F12: =IF(LEN(INDEX(Database!$B$6:$I$15,$F$6,8))=0,"",INDEX(Database!$B$6:$I$15,$F$6,8)) -> Jack Morrison
E13: Review Date
C15: Personal Evaluation | D15: =IF(LEN(Dashboard!$D$9)=0,"",Dashboard!$D$9) -> Poor | E15: =IF(LEN(Dashboard!$D$10)=0,"",Dashboard!$D$10) -> Unsatisfactory | F15: =IF(LEN(Dashboard!$D$11)=0,"",Dashboard!$D$11) -> Satisfactory | G15: =IF(LEN(Dashboard!$D$12)=0,"",Dashboard!$D$12) -> Good | H15: =IF(LEN(Dashboard!$D$13)=0,"",Dashboard!$D$13) -> Excellent
C16: =Employee1!$C16 -> Job Knowledge | E16: X | K16: =IF(COUNTA(D16:H16)>1,"Please check this row!","")
C17: =Employee1!$C17 -> Productivity | E17: X | K17: =IF(COUNTA(D17:H17)>1,"Please check this row!","")
C18: =Employee1!$C18 -> Work Quality | E18: X | K18: =IF(COUNTA(D18:H18)>1,"Please check this row!","")
C19: =Employee1!$C19 -> Consistency | D19: X | K19: =IF(COUNTA(D19:H19)>1,"Please check this row!","")
C20: =Employee1!$C20 -> Communication Skills | E20: X | K20: =IF(COUNTA(D20:H20)>1,"Please check this row!","")
C21: =Employee1!$C21 -> Independent Work | E21: X | K21: =IF(COUNTA(D21:H21)>1,"Please check this row!","")
C22: =Employee1!$C22 -> Creativity | F22: X | K22: =IF(COUNTA(D22:H22)>1,"Please check this row!","")
C23: =Employee1!$C23 -> Punctuality | F23: X | K23: =IF(COUNTA(D23:H23)>1,"Please check this row!","")
C24: =Employee1!$C24 -> Honesty | F24: X | K24: =IF(COUNTA(D24:H24)>1,"Please check this row!","")
C25: =Employee1!$C25 -> Integrity | F25: X | K25: =IF(COUNTA(D25:H25)>1,"Please check this row!","")
C26: =Employee1!$C26 -> Group Work | D26: X | K26: =IF(COUNTA(D26:H26)>1,"Please check this row!","")
C27: =Employee1!$C27 -> Initiative | E27: X | K27: =IF(COUNTA(D27:H27)>1,"Please check this row!","")
C28: =Employee1!$C28 -> Client Relations | D28: X | K28: =IF(COUNTA(D28:H28)>1,"Please check this row!","")
C29: =Employee1!$C29 -> Coworker Relations | D29: X | K29: =IF(COUNTA(D29:H29)>1,"Please check this row!","")
C30: =Employee1!$C30 -> Engagement | F30: X | K30: =IF(COUNTA(D30:H30)>1,"Please check this row!","")
C31: =Employee1!$C31 -> Takes Initiative | F31: X | K31: =IF(COUNTA(D31:H31)>1,"Please check this row!","")
C32: =Employee1!$C32 -> Attendance | G32: X | K32: =IF(COUNTA(D32:H32)>1,"Please check this row!","")
C33: =Employee1!$C33 -> Responsibility | E33: X | K33: =IF(COUNTA(D33:H33)>1,"Please check this row!","")
C34: =Employee1!$C34 -> Enthusiasm | F34: X | K34: =IF(COUNTA(D34:H34)>1,"Please check this row!","")
C35: =Employee1!$C35 -> Technical Skills | G35: X | K35: =IF(COUNTA(D35:H35)>1,"Please check this row!","")
C37: OVERALL SCORE: | E37: =INDEX(Calc!$K$4:$L$53,MATCH($F$6,Calc!$B$4:$B$53,0),1) -> 47 | F37: OVERALL PERFORMANCE: | H37: =INDEX(Calc!$K$4:$L$53,MATCH($F$6,Calc!$B$4:$B$53,0),2) -> Unsatisfactory
C39: Comments
C46: Employee Signature | F46: Reviewer Signature

Sheet Employee3
C2: EMPLOYEE EVALUATION
C3: INDIVIDUAL REVIEW
E6: Employee # | F6: =IF(LEN(Database!$B$8)>0,Database!$B$8,"") -> 3
E7: Employee Name | F7: =IF(LEN(INDEX(Database!$B$6:$I$15,$F$6,2))=0,"",INDEX(Database!$B$6:$I$15,$F$6,2)) -> Angela Martini
E8: Department | F8: =IF(LEN(INDEX(Database!$B$6:$I$15,$F$6,4))=0,"",INDEX(Database!$B$6:$I$15,$F$6,4)) -> Sales & Marketing
E9: Job Title | F9: =IF(LEN(INDEX(Database!$B$6:$I$15,$F$6,5))=0,"",INDEX(Database!$B$6:$I$15,$F$6,5)) -> Account Manager
E10: Employment Date | F10: =IF(LEN(INDEX(Database!$B$6:$I$15,$F$6,6))=0,"",INDEX(Database!$B$6:$I$15,$F$6,6)) -> 44373
E11: Review Period | F11: =IF(LEN(INDEX(Database!$B$6:$I$15,$F$6,7))=0,"",INDEX(Database!$B$6:$I$15,$F$6,7)) -> First Half of 2019
E12: Reviewer | F12: =IF(LEN(INDEX(Database!$B$6:$I$15,$F$6,8))=0,"",INDEX(Database!$B$6:$I$15,$F$6,8)) -> Anthony Joshua
E13: Review Date
C15: Personal Evaluation | D15: =IF(LEN(Dashboard!$D$9)=0,"",Dashboard!$D$9) -> Poor | E15: =IF(LEN(Dashboard!$D$10)=0,"",Dashboard!$D$10) -> Unsatisfactory | F15: =IF(LEN(Dashboard!$D$11)=0,"",Dashboard!$D$11) -> Satisfactory | G15: =IF(LEN(Dashboard!$D$12)=0,"",Dashboard!$D$12) -> Good | H15: =IF(LEN(Dashboard!$D$13)=0,"",Dashboard!$D$13) -> Excellent
C16: =Employee1!$C16 -> Job Knowledge | E16: X | K16: =IF(COUNTA(D16:H16)>1,"Please check this row!","")
C17: =Employee1!$C17 -> Productivity | E17: X | K17: =IF(COUNTA(D17:H17)>1,"Please check this row!","")
C18: =Employee1!$C18 -> Work Quality | E18: X | K18: =IF(COUNTA(D18:H18)>1,"Please check this row!","")
C19: =Employee1!$C19 -> Consistency | F19: X | K19: =IF(COUNTA(D19:H19)>1,"Please check this row!","")
C20: =Employee1!$C20 -> Communication Skills | F20: X | K20: =IF(COUNTA(D20:H20)>1,"Please check this row!","")
C21: =Employee1!$C21 -> Independent Work | F21: X | K21: =IF(COUNTA(D21:H21)>1,"Please check this row!","")
C22: =Employee1!$C22 -> Creativity | G22: X | K22: =IF(COUNTA(D22:H22)>1,"Please check this row!","")
C23: =Employee1!$C23 -> Punctuality | F23: X | K23: =IF(COUNTA(D23:H23)>1,"Please check this row!","")
C24: =Employee1!$C24 -> Honesty | F24: X | K24: =IF(COUNTA(D24:H24)>1,"Please check this row!","")
C25: =Employee1!$C25 -> Integrity | F25: X | K25: =IF(COUNTA(D25:H25)>1,"Please check this row!","")
C26: =Employee1!$C26 -> Group Work | G26: X | K26: =IF(COUNTA(D26:H26)>1,"Please check this row!","")
C27: =Employee1!$C27 -> Initiative | E27: X | K27: =IF(COUNTA(D27:H27)>1,"Please check this row!","")
C28: =Employee1!$C28 -> Client Relations | D28: X | K28: =IF(COUNTA(D28:H28)>1,"Please check this row!","")
C29: =Employee1!$C29 -> Coworker Relations | D29: X | K29: =IF(COUNTA(D29:H29)>1,"Please check this row!","")
C30: =Employee1!$C30 -> Engagement | F30: X | K30: =IF(COUNTA(D30:H30)>1,"Please check this row!","")
C31: =Employee1!$C31 -> Takes Initiative | F31: X | K31: =IF(COUNTA(D31:H31)>1,"Please check this row!","")
C32: =Employee1!$C32 -> Attendance | G32: X | K32: =IF(COUNTA(D32:H32)>1,"Please check this row!","")
C33: =Employee1!$C33 -> Responsibility | G33: X | K33: =IF(COUNTA(D33:H33)>1,"Please check this row!","")
C34: =Employee1!$C34 -> Enthusiasm | G34: X | K34: =IF(COUNTA(D34:H34)>1,"Please check this row!","")
C35: =Employee1!$C35 -> Technical Skills | H35: X | K35: =IF(COUNTA(D35:H35)>1,"Please check this row!","")
C37: OVERALL SCORE: | E37: =INDEX(Calc!$K$4:$L$53,MATCH($F$6,Calc!$B$4:$B$53,0),1) -> 59 | F37: OVERALL PERFORMANCE: | H37: =INDEX(Calc!$K$4:$L$53,MATCH($F$6,Calc!$B$4:$B$53,0),2) -> Satisfactory
C39: Comments
C46: Employee Signature | F46: Reviewer Signature

Sheet Employee4
C2: EMPLOYEE EVALUATION
C3: INDIVIDUAL REVIEW
E6: Employee # | F6: =IF(LEN(Database!$B$9)>0,Database!$B$9,"") -> 4
E7: Employee Name | F7: =IF(LEN(INDEX(Database!$B$6:$I$15,$F$6,2))=0,"",INDEX(Database!$B$6:$I$15,$F$6,2)) -> Anthony Hopkins
E8: Department | F8: =IF(LEN(INDEX(Database!$B$6:$I$15,$F$6,4))=0,"",INDEX(Database!$B$6:$I$15,$F$6,4)) -> Manufacturing
E9: Job Title | F9: =IF(LEN(INDEX(Database!$B$6:$I$15,$F$6,5))=0,"",INDEX(Database!$B$6:$I$15,$F$6,5)) -> Manufacturing Officer
E10: Employment Date | F10: =IF(LEN(INDEX(Database!$B$6:$I$15,$F$6,6))=0,"",INDEX(Database!$B$6:$I$15,$F$6,6)) -> 44533
E11: Review Period | F11: =IF(LEN(INDEX(Database!$B$6:$I$15,$F$6,7))=0,"",INDEX(Database!$B$6:$I$15,$F$6,7)) -> First Half of 2019
E12: Reviewer | F12: =IF(LEN(INDEX(Database!$B$6:$I$15,$F$6,8))=0,"",INDEX(Database!$B$6:$I$15,$F$6,8)) -> Jack Morrison
E13: Review Date
C15: Personal Evaluation | D15: =IF(LEN(Dashboard!$D$9)=0,"",Dashboard!$D$9) -> Poor | E15: =IF(LEN(Dashboard!$D$10)=0,"",Dashboard!$D$10) -> Unsatisfactory | F15: =IF(LEN(Dashboard!$D$11)=0,"",Dashboard!$D$11) -> Satisfactory | G15: =IF(LEN(Dashboard!$D$12)=0,"",Dashboard!$D$12) -> Good | H15: =IF(LEN(Dashboard!$D$13)=0,"",Dashboard!$D$13) -> Excellent
C16: =Employee1!$C16 -> Job Knowledge | H16: X | K16: =IF(COUNTA(D16:H16)>1,"Please check this row!","")
C17: =Employee1!$C17 -> Productivity | H17: X | K17: =IF(COUNTA(D17:H17)>1,"Please check this row!","")
C18: =Employee1!$C18 -> Work Quality | H18: X | K18: =IF(COUNTA(D18:H18)>1,"Please check this row!","")
C19: =Employee1!$C19 -> Consistency | H19: X | K19: =IF(COUNTA(D19:H19)>1,"Please check this row!","")
C20: =Employee1!$C20 -> Communication Skills | G20: X | K20: =IF(COUNTA(D20:H20)>1,"Please check this row!","")
C21: =Employee1!$C21 -> Independent Work | G21: X | K21: =IF(COUNTA(D21:H21)>1,"Please check this row!","")
C22: =Employee1!$C22 -> Creativity | G22: X | K22: =IF(COUNTA(D22:H22)>1,"Please check this row!","")
C23: =Employee1!$C23 -> Punctuality | G23: X | K23: =IF(COUNTA(D23:H23)>1,"Please check this row!","")
C24: =Employee1!$C24 -> Honesty | G24: X | K24: =IF(COUNTA(D24:H24)>1,"Please check this row!","")
C25: =Employee1!$C25 -> Integrity | G25: X | K25: =IF(COUNTA(D25:H25)>1,"Please check this row!","")
C26: =Employee1!$C26 -> Group Work | G26: X | K26: =IF(COUNTA(D26:H26)>1,"Please check this row!","")
C27: =Employee1!$C27 -> Initiative | G27: X | K27: =IF(COUNTA(D27:H27)>1,"Please check this row!","")
C28: =Employee1!$C28 -> Client Relations | G28: X | K28: =IF(COUNTA(D28:H28)>1,"Please check this row!","")
C29: =Employee1!$C29 -> Coworker Relations | G29: X | K29: =IF(COUNTA(D29:H29)>1,"Please check this row!","")
C30: =Employee1!$C30 -> Engagement | G30: X | K30: =IF(COUNTA(D30:H30)>1,"Please check this row!","")
C31: =Employee1!$C31 -> Takes Initiative | H31: X | K31: =IF(COUNTA(D31:H31)>1,"Please check this row!","")
C32: =Employee1!$C32 -> Attendance | H32: X | K32: =IF(COUNTA(D32:H32)>1,"Please check this row!","")
C33: =Employee1!$C33 -> Responsibility | H33: X | K33: =IF(COUNTA(D33:H33)>1,"Please check this row!","")
C34: =Employee1!$C34 -> Enthusiasm | H34: X | K34: =IF(COUNTA(D34:H34)>1,"Please check this row!","")
C35: =Employee1!$C35 -> Technical Skills | H35: X | K35: =IF(COUNTA(D35:H35)>1,"Please check this row!","")
C37: OVERALL SCORE: | E37: =INDEX(Calc!$K$4:$L$53,MATCH($F$6,Calc!$B$4:$B$53,0),1) -> 89 | F37: OVERALL PERFORMANCE: | H37: =INDEX(Calc!$K$4:$L$53,MATCH($F$6,Calc!$B$4:$B$53,0),2) -> Good
C39: Comments
C46: Employee Signature | F46: Reviewer Signature

Sheet Employee5
C2: EMPLOYEE EVALUATION
C3: INDIVIDUAL REVIEW
E6: Employee # | F6: =IF(LEN(Database!$B$10)>0,Database!$B$10,"") -> 5
E7: Employee Name | F7: =IF(LEN(INDEX(Database!$B$6:$I$15,$F$6,2))=0,"",INDEX(Database!$B$6:$I$15,$F$6,2)) -> Richard Blue
E8: Department | F8: =IF(LEN(INDEX(Database!$B$6:$I$15,$F$6,4))=0,"",INDEX(Database!$B$6:$I$15,$F$6,4)) -> Manufacturing
E9: Job Title | F9: =IF(LEN(INDEX(Database!$B$6:$I$15,$F$6,5))=0,"",INDEX(Database!$B$6:$I$15,$F$6,5)) -> Manufacturing Officer
E10: Employment Date | F10: =IF(LEN(INDEX(Database!$B$6:$I$15,$F$6,6))=0,"",INDEX(Database!$B$6:$I$15,$F$6,6)) -> 44373
E11: Review Period | F11: =IF(LEN(INDEX(Database!$B$6:$I$15,$F$6,7))=0,"",INDEX(Database!$B$6:$I$15,$F$6,7)) -> First Half of 2019
E12: Reviewer | F12: =IF(LEN(INDEX(Database!$B$6:$I$15,$F$6,8))=0,"",INDEX(Database!$B$6:$I$15,$F$6,8)) -> Anthony Joshua
E13: Review Date
C15: Personal Evaluation | D15: =IF(LEN(Dashboard!$D$9)=0,"",Dashboard!$D$9) -> Poor | E15: =IF(LEN(Dashboard!$D$10)=0,"",Dashboard!$D$10) -> Unsatisfactory | F15: =IF(LEN(Dashboard!$D$11)=0,"",Dashboard!$D$11) -> Satisfactory | G15: =IF(LEN(Dashboard!$D$12)=0,"",Dashboard!$D$12) -> Good | H15: =IF(LEN(Dashboard!$D$13)=0,"",Dashboard!$D$13) -> Excellent
C16: =Employee1!$C16 -> Job Knowledge | H16: X | K16: =IF(COUNTA(D16:H16)>1,"Please check this row!","")
C17: =Employee1!$C17 -> Productivity | H17: X | K17: =IF(COUNTA(D17:H17)>1,"Please check this row!","")
C18: =Employee1!$C18 -> Work Quality | H18: X | K18: =IF(COUNTA(D18:H18)>1,"Please check this row!","")
C19: =Employee1!$C19 -> Consistency | H19: X | K19: =IF(COUNTA(D19:H19)>1,"Please check this row!","")
C20: =Employee1!$C20 -> Communication Skills | H20: X | K20: =IF(COUNTA(D20:H20)>1,"Please check this row!","")
C21: =Employee1!$C21 -> Independent Work | H21: X | K21: =IF(COUNTA(D21:H21)>1,"Please check this row!","")
C22: =Employee1!$C22 -> Creativity | H22: X | K22: =IF(COUNTA(D22:H22)>1,"Please check this row!","")
C23: =Employee1!$C23 -> Punctuality | H23: X | K23: =IF(COUNTA(D23:H23)>1,"Please check this row!","")
C24: =Employee1!$C24 -> Honesty | H24: X | K24: =IF(COUNTA(D24:H24)>1,"Please check this row!","")
C25: =Employee1!$C25 -> Integrity | H25: X | K25: =IF(COUNTA(D25:H25)>1,"Please check this row!","")
C26: =Employee1!$C26 -> Group Work | H26: X | K26: =IF(COUNTA(D26:H26)>1,"Please check this row!","")
C27: =Employee1!$C27 -> Initiative | H27: X | K27: =IF(COUNTA(D27:H27)>1,"Please check this row!","")
... C35: =Employee1!$C35 -> Technical Skills | H35: X | K35: =IF(COUNTA(D35:H35)>1,"Please check this row!","")
C37: OVERALL SCORE: | E37: =INDEX(Calc!$K$4:$L$53,MATCH($F$6,Calc!$B$4:$B$53,0),1) -> 100 | F37: OVERALL PERFORMANCE: | H37: =INDEX(Calc!$K$4:$L$53,MATCH($F$6,Calc!$B$4:$B$53,0),2) -> Excellent
C39: Comments
C46: Employee Signature | F46: Reviewer Signature

Sheet Employee6
C2: EMPLOYEE EVALUATION
C3: INDIVIDUAL REVIEW
E6: Employee # | F6: =IF(LEN(Database!$B$11)>0,Database!$B$11,"") -> 6
E7: Employee Name | F7: =IF(LEN(INDEX(Database!$B$6:$I$15,$F$6,2))=0,"",INDEX(Database!$B$6:$I$15,$F$6,2))
E8: Department | F8: =IF(LEN(INDEX(Database!$B$6:$I$15,$F$6,4))=0,"",INDEX(Database!$B$6:$I$15,$F$6,4))
E9: Job Title | F9: =IF(LEN(INDEX(Database!$B$6:$I$15,$F$6,5))=0,"",INDEX(Database!$B$6:$I$15,$F$6,5))
E10: Employment Date | F10: =IF(LEN(INDEX(Database!$B$6:$I$15,$F$6,6))=0,"",INDEX(Database!$B$6:$I$15,$F$6,6))
E11: Review Period | F11: =IF(LEN(INDEX(Database!$B$6:$I$15,$F$6,7))=0,"",INDEX(Database!$B$6:$I$15,$F$6,7))
E12: Reviewer | F12: =IF(LEN(INDEX(Database!$B$6:$I$15,$F$6,8))=0,"",INDEX(Database!$B$6:$I$15,$F$6,8))
E13: Review Date
C15: Personal Evaluation | D15: =IF(LEN(Dashboard!$D$9)=0,"",Dashboard!$D$9) -> Poor | E15: =IF(LEN(Dashboard!$D$10)=0,"",Dashboard!$D$10) -> Unsatisfactory | F15: =IF(LEN(Dashboard!$D$11)=0,"",Dashboard!$D$11) -> Satisfactory | G15: =IF(LEN(Dashboard!$D$12)=0,"",Dashboard!$D$12) -> Good | H15: =IF(LEN(Dashboard!$D$13)=0,"",Dashboard!$D$13) -> Excellent
C16: =Employee1!$C16 -> Job Knowledge | K16: =IF(COUNTA(D16:H16)>1,"Please check this row!","")
C17: =Employee1!$C17 -> Productivity | K17: =IF(COUNTA(D17:H17)>1,"Please check this row!","")
C18: =Employee1!$C18 -> Work Quality | K18: =IF(COUNTA(D18:H18)>1,"Please check this row!","")
C19: =Employee1!$C19 -> Consistency | K19: =IF(COUNTA(D19:H19)>1,"Please check this row!","")
C20: =Employee1!$C20 -> Communication Skills | K20: =IF(COUNTA(D20:H20)>1,"Please check this row!","")
C21: =Employee1!$C21 -> Independent Work | K21: =IF(COUNTA(D21:H21)>1,"Please check this row!","")
C22: =Employee1!$C22 -> Creativity | K22: =IF(COUNTA(D22:H22)>1,"Please check this row!","")
C23: =Employee1!$C23 -> Punctuality | K23: =IF(COUNTA(D23:H23)>1,"Please check this row!","")
C24: =Employee1!$C24 -> Honesty | K24: =IF(COUNTA(D24:H24)>1,"Please check this row!","")
C25: =Employee1!$C25 -> Integrity | K25: =IF(COUNTA(D25:H25)>1,"Please check this row!","")
C26: =Employee1!$C26 -> Group Work | K26: =IF(COUNTA(D26:H26)>1,"Please check this row!","")
C27: =Employee1!$C27 -> Initiative | K27: =IF(COUNTA(D27:H27)>1,"Please check this row!","")
... C35: =Employee1!$C35 -> Technical Skills | K35: =IF(COUNTA(D35:H35)>1,"Please check this row!","")
C37: OVERALL SCORE: | E37: =INDEX(Calc!$K$4:$L$53,MATCH($F$6,Calc!$B$4:$B$53,0),1) | F37: OVERALL PERFORMANCE: | H37: =INDEX(Calc!$K$4:$L$53,MATCH($F$6,Calc!$B$4:$B$53,0),2)
C39: Comments
C46: Employee Signature | F46: Reviewer Signature

Sheet Employee7
C2: EMPLOYEE EVALUATION
C3: INDIVIDUAL REVIEW
E6: Employee # | F6: =IF(LEN(Database!$B$12)>0,Database!$B$12,"") -> 7
E7: Employee Name | F7: =IF(LEN(INDEX(Database!$B$6:$I$15,$F$6,2))=0,"",INDEX(Database!$B$6:$I$15,$F$6,2))
E8: Department | F8: =IF(LEN(INDEX(Database!$B$6:$I$15,$F$6,4))=0,"",INDEX(Database!$B$6:$I$15,$F$6,4))
E9: Job Title | F9: =IF(LEN(INDEX(Database!$B$6:$I$15,$F$6,5))=0,"",INDEX(Database!$B$6:$I$15,$F$6,5))
E10: Employment Date | F10: =IF(LEN(INDEX(Database!$B$6:$I$15,$F$6,6))=0,"",INDEX(Database!$B$6:$I$15,$F$6,6))
E11: Review Period | F11: =IF(LEN(INDEX(Database!$B$6:$I$15,$F$6,7))=0,"",INDEX(Database!$B$6:$I$15,$F$6,7))
E12: Reviewer | F12: =IF(LEN(INDEX(Database!$B$6:$I$15,$F$6,8))=0,"",INDEX(Database!$B$6:$I$15,$F$6,8))
E13: Review Date
C15: Personal Evaluation | D15: =IF(LEN(Dashboard!$D$9)=0,"",Dashboard!$D$9) -> Poor | E15: =IF(LEN(Dashboard!$D$10)=0,"",Dashboard!$D$10) -> Unsatisfactory | F15: =IF(LEN(Dashboard!$D$11)=0,"",Dashboard!$D$11) -> Satisfactory | G15: =IF(LEN(Dashboard!$D$12)=0,"",Dashboard!$D$12) -> Good | H15: =IF(LEN(Dashboard!$D$13)=0,"",Dashboard!$D$13) -> Excellent
C16: =Employee1!$C16 -> Job Knowledge | K16: =IF(COUNTA(D16:H16)>1,"Please check this row!","")
C17: =Employee1!$C17 -> Productivity | K17: =IF(COUNTA(D17:H17)>1,"Please check this row!","")
C18: =Employee1!$C18 -> Work Quality | K18: =IF(COUNTA(D18:H18)>1,"Please check this row!","")
C19: =Employee1!$C19 -> Consistency | K19: =IF(COUNTA(D19:H19)>1,"Please check this row!","")
C20: =Employee1!$C20 -> Communication Skills | K20: =IF(COUNTA(D20:H20)>1,"Please check this row!","")
C21: =Employee1!$C21 -> Independent Work | K21: =IF(COUNTA(D21:H21)>1,"Please check this row!","")
C22: =Employee1!$C22 -> Creativity | K22: =IF(COUNTA(D22:H22)>1,"Please check this row!","")
C23: =Employee1!$C23 -> Punctuality | K23: =IF(COUNTA(D23:H23)>1,"Please check this row!","")
C24: =Employee1!$C24 -> Honesty | K24: =IF(COUNTA(D24:H24)>1,"Please check this row!","")
C25: =Employee1!$C25 -> Integrity | K25: =IF(COUNTA(D25:H25)>1,"Please check this row!","")
C26: =Employee1!$C26 -> Group Work | K26: =IF(COUNTA(D26:H26)>1,"Please check this row!","")
C27: =Employee1!$C27 -> Initiative | K27: =IF(COUNTA(D27:H27)>1,"Please check this row!","")
... C35: =Employee1!$C35 -> Technical Skills | K35: =IF(COUNTA(D35:H35)>1,"Please check this row!","")
C37: OVERALL SCORE: | E37: =INDEX(Calc!$K$4:$L$53,MATCH($F$6,Calc!$B$4:$B$53,0),1) | F37: OVERALL PERFORMANCE: | H37: =INDEX(Calc!$K$4:$L$53,MATCH($F$6,Calc!$B$4:$B$53,0),2)
C39: Comments
C46: Employee Signature | F46: Reviewer Signature

Sheet Employee8
C2: EMPLOYEE EVALUATION
C3: INDIVIDUAL REVIEW
E6: Employee # | F6: =IF(LEN(Database!$B$13)>0,Database!$B$13,"") -> 8
E7: Employee Name | F7: =IF(LEN(INDEX(Database!$B$6:$I$15,$F$6,2))=0,"",INDEX(Database!$B$6:$I$15,$F$6,2))
E8: Department | F8: =IF(LEN(INDEX(Database!$B$6:$I$15,$F$6,4))=0,"",INDEX(Database!$B$6:$I$15,$F$6,4))
E9: Job Title | F9: =IF(LEN(INDEX(Database!$B$6:$I$15,$F$6,5))=0,"",INDEX(Database!$B$6:$I$15,$F$6,5))
E10: Employment Date | F10: =IF(LEN(INDEX(Database!$B$6:$I$15,$F$6,6))=0,"",INDEX(Database!$B$6:$I$15,$F$6,6))
E11: Review Period | F11: =IF(LEN(INDEX(Database!$B$6:$I$15,$F$6,7))=0,"",INDEX(Database!$B$6:$I$15,$F$6,7))
E12: Reviewer | F12: =IF(LEN(INDEX(Database!$B$6:$I$15,$F$6,8))=0,"",INDEX(Database!$B$6:$I$15,$F$6,8))
E13: Review Date
C15: Personal Evaluation | D15: =IF(LEN(Dashboard!$D$9)=0,"",Dashboard!$D$9) -> Poor | E15: =IF(LEN(Dashboard!$D$10)=0,"",Dashboard!$D$10) -> Unsatisfactory | F15: =IF(LEN(Dashboard!$D$11)=0,"",Dashboard!$D$11) -> Satisfactory | G15: =IF(LEN(Dashboard!$D$12)=0,"",Dashboard!$D$12) -> Good | H15: =IF(LEN(Dashboard!$D$13)=0,"",Dashboard!$D$13) -> Excellent
C16: =Employee1!$C16 -> Job Knowledge | K16: =IF(COUNTA(D16:H16)>1,"Please check this row!","")
C17: =Employee1!$C17 -> Productivity | K17: =IF(COUNTA(D17:H17)>1,"Please check this row!","")
C18: =Employee1!$C18 -> Work Quality | K18: =IF(COUNTA(D18:H18)>1,"Please check this row!","")
C19: =Employee1!$C19 -> Consistency | K19: =IF(COUNTA(D19:H19)>1,"Please check this row!","")
C20: =Employee1!$C20 -> Communication Skills | K20: =IF(COUNTA(D20:H20)>1,"Please check this row!","")
C21: =Employee1!$C21 -> Independent Work | K21: =IF(COUNTA(D21:H21)>1,"Please check this row!","")
C22: =Employee1!$C22 -> Creativity | K22: =IF(COUNTA(D22:H22)>1,"Please check this row!","")
C23: =Employee1!$C23 -> Punctuality | K23: =IF(COUNTA(D23:H23)>1,"Please check this row!","")
C24: =Employee1!$C24 -> Honesty | K24: =IF(COUNTA(D24:H24)>1,"Please check this row!","")
C25: =Employee1!$C25 -> Integrity | K25: =IF(COUNTA(D25:H25)>1,"Please check this row!","")
C26: =Employee1!$C26 -> Group Work | K26: =IF(COUNTA(D26:H26)>1,"Please check this row!","")
C27: =Employee1!$C27 -> Initiative | K27: =IF(COUNTA(D27:H27)>1,"Please check this row!","")
... C35: =Employee1!$C35 -> Technical Skills | K35: =IF(COUNTA(D35:H35)>1,"Please check this row!","")
C37: OVERALL SCORE: | E37: =INDEX(Calc!$K$4:$L$53,MATCH($F$6,Calc!$B$4:$B$53,0),1) | F37: OVERALL PERFORMANCE: | H37: =INDEX(Calc!$K$4:$L$53,MATCH($F$6,Calc!$B$4:$B$53,0),2)
C39: Comments
C46: Employee Signature | F46: Reviewer Signature

Sheet Employee9
C2: EMPLOYEE EVALUATION
C3: INDIVIDUAL REVIEW
E6: Employee # | F6: =IF(LEN(Database!$B$14)>0,Database!$B$14,"") -> 9
E7: Employee Name | F7: =IF(LEN(INDEX(Database!$B$6:$I$15,$F$6,2))=0,"",INDEX(Database!$B$6:$I$15,$F$6,2))
E8: Department | F8: =IF(LEN(INDEX(Database!$B$6:$I$15,$F$6,4))=0,"",INDEX(Database!$B$6:$I$15,$F$6,4))
E9: Job Title | F9: =IF(LEN(INDEX(Database!$B$6:$I$15,$F$6,5))=0,"",INDEX(Database!$B$6:$I$15,$F$6,5))
E10: Employment Date | F10: =IF(LEN(INDEX(Database!$B$6:$I$15,$F$6,6))=0,"",INDEX(Database!$B$6:$I$15,$F$6,6))
E11: Review Period | F11: =IF(LEN(INDEX(Database!$B$6:$I$15,$F$6,7))=0,"",INDEX(Database!$B$6:$I$15,$F$6,7))
E12: Reviewer | F12: =IF(LEN(INDEX(Database!$B$6:$I$15,$F$6,8))=0,"",INDEX(Database!$B$6:$I$15,$F$6,8))
E13: Review Date
C15: Personal Evaluation | D15: =IF(LEN(Dashboard!$D$9)=0,"",Dashboard!$D$9) -> Poor | E15: =IF(LEN(Dashboard!$D$10)=0,"",Dashboard!$D$10) -> Unsatisfactory | F15: =IF(LEN(Dashboard!$D$11)=0,"",Dashboard!$D$11) -> Satisfactory | G15: =IF(LEN(Dashboard!$D$12)=0,"",Dashboard!$D$12) -> Good | H15: =IF(LEN(Dashboard!$D$13)=0,"",Dashboard!$D$13) -> Excellent
C16: =Employee1!$C16 -> Job Knowledge | K16: =IF(COUNTA(D16:H16)>1,"Please check this row!","")
C17: =Employee1!$C17 -> Productivity | K17: =IF(COUNTA(D17:H17)>1,"Please check this row!","")
C18: =Employee1!$C18 -> Work Quality | K18: =IF(COUNTA(D18:H18)>1,"Please check this row!","")
C19: =Employee1!$C19 -> Consistency | K19: =IF(COUNTA(D19:H19)>1,"Please check this row!","")
C20: =Employee1!$C20 -> Communication Skills | K20: =IF(COUNTA(D20:H20)>1,"Please check this row!","")
C21: =Employee1!$C21 -> Independent Work | K21: =IF(COUNTA(D21:H21)>1,"Please check this row!","")
C22: =Employee1!$C22 -> Creativity | K22: =IF(COUNTA(D22:H22)>1,"Please check this row!","")
C23: =Employee1!$C23 -> Punctuality | K23: =IF(COUNTA(D23:H23)>1,"Please check this row!","")
C24: =Employee1!$C24 -> Honesty | K24: =IF(COUNTA(D24:H24)>1,"Please check this row!","")
C25: =Employee1!$C25 -> Integrity | K25: =IF(COUNTA(D25:H25)>1,"Please check this row!","")
C26: =Employee1!$C26 -> Group Work | K26: =IF(COUNTA(D26:H26)>1,"Please check this row!","")
C27: =Employee1!$C27 -> Initiative | K27: =IF(COUNTA(D27:H27)>1,"Please check this row!","")
... C35: =Employee1!$C35 -> Technical Skills | K35: =IF(COUNTA(D35:H35)>1,"Please check this row!","")
C37: OVERALL SCORE: | E37: =INDEX(Calc!$K$4:$L$53,MATCH($F$6,Calc!$B$4:$B$53,0),1) | F37: OVERALL PERFORMANCE: | H37: =INDEX(Calc!$K$4:$L$53,MATCH($F$6,Calc!$B$4:$B$53,0),2)
C39: Comments
C46: Employee Signature | F46: Reviewer Signature

Sheet Employee10
C2: EMPLOYEE EVALUATION
C3: INDIVIDUAL REVIEW
E6: Employee # | F6: =IF(LEN(Database!$B$15)>0,Database!$B$15,"") -> 10
E7: Employee Name | F7: =IF(LEN(INDEX(Database!$B$6:$I$15,$F$6,2))=0,"",INDEX(Database!$B$6:$I$15,$F$6,2))
E8: Department | F8: =IF(LEN(INDEX(Database!$B$6:$I$15,$F$6,4))=0,"",INDEX(Database!$B$6:$I$15,$F$6,4))
E9: Job Title | F9: =IF(LEN(INDEX(Database!$B$6:$I$15,$F$6,5))=0,"",INDEX(Database!$B$6:$I$15,$F$6,5))
E10: Employment Date | F10: =IF(LEN(INDEX(Database!$B$6:$I$15,$F$6,6))=0,"",INDEX(Database!$B$6:$I$15,$F$6,6))
E11: Review Period | F11: =IF(LEN(INDEX(Database!$B$6:$I$15,$F$6,7))=0,"",INDEX(Database!$B$6:$I$15,$F$6,7))
E12: Reviewer | F12: =IF(LEN(INDEX(Database!$B$6:$I$15,$F$6,8))=0,"",INDEX(Database!$B$6:$I$15,$F$6,8))
E13: Review Date
C15: Personal Evaluation | D15: =IF(LEN(Dashboard!$D$9)=0,"",Dashboard!$D$9) -> Poor | E15: =IF(LEN(Dashboard!$D$10)=0,"",Dashboard!$D$10) -> Unsatisfactory | F15: =IF(LEN(Dashboard!$D$11)=0,"",Dashboard!$D$11) -> Satisfactory | G15: =IF(LEN(Dashboard!$D$12)=0,"",Dashboard!$D$12) -> Good | H15: =IF(LEN(Dashboard!$D$13)=0,"",Dashboard!$D$13) -> Excellent
C16: =Employee1!$C16 -> Job Knowledge | K16: =IF(COUNTA(D16:H16)>1,"Please check this row!","")
C17: =Employee1!$C17 -> Productivity | K17: =IF(COUNTA(D17:H17)>1,"Please check this row!","")
C18: =Employee1!$C18 -> Work Quality | K18: =IF(COUNTA(D18:H18)>1,"Please check this row!","")
C19: =Employee1!$C19 -> Consistency | K19: =IF(COUNTA(D19:H19)>1,"Please check this row!","")
C20: =Employee1!$C20 -> Communication Skills | K20: =IF(COUNTA(D20:H20)>1,"Please check this row!","")
C21: =Employee1!$C21 -> Independent Work | K21: =IF(COUNTA(D21:H21)>1,"Please check this row!","")
C22: =Employee1!$C22 -> Creativity | K22: =IF(COUNTA(D22:H22)>1,"Please check this row!","")
C23: =Employee1!$C23 -> Punctuality | K23: =IF(COUNTA(D23:H23)>1,"Please check this row!","")
C24: =Employee1!$C24 -> Honesty | K24: =IF(COUNTA(D24:H24)>1,"Please check this row!","")
C25: =Employee1!$C25 -> Integrity | K25: =IF(COUNTA(D25:H25)>1,"Please check this row!","")
C26: =Employee1!$C26 -> Group Work | K26: =IF(COUNTA(D26:H26)>1,"Please check this row!","")
C27: =Employee1!$C27 -> Initiative | K27: =IF(COUNTA(D27:H27)>1,"Please check this row!","")
... C35: =Employee1!$C35 -> Technical Skills | K35: =IF(COUNTA(D35:H35)>1,"Please check this row!","")
C37: OVERALL SCORE: | E37: =INDEX(Calc!$K$4:$L$53,MATCH($F$6,Calc!$B$4:$B$53,0),1) | F37: OVERALL PERFORMANCE: | H37: =INDEX(Calc!$K$4:$L$53,MATCH($F$6,Calc!$B$4:$B$53,0),2)
C39: Comments
C46: Employee Signature | F46: Reviewer Signature

Sheet Calc
C2: Points | F2: =Dashboard!$E$9 -> 1 | G2: =Dashboard!$E$10 -> 2 | H2: =Dashboard!$E$11 -> 3 | I2: =Dashboard!$E$12 -> 4 | J2: =Dashboard!$E$13 -> 5
B3: Index | C3: Sheet Name | D3: Employee Name | E3: Department | F3: =Dashboard!$D$9 -> Poor | G3: =Dashboard!$D$10 -> Unsatisfactory | H3: =Dashboard!$D$11 -> Satisfactory | I3: =Dashboard!$D$12 -> Good | J3: =Dashboard!$D$13 -> Excellent | K3: Total | L3: Performance | M3: Ranking | O3: Departments | P3: Average Score | Q3: Ranking | S3: Perfomance | T3: Total Number | U3: Percantgae | X3: =Dashboard!$C$8 -> Total Score Reference | Y3: =Dashboard!$D$8 -> Performance | AA3: Dropdown
B4: 1 | C4: Employee1 | D4: =IFERROR(INDIRECT($C4&"!F7"),"") -> Jack Morrison | E4: =IFERROR(INDIRECT($C4&"!F8"),"") -> CEO Office | F4: =IFERROR(COUNTIF(INDIRECT($C4&"!$D$16:$D$35"),"x"),"") -> 18 | G4: =IFERROR(COUNTIF(INDIRECT($C4&"!$E$16:$E$35"),"x"),"") -> 1 | H4: =IFERROR(COUNTIF(INDIRECT($C4&"!$F$16:$F$35"),"x"),"") -> 1 | I4: =IFERROR(COUNTIF(INDIRECT($C4&"!$G$16:$G$35"),"x"),"") -> 0 | J4: =IFERROR(COUNTIF(INDIRECT($C4&"!$H$16:$H$35"),"x"),"") -> 0 | K4: =IF(LEN($D4)=0,"",SUMPRODUCT($F4:$J4,$F$2:$J$2)) -> 23 | L4: =IF(LEN($D4)=0,"",IF($K4>=$X$8,$Y$8,IF($K4>=$X$7,$Y$7,IF($K4>=$X$6,$Y$6,IF($K4>=$X$5,$Y$5,IF($K4>=$X$4,$Y$4,"")))))) -> Poor | M4: =IFERROR(IF(K4=0,"",RANK(K4,$K$4:$K$13,0)+COUNTIF($K$4:K4,K4)-1),"") -> 5 | O4: =IFERROR(INDEX($E$4:$E$13, MATCH(0,INDEX((LEN($E$4:$E$13)=0)+COUNTIF($O$3:$O3,$E$4:$E$13),0),0)),"") -> CEO Office | P4: =IFERROR(AVERAGEIF($E$4:$E$13,$O4,$K$4:$K$13),"") -> 23 | Q4: =IFERROR(IF(P4=0,"",RANK(P4,$P$4:$P$13,0)+COUNTIF($P$4:P4,P4)-1),"") -> 3 | S4: =Dashboard!D9 -> Poor | T4: =IFERROR(COUNTIF($L$4:$L$13,$S4),0) -> 1 | U4: =$T4/$T$9 -> 0.2 | X4: =Dashboard!C9 -> 0 | Y4: =Dashboard!D9 -> Poor | AA4: X
B5: 2 | C5: Employee2 | D5: =IFERROR(INDIRECT($C5&"!F7"),"") -> Anthony Joshua | E5: =IFERROR(INDIRECT($C5&"!F8"),"") -> Sales & Marketing | F5: =IFERROR(COUNTIF(INDIRECT($C5&"!$D$16:$D$35"),"x"),"") -> 4 | G5: =IFERROR(COUNTIF(INDIRECT($C5&"!$E$16:$E$35"),"x"),"") -> 7 | H5: =IFERROR(COUNTIF(INDIRECT($C5&"!$F$16:$F$35"),"x"),"") -> 7 | I5: =IFERROR(COUNTIF(INDIRECT($C5&"!$G$16:$G$35"),"x"),"") -> 2 | J5: =IFERROR(COUNTIF(INDIRECT($C5&"!$H$16:$H$35"),"x"),"") -> 0 | K5: =IF(LEN($D5)=0,"",SUMPRODUCT($F5:$J5,$F$2:$J$2)) -> 47 | L5: =IF(LEN($D5)=0,"",IF($K5>=$X$8,$Y$8,IF($K5>=$X$7,$Y$7,IF($K5>=$X$6,$Y$6,IF($K5>=$X$5,$Y$5,IF($K5>=$X$4,$Y$4,"")))))) -> Unsatisfactory | M5: =IFERROR(IF(K5=0,"",RANK(K5,$K$4:$K$13,0)+COUNTIF($K$4:K5,K5)-1),"") -> 4 | O5: =IFERROR(INDEX($E$4:$E$13, MATCH(0,INDEX((LEN($E$4:$E$13)=0)+COUNTIF($O$3:$O4,$E$4:$E$13),0),0)),"") -> Sales & Marketing | P5: =IFERROR(AVERAGEIF($E$4:$E$13,$O5,$K$4:$K$13),"") -> 53 | Q5: =IFERROR(IF(P5=0,"",RANK(P5,$P$4:$P$13,0)+COUNTIF($P$4:P5,P5)-1),"") -> 2 | S5: =Dashboard!D10 -> Unsatisfactory | T5: =IFERROR(COUNTIF($L$4:$L$13,$S5),0) -> 1 | U5: =$T5/$T$9 -> 0.2 | X5: =Dashboard!C10 -> 25 | Y5: =Dashboard!D10 -> Unsatisfactory
B6: 3 | C6: Employee3 | D6: =IFERROR(INDIRECT($C6&"!F7"),"") -> Angela Martini | E6: =IFERROR(INDIRECT($C6&"!F8"),"") -> Sales & Marketing | F6: =IFERROR(COUNTIF(INDIRECT($C6&"!$D$16:$D$35"),"x"),"") -> 2 | G6: =IFERROR(COUNTIF(INDIRECT($C6&"!$E$16:$E$35"),"x"),"") -> 4 | H6: =IFERROR(COUNTIF(INDIRECT($C6&"!$F$16:$F$35"),"x"),"") -> 8 | I6: =IFERROR(COUNTIF(INDIRECT($C6&"!$G$16:$G$35"),"x"),"") -> 5 | J6: =IFERROR(COUNTIF(INDIRECT($C6&"!$H$16:$H$35"),"x"),"") -> 1 | K6: =IF(LEN($D6)=0,"",SUMPRODUCT($F6:$J6,$F$2:$J$2)) -> 59 | L6: =IF(LEN($D6)=0,"",IF($K6>=$X$8,$Y$8,IF($K6>=$X$7,$Y$7,IF($K6>=$X$6,$Y$6,IF($K6>=$X$5,$Y$5,IF($K6>=$X$4,$Y$4,"")))))) -> Satisfactory | M6: =IFERROR(IF(K6=0,"",RANK(K6,$K$4:$K$13,0)+COUNTIF($K$4:K6,K6)-1),"") -> 3 | O6: =IFERROR(INDEX($E$4:$E$13, MATCH(0,INDEX((LEN($E$4:$E$13)=0)+COUNTIF($O$3:$O5,$E$4:$E$13),0),0)),"") -> Manufacturing | P6: =IFERROR(AVERAGEIF($E$4:$E$13,$O6,$K$4:$K$13),"") -> 94.5 | Q6: =IFERROR(IF(P6=0,"",RANK(P6,$P$4:$P$13,0)+COUNTIF($P$4:P6,P6)-1),"") -> 1 | S6: =Dashboard!D11 -> Satisfactory | T6: =IFERROR(COUNTIF($L$4:$L$13,$S6),0) -> 1 | U6: =$T6/$T$9 -> 0.2 | X6: =Dashboard!C11 -> 50 | Y6: =Dashboard!D11 -> Satisfactory
B7: 4 | C7: Employee4 | D7: =IFERROR(INDIRECT($C7&"!F7"),"") -> Anthony Hopkins | E7: =IFERROR(INDIRECT($C7&"!F8"),"") -> Manufacturing | F7: =IFERROR(COUNTIF(INDIRECT($C7&"!$D$16:$D$35"),"x"),"") -> 0 | G7: =IFERROR(COUNTIF(INDIRECT($C7&"!$E$16:$E$35"),"x"),"") -> 0 | H7: =IFERROR(COUNTIF(INDIRECT($C7&"!$F$16:$F$35"),"x"),"") -> 0 | I7: =IFERROR(COUNTIF(INDIRECT($C7&"!$G$16:$G$35"),"x"),"") -> 11 | J7: =IFERROR(COUNTIF(INDIRECT($C7&"!$H$16:$H$35"),"x"),"") -> 9 | K7: =IF(LEN($D7)=0,"",SUMPRODUCT($F7:$J7,$F$2:$J$2)) -> 89 | L7: =IF(LEN($D7)=0,"",IF($K7>=$X$8,$Y$8,IF($K7>=$X$7,$Y$7,IF($K7>=$X$6,$Y$6,IF($K7>=$X$5,$Y$5,IF($K7>=$X$4,$Y$4,"")))))) -> Good | M7: =IFERROR(IF(K7=0,"",RANK(K7,$K$4:$K$13,0)+COUNTIF($K$4:K7,K7)-1),"") -> 2 | O7: =IFERROR(INDEX($E$4:$E$13, MATCH(0,INDEX((LEN($E$4:$E$13)=0)+COUNTIF($O$3:$O6,$E$4:$E$13),0),0)),"") | P7: =IFERROR(AVERAGEIF($E$4:$E$13,$O7,$K$4:$K$13),"") | Q7: =IFERROR(IF(P7=0,"",RANK(P7,$P$4:$P$13,0)+COUNTIF($P$4:P7,P7)-1),"") | S7: =Dashboard!D12 -> Good | T7: =IFERROR(COUNTIF($L$4:$L$13,$S7),0) -> 1 | U7: =$T7/$T$9 -> 0.2 | X7: =Dashboard!C12 -> 75 | Y7: =Dashboard!D12 -> Good
B8: 5 | C8: Employee5 | D8: =IFERROR(INDIRECT($C8&"!F7"),"") -> Richard Blue | E8: =IFERROR(INDIRECT($C8&"!F8"),"") -> Manufacturing | F8: =IFERROR(COUNTIF(INDIRECT($C8&"!$D$16:$D$35"),"x"),"") -> 0 | G8: =IFERROR(COUNTIF(INDIRECT($C8&"!$E$16:$E$35"),"x"),"") -> 0 | H8: =IFERROR(COUNTIF(INDIRECT($C8&"!$F$16:$F$35"),"x"),"") -> 0 | I8: =IFERROR(COUNTIF(INDIRECT($C8&"!$G$16:$G$35"),"x"),"") -> 0 | J8: =IFERROR(COUNTIF(INDIRECT($C8&"!$H$16:$H$35"),"x"),"") -> 20 | K8: =IF(LEN($D8)=0,"",SUMPRODUCT($F8:$J8,$F$2:$J$2)) -> 100 | L8: =IF(LEN($D8)=0,"",IF($K8>=$X$8,$Y$8,IF($K8>=$X$7,$Y$7,IF($K8>=$X$6,$Y$6,IF($K8>=$X$5,$Y$5,IF($K8>=$X$4,$Y$4,"")))))) -> Excellent | M8: =IFERROR(IF(K8=0,"",RANK(K8,$K$4:$K$13,0)+COUNTIF($K$4:K8,K8)-1),"") -> 1 | O8: =IFERROR(INDEX($E$4:$E$13, MATCH(0,INDEX((LEN($E$4:$E$13)=0)+COUNTIF($O$3:$O7,$E$4:$E$13),0),0)),"") | P8: =IFERROR(AVERAGEIF($E$4:$E$13,$O8,$K$4:$K$13),"") | Q8: =IFERROR(IF(P8=0,"",RANK(P8,$P$4:$P$13,0)+COUNTIF($P$4:P8,P8)-1),"") | S8: =Dashboard!D13 -> Excellent | T8: =IFERROR(COUNTIF($L$4:$L$13,$S8),0) -> 1 | U8: =$T8/$T$9 -> 0.2 | X8: =Dashboard!C13 -> 90 | Y8: =Dashboard!D13 -> Excellent
B9: 6 | C9: Employee6 | D9: =IFERROR(INDIRECT($C9&"!F7"),"") | E9: =IFERROR(INDIRECT($C9&"!F8"),"") | F9: =IFERROR(COUNTIF(INDIRECT($C9&"!$D$16:$D$35"),"x"),"") -> 0 | G9: =IFERROR(COUNTIF(INDIRECT($C9&"!$E$16:$E$35"),"x"),"") -> 0 | H9: =IFERROR(COUNTIF(INDIRECT($C9&"!$F$16:$F$35"),"x"),"") -> 0 | I9: =IFERROR(COUNTIF(INDIRECT($C9&"!$G$16:$G$35"),"x"),"") -> 0 | J9: =IFERROR(COUNTIF(INDIRECT($C9&"!$H$16:$H$35"),"x"),"") -> 0 | K9: =IF(LEN($D9)=0,"",SUMPRODUCT($F9:$J9,$F$2:$J$2)) | L9: =IF(LEN($D9)=0,"",IF($K9>=$X$8,$Y$8,IF($K9>=$X$7,$Y$7,IF($K9>=$X$6,$Y$6,IF($K9>=$X$5,$Y$5,IF($K9>=$X$4,$Y$4,"")))))) | M9: =IFERROR(IF(K9=0,"",RANK(K9,$K$4:$K$13,0)+COUNTIF($K$4:K9,K9)-1),"") | O9: =IFERROR(INDEX($E$4:$E$13, MATCH(0,INDEX((LEN($E$4:$E$13)=0)+COUNTIF($O$3:$O8,$E$4:$E$13),0),0)),"") | P9: =IFERROR(AVERAGEIF($E$4:$E$13,$O9,$K$4:$K$13),"") | Q9: =IFERROR(IF(P9=0,"",RANK(P9,$P$4:$P$13,0)+COUNTIF($P$4:P9,P9)-1),"") | S9: TOTAL | T9: =SUM($T$4:$T$8) -> 5 | U9: -
B10: 7 | C10: Employee7 | D10: =IFERROR(INDIRECT($C10&"!F7"),"") | E10: =IFERROR(INDIRECT($C10&"!F8"),"") | F10: =IFERROR(COUNTIF(INDIRECT($C10&"!$D$16:$D$35"),"x"),"") -> 0 | G10: =IFERROR(COUNTIF(INDIRECT($C10&"!$E$16:$E$35"),"x"),"") -> 0 | H10: =IFERROR(COUNTIF(INDIRECT($C10&"!$F$16:$F$35"),"x"),"") -> 0 | I10: =IFERROR(COUNTIF(INDIRECT($C10&"!$G$16:$G$35"),"x"),"") -> 0 | J10: =IFERROR(COUNTIF(INDIRECT($C10&"!$H$16:$H$35"),"x"),"") -> 0 | K10: =IF(LEN($D10)=0,"",SUMPRODUCT($F10:$J10,$F$2:$J$2)) | L10: =IF(LEN($D10)=0,"",IF($K10>=$X$8,$Y$8,IF($K10>=$X$7,$Y$7,IF($K10>=$X$6,$Y$6,IF($K10>=$X$5,$Y$5,IF($K10>=$X$4,$Y$4,"")))))) | M10: =IFERROR(IF(K10=0,"",RANK(K10,$K$4:$K$13,0)+COUNTIF($K$4:K10,K10)-1),"") | O10: =IFERROR(INDEX($E$4:$E$13, MATCH(0,INDEX((LEN($E$4:$E$13)=0)+COUNTIF($O$3:$O9,$E$4:$E$13),0),0)),"") | P10: =IFERROR(AVERAGEIF($E$4:$E$13,$O10,$K$4:$K$13),"") | Q10: =IFERROR(IF(P10=0,"",RANK(P10,$P$4:$P$13,0)+COUNTIF($P$4:P10,P10)-1),"")
B11: 8 | C11: Employee8 | D11: =IFERROR(INDIRECT($C11&"!F7"),"") | E11: =IFERROR(INDIRECT($C11&"!F8"),"") | F11: =IFERROR(COUNTIF(INDIRECT($C11&"!$D$16:$D$35"),"x"),"") -> 0 | G11: =IFERROR(COUNTIF(INDIRECT($C11&"!$E$16:$E$35"),"x"),"") -> 0 | H11: =IFERROR(COUNTIF(INDIRECT($C11&"!$F$16:$F$35"),"x"),"") -> 0 | I11: =IFERROR(COUNTIF(INDIRECT($C11&"!$G$16:$G$35"),"x"),"") -> 0 | J11: =IFERROR(COUNTIF(INDIRECT($C11&"!$H$16:$H$35"),"x"),"") -> 0 | K11: =IF(LEN($D11)=0,"",SUMPRODUCT($F11:$J11,$F$2:$J$2)) | L11: =IF(LEN($D11)=0,"",IF($K11>=$X$8,$Y$8,IF($K11>=$X$7,$Y$7,IF($K11>=$X$6,$Y$6,IF($K11>=$X$5,$Y$5,IF($K11>=$X$4,$Y$4,"")))))) | M11: =IFERROR(IF(K11=0,"",RANK(K11,$K$4:$K$13,0)+COUNTIF($K$4:K11,K11)-1),"") | O11: =IFERROR(INDEX($E$4:$E$13, MATCH(0,INDEX((LEN($E$4:$E$13)=0)+COUNTIF($O$3:$O10,$E$4:$E$13),0),0)),"") | P11: =IFERROR(AVERAGEIF($E$4:$E$13,$O11,$K$4:$K$13),"") | Q11: =IFERROR(IF(P11=0,"",RANK(P11,$P$4:$P$13,0)+COUNTIF($P$4:P11,P11)-1),"") | S11: Best Performer | X11: Best Department: | Y11: =IFERROR(INDEX($O$4:$O$13,MATCH(MIN($Q$4:$Q$13),$Q$4:$Q$13,0),1),"-") -> Manufacturing
B12: 9 | C12: Employee9 | D12: =IFERROR(INDIRECT($C12&"!F7"),"") | E12: =IFERROR(INDIRECT($C12&"!F8"),"") | F12: =IFERROR(COUNTIF(INDIRECT($C12&"!$D$16:$D$35"),"x"),"") -> 0 | G12: =IFERROR(COUNTIF(INDIRECT($C12&"!$E$16:$E$35"),"x"),"") -> 0 | H12: =IFERROR(COUNTIF(INDIRECT($C12&"!$F$16:$F$35"),"x"),"") -> 0 | I12: =IFERROR(COUNTIF(INDIRECT($C12&"!$G$16:$G$35"),"x"),"") -> 0 | J12: =IFERROR(COUNTIF(INDIRECT($C12&"!$H$16:$H$35"),"x"),"") -> 0 | K12: =IF(LEN($D12)=0,"",SUMPRODUCT($F12:$J12,$F$2:$J$2)) | L12: =IF(LEN($D12)=0,"",IF($K12>=$X$8,$Y$8,IF($K12>=$X$7,$Y$7,IF($K12>=$X$6,$Y$6,IF($K12>=$X$5,$Y$5,IF($K12>=$X$4,$Y$4,"")))))) | M12: =IFERROR(IF(K12=0,"",RANK(K12,$K$4:$K$13,0)+COUNTIF($K$4:K12,K12)-1),"") | O12: =IFERROR(INDEX($E$4:$E$13, MATCH(0,INDEX((LEN($E$4:$E$13)=0)+COUNTIF($O$3:$O11,$E$4:$E$13),0),0)),"") | P12: =IFERROR(AVERAGEIF($E$4:$E$13,$O12,$K$4:$K$13),"") | Q12: =IFERROR(IF(P12=0,"",RANK(P12,$P$4:$P$13,0)+COUNTIF($P$4:P12,P12)-1),"") | S12: =IFERROR(INDEX($D$4:$D$13,MATCH(MIN($M$4:$M$13),$M$4:$M$13,0),1),"-") -> Richard Blue | T12: =IFERROR(INDEX($K$4:$K$13,MATCH(MIN($M$4:$M$13),$M$4:$M$13,0),1),"-") -> 100 | U12: =IFERROR(INDEX($L$4:$L$13,MATCH(MIN($M$4:$M$13),$M$4:$M$13,0),1),"-") -> Excellent | V12: =IFERROR(INDEX($E$4:$E$13,MATCH(MIN($M$4:$M$13),$M$4:$M$13,0),1),"-") -> Manufacturing | X12: Worst Department: | Y12: =IFERROR(INDEX($O$4:$O$13,MATCH(MAX($Q$4:$Q$13),$Q$4:$Q$13,0),1),"-") -> CEO Office
B13: 10 | C13: Employee10 | D13: =IFERROR(INDIRECT($C13&"!F7"),"") | E13: =IFERROR(INDIRECT($C13&"!F8"),"") | F13: =IFERROR(COUNTIF(INDIRECT($C13&"!$D$16:$D$35"),"x"),"") -> 0 | G13: =IFERROR(COUNTIF(INDIRECT($C13&"!$E$16:$E$35"),"x"),"") -> 0 | H13: =IFERROR(COUNTIF(INDIRECT($C13&"!$F$16:$F$35"),"x"),"") -> 0 | I13: =IFERROR(COUNTIF(INDIRECT($C13&"!$G$16:$G$35"),"x"),"") -> 0 | J13: =IFERROR(COUNTIF(INDIRECT($C13&"!$H$16:$H$35"),"x"),"") -> 0 | K13: =IF(LEN($D13)=0,"",SUMPRODUCT($F13:$J13,$F$2:$J$2)) | L13: =IF(LEN($D13)=0,"",IF($K13>=$X$8,$Y$8,IF($K13>=$X$7,$Y$7,IF($K13>=$X$6,$Y$6,IF($K13>=$X$5,$Y$5,IF($K13>=$X$4,$Y$4,"")))))) | M13: =IFERROR(IF(K13=0,"",RANK(K13,$K$4:$K$13,0)+COUNTIF($K$4:K13,K13)-1),"") | O13: =IFERROR(INDEX($E$4:$E$13, MATCH(0,INDEX((LEN($E$4:$E$13)=0)+COUNTIF($O$3:$O12,$E$4:$E$13),0),0)),"") | P13: =IFERROR(AVERAGEIF($E$4:$E$13,$O13,$K$4:$K$13),"") | Q13: =IFERROR(IF(P13=0,"",RANK(P13,$P$4:$P$13,0)+COUNTIF($P$4:P13,P13)-1),"")
S14: 2nd Best Performer
S15: =IFERROR(INDEX($D$4:$D$13,MATCH(MIN($M$4:$M$13)+1,$M$4:$M$13,0),1),"-") -> Anthony Hopkins | T15: =IFERROR(INDEX($K$4:$K$13,MATCH(MIN($M$4:$M$13)+1,$M$4:$M$13,0),1),"-") -> 89 | U15: =IFERROR(INDEX($L$4:$L$13,MATCH(MIN($M$4:$M$13)+1,$M$4:$M$13,0),1),"-") -> Good | V15: =IFERROR(INDEX($E$4:$E$13,MATCH(MIN($M$4:$M$13)+1,$M$4:$M$13,0),1),"-") -> Manufacturing
S17: 3rd Best Performer
S18: =IFERROR(INDEX($D$4:$D$13,MATCH(MIN($M$4:$M$13)+2,$M$4:$M$13,0),1),"-") -> Angela Martini | T18: =IFERROR(INDEX($K$4:$K$13,MATCH(MIN($M$4:$M$13)+2,$M$4:$M$13,0),1),"-") -> 59 | U18: =IFERROR(INDEX($L$4:$L$13,MATCH(MIN($M$4:$M$13)+2,$M$4:$M$13,0),1),"-") -> Satisfactory | V18: =IFERROR(INDEX($E$4:$E$13,MATCH(MIN($M$4:$M$13)+2,$M$4:$M$13,0),1),"-") -> Sales & Marketing
S20: Worst Performer
S21: =IFERROR(INDEX($D$4:$D$13,MATCH(MAX($M$4:$M$13),$M$4:$M$13,0),1),"-") -> Jack Morrison | T21: =IFERROR(INDEX($K$4:$K$13,MATCH(MAX($M$4:$M$13),$M$4:$M$13,0),1),"-") -> 23 | U21: =IFERROR(INDEX($L$4:$L$13,MATCH(MAX($M$4:$M$13),$M$4:$M$13,0),1),"-") -> Poor | V21: =IFERROR(INDEX($E$4:$E$13,MATCH(MAX($M$4:$M$13),$M$4:$M$13,0),1),"-") -> CEO Office
S23: 2nd Worst Performer
S24: =IFERROR(INDEX($D$4:$D$13,MATCH(MAX($M$4:$M$13)-1,$M$4:$M$13,0),1),"-") -> Anthony Joshua | T24: =IFERROR(INDEX($K$4:$K$13,MATCH(MAX($M$4:$M$13)-1,$M$4:$M$13,0),1),"-") -> 47 | U24: =IFERROR(INDEX($L$4:$L$13,MATCH(MAX($M$4:$M$13)-1,$M$4:$M$13,0),1),"-") -> Unsatisfactory | V24: =IFERROR(INDEX($E$4:$E$13,MATCH(MAX($M$4:$M$13)-1,$M$4:$M$13,0),1),"-") -> Sales & Marketing
S26: 3rd Worst Performer
S27: =IFERROR(INDEX($D$4:$D$13,MATCH(MAX($M$4:$M$13)-2,$M$4:$M$13,0),1),"-") -> Angela Martini | T27: =IFERROR(INDEX($K$4:$K$13,MATCH(MAX($M$4:$M$13)-2,$M$4:$M$13,0),1),"-") -> 59 | U27: =IFERROR(INDEX($L$4:$L$13,MATCH(MAX($M$4:$M$13)-2,$M$4:$M$13,0),1),"-") -> Satisfactory | V27: =IFERROR(INDEX($E$4:$E$13,MATCH(MAX($M$4:$M$13)-2,$M$4:$M$13,0),1),"-") -> Sales & Marketing
