Workbook
Name Category_List: OFFSET(Calc!$AA$9,0,0,Calc!$AA$7,1)

Sheet Database
B2: EMPLOYEE DIRECTORY
B3: DATABASE
B5: Employee ID | C5: First Name | D5: Last Name | E5: Job Title | F5: Department | G5: Email Address | H5: Phone Number | I5: Address | J5: Date of Birth | K5: Hire Date | L5: Supervisor | M5: Salary | N5: Status | O5: Employee Type | P5: Emergency Contact | Q5: Extra Column
B6: 1001 | C6: John | D6: Smith | E6: Software Engineer | F6: IT | G6: john.smith@email.com | H6: 555-1234 | I6: 123 Main St, Cityville, State, ZIP | J6: 29235 | K6: 40318 | L6: Sarah Brown | M6: 75000 | N6: Full-time | O6: Regular | P6: Jane Smith (555-1111)
B7: 1002 | C7: Mary | D7: Johnson | E7: Marketing Specialist | F7: Marketing | G7: mary.johnson@email.com | H7: 555-5678 | I7: 456 Oak Ave, Townsville, State, ZIP | J7: 31128 | K7: 42228 | L7: Michael Wilson | M7: 60000 | N7: Part-time | O7: Contractor | P7: Mark Johnson (555-2222)
B8: 1003 | C8: David | D8: Davis | E8: HR Manager | F8: HR | G8: david.davis@email.com | H8: 555-9876 | I8: 789 Pine Blvd, Villagetown, State, ZIP | J8: 28681 | K8: 43134 | L8: Jessica Garcia | M8: 80000 | N8: Full-time | O8: Regular | P8: Susan Davis (555-3333)
B9: 1004 | C9: Sarah | D9: Brown | E9: Financial Analyst | F9: Finance | G9: sarah.brown@email.com | H9: 555-4321 | I9: 101 Maple Ln, Hamletville, State, ZIP | J9: 33212 | K9: 39416 | L9: Christopher Rodriguez | M9: 90000 | N9: Part-time | O9: Temporary | P9: Robert Brown (555-4444)
B10: 1005 | C10: Michael | D10: Wilson | E10: Project Manager | F10: Project Management | G10: michael.wilson@email.com | H10: 555-8765 | I10: 202 Elm Dr, Boroughburg, State, ZIP | J10: 30071 | K10: 41075 | L10: Amanda Martinez | M10: 70000 | N10: Full-time | O10: Regular | P10: Lisa Wilson (555-5555)
B11: 1006 | C11: Emily | D11: Miller | E11: Customer Support Representative | F11: Customer Support | G11: emily.miller@email.com | H11: 555-2345 | I11: 303 Cedar Ct, Metropolis, State, ZIP | J11: 32404 | K11: 43532 | L11: Daniel Jackson | M11: 95000 | N11: Full-time | O11: Regular | P11: Peter Miller (555-6666)
B12: 1007 | C12: Brian | D12: Davis | E12: Sales Executive | F12: Sales | G12: brian.davis@email.com | H12: 555-6789 | I12: 404 Birch Rd, Countyville, State, ZIP | J12: 27710 | K12: 38620 | L12: Laura Taylor | M12: 85000 | N12: Part-time | O12: Temporary | P12: Karen Davis (555-7777)
B13: 1008 | C13: Jessica | D13: Garcia | E13: Graphic Designer | F13: Design | G13: jessica.garcia@email.com | H13: 555-5432 | I13: 505 Walnut Way, Cityburg, State, ZIP | J13: 31953 | K13: 41746 | L13: Kevin White | M13: 72000 | N13: Full-time | O13: Regular | P13: Paul Garcia (555-8888)

Sheet Form
C2: EMPLOYEE DIRECTORY
C3: CONTACT FORM
C7: Employee ID | D7: 1001 | G7: =IF(LEN($D$7)=0,"Please select the Employee ID!","")
C9: Name - Surname | D9: =IFERROR(INDEX(Calc!$C$9:$S$18,MATCH(Form!$D$7,Calc!$C$9:$C$18,0),MATCH(Form!$C9,Calc!$C$8:$S$8,0)),"") -> John Smith
C11: Supervisor | D11: =IFERROR(INDEX(Calc!$C$9:$S$18,MATCH(Form!$D$7,Calc!$C$9:$C$18,0),MATCH(Form!$C11,Calc!$C$8:$S$8,0)),"") -> Sarah Brown
C13: Department | D13: =IFERROR(INDEX(Calc!$C$9:$S$18,MATCH(Form!$D$7,Calc!$C$9:$C$18,0),MATCH(Form!$C13,Calc!$C$8:$S$8,0)),"") -> IT
C14: Job Title | D14: =IFERROR(INDEX(Calc!$C$9:$S$18,MATCH(Form!$D$7,Calc!$C$9:$C$18,0),MATCH(Form!$C14,Calc!$C$8:$S$8,0)),"") -> Software Engineer
C15: Status | D15: =IFERROR(INDEX(Calc!$C$9:$S$18,MATCH(Form!$D$7,Calc!$C$9:$C$18,0),MATCH(Form!$C15,Calc!$C$8:$S$8,0)),"") -> Full-time
C17: Email Address
C18: Phone Number
C19: Address
C21: Date of Birth
C22: Hire Date
C23: Salary
C24: Status
C25: Emergency Contact

Sheet Calc
D2: =13-COUNTBLANK(F2:$R$2) -> 13 | E2: Dropdown List for Dropdowns | F2: =IFERROR(INDEX($C$8:$R$8,1,F$4),"") -> Job Title | G2: =IFERROR(INDEX($C$8:$R$8,1,G$4),"") -> Department | H2: =IFERROR(INDEX($C$8:$R$8,1,H$4),"") -> Email Address | I2: =IFERROR(INDEX($C$8:$R$8,1,I$4),"") -> Phone Number | J2: =IFERROR(INDEX($C$8:$R$8,1,J$4),"") -> Address | K2: =IFERROR(INDEX($C$8:$R$8,1,K$4),"") -> Date of Birth | L2: =IFERROR(INDEX($C$8:$R$8,1,L$4),"") -> Hire Date | M2: =IFERROR(INDEX($C$8:$R$8,1,M$4),"") -> Supervisor | ... R2: =IFERROR(INDEX($C$8:$R$8,1,R$4),"") -> Extra Column | S2: Name - Surname
E4: Column Index without Blanks | F4: =IFERROR(SMALL($F$5:$R$5,COLUMN(F$5)-COLUMN($E$5)),"") -> 4 | G4: =IFERROR(SMALL($F$5:$R$5,COLUMN(G$5)-COLUMN($E$5)),"") -> 5 | H4: =IFERROR(SMALL($F$5:$R$5,COLUMN(H$5)-COLUMN($E$5)),"") -> 6 | I4: =IFERROR(SMALL($F$5:$R$5,COLUMN(I$5)-COLUMN($E$5)),"") -> 7 | J4: =IFERROR(SMALL($F$5:$R$5,COLUMN(J$5)-COLUMN($E$5)),"") -> 8 | K4: =IFERROR(SMALL($F$5:$R$5,COLUMN(K$5)-COLUMN($E$5)),"") -> 9 | L4: =IFERROR(SMALL($F$5:$R$5,COLUMN(L$5)-COLUMN($E$5)),"") -> 10 | M4: =IFERROR(SMALL($F$5:$R$5,COLUMN(M$5)-COLUMN($E$5)),"") -> 11 | ... R4: =IFERROR(SMALL($F$5:$R$5,COLUMN(R$5)-COLUMN($E$5)),"") -> 16 | S4: =IFERROR(SMALL($F$5:$S$5,COLUMN(S$5)-COLUMN($E$5)),"") -> 17
E5: Dynamic Column Index | F5: =IF(LEN(F$8)>0,F$7,"") -> 4 | G5: =IF(LEN(G$8)>0,G$7,"") -> 5 | H5: =IF(LEN(H$8)>0,H$7,"") -> 6 | I5: =IF(LEN(I$8)>0,I$7,"") -> 7 | J5: =IF(LEN(J$8)>0,J$7,"") -> 8 | K5: =IF(LEN(K$8)>0,K$7,"") -> 9 | L5: =IF(LEN(L$8)>0,L$7,"") -> 10 | M5: =IF(LEN(M$8)>0,M$7,"") -> 11 | ... S5: =IF(LEN(S$8)>0,S$7,"") -> 17
B7: COLUMN INDEX / ROW INDEX | C7: 1 | D7: 2 | E7: 3 | F7: 4 | G7: 5 | H7: 6 | I7: 7 | J7: 8 | K7: 9 | L7: 10 | M7: 11 | N7: 12 | O7: 13 | P7: 14 | Q7: 15 | R7: 16 | S7: 17 | AA7: =10-COUNTBLANK($AA$9:$AA$18) -> 8 | AD7: =MAX($AD$9:$AD$29) -> 19
C8: =IF(LEN(Database!B$5)>0,Database!B$5,"") -> Employee ID | D8: =IF(LEN(Database!C$5)>0,Database!C$5,"") -> First Name | E8: =IF(LEN(Database!D$5)>0,Database!D$5,"") -> Last Name | F8: =IF(LEN(Database!E$5)>0,Database!E$5,"") -> Job Title | G8: =IF(LEN(Database!F$5)>0,Database!F$5,"") -> Department | H8: =IF(LEN(Database!G$5)>0,Database!G$5,"") -> Email Address | I8: =IF(LEN(Database!H$5)>0,Database!H$5,"") -> Phone Number | J8: =IF(LEN(Database!I$5)>0,Database!I$5,"") -> Address | ... R8: =IF(LEN(Database!Q$5)>0,Database!Q$5,"") -> Extra Column | S8: Name - Surname | U8: Category List | W8: Category List without Duplicates | Y8: Filter Index | Z8: Index Without Blanks | AA8: Category List without Blanks | AD8: Form List
B9: 1 | C9: =IFERROR(IF(INDEX(Database!$B$6:$Q$15,Calc!$B9,Calc!C$7)="","",INDEX(Database!$B$6:$Q$15,Calc!$B9,Calc!C$7)),"") -> 1001 | D9: =IFERROR(IF(INDEX(Database!$B$6:$Q$15,Calc!$B9,Calc!D$7)="","",INDEX(Database!$B$6:$Q$15,Calc!$B9,Calc!D$7)),"") -> John | E9: =IFERROR(IF(INDEX(Database!$B$6:$Q$15,Calc!$B9,Calc!E$7)="","",INDEX(Database!$B$6:$Q$15,Calc!$B9,Calc!E$7)),"") -> Smith | F9: =IFERROR(IF(INDEX(Database!$B$6:$Q$15,Calc!$B9,Calc!F$7)="","",INDEX(Database!$B$6:$Q$15,Calc!$B9,Calc!F$7)),"") -> Software Engineer | G9: =IFERROR(IF(INDEX(Database!$B$6:$Q$15,Calc!$B9,Calc!G$7)="","",INDEX(Database!$B$6:$Q$15,Calc!$B9,Calc!G$7)),"") -> IT | H9: =IFERROR(IF(INDEX(Database!$B$6:$Q$15,Calc!$B9,Calc!H$7)="","",INDEX(Database!$B$6:$Q$15,Calc!$B9,Calc!H$7)),"") -> john.smith@email.com | I9: =IFERROR(IF(INDEX(Database!$B$6:$Q$15,Calc!$B9,Calc!I$7)="","",INDEX(Database!$B$6:$Q$15,Calc!$B9,Calc!I$7)),"") -> 555-1234 | J9: =IFERROR(IF(INDEX(Database!$B$6:$Q$15,Calc!$B9,Calc!J$7)="","",INDEX(Database!$B$6:$Q$15,Calc!$B9,Calc!J$7)),"") -> 123 Main St, Cityville, State, ZIP | ... R9: =IFERROR(IF(INDEX(Database!$B$6:$Q$15,Calc!$B9,Calc!R$7)="","",INDEX(Database!$B$6:$Q$15,Calc!$B9,Calc!R$7)),"") | S9: =IFERROR(IF(LEN(D9)=0,"",D9&" "&E9),"") -> John Smith | U9: =INDEX($C$9:$C$18,$B9,$C$7) -> 1001 | W9: =IFERROR(IF(COUNTIF($U$9:$U9,$U9)>1,"",$U9),"") -> 1001 | Y9: =IF(LEN($W9)>0,$B9,"") -> 1 | Z9: =IFERROR(SMALL($Y$9:$Y$18,ROW($Z9)-ROW($Z$8)),"") -> 1 | AA9: =IF(LEN($Z9)>0,INDEX($W$9:$W$18,$Z9),"") -> 1001 | AD9: =IF(LEN(Form!$C6)>0,ROW(Form!$C6)-ROW(Form!$C$6),"")
B10: 2 | C10: =IFERROR(IF(INDEX(Database!$B$6:$Q$15,Calc!$B10,Calc!C$7)="","",INDEX(Database!$B$6:$Q$15,Calc!$B10,Calc!C$7)),"") -> 1002 | D10: =IFERROR(IF(INDEX(Database!$B$6:$Q$15,Calc!$B10,Calc!D$7)="","",INDEX(Database!$B$6:$Q$15,Calc!$B10,Calc!D$7)),"") -> Mary | E10: =IFERROR(IF(INDEX(Database!$B$6:$Q$15,Calc!$B10,Calc!E$7)="","",INDEX(Database!$B$6:$Q$15,Calc!$B10,Calc!E$7)),"") -> Johnson | F10: =IFERROR(IF(INDEX(Database!$B$6:$Q$15,Calc!$B10,Calc!F$7)="","",INDEX(Database!$B$6:$Q$15,Calc!$B10,Calc!F$7)),"") -> Marketing Specialist | G10: =IFERROR(IF(INDEX(Database!$B$6:$Q$15,Calc!$B10,Calc!G$7)="","",INDEX(Database!$B$6:$Q$15,Calc!$B10,Calc!G$7)),"") -> Marketing | H10: =IFERROR(IF(INDEX(Database!$B$6:$Q$15,Calc!$B10,Calc!H$7)="","",INDEX(Database!$B$6:$Q$15,Calc!$B10,Calc!H$7)),"") -> mary.johnson@email.com | I10: =IFERROR(IF(INDEX(Database!$B$6:$Q$15,Calc!$B10,Calc!I$7)="","",INDEX(Database!$B$6:$Q$15,Calc!$B10,Calc!I$7)),"") -> 555-5678 | J10: =IFERROR(IF(INDEX(Database!$B$6:$Q$15,Calc!$B10,Calc!J$7)="","",INDEX(Database!$B$6:$Q$15,Calc!$B10,Calc!J$7)),"") -> 456 Oak Ave, Townsville, State, ZIP | ... R10: =IFERROR(IF(INDEX(Database!$B$6:$Q$15,Calc!$B10,Calc!R$7)="","",INDEX(Database!$B$6:$Q$15,Calc!$B10,Calc!R$7)),"") | S10: =IFERROR(IF(LEN(D10)=0,"",D10&" "&E10),"") -> Mary Johnson | U10: =INDEX($C$9:$C$18,$B10,$C$7) -> 1002 | W10: =IFERROR(IF(COUNTIF($U$9:$U10,$U10)>1,"",$U10),"") -> 1002 | Y10: =IF(LEN($W10)>0,$B10,"") -> 2 | Z10: =IFERROR(SMALL($Y$9:$Y$18,ROW($Z10)-ROW($Z$8)),"") -> 2 | AA10: =IF(LEN($Z10)>0,INDEX($W$9:$W$18,$Z10),"") -> 1002 | AD10: =IF(LEN(Form!$C7)>0,ROW(Form!$C7)-ROW(Form!$C$6),"") -> 1
B11: 3 | C11: =IFERROR(IF(INDEX(Database!$B$6:$Q$15,Calc!$B11,Calc!C$7)="","",INDEX(Database!$B$6:$Q$15,Calc!$B11,Calc!C$7)),"") -> 1003 | D11: =IFERROR(IF(INDEX(Database!$B$6:$Q$15,Calc!$B11,Calc!D$7)="","",INDEX(Database!$B$6:$Q$15,Calc!$B11,Calc!D$7)),"") -> David | E11: =IFERROR(IF(INDEX(Database!$B$6:$Q$15,Calc!$B11,Calc!E$7)="","",INDEX(Database!$B$6:$Q$15,Calc!$B11,Calc!E$7)),"") -> Davis | F11: =IFERROR(IF(INDEX(Database!$B$6:$Q$15,Calc!$B11,Calc!F$7)="","",INDEX(Database!$B$6:$Q$15,Calc!$B11,Calc!F$7)),"") -> HR Manager | G11: =IFERROR(IF(INDEX(Database!$B$6:$Q$15,Calc!$B11,Calc!G$7)="","",INDEX(Database!$B$6:$Q$15,Calc!$B11,Calc!G$7)),"") -> HR | H11: =IFERROR(IF(INDEX(Database!$B$6:$Q$15,Calc!$B11,Calc!H$7)="","",INDEX(Database!$B$6:$Q$15,Calc!$B11,Calc!H$7)),"") -> david.davis@email.com | I11: =IFERROR(IF(INDEX(Database!$B$6:$Q$15,Calc!$B11,Calc!I$7)="","",INDEX(Database!$B$6:$Q$15,Calc!$B11,Calc!I$7)),"") -> 555-9876 | J11: =IFERROR(IF(INDEX(Database!$B$6:$Q$15,Calc!$B11,Calc!J$7)="","",INDEX(Database!$B$6:$Q$15,Calc!$B11,Calc!J$7)),"") -> 789 Pine Blvd, Villagetown, State, ZIP | ... R11: =IFERROR(IF(INDEX(Database!$B$6:$Q$15,Calc!$B11,Calc!R$7)="","",INDEX(Database!$B$6:$Q$15,Calc!$B11,Calc!R$7)),"") | S11: =IFERROR(IF(LEN(D11)=0,"",D11&" "&E11),"") -> David Davis | U11: =INDEX($C$9:$C$18,$B11,$C$7) -> 1003 | W11: =IFERROR(IF(COUNTIF($U$9:$U11,$U11)>1,"",$U11),"") -> 1003 | Y11: =IF(LEN($W11)>0,$B11,"") -> 3 | Z11: =IFERROR(SMALL($Y$9:$Y$18,ROW($Z11)-ROW($Z$8)),"") -> 3 | AA11: =IF(LEN($Z11)>0,INDEX($W$9:$W$18,$Z11),"") -> 1003 | AD11: =IF(LEN(Form!$C8)>0,ROW(Form!$C8)-ROW(Form!$C$6),"")
B12: 4 | C12: =IFERROR(IF(INDEX(Database!$B$6:$Q$15,Calc!$B12,Calc!C$7)="","",INDEX(Database!$B$6:$Q$15,Calc!$B12,Calc!C$7)),"") -> 1004 | D12: =IFERROR(IF(INDEX(Database!$B$6:$Q$15,Calc!$B12,Calc!D$7)="","",INDEX(Database!$B$6:$Q$15,Calc!$B12,Calc!D$7)),"") -> Sarah | E12: =IFERROR(IF(INDEX(Database!$B$6:$Q$15,Calc!$B12,Calc!E$7)="","",INDEX(Database!$B$6:$Q$15,Calc!$B12,Calc!E$7)),"") -> Brown | F12: =IFERROR(IF(INDEX(Database!$B$6:$Q$15,Calc!$B12,Calc!F$7)="","",INDEX(Database!$B$6:$Q$15,Calc!$B12,Calc!F$7)),"") -> Financial Analyst | G12: =IFERROR(IF(INDEX(Database!$B$6:$Q$15,Calc!$B12,Calc!G$7)="","",INDEX(Database!$B$6:$Q$15,Calc!$B12,Calc!G$7)),"") -> Finance | H12: =IFERROR(IF(INDEX(Database!$B$6:$Q$15,Calc!$B12,Calc!H$7)="","",INDEX(Database!$B$6:$Q$15,Calc!$B12,Calc!H$7)),"") -> sarah.brown@email.com | I12: =IFERROR(IF(INDEX(Database!$B$6:$Q$15,Calc!$B12,Calc!I$7)="","",INDEX(Database!$B$6:$Q$15,Calc!$B12,Calc!I$7)),"") -> 555-4321 | J12: =IFERROR(IF(INDEX(Database!$B$6:$Q$15,Calc!$B12,Calc!J$7)="","",INDEX(Database!$B$6:$Q$15,Calc!$B12,Calc!J$7)),"") -> 101 Maple Ln, Hamletville, State, ZIP | ... R12: =IFERROR(IF(INDEX(Database!$B$6:$Q$15,Calc!$B12,Calc!R$7)="","",INDEX(Database!$B$6:$Q$15,Calc!$B12,Calc!R$7)),"") | S12: =IFERROR(IF(LEN(D12)=0,"",D12&" "&E12),"") -> Sarah Brown | U12: =INDEX($C$9:$C$18,$B12,$C$7) -> 1004 | W12: =IFERROR(IF(COUNTIF($U$9:$U12,$U12)>1,"",$U12),"") -> 1004 | Y12: =IF(LEN($W12)>0,$B12,"") -> 4 | Z12: =IFERROR(SMALL($Y$9:$Y$18,ROW($Z12)-ROW($Z$8)),"") -> 4 | AA12: =IF(LEN($Z12)>0,INDEX($W$9:$W$18,$Z12),"") -> 1004 | AD12: =IF(LEN(Form!$C9)>0,ROW(Form!$C9)-ROW(Form!$C$6),"") -> 3
B13: 5 | C13: =IFERROR(IF(INDEX(Database!$B$6:$Q$15,Calc!$B13,Calc!C$7)="","",INDEX(Database!$B$6:$Q$15,Calc!$B13,Calc!C$7)),"") -> 1005 | D13: =IFERROR(IF(INDEX(Database!$B$6:$Q$15,Calc!$B13,Calc!D$7)="","",INDEX(Database!$B$6:$Q$15,Calc!$B13,Calc!D$7)),"") -> Michael | E13: =IFERROR(IF(INDEX(Database!$B$6:$Q$15,Calc!$B13,Calc!E$7)="","",INDEX(Database!$B$6:$Q$15,Calc!$B13,Calc!E$7)),"") -> Wilson | F13: =IFERROR(IF(INDEX(Database!$B$6:$Q$15,Calc!$B13,Calc!F$7)="","",INDEX(Database!$B$6:$Q$15,Calc!$B13,Calc!F$7)),"") -> Project Manager | G13: =IFERROR(IF(INDEX(Database!$B$6:$Q$15,Calc!$B13,Calc!G$7)="","",INDEX(Database!$B$6:$Q$15,Calc!$B13,Calc!G$7)),"") -> Project Management | H13: =IFERROR(IF(INDEX(Database!$B$6:$Q$15,Calc!$B13,Calc!H$7)="","",INDEX(Database!$B$6:$Q$15,Calc!$B13,Calc!H$7)),"") -> michael.wilson@email.com | I13: =IFERROR(IF(INDEX(Database!$B$6:$Q$15,Calc!$B13,Calc!I$7)="","",INDEX(Database!$B$6:$Q$15,Calc!$B13,Calc!I$7)),"") -> 555-8765 | J13: =IFERROR(IF(INDEX(Database!$B$6:$Q$15,Calc!$B13,Calc!J$7)="","",INDEX(Database!$B$6:$Q$15,Calc!$B13,Calc!J$7)),"") -> 202 Elm Dr, Boroughburg, State, ZIP | ... R13: =IFERROR(IF(INDEX(Database!$B$6:$Q$15,Calc!$B13,Calc!R$7)="","",INDEX(Database!$B$6:$Q$15,Calc!$B13,Calc!R$7)),"") | S13: =IFERROR(IF(LEN(D13)=0,"",D13&" "&E13),"") -> Michael Wilson | U13: =INDEX($C$9:$C$18,$B13,$C$7) -> 1005 | W13: =IFERROR(IF(COUNTIF($U$9:$U13,$U13)>1,"",$U13),"") -> 1005 | Y13: =IF(LEN($W13)>0,$B13,"") -> 5 | Z13: =IFERROR(SMALL($Y$9:$Y$18,ROW($Z13)-ROW($Z$8)),"") -> 5 | AA13: =IF(LEN($Z13)>0,INDEX($W$9:$W$18,$Z13),"") -> 1005 | AD13: =IF(LEN(Form!$C10)>0,ROW(Form!$C10)-ROW(Form!$C$6),"")
B14: 6 | C14: =IFERROR(IF(INDEX(Database!$B$6:$Q$15,Calc!$B14,Calc!C$7)="","",INDEX(Database!$B$6:$Q$15,Calc!$B14,Calc!C$7)),"") -> 1006 | D14: =IFERROR(IF(INDEX(Database!$B$6:$Q$15,Calc!$B14,Calc!D$7)="","",INDEX(Database!$B$6:$Q$15,Calc!$B14,Calc!D$7)),"") -> Emily | E14: =IFERROR(IF(INDEX(Database!$B$6:$Q$15,Calc!$B14,Calc!E$7)="","",INDEX(Database!$B$6:$Q$15,Calc!$B14,Calc!E$7)),"") -> Miller | F14: =IFERROR(IF(INDEX(Database!$B$6:$Q$15,Calc!$B14,Calc!F$7)="","",INDEX(Database!$B$6:$Q$15,Calc!$B14,Calc!F$7)),"") -> Customer Support Representative | G14: =IFERROR(IF(INDEX(Database!$B$6:$Q$15,Calc!$B14,Calc!G$7)="","",INDEX(Database!$B$6:$Q$15,Calc!$B14,Calc!G$7)),"") -> Customer Support | H14: =IFERROR(IF(INDEX(Database!$B$6:$Q$15,Calc!$B14,Calc!H$7)="","",INDEX(Database!$B$6:$Q$15,Calc!$B14,Calc!H$7)),"") -> emily.miller@email.com | I14: =IFERROR(IF(INDEX(Database!$B$6:$Q$15,Calc!$B14,Calc!I$7)="","",INDEX(Database!$B$6:$Q$15,Calc!$B14,Calc!I$7)),"") -> 555-2345 | J14: =IFERROR(IF(INDEX(Database!$B$6:$Q$15,Calc!$B14,Calc!J$7)="","",INDEX(Database!$B$6:$Q$15,Calc!$B14,Calc!J$7)),"") -> 303 Cedar Ct, Metropolis, State, ZIP | ... R14: =IFERROR(IF(INDEX(Database!$B$6:$Q$15,Calc!$B14,Calc!R$7)="","",INDEX(Database!$B$6:$Q$15,Calc!$B14,Calc!R$7)),"") | S14: =IFERROR(IF(LEN(D14)=0,"",D14&" "&E14),"") -> Emily Miller | U14: =INDEX($C$9:$C$18,$B14,$C$7) -> 1006 | W14: =IFERROR(IF(COUNTIF($U$9:$U14,$U14)>1,"",$U14),"") -> 1006 | Y14: =IF(LEN($W14)>0,$B14,"") -> 6 | Z14: =IFERROR(SMALL($Y$9:$Y$18,ROW($Z14)-ROW($Z$8)),"") -> 6 | AA14: =IF(LEN($Z14)>0,INDEX($W$9:$W$18,$Z14),"") -> 1006 | AD14: =IF(LEN(Form!$C11)>0,ROW(Form!$C11)-ROW(Form!$C$6),"") -> 5
B15: 7 | C15: =IFERROR(IF(INDEX(Database!$B$6:$Q$15,Calc!$B15,Calc!C$7)="","",INDEX(Database!$B$6:$Q$15,Calc!$B15,Calc!C$7)),"") -> 1007 | D15: =IFERROR(IF(INDEX(Database!$B$6:$Q$15,Calc!$B15,Calc!D$7)="","",INDEX(Database!$B$6:$Q$15,Calc!$B15,Calc!D$7)),"") -> Brian | E15: =IFERROR(IF(INDEX(Database!$B$6:$Q$15,Calc!$B15,Calc!E$7)="","",INDEX(Database!$B$6:$Q$15,Calc!$B15,Calc!E$7)),"") -> Davis | F15: =IFERROR(IF(INDEX(Database!$B$6:$Q$15,Calc!$B15,Calc!F$7)="","",INDEX(Database!$B$6:$Q$15,Calc!$B15,Calc!F$7)),"") -> Sales Executive | G15: =IFERROR(IF(INDEX(Database!$B$6:$Q$15,Calc!$B15,Calc!G$7)="","",INDEX(Database!$B$6:$Q$15,Calc!$B15,Calc!G$7)),"") -> Sales | H15: =IFERROR(IF(INDEX(Database!$B$6:$Q$15,Calc!$B15,Calc!H$7)="","",INDEX(Database!$B$6:$Q$15,Calc!$B15,Calc!H$7)),"") -> brian.davis@email.com | I15: =IFERROR(IF(INDEX(Database!$B$6:$Q$15,Calc!$B15,Calc!I$7)="","",INDEX(Database!$B$6:$Q$15,Calc!$B15,Calc!I$7)),"") -> 555-6789 | J15: =IFERROR(IF(INDEX(Database!$B$6:$Q$15,Calc!$B15,Calc!J$7)="","",INDEX(Database!$B$6:$Q$15,Calc!$B15,Calc!J$7)),"") -> 404 Birch Rd, Countyville, State, ZIP | ... R15: =IFERROR(IF(INDEX(Database!$B$6:$Q$15,Calc!$B15,Calc!R$7)="","",INDEX(Database!$B$6:$Q$15,Calc!$B15,Calc!R$7)),"") | S15: =IFERROR(IF(LEN(D15)=0,"",D15&" "&E15),"") -> Brian Davis | U15: =INDEX($C$9:$C$18,$B15,$C$7) -> 1007 | W15: =IFERROR(IF(COUNTIF($U$9:$U15,$U15)>1,"",$U15),"") -> 1007 | Y15: =IF(LEN($W15)>0,$B15,"") -> 7 | Z15: =IFERROR(SMALL($Y$9:$Y$18,ROW($Z15)-ROW($Z$8)),"") -> 7 | AA15: =IF(LEN($Z15)>0,INDEX($W$9:$W$18,$Z15),"") -> 1007 | AD15: =IF(LEN(Form!$C12)>0,ROW(Form!$C12)-ROW(Form!$C$6),"")
B16: 8 | C16: =IFERROR(IF(INDEX(Database!$B$6:$Q$15,Calc!$B16,Calc!C$7)="","",INDEX(Database!$B$6:$Q$15,Calc!$B16,Calc!C$7)),"") -> 1008 | D16: =IFERROR(IF(INDEX(Database!$B$6:$Q$15,Calc!$B16,Calc!D$7)="","",INDEX(Database!$B$6:$Q$15,Calc!$B16,Calc!D$7)),"") -> Jessica | E16: =IFERROR(IF(INDEX(Database!$B$6:$Q$15,Calc!$B16,Calc!E$7)="","",INDEX(Database!$B$6:$Q$15,Calc!$B16,Calc!E$7)),"") -> Garcia | F16: =IFERROR(IF(INDEX(Database!$B$6:$Q$15,Calc!$B16,Calc!F$7)="","",INDEX(Database!$B$6:$Q$15,Calc!$B16,Calc!F$7)),"") -> Graphic Designer | G16: =IFERROR(IF(INDEX(Database!$B$6:$Q$15,Calc!$B16,Calc!G$7)="","",INDEX(Database!$B$6:$Q$15,Calc!$B16,Calc!G$7)),"") -> Design | H16: =IFERROR(IF(INDEX(Database!$B$6:$Q$15,Calc!$B16,Calc!H$7)="","",INDEX(Database!$B$6:$Q$15,Calc!$B16,Calc!H$7)),"") -> jessica.garcia@email.com | I16: =IFERROR(IF(INDEX(Database!$B$6:$Q$15,Calc!$B16,Calc!I$7)="","",INDEX(Database!$B$6:$Q$15,Calc!$B16,Calc!I$7)),"") -> 555-5432 | J16: =IFERROR(IF(INDEX(Database!$B$6:$Q$15,Calc!$B16,Calc!J$7)="","",INDEX(Database!$B$6:$Q$15,Calc!$B16,Calc!J$7)),"") -> 505 Walnut Way, Cityburg, State, ZIP | ... R16: =IFERROR(IF(INDEX(Database!$B$6:$Q$15,Calc!$B16,Calc!R$7)="","",INDEX(Database!$B$6:$Q$15,Calc!$B16,Calc!R$7)),"") | S16: =IFERROR(IF(LEN(D16)=0,"",D16&" "&E16),"") -> Jessica Garcia | U16: =INDEX($C$9:$C$18,$B16,$C$7) -> 1008 | W16: =IFERROR(IF(COUNTIF($U$9:$U16,$U16)>1,"",$U16),"") -> 1008 | Y16: =IF(LEN($W16)>0,$B16,"") -> 8 | Z16: =IFERROR(SMALL($Y$9:$Y$18,ROW($Z16)-ROW($Z$8)),"") -> 8 | AA16: =IF(LEN($Z16)>0,INDEX($W$9:$W$18,$Z16),"") -> 1008 | AD16: =IF(LEN(Form!$C13)>0,ROW(Form!$C13)-ROW(Form!$C$6),"") -> 7
B17: 9 | C17: =IFERROR(IF(INDEX(Database!$B$6:$Q$15,Calc!$B17,Calc!C$7)="","",INDEX(Database!$B$6:$Q$15,Calc!$B17,Calc!C$7)),"") | D17: =IFERROR(IF(INDEX(Database!$B$6:$Q$15,Calc!$B17,Calc!D$7)="","",INDEX(Database!$B$6:$Q$15,Calc!$B17,Calc!D$7)),"") | E17: =IFERROR(IF(INDEX(Database!$B$6:$Q$15,Calc!$B17,Calc!E$7)="","",INDEX(Database!$B$6:$Q$15,Calc!$B17,Calc!E$7)),"") | F17: =IFERROR(IF(INDEX(Database!$B$6:$Q$15,Calc!$B17,Calc!F$7)="","",INDEX(Database!$B$6:$Q$15,Calc!$B17,Calc!F$7)),"") | G17: =IFERROR(IF(INDEX(Database!$B$6:$Q$15,Calc!$B17,Calc!G$7)="","",INDEX(Database!$B$6:$Q$15,Calc!$B17,Calc!G$7)),"") | H17: =IFERROR(IF(INDEX(Database!$B$6:$Q$15,Calc!$B17,Calc!H$7)="","",INDEX(Database!$B$6:$Q$15,Calc!$B17,Calc!H$7)),"") | I17: =IFERROR(IF(INDEX(Database!$B$6:$Q$15,Calc!$B17,Calc!I$7)="","",INDEX(Database!$B$6:$Q$15,Calc!$B17,Calc!I$7)),"") | J17: =IFERROR(IF(INDEX(Database!$B$6:$Q$15,Calc!$B17,Calc!J$7)="","",INDEX(Database!$B$6:$Q$15,Calc!$B17,Calc!J$7)),"") | ... R17: =IFERROR(IF(INDEX(Database!$B$6:$Q$15,Calc!$B17,Calc!R$7)="","",INDEX(Database!$B$6:$Q$15,Calc!$B17,Calc!R$7)),"") | S17: =IFERROR(IF(LEN(D17)=0,"",D17&" "&E17),"") | U17: =INDEX($C$9:$C$18,$B17,$C$7) | W17: =IFERROR(IF(COUNTIF($U$9:$U17,$U17)>1,"",$U17),"") | Y17: =IF(LEN($W17)>0,$B17,"") | Z17: =IFERROR(SMALL($Y$9:$Y$18,ROW($Z17)-ROW($Z$8)),"") | AA17: =IF(LEN($Z17)>0,INDEX($W$9:$W$18,$Z17),"") | AD17: =IF(LEN(Form!$C14)>0,ROW(Form!$C14)-ROW(Form!$C$6),"") -> 8
B18: 10 | C18: =IFERROR(IF(INDEX(Database!$B$6:$Q$15,Calc!$B18,Calc!C$7)="","",INDEX(Database!$B$6:$Q$15,Calc!$B18,Calc!C$7)),"") | D18: =IFERROR(IF(INDEX(Database!$B$6:$Q$15,Calc!$B18,Calc!D$7)="","",INDEX(Database!$B$6:$Q$15,Calc!$B18,Calc!D$7)),"") | E18: =IFERROR(IF(INDEX(Database!$B$6:$Q$15,Calc!$B18,Calc!E$7)="","",INDEX(Database!$B$6:$Q$15,Calc!$B18,Calc!E$7)),"") | F18: =IFERROR(IF(INDEX(Database!$B$6:$Q$15,Calc!$B18,Calc!F$7)="","",INDEX(Database!$B$6:$Q$15,Calc!$B18,Calc!F$7)),"") | G18: =IFERROR(IF(INDEX(Database!$B$6:$Q$15,Calc!$B18,Calc!G$7)="","",INDEX(Database!$B$6:$Q$15,Calc!$B18,Calc!G$7)),"") | H18: =IFERROR(IF(INDEX(Database!$B$6:$Q$15,Calc!$B18,Calc!H$7)="","",INDEX(Database!$B$6:$Q$15,Calc!$B18,Calc!H$7)),"") | I18: =IFERROR(IF(INDEX(Database!$B$6:$Q$15,Calc!$B18,Calc!I$7)="","",INDEX(Database!$B$6:$Q$15,Calc!$B18,Calc!I$7)),"") | J18: =IFERROR(IF(INDEX(Database!$B$6:$Q$15,Calc!$B18,Calc!J$7)="","",INDEX(Database!$B$6:$Q$15,Calc!$B18,Calc!J$7)),"") | ... R18: =IFERROR(IF(INDEX(Database!$B$6:$Q$15,Calc!$B18,Calc!R$7)="","",INDEX(Database!$B$6:$Q$15,Calc!$B18,Calc!R$7)),"") | S18: =IFERROR(IF(LEN(D18)=0,"",D18&" "&E18),"") | U18: =INDEX($C$9:$C$18,$B18,$C$7) | W18: =IFERROR(IF(COUNTIF($U$9:$U18,$U18)>1,"",$U18),"") | Y18: =IF(LEN($W18)>0,$B18,"") | Z18: =IFERROR(SMALL($Y$9:$Y$18,ROW($Z18)-ROW($Z$8)),"") | AA18: =IF(LEN($Z18)>0,INDEX($W$9:$W$18,$Z18),"") | AD18: =IF(LEN(Form!$C15)>0,ROW(Form!$C15)-ROW(Form!$C$6),"") -> 9
AD19: =IF(LEN(Form!$C16)>0,ROW(Form!$C16)-ROW(Form!$C$6),"")
AD20: =IF(LEN(Form!$C17)>0,ROW(Form!$C17)-ROW(Form!$C$6),"") -> 11
AD21: =IF(LEN(Form!$C18)>0,ROW(Form!$C18)-ROW(Form!$C$6),"") -> 12
AD22: =IF(LEN(Form!$C19)>0,ROW(Form!$C19)-ROW(Form!$C$6),"") -> 13
AD23: =IF(LEN(Form!$C20)>0,ROW(Form!$C20)-ROW(Form!$C$6),"")
AD24: =IF(LEN(Form!$C21)>0,ROW(Form!$C21)-ROW(Form!$C$6),"") -> 15
AD25: =IF(LEN(Form!$C22)>0,ROW(Form!$C22)-ROW(Form!$C$6),"") -> 16
AD26: =IF(LEN(Form!$C23)>0,ROW(Form!$C23)-ROW(Form!$C$6),"") -> 17
AD27: =IF(LEN(Form!$C24)>0,ROW(Form!$C24)-ROW(Form!$C$6),"") -> 18
AD28: =IF(LEN(Form!$C25)>0,ROW(Form!$C25)-ROW(Form!$C$6),"") -> 19
AD29: =IF(LEN(Form!$C26)>0,ROW(Form!$C26)-ROW(Form!$C$6),"")
