Workbook
Name connector: Calc!$CW$11
Name DateHeaders: Calc!$BJ$7:$BO$7
Name DateTable: Calc!$BJ$8:$BO$26
Name desc: Calc!$CY$11
Name EduLevels: IFERROR(OFFSET(Calc!$CO$44,0,0,Calc!$CO$50,1),"")
Name EduLevelsMax: IFERROR(OFFSET(Calc!$CQ$44,0,0,Calc!$CO$50,1),"")
Name EduLevelsNumb: IFERROR(OFFSET(Calc!$CR$44,0,0,Calc!$CO$50,1),"")
Name filter1: Calc!$DH$8:$DH$26
Name filter2: Calc!$DK$8:$DK$26
Name filter3: Calc!$DN$8:$DN$26
Name filter4: Calc!$DQ$8:$DQ$26
Name GenderNames: IFERROR(OFFSET(Calc!$CO$25,0,0,Calc!$CO$29,1),"")
Name GenderNumb: IFERROR(OFFSET(Calc!$CQ$25,0,0,Calc!$CO$29,1),"")
Name Headers: Calc!$D$7:$AV$7
Name HeadingNumb: Calc!$BR$53
Name HiringSources: IFERROR(OFFSET(Calc!$CO$62,0,0,Calc!$CO$68,1),"")
Name HiringSourcesNumb: IFERROR(OFFSET(Calc!$CQ$62,0,0,Calc!$CO$68,1),"")
Name MainTable: Calc!$D$8:$AV$26
Name Maritals: IFERROR(OFFSET(Calc!$CO$73,0,0,Calc!$CO$77,1),"")
Name MaritalsNumb: IFERROR(OFFSET(Calc!$CP$73,0,0,Calc!$CO$77,1),"")
Name months: Calc!$CU$11:$CU$22
Name order: Calc!$CX$11
Name PrntDatabase: OFFSET(Database!$B$6,0,0,Calc!$DU$114,Calc!$DU$113)
Name PrntForm: OFFSET(Form!$C$6,0,0,Calc!$DU$8-5,6)
Name PrntList: OFFSET(List!$B$5,0,Calc!$DU$108,Calc!$DU$106,Calc!$DU$107)
Name Status: IFERROR(OFFSET(Calc!$CO$81,0,0,Calc!$CO$87,1),"")
Name StatusNumb: IFERROR(OFFSET(Calc!$CQ$81,0,0,Calc!$CO$87,1),"")
Name TermReasons: IFERROR(OFFSET(Calc!$CO$34,0,0,Calc!$CO$40,1),"")
Name TermReasonsNumb: IFERROR(OFFSET(Calc!$CP$34,0,0,Calc!$CO$40,1),"")

Sheet Menu
C2: EMPLOYEE DATABASE TEMPLATE
C3: NAVIGATION MENU

Sheet Settings
C2: EMPLOYEE DATABASE TEMPLATE
C3: SETTINGS
C7: OPTIONS FOR DROPDOWN MENUS
C9: Offices | E9: Departments | G9: Job Titles | I9: Job Status | K9: Education
C10: Main Office | E10: Operations | G10: Director | I10: Full Time | K10: Primary School
C11: North Office | E11: Marketing | G11: Vice-Director | I11: Part Time | K11: High School
C12: East Office | E12: Finance | G12: Expert | I12: Home Office | K12: Bachelor's Degree
E13: Sales | G13: Salesman | K13: Postgraduate Degree
E14: HR | G14: Intern
E15: Purchase
E16: Accounting
I17: Hiring Source | K17: Termination Reason
I18: LinkedIn | K18: Retirement
I19: Website | K19: Resignment
I20: In-House | K20: New Job
I21: Reference
I25: Gender | K25: Marital Status
I26: Female | K26: Married
I27: Male | K27: Single
I28: Not specified | K28: Divorced
C31: SETTINGS FOR STRUCTURAL CHANGES
C33: Date Format | E33: Salary Currency
C34: 31 Jan 2021 | E34: USD
C36: Date Input Headings
C37: Hiring Date | E37: Print Option For List
C38: Date of Birth | E38: Print with filters
C39: Termination Date
E41: Heading Option For Form
E42: Name

Sheet Database
B2: EMPLOYEE DATABASE TEMPLATE
B3: DATABASE
D6: Job Details | J6: Personal Details | S6: Contact Details | X6: Emergency Details | AB6: Salary Details | AE6: Termination Details | AH6: Other
B7: Employee Id | C7: Name | D7: Hiring Date | E7: Hiring Source | F7: Office | G7: Department | H7: Job Status | I7: Job Title | J7: ID / Passport | K7: Social Security # | L7: Gender | M7: Education | N7: Date of Birth | O7: Nationality | P7: Marital Status | Q7: # of Kids | R7: Driving License | S7: Email | T7: Cell Phone | U7: Address | V7: City | W7: Country | X7: Emergency Contact Person | Y7: Contact Info | Z7: Blood Type | AA7: Any Health Problem? | AB7: Initial Salary | AC7: Current Salary | AD7: Bank Account | AE7: Active | AF7: Termination Date | AG7: Termination Reason | AH7: Header1 | AI7: Header2 | AJ7: Header3 | AK7: Header4 | AL7: Header5
B8: M-0001 | C8: Jemima Begum | D8: 44562 | E8: In-House | F8: Main Office | G8: Operations | H8: Full Time | I8: Director | J8: 113857044 | K8: SSN-324330517 | L8: Female | M8: Bachelor's Degree | N8: 23732 | O8: USA | P8: Married | Q8: 2 | R8: Yes | S8: jemima@mail.com | T8: 202-555-8915 | U8: 8724 Smith Drive Buffalo 14221 | V8: New York | W8: USA | X8: Karen Begum | Y8: 202-555-3086 | Z8: A+ | AA8: No | AB8: 10000 | AC8: 13000 | AD8: 8402-3068-5092-3035 | AE8: Yes
B9: M-0002 | C9: Mercedes Banks | D9: 44593 | E9: Reference | F9: Main Office | G9: Accounting | H9: Full Time | I9: Vice-Director | J9: 694891782 | K9: SSN-637522042 | L9: Female | M9: Bachelor's Degree | N9: 27989 | O9: Colombia | P9: Married | Q9: 1 | R9: Yes | S9: mercedes@mail.com | T9: 202-555-3086 | U9: 320 Wentworth Lane Hempstead 11550 | V9: New York | W9: USA | X9: Tia Banks | Y9: 202-555-3086 | Z9: A+ | AA9: No | AB9: 8500 | AC9: 11000 | AD9: 4779-7997-3743-4306 | AE9: Yes
B10: M-0003 | C10: Macauley Peck | D10: 44713 | E10: Reference | F10: Main Office | G10: Marketing | H10: Full Time | I10: Vice-Director | J10: 235530120 | K10: SSN-637522042 | L10: Male | M10: Postgraduate Degree | N10: 29116 | O10: USA | P10: Single | Q10: 0 | R10: Yes | S10: macauley@mail.com | T10: 202-555-3086 | U10: 369 Cambridge St. Ridgewood 1138 | V10: New York | W10: USA | X10: Christine Peck | Y10: 202-555-3086 | Z10: B+ | AA10: No | AB10: 8500 | AC10: 11000 | AD10: 7487-5412-8393-8358 | AE10: Yes
B11: M-0004 | C11: Hannah Shaw | D11: 44562 | E11: Website | F11: Main Office | G11: Sales | H11: Full Time | I11: Expert | J11: 456153204 | K11: SSN-637522042 | L11: Female | M11: Bachelor's Degree | N11: 29297 | O11: USA | P11: Married | Q11: 2 | R11: Yes | S11: hannah@mail.com | T11: 202-555-3086 | U11: 975 Edgewood St. Brooklyn 11214 | V11: New York | W11: USA | X11: Lillian Shaw | Y11: 202-555-3086 | Z11: AB- | AA11: No | AB11: 7000 | AD11: 4640-8342-5599-9590 | AE11: No | AF11: 44959 | AG11: New Job
B12: N-0005 | C12: Carmel Beltran | D12: 44927 | E12: Website | F12: North Office | G12: Sales | H12: Full Time | I12: Salesman | J12: 358683370 | K12: SSN-637522042 | L12: Female | M12: Postgraduate Degree | N12: 29547 | O12: USA | P12: Divorced | Q12: 3 | R12: Yes | S12: carmel@mail.com | T12: 202-555-3086 | U12: 74 Trusel Rd. Troy 12180 | V12: New York | W12: USA | X12: Chantelle Beltran | Y12: 202-555-3086 | Z12: A+ | AA12: No | AB12: 4000 | AC12: 4500 | AD12: 7819-6226-3002-6706 | AE12: Yes
B13: N-0006 | C13: Sarah-Jayne Morrison | D13: 44958 | E13: In-House | F13: North Office | G13: Sales | H13: Full Time | I13: Salesman | J13: 175652380 | K13: SSN-637522042 | L13: Female | M13: High School | N13: 29797 | O13: USA | P13: Married | Q13: 1 | R13: No | S13: sarah-jayne@mail.com | T13: 202-555-3086 | U13: 56 La Sierra Dr. Bronx10467 | V13: New York | W13: USA | X13: Scarlet Morrison | Y13: 202-555-3086 | Z13: B+ | AA13: No | AB13: 4000 | AC13: 4500 | AD13: 1384-8485-1588-8944 | AE13: Yes
B14: E-0007 | C14: Alyce Milner | D14: 44986 | E14: Website | F14: East Office | G14: Sales | H14: Part Time | I14: Salesman | J14: 852104032 | K14: SSN-637522042 | L14: Female | M14: Primary School | N14: 30047 | O14: USA | P14: Single | Q14: 0 | R14: Yes | S14: alyce@mail.com | T14: 202-555-3086 | U14: 75 Windsor Dr. Brooklyn 11219 | V14: New York | W14: USA | X14: Alice Milner | Y14: 202-555-3086 | Z14: 0- | AA14: No | AB14: 2000 | AC14: 3200 | AD14: 1437-7990-1458-7620 | AE14: Yes
B15: E-0008 | C15: Aviana Kenny | D15: 44927 | E15: In-House | F15: East Office | G15: Operations | H15: Full Time | I15: Expert | J15: 261321862 | K15: SSN-637522042 | L15: Female | M15: Postgraduate Degree | N15: 30297 | O15: USA | P15: Married | Q15: 1 | R15: Yes | S15: aviana@mail.com | T15: 202-555-3086 | U15: 151 Euclid Dr. Bronx 10472 | V15: New York | W15: USA | X15: Hayley Kenny | Y15: 202-555-3086 | Z15: A+ | AA15: No | AB15: 4500 | AC15: 5200 | AD15: 7444-7202-8840-4463 | AE15: Yes
B16: M-0009 | C16: Harris Montes | D16: 44927 | E16: In-House | F16: Main Office | G16: Finance | H16: Home Office | I16: Vice-Director | J16: 807686104 | K16: SSN-637522042 | L16: Male | M16: Postgraduate Degree | N16: 30547 | O16: USA | P16: Married | Q16: 1 | R16: Yes | S16: harris@mail.com | T16: 202-555-3086 | U16: 60 rue Nationale 75003 | V16: Paris | W16: France | X16: Tara Montes | Y16: 202-555-3086 | Z16: AB+ | AA16: No | AB16: 8500 | AC16: 12000 | AD16: 2072-9863-6573-1307 | AE16: Yes
B17: M-00010 | C17: Doris Power | D17: 44958 | E17: Website | F17: Main Office | G17: HR | H17: Full Time | I17: Expert | J17: 992611892 | K17: SSN-637522042 | L17: Male | M17: Bachelor's Degree | N17: 30797 | O17: USA | P17: Married | Q17: 1 | R17: No | S17: doris@mail.com | T17: 202-555-3086 | U17: 216 Pine Street Auburn 13021 | V17: New York | W17: USA | X17: Joel Power | Y17: 202-555-3086 | Z17: B- | AA17: No | AB17: 5000 | AC17: 5300 | AD17: 4064-7954-7233-1517 | AE17: Yes
B18: N-00011 | C18: Isobelle Hurley | D18: 44986 | E18: LinkedIn | F18: North Office | G18: Purchase | H18: Full Time | I18: Expert | J18: 324037589 | K18: SSN-637522042 | L18: Female | M18: Bachelor's Degree | N18: 31047 | O18: USA | P18: Married | Q18: 0 | R18: Yes | S18: ısobelle@mail.com | T18: 202-555-3086 | U18: 147 Silver Spear Ave. Suite 454 10034 | V18: New York | W18: USA | X18: Karen Hurley | Y18: 202-555-3086 | Z18: A+ | AA18: Kidney Disease | AD18: 7479-3391-2472-3730 | AE18: Yes
B19: N-00012 | C19: Donell Merrill | D19: 44986 | E19: LinkedIn | F19: North Office | G19: Sales | H19: Part Time | I19: Salesman | J19: 478479029 | K19: SSN-637522042 | L19: Male | M19: Bachelor's Degree | N19: 31297 | O19: USA | P19: Divorced | Q19: 0 | R19: Yes | S19: donell@mail.com | T19: 202-555-3086 | U19: 79 Shadow Brook Drive Brooklyn 11228 | V19: New York | W19: USA | X19: Tia Merrill | Y19: 202-555-3086 | Z19: A+ | AA19: No | AB19: 3000 | AC19: 3200 | AD19: 4832-8823-6393-1996 | AE19: No | AF19: 45078 | AG19: Resignment
B20: N-00013 | C20: Jane Best | D20: 44986 | E20: LinkedIn | F20: North Office | G20: Sales | H20: Part Time | I20: Salesman | J20: 889485047 | K20: SSN-637522042 | L20: Female | M20: High School | N20: 31547 | O20: USA | P20: Married | Q20: 2 | R20: Yes | S20: jane@mail.com | T20: 202-555-3086 | U20: 1 South Devonshire Ave. Forest Hills 11375 | V20: New York | W20: USA | X20: Christine Best | Y20: 202-555-3086 | Z20: B+ | AA20: No | AB20: 3000 | AC20: 3200 | AD20: 8474-9594-6218-6028 | AE20: Yes
B21: E-00014 | C21: Kristofer Dyer | D21: 45017 | E21: Website | F21: East Office | G21: Accounting | H21: Full Time | I21: Expert | J21: 991357354 | K21: SSN-637522042 | L21: Male | M21: Postgraduate Degree | N21: 32071 | O21: USA | P21: Married | Q21: 1 | R21: Yes | S21: kristofer@mail.com | T21: 202-555-3086 | U21: 7823 Wild Rose Court Poughkeepsie 12601 | V21: New York | W21: USA | X21: Lillian Dyer | Y21: 202-555-3086 | Z21: AB- | AA21: No | AB21: 3500 | AC21: 4900 | AD21: 1496-8402-2451-7087 | AE21: Yes
B22: N-00015 | C22: Dominykas Xiong | D22: 45048 | E22: In-House | F22: North Office | G22: Accounting | H22: Full Time | I22: Intern | J22: 336117587 | K22: SSN-637522042 | L22: Male | M22: Bachelor's Degree | N22: 34239 | O22: China | P22: Single | Q22: 0 | R22: Yes | S22: dominykas@mail.com | T22: 202-555-3086 | U22: 8205 Sherman St. Brooklyn 11223 | V22: New York | W22: USA | X22: Chantelle Xiong | Y22: 202-555-3086 | Z22: A+ | AA22: No | AB22: 1200 | AD22: 2721-2227-9016-2638 | AE22: No | AF22: 45169 | AG22: Resignment

Sheet List
B2: EMPLOYEE DATABASE TEMPLATE
B3: DYNAMIC LIST
B5: Filtering | D5: Name | E5: Office | F5: Date of Birth | G5: Driving License | H5: Current Salary | I5: Email
D6: =IFERROR(INDEX(IF(Calc!ED$9="d",DateTable,MainTable),Calc!$CB8,Calc!ED$10),"") -> Jemima Begum | E6: =IFERROR(INDEX(IF(Calc!EE$9="d",DateTable,MainTable),Calc!$CB8,Calc!EE$10),"") -> Main Office | F6: =IFERROR(INDEX(IF(Calc!EF$9="d",DateTable,MainTable),Calc!$CB8,Calc!EF$10),"") -> 21 Dec 1964 | G6: =IFERROR(INDEX(IF(Calc!EG$9="d",DateTable,MainTable),Calc!$CB8,Calc!EG$10),"") -> Yes | H6: =IFERROR(INDEX(IF(Calc!EH$9="d",DateTable,MainTable),Calc!$CB8,Calc!EH$10),"") -> 13000 | I6: =IFERROR(INDEX(IF(Calc!EI$9="d",DateTable,MainTable),Calc!$CB8,Calc!EI$10),"") -> jemima@mail.com | J6: =IFERROR(INDEX(IF(Calc!EJ$9="d",DateTable,MainTable),Calc!$CB8,Calc!EJ$10),"") | K6: =IFERROR(INDEX(IF(Calc!EK$9="d",DateTable,MainTable),Calc!$CB8,Calc!EK$10),"") | ... M6: =IFERROR(INDEX(IF(Calc!EM$9="d",DateTable,MainTable),Calc!$CB8,Calc!EM$10),"")
B7: Department | D7: =IFERROR(INDEX(IF(Calc!ED$9="d",DateTable,MainTable),Calc!$CB9,Calc!ED$10),"") -> Mercedes Banks | E7: =IFERROR(INDEX(IF(Calc!EE$9="d",DateTable,MainTable),Calc!$CB9,Calc!EE$10),"") -> Main Office | F7: =IFERROR(INDEX(IF(Calc!EF$9="d",DateTable,MainTable),Calc!$CB9,Calc!EF$10),"") -> 17 Aug 1976 | G7: =IFERROR(INDEX(IF(Calc!EG$9="d",DateTable,MainTable),Calc!$CB9,Calc!EG$10),"") -> Yes | H7: =IFERROR(INDEX(IF(Calc!EH$9="d",DateTable,MainTable),Calc!$CB9,Calc!EH$10),"") -> 11000 | I7: =IFERROR(INDEX(IF(Calc!EI$9="d",DateTable,MainTable),Calc!$CB9,Calc!EI$10),"") -> mercedes@mail.com | J7: =IFERROR(INDEX(IF(Calc!EJ$9="d",DateTable,MainTable),Calc!$CB9,Calc!EJ$10),"") | K7: =IFERROR(INDEX(IF(Calc!EK$9="d",DateTable,MainTable),Calc!$CB9,Calc!EK$10),"") | ... M7: =IFERROR(INDEX(IF(Calc!EM$9="d",DateTable,MainTable),Calc!$CB9,Calc!EM$10),"")
B8: All | D8: =IFERROR(INDEX(IF(Calc!ED$9="d",DateTable,MainTable),Calc!$CB10,Calc!ED$10),"") -> Macauley Peck | E8: =IFERROR(INDEX(IF(Calc!EE$9="d",DateTable,MainTable),Calc!$CB10,Calc!EE$10),"") -> Main Office | F8: =IFERROR(INDEX(IF(Calc!EF$9="d",DateTable,MainTable),Calc!$CB10,Calc!EF$10),"") -> 18 Sep 1979 | G8: =IFERROR(INDEX(IF(Calc!EG$9="d",DateTable,MainTable),Calc!$CB10,Calc!EG$10),"") -> Yes | H8: =IFERROR(INDEX(IF(Calc!EH$9="d",DateTable,MainTable),Calc!$CB10,Calc!EH$10),"") -> 11000 | I8: =IFERROR(INDEX(IF(Calc!EI$9="d",DateTable,MainTable),Calc!$CB10,Calc!EI$10),"") -> macauley@mail.com | J8: =IFERROR(INDEX(IF(Calc!EJ$9="d",DateTable,MainTable),Calc!$CB10,Calc!EJ$10),"") | K8: =IFERROR(INDEX(IF(Calc!EK$9="d",DateTable,MainTable),Calc!$CB10,Calc!EK$10),"") | ... M8: =IFERROR(INDEX(IF(Calc!EM$9="d",DateTable,MainTable),Calc!$CB10,Calc!EM$10),"")
D9: =IFERROR(INDEX(IF(Calc!ED$9="d",DateTable,MainTable),Calc!$CB11,Calc!ED$10),"") -> Hannah Shaw | E9: =IFERROR(INDEX(IF(Calc!EE$9="d",DateTable,MainTable),Calc!$CB11,Calc!EE$10),"") -> Main Office | F9: =IFERROR(INDEX(IF(Calc!EF$9="d",DateTable,MainTable),Calc!$CB11,Calc!EF$10),"") -> 17 Mar 1980 | G9: =IFERROR(INDEX(IF(Calc!EG$9="d",DateTable,MainTable),Calc!$CB11,Calc!EG$10),"") -> Yes | H9: =IFERROR(INDEX(IF(Calc!EH$9="d",DateTable,MainTable),Calc!$CB11,Calc!EH$10),"") | I9: =IFERROR(INDEX(IF(Calc!EI$9="d",DateTable,MainTable),Calc!$CB11,Calc!EI$10),"") -> hannah@mail.com | J9: =IFERROR(INDEX(IF(Calc!EJ$9="d",DateTable,MainTable),Calc!$CB11,Calc!EJ$10),"") | K9: =IFERROR(INDEX(IF(Calc!EK$9="d",DateTable,MainTable),Calc!$CB11,Calc!EK$10),"") | ... M9: =IFERROR(INDEX(IF(Calc!EM$9="d",DateTable,MainTable),Calc!$CB11,Calc!EM$10),"")
A10: =IFERROR(IF(B10="","",IF(COUNTIF(Calc!$BR$8:$BR$53,B10)>0,"","x")),"") | B10: Education | D10: =IFERROR(INDEX(IF(Calc!ED$9="d",DateTable,MainTable),Calc!$CB12,Calc!ED$10),"") -> Carmel Beltran | E10: =IFERROR(INDEX(IF(Calc!EE$9="d",DateTable,MainTable),Calc!$CB12,Calc!EE$10),"") -> North Office | F10: =IFERROR(INDEX(IF(Calc!EF$9="d",DateTable,MainTable),Calc!$CB12,Calc!EF$10),"") -> 22 Nov 1980 | G10: =IFERROR(INDEX(IF(Calc!EG$9="d",DateTable,MainTable),Calc!$CB12,Calc!EG$10),"") -> Yes | H10: =IFERROR(INDEX(IF(Calc!EH$9="d",DateTable,MainTable),Calc!$CB12,Calc!EH$10),"") -> 4500 | I10: =IFERROR(INDEX(IF(Calc!EI$9="d",DateTable,MainTable),Calc!$CB12,Calc!EI$10),"") -> carmel@mail.com | J10: =IFERROR(INDEX(IF(Calc!EJ$9="d",DateTable,MainTable),Calc!$CB12,Calc!EJ$10),"") | K10: =IFERROR(INDEX(IF(Calc!EK$9="d",DateTable,MainTable),Calc!$CB12,Calc!EK$10),"") | ... M10: =IFERROR(INDEX(IF(Calc!EM$9="d",DateTable,MainTable),Calc!$CB12,Calc!EM$10),"")
B11: All | D11: =IFERROR(INDEX(IF(Calc!ED$9="d",DateTable,MainTable),Calc!$CB13,Calc!ED$10),"") -> Sarah-Jayne Morrison | E11: =IFERROR(INDEX(IF(Calc!EE$9="d",DateTable,MainTable),Calc!$CB13,Calc!EE$10),"") -> North Office | F11: =IFERROR(INDEX(IF(Calc!EF$9="d",DateTable,MainTable),Calc!$CB13,Calc!EF$10),"") -> 30 Jul 1981 | G11: =IFERROR(INDEX(IF(Calc!EG$9="d",DateTable,MainTable),Calc!$CB13,Calc!EG$10),"") -> No | H11: =IFERROR(INDEX(IF(Calc!EH$9="d",DateTable,MainTable),Calc!$CB13,Calc!EH$10),"") -> 4500 | I11: =IFERROR(INDEX(IF(Calc!EI$9="d",DateTable,MainTable),Calc!$CB13,Calc!EI$10),"") -> sarah-jayne@mail.com | J11: =IFERROR(INDEX(IF(Calc!EJ$9="d",DateTable,MainTable),Calc!$CB13,Calc!EJ$10),"") | K11: =IFERROR(INDEX(IF(Calc!EK$9="d",DateTable,MainTable),Calc!$CB13,Calc!EK$10),"") | ... M11: =IFERROR(INDEX(IF(Calc!EM$9="d",DateTable,MainTable),Calc!$CB13,Calc!EM$10),"")
D12: =IFERROR(INDEX(IF(Calc!ED$9="d",DateTable,MainTable),Calc!$CB14,Calc!ED$10),"") -> Alyce Milner | E12: =IFERROR(INDEX(IF(Calc!EE$9="d",DateTable,MainTable),Calc!$CB14,Calc!EE$10),"") -> East Office | F12: =IFERROR(INDEX(IF(Calc!EF$9="d",DateTable,MainTable),Calc!$CB14,Calc!EF$10),"") -> 6 Apr 1982 | G12: =IFERROR(INDEX(IF(Calc!EG$9="d",DateTable,MainTable),Calc!$CB14,Calc!EG$10),"") -> Yes | H12: =IFERROR(INDEX(IF(Calc!EH$9="d",DateTable,MainTable),Calc!$CB14,Calc!EH$10),"") -> 3200 | I12: =IFERROR(INDEX(IF(Calc!EI$9="d",DateTable,MainTable),Calc!$CB14,Calc!EI$10),"") -> alyce@mail.com | J12: =IFERROR(INDEX(IF(Calc!EJ$9="d",DateTable,MainTable),Calc!$CB14,Calc!EJ$10),"") | K12: =IFERROR(INDEX(IF(Calc!EK$9="d",DateTable,MainTable),Calc!$CB14,Calc!EK$10),"") | ... M12: =IFERROR(INDEX(IF(Calc!EM$9="d",DateTable,MainTable),Calc!$CB14,Calc!EM$10),"")
A13: =IFERROR(IF(B13="","",IF(COUNTIF(Calc!$BR$8:$BR$53,B13)>0,"","x")),"") | B13: Gender | D13: =IFERROR(INDEX(IF(Calc!ED$9="d",DateTable,MainTable),Calc!$CB15,Calc!ED$10),"") -> Aviana Kenny | E13: =IFERROR(INDEX(IF(Calc!EE$9="d",DateTable,MainTable),Calc!$CB15,Calc!EE$10),"") -> East Office | F13: =IFERROR(INDEX(IF(Calc!EF$9="d",DateTable,MainTable),Calc!$CB15,Calc!EF$10),"") -> 12 Dec 1982 | G13: =IFERROR(INDEX(IF(Calc!EG$9="d",DateTable,MainTable),Calc!$CB15,Calc!EG$10),"") -> Yes | H13: =IFERROR(INDEX(IF(Calc!EH$9="d",DateTable,MainTable),Calc!$CB15,Calc!EH$10),"") -> 5200 | I13: =IFERROR(INDEX(IF(Calc!EI$9="d",DateTable,MainTable),Calc!$CB15,Calc!EI$10),"") -> aviana@mail.com | J13: =IFERROR(INDEX(IF(Calc!EJ$9="d",DateTable,MainTable),Calc!$CB15,Calc!EJ$10),"") | K13: =IFERROR(INDEX(IF(Calc!EK$9="d",DateTable,MainTable),Calc!$CB15,Calc!EK$10),"") | ... M13: =IFERROR(INDEX(IF(Calc!EM$9="d",DateTable,MainTable),Calc!$CB15,Calc!EM$10),"")
B14: All | D14: =IFERROR(INDEX(IF(Calc!ED$9="d",DateTable,MainTable),Calc!$CB16,Calc!ED$10),"") -> Harris Montes | E14: =IFERROR(INDEX(IF(Calc!EE$9="d",DateTable,MainTable),Calc!$CB16,Calc!EE$10),"") -> Main Office | F14: =IFERROR(INDEX(IF(Calc!EF$9="d",DateTable,MainTable),Calc!$CB16,Calc!EF$10),"") -> 19 Aug 1983 | G14: =IFERROR(INDEX(IF(Calc!EG$9="d",DateTable,MainTable),Calc!$CB16,Calc!EG$10),"") -> Yes | H14: =IFERROR(INDEX(IF(Calc!EH$9="d",DateTable,MainTable),Calc!$CB16,Calc!EH$10),"") -> 12000 | I14: =IFERROR(INDEX(IF(Calc!EI$9="d",DateTable,MainTable),Calc!$CB16,Calc!EI$10),"") -> harris@mail.com | J14: =IFERROR(INDEX(IF(Calc!EJ$9="d",DateTable,MainTable),Calc!$CB16,Calc!EJ$10),"") | K14: =IFERROR(INDEX(IF(Calc!EK$9="d",DateTable,MainTable),Calc!$CB16,Calc!EK$10),"") | ... M14: =IFERROR(INDEX(IF(Calc!EM$9="d",DateTable,MainTable),Calc!$CB16,Calc!EM$10),"")
D15: =IFERROR(INDEX(IF(Calc!ED$9="d",DateTable,MainTable),Calc!$CB17,Calc!ED$10),"") -> Doris Power | E15: =IFERROR(INDEX(IF(Calc!EE$9="d",DateTable,MainTable),Calc!$CB17,Calc!EE$10),"") -> Main Office | F15: =IFERROR(INDEX(IF(Calc!EF$9="d",DateTable,MainTable),Calc!$CB17,Calc!EF$10),"") -> 25 Apr 1984 | G15: =IFERROR(INDEX(IF(Calc!EG$9="d",DateTable,MainTable),Calc!$CB17,Calc!EG$10),"") -> No | H15: =IFERROR(INDEX(IF(Calc!EH$9="d",DateTable,MainTable),Calc!$CB17,Calc!EH$10),"") -> 5300 | I15: =IFERROR(INDEX(IF(Calc!EI$9="d",DateTable,MainTable),Calc!$CB17,Calc!EI$10),"") -> doris@mail.com | J15: =IFERROR(INDEX(IF(Calc!EJ$9="d",DateTable,MainTable),Calc!$CB17,Calc!EJ$10),"") | K15: =IFERROR(INDEX(IF(Calc!EK$9="d",DateTable,MainTable),Calc!$CB17,Calc!EK$10),"") | ... M15: =IFERROR(INDEX(IF(Calc!EM$9="d",DateTable,MainTable),Calc!$CB17,Calc!EM$10),"")
A16: =IFERROR(IF(B16="","",IF(COUNTIF(Calc!$BR$8:$BR$53,B16)>0,"","x")),"") | B16: Nationality | D16: =IFERROR(INDEX(IF(Calc!ED$9="d",DateTable,MainTable),Calc!$CB18,Calc!ED$10),"") -> Isobelle Hurley | E16: =IFERROR(INDEX(IF(Calc!EE$9="d",DateTable,MainTable),Calc!$CB18,Calc!EE$10),"") -> North Office | F16: =IFERROR(INDEX(IF(Calc!EF$9="d",DateTable,MainTable),Calc!$CB18,Calc!EF$10),"") -> 31 Dec 1984 | G16: =IFERROR(INDEX(IF(Calc!EG$9="d",DateTable,MainTable),Calc!$CB18,Calc!EG$10),"") -> Yes | H16: =IFERROR(INDEX(IF(Calc!EH$9="d",DateTable,MainTable),Calc!$CB18,Calc!EH$10),"") | I16: =IFERROR(INDEX(IF(Calc!EI$9="d",DateTable,MainTable),Calc!$CB18,Calc!EI$10),"") -> ısobelle@mail.com | J16: =IFERROR(INDEX(IF(Calc!EJ$9="d",DateTable,MainTable),Calc!$CB18,Calc!EJ$10),"") | K16: =IFERROR(INDEX(IF(Calc!EK$9="d",DateTable,MainTable),Calc!$CB18,Calc!EK$10),"") | ... M16: =IFERROR(INDEX(IF(Calc!EM$9="d",DateTable,MainTable),Calc!$CB18,Calc!EM$10),"")
B17: All | D17: =IFERROR(INDEX(IF(Calc!ED$9="d",DateTable,MainTable),Calc!$CB19,Calc!ED$10),"") -> Donell Merrill | E17: =IFERROR(INDEX(IF(Calc!EE$9="d",DateTable,MainTable),Calc!$CB19,Calc!EE$10),"") -> North Office | F17: =IFERROR(INDEX(IF(Calc!EF$9="d",DateTable,MainTable),Calc!$CB19,Calc!EF$10),"") -> 7 Sep 1985 | G17: =IFERROR(INDEX(IF(Calc!EG$9="d",DateTable,MainTable),Calc!$CB19,Calc!EG$10),"") -> Yes | H17: =IFERROR(INDEX(IF(Calc!EH$9="d",DateTable,MainTable),Calc!$CB19,Calc!EH$10),"") -> 3200 | I17: =IFERROR(INDEX(IF(Calc!EI$9="d",DateTable,MainTable),Calc!$CB19,Calc!EI$10),"") -> donell@mail.com | J17: =IFERROR(INDEX(IF(Calc!EJ$9="d",DateTable,MainTable),Calc!$CB19,Calc!EJ$10),"") | K17: =IFERROR(INDEX(IF(Calc!EK$9="d",DateTable,MainTable),Calc!$CB19,Calc!EK$10),"") | ... M17: =IFERROR(INDEX(IF(Calc!EM$9="d",DateTable,MainTable),Calc!$CB19,Calc!EM$10),"")
D18: =IFERROR(INDEX(IF(Calc!ED$9="d",DateTable,MainTable),Calc!$CB20,Calc!ED$10),"") -> Jane Best | E18: =IFERROR(INDEX(IF(Calc!EE$9="d",DateTable,MainTable),Calc!$CB20,Calc!EE$10),"") -> North Office | F18: =IFERROR(INDEX(IF(Calc!EF$9="d",DateTable,MainTable),Calc!$CB20,Calc!EF$10),"") -> 15 May 1986 | G18: =IFERROR(INDEX(IF(Calc!EG$9="d",DateTable,MainTable),Calc!$CB20,Calc!EG$10),"") -> Yes | H18: =IFERROR(INDEX(IF(Calc!EH$9="d",DateTable,MainTable),Calc!$CB20,Calc!EH$10),"") -> 3200 | I18: =IFERROR(INDEX(IF(Calc!EI$9="d",DateTable,MainTable),Calc!$CB20,Calc!EI$10),"") -> jane@mail.com | J18: =IFERROR(INDEX(IF(Calc!EJ$9="d",DateTable,MainTable),Calc!$CB20,Calc!EJ$10),"") | K18: =IFERROR(INDEX(IF(Calc!EK$9="d",DateTable,MainTable),Calc!$CB20,Calc!EK$10),"") | ... M18: =IFERROR(INDEX(IF(Calc!EM$9="d",DateTable,MainTable),Calc!$CB20,Calc!EM$10),"")
D19: =IFERROR(INDEX(IF(Calc!ED$9="d",DateTable,MainTable),Calc!$CB21,Calc!ED$10),"") -> Kristofer Dyer | E19: =IFERROR(INDEX(IF(Calc!EE$9="d",DateTable,MainTable),Calc!$CB21,Calc!EE$10),"") -> East Office | F19: =IFERROR(INDEX(IF(Calc!EF$9="d",DateTable,MainTable),Calc!$CB21,Calc!EF$10),"") -> 21 Oct 1987 | G19: =IFERROR(INDEX(IF(Calc!EG$9="d",DateTable,MainTable),Calc!$CB21,Calc!EG$10),"") -> Yes | H19: =IFERROR(INDEX(IF(Calc!EH$9="d",DateTable,MainTable),Calc!$CB21,Calc!EH$10),"") -> 4900 | I19: =IFERROR(INDEX(IF(Calc!EI$9="d",DateTable,MainTable),Calc!$CB21,Calc!EI$10),"") -> kristofer@mail.com | J19: =IFERROR(INDEX(IF(Calc!EJ$9="d",DateTable,MainTable),Calc!$CB21,Calc!EJ$10),"") | K19: =IFERROR(INDEX(IF(Calc!EK$9="d",DateTable,MainTable),Calc!$CB21,Calc!EK$10),"") | ... M19: =IFERROR(INDEX(IF(Calc!EM$9="d",DateTable,MainTable),Calc!$CB21,Calc!EM$10),"")
D20: =IFERROR(INDEX(IF(Calc!ED$9="d",DateTable,MainTable),Calc!$CB22,Calc!ED$10),"") -> Dominykas Xiong | E20: =IFERROR(INDEX(IF(Calc!EE$9="d",DateTable,MainTable),Calc!$CB22,Calc!EE$10),"") -> North Office | F20: =IFERROR(INDEX(IF(Calc!EF$9="d",DateTable,MainTable),Calc!$CB22,Calc!EF$10),"") -> 27 Sep 1993 | G20: =IFERROR(INDEX(IF(Calc!EG$9="d",DateTable,MainTable),Calc!$CB22,Calc!EG$10),"") -> Yes | H20: =IFERROR(INDEX(IF(Calc!EH$9="d",DateTable,MainTable),Calc!$CB22,Calc!EH$10),"") | I20: =IFERROR(INDEX(IF(Calc!EI$9="d",DateTable,MainTable),Calc!$CB22,Calc!EI$10),"") -> dominykas@mail.com | J20: =IFERROR(INDEX(IF(Calc!EJ$9="d",DateTable,MainTable),Calc!$CB22,Calc!EJ$10),"") | K20: =IFERROR(INDEX(IF(Calc!EK$9="d",DateTable,MainTable),Calc!$CB22,Calc!EK$10),"") | ... M20: =IFERROR(INDEX(IF(Calc!EM$9="d",DateTable,MainTable),Calc!$CB22,Calc!EM$10),"")
D21: =IFERROR(INDEX(IF(Calc!ED$9="d",DateTable,MainTable),Calc!$CB23,Calc!ED$10),"") | E21: =IFERROR(INDEX(IF(Calc!EE$9="d",DateTable,MainTable),Calc!$CB23,Calc!EE$10),"") | F21: =IFERROR(INDEX(IF(Calc!EF$9="d",DateTable,MainTable),Calc!$CB23,Calc!EF$10),"") | G21: =IFERROR(INDEX(IF(Calc!EG$9="d",DateTable,MainTable),Calc!$CB23,Calc!EG$10),"") | H21: =IFERROR(INDEX(IF(Calc!EH$9="d",DateTable,MainTable),Calc!$CB23,Calc!EH$10),"") | I21: =IFERROR(INDEX(IF(Calc!EI$9="d",DateTable,MainTable),Calc!$CB23,Calc!EI$10),"") | J21: =IFERROR(INDEX(IF(Calc!EJ$9="d",DateTable,MainTable),Calc!$CB23,Calc!EJ$10),"") | K21: =IFERROR(INDEX(IF(Calc!EK$9="d",DateTable,MainTable),Calc!$CB23,Calc!EK$10),"") | ... M21: =IFERROR(INDEX(IF(Calc!EM$9="d",DateTable,MainTable),Calc!$CB23,Calc!EM$10),"")
D22: =IFERROR(INDEX(IF(Calc!ED$9="d",DateTable,MainTable),Calc!$CB24,Calc!ED$10),"") | E22: =IFERROR(INDEX(IF(Calc!EE$9="d",DateTable,MainTable),Calc!$CB24,Calc!EE$10),"") | F22: =IFERROR(INDEX(IF(Calc!EF$9="d",DateTable,MainTable),Calc!$CB24,Calc!EF$10),"") | G22: =IFERROR(INDEX(IF(Calc!EG$9="d",DateTable,MainTable),Calc!$CB24,Calc!EG$10),"") | H22: =IFERROR(INDEX(IF(Calc!EH$9="d",DateTable,MainTable),Calc!$CB24,Calc!EH$10),"") | I22: =IFERROR(INDEX(IF(Calc!EI$9="d",DateTable,MainTable),Calc!$CB24,Calc!EI$10),"") | J22: =IFERROR(INDEX(IF(Calc!EJ$9="d",DateTable,MainTable),Calc!$CB24,Calc!EJ$10),"") | K22: =IFERROR(INDEX(IF(Calc!EK$9="d",DateTable,MainTable),Calc!$CB24,Calc!EK$10),"") | ... M22: =IFERROR(INDEX(IF(Calc!EM$9="d",DateTable,MainTable),Calc!$CB24,Calc!EM$10),"")
D23: =IFERROR(INDEX(IF(Calc!ED$9="d",DateTable,MainTable),Calc!$CB25,Calc!ED$10),"") | E23: =IFERROR(INDEX(IF(Calc!EE$9="d",DateTable,MainTable),Calc!$CB25,Calc!EE$10),"") | F23: =IFERROR(INDEX(IF(Calc!EF$9="d",DateTable,MainTable),Calc!$CB25,Calc!EF$10),"") | G23: =IFERROR(INDEX(IF(Calc!EG$9="d",DateTable,MainTable),Calc!$CB25,Calc!EG$10),"") | H23: =IFERROR(INDEX(IF(Calc!EH$9="d",DateTable,MainTable),Calc!$CB25,Calc!EH$10),"") | I23: =IFERROR(INDEX(IF(Calc!EI$9="d",DateTable,MainTable),Calc!$CB25,Calc!EI$10),"") | J23: =IFERROR(INDEX(IF(Calc!EJ$9="d",DateTable,MainTable),Calc!$CB25,Calc!EJ$10),"") | K23: =IFERROR(INDEX(IF(Calc!EK$9="d",DateTable,MainTable),Calc!$CB25,Calc!EK$10),"") | ... M23: =IFERROR(INDEX(IF(Calc!EM$9="d",DateTable,MainTable),Calc!$CB25,Calc!EM$10),"")
D24: =IFERROR(INDEX(IF(Calc!ED$9="d",DateTable,MainTable),Calc!$CB26,Calc!ED$10),"") | E24: =IFERROR(INDEX(IF(Calc!EE$9="d",DateTable,MainTable),Calc!$CB26,Calc!EE$10),"") | F24: =IFERROR(INDEX(IF(Calc!EF$9="d",DateTable,MainTable),Calc!$CB26,Calc!EF$10),"") | G24: =IFERROR(INDEX(IF(Calc!EG$9="d",DateTable,MainTable),Calc!$CB26,Calc!EG$10),"") | H24: =IFERROR(INDEX(IF(Calc!EH$9="d",DateTable,MainTable),Calc!$CB26,Calc!EH$10),"") | I24: =IFERROR(INDEX(IF(Calc!EI$9="d",DateTable,MainTable),Calc!$CB26,Calc!EI$10),"") | J24: =IFERROR(INDEX(IF(Calc!EJ$9="d",DateTable,MainTable),Calc!$CB26,Calc!EJ$10),"") | K24: =IFERROR(INDEX(IF(Calc!EK$9="d",DateTable,MainTable),Calc!$CB26,Calc!EK$10),"") | ... M24: =IFERROR(INDEX(IF(Calc!EM$9="d",DateTable,MainTable),Calc!$CB26,Calc!EM$10),"")

Sheet Form
C2: EMPLOYEE DATABASE TEMPLATE
C3: EMPLOYEE FORM
C6: =IF(Settings!E42="","",Settings!E42) -> Name | D6: Doris Power
C9: Job Details | E9: =IFERROR(IF(INDEX(Calc!$D$5:$AV$5,1,MATCH(Form!$D9,Calc!$D$7:$BO$7,0))="d",INDEX(DateTable,Calc!$DU$111,MATCH(Form!$D9,DateHeaders,0)),INDEX(MainTable,Calc!$DU$111,MATCH(Form!$D9,Headers,0))),"") | H9: =IFERROR(IF(INDEX(Calc!$D$5:$AV$5,1,MATCH(Form!$G9,Calc!$D$7:$BO$7,0))="d",INDEX(DateTable,Calc!$DU$111,MATCH(Form!$G9,DateHeaders,0)),INDEX(MainTable,Calc!$DU$111,MATCH(Form!$G9,Headers,0))),"")
D10: Employee Id | E10: =IFERROR(IF(INDEX(Calc!$D$5:$AV$5,1,MATCH(Form!$D10,Calc!$D$7:$BO$7,0))="d",INDEX(DateTable,Calc!$DU$111,MATCH(Form!$D10,DateHeaders,0)),INDEX(MainTable,Calc!$DU$111,MATCH(Form!$D10,Headers,0))),"") -> M-00010 | G10: Department | H10: =IFERROR(IF(INDEX(Calc!$D$5:$AV$5,1,MATCH(Form!$G10,Calc!$D$7:$BO$7,0))="d",INDEX(DateTable,Calc!$DU$111,MATCH(Form!$G10,DateHeaders,0)),INDEX(MainTable,Calc!$DU$111,MATCH(Form!$G10,Headers,0))),"") -> HR
D11: Hiring Date | E11: =IFERROR(IF(INDEX(Calc!$D$5:$AV$5,1,MATCH(Form!$D11,Calc!$D$7:$BO$7,0))="d",INDEX(DateTable,Calc!$DU$111,MATCH(Form!$D11,DateHeaders,0)),INDEX(MainTable,Calc!$DU$111,MATCH(Form!$D11,Headers,0))),"") -> 1 Feb 2023 | G11: Job Status | H11: =IFERROR(IF(INDEX(Calc!$D$5:$AV$5,1,MATCH(Form!$G11,Calc!$D$7:$BO$7,0))="d",INDEX(DateTable,Calc!$DU$111,MATCH(Form!$G11,DateHeaders,0)),INDEX(MainTable,Calc!$DU$111,MATCH(Form!$G11,Headers,0))),"") -> Full Time
D12: Hiring Source | E12: =IFERROR(IF(INDEX(Calc!$D$5:$AV$5,1,MATCH(Form!$D12,Calc!$D$7:$BO$7,0))="d",INDEX(DateTable,Calc!$DU$111,MATCH(Form!$D12,DateHeaders,0)),INDEX(MainTable,Calc!$DU$111,MATCH(Form!$D12,Headers,0))),"") -> Website | G12: Job Title | H12: =IFERROR(IF(INDEX(Calc!$D$5:$AV$5,1,MATCH(Form!$G12,Calc!$D$7:$BO$7,0))="d",INDEX(DateTable,Calc!$DU$111,MATCH(Form!$G12,DateHeaders,0)),INDEX(MainTable,Calc!$DU$111,MATCH(Form!$G12,Headers,0))),"") -> Expert
D13: Office | E13: =IFERROR(IF(INDEX(Calc!$D$5:$AV$5,1,MATCH(Form!$D13,Calc!$D$7:$BO$7,0))="d",INDEX(DateTable,Calc!$DU$111,MATCH(Form!$D13,DateHeaders,0)),INDEX(MainTable,Calc!$DU$111,MATCH(Form!$D13,Headers,0))),"") -> Main Office | H13: =IFERROR(IF(INDEX(Calc!$D$5:$AV$5,1,MATCH(Form!$G13,Calc!$D$7:$BO$7,0))="d",INDEX(DateTable,Calc!$DU$111,MATCH(Form!$G13,DateHeaders,0)),INDEX(MainTable,Calc!$DU$111,MATCH(Form!$G13,Headers,0))),"")
C14: Personal Details | E14: =IFERROR(IF(INDEX(Calc!$D$5:$AV$5,1,MATCH(Form!$D14,Calc!$D$7:$BO$7,0))="d",INDEX(DateTable,Calc!$DU$111,MATCH(Form!$D14,DateHeaders,0)),INDEX(MainTable,Calc!$DU$111,MATCH(Form!$D14,Headers,0))),"") | H14: =IFERROR(IF(INDEX(Calc!$D$5:$AV$5,1,MATCH(Form!$G14,Calc!$D$7:$BO$7,0))="d",INDEX(DateTable,Calc!$DU$111,MATCH(Form!$G14,DateHeaders,0)),INDEX(MainTable,Calc!$DU$111,MATCH(Form!$G14,Headers,0))),"")
D15: ID / Passport | E15: =IFERROR(IF(INDEX(Calc!$D$5:$AV$5,1,MATCH(Form!$D15,Calc!$D$7:$BO$7,0))="d",INDEX(DateTable,Calc!$DU$111,MATCH(Form!$D15,DateHeaders,0)),INDEX(MainTable,Calc!$DU$111,MATCH(Form!$D15,Headers,0))),"") -> 992611892 | G15: Nationality | H15: =IFERROR(IF(INDEX(Calc!$D$5:$AV$5,1,MATCH(Form!$G15,Calc!$D$7:$BO$7,0))="d",INDEX(DateTable,Calc!$DU$111,MATCH(Form!$G15,DateHeaders,0)),INDEX(MainTable,Calc!$DU$111,MATCH(Form!$G15,Headers,0))),"") -> USA
D16: Social Security # | E16: =IFERROR(IF(INDEX(Calc!$D$5:$AV$5,1,MATCH(Form!$D16,Calc!$D$7:$BO$7,0))="d",INDEX(DateTable,Calc!$DU$111,MATCH(Form!$D16,DateHeaders,0)),INDEX(MainTable,Calc!$DU$111,MATCH(Form!$D16,Headers,0))),"") -> SSN-637522042 | G16: Marital Status | H16: =IFERROR(IF(INDEX(Calc!$D$5:$AV$5,1,MATCH(Form!$G16,Calc!$D$7:$BO$7,0))="d",INDEX(DateTable,Calc!$DU$111,MATCH(Form!$G16,DateHeaders,0)),INDEX(MainTable,Calc!$DU$111,MATCH(Form!$G16,Headers,0))),"") -> Married
D17: Gender | E17: =IFERROR(IF(INDEX(Calc!$D$5:$AV$5,1,MATCH(Form!$D17,Calc!$D$7:$BO$7,0))="d",INDEX(DateTable,Calc!$DU$111,MATCH(Form!$D17,DateHeaders,0)),INDEX(MainTable,Calc!$DU$111,MATCH(Form!$D17,Headers,0))),"") -> Male | G17: # of Kids | H17: =IFERROR(IF(INDEX(Calc!$D$5:$AV$5,1,MATCH(Form!$G17,Calc!$D$7:$BO$7,0))="d",INDEX(DateTable,Calc!$DU$111,MATCH(Form!$G17,DateHeaders,0)),INDEX(MainTable,Calc!$DU$111,MATCH(Form!$G17,Headers,0))),"") -> 1
D18: Education | E18: =IFERROR(IF(INDEX(Calc!$D$5:$AV$5,1,MATCH(Form!$D18,Calc!$D$7:$BO$7,0))="d",INDEX(DateTable,Calc!$DU$111,MATCH(Form!$D18,DateHeaders,0)),INDEX(MainTable,Calc!$DU$111,MATCH(Form!$D18,Headers,0))),"") -> Bachelor's Degree | G18: Driving License | H18: =IFERROR(IF(INDEX(Calc!$D$5:$AV$5,1,MATCH(Form!$G18,Calc!$D$7:$BO$7,0))="d",INDEX(DateTable,Calc!$DU$111,MATCH(Form!$G18,DateHeaders,0)),INDEX(MainTable,Calc!$DU$111,MATCH(Form!$G18,Headers,0))),"") -> No
D19: Date of Birth | E19: =IFERROR(IF(INDEX(Calc!$D$5:$AV$5,1,MATCH(Form!$D19,Calc!$D$7:$BO$7,0))="d",INDEX(DateTable,Calc!$DU$111,MATCH(Form!$D19,DateHeaders,0)),INDEX(MainTable,Calc!$DU$111,MATCH(Form!$D19,Headers,0))),"") -> 25 Apr 1984 | H19: =IFERROR(IF(INDEX(Calc!$D$5:$AV$5,1,MATCH(Form!$G19,Calc!$D$7:$BO$7,0))="d",INDEX(DateTable,Calc!$DU$111,MATCH(Form!$G19,DateHeaders,0)),INDEX(MainTable,Calc!$DU$111,MATCH(Form!$G19,Headers,0))),"")
C20: Contact Details | E20: =IFERROR(IF(INDEX(Calc!$D$5:$AV$5,1,MATCH(Form!$D20,Calc!$D$7:$BO$7,0))="d",INDEX(DateTable,Calc!$DU$111,MATCH(Form!$D20,DateHeaders,0)),INDEX(MainTable,Calc!$DU$111,MATCH(Form!$D20,Headers,0))),"") | H20: =IFERROR(IF(INDEX(Calc!$D$5:$AV$5,1,MATCH(Form!$G20,Calc!$D$7:$BO$7,0))="d",INDEX(DateTable,Calc!$DU$111,MATCH(Form!$G20,DateHeaders,0)),INDEX(MainTable,Calc!$DU$111,MATCH(Form!$G20,Headers,0))),"")
D21: Email | E21: =IFERROR(IF(INDEX(Calc!$D$5:$AV$5,1,MATCH(Form!$D21,Calc!$D$7:$BO$7,0))="d",INDEX(DateTable,Calc!$DU$111,MATCH(Form!$D21,DateHeaders,0)),INDEX(MainTable,Calc!$DU$111,MATCH(Form!$D21,Headers,0))),"") -> doris@mail.com | G21: Address | H21: =IFERROR(IF(INDEX(Calc!$D$5:$AV$5,1,MATCH(Form!$G21,Calc!$D$7:$BO$7,0))="d",INDEX(DateTable,Calc!$DU$111,MATCH(Form!$G21,DateHeaders,0)),INDEX(MainTable,Calc!$DU$111,MATCH(Form!$G21,Headers,0))),"") -> 216 Pine Street Auburn 13021
D22: Cell Phone | E22: =IFERROR(IF(INDEX(Calc!$D$5:$AV$5,1,MATCH(Form!$D22,Calc!$D$7:$BO$7,0))="d",INDEX(DateTable,Calc!$DU$111,MATCH(Form!$D22,DateHeaders,0)),INDEX(MainTable,Calc!$DU$111,MATCH(Form!$D22,Headers,0))),"") -> 202-555-3086 | G22: City | H22: =IFERROR(IF(INDEX(Calc!$D$5:$AV$5,1,MATCH(Form!$G22,Calc!$D$7:$BO$7,0))="d",INDEX(DateTable,Calc!$DU$111,MATCH(Form!$G22,DateHeaders,0)),INDEX(MainTable,Calc!$DU$111,MATCH(Form!$G22,Headers,0))),"") -> New York
D23: Country | E23: =IFERROR(IF(INDEX(Calc!$D$5:$AV$5,1,MATCH(Form!$D23,Calc!$D$7:$BO$7,0))="d",INDEX(DateTable,Calc!$DU$111,MATCH(Form!$D23,DateHeaders,0)),INDEX(MainTable,Calc!$DU$111,MATCH(Form!$D23,Headers,0))),"") -> USA | H23: =IFERROR(IF(INDEX(Calc!$D$5:$AV$5,1,MATCH(Form!$G23,Calc!$D$7:$BO$7,0))="d",INDEX(DateTable,Calc!$DU$111,MATCH(Form!$G23,DateHeaders,0)),INDEX(MainTable,Calc!$DU$111,MATCH(Form!$G23,Headers,0))),"")
C24: Emergency Details | E24: =IFERROR(IF(INDEX(Calc!$D$5:$AV$5,1,MATCH(Form!$D24,Calc!$D$7:$BO$7,0))="d",INDEX(DateTable,Calc!$DU$111,MATCH(Form!$D24,DateHeaders,0)),INDEX(MainTable,Calc!$DU$111,MATCH(Form!$D24,Headers,0))),"") | H24: =IFERROR(IF(INDEX(Calc!$D$5:$AV$5,1,MATCH(Form!$G24,Calc!$D$7:$BO$7,0))="d",INDEX(DateTable,Calc!$DU$111,MATCH(Form!$G24,DateHeaders,0)),INDEX(MainTable,Calc!$DU$111,MATCH(Form!$G24,Headers,0))),"")
D25: Emergency Contact Person | E25: =IFERROR(IF(INDEX(Calc!$D$5:$AV$5,1,MATCH(Form!$D25,Calc!$D$7:$BO$7,0))="d",INDEX(DateTable,Calc!$DU$111,MATCH(Form!$D25,DateHeaders,0)),INDEX(MainTable,Calc!$DU$111,MATCH(Form!$D25,Headers,0))),"") -> Joel Power | G25: Blood Type | H25: =IFERROR(IF(INDEX(Calc!$D$5:$AV$5,1,MATCH(Form!$G25,Calc!$D$7:$BO$7,0))="d",INDEX(DateTable,Calc!$DU$111,MATCH(Form!$G25,DateHeaders,0)),INDEX(MainTable,Calc!$DU$111,MATCH(Form!$G25,Headers,0))),"") -> B-
D26: Contact Info | E26: =IFERROR(IF(INDEX(Calc!$D$5:$AV$5,1,MATCH(Form!$D26,Calc!$D$7:$BO$7,0))="d",INDEX(DateTable,Calc!$DU$111,MATCH(Form!$D26,DateHeaders,0)),INDEX(MainTable,Calc!$DU$111,MATCH(Form!$D26,Headers,0))),"") -> 202-555-3086 | G26: Any Health Problem? | H26: =IFERROR(IF(INDEX(Calc!$D$5:$AV$5,1,MATCH(Form!$G26,Calc!$D$7:$BO$7,0))="d",INDEX(DateTable,Calc!$DU$111,MATCH(Form!$G26,DateHeaders,0)),INDEX(MainTable,Calc!$DU$111,MATCH(Form!$G26,Headers,0))),"") -> No
C27: Salary Details | E27: =IFERROR(IF(INDEX(Calc!$D$5:$AV$5,1,MATCH(Form!$D27,Calc!$D$7:$BO$7,0))="d",INDEX(DateTable,Calc!$DU$111,MATCH(Form!$D27,DateHeaders,0)),INDEX(MainTable,Calc!$DU$111,MATCH(Form!$D27,Headers,0))),"") | H27: =IFERROR(IF(INDEX(Calc!$D$5:$AV$5,1,MATCH(Form!$G27,Calc!$D$7:$BO$7,0))="d",INDEX(DateTable,Calc!$DU$111,MATCH(Form!$G27,DateHeaders,0)),INDEX(MainTable,Calc!$DU$111,MATCH(Form!$G27,Headers,0))),"")
D28: Initial Salary | E28: =IFERROR(IF(INDEX(Calc!$D$5:$AV$5,1,MATCH(Form!$D28,Calc!$D$7:$BO$7,0))="d",INDEX(DateTable,Calc!$DU$111,MATCH(Form!$D28,DateHeaders,0)),INDEX(MainTable,Calc!$DU$111,MATCH(Form!$D28,Headers,0))),"") -> 5000 | G28: Bank Account | H28: =IFERROR(IF(INDEX(Calc!$D$5:$AV$5,1,MATCH(Form!$G28,Calc!$D$7:$BO$7,0))="d",INDEX(DateTable,Calc!$DU$111,MATCH(Form!$G28,DateHeaders,0)),INDEX(MainTable,Calc!$DU$111,MATCH(Form!$G28,Headers,0))),"") -> 4064-7954-7233-1517
D29: Current Salary | E29: =IFERROR(IF(INDEX(Calc!$D$5:$AV$5,1,MATCH(Form!$D29,Calc!$D$7:$BO$7,0))="d",INDEX(DateTable,Calc!$DU$111,MATCH(Form!$D29,DateHeaders,0)),INDEX(MainTable,Calc!$DU$111,MATCH(Form!$D29,Headers,0))),"") -> 5300 | H29: =IFERROR(IF(INDEX(Calc!$D$5:$AV$5,1,MATCH(Form!$G29,Calc!$D$7:$BO$7,0))="d",INDEX(DateTable,Calc!$DU$111,MATCH(Form!$G29,DateHeaders,0)),INDEX(MainTable,Calc!$DU$111,MATCH(Form!$G29,Headers,0))),"")
C30: Termination Details | E30: =IFERROR(IF(INDEX(Calc!$D$5:$AV$5,1,MATCH(Form!$D30,Calc!$D$7:$BO$7,0))="d",INDEX(DateTable,Calc!$DU$111,MATCH(Form!$D30,DateHeaders,0)),INDEX(MainTable,Calc!$DU$111,MATCH(Form!$D30,Headers,0))),"") | H30: =IFERROR(IF(INDEX(Calc!$D$5:$AV$5,1,MATCH(Form!$G30,Calc!$D$7:$BO$7,0))="d",INDEX(DateTable,Calc!$DU$111,MATCH(Form!$G30,DateHeaders,0)),INDEX(MainTable,Calc!$DU$111,MATCH(Form!$G30,Headers,0))),"")
D31: Active | E31: =IFERROR(IF(INDEX(Calc!$D$5:$AV$5,1,MATCH(Form!$D31,Calc!$D$7:$BO$7,0))="d",INDEX(DateTable,Calc!$DU$111,MATCH(Form!$D31,DateHeaders,0)),INDEX(MainTable,Calc!$DU$111,MATCH(Form!$D31,Headers,0))),"") -> Yes | G31: Termination Date | H31: =IFERROR(IF(INDEX(Calc!$D$5:$AV$5,1,MATCH(Form!$G31,Calc!$D$7:$BO$7,0))="d",INDEX(DateTable,Calc!$DU$111,MATCH(Form!$G31,DateHeaders,0)),INDEX(MainTable,Calc!$DU$111,MATCH(Form!$G31,Headers,0))),"")
E32: =IFERROR(IF(INDEX(Calc!$D$5:$AV$5,1,MATCH(Form!$D32,Calc!$D$7:$BO$7,0))="d",INDEX(DateTable,Calc!$DU$111,MATCH(Form!$D32,DateHeaders,0)),INDEX(MainTable,Calc!$DU$111,MATCH(Form!$D32,Headers,0))),"") | G32: Termination Reason | H32: =IFERROR(IF(INDEX(Calc!$D$5:$AV$5,1,MATCH(Form!$G32,Calc!$D$7:$BO$7,0))="d",INDEX(DateTable,Calc!$DU$111,MATCH(Form!$G32,DateHeaders,0)),INDEX(MainTable,Calc!$DU$111,MATCH(Form!$G32,Headers,0))),"")
C33: Other | E33: =IFERROR(IF(INDEX(Calc!$D$5:$AV$5,1,MATCH(Form!$D33,Calc!$D$7:$BO$7,0))="d",INDEX(DateTable,Calc!$DU$111,MATCH(Form!$D33,DateHeaders,0)),INDEX(MainTable,Calc!$DU$111,MATCH(Form!$D33,Headers,0))),"") | H33: =IFERROR(IF(INDEX(Calc!$D$5:$AV$5,1,MATCH(Form!$G33,Calc!$D$7:$BO$7,0))="d",INDEX(DateTable,Calc!$DU$111,MATCH(Form!$G33,DateHeaders,0)),INDEX(MainTable,Calc!$DU$111,MATCH(Form!$G33,Headers,0))),"")
D34: Header1 | E34: =IFERROR(IF(INDEX(Calc!$D$5:$AV$5,1,MATCH(Form!$D34,Calc!$D$7:$BO$7,0))="d",INDEX(DateTable,Calc!$DU$111,MATCH(Form!$D34,DateHeaders,0)),INDEX(MainTable,Calc!$DU$111,MATCH(Form!$D34,Headers,0))),"") | G34: Header2 | H34: =IFERROR(IF(INDEX(Calc!$D$5:$AV$5,1,MATCH(Form!$G34,Calc!$D$7:$BO$7,0))="d",INDEX(DateTable,Calc!$DU$111,MATCH(Form!$G34,DateHeaders,0)),INDEX(MainTable,Calc!$DU$111,MATCH(Form!$G34,Headers,0))),"")
E35: =IFERROR(IF(INDEX(Calc!$D$5:$AV$5,1,MATCH(Form!$D35,Calc!$D$7:$BO$7,0))="d",INDEX(DateTable,Calc!$DU$111,MATCH(Form!$D35,DateHeaders,0)),INDEX(MainTable,Calc!$DU$111,MATCH(Form!$D35,Headers,0))),"") | H35: =IFERROR(IF(INDEX(Calc!$D$5:$AV$5,1,MATCH(Form!$G35,Calc!$D$7:$BO$7,0))="d",INDEX(DateTable,Calc!$DU$111,MATCH(Form!$G35,DateHeaders,0)),INDEX(MainTable,Calc!$DU$111,MATCH(Form!$G35,Headers,0))),"")
E36: =IFERROR(IF(INDEX(Calc!$D$5:$AV$5,1,MATCH(Form!$D36,Calc!$D$7:$BO$7,0))="d",INDEX(DateTable,Calc!$DU$111,MATCH(Form!$D36,DateHeaders,0)),INDEX(MainTable,Calc!$DU$111,MATCH(Form!$D36,Headers,0))),"") | H36: =IFERROR(IF(INDEX(Calc!$D$5:$AV$5,1,MATCH(Form!$G36,Calc!$D$7:$BO$7,0))="d",INDEX(DateTable,Calc!$DU$111,MATCH(Form!$G36,DateHeaders,0)),INDEX(MainTable,Calc!$DU$111,MATCH(Form!$G36,Headers,0))),"")
E37: =IFERROR(IF(INDEX(Calc!$D$5:$AV$5,1,MATCH(Form!$D37,Calc!$D$7:$BO$7,0))="d",INDEX(DateTable,Calc!$DU$111,MATCH(Form!$D37,DateHeaders,0)),INDEX(MainTable,Calc!$DU$111,MATCH(Form!$D37,Headers,0))),"") | H37: =IFERROR(IF(INDEX(Calc!$D$5:$AV$5,1,MATCH(Form!$G37,Calc!$D$7:$BO$7,0))="d",INDEX(DateTable,Calc!$DU$111,MATCH(Form!$G37,DateHeaders,0)),INDEX(MainTable,Calc!$DU$111,MATCH(Form!$G37,Headers,0))),"")
E38: =IFERROR(IF(INDEX(Calc!$D$5:$AV$5,1,MATCH(Form!$D38,Calc!$D$7:$BO$7,0))="d",INDEX(DateTable,Calc!$DU$111,MATCH(Form!$D38,DateHeaders,0)),INDEX(MainTable,Calc!$DU$111,MATCH(Form!$D38,Headers,0))),"") | H38: =IFERROR(IF(INDEX(Calc!$D$5:$AV$5,1,MATCH(Form!$G38,Calc!$D$7:$BO$7,0))="d",INDEX(DateTable,Calc!$DU$111,MATCH(Form!$G38,DateHeaders,0)),INDEX(MainTable,Calc!$DU$111,MATCH(Form!$G38,Headers,0))),"")
E39: =IFERROR(IF(INDEX(Calc!$D$5:$AV$5,1,MATCH(Form!$D39,Calc!$D$7:$BO$7,0))="d",INDEX(DateTable,Calc!$DU$111,MATCH(Form!$D39,DateHeaders,0)),INDEX(MainTable,Calc!$DU$111,MATCH(Form!$D39,Headers,0))),"") | H39: =IFERROR(IF(INDEX(Calc!$D$5:$AV$5,1,MATCH(Form!$G39,Calc!$D$7:$BO$7,0))="d",INDEX(DateTable,Calc!$DU$111,MATCH(Form!$G39,DateHeaders,0)),INDEX(MainTable,Calc!$DU$111,MATCH(Form!$G39,Headers,0))),"")
E40: =IFERROR(IF(INDEX(Calc!$D$5:$AV$5,1,MATCH(Form!$D40,Calc!$D$7:$BO$7,0))="d",INDEX(DateTable,Calc!$DU$111,MATCH(Form!$D40,DateHeaders,0)),INDEX(MainTable,Calc!$DU$111,MATCH(Form!$D40,Headers,0))),"") | H40: =IFERROR(IF(INDEX(Calc!$D$5:$AV$5,1,MATCH(Form!$G40,Calc!$D$7:$BO$7,0))="d",INDEX(DateTable,Calc!$DU$111,MATCH(Form!$G40,DateHeaders,0)),INDEX(MainTable,Calc!$DU$111,MATCH(Form!$G40,Headers,0))),"")
E41: =IFERROR(IF(INDEX(Calc!$D$5:$AV$5,1,MATCH(Form!$D41,Calc!$D$7:$BO$7,0))="d",INDEX(DateTable,Calc!$DU$111,MATCH(Form!$D41,DateHeaders,0)),INDEX(MainTable,Calc!$DU$111,MATCH(Form!$D41,Headers,0))),"") | H41: =IFERROR(IF(INDEX(Calc!$D$5:$AV$5,1,MATCH(Form!$G41,Calc!$D$7:$BO$7,0))="d",INDEX(DateTable,Calc!$DU$111,MATCH(Form!$G41,DateHeaders,0)),INDEX(MainTable,Calc!$DU$111,MATCH(Form!$G41,Headers,0))),"")
E42: =IFERROR(IF(INDEX(Calc!$D$5:$AV$5,1,MATCH(Form!$D42,Calc!$D$7:$BO$7,0))="d",INDEX(DateTable,Calc!$DU$111,MATCH(Form!$D42,DateHeaders,0)),INDEX(MainTable,Calc!$DU$111,MATCH(Form!$D42,Headers,0))),"") | H42: =IFERROR(IF(INDEX(Calc!$D$5:$AV$5,1,MATCH(Form!$G42,Calc!$D$7:$BO$7,0))="d",INDEX(DateTable,Calc!$DU$111,MATCH(Form!$G42,DateHeaders,0)),INDEX(MainTable,Calc!$DU$111,MATCH(Form!$G42,Headers,0))),"")
E43: =IFERROR(IF(INDEX(Calc!$D$5:$AV$5,1,MATCH(Form!$D43,Calc!$D$7:$BO$7,0))="d",INDEX(DateTable,Calc!$DU$111,MATCH(Form!$D43,DateHeaders,0)),INDEX(MainTable,Calc!$DU$111,MATCH(Form!$D43,Headers,0))),"") | H43: =IFERROR(IF(INDEX(Calc!$D$5:$AV$5,1,MATCH(Form!$G43,Calc!$D$7:$BO$7,0))="d",INDEX(DateTable,Calc!$DU$111,MATCH(Form!$G43,DateHeaders,0)),INDEX(MainTable,Calc!$DU$111,MATCH(Form!$G43,Headers,0))),"")
E44: =IFERROR(IF(INDEX(Calc!$D$5:$AV$5,1,MATCH(Form!$D44,Calc!$D$7:$BO$7,0))="d",INDEX(DateTable,Calc!$DU$111,MATCH(Form!$D44,DateHeaders,0)),INDEX(MainTable,Calc!$DU$111,MATCH(Form!$D44,Headers,0))),"") | H44: =IFERROR(IF(INDEX(Calc!$D$5:$AV$5,1,MATCH(Form!$G44,Calc!$D$7:$BO$7,0))="d",INDEX(DateTable,Calc!$DU$111,MATCH(Form!$G44,DateHeaders,0)),INDEX(MainTable,Calc!$DU$111,MATCH(Form!$G44,Headers,0))),"")
E45: =IFERROR(IF(INDEX(Calc!$D$5:$AV$5,1,MATCH(Form!$D45,Calc!$D$7:$BO$7,0))="d",INDEX(DateTable,Calc!$DU$111,MATCH(Form!$D45,DateHeaders,0)),INDEX(MainTable,Calc!$DU$111,MATCH(Form!$D45,Headers,0))),"") | H45: =IFERROR(IF(INDEX(Calc!$D$5:$AV$5,1,MATCH(Form!$G45,Calc!$D$7:$BO$7,0))="d",INDEX(DateTable,Calc!$DU$111,MATCH(Form!$G45,DateHeaders,0)),INDEX(MainTable,Calc!$DU$111,MATCH(Form!$G45,Headers,0))),"")
...

Sheet Dashboard
C2: EMPLOYEE DATABASE TEMPLATE
C3: DASHBOARD
C6: Office | E6: Department | G6: Job Title | I6: Active
C7: All | E7: All | G7: All | I7: All
C10: Headcount
C11: =Calc!CP9 -> 15
C14: Average Age
C15: =Calc!CP11 -> 40.333333
C18: ="Total Salary in "&Settings!E34 -> Total Salary in USD
C19: =Calc!CP13 -> 81000
C22: ="Average Salary in "&Settings!E34 -> Average Salary in USD
C23: =Calc!CP14 -> 6750
C36: Year
C37: 2023

Sheet Calc
DG2: LIST FILTER DROPDOWNS
BU3: List Filters | DG3: Filter 1 | DJ3: Filter 2 | DM3: Filter 3 | DP3: Filter 4
C4: DYNAMIC MAIN TABLE | CJ4: YEARLY STATISTICS | DG4: Date Check | DH4: Header Index | DI4: Count | DJ4: Date Check | DK4: Header Index | DL4: Count | DM4: Date Check | DN4: Header Index | DO4: Count | DP4: Date Check | DQ4: Header Index | DR4: Count
C5: Date Check | D5: =IFERROR(IF(INDEX(database[#Headers],1,D6)="","",IF(COUNTIF(Settings!$C$37:$C$42,INDEX(database[#Headers],1,D6))>0,"d","")),"") | E5: =IFERROR(IF(INDEX(database[#Headers],1,E6)="","",IF(COUNTIF(Settings!$C$37:$C$42,INDEX(database[#Headers],1,E6))>0,"d","")),"") | F5: =IFERROR(IF(INDEX(database[#Headers],1,F6)="","",IF(COUNTIF(Settings!$C$37:$C$42,INDEX(database[#Headers],1,F6))>0,"d","")),"") -> d | G5: =IFERROR(IF(INDEX(database[#Headers],1,G6)="","",IF(COUNTIF(Settings!$C$37:$C$42,INDEX(database[#Headers],1,G6))>0,"d","")),"") | H5: =IFERROR(IF(INDEX(database[#Headers],1,H6)="","",IF(COUNTIF(Settings!$C$37:$C$42,INDEX(database[#Headers],1,H6))>0,"d","")),"") | I5: =IFERROR(IF(INDEX(database[#Headers],1,I6)="","",IF(COUNTIF(Settings!$C$37:$C$42,INDEX(database[#Headers],1,I6))>0,"d","")),"") | J5: =IFERROR(IF(INDEX(database[#Headers],1,J6)="","",IF(COUNTIF(Settings!$C$37:$C$42,INDEX(database[#Headers],1,J6))>0,"d","")),"") | K5: =IFERROR(IF(INDEX(database[#Headers],1,K6)="","",IF(COUNTIF(Settings!$C$37:$C$42,INDEX(database[#Headers],1,K6))>0,"d","")),"") | ... AV5: =IFERROR(IF(INDEX(database[#Headers],1,AV6)="","",IF(COUNTIF(Settings!$C$37:$C$42,INDEX(database[#Headers],1,AV6))>0,"d","")),"") | AW5: Calculation Area | BD5: Date Format Area | BJ5: Date Dropdown Area | BU5: =IFERROR(INDEX($D$5:$AV$5,1,MATCH(BU$7,Headers,0)),"") | BV5: =IFERROR(INDEX($D$5:$AV$5,1,MATCH(BV$7,Headers,0)),"") | BW5: =IFERROR(INDEX($D$5:$AV$5,1,MATCH(BW$7,Headers,0)),"") | BX5: =IFERROR(INDEX($D$5:$AV$5,1,MATCH(BX$7,Headers,0)),"") | BY5: =IFERROR(INDEX($D$5:$AV$5,1,MATCH(BY$7,Headers,0)),"") | CD5: Dashboard Filters | CJ5: Analaysis Year | CM5: =IFERROR(IF(Dashboard!C37="",YEAR(TODAY()),Dashboard!C37),"") -> 2023 | DA5: DASHBOARD FILTER DROPDOWNS | DG5: =IFERROR(INDEX($D$5:$AV$5,1,MATCH(DG$7,Headers,0)),"") | DH5: =IFERROR(IF(DG5="d",MATCH(DG$7,DateHeaders,0),MATCH(DG$7,Headers,0)),"") -> 6 | DI5: =IFERROR(IF(ISNUMBER(DI8),COUNT(DI$8:DI$26),COUNTIF(DI$8:DI$26,"?*")),1000) -> 7 | DJ5: =IFERROR(INDEX($D$5:$AV$5,1,MATCH(DJ$7,Headers,0)),"") | DK5: =IFERROR(IF(DJ5="d",MATCH(DJ$7,DateHeaders,0),MATCH(DJ$7,Headers,0)),"") -> 12 | DL5: =IFERROR(IF(ISNUMBER(DL8),COUNT(DL$8:DL$26),COUNTIF(DL$8:DL$26,"?*")),1000) -> 4 | DM5: =IFERROR(INDEX($D$5:$AV$5,1,MATCH(DM$7,Headers,0)),"") | DN5: =IFERROR(MATCH(DM$7,Headers,0),"") -> 11 | DO5: =IFERROR(IF(ISNUMBER(DO8),COUNT(DO$8:DO$26),COUNTIF(DO$8:DO$26,"?*")),1000) -> 2 | DP5: =IFERROR(INDEX($D$5:$AV$5,1,MATCH(DP$7,Headers,0)),"") | DQ5: =IFERROR(MATCH(DP$7,Headers,0),"") -> 14 | DR5: =IFERROR(IF(ISNUMBER(DR8),COUNT(DR$8:DR$26),COUNTIF(DR$8:DR$26,"?*")),1000) -> 3
C6: Col # | D6: 1 | E6: 2 | F6: 3 | G6: 4 | H6: 5 | I6: 6 | J6: 7 | K6: 8 | L6: 9 | M6: 10 | N6: 11 | O6: 12 | P6: 13 | Q6: 14 | R6: 15 | S6: 16 | T6: 17 | U6: 18 | V6: 19 | W6: 20 | X6: 21 | Y6: 22 | Z6: 23 | AA6: 24 | AB6: 25 | AC6: 26 | AD6: 27 | AE6: 28 | AF6: 29 | AG6: 30 | AH6: 31 | AI6: 32 | AJ6: 33 | AK6: 34 | AL6: 35 | AM6: 36 | AN6: 37 | AO6: 38 | AP6: 39 | AQ6: 40 | AR6: 41 | AS6: 42 | AT6: 43 | AU6: 44 | AV6: 45 | BC6: =IFERROR(MATCH("Current Salary",Headers,0),"") -> 28 | BD6: =IFERROR(MATCH(Settings!$C$37,Headers,0),"") -> 3 | BE6: =IFERROR(MATCH(Settings!$C$38,Headers,0),"") -> 13 | BF6: =IFERROR(MATCH(Settings!$C$39,Headers,0),"") -> 31 | BG6: =IFERROR(MATCH(Settings!$C$40,Headers,0),"") | BH6: =IFERROR(MATCH(Settings!$C$41,Headers,0),"") | BI6: =IFERROR(MATCH(Settings!$C$42,Headers,0),"") | BQ6: Dynamic Headings | BU6: =IFERROR(IF(BU$5="d",MATCH(BU$7,DateHeaders,0),MATCH(BU$7,Headers,0)),"") -> 6 | BV6: =IFERROR(IF(BV$5="d",MATCH(BV$7,DateHeaders,0),MATCH(BV$7,Headers,0)),"") -> 12 | BW6: =IFERROR(IF(BW$5="d",MATCH(BW$7,DateHeaders,0),MATCH(BW$7,Headers,0)),"") -> 11 | BX6: =IFERROR(IF(BX$5="d",MATCH(BX$7,DateHeaders,0),MATCH(BX$7,Headers,0)),"") -> 14 | CA6: List Area | CD6: =IFERROR(MATCH(CD$7,Headers,0),"") -> 5 | CE6: =IFERROR(MATCH(CE$7,Headers,0),"") -> 6 | CF6: =IFERROR(MATCH(CF$7,Headers,0),"") -> 8 | CG6: =IFERROR(MATCH(CG$7,Headers,0),"") -> 30 | CJ6: Year Start | CK6: Year End | CL6: Leaves | CM6: Hiring | CO6: DASHBOARD CALCULATIONS | CU6: DATE INDICATORS | DG6: Values | DH6: Dupl. | DI6: Blnk. | DJ6: Values | DK6: Dupl. | DL6: Blnk. | DM6: Values | DN6: Dupl. | DO6: Blnk. | DP6: Values | DQ6: Dupl. | DR6: Blnk.
C7: # | D7: =IFERROR(INDEX(database[#Headers],1,D6),"") -> Employee Id | E7: =IFERROR(INDEX(database[#Headers],1,E6),"") -> Name | F7: =IFERROR(INDEX(database[#Headers],1,F6),"") -> Hiring Date | G7: =IFERROR(INDEX(database[#Headers],1,G6),"") -> Hiring Source | H7: =IFERROR(INDEX(database[#Headers],1,H6),"") -> Office | I7: =IFERROR(INDEX(database[#Headers],1,I6),"") -> Department | J7: =IFERROR(INDEX(database[#Headers],1,J6),"") -> Job Status | K7: =IFERROR(INDEX(database[#Headers],1,K6),"") -> Job Title | ... AV7: =IFERROR(INDEX(database[#Headers],1,AV6),"") | AW7: Employee Id - Name | AX7: Hiring Year | AY7: Termination Year | AZ7: Birth Year | BA7: Age | BB7: Age Range | BC7: Salary | BD7: Date 1 | BE7: Date 2 | BF7: Date 3 | BG7: Date 4 | BH7: Date 5 | BI7: Date 6 | BJ7: =IFERROR(IF(Settings!C37="","",Settings!C37),"") -> Hiring Date | BK7: =IFERROR(IF(Settings!C38="","",Settings!C38),"") -> Date of Birth | BL7: =IFERROR(IF(Settings!C39="","",Settings!C39),"") -> Termination Date | BM7: =IFERROR(IF(Settings!C40="","",Settings!C40),"") | BN7: =IFERROR(IF(Settings!C41="","",Settings!C41),"") | BO7: =IFERROR(IF(Settings!C42="","",Settings!C42),"") | BQ7: Index | BR7: Heading | BU7: =IFERROR(IF(List!B7="","",List!B7),"") -> Department | BV7: =IFERROR(IF(List!B10="","",List!B10),"") -> Education | BW7: =IFERROR(IF(List!B13="","",List!B13),"") -> Gender | BX7: =IFERROR(IF(List!B16="","",List!B16),"") -> Nationality | BY7: TOTAL | CA7: Filtered Rows | CB7: Row Index | CD7: Office | CE7: Department | CF7: Job Title | CG7: Active | CH7: TOTAL | CJ7: =SUM(CJ8:CJ26) -> 4 | CK7: =SUM(CK8:CK26) -> 12 | CL7: =SUM(CL8:CL26) -> 3 | CM7: =SUM(CM8:CM26) -> 11 | DA7: Office | DC7: Department | DE7: Job Title | DG7: =List!B7 -> Department | DI7: All | DJ7: =List!B10 -> Education | DL7: All | DM7: =List!B13 -> Gender | DO7: All | DP7: =List!B16 -> Nationality | DR7: All | DT7: Conditional Rules for Form | DW7: Year Filters | DZ7: Text Boxes for List | EC7: List Index Table | EO7: Conditional Formatting Formulas
C8: 1 | D8: =IFERROR(IF(INDEX(database[],$C8,D$6)=0,"",INDEX(database[],$C8,D$6)),"") -> M-0001 | E8: =IFERROR(IF(INDEX(database[],$C8,E$6)=0,"",INDEX(database[],$C8,E$6)),"") -> Jemima Begum | F8: =IFERROR(IF(INDEX(database[],$C8,F$6)=0,"",INDEX(database[],$C8,F$6)),"") -> 44562 | G8: =IFERROR(IF(INDEX(database[],$C8,G$6)=0,"",INDEX(database[],$C8,G$6)),"") -> In-House | H8: =IFERROR(IF(INDEX(database[],$C8,H$6)=0,"",INDEX(database[],$C8,H$6)),"") -> Main Office | I8: =IFERROR(IF(INDEX(database[],$C8,I$6)=0,"",INDEX(database[],$C8,I$6)),"") -> Operations | J8: =IFERROR(IF(INDEX(database[],$C8,J$6)=0,"",INDEX(database[],$C8,J$6)),"") -> Full Time | K8: =IFERROR(IF(INDEX(database[],$C8,K$6)=0,"",INDEX(database[],$C8,K$6)),"") -> Director | ... AV8: =IFERROR(IF(INDEX(database[],$C8,AV$6)=0,"",INDEX(database[],$C8,AV$6)),"") | AW8: =IFERROR(IF(INDEX(MainTable,$C8,$BQ$68)="",INDEX(MainTable,$C8,$BQ$69),INDEX(MainTable,$C8,$BQ$68)&"-"&INDEX(MainTable,$C8,$BQ$69)),"") -> M-0001-Jemima Begum | AX8: =IFERROR(YEAR(BD8),"") -> 2022 | AY8: =IFERROR(YEAR(BF8),"") | AZ8: =IFERROR(YEAR(BE8),"") -> 1964 | BA8: =IFERROR(DATEDIF(BE8,TODAY(),"y"),"") -> 58 | BB8: =IFERROR(IF(LEN(BA8)=0,"",IF(BA8<18,$CO$54,IF(AND(BA8>=18,BA8<31),$CO$55,IF(AND(BA8>=31,BA8<41),$CO$56,IF(AND(BA8>=41,BA8<50),$CO$57,IF(AND(BA8>=51,BA8<60),$CO$58,IF(BA8>=61,$CO$59,""))))))),"") -> 51-60 | BC8: =IFERROR(INDEX(MainTable,$C8,BC$6),"") -> 13000 | BD8: =IFERROR(INDEX(MainTable,$C8,BD$6),"") -> 44562 | BE8: =IFERROR(INDEX(MainTable,$C8,BE$6),"") -> 23732 | BF8: =IFERROR(INDEX(MainTable,$C8,BF$6),"") | BG8: =IFERROR(INDEX(MainTable,$C8,BG$6),"") | BH8: =IFERROR(INDEX(MainTable,$C8,BH$6),"") | BI8: =IFERROR(INDEX(MainTable,$C8,BI$6),"") | BJ8: =IFERROR(IF(order=123,DAY(BD8)&connector&IF(desc="Extended",INDEX(months,MONTH(BD8),1),MONTH(BD8))&connector&IF(desc="Short", RIGHT(YEAR(BD8),2),YEAR(BD8)),IF(order=213, MONTH(BD8)&connector&DAY(BD8)&connector&IF(desc="Short", RIGHT(YEAR(BD8),2),YEAR(BD8)),IF(desc="Short", RIGHT(YEAR(BD8),2),YEAR(BD8))&connector&MONTH(BD8)&connector&DAY(BD8))),BD8) -> 1 Jan 2022 | BK8: =IFERROR(IF(order=123,DAY(BE8)&connector&IF(desc="Extended",INDEX(months,MONTH(BE8),1),MONTH(BE8))&connector&IF(desc="Short", RIGHT(YEAR(BE8),2),YEAR(BE8)),IF(order=213, MONTH(BE8)&connector&DAY(BE8)&connector&IF(desc="Short", RIGHT(YEAR(BE8),2),YEAR(BE8)),IF(desc="Short", RIGHT(YEAR(BE8),2),YEAR(BE8))&connector&MONTH(BE8)&connector&DAY(BE8))),BE8) -> 21 Dec 1964 | BL8: =IFERROR(IF(order=123,DAY(BF8)&connector&IF(desc="Extended",INDEX(months,MONTH(BF8),1),MONTH(BF8))&connector&IF(desc="Short", RIGHT(YEAR(BF8),2),YEAR(BF8)),IF(order=213, MONTH(BF8)&connector&DAY(BF8)&connector&IF(desc="Short", RIGHT(YEAR(BF8),2),YEAR(BF8)),IF(desc="Short", RIGHT(YEAR(BF8),2),YEAR(BF8))&connector&MONTH(BF8)&connector&DAY(BF8))),BF8) | BM8: =IFERROR(IF(order=123,DAY(BG8)&connector&IF(desc="Extended",INDEX(months,MONTH(BG8),1),MONTH(BG8))&connector&IF(desc="Short", RIGHT(YEAR(BG8),2),YEAR(BG8)),IF(order=213, MONTH(BG8)&connector&DAY(BG8)&connector&IF(desc="Short", RIGHT(YEAR(BG8),2),YEAR(BG8)),IF(desc="Short", RIGHT(YEAR(BG8),2),YEAR(BG8))&connector&MONTH(BG8)&connector&DAY(BG8))),BG8) | BN8: =IFERROR(IF(order=123,DAY(BH8)&connector&IF(desc="Extended",INDEX(months,MONTH(BH8),1),MONTH(BH8))&connector&IF(desc="Short", RIGHT(YEAR(BH8),2),YEAR(BH8)),IF(order=213, MONTH(BH8)&connector&DAY(BH8)&connector&IF(desc="Short", RIGHT(YEAR(BH8),2),YEAR(BH8)),IF(desc="Short", RIGHT(YEAR(BH8),2),YEAR(BH8))&connector&MONTH(BH8)&connector&DAY(BH8))),BH8) | BO8: =IFERROR(IF(order=123,DAY(BI8)&connector&IF(desc="Extended",INDEX(months,MONTH(BI8),1),MONTH(BI8))&connector&IF(desc="Short", RIGHT(YEAR(BI8),2),YEAR(BI8)),IF(order=213, MONTH(BI8)&connector&DAY(BI8)&connector&IF(desc="Short", RIGHT(YEAR(BI8),2),YEAR(BI8)),IF(desc="Short", RIGHT(YEAR(BI8),2),YEAR(BI8))&connector&MONTH(BI8)&connector&DAY(BI8))),BI8) | BQ8: 1 | BR8: =IFERROR(INDEX(database[#Headers],0,BQ8),"") -> Employee Id | BU8: =IFERROR(IF(OR(BU$7="",List!$B$8="",List!$B$8="All"),1,IF(List!$B$8=INDEX(IF(BU$5="d",DateTable,MainTable),$C8,BU$6),1,0)),0) -> 1 | BV8: =IFERROR(IF(OR(BV$7="",List!$B$11="",List!$B$11="All"),1,IF(List!$B$11=INDEX(IF(BV$5="d",DateTable,MainTable),$C8,BV$6),1,0)),0) -> 1 | BW8: =IFERROR(IF(OR(BW$7="",List!$B$14="",List!$B$14="All"),1,IF(List!$B$14=INDEX(IF(BW$5="d",DateTable,MainTable),$C8,BW$6),1,0)),0) -> 1 | BX8: =IFERROR(IF(OR(BX$7="",List!$B$17="",List!$B$17="All"),1,IF(List!$B$17=INDEX(IF(BX$5="d",DateTable,MainTable),$C8,BX$6),1,0)),0) -> 1 | BY8: =BU8*BV8*BW8*BX8 -> 1 | CA8: =IFERROR(IF(OR(AND(D8="",E8=""),BY8=0),"",$C8),"") -> 1 | CB8: =IFERROR(SMALL($CA$8:$CA$26,$C8),"") -> 1 | CD8: =IFERROR(IF(OR(Dashboard!$C$7="",Dashboard!$C$7="All"),1,IF(Dashboard!$C$7=INDEX(MainTable,$C8,CD$6),1,0)),0) -> 1 | CE8: =IFERROR(IF(OR(Dashboard!$E$7="",Dashboard!$E$7="All"),1,IF(Dashboard!$E$7=INDEX(MainTable,$C8,CE$6),1,0)),0) -> 1 | CF8: =IFERROR(IF(OR(Dashboard!$G$7="",Dashboard!$G$7="All"),1,IF(Dashboard!$G$7=INDEX(MainTable,$C8,CF$6),1,0)),0) -> 1 | CG8: =IFERROR(IF(OR(Dashboard!$I$7="",Dashboard!$I$7="All"),1,IF(Dashboard!$I$7=INDEX(MainTable,$C8,CG$6),1,0)),0) -> 1 | CH8: =CD8*CE8*CF8*CG8 -> 1 | CJ8: =IFERROR(IF(AND($AX8<$CM$5,OR($AY8="",$AY8>=CM$5)),1,0),0) -> 1 | CK8: =IFERROR(IF(AND($AX8<=$CM$5,OR($AY8="",$AY8>$CM$5)),1,0),0) -> 1 | CL8: =IFERROR(IF($AY8="",0,IF($AY8=$CM$5,1,0)),0) -> 0 | CM8: =IFERROR(IF($AX8="",0,IF($AX8=$CM$5,1,0)),0) -> 0 | DA8: All | DC8: All | DE8: All | DG8: =IFERROR(INDEX(IF(DG$5="d",DateTable,MainTable),$C8,DH$5),"") -> Operations | DH8: =IFERROR(IF(COUNTIF($DG$8:$DG8,DG8)>1,"",DG8),"") -> Operations | DI8: {=IFERROR(INDEX(filter1,SMALL(IF(LEN(filter1)>0,ROW(filter1)-ROW(INDEX(filter1,1,1))+1),ROW($DF8)-ROW($DF$7))),"")} -> Operations | DJ8: =IFERROR(INDEX(IF(DJ$5="d",DateTable,MainTable),$C8,DK$5),"") -> Bachelor's Degree | DK8: =IFERROR(IF(COUNTIF($DJ$8:$DJ8,DJ8)>1,"",DJ8),"") -> Bachelor's Degree | DL8: {=IFERROR(INDEX(filter2,SMALL(IF(LEN(filter2)>0,ROW(filter2)-ROW(INDEX(filter2,1,1))+1),ROW($DF8)-ROW($DF$7))),"")} -> Bachelor's Degree | DM8: =IFERROR(INDEX(IF(DM$5="d",DateTable,MainTable),$C8,DN$5),"") -> Female | DN8: =IFERROR(IF(COUNTIF($DM$8:$DM8,DM8)>1,"",DM8),"") -> Female | DO8: {=IFERROR(INDEX(filter3,SMALL(IF(LEN(filter3)>0,ROW(filter3)-ROW(INDEX(filter3,1,1))+1),ROW($DF8)-ROW($DF$7))),"")} -> Female | DP8: =IFERROR(INDEX(IF(DP$5="d",DateTable,MainTable),$C8,DQ$5),"") -> USA | DQ8: =IFERROR(IF(COUNTIF($DP$8:$DP8,DP8)>1,"",DP8),"") -> USA | DR8: {=IFERROR(INDEX(filter4,SMALL(IF(LEN(filter4)>0,ROW(filter4)-ROW(INDEX(filter4,1,1))+1),ROW($DF8)-ROW($DF$7))),"")} -> USA | DT8: Max | DU8: =IFERROR(MAX(DT9:$DT$102),100) -> 34 | DW8: =IFERROR(IF(COUNTIF($AX$8:$AX8,AX8)>1,"",AX8),"") -> 2022 | DX8: {=IFERROR(INDEX($DW$8:$DW$26,SMALL(IF(LEN($DW$8:$DW$26)>0,ROW($DW$8:$DW$26)-ROW(INDEX($DW$8:$DW$26,1,1))+1),ROW($DF8)-ROW($DF$7))),"")} -> 2022 | DZ8: Box 1 | EA8: =IFERROR(IF(AND(List!C$5="",List!D$5="",List!E$5=""),Calc!DZ18,""),"") | EC8: Error Check | ED8: =IFERROR(IF(List!D$5="","",IF(COUNTIF(Calc!$BR$8:$BR$53,List!D$5)>0,"","x")),"") | EE8: =IFERROR(IF(List!E$5="","",IF(COUNTIF(Calc!$BR$8:$BR$53,List!E$5)>0,"","x")),"") | EF8: =IFERROR(IF(List!F$5="","",IF(COUNTIF(Calc!$BR$8:$BR$53,List!F$5)>0,"","x")),"") | EG8: =IFERROR(IF(List!G$5="","",IF(COUNTIF(Calc!$BR$8:$BR$53,List!G$5)>0,"","x")),"") | EH8: =IFERROR(IF(List!H$5="","",IF(COUNTIF(Calc!$BR$8:$BR$53,List!H$5)>0,"","x")),"") | EI8: =IFERROR(IF(List!I$5="","",IF(COUNTIF(Calc!$BR$8:$BR$53,List!I$5)>0,"","x")),"") | EJ8: =IFERROR(IF(List!J$5="","",IF(COUNTIF(Calc!$BR$8:$BR$53,List!J$5)>0,"","x")),"") | EK8: =IFERROR(IF(List!K$5="","",IF(COUNTIF(Calc!$BR$8:$BR$53,List!K$5)>0,"","x")),"") | ... EM8: =IFERROR(IF(List!M$5="","",IF(COUNTIF(Calc!$BR$8:$BR$53,List!M$5)>0,"","x")),"") | EO8: =IFERROR(IF(List!B7="","",IF(COUNTIF(Calc!$BR$8:$BR$53,List!B7)>0,"","x")),"")
