Workbook
Name connector: Calc!$CW$11
Name DateHeaders: Calc!$BJ$7:$BO$7
Name DateTable: Calc!$BJ$8:$BO$26
Name desc: Calc!$CY$11
Name EduLevels: IFERROR(OFFSET(Calc!$CO$44,0,0,Calc!$CO$50,1),"")
Name EduLevelsMax: IFERROR(OFFSET(Calc!$CQ$44,0,0,Calc!$CO$50,1),"")
Name EduLevelsNumb: IFERROR(OFFSET(Calc!$CR$44,0,0,Calc!$CO$50,1),"")
Name filter1: Calc!$DH$8:$DH$26
Name filter2: Calc!$DK$8:$DK$26
Name filter3: Calc!$DN$8:$DN$26
Name filter4: Calc!$DQ$8:$DQ$26
Name GenderNames: IFERROR(OFFSET(Calc!$CO$25,0,0,Calc!$CO$29,1),"")
Name GenderNumb: IFERROR(OFFSET(Calc!$CQ$25,0,0,Calc!$CO$29,1),"")
Name Headers: Calc!$D$7:$AV$7
Name HeadingNumb: Calc!$BR$53
Name HiringSources: IFERROR(OFFSET(Calc!$CO$62,0,0,Calc!$CO$68,1),"")
Name HiringSourcesNumb: IFERROR(OFFSET(Calc!$CQ$62,0,0,Calc!$CO$68,1),"")
Name MainTable: Calc!$D$8:$AV$26
Name Maritals: IFERROR(OFFSET(Calc!$CO$73,0,0,Calc!$CO$77,1),"")
Name MaritalsNumb: IFERROR(OFFSET(Calc!$CP$73,0,0,Calc!$CO$77,1),"")
Name months: Calc!$CU$11:$CU$22
Name order: Calc!$CX$11
Name PrntDatabase: OFFSET(Database!$B$6,0,0,Calc!$DU$114,Calc!$DU$113)
Name PrntForm: OFFSET(Form!$C$6,0,0,Calc!$DU$8-5,6)
Name PrntList: OFFSET(List!$B$5,0,Calc!$DU$108,Calc!$DU$106,Calc!$DU$107)
Name Status: IFERROR(OFFSET(Calc!$CO$81,0,0,Calc!$CO$87,1),"")
Name StatusNumb: IFERROR(OFFSET(Calc!$CQ$81,0,0,Calc!$CO$87,1),"")
Name TermReasons: IFERROR(OFFSET(Calc!$CO$34,0,0,Calc!$CO$40,1),"")
Name TermReasonsNumb: IFERROR(OFFSET(Calc!$CP$34,0,0,Calc!$CO$40,1),"")

Sheet Menu
C2: EMPLOYEE DATABASE TEMPLATE
C3: NAVIGATION MENU

Sheet Settings
C2: EMPLOYEE DATABASE TEMPLATE
C3: SETTINGS
C7: OPTIONS FOR DROPDOWN MENUS
C9: Offices | E9: Departments | G9: Job Titles | I9: Job Status | K9: Education
C10: Main Office | E10: Operations | G10: Director | I10: Full Time | K10: Primary School
C11: North Office | E11: Marketing | G11: Vice-Director | I11: Part Time | K11: High School
C12: East Office | E12: Finance | G12: Expert | I12: Home Office | K12: Bachelor's Degree
E13: Sales | G13: Salesman | K13: Postgraduate Degree
E14: HR | G14: Intern
E15: Purchase
E16: Accounting
I17: Hiring Source | K17: Termination Reason
I18: LinkedIn | K18: Retirement
I19: Website | K19: Resignment
I20: In-House | K20: New Job
I21: Reference
I25: Gender | K25: Marital Status
I26: Female | K26: Married
I27: Male | K27: Single
I28: Not specified | K28: Divorced
C31: SETTINGS FOR STRUCTURAL CHANGES
C33: Date Format | E33: Salary Currency
C34: 31 Jan 2021 | E34: USD
C36: Date Input Headings
C37: Hiring Date | E37: Print Option For List
C38: Date of Birth | E38: Print with filters
C39: Termination Date
E41: Heading Option For Form
E42: Name

Sheet Database
B2: EMPLOYEE DATABASE TEMPLATE
B3: DATABASE
D6: Job Details | J6: Personal Details | S6: Contact Details | X6: Emergency Details | AB6: Salary Details | AE6: Termination Details | AH6: Other
B7: Employee Id | C7: Name | D7: Hiring Date | E7: Hiring Source | F7: Office | G7: Department | H7: Job Status | I7: Job Title | J7: ID / Passport | K7: Social Security # | L7: Gender | M7: Education | N7: Date of Birth | O7: Nationality | P7: Marital Status | Q7: # of Kids | R7: Driving License | S7: Email | T7: Cell Phone | U7: Address | V7: City | W7: Country | X7: Emergency Contact Person | Y7: Contact Info | Z7: Blood Type | AA7: Any Health Problem? | AB7: Initial Salary | AC7: Current Salary | AD7: Bank Account | AE7: Active | AF7: Termination Date | AG7: Termination Reason | AH7: Header1 | AI7: Header2 | AJ7: Header3 | AK7: Header4 | AL7: Header5
B8: M-0001 | C8: Jemima Begum | D8: 44562 | E8: In-House | F8: Main Office | G8: Operations | H8: Full Time | I8: Director | J8: 113857044 | K8: SSN-324330517 | L8: Female | M8: Bachelor's Degree | N8: 23732 | O8: USA | P8: Married | Q8: 2 | R8: Yes | S8: jemima@mail.com | T8: 202-555-8915 | U8: 8724 Smith Drive Buffalo 14221 | V8: New York | W8: USA | X8: Karen Begum | Y8: 202-555-3086 | Z8: A+ | AA8: No | AB8: 10000 | AC8: 13000 | AD8: 8402-3068-5092-3035 | AE8: Yes
B9: M-0002 | C9: Mercedes Banks | D9: 44593 | E9: Reference | F9: Main Office | G9: Accounting | H9: Full Time | I9: Vice-Director | J9: 694891782 | K9: SSN-637522042 | L9: Female | M9: Bachelor's Degree | N9: 27989 | O9: Colombia | P9: Married | Q9: 1 | R9: Yes | S9: mercedes@mail.com | T9: 202-555-3086 | U9: 320 Wentworth Lane Hempstead 11550 | V9: New York | W9: USA | X9: Tia Banks | Y9: 202-555-3086 | Z9: A+ | AA9: No | AB9: 8500 | AC9: 11000 | AD9: 4779-7997-3743-4306 | AE9: Yes
B10: M-0003 | C10: Macauley Peck | D10: 44713 | E10: Reference | F10: Main Office | G10: Marketing | H10: Full Time | I10: Vice-Director | J10: 235530120 | K10: SSN-637522042 | L10: Male | M10: Postgraduate Degree | N10: 29116 | O10: USA | P10: Single | Q10: 0 | R10: Yes | S10: macauley@mail.com | T10: 202-555-3086 | U10: 369 Cambridge St. Ridgewood 1138 | V10: New York | W10: USA | X10: Christine Peck | Y10: 202-555-3086 | Z10: B+ | AA10: No | AB10: 8500 | AC10: 11000 | AD10: 7487-5412-8393-8358 | AE10: Yes
B11: M-0004 | C11: Hannah Shaw | D11: 44562 | E11: Website | F11: Main Office | G11: Sales | H11: Full Time | I11: Expert | J11: 456153204 | K11: SSN-637522042 | L11: Female | M11: Bachelor's Degree | N11: 29297 | O11: USA | P11: Married | Q11: 2 | R11: Yes | S11: hannah@mail.com | T11: 202-555-3086 | U11: 975 Edgewood St. Brooklyn 11214 | V11: New York | W11: USA | X11: Lillian Shaw | Y11: 202-555-3086 | Z11: AB- | AA11: No | AB11: 7000 | AD11: 4640-8342-5599-9590 | AE11: No | AF11: 44959 | AG11: New Job
B12: N-0005 | C12: Carmel Beltran | D12: 44927 | E12: Website | F12: North Office | G12: Sales | H12: Full Time | I12: Salesman | J12: 358683370 | K12: SSN-637522042 | L12: Female | M12: Postgraduate Degree | N12: 29547 | O12: USA | P12: Divorced | Q12: 3 | R12: Yes | S12: carmel@mail.com | T12: 202-555-3086 | U12: 74 Trusel Rd. Troy 12180 | V12: New York | W12: USA | X12: Chantelle Beltran | Y12: 202-555-3086 | Z12: A+ | AA12: No | AB12: 4000 | AC12: 4500 | AD12: 7819-6226-3002-6706 | AE12: Yes
B13: N-0006 | C13: Sarah-Jayne Morrison | D13: 44958 | E13: In-House | F13: North Office | G13: Sales | H13: Full Time | I13: Salesman | J13: 175652380 | K13: SSN-637522042 | L13: Female | M13: High School | N13: 29797 | O13: USA | P13: Married | Q13: 1 | R13: No | S13: sarah-jayne@mail.com | T13: 202-555-3086 | U13: 56 La Sierra Dr. Bronx10467 | V13: New York | W13: USA | X13: Scarlet Morrison | Y13: 202-555-3086 | Z13: B+ | AA13: No | AB13: 4000 | AC13: 4500 | AD13: 1384-8485-1588-8944 | AE13: Yes
B14: E-0007 | C14: Alyce Milner | D14: 44986 | E14: Website | F14: East Office | G14: Sales | H14: Part Time | I14: Salesman | J14: 852104032 | K14: SSN-637522042 | L14: Female | M14: Primary School | N14: 30047 | O14: USA | P14: Single | Q14: 0 | R14: Yes | S14: alyce@mail.com | T14: 202-555-3086 | U14: 75 Windsor Dr. Brooklyn 11219 | V14: New York | W14: USA | X14: Alice Milner | Y14: 202-555-3086 | Z14: 0- | AA14: No | AB14: 2000 | AC14: 3200 | AD14: 1437-7990-1458-7620 | AE14: Yes
B15: E-0008 | C15: Aviana Kenny | D15: 44927 | E15: In-House | F15: East Office | G15: Operations | H15: Full Time | I15: Expert | J15: 261321862 | K15: SSN-637522042 | L15: Female | M15: Postgraduate Degree | N15: 30297 | O15: USA | P15: Married | Q15: 1 | R15: Yes | S15: aviana@mail.com | T15: 202-555-3086 | U15: 151 Euclid Dr. Bronx 10472 | V15: New York | W15: USA | X15: Hayley Kenny | Y15: 202-555-3086 | Z15: A+ | AA15: No | AB15: 4500 | AC15: 5200 | AD15: 7444-7202-8840-4463 | AE15: Yes
B16: M-0009 | C16: Harris Montes | D16: 44927 | E16: In-House | F16: Main Office | G16: Finance | H16: Home Office | I16: Vice-Director | J16: 807686104 | K16: SSN-637522042 | L16: Male | M16: Postgraduate Degree | N16: 30547 | O16: USA | P16: Married | Q16: 1 | R16: Yes | S16: harris@mail.com | T16: 202-555-3086 | U16: 60 rue Nationale 75003 | V16: Paris | W16: France | X16: Tara Montes | Y16: 202-555-3086 | Z16: AB+ | AA16: No | AB16: 8500 | AC16: 12000 | AD16: 2072-9863-6573-1307 | AE16: Yes
B17: M-00010 | C17: Doris Power | D17: 44958 | E17: Website | F17: Main Office | G17: HR | H17: Full Time | I17: Expert | J17: 992611892 | K17: SSN-637522042 | L17: Male | M17: Bachelor's Degree | N17: 30797 | O17: USA | P17: Married | Q17: 1 | R17: No | S17: doris@mail.com | T17: 202-555-3086 | U17: 216 Pine Street Auburn 13021 | V17: New York | W17: USA | X17: Joel Power | Y17: 202-555-3086 | Z17: B- | AA17: No | AB17: 5000 | AC17: 5300 | AD17: 4064-7954-7233-1517 | AE17: Yes
B18: N-00011 | C18: Isobelle Hurley | D18: 44986 | E18: LinkedIn | F18: North Office | G18: Purchase | H18: Full Time | I18: Expert | J18: 324037589 | K18: SSN-637522042 | L18: Female | M18: Bachelor's Degree | N18: 31047 | O18: USA | P18: Married | Q18: 0 | R18: Yes | S18: ısobelle@mail.com | T18: 202-555-3086 | U18: 147 Silver Spear Ave. Suite 454 10034 | V18: New York | W18: USA | X18: Karen Hurley | Y18: 202-555-3086 | Z18: A+ | AA18: Kidney Disease | AD18: 7479-3391-2472-3730 | AE18: Yes
B19: N-00012 | C19: Donell Merrill | D19: 44986 | E19: LinkedIn | F19: North Office | G19: Sales | H19: Part Time | I19: Salesman | J19: 478479029 | K19: SSN-637522042 | L19: Male | M19: Bachelor's Degree | N19: 31297 | O19: USA | P19: Divorced | Q19: 0 | R19: Yes | S19: donell@mail.com | T19: 202-555-3086 | U19: 79 Shadow Brook Drive Brooklyn 11228 | V19: New York | W19: USA | X19: Tia Merrill | Y19: 202-555-3086 | Z19: A+ | AA19: No | AB19: 3000 | AC19: 3200 | AD19: 4832-8823-6393-1996 | AE19: No | AF19: 45078 | AG19: Resignment
B20: N-00013 | C20: Jane Best | D20: 44986 | E20: LinkedIn | F20: North Office | G20: Sales | H20: Part Time | I20: Salesman | J20: 889485047 | K20: SSN-637522042 | L20: Female | M20: High School | N20: 31547 | O20: USA | P20: Married | Q20: 2 | R20: Yes | S20: jane@mail.com | T20: 202-555-3086 | U20: 1 South Devonshire Ave. Forest Hills 11375 | V20: New York | W20: USA | X20: Christine Best | Y20: 202-555-3086 | Z20: B+ | AA20: No | AB20: 3000 | AC20: 3200 | AD20: 8474-9594-6218-6028 | AE20: Yes
B21: E-00014 | C21: Kristofer Dyer | D21: 45017 | E21: Website | F21: East Office | G21: Accounting | H21: Full Time | I21: Expert | J21: 991357354 | K21: SSN-637522042 | L21: Male | M21: Postgraduate Degree | N21: 32071 | O21: USA | P21: Married | Q21: 1 | R21: Yes | S21: kristofer@mail.com | T21: 202-555-3086 | U21: 7823 Wild Rose Court Poughkeepsie 12601 | V21: New York | W21: USA | X21: Lillian Dyer | Y21: 202-555-3086 | Z21: AB- | AA21: No | AB21: 3500 | AC21: 4900 | AD21: 1496-8402-2451-7087 | AE21: Yes
B22: N-00015 | C22: Dominykas Xiong | D22: 45048 | E22: In-House | F22: North Office | G22: Accounting | H22: Full Time | I22: Intern | J22: 336117587 | K22: SSN-637522042 | L22: Male | M22: Bachelor's Degree | N22: 34239 | O22: China | P22: Single | Q22: 0 | R22: Yes | S22: dominykas@mail.com | T22: 202-555-3086 | U22: 8205 Sherman St. Brooklyn 11223 | V22: New York | W22: USA | X22: Chantelle Xiong | Y22: 202-555-3086 | Z22: A+ | AA22: No | AB22: 1200 | AD22: 2721-2227-9016-2638 | AE22: No | AF22: 45169 | AG22: Resignment

Sheet List
B2: EMPLOYEE DATABASE TEMPLATE
B3: DYNAMIC LIST
B5: Filtering | D5: Name | E5: Office | F5: Date of Birth | G5: Driving License | H5: Current Salary | I5: Email
D6: =IFERROR(INDEX(IF(Calc!ED$9="d",DateTable,MainTable),Calc!$CB8,Calc!ED$10),"") -> Jemima Begum | E6: =IFERROR(INDEX(IF(Calc!EE$9="d",DateTable,MainTable),Calc!$CB8,Calc!EE$10),"") -> Main Office | F6: =IFERROR(INDEX(IF(Calc!EF$9="d",DateTable,MainTable),Calc!$CB8,Calc!EF$10),"") -> 21 Dec 1964 | G6: =IFERROR(INDEX(IF(Calc!EG$9="d",DateTable,MainTable),Calc!$CB8,Calc!EG$10),"") -> Yes | H6: =IFERROR(INDEX(IF(Calc!EH$9="d",DateTable,MainTable),Calc!$CB8,Calc!EH$10),"") -> 13000 | I6: =IFERROR(INDEX(IF(Calc!EI$9="d",DateTable,MainTable),Calc!$CB8,Calc!EI$10),"") -> jemima@mail.com | J6: =IFERROR(INDEX(IF(Calc!EJ$9="d",DateTable,MainTable),Calc!$CB8,Calc!EJ$10),"") | K6: =IFERROR(INDEX(IF(Calc!EK$9="d",DateTable,MainTable),Calc!$CB8,Calc!EK$10),"") | ... M6: =IFERROR(INDEX(IF(Calc!EM$9="d",DateTable,MainTable),Calc!$CB8,Calc!EM$10),"")
B7: Department | D7: =IFERROR(INDEX(IF(Calc!ED$9="d",DateTable,MainTable),Calc!$CB9,Calc!ED$10),"") -> Mercedes Banks | E7: =IFERROR(INDEX(IF(Calc!EE$9="d",DateTable,MainTable),Calc!$CB9,Calc!EE$10),"") -> Main Office | F7: =IFERROR(INDEX(IF(Calc!EF$9="d",DateTable,MainTable),Calc!$CB9,Calc!EF$10),"") -> 17 Aug 1976 | G7: =IFERROR(INDEX(IF(Calc!EG$9="d",DateTable,MainTable),Calc!$CB9,Calc!EG$10),"") -> Yes | H7: =IFERROR(INDEX(IF(Calc!EH$9="d",DateTable,MainTable),Calc!$CB9,Calc!EH$10),"") -> 11000 | I7: =IFERROR(INDEX(IF(Calc!EI$9="d",DateTable,MainTable),Calc!$CB9,Calc!EI$10),"") -> mercedes@mail.com | J7: =IFERROR(INDEX(IF(Calc!EJ$9="d",DateTable,MainTable),Calc!$CB9,Calc!EJ$10),"") | K7: =IFERROR(INDEX(IF(Calc!EK$9="d",DateTable,MainTable),Calc!$CB9,Calc!EK$10),"") | ... M7: =IFERROR(INDEX(IF(Calc!EM$9="d",DateTable,MainTable),Calc!$CB9,Calc!EM$10),"")
B8: All | D8: =IFERROR(INDEX(IF(Calc!ED$9="d",DateTable,MainTable),Calc!$CB10,Calc!ED$10),"") -> Macauley Peck | E8: =IFERROR(INDEX(IF(Calc!EE$9="d",DateTable,MainTable),Calc!$CB10,Calc!EE$10),"") -> Main Office | F8: =IFERROR(INDEX(IF(Calc!EF$9="d",DateTable,MainTable),Calc!$CB10,Calc!EF$10),"") -> 18 Sep 1979 | G8: =IFERROR(INDEX(IF(Calc!EG$9="d",DateTable,MainTable),Calc!$CB10,Calc!EG$10),"") -> Yes | H8: =IFERROR(INDEX(IF(Calc!EH$9="d",DateTable,MainTable),Calc!$CB10,Calc!EH$10),"") -> 11000 | I8: =IFERROR(INDEX(IF(Calc!EI$9="d",DateTable,MainTable),Calc!$CB10,Calc!EI$10),"") -> macauley@mail.com | J8: =IFERROR(INDEX(IF(Calc!EJ$9="d",DateTable,MainTable),Calc!$CB10,Calc!EJ$10),"") | K8: =IFERROR(INDEX(IF(Calc!EK$9="d",DateTable,MainTable),Calc!$CB10,Calc!EK$10),"") | ... M8: =IFERROR(INDEX(IF(Calc!EM$9="d",DateTable,MainTable),Calc!$CB10,Calc!EM$10),"")
D9: =IFERROR(INDEX(IF(Calc!ED$9="d",DateTable,MainTable),Calc!$CB11,Calc!ED$10),"") -> Hannah Shaw | E9: =IFERROR(INDEX(IF(Calc!EE$9="d",DateTable,MainTable),Calc!$CB11,Calc!EE$10),"") -> Main Office | F9: =IFERROR(INDEX(IF(Calc!EF$9="d",DateTable,MainTable),Calc!$CB11,Calc!EF$10),"") -> 17 Mar 1980 | G9: =IFERROR(INDEX(IF(Calc!EG$9="d",DateTable,MainTable),Calc!$CB11,Calc!EG$10),"") -> Yes | H9: =IFERROR(INDEX(IF(Calc!EH$9="d",DateTable,MainTable),Calc!$CB11,Calc!EH$10),"") | I9: =IFERROR(INDEX(IF(Calc!EI$9="d",DateTable,MainTable),Calc!$CB11,Calc!EI$10),"") -> hannah@mail.com | J9: =IFERROR(INDEX(IF(Calc!EJ$9="d",DateTable,MainTable),Calc!$CB11,Calc!EJ$10),"") | K9: =IFERROR(INDEX(IF(Calc!EK$9="d",DateTable,MainTable),Calc!$CB11,Calc!EK$10),"") | ... M9: =IFERROR(INDEX(IF(Calc!EM$9="d",DateTable,MainTable),Calc!$CB11,Calc!EM$10),"")
A10: =IFERROR(IF(B10="","",IF(COUNTIF(Calc!$BR$8:$BR$53,B10)>0,"","x")),"") | B10: Education | D10: =IFERROR(INDEX(IF(Calc!ED$9="d",DateTable,MainTable),Calc!$CB12,Calc!ED$10),"") -> Carmel Beltran | E10: =IFERROR(INDEX(IF(Calc!EE$9="d",DateTable,MainTable),Calc!$CB12,Calc!EE$10),"") -> North Office | F10: =IFERROR(INDEX(IF(Calc!EF$9="d",DateTable,MainTable),Calc!$CB12,Calc!EF$10),"") -> 22 Nov 1980 | G10: =IFERROR(INDEX(IF(Calc!EG$9="d",DateTable,MainTable),Calc!$CB12,Calc!EG$10),"") -> Yes | H10: =IFERROR(INDEX(IF(Calc!EH$9="d",DateTable,MainTable),Calc!$CB12,Calc!EH$10),"") -> 4500 | I10: =IFERROR(INDEX(IF(Calc!EI$9="d",DateTable,MainTable),Calc!$CB12,Calc!EI$10),"") -> carmel@mail.com | J10: =IFERROR(INDEX(IF(Calc!EJ$9="d",DateTable,MainTable),Calc!$CB12,Calc!EJ$10),"") | K10: =IFERROR(INDEX(IF(Calc!EK$9="d",DateTable,MainTable),Calc!$CB12,Calc!EK$10),"") | ... M10: =IFERROR(INDEX(IF(Calc!EM$9="d",DateTable,MainTable),Calc!$CB12,Calc!EM$10),"")
B11: All | D11: =IFERROR(INDEX(IF(Calc!ED$9="d",DateTable,MainTable),Calc!$CB13,Calc!ED$10),"") -> Sarah-Jayne Morrison | E11: =IFERROR(INDEX(IF(Calc!EE$9="d",DateTable,MainTable),Calc!$CB13,Calc!EE$10),"") -> North Office | F11: =IFERROR(INDEX(IF(Calc!EF$9="d",DateTable,MainTable),Calc!$CB13,Calc!EF$10),"") -> 30 Jul 1981 | G11: =IFERROR(INDEX(IF(Calc!EG$9="d",DateTable,MainTable),Calc!$CB13,Calc!EG$10),"") -> No | H11: =IFERROR(INDEX(IF(Calc!EH$9="d",DateTable,MainTable),Calc!$CB13,Calc!EH$10),"") -> 4500 | I11: =IFERROR(INDEX(IF(Calc!EI$9="d",DateTable,MainTable),Calc!$CB13,Calc!EI$10),"") -> sarah-jayne@mail.com | J11: =IFERROR(INDEX(IF(Calc!EJ$9="d",DateTable,MainTable),Calc!$CB13,Calc!EJ$10),"") | K11: =IFERROR(INDEX(IF(Calc!EK$9="d",DateTable,MainTable),Calc!$CB13,Calc!EK$10),"") | ... M11: =IFERROR(INDEX(IF(Calc!EM$9="d",DateTable,MainTable),Calc!$CB13,Calc!EM$10),"")
D12: =IFERROR(INDEX(IF(Calc!ED$9="d",DateTable,MainTable),Calc!$CB14,Calc!ED$10),"") -> Alyce Milner | E12: =IFERROR(INDEX(IF(Calc!EE$9="d",DateTable,MainTable),Calc!$CB14,Calc!EE$10),"") -> East Office | F12: =IFERROR(INDEX(IF(Calc!EF$9="d",DateTable,MainTable),Calc!$CB14,Calc!EF$10),"") -> 6 Apr 1982 | G12: =IFERROR(INDEX(IF(Calc!EG$9="d",DateTable,MainTable),Calc!$CB14,Calc!EG$10),"") -> Yes | H12: =IFERROR(INDEX(IF(Calc!EH$9="d",DateTable,MainTable),Calc!$CB14,Calc!EH$10),"") -> 3200 | I12: =IFERROR(INDEX(IF(Calc!EI$9="d",DateTable,MainTable),Calc!$CB14,Calc!EI$10),"") -> alyce@mail.com | J12: =IFERROR(INDEX(IF(Calc!EJ$9="d",DateTable,MainTable),Calc!$CB14,Calc!EJ$10),"") | K12: =IFERROR(INDEX(IF(Calc!EK$9="d",DateTable,MainTable),Calc!$CB14,Calc!EK$10),"") | ... M12: =IFERROR(INDEX(IF(Calc!EM$9="d",DateTable,MainTable),Calc!$CB14,Calc!EM$10),"")
A13: =IFERROR(IF(B13="","",IF(COUNTIF(Calc!$BR$8:$BR$53,B13)>0,"","x")),"") | B13: Gender | D13: =IFERROR(INDEX(IF(Calc!ED$9="d",DateTable,MainTable),Calc!$CB15,Calc!ED$10),"") -> Aviana Kenny | E13: =IFERROR(INDEX(IF(Calc!EE$9="d",DateTable,MainTable),Calc!$CB15,Calc!EE$10),"") -> East Office | F13: =IFERROR(INDEX(IF(Calc!EF$9="d",DateTable,MainTable),Calc!$CB15,Calc!EF$10),"") -> 12 Dec 1982 | G13: =IFERROR(INDEX(IF(Calc!EG$9="d",DateTable,MainTable),Calc!$CB15,Calc!EG$10),"") -> Yes | H13: =IFERROR(INDEX(IF(Calc!EH$9="d",DateTable,MainTable),Calc!$CB15,Calc!EH$10),"") -> 5200 | I13: =IFERROR(INDEX(IF(Calc!EI$9="d",DateTable,MainTable),Calc!$CB15,Calc!EI$10),"") -> aviana@mail.com | J13: =IFERROR(INDEX(IF(Calc!EJ$9="d",DateTable,MainTable),Calc!$CB15,Calc!EJ$10),"") | K13: =IFERROR(INDEX(IF(Calc!EK$9="d",DateTable,MainTable),Calc!$CB15,Calc!EK$10),"") | ... M13: =IFERROR(INDEX(IF(Calc!EM$9="d",DateTable,MainTable),Calc!$CB15,Calc!EM$10),"")
B14: All | D14: =IFERROR(INDEX(IF(Calc!ED$9="d",DateTable,MainTable),Calc!$CB16,Calc!ED$10),"") -> Harris Montes | E14: =IFERROR(INDEX(IF(Calc!EE$9="d",DateTable,MainTable),Calc!$CB16,Calc!EE$10),"") -> Main Office | F14: =IFERROR(INDEX(IF(Calc!EF$9="d",DateTable,MainTable),Calc!$CB16,Calc!EF$10),"") -> 19 Aug 1983 | G14: =IFERROR(INDEX(IF(Calc!EG$9="d",DateTable,MainTable),Calc!$CB16,Calc!EG$10),"") -> Yes | H14: =IFERROR(INDEX(IF(Calc!EH$9="d",DateTable,MainTable),Calc!$CB16,Calc!EH$10),"") -> 12000 | I14: =IFERROR(INDEX(IF(Calc!EI$9="d",DateTable,MainTable),Calc!$CB16,Calc!EI$10),"") -> harris@mail.com | J14: =IFERROR(INDEX(IF(Calc!EJ$9="d",DateTable,MainTable),Calc!$CB16,Calc!EJ$10),"") | K14: =IFERROR(INDEX(IF(Calc!EK$9="d",DateTable,MainTable),Calc!$CB16,Calc!EK$10),"") | ... M14: =IFERROR(INDEX(IF(Calc!EM$9="d",DateTable,MainTable),Calc!$CB16,Calc!EM$10),"")
D15: =IFERROR(INDEX(IF(Calc!ED$9="d",DateTable,MainTable),Calc!$CB17,Calc!ED$10),"") -> Doris Power | E15: =IFERROR(INDEX(IF(Calc!EE$9="d",DateTable,MainTable),Calc!$CB17,Calc!EE$10),"") -> Main Office | F15: =IFERROR(INDEX(IF(Calc!EF$9="d",DateTable,MainTable),Calc!$CB17,Calc!EF$10),"") -> 25 Apr 1984 | G15: =IFERROR(INDEX(IF(Calc!EG$9="d",DateTable,MainTable),Calc!$CB17,Calc!EG$10),"") -> No | H15: =IFERROR(INDEX(IF(Calc!EH$9="d",DateTable,MainTable),Calc!$CB17,Calc!EH$10),"") -> 5300 | I15: =IFERROR(INDEX(IF(Calc!EI$9="d",DateTable,MainTable),Calc!$CB17,Calc!EI$10),"") -> doris@mail.com | J15: =IFERROR(INDEX(IF(Calc!EJ$9="d",DateTable,MainTable),Calc!$CB17,Calc!EJ$10),"") | K15: =IFERROR(INDEX(IF(Calc!EK$9="d",DateTable,MainTable),Calc!$CB17,Calc!EK$10),"") | ... M15: =IFERROR(INDEX(IF(Calc!EM$9="d",DateTable,MainTable),Calc!$CB17,Calc!EM$10),"")
A16: =IFERROR(IF(B16="","",IF(COUNTIF(Calc!$BR$8:$BR$53,B16)>0,"","x")),"") | B16: Nationality | D16: =IFERROR(INDEX(IF(Calc!ED$9="d",DateTable,MainTable),Calc!$CB18,Calc!ED$10),"") -> Isobelle Hurley | E16: =IFERROR(INDEX(IF(Calc!EE$9="d",DateTable,MainTable),Calc!$CB18,Calc!EE$10),"") -> North Office | F16: =IFERROR(INDEX(IF(Calc!EF$9="d",DateTable,MainTable),Calc!$CB18,Calc!EF$10),"") -> 31 Dec 1984 | G16: =IFERROR(INDEX(IF(Calc!EG$9="d",DateTable,MainTable),Calc!$CB18,Calc!EG$10),"") -> Yes | H16: =IFERROR(INDEX(IF(Calc!EH$9="d",DateTable,MainTable),Calc!$CB18,Calc!EH$10),"") | I16: =IFERROR(INDEX(IF(Calc!EI$9="d",DateTable,MainTable),Calc!$CB18,Calc!EI$10),"") -> ısobelle@mail.com | J16: =IFERROR(INDEX(IF(Calc!EJ$9="d",DateTable,MainTable),Calc!$CB18,Calc!EJ$10),"") | K16: =IFERROR(INDEX(IF(Calc!EK$9="d",DateTable,MainTable),Calc!$CB18,Calc!EK$10),"") | ... M16: =IFERROR(INDEX(IF(Calc!EM$9="d",DateTable,MainTable),Calc!$CB18,Calc!EM$10),"")
B17: All | D17: =IFERROR(INDEX(IF(Calc!ED$9="d",DateTable,MainTable),Calc!$CB19,Calc!ED$10),"") -> Donell Merrill | E17: =IFERROR(INDEX(IF(Calc!EE$9="d",DateTable,MainTable),Calc!$CB19,Calc!EE$10),"") -> North Office | F17: =IFERROR(INDEX(IF(Calc!EF$9="d",DateTable,MainTable),Calc!$CB19,Calc!EF$10),"") -> 7 Sep 1985 | G17: =IFERROR(INDEX(IF(Calc!EG$9="d",DateTable,MainTable),Calc!$CB19,Calc!EG$10),"") -> Yes | H17: =IFERROR(INDEX(IF(Calc!EH$9="d",DateTable,MainTable),Calc!$CB19,Calc!EH$10),"") -> 3200 | I17: =IFERROR(INDEX(IF(Calc!EI$9="d",DateTable,MainTable),Calc!$CB19,Calc!EI$10),"") -> donell@mail.com | J17: =IFERROR(INDEX(IF(Calc!EJ$9="d",DateTable,MainTable),Calc!$CB19,Calc!EJ$10),"") | K17: =IFERROR(INDEX(IF(Calc!EK$9="d",DateTable,MainTable),Calc!$CB19,Calc!EK$10),"") | ... M17: =IFERROR(INDEX(IF(Calc!EM$9="d",DateTable,MainTable),Calc!$CB19,Calc!EM$10),"")
D18: =IFERROR(INDEX(IF(Calc!ED$9="d",DateTable,MainTable),Calc!$CB20,Calc!ED$10),"") -> Jane Best | E18: =IFERROR(INDEX(IF(Calc!EE$9="d",DateTable,MainTable),Calc!$CB20,Calc!EE$10),"") -> North Office | F18: =IFERROR(INDEX(IF(Calc!EF$9="d",DateTable,MainTable),Calc!$CB20,Calc!EF$10),"") -> 15 May 1986 | G18: =IFERROR(INDEX(IF(Calc!EG$9="d",DateTable,MainTable),Calc!$CB20,Calc!EG$10),"") -> Yes | H18: =IFERROR(INDEX(IF(Calc!EH$9="d",DateTable,MainTable),Calc!$CB20,Calc!EH$10),"") -> 3200 | I18: =IFERROR(INDEX(IF(Calc!EI$9="d",DateTable,MainTable),Calc!$CB20,Calc!EI$10),"") -> jane@mail.com | J18: =IFERROR(INDEX(IF(Calc!EJ$9="d",DateTable,MainTable),Calc!$CB20,Calc!EJ$10),"") | K18: =IFERROR(INDEX(IF(Calc!EK$9="d",DateTable,MainTable),Calc!$CB20,Calc!EK$10),"") | ... M18: =IFERROR(INDEX(IF(Calc!EM$9="d",DateTable,MainTable),Calc!$CB20,Calc!EM$10),"")
D19: =IFERROR(INDEX(IF(Calc!ED$9="d",DateTable,MainTable),Calc!$CB21,Calc!ED$10),"") -> Kristofer Dyer | E19: =IFERROR(INDEX(IF(Calc!EE$9="d",DateTable,MainTable),Calc!$CB21,Calc!EE$10),"") -> East Office | F19: =IFERROR(INDEX(IF(Calc!EF$9="d",DateTable,MainTable),Calc!$CB21,Calc!EF$10),"") -> 21 Oct 1987 | G19: =IFERROR(INDEX(IF(Calc!EG$9="d",DateTable,MainTable),Calc!$CB21,Calc!EG$10),"") -> Yes | H19: =IFERROR(INDEX(IF(Calc!EH$9="d",DateTable,MainTable),Calc!$CB21,Calc!EH$10),"") -> 4900 | I19: =IFERROR(INDEX(IF(Calc!EI$9="d",DateTable,MainTable),Calc!$CB21,Calc!EI$10),"") -> kristofer@mail.com | J19: =IFERROR(INDEX(IF(Calc!EJ$9="d",DateTable,MainTable),Calc!$CB21,Calc!EJ$10),"") | K19: =IFERROR(INDEX(IF(Calc!EK$9="d",DateTable,MainTable),Calc!$CB21,Calc!EK$10),"") | ... M19: =IFERROR(INDEX(IF(Calc!EM$9="d",DateTable,MainTable),Calc!$CB21,Calc!EM$10),"")
D20: =IFERROR(INDEX(IF(Calc!ED$9="d",DateTable,MainTable),Calc!$CB22,Calc!ED$10),"") -> Dominykas Xiong | E20: =IFERROR(INDEX(IF(Calc!EE$9="d",DateTable,MainTable),Calc!$CB22,Calc!EE$10),"") -> North Office | F20: =IFERROR(INDEX(IF(Calc!EF$9="d",DateTable,MainTable),Calc!$CB22,Calc!EF$10),"") -> 27 Sep 1993 | G20: =IFERROR(INDEX(IF(Calc!EG$9="d",DateTable,MainTable),Calc!$CB22,Calc!EG$10),"") -> Yes | H20: =IFERROR(INDEX(IF(Calc!EH$9="d",DateTable,MainTable),Calc!$CB22,Calc!EH$10),"") | I20: =IFERROR(INDEX(IF(Calc!EI$9="d",DateTable,MainTable),Calc!$CB22,Calc!EI$10),"") -> dominykas@mail.com | J20: =IFERROR(INDEX(IF(Calc!EJ$9="d",DateTable,MainTable),Calc!$CB22,Calc!EJ$10),"") | K20: =IFERROR(INDEX(IF(Calc!EK$9="d",DateTable,MainTable),Calc!$CB22,Calc!EK$10),"") | ... M20: =IFERROR(INDEX(IF(Calc!EM$9="d",DateTable,MainTable),Calc!$CB22,Calc!EM$10),"")
D21: =IFERROR(INDEX(IF(Calc!ED$9="d",DateTable,MainTable),Calc!$CB23,Calc!ED$10),"") | E21: =IFERROR(INDEX(IF(Calc!EE$9="d",DateTable,MainTable),Calc!$CB23,Calc!EE$10),"") | F21: =IFERROR(INDEX(IF(Calc!EF$9="d",DateTable,MainTable),Calc!$CB23,Calc!EF$10),"") | G21: =IFERROR(INDEX(IF(Calc!EG$9="d",DateTable,MainTable),Calc!$CB23,Calc!EG$10),"") | H21: =IFERROR(INDEX(IF(Calc!EH$9="d",DateTable,MainTable),Calc!$CB23,Calc!EH$10),"") | I21: =IFERROR(INDEX(IF(Calc!EI$9="d",DateTable,MainTable),Calc!$CB23,Calc!EI$10),"") | J21: =IFERROR(INDEX(IF(Calc!EJ$9="d",DateTable,MainTable),Calc!$CB23,Calc!EJ$10),"") | K21: =IFERROR(INDEX(IF(Calc!EK$9="d",DateTable,MainTable),Calc!$CB23,Calc!EK$10),"") | ... M21: =IFERROR(INDEX(IF(Calc!EM$9="d",DateTable,MainTable),Calc!$CB23,Calc!EM$10),"")
D22: =IFERROR(INDEX(IF(Calc!ED$9="d",DateTable,MainTable),Calc!$CB24,Calc!ED$10),"") | E22: =IFERROR(INDEX(IF(Calc!EE$9="d",DateTable,MainTable),Calc!$CB24,Calc!EE$10),"") | F22: =IFERROR(INDEX(IF(Calc!EF$9="d",DateTable,MainTable),Calc!$CB24,Calc!EF$10),"") | G22: =IFERROR(INDEX(IF(Calc!EG$9="d",DateTable,MainTable),Calc!$CB24,Calc!EG$10),"") | H22: =IFERROR(INDEX(IF(Calc!EH$9="d",DateTable,MainTable),Calc!$CB24,Calc!EH$10),"") | I22: =IFERROR(INDEX(IF(Calc!EI$9="d",DateTable,MainTable),Calc!$CB24,Calc!EI$10),"") | J22: =IFERROR(INDEX(IF(Calc!EJ$9="d",DateTable,MainTable),Calc!$CB24,Calc!EJ$10),"") | K22: =IFERROR(INDEX(IF(Calc!EK$9="d",DateTable,MainTable),Calc!$CB24,Calc!EK$10),"") | ... M22: =IFERROR(INDEX(IF(Calc!EM$9="d",DateTable,MainTable),Calc!$CB24,Calc!EM$10),"")
D23: =IFERROR(INDEX(IF(Calc!ED$9="d",DateTable,MainTable),Calc!$CB25,Calc!ED$10),"") | E23: =IFERROR(INDEX(IF(Calc!EE$9="d",DateTable,MainTable),Calc!$CB25,Calc!EE$10),"") | F23: =IFERROR(INDEX(IF(Calc!EF$9="d",DateTable,MainTable),Calc!$CB25,Calc!EF$10),"") | G23: =IFERROR(INDEX(IF(Calc!EG$9="d",DateTable,MainTable),Calc!$CB25,Calc!EG$10),"") | H23: =IFERROR(INDEX(IF(Calc!EH$9="d",DateTable,MainTable),Calc!$CB25,Calc!EH$10),"") | I23: =IFERROR(INDEX(IF(Calc!EI$9="d",DateTable,MainTable),Calc!$CB25,Calc!EI$10),"") | J23: =IFERROR(INDEX(IF(Calc!EJ$9="d",DateTable,MainTable),Calc!$CB25,Calc!EJ$10),"") | K23: =IFERROR(INDEX(IF(Calc!EK$9="d",DateTable,MainTable),Calc!$CB25,Calc!EK$10),"") | ... M23: =IFERROR(INDEX(IF(Calc!EM$9="d",DateTable,MainTable),Calc!$CB25,Calc!EM$10),"")
D24: =IFERROR(INDEX(IF(Calc!ED$9="d",DateTable,MainTable),Calc!$CB26,Calc!ED$10),"") | E24: =IFERROR(INDEX(IF(Calc!EE$9="d",DateTable,MainTable),Calc!$CB26,Calc!EE$10),"") | F24: =IFERROR(INDEX(IF(Calc!EF$9="d",DateTable,MainTable),Calc!$CB26,Calc!EF$10),"") | G24: =IFERROR(INDEX(IF(Calc!EG$9="d",DateTable,MainTable),Calc!$CB26,Calc!EG$10),"") | H24: =IFERROR(INDEX(IF(Calc!EH$9="d",DateTable,MainTable),Calc!$CB26,Calc!EH$10),"") | I24: =IFERROR(INDEX(IF(Calc!EI$9="d",DateTable,MainTable),Calc!$CB26,Calc!EI$10),"") | J24: =IFERROR(INDEX(IF(Calc!EJ$9="d",DateTable,MainTable),Calc!$CB26,Calc!EJ$10),"") | K24: =IFERROR(INDEX(IF(Calc!EK$9="d",DateTable,MainTable),Calc!$CB26,Calc!EK$10),"") | ... M24: =IFERROR(INDEX(IF(Calc!EM$9="d",DateTable,MainTable),Calc!$CB26,Calc!EM$10),"")

Sheet Form
C2: EMPLOYEE DATABASE TEMPLATE
C3: EMPLOYEE FORM
C6: =IF(Settings!E42="","",Settings!E42) -> Name | D6: Doris Power
C9: Job Details | E9: =IFERROR(IF(INDEX(Calc!$D$5:$AV$5,1,MATCH(Form!$D9,Calc!$D$7:$BO$7,0))="d",INDEX(DateTable,Calc!$DU$111,MATCH(Form!$D9,DateHeaders,0)),INDEX(MainTable,Calc!$DU$111,MATCH(Form!$D9,Headers,0))),"") | H9: =IFERROR(IF(INDEX(Calc!$D$5:$AV$5,1,MATCH(Form!$G9,Calc!$D$7:$BO$7,0))="d",INDEX(DateTable,Calc!$DU$111,MATCH(Form!$G9,DateHeaders,0)),INDEX(MainTable,Calc!$DU$111,MATCH(Form!$G9,Headers,0))),"")
D10: Employee Id | E10: =IFERROR(IF(INDEX(Calc!$D$5:$AV$5,1,MATCH(Form!$D10,Calc!$D$7:$BO$7,0))="d",INDEX(DateTable,Calc!$DU$111,MATCH(Form!$D10,DateHeaders,0)),INDEX(MainTable,Calc!$DU$111,MATCH(Form!$D10,Headers,0))),"") -> M-00010 | G10: Department | H10: =IFERROR(IF(INDEX(Calc!$D$5:$AV$5,1,MATCH(Form!$G10,Calc!$D$7:$BO$7,0))="d",INDEX(DateTable,Calc!$DU$111,MATCH(Form!$G10,DateHeaders,0)),INDEX(MainTable,Calc!$DU$111,MATCH(Form!$G10,Headers,0))),"") -> HR
D11: Hiring Date | E11: =IFERROR(IF(INDEX(Calc!$D$5:$AV$5,1,MATCH(Form!$D11,Calc!$D$7:$BO$7,0))="d",INDEX(DateTable,Calc!$DU$111,MATCH(Form!$D11,DateHeaders,0)),INDEX(MainTable,Calc!$DU$111,MATCH(Form!$D11,Headers,0))),"") -> 1 Feb 2023 | G11: Job Status | H11: =IFERROR(IF(INDEX(Calc!$D$5:$AV$5,1,MATCH(Form!$G11,Calc!$D$7:$BO$7,0))="d",INDEX(DateTable,Calc!$DU$111,MATCH(Form!$G11,DateHeaders,0)),INDEX(MainTable,Calc!$DU$111,MATCH(Form!$G11,Headers,0))),"") -> Full Time
D12: Hiring Source | E12: =IFERROR(IF(INDEX(Calc!$D$5:$AV$5,1,MATCH(Form!$D12,Calc!$D$7:$BO$7,0))="d",INDEX(DateTable,Calc!$DU$111,MATCH(Form!$D12,DateHeaders,0)),INDEX(MainTable,Calc!$DU$111,MATCH(Form!$D12,Headers,0))),"") -> Website | G12: Job Title | H12: =IFERROR(IF(INDEX(Calc!$D$5:$AV$5,1,MATCH(Form!$G12,Calc!$D$7:$BO$7,0))="d",INDEX(DateTable,Calc!$DU$111,MATCH(Form!$G12,DateHeaders,0)),INDEX(MainTable,Calc!$DU$111,MATCH(Form!$G12,Headers,0))),"") -> Expert
D13: Office | E13: =IFERROR(IF(INDEX(Calc!$D$5:$AV$5,1,MATCH(Form!$D13,Calc!$D$7:$BO$7,0))="d",INDEX(DateTable,Calc!$DU$111,MATCH(Form!$D13,DateHeaders,0)),INDEX(MainTable,Calc!$DU$111,MATCH(Form!$D13,Headers,0))),"") -> Main Office | H13: =IFERROR(IF(INDEX(Calc!$D$5:$AV$5,1,MATCH(Form!$G13,Calc!$D$7:$BO$7,0))="d",INDEX(DateTable,Calc!$DU$111,MATCH(Form!$G13,DateHeaders,0)),INDEX(MainTable,Calc!$DU$111,MATCH(Form!$G13,Headers,0))),"")
C14: Personal Details | E14: =IFERROR(IF(INDEX(Calc!$D$5:$AV$5,1,MATCH(Form!$D14,Calc!$D$7:$BO$7,0))="d",INDEX(DateTable,Calc!$DU$111,MATCH(Form!$D14,DateHeaders,0)),INDEX(MainTable,Calc!$DU$111,MATCH(Form!$D14,Headers,0))),"") | H14: =IFERROR(IF(INDEX(Calc!$D$5:$AV$5,1,MATCH(Form!$G14,Calc!$D$7:$BO$7,0))="d",INDEX(DateTable,Calc!$DU$111,MATCH(Form!$G14,DateHeaders,0)),INDEX(MainTable,Calc!$DU$111,MATCH(Form!$G14,Headers,0))),"")
D15: ID / Passport | E15: =IFERROR(IF(INDEX(Calc!$D$5:$AV$5,1,MATCH(Form!$D15,Calc!$D$7:$BO$7,0))="d",INDEX(DateTable,Calc!$DU$111,MATCH(Form!$D15,DateHeaders,0)),INDEX(MainTable,Calc!$DU$111,MATCH(Form!$D15,Headers,0))),"") -> 992611892 | G15: Nationality | H15: =IFERROR(IF(INDEX(Calc!$D$5:$AV$5,1,MATCH(Form!$G15,Calc!$D$7:$BO$7,0))="d",INDEX(DateTable,Calc!$DU$111,MATCH(Form!$G15,DateHeaders,0)),INDEX(MainTable,Calc!$DU$111,MATCH(Form!$G15,Headers,0))),"") -> USA
D16: Social Security # | E16: =IFERROR(IF(INDEX(Calc!$D$5:$AV$5,1,MATCH(Form!$D16,Calc!$D$7:$BO$7,0))="d",INDEX(DateTable,Calc!$DU$111,MATCH(Form!$D16,DateHeaders,0)),INDEX(MainTable,Calc!$DU$111,MATCH(Form!$D16,Headers,0))),"") -> SSN-637522042 | G16: Marital Status | H16: =IFERROR(IF(INDEX(Calc!$D$5:$AV$5,1,MATCH(Form!$G16,Calc!$D$7:$BO$7,0))="d",INDEX(DateTable,Calc!$DU$111,MATCH(Form!$G16,DateHeaders,0)),INDEX(MainTable,Calc!$DU$111,MATCH(Form!$G16,Headers,0))),"") -> Married
D17: Gender | E17: =IFERROR(IF(INDEX(Calc!$D$5:$AV$5,1,MATCH(Form!$D17,Calc!$D$7:$BO$7,0))="d",INDEX(DateTable,Calc!$DU$111,MATCH(Form!$D17,DateHeaders,0)),INDEX(MainTable,Calc!$DU$111,MATCH(Form!$D17,Headers,0))),"") -> Male | G17: # of Kids | H17: =IFERROR(IF(INDEX(Calc!$D$5:$AV$5,1,MATCH(Form!$G17,Calc!$D$7:$BO$7,0))="d",INDEX(DateTable,Calc!$DU$111,MATCH(Form!$G17,DateHeaders,0)),INDEX(MainTable,Calc!$DU$111,MATCH(Form!$G17,Headers,0))),"") -> 1
D18: Education | E18: =IFERROR(IF(INDEX(Calc!$D$5:$AV$5,1,MATCH(Form!$D18,Calc!$D$7:$BO$7,0))="d",INDEX(DateTable,Calc!$DU$111,MATCH(Form!$D18,DateHeaders,0)),INDEX(MainTable,Calc!$DU$111,MATCH(Form!$D18,Headers,0))),"") -> Bachelor's Degree | G18: Driving License | H18: =IFERROR(IF(INDEX(Calc!$D$5:$AV$5,1,MATCH(Form!$G18,Calc!$D$7:$BO$7,0))="d",INDEX(DateTable,Calc!$DU$111,MATCH(Form!$G18,DateHeaders,0)),INDEX(MainTable,Calc!$DU$111,MATCH(Form!$G18,Headers,0))),"") -> No
D19: Date of Birth | E19: =IFERROR(IF(INDEX(Calc!$D$5:$AV$5,1,MATCH(Form!$D19,Calc!$D$7:$BO$7,0))="d",INDEX(DateTable,Calc!$DU$111,MATCH(Form!$D19,DateHeaders,0)),INDEX(MainTable,Calc!$DU$111,MATCH(Form!$D19,Headers,0))),"") -> 25 Apr 1984 | H19: =IFERROR(IF(INDEX(Calc!$D$5:$AV$5,1,MATCH(Form!$G19,Calc!$D$7:$BO$7,0))="d",INDEX(DateTable,Calc!$DU$111,MATCH(Form!$G19,DateHeaders,0)),INDEX(MainTable,Calc!$DU$111,MATCH(Form!$G19,Headers,0))),"")
C20: Contact Details | E20: =IFERROR(IF(INDEX(Calc!$D$5:$AV$5,1,MATCH(Form!$D20,Calc!$D$7:$BO$7,0))="d",INDEX(DateTable,Calc!$DU$111,MATCH(Form!$D20,DateHeaders,0)),INDEX(MainTable,Calc!$DU$111,MATCH(Form!$D20,Headers,0))),"") | H20: =IFERROR(IF(INDEX(Calc!$D$5:$AV$5,1,MATCH(Form!$G20,Calc!$D$7:$BO$7,0))="d",INDEX(DateTable,Calc!$DU$111,MATCH(Form!$G20,DateHeaders,0)),INDEX(MainTable,Calc!$DU$111,MATCH(Form!$G20,Headers,0))),"")
D21: Email | E21: =IFERROR(IF(INDEX(Calc!$D$5:$AV$5,1,MATCH(Form!$D21,Calc!$D$7:$BO$7,0))="d",INDEX(DateTable,Calc!$DU$111,MATCH(Form!$D21,DateHeaders,0)),INDEX(MainTable,Calc!$DU$111,MATCH(Form!$D21,Headers,0))),"") -> doris@mail.com | G21: Address | H21: =IFERROR(IF(INDEX(Calc!$D$5:$AV$5,1,MATCH(Form!$G21,Calc!$D$7:$BO$7,0))="d",INDEX(DateTable,Calc!$DU$111,MATCH(Form!$G21,DateHeaders,0)),INDEX(MainTable,Calc!$DU$111,MATCH(Form!$G21,Headers,0))),"") -> 216 Pine Street Auburn 13021
D22: Cell Phone | E22: =IFERROR(IF(INDEX(Calc!$D$5:$AV$5,1,MATCH(Form!$D22,Calc!$D$7:$BO$7,0))="d",INDEX(DateTable,Calc!$DU$111,MATCH(Form!$D22,DateHeaders,0)),INDEX(MainTable,Calc!$DU$111,MATCH(Form!$D22,Headers,0))),"") -> 202-555-3086 | G22: City | H22: =IFERROR(IF(INDEX(Calc!$D$5:$AV$5,1,MATCH(Form!$G22,Calc!$D$7:$BO$7,0))="d",INDEX(DateTable,Calc!$DU$111,MATCH(Form!$G22,DateHeaders,0)),INDEX(MainTable,Calc!$DU$111,MATCH(Form!$G22,Headers,0))),"") -> New York
D23: Country | E23: =IFERROR(IF(INDEX(Calc!$D$5:$AV$5,1,MATCH(Form!$D23,Calc!$D$7:$BO$7,0))="d",INDEX(DateTable,Calc!$DU$111,MATCH(Form!$D23,DateHeaders,0)),INDEX(MainTable,Calc!$DU$111,MATCH(Form!$D23,Headers,0))),"") -> USA | H23: =IFERROR(IF(INDEX(Calc!$D$5:$AV$5,1,MATCH(Form!$G23,Calc!$D$7:$BO$7,0))="d",INDEX(DateTable,Calc!$DU$111,MATCH(Form!$G23,DateHeaders,0)),INDEX(MainTable,Calc!$DU$111,MATCH(Form!$G23,Headers,0))),"")
C24: Emergency Details | E24: =IFERROR(IF(INDEX(Calc!$D$5:$AV$5,1,MATCH(Form!$D24,Calc!$D$7:$BO$7,0))="d",INDEX(DateTable,Calc!$DU$111,MATCH(Form!$D24,DateHeaders,0)),INDEX(MainTable,Calc!$DU$111,MATCH(Form!$D24,Headers,0))),"") | H24: =IFERROR(IF(INDEX(Calc!$D$5:$AV$5,1,MATCH(Form!$G24,Calc!$D$7:$BO$7,0))="d",INDEX(DateTable,Calc!$DU$111,MATCH(Form!$G24,DateHeaders,0)),INDEX(MainTable,Calc!$DU$111,MATCH(Form!$G24,Headers,0))),"")
D25: Emergency Contact Person | E25: =IFERROR(IF(INDEX(Calc!$D$5:$AV$5,1,MATCH(Form!$D25,Calc!$D$7:$BO$7,0))="d",INDEX(DateTable,Calc!$DU$111,MATCH(Form!$D25,DateHeaders,0)),INDEX(MainTable,Calc!$DU$111,MATCH(Form!$D25,Headers,0))),"") -> Joel Power | G25: Blood Type | H25: =IFERROR(IF(INDEX(Calc!$D$5:$AV$5,1,MATCH(Form!$G25,Calc!$D$7:$BO$7,0))="d",INDEX(DateTable,Calc!$DU$111,MATCH(Form!$G25,DateHeaders,0)),INDEX(MainTable,Calc!$DU$111,MATCH(Form!$G25,Headers,0))),"") -> B-
D26: Contact Info | E26: =IFERROR(IF(INDEX(Calc!$D$5:$AV$5,1,MATCH(Form!$D26,Calc!$D$7:$BO$7,0))="d",INDEX(DateTable,Calc!$DU$111,MATCH(Form!$D26,DateHeaders,0)),INDEX(MainTable,Calc!$DU$111,MATCH(Form!$D26,Headers,0))),"") -> 202-555-3086 | G26: Any Health Problem? | H26: =IFERROR(IF(INDEX(Calc!$D$5:$AV$5,1,MATCH(Form!$G26,Calc!$D$7:$BO$7,0))="d",INDEX(DateTable,Calc!$DU$111,MATCH(Form!$G26,DateHeaders,0)),INDEX(MainTable,Calc!$DU$111,MATCH(Form!$G26,Headers,0))),"") -> No
C27: Salary Details | E27: =IFERROR(IF(INDEX(Calc!$D$5:$AV$5,1,MATCH(Form!$D27,Calc!$D$7:$BO$7,0))="d",INDEX(DateTable,Calc!$DU$111,MATCH(Form!$D27,DateHeaders,0)),INDEX(MainTable,Calc!$DU$111,MATCH(Form!$D27,Headers,0))),"") | H27: =IFERROR(IF(INDEX(Calc!$D$5:$AV$5,1,MATCH(Form!$G27,Calc!$D$7:$BO$7,0))="d",INDEX(DateTable,Calc!$DU$111,MATCH(Form!$G27,DateHeaders,0)),INDEX(MainTable,Calc!$DU$111,MATCH(Form!$G27,Headers,0))),"")
D28: Initial Salary | E28: =IFERROR(IF(INDEX(Calc!$D$5:$AV$5,1,MATCH(Form!$D28,Calc!$D$7:$BO$7,0))="d",INDEX(DateTable,Calc!$DU$111,MATCH(Form!$D28,DateHeaders,0)),INDEX(MainTable,Calc!$DU$111,MATCH(Form!$D28,Headers,0))),"") -> 5000 | G28: Bank Account | H28: =IFERROR(IF(INDEX(Calc!$D$5:$AV$5,1,MATCH(Form!$G28,Calc!$D$7:$BO$7,0))="d",INDEX(DateTable,Calc!$DU$111,MATCH(Form!$G28,DateHeaders,0)),INDEX(MainTable,Calc!$DU$111,MATCH(Form!$G28,Headers,0))),"") -> 4064-7954-7233-1517
D29: Current Salary | E29: =IFERROR(IF(INDEX(Calc!$D$5:$AV$5,1,MATCH(Form!$D29,Calc!$D$7:$BO$7,0))="d",INDEX(DateTable,Calc!$DU$111,MATCH(Form!$D29,DateHeaders,0)),INDEX(MainTable,Calc!$DU$111,MATCH(Form!$D29,Headers,0))),"") -> 5300 | H29: =IFERROR(IF(INDEX(Calc!$D$5:$AV$5,1,MATCH(Form!$G29,Calc!$D$7:$BO$7,0))="d",INDEX(DateTable,Calc!$DU$111,MATCH(Form!$G29,DateHeaders,0)),INDEX(MainTable,Calc!$DU$111,MATCH(Form!$G29,Headers,0))),"")
C30: Termination Details | E30: =IFERROR(IF(INDEX(Calc!$D$5:$AV$5,1,MATCH(Form!$D30,Calc!$D$7:$BO$7,0))="d",INDEX(DateTable,Calc!$DU$111,MATCH(Form!$D30,DateHeaders,0)),INDEX(MainTable,Calc!$DU$111,MATCH(Form!$D30,Headers,0))),"") | H30: =IFERROR(IF(INDEX(Calc!$D$5:$AV$5,1,MATCH(Form!$G30,Calc!$D$7:$BO$7,0))="d",INDEX(DateTable,Calc!$DU$111,MATCH(Form!$G30,DateHeaders,0)),INDEX(MainTable,Calc!$DU$111,MATCH(Form!$G30,Headers,0))),"")
D31: Active | E31: =IFERROR(IF(INDEX(Calc!$D$5:$AV$5,1,MATCH(Form!$D31,Calc!$D$7:$BO$7,0))="d",INDEX(DateTable,Calc!$DU$111,MATCH(Form!$D31,DateHeaders,0)),INDEX(MainTable,Calc!$DU$111,MATCH(Form!$D31,Headers,0))),"") -> Yes | G31: Termination Date | H31: =IFERROR(IF(INDEX(Calc!$D$5:$AV$5,1,MATCH(Form!$G31,Calc!$D$7:$BO$7,0))="d",INDEX(DateTable,Calc!$DU$111,MATCH(Form!$G31,DateHeaders,0)),INDEX(MainTable,Calc!$DU$111,MATCH(Form!$G31,Headers,0))),"")
E32: =IFERROR(IF(INDEX(Calc!$D$5:$AV$5,1,MATCH(Form!$D32,Calc!$D$7:$BO$7,0))="d",INDEX(DateTable,Calc!$DU$111,MATCH(Form!$D32,DateHeaders,0)),INDEX(MainTable,Calc!$DU$111,MATCH(Form!$D32,Headers,0))),"") | G32: Termination Reason | H32: =IFERROR(IF(INDEX(Calc!$D$5:$AV$5,1,MATCH(Form!$G32,Calc!$D$7:$BO$7,0))="d",INDEX(DateTable,Calc!$DU$111,MATCH(Form!$G32,DateHeaders,0)),INDEX(MainTable,Calc!$DU$111,MATCH(Form!$G32,Headers,0))),"")
C33: Other | E33: =IFERROR(IF(INDEX(Calc!$D$5:$AV$5,1,MATCH(Form!$D33,Calc!$D$7:$BO$7,0))="d",INDEX(DateTable,Calc!$DU$111,MATCH(Form!$D33,DateHeaders,0)),INDEX(MainTable,Calc!$DU$111,MATCH(Form!$D33,Headers,0))),"") | H33: =IFERROR(IF(INDEX(Calc!$D$5:$AV$5,1,MATCH(Form!$G33,Calc!$D$7:$BO$7,0))="d",INDEX(DateTable,Calc!$DU$111,MATCH(Form!$G33,DateHeaders,0)),INDEX(MainTable,Calc!$DU$111,MATCH(Form!$G33,Headers,0))),"")
D34: Header1 | E34: =IFERROR(IF(INDEX(Calc!$D$5:$AV$5,1,MATCH(Form!$D34,Calc!$D$7:$BO$7,0))="d",INDEX(DateTable,Calc!$DU$111,MATCH(Form!$D34,DateHeaders,0)),INDEX(MainTable,Calc!$DU$111,MATCH(Form!$D34,Headers,0))),"") | G34: Header2 | H34: =IFERROR(IF(INDEX(Calc!$D$5:$AV$5,1,MATCH(Form!$G34,Calc!$D$7:$BO$7,0))="d",INDEX(DateTable,Calc!$DU$111,MATCH(Form!$G34,DateHeaders,0)),INDEX(MainTable,Calc!$DU$111,MATCH(Form!$G34,Headers,0))),"")
E35: =IFERROR(IF(INDEX(Calc!$D$5:$AV$5,1,MATCH(Form!$D35,Calc!$D$7:$BO$7,0))="d",INDEX(DateTable,Calc!$DU$111,MATCH(Form!$D35,DateHeaders,0)),INDEX(MainTable,Calc!$DU$111,MATCH(Form!$D35,Headers,0))),"") | H35: =IFERROR(IF(INDEX(Calc!$D$5:$AV$5,1,MATCH(Form!$G35,Calc!$D$7:$BO$7,0))="d",INDEX(DateTable,Calc!$DU$111,MATCH(Form!$G35,DateHeaders,0)),INDEX(MainTable,Calc!$DU$111,MATCH(Form!$G35,Headers,0))),"")
E36: =IFERROR(IF(INDEX(Calc!$D$5:$AV$5,1,MATCH(Form!$D36,Calc!$D$7:$BO$7,0))="d",INDEX(DateTable,Calc!$DU$111,MATCH(Form!$D36,DateHeaders,0)),INDEX(MainTable,Calc!$DU$111,MATCH(Form!$D36,Headers,0))),"") | H36: =IFERROR(IF(INDEX(Calc!$D$5:$AV$5,1,MATCH(Form!$G36,Calc!$D$7:$BO$7,0))="d",INDEX(DateTable,Calc!$DU$111,MATCH(Form!$G36,DateHeaders,0)),INDEX(MainTable,Calc!$DU$111,MATCH(Form!$G36,Headers,0))),"")
E37: =IFERROR(IF(INDEX(Calc!$D$5:$AV$5,1,MATCH(Form!$D37,Calc!$D$7:$BO$7,0))="d",INDEX(DateTable,Calc!$DU$111,MATCH(Form!$D37,DateHeaders,0)),INDEX(MainTable,Calc!$DU$111,MATCH(Form!$D37,Headers,0))),"") | H37: =IFERROR(IF(INDEX(Calc!$D$5:$AV$5,1,MATCH(Form!$G37,Calc!$D$7:$BO$7,0))="d",INDEX(DateTable,Calc!$DU$111,MATCH(Form!$G37,DateHeaders,0)),INDEX(MainTable,Calc!$DU$111,MATCH(Form!$G37,Headers,0))),"")
E38: =IFERROR(IF(INDEX(Calc!$D$5:$AV$5,1,MATCH(Form!$D38,Calc!$D$7:$BO$7,0))="d",INDEX(DateTable,Calc!$DU$111,MATCH(Form!$D38,DateHeaders,0)),INDEX(MainTable,Calc!$DU$111,MATCH(Form!$D38,Headers,0))),"") | H38: =IFERROR(IF(INDEX(Calc!$D$5:$AV$5,1,MATCH(Form!$G38,Calc!$D$7:$BO$7,0))="d",INDEX(DateTable,Calc!$DU$111,MATCH(Form!$G38,DateHeaders,0)),INDEX(MainTable,Calc!$DU$111,MATCH(Form!$G38,Headers,0))),"")
E39: =IFERROR(IF(INDEX(Calc!$D$5:$AV$5,1,MATCH(Form!$D39,Calc!$D$7:$BO$7,0))="d",INDEX(DateTable,Calc!$DU$111,MATCH(Form!$D39,DateHeaders,0)),INDEX(MainTable,Calc!$DU$111,MATCH(Form!$D39,Headers,0))),"") | H39: =IFERROR(IF(INDEX(Calc!$D$5:$AV$5,1,MATCH(Form!$G39,Calc!$D$7:$BO$7,0))="d",INDEX(DateTable,Calc!$DU$111,MATCH(Form!$G39,DateHeaders,0)),INDEX(MainTable,Calc!$DU$111,MATCH(Form!$G39,Headers,0))),"")
E40: =IFERROR(IF(INDEX(Calc!$D$5:$AV$5,1,MATCH(Form!$D40,Calc!$D$7:$BO$7,0))="d",INDEX(DateTable,Calc!$DU$111,MATCH(Form!$D40,DateHeaders,0)),INDEX(MainTable,Calc!$DU$111,MATCH(Form!$D40,Headers,0))),"") | H40: =IFERROR(IF(INDEX(Calc!$D$5:$AV$5,1,MATCH(Form!$G40,Calc!$D$7:$BO$7,0))="d",INDEX(DateTable,Calc!$DU$111,MATCH(Form!$G40,DateHeaders,0)),INDEX(MainTable,Calc!$DU$111,MATCH(Form!$G40,Headers,0))),"")
E41: =IFERROR(IF(INDEX(Calc!$D$5:$AV$5,1,MATCH(Form!$D41,Calc!$D$7:$BO$7,0))="d",INDEX(DateTable,Calc!$DU$111,MATCH(Form!$D41,DateHeaders,0)),INDEX(MainTable,Calc!$DU$111,MATCH(Form!$D41,Headers,0))),"") | H41: =IFERROR(IF(INDEX(Calc!$D$5:$AV$5,1,MATCH(Form!$G41,Calc!$D$7:$BO$7,0))="d",INDEX(DateTable,Calc!$DU$111,MATCH(Form!$G41,DateHeaders,0)),INDEX(MainTable,Calc!$DU$111,MATCH(Form!$G41,Headers,0))),"")
E42: =IFERROR(IF(INDEX(Calc!$D$5:$AV$5,1,MATCH(Form!$D42,Calc!$D$7:$BO$7,0))="d",INDEX(DateTable,Calc!$DU$111,MATCH(Form!$D42,DateHeaders,0)),INDEX(MainTable,Calc!$DU$111,MATCH(Form!$D42,Headers,0))),"") | H42: =IFERROR(IF(INDEX(Calc!$D$5:$AV$5,1,MATCH(Form!$G42,Calc!$D$7:$BO$7,0))="d",INDEX(DateTable,Calc!$DU$111,MATCH(Form!$G42,DateHeaders,0)),INDEX(MainTable,Calc!$DU$111,MATCH(Form!$G42,Headers,0))),"")
E43: =IFERROR(IF(INDEX(Calc!$D$5:$AV$5,1,MATCH(Form!$D43,Calc!$D$7:$BO$7,0))="d",INDEX(DateTable,Calc!$DU$111,MATCH(Form!$D43,DateHeaders,0)),INDEX(MainTable,Calc!$DU$111,MATCH(Form!$D43,Headers,0))),"") | H43: =IFERROR(IF(INDEX(Calc!$D$5:$AV$5,1,MATCH(Form!$G43,Calc!$D$7:$BO$7,0))="d",INDEX(DateTable,Calc!$DU$111,MATCH(Form!$G43,DateHeaders,0)),INDEX(MainTable,Calc!$DU$111,MATCH(Form!$G43,Headers,0))),"")
E44: =IFERROR(IF(INDEX(Calc!$D$5:$AV$5,1,MATCH(Form!$D44,Calc!$D$7:$BO$7,0))="d",INDEX(DateTable,Calc!$DU$111,MATCH(Form!$D44,DateHeaders,0)),INDEX(MainTable,Calc!$DU$111,MATCH(Form!$D44,Headers,0))),"") | H44: =IFERROR(IF(INDEX(Calc!$D$5:$AV$5,1,MATCH(Form!$G44,Calc!$D$7:$BO$7,0))="d",INDEX(DateTable,Calc!$DU$111,MATCH(Form!$G44,DateHeaders,0)),INDEX(MainTable,Calc!$DU$111,MATCH(Form!$G44,Headers,0))),"")
E45: =IFERROR(IF(INDEX(Calc!$D$5:$AV$5,1,MATCH(Form!$D45,Calc!$D$7:$BO$7,0))="d",INDEX(DateTable,Calc!$DU$111,MATCH(Form!$D45,DateHeaders,0)),INDEX(MainTable,Calc!$DU$111,MATCH(Form!$D45,Headers,0))),"") | H45: =IFERROR(IF(INDEX(Calc!$D$5:$AV$5,1,MATCH(Form!$G45,Calc!$D$7:$BO$7,0))="d",INDEX(DateTable,Calc!$DU$111,MATCH(Form!$G45,DateHeaders,0)),INDEX(MainTable,Calc!$DU$111,MATCH(Form!$G45,Headers,0))),"")
E46: =IFERROR(IF(INDEX(Calc!$D$5:$AV$5,1,MATCH(Form!$D46,Calc!$D$7:$BO$7,0))="d",INDEX(DateTable,Calc!$DU$111,MATCH(Form!$D46,DateHeaders,0)),INDEX(MainTable,Calc!$DU$111,MATCH(Form!$D46,Headers,0))),"") | H46: =IFERROR(IF(INDEX(Calc!$D$5:$AV$5,1,MATCH(Form!$G46,Calc!$D$7:$BO$7,0))="d",INDEX(DateTable,Calc!$DU$111,MATCH(Form!$G46,DateHeaders,0)),INDEX(MainTable,Calc!$DU$111,MATCH(Form!$G46,Headers,0))),"")
... E60: =IFERROR(IF(INDEX(Calc!$D$5:$AV$5,1,MATCH(Form!$D60,Calc!$D$7:$BO$7,0))="d",INDEX(DateTable,Calc!$DU$111,MATCH(Form!$D60,DateHeaders,0)),INDEX(MainTable,Calc!$DU$111,MATCH(Form!$D60,Headers,0))),"") | H60: =IFERROR(IF(INDEX(Calc!$D$5:$AV$5,1,MATCH(Form!$G60,Calc!$D$7:$BO$7,0))="d",INDEX(DateTable,Calc!$DU$111,MATCH(Form!$G60,DateHeaders,0)),INDEX(MainTable,Calc!$DU$111,MATCH(Form!$G60,Headers,0))),"")

Sheet Dashboard
C2: EMPLOYEE DATABASE TEMPLATE
C3: DASHBOARD
C6: Office | E6: Department | G6: Job Title | I6: Active
C7: All | E7: All | G7: All | I7: All
C10: Headcount
C11: =Calc!CP9 -> 15
C14: Average Age
C15: =Calc!CP11 -> 40.333333
C18: ="Total Salary in "&Settings!E34 -> Total Salary in USD
C19: =Calc!CP13 -> 81000
C22: ="Average Salary in "&Settings!E34 -> Average Salary in USD
C23: =Calc!CP14 -> 6750
C36: Year
C37: 2023

Sheet Calc
DG2: LIST FILTER DROPDOWNS
BU3: List Filters | DG3: Filter 1 | DJ3: Filter 2 | DM3: Filter 3 | DP3: Filter 4
C4: DYNAMIC MAIN TABLE | CJ4: YEARLY STATISTICS | DG4: Date Check | DH4: Header Index | DI4: Count | DJ4: Date Check | DK4: Header Index | DL4: Count | DM4: Date Check | DN4: Header Index | DO4: Count | DP4: Date Check | DQ4: Header Index | DR4: Count
C5: Date Check | D5: =IFERROR(IF(INDEX(database[#Headers],1,D6)="","",IF(COUNTIF(Settings!$C$37:$C$42,INDEX(database[#Headers],1,D6))>0,"d","")),"") | E5: =IFERROR(IF(INDEX(database[#Headers],1,E6)="","",IF(COUNTIF(Settings!$C$37:$C$42,INDEX(database[#Headers],1,E6))>0,"d","")),"") | F5: =IFERROR(IF(INDEX(database[#Headers],1,F6)="","",IF(COUNTIF(Settings!$C$37:$C$42,INDEX(database[#Headers],1,F6))>0,"d","")),"") -> d | G5: =IFERROR(IF(INDEX(database[#Headers],1,G6)="","",IF(COUNTIF(Settings!$C$37:$C$42,INDEX(database[#Headers],1,G6))>0,"d","")),"") | H5: =IFERROR(IF(INDEX(database[#Headers],1,H6)="","",IF(COUNTIF(Settings!$C$37:$C$42,INDEX(database[#Headers],1,H6))>0,"d","")),"") | I5: =IFERROR(IF(INDEX(database[#Headers],1,I6)="","",IF(COUNTIF(Settings!$C$37:$C$42,INDEX(database[#Headers],1,I6))>0,"d","")),"") | J5: =IFERROR(IF(INDEX(database[#Headers],1,J6)="","",IF(COUNTIF(Settings!$C$37:$C$42,INDEX(database[#Headers],1,J6))>0,"d","")),"") | K5: =IFERROR(IF(INDEX(database[#Headers],1,K6)="","",IF(COUNTIF(Settings!$C$37:$C$42,INDEX(database[#Headers],1,K6))>0,"d","")),"") | ... AV5: =IFERROR(IF(INDEX(database[#Headers],1,AV6)="","",IF(COUNTIF(Settings!$C$37:$C$42,INDEX(database[#Headers],1,AV6))>0,"d","")),"") | AW5: Calculation Area | BD5: Date Format Area | BJ5: Date Dropdown Area | BU5: =IFERROR(INDEX($D$5:$AV$5,1,MATCH(BU$7,Headers,0)),"") | BV5: =IFERROR(INDEX($D$5:$AV$5,1,MATCH(BV$7,Headers,0)),"") | BW5: =IFERROR(INDEX($D$5:$AV$5,1,MATCH(BW$7,Headers,0)),"") | BX5: =IFERROR(INDEX($D$5:$AV$5,1,MATCH(BX$7,Headers,0)),"") | BY5: =IFERROR(INDEX($D$5:$AV$5,1,MATCH(BY$7,Headers,0)),"") | CD5: Dashboard Filters | CJ5: Analaysis Year | CM5: =IFERROR(IF(Dashboard!C37="",YEAR(TODAY()),Dashboard!C37),"") -> 2023 | DA5: DASHBOARD FILTER DROPDOWNS | DG5: =IFERROR(INDEX($D$5:$AV$5,1,MATCH(DG$7,Headers,0)),"") | DH5: =IFERROR(IF(DG5="d",MATCH(DG$7,DateHeaders,0),MATCH(DG$7,Headers,0)),"") -> 6 | DI5: =IFERROR(IF(ISNUMBER(DI8),COUNT(DI$8:DI$26),COUNTIF(DI$8:DI$26,"?*")),1000) -> 7 | DJ5: =IFERROR(INDEX($D$5:$AV$5,1,MATCH(DJ$7,Headers,0)),"") | DK5: =IFERROR(IF(DJ5="d",MATCH(DJ$7,DateHeaders,0),MATCH(DJ$7,Headers,0)),"") -> 12 | DL5: =IFERROR(IF(ISNUMBER(DL8),COUNT(DL$8:DL$26),COUNTIF(DL$8:DL$26,"?*")),1000) -> 4 | DM5: =IFERROR(INDEX($D$5:$AV$5,1,MATCH(DM$7,Headers,0)),"") | DN5: =IFERROR(MATCH(DM$7,Headers,0),"") -> 11 | DO5: =IFERROR(IF(ISNUMBER(DO8),COUNT(DO$8:DO$26),COUNTIF(DO$8:DO$26,"?*")),1000) -> 2 | DP5: =IFERROR(INDEX($D$5:$AV$5,1,MATCH(DP$7,Headers,0)),"") | DQ5: =IFERROR(MATCH(DP$7,Headers,0),"") -> 14 | DR5: =IFERROR(IF(ISNUMBER(DR8),COUNT(DR$8:DR$26),COUNTIF(DR$8:DR$26,"?*")),1000) -> 3
C6: Col # | D6: 1 | E6: 2 | F6: 3 | G6: 4 | H6: 5 | I6: 6 | J6: 7 | K6: 8 | L6: 9 | M6: 10 | N6: 11 | O6: 12 | P6: 13 | Q6: 14 | R6: 15 | S6: 16 | T6: 17 | U6: 18 | V6: 19 | W6: 20 | X6: 21 | Y6: 22 | Z6: 23 | AA6: 24 | AB6: 25 | AC6: 26 | AD6: 27 | AE6: 28 | AF6: 29 | AG6: 30 | AH6: 31 | AI6: 32 | AJ6: 33 | AK6: 34 | AL6: 35 | AM6: 36 | AN6: 37 | AO6: 38 | AP6: 39 | AQ6: 40 | AR6: 41 | AS6: 42 | AT6: 43 | AU6: 44 | AV6: 45 | BC6: =IFERROR(MATCH("Current Salary",Headers,0),"") -> 28 | BD6: =IFERROR(MATCH(Settings!$C$37,Headers,0),"") -> 3 | BE6: =IFERROR(MATCH(Settings!$C$38,Headers,0),"") -> 13 | BF6: =IFERROR(MATCH(Settings!$C$39,Headers,0),"") -> 31 | BG6: =IFERROR(MATCH(Settings!$C$40,Headers,0),"") | BH6: =IFERROR(MATCH(Settings!$C$41,Headers,0),"") | BI6: =IFERROR(MATCH(Settings!$C$42,Headers,0),"") | BQ6: Dynamic Headings | BU6: =IFERROR(IF(BU$5="d",MATCH(BU$7,DateHeaders,0),MATCH(BU$7,Headers,0)),"") -> 6 | BV6: =IFERROR(IF(BV$5="d",MATCH(BV$7,DateHeaders,0),MATCH(BV$7,Headers,0)),"") -> 12 | BW6: =IFERROR(IF(BW$5="d",MATCH(BW$7,DateHeaders,0),MATCH(BW$7,Headers,0)),"") -> 11 | BX6: =IFERROR(IF(BX$5="d",MATCH(BX$7,DateHeaders,0),MATCH(BX$7,Headers,0)),"") -> 14 | CA6: List Area | CD6: =IFERROR(MATCH(CD$7,Headers,0),"") -> 5 | CE6: =IFERROR(MATCH(CE$7,Headers,0),"") -> 6 | CF6: =IFERROR(MATCH(CF$7,Headers,0),"") -> 8 | CG6: =IFERROR(MATCH(CG$7,Headers,0),"") -> 30 | CJ6: Year Start | CK6: Year End | CL6: Leaves | CM6: Hiring | CO6: DASHBOARD CALCULATIONS | CU6: DATE INDICATORS | DG6: Values | DH6: Dupl. | DI6: Blnk. | DJ6: Values | DK6: Dupl. | DL6: Blnk. | DM6: Values | DN6: Dupl. | DO6: Blnk. | DP6: Values | DQ6: Dupl. | DR6: Blnk.
C7: # | D7: =IFERROR(INDEX(database[#Headers],1,D6),"") -> Employee Id | E7: =IFERROR(INDEX(database[#Headers],1,E6),"") -> Name | F7: =IFERROR(INDEX(database[#Headers],1,F6),"") -> Hiring Date | G7: =IFERROR(INDEX(database[#Headers],1,G6),"") -> Hiring Source | H7: =IFERROR(INDEX(database[#Headers],1,H6),"") -> Office | I7: =IFERROR(INDEX(database[#Headers],1,I6),"") -> Department | J7: =IFERROR(INDEX(database[#Headers],1,J6),"") -> Job Status | K7: =IFERROR(INDEX(database[#Headers],1,K6),"") -> Job Title | ... AV7: =IFERROR(INDEX(database[#Headers],1,AV6),"") | AW7: Employee Id - Name | AX7: Hiring Year | AY7: Termination Year | AZ7: Birth Year | BA7: Age | BB7: Age Range | BC7: Salary | BD7: Date 1 | BE7: Date 2 | BF7: Date 3 | BG7: Date 4 | BH7: Date 5 | BI7: Date 6 | BJ7: =IFERROR(IF(Settings!C37="","",Settings!C37),"") -> Hiring Date | BK7: =IFERROR(IF(Settings!C38="","",Settings!C38),"") -> Date of Birth | BL7: =IFERROR(IF(Settings!C39="","",Settings!C39),"") -> Termination Date | BM7: =IFERROR(IF(Settings!C40="","",Settings!C40),"") | BN7: =IFERROR(IF(Settings!C41="","",Settings!C41),"") | BO7: =IFERROR(IF(Settings!C42="","",Settings!C42),"") | BQ7: Index | BR7: Heading | BU7: =IFERROR(IF(List!B7="","",List!B7),"") -> Department | BV7: =IFERROR(IF(List!B10="","",List!B10),"") -> Education | BW7: =IFERROR(IF(List!B13="","",List!B13),"") -> Gender | BX7: =IFERROR(IF(List!B16="","",List!B16),"") -> Nationality | BY7: TOTAL | CA7: Filtered Rows | CB7: Row Index | CD7: Office | CE7: Department | CF7: Job Title | CG7: Active | CH7: TOTAL | CJ7: =SUM(CJ8:CJ26) -> 4 | CK7: =SUM(CK8:CK26) -> 12 | CL7: =SUM(CL8:CL26) -> 3 | CM7: =SUM(CM8:CM26) -> 11 | DA7: Office | DC7: Department | DE7: Job Title | DG7: =List!B7 -> Department | DI7: All | DJ7: =List!B10 -> Education | DL7: All | DM7: =List!B13 -> Gender | DO7: All | DP7: =List!B16 -> Nationality | DR7: All | DT7: Conditional Rules for Form | DW7: Year Filters | DZ7: Text Boxes for List | EC7: List Index Table | EO7: Conditional Formatting Formulas
C8: 1 | D8: =IFERROR(IF(INDEX(database[],$C8,D$6)=0,"",INDEX(database[],$C8,D$6)),"") -> M-0001 | E8: =IFERROR(IF(INDEX(database[],$C8,E$6)=0,"",INDEX(database[],$C8,E$6)),"") -> Jemima Begum | F8: =IFERROR(IF(INDEX(database[],$C8,F$6)=0,"",INDEX(database[],$C8,F$6)),"") -> 44562 | G8: =IFERROR(IF(INDEX(database[],$C8,G$6)=0,"",INDEX(database[],$C8,G$6)),"") -> In-House | H8: =IFERROR(IF(INDEX(database[],$C8,H$6)=0,"",INDEX(database[],$C8,H$6)),"") -> Main Office | I8: =IFERROR(IF(INDEX(database[],$C8,I$6)=0,"",INDEX(database[],$C8,I$6)),"") -> Operations | J8: =IFERROR(IF(INDEX(database[],$C8,J$6)=0,"",INDEX(database[],$C8,J$6)),"") -> Full Time | K8: =IFERROR(IF(INDEX(database[],$C8,K$6)=0,"",INDEX(database[],$C8,K$6)),"") -> Director | ... AV8: =IFERROR(IF(INDEX(database[],$C8,AV$6)=0,"",INDEX(database[],$C8,AV$6)),"") | AW8: =IFERROR(IF(INDEX(MainTable,$C8,$BQ$68)="",INDEX(MainTable,$C8,$BQ$69),INDEX(MainTable,$C8,$BQ$68)&"-"&INDEX(MainTable,$C8,$BQ$69)),"") -> M-0001-Jemima Begum | AX8: =IFERROR(YEAR(BD8),"") -> 2022 | AY8: =IFERROR(YEAR(BF8),"") | AZ8: =IFERROR(YEAR(BE8),"") -> 1964 | BA8: =IFERROR(DATEDIF(BE8,TODAY(),"y"),"") -> 58 | BB8: =IFERROR(IF(LEN(BA8)=0,"",IF(BA8<18,$CO$54,IF(AND(BA8>=18,BA8<31),$CO$55,IF(AND(BA8>=31,BA8<41),$CO$56,IF(AND(BA8>=41,BA8<50),$CO$57,IF(AND(BA8>=51,BA8<60),$CO$58,IF(BA8>=61,$CO$59,""))))))),"") -> 51-60 | BC8: =IFERROR(INDEX(MainTable,$C8,BC$6),"") -> 13000 | BD8: =IFERROR(INDEX(MainTable,$C8,BD$6),"") -> 44562 | BE8: =IFERROR(INDEX(MainTable,$C8,BE$6),"") -> 23732 | BF8: =IFERROR(INDEX(MainTable,$C8,BF$6),"") | BG8: =IFERROR(INDEX(MainTable,$C8,BG$6),"") | BH8: =IFERROR(INDEX(MainTable,$C8,BH$6),"") | BI8: =IFERROR(INDEX(MainTable,$C8,BI$6),"") | BJ8: =IFERROR(IF(order=123,DAY(BD8)&connector&IF(desc="Extended",INDEX(months,MONTH(BD8),1),MONTH(BD8))&connector&IF(desc="Short", RIGHT(YEAR(BD8),2),YEAR(BD8)),IF(order=213, MONTH(BD8)&connector&DAY(BD8)&connector&IF(desc="Short", RIGHT(YEAR(BD8),2),YEAR(BD8)),IF(desc="Short", RIGHT(YEAR(BD8),2),YEAR(BD8))&connector&MONTH(BD8)&connector&DAY(BD8))),BD8) -> 1 Jan 2022 | BK8: =IFERROR(IF(order=123,DAY(BE8)&connector&IF(desc="Extended",INDEX(months,MONTH(BE8),1),MONTH(BE8))&connector&IF(desc="Short", RIGHT(YEAR(BE8),2),YEAR(BE8)),IF(order=213, MONTH(BE8)&connector&DAY(BE8)&connector&IF(desc="Short", RIGHT(YEAR(BE8),2),YEAR(BE8)),IF(desc="Short", RIGHT(YEAR(BE8),2),YEAR(BE8))&connector&MONTH(BE8)&connector&DAY(BE8))),BE8) -> 21 Dec 1964 | BL8: =IFERROR(IF(order=123,DAY(BF8)&connector&IF(desc="Extended",INDEX(months,MONTH(BF8),1),MONTH(BF8))&connector&IF(desc="Short", RIGHT(YEAR(BF8),2),YEAR(BF8)),IF(order=213, MONTH(BF8)&connector&DAY(BF8)&connector&IF(desc="Short", RIGHT(YEAR(BF8),2),YEAR(BF8)),IF(desc="Short", RIGHT(YEAR(BF8),2),YEAR(BF8))&connector&MONTH(BF8)&connector&DAY(BF8))),BF8) | BM8: =IFERROR(IF(order=123,DAY(BG8)&connector&IF(desc="Extended",INDEX(months,MONTH(BG8),1),MONTH(BG8))&connector&IF(desc="Short", RIGHT(YEAR(BG8),2),YEAR(BG8)),IF(order=213, MONTH(BG8)&connector&DAY(BG8)&connector&IF(desc="Short", RIGHT(YEAR(BG8),2),YEAR(BG8)),IF(desc="Short", RIGHT(YEAR(BG8),2),YEAR(BG8))&connector&MONTH(BG8)&connector&DAY(BG8))),BG8) | BN8: =IFERROR(IF(order=123,DAY(BH8)&connector&IF(desc="Extended",INDEX(months,MONTH(BH8),1),MONTH(BH8))&connector&IF(desc="Short", RIGHT(YEAR(BH8),2),YEAR(BH8)),IF(order=213, MONTH(BH8)&connector&DAY(BH8)&connector&IF(desc="Short", RIGHT(YEAR(BH8),2),YEAR(BH8)),IF(desc="Short", RIGHT(YEAR(BH8),2),YEAR(BH8))&connector&MONTH(BH8)&connector&DAY(BH8))),BH8) | BO8: =IFERROR(IF(order=123,DAY(BI8)&connector&IF(desc="Extended",INDEX(months,MONTH(BI8),1),MONTH(BI8))&connector&IF(desc="Short", RIGHT(YEAR(BI8),2),YEAR(BI8)),IF(order=213, MONTH(BI8)&connector&DAY(BI8)&connector&IF(desc="Short", RIGHT(YEAR(BI8),2),YEAR(BI8)),IF(desc="Short", RIGHT(YEAR(BI8),2),YEAR(BI8))&connector&MONTH(BI8)&connector&DAY(BI8))),BI8) | BQ8: 1 | BR8: =IFERROR(INDEX(database[#Headers],0,BQ8),"") -> Employee Id | BU8: =IFERROR(IF(OR(BU$7="",List!$B$8="",List!$B$8="All"),1,IF(List!$B$8=INDEX(IF(BU$5="d",DateTable,MainTable),$C8,BU$6),1,0)),0) -> 1 | BV8: =IFERROR(IF(OR(BV$7="",List!$B$11="",List!$B$11="All"),1,IF(List!$B$11=INDEX(IF(BV$5="d",DateTable,MainTable),$C8,BV$6),1,0)),0) -> 1 | BW8: =IFERROR(IF(OR(BW$7="",List!$B$14="",List!$B$14="All"),1,IF(List!$B$14=INDEX(IF(BW$5="d",DateTable,MainTable),$C8,BW$6),1,0)),0) -> 1 | BX8: =IFERROR(IF(OR(BX$7="",List!$B$17="",List!$B$17="All"),1,IF(List!$B$17=INDEX(IF(BX$5="d",DateTable,MainTable),$C8,BX$6),1,0)),0) -> 1 | BY8: =BU8*BV8*BW8*BX8 -> 1 | CA8: =IFERROR(IF(OR(AND(D8="",E8=""),BY8=0),"",$C8),"") -> 1 | CB8: =IFERROR(SMALL($CA$8:$CA$26,$C8),"") -> 1 | CD8: =IFERROR(IF(OR(Dashboard!$C$7="",Dashboard!$C$7="All"),1,IF(Dashboard!$C$7=INDEX(MainTable,$C8,CD$6),1,0)),0) -> 1 | CE8: =IFERROR(IF(OR(Dashboard!$E$7="",Dashboard!$E$7="All"),1,IF(Dashboard!$E$7=INDEX(MainTable,$C8,CE$6),1,0)),0) -> 1 | CF8: =IFERROR(IF(OR(Dashboard!$G$7="",Dashboard!$G$7="All"),1,IF(Dashboard!$G$7=INDEX(MainTable,$C8,CF$6),1,0)),0) -> 1 | CG8: =IFERROR(IF(OR(Dashboard!$I$7="",Dashboard!$I$7="All"),1,IF(Dashboard!$I$7=INDEX(MainTable,$C8,CG$6),1,0)),0) -> 1 | CH8: =CD8*CE8*CF8*CG8 -> 1 | CJ8: =IFERROR(IF(AND($AX8<$CM$5,OR($AY8="",$AY8>=CM$5)),1,0),0) -> 1 | CK8: =IFERROR(IF(AND($AX8<=$CM$5,OR($AY8="",$AY8>$CM$5)),1,0),0) -> 1 | CL8: =IFERROR(IF($AY8="",0,IF($AY8=$CM$5,1,0)),0) -> 0 | CM8: =IFERROR(IF($AX8="",0,IF($AX8=$CM$5,1,0)),0) -> 0 | DA8: All | DC8: All | DE8: All | DG8: =IFERROR(INDEX(IF(DG$5="d",DateTable,MainTable),$C8,DH$5),"") -> Operations | DH8: =IFERROR(IF(COUNTIF($DG$8:$DG8,DG8)>1,"",DG8),"") -> Operations | DI8: {=IFERROR(INDEX(filter1,SMALL(IF(LEN(filter1)>0,ROW(filter1)-ROW(INDEX(filter1,1,1))+1),ROW($DF8)-ROW($DF$7))),"")} -> Operations | DJ8: =IFERROR(INDEX(IF(DJ$5="d",DateTable,MainTable),$C8,DK$5),"") -> Bachelor's Degree | DK8: =IFERROR(IF(COUNTIF($DJ$8:$DJ8,DJ8)>1,"",DJ8),"") -> Bachelor's Degree | DL8: {=IFERROR(INDEX(filter2,SMALL(IF(LEN(filter2)>0,ROW(filter2)-ROW(INDEX(filter2,1,1))+1),ROW($DF8)-ROW($DF$7))),"")} -> Bachelor's Degree | DM8: =IFERROR(INDEX(IF(DM$5="d",DateTable,MainTable),$C8,DN$5),"") -> Female | DN8: =IFERROR(IF(COUNTIF($DM$8:$DM8,DM8)>1,"",DM8),"") -> Female | DO8: {=IFERROR(INDEX(filter3,SMALL(IF(LEN(filter3)>0,ROW(filter3)-ROW(INDEX(filter3,1,1))+1),ROW($DF8)-ROW($DF$7))),"")} -> Female | DP8: =IFERROR(INDEX(IF(DP$5="d",DateTable,MainTable),$C8,DQ$5),"") -> USA | DQ8: =IFERROR(IF(COUNTIF($DP$8:$DP8,DP8)>1,"",DP8),"") -> USA | DR8: {=IFERROR(INDEX(filter4,SMALL(IF(LEN(filter4)>0,ROW(filter4)-ROW(INDEX(filter4,1,1))+1),ROW($DF8)-ROW($DF$7))),"")} -> USA | DT8: Max | DU8: =IFERROR(MAX(DT9:$DT$102),100) -> 34 | DW8: =IFERROR(IF(COUNTIF($AX$8:$AX8,AX8)>1,"",AX8),"") -> 2022 | DX8: {=IFERROR(INDEX($DW$8:$DW$26,SMALL(IF(LEN($DW$8:$DW$26)>0,ROW($DW$8:$DW$26)-ROW(INDEX($DW$8:$DW$26,1,1))+1),ROW($DF8)-ROW($DF$7))),"")} -> 2022 | DZ8: Box 1 | EA8: =IFERROR(IF(AND(List!C$5="",List!D$5="",List!E$5=""),Calc!DZ18,""),"") | EC8: Error Check | ED8: =IFERROR(IF(List!D$5="","",IF(COUNTIF(Calc!$BR$8:$BR$53,List!D$5)>0,"","x")),"") | EE8: =IFERROR(IF(List!E$5="","",IF(COUNTIF(Calc!$BR$8:$BR$53,List!E$5)>0,"","x")),"") | EF8: =IFERROR(IF(List!F$5="","",IF(COUNTIF(Calc!$BR$8:$BR$53,List!F$5)>0,"","x")),"") | EG8: =IFERROR(IF(List!G$5="","",IF(COUNTIF(Calc!$BR$8:$BR$53,List!G$5)>0,"","x")),"") | EH8: =IFERROR(IF(List!H$5="","",IF(COUNTIF(Calc!$BR$8:$BR$53,List!H$5)>0,"","x")),"") | EI8: =IFERROR(IF(List!I$5="","",IF(COUNTIF(Calc!$BR$8:$BR$53,List!I$5)>0,"","x")),"") | EJ8: =IFERROR(IF(List!J$5="","",IF(COUNTIF(Calc!$BR$8:$BR$53,List!J$5)>0,"","x")),"") | EK8: =IFERROR(IF(List!K$5="","",IF(COUNTIF(Calc!$BR$8:$BR$53,List!K$5)>0,"","x")),"") | ... EM8: =IFERROR(IF(List!M$5="","",IF(COUNTIF(Calc!$BR$8:$BR$53,List!M$5)>0,"","x")),"") | EO8: =IFERROR(IF(List!B7="","",IF(COUNTIF(Calc!$BR$8:$BR$53,List!B7)>0,"","x")),"")
C9: 2 | D9: =IFERROR(IF(INDEX(database[],$C9,D$6)=0,"",INDEX(database[],$C9,D$6)),"") -> M-0002 | E9: =IFERROR(IF(INDEX(database[],$C9,E$6)=0,"",INDEX(database[],$C9,E$6)),"") -> Mercedes Banks | F9: =IFERROR(IF(INDEX(database[],$C9,F$6)=0,"",INDEX(database[],$C9,F$6)),"") -> 44593 | G9: =IFERROR(IF(INDEX(database[],$C9,G$6)=0,"",INDEX(database[],$C9,G$6)),"") -> Reference | H9: =IFERROR(IF(INDEX(database[],$C9,H$6)=0,"",INDEX(database[],$C9,H$6)),"") -> Main Office | I9: =IFERROR(IF(INDEX(database[],$C9,I$6)=0,"",INDEX(database[],$C9,I$6)),"") -> Accounting | J9: =IFERROR(IF(INDEX(database[],$C9,J$6)=0,"",INDEX(database[],$C9,J$6)),"") -> Full Time | K9: =IFERROR(IF(INDEX(database[],$C9,K$6)=0,"",INDEX(database[],$C9,K$6)),"") -> Vice-Director | ... AV9: =IFERROR(IF(INDEX(database[],$C9,AV$6)=0,"",INDEX(database[],$C9,AV$6)),"") | AW9: =IFERROR(IF(INDEX(MainTable,$C9,$BQ$68)="",INDEX(MainTable,$C9,$BQ$69),INDEX(MainTable,$C9,$BQ$68)&"-"&INDEX(MainTable,$C9,$BQ$69)),"") -> M-0002-Mercedes Banks | AX9: =IFERROR(YEAR(BD9),"") -> 2022 | AY9: =IFERROR(YEAR(BF9),"") | AZ9: =IFERROR(YEAR(BE9),"") -> 1976 | BA9: =IFERROR(DATEDIF(BE9,TODAY(),"y"),"") -> 46 | BB9: =IFERROR(IF(LEN(BA9)=0,"",IF(BA9<18,$CO$54,IF(AND(BA9>=18,BA9<31),$CO$55,IF(AND(BA9>=31,BA9<41),$CO$56,IF(AND(BA9>=41,BA9<50),$CO$57,IF(AND(BA9>=51,BA9<60),$CO$58,IF(BA9>=61,$CO$59,""))))))),"") -> 41-50 | BC9: =IFERROR(INDEX(MainTable,$C9,BC$6),"") -> 11000 | BD9: =IFERROR(INDEX(MainTable,$C9,BD$6),"") -> 44593 | BE9: =IFERROR(INDEX(MainTable,$C9,BE$6),"") -> 27989 | BF9: =IFERROR(INDEX(MainTable,$C9,BF$6),"") | BG9: =IFERROR(INDEX(MainTable,$C9,BG$6),"") | BH9: =IFERROR(INDEX(MainTable,$C9,BH$6),"") | BI9: =IFERROR(INDEX(MainTable,$C9,BI$6),"") | BJ9: =IFERROR(IF(order=123,DAY(BD9)&connector&IF(desc="Extended",INDEX(months,MONTH(BD9),1),MONTH(BD9))&connector&IF(desc="Short", RIGHT(YEAR(BD9),2),YEAR(BD9)),IF(order=213, MONTH(BD9)&connector&DAY(BD9)&connector&IF(desc="Short", RIGHT(YEAR(BD9),2),YEAR(BD9)),IF(desc="Short", RIGHT(YEAR(BD9),2),YEAR(BD9))&connector&MONTH(BD9)&connector&DAY(BD9))),BD9) -> 1 Feb 2022 | BK9: =IFERROR(IF(order=123,DAY(BE9)&connector&IF(desc="Extended",INDEX(months,MONTH(BE9),1),MONTH(BE9))&connector&IF(desc="Short", RIGHT(YEAR(BE9),2),YEAR(BE9)),IF(order=213, MONTH(BE9)&connector&DAY(BE9)&connector&IF(desc="Short", RIGHT(YEAR(BE9),2),YEAR(BE9)),IF(desc="Short", RIGHT(YEAR(BE9),2),YEAR(BE9))&connector&MONTH(BE9)&connector&DAY(BE9))),BE9) -> 17 Aug 1976 | BL9: =IFERROR(IF(order=123,DAY(BF9)&connector&IF(desc="Extended",INDEX(months,MONTH(BF9),1),MONTH(BF9))&connector&IF(desc="Short", RIGHT(YEAR(BF9),2),YEAR(BF9)),IF(order=213, MONTH(BF9)&connector&DAY(BF9)&connector&IF(desc="Short", RIGHT(YEAR(BF9),2),YEAR(BF9)),IF(desc="Short", RIGHT(YEAR(BF9),2),YEAR(BF9))&connector&MONTH(BF9)&connector&DAY(BF9))),BF9) | BM9: =IFERROR(IF(order=123,DAY(BG9)&connector&IF(desc="Extended",INDEX(months,MONTH(BG9),1),MONTH(BG9))&connector&IF(desc="Short", RIGHT(YEAR(BG9),2),YEAR(BG9)),IF(order=213, MONTH(BG9)&connector&DAY(BG9)&connector&IF(desc="Short", RIGHT(YEAR(BG9),2),YEAR(BG9)),IF(desc="Short", RIGHT(YEAR(BG9),2),YEAR(BG9))&connector&MONTH(BG9)&connector&DAY(BG9))),BG9) | BN9: =IFERROR(IF(order=123,DAY(BH9)&connector&IF(desc="Extended",INDEX(months,MONTH(BH9),1),MONTH(BH9))&connector&IF(desc="Short", RIGHT(YEAR(BH9),2),YEAR(BH9)),IF(order=213, MONTH(BH9)&connector&DAY(BH9)&connector&IF(desc="Short", RIGHT(YEAR(BH9),2),YEAR(BH9)),IF(desc="Short", RIGHT(YEAR(BH9),2),YEAR(BH9))&connector&MONTH(BH9)&connector&DAY(BH9))),BH9) | BO9: =IFERROR(IF(order=123,DAY(BI9)&connector&IF(desc="Extended",INDEX(months,MONTH(BI9),1),MONTH(BI9))&connector&IF(desc="Short", RIGHT(YEAR(BI9),2),YEAR(BI9)),IF(order=213, MONTH(BI9)&connector&DAY(BI9)&connector&IF(desc="Short", RIGHT(YEAR(BI9),2),YEAR(BI9)),IF(desc="Short", RIGHT(YEAR(BI9),2),YEAR(BI9))&connector&MONTH(BI9)&connector&DAY(BI9))),BI9) | BQ9: 2 | BR9: =IFERROR(INDEX(database[#Headers],0,BQ9),"") -> Name | BU9: =IFERROR(IF(OR(BU$7="",List!$B$8="",List!$B$8="All"),1,IF(List!$B$8=INDEX(IF(BU$5="d",DateTable,MainTable),$C9,BU$6),1,0)),0) -> 1 | BV9: =IFERROR(IF(OR(BV$7="",List!$B$11="",List!$B$11="All"),1,IF(List!$B$11=INDEX(IF(BV$5="d",DateTable,MainTable),$C9,BV$6),1,0)),0) -> 1 | BW9: =IFERROR(IF(OR(BW$7="",List!$B$14="",List!$B$14="All"),1,IF(List!$B$14=INDEX(IF(BW$5="d",DateTable,MainTable),$C9,BW$6),1,0)),0) -> 1 | BX9: =IFERROR(IF(OR(BX$7="",List!$B$17="",List!$B$17="All"),1,IF(List!$B$17=INDEX(IF(BX$5="d",DateTable,MainTable),$C9,BX$6),1,0)),0) -> 1 | BY9: =BU9*BV9*BW9*BX9 -> 1 | CA9: =IFERROR(IF(OR(AND(D9="",E9=""),BY9=0),"",$C9),"") -> 2 | CB9: =IFERROR(SMALL($CA$8:$CA$26,$C9),"") -> 2 | CD9: =IFERROR(IF(OR(Dashboard!$C$7="",Dashboard!$C$7="All"),1,IF(Dashboard!$C$7=INDEX(MainTable,$C9,CD$6),1,0)),0) -> 1 | CE9: =IFERROR(IF(OR(Dashboard!$E$7="",Dashboard!$E$7="All"),1,IF(Dashboard!$E$7=INDEX(MainTable,$C9,CE$6),1,0)),0) -> 1 | CF9: =IFERROR(IF(OR(Dashboard!$G$7="",Dashboard!$G$7="All"),1,IF(Dashboard!$G$7=INDEX(MainTable,$C9,CF$6),1,0)),0) -> 1 | CG9: =IFERROR(IF(OR(Dashboard!$I$7="",Dashboard!$I$7="All"),1,IF(Dashboard!$I$7=INDEX(MainTable,$C9,CG$6),1,0)),0) -> 1 | CH9: =CD9*CE9*CF9*CG9 -> 1 | CJ9: =IFERROR(IF(AND($AX9<$CM$5,OR($AY9="",$AY9>=CM$5)),1,0),0) -> 1 | CK9: =IFERROR(IF(AND($AX9<=$CM$5,OR($AY9="",$AY9>$CM$5)),1,0),0) -> 1 | CL9: =IFERROR(IF($AY9="",0,IF($AY9=$CM$5,1,0)),0) -> 0 | CM9: =IFERROR(IF($AX9="",0,IF($AX9=$CM$5,1,0)),0) -> 0 | CO9: Head Count | CP9: {=IFERROR(SUMPRODUCT((AW8:AW26<>"")*($CH$8:$CH$26)),"")} -> 15 | DA9: =IFERROR(IF(Settings!C10="","",Settings!C10),"") -> Main Office | DC9: =IFERROR(IF(Settings!E10="","",Settings!E10),"") -> Operations | DE9: =IFERROR(IF(Settings!G10="","",Settings!G10),"") -> Director | DG9: =IFERROR(INDEX(IF(DG$5="d",DateTable,MainTable),$C9,DH$5),"") -> Accounting | DH9: =IFERROR(IF(COUNTIF($DG$8:$DG9,DG9)>1,"",DG9),"") -> Accounting | DI9: {=IFERROR(INDEX(filter1,SMALL(IF(LEN(filter1)>0,ROW(filter1)-ROW(INDEX(filter1,1,1))+1),ROW($DF9)-ROW($DF$7))),"")} -> Accounting | DJ9: =IFERROR(INDEX(IF(DJ$5="d",DateTable,MainTable),$C9,DK$5),"") -> Bachelor's Degree | DK9: =IFERROR(IF(COUNTIF($DJ$8:$DJ9,DJ9)>1,"",DJ9),"") | DL9: {=IFERROR(INDEX(filter2,SMALL(IF(LEN(filter2)>0,ROW(filter2)-ROW(INDEX(filter2,1,1))+1),ROW($DF9)-ROW($DF$7))),"")} -> Postgraduate Degree | DM9: =IFERROR(INDEX(IF(DM$5="d",DateTable,MainTable),$C9,DN$5),"") -> Female | DN9: =IFERROR(IF(COUNTIF($DM$8:$DM9,DM9)>1,"",DM9),"") | DO9: {=IFERROR(INDEX(filter3,SMALL(IF(LEN(filter3)>0,ROW(filter3)-ROW(INDEX(filter3,1,1))+1),ROW($DF9)-ROW($DF$7))),"")} -> Male | DP9: =IFERROR(INDEX(IF(DP$5="d",DateTable,MainTable),$C9,DQ$5),"") -> Colombia | DQ9: =IFERROR(IF(COUNTIF($DP$8:$DP9,DP9)>1,"",DP9),"") -> Colombia | DR9: {=IFERROR(INDEX(filter4,SMALL(IF(LEN(filter4)>0,ROW(filter4)-ROW(INDEX(filter4,1,1))+1),ROW($DF9)-ROW($DF$7))),"")} -> Colombia | DT9: 8 | DW9: =IFERROR(IF(COUNTIF($AX$8:$AX9,AX9)>1,"",AX9),"") | DX9: {=IFERROR(INDEX($DW$8:$DW$26,SMALL(IF(LEN($DW$8:$DW$26)>0,ROW($DW$8:$DW$26)-ROW(INDEX($DW$8:$DW$26,1,1))+1),ROW($DF9)-ROW($DF$7))),"")} -> 2023 | DZ9: Box 2 | EA9: =IFERROR(IF(AND(List!D$5<>"",List!E$5="",List!F$5=""),Calc!$DZ$18,""),"") | EC9: Date Check | ED9: =IFERROR(INDEX(Calc!$D$5:$AV$5,1,MATCH(List!D$5,Headers,0)),"") | EE9: =IFERROR(INDEX(Calc!$D$5:$AV$5,1,MATCH(List!E$5,Headers,0)),"") | EF9: =IFERROR(INDEX(Calc!$D$5:$AV$5,1,MATCH(List!F$5,Headers,0)),"") -> d | EG9: =IFERROR(INDEX(Calc!$D$5:$AV$5,1,MATCH(List!G$5,Headers,0)),"") | EH9: =IFERROR(INDEX(Calc!$D$5:$AV$5,1,MATCH(List!H$5,Headers,0)),"") | EI9: =IFERROR(INDEX(Calc!$D$5:$AV$5,1,MATCH(List!I$5,Headers,0)),"") | EJ9: =IFERROR(INDEX(Calc!$D$5:$AV$5,1,MATCH(List!J$5,Headers,0)),"") | EK9: =IFERROR(INDEX(Calc!$D$5:$AV$5,1,MATCH(List!K$5,Headers,0)),"") | ... EM9: =IFERROR(INDEX(Calc!$D$5:$AV$5,1,MATCH(List!M$5,Headers,0)),"") | EO9: =IFERROR(IF(List!B10="","",IF(COUNTIF(Calc!$BR$8:$BR$53,List!B10)>0,"","x")),"")
C10: 3 | D10: =IFERROR(IF(INDEX(database[],$C10,D$6)=0,"",INDEX(database[],$C10,D$6)),"") -> M-0003 | E10: =IFERROR(IF(INDEX(database[],$C10,E$6)=0,"",INDEX(database[],$C10,E$6)),"") -> Macauley Peck | F10: =IFERROR(IF(INDEX(database[],$C10,F$6)=0,"",INDEX(database[],$C10,F$6)),"") -> 44713 | G10: =IFERROR(IF(INDEX(database[],$C10,G$6)=0,"",INDEX(database[],$C10,G$6)),"") -> Reference | H10: =IFERROR(IF(INDEX(database[],$C10,H$6)=0,"",INDEX(database[],$C10,H$6)),"") -> Main Office | I10: =IFERROR(IF(INDEX(database[],$C10,I$6)=0,"",INDEX(database[],$C10,I$6)),"") -> Marketing | J10: =IFERROR(IF(INDEX(database[],$C10,J$6)=0,"",INDEX(database[],$C10,J$6)),"") -> Full Time | K10: =IFERROR(IF(INDEX(database[],$C10,K$6)=0,"",INDEX(database[],$C10,K$6)),"") -> Vice-Director | ... AV10: =IFERROR(IF(INDEX(database[],$C10,AV$6)=0,"",INDEX(database[],$C10,AV$6)),"") | AW10: =IFERROR(IF(INDEX(MainTable,$C10,$BQ$68)="",INDEX(MainTable,$C10,$BQ$69),INDEX(MainTable,$C10,$BQ$68)&"-"&INDEX(MainTable,$C10,$BQ$69)),"") -> M-0003-Macauley Peck | AX10: =IFERROR(YEAR(BD10),"") -> 2022 | AY10: =IFERROR(YEAR(BF10),"") | AZ10: =IFERROR(YEAR(BE10),"") -> 1979 | BA10: =IFERROR(DATEDIF(BE10,TODAY(),"y"),"") -> 43 | BB10: =IFERROR(IF(LEN(BA10)=0,"",IF(BA10<18,$CO$54,IF(AND(BA10>=18,BA10<31),$CO$55,IF(AND(BA10>=31,BA10<41),$CO$56,IF(AND(BA10>=41,BA10<50),$CO$57,IF(AND(BA10>=51,BA10<60),$CO$58,IF(BA10>=61,$CO$59,""))))))),"") -> 41-50 | BC10: =IFERROR(INDEX(MainTable,$C10,BC$6),"") -> 11000 | BD10: =IFERROR(INDEX(MainTable,$C10,BD$6),"") -> 44713 | BE10: =IFERROR(INDEX(MainTable,$C10,BE$6),"") -> 29116 | BF10: =IFERROR(INDEX(MainTable,$C10,BF$6),"") | BG10: =IFERROR(INDEX(MainTable,$C10,BG$6),"") | BH10: =IFERROR(INDEX(MainTable,$C10,BH$6),"") | BI10: =IFERROR(INDEX(MainTable,$C10,BI$6),"") | BJ10: =IFERROR(IF(order=123,DAY(BD10)&connector&IF(desc="Extended",INDEX(months,MONTH(BD10),1),MONTH(BD10))&connector&IF(desc="Short", RIGHT(YEAR(BD10),2),YEAR(BD10)),IF(order=213, MONTH(BD10)&connector&DAY(BD10)&connector&IF(desc="Short", RIGHT(YEAR(BD10),2),YEAR(BD10)),IF(desc="Short", RIGHT(YEAR(BD10),2),YEAR(BD10))&connector&MONTH(BD10)&connector&DAY(BD10))),BD10) -> 1 Jun 2022 | BK10: =IFERROR(IF(order=123,DAY(BE10)&connector&IF(desc="Extended",INDEX(months,MONTH(BE10),1),MONTH(BE10))&connector&IF(desc="Short", RIGHT(YEAR(BE10),2),YEAR(BE10)),IF(order=213, MONTH(BE10)&connector&DAY(BE10)&connector&IF(desc="Short", RIGHT(YEAR(BE10),2),YEAR(BE10)),IF(desc="Short", RIGHT(YEAR(BE10),2),YEAR(BE10))&connector&MONTH(BE10)&connector&DAY(BE10))),BE10) -> 18 Sep 1979 | BL10: =IFERROR(IF(order=123,DAY(BF10)&connector&IF(desc="Extended",INDEX(months,MONTH(BF10),1),MONTH(BF10))&connector&IF(desc="Short", RIGHT(YEAR(BF10),2),YEAR(BF10)),IF(order=213, MONTH(BF10)&connector&DAY(BF10)&connector&IF(desc="Short", RIGHT(YEAR(BF10),2),YEAR(BF10)),IF(desc="Short", RIGHT(YEAR(BF10),2),YEAR(BF10))&connector&MONTH(BF10)&connector&DAY(BF10))),BF10) | BM10: =IFERROR(IF(order=123,DAY(BG10)&connector&IF(desc="Extended",INDEX(months,MONTH(BG10),1),MONTH(BG10))&connector&IF(desc="Short", RIGHT(YEAR(BG10),2),YEAR(BG10)),IF(order=213, MONTH(BG10)&connector&DAY(BG10)&connector&IF(desc="Short", RIGHT(YEAR(BG10),2),YEAR(BG10)),IF(desc="Short", RIGHT(YEAR(BG10),2),YEAR(BG10))&connector&MONTH(BG10)&connector&DAY(BG10))),BG10) | BN10: =IFERROR(IF(order=123,DAY(BH10)&connector&IF(desc="Extended",INDEX(months,MONTH(BH10),1),MONTH(BH10))&connector&IF(desc="Short", RIGHT(YEAR(BH10),2),YEAR(BH10)),IF(order=213, MONTH(BH10)&connector&DAY(BH10)&connector&IF(desc="Short", RIGHT(YEAR(BH10),2),YEAR(BH10)),IF(desc="Short", RIGHT(YEAR(BH10),2),YEAR(BH10))&connector&MONTH(BH10)&connector&DAY(BH10))),BH10) | BO10: =IFERROR(IF(order=123,DAY(BI10)&connector&IF(desc="Extended",INDEX(months,MONTH(BI10),1),MONTH(BI10))&connector&IF(desc="Short", RIGHT(YEAR(BI10),2),YEAR(BI10)),IF(order=213, MONTH(BI10)&connector&DAY(BI10)&connector&IF(desc="Short", RIGHT(YEAR(BI10),2),YEAR(BI10)),IF(desc="Short", RIGHT(YEAR(BI10),2),YEAR(BI10))&connector&MONTH(BI10)&connector&DAY(BI10))),BI10) | BQ10: 3 | BR10: =IFERROR(INDEX(database[#Headers],0,BQ10),"") -> Hiring Date | BU10: =IFERROR(IF(OR(BU$7="",List!$B$8="",List!$B$8="All"),1,IF(List!$B$8=INDEX(IF(BU$5="d",DateTable,MainTable),$C10,BU$6),1,0)),0) -> 1 | BV10: =IFERROR(IF(OR(BV$7="",List!$B$11="",List!$B$11="All"),1,IF(List!$B$11=INDEX(IF(BV$5="d",DateTable,MainTable),$C10,BV$6),1,0)),0) -> 1 | BW10: =IFERROR(IF(OR(BW$7="",List!$B$14="",List!$B$14="All"),1,IF(List!$B$14=INDEX(IF(BW$5="d",DateTable,MainTable),$C10,BW$6),1,0)),0) -> 1 | BX10: =IFERROR(IF(OR(BX$7="",List!$B$17="",List!$B$17="All"),1,IF(List!$B$17=INDEX(IF(BX$5="d",DateTable,MainTable),$C10,BX$6),1,0)),0) -> 1 | BY10: =BU10*BV10*BW10*BX10 -> 1 | CA10: =IFERROR(IF(OR(AND(D10="",E10=""),BY10=0),"",$C10),"") -> 3 | CB10: =IFERROR(SMALL($CA$8:$CA$26,$C10),"") -> 3 | CD10: =IFERROR(IF(OR(Dashboard!$C$7="",Dashboard!$C$7="All"),1,IF(Dashboard!$C$7=INDEX(MainTable,$C10,CD$6),1,0)),0) -> 1 | CE10: =IFERROR(IF(OR(Dashboard!$E$7="",Dashboard!$E$7="All"),1,IF(Dashboard!$E$7=INDEX(MainTable,$C10,CE$6),1,0)),0) -> 1 | CF10: =IFERROR(IF(OR(Dashboard!$G$7="",Dashboard!$G$7="All"),1,IF(Dashboard!$G$7=INDEX(MainTable,$C10,CF$6),1,0)),0) -> 1 | CG10: =IFERROR(IF(OR(Dashboard!$I$7="",Dashboard!$I$7="All"),1,IF(Dashboard!$I$7=INDEX(MainTable,$C10,CG$6),1,0)),0) -> 1 | CH10: =CD10*CE10*CF10*CG10 -> 1 | CJ10: =IFERROR(IF(AND($AX10<$CM$5,OR($AY10="",$AY10>=CM$5)),1,0),0) -> 1 | CK10: =IFERROR(IF(AND($AX10<=$CM$5,OR($AY10="",$AY10>$CM$5)),1,0),0) -> 1 | CL10: =IFERROR(IF($AY10="",0,IF($AY10=$CM$5,1,0)),0) -> 0 | CM10: =IFERROR(IF($AX10="",0,IF($AX10=$CM$5,1,0)),0) -> 0 | CO10: Real Count | CP10: {=IFERROR(SUMPRODUCT((AW8:AW26<>"")*($BC$8:$BC$26<>"")*($BY$8:$BY$26)),"")} -> 12 | CU10: Months | CW10: connector | CX10: order | CY10: desciption | DA10: =IFERROR(IF(Settings!C11="","",Settings!C11),"") -> North Office | DC10: =IFERROR(IF(Settings!E11="","",Settings!E11),"") -> Marketing | DE10: =IFERROR(IF(Settings!G11="","",Settings!G11),"") -> Vice-Director | DG10: =IFERROR(INDEX(IF(DG$5="d",DateTable,MainTable),$C10,DH$5),"") -> Marketing | DH10: =IFERROR(IF(COUNTIF($DG$8:$DG10,DG10)>1,"",DG10),"") -> Marketing | DI10: {=IFERROR(INDEX(filter1,SMALL(IF(LEN(filter1)>0,ROW(filter1)-ROW(INDEX(filter1,1,1))+1),ROW($DF10)-ROW($DF$7))),"")} -> Marketing | DJ10: =IFERROR(INDEX(IF(DJ$5="d",DateTable,MainTable),$C10,DK$5),"") -> Postgraduate Degree | DK10: =IFERROR(IF(COUNTIF($DJ$8:$DJ10,DJ10)>1,"",DJ10),"") -> Postgraduate Degree | DL10: {=IFERROR(INDEX(filter2,SMALL(IF(LEN(filter2)>0,ROW(filter2)-ROW(INDEX(filter2,1,1))+1),ROW($DF10)-ROW($DF$7))),"")} -> High School | DM10: =IFERROR(INDEX(IF(DM$5="d",DateTable,MainTable),$C10,DN$5),"") -> Male | DN10: =IFERROR(IF(COUNTIF($DM$8:$DM10,DM10)>1,"",DM10),"") -> Male | DO10: {=IFERROR(INDEX(filter3,SMALL(IF(LEN(filter3)>0,ROW(filter3)-ROW(INDEX(filter3,1,1))+1),ROW($DF10)-ROW($DF$7))),"")} | DP10: =IFERROR(INDEX(IF(DP$5="d",DateTable,MainTable),$C10,DQ$5),"") -> USA | DQ10: =IFERROR(IF(COUNTIF($DP$8:$DP10,DP10)>1,"",DP10),"") | DR10: {=IFERROR(INDEX(filter4,SMALL(IF(LEN(filter4)>0,ROW(filter4)-ROW(INDEX(filter4,1,1))+1),ROW($DF10)-ROW($DF$7))),"")} -> China | DT10: =IFERROR(IF(OR(LEN(Form!C9)>0,LEN(Form!D9)>0,LEN(Form!G9)>0),ROW(Form!A9),""),"") -> 9 | DW10: =IFERROR(IF(COUNTIF($AX$8:$AX10,AX10)>1,"",AX10),"") | DX10: {=IFERROR(INDEX($DW$8:$DW$26,SMALL(IF(LEN($DW$8:$DW$26)>0,ROW($DW$8:$DW$26)-ROW(INDEX($DW$8:$DW$26,1,1))+1),ROW($DF10)-ROW($DF$7))),"")} | DZ10: Box 3 | EA10: =IFERROR(IF(AND(List!E$5<>"",List!F$5="",List!G$5=""),Calc!$DZ$18,""),"") | EC10: Header Index | ED10: =IFERROR(IF(ED$9="d",MATCH(List!D$5,DateHeaders,0),MATCH(List!D$5,Headers,0)),"") -> 2 | EE10: =IFERROR(IF(EE$9="d",MATCH(List!E$5,DateHeaders,0),MATCH(List!E$5,Headers,0)),"") -> 5 | EF10: =IFERROR(IF(EF$9="d",MATCH(List!F$5,DateHeaders,0),MATCH(List!F$5,Headers,0)),"") -> 2 | EG10: =IFERROR(IF(EG$9="d",MATCH(List!G$5,DateHeaders,0),MATCH(List!G$5,Headers,0)),"") -> 17 | EH10: =IFERROR(IF(EH$9="d",MATCH(List!H$5,DateHeaders,0),MATCH(List!H$5,Headers,0)),"") -> 28 | EI10: =IFERROR(IF(EI$9="d",MATCH(List!I$5,DateHeaders,0),MATCH(List!I$5,Headers,0)),"") -> 18 | EJ10: =IFERROR(IF(EJ$9="d",MATCH(List!J$5,DateHeaders,0),MATCH(List!J$5,Headers,0)),"") | EK10: =IFERROR(IF(EK$9="d",MATCH(List!K$5,DateHeaders,0),MATCH(List!K$5,Headers,0)),"") | ... EM10: =IFERROR(IF(EM$9="d",MATCH(List!M$5,DateHeaders,0),MATCH(List!M$5,Headers,0)),"") | EO10: =IFERROR(IF(List!B13="","",IF(COUNTIF(Calc!$BR$8:$BR$53,List!B13)>0,"","x")),"")
C11: 4 | D11: =IFERROR(IF(INDEX(database[],$C11,D$6)=0,"",INDEX(database[],$C11,D$6)),"") -> M-0004 | E11: =IFERROR(IF(INDEX(database[],$C11,E$6)=0,"",INDEX(database[],$C11,E$6)),"") -> Hannah Shaw | F11: =IFERROR(IF(INDEX(database[],$C11,F$6)=0,"",INDEX(database[],$C11,F$6)),"") -> 44562 | G11: =IFERROR(IF(INDEX(database[],$C11,G$6)=0,"",INDEX(database[],$C11,G$6)),"") -> Website | H11: =IFERROR(IF(INDEX(database[],$C11,H$6)=0,"",INDEX(database[],$C11,H$6)),"") -> Main Office | I11: =IFERROR(IF(INDEX(database[],$C11,I$6)=0,"",INDEX(database[],$C11,I$6)),"") -> Sales | J11: =IFERROR(IF(INDEX(database[],$C11,J$6)=0,"",INDEX(database[],$C11,J$6)),"") -> Full Time | K11: =IFERROR(IF(INDEX(database[],$C11,K$6)=0,"",INDEX(database[],$C11,K$6)),"") -> Expert | ... AV11: =IFERROR(IF(INDEX(database[],$C11,AV$6)=0,"",INDEX(database[],$C11,AV$6)),"") | AW11: =IFERROR(IF(INDEX(MainTable,$C11,$BQ$68)="",INDEX(MainTable,$C11,$BQ$69),INDEX(MainTable,$C11,$BQ$68)&"-"&INDEX(MainTable,$C11,$BQ$69)),"") -> M-0004-Hannah Shaw | AX11: =IFERROR(YEAR(BD11),"") -> 2022 | AY11: =IFERROR(YEAR(BF11),"") -> 2023 | AZ11: =IFERROR(YEAR(BE11),"") -> 1980 | BA11: =IFERROR(DATEDIF(BE11,TODAY(),"y"),"") -> 43 | BB11: =IFERROR(IF(LEN(BA11)=0,"",IF(BA11<18,$CO$54,IF(AND(BA11>=18,BA11<31),$CO$55,IF(AND(BA11>=31,BA11<41),$CO$56,IF(AND(BA11>=41,BA11<50),$CO$57,IF(AND(BA11>=51,BA11<60),$CO$58,IF(BA11>=61,$CO$59,""))))))),"") -> 41-50 | BC11: =IFERROR(INDEX(MainTable,$C11,BC$6),"") | BD11: =IFERROR(INDEX(MainTable,$C11,BD$6),"") -> 44562 | BE11: =IFERROR(INDEX(MainTable,$C11,BE$6),"") -> 29297 | BF11: =IFERROR(INDEX(MainTable,$C11,BF$6),"") -> 44959 | BG11: =IFERROR(INDEX(MainTable,$C11,BG$6),"") | BH11: =IFERROR(INDEX(MainTable,$C11,BH$6),"") | BI11: =IFERROR(INDEX(MainTable,$C11,BI$6),"") | BJ11: =IFERROR(IF(order=123,DAY(BD11)&connector&IF(desc="Extended",INDEX(months,MONTH(BD11),1),MONTH(BD11))&connector&IF(desc="Short", RIGHT(YEAR(BD11),2),YEAR(BD11)),IF(order=213, MONTH(BD11)&connector&DAY(BD11)&connector&IF(desc="Short", RIGHT(YEAR(BD11),2),YEAR(BD11)),IF(desc="Short", RIGHT(YEAR(BD11),2),YEAR(BD11))&connector&MONTH(BD11)&connector&DAY(BD11))),BD11) -> 1 Jan 2022 | BK11: =IFERROR(IF(order=123,DAY(BE11)&connector&IF(desc="Extended",INDEX(months,MONTH(BE11),1),MONTH(BE11))&connector&IF(desc="Short", RIGHT(YEAR(BE11),2),YEAR(BE11)),IF(order=213, MONTH(BE11)&connector&DAY(BE11)&connector&IF(desc="Short", RIGHT(YEAR(BE11),2),YEAR(BE11)),IF(desc="Short", RIGHT(YEAR(BE11),2),YEAR(BE11))&connector&MONTH(BE11)&connector&DAY(BE11))),BE11) -> 17 Mar 1980 | BL11: =IFERROR(IF(order=123,DAY(BF11)&connector&IF(desc="Extended",INDEX(months,MONTH(BF11),1),MONTH(BF11))&connector&IF(desc="Short", RIGHT(YEAR(BF11),2),YEAR(BF11)),IF(order=213, MONTH(BF11)&connector&DAY(BF11)&connector&IF(desc="Short", RIGHT(YEAR(BF11),2),YEAR(BF11)),IF(desc="Short", RIGHT(YEAR(BF11),2),YEAR(BF11))&connector&MONTH(BF11)&connector&DAY(BF11))),BF11) -> 2 Feb 2023 | BM11: =IFERROR(IF(order=123,DAY(BG11)&connector&IF(desc="Extended",INDEX(months,MONTH(BG11),1),MONTH(BG11))&connector&IF(desc="Short", RIGHT(YEAR(BG11),2),YEAR(BG11)),IF(order=213, MONTH(BG11)&connector&DAY(BG11)&connector&IF(desc="Short", RIGHT(YEAR(BG11),2),YEAR(BG11)),IF(desc="Short", RIGHT(YEAR(BG11),2),YEAR(BG11))&connector&MONTH(BG11)&connector&DAY(BG11))),BG11) | BN11: =IFERROR(IF(order=123,DAY(BH11)&connector&IF(desc="Extended",INDEX(months,MONTH(BH11),1),MONTH(BH11))&connector&IF(desc="Short", RIGHT(YEAR(BH11),2),YEAR(BH11)),IF(order=213, MONTH(BH11)&connector&DAY(BH11)&connector&IF(desc="Short", RIGHT(YEAR(BH11),2),YEAR(BH11)),IF(desc="Short", RIGHT(YEAR(BH11),2),YEAR(BH11))&connector&MONTH(BH11)&connector&DAY(BH11))),BH11) | BO11: =IFERROR(IF(order=123,DAY(BI11)&connector&IF(desc="Extended",INDEX(months,MONTH(BI11),1),MONTH(BI11))&connector&IF(desc="Short", RIGHT(YEAR(BI11),2),YEAR(BI11)),IF(order=213, MONTH(BI11)&connector&DAY(BI11)&connector&IF(desc="Short", RIGHT(YEAR(BI11),2),YEAR(BI11)),IF(desc="Short", RIGHT(YEAR(BI11),2),YEAR(BI11))&connector&MONTH(BI11)&connector&DAY(BI11))),BI11) | BQ11: 4 | BR11: =IFERROR(INDEX(database[#Headers],0,BQ11),"") -> Hiring Source | BU11: =IFERROR(IF(OR(BU$7="",List!$B$8="",List!$B$8="All"),1,IF(List!$B$8=INDEX(IF(BU$5="d",DateTable,MainTable),$C11,BU$6),1,0)),0) -> 1 | BV11: =IFERROR(IF(OR(BV$7="",List!$B$11="",List!$B$11="All"),1,IF(List!$B$11=INDEX(IF(BV$5="d",DateTable,MainTable),$C11,BV$6),1,0)),0) -> 1 | BW11: =IFERROR(IF(OR(BW$7="",List!$B$14="",List!$B$14="All"),1,IF(List!$B$14=INDEX(IF(BW$5="d",DateTable,MainTable),$C11,BW$6),1,0)),0) -> 1 | BX11: =IFERROR(IF(OR(BX$7="",List!$B$17="",List!$B$17="All"),1,IF(List!$B$17=INDEX(IF(BX$5="d",DateTable,MainTable),$C11,BX$6),1,0)),0) -> 1 | BY11: =BU11*BV11*BW11*BX11 -> 1 | CA11: =IFERROR(IF(OR(AND(D11="",E11=""),BY11=0),"",$C11),"") -> 4 | CB11: =IFERROR(SMALL($CA$8:$CA$26,$C11),"") -> 4 | CD11: =IFERROR(IF(OR(Dashboard!$C$7="",Dashboard!$C$7="All"),1,IF(Dashboard!$C$7=INDEX(MainTable,$C11,CD$6),1,0)),0) -> 1 | CE11: =IFERROR(IF(OR(Dashboard!$E$7="",Dashboard!$E$7="All"),1,IF(Dashboard!$E$7=INDEX(MainTable,$C11,CE$6),1,0)),0) -> 1 | CF11: =IFERROR(IF(OR(Dashboard!$G$7="",Dashboard!$G$7="All"),1,IF(Dashboard!$G$7=INDEX(MainTable,$C11,CF$6),1,0)),0) -> 1 | CG11: =IFERROR(IF(OR(Dashboard!$I$7="",Dashboard!$I$7="All"),1,IF(Dashboard!$I$7=INDEX(MainTable,$C11,CG$6),1,0)),0) -> 1 | CH11: =CD11*CE11*CF11*CG11 -> 1 | CJ11: =IFERROR(IF(AND($AX11<$CM$5,OR($AY11="",$AY11>=CM$5)),1,0),0) -> 1 | CK11: =IFERROR(IF(AND($AX11<=$CM$5,OR($AY11="",$AY11>$CM$5)),1,0),0) -> 0 | CL11: =IFERROR(IF($AY11="",0,IF($AY11=$CM$5,1,0)),0) -> 1 | CM11: =IFERROR(IF($AX11="",0,IF($AX11=$CM$5,1,0)),0) -> 0 | CO11: Average Age | CP11: =IFERROR(SUMPRODUCT(($BA$8:$BA$26),($CH$8:$CH$26))/$CP$9,"") -> 40.333333 | CU11: Jan | CV11: Date format | CW11: =INDEX(CW12:CW16,MATCH(Settings!$C$34,$CV$12:$CV$16,0),1) | CX11: =INDEX(CX12:CX16,MATCH(Settings!$C$34,$CV$12:$CV$16,0),1) -> 123 | CY11: =INDEX(CY12:CY16,MATCH(Settings!$C$34,$CV$12:$CV$16,0),1) -> Extended | DA11: =IFERROR(IF(Settings!C12="","",Settings!C12),"") -> East Office | DC11: =IFERROR(IF(Settings!E12="","",Settings!E12),"") -> Finance | DE11: =IFERROR(IF(Settings!G12="","",Settings!G12),"") -> Expert | DG11: =IFERROR(INDEX(IF(DG$5="d",DateTable,MainTable),$C11,DH$5),"") -> Sales | DH11: =IFERROR(IF(COUNTIF($DG$8:$DG11,DG11)>1,"",DG11),"") -> Sales | DI11: {=IFERROR(INDEX(filter1,SMALL(IF(LEN(filter1)>0,ROW(filter1)-ROW(INDEX(filter1,1,1))+1),ROW($DF11)-ROW($DF$7))),"")} -> Sales | DJ11: =IFERROR(INDEX(IF(DJ$5="d",DateTable,MainTable),$C11,DK$5),"") -> Bachelor's Degree | DK11: =IFERROR(IF(COUNTIF($DJ$8:$DJ11,DJ11)>1,"",DJ11),"") | DL11: {=IFERROR(INDEX(filter2,SMALL(IF(LEN(filter2)>0,ROW(filter2)-ROW(INDEX(filter2,1,1))+1),ROW($DF11)-ROW($DF$7))),"")} -> Primary School | DM11: =IFERROR(INDEX(IF(DM$5="d",DateTable,MainTable),$C11,DN$5),"") -> Female | DN11: =IFERROR(IF(COUNTIF($DM$8:$DM11,DM11)>1,"",DM11),"") | DO11: {=IFERROR(INDEX(filter3,SMALL(IF(LEN(filter3)>0,ROW(filter3)-ROW(INDEX(filter3,1,1))+1),ROW($DF11)-ROW($DF$7))),"")} | DP11: =IFERROR(INDEX(IF(DP$5="d",DateTable,MainTable),$C11,DQ$5),"") -> USA | DQ11: =IFERROR(IF(COUNTIF($DP$8:$DP11,DP11)>1,"",DP11),"") | DR11: {=IFERROR(INDEX(filter4,SMALL(IF(LEN(filter4)>0,ROW(filter4)-ROW(INDEX(filter4,1,1))+1),ROW($DF11)-ROW($DF$7))),"")} | DT11: =IFERROR(IF(OR(LEN(Form!C10)>0,LEN(Form!D10)>0,LEN(Form!G10)>0),ROW(Form!A10),""),"") -> 10 | DW11: =IFERROR(IF(COUNTIF($AX$8:$AX11,AX11)>1,"",AX11),"") | DX11: {=IFERROR(INDEX($DW$8:$DW$26,SMALL(IF(LEN($DW$8:$DW$26)>0,ROW($DW$8:$DW$26)-ROW(INDEX($DW$8:$DW$26,1,1))+1),ROW($DF11)-ROW($DF$7))),"")} | DZ11: Box 4 | EA11: =IFERROR(IF(AND(List!F$5<>"",List!G$5="",List!H$5=""),Calc!$DZ$18,""),"") | EO11: =IFERROR(IF(List!B16="","",IF(COUNTIF(Calc!$BR$8:$BR$53,List!B16)>0,"","x")),"")
C12: 5 | D12: =IFERROR(IF(INDEX(database[],$C12,D$6)=0,"",INDEX(database[],$C12,D$6)),"") -> N-0005 | E12: =IFERROR(IF(INDEX(database[],$C12,E$6)=0,"",INDEX(database[],$C12,E$6)),"") -> Carmel Beltran | F12: =IFERROR(IF(INDEX(database[],$C12,F$6)=0,"",INDEX(database[],$C12,F$6)),"") -> 44927 | G12: =IFERROR(IF(INDEX(database[],$C12,G$6)=0,"",INDEX(database[],$C12,G$6)),"") -> Website | H12: =IFERROR(IF(INDEX(database[],$C12,H$6)=0,"",INDEX(database[],$C12,H$6)),"") -> North Office | I12: =IFERROR(IF(INDEX(database[],$C12,I$6)=0,"",INDEX(database[],$C12,I$6)),"") -> Sales | J12: =IFERROR(IF(INDEX(database[],$C12,J$6)=0,"",INDEX(database[],$C12,J$6)),"") -> Full Time | K12: =IFERROR(IF(INDEX(database[],$C12,K$6)=0,"",INDEX(database[],$C12,K$6)),"") -> Salesman | ... AV12: =IFERROR(IF(INDEX(database[],$C12,AV$6)=0,"",INDEX(database[],$C12,AV$6)),"") | AW12: =IFERROR(IF(INDEX(MainTable,$C12,$BQ$68)="",INDEX(MainTable,$C12,$BQ$69),INDEX(MainTable,$C12,$BQ$68)&"-"&INDEX(MainTable,$C12,$BQ$69)),"") -> N-0005-Carmel Beltran | AX12: =IFERROR(YEAR(BD12),"") -> 2023 | AY12: =IFERROR(YEAR(BF12),"") | AZ12: =IFERROR(YEAR(BE12),"") -> 1980 | BA12: =IFERROR(DATEDIF(BE12,TODAY(),"y"),"") -> 42 | BB12: =IFERROR(IF(LEN(BA12)=0,"",IF(BA12<18,$CO$54,IF(AND(BA12>=18,BA12<31),$CO$55,IF(AND(BA12>=31,BA12<41),$CO$56,IF(AND(BA12>=41,BA12<50),$CO$57,IF(AND(BA12>=51,BA12<60),$CO$58,IF(BA12>=61,$CO$59,""))))))),"") -> 41-50 | BC12: =IFERROR(INDEX(MainTable,$C12,BC$6),"") -> 4500 | BD12: =IFERROR(INDEX(MainTable,$C12,BD$6),"") -> 44927 | BE12: =IFERROR(INDEX(MainTable,$C12,BE$6),"") -> 29547 | BF12: =IFERROR(INDEX(MainTable,$C12,BF$6),"") | BG12: =IFERROR(INDEX(MainTable,$C12,BG$6),"") | BH12: =IFERROR(INDEX(MainTable,$C12,BH$6),"") | BI12: =IFERROR(INDEX(MainTable,$C12,BI$6),"") | BJ12: =IFERROR(IF(order=123,DAY(BD12)&connector&IF(desc="Extended",INDEX(months,MONTH(BD12),1),MONTH(BD12))&connector&IF(desc="Short", RIGHT(YEAR(BD12),2),YEAR(BD12)),IF(order=213, MONTH(BD12)&connector&DAY(BD12)&connector&IF(desc="Short", RIGHT(YEAR(BD12),2),YEAR(BD12)),IF(desc="Short", RIGHT(YEAR(BD12),2),YEAR(BD12))&connector&MONTH(BD12)&connector&DAY(BD12))),BD12) -> 1 Jan 2023 | BK12: =IFERROR(IF(order=123,DAY(BE12)&connector&IF(desc="Extended",INDEX(months,MONTH(BE12),1),MONTH(BE12))&connector&IF(desc="Short", RIGHT(YEAR(BE12),2),YEAR(BE12)),IF(order=213, MONTH(BE12)&connector&DAY(BE12)&connector&IF(desc="Short", RIGHT(YEAR(BE12),2),YEAR(BE12)),IF(desc="Short", RIGHT(YEAR(BE12),2),YEAR(BE12))&connector&MONTH(BE12)&connector&DAY(BE12))),BE12) -> 22 Nov 1980 | BL12: =IFERROR(IF(order=123,DAY(BF12)&connector&IF(desc="Extended",INDEX(months,MONTH(BF12),1),MONTH(BF12))&connector&IF(desc="Short", RIGHT(YEAR(BF12),2),YEAR(BF12)),IF(order=213, MONTH(BF12)&connector&DAY(BF12)&connector&IF(desc="Short", RIGHT(YEAR(BF12),2),YEAR(BF12)),IF(desc="Short", RIGHT(YEAR(BF12),2),YEAR(BF12))&connector&MONTH(BF12)&connector&DAY(BF12))),BF12) | BM12: =IFERROR(IF(order=123,DAY(BG12)&connector&IF(desc="Extended",INDEX(months,MONTH(BG12),1),MONTH(BG12))&connector&IF(desc="Short", RIGHT(YEAR(BG12),2),YEAR(BG12)),IF(order=213, MONTH(BG12)&connector&DAY(BG12)&connector&IF(desc="Short", RIGHT(YEAR(BG12),2),YEAR(BG12)),IF(desc="Short", RIGHT(YEAR(BG12),2),YEAR(BG12))&connector&MONTH(BG12)&connector&DAY(BG12))),BG12) | BN12: =IFERROR(IF(order=123,DAY(BH12)&connector&IF(desc="Extended",INDEX(months,MONTH(BH12),1),MONTH(BH12))&connector&IF(desc="Short", RIGHT(YEAR(BH12),2),YEAR(BH12)),IF(order=213, MONTH(BH12)&connector&DAY(BH12)&connector&IF(desc="Short", RIGHT(YEAR(BH12),2),YEAR(BH12)),IF(desc="Short", RIGHT(YEAR(BH12),2),YEAR(BH12))&connector&MONTH(BH12)&connector&DAY(BH12))),BH12) | BO12: =IFERROR(IF(order=123,DAY(BI12)&connector&IF(desc="Extended",INDEX(months,MONTH(BI12),1),MONTH(BI12))&connector&IF(desc="Short", RIGHT(YEAR(BI12),2),YEAR(BI12)),IF(order=213, MONTH(BI12)&connector&DAY(BI12)&connector&IF(desc="Short", RIGHT(YEAR(BI12),2),YEAR(BI12)),IF(desc="Short", RIGHT(YEAR(BI12),2),YEAR(BI12))&connector&MONTH(BI12)&connector&DAY(BI12))),BI12) | BQ12: 5 | BR12: =IFERROR(INDEX(database[#Headers],0,BQ12),"") -> Office | BU12: =IFERROR(IF(OR(BU$7="",List!$B$8="",List!$B$8="All"),1,IF(List!$B$8=INDEX(IF(BU$5="d",DateTable,MainTable),$C12,BU$6),1,0)),0) -> 1 | BV12: =IFERROR(IF(OR(BV$7="",List!$B$11="",List!$B$11="All"),1,IF(List!$B$11=INDEX(IF(BV$5="d",DateTable,MainTable),$C12,BV$6),1,0)),0) -> 1 | BW12: =IFERROR(IF(OR(BW$7="",List!$B$14="",List!$B$14="All"),1,IF(List!$B$14=INDEX(IF(BW$5="d",DateTable,MainTable),$C12,BW$6),1,0)),0) -> 1 | BX12: =IFERROR(IF(OR(BX$7="",List!$B$17="",List!$B$17="All"),1,IF(List!$B$17=INDEX(IF(BX$5="d",DateTable,MainTable),$C12,BX$6),1,0)),0) -> 1 | BY12: =BU12*BV12*BW12*BX12 -> 1 | CA12: =IFERROR(IF(OR(AND(D12="",E12=""),BY12=0),"",$C12),"") -> 5 | CB12: =IFERROR(SMALL($CA$8:$CA$26,$C12),"") -> 5 | CD12: =IFERROR(IF(OR(Dashboard!$C$7="",Dashboard!$C$7="All"),1,IF(Dashboard!$C$7=INDEX(MainTable,$C12,CD$6),1,0)),0) -> 1 | CE12: =IFERROR(IF(OR(Dashboard!$E$7="",Dashboard!$E$7="All"),1,IF(Dashboard!$E$7=INDEX(MainTable,$C12,CE$6),1,0)),0) -> 1 | CF12: =IFERROR(IF(OR(Dashboard!$G$7="",Dashboard!$G$7="All"),1,IF(Dashboard!$G$7=INDEX(MainTable,$C12,CF$6),1,0)),0) -> 1 | CG12: =IFERROR(IF(OR(Dashboard!$I$7="",Dashboard!$I$7="All"),1,IF(Dashboard!$I$7=INDEX(MainTable,$C12,CG$6),1,0)),0) -> 1 | CH12: =CD12*CE12*CF12*CG12 -> 1 | CJ12: =IFERROR(IF(AND($AX12<$CM$5,OR($AY12="",$AY12>=CM$5)),1,0),0) -> 0 | CK12: =IFERROR(IF(AND($AX12<=$CM$5,OR($AY12="",$AY12>$CM$5)),1,0),0) -> 1 | CL12: =IFERROR(IF($AY12="",0,IF($AY12=$CM$5,1,0)),0) -> 0 | CM12: =IFERROR(IF($AX12="",0,IF($AX12=$CM$5,1,0)),0) -> 1 | CU12: Feb | CV12: 31.1.2021 | CW12: . | CX12: 123 | CY12: Basic | DA12: =IFERROR(IF(Settings!C13="","",Settings!C13),"") | DC12: =IFERROR(IF(Settings!E13="","",Settings!E13),"") -> Sales | DE12: =IFERROR(IF(Settings!G13="","",Settings!G13),"") -> Salesman | DG12: =IFERROR(INDEX(IF(DG$5="d",DateTable,MainTable),$C12,DH$5),"") -> Sales | DH12: =IFERROR(IF(COUNTIF($DG$8:$DG12,DG12)>1,"",DG12),"") | DI12: {=IFERROR(INDEX(filter1,SMALL(IF(LEN(filter1)>0,ROW(filter1)-ROW(INDEX(filter1,1,1))+1),ROW($DF12)-ROW($DF$7))),"")} -> Finance | DJ12: =IFERROR(INDEX(IF(DJ$5="d",DateTable,MainTable),$C12,DK$5),"") -> Postgraduate Degree | DK12: =IFERROR(IF(COUNTIF($DJ$8:$DJ12,DJ12)>1,"",DJ12),"") | DL12: {=IFERROR(INDEX(filter2,SMALL(IF(LEN(filter2)>0,ROW(filter2)-ROW(INDEX(filter2,1,1))+1),ROW($DF12)-ROW($DF$7))),"")} | DM12: =IFERROR(INDEX(IF(DM$5="d",DateTable,MainTable),$C12,DN$5),"") -> Female | DN12: =IFERROR(IF(COUNTIF($DM$8:$DM12,DM12)>1,"",DM12),"") | DO12: {=IFERROR(INDEX(filter3,SMALL(IF(LEN(filter3)>0,ROW(filter3)-ROW(INDEX(filter3,1,1))+1),ROW($DF12)-ROW($DF$7))),"")} | DP12: =IFERROR(INDEX(IF(DP$5="d",DateTable,MainTable),$C12,DQ$5),"") -> USA | DQ12: =IFERROR(IF(COUNTIF($DP$8:$DP12,DP12)>1,"",DP12),"") | DR12: {=IFERROR(INDEX(filter4,SMALL(IF(LEN(filter4)>0,ROW(filter4)-ROW(INDEX(filter4,1,1))+1),ROW($DF12)-ROW($DF$7))),"")} | DT12: =IFERROR(IF(OR(LEN(Form!C11)>0,LEN(Form!D11)>0,LEN(Form!G11)>0),ROW(Form!A11),""),"") -> 11 | DW12: =IFERROR(IF(COUNTIF($AX$8:$AX12,AX12)>1,"",AX12),"") -> 2023 | DX12: {=IFERROR(INDEX($DW$8:$DW$26,SMALL(IF(LEN($DW$8:$DW$26)>0,ROW($DW$8:$DW$26)-ROW(INDEX($DW$8:$DW$26,1,1))+1),ROW($DF12)-ROW($DF$7))),"")} | DZ12: Box 5 | EA12: =IFERROR(IF(AND(List!G$5<>"",List!H$5="",List!I$5=""),Calc!$DZ$18,""),"")
C13: 6 | D13: =IFERROR(IF(INDEX(database[],$C13,D$6)=0,"",INDEX(database[],$C13,D$6)),"") -> N-0006 | E13: =IFERROR(IF(INDEX(database[],$C13,E$6)=0,"",INDEX(database[],$C13,E$6)),"") -> Sarah-Jayne Morrison | F13: =IFERROR(IF(INDEX(database[],$C13,F$6)=0,"",INDEX(database[],$C13,F$6)),"") -> 44958 | G13: =IFERROR(IF(INDEX(database[],$C13,G$6)=0,"",INDEX(database[],$C13,G$6)),"") -> In-House | H13: =IFERROR(IF(INDEX(database[],$C13,H$6)=0,"",INDEX(database[],$C13,H$6)),"") -> North Office | I13: =IFERROR(IF(INDEX(database[],$C13,I$6)=0,"",INDEX(database[],$C13,I$6)),"") -> Sales | J13: =IFERROR(IF(INDEX(database[],$C13,J$6)=0,"",INDEX(database[],$C13,J$6)),"") -> Full Time | K13: =IFERROR(IF(INDEX(database[],$C13,K$6)=0,"",INDEX(database[],$C13,K$6)),"") -> Salesman | ... AV13: =IFERROR(IF(INDEX(database[],$C13,AV$6)=0,"",INDEX(database[],$C13,AV$6)),"") | AW13: =IFERROR(IF(INDEX(MainTable,$C13,$BQ$68)="",INDEX(MainTable,$C13,$BQ$69),INDEX(MainTable,$C13,$BQ$68)&"-"&INDEX(MainTable,$C13,$BQ$69)),"") -> N-0006-Sarah-Jayne Morrison | AX13: =IFERROR(YEAR(BD13),"") -> 2023 | AY13: =IFERROR(YEAR(BF13),"") | AZ13: =IFERROR(YEAR(BE13),"") -> 1981 | BA13: =IFERROR(DATEDIF(BE13,TODAY(),"y"),"") -> 41 | BB13: =IFERROR(IF(LEN(BA13)=0,"",IF(BA13<18,$CO$54,IF(AND(BA13>=18,BA13<31),$CO$55,IF(AND(BA13>=31,BA13<41),$CO$56,IF(AND(BA13>=41,BA13<50),$CO$57,IF(AND(BA13>=51,BA13<60),$CO$58,IF(BA13>=61,$CO$59,""))))))),"") -> 41-50 | BC13: =IFERROR(INDEX(MainTable,$C13,BC$6),"") -> 4500 | BD13: =IFERROR(INDEX(MainTable,$C13,BD$6),"") -> 44958 | BE13: =IFERROR(INDEX(MainTable,$C13,BE$6),"") -> 29797 | BF13: =IFERROR(INDEX(MainTable,$C13,BF$6),"") | BG13: =IFERROR(INDEX(MainTable,$C13,BG$6),"") | BH13: =IFERROR(INDEX(MainTable,$C13,BH$6),"") | BI13: =IFERROR(INDEX(MainTable,$C13,BI$6),"") | BJ13: =IFERROR(IF(order=123,DAY(BD13)&connector&IF(desc="Extended",INDEX(months,MONTH(BD13),1),MONTH(BD13))&connector&IF(desc="Short", RIGHT(YEAR(BD13),2),YEAR(BD13)),IF(order=213, MONTH(BD13)&connector&DAY(BD13)&connector&IF(desc="Short", RIGHT(YEAR(BD13),2),YEAR(BD13)),IF(desc="Short", RIGHT(YEAR(BD13),2),YEAR(BD13))&connector&MONTH(BD13)&connector&DAY(BD13))),BD13) -> 1 Feb 2023 | BK13: =IFERROR(IF(order=123,DAY(BE13)&connector&IF(desc="Extended",INDEX(months,MONTH(BE13),1),MONTH(BE13))&connector&IF(desc="Short", RIGHT(YEAR(BE13),2),YEAR(BE13)),IF(order=213, MONTH(BE13)&connector&DAY(BE13)&connector&IF(desc="Short", RIGHT(YEAR(BE13),2),YEAR(BE13)),IF(desc="Short", RIGHT(YEAR(BE13),2),YEAR(BE13))&connector&MONTH(BE13)&connector&DAY(BE13))),BE13) -> 30 Jul 1981 | BL13: =IFERROR(IF(order=123,DAY(BF13)&connector&IF(desc="Extended",INDEX(months,MONTH(BF13),1),MONTH(BF13))&connector&IF(desc="Short", RIGHT(YEAR(BF13),2),YEAR(BF13)),IF(order=213, MONTH(BF13)&connector&DAY(BF13)&connector&IF(desc="Short", RIGHT(YEAR(BF13),2),YEAR(BF13)),IF(desc="Short", RIGHT(YEAR(BF13),2),YEAR(BF13))&connector&MONTH(BF13)&connector&DAY(BF13))),BF13) | BM13: =IFERROR(IF(order=123,DAY(BG13)&connector&IF(desc="Extended",INDEX(months,MONTH(BG13),1),MONTH(BG13))&connector&IF(desc="Short", RIGHT(YEAR(BG13),2),YEAR(BG13)),IF(order=213, MONTH(BG13)&connector&DAY(BG13)&connector&IF(desc="Short", RIGHT(YEAR(BG13),2),YEAR(BG13)),IF(desc="Short", RIGHT(YEAR(BG13),2),YEAR(BG13))&connector&MONTH(BG13)&connector&DAY(BG13))),BG13) | BN13: =IFERROR(IF(order=123,DAY(BH13)&connector&IF(desc="Extended",INDEX(months,MONTH(BH13),1),MONTH(BH13))&connector&IF(desc="Short", RIGHT(YEAR(BH13),2),YEAR(BH13)),IF(order=213, MONTH(BH13)&connector&DAY(BH13)&connector&IF(desc="Short", RIGHT(YEAR(BH13),2),YEAR(BH13)),IF(desc="Short", RIGHT(YEAR(BH13),2),YEAR(BH13))&connector&MONTH(BH13)&connector&DAY(BH13))),BH13) | BO13: =IFERROR(IF(order=123,DAY(BI13)&connector&IF(desc="Extended",INDEX(months,MONTH(BI13),1),MONTH(BI13))&connector&IF(desc="Short", RIGHT(YEAR(BI13),2),YEAR(BI13)),IF(order=213, MONTH(BI13)&connector&DAY(BI13)&connector&IF(desc="Short", RIGHT(YEAR(BI13),2),YEAR(BI13)),IF(desc="Short", RIGHT(YEAR(BI13),2),YEAR(BI13))&connector&MONTH(BI13)&connector&DAY(BI13))),BI13) | BQ13: 6 | BR13: =IFERROR(INDEX(database[#Headers],0,BQ13),"") -> Department | BU13: =IFERROR(IF(OR(BU$7="",List!$B$8="",List!$B$8="All"),1,IF(List!$B$8=INDEX(IF(BU$5="d",DateTable,MainTable),$C13,BU$6),1,0)),0) -> 1 | BV13: =IFERROR(IF(OR(BV$7="",List!$B$11="",List!$B$11="All"),1,IF(List!$B$11=INDEX(IF(BV$5="d",DateTable,MainTable),$C13,BV$6),1,0)),0) -> 1 | BW13: =IFERROR(IF(OR(BW$7="",List!$B$14="",List!$B$14="All"),1,IF(List!$B$14=INDEX(IF(BW$5="d",DateTable,MainTable),$C13,BW$6),1,0)),0) -> 1 | BX13: =IFERROR(IF(OR(BX$7="",List!$B$17="",List!$B$17="All"),1,IF(List!$B$17=INDEX(IF(BX$5="d",DateTable,MainTable),$C13,BX$6),1,0)),0) -> 1 | BY13: =BU13*BV13*BW13*BX13 -> 1 | CA13: =IFERROR(IF(OR(AND(D13="",E13=""),BY13=0),"",$C13),"") -> 6 | CB13: =IFERROR(SMALL($CA$8:$CA$26,$C13),"") -> 6 | CD13: =IFERROR(IF(OR(Dashboard!$C$7="",Dashboard!$C$7="All"),1,IF(Dashboard!$C$7=INDEX(MainTable,$C13,CD$6),1,0)),0) -> 1 | CE13: =IFERROR(IF(OR(Dashboard!$E$7="",Dashboard!$E$7="All"),1,IF(Dashboard!$E$7=INDEX(MainTable,$C13,CE$6),1,0)),0) -> 1 | CF13: =IFERROR(IF(OR(Dashboard!$G$7="",Dashboard!$G$7="All"),1,IF(Dashboard!$G$7=INDEX(MainTable,$C13,CF$6),1,0)),0) -> 1 | CG13: =IFERROR(IF(OR(Dashboard!$I$7="",Dashboard!$I$7="All"),1,IF(Dashboard!$I$7=INDEX(MainTable,$C13,CG$6),1,0)),0) -> 1 | CH13: =CD13*CE13*CF13*CG13 -> 1 | CJ13: =IFERROR(IF(AND($AX13<$CM$5,OR($AY13="",$AY13>=CM$5)),1,0),0) -> 0 | CK13: =IFERROR(IF(AND($AX13<=$CM$5,OR($AY13="",$AY13>$CM$5)),1,0),0) -> 1 | CL13: =IFERROR(IF($AY13="",0,IF($AY13=$CM$5,1,0)),0) -> 0 | CM13: =IFERROR(IF($AX13="",0,IF($AX13=$CM$5,1,0)),0) -> 1 | CO13: Total Salary | CP13: {=IFERROR(SUMPRODUCT(($BC$8:$BC$26),($CH$8:$CH$26)),"")} -> 81000 | CU13: Mar | CV13: 1.31.2021 | CW13: . | CX13: 213 | CY13: Basic | DA13: =IFERROR(IF(Settings!C14="","",Settings!C14),"") | DC13: =IFERROR(IF(Settings!E14="","",Settings!E14),"") -> HR | DE13: =IFERROR(IF(Settings!G14="","",Settings!G14),"") -> Intern | DG13: =IFERROR(INDEX(IF(DG$5="d",DateTable,MainTable),$C13,DH$5),"") -> Sales | DH13: =IFERROR(IF(COUNTIF($DG$8:$DG13,DG13)>1,"",DG13),"") | DI13: {=IFERROR(INDEX(filter1,SMALL(IF(LEN(filter1)>0,ROW(filter1)-ROW(INDEX(filter1,1,1))+1),ROW($DF13)-ROW($DF$7))),"")} -> HR | DJ13: =IFERROR(INDEX(IF(DJ$5="d",DateTable,MainTable),$C13,DK$5),"") -> High School | DK13: =IFERROR(IF(COUNTIF($DJ$8:$DJ13,DJ13)>1,"",DJ13),"") -> High School | DL13: {=IFERROR(INDEX(filter2,SMALL(IF(LEN(filter2)>0,ROW(filter2)-ROW(INDEX(filter2,1,1))+1),ROW($DF13)-ROW($DF$7))),"")} | DM13: =IFERROR(INDEX(IF(DM$5="d",DateTable,MainTable),$C13,DN$5),"") -> Female | DN13: =IFERROR(IF(COUNTIF($DM$8:$DM13,DM13)>1,"",DM13),"") | DO13: {=IFERROR(INDEX(filter3,SMALL(IF(LEN(filter3)>0,ROW(filter3)-ROW(INDEX(filter3,1,1))+1),ROW($DF13)-ROW($DF$7))),"")} | DP13: =IFERROR(INDEX(IF(DP$5="d",DateTable,MainTable),$C13,DQ$5),"") -> USA | DQ13: =IFERROR(IF(COUNTIF($DP$8:$DP13,DP13)>1,"",DP13),"") | DR13: {=IFERROR(INDEX(filter4,SMALL(IF(LEN(filter4)>0,ROW(filter4)-ROW(INDEX(filter4,1,1))+1),ROW($DF13)-ROW($DF$7))),"")} | DT13: =IFERROR(IF(OR(LEN(Form!C12)>0,LEN(Form!D12)>0,LEN(Form!G12)>0),ROW(Form!A12),""),"") -> 12 | DW13: =IFERROR(IF(COUNTIF($AX$8:$AX13,AX13)>1,"",AX13),"") | DX13: {=IFERROR(INDEX($DW$8:$DW$26,SMALL(IF(LEN($DW$8:$DW$26)>0,ROW($DW$8:$DW$26)-ROW(INDEX($DW$8:$DW$26,1,1))+1),ROW($DF13)-ROW($DF$7))),"")} | DZ13: Box 6 | EA13: =IFERROR(IF(AND(List!H$5<>"",List!I$5="",List!J$5=""),Calc!$DZ$18,""),"")
C14: 7 | D14: =IFERROR(IF(INDEX(database[],$C14,D$6)=0,"",INDEX(database[],$C14,D$6)),"") -> E-0007 | E14: =IFERROR(IF(INDEX(database[],$C14,E$6)=0,"",INDEX(database[],$C14,E$6)),"") -> Alyce Milner | F14: =IFERROR(IF(INDEX(database[],$C14,F$6)=0,"",INDEX(database[],$C14,F$6)),"") -> 44986 | G14: =IFERROR(IF(INDEX(database[],$C14,G$6)=0,"",INDEX(database[],$C14,G$6)),"") -> Website | H14: =IFERROR(IF(INDEX(database[],$C14,H$6)=0,"",INDEX(database[],$C14,H$6)),"") -> East Office | I14: =IFERROR(IF(INDEX(database[],$C14,I$6)=0,"",INDEX(database[],$C14,I$6)),"") -> Sales | J14: =IFERROR(IF(INDEX(database[],$C14,J$6)=0,"",INDEX(database[],$C14,J$6)),"") -> Part Time | K14: =IFERROR(IF(INDEX(database[],$C14,K$6)=0,"",INDEX(database[],$C14,K$6)),"") -> Salesman | ... AV14: =IFERROR(IF(INDEX(database[],$C14,AV$6)=0,"",INDEX(database[],$C14,AV$6)),"") | AW14: =IFERROR(IF(INDEX(MainTable,$C14,$BQ$68)="",INDEX(MainTable,$C14,$BQ$69),INDEX(MainTable,$C14,$BQ$68)&"-"&INDEX(MainTable,$C14,$BQ$69)),"") -> E-0007-Alyce Milner | AX14: =IFERROR(YEAR(BD14),"") -> 2023 | AY14: =IFERROR(YEAR(BF14),"") | AZ14: =IFERROR(YEAR(BE14),"") -> 1982 | BA14: =IFERROR(DATEDIF(BE14,TODAY(),"y"),"") -> 40 | BB14: =IFERROR(IF(LEN(BA14)=0,"",IF(BA14<18,$CO$54,IF(AND(BA14>=18,BA14<31),$CO$55,IF(AND(BA14>=31,BA14<41),$CO$56,IF(AND(BA14>=41,BA14<50),$CO$57,IF(AND(BA14>=51,BA14<60),$CO$58,IF(BA14>=61,$CO$59,""))))))),"") -> 31-40 | BC14: =IFERROR(INDEX(MainTable,$C14,BC$6),"") -> 3200 | BD14: =IFERROR(INDEX(MainTable,$C14,BD$6),"") -> 44986 | BE14: =IFERROR(INDEX(MainTable,$C14,BE$6),"") -> 30047 | BF14: =IFERROR(INDEX(MainTable,$C14,BF$6),"") | BG14: =IFERROR(INDEX(MainTable,$C14,BG$6),"") | BH14: =IFERROR(INDEX(MainTable,$C14,BH$6),"") | BI14: =IFERROR(INDEX(MainTable,$C14,BI$6),"") | BJ14: =IFERROR(IF(order=123,DAY(BD14)&connector&IF(desc="Extended",INDEX(months,MONTH(BD14),1),MONTH(BD14))&connector&IF(desc="Short", RIGHT(YEAR(BD14),2),YEAR(BD14)),IF(order=213, MONTH(BD14)&connector&DAY(BD14)&connector&IF(desc="Short", RIGHT(YEAR(BD14),2),YEAR(BD14)),IF(desc="Short", RIGHT(YEAR(BD14),2),YEAR(BD14))&connector&MONTH(BD14)&connector&DAY(BD14))),BD14) -> 1 Mar 2023 | BK14: =IFERROR(IF(order=123,DAY(BE14)&connector&IF(desc="Extended",INDEX(months,MONTH(BE14),1),MONTH(BE14))&connector&IF(desc="Short", RIGHT(YEAR(BE14),2),YEAR(BE14)),IF(order=213, MONTH(BE14)&connector&DAY(BE14)&connector&IF(desc="Short", RIGHT(YEAR(BE14),2),YEAR(BE14)),IF(desc="Short", RIGHT(YEAR(BE14),2),YEAR(BE14))&connector&MONTH(BE14)&connector&DAY(BE14))),BE14) -> 6 Apr 1982 | BL14: =IFERROR(IF(order=123,DAY(BF14)&connector&IF(desc="Extended",INDEX(months,MONTH(BF14),1),MONTH(BF14))&connector&IF(desc="Short", RIGHT(YEAR(BF14),2),YEAR(BF14)),IF(order=213, MONTH(BF14)&connector&DAY(BF14)&connector&IF(desc="Short", RIGHT(YEAR(BF14),2),YEAR(BF14)),IF(desc="Short", RIGHT(YEAR(BF14),2),YEAR(BF14))&connector&MONTH(BF14)&connector&DAY(BF14))),BF14) | BM14: =IFERROR(IF(order=123,DAY(BG14)&connector&IF(desc="Extended",INDEX(months,MONTH(BG14),1),MONTH(BG14))&connector&IF(desc="Short", RIGHT(YEAR(BG14),2),YEAR(BG14)),IF(order=213, MONTH(BG14)&connector&DAY(BG14)&connector&IF(desc="Short", RIGHT(YEAR(BG14),2),YEAR(BG14)),IF(desc="Short", RIGHT(YEAR(BG14),2),YEAR(BG14))&connector&MONTH(BG14)&connector&DAY(BG14))),BG14) | BN14: =IFERROR(IF(order=123,DAY(BH14)&connector&IF(desc="Extended",INDEX(months,MONTH(BH14),1),MONTH(BH14))&connector&IF(desc="Short", RIGHT(YEAR(BH14),2),YEAR(BH14)),IF(order=213, MONTH(BH14)&connector&DAY(BH14)&connector&IF(desc="Short", RIGHT(YEAR(BH14),2),YEAR(BH14)),IF(desc="Short", RIGHT(YEAR(BH14),2),YEAR(BH14))&connector&MONTH(BH14)&connector&DAY(BH14))),BH14) | BO14: =IFERROR(IF(order=123,DAY(BI14)&connector&IF(desc="Extended",INDEX(months,MONTH(BI14),1),MONTH(BI14))&connector&IF(desc="Short", RIGHT(YEAR(BI14),2),YEAR(BI14)),IF(order=213, MONTH(BI14)&connector&DAY(BI14)&connector&IF(desc="Short", RIGHT(YEAR(BI14),2),YEAR(BI14)),IF(desc="Short", RIGHT(YEAR(BI14),2),YEAR(BI14))&connector&MONTH(BI14)&connector&DAY(BI14))),BI14) | BQ14: 7 | BR14: =IFERROR(INDEX(database[#Headers],0,BQ14),"") -> Job Status | BU14: =IFERROR(IF(OR(BU$7="",List!$B$8="",List!$B$8="All"),1,IF(List!$B$8=INDEX(IF(BU$5="d",DateTable,MainTable),$C14,BU$6),1,0)),0) -> 1 | BV14: =IFERROR(IF(OR(BV$7="",List!$B$11="",List!$B$11="All"),1,IF(List!$B$11=INDEX(IF(BV$5="d",DateTable,MainTable),$C14,BV$6),1,0)),0) -> 1 | BW14: =IFERROR(IF(OR(BW$7="",List!$B$14="",List!$B$14="All"),1,IF(List!$B$14=INDEX(IF(BW$5="d",DateTable,MainTable),$C14,BW$6),1,0)),0) -> 1 | BX14: =IFERROR(IF(OR(BX$7="",List!$B$17="",List!$B$17="All"),1,IF(List!$B$17=INDEX(IF(BX$5="d",DateTable,MainTable),$C14,BX$6),1,0)),0) -> 1 | BY14: =BU14*BV14*BW14*BX14 -> 1 | CA14: =IFERROR(IF(OR(AND(D14="",E14=""),BY14=0),"",$C14),"") -> 7 | CB14: =IFERROR(SMALL($CA$8:$CA$26,$C14),"") -> 7 | CD14: =IFERROR(IF(OR(Dashboard!$C$7="",Dashboard!$C$7="All"),1,IF(Dashboard!$C$7=INDEX(MainTable,$C14,CD$6),1,0)),0) -> 1 | CE14: =IFERROR(IF(OR(Dashboard!$E$7="",Dashboard!$E$7="All"),1,IF(Dashboard!$E$7=INDEX(MainTable,$C14,CE$6),1,0)),0) -> 1 | CF14: =IFERROR(IF(OR(Dashboard!$G$7="",Dashboard!$G$7="All"),1,IF(Dashboard!$G$7=INDEX(MainTable,$C14,CF$6),1,0)),0) -> 1 | CG14: =IFERROR(IF(OR(Dashboard!$I$7="",Dashboard!$I$7="All"),1,IF(Dashboard!$I$7=INDEX(MainTable,$C14,CG$6),1,0)),0) -> 1 | CH14: =CD14*CE14*CF14*CG14 -> 1 | CJ14: =IFERROR(IF(AND($AX14<$CM$5,OR($AY14="",$AY14>=CM$5)),1,0),0) -> 0 | CK14: =IFERROR(IF(AND($AX14<=$CM$5,OR($AY14="",$AY14>$CM$5)),1,0),0) -> 1 | CL14: =IFERROR(IF($AY14="",0,IF($AY14=$CM$5,1,0)),0) -> 0 | CM14: =IFERROR(IF($AX14="",0,IF($AX14=$CM$5,1,0)),0) -> 1 | CO14: Salary Average | CP14: =IFERROR(CP13/CP10,"") -> 6750 | CU14: Apr | CV14: 1/31/2021 | CW14: / | CX14: 213 | CY14: Basic | DA14: =IFERROR(IF(Settings!C15="","",Settings!C15),"") | DC14: =IFERROR(IF(Settings!E15="","",Settings!E15),"") -> Purchase | DE14: =IFERROR(IF(Settings!G15="","",Settings!G15),"") | DG14: =IFERROR(INDEX(IF(DG$5="d",DateTable,MainTable),$C14,DH$5),"") -> Sales | DH14: =IFERROR(IF(COUNTIF($DG$8:$DG14,DG14)>1,"",DG14),"") | DI14: {=IFERROR(INDEX(filter1,SMALL(IF(LEN(filter1)>0,ROW(filter1)-ROW(INDEX(filter1,1,1))+1),ROW($DF14)-ROW($DF$7))),"")} -> Purchase | DJ14: =IFERROR(INDEX(IF(DJ$5="d",DateTable,MainTable),$C14,DK$5),"") -> Primary School | DK14: =IFERROR(IF(COUNTIF($DJ$8:$DJ14,DJ14)>1,"",DJ14),"") -> Primary School | DL14: {=IFERROR(INDEX(filter2,SMALL(IF(LEN(filter2)>0,ROW(filter2)-ROW(INDEX(filter2,1,1))+1),ROW($DF14)-ROW($DF$7))),"")} | DM14: =IFERROR(INDEX(IF(DM$5="d",DateTable,MainTable),$C14,DN$5),"") -> Female | DN14: =IFERROR(IF(COUNTIF($DM$8:$DM14,DM14)>1,"",DM14),"") | DO14: {=IFERROR(INDEX(filter3,SMALL(IF(LEN(filter3)>0,ROW(filter3)-ROW(INDEX(filter3,1,1))+1),ROW($DF14)-ROW($DF$7))),"")} | DP14: =IFERROR(INDEX(IF(DP$5="d",DateTable,MainTable),$C14,DQ$5),"") -> USA | DQ14: =IFERROR(IF(COUNTIF($DP$8:$DP14,DP14)>1,"",DP14),"") | DR14: {=IFERROR(INDEX(filter4,SMALL(IF(LEN(filter4)>0,ROW(filter4)-ROW(INDEX(filter4,1,1))+1),ROW($DF14)-ROW($DF$7))),"")} | DT14: =IFERROR(IF(OR(LEN(Form!C13)>0,LEN(Form!D13)>0,LEN(Form!G13)>0),ROW(Form!A13),""),"") -> 13 | DW14: =IFERROR(IF(COUNTIF($AX$8:$AX14,AX14)>1,"",AX14),"") | DX14: {=IFERROR(INDEX($DW$8:$DW$26,SMALL(IF(LEN($DW$8:$DW$26)>0,ROW($DW$8:$DW$26)-ROW(INDEX($DW$8:$DW$26,1,1))+1),ROW($DF14)-ROW($DF$7))),"")} | DZ14: Box 7 | EA14: =IFERROR(IF(AND(List!I$5<>"",List!J$5="",List!K$5=""),Calc!$DZ$18,""),"") -> ↓
C15: 8 | D15: =IFERROR(IF(INDEX(database[],$C15,D$6)=0,"",INDEX(database[],$C15,D$6)),"") -> E-0008 | E15: =IFERROR(IF(INDEX(database[],$C15,E$6)=0,"",INDEX(database[],$C15,E$6)),"") -> Aviana Kenny | F15: =IFERROR(IF(INDEX(database[],$C15,F$6)=0,"",INDEX(database[],$C15,F$6)),"") -> 44927 | G15: =IFERROR(IF(INDEX(database[],$C15,G$6)=0,"",INDEX(database[],$C15,G$6)),"") -> In-House | H15: =IFERROR(IF(INDEX(database[],$C15,H$6)=0,"",INDEX(database[],$C15,H$6)),"") -> East Office | I15: =IFERROR(IF(INDEX(database[],$C15,I$6)=0,"",INDEX(database[],$C15,I$6)),"") -> Operations | J15: =IFERROR(IF(INDEX(database[],$C15,J$6)=0,"",INDEX(database[],$C15,J$6)),"") -> Full Time | K15: =IFERROR(IF(INDEX(database[],$C15,K$6)=0,"",INDEX(database[],$C15,K$6)),"") -> Expert | ... AV15: =IFERROR(IF(INDEX(database[],$C15,AV$6)=0,"",INDEX(database[],$C15,AV$6)),"") | AW15: =IFERROR(IF(INDEX(MainTable,$C15,$BQ$68)="",INDEX(MainTable,$C15,$BQ$69),INDEX(MainTable,$C15,$BQ$68)&"-"&INDEX(MainTable,$C15,$BQ$69)),"") -> E-0008-Aviana Kenny | AX15: =IFERROR(YEAR(BD15),"") -> 2023 | AY15: =IFERROR(YEAR(BF15),"") | AZ15: =IFERROR(YEAR(BE15),"") -> 1982 | BA15: =IFERROR(DATEDIF(BE15,TODAY(),"y"),"") -> 40 | BB15: =IFERROR(IF(LEN(BA15)=0,"",IF(BA15<18,$CO$54,IF(AND(BA15>=18,BA15<31),$CO$55,IF(AND(BA15>=31,BA15<41),$CO$56,IF(AND(BA15>=41,BA15<50),$CO$57,IF(AND(BA15>=51,BA15<60),$CO$58,IF(BA15>=61,$CO$59,""))))))),"") -> 31-40 | BC15: =IFERROR(INDEX(MainTable,$C15,BC$6),"") -> 5200 | BD15: =IFERROR(INDEX(MainTable,$C15,BD$6),"") -> 44927 | BE15: =IFERROR(INDEX(MainTable,$C15,BE$6),"") -> 30297 | BF15: =IFERROR(INDEX(MainTable,$C15,BF$6),"") | BG15: =IFERROR(INDEX(MainTable,$C15,BG$6),"") | BH15: =IFERROR(INDEX(MainTable,$C15,BH$6),"") | BI15: =IFERROR(INDEX(MainTable,$C15,BI$6),"") | BJ15: =IFERROR(IF(order=123,DAY(BD15)&connector&IF(desc="Extended",INDEX(months,MONTH(BD15),1),MONTH(BD15))&connector&IF(desc="Short", RIGHT(YEAR(BD15),2),YEAR(BD15)),IF(order=213, MONTH(BD15)&connector&DAY(BD15)&connector&IF(desc="Short", RIGHT(YEAR(BD15),2),YEAR(BD15)),IF(desc="Short", RIGHT(YEAR(BD15),2),YEAR(BD15))&connector&MONTH(BD15)&connector&DAY(BD15))),BD15) -> 1 Jan 2023 | BK15: =IFERROR(IF(order=123,DAY(BE15)&connector&IF(desc="Extended",INDEX(months,MONTH(BE15),1),MONTH(BE15))&connector&IF(desc="Short", RIGHT(YEAR(BE15),2),YEAR(BE15)),IF(order=213, MONTH(BE15)&connector&DAY(BE15)&connector&IF(desc="Short", RIGHT(YEAR(BE15),2),YEAR(BE15)),IF(desc="Short", RIGHT(YEAR(BE15),2),YEAR(BE15))&connector&MONTH(BE15)&connector&DAY(BE15))),BE15) -> 12 Dec 1982 | BL15: =IFERROR(IF(order=123,DAY(BF15)&connector&IF(desc="Extended",INDEX(months,MONTH(BF15),1),MONTH(BF15))&connector&IF(desc="Short", RIGHT(YEAR(BF15),2),YEAR(BF15)),IF(order=213, MONTH(BF15)&connector&DAY(BF15)&connector&IF(desc="Short", RIGHT(YEAR(BF15),2),YEAR(BF15)),IF(desc="Short", RIGHT(YEAR(BF15),2),YEAR(BF15))&connector&MONTH(BF15)&connector&DAY(BF15))),BF15) | BM15: =IFERROR(IF(order=123,DAY(BG15)&connector&IF(desc="Extended",INDEX(months,MONTH(BG15),1),MONTH(BG15))&connector&IF(desc="Short", RIGHT(YEAR(BG15),2),YEAR(BG15)),IF(order=213, MONTH(BG15)&connector&DAY(BG15)&connector&IF(desc="Short", RIGHT(YEAR(BG15),2),YEAR(BG15)),IF(desc="Short", RIGHT(YEAR(BG15),2),YEAR(BG15))&connector&MONTH(BG15)&connector&DAY(BG15))),BG15) | BN15: =IFERROR(IF(order=123,DAY(BH15)&connector&IF(desc="Extended",INDEX(months,MONTH(BH15),1),MONTH(BH15))&connector&IF(desc="Short", RIGHT(YEAR(BH15),2),YEAR(BH15)),IF(order=213, MONTH(BH15)&connector&DAY(BH15)&connector&IF(desc="Short", RIGHT(YEAR(BH15),2),YEAR(BH15)),IF(desc="Short", RIGHT(YEAR(BH15),2),YEAR(BH15))&connector&MONTH(BH15)&connector&DAY(BH15))),BH15) | BO15: =IFERROR(IF(order=123,DAY(BI15)&connector&IF(desc="Extended",INDEX(months,MONTH(BI15),1),MONTH(BI15))&connector&IF(desc="Short", RIGHT(YEAR(BI15),2),YEAR(BI15)),IF(order=213, MONTH(BI15)&connector&DAY(BI15)&connector&IF(desc="Short", RIGHT(YEAR(BI15),2),YEAR(BI15)),IF(desc="Short", RIGHT(YEAR(BI15),2),YEAR(BI15))&connector&MONTH(BI15)&connector&DAY(BI15))),BI15) | BQ15: 8 | BR15: =IFERROR(INDEX(database[#Headers],0,BQ15),"") -> Job Title | BU15: =IFERROR(IF(OR(BU$7="",List!$B$8="",List!$B$8="All"),1,IF(List!$B$8=INDEX(IF(BU$5="d",DateTable,MainTable),$C15,BU$6),1,0)),0) -> 1 | BV15: =IFERROR(IF(OR(BV$7="",List!$B$11="",List!$B$11="All"),1,IF(List!$B$11=INDEX(IF(BV$5="d",DateTable,MainTable),$C15,BV$6),1,0)),0) -> 1 | BW15: =IFERROR(IF(OR(BW$7="",List!$B$14="",List!$B$14="All"),1,IF(List!$B$14=INDEX(IF(BW$5="d",DateTable,MainTable),$C15,BW$6),1,0)),0) -> 1 | BX15: =IFERROR(IF(OR(BX$7="",List!$B$17="",List!$B$17="All"),1,IF(List!$B$17=INDEX(IF(BX$5="d",DateTable,MainTable),$C15,BX$6),1,0)),0) -> 1 | BY15: =BU15*BV15*BW15*BX15 -> 1 | CA15: =IFERROR(IF(OR(AND(D15="",E15=""),BY15=0),"",$C15),"") -> 8 | CB15: =IFERROR(SMALL($CA$8:$CA$26,$C15),"") -> 8 | CD15: =IFERROR(IF(OR(Dashboard!$C$7="",Dashboard!$C$7="All"),1,IF(Dashboard!$C$7=INDEX(MainTable,$C15,CD$6),1,0)),0) -> 1 | CE15: =IFERROR(IF(OR(Dashboard!$E$7="",Dashboard!$E$7="All"),1,IF(Dashboard!$E$7=INDEX(MainTable,$C15,CE$6),1,0)),0) -> 1 | CF15: =IFERROR(IF(OR(Dashboard!$G$7="",Dashboard!$G$7="All"),1,IF(Dashboard!$G$7=INDEX(MainTable,$C15,CF$6),1,0)),0) -> 1 | CG15: =IFERROR(IF(OR(Dashboard!$I$7="",Dashboard!$I$7="All"),1,IF(Dashboard!$I$7=INDEX(MainTable,$C15,CG$6),1,0)),0) -> 1 | CH15: =CD15*CE15*CF15*CG15 -> 1 | CJ15: =IFERROR(IF(AND($AX15<$CM$5,OR($AY15="",$AY15>=CM$5)),1,0),0) -> 0 | CK15: =IFERROR(IF(AND($AX15<=$CM$5,OR($AY15="",$AY15>$CM$5)),1,0),0) -> 1 | CL15: =IFERROR(IF($AY15="",0,IF($AY15=$CM$5,1,0)),0) -> 0 | CM15: =IFERROR(IF($AX15="",0,IF($AX15=$CM$5,1,0)),0) -> 1 | CU15: May | CV15: 2021-1-31 | CW15: - | CX15: 321 | CY15: Basic | DA15: =IFERROR(IF(Settings!C16="","",Settings!C16),"") | DC15: =IFERROR(IF(Settings!E16="","",Settings!E16),"") -> Accounting | DE15: =IFERROR(IF(Settings!G16="","",Settings!G16),"") | DG15: =IFERROR(INDEX(IF(DG$5="d",DateTable,MainTable),$C15,DH$5),"") -> Operations | DH15: =IFERROR(IF(COUNTIF($DG$8:$DG15,DG15)>1,"",DG15),"") | DI15: {=IFERROR(INDEX(filter1,SMALL(IF(LEN(filter1)>0,ROW(filter1)-ROW(INDEX(filter1,1,1))+1),ROW($DF15)-ROW($DF$7))),"")} | DJ15: =IFERROR(INDEX(IF(DJ$5="d",DateTable,MainTable),$C15,DK$5),"") -> Postgraduate Degree | DK15: =IFERROR(IF(COUNTIF($DJ$8:$DJ15,DJ15)>1,"",DJ15),"") | DL15: {=IFERROR(INDEX(filter2,SMALL(IF(LEN(filter2)>0,ROW(filter2)-ROW(INDEX(filter2,1,1))+1),ROW($DF15)-ROW($DF$7))),"")} | DM15: =IFERROR(INDEX(IF(DM$5="d",DateTable,MainTable),$C15,DN$5),"") -> Female | DN15: =IFERROR(IF(COUNTIF($DM$8:$DM15,DM15)>1,"",DM15),"") | DO15: {=IFERROR(INDEX(filter3,SMALL(IF(LEN(filter3)>0,ROW(filter3)-ROW(INDEX(filter3,1,1))+1),ROW($DF15)-ROW($DF$7))),"")} | DP15: =IFERROR(INDEX(IF(DP$5="d",DateTable,MainTable),$C15,DQ$5),"") -> USA | DQ15: =IFERROR(IF(COUNTIF($DP$8:$DP15,DP15)>1,"",DP15),"") | DR15: {=IFERROR(INDEX(filter4,SMALL(IF(LEN(filter4)>0,ROW(filter4)-ROW(INDEX(filter4,1,1))+1),ROW($DF15)-ROW($DF$7))),"")} | DT15: =IFERROR(IF(OR(LEN(Form!C14)>0,LEN(Form!D14)>0,LEN(Form!G14)>0),ROW(Form!A14),""),"") -> 14 | DW15: =IFERROR(IF(COUNTIF($AX$8:$AX15,AX15)>1,"",AX15),"") | DX15: {=IFERROR(INDEX($DW$8:$DW$26,SMALL(IF(LEN($DW$8:$DW$26)>0,ROW($DW$8:$DW$26)-ROW(INDEX($DW$8:$DW$26,1,1))+1),ROW($DF15)-ROW($DF$7))),"")} | DZ15: Box 8 | EA15: =IFERROR(IF(AND(List!J$5<>"",List!K$5="",List!L$5=""),Calc!$DZ$18,""),"")
C16: 9 | D16: =IFERROR(IF(INDEX(database[],$C16,D$6)=0,"",INDEX(database[],$C16,D$6)),"") -> M-0009 | E16: =IFERROR(IF(INDEX(database[],$C16,E$6)=0,"",INDEX(database[],$C16,E$6)),"") -> Harris Montes | F16: =IFERROR(IF(INDEX(database[],$C16,F$6)=0,"",INDEX(database[],$C16,F$6)),"") -> 44927 | G16: =IFERROR(IF(INDEX(database[],$C16,G$6)=0,"",INDEX(database[],$C16,G$6)),"") -> In-House | H16: =IFERROR(IF(INDEX(database[],$C16,H$6)=0,"",INDEX(database[],$C16,H$6)),"") -> Main Office | I16: =IFERROR(IF(INDEX(database[],$C16,I$6)=0,"",INDEX(database[],$C16,I$6)),"") -> Finance | J16: =IFERROR(IF(INDEX(database[],$C16,J$6)=0,"",INDEX(database[],$C16,J$6)),"") -> Home Office | K16: =IFERROR(IF(INDEX(database[],$C16,K$6)=0,"",INDEX(database[],$C16,K$6)),"") -> Vice-Director | ... AV16: =IFERROR(IF(INDEX(database[],$C16,AV$6)=0,"",INDEX(database[],$C16,AV$6)),"") | AW16: =IFERROR(IF(INDEX(MainTable,$C16,$BQ$68)="",INDEX(MainTable,$C16,$BQ$69),INDEX(MainTable,$C16,$BQ$68)&"-"&INDEX(MainTable,$C16,$BQ$69)),"") -> M-0009-Harris Montes | AX16: =IFERROR(YEAR(BD16),"") -> 2023 | AY16: =IFERROR(YEAR(BF16),"") | AZ16: =IFERROR(YEAR(BE16),"") -> 1983 | BA16: =IFERROR(DATEDIF(BE16,TODAY(),"y"),"") -> 39 | BB16: =IFERROR(IF(LEN(BA16)=0,"",IF(BA16<18,$CO$54,IF(AND(BA16>=18,BA16<31),$CO$55,IF(AND(BA16>=31,BA16<41),$CO$56,IF(AND(BA16>=41,BA16<50),$CO$57,IF(AND(BA16>=51,BA16<60),$CO$58,IF(BA16>=61,$CO$59,""))))))),"") -> 31-40 | BC16: =IFERROR(INDEX(MainTable,$C16,BC$6),"") -> 12000 | BD16: =IFERROR(INDEX(MainTable,$C16,BD$6),"") -> 44927 | BE16: =IFERROR(INDEX(MainTable,$C16,BE$6),"") -> 30547 | BF16: =IFERROR(INDEX(MainTable,$C16,BF$6),"") | BG16: =IFERROR(INDEX(MainTable,$C16,BG$6),"") | BH16: =IFERROR(INDEX(MainTable,$C16,BH$6),"") | BI16: =IFERROR(INDEX(MainTable,$C16,BI$6),"") | BJ16: =IFERROR(IF(order=123,DAY(BD16)&connector&IF(desc="Extended",INDEX(months,MONTH(BD16),1),MONTH(BD16))&connector&IF(desc="Short", RIGHT(YEAR(BD16),2),YEAR(BD16)),IF(order=213, MONTH(BD16)&connector&DAY(BD16)&connector&IF(desc="Short", RIGHT(YEAR(BD16),2),YEAR(BD16)),IF(desc="Short", RIGHT(YEAR(BD16),2),YEAR(BD16))&connector&MONTH(BD16)&connector&DAY(BD16))),BD16) -> 1 Jan 2023 | BK16: =IFERROR(IF(order=123,DAY(BE16)&connector&IF(desc="Extended",INDEX(months,MONTH(BE16),1),MONTH(BE16))&connector&IF(desc="Short", RIGHT(YEAR(BE16),2),YEAR(BE16)),IF(order=213, MONTH(BE16)&connector&DAY(BE16)&connector&IF(desc="Short", RIGHT(YEAR(BE16),2),YEAR(BE16)),IF(desc="Short", RIGHT(YEAR(BE16),2),YEAR(BE16))&connector&MONTH(BE16)&connector&DAY(BE16))),BE16) -> 19 Aug 1983 | BL16: =IFERROR(IF(order=123,DAY(BF16)&connector&IF(desc="Extended",INDEX(months,MONTH(BF16),1),MONTH(BF16))&connector&IF(desc="Short", RIGHT(YEAR(BF16),2),YEAR(BF16)),IF(order=213, MONTH(BF16)&connector&DAY(BF16)&connector&IF(desc="Short", RIGHT(YEAR(BF16),2),YEAR(BF16)),IF(desc="Short", RIGHT(YEAR(BF16),2),YEAR(BF16))&connector&MONTH(BF16)&connector&DAY(BF16))),BF16) | BM16: =IFERROR(IF(order=123,DAY(BG16)&connector&IF(desc="Extended",INDEX(months,MONTH(BG16),1),MONTH(BG16))&connector&IF(desc="Short", RIGHT(YEAR(BG16),2),YEAR(BG16)),IF(order=213, MONTH(BG16)&connector&DAY(BG16)&connector&IF(desc="Short", RIGHT(YEAR(BG16),2),YEAR(BG16)),IF(desc="Short", RIGHT(YEAR(BG16),2),YEAR(BG16))&connector&MONTH(BG16)&connector&DAY(BG16))),BG16) | BN16: =IFERROR(IF(order=123,DAY(BH16)&connector&IF(desc="Extended",INDEX(months,MONTH(BH16),1),MONTH(BH16))&connector&IF(desc="Short", RIGHT(YEAR(BH16),2),YEAR(BH16)),IF(order=213, MONTH(BH16)&connector&DAY(BH16)&connector&IF(desc="Short", RIGHT(YEAR(BH16),2),YEAR(BH16)),IF(desc="Short", RIGHT(YEAR(BH16),2),YEAR(BH16))&connector&MONTH(BH16)&connector&DAY(BH16))),BH16) | BO16: =IFERROR(IF(order=123,DAY(BI16)&connector&IF(desc="Extended",INDEX(months,MONTH(BI16),1),MONTH(BI16))&connector&IF(desc="Short", RIGHT(YEAR(BI16),2),YEAR(BI16)),IF(order=213, MONTH(BI16)&connector&DAY(BI16)&connector&IF(desc="Short", RIGHT(YEAR(BI16),2),YEAR(BI16)),IF(desc="Short", RIGHT(YEAR(BI16),2),YEAR(BI16))&connector&MONTH(BI16)&connector&DAY(BI16))),BI16) | BQ16: 9 | BR16: =IFERROR(INDEX(database[#Headers],0,BQ16),"") -> ID / Passport | BU16: =IFERROR(IF(OR(BU$7="",List!$B$8="",List!$B$8="All"),1,IF(List!$B$8=INDEX(IF(BU$5="d",DateTable,MainTable),$C16,BU$6),1,0)),0) -> 1 | BV16: =IFERROR(IF(OR(BV$7="",List!$B$11="",List!$B$11="All"),1,IF(List!$B$11=INDEX(IF(BV$5="d",DateTable,MainTable),$C16,BV$6),1,0)),0) -> 1 | BW16: =IFERROR(IF(OR(BW$7="",List!$B$14="",List!$B$14="All"),1,IF(List!$B$14=INDEX(IF(BW$5="d",DateTable,MainTable),$C16,BW$6),1,0)),0) -> 1 | BX16: =IFERROR(IF(OR(BX$7="",List!$B$17="",List!$B$17="All"),1,IF(List!$B$17=INDEX(IF(BX$5="d",DateTable,MainTable),$C16,BX$6),1,0)),0) -> 1 | BY16: =BU16*BV16*BW16*BX16 -> 1 | CA16: =IFERROR(IF(OR(AND(D16="",E16=""),BY16=0),"",$C16),"") -> 9 | CB16: =IFERROR(SMALL($CA$8:$CA$26,$C16),"") -> 9 | CD16: =IFERROR(IF(OR(Dashboard!$C$7="",Dashboard!$C$7="All"),1,IF(Dashboard!$C$7=INDEX(MainTable,$C16,CD$6),1,0)),0) -> 1 | CE16: =IFERROR(IF(OR(Dashboard!$E$7="",Dashboard!$E$7="All"),1,IF(Dashboard!$E$7=INDEX(MainTable,$C16,CE$6),1,0)),0) -> 1 | CF16: =IFERROR(IF(OR(Dashboard!$G$7="",Dashboard!$G$7="All"),1,IF(Dashboard!$G$7=INDEX(MainTable,$C16,CF$6),1,0)),0) -> 1 | CG16: =IFERROR(IF(OR(Dashboard!$I$7="",Dashboard!$I$7="All"),1,IF(Dashboard!$I$7=INDEX(MainTable,$C16,CG$6),1,0)),0) -> 1 | CH16: =CD16*CE16*CF16*CG16 -> 1 | CJ16: =IFERROR(IF(AND($AX16<$CM$5,OR($AY16="",$AY16>=CM$5)),1,0),0) -> 0 | CK16: =IFERROR(IF(AND($AX16<=$CM$5,OR($AY16="",$AY16>$CM$5)),1,0),0) -> 1 | CL16: =IFERROR(IF($AY16="",0,IF($AY16=$CM$5,1,0)),0) -> 0 | CM16: =IFERROR(IF($AX16="",0,IF($AX16=$CM$5,1,0)),0) -> 1 | CO16: Index Numbers fo Dynamic Headers | CU16: Jun | CV16: 31 Jan 2021 | CX16: 123 | CY16: Extended | DA16: =IFERROR(IF(Settings!C17="","",Settings!C17),"") | DC16: =IFERROR(IF(Settings!E17="","",Settings!E17),"") | DE16: =IFERROR(IF(Settings!G17="","",Settings!G17),"") | DG16: =IFERROR(INDEX(IF(DG$5="d",DateTable,MainTable),$C16,DH$5),"") -> Finance | DH16: =IFERROR(IF(COUNTIF($DG$8:$DG16,DG16)>1,"",DG16),"") -> Finance | DI16: {=IFERROR(INDEX(filter1,SMALL(IF(LEN(filter1)>0,ROW(filter1)-ROW(INDEX(filter1,1,1))+1),ROW($DF16)-ROW($DF$7))),"")} | DJ16: =IFERROR(INDEX(IF(DJ$5="d",DateTable,MainTable),$C16,DK$5),"") -> Postgraduate Degree | DK16: =IFERROR(IF(COUNTIF($DJ$8:$DJ16,DJ16)>1,"",DJ16),"") | DL16: {=IFERROR(INDEX(filter2,SMALL(IF(LEN(filter2)>0,ROW(filter2)-ROW(INDEX(filter2,1,1))+1),ROW($DF16)-ROW($DF$7))),"")} | DM16: =IFERROR(INDEX(IF(DM$5="d",DateTable,MainTable),$C16,DN$5),"") -> Male | DN16: =IFERROR(IF(COUNTIF($DM$8:$DM16,DM16)>1,"",DM16),"") | DO16: {=IFERROR(INDEX(filter3,SMALL(IF(LEN(filter3)>0,ROW(filter3)-ROW(INDEX(filter3,1,1))+1),ROW($DF16)-ROW($DF$7))),"")} | DP16: =IFERROR(INDEX(IF(DP$5="d",DateTable,MainTable),$C16,DQ$5),"") -> USA | DQ16: =IFERROR(IF(COUNTIF($DP$8:$DP16,DP16)>1,"",DP16),"") | DR16: {=IFERROR(INDEX(filter4,SMALL(IF(LEN(filter4)>0,ROW(filter4)-ROW(INDEX(filter4,1,1))+1),ROW($DF16)-ROW($DF$7))),"")} | DT16: =IFERROR(IF(OR(LEN(Form!C15)>0,LEN(Form!D15)>0,LEN(Form!G15)>0),ROW(Form!A15),""),"") -> 15 | DW16: =IFERROR(IF(COUNTIF($AX$8:$AX16,AX16)>1,"",AX16),"") | DX16: {=IFERROR(INDEX($DW$8:$DW$26,SMALL(IF(LEN($DW$8:$DW$26)>0,ROW($DW$8:$DW$26)-ROW(INDEX($DW$8:$DW$26,1,1))+1),ROW($DF16)-ROW($DF$7))),"")} | DZ16: Box 9 | EA16: =IFERROR(IF(AND(List!K$5<>"",List!L$5="",List!M$5=""),Calc!$DZ$18,""),"")
C17: 10 | D17: =IFERROR(IF(INDEX(database[],$C17,D$6)=0,"",INDEX(database[],$C17,D$6)),"") -> M-00010 | E17: =IFERROR(IF(INDEX(database[],$C17,E$6)=0,"",INDEX(database[],$C17,E$6)),"") -> Doris Power | F17: =IFERROR(IF(INDEX(database[],$C17,F$6)=0,"",INDEX(database[],$C17,F$6)),"") -> 44958 | G17: =IFERROR(IF(INDEX(database[],$C17,G$6)=0,"",INDEX(database[],$C17,G$6)),"") -> Website | H17: =IFERROR(IF(INDEX(database[],$C17,H$6)=0,"",INDEX(database[],$C17,H$6)),"") -> Main Office | I17: =IFERROR(IF(INDEX(database[],$C17,I$6)=0,"",INDEX(database[],$C17,I$6)),"") -> HR | J17: =IFERROR(IF(INDEX(database[],$C17,J$6)=0,"",INDEX(database[],$C17,J$6)),"") -> Full Time | K17: =IFERROR(IF(INDEX(database[],$C17,K$6)=0,"",INDEX(database[],$C17,K$6)),"") -> Expert | ... AV17: =IFERROR(IF(INDEX(database[],$C17,AV$6)=0,"",INDEX(database[],$C17,AV$6)),"") | AW17: =IFERROR(IF(INDEX(MainTable,$C17,$BQ$68)="",INDEX(MainTable,$C17,$BQ$69),INDEX(MainTable,$C17,$BQ$68)&"-"&INDEX(MainTable,$C17,$BQ$69)),"") -> M-00010-Doris Power | AX17: =IFERROR(YEAR(BD17),"") -> 2023 | AY17: =IFERROR(YEAR(BF17),"") | AZ17: =IFERROR(YEAR(BE17),"") -> 1984 | BA17: =IFERROR(DATEDIF(BE17,TODAY(),"y"),"") -> 38 | BB17: =IFERROR(IF(LEN(BA17)=0,"",IF(BA17<18,$CO$54,IF(AND(BA17>=18,BA17<31),$CO$55,IF(AND(BA17>=31,BA17<41),$CO$56,IF(AND(BA17>=41,BA17<50),$CO$57,IF(AND(BA17>=51,BA17<60),$CO$58,IF(BA17>=61,$CO$59,""))))))),"") -> 31-40 | BC17: =IFERROR(INDEX(MainTable,$C17,BC$6),"") -> 5300 | BD17: =IFERROR(INDEX(MainTable,$C17,BD$6),"") -> 44958 | BE17: =IFERROR(INDEX(MainTable,$C17,BE$6),"") -> 30797 | BF17: =IFERROR(INDEX(MainTable,$C17,BF$6),"") | BG17: =IFERROR(INDEX(MainTable,$C17,BG$6),"") | BH17: =IFERROR(INDEX(MainTable,$C17,BH$6),"") | BI17: =IFERROR(INDEX(MainTable,$C17,BI$6),"") | BJ17: =IFERROR(IF(order=123,DAY(BD17)&connector&IF(desc="Extended",INDEX(months,MONTH(BD17),1),MONTH(BD17))&connector&IF(desc="Short", RIGHT(YEAR(BD17),2),YEAR(BD17)),IF(order=213, MONTH(BD17)&connector&DAY(BD17)&connector&IF(desc="Short", RIGHT(YEAR(BD17),2),YEAR(BD17)),IF(desc="Short", RIGHT(YEAR(BD17),2),YEAR(BD17))&connector&MONTH(BD17)&connector&DAY(BD17))),BD17) -> 1 Feb 2023 | BK17: =IFERROR(IF(order=123,DAY(BE17)&connector&IF(desc="Extended",INDEX(months,MONTH(BE17),1),MONTH(BE17))&connector&IF(desc="Short", RIGHT(YEAR(BE17),2),YEAR(BE17)),IF(order=213, MONTH(BE17)&connector&DAY(BE17)&connector&IF(desc="Short", RIGHT(YEAR(BE17),2),YEAR(BE17)),IF(desc="Short", RIGHT(YEAR(BE17),2),YEAR(BE17))&connector&MONTH(BE17)&connector&DAY(BE17))),BE17) -> 25 Apr 1984 | BL17: =IFERROR(IF(order=123,DAY(BF17)&connector&IF(desc="Extended",INDEX(months,MONTH(BF17),1),MONTH(BF17))&connector&IF(desc="Short", RIGHT(YEAR(BF17),2),YEAR(BF17)),IF(order=213, MONTH(BF17)&connector&DAY(BF17)&connector&IF(desc="Short", RIGHT(YEAR(BF17),2),YEAR(BF17)),IF(desc="Short", RIGHT(YEAR(BF17),2),YEAR(BF17))&connector&MONTH(BF17)&connector&DAY(BF17))),BF17) | BM17: =IFERROR(IF(order=123,DAY(BG17)&connector&IF(desc="Extended",INDEX(months,MONTH(BG17),1),MONTH(BG17))&connector&IF(desc="Short", RIGHT(YEAR(BG17),2),YEAR(BG17)),IF(order=213, MONTH(BG17)&connector&DAY(BG17)&connector&IF(desc="Short", RIGHT(YEAR(BG17),2),YEAR(BG17)),IF(desc="Short", RIGHT(YEAR(BG17),2),YEAR(BG17))&connector&MONTH(BG17)&connector&DAY(BG17))),BG17) | BN17: =IFERROR(IF(order=123,DAY(BH17)&connector&IF(desc="Extended",INDEX(months,MONTH(BH17),1),MONTH(BH17))&connector&IF(desc="Short", RIGHT(YEAR(BH17),2),YEAR(BH17)),IF(order=213, MONTH(BH17)&connector&DAY(BH17)&connector&IF(desc="Short", RIGHT(YEAR(BH17),2),YEAR(BH17)),IF(desc="Short", RIGHT(YEAR(BH17),2),YEAR(BH17))&connector&MONTH(BH17)&connector&DAY(BH17))),BH17) | BO17: =IFERROR(IF(order=123,DAY(BI17)&connector&IF(desc="Extended",INDEX(months,MONTH(BI17),1),MONTH(BI17))&connector&IF(desc="Short", RIGHT(YEAR(BI17),2),YEAR(BI17)),IF(order=213, MONTH(BI17)&connector&DAY(BI17)&connector&IF(desc="Short", RIGHT(YEAR(BI17),2),YEAR(BI17)),IF(desc="Short", RIGHT(YEAR(BI17),2),YEAR(BI17))&connector&MONTH(BI17)&connector&DAY(BI17))),BI17) | BQ17: 10 | BR17: =IFERROR(INDEX(database[#Headers],0,BQ17),"") -> Social Security # | BU17: =IFERROR(IF(OR(BU$7="",List!$B$8="",List!$B$8="All"),1,IF(List!$B$8=INDEX(IF(BU$5="d",DateTable,MainTable),$C17,BU$6),1,0)),0) -> 1 | BV17: =IFERROR(IF(OR(BV$7="",List!$B$11="",List!$B$11="All"),1,IF(List!$B$11=INDEX(IF(BV$5="d",DateTable,MainTable),$C17,BV$6),1,0)),0) -> 1 | BW17: =IFERROR(IF(OR(BW$7="",List!$B$14="",List!$B$14="All"),1,IF(List!$B$14=INDEX(IF(BW$5="d",DateTable,MainTable),$C17,BW$6),1,0)),0) -> 1 | BX17: =IFERROR(IF(OR(BX$7="",List!$B$17="",List!$B$17="All"),1,IF(List!$B$17=INDEX(IF(BX$5="d",DateTable,MainTable),$C17,BX$6),1,0)),0) -> 1 | BY17: =BU17*BV17*BW17*BX17 -> 1 | CA17: =IFERROR(IF(OR(AND(D17="",E17=""),BY17=0),"",$C17),"") -> 10 | CB17: =IFERROR(SMALL($CA$8:$CA$26,$C17),"") -> 10 | CD17: =IFERROR(IF(OR(Dashboard!$C$7="",Dashboard!$C$7="All"),1,IF(Dashboard!$C$7=INDEX(MainTable,$C17,CD$6),1,0)),0) -> 1 | CE17: =IFERROR(IF(OR(Dashboard!$E$7="",Dashboard!$E$7="All"),1,IF(Dashboard!$E$7=INDEX(MainTable,$C17,CE$6),1,0)),0) -> 1 | CF17: =IFERROR(IF(OR(Dashboard!$G$7="",Dashboard!$G$7="All"),1,IF(Dashboard!$G$7=INDEX(MainTable,$C17,CF$6),1,0)),0) -> 1 | CG17: =IFERROR(IF(OR(Dashboard!$I$7="",Dashboard!$I$7="All"),1,IF(Dashboard!$I$7=INDEX(MainTable,$C17,CG$6),1,0)),0) -> 1 | CH17: =CD17*CE17*CF17*CG17 -> 1 | CJ17: =IFERROR(IF(AND($AX17<$CM$5,OR($AY17="",$AY17>=CM$5)),1,0),0) -> 0 | CK17: =IFERROR(IF(AND($AX17<=$CM$5,OR($AY17="",$AY17>$CM$5)),1,0),0) -> 1 | CL17: =IFERROR(IF($AY17="",0,IF($AY17=$CM$5,1,0)),0) -> 0 | CM17: =IFERROR(IF($AX17="",0,IF($AX17=$CM$5,1,0)),0) -> 1 | CO17: =IFERROR(IF(Settings!I25="","Gender",Settings!I25),"") -> Gender | CP17: =IFERROR(MATCH(CO17,Headers,0),"") -> 11 | CU17: Jul | DA17: =IFERROR(IF(Settings!C18="","",Settings!C18),"") | DC17: =IFERROR(IF(Settings!E18="","",Settings!E18),"") | DE17: =IFERROR(IF(Settings!G18="","",Settings!G18),"") | DG17: =IFERROR(INDEX(IF(DG$5="d",DateTable,MainTable),$C17,DH$5),"") -> HR | DH17: =IFERROR(IF(COUNTIF($DG$8:$DG17,DG17)>1,"",DG17),"") -> HR | DI17: {=IFERROR(INDEX(filter1,SMALL(IF(LEN(filter1)>0,ROW(filter1)-ROW(INDEX(filter1,1,1))+1),ROW($DF17)-ROW($DF$7))),"")} | DJ17: =IFERROR(INDEX(IF(DJ$5="d",DateTable,MainTable),$C17,DK$5),"") -> Bachelor's Degree | DK17: =IFERROR(IF(COUNTIF($DJ$8:$DJ17,DJ17)>1,"",DJ17),"") | DL17: {=IFERROR(INDEX(filter2,SMALL(IF(LEN(filter2)>0,ROW(filter2)-ROW(INDEX(filter2,1,1))+1),ROW($DF17)-ROW($DF$7))),"")} | DM17: =IFERROR(INDEX(IF(DM$5="d",DateTable,MainTable),$C17,DN$5),"") -> Male | DN17: =IFERROR(IF(COUNTIF($DM$8:$DM17,DM17)>1,"",DM17),"") | DO17: {=IFERROR(INDEX(filter3,SMALL(IF(LEN(filter3)>0,ROW(filter3)-ROW(INDEX(filter3,1,1))+1),ROW($DF17)-ROW($DF$7))),"")} | DP17: =IFERROR(INDEX(IF(DP$5="d",DateTable,MainTable),$C17,DQ$5),"") -> USA | DQ17: =IFERROR(IF(COUNTIF($DP$8:$DP17,DP17)>1,"",DP17),"") | DR17: {=IFERROR(INDEX(filter4,SMALL(IF(LEN(filter4)>0,ROW(filter4)-ROW(INDEX(filter4,1,1))+1),ROW($DF17)-ROW($DF$7))),"")} | DT17: =IFERROR(IF(OR(LEN(Form!C16)>0,LEN(Form!D16)>0,LEN(Form!G16)>0),ROW(Form!A16),""),"") -> 16 | DW17: =IFERROR(IF(COUNTIF($AX$8:$AX17,AX17)>1,"",AX17),"") | DX17: {=IFERROR(INDEX($DW$8:$DW$26,SMALL(IF(LEN($DW$8:$DW$26)>0,ROW($DW$8:$DW$26)-ROW(INDEX($DW$8:$DW$26,1,1))+1),ROW($DF17)-ROW($DF$7))),"")} | DZ17: Box 10 | EA17: =IFERROR(IF(AND(List!L$5<>"",List!M$5="",List!N$5=""),Calc!$DZ$18,""),"")
C18: 11 | D18: =IFERROR(IF(INDEX(database[],$C18,D$6)=0,"",INDEX(database[],$C18,D$6)),"") -> N-00011 | E18: =IFERROR(IF(INDEX(database[],$C18,E$6)=0,"",INDEX(database[],$C18,E$6)),"") -> Isobelle Hurley | F18: =IFERROR(IF(INDEX(database[],$C18,F$6)=0,"",INDEX(database[],$C18,F$6)),"") -> 44986 | G18: =IFERROR(IF(INDEX(database[],$C18,G$6)=0,"",INDEX(database[],$C18,G$6)),"") -> LinkedIn | H18: =IFERROR(IF(INDEX(database[],$C18,H$6)=0,"",INDEX(database[],$C18,H$6)),"") -> North Office | I18: =IFERROR(IF(INDEX(database[],$C18,I$6)=0,"",INDEX(database[],$C18,I$6)),"") -> Purchase | J18: =IFERROR(IF(INDEX(database[],$C18,J$6)=0,"",INDEX(database[],$C18,J$6)),"") -> Full Time | K18: =IFERROR(IF(INDEX(database[],$C18,K$6)=0,"",INDEX(database[],$C18,K$6)),"") -> Expert | ... AV18: =IFERROR(IF(INDEX(database[],$C18,AV$6)=0,"",INDEX(database[],$C18,AV$6)),"") | AW18: =IFERROR(IF(INDEX(MainTable,$C18,$BQ$68)="",INDEX(MainTable,$C18,$BQ$69),INDEX(MainTable,$C18,$BQ$68)&"-"&INDEX(MainTable,$C18,$BQ$69)),"") -> N-00011-Isobelle Hurley | AX18: =IFERROR(YEAR(BD18),"") -> 2023 | AY18: =IFERROR(YEAR(BF18),"") | AZ18: =IFERROR(YEAR(BE18),"") -> 1984 | BA18: =IFERROR(DATEDIF(BE18,TODAY(),"y"),"") -> 38 | BB18: =IFERROR(IF(LEN(BA18)=0,"",IF(BA18<18,$CO$54,IF(AND(BA18>=18,BA18<31),$CO$55,IF(AND(BA18>=31,BA18<41),$CO$56,IF(AND(BA18>=41,BA18<50),$CO$57,IF(AND(BA18>=51,BA18<60),$CO$58,IF(BA18>=61,$CO$59,""))))))),"") -> 31-40 | BC18: =IFERROR(INDEX(MainTable,$C18,BC$6),"") | BD18: =IFERROR(INDEX(MainTable,$C18,BD$6),"") -> 44986 | BE18: =IFERROR(INDEX(MainTable,$C18,BE$6),"") -> 31047 | BF18: =IFERROR(INDEX(MainTable,$C18,BF$6),"") | BG18: =IFERROR(INDEX(MainTable,$C18,BG$6),"") | BH18: =IFERROR(INDEX(MainTable,$C18,BH$6),"") | BI18: =IFERROR(INDEX(MainTable,$C18,BI$6),"") | BJ18: =IFERROR(IF(order=123,DAY(BD18)&connector&IF(desc="Extended",INDEX(months,MONTH(BD18),1),MONTH(BD18))&connector&IF(desc="Short", RIGHT(YEAR(BD18),2),YEAR(BD18)),IF(order=213, MONTH(BD18)&connector&DAY(BD18)&connector&IF(desc="Short", RIGHT(YEAR(BD18),2),YEAR(BD18)),IF(desc="Short", RIGHT(YEAR(BD18),2),YEAR(BD18))&connector&MONTH(BD18)&connector&DAY(BD18))),BD18) -> 1 Mar 2023 | BK18: =IFERROR(IF(order=123,DAY(BE18)&connector&IF(desc="Extended",INDEX(months,MONTH(BE18),1),MONTH(BE18))&connector&IF(desc="Short", RIGHT(YEAR(BE18),2),YEAR(BE18)),IF(order=213, MONTH(BE18)&connector&DAY(BE18)&connector&IF(desc="Short", RIGHT(YEAR(BE18),2),YEAR(BE18)),IF(desc="Short", RIGHT(YEAR(BE18),2),YEAR(BE18))&connector&MONTH(BE18)&connector&DAY(BE18))),BE18) -> 31 Dec 1984 | BL18: =IFERROR(IF(order=123,DAY(BF18)&connector&IF(desc="Extended",INDEX(months,MONTH(BF18),1),MONTH(BF18))&connector&IF(desc="Short", RIGHT(YEAR(BF18),2),YEAR(BF18)),IF(order=213, MONTH(BF18)&connector&DAY(BF18)&connector&IF(desc="Short", RIGHT(YEAR(BF18),2),YEAR(BF18)),IF(desc="Short", RIGHT(YEAR(BF18),2),YEAR(BF18))&connector&MONTH(BF18)&connector&DAY(BF18))),BF18) | BM18: =IFERROR(IF(order=123,DAY(BG18)&connector&IF(desc="Extended",INDEX(months,MONTH(BG18),1),MONTH(BG18))&connector&IF(desc="Short", RIGHT(YEAR(BG18),2),YEAR(BG18)),IF(order=213, MONTH(BG18)&connector&DAY(BG18)&connector&IF(desc="Short", RIGHT(YEAR(BG18),2),YEAR(BG18)),IF(desc="Short", RIGHT(YEAR(BG18),2),YEAR(BG18))&connector&MONTH(BG18)&connector&DAY(BG18))),BG18) | BN18: =IFERROR(IF(order=123,DAY(BH18)&connector&IF(desc="Extended",INDEX(months,MONTH(BH18),1),MONTH(BH18))&connector&IF(desc="Short", RIGHT(YEAR(BH18),2),YEAR(BH18)),IF(order=213, MONTH(BH18)&connector&DAY(BH18)&connector&IF(desc="Short", RIGHT(YEAR(BH18),2),YEAR(BH18)),IF(desc="Short", RIGHT(YEAR(BH18),2),YEAR(BH18))&connector&MONTH(BH18)&connector&DAY(BH18))),BH18) | BO18: =IFERROR(IF(order=123,DAY(BI18)&connector&IF(desc="Extended",INDEX(months,MONTH(BI18),1),MONTH(BI18))&connector&IF(desc="Short", RIGHT(YEAR(BI18),2),YEAR(BI18)),IF(order=213, MONTH(BI18)&connector&DAY(BI18)&connector&IF(desc="Short", RIGHT(YEAR(BI18),2),YEAR(BI18)),IF(desc="Short", RIGHT(YEAR(BI18),2),YEAR(BI18))&connector&MONTH(BI18)&connector&DAY(BI18))),BI18) | BQ18: 11 | BR18: =IFERROR(INDEX(database[#Headers],0,BQ18),"") -> Gender | BU18: =IFERROR(IF(OR(BU$7="",List!$B$8="",List!$B$8="All"),1,IF(List!$B$8=INDEX(IF(BU$5="d",DateTable,MainTable),$C18,BU$6),1,0)),0) -> 1 | BV18: =IFERROR(IF(OR(BV$7="",List!$B$11="",List!$B$11="All"),1,IF(List!$B$11=INDEX(IF(BV$5="d",DateTable,MainTable),$C18,BV$6),1,0)),0) -> 1 | BW18: =IFERROR(IF(OR(BW$7="",List!$B$14="",List!$B$14="All"),1,IF(List!$B$14=INDEX(IF(BW$5="d",DateTable,MainTable),$C18,BW$6),1,0)),0) -> 1 | BX18: =IFERROR(IF(OR(BX$7="",List!$B$17="",List!$B$17="All"),1,IF(List!$B$17=INDEX(IF(BX$5="d",DateTable,MainTable),$C18,BX$6),1,0)),0) -> 1 | BY18: =BU18*BV18*BW18*BX18 -> 1 | CA18: =IFERROR(IF(OR(AND(D18="",E18=""),BY18=0),"",$C18),"") -> 11 | CB18: =IFERROR(SMALL($CA$8:$CA$26,$C18),"") -> 11 | CD18: =IFERROR(IF(OR(Dashboard!$C$7="",Dashboard!$C$7="All"),1,IF(Dashboard!$C$7=INDEX(MainTable,$C18,CD$6),1,0)),0) -> 1 | CE18: =IFERROR(IF(OR(Dashboard!$E$7="",Dashboard!$E$7="All"),1,IF(Dashboard!$E$7=INDEX(MainTable,$C18,CE$6),1,0)),0) -> 1 | CF18: =IFERROR(IF(OR(Dashboard!$G$7="",Dashboard!$G$7="All"),1,IF(Dashboard!$G$7=INDEX(MainTable,$C18,CF$6),1,0)),0) -> 1 | CG18: =IFERROR(IF(OR(Dashboard!$I$7="",Dashboard!$I$7="All"),1,IF(Dashboard!$I$7=INDEX(MainTable,$C18,CG$6),1,0)),0) -> 1 | CH18: =CD18*CE18*CF18*CG18 -> 1 | CJ18: =IFERROR(IF(AND($AX18<$CM$5,OR($AY18="",$AY18>=CM$5)),1,0),0) -> 0 | CK18: =IFERROR(IF(AND($AX18<=$CM$5,OR($AY18="",$AY18>$CM$5)),1,0),0) -> 1 | CL18: =IFERROR(IF($AY18="",0,IF($AY18=$CM$5,1,0)),0) -> 0 | CM18: =IFERROR(IF($AX18="",0,IF($AX18=$CM$5,1,0)),0) -> 1 | CO18: =IFERROR(IF(Settings!K17="","Termination Reason",Settings!K17),"") -> Termination Reason | CP18: =IFERROR(MATCH(CO18,Headers,0),"") -> 32 | CU18: Aug | DA18: =IFERROR(IF(Settings!C19="","",Settings!C19),"") | DC18: =IFERROR(IF(Settings!E19="","",Settings!E19),"") | DE18: =IFERROR(IF(Settings!G19="","",Settings!G19),"") | DG18: =IFERROR(INDEX(IF(DG$5="d",DateTable,MainTable),$C18,DH$5),"") -> Purchase | DH18: =IFERROR(IF(COUNTIF($DG$8:$DG18,DG18)>1,"",DG18),"") -> Purchase | DI18: {=IFERROR(INDEX(filter1,SMALL(IF(LEN(filter1)>0,ROW(filter1)-ROW(INDEX(filter1,1,1))+1),ROW($DF18)-ROW($DF$7))),"")} | DJ18: =IFERROR(INDEX(IF(DJ$5="d",DateTable,MainTable),$C18,DK$5),"") -> Bachelor's Degree | DK18: =IFERROR(IF(COUNTIF($DJ$8:$DJ18,DJ18)>1,"",DJ18),"") | DL18: {=IFERROR(INDEX(filter2,SMALL(IF(LEN(filter2)>0,ROW(filter2)-ROW(INDEX(filter2,1,1))+1),ROW($DF18)-ROW($DF$7))),"")} | DM18: =IFERROR(INDEX(IF(DM$5="d",DateTable,MainTable),$C18,DN$5),"") -> Female | DN18: =IFERROR(IF(COUNTIF($DM$8:$DM18,DM18)>1,"",DM18),"") | DO18: {=IFERROR(INDEX(filter3,SMALL(IF(LEN(filter3)>0,ROW(filter3)-ROW(INDEX(filter3,1,1))+1),ROW($DF18)-ROW($DF$7))),"")} | DP18: =IFERROR(INDEX(IF(DP$5="d",DateTable,MainTable),$C18,DQ$5),"") -> USA | DQ18: =IFERROR(IF(COUNTIF($DP$8:$DP18,DP18)>1,"",DP18),"") | DR18: {=IFERROR(INDEX(filter4,SMALL(IF(LEN(filter4)>0,ROW(filter4)-ROW(INDEX(filter4,1,1))+1),ROW($DF18)-ROW($DF$7))),"")} | DT18: =IFERROR(IF(OR(LEN(Form!C17)>0,LEN(Form!D17)>0,LEN(Form!G17)>0),ROW(Form!A17),""),"") -> 17 | DW18: =IFERROR(IF(COUNTIF($AX$8:$AX18,AX18)>1,"",AX18),"") | DX18: {=IFERROR(INDEX($DW$8:$DW$26,SMALL(IF(LEN($DW$8:$DW$26)>0,ROW($DW$8:$DW$26)-ROW(INDEX($DW$8:$DW$26,1,1))+1),ROW($DF18)-ROW($DF$7))),"")} | DZ18: ↓
C19: 12 | D19: =IFERROR(IF(INDEX(database[],$C19,D$6)=0,"",INDEX(database[],$C19,D$6)),"") -> N-00012 | E19: =IFERROR(IF(INDEX(database[],$C19,E$6)=0,"",INDEX(database[],$C19,E$6)),"") -> Donell Merrill | F19: =IFERROR(IF(INDEX(database[],$C19,F$6)=0,"",INDEX(database[],$C19,F$6)),"") -> 44986 | G19: =IFERROR(IF(INDEX(database[],$C19,G$6)=0,"",INDEX(database[],$C19,G$6)),"") -> LinkedIn | H19: =IFERROR(IF(INDEX(database[],$C19,H$6)=0,"",INDEX(database[],$C19,H$6)),"") -> North Office | I19: =IFERROR(IF(INDEX(database[],$C19,I$6)=0,"",INDEX(database[],$C19,I$6)),"") -> Sales | J19: =IFERROR(IF(INDEX(database[],$C19,J$6)=0,"",INDEX(database[],$C19,J$6)),"") -> Part Time | K19: =IFERROR(IF(INDEX(database[],$C19,K$6)=0,"",INDEX(database[],$C19,K$6)),"") -> Salesman | ... AV19: =IFERROR(IF(INDEX(database[],$C19,AV$6)=0,"",INDEX(database[],$C19,AV$6)),"") | AW19: =IFERROR(IF(INDEX(MainTable,$C19,$BQ$68)="",INDEX(MainTable,$C19,$BQ$69),INDEX(MainTable,$C19,$BQ$68)&"-"&INDEX(MainTable,$C19,$BQ$69)),"") -> N-00012-Donell Merrill | AX19: =IFERROR(YEAR(BD19),"") -> 2023 | AY19: =IFERROR(YEAR(BF19),"") -> 2023 | AZ19: =IFERROR(YEAR(BE19),"") -> 1985 | BA19: =IFERROR(DATEDIF(BE19,TODAY(),"y"),"") -> 37 | BB19: =IFERROR(IF(LEN(BA19)=0,"",IF(BA19<18,$CO$54,IF(AND(BA19>=18,BA19<31),$CO$55,IF(AND(BA19>=31,BA19<41),$CO$56,IF(AND(BA19>=41,BA19<50),$CO$57,IF(AND(BA19>=51,BA19<60),$CO$58,IF(BA19>=61,$CO$59,""))))))),"") -> 31-40 | BC19: =IFERROR(INDEX(MainTable,$C19,BC$6),"") -> 3200 | BD19: =IFERROR(INDEX(MainTable,$C19,BD$6),"") -> 44986 | BE19: =IFERROR(INDEX(MainTable,$C19,BE$6),"") -> 31297 | BF19: =IFERROR(INDEX(MainTable,$C19,BF$6),"") -> 45078 | BG19: =IFERROR(INDEX(MainTable,$C19,BG$6),"") | BH19: =IFERROR(INDEX(MainTable,$C19,BH$6),"") | BI19: =IFERROR(INDEX(MainTable,$C19,BI$6),"") | BJ19: =IFERROR(IF(order=123,DAY(BD19)&connector&IF(desc="Extended",INDEX(months,MONTH(BD19),1),MONTH(BD19))&connector&IF(desc="Short", RIGHT(YEAR(BD19),2),YEAR(BD19)),IF(order=213, MONTH(BD19)&connector&DAY(BD19)&connector&IF(desc="Short", RIGHT(YEAR(BD19),2),YEAR(BD19)),IF(desc="Short", RIGHT(YEAR(BD19),2),YEAR(BD19))&connector&MONTH(BD19)&connector&DAY(BD19))),BD19) -> 1 Mar 2023 | BK19: =IFERROR(IF(order=123,DAY(BE19)&connector&IF(desc="Extended",INDEX(months,MONTH(BE19),1),MONTH(BE19))&connector&IF(desc="Short", RIGHT(YEAR(BE19),2),YEAR(BE19)),IF(order=213, MONTH(BE19)&connector&DAY(BE19)&connector&IF(desc="Short", RIGHT(YEAR(BE19),2),YEAR(BE19)),IF(desc="Short", RIGHT(YEAR(BE19),2),YEAR(BE19))&connector&MONTH(BE19)&connector&DAY(BE19))),BE19) -> 7 Sep 1985 | BL19: =IFERROR(IF(order=123,DAY(BF19)&connector&IF(desc="Extended",INDEX(months,MONTH(BF19),1),MONTH(BF19))&connector&IF(desc="Short", RIGHT(YEAR(BF19),2),YEAR(BF19)),IF(order=213, MONTH(BF19)&connector&DAY(BF19)&connector&IF(desc="Short", RIGHT(YEAR(BF19),2),YEAR(BF19)),IF(desc="Short", RIGHT(YEAR(BF19),2),YEAR(BF19))&connector&MONTH(BF19)&connector&DAY(BF19))),BF19) -> 1 Jun 2023 | BM19: =IFERROR(IF(order=123,DAY(BG19)&connector&IF(desc="Extended",INDEX(months,MONTH(BG19),1),MONTH(BG19))&connector&IF(desc="Short", RIGHT(YEAR(BG19),2),YEAR(BG19)),IF(order=213, MONTH(BG19)&connector&DAY(BG19)&connector&IF(desc="Short", RIGHT(YEAR(BG19),2),YEAR(BG19)),IF(desc="Short", RIGHT(YEAR(BG19),2),YEAR(BG19))&connector&MONTH(BG19)&connector&DAY(BG19))),BG19) | BN19: =IFERROR(IF(order=123,DAY(BH19)&connector&IF(desc="Extended",INDEX(months,MONTH(BH19),1),MONTH(BH19))&connector&IF(desc="Short", RIGHT(YEAR(BH19),2),YEAR(BH19)),IF(order=213, MONTH(BH19)&connector&DAY(BH19)&connector&IF(desc="Short", RIGHT(YEAR(BH19),2),YEAR(BH19)),IF(desc="Short", RIGHT(YEAR(BH19),2),YEAR(BH19))&connector&MONTH(BH19)&connector&DAY(BH19))),BH19) | BO19: =IFERROR(IF(order=123,DAY(BI19)&connector&IF(desc="Extended",INDEX(months,MONTH(BI19),1),MONTH(BI19))&connector&IF(desc="Short", RIGHT(YEAR(BI19),2),YEAR(BI19)),IF(order=213, MONTH(BI19)&connector&DAY(BI19)&connector&IF(desc="Short", RIGHT(YEAR(BI19),2),YEAR(BI19)),IF(desc="Short", RIGHT(YEAR(BI19),2),YEAR(BI19))&connector&MONTH(BI19)&connector&DAY(BI19))),BI19) | BQ19: 12 | BR19: =IFERROR(INDEX(database[#Headers],0,BQ19),"") -> Education | BU19: =IFERROR(IF(OR(BU$7="",List!$B$8="",List!$B$8="All"),1,IF(List!$B$8=INDEX(IF(BU$5="d",DateTable,MainTable),$C19,BU$6),1,0)),0) -> 1 | BV19: =IFERROR(IF(OR(BV$7="",List!$B$11="",List!$B$11="All"),1,IF(List!$B$11=INDEX(IF(BV$5="d",DateTable,MainTable),$C19,BV$6),1,0)),0) -> 1 | BW19: =IFERROR(IF(OR(BW$7="",List!$B$14="",List!$B$14="All"),1,IF(List!$B$14=INDEX(IF(BW$5="d",DateTable,MainTable),$C19,BW$6),1,0)),0) -> 1 | BX19: =IFERROR(IF(OR(BX$7="",List!$B$17="",List!$B$17="All"),1,IF(List!$B$17=INDEX(IF(BX$5="d",DateTable,MainTable),$C19,BX$6),1,0)),0) -> 1 | BY19: =BU19*BV19*BW19*BX19 -> 1 | CA19: =IFERROR(IF(OR(AND(D19="",E19=""),BY19=0),"",$C19),"") -> 12 | CB19: =IFERROR(SMALL($CA$8:$CA$26,$C19),"") -> 12 | CD19: =IFERROR(IF(OR(Dashboard!$C$7="",Dashboard!$C$7="All"),1,IF(Dashboard!$C$7=INDEX(MainTable,$C19,CD$6),1,0)),0) -> 1 | CE19: =IFERROR(IF(OR(Dashboard!$E$7="",Dashboard!$E$7="All"),1,IF(Dashboard!$E$7=INDEX(MainTable,$C19,CE$6),1,0)),0) -> 1 | CF19: =IFERROR(IF(OR(Dashboard!$G$7="",Dashboard!$G$7="All"),1,IF(Dashboard!$G$7=INDEX(MainTable,$C19,CF$6),1,0)),0) -> 1 | CG19: =IFERROR(IF(OR(Dashboard!$I$7="",Dashboard!$I$7="All"),1,IF(Dashboard!$I$7=INDEX(MainTable,$C19,CG$6),1,0)),0) -> 1 | CH19: =CD19*CE19*CF19*CG19 -> 1 | CJ19: =IFERROR(IF(AND($AX19<$CM$5,OR($AY19="",$AY19>=CM$5)),1,0),0) -> 0 | CK19: =IFERROR(IF(AND($AX19<=$CM$5,OR($AY19="",$AY19>$CM$5)),1,0),0) -> 0 | CL19: =IFERROR(IF($AY19="",0,IF($AY19=$CM$5,1,0)),0) -> 1 | CM19: =IFERROR(IF($AX19="",0,IF($AX19=$CM$5,1,0)),0) -> 1 | CO19: =IFERROR(IF(Settings!K9="","Education",Settings!K9),"") -> Education | CP19: =IFERROR(MATCH(CO19,Headers,0),"") -> 12 | CU19: Sep | DA19: =IFERROR(IF(Settings!C20="","",Settings!C20),"") | DC19: =IFERROR(IF(Settings!E20="","",Settings!E20),"") | DE19: =IFERROR(IF(Settings!G20="","",Settings!G20),"") | DG19: =IFERROR(INDEX(IF(DG$5="d",DateTable,MainTable),$C19,DH$5),"") -> Sales | DH19: =IFERROR(IF(COUNTIF($DG$8:$DG19,DG19)>1,"",DG19),"") | DI19: {=IFERROR(INDEX(filter1,SMALL(IF(LEN(filter1)>0,ROW(filter1)-ROW(INDEX(filter1,1,1))+1),ROW($DF19)-ROW($DF$7))),"")} | DJ19: =IFERROR(INDEX(IF(DJ$5="d",DateTable,MainTable),$C19,DK$5),"") -> Bachelor's Degree | DK19: =IFERROR(IF(COUNTIF($DJ$8:$DJ19,DJ19)>1,"",DJ19),"") | DL19: {=IFERROR(INDEX(filter2,SMALL(IF(LEN(filter2)>0,ROW(filter2)-ROW(INDEX(filter2,1,1))+1),ROW($DF19)-ROW($DF$7))),"")} | DM19: =IFERROR(INDEX(IF(DM$5="d",DateTable,MainTable),$C19,DN$5),"") -> Male | DN19: =IFERROR(IF(COUNTIF($DM$8:$DM19,DM19)>1,"",DM19),"") | DO19: {=IFERROR(INDEX(filter3,SMALL(IF(LEN(filter3)>0,ROW(filter3)-ROW(INDEX(filter3,1,1))+1),ROW($DF19)-ROW($DF$7))),"")} | DP19: =IFERROR(INDEX(IF(DP$5="d",DateTable,MainTable),$C19,DQ$5),"") -> USA | DQ19: =IFERROR(IF(COUNTIF($DP$8:$DP19,DP19)>1,"",DP19),"") | DR19: {=IFERROR(INDEX(filter4,SMALL(IF(LEN(filter4)>0,ROW(filter4)-ROW(INDEX(filter4,1,1))+1),ROW($DF19)-ROW($DF$7))),"")} | DT19: =IFERROR(IF(OR(LEN(Form!C18)>0,LEN(Form!D18)>0,LEN(Form!G18)>0),ROW(Form!A18),""),"") -> 18 | DW19: =IFERROR(IF(COUNTIF($AX$8:$AX19,AX19)>1,"",AX19),"") | DX19: {=IFERROR(INDEX($DW$8:$DW$26,SMALL(IF(LEN($DW$8:$DW$26)>0,ROW($DW$8:$DW$26)-ROW(INDEX($DW$8:$DW$26,1,1))+1),ROW($DF19)-ROW($DF$7))),"")}
C20: 13 | D20: =IFERROR(IF(INDEX(database[],$C20,D$6)=0,"",INDEX(database[],$C20,D$6)),"") -> N-00013 | E20: =IFERROR(IF(INDEX(database[],$C20,E$6)=0,"",INDEX(database[],$C20,E$6)),"") -> Jane Best | F20: =IFERROR(IF(INDEX(database[],$C20,F$6)=0,"",INDEX(database[],$C20,F$6)),"") -> 44986 | G20: =IFERROR(IF(INDEX(database[],$C20,G$6)=0,"",INDEX(database[],$C20,G$6)),"") -> LinkedIn | H20: =IFERROR(IF(INDEX(database[],$C20,H$6)=0,"",INDEX(database[],$C20,H$6)),"") -> North Office | I20: =IFERROR(IF(INDEX(database[],$C20,I$6)=0,"",INDEX(database[],$C20,I$6)),"") -> Sales | J20: =IFERROR(IF(INDEX(database[],$C20,J$6)=0,"",INDEX(database[],$C20,J$6)),"") -> Part Time | K20: =IFERROR(IF(INDEX(database[],$C20,K$6)=0,"",INDEX(database[],$C20,K$6)),"") -> Salesman | ... AV20: =IFERROR(IF(INDEX(database[],$C20,AV$6)=0,"",INDEX(database[],$C20,AV$6)),"") | AW20: =IFERROR(IF(INDEX(MainTable,$C20,$BQ$68)="",INDEX(MainTable,$C20,$BQ$69),INDEX(MainTable,$C20,$BQ$68)&"-"&INDEX(MainTable,$C20,$BQ$69)),"") -> N-00013-Jane Best | AX20: =IFERROR(YEAR(BD20),"") -> 2023 | AY20: =IFERROR(YEAR(BF20),"") | AZ20: =IFERROR(YEAR(BE20),"") -> 1986 | BA20: =IFERROR(DATEDIF(BE20,TODAY(),"y"),"") -> 36 | BB20: =IFERROR(IF(LEN(BA20)=0,"",IF(BA20<18,$CO$54,IF(AND(BA20>=18,BA20<31),$CO$55,IF(AND(BA20>=31,BA20<41),$CO$56,IF(AND(BA20>=41,BA20<50),$CO$57,IF(AND(BA20>=51,BA20<60),$CO$58,IF(BA20>=61,$CO$59,""))))))),"") -> 31-40 | BC20: =IFERROR(INDEX(MainTable,$C20,BC$6),"") -> 3200 | BD20: =IFERROR(INDEX(MainTable,$C20,BD$6),"") -> 44986 | BE20: =IFERROR(INDEX(MainTable,$C20,BE$6),"") -> 31547 | BF20: =IFERROR(INDEX(MainTable,$C20,BF$6),"") | BG20: =IFERROR(INDEX(MainTable,$C20,BG$6),"") | BH20: =IFERROR(INDEX(MainTable,$C20,BH$6),"") | BI20: =IFERROR(INDEX(MainTable,$C20,BI$6),"") | BJ20: =IFERROR(IF(order=123,DAY(BD20)&connector&IF(desc="Extended",INDEX(months,MONTH(BD20),1),MONTH(BD20))&connector&IF(desc="Short", RIGHT(YEAR(BD20),2),YEAR(BD20)),IF(order=213, MONTH(BD20)&connector&DAY(BD20)&connector&IF(desc="Short", RIGHT(YEAR(BD20),2),YEAR(BD20)),IF(desc="Short", RIGHT(YEAR(BD20),2),YEAR(BD20))&connector&MONTH(BD20)&connector&DAY(BD20))),BD20) -> 1 Mar 2023 | BK20: =IFERROR(IF(order=123,DAY(BE20)&connector&IF(desc="Extended",INDEX(months,MONTH(BE20),1),MONTH(BE20))&connector&IF(desc="Short", RIGHT(YEAR(BE20),2),YEAR(BE20)),IF(order=213, MONTH(BE20)&connector&DAY(BE20)&connector&IF(desc="Short", RIGHT(YEAR(BE20),2),YEAR(BE20)),IF(desc="Short", RIGHT(YEAR(BE20),2),YEAR(BE20))&connector&MONTH(BE20)&connector&DAY(BE20))),BE20) -> 15 May 1986 | BL20: =IFERROR(IF(order=123,DAY(BF20)&connector&IF(desc="Extended",INDEX(months,MONTH(BF20),1),MONTH(BF20))&connector&IF(desc="Short", RIGHT(YEAR(BF20),2),YEAR(BF20)),IF(order=213, MONTH(BF20)&connector&DAY(BF20)&connector&IF(desc="Short", RIGHT(YEAR(BF20),2),YEAR(BF20)),IF(desc="Short", RIGHT(YEAR(BF20),2),YEAR(BF20))&connector&MONTH(BF20)&connector&DAY(BF20))),BF20) | BM20: =IFERROR(IF(order=123,DAY(BG20)&connector&IF(desc="Extended",INDEX(months,MONTH(BG20),1),MONTH(BG20))&connector&IF(desc="Short", RIGHT(YEAR(BG20),2),YEAR(BG20)),IF(order=213, MONTH(BG20)&connector&DAY(BG20)&connector&IF(desc="Short", RIGHT(YEAR(BG20),2),YEAR(BG20)),IF(desc="Short", RIGHT(YEAR(BG20),2),YEAR(BG20))&connector&MONTH(BG20)&connector&DAY(BG20))),BG20) | BN20: =IFERROR(IF(order=123,DAY(BH20)&connector&IF(desc="Extended",INDEX(months,MONTH(BH20),1),MONTH(BH20))&connector&IF(desc="Short", RIGHT(YEAR(BH20),2),YEAR(BH20)),IF(order=213, MONTH(BH20)&connector&DAY(BH20)&connector&IF(desc="Short", RIGHT(YEAR(BH20),2),YEAR(BH20)),IF(desc="Short", RIGHT(YEAR(BH20),2),YEAR(BH20))&connector&MONTH(BH20)&connector&DAY(BH20))),BH20) | BO20: =IFERROR(IF(order=123,DAY(BI20)&connector&IF(desc="Extended",INDEX(months,MONTH(BI20),1),MONTH(BI20))&connector&IF(desc="Short", RIGHT(YEAR(BI20),2),YEAR(BI20)),IF(order=213, MONTH(BI20)&connector&DAY(BI20)&connector&IF(desc="Short", RIGHT(YEAR(BI20),2),YEAR(BI20)),IF(desc="Short", RIGHT(YEAR(BI20),2),YEAR(BI20))&connector&MONTH(BI20)&connector&DAY(BI20))),BI20) | BQ20: 13 | BR20: =IFERROR(INDEX(database[#Headers],0,BQ20),"") -> Date of Birth | BU20: =IFERROR(IF(OR(BU$7="",List!$B$8="",List!$B$8="All"),1,IF(List!$B$8=INDEX(IF(BU$5="d",DateTable,MainTable),$C20,BU$6),1,0)),0) -> 1 | BV20: =IFERROR(IF(OR(BV$7="",List!$B$11="",List!$B$11="All"),1,IF(List!$B$11=INDEX(IF(BV$5="d",DateTable,MainTable),$C20,BV$6),1,0)),0) -> 1 | BW20: =IFERROR(IF(OR(BW$7="",List!$B$14="",List!$B$14="All"),1,IF(List!$B$14=INDEX(IF(BW$5="d",DateTable,MainTable),$C20,BW$6),1,0)),0) -> 1 | BX20: =IFERROR(IF(OR(BX$7="",List!$B$17="",List!$B$17="All"),1,IF(List!$B$17=INDEX(IF(BX$5="d",DateTable,MainTable),$C20,BX$6),1,0)),0) -> 1 | BY20: =BU20*BV20*BW20*BX20 -> 1 | CA20: =IFERROR(IF(OR(AND(D20="",E20=""),BY20=0),"",$C20),"") -> 13 | CB20: =IFERROR(SMALL($CA$8:$CA$26,$C20),"") -> 13 | CD20: =IFERROR(IF(OR(Dashboard!$C$7="",Dashboard!$C$7="All"),1,IF(Dashboard!$C$7=INDEX(MainTable,$C20,CD$6),1,0)),0) -> 1 | CE20: =IFERROR(IF(OR(Dashboard!$E$7="",Dashboard!$E$7="All"),1,IF(Dashboard!$E$7=INDEX(MainTable,$C20,CE$6),1,0)),0) -> 1 | CF20: =IFERROR(IF(OR(Dashboard!$G$7="",Dashboard!$G$7="All"),1,IF(Dashboard!$G$7=INDEX(MainTable,$C20,CF$6),1,0)),0) -> 1 | CG20: =IFERROR(IF(OR(Dashboard!$I$7="",Dashboard!$I$7="All"),1,IF(Dashboard!$I$7=INDEX(MainTable,$C20,CG$6),1,0)),0) -> 1 | CH20: =CD20*CE20*CF20*CG20 -> 1 | CJ20: =IFERROR(IF(AND($AX20<$CM$5,OR($AY20="",$AY20>=CM$5)),1,0),0) -> 0 | CK20: =IFERROR(IF(AND($AX20<=$CM$5,OR($AY20="",$AY20>$CM$5)),1,0),0) -> 1 | CL20: =IFERROR(IF($AY20="",0,IF($AY20=$CM$5,1,0)),0) -> 0 | CM20: =IFERROR(IF($AX20="",0,IF($AX20=$CM$5,1,0)),0) -> 1 | CO20: =IFERROR(IF(Settings!I17="","Hiring Source",Settings!I17),"") -> Hiring Source | CP20: =IFERROR(MATCH(CO20,Headers,0),"") -> 4 | CU20: Oct | DA20: =IFERROR(IF(Settings!C21="","",Settings!C21),"") | DC20: =IFERROR(IF(Settings!E21="","",Settings!E21),"") | DE20: =IFERROR(IF(Settings!G21="","",Settings!G21),"") | DG20: =IFERROR(INDEX(IF(DG$5="d",DateTable,MainTable),$C20,DH$5),"") -> Sales | DH20: =IFERROR(IF(COUNTIF($DG$8:$DG20,DG20)>1,"",DG20),"") | DI20: {=IFERROR(INDEX(filter1,SMALL(IF(LEN(filter1)>0,ROW(filter1)-ROW(INDEX(filter1,1,1))+1),ROW($DF20)-ROW($DF$7))),"")} | DJ20: =IFERROR(INDEX(IF(DJ$5="d",DateTable,MainTable),$C20,DK$5),"") -> High School | DK20: =IFERROR(IF(COUNTIF($DJ$8:$DJ20,DJ20)>1,"",DJ20),"") | DL20: {=IFERROR(INDEX(filter2,SMALL(IF(LEN(filter2)>0,ROW(filter2)-ROW(INDEX(filter2,1,1))+1),ROW($DF20)-ROW($DF$7))),"")} | DM20: =IFERROR(INDEX(IF(DM$5="d",DateTable,MainTable),$C20,DN$5),"") -> Female | DN20: =IFERROR(IF(COUNTIF($DM$8:$DM20,DM20)>1,"",DM20),"") | DO20: {=IFERROR(INDEX(filter3,SMALL(IF(LEN(filter3)>0,ROW(filter3)-ROW(INDEX(filter3,1,1))+1),ROW($DF20)-ROW($DF$7))),"")} | DP20: =IFERROR(INDEX(IF(DP$5="d",DateTable,MainTable),$C20,DQ$5),"") -> USA | DQ20: =IFERROR(IF(COUNTIF($DP$8:$DP20,DP20)>1,"",DP20),"") | DR20: {=IFERROR(INDEX(filter4,SMALL(IF(LEN(filter4)>0,ROW(filter4)-ROW(INDEX(filter4,1,1))+1),ROW($DF20)-ROW($DF$7))),"")} | DT20: =IFERROR(IF(OR(LEN(Form!C19)>0,LEN(Form!D19)>0,LEN(Form!G19)>0),ROW(Form!A19),""),"") -> 19 | DW20: =IFERROR(IF(COUNTIF($AX$8:$AX20,AX20)>1,"",AX20),"") | DX20: {=IFERROR(INDEX($DW$8:$DW$26,SMALL(IF(LEN($DW$8:$DW$26)>0,ROW($DW$8:$DW$26)-ROW(INDEX($DW$8:$DW$26,1,1))+1),ROW($DF20)-ROW($DF$7))),"")}
C21: 14 | D21: =IFERROR(IF(INDEX(database[],$C21,D$6)=0,"",INDEX(database[],$C21,D$6)),"") -> E-00014 | E21: =IFERROR(IF(INDEX(database[],$C21,E$6)=0,"",INDEX(database[],$C21,E$6)),"") -> Kristofer Dyer | F21: =IFERROR(IF(INDEX(database[],$C21,F$6)=0,"",INDEX(database[],$C21,F$6)),"") -> 45017 | G21: =IFERROR(IF(INDEX(database[],$C21,G$6)=0,"",INDEX(database[],$C21,G$6)),"") -> Website | H21: =IFERROR(IF(INDEX(database[],$C21,H$6)=0,"",INDEX(database[],$C21,H$6)),"") -> East Office | I21: =IFERROR(IF(INDEX(database[],$C21,I$6)=0,"",INDEX(database[],$C21,I$6)),"") -> Accounting | J21: =IFERROR(IF(INDEX(database[],$C21,J$6)=0,"",INDEX(database[],$C21,J$6)),"") -> Full Time | K21: =IFERROR(IF(INDEX(database[],$C21,K$6)=0,"",INDEX(database[],$C21,K$6)),"") -> Expert | ... AV21: =IFERROR(IF(INDEX(database[],$C21,AV$6)=0,"",INDEX(database[],$C21,AV$6)),"") | AW21: =IFERROR(IF(INDEX(MainTable,$C21,$BQ$68)="",INDEX(MainTable,$C21,$BQ$69),INDEX(MainTable,$C21,$BQ$68)&"-"&INDEX(MainTable,$C21,$BQ$69)),"") -> E-00014-Kristofer Dyer | AX21: =IFERROR(YEAR(BD21),"") -> 2023 | AY21: =IFERROR(YEAR(BF21),"") | AZ21: =IFERROR(YEAR(BE21),"") -> 1987 | BA21: =IFERROR(DATEDIF(BE21,TODAY(),"y"),"") -> 35 | BB21: =IFERROR(IF(LEN(BA21)=0,"",IF(BA21<18,$CO$54,IF(AND(BA21>=18,BA21<31),$CO$55,IF(AND(BA21>=31,BA21<41),$CO$56,IF(AND(BA21>=41,BA21<50),$CO$57,IF(AND(BA21>=51,BA21<60),$CO$58,IF(BA21>=61,$CO$59,""))))))),"") -> 31-40 | BC21: =IFERROR(INDEX(MainTable,$C21,BC$6),"") -> 4900 | BD21: =IFERROR(INDEX(MainTable,$C21,BD$6),"") -> 45017 | BE21: =IFERROR(INDEX(MainTable,$C21,BE$6),"") -> 32071 | BF21: =IFERROR(INDEX(MainTable,$C21,BF$6),"") | BG21: =IFERROR(INDEX(MainTable,$C21,BG$6),"") | BH21: =IFERROR(INDEX(MainTable,$C21,BH$6),"") | BI21: =IFERROR(INDEX(MainTable,$C21,BI$6),"") | BJ21: =IFERROR(IF(order=123,DAY(BD21)&connector&IF(desc="Extended",INDEX(months,MONTH(BD21),1),MONTH(BD21))&connector&IF(desc="Short", RIGHT(YEAR(BD21),2),YEAR(BD21)),IF(order=213, MONTH(BD21)&connector&DAY(BD21)&connector&IF(desc="Short", RIGHT(YEAR(BD21),2),YEAR(BD21)),IF(desc="Short", RIGHT(YEAR(BD21),2),YEAR(BD21))&connector&MONTH(BD21)&connector&DAY(BD21))),BD21) -> 1 Apr 2023 | BK21: =IFERROR(IF(order=123,DAY(BE21)&connector&IF(desc="Extended",INDEX(months,MONTH(BE21),1),MONTH(BE21))&connector&IF(desc="Short", RIGHT(YEAR(BE21),2),YEAR(BE21)),IF(order=213, MONTH(BE21)&connector&DAY(BE21)&connector&IF(desc="Short", RIGHT(YEAR(BE21),2),YEAR(BE21)),IF(desc="Short", RIGHT(YEAR(BE21),2),YEAR(BE21))&connector&MONTH(BE21)&connector&DAY(BE21))),BE21) -> 21 Oct 1987 | BL21: =IFERROR(IF(order=123,DAY(BF21)&connector&IF(desc="Extended",INDEX(months,MONTH(BF21),1),MONTH(BF21))&connector&IF(desc="Short", RIGHT(YEAR(BF21),2),YEAR(BF21)),IF(order=213, MONTH(BF21)&connector&DAY(BF21)&connector&IF(desc="Short", RIGHT(YEAR(BF21),2),YEAR(BF21)),IF(desc="Short", RIGHT(YEAR(BF21),2),YEAR(BF21))&connector&MONTH(BF21)&connector&DAY(BF21))),BF21) | BM21: =IFERROR(IF(order=123,DAY(BG21)&connector&IF(desc="Extended",INDEX(months,MONTH(BG21),1),MONTH(BG21))&connector&IF(desc="Short", RIGHT(YEAR(BG21),2),YEAR(BG21)),IF(order=213, MONTH(BG21)&connector&DAY(BG21)&connector&IF(desc="Short", RIGHT(YEAR(BG21),2),YEAR(BG21)),IF(desc="Short", RIGHT(YEAR(BG21),2),YEAR(BG21))&connector&MONTH(BG21)&connector&DAY(BG21))),BG21) | BN21: =IFERROR(IF(order=123,DAY(BH21)&connector&IF(desc="Extended",INDEX(months,MONTH(BH21),1),MONTH(BH21))&connector&IF(desc="Short", RIGHT(YEAR(BH21),2),YEAR(BH21)),IF(order=213, MONTH(BH21)&connector&DAY(BH21)&connector&IF(desc="Short", RIGHT(YEAR(BH21),2),YEAR(BH21)),IF(desc="Short", RIGHT(YEAR(BH21),2),YEAR(BH21))&connector&MONTH(BH21)&connector&DAY(BH21))),BH21) | BO21: =IFERROR(IF(order=123,DAY(BI21)&connector&IF(desc="Extended",INDEX(months,MONTH(BI21),1),MONTH(BI21))&connector&IF(desc="Short", RIGHT(YEAR(BI21),2),YEAR(BI21)),IF(order=213, MONTH(BI21)&connector&DAY(BI21)&connector&IF(desc="Short", RIGHT(YEAR(BI21),2),YEAR(BI21)),IF(desc="Short", RIGHT(YEAR(BI21),2),YEAR(BI21))&connector&MONTH(BI21)&connector&DAY(BI21))),BI21) | BQ21: 14 | BR21: =IFERROR(INDEX(database[#Headers],0,BQ21),"") -> Nationality | BU21: =IFERROR(IF(OR(BU$7="",List!$B$8="",List!$B$8="All"),1,IF(List!$B$8=INDEX(IF(BU$5="d",DateTable,MainTable),$C21,BU$6),1,0)),0) -> 1 | BV21: =IFERROR(IF(OR(BV$7="",List!$B$11="",List!$B$11="All"),1,IF(List!$B$11=INDEX(IF(BV$5="d",DateTable,MainTable),$C21,BV$6),1,0)),0) -> 1 | BW21: =IFERROR(IF(OR(BW$7="",List!$B$14="",List!$B$14="All"),1,IF(List!$B$14=INDEX(IF(BW$5="d",DateTable,MainTable),$C21,BW$6),1,0)),0) -> 1 | BX21: =IFERROR(IF(OR(BX$7="",List!$B$17="",List!$B$17="All"),1,IF(List!$B$17=INDEX(IF(BX$5="d",DateTable,MainTable),$C21,BX$6),1,0)),0) -> 1 | BY21: =BU21*BV21*BW21*BX21 -> 1 | CA21: =IFERROR(IF(OR(AND(D21="",E21=""),BY21=0),"",$C21),"") -> 14 | CB21: =IFERROR(SMALL($CA$8:$CA$26,$C21),"") -> 14 | CD21: =IFERROR(IF(OR(Dashboard!$C$7="",Dashboard!$C$7="All"),1,IF(Dashboard!$C$7=INDEX(MainTable,$C21,CD$6),1,0)),0) -> 1 | CE21: =IFERROR(IF(OR(Dashboard!$E$7="",Dashboard!$E$7="All"),1,IF(Dashboard!$E$7=INDEX(MainTable,$C21,CE$6),1,0)),0) -> 1 | CF21: =IFERROR(IF(OR(Dashboard!$G$7="",Dashboard!$G$7="All"),1,IF(Dashboard!$G$7=INDEX(MainTable,$C21,CF$6),1,0)),0) -> 1 | CG21: =IFERROR(IF(OR(Dashboard!$I$7="",Dashboard!$I$7="All"),1,IF(Dashboard!$I$7=INDEX(MainTable,$C21,CG$6),1,0)),0) -> 1 | CH21: =CD21*CE21*CF21*CG21 -> 1 | CJ21: =IFERROR(IF(AND($AX21<$CM$5,OR($AY21="",$AY21>=CM$5)),1,0),0) -> 0 | CK21: =IFERROR(IF(AND($AX21<=$CM$5,OR($AY21="",$AY21>$CM$5)),1,0),0) -> 1 | CL21: =IFERROR(IF($AY21="",0,IF($AY21=$CM$5,1,0)),0) -> 0 | CM21: =IFERROR(IF($AX21="",0,IF($AX21=$CM$5,1,0)),0) -> 1 | CO21: =IFERROR(IF(Settings!K25="","Marital Status",Settings!K25),"") -> Marital Status | CP21: =IFERROR(MATCH(CO21,Headers,0),"") -> 15 | CU21: Nov | DA21: =IFERROR(IF(Settings!C22="","",Settings!C22),"") | DC21: =IFERROR(IF(Settings!E22="","",Settings!E22),"") | DE21: =IFERROR(IF(Settings!G22="","",Settings!G22),"") | DG21: =IFERROR(INDEX(IF(DG$5="d",DateTable,MainTable),$C21,DH$5),"") -> Accounting | DH21: =IFERROR(IF(COUNTIF($DG$8:$DG21,DG21)>1,"",DG21),"") | DI21: {=IFERROR(INDEX(filter1,SMALL(IF(LEN(filter1)>0,ROW(filter1)-ROW(INDEX(filter1,1,1))+1),ROW($DF21)-ROW($DF$7))),"")} | DJ21: =IFERROR(INDEX(IF(DJ$5="d",DateTable,MainTable),$C21,DK$5),"") -> Postgraduate Degree | DK21: =IFERROR(IF(COUNTIF($DJ$8:$DJ21,DJ21)>1,"",DJ21),"") | DL21: {=IFERROR(INDEX(filter2,SMALL(IF(LEN(filter2)>0,ROW(filter2)-ROW(INDEX(filter2,1,1))+1),ROW($DF21)-ROW($DF$7))),"")} | DM21: =IFERROR(INDEX(IF(DM$5="d",DateTable,MainTable),$C21,DN$5),"") -> Male | DN21: =IFERROR(IF(COUNTIF($DM$8:$DM21,DM21)>1,"",DM21),"") | DO21: {=IFERROR(INDEX(filter3,SMALL(IF(LEN(filter3)>0,ROW(filter3)-ROW(INDEX(filter3,1,1))+1),ROW($DF21)-ROW($DF$7))),"")} | DP21: =IFERROR(INDEX(IF(DP$5="d",DateTable,MainTable),$C21,DQ$5),"") -> USA | DQ21: =IFERROR(IF(COUNTIF($DP$8:$DP21,DP21)>1,"",DP21),"") | DR21: {=IFERROR(INDEX(filter4,SMALL(IF(LEN(filter4)>0,ROW(filter4)-ROW(INDEX(filter4,1,1))+1),ROW($DF21)-ROW($DF$7))),"")} | DT21: =IFERROR(IF(OR(LEN(Form!C20)>0,LEN(Form!D20)>0,LEN(Form!G20)>0),ROW(Form!A20),""),"") -> 20 | DW21: =IFERROR(IF(COUNTIF($AX$8:$AX21,AX21)>1,"",AX21),"") | DX21: {=IFERROR(INDEX($DW$8:$DW$26,SMALL(IF(LEN($DW$8:$DW$26)>0,ROW($DW$8:$DW$26)-ROW(INDEX($DW$8:$DW$26,1,1))+1),ROW($DF21)-ROW($DF$7))),"")} | DZ21: List Error Message
C22: 15 | D22: =IFERROR(IF(INDEX(database[],$C22,D$6)=0,"",INDEX(database[],$C22,D$6)),"") -> N-00015 | E22: =IFERROR(IF(INDEX(database[],$C22,E$6)=0,"",INDEX(database[],$C22,E$6)),"") -> Dominykas Xiong | F22: =IFERROR(IF(INDEX(database[],$C22,F$6)=0,"",INDEX(database[],$C22,F$6)),"") -> 45048 | G22: =IFERROR(IF(INDEX(database[],$C22,G$6)=0,"",INDEX(database[],$C22,G$6)),"") -> In-House | H22: =IFERROR(IF(INDEX(database[],$C22,H$6)=0,"",INDEX(database[],$C22,H$6)),"") -> North Office | I22: =IFERROR(IF(INDEX(database[],$C22,I$6)=0,"",INDEX(database[],$C22,I$6)),"") -> Accounting | J22: =IFERROR(IF(INDEX(database[],$C22,J$6)=0,"",INDEX(database[],$C22,J$6)),"") -> Full Time | K22: =IFERROR(IF(INDEX(database[],$C22,K$6)=0,"",INDEX(database[],$C22,K$6)),"") -> Intern | ... AV22: =IFERROR(IF(INDEX(database[],$C22,AV$6)=0,"",INDEX(database[],$C22,AV$6)),"") | AW22: =IFERROR(IF(INDEX(MainTable,$C22,$BQ$68)="",INDEX(MainTable,$C22,$BQ$69),INDEX(MainTable,$C22,$BQ$68)&"-"&INDEX(MainTable,$C22,$BQ$69)),"") -> N-00015-Dominykas Xiong | AX22: =IFERROR(YEAR(BD22),"") -> 2023 | AY22: =IFERROR(YEAR(BF22),"") -> 2023 | AZ22: =IFERROR(YEAR(BE22),"") -> 1993 | BA22: =IFERROR(DATEDIF(BE22,TODAY(),"y"),"") -> 29 | BB22: =IFERROR(IF(LEN(BA22)=0,"",IF(BA22<18,$CO$54,IF(AND(BA22>=18,BA22<31),$CO$55,IF(AND(BA22>=31,BA22<41),$CO$56,IF(AND(BA22>=41,BA22<50),$CO$57,IF(AND(BA22>=51,BA22<60),$CO$58,IF(BA22>=61,$CO$59,""))))))),"") -> 18 - 30 | BC22: =IFERROR(INDEX(MainTable,$C22,BC$6),"") | BD22: =IFERROR(INDEX(MainTable,$C22,BD$6),"") -> 45048 | BE22: =IFERROR(INDEX(MainTable,$C22,BE$6),"") -> 34239 | BF22: =IFERROR(INDEX(MainTable,$C22,BF$6),"") -> 45169 | BG22: =IFERROR(INDEX(MainTable,$C22,BG$6),"") | BH22: =IFERROR(INDEX(MainTable,$C22,BH$6),"") | BI22: =IFERROR(INDEX(MainTable,$C22,BI$6),"") | BJ22: =IFERROR(IF(order=123,DAY(BD22)&connector&IF(desc="Extended",INDEX(months,MONTH(BD22),1),MONTH(BD22))&connector&IF(desc="Short", RIGHT(YEAR(BD22),2),YEAR(BD22)),IF(order=213, MONTH(BD22)&connector&DAY(BD22)&connector&IF(desc="Short", RIGHT(YEAR(BD22),2),YEAR(BD22)),IF(desc="Short", RIGHT(YEAR(BD22),2),YEAR(BD22))&connector&MONTH(BD22)&connector&DAY(BD22))),BD22) -> 2 May 2023 | BK22: =IFERROR(IF(order=123,DAY(BE22)&connector&IF(desc="Extended",INDEX(months,MONTH(BE22),1),MONTH(BE22))&connector&IF(desc="Short", RIGHT(YEAR(BE22),2),YEAR(BE22)),IF(order=213, MONTH(BE22)&connector&DAY(BE22)&connector&IF(desc="Short", RIGHT(YEAR(BE22),2),YEAR(BE22)),IF(desc="Short", RIGHT(YEAR(BE22),2),YEAR(BE22))&connector&MONTH(BE22)&connector&DAY(BE22))),BE22) -> 27 Sep 1993 | BL22: =IFERROR(IF(order=123,DAY(BF22)&connector&IF(desc="Extended",INDEX(months,MONTH(BF22),1),MONTH(BF22))&connector&IF(desc="Short", RIGHT(YEAR(BF22),2),YEAR(BF22)),IF(order=213, MONTH(BF22)&connector&DAY(BF22)&connector&IF(desc="Short", RIGHT(YEAR(BF22),2),YEAR(BF22)),IF(desc="Short", RIGHT(YEAR(BF22),2),YEAR(BF22))&connector&MONTH(BF22)&connector&DAY(BF22))),BF22) -> 31 Aug 2023 | BM22: =IFERROR(IF(order=123,DAY(BG22)&connector&IF(desc="Extended",INDEX(months,MONTH(BG22),1),MONTH(BG22))&connector&IF(desc="Short", RIGHT(YEAR(BG22),2),YEAR(BG22)),IF(order=213, MONTH(BG22)&connector&DAY(BG22)&connector&IF(desc="Short", RIGHT(YEAR(BG22),2),YEAR(BG22)),IF(desc="Short", RIGHT(YEAR(BG22),2),YEAR(BG22))&connector&MONTH(BG22)&connector&DAY(BG22))),BG22) | BN22: =IFERROR(IF(order=123,DAY(BH22)&connector&IF(desc="Extended",INDEX(months,MONTH(BH22),1),MONTH(BH22))&connector&IF(desc="Short", RIGHT(YEAR(BH22),2),YEAR(BH22)),IF(order=213, MONTH(BH22)&connector&DAY(BH22)&connector&IF(desc="Short", RIGHT(YEAR(BH22),2),YEAR(BH22)),IF(desc="Short", RIGHT(YEAR(BH22),2),YEAR(BH22))&connector&MONTH(BH22)&connector&DAY(BH22))),BH22) | BO22: =IFERROR(IF(order=123,DAY(BI22)&connector&IF(desc="Extended",INDEX(months,MONTH(BI22),1),MONTH(BI22))&connector&IF(desc="Short", RIGHT(YEAR(BI22),2),YEAR(BI22)),IF(order=213, MONTH(BI22)&connector&DAY(BI22)&connector&IF(desc="Short", RIGHT(YEAR(BI22),2),YEAR(BI22)),IF(desc="Short", RIGHT(YEAR(BI22),2),YEAR(BI22))&connector&MONTH(BI22)&connector&DAY(BI22))),BI22) | BQ22: 15 | BR22: =IFERROR(INDEX(database[#Headers],0,BQ22),"") -> Marital Status | BU22: =IFERROR(IF(OR(BU$7="",List!$B$8="",List!$B$8="All"),1,IF(List!$B$8=INDEX(IF(BU$5="d",DateTable,MainTable),$C22,BU$6),1,0)),0) -> 1 | BV22: =IFERROR(IF(OR(BV$7="",List!$B$11="",List!$B$11="All"),1,IF(List!$B$11=INDEX(IF(BV$5="d",DateTable,MainTable),$C22,BV$6),1,0)),0) -> 1 | BW22: =IFERROR(IF(OR(BW$7="",List!$B$14="",List!$B$14="All"),1,IF(List!$B$14=INDEX(IF(BW$5="d",DateTable,MainTable),$C22,BW$6),1,0)),0) -> 1 | BX22: =IFERROR(IF(OR(BX$7="",List!$B$17="",List!$B$17="All"),1,IF(List!$B$17=INDEX(IF(BX$5="d",DateTable,MainTable),$C22,BX$6),1,0)),0) -> 1 | BY22: =BU22*BV22*BW22*BX22 -> 1 | CA22: =IFERROR(IF(OR(AND(D22="",E22=""),BY22=0),"",$C22),"") -> 15 | CB22: =IFERROR(SMALL($CA$8:$CA$26,$C22),"") -> 15 | CD22: =IFERROR(IF(OR(Dashboard!$C$7="",Dashboard!$C$7="All"),1,IF(Dashboard!$C$7=INDEX(MainTable,$C22,CD$6),1,0)),0) -> 1 | CE22: =IFERROR(IF(OR(Dashboard!$E$7="",Dashboard!$E$7="All"),1,IF(Dashboard!$E$7=INDEX(MainTable,$C22,CE$6),1,0)),0) -> 1 | CF22: =IFERROR(IF(OR(Dashboard!$G$7="",Dashboard!$G$7="All"),1,IF(Dashboard!$G$7=INDEX(MainTable,$C22,CF$6),1,0)),0) -> 1 | CG22: =IFERROR(IF(OR(Dashboard!$I$7="",Dashboard!$I$7="All"),1,IF(Dashboard!$I$7=INDEX(MainTable,$C22,CG$6),1,0)),0) -> 1 | CH22: =CD22*CE22*CF22*CG22 -> 1 | CJ22: =IFERROR(IF(AND($AX22<$CM$5,OR($AY22="",$AY22>=CM$5)),1,0),0) -> 0 | CK22: =IFERROR(IF(AND($AX22<=$CM$5,OR($AY22="",$AY22>$CM$5)),1,0),0) -> 0 | CL22: =IFERROR(IF($AY22="",0,IF($AY22=$CM$5,1,0)),0) -> 1 | CM22: =IFERROR(IF($AX22="",0,IF($AX22=$CM$5,1,0)),0) -> 1 | CO22: =IFERROR(IF(Settings!I9="","Job Status",Settings!I9),"") -> Job Status | CP22: =IFERROR(MATCH(CO22,Headers,0),"") -> 7 | CU22: Dec | DA22: =IFERROR(IF(Settings!C23="","",Settings!C23),"") | DC22: =IFERROR(IF(Settings!E23="","",Settings!E23),"") | DE22: =IFERROR(IF(Settings!G23="","",Settings!G23),"") | DG22: =IFERROR(INDEX(IF(DG$5="d",DateTable,MainTable),$C22,DH$5),"") -> Accounting | DH22: =IFERROR(IF(COUNTIF($DG$8:$DG22,DG22)>1,"",DG22),"") | DI22: {=IFERROR(INDEX(filter1,SMALL(IF(LEN(filter1)>0,ROW(filter1)-ROW(INDEX(filter1,1,1))+1),ROW($DF22)-ROW($DF$7))),"")} | DJ22: =IFERROR(INDEX(IF(DJ$5="d",DateTable,MainTable),$C22,DK$5),"") -> Bachelor's Degree | DK22: =IFERROR(IF(COUNTIF($DJ$8:$DJ22,DJ22)>1,"",DJ22),"") | DL22: {=IFERROR(INDEX(filter2,SMALL(IF(LEN(filter2)>0,ROW(filter2)-ROW(INDEX(filter2,1,1))+1),ROW($DF22)-ROW($DF$7))),"")} | DM22: =IFERROR(INDEX(IF(DM$5="d",DateTable,MainTable),$C22,DN$5),"") -> Male | DN22: =IFERROR(IF(COUNTIF($DM$8:$DM22,DM22)>1,"",DM22),"") | DO22: {=IFERROR(INDEX(filter3,SMALL(IF(LEN(filter3)>0,ROW(filter3)-ROW(INDEX(filter3,1,1))+1),ROW($DF22)-ROW($DF$7))),"")} | DP22: =IFERROR(INDEX(IF(DP$5="d",DateTable,MainTable),$C22,DQ$5),"") -> China | DQ22: =IFERROR(IF(COUNTIF($DP$8:$DP22,DP22)>1,"",DP22),"") -> China | DR22: {=IFERROR(INDEX(filter4,SMALL(IF(LEN(filter4)>0,ROW(filter4)-ROW(INDEX(filter4,1,1))+1),ROW($DF22)-ROW($DF$7))),"")} | DT22: =IFERROR(IF(OR(LEN(Form!C21)>0,LEN(Form!D21)>0,LEN(Form!G21)>0),ROW(Form!A21),""),"") -> 21 | DW22: =IFERROR(IF(COUNTIF($AX$8:$AX22,AX22)>1,"",AX22),"") | DX22: {=IFERROR(INDEX($DW$8:$DW$26,SMALL(IF(LEN($DW$8:$DW$26)>0,ROW($DW$8:$DW$26)-ROW(INDEX($DW$8:$DW$26,1,1))+1),ROW($DF22)-ROW($DF$7))),"")} | DZ22: =IFERROR(IF(COUNTIF(Calc!$ED$8:$EM$8,"?*")>0,"Error: You have got a non-existing heading on your list!",""),"")
C23: 16 | D23: =IFERROR(IF(INDEX(database[],$C23,D$6)=0,"",INDEX(database[],$C23,D$6)),"") | E23: =IFERROR(IF(INDEX(database[],$C23,E$6)=0,"",INDEX(database[],$C23,E$6)),"") | F23: =IFERROR(IF(INDEX(database[],$C23,F$6)=0,"",INDEX(database[],$C23,F$6)),"") | G23: =IFERROR(IF(INDEX(database[],$C23,G$6)=0,"",INDEX(database[],$C23,G$6)),"") | H23: =IFERROR(IF(INDEX(database[],$C23,H$6)=0,"",INDEX(database[],$C23,H$6)),"") | I23: =IFERROR(IF(INDEX(database[],$C23,I$6)=0,"",INDEX(database[],$C23,I$6)),"") | J23: =IFERROR(IF(INDEX(database[],$C23,J$6)=0,"",INDEX(database[],$C23,J$6)),"") | K23: =IFERROR(IF(INDEX(database[],$C23,K$6)=0,"",INDEX(database[],$C23,K$6)),"") | ... AV23: =IFERROR(IF(INDEX(database[],$C23,AV$6)=0,"",INDEX(database[],$C23,AV$6)),"") | AW23: =IFERROR(IF(INDEX(MainTable,$C23,$BQ$68)="",INDEX(MainTable,$C23,$BQ$69),INDEX(MainTable,$C23,$BQ$68)&"-"&INDEX(MainTable,$C23,$BQ$69)),"") | AX23: =IFERROR(YEAR(BD23),"") | AY23: =IFERROR(YEAR(BF23),"") | AZ23: =IFERROR(YEAR(BE23),"") | BA23: =IFERROR(DATEDIF(BE23,TODAY(),"y"),"") | BB23: =IFERROR(IF(LEN(BA23)=0,"",IF(BA23<18,$CO$54,IF(AND(BA23>=18,BA23<31),$CO$55,IF(AND(BA23>=31,BA23<41),$CO$56,IF(AND(BA23>=41,BA23<50),$CO$57,IF(AND(BA23>=51,BA23<60),$CO$58,IF(BA23>=61,$CO$59,""))))))),"") | BC23: =IFERROR(INDEX(MainTable,$C23,BC$6),"") | BD23: =IFERROR(INDEX(MainTable,$C23,BD$6),"") | BE23: =IFERROR(INDEX(MainTable,$C23,BE$6),"") | BF23: =IFERROR(INDEX(MainTable,$C23,BF$6),"") | BG23: =IFERROR(INDEX(MainTable,$C23,BG$6),"") | BH23: =IFERROR(INDEX(MainTable,$C23,BH$6),"") | BI23: =IFERROR(INDEX(MainTable,$C23,BI$6),"") | BJ23: =IFERROR(IF(order=123,DAY(BD23)&connector&IF(desc="Extended",INDEX(months,MONTH(BD23),1),MONTH(BD23))&connector&IF(desc="Short", RIGHT(YEAR(BD23),2),YEAR(BD23)),IF(order=213, MONTH(BD23)&connector&DAY(BD23)&connector&IF(desc="Short", RIGHT(YEAR(BD23),2),YEAR(BD23)),IF(desc="Short", RIGHT(YEAR(BD23),2),YEAR(BD23))&connector&MONTH(BD23)&connector&DAY(BD23))),BD23) | BK23: =IFERROR(IF(order=123,DAY(BE23)&connector&IF(desc="Extended",INDEX(months,MONTH(BE23),1),MONTH(BE23))&connector&IF(desc="Short", RIGHT(YEAR(BE23),2),YEAR(BE23)),IF(order=213, MONTH(BE23)&connector&DAY(BE23)&connector&IF(desc="Short", RIGHT(YEAR(BE23),2),YEAR(BE23)),IF(desc="Short", RIGHT(YEAR(BE23),2),YEAR(BE23))&connector&MONTH(BE23)&connector&DAY(BE23))),BE23) | BL23: =IFERROR(IF(order=123,DAY(BF23)&connector&IF(desc="Extended",INDEX(months,MONTH(BF23),1),MONTH(BF23))&connector&IF(desc="Short", RIGHT(YEAR(BF23),2),YEAR(BF23)),IF(order=213, MONTH(BF23)&connector&DAY(BF23)&connector&IF(desc="Short", RIGHT(YEAR(BF23),2),YEAR(BF23)),IF(desc="Short", RIGHT(YEAR(BF23),2),YEAR(BF23))&connector&MONTH(BF23)&connector&DAY(BF23))),BF23) | BM23: =IFERROR(IF(order=123,DAY(BG23)&connector&IF(desc="Extended",INDEX(months,MONTH(BG23),1),MONTH(BG23))&connector&IF(desc="Short", RIGHT(YEAR(BG23),2),YEAR(BG23)),IF(order=213, MONTH(BG23)&connector&DAY(BG23)&connector&IF(desc="Short", RIGHT(YEAR(BG23),2),YEAR(BG23)),IF(desc="Short", RIGHT(YEAR(BG23),2),YEAR(BG23))&connector&MONTH(BG23)&connector&DAY(BG23))),BG23) | BN23: =IFERROR(IF(order=123,DAY(BH23)&connector&IF(desc="Extended",INDEX(months,MONTH(BH23),1),MONTH(BH23))&connector&IF(desc="Short", RIGHT(YEAR(BH23),2),YEAR(BH23)),IF(order=213, MONTH(BH23)&connector&DAY(BH23)&connector&IF(desc="Short", RIGHT(YEAR(BH23),2),YEAR(BH23)),IF(desc="Short", RIGHT(YEAR(BH23),2),YEAR(BH23))&connector&MONTH(BH23)&connector&DAY(BH23))),BH23) | BO23: =IFERROR(IF(order=123,DAY(BI23)&connector&IF(desc="Extended",INDEX(months,MONTH(BI23),1),MONTH(BI23))&connector&IF(desc="Short", RIGHT(YEAR(BI23),2),YEAR(BI23)),IF(order=213, MONTH(BI23)&connector&DAY(BI23)&connector&IF(desc="Short", RIGHT(YEAR(BI23),2),YEAR(BI23)),IF(desc="Short", RIGHT(YEAR(BI23),2),YEAR(BI23))&connector&MONTH(BI23)&connector&DAY(BI23))),BI23) | BQ23: 16 | BR23: =IFERROR(INDEX(database[#Headers],0,BQ23),"") -> # of Kids | BU23: =IFERROR(IF(OR(BU$7="",List!$B$8="",List!$B$8="All"),1,IF(List!$B$8=INDEX(IF(BU$5="d",DateTable,MainTable),$C23,BU$6),1,0)),0) -> 1 | BV23: =IFERROR(IF(OR(BV$7="",List!$B$11="",List!$B$11="All"),1,IF(List!$B$11=INDEX(IF(BV$5="d",DateTable,MainTable),$C23,BV$6),1,0)),0) -> 1 | BW23: =IFERROR(IF(OR(BW$7="",List!$B$14="",List!$B$14="All"),1,IF(List!$B$14=INDEX(IF(BW$5="d",DateTable,MainTable),$C23,BW$6),1,0)),0) -> 1 | BX23: =IFERROR(IF(OR(BX$7="",List!$B$17="",List!$B$17="All"),1,IF(List!$B$17=INDEX(IF(BX$5="d",DateTable,MainTable),$C23,BX$6),1,0)),0) -> 1 | BY23: =BU23*BV23*BW23*BX23 -> 1 | CA23: =IFERROR(IF(OR(AND(D23="",E23=""),BY23=0),"",$C23),"") | CB23: =IFERROR(SMALL($CA$8:$CA$26,$C23),"") | CD23: =IFERROR(IF(OR(Dashboard!$C$7="",Dashboard!$C$7="All"),1,IF(Dashboard!$C$7=INDEX(MainTable,$C23,CD$6),1,0)),0) -> 1 | CE23: =IFERROR(IF(OR(Dashboard!$E$7="",Dashboard!$E$7="All"),1,IF(Dashboard!$E$7=INDEX(MainTable,$C23,CE$6),1,0)),0) -> 1 | CF23: =IFERROR(IF(OR(Dashboard!$G$7="",Dashboard!$G$7="All"),1,IF(Dashboard!$G$7=INDEX(MainTable,$C23,CF$6),1,0)),0) -> 1 | CG23: =IFERROR(IF(OR(Dashboard!$I$7="",Dashboard!$I$7="All"),1,IF(Dashboard!$I$7=INDEX(MainTable,$C23,CG$6),1,0)),0) -> 1 | CH23: =CD23*CE23*CF23*CG23 -> 1 | CJ23: =IFERROR(IF(AND($AX23<$CM$5,OR($AY23="",$AY23>=CM$5)),1,0),0) -> 0 | CK23: =IFERROR(IF(AND($AX23<=$CM$5,OR($AY23="",$AY23>$CM$5)),1,0),0) -> 0 | CL23: =IFERROR(IF($AY23="",0,IF($AY23=$CM$5,1,0)),0) -> 0 | CM23: =IFERROR(IF($AX23="",0,IF($AX23=$CM$5,1,0)),0) -> 0 | DA23: =IFERROR(IF(Settings!C24="","",Settings!C24),"") | DC23: =IFERROR(IF(Settings!E24="","",Settings!E24),"") | DE23: =IFERROR(IF(Settings!G24="","",Settings!G24),"") | DG23: =IFERROR(INDEX(IF(DG$5="d",DateTable,MainTable),$C23,DH$5),"") | DH23: =IFERROR(IF(COUNTIF($DG$8:$DG23,DG23)>1,"",DG23),"") | DI23: {=IFERROR(INDEX(filter1,SMALL(IF(LEN(filter1)>0,ROW(filter1)-ROW(INDEX(filter1,1,1))+1),ROW($DF23)-ROW($DF$7))),"")} | DJ23: =IFERROR(INDEX(IF(DJ$5="d",DateTable,MainTable),$C23,DK$5),"") | DK23: =IFERROR(IF(COUNTIF($DJ$8:$DJ23,DJ23)>1,"",DJ23),"") | DL23: {=IFERROR(INDEX(filter2,SMALL(IF(LEN(filter2)>0,ROW(filter2)-ROW(INDEX(filter2,1,1))+1),ROW($DF23)-ROW($DF$7))),"")} | DM23: =IFERROR(INDEX(IF(DM$5="d",DateTable,MainTable),$C23,DN$5),"") | DN23: =IFERROR(IF(COUNTIF($DM$8:$DM23,DM23)>1,"",DM23),"") | DO23: {=IFERROR(INDEX(filter3,SMALL(IF(LEN(filter3)>0,ROW(filter3)-ROW(INDEX(filter3,1,1))+1),ROW($DF23)-ROW($DF$7))),"")} | DP23: =IFERROR(INDEX(IF(DP$5="d",DateTable,MainTable),$C23,DQ$5),"") | DQ23: =IFERROR(IF(COUNTIF($DP$8:$DP23,DP23)>1,"",DP23),"") | DR23: {=IFERROR(INDEX(filter4,SMALL(IF(LEN(filter4)>0,ROW(filter4)-ROW(INDEX(filter4,1,1))+1),ROW($DF23)-ROW($DF$7))),"")} | DT23: =IFERROR(IF(OR(LEN(Form!C22)>0,LEN(Form!D22)>0,LEN(Form!G22)>0),ROW(Form!A22),""),"") -> 22 | DW23: =IFERROR(IF(COUNTIF($AX$8:$AX23,AX23)>1,"",AX23),"") | DX23: {=IFERROR(INDEX($DW$8:$DW$26,SMALL(IF(LEN($DW$8:$DW$26)>0,ROW($DW$8:$DW$26)-ROW(INDEX($DW$8:$DW$26,1,1))+1),ROW($DF23)-ROW($DF$7))),"")}
C24: 17 | D24: =IFERROR(IF(INDEX(database[],$C24,D$6)=0,"",INDEX(database[],$C24,D$6)),"") | E24: =IFERROR(IF(INDEX(database[],$C24,E$6)=0,"",INDEX(database[],$C24,E$6)),"") | F24: =IFERROR(IF(INDEX(database[],$C24,F$6)=0,"",INDEX(database[],$C24,F$6)),"") | G24: =IFERROR(IF(INDEX(database[],$C24,G$6)=0,"",INDEX(database[],$C24,G$6)),"") | H24: =IFERROR(IF(INDEX(database[],$C24,H$6)=0,"",INDEX(database[],$C24,H$6)),"") | I24: =IFERROR(IF(INDEX(database[],$C24,I$6)=0,"",INDEX(database[],$C24,I$6)),"") | J24: =IFERROR(IF(INDEX(database[],$C24,J$6)=0,"",INDEX(database[],$C24,J$6)),"") | K24: =IFERROR(IF(INDEX(database[],$C24,K$6)=0,"",INDEX(database[],$C24,K$6)),"") | ... AV24: =IFERROR(IF(INDEX(database[],$C24,AV$6)=0,"",INDEX(database[],$C24,AV$6)),"") | AW24: =IFERROR(IF(INDEX(MainTable,$C24,$BQ$68)="",INDEX(MainTable,$C24,$BQ$69),INDEX(MainTable,$C24,$BQ$68)&"-"&INDEX(MainTable,$C24,$BQ$69)),"") | AX24: =IFERROR(YEAR(BD24),"") | AY24: =IFERROR(YEAR(BF24),"") | AZ24: =IFERROR(YEAR(BE24),"") | BA24: =IFERROR(DATEDIF(BE24,TODAY(),"y"),"") | BB24: =IFERROR(IF(LEN(BA24)=0,"",IF(BA24<18,$CO$54,IF(AND(BA24>=18,BA24<31),$CO$55,IF(AND(BA24>=31,BA24<41),$CO$56,IF(AND(BA24>=41,BA24<50),$CO$57,IF(AND(BA24>=51,BA24<60),$CO$58,IF(BA24>=61,$CO$59,""))))))),"") | BC24: =IFERROR(INDEX(MainTable,$C24,BC$6),"") | BD24: =IFERROR(INDEX(MainTable,$C24,BD$6),"") | BE24: =IFERROR(INDEX(MainTable,$C24,BE$6),"") | BF24: =IFERROR(INDEX(MainTable,$C24,BF$6),"") | BG24: =IFERROR(INDEX(MainTable,$C24,BG$6),"") | BH24: =IFERROR(INDEX(MainTable,$C24,BH$6),"") | BI24: =IFERROR(INDEX(MainTable,$C24,BI$6),"") | BJ24: =IFERROR(IF(order=123,DAY(BD24)&connector&IF(desc="Extended",INDEX(months,MONTH(BD24),1),MONTH(BD24))&connector&IF(desc="Short", RIGHT(YEAR(BD24),2),YEAR(BD24)),IF(order=213, MONTH(BD24)&connector&DAY(BD24)&connector&IF(desc="Short", RIGHT(YEAR(BD24),2),YEAR(BD24)),IF(desc="Short", RIGHT(YEAR(BD24),2),YEAR(BD24))&connector&MONTH(BD24)&connector&DAY(BD24))),BD24) | BK24: =IFERROR(IF(order=123,DAY(BE24)&connector&IF(desc="Extended",INDEX(months,MONTH(BE24),1),MONTH(BE24))&connector&IF(desc="Short", RIGHT(YEAR(BE24),2),YEAR(BE24)),IF(order=213, MONTH(BE24)&connector&DAY(BE24)&connector&IF(desc="Short", RIGHT(YEAR(BE24),2),YEAR(BE24)),IF(desc="Short", RIGHT(YEAR(BE24),2),YEAR(BE24))&connector&MONTH(BE24)&connector&DAY(BE24))),BE24) | BL24: =IFERROR(IF(order=123,DAY(BF24)&connector&IF(desc="Extended",INDEX(months,MONTH(BF24),1),MONTH(BF24))&connector&IF(desc="Short", RIGHT(YEAR(BF24),2),YEAR(BF24)),IF(order=213, MONTH(BF24)&connector&DAY(BF24)&connector&IF(desc="Short", RIGHT(YEAR(BF24),2),YEAR(BF24)),IF(desc="Short", RIGHT(YEAR(BF24),2),YEAR(BF24))&connector&MONTH(BF24)&connector&DAY(BF24))),BF24) | BM24: =IFERROR(IF(order=123,DAY(BG24)&connector&IF(desc="Extended",INDEX(months,MONTH(BG24),1),MONTH(BG24))&connector&IF(desc="Short", RIGHT(YEAR(BG24),2),YEAR(BG24)),IF(order=213, MONTH(BG24)&connector&DAY(BG24)&connector&IF(desc="Short", RIGHT(YEAR(BG24),2),YEAR(BG24)),IF(desc="Short", RIGHT(YEAR(BG24),2),YEAR(BG24))&connector&MONTH(BG24)&connector&DAY(BG24))),BG24) | BN24: =IFERROR(IF(order=123,DAY(BH24)&connector&IF(desc="Extended",INDEX(months,MONTH(BH24),1),MONTH(BH24))&connector&IF(desc="Short", RIGHT(YEAR(BH24),2),YEAR(BH24)),IF(order=213, MONTH(BH24)&connector&DAY(BH24)&connector&IF(desc="Short", RIGHT(YEAR(BH24),2),YEAR(BH24)),IF(desc="Short", RIGHT(YEAR(BH24),2),YEAR(BH24))&connector&MONTH(BH24)&connector&DAY(BH24))),BH24) | BO24: =IFERROR(IF(order=123,DAY(BI24)&connector&IF(desc="Extended",INDEX(months,MONTH(BI24),1),MONTH(BI24))&connector&IF(desc="Short", RIGHT(YEAR(BI24),2),YEAR(BI24)),IF(order=213, MONTH(BI24)&connector&DAY(BI24)&connector&IF(desc="Short", RIGHT(YEAR(BI24),2),YEAR(BI24)),IF(desc="Short", RIGHT(YEAR(BI24),2),YEAR(BI24))&connector&MONTH(BI24)&connector&DAY(BI24))),BI24) | BQ24: 17 | BR24: =IFERROR(INDEX(database[#Headers],0,BQ24),"") -> Driving License | BU24: =IFERROR(IF(OR(BU$7="",List!$B$8="",List!$B$8="All"),1,IF(List!$B$8=INDEX(IF(BU$5="d",DateTable,MainTable),$C24,BU$6),1,0)),0) -> 1 | BV24: =IFERROR(IF(OR(BV$7="",List!$B$11="",List!$B$11="All"),1,IF(List!$B$11=INDEX(IF(BV$5="d",DateTable,MainTable),$C24,BV$6),1,0)),0) -> 1 | BW24: =IFERROR(IF(OR(BW$7="",List!$B$14="",List!$B$14="All"),1,IF(List!$B$14=INDEX(IF(BW$5="d",DateTable,MainTable),$C24,BW$6),1,0)),0) -> 1 | BX24: =IFERROR(IF(OR(BX$7="",List!$B$17="",List!$B$17="All"),1,IF(List!$B$17=INDEX(IF(BX$5="d",DateTable,MainTable),$C24,BX$6),1,0)),0) -> 1 | BY24: =BU24*BV24*BW24*BX24 -> 1 | CA24: =IFERROR(IF(OR(AND(D24="",E24=""),BY24=0),"",$C24),"") | CB24: =IFERROR(SMALL($CA$8:$CA$26,$C24),"") | CD24: =IFERROR(IF(OR(Dashboard!$C$7="",Dashboard!$C$7="All"),1,IF(Dashboard!$C$7=INDEX(MainTable,$C24,CD$6),1,0)),0) -> 1 | CE24: =IFERROR(IF(OR(Dashboard!$E$7="",Dashboard!$E$7="All"),1,IF(Dashboard!$E$7=INDEX(MainTable,$C24,CE$6),1,0)),0) -> 1 | CF24: =IFERROR(IF(OR(Dashboard!$G$7="",Dashboard!$G$7="All"),1,IF(Dashboard!$G$7=INDEX(MainTable,$C24,CF$6),1,0)),0) -> 1 | CG24: =IFERROR(IF(OR(Dashboard!$I$7="",Dashboard!$I$7="All"),1,IF(Dashboard!$I$7=INDEX(MainTable,$C24,CG$6),1,0)),0) -> 1 | CH24: =CD24*CE24*CF24*CG24 -> 1 | CJ24: =IFERROR(IF(AND($AX24<$CM$5,OR($AY24="",$AY24>=CM$5)),1,0),0) -> 0 | CK24: =IFERROR(IF(AND($AX24<=$CM$5,OR($AY24="",$AY24>$CM$5)),1,0),0) -> 0 | CL24: =IFERROR(IF($AY24="",0,IF($AY24=$CM$5,1,0)),0) -> 0 | CM24: =IFERROR(IF($AX24="",0,IF($AX24=$CM$5,1,0)),0) -> 0 | CO24: Gender Breakdown | CQ24: % | DA24: =IFERROR(IF(Settings!C25="","",Settings!C25),"") | DC24: =IFERROR(IF(Settings!E25="","",Settings!E25),"") | DE24: =IFERROR(IF(Settings!G25="","",Settings!G25),"") | DG24: =IFERROR(INDEX(IF(DG$5="d",DateTable,MainTable),$C24,DH$5),"") | DH24: =IFERROR(IF(COUNTIF($DG$8:$DG24,DG24)>1,"",DG24),"") | DI24: {=IFERROR(INDEX(filter1,SMALL(IF(LEN(filter1)>0,ROW(filter1)-ROW(INDEX(filter1,1,1))+1),ROW($DF24)-ROW($DF$7))),"")} | DJ24: =IFERROR(INDEX(IF(DJ$5="d",DateTable,MainTable),$C24,DK$5),"") | DK24: =IFERROR(IF(COUNTIF($DJ$8:$DJ24,DJ24)>1,"",DJ24),"") | DL24: {=IFERROR(INDEX(filter2,SMALL(IF(LEN(filter2)>0,ROW(filter2)-ROW(INDEX(filter2,1,1))+1),ROW($DF24)-ROW($DF$7))),"")} | DM24: =IFERROR(INDEX(IF(DM$5="d",DateTable,MainTable),$C24,DN$5),"") | DN24: =IFERROR(IF(COUNTIF($DM$8:$DM24,DM24)>1,"",DM24),"") | DO24: {=IFERROR(INDEX(filter3,SMALL(IF(LEN(filter3)>0,ROW(filter3)-ROW(INDEX(filter3,1,1))+1),ROW($DF24)-ROW($DF$7))),"")} | DP24: =IFERROR(INDEX(IF(DP$5="d",DateTable,MainTable),$C24,DQ$5),"") | DQ24: =IFERROR(IF(COUNTIF($DP$8:$DP24,DP24)>1,"",DP24),"") | DR24: {=IFERROR(INDEX(filter4,SMALL(IF(LEN(filter4)>0,ROW(filter4)-ROW(INDEX(filter4,1,1))+1),ROW($DF24)-ROW($DF$7))),"")} | DT24: =IFERROR(IF(OR(LEN(Form!C23)>0,LEN(Form!D23)>0,LEN(Form!G23)>0),ROW(Form!A23),""),"") -> 23 | DW24: =IFERROR(IF(COUNTIF($AX$8:$AX24,AX24)>1,"",AX24),"") | DX24: {=IFERROR(INDEX($DW$8:$DW$26,SMALL(IF(LEN($DW$8:$DW$26)>0,ROW($DW$8:$DW$26)-ROW(INDEX($DW$8:$DW$26,1,1))+1),ROW($DF24)-ROW($DF$7))),"")}
C25: 18 | D25: =IFERROR(IF(INDEX(database[],$C25,D$6)=0,"",INDEX(database[],$C25,D$6)),"") | E25: =IFERROR(IF(INDEX(database[],$C25,E$6)=0,"",INDEX(database[],$C25,E$6)),"") | F25: =IFERROR(IF(INDEX(database[],$C25,F$6)=0,"",INDEX(database[],$C25,F$6)),"") | G25: =IFERROR(IF(INDEX(database[],$C25,G$6)=0,"",INDEX(database[],$C25,G$6)),"") | H25: =IFERROR(IF(INDEX(database[],$C25,H$6)=0,"",INDEX(database[],$C25,H$6)),"") | I25: =IFERROR(IF(INDEX(database[],$C25,I$6)=0,"",INDEX(database[],$C25,I$6)),"") | J25: =IFERROR(IF(INDEX(database[],$C25,J$6)=0,"",INDEX(database[],$C25,J$6)),"") | K25: =IFERROR(IF(INDEX(database[],$C25,K$6)=0,"",INDEX(database[],$C25,K$6)),"") | ... AV25: =IFERROR(IF(INDEX(database[],$C25,AV$6)=0,"",INDEX(database[],$C25,AV$6)),"") | AW25: =IFERROR(IF(INDEX(MainTable,$C25,$BQ$68)="",INDEX(MainTable,$C25,$BQ$69),INDEX(MainTable,$C25,$BQ$68)&"-"&INDEX(MainTable,$C25,$BQ$69)),"") | AX25: =IFERROR(YEAR(BD25),"") | AY25: =IFERROR(YEAR(BF25),"") | AZ25: =IFERROR(YEAR(BE25),"") | BA25: =IFERROR(DATEDIF(BE25,TODAY(),"y"),"") | BB25: =IFERROR(IF(LEN(BA25)=0,"",IF(BA25<18,$CO$54,IF(AND(BA25>=18,BA25<31),$CO$55,IF(AND(BA25>=31,BA25<41),$CO$56,IF(AND(BA25>=41,BA25<50),$CO$57,IF(AND(BA25>=51,BA25<60),$CO$58,IF(BA25>=61,$CO$59,""))))))),"") | BC25: =IFERROR(INDEX(MainTable,$C25,BC$6),"") | BD25: =IFERROR(INDEX(MainTable,$C25,BD$6),"") | BE25: =IFERROR(INDEX(MainTable,$C25,BE$6),"") | BF25: =IFERROR(INDEX(MainTable,$C25,BF$6),"") | BG25: =IFERROR(INDEX(MainTable,$C25,BG$6),"") | BH25: =IFERROR(INDEX(MainTable,$C25,BH$6),"") | BI25: =IFERROR(INDEX(MainTable,$C25,BI$6),"") | BJ25: =IFERROR(IF(order=123,DAY(BD25)&connector&IF(desc="Extended",INDEX(months,MONTH(BD25),1),MONTH(BD25))&connector&IF(desc="Short", RIGHT(YEAR(BD25),2),YEAR(BD25)),IF(order=213, MONTH(BD25)&connector&DAY(BD25)&connector&IF(desc="Short", RIGHT(YEAR(BD25),2),YEAR(BD25)),IF(desc="Short", RIGHT(YEAR(BD25),2),YEAR(BD25))&connector&MONTH(BD25)&connector&DAY(BD25))),BD25) | BK25: =IFERROR(IF(order=123,DAY(BE25)&connector&IF(desc="Extended",INDEX(months,MONTH(BE25),1),MONTH(BE25))&connector&IF(desc="Short", RIGHT(YEAR(BE25),2),YEAR(BE25)),IF(order=213, MONTH(BE25)&connector&DAY(BE25)&connector&IF(desc="Short", RIGHT(YEAR(BE25),2),YEAR(BE25)),IF(desc="Short", RIGHT(YEAR(BE25),2),YEAR(BE25))&connector&MONTH(BE25)&connector&DAY(BE25))),BE25) | BL25: =IFERROR(IF(order=123,DAY(BF25)&connector&IF(desc="Extended",INDEX(months,MONTH(BF25),1),MONTH(BF25))&connector&IF(desc="Short", RIGHT(YEAR(BF25),2),YEAR(BF25)),IF(order=213, MONTH(BF25)&connector&DAY(BF25)&connector&IF(desc="Short", RIGHT(YEAR(BF25),2),YEAR(BF25)),IF(desc="Short", RIGHT(YEAR(BF25),2),YEAR(BF25))&connector&MONTH(BF25)&connector&DAY(BF25))),BF25) | BM25: =IFERROR(IF(order=123,DAY(BG25)&connector&IF(desc="Extended",INDEX(months,MONTH(BG25),1),MONTH(BG25))&connector&IF(desc="Short", RIGHT(YEAR(BG25),2),YEAR(BG25)),IF(order=213, MONTH(BG25)&connector&DAY(BG25)&connector&IF(desc="Short", RIGHT(YEAR(BG25),2),YEAR(BG25)),IF(desc="Short", RIGHT(YEAR(BG25),2),YEAR(BG25))&connector&MONTH(BG25)&connector&DAY(BG25))),BG25) | BN25: =IFERROR(IF(order=123,DAY(BH25)&connector&IF(desc="Extended",INDEX(months,MONTH(BH25),1),MONTH(BH25))&connector&IF(desc="Short", RIGHT(YEAR(BH25),2),YEAR(BH25)),IF(order=213, MONTH(BH25)&connector&DAY(BH25)&connector&IF(desc="Short", RIGHT(YEAR(BH25),2),YEAR(BH25)),IF(desc="Short", RIGHT(YEAR(BH25),2),YEAR(BH25))&connector&MONTH(BH25)&connector&DAY(BH25))),BH25) | BO25: =IFERROR(IF(order=123,DAY(BI25)&connector&IF(desc="Extended",INDEX(months,MONTH(BI25),1),MONTH(BI25))&connector&IF(desc="Short", RIGHT(YEAR(BI25),2),YEAR(BI25)),IF(order=213, MONTH(BI25)&connector&DAY(BI25)&connector&IF(desc="Short", RIGHT(YEAR(BI25),2),YEAR(BI25)),IF(desc="Short", RIGHT(YEAR(BI25),2),YEAR(BI25))&connector&MONTH(BI25)&connector&DAY(BI25))),BI25) | BQ25: 18 | BR25: =IFERROR(INDEX(database[#Headers],0,BQ25),"") -> Email | BU25: =IFERROR(IF(OR(BU$7="",List!$B$8="",List!$B$8="All"),1,IF(List!$B$8=INDEX(IF(BU$5="d",DateTable,MainTable),$C25,BU$6),1,0)),0) -> 1 | BV25: =IFERROR(IF(OR(BV$7="",List!$B$11="",List!$B$11="All"),1,IF(List!$B$11=INDEX(IF(BV$5="d",DateTable,MainTable),$C25,BV$6),1,0)),0) -> 1 | BW25: =IFERROR(IF(OR(BW$7="",List!$B$14="",List!$B$14="All"),1,IF(List!$B$14=INDEX(IF(BW$5="d",DateTable,MainTable),$C25,BW$6),1,0)),0) -> 1 | BX25: =IFERROR(IF(OR(BX$7="",List!$B$17="",List!$B$17="All"),1,IF(List!$B$17=INDEX(IF(BX$5="d",DateTable,MainTable),$C25,BX$6),1,0)),0) -> 1 | BY25: =BU25*BV25*BW25*BX25 -> 1 | CA25: =IFERROR(IF(OR(AND(D25="",E25=""),BY25=0),"",$C25),"") | CB25: =IFERROR(SMALL($CA$8:$CA$26,$C25),"") | CD25: =IFERROR(IF(OR(Dashboard!$C$7="",Dashboard!$C$7="All"),1,IF(Dashboard!$C$7=INDEX(MainTable,$C25,CD$6),1,0)),0) -> 1 | CE25: =IFERROR(IF(OR(Dashboard!$E$7="",Dashboard!$E$7="All"),1,IF(Dashboard!$E$7=INDEX(MainTable,$C25,CE$6),1,0)),0) -> 1 | CF25: =IFERROR(IF(OR(Dashboard!$G$7="",Dashboard!$G$7="All"),1,IF(Dashboard!$G$7=INDEX(MainTable,$C25,CF$6),1,0)),0) -> 1 | CG25: =IFERROR(IF(OR(Dashboard!$I$7="",Dashboard!$I$7="All"),1,IF(Dashboard!$I$7=INDEX(MainTable,$C25,CG$6),1,0)),0) -> 1 | CH25: =CD25*CE25*CF25*CG25 -> 1 | CJ25: =IFERROR(IF(AND($AX25<$CM$5,OR($AY25="",$AY25>=CM$5)),1,0),0) -> 0 | CK25: =IFERROR(IF(AND($AX25<=$CM$5,OR($AY25="",$AY25>$CM$5)),1,0),0) -> 0 | CL25: =IFERROR(IF($AY25="",0,IF($AY25=$CM$5,1,0)),0) -> 0 | CM25: =IFERROR(IF($AX25="",0,IF($AX25=$CM$5,1,0)),0) -> 0 | CO25: =IFERROR(IF(Settings!I26="","",Settings!I26),"") -> Female | CP25: =IFERROR(IF(LEN(CO25)=0,0,COUNTIFS((OFFSET($C$8,0,$CP$17,19)),$CO25,$CH$8:$CH$26,1)),"") -> 9 | CQ25: =IFERROR(IF(CP25/$CP$29=0,"",CP25/$CP$29),"") -> 0.6 | DA25: =IFERROR(IF(Settings!C26="","",Settings!C26),"") | DC25: =IFERROR(IF(Settings!E26="","",Settings!E26),"") | DE25: =IFERROR(IF(Settings!G26="","",Settings!G26),"") | DG25: =IFERROR(INDEX(IF(DG$5="d",DateTable,MainTable),$C25,DH$5),"") | DH25: =IFERROR(IF(COUNTIF($DG$8:$DG25,DG25)>1,"",DG25),"") | DI25: {=IFERROR(INDEX(filter1,SMALL(IF(LEN(filter1)>0,ROW(filter1)-ROW(INDEX(filter1,1,1))+1),ROW($DF25)-ROW($DF$7))),"")} | DJ25: =IFERROR(INDEX(IF(DJ$5="d",DateTable,MainTable),$C25,DK$5),"") | DK25: =IFERROR(IF(COUNTIF($DJ$8:$DJ25,DJ25)>1,"",DJ25),"") | DL25: {=IFERROR(INDEX(filter2,SMALL(IF(LEN(filter2)>0,ROW(filter2)-ROW(INDEX(filter2,1,1))+1),ROW($DF25)-ROW($DF$7))),"")} | DM25: =IFERROR(INDEX(IF(DM$5="d",DateTable,MainTable),$C25,DN$5),"") | DN25: =IFERROR(IF(COUNTIF($DM$8:$DM25,DM25)>1,"",DM25),"") | DO25: {=IFERROR(INDEX(filter3,SMALL(IF(LEN(filter3)>0,ROW(filter3)-ROW(INDEX(filter3,1,1))+1),ROW($DF25)-ROW($DF$7))),"")} | DP25: =IFERROR(INDEX(IF(DP$5="d",DateTable,MainTable),$C25,DQ$5),"") | DQ25: =IFERROR(IF(COUNTIF($DP$8:$DP25,DP25)>1,"",DP25),"") | DR25: {=IFERROR(INDEX(filter4,SMALL(IF(LEN(filter4)>0,ROW(filter4)-ROW(INDEX(filter4,1,1))+1),ROW($DF25)-ROW($DF$7))),"")} | DT25: =IFERROR(IF(OR(LEN(Form!C24)>0,LEN(Form!D24)>0,LEN(Form!G24)>0),ROW(Form!A24),""),"") -> 24 | DW25: =IFERROR(IF(COUNTIF($AX$8:$AX25,AX25)>1,"",AX25),"") | DX25: {=IFERROR(INDEX($DW$8:$DW$26,SMALL(IF(LEN($DW$8:$DW$26)>0,ROW($DW$8:$DW$26)-ROW(INDEX($DW$8:$DW$26,1,1))+1),ROW($DF25)-ROW($DF$7))),"")}
C26: 19 | D26: =IFERROR(IF(INDEX(database[],$C26,D$6)=0,"",INDEX(database[],$C26,D$6)),"") | E26: =IFERROR(IF(INDEX(database[],$C26,E$6)=0,"",INDEX(database[],$C26,E$6)),"") | F26: =IFERROR(IF(INDEX(database[],$C26,F$6)=0,"",INDEX(database[],$C26,F$6)),"") | G26: =IFERROR(IF(INDEX(database[],$C26,G$6)=0,"",INDEX(database[],$C26,G$6)),"") | H26: =IFERROR(IF(INDEX(database[],$C26,H$6)=0,"",INDEX(database[],$C26,H$6)),"") | I26: =IFERROR(IF(INDEX(database[],$C26,I$6)=0,"",INDEX(database[],$C26,I$6)),"") | J26: =IFERROR(IF(INDEX(database[],$C26,J$6)=0,"",INDEX(database[],$C26,J$6)),"") | K26: =IFERROR(IF(INDEX(database[],$C26,K$6)=0,"",INDEX(database[],$C26,K$6)),"") | ... AV26: =IFERROR(IF(INDEX(database[],$C26,AV$6)=0,"",INDEX(database[],$C26,AV$6)),"") | AW26: =IFERROR(IF(INDEX(MainTable,$C26,$BQ$68)="",INDEX(MainTable,$C26,$BQ$69),INDEX(MainTable,$C26,$BQ$68)&"-"&INDEX(MainTable,$C26,$BQ$69)),"") | AX26: =IFERROR(YEAR(BD26),"") | AY26: =IFERROR(YEAR(BF26),"") | AZ26: =IFERROR(YEAR(BE26),"") | BA26: =IFERROR(DATEDIF(BE26,TODAY(),"y"),"") | BB26: =IFERROR(IF(LEN(BA26)=0,"",IF(BA26<18,$CO$54,IF(AND(BA26>=18,BA26<31),$CO$55,IF(AND(BA26>=31,BA26<41),$CO$56,IF(AND(BA26>=41,BA26<50),$CO$57,IF(AND(BA26>=51,BA26<60),$CO$58,IF(BA26>=61,$CO$59,""))))))),"") | BC26: =IFERROR(INDEX(MainTable,$C26,BC$6),"") | BD26: =IFERROR(INDEX(MainTable,$C26,BD$6),"") | BE26: =IFERROR(INDEX(MainTable,$C26,BE$6),"") | BF26: =IFERROR(INDEX(MainTable,$C26,BF$6),"") | BG26: =IFERROR(INDEX(MainTable,$C26,BG$6),"") | BH26: =IFERROR(INDEX(MainTable,$C26,BH$6),"") | BI26: =IFERROR(INDEX(MainTable,$C26,BI$6),"") | BJ26: =IFERROR(IF(order=123,DAY(BD26)&connector&IF(desc="Extended",INDEX(months,MONTH(BD26),1),MONTH(BD26))&connector&IF(desc="Short", RIGHT(YEAR(BD26),2),YEAR(BD26)),IF(order=213, MONTH(BD26)&connector&DAY(BD26)&connector&IF(desc="Short", RIGHT(YEAR(BD26),2),YEAR(BD26)),IF(desc="Short", RIGHT(YEAR(BD26),2),YEAR(BD26))&connector&MONTH(BD26)&connector&DAY(BD26))),BD26) | BK26: =IFERROR(IF(order=123,DAY(BE26)&connector&IF(desc="Extended",INDEX(months,MONTH(BE26),1),MONTH(BE26))&connector&IF(desc="Short", RIGHT(YEAR(BE26),2),YEAR(BE26)),IF(order=213, MONTH(BE26)&connector&DAY(BE26)&connector&IF(desc="Short", RIGHT(YEAR(BE26),2),YEAR(BE26)),IF(desc="Short", RIGHT(YEAR(BE26),2),YEAR(BE26))&connector&MONTH(BE26)&connector&DAY(BE26))),BE26) | BL26: =IFERROR(IF(order=123,DAY(BF26)&connector&IF(desc="Extended",INDEX(months,MONTH(BF26),1),MONTH(BF26))&connector&IF(desc="Short", RIGHT(YEAR(BF26),2),YEAR(BF26)),IF(order=213, MONTH(BF26)&connector&DAY(BF26)&connector&IF(desc="Short", RIGHT(YEAR(BF26),2),YEAR(BF26)),IF(desc="Short", RIGHT(YEAR(BF26),2),YEAR(BF26))&connector&MONTH(BF26)&connector&DAY(BF26))),BF26) | BM26: =IFERROR(IF(order=123,DAY(BG26)&connector&IF(desc="Extended",INDEX(months,MONTH(BG26),1),MONTH(BG26))&connector&IF(desc="Short", RIGHT(YEAR(BG26),2),YEAR(BG26)),IF(order=213, MONTH(BG26)&connector&DAY(BG26)&connector&IF(desc="Short", RIGHT(YEAR(BG26),2),YEAR(BG26)),IF(desc="Short", RIGHT(YEAR(BG26),2),YEAR(BG26))&connector&MONTH(BG26)&connector&DAY(BG26))),BG26) | BN26: =IFERROR(IF(order=123,DAY(BH26)&connector&IF(desc="Extended",INDEX(months,MONTH(BH26),1),MONTH(BH26))&connector&IF(desc="Short", RIGHT(YEAR(BH26),2),YEAR(BH26)),IF(order=213, MONTH(BH26)&connector&DAY(BH26)&connector&IF(desc="Short", RIGHT(YEAR(BH26),2),YEAR(BH26)),IF(desc="Short", RIGHT(YEAR(BH26),2),YEAR(BH26))&connector&MONTH(BH26)&connector&DAY(BH26))),BH26) | BO26: =IFERROR(IF(order=123,DAY(BI26)&connector&IF(desc="Extended",INDEX(months,MONTH(BI26),1),MONTH(BI26))&connector&IF(desc="Short", RIGHT(YEAR(BI26),2),YEAR(BI26)),IF(order=213, MONTH(BI26)&connector&DAY(BI26)&connector&IF(desc="Short", RIGHT(YEAR(BI26),2),YEAR(BI26)),IF(desc="Short", RIGHT(YEAR(BI26),2),YEAR(BI26))&connector&MONTH(BI26)&connector&DAY(BI26))),BI26) | BQ26: 19 | BR26: =IFERROR(INDEX(database[#Headers],0,BQ26),"") -> Cell Phone | BU26: =IFERROR(IF(OR(BU$7="",List!$B$8="",List!$B$8="All"),1,IF(List!$B$8=INDEX(IF(BU$5="d",DateTable,MainTable),$C26,BU$6),1,0)),0) -> 1 | BV26: =IFERROR(IF(OR(BV$7="",List!$B$11="",List!$B$11="All"),1,IF(List!$B$11=INDEX(IF(BV$5="d",DateTable,MainTable),$C26,BV$6),1,0)),0) -> 1 | BW26: =IFERROR(IF(OR(BW$7="",List!$B$14="",List!$B$14="All"),1,IF(List!$B$14=INDEX(IF(BW$5="d",DateTable,MainTable),$C26,BW$6),1,0)),0) -> 1 | BX26: =IFERROR(IF(OR(BX$7="",List!$B$17="",List!$B$17="All"),1,IF(List!$B$17=INDEX(IF(BX$5="d",DateTable,MainTable),$C26,BX$6),1,0)),0) -> 1 | BY26: =BU26*BV26*BW26*BX26 -> 1 | CA26: =IFERROR(IF(OR(AND(D26="",E26=""),BY26=0),"",$C26),"") | CB26: =IFERROR(SMALL($CA$8:$CA$26,$C26),"") | CD26: =IFERROR(IF(OR(Dashboard!$C$7="",Dashboard!$C$7="All"),1,IF(Dashboard!$C$7=INDEX(MainTable,$C26,CD$6),1,0)),0) -> 1 | CE26: =IFERROR(IF(OR(Dashboard!$E$7="",Dashboard!$E$7="All"),1,IF(Dashboard!$E$7=INDEX(MainTable,$C26,CE$6),1,0)),0) -> 1 | CF26: =IFERROR(IF(OR(Dashboard!$G$7="",Dashboard!$G$7="All"),1,IF(Dashboard!$G$7=INDEX(MainTable,$C26,CF$6),1,0)),0) -> 1 | CG26: =IFERROR(IF(OR(Dashboard!$I$7="",Dashboard!$I$7="All"),1,IF(Dashboard!$I$7=INDEX(MainTable,$C26,CG$6),1,0)),0) -> 1 | CH26: =CD26*CE26*CF26*CG26 -> 1 | CJ26: =IFERROR(IF(AND($AX26<$CM$5,OR($AY26="",$AY26>=CM$5)),1,0),0) -> 0 | CK26: =IFERROR(IF(AND($AX26<=$CM$5,OR($AY26="",$AY26>$CM$5)),1,0),0) -> 0 | CL26: =IFERROR(IF($AY26="",0,IF($AY26=$CM$5,1,0)),0) -> 0 | CM26: =IFERROR(IF($AX26="",0,IF($AX26=$CM$5,1,0)),0) -> 0 | CO26: =IFERROR(IF(Settings!I27="","",Settings!I27),"") -> Male | CP26: =IFERROR(IF(LEN(CO26)=0,0,COUNTIFS((OFFSET($C$8,0,$CP$17,19)),$CO26,$CH$8:$CH$26,1)),"") -> 6 | CQ26: =IFERROR(IF(CP26/$CP$29=0,"",CP26/$CP$29),"") -> 0.4 | DA26: =IFERROR(IF(Settings!C27="","",Settings!C27),"") | DC26: =IFERROR(IF(Settings!E27="","",Settings!E27),"") | DE26: =IFERROR(IF(Settings!G27="","",Settings!G27),"") | DG26: =IFERROR(INDEX(IF(DG$5="d",DateTable,MainTable),$C26,DH$5),"") | DH26: =IFERROR(IF(COUNTIF($DG$8:$DG26,DG26)>1,"",DG26),"") | DI26: {=IFERROR(INDEX(filter1,SMALL(IF(LEN(filter1)>0,ROW(filter1)-ROW(INDEX(filter1,1,1))+1),ROW($DF26)-ROW($DF$7))),"")} | DJ26: =IFERROR(INDEX(IF(DJ$5="d",DateTable,MainTable),$C26,DK$5),"") | DK26: =IFERROR(IF(COUNTIF($DJ$8:$DJ26,DJ26)>1,"",DJ26),"") | DL26: {=IFERROR(INDEX(filter2,SMALL(IF(LEN(filter2)>0,ROW(filter2)-ROW(INDEX(filter2,1,1))+1),ROW($DF26)-ROW($DF$7))),"")} | DM26: =IFERROR(INDEX(IF(DM$5="d",DateTable,MainTable),$C26,DN$5),"") | DN26: =IFERROR(IF(COUNTIF($DM$8:$DM26,DM26)>1,"",DM26),"") | DO26: {=IFERROR(INDEX(filter3,SMALL(IF(LEN(filter3)>0,ROW(filter3)-ROW(INDEX(filter3,1,1))+1),ROW($DF26)-ROW($DF$7))),"")} | DP26: =IFERROR(INDEX(IF(DP$5="d",DateTable,MainTable),$C26,DQ$5),"") | DQ26: =IFERROR(IF(COUNTIF($DP$8:$DP26,DP26)>1,"",DP26),"") | DR26: {=IFERROR(INDEX(filter4,SMALL(IF(LEN(filter4)>0,ROW(filter4)-ROW(INDEX(filter4,1,1))+1),ROW($DF26)-ROW($DF$7))),"")} | DT26: =IFERROR(IF(OR(LEN(Form!C25)>0,LEN(Form!D25)>0,LEN(Form!G25)>0),ROW(Form!A25),""),"") -> 25 | DW26: =IFERROR(IF(COUNTIF($AX$8:$AX26,AX26)>1,"",AX26),"") | DX26: {=IFERROR(INDEX($DW$8:$DW$26,SMALL(IF(LEN($DW$8:$DW$26)>0,ROW($DW$8:$DW$26)-ROW(INDEX($DW$8:$DW$26,1,1))+1),ROW($DF26)-ROW($DF$7))),"")}
BQ27: 20 | BR27: =IFERROR(INDEX(database[#Headers],0,BQ27),"") -> Address | CO27: =IFERROR(IF(Settings!I28="","",Settings!I28),"") -> Not specified | CP27: =IFERROR(IF(LEN(CO27)=0,0,COUNTIFS((OFFSET($C$8,0,$CP$17,19)),$CO27,$CH$8:$CH$26,1)),"") -> 0 | CQ27: =IFERROR(IF(CP27/$CP$29=0,"",CP27/$CP$29),"") | DA27: =IFERROR(IF(Settings!C28="","",Settings!C28),"") | DC27: =IFERROR(IF(Settings!E28="","",Settings!E28),"") | DE27: =IFERROR(IF(Settings!G28="","",Settings!G28),"") | DT27: =IFERROR(IF(OR(LEN(Form!C26)>0,LEN(Form!D26)>0,LEN(Form!G26)>0),ROW(Form!A26),""),"") -> 26
BQ28: 21 | BR28: =IFERROR(INDEX(database[#Headers],0,BQ28),"") -> City | CO28: =IFERROR(IF(Settings!I29="","",Settings!I29),"") | CP28: =IFERROR(IF(LEN(CO28)=0,0,COUNTIFS((OFFSET($C$8,0,$CP$17,19)),$CO28,$CH$8:$CH$26,1)),"") -> 0 | CQ28: =IFERROR(IF(CP28/$CP$29=0,"",CP28/$CP$29),"") | DA28: =IFERROR(IF(Settings!C29="","",Settings!C29),"") | DC28: =IFERROR(IF(Settings!E29="","",Settings!E29),"") | DE28: =IFERROR(IF(Settings!G29="","",Settings!G29),"") | DT28: =IFERROR(IF(OR(LEN(Form!C27)>0,LEN(Form!D27)>0,LEN(Form!G27)>0),ROW(Form!A27),""),"") -> 27
BQ29: 22 | BR29: =IFERROR(INDEX(database[#Headers],0,BQ29),"") -> Country | CO29: =COUNTIF(CO25:CO28,"?*") -> 3 | CP29: =SUM(CP25:CP28) -> 15 | DA29: =IFERROR(COUNTIF(DA8:DA28,"?*"),21) -> 4 | DC29: =IFERROR(COUNTIF(DC8:DC28,"?*"),21) -> 8 | DE29: =IFERROR(COUNTIF(DE8:DE28,"?*"),21) -> 6 | DT29: =IFERROR(IF(OR(LEN(Form!C28)>0,LEN(Form!D28)>0,LEN(Form!G28)>0),ROW(Form!A28),""),"") -> 28
BQ30: 23 | BR30: =IFERROR(INDEX(database[#Headers],0,BQ30),"") -> Emergency Contact Person | CO30: Count | CP30: sum | DT30: =IFERROR(IF(OR(LEN(Form!C29)>0,LEN(Form!D29)>0,LEN(Form!G29)>0),ROW(Form!A29),""),"") -> 29
BQ31: 24 | BR31: =IFERROR(INDEX(database[#Headers],0,BQ31),"") -> Contact Info | DT31: =IFERROR(IF(OR(LEN(Form!C30)>0,LEN(Form!D30)>0,LEN(Form!G30)>0),ROW(Form!A30),""),"") -> 30
BQ32: 25 | BR32: =IFERROR(INDEX(database[#Headers],0,BQ32),"") -> Blood Type | DT32: =IFERROR(IF(OR(LEN(Form!C31)>0,LEN(Form!D31)>0,LEN(Form!G31)>0),ROW(Form!A31),""),"") -> 31
BQ33: 26 | BR33: =IFERROR(INDEX(database[#Headers],0,BQ33),"") -> Any Health Problem? | CO33: Termination Reasons | DT33: =IFERROR(IF(OR(LEN(Form!C32)>0,LEN(Form!D32)>0,LEN(Form!G32)>0),ROW(Form!A32),""),"") -> 32
BQ34: 27 | BR34: =IFERROR(INDEX(database[#Headers],0,BQ34),"") -> Initial Salary | CO34: =IF(Settings!K18="","",Settings!K18) -> Retirement | CP34: =IFERROR(IF(LEN(CO34)=0,0,COUNTIFS((OFFSET($C$8,0,$CP$18,19)),$CO34,$CD$8:$CD$26,1,$CE$8:$CE$26,1,$CF$8:$CF$26,1)),"") -> 0 | DT34: =IFERROR(IF(OR(LEN(Form!C33)>0,LEN(Form!D33)>0,LEN(Form!G33)>0),ROW(Form!A33),""),"") -> 33
BQ35: 28 | BR35: =IFERROR(INDEX(database[#Headers],0,BQ35),"") -> Current Salary | CO35: =IF(Settings!K19="","",Settings!K19) -> Resignment | CP35: =IFERROR(IF(LEN(CO35)=0,0,COUNTIFS((OFFSET($C$8,0,$CP$18,19)),$CO35,$CD$8:$CD$26,1,$CE$8:$CE$26,1,$CF$8:$CF$26,1)),"") -> 2 | DT35: =IFERROR(IF(OR(LEN(Form!C34)>0,LEN(Form!D34)>0,LEN(Form!G34)>0),ROW(Form!A34),""),"") -> 34
BQ36: 29 | BR36: =IFERROR(INDEX(database[#Headers],0,BQ36),"") -> Bank Account | CO36: =IF(Settings!K20="","",Settings!K20) -> New Job | CP36: =IFERROR(IF(LEN(CO36)=0,0,COUNTIFS((OFFSET($C$8,0,$CP$18,19)),$CO36,$CD$8:$CD$26,1,$CE$8:$CE$26,1,$CF$8:$CF$26,1)),"") -> 1 | DT36: =IFERROR(IF(OR(LEN(Form!C35)>0,LEN(Form!D35)>0,LEN(Form!G35)>0),ROW(Form!A35),""),"")
BQ37: 30 | BR37: =IFERROR(INDEX(database[#Headers],0,BQ37),"") -> Active | CO37: =IF(Settings!K21="","",Settings!K21) | CP37: =IFERROR(IF(LEN(CO37)=0,0,COUNTIFS((OFFSET($C$8,0,$CP$18,19)),$CO37,$CD$8:$CD$26,1,$CE$8:$CE$26,1,$CF$8:$CF$26,1)),"") -> 0 | DT37: =IFERROR(IF(OR(LEN(Form!C36)>0,LEN(Form!D36)>0,LEN(Form!G36)>0),ROW(Form!A36),""),"")
BQ38: 31 | BR38: =IFERROR(INDEX(database[#Headers],0,BQ38),"") -> Termination Date | CO38: =IF(Settings!K22="","",Settings!K22) | CP38: =IFERROR(IF(LEN(CO38)=0,0,COUNTIFS((OFFSET($C$8,0,$CP$18,19)),$CO38,$CD$8:$CD$26,1,$CE$8:$CE$26,1,$CF$8:$CF$26,1)),"") -> 0 | DT38: =IFERROR(IF(OR(LEN(Form!C37)>0,LEN(Form!D37)>0,LEN(Form!G37)>0),ROW(Form!A37),""),"")
BQ39: 32 | BR39: =IFERROR(INDEX(database[#Headers],0,BQ39),"") -> Termination Reason | CO39: =IF(Settings!K23="","",Settings!K23) | CP39: =IFERROR(IF(LEN(CO39)=0,0,COUNTIFS((OFFSET($C$8,0,$CP$18,19)),$CO39,$CD$8:$CD$26,1,$CE$8:$CE$26,1,$CF$8:$CF$26,1)),"") -> 0 | DT39: =IFERROR(IF(OR(LEN(Form!C38)>0,LEN(Form!D38)>0,LEN(Form!G38)>0),ROW(Form!A38),""),"")
BQ40: 33 | BR40: =IFERROR(INDEX(database[#Headers],0,BQ40),"") -> Header1 | CO40: =COUNTIF(CO34:CO39,"?*") -> 3 | CP40: =SUM(CP34:CP39) -> 3 | DT40: =IFERROR(IF(OR(LEN(Form!C39)>0,LEN(Form!D39)>0,LEN(Form!G39)>0),ROW(Form!A39),""),"")
BQ41: 34 | BR41: =IFERROR(INDEX(database[#Headers],0,BQ41),"") -> Header2 | CO41: count | CP41: sum | DT41: =IFERROR(IF(OR(LEN(Form!C40)>0,LEN(Form!D40)>0,LEN(Form!G40)>0),ROW(Form!A40),""),"")
BQ42: 35 | BR42: =IFERROR(INDEX(database[#Headers],0,BQ42),"") -> Header3 | DT42: =IFERROR(IF(OR(LEN(Form!C41)>0,LEN(Form!D41)>0,LEN(Form!G41)>0),ROW(Form!A41),""),"")
BQ43: 36 | BR43: =IFERROR(INDEX(database[#Headers],0,BQ43),"") -> Header4 | CO43: Education Breakdown | CQ43: Max | CR43: Other | DT43: =IFERROR(IF(OR(LEN(Form!C42)>0,LEN(Form!D42)>0,LEN(Form!G42)>0),ROW(Form!A42),""),"")
BQ44: 37 | BR44: =IFERROR(INDEX(database[#Headers],0,BQ44),"") -> Header5 | CO44: =IF(Settings!K10="","",Settings!K10) -> Primary School | CP44: =IFERROR(IF(LEN(CO44)=0,0,COUNTIFS((OFFSET($C$8,0,$CP$19,19)),$CO44,$CH$8:$CH$26,1)),"") -> 1 | CQ44: =IFERROR(IF(CP44=MAX($CP$44:$CP$49),CP44,""),"") | CR44: =IFERROR(IF(CQ44="",CP44,""),"") -> 1 | DT44: =IFERROR(IF(OR(LEN(Form!C43)>0,LEN(Form!D43)>0,LEN(Form!G43)>0),ROW(Form!A43),""),"")
