Workbook
Name ChartDepartments: OFFSET(Calculations!$B$14,0,0,Calculations!$B$12,1)
Name ChartHighRisk: OFFSET(Calculations!$E$14,0,0,Calculations!$B$12,1)
Name ChartLowRisk: OFFSET(Calculations!$C$14,0,0,Calculations!$B$12,1)
Name ChartMediumRisk: OFFSET(Calculations!$D$14,0,0,Calculations!$B$12,1)
Name ChartVeryHighRisk: OFFSET(Calculations!$F$14,0,0,Calculations!$B$12,1)
Name Table1: Checklist!$C$12:$G$112
Name Table1: Settings!$E$6:$H$106
Name Table2: EmployeeTrackingSheet!$B$5:$J$1005

Sheet Dashboard
C2: COVID-19 EMPLOYEE HEALTH TRACKER
C3: DASHBOARD
C9: 2020 | F9: JUNE
F13: =COUNTA(Settings!$E$7:$E$106) -> 16
I15: =Calculations!C8 -> 57.142857 | J15: =Calculations!D8 -> 42.857143
C17: Week 1 | F17: All Departments
C19: The Employee List (from employee timesheet)
C20: =IFERROR(IF(LEN(Calculations!$AQ6)>0,Calculations!$AQ6,""),"") -> Tom Wolf
C21: =IFERROR(IF(LEN(Calculations!$AQ7)>0,Calculations!$AQ7,""),"") -> Michela Alexis
C22: =IFERROR(IF(LEN(Calculations!$AQ8)>0,Calculations!$AQ8,""),"") -> Mario Mulhern
C23: =IFERROR(IF(LEN(Calculations!$AQ9)>0,Calculations!$AQ9,""),"") -> Bob Kumar
C24: =IFERROR(IF(LEN(Calculations!$AQ10)>0,Calculations!$AQ10,""),"") -> Adrian McDonagh
C25: =IFERROR(IF(LEN(Calculations!$AQ11)>0,Calculations!$AQ11,""),"") -> Joy Bailey
C26: =IFERROR(IF(LEN(Calculations!$AQ12)>0,Calculations!$AQ12,""),"") -> Ryan Jordan
C27: =IFERROR(IF(LEN(Calculations!$AQ13)>0,Calculations!$AQ13,""),"") -> Isabell Fair
C28: =IFERROR(IF(LEN(Calculations!$AQ14)>0,Calculations!$AQ14,""),"") -> Maxine Hancock
C29: =IFERROR(IF(LEN(Calculations!$AQ15)>0,Calculations!$AQ15,""),"")
C30: =IFERROR(IF(LEN(Calculations!$AQ16)>0,Calculations!$AQ16,""),"")
C31: =IFERROR(IF(LEN(Calculations!$AQ17)>0,Calculations!$AQ17,""),"")
... C33: =IFERROR(IF(LEN(Calculations!$AQ19)>0,Calculations!$AQ19,""),"")

Sheet EmployeeTrackingSheet
B2: COVID-19 EMPLOYEE HEALTH TRACKER
B3: EMPLOYEE TRACKING SHEET
B5: Date | C5: Employee Name | D5: Department | E5: =IF(LEN(Settings!J16)>0,"Temperature"&" "&"-"&""&Calculations!AE4,"Temperature") -> Temperature -°C | F5: Risk Level | G5: Wear a mask? | H5: Travel Outside? (within 14 days) | I5: Had Contacted with Covid-19? | J5: Symptom Evaluation
B6: 43923 | C6: Tom Wolf | D6: =IFERROR(IF(IF(LEN($C6)=0," ",INDEX(Settings!$F$7:$F$106,MATCH($C6,Settings!$E$7:$E$106,0),1))=0,"",IF(LEN($C6)=0,"",INDEX(Settings!$F$7:$F$106,MATCH($C6,Settings!$E$7:$E$106,0),1))),"") -> Sales | E6: 36.8 | F6: =IFERROR(INDEX(Settings!$J$8:$L$11,MATCH($E6,Settings!$J$8:$J$11,1),3),"") -> Low Risk | G6: Yes | H6: Yes | I6: No
B7: 43923 | C7: Adrian McDonagh | D7: =IFERROR(IF(IF(LEN($C7)=0," ",INDEX(Settings!$F$7:$F$106,MATCH($C7,Settings!$E$7:$E$106,0),1))=0,"",IF(LEN($C7)=0,"",INDEX(Settings!$F$7:$F$106,MATCH($C7,Settings!$E$7:$E$106,0),1))),"") -> Sales | E7: 38.7 | F7: =IFERROR(INDEX(Settings!$J$8:$L$11,MATCH($E7,Settings!$J$8:$J$11,1),3),"") -> High Risk | G7: Yes | H7: Yes | I7: No
B8: 43923 | C8: Marry Smith | D8: =IFERROR(IF(IF(LEN($C8)=0," ",INDEX(Settings!$F$7:$F$106,MATCH($C8,Settings!$E$7:$E$106,0),1))=0,"",IF(LEN($C8)=0,"",INDEX(Settings!$F$7:$F$106,MATCH($C8,Settings!$E$7:$E$106,0),1))),"") -> Purchasing | E8: 37.9 | F8: =IFERROR(INDEX(Settings!$J$8:$L$11,MATCH($E8,Settings!$J$8:$J$11,1),3),"") -> Medium Risk | G8: Yes | H8: No | I8: No
B9: 43923 | C9: Mario Mulhern | D9: =IFERROR(IF(IF(LEN($C9)=0," ",INDEX(Settings!$F$7:$F$106,MATCH($C9,Settings!$E$7:$E$106,0),1))=0,"",IF(LEN($C9)=0,"",INDEX(Settings!$F$7:$F$106,MATCH($C9,Settings!$E$7:$E$106,0),1))),"") -> Manufacturing | E9: 37.1 | F9: =IFERROR(INDEX(Settings!$J$8:$L$11,MATCH($E9,Settings!$J$8:$J$11,1),3),"") -> Low Risk | G9: No | H9: No | I9: No
B10: 43923 | C10: Joy Bailey | D10: =IFERROR(IF(IF(LEN($C10)=0," ",INDEX(Settings!$F$7:$F$106,MATCH($C10,Settings!$E$7:$E$106,0),1))=0,"",IF(LEN($C10)=0,"",INDEX(Settings!$F$7:$F$106,MATCH($C10,Settings!$E$7:$E$106,0),1))),"") -> Finance | E10: 36.5 | F10: =IFERROR(INDEX(Settings!$J$8:$L$11,MATCH($E10,Settings!$J$8:$J$11,1),3),"") -> Low Risk | G10: Yes | H10: No | I10: No
B11: 43923 | C11: Robert Liller | D11: =IFERROR(IF(IF(LEN($C11)=0," ",INDEX(Settings!$F$7:$F$106,MATCH($C11,Settings!$E$7:$E$106,0),1))=0,"",IF(LEN($C11)=0,"",INDEX(Settings!$F$7:$F$106,MATCH($C11,Settings!$E$7:$E$106,0),1))),"") -> Logistic | E11: 37.8 | F11: =IFERROR(INDEX(Settings!$J$8:$L$11,MATCH($E11,Settings!$J$8:$J$11,1),3),"") -> Medium Risk | G11: Yes | H11: Yes | I11: No
B12: 43965 | C12: Ellie Kite | D12: =IFERROR(IF(IF(LEN($C12)=0," ",INDEX(Settings!$F$7:$F$106,MATCH($C12,Settings!$E$7:$E$106,0),1))=0,"",IF(LEN($C12)=0,"",INDEX(Settings!$F$7:$F$106,MATCH($C12,Settings!$E$7:$E$106,0),1))),"") -> Purchasing | E12: 38.3 | F12: =IFERROR(INDEX(Settings!$J$8:$L$11,MATCH($E12,Settings!$J$8:$J$11,1),3),"") -> Medium Risk | G12: Yes | H12: No | I12: No
B13: 43965 | C13: Mario Mulhern | D13: =IFERROR(IF(IF(LEN($C13)=0," ",INDEX(Settings!$F$7:$F$106,MATCH($C13,Settings!$E$7:$E$106,0),1))=0,"",IF(LEN($C13)=0,"",INDEX(Settings!$F$7:$F$106,MATCH($C13,Settings!$E$7:$E$106,0),1))),"") -> Manufacturing | E13: 39 | F13: =IFERROR(INDEX(Settings!$J$8:$L$11,MATCH($E13,Settings!$J$8:$J$11,1),3),"") -> High Risk | G13: Yes | H13: No | I13: No
B14: 43990 | C14: Maxine Hancock | D14: =IFERROR(IF(IF(LEN($C14)=0," ",INDEX(Settings!$F$7:$F$106,MATCH($C14,Settings!$E$7:$E$106,0),1))=0,"",IF(LEN($C14)=0,"",INDEX(Settings!$F$7:$F$106,MATCH($C14,Settings!$E$7:$E$106,0),1))),"") -> IT | E14: 39.8 | F14: =IFERROR(INDEX(Settings!$J$8:$L$11,MATCH($E14,Settings!$J$8:$J$11,1),3),"") -> Very High Risk | G14: No | H14: Yes | I14: Yes
B15: 43990 | C15: Kat Tesser | D15: =IFERROR(IF(IF(LEN($C15)=0," ",INDEX(Settings!$F$7:$F$106,MATCH($C15,Settings!$E$7:$E$106,0),1))=0,"",IF(LEN($C15)=0,"",INDEX(Settings!$F$7:$F$106,MATCH($C15,Settings!$E$7:$E$106,0),1))),"") -> Supply Chain | E15: 37.1 | F15: =IFERROR(INDEX(Settings!$J$8:$L$11,MATCH($E15,Settings!$J$8:$J$11,1),3),"") -> Low Risk | G15: Yes | H15: No | I15: No
B16: 43990 | C16: Ellie Kite | D16: =IFERROR(IF(IF(LEN($C16)=0," ",INDEX(Settings!$F$7:$F$106,MATCH($C16,Settings!$E$7:$E$106,0),1))=0,"",IF(LEN($C16)=0,"",INDEX(Settings!$F$7:$F$106,MATCH($C16,Settings!$E$7:$E$106,0),1))),"") -> Purchasing | E16: 37.5 | F16: =IFERROR(INDEX(Settings!$J$8:$L$11,MATCH($E16,Settings!$J$8:$J$11,1),3),"") -> Medium Risk | G16: Yes | H16: No | I16: No
B17: 43999 | C17: Michela Alexis | D17: =IFERROR(IF(IF(LEN($C17)=0," ",INDEX(Settings!$F$7:$F$106,MATCH($C17,Settings!$E$7:$E$106,0),1))=0,"",IF(LEN($C17)=0,"",INDEX(Settings!$F$7:$F$106,MATCH($C17,Settings!$E$7:$E$106,0),1))),"") -> Manufacturing | E17: 37.9 | F17: =IFERROR(INDEX(Settings!$J$8:$L$11,MATCH($E17,Settings!$J$8:$J$11,1),3),"") -> Medium Risk | G17: No | H17: No | I17: No
... B23: 44022 | C23: Maxine Hancock | D23: =IFERROR(IF(IF(LEN($C23)=0," ",INDEX(Settings!$F$7:$F$106,MATCH($C23,Settings!$E$7:$E$106,0),1))=0,"",IF(LEN($C23)=0,"",INDEX(Settings!$F$7:$F$106,MATCH($C23,Settings!$E$7:$E$106,0),1))),"") -> IT | E23: 39 | F23: =IFERROR(INDEX(Settings!$J$8:$L$11,MATCH($E23,Settings!$J$8:$J$11,1),3),"") -> High Risk | G23: Yes | H23: Yes | I23: No
D24: =IFERROR(IF(IF(LEN($C24)=0," ",INDEX(Settings!$F$7:$F$106,MATCH($C24,Settings!$E$7:$E$106,0),1))=0,"",IF(LEN($C24)=0,"",INDEX(Settings!$F$7:$F$106,MATCH($C24,Settings!$E$7:$E$106,0),1))),"") | F24: =IFERROR(INDEX(Settings!$J$8:$L$11,MATCH($E24,Settings!$J$8:$J$11,1),3),"")
D25: =IFERROR(IF(IF(LEN($C25)=0," ",INDEX(Settings!$F$7:$F$106,MATCH($C25,Settings!$E$7:$E$106,0),1))=0,"",IF(LEN($C25)=0,"",INDEX(Settings!$F$7:$F$106,MATCH($C25,Settings!$E$7:$E$106,0),1))),"") | F25: =IFERROR(INDEX(Settings!$J$8:$L$11,MATCH($E25,Settings!$J$8:$J$11,1),3),"")
D26: =IFERROR(IF(IF(LEN($C26)=0," ",INDEX(Settings!$F$7:$F$106,MATCH($C26,Settings!$E$7:$E$106,0),1))=0,"",IF(LEN($C26)=0,"",INDEX(Settings!$F$7:$F$106,MATCH($C26,Settings!$E$7:$E$106,0),1))),"") | F26: =IFERROR(INDEX(Settings!$J$8:$L$11,MATCH($E26,Settings!$J$8:$J$11,1),3),"")
D27: =IFERROR(IF(IF(LEN($C27)=0," ",INDEX(Settings!$F$7:$F$106,MATCH($C27,Settings!$E$7:$E$106,0),1))=0,"",IF(LEN($C27)=0,"",INDEX(Settings!$F$7:$F$106,MATCH($C27,Settings!$E$7:$E$106,0),1))),"") | F27: =IFERROR(INDEX(Settings!$J$8:$L$11,MATCH($E27,Settings!$J$8:$J$11,1),3),"")
D28: =IFERROR(IF(IF(LEN($C28)=0," ",INDEX(Settings!$F$7:$F$106,MATCH($C28,Settings!$E$7:$E$106,0),1))=0,"",IF(LEN($C28)=0,"",INDEX(Settings!$F$7:$F$106,MATCH($C28,Settings!$E$7:$E$106,0),1))),"") | F28: =IFERROR(INDEX(Settings!$J$8:$L$11,MATCH($E28,Settings!$J$8:$J$11,1),3),"")
D29: =IFERROR(IF(IF(LEN($C29)=0," ",INDEX(Settings!$F$7:$F$106,MATCH($C29,Settings!$E$7:$E$106,0),1))=0,"",IF(LEN($C29)=0,"",INDEX(Settings!$F$7:$F$106,MATCH($C29,Settings!$E$7:$E$106,0),1))),"") | F29: =IFERROR(INDEX(Settings!$J$8:$L$11,MATCH($E29,Settings!$J$8:$J$11,1),3),"")
D30: =IFERROR(IF(IF(LEN($C30)=0," ",INDEX(Settings!$F$7:$F$106,MATCH($C30,Settings!$E$7:$E$106,0),1))=0,"",IF(LEN($C30)=0,"",INDEX(Settings!$F$7:$F$106,MATCH($C30,Settings!$E$7:$E$106,0),1))),"") | F30: =IFERROR(INDEX(Settings!$J$8:$L$11,MATCH($E30,Settings!$J$8:$J$11,1),3),"")
D31: =IFERROR(IF(IF(LEN($C31)=0," ",INDEX(Settings!$F$7:$F$106,MATCH($C31,Settings!$E$7:$E$106,0),1))=0,"",IF(LEN($C31)=0,"",INDEX(Settings!$F$7:$F$106,MATCH($C31,Settings!$E$7:$E$106,0),1))),"") | F31: =IFERROR(INDEX(Settings!$J$8:$L$11,MATCH($E31,Settings!$J$8:$J$11,1),3),"")
D32: =IFERROR(IF(IF(LEN($C32)=0," ",INDEX(Settings!$F$7:$F$106,MATCH($C32,Settings!$E$7:$E$106,0),1))=0,"",IF(LEN($C32)=0,"",INDEX(Settings!$F$7:$F$106,MATCH($C32,Settings!$E$7:$E$106,0),1))),"") | F32: =IFERROR(INDEX(Settings!$J$8:$L$11,MATCH($E32,Settings!$J$8:$J$11,1),3),"")
D33: =IFERROR(IF(IF(LEN($C33)=0," ",INDEX(Settings!$F$7:$F$106,MATCH($C33,Settings!$E$7:$E$106,0),1))=0,"",IF(LEN($C33)=0,"",INDEX(Settings!$F$7:$F$106,MATCH($C33,Settings!$E$7:$E$106,0),1))),"") | F33: =IFERROR(INDEX(Settings!$J$8:$L$11,MATCH($E33,Settings!$J$8:$J$11,1),3),"")
D34: =IFERROR(IF(IF(LEN($C34)=0," ",INDEX(Settings!$F$7:$F$106,MATCH($C34,Settings!$E$7:$E$106,0),1))=0,"",IF(LEN($C34)=0,"",INDEX(Settings!$F$7:$F$106,MATCH($C34,Settings!$E$7:$E$106,0),1))),"") | F34: =IFERROR(INDEX(Settings!$J$8:$L$11,MATCH($E34,Settings!$J$8:$J$11,1),3),"")
D35: =IFERROR(IF(IF(LEN($C35)=0," ",INDEX(Settings!$F$7:$F$106,MATCH($C35,Settings!$E$7:$E$106,0),1))=0,"",IF(LEN($C35)=0,"",INDEX(Settings!$F$7:$F$106,MATCH($C35,Settings!$E$7:$E$106,0),1))),"") | F35: =IFERROR(INDEX(Settings!$J$8:$L$11,MATCH($E35,Settings!$J$8:$J$11,1),3),"")
... D1005: =IFERROR(IF(IF(LEN($C1005)=0," ",INDEX(Settings!$F$7:$F$106,MATCH($C1005,Settings!$E$7:$E$106,0),1))=0,"",IF(LEN($C1005)=0,"",INDEX(Settings!$F$7:$F$106,MATCH($C1005,Settings!$E$7:$E$106,0),1))),"") | F1005: =IFERROR(INDEX(Settings!$J$8:$L$11,MATCH($E1005,Settings!$J$8:$J$11,1),3),"")

Sheet EmployeeTimesheet
B2: COVID-19 EMPLOYEE HEALTH TRACKER
B3: ="EMPLOYEE TIMESHEET"&" "&"-"&" "&Dashboard!C9&" "&Dashboard!F9 -> EMPLOYEE TIMESHEET - 2020 JUNE
D5: 1 | E5: 2 | F5: 3 | G5: 4 | H5: 5 | I5: 6 | J5: 7 | K5: 8 | L5: 9 | M5: 10 | N5: 11 | O5: 12 | P5: 13 | Q5: 14 | R5: 15 | S5: 16 | T5: 17 | U5: 18 | V5: 19 | W5: 20 | X5: 21 | Y5: 22 | Z5: 23 | AA5: 24 | AB5: 25 | AC5: 26 | AD5: 27 | AE5: 28 | AF5: 29 | AG5: 30 | AH5: 31 | AJ5: Total worked days | AL5: Number of Working Days
B6: Employee Name | C6: Department | D6: =IFERROR(INDEX(Calculations!$BB$5:$BC$275,MATCH(WEEKDAY(DATE(Calculations!$AD$7,Calculations!$AE$7,EmployeeTimesheet!D$5),2),Calculations!$BB$5:$BB$11,0),2),"") -> Mon | E6: =IFERROR(INDEX(Calculations!$BB$5:$BC$275,MATCH(WEEKDAY(DATE(Calculations!$AD$7,Calculations!$AE$7,EmployeeTimesheet!E$5),2),Calculations!$BB$5:$BB$11,0),2),"") -> Tue | F6: =IFERROR(INDEX(Calculations!$BB$5:$BC$275,MATCH(WEEKDAY(DATE(Calculations!$AD$7,Calculations!$AE$7,EmployeeTimesheet!F$5),2),Calculations!$BB$5:$BB$11,0),2),"") -> Wed | G6: =IFERROR(INDEX(Calculations!$BB$5:$BC$275,MATCH(WEEKDAY(DATE(Calculations!$AD$7,Calculations!$AE$7,EmployeeTimesheet!G$5),2),Calculations!$BB$5:$BB$11,0),2),"") -> Thu | H6: =IFERROR(INDEX(Calculations!$BB$5:$BC$275,MATCH(WEEKDAY(DATE(Calculations!$AD$7,Calculations!$AE$7,EmployeeTimesheet!H$5),2),Calculations!$BB$5:$BB$11,0),2),"") -> Fri | I6: =IFERROR(INDEX(Calculations!$BB$5:$BC$275,MATCH(WEEKDAY(DATE(Calculations!$AD$7,Calculations!$AE$7,EmployeeTimesheet!I$5),2),Calculations!$BB$5:$BB$11,0),2),"") -> Sat | J6: =IFERROR(INDEX(Calculations!$BB$5:$BC$275,MATCH(WEEKDAY(DATE(Calculations!$AD$7,Calculations!$AE$7,EmployeeTimesheet!J$5),2),Calculations!$BB$5:$BB$11,0),2),"") -> Sun | K6: =IFERROR(INDEX(Calculations!$BB$5:$BC$275,MATCH(WEEKDAY(DATE(Calculations!$AD$7,Calculations!$AE$7,EmployeeTimesheet!K$5),2),Calculations!$BB$5:$BB$11,0),2),"") -> Mon | ... AH6: =IFERROR(INDEX(Calculations!$BB$5:$BC$275,MATCH(WEEKDAY(DATE(Calculations!$AD$7,Calculations!$AE$7,EmployeeTimesheet!AH$5),2),Calculations!$BB$5:$BB$11,0),2),"") -> Wed | AL6: W1 | AM6: W2 | AN6: W3 | AO6: W4 | AP6: W5 | AQ6: W6
B7: Tom Wolf | C7: =IFERROR(IF(IF(LEN($B7)=0," ",INDEX(Settings!$E$7:$F$106,MATCH($B7,Settings!$E$7:$E$106,0),2))=0,"",IF(LEN($B7)=0," ",INDEX(Settings!$E$7:$F$106,MATCH($B7,Settings!$E$7:$E$106,0),2))),"") -> Sales | E7: x | F7: x | N7: x | AJ7: =IFERROR(IF(COUNTIF($D7:$AH7,"x")=0," ",COUNTIF($D7:$AH7,"x")),"") -> 3 | AL7: =IF(COUNTIF(OFFSET($D7,,,ROW($A$7)-ROW($A$6),Calculations!$BE$16),"x")=0,"",COUNTIF(OFFSET($D7,,,ROW($A$7)-ROW($A$6),Calculations!$BE$16),"x")) -> 2 | AM7: =IF((COUNTIF(OFFSET($D7,,,ROW($A$7)-ROW($A$6),SUM(Calculations!$BE$16,Calculations!$BF$16)),"x")-SUM($AL7))=0,"",COUNTIF(OFFSET($D7,,,ROW($A$7)-ROW($A$6),SUM(Calculations!$BE$16,Calculations!$BF$16)),"x")-SUM($AL7)) -> 1 | AN7: =IF((COUNTIF(OFFSET($D7,,,ROW($A$7)-ROW($A$6),SUM(Calculations!$BE$16:$BG$16)),"x")-SUM($AL7,$AM7))=0,"",COUNTIF(OFFSET($D7,,,ROW($A$7)-ROW($A$6),SUM(Calculations!$BE$16:$BG$16)),"x")-SUM($AL7,$AM7)) | AO7: =IF((COUNTIF(OFFSET($D7,,,ROW($A$7)-ROW($A$6),SUM(Calculations!$BE$16:$BH$16)),"x")-SUM($AM7,$AN7,$AL7))=0,"",COUNTIF(OFFSET($D7,,,ROW($A$7)-ROW($A$6),SUM(Calculations!$BE$16:$BH$16)),"x")-SUM($AM7,$AN7,$AL7)) | AP7: =IF((COUNTIF(OFFSET($D7,,,ROW($A$7)-ROW($A$6),SUM(Calculations!$BE$16:$BI$16)),"x")-SUM($AN7,$AO7,$AM7,$AL7))=0,"",COUNTIF(OFFSET($D7,,,ROW($A$7)-ROW($A$6),SUM(Calculations!$BE$16:$BI$16)),"x")-SUM($AN7,$AO7,$AM7,$AL7)) | AQ7: =IF((COUNTIF(OFFSET($D7,,,ROW($A$7)-ROW($A$6),SUM(Calculations!$BE$16:$BJ$16)),"x")-SUM($AO7,$AP7,$AN7,$AM7,$AL7))=0,"",COUNTIF(OFFSET($D7,,,ROW($A$7)-ROW($A$6),SUM(Calculations!$BE$16:$BJ$16,#REF!)),"x")-SUM($AO7,$AP7,$AN7,$AM7,$AL7))
B8: Michela Alexis | C8: =IFERROR(IF(IF(LEN($B8)=0," ",INDEX(Settings!$E$7:$F$106,MATCH($B8,Settings!$E$7:$E$106,0),2))=0,"",IF(LEN($B8)=0," ",INDEX(Settings!$E$7:$F$106,MATCH($B8,Settings!$E$7:$E$106,0),2))),"") -> Manufacturing | D8: x | G8: x | H8: x | L8: x | O8: x | T8: x | V8: x | AA8: x | AJ8: =IFERROR(IF(COUNTIF($D8:$AH8,"x")=0," ",COUNTIF($D8:$AH8,"x")),"") -> 8 | AL8: =IF(COUNTIF(OFFSET($D8,,,ROW($A$7)-ROW($A$6),Calculations!$BE$16),"x")=0,"",COUNTIF(OFFSET($D8,,,ROW($A$7)-ROW($A$6),Calculations!$BE$16),"x")) -> 3 | AM8: =IF((COUNTIF(OFFSET($D8,,,ROW($A$7)-ROW($A$6),SUM(Calculations!$BE$16,Calculations!$BF$16)),"x")-SUM($AL8))=0,"",COUNTIF(OFFSET($D8,,,ROW($A$7)-ROW($A$6),SUM(Calculations!$BE$16,Calculations!$BF$16)),"x")-SUM($AL8)) -> 2 | AN8: =IF((COUNTIF(OFFSET($D8,,,ROW($A$7)-ROW($A$6),SUM(Calculations!$BE$16:$BG$16)),"x")-SUM($AL8,$AM8))=0,"",COUNTIF(OFFSET($D8,,,ROW($A$7)-ROW($A$6),SUM(Calculations!$BE$16:$BG$16)),"x")-SUM($AL8,$AM8)) -> 2 | AO8: =IF((COUNTIF(OFFSET($D8,,,ROW($A$7)-ROW($A$6),SUM(Calculations!$BE$16:$BH$16)),"x")-SUM($AM8,$AN8,$AL8))=0,"",COUNTIF(OFFSET($D8,,,ROW($A$7)-ROW($A$6),SUM(Calculations!$BE$16:$BH$16)),"x")-SUM($AM8,$AN8,$AL8)) -> 1 | AP8: =IF((COUNTIF(OFFSET($D8,,,ROW($A$7)-ROW($A$6),SUM(Calculations!$BE$16:$BI$16)),"x")-SUM($AN8,$AO8,$AM8,$AL8))=0,"",COUNTIF(OFFSET($D8,,,ROW($A$7)-ROW($A$6),SUM(Calculations!$BE$16:$BI$16)),"x")-SUM($AN8,$AO8,$AM8,$AL8)) | AQ8: =IF((COUNTIF(OFFSET($D8,,,ROW($A$7)-ROW($A$6),SUM(Calculations!$BE$16:$BJ$16)),"x")-SUM($AO8,$AP8,$AN8,$AM8,$AL8))=0,"",COUNTIF(OFFSET($D8,,,ROW($A$7)-ROW($A$6),SUM(Calculations!$BE$16:$BJ$16,#REF!)),"x")-SUM($AO8,$AP8,$AN8,$AM8,$AL8))
B9: Mario Mulhern | C9: =IFERROR(IF(IF(LEN($B9)=0," ",INDEX(Settings!$E$7:$F$106,MATCH($B9,Settings!$E$7:$E$106,0),2))=0,"",IF(LEN($B9)=0," ",INDEX(Settings!$E$7:$F$106,MATCH($B9,Settings!$E$7:$E$106,0),2))),"") -> Manufacturing | F9: x | K9: x | R9: x | X9: x | AJ9: =IFERROR(IF(COUNTIF($D9:$AH9,"x")=0," ",COUNTIF($D9:$AH9,"x")),"") -> 4 | AL9: =IF(COUNTIF(OFFSET($D9,,,ROW($A$7)-ROW($A$6),Calculations!$BE$16),"x")=0,"",COUNTIF(OFFSET($D9,,,ROW($A$7)-ROW($A$6),Calculations!$BE$16),"x")) -> 1 | AM9: =IF((COUNTIF(OFFSET($D9,,,ROW($A$7)-ROW($A$6),SUM(Calculations!$BE$16,Calculations!$BF$16)),"x")-SUM($AL9))=0,"",COUNTIF(OFFSET($D9,,,ROW($A$7)-ROW($A$6),SUM(Calculations!$BE$16,Calculations!$BF$16)),"x")-SUM($AL9)) -> 1 | AN9: =IF((COUNTIF(OFFSET($D9,,,ROW($A$7)-ROW($A$6),SUM(Calculations!$BE$16:$BG$16)),"x")-SUM($AL9,$AM9))=0,"",COUNTIF(OFFSET($D9,,,ROW($A$7)-ROW($A$6),SUM(Calculations!$BE$16:$BG$16)),"x")-SUM($AL9,$AM9)) -> 2 | AO9: =IF((COUNTIF(OFFSET($D9,,,ROW($A$7)-ROW($A$6),SUM(Calculations!$BE$16:$BH$16)),"x")-SUM($AM9,$AN9,$AL9))=0,"",COUNTIF(OFFSET($D9,,,ROW($A$7)-ROW($A$6),SUM(Calculations!$BE$16:$BH$16)),"x")-SUM($AM9,$AN9,$AL9)) | AP9: =IF((COUNTIF(OFFSET($D9,,,ROW($A$7)-ROW($A$6),SUM(Calculations!$BE$16:$BI$16)),"x")-SUM($AN9,$AO9,$AM9,$AL9))=0,"",COUNTIF(OFFSET($D9,,,ROW($A$7)-ROW($A$6),SUM(Calculations!$BE$16:$BI$16)),"x")-SUM($AN9,$AO9,$AM9,$AL9)) | AQ9: =IF((COUNTIF(OFFSET($D9,,,ROW($A$7)-ROW($A$6),SUM(Calculations!$BE$16:$BJ$16)),"x")-SUM($AO9,$AP9,$AN9,$AM9,$AL9))=0,"",COUNTIF(OFFSET($D9,,,ROW($A$7)-ROW($A$6),SUM(Calculations!$BE$16:$BJ$16,#REF!)),"x")-SUM($AO9,$AP9,$AN9,$AM9,$AL9))
B10: Bob Kumar | C10: =IFERROR(IF(IF(LEN($B10)=0," ",INDEX(Settings!$E$7:$F$106,MATCH($B10,Settings!$E$7:$E$106,0),2))=0,"",IF(LEN($B10)=0," ",INDEX(Settings!$E$7:$F$106,MATCH($B10,Settings!$E$7:$E$106,0),2))),"") -> Human Resources | E10: x | AE10: x | AJ10: =IFERROR(IF(COUNTIF($D10:$AH10,"x")=0," ",COUNTIF($D10:$AH10,"x")),"") -> 2 | AL10: =IF(COUNTIF(OFFSET($D10,,,ROW($A$7)-ROW($A$6),Calculations!$BE$16),"x")=0,"",COUNTIF(OFFSET($D10,,,ROW($A$7)-ROW($A$6),Calculations!$BE$16),"x")) -> 1 | AM10: =IF((COUNTIF(OFFSET($D10,,,ROW($A$7)-ROW($A$6),SUM(Calculations!$BE$16,Calculations!$BF$16)),"x")-SUM($AL10))=0,"",COUNTIF(OFFSET($D10,,,ROW($A$7)-ROW($A$6),SUM(Calculations!$BE$16,Calculations!$BF$16)),"x")-SUM($AL10)) | AN10: =IF((COUNTIF(OFFSET($D10,,,ROW($A$7)-ROW($A$6),SUM(Calculations!$BE$16:$BG$16)),"x")-SUM($AL10,$AM10))=0,"",COUNTIF(OFFSET($D10,,,ROW($A$7)-ROW($A$6),SUM(Calculations!$BE$16:$BG$16)),"x")-SUM($AL10,$AM10)) | AO10: =IF((COUNTIF(OFFSET($D10,,,ROW($A$7)-ROW($A$6),SUM(Calculations!$BE$16:$BH$16)),"x")-SUM($AM10,$AN10,$AL10))=0,"",COUNTIF(OFFSET($D10,,,ROW($A$7)-ROW($A$6),SUM(Calculations!$BE$16:$BH$16)),"x")-SUM($AM10,$AN10,$AL10)) -> 1 | AP10: =IF((COUNTIF(OFFSET($D10,,,ROW($A$7)-ROW($A$6),SUM(Calculations!$BE$16:$BI$16)),"x")-SUM($AN10,$AO10,$AM10,$AL10))=0,"",COUNTIF(OFFSET($D10,,,ROW($A$7)-ROW($A$6),SUM(Calculations!$BE$16:$BI$16)),"x")-SUM($AN10,$AO10,$AM10,$AL10)) | AQ10: =IF((COUNTIF(OFFSET($D10,,,ROW($A$7)-ROW($A$6),SUM(Calculations!$BE$16:$BJ$16)),"x")-SUM($AO10,$AP10,$AN10,$AM10,$AL10))=0,"",COUNTIF(OFFSET($D10,,,ROW($A$7)-ROW($A$6),SUM(Calculations!$BE$16:$BJ$16,#REF!)),"x")-SUM($AO10,$AP10,$AN10,$AM10,$AL10))
B11: Adrian McDonagh | C11: =IFERROR(IF(IF(LEN($B11)=0," ",INDEX(Settings!$E$7:$F$106,MATCH($B11,Settings!$E$7:$E$106,0),2))=0,"",IF(LEN($B11)=0," ",INDEX(Settings!$E$7:$F$106,MATCH($B11,Settings!$E$7:$E$106,0),2))),"") -> Sales | H11: x | AF11: x | AJ11: =IFERROR(IF(COUNTIF($D11:$AH11,"x")=0," ",COUNTIF($D11:$AH11,"x")),"") -> 2 | AL11: =IF(COUNTIF(OFFSET($D11,,,ROW($A$7)-ROW($A$6),Calculations!$BE$16),"x")=0,"",COUNTIF(OFFSET($D11,,,ROW($A$7)-ROW($A$6),Calculations!$BE$16),"x")) -> 1 | AM11: =IF((COUNTIF(OFFSET($D11,,,ROW($A$7)-ROW($A$6),SUM(Calculations!$BE$16,Calculations!$BF$16)),"x")-SUM($AL11))=0,"",COUNTIF(OFFSET($D11,,,ROW($A$7)-ROW($A$6),SUM(Calculations!$BE$16,Calculations!$BF$16)),"x")-SUM($AL11)) | AN11: =IF((COUNTIF(OFFSET($D11,,,ROW($A$7)-ROW($A$6),SUM(Calculations!$BE$16:$BG$16)),"x")-SUM($AL11,$AM11))=0,"",COUNTIF(OFFSET($D11,,,ROW($A$7)-ROW($A$6),SUM(Calculations!$BE$16:$BG$16)),"x")-SUM($AL11,$AM11)) | AO11: =IF((COUNTIF(OFFSET($D11,,,ROW($A$7)-ROW($A$6),SUM(Calculations!$BE$16:$BH$16)),"x")-SUM($AM11,$AN11,$AL11))=0,"",COUNTIF(OFFSET($D11,,,ROW($A$7)-ROW($A$6),SUM(Calculations!$BE$16:$BH$16)),"x")-SUM($AM11,$AN11,$AL11)) | AP11: =IF((COUNTIF(OFFSET($D11,,,ROW($A$7)-ROW($A$6),SUM(Calculations!$BE$16:$BI$16)),"x")-SUM($AN11,$AO11,$AM11,$AL11))=0,"",COUNTIF(OFFSET($D11,,,ROW($A$7)-ROW($A$6),SUM(Calculations!$BE$16:$BI$16)),"x")-SUM($AN11,$AO11,$AM11,$AL11)) -> 1 | AQ11: =IF((COUNTIF(OFFSET($D11,,,ROW($A$7)-ROW($A$6),SUM(Calculations!$BE$16:$BJ$16)),"x")-SUM($AO11,$AP11,$AN11,$AM11,$AL11))=0,"",COUNTIF(OFFSET($D11,,,ROW($A$7)-ROW($A$6),SUM(Calculations!$BE$16:$BJ$16,#REF!)),"x")-SUM($AO11,$AP11,$AN11,$AM11,$AL11))
B12: Joy Bailey | C12: =IFERROR(IF(IF(LEN($B12)=0," ",INDEX(Settings!$E$7:$F$106,MATCH($B12,Settings!$E$7:$E$106,0),2))=0,"",IF(LEN($B12)=0," ",INDEX(Settings!$E$7:$F$106,MATCH($B12,Settings!$E$7:$E$106,0),2))),"") -> Finance | E12: x | AE12: x | AJ12: =IFERROR(IF(COUNTIF($D12:$AH12,"x")=0," ",COUNTIF($D12:$AH12,"x")),"") -> 2 | AL12: =IF(COUNTIF(OFFSET($D12,,,ROW($A$7)-ROW($A$6),Calculations!$BE$16),"x")=0,"",COUNTIF(OFFSET($D12,,,ROW($A$7)-ROW($A$6),Calculations!$BE$16),"x")) -> 1 | AM12: =IF((COUNTIF(OFFSET($D12,,,ROW($A$7)-ROW($A$6),SUM(Calculations!$BE$16,Calculations!$BF$16)),"x")-SUM($AL12))=0,"",COUNTIF(OFFSET($D12,,,ROW($A$7)-ROW($A$6),SUM(Calculations!$BE$16,Calculations!$BF$16)),"x")-SUM($AL12)) | AN12: =IF((COUNTIF(OFFSET($D12,,,ROW($A$7)-ROW($A$6),SUM(Calculations!$BE$16:$BG$16)),"x")-SUM($AL12,$AM12))=0,"",COUNTIF(OFFSET($D12,,,ROW($A$7)-ROW($A$6),SUM(Calculations!$BE$16:$BG$16)),"x")-SUM($AL12,$AM12)) | AO12: =IF((COUNTIF(OFFSET($D12,,,ROW($A$7)-ROW($A$6),SUM(Calculations!$BE$16:$BH$16)),"x")-SUM($AM12,$AN12,$AL12))=0,"",COUNTIF(OFFSET($D12,,,ROW($A$7)-ROW($A$6),SUM(Calculations!$BE$16:$BH$16)),"x")-SUM($AM12,$AN12,$AL12)) -> 1 | AP12: =IF((COUNTIF(OFFSET($D12,,,ROW($A$7)-ROW($A$6),SUM(Calculations!$BE$16:$BI$16)),"x")-SUM($AN12,$AO12,$AM12,$AL12))=0,"",COUNTIF(OFFSET($D12,,,ROW($A$7)-ROW($A$6),SUM(Calculations!$BE$16:$BI$16)),"x")-SUM($AN12,$AO12,$AM12,$AL12)) | AQ12: =IF((COUNTIF(OFFSET($D12,,,ROW($A$7)-ROW($A$6),SUM(Calculations!$BE$16:$BJ$16)),"x")-SUM($AO12,$AP12,$AN12,$AM12,$AL12))=0,"",COUNTIF(OFFSET($D12,,,ROW($A$7)-ROW($A$6),SUM(Calculations!$BE$16:$BJ$16,#REF!)),"x")-SUM($AO12,$AP12,$AN12,$AM12,$AL12))
B13: Courtney Mair | C13: =IFERROR(IF(IF(LEN($B13)=0," ",INDEX(Settings!$E$7:$F$106,MATCH($B13,Settings!$E$7:$E$106,0),2))=0,"",IF(LEN($B13)=0," ",INDEX(Settings!$E$7:$F$106,MATCH($B13,Settings!$E$7:$E$106,0),2))),"") -> Human Resources | AJ13: =IFERROR(IF(COUNTIF($D13:$AH13,"x")=0," ",COUNTIF($D13:$AH13,"x")),"") | AL13: =IF(COUNTIF(OFFSET($D13,,,ROW($A$7)-ROW($A$6),Calculations!$BE$16),"x")=0,"",COUNTIF(OFFSET($D13,,,ROW($A$7)-ROW($A$6),Calculations!$BE$16),"x")) | AM13: =IF((COUNTIF(OFFSET($D13,,,ROW($A$7)-ROW($A$6),SUM(Calculations!$BE$16,Calculations!$BF$16)),"x")-SUM($AL13))=0,"",COUNTIF(OFFSET($D13,,,ROW($A$7)-ROW($A$6),SUM(Calculations!$BE$16,Calculations!$BF$16)),"x")-SUM($AL13)) | AN13: =IF((COUNTIF(OFFSET($D13,,,ROW($A$7)-ROW($A$6),SUM(Calculations!$BE$16:$BG$16)),"x")-SUM($AL13,$AM13))=0,"",COUNTIF(OFFSET($D13,,,ROW($A$7)-ROW($A$6),SUM(Calculations!$BE$16:$BG$16)),"x")-SUM($AL13,$AM13)) | AO13: =IF((COUNTIF(OFFSET($D13,,,ROW($A$7)-ROW($A$6),SUM(Calculations!$BE$16:$BH$16)),"x")-SUM($AM13,$AN13,$AL13))=0,"",COUNTIF(OFFSET($D13,,,ROW($A$7)-ROW($A$6),SUM(Calculations!$BE$16:$BH$16)),"x")-SUM($AM13,$AN13,$AL13)) | AP13: =IF((COUNTIF(OFFSET($D13,,,ROW($A$7)-ROW($A$6),SUM(Calculations!$BE$16:$BI$16)),"x")-SUM($AN13,$AO13,$AM13,$AL13))=0,"",COUNTIF(OFFSET($D13,,,ROW($A$7)-ROW($A$6),SUM(Calculations!$BE$16:$BI$16)),"x")-SUM($AN13,$AO13,$AM13,$AL13)) | AQ13: =IF((COUNTIF(OFFSET($D13,,,ROW($A$7)-ROW($A$6),SUM(Calculations!$BE$16:$BJ$16)),"x")-SUM($AO13,$AP13,$AN13,$AM13,$AL13))=0,"",COUNTIF(OFFSET($D13,,,ROW($A$7)-ROW($A$6),SUM(Calculations!$BE$16:$BJ$16,#REF!)),"x")-SUM($AO13,$AP13,$AN13,$AM13,$AL13))
B14: Ryan Jordan | C14: =IFERROR(IF(IF(LEN($B14)=0," ",INDEX(Settings!$E$7:$F$106,MATCH($B14,Settings!$E$7:$E$106,0),2))=0,"",IF(LEN($B14)=0," ",INDEX(Settings!$E$7:$F$106,MATCH($B14,Settings!$E$7:$E$106,0),2))),"") -> IT | E14: x | J14: x | S14: x | Y14: x | AJ14: =IFERROR(IF(COUNTIF($D14:$AH14,"x")=0," ",COUNTIF($D14:$AH14,"x")),"") -> 4 | AL14: =IF(COUNTIF(OFFSET($D14,,,ROW($A$7)-ROW($A$6),Calculations!$BE$16),"x")=0,"",COUNTIF(OFFSET($D14,,,ROW($A$7)-ROW($A$6),Calculations!$BE$16),"x")) -> 2 | AM14: =IF((COUNTIF(OFFSET($D14,,,ROW($A$7)-ROW($A$6),SUM(Calculations!$BE$16,Calculations!$BF$16)),"x")-SUM($AL14))=0,"",COUNTIF(OFFSET($D14,,,ROW($A$7)-ROW($A$6),SUM(Calculations!$BE$16,Calculations!$BF$16)),"x")-SUM($AL14)) | AN14: =IF((COUNTIF(OFFSET($D14,,,ROW($A$7)-ROW($A$6),SUM(Calculations!$BE$16:$BG$16)),"x")-SUM($AL14,$AM14))=0,"",COUNTIF(OFFSET($D14,,,ROW($A$7)-ROW($A$6),SUM(Calculations!$BE$16:$BG$16)),"x")-SUM($AL14,$AM14)) -> 1 | AO14: =IF((COUNTIF(OFFSET($D14,,,ROW($A$7)-ROW($A$6),SUM(Calculations!$BE$16:$BH$16)),"x")-SUM($AM14,$AN14,$AL14))=0,"",COUNTIF(OFFSET($D14,,,ROW($A$7)-ROW($A$6),SUM(Calculations!$BE$16:$BH$16)),"x")-SUM($AM14,$AN14,$AL14)) -> 1 | AP14: =IF((COUNTIF(OFFSET($D14,,,ROW($A$7)-ROW($A$6),SUM(Calculations!$BE$16:$BI$16)),"x")-SUM($AN14,$AO14,$AM14,$AL14))=0,"",COUNTIF(OFFSET($D14,,,ROW($A$7)-ROW($A$6),SUM(Calculations!$BE$16:$BI$16)),"x")-SUM($AN14,$AO14,$AM14,$AL14)) | AQ14: =IF((COUNTIF(OFFSET($D14,,,ROW($A$7)-ROW($A$6),SUM(Calculations!$BE$16:$BJ$16)),"x")-SUM($AO14,$AP14,$AN14,$AM14,$AL14))=0,"",COUNTIF(OFFSET($D14,,,ROW($A$7)-ROW($A$6),SUM(Calculations!$BE$16:$BJ$16,#REF!)),"x")-SUM($AO14,$AP14,$AN14,$AM14,$AL14))
B15: Isabell Fair | C15: =IFERROR(IF(IF(LEN($B15)=0," ",INDEX(Settings!$E$7:$F$106,MATCH($B15,Settings!$E$7:$E$106,0),2))=0,"",IF(LEN($B15)=0," ",INDEX(Settings!$E$7:$F$106,MATCH($B15,Settings!$E$7:$E$106,0),2))),"") -> IT | F15: x | AJ15: =IFERROR(IF(COUNTIF($D15:$AH15,"x")=0," ",COUNTIF($D15:$AH15,"x")),"") -> 1 | AL15: =IF(COUNTIF(OFFSET($D15,,,ROW($A$7)-ROW($A$6),Calculations!$BE$16),"x")=0,"",COUNTIF(OFFSET($D15,,,ROW($A$7)-ROW($A$6),Calculations!$BE$16),"x")) -> 1 | AM15: =IF((COUNTIF(OFFSET($D15,,,ROW($A$7)-ROW($A$6),SUM(Calculations!$BE$16,Calculations!$BF$16)),"x")-SUM($AL15))=0,"",COUNTIF(OFFSET($D15,,,ROW($A$7)-ROW($A$6),SUM(Calculations!$BE$16,Calculations!$BF$16)),"x")-SUM($AL15)) | AN15: =IF((COUNTIF(OFFSET($D15,,,ROW($A$7)-ROW($A$6),SUM(Calculations!$BE$16:$BG$16)),"x")-SUM($AL15,$AM15))=0,"",COUNTIF(OFFSET($D15,,,ROW($A$7)-ROW($A$6),SUM(Calculations!$BE$16:$BG$16)),"x")-SUM($AL15,$AM15)) | AO15: =IF((COUNTIF(OFFSET($D15,,,ROW($A$7)-ROW($A$6),SUM(Calculations!$BE$16:$BH$16)),"x")-SUM($AM15,$AN15,$AL15))=0,"",COUNTIF(OFFSET($D15,,,ROW($A$7)-ROW($A$6),SUM(Calculations!$BE$16:$BH$16)),"x")-SUM($AM15,$AN15,$AL15)) | AP15: =IF((COUNTIF(OFFSET($D15,,,ROW($A$7)-ROW($A$6),SUM(Calculations!$BE$16:$BI$16)),"x")-SUM($AN15,$AO15,$AM15,$AL15))=0,"",COUNTIF(OFFSET($D15,,,ROW($A$7)-ROW($A$6),SUM(Calculations!$BE$16:$BI$16)),"x")-SUM($AN15,$AO15,$AM15,$AL15)) | AQ15: =IF((COUNTIF(OFFSET($D15,,,ROW($A$7)-ROW($A$6),SUM(Calculations!$BE$16:$BJ$16)),"x")-SUM($AO15,$AP15,$AN15,$AM15,$AL15))=0,"",COUNTIF(OFFSET($D15,,,ROW($A$7)-ROW($A$6),SUM(Calculations!$BE$16:$BJ$16,#REF!)),"x")-SUM($AO15,$AP15,$AN15,$AM15,$AL15))
B16: Maxine Hancock | C16: =IFERROR(IF(IF(LEN($B16)=0," ",INDEX(Settings!$E$7:$F$106,MATCH($B16,Settings!$E$7:$E$106,0),2))=0,"",IF(LEN($B16)=0," ",INDEX(Settings!$E$7:$F$106,MATCH($B16,Settings!$E$7:$E$106,0),2))),"") -> IT | D16: x | AJ16: =IFERROR(IF(COUNTIF($D16:$AH16,"x")=0," ",COUNTIF($D16:$AH16,"x")),"") -> 1 | AL16: =IF(COUNTIF(OFFSET($D16,,,ROW($A$7)-ROW($A$6),Calculations!$BE$16),"x")=0,"",COUNTIF(OFFSET($D16,,,ROW($A$7)-ROW($A$6),Calculations!$BE$16),"x")) -> 1 | AM16: =IF((COUNTIF(OFFSET($D16,,,ROW($A$7)-ROW($A$6),SUM(Calculations!$BE$16,Calculations!$BF$16)),"x")-SUM($AL16))=0,"",COUNTIF(OFFSET($D16,,,ROW($A$7)-ROW($A$6),SUM(Calculations!$BE$16,Calculations!$BF$16)),"x")-SUM($AL16)) | AN16: =IF((COUNTIF(OFFSET($D16,,,ROW($A$7)-ROW($A$6),SUM(Calculations!$BE$16:$BG$16)),"x")-SUM($AL16,$AM16))=0,"",COUNTIF(OFFSET($D16,,,ROW($A$7)-ROW($A$6),SUM(Calculations!$BE$16:$BG$16)),"x")-SUM($AL16,$AM16)) | AO16: =IF((COUNTIF(OFFSET($D16,,,ROW($A$7)-ROW($A$6),SUM(Calculations!$BE$16:$BH$16)),"x")-SUM($AM16,$AN16,$AL16))=0,"",COUNTIF(OFFSET($D16,,,ROW($A$7)-ROW($A$6),SUM(Calculations!$BE$16:$BH$16)),"x")-SUM($AM16,$AN16,$AL16)) | AP16: =IF((COUNTIF(OFFSET($D16,,,ROW($A$7)-ROW($A$6),SUM(Calculations!$BE$16:$BI$16)),"x")-SUM($AN16,$AO16,$AM16,$AL16))=0,"",COUNTIF(OFFSET($D16,,,ROW($A$7)-ROW($A$6),SUM(Calculations!$BE$16:$BI$16)),"x")-SUM($AN16,$AO16,$AM16,$AL16)) | AQ16: =IF((COUNTIF(OFFSET($D16,,,ROW($A$7)-ROW($A$6),SUM(Calculations!$BE$16:$BJ$16)),"x")-SUM($AO16,$AP16,$AN16,$AM16,$AL16))=0,"",COUNTIF(OFFSET($D16,,,ROW($A$7)-ROW($A$6),SUM(Calculations!$BE$16:$BJ$16,#REF!)),"x")-SUM($AO16,$AP16,$AN16,$AM16,$AL16))
C17: =IFERROR(IF(IF(LEN($B17)=0," ",INDEX(Settings!$E$7:$F$106,MATCH($B17,Settings!$E$7:$E$106,0),2))=0,"",IF(LEN($B17)=0," ",INDEX(Settings!$E$7:$F$106,MATCH($B17,Settings!$E$7:$E$106,0),2))),"") | AJ17: =IFERROR(IF(COUNTIF($D17:$AH17,"x")=0," ",COUNTIF($D17:$AH17,"x")),"") | AL17: =IF(COUNTIF(OFFSET($D17,,,ROW($A$7)-ROW($A$6),Calculations!$BE$16),"x")=0,"",COUNTIF(OFFSET($D17,,,ROW($A$7)-ROW($A$6),Calculations!$BE$16),"x")) | AM17: =IF((COUNTIF(OFFSET($D17,,,ROW($A$7)-ROW($A$6),SUM(Calculations!$BE$16,Calculations!$BF$16)),"x")-SUM($AL17))=0,"",COUNTIF(OFFSET($D17,,,ROW($A$7)-ROW($A$6),SUM(Calculations!$BE$16,Calculations!$BF$16)),"x")-SUM($AL17)) | AN17: =IF((COUNTIF(OFFSET($D17,,,ROW($A$7)-ROW($A$6),SUM(Calculations!$BE$16:$BG$16)),"x")-SUM($AL17,$AM17))=0,"",COUNTIF(OFFSET($D17,,,ROW($A$7)-ROW($A$6),SUM(Calculations!$BE$16:$BG$16)),"x")-SUM($AL17,$AM17)) | AO17: =IF((COUNTIF(OFFSET($D17,,,ROW($A$7)-ROW($A$6),SUM(Calculations!$BE$16:$BH$16)),"x")-SUM($AM17,$AN17,$AL17))=0,"",COUNTIF(OFFSET($D17,,,ROW($A$7)-ROW($A$6),SUM(Calculations!$BE$16:$BH$16)),"x")-SUM($AM17,$AN17,$AL17)) | AP17: =IF((COUNTIF(OFFSET($D17,,,ROW($A$7)-ROW($A$6),SUM(Calculations!$BE$16:$BI$16)),"x")-SUM($AN17,$AO17,$AM17,$AL17))=0,"",COUNTIF(OFFSET($D17,,,ROW($A$7)-ROW($A$6),SUM(Calculations!$BE$16:$BI$16)),"x")-SUM($AN17,$AO17,$AM17,$AL17)) | AQ17: =IF((COUNTIF(OFFSET($D17,,,ROW($A$7)-ROW($A$6),SUM(Calculations!$BE$16:$BJ$16)),"x")-SUM($AO17,$AP17,$AN17,$AM17,$AL17))=0,"",COUNTIF(OFFSET($D17,,,ROW($A$7)-ROW($A$6),SUM(Calculations!$BE$16:$BJ$16,#REF!)),"x")-SUM($AO17,$AP17,$AN17,$AM17,$AL17))
C18: =IFERROR(IF(IF(LEN($B18)=0," ",INDEX(Settings!$E$7:$F$106,MATCH($B18,Settings!$E$7:$E$106,0),2))=0,"",IF(LEN($B18)=0," ",INDEX(Settings!$E$7:$F$106,MATCH($B18,Settings!$E$7:$E$106,0),2))),"") | AJ18: =IFERROR(IF(COUNTIF($D18:$AH18,"x")=0," ",COUNTIF($D18:$AH18,"x")),"") | AL18: =IF(COUNTIF(OFFSET($D18,,,ROW($A$7)-ROW($A$6),Calculations!$BE$16),"x")=0,"",COUNTIF(OFFSET($D18,,,ROW($A$7)-ROW($A$6),Calculations!$BE$16),"x")) | AM18: =IF((COUNTIF(OFFSET($D18,,,ROW($A$7)-ROW($A$6),SUM(Calculations!$BE$16,Calculations!$BF$16)),"x")-SUM($AL18))=0,"",COUNTIF(OFFSET($D18,,,ROW($A$7)-ROW($A$6),SUM(Calculations!$BE$16,Calculations!$BF$16)),"x")-SUM($AL18)) | AN18: =IF((COUNTIF(OFFSET($D18,,,ROW($A$7)-ROW($A$6),SUM(Calculations!$BE$16:$BG$16)),"x")-SUM($AL18,$AM18))=0,"",COUNTIF(OFFSET($D18,,,ROW($A$7)-ROW($A$6),SUM(Calculations!$BE$16:$BG$16)),"x")-SUM($AL18,$AM18)) | AO18: =IF((COUNTIF(OFFSET($D18,,,ROW($A$7)-ROW($A$6),SUM(Calculations!$BE$16:$BH$16)),"x")-SUM($AM18,$AN18,$AL18))=0,"",COUNTIF(OFFSET($D18,,,ROW($A$7)-ROW($A$6),SUM(Calculations!$BE$16:$BH$16)),"x")-SUM($AM18,$AN18,$AL18)) | AP18: =IF((COUNTIF(OFFSET($D18,,,ROW($A$7)-ROW($A$6),SUM(Calculations!$BE$16:$BI$16)),"x")-SUM($AN18,$AO18,$AM18,$AL18))=0,"",COUNTIF(OFFSET($D18,,,ROW($A$7)-ROW($A$6),SUM(Calculations!$BE$16:$BI$16)),"x")-SUM($AN18,$AO18,$AM18,$AL18)) | AQ18: =IF((COUNTIF(OFFSET($D18,,,ROW($A$7)-ROW($A$6),SUM(Calculations!$BE$16:$BJ$16)),"x")-SUM($AO18,$AP18,$AN18,$AM18,$AL18))=0,"",COUNTIF(OFFSET($D18,,,ROW($A$7)-ROW($A$6),SUM(Calculations!$BE$16:$BJ$16,#REF!)),"x")-SUM($AO18,$AP18,$AN18,$AM18,$AL18))
C19: =IFERROR(IF(IF(LEN($B19)=0," ",INDEX(Settings!$E$7:$F$106,MATCH($B19,Settings!$E$7:$E$106,0),2))=0,"",IF(LEN($B19)=0," ",INDEX(Settings!$E$7:$F$106,MATCH($B19,Settings!$E$7:$E$106,0),2))),"") | AJ19: =IFERROR(IF(COUNTIF($D19:$AH19,"x")=0," ",COUNTIF($D19:$AH19,"x")),"") | AL19: =IF(COUNTIF(OFFSET($D19,,,ROW($A$7)-ROW($A$6),Calculations!$BE$16),"x")=0,"",COUNTIF(OFFSET($D19,,,ROW($A$7)-ROW($A$6),Calculations!$BE$16),"x")) | AM19: =IF((COUNTIF(OFFSET($D19,,,ROW($A$7)-ROW($A$6),SUM(Calculations!$BE$16,Calculations!$BF$16)),"x")-SUM($AL19))=0,"",COUNTIF(OFFSET($D19,,,ROW($A$7)-ROW($A$6),SUM(Calculations!$BE$16,Calculations!$BF$16)),"x")-SUM($AL19)) | AN19: =IF((COUNTIF(OFFSET($D19,,,ROW($A$7)-ROW($A$6),SUM(Calculations!$BE$16:$BG$16)),"x")-SUM($AL19,$AM19))=0,"",COUNTIF(OFFSET($D19,,,ROW($A$7)-ROW($A$6),SUM(Calculations!$BE$16:$BG$16)),"x")-SUM($AL19,$AM19)) | AO19: =IF((COUNTIF(OFFSET($D19,,,ROW($A$7)-ROW($A$6),SUM(Calculations!$BE$16:$BH$16)),"x")-SUM($AM19,$AN19,$AL19))=0,"",COUNTIF(OFFSET($D19,,,ROW($A$7)-ROW($A$6),SUM(Calculations!$BE$16:$BH$16)),"x")-SUM($AM19,$AN19,$AL19)) | AP19: =IF((COUNTIF(OFFSET($D19,,,ROW($A$7)-ROW($A$6),SUM(Calculations!$BE$16:$BI$16)),"x")-SUM($AN19,$AO19,$AM19,$AL19))=0,"",COUNTIF(OFFSET($D19,,,ROW($A$7)-ROW($A$6),SUM(Calculations!$BE$16:$BI$16)),"x")-SUM($AN19,$AO19,$AM19,$AL19)) | AQ19: =IF((COUNTIF(OFFSET($D19,,,ROW($A$7)-ROW($A$6),SUM(Calculations!$BE$16:$BJ$16)),"x")-SUM($AO19,$AP19,$AN19,$AM19,$AL19))=0,"",COUNTIF(OFFSET($D19,,,ROW($A$7)-ROW($A$6),SUM(Calculations!$BE$16:$BJ$16,#REF!)),"x")-SUM($AO19,$AP19,$AN19,$AM19,$AL19))
C20: =IFERROR(IF(IF(LEN($B20)=0," ",INDEX(Settings!$E$7:$F$106,MATCH($B20,Settings!$E$7:$E$106,0),2))=0,"",IF(LEN($B20)=0," ",INDEX(Settings!$E$7:$F$106,MATCH($B20,Settings!$E$7:$E$106,0),2))),"") | AJ20: =IFERROR(IF(COUNTIF($D20:$AH20,"x")=0," ",COUNTIF($D20:$AH20,"x")),"") | AL20: =IF(COUNTIF(OFFSET($D20,,,ROW($A$7)-ROW($A$6),Calculations!$BE$16),"x")=0,"",COUNTIF(OFFSET($D20,,,ROW($A$7)-ROW($A$6),Calculations!$BE$16),"x")) | AM20: =IF((COUNTIF(OFFSET($D20,,,ROW($A$7)-ROW($A$6),SUM(Calculations!$BE$16,Calculations!$BF$16)),"x")-SUM($AL20))=0,"",COUNTIF(OFFSET($D20,,,ROW($A$7)-ROW($A$6),SUM(Calculations!$BE$16,Calculations!$BF$16)),"x")-SUM($AL20)) | AN20: =IF((COUNTIF(OFFSET($D20,,,ROW($A$7)-ROW($A$6),SUM(Calculations!$BE$16:$BG$16)),"x")-SUM($AL20,$AM20))=0,"",COUNTIF(OFFSET($D20,,,ROW($A$7)-ROW($A$6),SUM(Calculations!$BE$16:$BG$16)),"x")-SUM($AL20,$AM20)) | AO20: =IF((COUNTIF(OFFSET($D20,,,ROW($A$7)-ROW($A$6),SUM(Calculations!$BE$16:$BH$16)),"x")-SUM($AM20,$AN20,$AL20))=0,"",COUNTIF(OFFSET($D20,,,ROW($A$7)-ROW($A$6),SUM(Calculations!$BE$16:$BH$16)),"x")-SUM($AM20,$AN20,$AL20)) | AP20: =IF((COUNTIF(OFFSET($D20,,,ROW($A$7)-ROW($A$6),SUM(Calculations!$BE$16:$BI$16)),"x")-SUM($AN20,$AO20,$AM20,$AL20))=0,"",COUNTIF(OFFSET($D20,,,ROW($A$7)-ROW($A$6),SUM(Calculations!$BE$16:$BI$16)),"x")-SUM($AN20,$AO20,$AM20,$AL20)) | AQ20: =IF((COUNTIF(OFFSET($D20,,,ROW($A$7)-ROW($A$6),SUM(Calculations!$BE$16:$BJ$16)),"x")-SUM($AO20,$AP20,$AN20,$AM20,$AL20))=0,"",COUNTIF(OFFSET($D20,,,ROW($A$7)-ROW($A$6),SUM(Calculations!$BE$16:$BJ$16,#REF!)),"x")-SUM($AO20,$AP20,$AN20,$AM20,$AL20))
C21: =IFERROR(IF(IF(LEN($B21)=0," ",INDEX(Settings!$E$7:$F$106,MATCH($B21,Settings!$E$7:$E$106,0),2))=0,"",IF(LEN($B21)=0," ",INDEX(Settings!$E$7:$F$106,MATCH($B21,Settings!$E$7:$E$106,0),2))),"") | AJ21: =IFERROR(IF(COUNTIF($D21:$AH21,"x")=0," ",COUNTIF($D21:$AH21,"x")),"") | AL21: =IF(COUNTIF(OFFSET($D21,,,ROW($A$7)-ROW($A$6),Calculations!$BE$16),"x")=0,"",COUNTIF(OFFSET($D21,,,ROW($A$7)-ROW($A$6),Calculations!$BE$16),"x")) | AM21: =IF((COUNTIF(OFFSET($D21,,,ROW($A$7)-ROW($A$6),SUM(Calculations!$BE$16,Calculations!$BF$16)),"x")-SUM($AL21))=0,"",COUNTIF(OFFSET($D21,,,ROW($A$7)-ROW($A$6),SUM(Calculations!$BE$16,Calculations!$BF$16)),"x")-SUM($AL21)) | AN21: =IF((COUNTIF(OFFSET($D21,,,ROW($A$7)-ROW($A$6),SUM(Calculations!$BE$16:$BG$16)),"x")-SUM($AL21,$AM21))=0,"",COUNTIF(OFFSET($D21,,,ROW($A$7)-ROW($A$6),SUM(Calculations!$BE$16:$BG$16)),"x")-SUM($AL21,$AM21)) | AO21: =IF((COUNTIF(OFFSET($D21,,,ROW($A$7)-ROW($A$6),SUM(Calculations!$BE$16:$BH$16)),"x")-SUM($AM21,$AN21,$AL21))=0,"",COUNTIF(OFFSET($D21,,,ROW($A$7)-ROW($A$6),SUM(Calculations!$BE$16:$BH$16)),"x")-SUM($AM21,$AN21,$AL21)) | AP21: =IF((COUNTIF(OFFSET($D21,,,ROW($A$7)-ROW($A$6),SUM(Calculations!$BE$16:$BI$16)),"x")-SUM($AN21,$AO21,$AM21,$AL21))=0,"",COUNTIF(OFFSET($D21,,,ROW($A$7)-ROW($A$6),SUM(Calculations!$BE$16:$BI$16)),"x")-SUM($AN21,$AO21,$AM21,$AL21)) | AQ21: =IF((COUNTIF(OFFSET($D21,,,ROW($A$7)-ROW($A$6),SUM(Calculations!$BE$16:$BJ$16)),"x")-SUM($AO21,$AP21,$AN21,$AM21,$AL21))=0,"",COUNTIF(OFFSET($D21,,,ROW($A$7)-ROW($A$6),SUM(Calculations!$BE$16:$BJ$16,#REF!)),"x")-SUM($AO21,$AP21,$AN21,$AM21,$AL21))
C22: =IFERROR(IF(IF(LEN($B22)=0," ",INDEX(Settings!$E$7:$F$106,MATCH($B22,Settings!$E$7:$E$106,0),2))=0,"",IF(LEN($B22)=0," ",INDEX(Settings!$E$7:$F$106,MATCH($B22,Settings!$E$7:$E$106,0),2))),"") | AJ22: =IFERROR(IF(COUNTIF($D22:$AH22,"x")=0," ",COUNTIF($D22:$AH22,"x")),"") | AL22: =IF(COUNTIF(OFFSET($D22,,,ROW($A$7)-ROW($A$6),Calculations!$BE$16),"x")=0,"",COUNTIF(OFFSET($D22,,,ROW($A$7)-ROW($A$6),Calculations!$BE$16),"x")) | AM22: =IF((COUNTIF(OFFSET($D22,,,ROW($A$7)-ROW($A$6),SUM(Calculations!$BE$16,Calculations!$BF$16)),"x")-SUM($AL22))=0,"",COUNTIF(OFFSET($D22,,,ROW($A$7)-ROW($A$6),SUM(Calculations!$BE$16,Calculations!$BF$16)),"x")-SUM($AL22)) | AN22: =IF((COUNTIF(OFFSET($D22,,,ROW($A$7)-ROW($A$6),SUM(Calculations!$BE$16:$BG$16)),"x")-SUM($AL22,$AM22))=0,"",COUNTIF(OFFSET($D22,,,ROW($A$7)-ROW($A$6),SUM(Calculations!$BE$16:$BG$16)),"x")-SUM($AL22,$AM22)) | AO22: =IF((COUNTIF(OFFSET($D22,,,ROW($A$7)-ROW($A$6),SUM(Calculations!$BE$16:$BH$16)),"x")-SUM($AM22,$AN22,$AL22))=0,"",COUNTIF(OFFSET($D22,,,ROW($A$7)-ROW($A$6),SUM(Calculations!$BE$16:$BH$16)),"x")-SUM($AM22,$AN22,$AL22)) | AP22: =IF((COUNTIF(OFFSET($D22,,,ROW($A$7)-ROW($A$6),SUM(Calculations!$BE$16:$BI$16)),"x")-SUM($AN22,$AO22,$AM22,$AL22))=0,"",COUNTIF(OFFSET($D22,,,ROW($A$7)-ROW($A$6),SUM(Calculations!$BE$16:$BI$16)),"x")-SUM($AN22,$AO22,$AM22,$AL22)) | AQ22: =IF((COUNTIF(OFFSET($D22,,,ROW($A$7)-ROW($A$6),SUM(Calculations!$BE$16:$BJ$16)),"x")-SUM($AO22,$AP22,$AN22,$AM22,$AL22))=0,"",COUNTIF(OFFSET($D22,,,ROW($A$7)-ROW($A$6),SUM(Calculations!$BE$16:$BJ$16,#REF!)),"x")-SUM($AO22,$AP22,$AN22,$AM22,$AL22))
C23: =IFERROR(IF(IF(LEN($B23)=0," ",INDEX(Settings!$E$7:$F$106,MATCH($B23,Settings!$E$7:$E$106,0),2))=0,"",IF(LEN($B23)=0," ",INDEX(Settings!$E$7:$F$106,MATCH($B23,Settings!$E$7:$E$106,0),2))),"") | AJ23: =IFERROR(IF(COUNTIF($D23:$AH23,"x")=0," ",COUNTIF($D23:$AH23,"x")),"") | AL23: =IF(COUNTIF(OFFSET($D23,,,ROW($A$7)-ROW($A$6),Calculations!$BE$16),"x")=0,"",COUNTIF(OFFSET($D23,,,ROW($A$7)-ROW($A$6),Calculations!$BE$16),"x")) | AM23: =IF((COUNTIF(OFFSET($D23,,,ROW($A$7)-ROW($A$6),SUM(Calculations!$BE$16,Calculations!$BF$16)),"x")-SUM($AL23))=0,"",COUNTIF(OFFSET($D23,,,ROW($A$7)-ROW($A$6),SUM(Calculations!$BE$16,Calculations!$BF$16)),"x")-SUM($AL23)) | AN23: =IF((COUNTIF(OFFSET($D23,,,ROW($A$7)-ROW($A$6),SUM(Calculations!$BE$16:$BG$16)),"x")-SUM($AL23,$AM23))=0,"",COUNTIF(OFFSET($D23,,,ROW($A$7)-ROW($A$6),SUM(Calculations!$BE$16:$BG$16)),"x")-SUM($AL23,$AM23)) | AO23: =IF((COUNTIF(OFFSET($D23,,,ROW($A$7)-ROW($A$6),SUM(Calculations!$BE$16:$BH$16)),"x")-SUM($AM23,$AN23,$AL23))=0,"",COUNTIF(OFFSET($D23,,,ROW($A$7)-ROW($A$6),SUM(Calculations!$BE$16:$BH$16)),"x")-SUM($AM23,$AN23,$AL23)) | AP23: =IF((COUNTIF(OFFSET($D23,,,ROW($A$7)-ROW($A$6),SUM(Calculations!$BE$16:$BI$16)),"x")-SUM($AN23,$AO23,$AM23,$AL23))=0,"",COUNTIF(OFFSET($D23,,,ROW($A$7)-ROW($A$6),SUM(Calculations!$BE$16:$BI$16)),"x")-SUM($AN23,$AO23,$AM23,$AL23)) | AQ23: =IF((COUNTIF(OFFSET($D23,,,ROW($A$7)-ROW($A$6),SUM(Calculations!$BE$16:$BJ$16)),"x")-SUM($AO23,$AP23,$AN23,$AM23,$AL23))=0,"",COUNTIF(OFFSET($D23,,,ROW($A$7)-ROW($A$6),SUM(Calculations!$BE$16:$BJ$16,#REF!)),"x")-SUM($AO23,$AP23,$AN23,$AM23,$AL23))
C24: =IFERROR(IF(IF(LEN($B24)=0," ",INDEX(Settings!$E$7:$F$106,MATCH($B24,Settings!$E$7:$E$106,0),2))=0,"",IF(LEN($B24)=0," ",INDEX(Settings!$E$7:$F$106,MATCH($B24,Settings!$E$7:$E$106,0),2))),"") | AJ24: =IFERROR(IF(COUNTIF($D24:$AH24,"x")=0," ",COUNTIF($D24:$AH24,"x")),"") | AL24: =IF(COUNTIF(OFFSET($D24,,,ROW($A$7)-ROW($A$6),Calculations!$BE$16),"x")=0,"",COUNTIF(OFFSET($D24,,,ROW($A$7)-ROW($A$6),Calculations!$BE$16),"x")) | AM24: =IF((COUNTIF(OFFSET($D24,,,ROW($A$7)-ROW($A$6),SUM(Calculations!$BE$16,Calculations!$BF$16)),"x")-SUM($AL24))=0,"",COUNTIF(OFFSET($D24,,,ROW($A$7)-ROW($A$6),SUM(Calculations!$BE$16,Calculations!$BF$16)),"x")-SUM($AL24)) | AN24: =IF((COUNTIF(OFFSET($D24,,,ROW($A$7)-ROW($A$6),SUM(Calculations!$BE$16:$BG$16)),"x")-SUM($AL24,$AM24))=0,"",COUNTIF(OFFSET($D24,,,ROW($A$7)-ROW($A$6),SUM(Calculations!$BE$16:$BG$16)),"x")-SUM($AL24,$AM24)) | AO24: =IF((COUNTIF(OFFSET($D24,,,ROW($A$7)-ROW($A$6),SUM(Calculations!$BE$16:$BH$16)),"x")-SUM($AM24,$AN24,$AL24))=0,"",COUNTIF(OFFSET($D24,,,ROW($A$7)-ROW($A$6),SUM(Calculations!$BE$16:$BH$16)),"x")-SUM($AM24,$AN24,$AL24)) | AP24: =IF((COUNTIF(OFFSET($D24,,,ROW($A$7)-ROW($A$6),SUM(Calculations!$BE$16:$BI$16)),"x")-SUM($AN24,$AO24,$AM24,$AL24))=0,"",COUNTIF(OFFSET($D24,,,ROW($A$7)-ROW($A$6),SUM(Calculations!$BE$16:$BI$16)),"x")-SUM($AN24,$AO24,$AM24,$AL24)) | AQ24: =IF((COUNTIF(OFFSET($D24,,,ROW($A$7)-ROW($A$6),SUM(Calculations!$BE$16:$BJ$16)),"x")-SUM($AO24,$AP24,$AN24,$AM24,$AL24))=0,"",COUNTIF(OFFSET($D24,,,ROW($A$7)-ROW($A$6),SUM(Calculations!$BE$16:$BJ$16,#REF!)),"x")-SUM($AO24,$AP24,$AN24,$AM24,$AL24))
C25: =IFERROR(IF(IF(LEN($B25)=0," ",INDEX(Settings!$E$7:$F$106,MATCH($B25,Settings!$E$7:$E$106,0),2))=0,"",IF(LEN($B25)=0," ",INDEX(Settings!$E$7:$F$106,MATCH($B25,Settings!$E$7:$E$106,0),2))),"") | AJ25: =IFERROR(IF(COUNTIF($D25:$AH25,"x")=0," ",COUNTIF($D25:$AH25,"x")),"") | AL25: =IF(COUNTIF(OFFSET($D25,,,ROW($A$7)-ROW($A$6),Calculations!$BE$16),"x")=0,"",COUNTIF(OFFSET($D25,,,ROW($A$7)-ROW($A$6),Calculations!$BE$16),"x")) | AM25: =IF((COUNTIF(OFFSET($D25,,,ROW($A$7)-ROW($A$6),SUM(Calculations!$BE$16,Calculations!$BF$16)),"x")-SUM($AL25))=0,"",COUNTIF(OFFSET($D25,,,ROW($A$7)-ROW($A$6),SUM(Calculations!$BE$16,Calculations!$BF$16)),"x")-SUM($AL25)) | AN25: =IF((COUNTIF(OFFSET($D25,,,ROW($A$7)-ROW($A$6),SUM(Calculations!$BE$16:$BG$16)),"x")-SUM($AL25,$AM25))=0,"",COUNTIF(OFFSET($D25,,,ROW($A$7)-ROW($A$6),SUM(Calculations!$BE$16:$BG$16)),"x")-SUM($AL25,$AM25)) | AO25: =IF((COUNTIF(OFFSET($D25,,,ROW($A$7)-ROW($A$6),SUM(Calculations!$BE$16:$BH$16)),"x")-SUM($AM25,$AN25,$AL25))=0,"",COUNTIF(OFFSET($D25,,,ROW($A$7)-ROW($A$6),SUM(Calculations!$BE$16:$BH$16)),"x")-SUM($AM25,$AN25,$AL25)) | AP25: =IF((COUNTIF(OFFSET($D25,,,ROW($A$7)-ROW($A$6),SUM(Calculations!$BE$16:$BI$16)),"x")-SUM($AN25,$AO25,$AM25,$AL25))=0,"",COUNTIF(OFFSET($D25,,,ROW($A$7)-ROW($A$6),SUM(Calculations!$BE$16:$BI$16)),"x")-SUM($AN25,$AO25,$AM25,$AL25)) | AQ25: =IF((COUNTIF(OFFSET($D25,,,ROW($A$7)-ROW($A$6),SUM(Calculations!$BE$16:$BJ$16)),"x")-SUM($AO25,$AP25,$AN25,$AM25,$AL25))=0,"",COUNTIF(OFFSET($D25,,,ROW($A$7)-ROW($A$6),SUM(Calculations!$BE$16:$BJ$16,#REF!)),"x")-SUM($AO25,$AP25,$AN25,$AM25,$AL25))
C26: =IFERROR(IF(IF(LEN($B26)=0," ",INDEX(Settings!$E$7:$F$106,MATCH($B26,Settings!$E$7:$E$106,0),2))=0,"",IF(LEN($B26)=0," ",INDEX(Settings!$E$7:$F$106,MATCH($B26,Settings!$E$7:$E$106,0),2))),"") | AJ26: =IFERROR(IF(COUNTIF($D26:$AH26,"x")=0," ",COUNTIF($D26:$AH26,"x")),"") | AL26: =IF(COUNTIF(OFFSET($D26,,,ROW($A$7)-ROW($A$6),Calculations!$BE$16),"x")=0,"",COUNTIF(OFFSET($D26,,,ROW($A$7)-ROW($A$6),Calculations!$BE$16),"x")) | AM26: =IF((COUNTIF(OFFSET($D26,,,ROW($A$7)-ROW($A$6),SUM(Calculations!$BE$16,Calculations!$BF$16)),"x")-SUM($AL26))=0,"",COUNTIF(OFFSET($D26,,,ROW($A$7)-ROW($A$6),SUM(Calculations!$BE$16,Calculations!$BF$16)),"x")-SUM($AL26)) | AN26: =IF((COUNTIF(OFFSET($D26,,,ROW($A$7)-ROW($A$6),SUM(Calculations!$BE$16:$BG$16)),"x")-SUM($AL26,$AM26))=0,"",COUNTIF(OFFSET($D26,,,ROW($A$7)-ROW($A$6),SUM(Calculations!$BE$16:$BG$16)),"x")-SUM($AL26,$AM26)) | AO26: =IF((COUNTIF(OFFSET($D26,,,ROW($A$7)-ROW($A$6),SUM(Calculations!$BE$16:$BH$16)),"x")-SUM($AM26,$AN26,$AL26))=0,"",COUNTIF(OFFSET($D26,,,ROW($A$7)-ROW($A$6),SUM(Calculations!$BE$16:$BH$16)),"x")-SUM($AM26,$AN26,$AL26)) | AP26: =IF((COUNTIF(OFFSET($D26,,,ROW($A$7)-ROW($A$6),SUM(Calculations!$BE$16:$BI$16)),"x")-SUM($AN26,$AO26,$AM26,$AL26))=0,"",COUNTIF(OFFSET($D26,,,ROW($A$7)-ROW($A$6),SUM(Calculations!$BE$16:$BI$16)),"x")-SUM($AN26,$AO26,$AM26,$AL26)) | AQ26: =IF((COUNTIF(OFFSET($D26,,,ROW($A$7)-ROW($A$6),SUM(Calculations!$BE$16:$BJ$16)),"x")-SUM($AO26,$AP26,$AN26,$AM26,$AL26))=0,"",COUNTIF(OFFSET($D26,,,ROW($A$7)-ROW($A$6),SUM(Calculations!$BE$16:$BJ$16,#REF!)),"x")-SUM($AO26,$AP26,$AN26,$AM26,$AL26))
C27: =IFERROR(IF(IF(LEN($B27)=0," ",INDEX(Settings!$E$7:$F$106,MATCH($B27,Settings!$E$7:$E$106,0),2))=0,"",IF(LEN($B27)=0," ",INDEX(Settings!$E$7:$F$106,MATCH($B27,Settings!$E$7:$E$106,0),2))),"") | AJ27: =IFERROR(IF(COUNTIF($D27:$AH27,"x")=0," ",COUNTIF($D27:$AH27,"x")),"") | AL27: =IF(COUNTIF(OFFSET($D27,,,ROW($A$7)-ROW($A$6),Calculations!$BE$16),"x")=0,"",COUNTIF(OFFSET($D27,,,ROW($A$7)-ROW($A$6),Calculations!$BE$16),"x")) | AM27: =IF((COUNTIF(OFFSET($D27,,,ROW($A$7)-ROW($A$6),SUM(Calculations!$BE$16,Calculations!$BF$16)),"x")-SUM($AL27))=0,"",COUNTIF(OFFSET($D27,,,ROW($A$7)-ROW($A$6),SUM(Calculations!$BE$16,Calculations!$BF$16)),"x")-SUM($AL27)) | AN27: =IF((COUNTIF(OFFSET($D27,,,ROW($A$7)-ROW($A$6),SUM(Calculations!$BE$16:$BG$16)),"x")-SUM($AL27,$AM27))=0,"",COUNTIF(OFFSET($D27,,,ROW($A$7)-ROW($A$6),SUM(Calculations!$BE$16:$BG$16)),"x")-SUM($AL27,$AM27)) | AO27: =IF((COUNTIF(OFFSET($D27,,,ROW($A$7)-ROW($A$6),SUM(Calculations!$BE$16:$BH$16)),"x")-SUM($AM27,$AN27,$AL27))=0,"",COUNTIF(OFFSET($D27,,,ROW($A$7)-ROW($A$6),SUM(Calculations!$BE$16:$BH$16)),"x")-SUM($AM27,$AN27,$AL27)) | AP27: =IF((COUNTIF(OFFSET($D27,,,ROW($A$7)-ROW($A$6),SUM(Calculations!$BE$16:$BI$16)),"x")-SUM($AN27,$AO27,$AM27,$AL27))=0,"",COUNTIF(OFFSET($D27,,,ROW($A$7)-ROW($A$6),SUM(Calculations!$BE$16:$BI$16)),"x")-SUM($AN27,$AO27,$AM27,$AL27)) | AQ27: =IF((COUNTIF(OFFSET($D27,,,ROW($A$7)-ROW($A$6),SUM(Calculations!$BE$16:$BJ$16)),"x")-SUM($AO27,$AP27,$AN27,$AM27,$AL27))=0,"",COUNTIF(OFFSET($D27,,,ROW($A$7)-ROW($A$6),SUM(Calculations!$BE$16:$BJ$16,#REF!)),"x")-SUM($AO27,$AP27,$AN27,$AM27,$AL27))
C28: =IFERROR(IF(IF(LEN($B28)=0," ",INDEX(Settings!$E$7:$F$106,MATCH($B28,Settings!$E$7:$E$106,0),2))=0,"",IF(LEN($B28)=0," ",INDEX(Settings!$E$7:$F$106,MATCH($B28,Settings!$E$7:$E$106,0),2))),"") | AJ28: =IFERROR(IF(COUNTIF($D28:$AH28,"x")=0," ",COUNTIF($D28:$AH28,"x")),"") | AL28: =IF(COUNTIF(OFFSET($D28,,,ROW($A$7)-ROW($A$6),Calculations!$BE$16),"x")=0,"",COUNTIF(OFFSET($D28,,,ROW($A$7)-ROW($A$6),Calculations!$BE$16),"x")) | AM28: =IF((COUNTIF(OFFSET($D28,,,ROW($A$7)-ROW($A$6),SUM(Calculations!$BE$16,Calculations!$BF$16)),"x")-SUM($AL28))=0,"",COUNTIF(OFFSET($D28,,,ROW($A$7)-ROW($A$6),SUM(Calculations!$BE$16,Calculations!$BF$16)),"x")-SUM($AL28)) | AN28: =IF((COUNTIF(OFFSET($D28,,,ROW($A$7)-ROW($A$6),SUM(Calculations!$BE$16:$BG$16)),"x")-SUM($AL28,$AM28))=0,"",COUNTIF(OFFSET($D28,,,ROW($A$7)-ROW($A$6),SUM(Calculations!$BE$16:$BG$16)),"x")-SUM($AL28,$AM28)) | AO28: =IF((COUNTIF(OFFSET($D28,,,ROW($A$7)-ROW($A$6),SUM(Calculations!$BE$16:$BH$16)),"x")-SUM($AM28,$AN28,$AL28))=0,"",COUNTIF(OFFSET($D28,,,ROW($A$7)-ROW($A$6),SUM(Calculations!$BE$16:$BH$16)),"x")-SUM($AM28,$AN28,$AL28)) | AP28: =IF((COUNTIF(OFFSET($D28,,,ROW($A$7)-ROW($A$6),SUM(Calculations!$BE$16:$BI$16)),"x")-SUM($AN28,$AO28,$AM28,$AL28))=0,"",COUNTIF(OFFSET($D28,,,ROW($A$7)-ROW($A$6),SUM(Calculations!$BE$16:$BI$16)),"x")-SUM($AN28,$AO28,$AM28,$AL28)) | AQ28: =IF((COUNTIF(OFFSET($D28,,,ROW($A$7)-ROW($A$6),SUM(Calculations!$BE$16:$BJ$16)),"x")-SUM($AO28,$AP28,$AN28,$AM28,$AL28))=0,"",COUNTIF(OFFSET($D28,,,ROW($A$7)-ROW($A$6),SUM(Calculations!$BE$16:$BJ$16,#REF!)),"x")-SUM($AO28,$AP28,$AN28,$AM28,$AL28))
... C106: =IFERROR(IF(IF(LEN($B106)=0," ",INDEX(Settings!$E$7:$F$106,MATCH($B106,Settings!$E$7:$E$106,0),2))=0,"",IF(LEN($B106)=0," ",INDEX(Settings!$E$7:$F$106,MATCH($B106,Settings!$E$7:$E$106,0),2))),"") | AJ106: =IFERROR(IF(COUNTIF($D106:$AH106,"x")=0," ",COUNTIF($D106:$AH106,"x")),"") | AL106: =IF(COUNTIF(OFFSET($D106,,,ROW($A$7)-ROW($A$6),Calculations!$BE$16),"x")=0,"",COUNTIF(OFFSET($D106,,,ROW($A$7)-ROW($A$6),Calculations!$BE$16),"x")) | AM106: =IF((COUNTIF(OFFSET($D106,,,ROW($A$7)-ROW($A$6),SUM(Calculations!$BE$16,Calculations!$BF$16)),"x")-SUM($AL106))=0,"",COUNTIF(OFFSET($D106,,,ROW($A$7)-ROW($A$6),SUM(Calculations!$BE$16,Calculations!$BF$16)),"x")-SUM($AL106)) | AN106: =IF((COUNTIF(OFFSET($D106,,,ROW($A$7)-ROW($A$6),SUM(Calculations!$BE$16:$BG$16)),"x")-SUM($AL106,$AM106))=0,"",COUNTIF(OFFSET($D106,,,ROW($A$7)-ROW($A$6),SUM(Calculations!$BE$16:$BG$16)),"x")-SUM($AL106,$AM106)) | AO106: =IF((COUNTIF(OFFSET($D106,,,ROW($A$7)-ROW($A$6),SUM(Calculations!$BE$16:$BH$16)),"x")-SUM($AM106,$AN106,$AL106))=0,"",COUNTIF(OFFSET($D106,,,ROW($A$7)-ROW($A$6),SUM(Calculations!$BE$16:$BH$16)),"x")-SUM($AM106,$AN106,$AL106)) | AP106: =IF((COUNTIF(OFFSET($D106,,,ROW($A$7)-ROW($A$6),SUM(Calculations!$BE$16:$BI$16)),"x")-SUM($AN106,$AO106,$AM106,$AL106))=0,"",COUNTIF(OFFSET($D106,,,ROW($A$7)-ROW($A$6),SUM(Calculations!$BE$16:$BI$16)),"x")-SUM($AN106,$AO106,$AM106,$AL106)) | AQ106: =IF((COUNTIF(OFFSET($D106,,,ROW($A$7)-ROW($A$6),SUM(Calculations!$BE$16:$BJ$16)),"x")-SUM($AO106,$AP106,$AN106,$AM106,$AL106))=0,"",COUNTIF(OFFSET($D106,,,ROW($A$7)-ROW($A$6),SUM(Calculations!$BE$16:$BJ$16,#REF!)),"x")-SUM($AO106,$AP106,$AN106,$AM106,$AL106))

Sheet Checklist
B2: COVID-19 EMPLOYEE HEALTH TRACKER
B3: CHECKLIST
C12: Control List | D12: Explanation | E12: Priority | F12: Point | G12: Checked?
C13: Employee Number in one day | D13: Max 15 number of employee can work on the same day | E13: Medium | F13: =IF(LEN($E13)=0,"",INDEX(Calculations!$J$20:$K$22,MATCH(Checklist!$E13,Calculations!$J$20:$J$22,0),2)) -> 0 | G13: No
C14: Supply of personal cleaning agents | D14: 1 bottle of disinfectant and 45 masks per employee for a monthly usage | E14: Low | F14: =IF(LEN($E14)=0,"",INDEX(Calculations!$J$20:$K$22,MATCH(Checklist!$E14,Calculations!$J$20:$J$22,0),2)) -> -1 | G14: Yes
C15: Is Covid Test Applied? | D15: Implementation requirement every two months | E15: High | F15: =IF(LEN($E15)=0,"",INDEX(Calculations!$J$20:$K$22,MATCH(Checklist!$E15,Calculations!$J$20:$J$22,0),2)) -> 1 | G15: Yes
C16: Social Distance | D16: Adjusting proper layout arrangement | E16: High | F16: =IF(LEN($E16)=0,"",INDEX(Calculations!$J$20:$K$22,MATCH(Checklist!$E16,Calculations!$J$20:$J$22,0),2)) -> 1 | G16: No
C17: Temperature Tracking | D17: Body temperature measurement everyday | E17: Medium | F17: =IF(LEN($E17)=0,"",INDEX(Calculations!$J$20:$K$22,MATCH(Checklist!$E17,Calculations!$J$20:$J$22,0),2)) -> 0 | G17: Yes
C18: Employee Timesheets | D18: Compliance to employee timesheets | E18: Low | F18: =IF(LEN($E18)=0,"",INDEX(Calculations!$J$20:$K$22,MATCH(Checklist!$E18,Calculations!$J$20:$J$22,0),2)) -> -1 | G18: Yes
F19: =IF(LEN($E19)=0,"",INDEX(Calculations!$J$20:$K$22,MATCH(Checklist!$E19,Calculations!$J$20:$J$22,0),2))
F20: =IF(LEN($E20)=0,"",INDEX(Calculations!$J$20:$K$22,MATCH(Checklist!$E20,Calculations!$J$20:$J$22,0),2))
F21: =IF(LEN($E21)=0,"",INDEX(Calculations!$J$20:$K$22,MATCH(Checklist!$E21,Calculations!$J$20:$J$22,0),2))
F22: =IF(LEN($E22)=0,"",INDEX(Calculations!$J$20:$K$22,MATCH(Checklist!$E22,Calculations!$J$20:$J$22,0),2))
F23: =IF(LEN($E23)=0,"",INDEX(Calculations!$J$20:$K$22,MATCH(Checklist!$E23,Calculations!$J$20:$J$22,0),2))
F24: =IF(LEN($E24)=0,"",INDEX(Calculations!$J$20:$K$22,MATCH(Checklist!$E24,Calculations!$J$20:$J$22,0),2))
F25: =IF(LEN($E25)=0,"",INDEX(Calculations!$J$20:$K$22,MATCH(Checklist!$E25,Calculations!$J$20:$J$22,0),2))
F26: =IF(LEN($E26)=0,"",INDEX(Calculations!$J$20:$K$22,MATCH(Checklist!$E26,Calculations!$J$20:$J$22,0),2))
F27: =IF(LEN($E27)=0,"",INDEX(Calculations!$J$20:$K$22,MATCH(Checklist!$E27,Calculations!$J$20:$J$22,0),2))
F28: =IF(LEN($E28)=0,"",INDEX(Calculations!$J$20:$K$22,MATCH(Checklist!$E28,Calculations!$J$20:$J$22,0),2))
F29: =IF(LEN($E29)=0,"",INDEX(Calculations!$J$20:$K$22,MATCH(Checklist!$E29,Calculations!$J$20:$J$22,0),2))
F30: =IF(LEN($E30)=0,"",INDEX(Calculations!$J$20:$K$22,MATCH(Checklist!$E30,Calculations!$J$20:$J$22,0),2))
... F112: =IF(LEN($E112)=0,"",INDEX(Calculations!$J$20:$K$22,MATCH(Checklist!$E112,Calculations!$J$20:$J$22,0),2))

Sheet Settings
B2: COVID-19 EMPLOYEE HEALTH TRACKER
B3: SETTINGS
C6: Departments | E6: Employee Name | F6: Department | G6: Age | H6: Gender | J6: Range
C7: Purchasing | E7: Marry Smith | F7: Purchasing | G7: 29 | H7: Female | J7: Min | K7: Max | L7: Risk Level
C8: Sales | E8: Tom Wolf | F8: Sales | G8: 32 | H8: Male | J8: 36.5 | K8: 37.5 | L8: Low Risk
C9: Finance | E9: Adrian McDonagh | F9: Sales | G9: 40 | H9: Male | J9: 37.5 | K9: 38.5 | L9: Medium Risk
C10: Manufacturing | E10: Michela Alexis | F10: Manufacturing | G10: 37 | H10: Female | J10: 38.5 | K10: 39.5 | L10: High Risk
C11: Human Resources | E11: Bob Kumar | F11: Human Resources | G11: 41 | H11: Male | J11: 39.5 | K11: - | L11: Very High Risk
C12: IT | E12: Mario Mulhern | F12: Manufacturing | G12: 33 | H12: Male
C13: Supply Chain | E13: Joy Bailey | F13: Finance | G13: 30 | H13: Female
C14: Logistic | E14: Ryan Jordan | F14: IT | G14: 32 | H14: Male | J14: Temperature Unit
E15: Anthony Carroll | F15: Finance | G15: 36 | H15: Male
E16: Willy Oliver | F16: Supply Chain | G16: 29 | H16: Male | J16: °C
E17: Kat Tesser | F17: Supply Chain | G17: 38 | H17: Female
E18: Maxine Hancock | F18: IT | G18: 28 | H18: Female
E19: Robert Liller | F19: Logistic | G19: 34 | H19: Male
E20: Ellie Kite | F20: Purchasing | G20: 42 | H20: Female
E21: Courtney Mair | F21: Human Resources | G21: 41 | H21: Female
E22: Isabell Fair | F22: IT | G22: 26 | H22: Female

Sheet Calculations
AC1: EMPLOYEE TRACKING DATA
AY2: EMPLOYEE TIMESHEET DATA
Q3: Date | R3: Year | S3: Month | T3: Week | U3: Day | V3: Employee Name | W3: Department | X3: Temperature | Y3: Risk Level | Z3: # of week | AA3: Wear a mask? | AB3: Travel? | AH3: Employee Name | AI3: Department | AJ3: Avg. Temp. | AK3: Risk Level | AM3: =WEEKNUM(DATE($AD$7,$AE$7,EmployeeTimesheet!D$5),2) -> 23 | AN3: =WEEKNUM(DATE($AD$7,$AE$7,EmployeeTimesheet!E$5),2) -> 23 | AO3: =WEEKNUM(DATE($AD$7,$AE$7,EmployeeTimesheet!F$5),2) -> 23 | AP3: =WEEKNUM(DATE($AD$7,$AE$7,EmployeeTimesheet!G$5),2) -> 23 | AQ3: =WEEKNUM(DATE($AD$7,$AE$7,EmployeeTimesheet!H$5),2) -> 23 | AR3: =WEEKNUM(DATE($AD$7,$AE$7,EmployeeTimesheet!I$5),2) -> 23 | AS3: =WEEKNUM(DATE($AD$7,$AE$7,EmployeeTimesheet!J$5),2) -> 23 | AT3: =WEEKNUM(DATE($AD$7,$AE$7,EmployeeTimesheet!K$5),2) -> 24 | ... BQ3: =WEEKNUM(DATE($AD$7,$AE$7,EmployeeTimesheet!AH$5),2) -> 27
B4: Wear a mask? | C4: Yes | D4: No | F4: Had contacted with Covid-19? | J4: Travel Outside | K4: Yes | L4: No | N4: Checklist-Number of checked items Graph | P4: 1 | Q4: =IF(INDEX(EmployeeTrackingSheet!$B$6:$B$1005,Calculations!P4,1)=0,"",INDEX(EmployeeTrackingSheet!$B$6:$B$1005,Calculations!P4,1)) -> 43923 | R4: =IF(LEN($Q4)=0,"",YEAR($Q4)) -> 2020 | S4: =IF(LEN($Q4)=0,"",MONTH($Q4)) -> 4 | T4: =IF(LEN($Q4)=0,"",WEEKNUM($Q4)) -> 14 | U4: =IF(LEN($Q4)=0,"",DAY($Q4)) -> 2 | V4: =IF(INDEX(EmployeeTrackingSheet!$C$6:$C$1005,Calculations!P4,1)=0,"",INDEX(EmployeeTrackingSheet!$C$6:$C$1005,Calculations!P4,1)) -> Tom Wolf | W4: =IF(INDEX(EmployeeTrackingSheet!$D$6:$D$1005,Calculations!P4,1)=0,"",INDEX(EmployeeTrackingSheet!$D$6:$D$1005,Calculations!P4,1)) -> Sales | X4: =IF(INDEX(EmployeeTrackingSheet!$E$6:$E$1005,Calculations!P4,1)=0,"",INDEX(EmployeeTrackingSheet!$E$6:$E$1005,Calculations!P4,1)) -> 36.8 | Y4: =IF(INDEX(EmployeeTrackingSheet!$F$6:$F$1005,Calculations!P4,1)=0,"",INDEX(EmployeeTrackingSheet!$F$6:$F$1005,Calculations!P4,1)) -> Low Risk | Z4: =IFERROR(WEEKNUM(DATE(YEAR($Q4),$S4,$U4),1)-WEEKNUM(DATE(YEAR($Q4),$S4,1),1)+1,"") -> 1 | AA4: =IF(INDEX(EmployeeTrackingSheet!$G$6:$G$1005,Calculations!P4,1)=0,"",INDEX(EmployeeTrackingSheet!$G$6:$G$1005,Calculations!P4,1)) -> Yes | AB4: =IF(INDEX(EmployeeTrackingSheet!$H$6:$H$1005,Calculations!P4,1)=0,"",INDEX(EmployeeTrackingSheet!$H$6:$H$1005,Calculations!P4,1)) -> Yes | AD4: Temperature: | AE4: =Settings!$J$16 -> °C | AH4: =IF(INDEX(Settings!$E$7:$E$106,Calculations!P4,1)=0,"",INDEX(Settings!$E$7:$E$106,Calculations!P4,1)) -> Marry Smith | AI4: =IF(INDEX(Settings!$F$7:$F$106,Calculations!P4,1)=0,"",INDEX(Settings!$F$7:$F$106,Calculations!P4,1)) -> Purchasing | AJ4: =IFERROR(IF(LEN($AH4)>1,SUMIF($V$4:V998,$AH4,$X$4:X998)/COUNTIF($V$4:V998,$AH4),""),"") -> 37.9 | AK4: =IFERROR(INDEX(Settings!$J$8:$L$11,MATCH(Calculations!$AJ4,Settings!$J$8:$J$11,1),3),"") -> Medium Risk | AM4: Department | AN4: Week # | BH4: The last data of current month | BJ4: =INDEX($BE$9:$BQ$10,MATCH($AD$7,BE9:BE10,0),MATCH($AE$7,$BE$9:$BQ$9,0)) -> 30 | BL4: x | BM4: Data Validation List
C5: =IFERROR(COUNTIFS($R$4:$R$998,$AD$7,$S$4:$S$998,$AE$7,$AA$4:$AA$998,"yes"),"-") -> 4 | D5: =IFERROR(COUNTIFS($R$4:$R$998,$AD$7,$S$4:$S$998,$AE$7,$AA$4:$AA$998,"no"),"-") -> 3 | F5: Yes | G5: No | K5: =IFERROR(COUNTIFS($R$4:$R$998,$AD$7,$S$4:$S$998,$AE$7,$AB$4:$AB$998,"yes"),"-") -> 1 | L5: =IFERROR(COUNTIFS($R$4:$R$998,$AD$7,$S$4:$S$998,$AE$7,$AB$4:$AB$998,"no"),"-") -> 6 | N5: Yes | O5: No | P5: 2 | Q5: =IF(INDEX(EmployeeTrackingSheet!$B$6:$B$1005,Calculations!P5,1)=0,"",INDEX(EmployeeTrackingSheet!$B$6:$B$1005,Calculations!P5,1)) -> 43923 | R5: =IF(LEN($Q5)=0,"",YEAR($Q5)) -> 2020 | S5: =IF(LEN($Q5)=0,"",MONTH($Q5)) -> 4 | T5: =IF(LEN($Q5)=0,"",WEEKNUM($Q5)) -> 14 | U5: =IF(LEN($Q5)=0,"",DAY($Q5)) -> 2 | V5: =IF(INDEX(EmployeeTrackingSheet!$C$6:$C$1005,Calculations!P5,1)=0,"",INDEX(EmployeeTrackingSheet!$C$6:$C$1005,Calculations!P5,1)) -> Adrian McDonagh | W5: =IF(INDEX(EmployeeTrackingSheet!$D$6:$D$1005,Calculations!P5,1)=0,"",INDEX(EmployeeTrackingSheet!$D$6:$D$1005,Calculations!P5,1)) -> Sales | X5: =IF(INDEX(EmployeeTrackingSheet!$E$6:$E$1005,Calculations!P5,1)=0,"",INDEX(EmployeeTrackingSheet!$E$6:$E$1005,Calculations!P5,1)) -> 38.7 | Y5: =IF(INDEX(EmployeeTrackingSheet!$F$6:$F$1005,Calculations!P5,1)=0,"",INDEX(EmployeeTrackingSheet!$F$6:$F$1005,Calculations!P5,1)) -> High Risk | Z5: =IFERROR(WEEKNUM(DATE(YEAR($Q5),$S5,$U5),1)-WEEKNUM(DATE(YEAR($Q5),$S5,1),1)+1,"") -> 1 | AA5: =IF(INDEX(EmployeeTrackingSheet!$G$6:$G$1005,Calculations!P5,1)=0,"",INDEX(EmployeeTrackingSheet!$G$6:$G$1005,Calculations!P5,1)) -> Yes | AB5: =IF(INDEX(EmployeeTrackingSheet!$H$6:$H$1005,Calculations!P5,1)=0,"",INDEX(EmployeeTrackingSheet!$H$6:$H$1005,Calculations!P5,1)) -> Yes | AH5: =IF(INDEX(Settings!$E$7:$E$106,Calculations!P5,1)=0,"",INDEX(Settings!$E$7:$E$106,Calculations!P5,1)) -> Tom Wolf | AI5: =IF(INDEX(Settings!$F$7:$F$106,Calculations!P5,1)=0,"",INDEX(Settings!$F$7:$F$106,Calculations!P5,1)) -> Sales | AJ5: =IFERROR(IF(LEN($AH5)>1,SUMIF($V$4:V999,$AH5,$X$4:X999)/COUNTIF($V$4:V999,$AH5),""),"") -> 36.8 | AK5: =IFERROR(INDEX(Settings!$J$8:$L$11,MATCH(Calculations!$AJ5,Settings!$J$8:$J$11,1),3),"") -> Low Risk | AM5: =Dashboard!$F$17 -> All Departments | AN5: =Dashboard!C17 -> Week 1 | AO5: =INDEX(AM7:AN12,MATCH(AN5,AM7:AM12,0),2) -> W1 | AQ5: Result | AR5: =AM5 -> All Departments | AS5: Department | AT5: W1 | AU5: W2 | AV5: W3 | AW5: W4 | AX5: W5 | AY5: W6 | AZ5: Sum | BB5: 1 | BC5: Mon
B6: Total | C6: =IFERROR(($C$5/$B$7)*100,"-") -> 57.142857 | D6: =IFERROR((100-C6),"-") -> 42.857143 | F6: =COUNTIF(EmployeeTrackingSheet!$I$6:$I$1005,$F$5) -> 3 | G6: =COUNTIF(EmployeeTrackingSheet!$I$6:$I$1005,$G$5) -> 15 | N6: =COUNTIF($N$15:$N$126,"Yes") -> 4 | O6: =COUNTIF($N$15:$N$126,"No") -> 2 | P6: 3 | Q6: =IF(INDEX(EmployeeTrackingSheet!$B$6:$B$1005,Calculations!P6,1)=0,"",INDEX(EmployeeTrackingSheet!$B$6:$B$1005,Calculations!P6,1)) -> 43923 | R6: =IF(LEN($Q6)=0,"",YEAR($Q6)) -> 2020 | S6: =IF(LEN($Q6)=0,"",MONTH($Q6)) -> 4 | T6: =IF(LEN($Q6)=0,"",WEEKNUM($Q6)) -> 14 | U6: =IF(LEN($Q6)=0,"",DAY($Q6)) -> 2 | V6: =IF(INDEX(EmployeeTrackingSheet!$C$6:$C$1005,Calculations!P6,1)=0,"",INDEX(EmployeeTrackingSheet!$C$6:$C$1005,Calculations!P6,1)) -> Marry Smith | W6: =IF(INDEX(EmployeeTrackingSheet!$D$6:$D$1005,Calculations!P6,1)=0,"",INDEX(EmployeeTrackingSheet!$D$6:$D$1005,Calculations!P6,1)) -> Purchasing | X6: =IF(INDEX(EmployeeTrackingSheet!$E$6:$E$1005,Calculations!P6,1)=0,"",INDEX(EmployeeTrackingSheet!$E$6:$E$1005,Calculations!P6,1)) -> 37.9 | Y6: =IF(INDEX(EmployeeTrackingSheet!$F$6:$F$1005,Calculations!P6,1)=0,"",INDEX(EmployeeTrackingSheet!$F$6:$F$1005,Calculations!P6,1)) -> Medium Risk | Z6: =IFERROR(WEEKNUM(DATE(YEAR($Q6),$S6,$U6),1)-WEEKNUM(DATE(YEAR($Q6),$S6,1),1)+1,"") -> 1 | AA6: =IF(INDEX(EmployeeTrackingSheet!$G$6:$G$1005,Calculations!P6,1)=0,"",INDEX(EmployeeTrackingSheet!$G$6:$G$1005,Calculations!P6,1)) -> Yes | AB6: =IF(INDEX(EmployeeTrackingSheet!$H$6:$H$1005,Calculations!P6,1)=0,"",INDEX(EmployeeTrackingSheet!$H$6:$H$1005,Calculations!P6,1)) -> No | AD6: Year | AE6: Month | AH6: =IF(INDEX(Settings!$E$7:$E$106,Calculations!P6,1)=0,"",INDEX(Settings!$E$7:$E$106,Calculations!P6,1)) -> Adrian McDonagh | AI6: =IF(INDEX(Settings!$F$7:$F$106,Calculations!P6,1)=0,"",INDEX(Settings!$F$7:$F$106,Calculations!P6,1)) -> Sales | AJ6: =IFERROR(IF(LEN($AH6)>1,SUMIF($V$4:V1000,$AH6,$X$4:X1000)/COUNTIF($V$4:V1000,$AH6),""),"") -> 38.7 | AK6: =IFERROR(INDEX(Settings!$J$8:$L$11,MATCH(Calculations!$AJ6,Settings!$J$8:$J$11,1),3),"") -> High Risk | AP6: 1 | AQ6: =IFERROR(INDEX($AR$1:$AR$99,SMALL(INDEX(ISNUMBER($AZ$6:$AZ$99)*ROW($AZ$6:$AZ$99),0,1),COUNTBLANK($AZ$6:$AZ$99)+ROW(AZ1)),1),"") -> Tom Wolf | AR6: =IFERROR(IF($AM$5="All Departments",INDEX(EmployeeTimesheet!$B$7:$C$106,AP6,1),IF(INDEX( EmployeeTimesheet!$C$7:$C$106,ROW(A1),1)=$AR$5,INDEX(EmployeeTimesheet!$B$7:$B$106,AP6,1),"")),"") -> Tom Wolf | AS6: =IFERROR(IF($AM$5="All Departments",EmployeeTimesheet!C7,IF(LEN(AR6)>1,EmployeeTimesheet!C7,"")),"") -> Sales | AT6: =IF(AND(LEN($AS6)>1,AT$5=$AO$5),EmployeeTimesheet!AL7,"") -> 2 | AU6: =IF(AND(LEN($AS6)>1,AU$5=$AO$5),EmployeeTimesheet!AM7,"") | AV6: =IF(AND(LEN($AS6)>1,AV$5=$AO$5),EmployeeTimesheet!AN7,"") | AW6: =IF(AND(LEN($AS6)>1,AW$5=$AO$5),EmployeeTimesheet!AO7,"") | AX6: =IF(AND(LEN($AS6)>1,AX$5=$AO$5),EmployeeTimesheet!AP7,"") | AY6: =IF(AND(LEN($AS6)>1,AY$5=$AO$5),EmployeeTimesheet!AQ7,"") | AZ6: =IF(SUM(AT6:AY6)>0,1,"") -> 1 | BB6: 2 | BC6: Tue
B7: =SUM($C$5:$D$5) -> 7 | P7: 4 | Q7: =IF(INDEX(EmployeeTrackingSheet!$B$6:$B$1005,Calculations!P7,1)=0,"",INDEX(EmployeeTrackingSheet!$B$6:$B$1005,Calculations!P7,1)) -> 43923 | R7: =IF(LEN($Q7)=0,"",YEAR($Q7)) -> 2020 | S7: =IF(LEN($Q7)=0,"",MONTH($Q7)) -> 4 | T7: =IF(LEN($Q7)=0,"",WEEKNUM($Q7)) -> 14 | U7: =IF(LEN($Q7)=0,"",DAY($Q7)) -> 2 | V7: =IF(INDEX(EmployeeTrackingSheet!$C$6:$C$1005,Calculations!P7,1)=0,"",INDEX(EmployeeTrackingSheet!$C$6:$C$1005,Calculations!P7,1)) -> Mario Mulhern | W7: =IF(INDEX(EmployeeTrackingSheet!$D$6:$D$1005,Calculations!P7,1)=0,"",INDEX(EmployeeTrackingSheet!$D$6:$D$1005,Calculations!P7,1)) -> Manufacturing | X7: =IF(INDEX(EmployeeTrackingSheet!$E$6:$E$1005,Calculations!P7,1)=0,"",INDEX(EmployeeTrackingSheet!$E$6:$E$1005,Calculations!P7,1)) -> 37.1 | Y7: =IF(INDEX(EmployeeTrackingSheet!$F$6:$F$1005,Calculations!P7,1)=0,"",INDEX(EmployeeTrackingSheet!$F$6:$F$1005,Calculations!P7,1)) -> Low Risk | Z7: =IFERROR(WEEKNUM(DATE(YEAR($Q7),$S7,$U7),1)-WEEKNUM(DATE(YEAR($Q7),$S7,1),1)+1,"") -> 1 | AA7: =IF(INDEX(EmployeeTrackingSheet!$G$6:$G$1005,Calculations!P7,1)=0,"",INDEX(EmployeeTrackingSheet!$G$6:$G$1005,Calculations!P7,1)) -> No | AB7: =IF(INDEX(EmployeeTrackingSheet!$H$6:$H$1005,Calculations!P7,1)=0,"",INDEX(EmployeeTrackingSheet!$H$6:$H$1005,Calculations!P7,1)) -> No | AD7: =IF(LEN(Dashboard!$C$9)=0,AF11,Dashboard!$C$9) -> 2020 | AE7: =IF(LEN(Dashboard!$F$9)=0,AE11, MATCH(Dashboard!$F$9,$AD$11:$AD$22,0)) -> 6 | AH7: =IF(INDEX(Settings!$E$7:$E$106,Calculations!P7,1)=0,"",INDEX(Settings!$E$7:$E$106,Calculations!P7,1)) -> Michela Alexis | AI7: =IF(INDEX(Settings!$F$7:$F$106,Calculations!P7,1)=0,"",INDEX(Settings!$F$7:$F$106,Calculations!P7,1)) -> Manufacturing | AJ7: =IFERROR(IF(LEN($AH7)>1,SUMIF($V$4:V1001,$AH7,$X$4:X1001)/COUNTIF($V$4:V1001,$AH7),""),"") -> 37.9 | AK7: =IFERROR(INDEX(Settings!$J$8:$L$11,MATCH(Calculations!$AJ7,Settings!$J$8:$J$11,1),3),"") -> Medium Risk | AM7: Week 1 | AN7: W1 | AP7: 2 | AQ7: =IFERROR(INDEX($AR$1:$AR$99,SMALL(INDEX(ISNUMBER($AZ$6:$AZ$99)*ROW($AZ$6:$AZ$99),0,1),COUNTBLANK($AZ$6:$AZ$99)+ROW(AZ2)),1),"") -> Michela Alexis | AR7: =IFERROR(IF($AM$5="All Departments",INDEX(EmployeeTimesheet!$B$7:$C$106,AP7,1),IF(INDEX( EmployeeTimesheet!$C$7:$C$106,ROW(A2),1)=$AR$5,INDEX(EmployeeTimesheet!$B$7:$B$106,AP7,1),"")),"") -> Michela Alexis | AS7: =IFERROR(IF($AM$5="All Departments",EmployeeTimesheet!C8,IF(LEN(AR7)>1,EmployeeTimesheet!C8,"")),"") -> Manufacturing | AT7: =IF(AND(LEN($AS7)>1,AT$5=$AO$5),EmployeeTimesheet!AL8,"") -> 3 | AU7: =IF(AND(LEN($AS7)>1,AU$5=$AO$5),EmployeeTimesheet!AM8,"") | AV7: =IF(AND(LEN($AS7)>1,AV$5=$AO$5),EmployeeTimesheet!AN8,"") | AW7: =IF(AND(LEN($AS7)>1,AW$5=$AO$5),EmployeeTimesheet!AO8,"") | AX7: =IF(AND(LEN($AS7)>1,AX$5=$AO$5),EmployeeTimesheet!AP8,"") | AY7: =IF(AND(LEN($AS7)>1,AY$5=$AO$5),EmployeeTimesheet!AQ8,"") | AZ7: =IF(SUM(AT7:AY7)>0,1,"") -> 1 | BB7: 3 | BC7: Wed
C8: =C6 -> 57.142857 | D8: =D6 -> 42.857143 | N8: Checklist-Priority Graph | P8: 5 | Q8: =IF(INDEX(EmployeeTrackingSheet!$B$6:$B$1005,Calculations!P8,1)=0,"",INDEX(EmployeeTrackingSheet!$B$6:$B$1005,Calculations!P8,1)) -> 43923 | R8: =IF(LEN($Q8)=0,"",YEAR($Q8)) -> 2020 | S8: =IF(LEN($Q8)=0,"",MONTH($Q8)) -> 4 | T8: =IF(LEN($Q8)=0,"",WEEKNUM($Q8)) -> 14 | U8: =IF(LEN($Q8)=0,"",DAY($Q8)) -> 2 | V8: =IF(INDEX(EmployeeTrackingSheet!$C$6:$C$1005,Calculations!P8,1)=0,"",INDEX(EmployeeTrackingSheet!$C$6:$C$1005,Calculations!P8,1)) -> Joy Bailey | W8: =IF(INDEX(EmployeeTrackingSheet!$D$6:$D$1005,Calculations!P8,1)=0,"",INDEX(EmployeeTrackingSheet!$D$6:$D$1005,Calculations!P8,1)) -> Finance | X8: =IF(INDEX(EmployeeTrackingSheet!$E$6:$E$1005,Calculations!P8,1)=0,"",INDEX(EmployeeTrackingSheet!$E$6:$E$1005,Calculations!P8,1)) -> 36.5 | Y8: =IF(INDEX(EmployeeTrackingSheet!$F$6:$F$1005,Calculations!P8,1)=0,"",INDEX(EmployeeTrackingSheet!$F$6:$F$1005,Calculations!P8,1)) -> Low Risk | Z8: =IFERROR(WEEKNUM(DATE(YEAR($Q8),$S8,$U8),1)-WEEKNUM(DATE(YEAR($Q8),$S8,1),1)+1,"") -> 1 | AA8: =IF(INDEX(EmployeeTrackingSheet!$G$6:$G$1005,Calculations!P8,1)=0,"",INDEX(EmployeeTrackingSheet!$G$6:$G$1005,Calculations!P8,1)) -> Yes | AB8: =IF(INDEX(EmployeeTrackingSheet!$H$6:$H$1005,Calculations!P8,1)=0,"",INDEX(EmployeeTrackingSheet!$H$6:$H$1005,Calculations!P8,1)) -> No | AH8: =IF(INDEX(Settings!$E$7:$E$106,Calculations!P8,1)=0,"",INDEX(Settings!$E$7:$E$106,Calculations!P8,1)) -> Bob Kumar | AI8: =IF(INDEX(Settings!$F$7:$F$106,Calculations!P8,1)=0,"",INDEX(Settings!$F$7:$F$106,Calculations!P8,1)) -> Human Resources | AJ8: =IFERROR(IF(LEN($AH8)>1,SUMIF($V$4:V1002,$AH8,$X$4:X1002)/COUNTIF($V$4:V1002,$AH8),""),"") -> 37.9 | AK8: =IFERROR(INDEX(Settings!$J$8:$L$11,MATCH(Calculations!$AJ8,Settings!$J$8:$J$11,1),3),"") -> Medium Risk | AM8: Week 2 | AN8: W2 | AP8: 3 | AQ8: =IFERROR(INDEX($AR$1:$AR$99,SMALL(INDEX(ISNUMBER($AZ$6:$AZ$99)*ROW($AZ$6:$AZ$99),0,1),COUNTBLANK($AZ$6:$AZ$99)+ROW(AZ3)),1),"") -> Mario Mulhern | AR8: =IFERROR(IF($AM$5="All Departments",INDEX(EmployeeTimesheet!$B$7:$C$106,AP8,1),IF(INDEX( EmployeeTimesheet!$C$7:$C$106,ROW(A3),1)=$AR$5,INDEX(EmployeeTimesheet!$B$7:$B$106,AP8,1),"")),"") -> Mario Mulhern | AS8: =IFERROR(IF($AM$5="All Departments",EmployeeTimesheet!C9,IF(LEN(AR8)>1,EmployeeTimesheet!C9,"")),"") -> Manufacturing | AT8: =IF(AND(LEN($AS8)>1,AT$5=$AO$5),EmployeeTimesheet!AL9,"") -> 1 | AU8: =IF(AND(LEN($AS8)>1,AU$5=$AO$5),EmployeeTimesheet!AM9,"") | AV8: =IF(AND(LEN($AS8)>1,AV$5=$AO$5),EmployeeTimesheet!AN9,"") | AW8: =IF(AND(LEN($AS8)>1,AW$5=$AO$5),EmployeeTimesheet!AO9,"") | AX8: =IF(AND(LEN($AS8)>1,AX$5=$AO$5),EmployeeTimesheet!AP9,"") | AY8: =IF(AND(LEN($AS8)>1,AY$5=$AO$5),EmployeeTimesheet!AQ9,"") | AZ8: =IF(SUM(AT8:AY8)>0,1,"") -> 1 | BB8: 4 | BC8: Thu | BF8: Jan | BG8: Feb | BH8: Mar | BI8: Apr | BJ8: May | BK8: Jun | BL8: Jul | BM8: Aug | BN8: Sep | BO8: Oct | BP8: Nov | BQ8: Dec
N9: =IF(O9="","","Low") -> Low | O9: =IF(COUNTIF(Checklist!$E$13:$E$112,"Low")>0,COUNTIF(Checklist!$E$13:$E$112,"Low"),"") -> 2 | P9: 6 | Q9: =IF(INDEX(EmployeeTrackingSheet!$B$6:$B$1005,Calculations!P9,1)=0,"",INDEX(EmployeeTrackingSheet!$B$6:$B$1005,Calculations!P9,1)) -> 43923 | R9: =IF(LEN($Q9)=0,"",YEAR($Q9)) -> 2020 | S9: =IF(LEN($Q9)=0,"",MONTH($Q9)) -> 4 | T9: =IF(LEN($Q9)=0,"",WEEKNUM($Q9)) -> 14 | U9: =IF(LEN($Q9)=0,"",DAY($Q9)) -> 2 | V9: =IF(INDEX(EmployeeTrackingSheet!$C$6:$C$1005,Calculations!P9,1)=0,"",INDEX(EmployeeTrackingSheet!$C$6:$C$1005,Calculations!P9,1)) -> Robert Liller | W9: =IF(INDEX(EmployeeTrackingSheet!$D$6:$D$1005,Calculations!P9,1)=0,"",INDEX(EmployeeTrackingSheet!$D$6:$D$1005,Calculations!P9,1)) -> Logistic | X9: =IF(INDEX(EmployeeTrackingSheet!$E$6:$E$1005,Calculations!P9,1)=0,"",INDEX(EmployeeTrackingSheet!$E$6:$E$1005,Calculations!P9,1)) -> 37.8 | Y9: =IF(INDEX(EmployeeTrackingSheet!$F$6:$F$1005,Calculations!P9,1)=0,"",INDEX(EmployeeTrackingSheet!$F$6:$F$1005,Calculations!P9,1)) -> Medium Risk | Z9: =IFERROR(WEEKNUM(DATE(YEAR($Q9),$S9,$U9),1)-WEEKNUM(DATE(YEAR($Q9),$S9,1),1)+1,"") -> 1 | AA9: =IF(INDEX(EmployeeTrackingSheet!$G$6:$G$1005,Calculations!P9,1)=0,"",INDEX(EmployeeTrackingSheet!$G$6:$G$1005,Calculations!P9,1)) -> Yes | AB9: =IF(INDEX(EmployeeTrackingSheet!$H$6:$H$1005,Calculations!P9,1)=0,"",INDEX(EmployeeTrackingSheet!$H$6:$H$1005,Calculations!P9,1)) -> Yes | AH9: =IF(INDEX(Settings!$E$7:$E$106,Calculations!P9,1)=0,"",INDEX(Settings!$E$7:$E$106,Calculations!P9,1)) -> Mario Mulhern | AI9: =IF(INDEX(Settings!$F$7:$F$106,Calculations!P9,1)=0,"",INDEX(Settings!$F$7:$F$106,Calculations!P9,1)) -> Manufacturing | AJ9: =IFERROR(IF(LEN($AH9)>1,SUMIF($V$4:V1003,$AH9,$X$4:X1003)/COUNTIF($V$4:V1003,$AH9),""),"") -> 38.05 | AK9: =IFERROR(INDEX(Settings!$J$8:$L$11,MATCH(Calculations!$AJ9,Settings!$J$8:$J$11,1),3),"") -> Medium Risk | AM9: Week 3 | AN9: W3 | AP9: 4 | AQ9: =IFERROR(INDEX($AR$1:$AR$99,SMALL(INDEX(ISNUMBER($AZ$6:$AZ$99)*ROW($AZ$6:$AZ$99),0,1),COUNTBLANK($AZ$6:$AZ$99)+ROW(AZ4)),1),"") -> Bob Kumar | AR9: =IFERROR(IF($AM$5="All Departments",INDEX(EmployeeTimesheet!$B$7:$C$106,AP9,1),IF(INDEX( EmployeeTimesheet!$C$7:$C$106,ROW(A4),1)=$AR$5,INDEX(EmployeeTimesheet!$B$7:$B$106,AP9,1),"")),"") -> Bob Kumar | AS9: =IFERROR(IF($AM$5="All Departments",EmployeeTimesheet!C10,IF(LEN(AR9)>1,EmployeeTimesheet!C10,"")),"") -> Human Resources | AT9: =IF(AND(LEN($AS9)>1,AT$5=$AO$5),EmployeeTimesheet!AL10,"") -> 1 | AU9: =IF(AND(LEN($AS9)>1,AU$5=$AO$5),EmployeeTimesheet!AM10,"") | AV9: =IF(AND(LEN($AS9)>1,AV$5=$AO$5),EmployeeTimesheet!AN10,"") | AW9: =IF(AND(LEN($AS9)>1,AW$5=$AO$5),EmployeeTimesheet!AO10,"") | AX9: =IF(AND(LEN($AS9)>1,AX$5=$AO$5),EmployeeTimesheet!AP10,"") | AY9: =IF(AND(LEN($AS9)>1,AY$5=$AO$5),EmployeeTimesheet!AQ10,"") | AZ9: =IF(SUM(AT9:AY9)>0,1,"") -> 1 | BB9: 5 | BC9: Fri | BF9: 1 | BG9: 2 | BH9: 3 | BI9: 4 | BJ9: 5 | BK9: 6 | BL9: 7 | BM9: 8 | BN9: 9 | BO9: 10 | BP9: 11 | BQ9: 12
N10: =IF(O10="","","Medium") -> Medium | O10: =IF(COUNTIF(Checklist!$E$13:$E$112,"Medium")>0,COUNTIF(Checklist!$E$13:$E$112,"Medium"),"") -> 2 | P10: 7 | Q10: =IF(INDEX(EmployeeTrackingSheet!$B$6:$B$1005,Calculations!P10,1)=0,"",INDEX(EmployeeTrackingSheet!$B$6:$B$1005,Calculations!P10,1)) -> 43965 | R10: =IF(LEN($Q10)=0,"",YEAR($Q10)) -> 2020 | S10: =IF(LEN($Q10)=0,"",MONTH($Q10)) -> 5 | T10: =IF(LEN($Q10)=0,"",WEEKNUM($Q10)) -> 20 | U10: =IF(LEN($Q10)=0,"",DAY($Q10)) -> 14 | V10: =IF(INDEX(EmployeeTrackingSheet!$C$6:$C$1005,Calculations!P10,1)=0,"",INDEX(EmployeeTrackingSheet!$C$6:$C$1005,Calculations!P10,1)) -> Ellie Kite | W10: =IF(INDEX(EmployeeTrackingSheet!$D$6:$D$1005,Calculations!P10,1)=0,"",INDEX(EmployeeTrackingSheet!$D$6:$D$1005,Calculations!P10,1)) -> Purchasing | X10: =IF(INDEX(EmployeeTrackingSheet!$E$6:$E$1005,Calculations!P10,1)=0,"",INDEX(EmployeeTrackingSheet!$E$6:$E$1005,Calculations!P10,1)) -> 38.3 | Y10: =IF(INDEX(EmployeeTrackingSheet!$F$6:$F$1005,Calculations!P10,1)=0,"",INDEX(EmployeeTrackingSheet!$F$6:$F$1005,Calculations!P10,1)) -> Medium Risk | Z10: =IFERROR(WEEKNUM(DATE(YEAR($Q10),$S10,$U10),1)-WEEKNUM(DATE(YEAR($Q10),$S10,1),1)+1,"") -> 3 | AA10: =IF(INDEX(EmployeeTrackingSheet!$G$6:$G$1005,Calculations!P10,1)=0,"",INDEX(EmployeeTrackingSheet!$G$6:$G$1005,Calculations!P10,1)) -> Yes | AB10: =IF(INDEX(EmployeeTrackingSheet!$H$6:$H$1005,Calculations!P10,1)=0,"",INDEX(EmployeeTrackingSheet!$H$6:$H$1005,Calculations!P10,1)) -> No | AD10: Month | AE10: Month Number | AF10: Year | AH10: =IF(INDEX(Settings!$E$7:$E$106,Calculations!P10,1)=0,"",INDEX(Settings!$E$7:$E$106,Calculations!P10,1)) -> Joy Bailey | AI10: =IF(INDEX(Settings!$F$7:$F$106,Calculations!P10,1)=0,"",INDEX(Settings!$F$7:$F$106,Calculations!P10,1)) -> Finance | AJ10: =IFERROR(IF(LEN($AH10)>1,SUMIF($V$4:V1004,$AH10,$X$4:X1004)/COUNTIF($V$4:V1004,$AH10),""),"") -> 36.65 | AK10: =IFERROR(INDEX(Settings!$J$8:$L$11,MATCH(Calculations!$AJ10,Settings!$J$8:$J$11,1),3),"") -> Low Risk | AM10: Week 4 | AN10: W4 | AP10: 5 | AQ10: =IFERROR(INDEX($AR$1:$AR$99,SMALL(INDEX(ISNUMBER($AZ$6:$AZ$99)*ROW($AZ$6:$AZ$99),0,1),COUNTBLANK($AZ$6:$AZ$99)+ROW(AZ5)),1),"") -> Adrian McDonagh | AR10: =IFERROR(IF($AM$5="All Departments",INDEX(EmployeeTimesheet!$B$7:$C$106,AP10,1),IF(INDEX( EmployeeTimesheet!$C$7:$C$106,ROW(A5),1)=$AR$5,INDEX(EmployeeTimesheet!$B$7:$B$106,AP10,1),"")),"") -> Adrian McDonagh | AS10: =IFERROR(IF($AM$5="All Departments",EmployeeTimesheet!C11,IF(LEN(AR10)>1,EmployeeTimesheet!C11,"")),"") -> Sales | AT10: =IF(AND(LEN($AS10)>1,AT$5=$AO$5),EmployeeTimesheet!AL11,"") -> 1 | AU10: =IF(AND(LEN($AS10)>1,AU$5=$AO$5),EmployeeTimesheet!AM11,"") | AV10: =IF(AND(LEN($AS10)>1,AV$5=$AO$5),EmployeeTimesheet!AN11,"") | AW10: =IF(AND(LEN($AS10)>1,AW$5=$AO$5),EmployeeTimesheet!AO11,"") | AX10: =IF(AND(LEN($AS10)>1,AX$5=$AO$5),EmployeeTimesheet!AP11,"") | AY10: =IF(AND(LEN($AS10)>1,AY$5=$AO$5),EmployeeTimesheet!AQ11,"") | AZ10: =IF(SUM(AT10:AY10)>0,1,"") -> 1 | BB10: 6 | BC10: Sat | BE10: =AD7 -> 2020 | BF10: =DAY(EOMONTH(DATE($BE$10,BF$9,1),0)) -> 31 | BG10: =DAY(EOMONTH(DATE($BE$10,BG$9,1),0)) -> 29 | BH10: =DAY(EOMONTH(DATE($BE$10,BH$9,1),0)) -> 31 | BI10: =DAY(EOMONTH(DATE($BE$10,BI$9,1),0)) -> 30 | BJ10: =DAY(EOMONTH(DATE($BE$10,BJ$9,1),0)) -> 31 | BK10: =DAY(EOMONTH(DATE($BE$10,BK$9,1),0)) -> 30 | BL10: =DAY(EOMONTH(DATE($BE$10,BL$9,1),0)) -> 31 | BM10: =DAY(EOMONTH(DATE($BE$10,BM$9,1),0)) -> 31 | ... BQ10: =DAY(EOMONTH(DATE($BE$10,BQ$9,1),0)) -> 31
N11: =IF(O11="","","High") -> High | O11: =IF(COUNTIF(Checklist!$E$13:$E$112,"High")>0,COUNTIF(Checklist!$E$13:$E$112,"High"),"") -> 2 | P11: 8 | Q11: =IF(INDEX(EmployeeTrackingSheet!$B$6:$B$1005,Calculations!P11,1)=0,"",INDEX(EmployeeTrackingSheet!$B$6:$B$1005,Calculations!P11,1)) -> 43965 | R11: =IF(LEN($Q11)=0,"",YEAR($Q11)) -> 2020 | S11: =IF(LEN($Q11)=0,"",MONTH($Q11)) -> 5 | T11: =IF(LEN($Q11)=0,"",WEEKNUM($Q11)) -> 20 | U11: =IF(LEN($Q11)=0,"",DAY($Q11)) -> 14 | V11: =IF(INDEX(EmployeeTrackingSheet!$C$6:$C$1005,Calculations!P11,1)=0,"",INDEX(EmployeeTrackingSheet!$C$6:$C$1005,Calculations!P11,1)) -> Mario Mulhern | W11: =IF(INDEX(EmployeeTrackingSheet!$D$6:$D$1005,Calculations!P11,1)=0,"",INDEX(EmployeeTrackingSheet!$D$6:$D$1005,Calculations!P11,1)) -> Manufacturing | X11: =IF(INDEX(EmployeeTrackingSheet!$E$6:$E$1005,Calculations!P11,1)=0,"",INDEX(EmployeeTrackingSheet!$E$6:$E$1005,Calculations!P11,1)) -> 39 | Y11: =IF(INDEX(EmployeeTrackingSheet!$F$6:$F$1005,Calculations!P11,1)=0,"",INDEX(EmployeeTrackingSheet!$F$6:$F$1005,Calculations!P11,1)) -> High Risk | Z11: =IFERROR(WEEKNUM(DATE(YEAR($Q11),$S11,$U11),1)-WEEKNUM(DATE(YEAR($Q11),$S11,1),1)+1,"") -> 3 | AA11: =IF(INDEX(EmployeeTrackingSheet!$G$6:$G$1005,Calculations!P11,1)=0,"",INDEX(EmployeeTrackingSheet!$G$6:$G$1005,Calculations!P11,1)) -> Yes | AB11: =IF(INDEX(EmployeeTrackingSheet!$H$6:$H$1005,Calculations!P11,1)=0,"",INDEX(EmployeeTrackingSheet!$H$6:$H$1005,Calculations!P11,1)) -> No | AD11: JANUARY | AE11: 1 | AF11: 2020 | AH11: =IF(INDEX(Settings!$E$7:$E$106,Calculations!P11,1)=0,"",INDEX(Settings!$E$7:$E$106,Calculations!P11,1)) -> Ryan Jordan | AI11: =IF(INDEX(Settings!$F$7:$F$106,Calculations!P11,1)=0,"",INDEX(Settings!$F$7:$F$106,Calculations!P11,1)) -> IT | AJ11: =IFERROR(IF(LEN($AH11)>1,SUMIF($V$4:V1005,$AH11,$X$4:X1005)/COUNTIF($V$4:V1005,$AH11),""),"") -> 38 | AK11: =IFERROR(INDEX(Settings!$J$8:$L$11,MATCH(Calculations!$AJ11,Settings!$J$8:$J$11,1),3),"") -> Medium Risk | AM11: Week 5 | AN11: W5 | AP11: 6 | AQ11: =IFERROR(INDEX($AR$1:$AR$99,SMALL(INDEX(ISNUMBER($AZ$6:$AZ$99)*ROW($AZ$6:$AZ$99),0,1),COUNTBLANK($AZ$6:$AZ$99)+ROW(AZ6)),1),"") -> Joy Bailey | AR11: =IFERROR(IF($AM$5="All Departments",INDEX(EmployeeTimesheet!$B$7:$C$106,AP11,1),IF(INDEX( EmployeeTimesheet!$C$7:$C$106,ROW(A6),1)=$AR$5,INDEX(EmployeeTimesheet!$B$7:$B$106,AP11,1),"")),"") -> Joy Bailey | AS11: =IFERROR(IF($AM$5="All Departments",EmployeeTimesheet!C12,IF(LEN(AR11)>1,EmployeeTimesheet!C12,"")),"") -> Finance | AT11: =IF(AND(LEN($AS11)>1,AT$5=$AO$5),EmployeeTimesheet!AL12,"") -> 1 | AU11: =IF(AND(LEN($AS11)>1,AU$5=$AO$5),EmployeeTimesheet!AM12,"") | AV11: =IF(AND(LEN($AS11)>1,AV$5=$AO$5),EmployeeTimesheet!AN12,"") | AW11: =IF(AND(LEN($AS11)>1,AW$5=$AO$5),EmployeeTimesheet!AO12,"") | AX11: =IF(AND(LEN($AS11)>1,AX$5=$AO$5),EmployeeTimesheet!AP12,"") | AY11: =IF(AND(LEN($AS11)>1,AY$5=$AO$5),EmployeeTimesheet!AQ12,"") | AZ11: =IF(SUM(AT11:AY11)>0,1,"") -> 1 | BB11: 7 | BC11: Sun | BE11: # of weeks | BF11: =IFERROR(WEEKNUM(DATE($BE$10,BF$9,BF$10),2)-WEEKNUM(DATE($BE$10,BF$9,1),2)+1,"") -> 5 | BG11: =IFERROR(WEEKNUM(DATE($BE$10,BG$9,BG$10),2)-WEEKNUM(DATE($BE$10,BG$9,1),2)+1,"") -> 5 | BH11: =IFERROR(WEEKNUM(DATE($BE$10,BH$9,BH$10),2)-WEEKNUM(DATE($BE$10,BH$9,1),2)+1,"") -> 6 | BI11: =IFERROR(WEEKNUM(DATE($BE$10,BI$9,BI$10),2)-WEEKNUM(DATE($BE$10,BI$9,1),2)+1,"") -> 5 | BJ11: =IFERROR(WEEKNUM(DATE($BE$10,BJ$9,BJ$10),2)-WEEKNUM(DATE($BE$10,BJ$9,1),2)+1,"") -> 5 | BK11: =IFERROR(WEEKNUM(DATE($BE$10,BK$9,BK$10),2)-WEEKNUM(DATE($BE$10,BK$9,1),2)+1,"") -> 5 | BL11: =IFERROR(WEEKNUM(DATE($BE$10,BL$9,BL$10),2)-WEEKNUM(DATE($BE$10,BL$9,1),2)+1,"") -> 5 | BM11: =IFERROR(WEEKNUM(DATE($BE$10,BM$9,BM$10),2)-WEEKNUM(DATE($BE$10,BM$9,1),2)+1,"") -> 6 | ... BQ11: =IFERROR(WEEKNUM(DATE($BE$10,BQ$9,BQ$10),2)-WEEKNUM(DATE($BE$10,BQ$9,1),2)+1,"") -> 5
B12: =MAX(1,COUNTIF(B14:B26,"?*"),1) -> 8 | G12: Dep Data Validation | J12: Total number of Employee in the Risk Groups | P12: 9 | Q12: =IF(INDEX(EmployeeTrackingSheet!$B$6:$B$1005,Calculations!P12,1)=0,"",INDEX(EmployeeTrackingSheet!$B$6:$B$1005,Calculations!P12,1)) -> 43990 | R12: =IF(LEN($Q12)=0,"",YEAR($Q12)) -> 2020 | S12: =IF(LEN($Q12)=0,"",MONTH($Q12)) -> 6 | T12: =IF(LEN($Q12)=0,"",WEEKNUM($Q12)) -> 24 | U12: =IF(LEN($Q12)=0,"",DAY($Q12)) -> 8 | V12: =IF(INDEX(EmployeeTrackingSheet!$C$6:$C$1005,Calculations!P12,1)=0,"",INDEX(EmployeeTrackingSheet!$C$6:$C$1005,Calculations!P12,1)) -> Maxine Hancock | W12: =IF(INDEX(EmployeeTrackingSheet!$D$6:$D$1005,Calculations!P12,1)=0,"",INDEX(EmployeeTrackingSheet!$D$6:$D$1005,Calculations!P12,1)) -> IT | X12: =IF(INDEX(EmployeeTrackingSheet!$E$6:$E$1005,Calculations!P12,1)=0,"",INDEX(EmployeeTrackingSheet!$E$6:$E$1005,Calculations!P12,1)) -> 39.8 | Y12: =IF(INDEX(EmployeeTrackingSheet!$F$6:$F$1005,Calculations!P12,1)=0,"",INDEX(EmployeeTrackingSheet!$F$6:$F$1005,Calculations!P12,1)) -> Very High Risk | Z12: =IFERROR(WEEKNUM(DATE(YEAR($Q12),$S12,$U12),1)-WEEKNUM(DATE(YEAR($Q12),$S12,1),1)+1,"") -> 2 | AA12: =IF(INDEX(EmployeeTrackingSheet!$G$6:$G$1005,Calculations!P12,1)=0,"",INDEX(EmployeeTrackingSheet!$G$6:$G$1005,Calculations!P12,1)) -> No | AB12: =IF(INDEX(EmployeeTrackingSheet!$H$6:$H$1005,Calculations!P12,1)=0,"",INDEX(EmployeeTrackingSheet!$H$6:$H$1005,Calculations!P12,1)) -> Yes | AD12: FEBRUARY | AE12: 2 | AF12: 2021 | AH12: =IF(INDEX(Settings!$E$7:$E$106,Calculations!P12,1)=0,"",INDEX(Settings!$E$7:$E$106,Calculations!P12,1)) -> Anthony Carroll | AI12: =IF(INDEX(Settings!$F$7:$F$106,Calculations!P12,1)=0,"",INDEX(Settings!$F$7:$F$106,Calculations!P12,1)) -> Finance | AJ12: =IFERROR(IF(LEN($AH12)>1,SUMIF($V$4:V1006,$AH12,$X$4:X1006)/COUNTIF($V$4:V1006,$AH12),""),"") | AK12: =IFERROR(INDEX(Settings!$J$8:$L$11,MATCH(Calculations!$AJ12,Settings!$J$8:$J$11,1),3),"") | AM12: Week 6 | AN12: W6 | AP12: 7 | AQ12: =IFERROR(INDEX($AR$1:$AR$99,SMALL(INDEX(ISNUMBER($AZ$6:$AZ$99)*ROW($AZ$6:$AZ$99),0,1),COUNTBLANK($AZ$6:$AZ$99)+ROW(AZ7)),1),"") -> Ryan Jordan | AR12: =IFERROR(IF($AM$5="All Departments",INDEX(EmployeeTimesheet!$B$7:$C$106,AP12,1),IF(INDEX( EmployeeTimesheet!$C$7:$C$106,ROW(A7),1)=$AR$5,INDEX(EmployeeTimesheet!$B$7:$B$106,AP12,1),"")),"") -> Courtney Mair | AS12: =IFERROR(IF($AM$5="All Departments",EmployeeTimesheet!C13,IF(LEN(AR12)>1,EmployeeTimesheet!C13,"")),"") -> Human Resources | AT12: =IF(AND(LEN($AS12)>1,AT$5=$AO$5),EmployeeTimesheet!AL13,"") | AU12: =IF(AND(LEN($AS12)>1,AU$5=$AO$5),EmployeeTimesheet!AM13,"") | AV12: =IF(AND(LEN($AS12)>1,AV$5=$AO$5),EmployeeTimesheet!AN13,"") | AW12: =IF(AND(LEN($AS12)>1,AW$5=$AO$5),EmployeeTimesheet!AO13,"") | AX12: =IF(AND(LEN($AS12)>1,AX$5=$AO$5),EmployeeTimesheet!AP13,"") | AY12: =IF(AND(LEN($AS12)>1,AY$5=$AO$5),EmployeeTimesheet!AQ13,"") | AZ12: =IF(SUM(AT12:AY12)>0,1,"")
B13: Departments | C13: Low Risk | D13: Medium Risk | E13: High Risk | F13: Very High Risk | G13: All Departments | J13: Very High Risk | K13: =IFERROR(IF(COUNTIF($AK$4:$AK$998,J13)>0,COUNTIF($AK$4:$AK$998,J13),""),"") | M13: Checklist | P13: 10 | Q13: =IF(INDEX(EmployeeTrackingSheet!$B$6:$B$1005,Calculations!P13,1)=0,"",INDEX(EmployeeTrackingSheet!$B$6:$B$1005,Calculations!P13,1)) -> 43990 | R13: =IF(LEN($Q13)=0,"",YEAR($Q13)) -> 2020 | S13: =IF(LEN($Q13)=0,"",MONTH($Q13)) -> 6 | T13: =IF(LEN($Q13)=0,"",WEEKNUM($Q13)) -> 24 | U13: =IF(LEN($Q13)=0,"",DAY($Q13)) -> 8 | V13: =IF(INDEX(EmployeeTrackingSheet!$C$6:$C$1005,Calculations!P13,1)=0,"",INDEX(EmployeeTrackingSheet!$C$6:$C$1005,Calculations!P13,1)) -> Kat Tesser | W13: =IF(INDEX(EmployeeTrackingSheet!$D$6:$D$1005,Calculations!P13,1)=0,"",INDEX(EmployeeTrackingSheet!$D$6:$D$1005,Calculations!P13,1)) -> Supply Chain | X13: =IF(INDEX(EmployeeTrackingSheet!$E$6:$E$1005,Calculations!P13,1)=0,"",INDEX(EmployeeTrackingSheet!$E$6:$E$1005,Calculations!P13,1)) -> 37.1 | Y13: =IF(INDEX(EmployeeTrackingSheet!$F$6:$F$1005,Calculations!P13,1)=0,"",INDEX(EmployeeTrackingSheet!$F$6:$F$1005,Calculations!P13,1)) -> Low Risk | Z13: =IFERROR(WEEKNUM(DATE(YEAR($Q13),$S13,$U13),1)-WEEKNUM(DATE(YEAR($Q13),$S13,1),1)+1,"") -> 2 | AA13: =IF(INDEX(EmployeeTrackingSheet!$G$6:$G$1005,Calculations!P13,1)=0,"",INDEX(EmployeeTrackingSheet!$G$6:$G$1005,Calculations!P13,1)) -> Yes | AB13: =IF(INDEX(EmployeeTrackingSheet!$H$6:$H$1005,Calculations!P13,1)=0,"",INDEX(EmployeeTrackingSheet!$H$6:$H$1005,Calculations!P13,1)) -> No | AD13: MARCH | AE13: 3 | AF13: 2022 | AH13: =IF(INDEX(Settings!$E$7:$E$106,Calculations!P13,1)=0,"",INDEX(Settings!$E$7:$E$106,Calculations!P13,1)) -> Willy Oliver | AI13: =IF(INDEX(Settings!$F$7:$F$106,Calculations!P13,1)=0,"",INDEX(Settings!$F$7:$F$106,Calculations!P13,1)) -> Supply Chain | AJ13: =IFERROR(IF(LEN($AH13)>1,SUMIF($V$4:V1007,$AH13,$X$4:X1007)/COUNTIF($V$4:V1007,$AH13),""),"") | AK13: =IFERROR(INDEX(Settings!$J$8:$L$11,MATCH(Calculations!$AJ13,Settings!$J$8:$J$11,1),3),"") | AP13: 8 | AQ13: =IFERROR(INDEX($AR$1:$AR$99,SMALL(INDEX(ISNUMBER($AZ$6:$AZ$99)*ROW($AZ$6:$AZ$99),0,1),COUNTBLANK($AZ$6:$AZ$99)+ROW(AZ8)),1),"") -> Isabell Fair | AR13: =IFERROR(IF($AM$5="All Departments",INDEX(EmployeeTimesheet!$B$7:$C$106,AP13,1),IF(INDEX( EmployeeTimesheet!$C$7:$C$106,ROW(A8),1)=$AR$5,INDEX(EmployeeTimesheet!$B$7:$B$106,AP13,1),"")),"") -> Ryan Jordan | AS13: =IFERROR(IF($AM$5="All Departments",EmployeeTimesheet!C14,IF(LEN(AR13)>1,EmployeeTimesheet!C14,"")),"") -> IT | AT13: =IF(AND(LEN($AS13)>1,AT$5=$AO$5),EmployeeTimesheet!AL14,"") -> 2 | AU13: =IF(AND(LEN($AS13)>1,AU$5=$AO$5),EmployeeTimesheet!AM14,"") | AV13: =IF(AND(LEN($AS13)>1,AV$5=$AO$5),EmployeeTimesheet!AN14,"") | AW13: =IF(AND(LEN($AS13)>1,AW$5=$AO$5),EmployeeTimesheet!AO14,"") | AX13: =IF(AND(LEN($AS13)>1,AX$5=$AO$5),EmployeeTimesheet!AP14,"") | AY13: =IF(AND(LEN($AS13)>1,AY$5=$AO$5),EmployeeTimesheet!AQ14,"") | AZ13: =IF(SUM(AT13:AY13)>0,1,"") -> 1
A14: 1 | B14: =IFERROR(IF(LEN(INDEX(Settings!$C$7:$C$19,A14,1))>0,INDEX(Settings!$C$7:$C$19,A14,1),""),"") -> Purchasing | C14: =COUNTIFS($AK$4:$AK$998,C$13,$AI$4:$AI$998,$B14) -> 0 | D14: =COUNTIFS($AK$4:$AK$998,D$13,$AI$4:$AI$998,$B14) -> 2 | E14: =COUNTIFS($AK$4:$AK$998,E$13,$AI$4:$AI$998,$B14) -> 0 | F14: =COUNTIFS($AK$4:$AK$998,F$13,$AI$4:$AI$998,$B14) -> 0 | G14: =$B14 -> Purchasing | H14: =IF(LEN(G14)>0,A14,"") -> 1 | J14: High Risk | K14: =IFERROR(IF(COUNTIF($AK$4:$AK$998,J14)>0,COUNTIF($AK$4:$AK$998,J14),""),"") -> 2 | M14: Rows | N14: Checked? | P14: 11 | Q14: =IF(INDEX(EmployeeTrackingSheet!$B$6:$B$1005,Calculations!P14,1)=0,"",INDEX(EmployeeTrackingSheet!$B$6:$B$1005,Calculations!P14,1)) -> 43990 | R14: =IF(LEN($Q14)=0,"",YEAR($Q14)) -> 2020 | S14: =IF(LEN($Q14)=0,"",MONTH($Q14)) -> 6 | T14: =IF(LEN($Q14)=0,"",WEEKNUM($Q14)) -> 24 | U14: =IF(LEN($Q14)=0,"",DAY($Q14)) -> 8 | V14: =IF(INDEX(EmployeeTrackingSheet!$C$6:$C$1005,Calculations!P14,1)=0,"",INDEX(EmployeeTrackingSheet!$C$6:$C$1005,Calculations!P14,1)) -> Ellie Kite | W14: =IF(INDEX(EmployeeTrackingSheet!$D$6:$D$1005,Calculations!P14,1)=0,"",INDEX(EmployeeTrackingSheet!$D$6:$D$1005,Calculations!P14,1)) -> Purchasing | X14: =IF(INDEX(EmployeeTrackingSheet!$E$6:$E$1005,Calculations!P14,1)=0,"",INDEX(EmployeeTrackingSheet!$E$6:$E$1005,Calculations!P14,1)) -> 37.5 | Y14: =IF(INDEX(EmployeeTrackingSheet!$F$6:$F$1005,Calculations!P14,1)=0,"",INDEX(EmployeeTrackingSheet!$F$6:$F$1005,Calculations!P14,1)) -> Medium Risk | Z14: =IFERROR(WEEKNUM(DATE(YEAR($Q14),$S14,$U14),1)-WEEKNUM(DATE(YEAR($Q14),$S14,1),1)+1,"") -> 2 | AA14: =IF(INDEX(EmployeeTrackingSheet!$G$6:$G$1005,Calculations!P14,1)=0,"",INDEX(EmployeeTrackingSheet!$G$6:$G$1005,Calculations!P14,1)) -> Yes | AB14: =IF(INDEX(EmployeeTrackingSheet!$H$6:$H$1005,Calculations!P14,1)=0,"",INDEX(EmployeeTrackingSheet!$H$6:$H$1005,Calculations!P14,1)) -> No | AD14: APRIL | AE14: 4 | AF14: 2023 | AH14: =IF(INDEX(Settings!$E$7:$E$106,Calculations!P14,1)=0,"",INDEX(Settings!$E$7:$E$106,Calculations!P14,1)) -> Kat Tesser | AI14: =IF(INDEX(Settings!$F$7:$F$106,Calculations!P14,1)=0,"",INDEX(Settings!$F$7:$F$106,Calculations!P14,1)) -> Supply Chain | AJ14: =IFERROR(IF(LEN($AH14)>1,SUMIF($V$4:V1008,$AH14,$X$4:X1008)/COUNTIF($V$4:V1008,$AH14),""),"") -> 37.1 | AK14: =IFERROR(INDEX(Settings!$J$8:$L$11,MATCH(Calculations!$AJ14,Settings!$J$8:$J$11,1),3),"") -> Low Risk | AP14: 9 | AQ14: =IFERROR(INDEX($AR$1:$AR$99,SMALL(INDEX(ISNUMBER($AZ$6:$AZ$99)*ROW($AZ$6:$AZ$99),0,1),COUNTBLANK($AZ$6:$AZ$99)+ROW(AZ9)),1),"") -> Maxine Hancock | AR14: =IFERROR(IF($AM$5="All Departments",INDEX(EmployeeTimesheet!$B$7:$C$106,AP14,1),IF(INDEX( EmployeeTimesheet!$C$7:$C$106,ROW(A9),1)=$AR$5,INDEX(EmployeeTimesheet!$B$7:$B$106,AP14,1),"")),"") -> Isabell Fair | AS14: =IFERROR(IF($AM$5="All Departments",EmployeeTimesheet!C15,IF(LEN(AR14)>1,EmployeeTimesheet!C15,"")),"") -> IT | AT14: =IF(AND(LEN($AS14)>1,AT$5=$AO$5),EmployeeTimesheet!AL15,"") -> 1 | AU14: =IF(AND(LEN($AS14)>1,AU$5=$AO$5),EmployeeTimesheet!AM15,"") | AV14: =IF(AND(LEN($AS14)>1,AV$5=$AO$5),EmployeeTimesheet!AN15,"") | AW14: =IF(AND(LEN($AS14)>1,AW$5=$AO$5),EmployeeTimesheet!AO15,"") | AX14: =IF(AND(LEN($AS14)>1,AX$5=$AO$5),EmployeeTimesheet!AP15,"") | AY14: =IF(AND(LEN($AS14)>1,AY$5=$AO$5),EmployeeTimesheet!AQ15,"") | AZ14: =IF(SUM(AT14:AY14)>0,1,"") -> 1
A15: 2 | B15: =IFERROR(IF(LEN(INDEX(Settings!$C$7:$C$19,A15,1))>0,INDEX(Settings!$C$7:$C$19,A15,1),""),"") -> Sales | C15: =COUNTIFS($AK$4:$AK$998,C$13,$AI$4:$AI$998,$B15) -> 1 | D15: =COUNTIFS($AK$4:$AK$998,D$13,$AI$4:$AI$998,$B15) -> 0 | E15: =COUNTIFS($AK$4:$AK$998,E$13,$AI$4:$AI$998,$B15) -> 1 | F15: =COUNTIFS($AK$4:$AK$998,F$13,$AI$4:$AI$998,$B15) -> 0 | G15: =$B15 -> Sales | H15: =IF(LEN(G15)>0,A15,"") -> 2 | J15: Medium Risk | K15: =IFERROR(IF(COUNTIF($AK$4:$AK$998,J15)>0,COUNTIF($AK$4:$AK$998,J15),""),"") -> 7 | M15: 1 | N15: =IF(LEN(Checklist!C13)>0,Checklist!G13,"") -> No | P15: 12 | Q15: =IF(INDEX(EmployeeTrackingSheet!$B$6:$B$1005,Calculations!P15,1)=0,"",INDEX(EmployeeTrackingSheet!$B$6:$B$1005,Calculations!P15,1)) -> 43999 | R15: =IF(LEN($Q15)=0,"",YEAR($Q15)) -> 2020 | S15: =IF(LEN($Q15)=0,"",MONTH($Q15)) -> 6 | T15: =IF(LEN($Q15)=0,"",WEEKNUM($Q15)) -> 25 | U15: =IF(LEN($Q15)=0,"",DAY($Q15)) -> 17 | V15: =IF(INDEX(EmployeeTrackingSheet!$C$6:$C$1005,Calculations!P15,1)=0,"",INDEX(EmployeeTrackingSheet!$C$6:$C$1005,Calculations!P15,1)) -> Michela Alexis | W15: =IF(INDEX(EmployeeTrackingSheet!$D$6:$D$1005,Calculations!P15,1)=0,"",INDEX(EmployeeTrackingSheet!$D$6:$D$1005,Calculations!P15,1)) -> Manufacturing | X15: =IF(INDEX(EmployeeTrackingSheet!$E$6:$E$1005,Calculations!P15,1)=0,"",INDEX(EmployeeTrackingSheet!$E$6:$E$1005,Calculations!P15,1)) -> 37.9 | Y15: =IF(INDEX(EmployeeTrackingSheet!$F$6:$F$1005,Calculations!P15,1)=0,"",INDEX(EmployeeTrackingSheet!$F$6:$F$1005,Calculations!P15,1)) -> Medium Risk | Z15: =IFERROR(WEEKNUM(DATE(YEAR($Q15),$S15,$U15),1)-WEEKNUM(DATE(YEAR($Q15),$S15,1),1)+1,"") -> 3 | AA15: =IF(INDEX(EmployeeTrackingSheet!$G$6:$G$1005,Calculations!P15,1)=0,"",INDEX(EmployeeTrackingSheet!$G$6:$G$1005,Calculations!P15,1)) -> No | AB15: =IF(INDEX(EmployeeTrackingSheet!$H$6:$H$1005,Calculations!P15,1)=0,"",INDEX(EmployeeTrackingSheet!$H$6:$H$1005,Calculations!P15,1)) -> No | AD15: MAY | AE15: 5 | AF15: 2024 | AH15: =IF(INDEX(Settings!$E$7:$E$106,Calculations!P15,1)=0,"",INDEX(Settings!$E$7:$E$106,Calculations!P15,1)) -> Maxine Hancock | AI15: =IF(INDEX(Settings!$F$7:$F$106,Calculations!P15,1)=0,"",INDEX(Settings!$F$7:$F$106,Calculations!P15,1)) -> IT | AJ15: =IFERROR(IF(LEN($AH15)>1,SUMIF($V$4:V1009,$AH15,$X$4:X1009)/COUNTIF($V$4:V1009,$AH15),""),"") -> 39.4 | AK15: =IFERROR(INDEX(Settings!$J$8:$L$11,MATCH(Calculations!$AJ15,Settings!$J$8:$J$11,1),3),"") -> High Risk | AP15: 10 | AQ15: =IFERROR(INDEX($AR$1:$AR$99,SMALL(INDEX(ISNUMBER($AZ$6:$AZ$99)*ROW($AZ$6:$AZ$99),0,1),COUNTBLANK($AZ$6:$AZ$99)+ROW(AZ10)),1),"") | AR15: =IFERROR(IF($AM$5="All Departments",INDEX(EmployeeTimesheet!$B$7:$C$106,AP15,1),IF(INDEX( EmployeeTimesheet!$C$7:$C$106,ROW(A10),1)=$AR$5,INDEX(EmployeeTimesheet!$B$7:$B$106,AP15,1),"")),"") -> Maxine Hancock | AS15: =IFERROR(IF($AM$5="All Departments",EmployeeTimesheet!C16,IF(LEN(AR15)>1,EmployeeTimesheet!C16,"")),"") -> IT | AT15: =IF(AND(LEN($AS15)>1,AT$5=$AO$5),EmployeeTimesheet!AL16,"") -> 1 | AU15: =IF(AND(LEN($AS15)>1,AU$5=$AO$5),EmployeeTimesheet!AM16,"") | AV15: =IF(AND(LEN($AS15)>1,AV$5=$AO$5),EmployeeTimesheet!AN16,"") | AW15: =IF(AND(LEN($AS15)>1,AW$5=$AO$5),EmployeeTimesheet!AO16,"") | AX15: =IF(AND(LEN($AS15)>1,AX$5=$AO$5),EmployeeTimesheet!AP16,"") | AY15: =IF(AND(LEN($AS15)>1,AY$5=$AO$5),EmployeeTimesheet!AQ16,"") | AZ15: =IF(SUM(AT15:AY15)>0,1,"") -> 1 | BE15: W1 | BF15: W2 | BG15: W3 | BH15: W4 | BI15: W5 | BJ15: W6
A16: 3 | B16: =IFERROR(IF(LEN(INDEX(Settings!$C$7:$C$19,A16,1))>0,INDEX(Settings!$C$7:$C$19,A16,1),""),"") -> Finance | C16: =COUNTIFS($AK$4:$AK$998,C$13,$AI$4:$AI$998,$B16) -> 1 | D16: =COUNTIFS($AK$4:$AK$998,D$13,$AI$4:$AI$998,$B16) -> 0 | E16: =COUNTIFS($AK$4:$AK$998,E$13,$AI$4:$AI$998,$B16) -> 0 | F16: =COUNTIFS($AK$4:$AK$998,F$13,$AI$4:$AI$998,$B16) -> 0 | G16: =$B16 -> Finance | H16: =IF(LEN(G16)>0,A16,"") -> 3 | J16: Low Risk | K16: =IFERROR(IF(COUNTIF($AK$4:$AK$998,J16)>0,COUNTIF($AK$4:$AK$998,J16),""),"") -> 5 | M16: 2 | N16: =IF(LEN(Checklist!C14)>0,Checklist!G14,"") -> Yes | P16: 13 | Q16: =IF(INDEX(EmployeeTrackingSheet!$B$6:$B$1005,Calculations!P16,1)=0,"",INDEX(EmployeeTrackingSheet!$B$6:$B$1005,Calculations!P16,1)) -> 43999 | R16: =IF(LEN($Q16)=0,"",YEAR($Q16)) -> 2020 | S16: =IF(LEN($Q16)=0,"",MONTH($Q16)) -> 6 | T16: =IF(LEN($Q16)=0,"",WEEKNUM($Q16)) -> 25 | U16: =IF(LEN($Q16)=0,"",DAY($Q16)) -> 17 | V16: =IF(INDEX(EmployeeTrackingSheet!$C$6:$C$1005,Calculations!P16,1)=0,"",INDEX(EmployeeTrackingSheet!$C$6:$C$1005,Calculations!P16,1)) -> Bob Kumar | W16: =IF(INDEX(EmployeeTrackingSheet!$D$6:$D$1005,Calculations!P16,1)=0,"",INDEX(EmployeeTrackingSheet!$D$6:$D$1005,Calculations!P16,1)) -> Human Resources | X16: =IF(INDEX(EmployeeTrackingSheet!$E$6:$E$1005,Calculations!P16,1)=0,"",INDEX(EmployeeTrackingSheet!$E$6:$E$1005,Calculations!P16,1)) -> 37.9 | Y16: =IF(INDEX(EmployeeTrackingSheet!$F$6:$F$1005,Calculations!P16,1)=0,"",INDEX(EmployeeTrackingSheet!$F$6:$F$1005,Calculations!P16,1)) -> Medium Risk | Z16: =IFERROR(WEEKNUM(DATE(YEAR($Q16),$S16,$U16),1)-WEEKNUM(DATE(YEAR($Q16),$S16,1),1)+1,"") -> 3 | AA16: =IF(INDEX(EmployeeTrackingSheet!$G$6:$G$1005,Calculations!P16,1)=0,"",INDEX(EmployeeTrackingSheet!$G$6:$G$1005,Calculations!P16,1)) -> No | AB16: =IF(INDEX(EmployeeTrackingSheet!$H$6:$H$1005,Calculations!P16,1)=0,"",INDEX(EmployeeTrackingSheet!$H$6:$H$1005,Calculations!P16,1)) -> No | AD16: JUNE | AE16: 6 | AF16: 2025 | AH16: =IF(INDEX(Settings!$E$7:$E$106,Calculations!P16,1)=0,"",INDEX(Settings!$E$7:$E$106,Calculations!P16,1)) -> Robert Liller | AI16: =IF(INDEX(Settings!$F$7:$F$106,Calculations!P16,1)=0,"",INDEX(Settings!$F$7:$F$106,Calculations!P16,1)) -> Logistic | AJ16: =IFERROR(IF(LEN($AH16)>1,SUMIF($V$4:V1010,$AH16,$X$4:X1010)/COUNTIF($V$4:V1010,$AH16),""),"") -> 37.8 | AK16: =IFERROR(INDEX(Settings!$J$8:$L$11,MATCH(Calculations!$AJ16,Settings!$J$8:$J$11,1),3),"") -> Medium Risk | AP16: 11 | AQ16: =IFERROR(INDEX($AR$1:$AR$99,SMALL(INDEX(ISNUMBER($AZ$6:$AZ$99)*ROW($AZ$6:$AZ$99),0,1),COUNTBLANK($AZ$6:$AZ$99)+ROW(AZ11)),1),"") | AR16: =IFERROR(IF($AM$5="All Departments",INDEX(EmployeeTimesheet!$B$7:$C$106,AP16,1),IF(INDEX( EmployeeTimesheet!$C$7:$C$106,ROW(A11),1)=$AR$5,INDEX(EmployeeTimesheet!$B$7:$B$106,AP16,1),"")),"") -> 0 | AS16: =IFERROR(IF($AM$5="All Departments",EmployeeTimesheet!C17,IF(LEN(AR16)>1,EmployeeTimesheet!C17,"")),"") | AT16: =IF(AND(LEN($AS16)>1,AT$5=$AO$5),EmployeeTimesheet!AL17,"") | AU16: =IF(AND(LEN($AS16)>1,AU$5=$AO$5),EmployeeTimesheet!AM17,"") | AV16: =IF(AND(LEN($AS16)>1,AV$5=$AO$5),EmployeeTimesheet!AN17,"") | AW16: =IF(AND(LEN($AS16)>1,AW$5=$AO$5),EmployeeTimesheet!AO17,"") | AX16: =IF(AND(LEN($AS16)>1,AX$5=$AO$5),EmployeeTimesheet!AP17,"") | AY16: =IF(AND(LEN($AS16)>1,AY$5=$AO$5),EmployeeTimesheet!AQ17,"") | AZ16: =IF(SUM(AT16:AY16)>0,1,"") | BE16: =COUNTIF(AM$3:$BQ$3,AM3) -> 7 | BF16: =COUNTIF(AN$3:$BQ$3,AM3+1) -> 7 | BG16: =COUNTIF(AO$3:$BQ$3,AM3+2) -> 7 | BH16: =COUNTIF(AP$3:$BQ$3,AM3+3) -> 7 | BI16: =COUNTIF(AQ$3:$BQ$3,AM3+4) -> 3 | BJ16: =COUNTIF(AR$3:$BQ$3,AM3+5) -> 0
A17: 4 | B17: =IFERROR(IF(LEN(INDEX(Settings!$C$7:$C$19,A17,1))>0,INDEX(Settings!$C$7:$C$19,A17,1),""),"") -> Manufacturing | C17: =COUNTIFS($AK$4:$AK$998,C$13,$AI$4:$AI$998,$B17) -> 0 | D17: =COUNTIFS($AK$4:$AK$998,D$13,$AI$4:$AI$998,$B17) -> 2 | E17: =COUNTIFS($AK$4:$AK$998,E$13,$AI$4:$AI$998,$B17) -> 0 | F17: =COUNTIFS($AK$4:$AK$998,F$13,$AI$4:$AI$998,$B17) -> 0 | G17: =$B17 -> Manufacturing | H17: =IF(LEN(G17)>0,A17,"") -> 4 | M17: 3 | N17: =IF(LEN(Checklist!C15)>0,Checklist!G15,"") -> Yes | P17: 14 | Q17: =IF(INDEX(EmployeeTrackingSheet!$B$6:$B$1005,Calculations!P17,1)=0,"",INDEX(EmployeeTrackingSheet!$B$6:$B$1005,Calculations!P17,1)) -> 43999 | R17: =IF(LEN($Q17)=0,"",YEAR($Q17)) -> 2020 | S17: =IF(LEN($Q17)=0,"",MONTH($Q17)) -> 6 | T17: =IF(LEN($Q17)=0,"",WEEKNUM($Q17)) -> 25 | U17: =IF(LEN($Q17)=0,"",DAY($Q17)) -> 17 | V17: =IF(INDEX(EmployeeTrackingSheet!$C$6:$C$1005,Calculations!P17,1)=0,"",INDEX(EmployeeTrackingSheet!$C$6:$C$1005,Calculations!P17,1)) -> Joy Bailey | W17: =IF(INDEX(EmployeeTrackingSheet!$D$6:$D$1005,Calculations!P17,1)=0,"",INDEX(EmployeeTrackingSheet!$D$6:$D$1005,Calculations!P17,1)) -> Finance | X17: =IF(INDEX(EmployeeTrackingSheet!$E$6:$E$1005,Calculations!P17,1)=0,"",INDEX(EmployeeTrackingSheet!$E$6:$E$1005,Calculations!P17,1)) -> 36.8 | Y17: =IF(INDEX(EmployeeTrackingSheet!$F$6:$F$1005,Calculations!P17,1)=0,"",INDEX(EmployeeTrackingSheet!$F$6:$F$1005,Calculations!P17,1)) -> Low Risk | Z17: =IFERROR(WEEKNUM(DATE(YEAR($Q17),$S17,$U17),1)-WEEKNUM(DATE(YEAR($Q17),$S17,1),1)+1,"") -> 3 | AA17: =IF(INDEX(EmployeeTrackingSheet!$G$6:$G$1005,Calculations!P17,1)=0,"",INDEX(EmployeeTrackingSheet!$G$6:$G$1005,Calculations!P17,1)) -> Yes | AB17: =IF(INDEX(EmployeeTrackingSheet!$H$6:$H$1005,Calculations!P17,1)=0,"",INDEX(EmployeeTrackingSheet!$H$6:$H$1005,Calculations!P17,1)) -> No | AD17: JULY | AE17: 7 | AH17: =IF(INDEX(Settings!$E$7:$E$106,Calculations!P17,1)=0,"",INDEX(Settings!$E$7:$E$106,Calculations!P17,1)) -> Ellie Kite | AI17: =IF(INDEX(Settings!$F$7:$F$106,Calculations!P17,1)=0,"",INDEX(Settings!$F$7:$F$106,Calculations!P17,1)) -> Purchasing | AJ17: =IFERROR(IF(LEN($AH17)>1,SUMIF($V$4:V1011,$AH17,$X$4:X1011)/COUNTIF($V$4:V1011,$AH17),""),"") -> 37.9 | AK17: =IFERROR(INDEX(Settings!$J$8:$L$11,MATCH(Calculations!$AJ17,Settings!$J$8:$J$11,1),3),"") -> Medium Risk | AP17: 12 | AQ17: =IFERROR(INDEX($AR$1:$AR$99,SMALL(INDEX(ISNUMBER($AZ$6:$AZ$99)*ROW($AZ$6:$AZ$99),0,1),COUNTBLANK($AZ$6:$AZ$99)+ROW(AZ12)),1),"") | AR17: =IFERROR(IF($AM$5="All Departments",INDEX(EmployeeTimesheet!$B$7:$C$106,AP17,1),IF(INDEX( EmployeeTimesheet!$C$7:$C$106,ROW(A12),1)=$AR$5,INDEX(EmployeeTimesheet!$B$7:$B$106,AP17,1),"")),"") -> 0 | AS17: =IFERROR(IF($AM$5="All Departments",EmployeeTimesheet!C18,IF(LEN(AR17)>1,EmployeeTimesheet!C18,"")),"") | AT17: =IF(AND(LEN($AS17)>1,AT$5=$AO$5),EmployeeTimesheet!AL18,"") | AU17: =IF(AND(LEN($AS17)>1,AU$5=$AO$5),EmployeeTimesheet!AM18,"") | AV17: =IF(AND(LEN($AS17)>1,AV$5=$AO$5),EmployeeTimesheet!AN18,"") | AW17: =IF(AND(LEN($AS17)>1,AW$5=$AO$5),EmployeeTimesheet!AO18,"") | AX17: =IF(AND(LEN($AS17)>1,AX$5=$AO$5),EmployeeTimesheet!AP18,"") | AY17: =IF(AND(LEN($AS17)>1,AY$5=$AO$5),EmployeeTimesheet!AQ18,"") | AZ17: =IF(SUM(AT17:AY17)>0,1,"")
A18: 5 | B18: =IFERROR(IF(LEN(INDEX(Settings!$C$7:$C$19,A18,1))>0,INDEX(Settings!$C$7:$C$19,A18,1),""),"") -> Human Resources | C18: =COUNTIFS($AK$4:$AK$998,C$13,$AI$4:$AI$998,$B18) -> 1 | D18: =COUNTIFS($AK$4:$AK$998,D$13,$AI$4:$AI$998,$B18) -> 1 | E18: =COUNTIFS($AK$4:$AK$998,E$13,$AI$4:$AI$998,$B18) -> 0 | F18: =COUNTIFS($AK$4:$AK$998,F$13,$AI$4:$AI$998,$B18) -> 0 | G18: =$B18 -> Human Resources | H18: =IF(LEN(G18)>0,A18,"") -> 5 | M18: 4 | N18: =IF(LEN(Checklist!C16)>0,Checklist!G16,"") -> No | P18: 15 | Q18: =IF(INDEX(EmployeeTrackingSheet!$B$6:$B$1005,Calculations!P18,1)=0,"",INDEX(EmployeeTrackingSheet!$B$6:$B$1005,Calculations!P18,1)) -> 44007 | R18: =IF(LEN($Q18)=0,"",YEAR($Q18)) -> 2020 | S18: =IF(LEN($Q18)=0,"",MONTH($Q18)) -> 6 | T18: =IF(LEN($Q18)=0,"",WEEKNUM($Q18)) -> 26 | U18: =IF(LEN($Q18)=0,"",DAY($Q18)) -> 25 | V18: =IF(INDEX(EmployeeTrackingSheet!$C$6:$C$1005,Calculations!P18,1)=0,"",INDEX(EmployeeTrackingSheet!$C$6:$C$1005,Calculations!P18,1)) -> Courtney Mair | W18: =IF(INDEX(EmployeeTrackingSheet!$D$6:$D$1005,Calculations!P18,1)=0,"",INDEX(EmployeeTrackingSheet!$D$6:$D$1005,Calculations!P18,1)) -> Human Resources | X18: =IF(INDEX(EmployeeTrackingSheet!$E$6:$E$1005,Calculations!P18,1)=0,"",INDEX(EmployeeTrackingSheet!$E$6:$E$1005,Calculations!P18,1)) -> 36.5 | Y18: =IF(INDEX(EmployeeTrackingSheet!$F$6:$F$1005,Calculations!P18,1)=0,"",INDEX(EmployeeTrackingSheet!$F$6:$F$1005,Calculations!P18,1)) -> Low Risk | Z18: =IFERROR(WEEKNUM(DATE(YEAR($Q18),$S18,$U18),1)-WEEKNUM(DATE(YEAR($Q18),$S18,1),1)+1,"") -> 4 | AA18: =IF(INDEX(EmployeeTrackingSheet!$G$6:$G$1005,Calculations!P18,1)=0,"",INDEX(EmployeeTrackingSheet!$G$6:$G$1005,Calculations!P18,1)) -> Yes | AB18: =IF(INDEX(EmployeeTrackingSheet!$H$6:$H$1005,Calculations!P18,1)=0,"",INDEX(EmployeeTrackingSheet!$H$6:$H$1005,Calculations!P18,1)) -> No | AD18: AUGUST | AE18: 8 | AH18: =IF(INDEX(Settings!$E$7:$E$106,Calculations!P18,1)=0,"",INDEX(Settings!$E$7:$E$106,Calculations!P18,1)) -> Courtney Mair | AI18: =IF(INDEX(Settings!$F$7:$F$106,Calculations!P18,1)=0,"",INDEX(Settings!$F$7:$F$106,Calculations!P18,1)) -> Human Resources | AJ18: =IFERROR(IF(LEN($AH18)>1,SUMIF($V$4:V1012,$AH18,$X$4:X1012)/COUNTIF($V$4:V1012,$AH18),""),"") -> 36.5 | AK18: =IFERROR(INDEX(Settings!$J$8:$L$11,MATCH(Calculations!$AJ18,Settings!$J$8:$J$11,1),3),"") -> Low Risk | AP18: 13 | AQ18: =IFERROR(INDEX($AR$1:$AR$99,SMALL(INDEX(ISNUMBER($AZ$6:$AZ$99)*ROW($AZ$6:$AZ$99),0,1),COUNTBLANK($AZ$6:$AZ$99)+ROW(AZ13)),1),"") | AR18: =IFERROR(IF($AM$5="All Departments",INDEX(EmployeeTimesheet!$B$7:$C$106,AP18,1),IF(INDEX( EmployeeTimesheet!$C$7:$C$106,ROW(A13),1)=$AR$5,INDEX(EmployeeTimesheet!$B$7:$B$106,AP18,1),"")),"") -> 0 | AS18: =IFERROR(IF($AM$5="All Departments",EmployeeTimesheet!C19,IF(LEN(AR18)>1,EmployeeTimesheet!C19,"")),"") | AT18: =IF(AND(LEN($AS18)>1,AT$5=$AO$5),EmployeeTimesheet!AL25,"") | AU18: =IF(AND(LEN($AS18)>1,AU$5=$AO$5),EmployeeTimesheet!AM25,"") | AV18: =IF(AND(LEN($AS18)>1,AV$5=$AO$5),EmployeeTimesheet!AN25,"") | AW18: =IF(AND(LEN($AS18)>1,AW$5=$AO$5),EmployeeTimesheet!AO25,"") | AX18: =IF(AND(LEN($AS18)>1,AX$5=$AO$5),EmployeeTimesheet!AP25,"") | AY18: =IF(AND(LEN($AS18)>1,AY$5=$AO$5),EmployeeTimesheet!AQ25,"") | AZ18: =IF(SUM(AT18:AY18)>0,1,"")
A19: 6 | B19: =IFERROR(IF(LEN(INDEX(Settings!$C$7:$C$19,A19,1))>0,INDEX(Settings!$C$7:$C$19,A19,1),""),"") -> IT | C19: =COUNTIFS($AK$4:$AK$998,C$13,$AI$4:$AI$998,$B19) -> 1 | D19: =COUNTIFS($AK$4:$AK$998,D$13,$AI$4:$AI$998,$B19) -> 1 | E19: =COUNTIFS($AK$4:$AK$998,E$13,$AI$4:$AI$998,$B19) -> 1 | F19: =COUNTIFS($AK$4:$AK$998,F$13,$AI$4:$AI$998,$B19) -> 0 | G19: =$B19 -> IT | H19: =IF(LEN(G19)>0,A19,"") -> 6 | J19: Checklist-Priority | M19: 5 | N19: =IF(LEN(Checklist!C17)>0,Checklist!G17,"") -> Yes | P19: 16 | Q19: =IF(INDEX(EmployeeTrackingSheet!$B$6:$B$1005,Calculations!P19,1)=0,"",INDEX(EmployeeTrackingSheet!$B$6:$B$1005,Calculations!P19,1)) -> 44022 | R19: =IF(LEN($Q19)=0,"",YEAR($Q19)) -> 2020 | S19: =IF(LEN($Q19)=0,"",MONTH($Q19)) -> 7 | T19: =IF(LEN($Q19)=0,"",WEEKNUM($Q19)) -> 28 | U19: =IF(LEN($Q19)=0,"",DAY($Q19)) -> 10 | V19: =IF(INDEX(EmployeeTrackingSheet!$C$6:$C$1005,Calculations!P19,1)=0,"",INDEX(EmployeeTrackingSheet!$C$6:$C$1005,Calculations!P19,1)) -> Isabell Fair | W19: =IF(INDEX(EmployeeTrackingSheet!$D$6:$D$1005,Calculations!P19,1)=0,"",INDEX(EmployeeTrackingSheet!$D$6:$D$1005,Calculations!P19,1)) -> IT | X19: =IF(INDEX(EmployeeTrackingSheet!$E$6:$E$1005,Calculations!P19,1)=0,"",INDEX(EmployeeTrackingSheet!$E$6:$E$1005,Calculations!P19,1)) -> 37 | Y19: =IF(INDEX(EmployeeTrackingSheet!$F$6:$F$1005,Calculations!P19,1)=0,"",INDEX(EmployeeTrackingSheet!$F$6:$F$1005,Calculations!P19,1)) -> Low Risk | Z19: =IFERROR(WEEKNUM(DATE(YEAR($Q19),$S19,$U19),1)-WEEKNUM(DATE(YEAR($Q19),$S19,1),1)+1,"") -> 2 | AA19: =IF(INDEX(EmployeeTrackingSheet!$G$6:$G$1005,Calculations!P19,1)=0,"",INDEX(EmployeeTrackingSheet!$G$6:$G$1005,Calculations!P19,1)) -> No | AB19: =IF(INDEX(EmployeeTrackingSheet!$H$6:$H$1005,Calculations!P19,1)=0,"",INDEX(EmployeeTrackingSheet!$H$6:$H$1005,Calculations!P19,1)) -> Yes | AD19: SEPTEMBER | AE19: 9 | AH19: =IF(INDEX(Settings!$E$7:$E$106,Calculations!P19,1)=0,"",INDEX(Settings!$E$7:$E$106,Calculations!P19,1)) -> Isabell Fair | AI19: =IF(INDEX(Settings!$F$7:$F$106,Calculations!P19,1)=0,"",INDEX(Settings!$F$7:$F$106,Calculations!P19,1)) -> IT | AJ19: =IFERROR(IF(LEN($AH19)>1,SUMIF($V$4:V1013,$AH19,$X$4:X1013)/COUNTIF($V$4:V1013,$AH19),""),"") -> 37 | AK19: =IFERROR(INDEX(Settings!$J$8:$L$11,MATCH(Calculations!$AJ19,Settings!$J$8:$J$11,1),3),"") -> Low Risk | AP19: 14 | AQ19: =IFERROR(INDEX($AR$1:$AR$99,SMALL(INDEX(ISNUMBER($AZ$6:$AZ$99)*ROW($AZ$6:$AZ$99),0,1),COUNTBLANK($AZ$6:$AZ$99)+ROW(AZ14)),1),"") | AR19: =IFERROR(IF($AM$5="All Departments",INDEX(EmployeeTimesheet!$B$7:$C$106,AP19,1),IF(INDEX( EmployeeTimesheet!$C$7:$C$106,ROW(A14),1)=$AR$5,INDEX(EmployeeTimesheet!$B$7:$B$106,AP19,1),"")),"") -> 0 | AS19: =IFERROR(IF($AM$5="All Departments",EmployeeTimesheet!C20,IF(LEN(AR19)>1,EmployeeTimesheet!C20,"")),"") | AT19: =IF(AND(LEN($AS19)>1,AT$5=$AO$5),EmployeeTimesheet!AL26,"") | AU19: =IF(AND(LEN($AS19)>1,AU$5=$AO$5),EmployeeTimesheet!AM26,"") | AV19: =IF(AND(LEN($AS19)>1,AV$5=$AO$5),EmployeeTimesheet!AN26,"") | AW19: =IF(AND(LEN($AS19)>1,AW$5=$AO$5),EmployeeTimesheet!AO26,"") | AX19: =IF(AND(LEN($AS19)>1,AX$5=$AO$5),EmployeeTimesheet!AP26,"") | AY19: =IF(AND(LEN($AS19)>1,AY$5=$AO$5),EmployeeTimesheet!AQ26,"") | AZ19: =IF(SUM(AT19:AY19)>0,1,"")
A20: 7 | B20: =IFERROR(IF(LEN(INDEX(Settings!$C$7:$C$19,A20,1))>0,INDEX(Settings!$C$7:$C$19,A20,1),""),"") -> Supply Chain | C20: =COUNTIFS($AK$4:$AK$998,C$13,$AI$4:$AI$998,$B20) -> 1 | D20: =COUNTIFS($AK$4:$AK$998,D$13,$AI$4:$AI$998,$B20) -> 0 | E20: =COUNTIFS($AK$4:$AK$998,E$13,$AI$4:$AI$998,$B20) -> 0 | F20: =COUNTIFS($AK$4:$AK$998,F$13,$AI$4:$AI$998,$B20) -> 0 | G20: =$B20 -> Supply Chain | H20: =IF(LEN(G20)>0,A20,"") -> 7 | J20: Low | K20: -1 | M20: 6 | N20: =IF(LEN(Checklist!C18)>0,Checklist!G18,"") -> Yes | P20: 17 | Q20: =IF(INDEX(EmployeeTrackingSheet!$B$6:$B$1005,Calculations!P20,1)=0,"",INDEX(EmployeeTrackingSheet!$B$6:$B$1005,Calculations!P20,1)) -> 44022 | R20: =IF(LEN($Q20)=0,"",YEAR($Q20)) -> 2020 | S20: =IF(LEN($Q20)=0,"",MONTH($Q20)) -> 7 | T20: =IF(LEN($Q20)=0,"",WEEKNUM($Q20)) -> 28 | U20: =IF(LEN($Q20)=0,"",DAY($Q20)) -> 10 | V20: =IF(INDEX(EmployeeTrackingSheet!$C$6:$C$1005,Calculations!P20,1)=0,"",INDEX(EmployeeTrackingSheet!$C$6:$C$1005,Calculations!P20,1)) -> Ryan Jordan | W20: =IF(INDEX(EmployeeTrackingSheet!$D$6:$D$1005,Calculations!P20,1)=0,"",INDEX(EmployeeTrackingSheet!$D$6:$D$1005,Calculations!P20,1)) -> IT | X20: =IF(INDEX(EmployeeTrackingSheet!$E$6:$E$1005,Calculations!P20,1)=0,"",INDEX(EmployeeTrackingSheet!$E$6:$E$1005,Calculations!P20,1)) -> 38 | Y20: =IF(INDEX(EmployeeTrackingSheet!$F$6:$F$1005,Calculations!P20,1)=0,"",INDEX(EmployeeTrackingSheet!$F$6:$F$1005,Calculations!P20,1)) -> Medium Risk | Z20: =IFERROR(WEEKNUM(DATE(YEAR($Q20),$S20,$U20),1)-WEEKNUM(DATE(YEAR($Q20),$S20,1),1)+1,"") -> 2 | AA20: =IF(INDEX(EmployeeTrackingSheet!$G$6:$G$1005,Calculations!P20,1)=0,"",INDEX(EmployeeTrackingSheet!$G$6:$G$1005,Calculations!P20,1)) -> No | AB20: =IF(INDEX(EmployeeTrackingSheet!$H$6:$H$1005,Calculations!P20,1)=0,"",INDEX(EmployeeTrackingSheet!$H$6:$H$1005,Calculations!P20,1)) -> No | AD20: OCTOBER | AE20: 10 | AH20: =IF(INDEX(Settings!$E$7:$E$106,Calculations!P20,1)=0,"",INDEX(Settings!$E$7:$E$106,Calculations!P20,1)) | AI20: =IF(INDEX(Settings!$F$7:$F$106,Calculations!P20,1)=0,"",INDEX(Settings!$F$7:$F$106,Calculations!P20,1)) | AJ20: =IFERROR(IF(LEN($AH20)>1,SUMIF($V$4:V1014,$AH20,$X$4:X1014)/COUNTIF($V$4:V1014,$AH20),""),"") | AK20: =IFERROR(INDEX(Settings!$J$8:$L$11,MATCH(Calculations!$AJ20,Settings!$J$8:$J$11,1),3),"") | AP20: 15 | AQ20: =IFERROR(INDEX($AR$1:$AR$99,SMALL(INDEX(ISNUMBER($AZ$6:$AZ$99)*ROW($AZ$6:$AZ$99),0,1),COUNTBLANK($AZ$6:$AZ$99)+ROW(AZ15)),1),"") | AR20: =IFERROR(IF($AM$5="All Departments",INDEX(EmployeeTimesheet!$B$7:$C$106,AP20,1),IF(INDEX( EmployeeTimesheet!$C$7:$C$106,ROW(A15),1)=$AR$5,INDEX(EmployeeTimesheet!$B$7:$B$106,AP20,1),"")),"") -> 0 | AS20: =IFERROR(IF($AM$5="All Departments",EmployeeTimesheet!C21,IF(LEN(AR20)>1,EmployeeTimesheet!C21,"")),"") | AT20: =IF(AND(LEN($AS20)>1,AT$5=$AO$5),EmployeeTimesheet!AL27,"") | AU20: =IF(AND(LEN($AS20)>1,AU$5=$AO$5),EmployeeTimesheet!AM27,"") | AV20: =IF(AND(LEN($AS20)>1,AV$5=$AO$5),EmployeeTimesheet!AN27,"") | AW20: =IF(AND(LEN($AS20)>1,AW$5=$AO$5),EmployeeTimesheet!AO27,"") | AX20: =IF(AND(LEN($AS20)>1,AX$5=$AO$5),EmployeeTimesheet!AP27,"") | AY20: =IF(AND(LEN($AS20)>1,AY$5=$AO$5),EmployeeTimesheet!AQ27,"") | AZ20: =IF(SUM(AT20:AY20)>0,1,"")
A21: 8 | B21: =IFERROR(IF(LEN(INDEX(Settings!$C$7:$C$19,A21,1))>0,INDEX(Settings!$C$7:$C$19,A21,1),""),"") -> Logistic | C21: =COUNTIFS($AK$4:$AK$998,C$13,$AI$4:$AI$998,$B21) -> 0 | D21: =COUNTIFS($AK$4:$AK$998,D$13,$AI$4:$AI$998,$B21) -> 1 | E21: =COUNTIFS($AK$4:$AK$998,E$13,$AI$4:$AI$998,$B21) -> 0 | F21: =COUNTIFS($AK$4:$AK$998,F$13,$AI$4:$AI$998,$B21) -> 0 | G21: =$B21 -> Logistic | H21: =IF(LEN(G21)>0,A21,"") -> 8 | J21: Medium | K21: 0 | M21: 7 | N21: =IF(LEN(Checklist!C19)>0,Checklist!G19,"") | P21: 18 | Q21: =IF(INDEX(EmployeeTrackingSheet!$B$6:$B$1005,Calculations!P21,1)=0,"",INDEX(EmployeeTrackingSheet!$B$6:$B$1005,Calculations!P21,1)) -> 44022 | R21: =IF(LEN($Q21)=0,"",YEAR($Q21)) -> 2020 | S21: =IF(LEN($Q21)=0,"",MONTH($Q21)) -> 7 | T21: =IF(LEN($Q21)=0,"",WEEKNUM($Q21)) -> 28 | U21: =IF(LEN($Q21)=0,"",DAY($Q21)) -> 10 | V21: =IF(INDEX(EmployeeTrackingSheet!$C$6:$C$1005,Calculations!P21,1)=0,"",INDEX(EmployeeTrackingSheet!$C$6:$C$1005,Calculations!P21,1)) -> Maxine Hancock | W21: =IF(INDEX(EmployeeTrackingSheet!$D$6:$D$1005,Calculations!P21,1)=0,"",INDEX(EmployeeTrackingSheet!$D$6:$D$1005,Calculations!P21,1)) -> IT | X21: =IF(INDEX(EmployeeTrackingSheet!$E$6:$E$1005,Calculations!P21,1)=0,"",INDEX(EmployeeTrackingSheet!$E$6:$E$1005,Calculations!P21,1)) -> 39 | Y21: =IF(INDEX(EmployeeTrackingSheet!$F$6:$F$1005,Calculations!P21,1)=0,"",INDEX(EmployeeTrackingSheet!$F$6:$F$1005,Calculations!P21,1)) -> High Risk | Z21: =IFERROR(WEEKNUM(DATE(YEAR($Q21),$S21,$U21),1)-WEEKNUM(DATE(YEAR($Q21),$S21,1),1)+1,"") -> 2 | AA21: =IF(INDEX(EmployeeTrackingSheet!$G$6:$G$1005,Calculations!P21,1)=0,"",INDEX(EmployeeTrackingSheet!$G$6:$G$1005,Calculations!P21,1)) -> Yes | AB21: =IF(INDEX(EmployeeTrackingSheet!$H$6:$H$1005,Calculations!P21,1)=0,"",INDEX(EmployeeTrackingSheet!$H$6:$H$1005,Calculations!P21,1)) -> Yes | AD21: NOVEMBER | AE21: 11 | AH21: =IF(INDEX(Settings!$E$7:$E$106,Calculations!P21,1)=0,"",INDEX(Settings!$E$7:$E$106,Calculations!P21,1)) | AI21: =IF(INDEX(Settings!$F$7:$F$106,Calculations!P21,1)=0,"",INDEX(Settings!$F$7:$F$106,Calculations!P21,1)) | AJ21: =IFERROR(IF(LEN($AH21)>1,SUMIF($V$4:V1015,$AH21,$X$4:X1015)/COUNTIF($V$4:V1015,$AH21),""),"") | AK21: =IFERROR(INDEX(Settings!$J$8:$L$11,MATCH(Calculations!$AJ21,Settings!$J$8:$J$11,1),3),"") | AP21: 16 | AQ21: =IFERROR(INDEX($AR$1:$AR$99,SMALL(INDEX(ISNUMBER($AZ$6:$AZ$99)*ROW($AZ$6:$AZ$99),0,1),COUNTBLANK($AZ$6:$AZ$99)+ROW(AZ16)),1),"") | AR21: =IFERROR(IF($AM$5="All Departments",INDEX(EmployeeTimesheet!$B$7:$C$106,AP21,1),IF(INDEX( EmployeeTimesheet!$C$7:$C$106,ROW(A16),1)=$AR$5,INDEX(EmployeeTimesheet!$B$7:$B$106,AP21,1),"")),"") -> 0 | AS21: =IFERROR(IF($AM$5="All Departments",EmployeeTimesheet!C22,IF(LEN(AR21)>1,EmployeeTimesheet!C22,"")),"") | AT21: =IF(AND(LEN($AS21)>1,AT$5=$AO$5),EmployeeTimesheet!AL28,"") | AU21: =IF(AND(LEN($AS21)>1,AU$5=$AO$5),EmployeeTimesheet!AM28,"") | AV21: =IF(AND(LEN($AS21)>1,AV$5=$AO$5),EmployeeTimesheet!AN28,"") | AW21: =IF(AND(LEN($AS21)>1,AW$5=$AO$5),EmployeeTimesheet!AO28,"") | AX21: =IF(AND(LEN($AS21)>1,AX$5=$AO$5),EmployeeTimesheet!AP28,"") | AY21: =IF(AND(LEN($AS21)>1,AY$5=$AO$5),EmployeeTimesheet!AQ28,"") | AZ21: =IF(SUM(AT21:AY21)>0,1,"")
A22: 9 | B22: =IFERROR(IF(LEN(INDEX(Settings!$C$7:$C$19,A22,1))>0,INDEX(Settings!$C$7:$C$19,A22,1),""),"") | C22: =COUNTIFS($AK$4:$AK$998,C$13,$AI$4:$AI$998,$B22) -> 0 | D22: =COUNTIFS($AK$4:$AK$998,D$13,$AI$4:$AI$998,$B22) -> 0 | E22: =COUNTIFS($AK$4:$AK$998,E$13,$AI$4:$AI$998,$B22) -> 0 | F22: =COUNTIFS($AK$4:$AK$998,F$13,$AI$4:$AI$998,$B22) -> 0 | G22: =$B22 | H22: =IF(LEN(G22)>0,A22,"") | J22: High | K22: 1 | M22: 8 | N22: =IF(LEN(Checklist!C20)>0,Checklist!G20,"") | P22: 19 | Q22: =IF(INDEX(EmployeeTrackingSheet!$B$6:$B$1005,Calculations!P22,1)=0,"",INDEX(EmployeeTrackingSheet!$B$6:$B$1005,Calculations!P22,1)) | R22: =IF(LEN($Q22)=0,"",YEAR($Q22)) | S22: =IF(LEN($Q22)=0,"",MONTH($Q22)) | T22: =IF(LEN($Q22)=0,"",WEEKNUM($Q22)) | U22: =IF(LEN($Q22)=0,"",DAY($Q22)) | V22: =IF(INDEX(EmployeeTrackingSheet!$C$6:$C$1005,Calculations!P22,1)=0,"",INDEX(EmployeeTrackingSheet!$C$6:$C$1005,Calculations!P22,1)) | W22: =IF(INDEX(EmployeeTrackingSheet!$D$6:$D$1005,Calculations!P22,1)=0,"",INDEX(EmployeeTrackingSheet!$D$6:$D$1005,Calculations!P22,1)) | X22: =IF(INDEX(EmployeeTrackingSheet!$E$6:$E$1005,Calculations!P22,1)=0,"",INDEX(EmployeeTrackingSheet!$E$6:$E$1005,Calculations!P22,1)) | Y22: =IF(INDEX(EmployeeTrackingSheet!$F$6:$F$1005,Calculations!P22,1)=0,"",INDEX(EmployeeTrackingSheet!$F$6:$F$1005,Calculations!P22,1)) | Z22: =IFERROR(WEEKNUM(DATE(YEAR($Q22),$S22,$U22),1)-WEEKNUM(DATE(YEAR($Q22),$S22,1),1)+1,"") | AA22: =IF(INDEX(EmployeeTrackingSheet!$G$6:$G$1005,Calculations!P22,1)=0,"",INDEX(EmployeeTrackingSheet!$G$6:$G$1005,Calculations!P22,1)) | AB22: =IF(INDEX(EmployeeTrackingSheet!$H$6:$H$1005,Calculations!P22,1)=0,"",INDEX(EmployeeTrackingSheet!$H$6:$H$1005,Calculations!P22,1)) | AD22: DECEMBER | AE22: 12 | AH22: =IF(INDEX(Settings!$E$7:$E$106,Calculations!P22,1)=0,"",INDEX(Settings!$E$7:$E$106,Calculations!P22,1)) | AI22: =IF(INDEX(Settings!$F$7:$F$106,Calculations!P22,1)=0,"",INDEX(Settings!$F$7:$F$106,Calculations!P22,1)) | AJ22: =IFERROR(IF(LEN($AH22)>1,SUMIF($V$4:V1016,$AH22,$X$4:X1016)/COUNTIF($V$4:V1016,$AH22),""),"") | AK22: =IFERROR(INDEX(Settings!$J$8:$L$11,MATCH(Calculations!$AJ22,Settings!$J$8:$J$11,1),3),"") | AP22: 17 | AQ22: =IFERROR(INDEX($AR$1:$AR$99,SMALL(INDEX(ISNUMBER($AZ$6:$AZ$99)*ROW($AZ$6:$AZ$99),0,1),COUNTBLANK($AZ$6:$AZ$99)+ROW(AZ17)),1),"") | AR22: =IFERROR(IF($AM$5="All Departments",INDEX(EmployeeTimesheet!$B$7:$C$106,AP22,1),IF(INDEX( EmployeeTimesheet!$C$7:$C$106,ROW(A17),1)=$AR$5,INDEX(EmployeeTimesheet!$B$7:$B$106,AP22,1),"")),"") -> 0 | AS22: =IFERROR(IF($AM$5="All Departments",EmployeeTimesheet!C23,IF(LEN(AR22)>1,EmployeeTimesheet!C23,"")),"") | AT22: =IF(AND(LEN($AS22)>1,AT$5=$AO$5),EmployeeTimesheet!AL29,"") | AU22: =IF(AND(LEN($AS22)>1,AU$5=$AO$5),EmployeeTimesheet!AM29,"") | AV22: =IF(AND(LEN($AS22)>1,AV$5=$AO$5),EmployeeTimesheet!AN29,"") | AW22: =IF(AND(LEN($AS22)>1,AW$5=$AO$5),EmployeeTimesheet!AO29,"") | AX22: =IF(AND(LEN($AS22)>1,AX$5=$AO$5),EmployeeTimesheet!AP29,"") | AY22: =IF(AND(LEN($AS22)>1,AY$5=$AO$5),EmployeeTimesheet!AQ29,"") | AZ22: =IF(SUM(AT22:AY22)>0,1,"")
A23: 10 | B23: =IFERROR(IF(LEN(INDEX(Settings!$C$7:$C$19,A23,1))>0,INDEX(Settings!$C$7:$C$19,A23,1),""),"") | C23: =COUNTIFS($AK$4:$AK$998,C$13,$AI$4:$AI$998,$B23) -> 0 | D23: =COUNTIFS($AK$4:$AK$998,D$13,$AI$4:$AI$998,$B23) -> 0 | E23: =COUNTIFS($AK$4:$AK$998,E$13,$AI$4:$AI$998,$B23) -> 0 | F23: =COUNTIFS($AK$4:$AK$998,F$13,$AI$4:$AI$998,$B23) -> 0 | G23: =$B23 | H23: =IF(LEN(G23)>0,A23,"") | M23: 9 | N23: =IF(LEN(Checklist!C21)>0,Checklist!G21,"") | P23: 20 | Q23: =IF(INDEX(EmployeeTrackingSheet!$B$6:$B$1005,Calculations!P23,1)=0,"",INDEX(EmployeeTrackingSheet!$B$6:$B$1005,Calculations!P23,1)) | R23: =IF(LEN($Q23)=0,"",YEAR($Q23)) | S23: =IF(LEN($Q23)=0,"",MONTH($Q23)) | T23: =IF(LEN($Q23)=0,"",WEEKNUM($Q23)) | U23: =IF(LEN($Q23)=0,"",DAY($Q23)) | V23: =IF(INDEX(EmployeeTrackingSheet!$C$6:$C$1005,Calculations!P23,1)=0,"",INDEX(EmployeeTrackingSheet!$C$6:$C$1005,Calculations!P23,1)) | W23: =IF(INDEX(EmployeeTrackingSheet!$D$6:$D$1005,Calculations!P23,1)=0,"",INDEX(EmployeeTrackingSheet!$D$6:$D$1005,Calculations!P23,1)) | X23: =IF(INDEX(EmployeeTrackingSheet!$E$6:$E$1005,Calculations!P23,1)=0,"",INDEX(EmployeeTrackingSheet!$E$6:$E$1005,Calculations!P23,1)) | Y23: =IF(INDEX(EmployeeTrackingSheet!$F$6:$F$1005,Calculations!P23,1)=0,"",INDEX(EmployeeTrackingSheet!$F$6:$F$1005,Calculations!P23,1)) | Z23: =IFERROR(WEEKNUM(DATE(YEAR($Q23),$S23,$U23),1)-WEEKNUM(DATE(YEAR($Q23),$S23,1),1)+1,"") | AA23: =IF(INDEX(EmployeeTrackingSheet!$G$6:$G$1005,Calculations!P23,1)=0,"",INDEX(EmployeeTrackingSheet!$G$6:$G$1005,Calculations!P23,1)) | AB23: =IF(INDEX(EmployeeTrackingSheet!$H$6:$H$1005,Calculations!P23,1)=0,"",INDEX(EmployeeTrackingSheet!$H$6:$H$1005,Calculations!P23,1)) | AH23: =IF(INDEX(Settings!$E$7:$E$106,Calculations!P23,1)=0,"",INDEX(Settings!$E$7:$E$106,Calculations!P23,1)) | AI23: =IF(INDEX(Settings!$F$7:$F$106,Calculations!P23,1)=0,"",INDEX(Settings!$F$7:$F$106,Calculations!P23,1)) | AJ23: =IFERROR(IF(LEN($AH23)>1,SUMIF($V$4:V1017,$AH23,$X$4:X1017)/COUNTIF($V$4:V1017,$AH23),""),"") | AK23: =IFERROR(INDEX(Settings!$J$8:$L$11,MATCH(Calculations!$AJ23,Settings!$J$8:$J$11,1),3),"") | AP23: 18 | AQ23: =IFERROR(INDEX($AR$1:$AR$99,SMALL(INDEX(ISNUMBER($AZ$6:$AZ$99)*ROW($AZ$6:$AZ$99),0,1),COUNTBLANK($AZ$6:$AZ$99)+ROW(AZ18)),1),"") | AR23: =IFERROR(IF($AM$5="All Departments",INDEX(EmployeeTimesheet!$B$7:$C$106,AP23,1),IF(INDEX( EmployeeTimesheet!$C$7:$C$106,ROW(A18),1)=$AR$5,INDEX(EmployeeTimesheet!$B$7:$B$106,AP23,1),"")),"") -> 0 | AS23: =IFERROR(IF($AM$5="All Departments",EmployeeTimesheet!C24,IF(LEN(AR23)>1,EmployeeTimesheet!C24,"")),"") | AT23: =IF(AND(LEN($AS23)>1,AT$5=$AO$5),EmployeeTimesheet!AL30,"") | AU23: =IF(AND(LEN($AS23)>1,AU$5=$AO$5),EmployeeTimesheet!AM30,"") | AV23: =IF(AND(LEN($AS23)>1,AV$5=$AO$5),EmployeeTimesheet!AN30,"") | AW23: =IF(AND(LEN($AS23)>1,AW$5=$AO$5),EmployeeTimesheet!AO30,"") | AX23: =IF(AND(LEN($AS23)>1,AX$5=$AO$5),EmployeeTimesheet!AP30,"") | AY23: =IF(AND(LEN($AS23)>1,AY$5=$AO$5),EmployeeTimesheet!AQ30,"") | AZ23: =IF(SUM(AT23:AY23)>0,1,"")
A24: 11 | B24: =IFERROR(IF(LEN(INDEX(Settings!$C$7:$C$19,A24,1))>0,INDEX(Settings!$C$7:$C$19,A24,1),""),"") | C24: =COUNTIFS($AK$4:$AK$998,C$13,$AI$4:$AI$998,$B24) -> 0 | D24: =COUNTIFS($AK$4:$AK$998,D$13,$AI$4:$AI$998,$B24) -> 0 | E24: =COUNTIFS($AK$4:$AK$998,E$13,$AI$4:$AI$998,$B24) -> 0 | F24: =COUNTIFS($AK$4:$AK$998,F$13,$AI$4:$AI$998,$B24) -> 0 | G24: =$B24 | H24: =IF(LEN(G24)>0,A24,"") | M24: 10 | N24: =IF(LEN(Checklist!C22)>0,Checklist!G22,"") | P24: 21 | Q24: =IF(INDEX(EmployeeTrackingSheet!$B$6:$B$1005,Calculations!P24,1)=0,"",INDEX(EmployeeTrackingSheet!$B$6:$B$1005,Calculations!P24,1)) | R24: =IF(LEN($Q24)=0,"",YEAR($Q24)) | S24: =IF(LEN($Q24)=0,"",MONTH($Q24)) | T24: =IF(LEN($Q24)=0,"",WEEKNUM($Q24)) | U24: =IF(LEN($Q24)=0,"",DAY($Q24)) | V24: =IF(INDEX(EmployeeTrackingSheet!$C$6:$C$1005,Calculations!P24,1)=0,"",INDEX(EmployeeTrackingSheet!$C$6:$C$1005,Calculations!P24,1)) | W24: =IF(INDEX(EmployeeTrackingSheet!$D$6:$D$1005,Calculations!P24,1)=0,"",INDEX(EmployeeTrackingSheet!$D$6:$D$1005,Calculations!P24,1)) | X24: =IF(INDEX(EmployeeTrackingSheet!$E$6:$E$1005,Calculations!P24,1)=0,"",INDEX(EmployeeTrackingSheet!$E$6:$E$1005,Calculations!P24,1)) | Y24: =IF(INDEX(EmployeeTrackingSheet!$F$6:$F$1005,Calculations!P24,1)=0,"",INDEX(EmployeeTrackingSheet!$F$6:$F$1005,Calculations!P24,1)) | Z24: =IFERROR(WEEKNUM(DATE(YEAR($Q24),$S24,$U24),1)-WEEKNUM(DATE(YEAR($Q24),$S24,1),1)+1,"") | AA24: =IF(INDEX(EmployeeTrackingSheet!$G$6:$G$1005,Calculations!P24,1)=0,"",INDEX(EmployeeTrackingSheet!$G$6:$G$1005,Calculations!P24,1)) | AB24: =IF(INDEX(EmployeeTrackingSheet!$H$6:$H$1005,Calculations!P24,1)=0,"",INDEX(EmployeeTrackingSheet!$H$6:$H$1005,Calculations!P24,1)) | AH24: =IF(INDEX(Settings!$E$7:$E$106,Calculations!P24,1)=0,"",INDEX(Settings!$E$7:$E$106,Calculations!P24,1)) | AI24: =IF(INDEX(Settings!$F$7:$F$106,Calculations!P24,1)=0,"",INDEX(Settings!$F$7:$F$106,Calculations!P24,1)) | AJ24: =IFERROR(IF(LEN($AH24)>1,SUMIF($V$4:V1018,$AH24,$X$4:X1018)/COUNTIF($V$4:V1018,$AH24),""),"") | AK24: =IFERROR(INDEX(Settings!$J$8:$L$11,MATCH(Calculations!$AJ24,Settings!$J$8:$J$11,1),3),"") | AP24: 19 | AQ24: =IFERROR(INDEX($AR$1:$AR$99,SMALL(INDEX(ISNUMBER($AZ$6:$AZ$99)*ROW($AZ$6:$AZ$99),0,1),COUNTBLANK($AZ$6:$AZ$99)+ROW(AZ19)),1),"") | AR24: =IFERROR(IF($AM$5="All Departments",INDEX(EmployeeTimesheet!$B$7:$C$106,AP24,1),IF(INDEX( EmployeeTimesheet!$C$7:$C$106,ROW(A19),1)=$AR$5,INDEX(EmployeeTimesheet!$B$7:$B$106,AP24,1),"")),"") -> 0 | AS24: =IFERROR(IF($AM$5="All Departments",EmployeeTimesheet!C25,IF(LEN(AR24)>1,EmployeeTimesheet!C25,"")),"") | AT24: =IF(AND(LEN($AS24)>1,AT$5=$AO$5),EmployeeTimesheet!AL31,"") | AU24: =IF(AND(LEN($AS24)>1,AU$5=$AO$5),EmployeeTimesheet!AM31,"") | AV24: =IF(AND(LEN($AS24)>1,AV$5=$AO$5),EmployeeTimesheet!AN31,"") | AW24: =IF(AND(LEN($AS24)>1,AW$5=$AO$5),EmployeeTimesheet!AO31,"") | AX24: =IF(AND(LEN($AS24)>1,AX$5=$AO$5),EmployeeTimesheet!AP31,"") | AY24: =IF(AND(LEN($AS24)>1,AY$5=$AO$5),EmployeeTimesheet!AQ31,"") | AZ24: =IF(SUM(AT24:AY24)>0,1,"")
A25: 12 | B25: =IFERROR(IF(LEN(INDEX(Settings!$C$7:$C$19,A25,1))>0,INDEX(Settings!$C$7:$C$19,A25,1),""),"") | C25: =COUNTIFS($AK$4:$AK$998,C$13,$AI$4:$AI$998,$B25) -> 0 | D25: =COUNTIFS($AK$4:$AK$998,D$13,$AI$4:$AI$998,$B25) -> 0 | E25: =COUNTIFS($AK$4:$AK$998,E$13,$AI$4:$AI$998,$B25) -> 0 | F25: =COUNTIFS($AK$4:$AK$998,F$13,$AI$4:$AI$998,$B25) -> 0 | G25: =$B25 | H25: =IF(LEN(G25)>0,A25,"") | M25: 11 | N25: =IF(LEN(Checklist!C23)>0,Checklist!G23,"") | P25: 22 | Q25: =IF(INDEX(EmployeeTrackingSheet!$B$6:$B$1005,Calculations!P25,1)=0,"",INDEX(EmployeeTrackingSheet!$B$6:$B$1005,Calculations!P25,1)) | R25: =IF(LEN($Q25)=0,"",YEAR($Q25)) | S25: =IF(LEN($Q25)=0,"",MONTH($Q25)) | T25: =IF(LEN($Q25)=0,"",WEEKNUM($Q25)) | U25: =IF(LEN($Q25)=0,"",DAY($Q25)) | V25: =IF(INDEX(EmployeeTrackingSheet!$C$6:$C$1005,Calculations!P25,1)=0,"",INDEX(EmployeeTrackingSheet!$C$6:$C$1005,Calculations!P25,1)) | W25: =IF(INDEX(EmployeeTrackingSheet!$D$6:$D$1005,Calculations!P25,1)=0,"",INDEX(EmployeeTrackingSheet!$D$6:$D$1005,Calculations!P25,1)) | X25: =IF(INDEX(EmployeeTrackingSheet!$E$6:$E$1005,Calculations!P25,1)=0,"",INDEX(EmployeeTrackingSheet!$E$6:$E$1005,Calculations!P25,1)) | Y25: =IF(INDEX(EmployeeTrackingSheet!$F$6:$F$1005,Calculations!P25,1)=0,"",INDEX(EmployeeTrackingSheet!$F$6:$F$1005,Calculations!P25,1)) | Z25: =IFERROR(WEEKNUM(DATE(YEAR($Q25),$S25,$U25),1)-WEEKNUM(DATE(YEAR($Q25),$S25,1),1)+1,"") | AA25: =IF(INDEX(EmployeeTrackingSheet!$G$6:$G$1005,Calculations!P25,1)=0,"",INDEX(EmployeeTrackingSheet!$G$6:$G$1005,Calculations!P25,1)) | AB25: =IF(INDEX(EmployeeTrackingSheet!$H$6:$H$1005,Calculations!P25,1)=0,"",INDEX(EmployeeTrackingSheet!$H$6:$H$1005,Calculations!P25,1)) | AH25: =IF(INDEX(Settings!$E$7:$E$106,Calculations!P25,1)=0,"",INDEX(Settings!$E$7:$E$106,Calculations!P25,1)) | AI25: =IF(INDEX(Settings!$F$7:$F$106,Calculations!P25,1)=0,"",INDEX(Settings!$F$7:$F$106,Calculations!P25,1)) | AJ25: =IFERROR(IF(LEN($AH25)>1,SUMIF($V$4:V1019,$AH25,$X$4:X1019)/COUNTIF($V$4:V1019,$AH25),""),"") | AK25: =IFERROR(INDEX(Settings!$J$8:$L$11,MATCH(Calculations!$AJ25,Settings!$J$8:$J$11,1),3),"") | AP25: 20 | AQ25: =IFERROR(INDEX($AR$1:$AR$99,SMALL(INDEX(ISNUMBER($AZ$6:$AZ$99)*ROW($AZ$6:$AZ$99),0,1),COUNTBLANK($AZ$6:$AZ$99)+ROW(AZ20)),1),"") | AR25: =IFERROR(IF($AM$5="All Departments",INDEX(EmployeeTimesheet!$B$7:$C$106,AP25,1),IF(INDEX( EmployeeTimesheet!$C$7:$C$106,ROW(A20),1)=$AR$5,INDEX(EmployeeTimesheet!$B$7:$B$106,AP25,1),"")),"") -> 0 | AS25: =IFERROR(IF($AM$5="All Departments",EmployeeTimesheet!C26,IF(LEN(AR25)>1,EmployeeTimesheet!C26,"")),"") | AT25: =IF(AND(LEN($AS25)>1,AT$5=$AO$5),EmployeeTimesheet!AL32,"") | AU25: =IF(AND(LEN($AS25)>1,AU$5=$AO$5),EmployeeTimesheet!AM32,"") | AV25: =IF(AND(LEN($AS25)>1,AV$5=$AO$5),EmployeeTimesheet!AN32,"") | AW25: =IF(AND(LEN($AS25)>1,AW$5=$AO$5),EmployeeTimesheet!AO32,"") | AX25: =IF(AND(LEN($AS25)>1,AX$5=$AO$5),EmployeeTimesheet!AP32,"") | AY25: =IF(AND(LEN($AS25)>1,AY$5=$AO$5),EmployeeTimesheet!AQ32,"") | AZ25: =IF(SUM(AT25:AY25)>0,1,"")
A26: 13 | B26: =IFERROR(IF(LEN(INDEX(Settings!$C$7:$C$19,A26,1))>0,INDEX(Settings!$C$7:$C$19,A26,1),""),"") | C26: =COUNTIFS($AK$4:$AK$998,C$13,$AI$4:$AI$998,$B26) -> 0 | D26: =COUNTIFS($AK$4:$AK$998,D$13,$AI$4:$AI$998,$B26) -> 0 | E26: =COUNTIFS($AK$4:$AK$998,E$13,$AI$4:$AI$998,$B26) -> 0 | F26: =COUNTIFS($AK$4:$AK$998,F$13,$AI$4:$AI$998,$B26) -> 0 | G26: =$B26 | H26: =IF(LEN(G26)>0,A26,"") | M26: 12 | N26: =IF(LEN(Checklist!C24)>0,Checklist!G24,"") | P26: 23 | Q26: =IF(INDEX(EmployeeTrackingSheet!$B$6:$B$1005,Calculations!P26,1)=0,"",INDEX(EmployeeTrackingSheet!$B$6:$B$1005,Calculations!P26,1)) | R26: =IF(LEN($Q26)=0,"",YEAR($Q26)) | S26: =IF(LEN($Q26)=0,"",MONTH($Q26)) | T26: =IF(LEN($Q26)=0,"",WEEKNUM($Q26)) | U26: =IF(LEN($Q26)=0,"",DAY($Q26)) | V26: =IF(INDEX(EmployeeTrackingSheet!$C$6:$C$1005,Calculations!P26,1)=0,"",INDEX(EmployeeTrackingSheet!$C$6:$C$1005,Calculations!P26,1)) | W26: =IF(INDEX(EmployeeTrackingSheet!$D$6:$D$1005,Calculations!P26,1)=0,"",INDEX(EmployeeTrackingSheet!$D$6:$D$1005,Calculations!P26,1)) | X26: =IF(INDEX(EmployeeTrackingSheet!$E$6:$E$1005,Calculations!P26,1)=0,"",INDEX(EmployeeTrackingSheet!$E$6:$E$1005,Calculations!P26,1)) | Y26: =IF(INDEX(EmployeeTrackingSheet!$F$6:$F$1005,Calculations!P26,1)=0,"",INDEX(EmployeeTrackingSheet!$F$6:$F$1005,Calculations!P26,1)) | Z26: =IFERROR(WEEKNUM(DATE(YEAR($Q26),$S26,$U26),1)-WEEKNUM(DATE(YEAR($Q26),$S26,1),1)+1,"") | AA26: =IF(INDEX(EmployeeTrackingSheet!$G$6:$G$1005,Calculations!P26,1)=0,"",INDEX(EmployeeTrackingSheet!$G$6:$G$1005,Calculations!P26,1)) | AB26: =IF(INDEX(EmployeeTrackingSheet!$H$6:$H$1005,Calculations!P26,1)=0,"",INDEX(EmployeeTrackingSheet!$H$6:$H$1005,Calculations!P26,1)) | AH26: =IF(INDEX(Settings!$E$7:$E$106,Calculations!P26,1)=0,"",INDEX(Settings!$E$7:$E$106,Calculations!P26,1)) | AI26: =IF(INDEX(Settings!$F$7:$F$106,Calculations!P26,1)=0,"",INDEX(Settings!$F$7:$F$106,Calculations!P26,1)) | AJ26: =IFERROR(IF(LEN($AH26)>1,SUMIF($V$4:V1020,$AH26,$X$4:X1020)/COUNTIF($V$4:V1020,$AH26),""),"") | AK26: =IFERROR(INDEX(Settings!$J$8:$L$11,MATCH(Calculations!$AJ26,Settings!$J$8:$J$11,1),3),"") | AP26: 21 | AQ26: =IFERROR(INDEX($AR$1:$AR$99,SMALL(INDEX(ISNUMBER($AZ$6:$AZ$99)*ROW($AZ$6:$AZ$99),0,1),COUNTBLANK($AZ$6:$AZ$99)+ROW(AZ21)),1),"") | AR26: =IFERROR(IF($AM$5="All Departments",INDEX(EmployeeTimesheet!$B$7:$C$106,AP26,1),IF(INDEX( EmployeeTimesheet!$C$7:$C$106,ROW(A21),1)=$AR$5,INDEX(EmployeeTimesheet!$B$7:$B$106,AP26,1),"")),"") -> 0 | AS26: =IFERROR(IF($AM$5="All Departments",EmployeeTimesheet!C27,IF(LEN(AR26)>1,EmployeeTimesheet!C27,"")),"") | AT26: =IF(AND(LEN($AS26)>1,AT$5=$AO$5),EmployeeTimesheet!AL33,"") | AU26: =IF(AND(LEN($AS26)>1,AU$5=$AO$5),EmployeeTimesheet!AM33,"") | AV26: =IF(AND(LEN($AS26)>1,AV$5=$AO$5),EmployeeTimesheet!AN33,"") | AW26: =IF(AND(LEN($AS26)>1,AW$5=$AO$5),EmployeeTimesheet!AO33,"") | AX26: =IF(AND(LEN($AS26)>1,AX$5=$AO$5),EmployeeTimesheet!AP33,"") | AY26: =IF(AND(LEN($AS26)>1,AY$5=$AO$5),EmployeeTimesheet!AQ33,"") | AZ26: =IF(SUM(AT26:AY26)>0,1,"")
H27: =MAX(H13:H26) -> 8 | M27: 13 | N27: =IF(LEN(Checklist!C25)>0,Checklist!G25,"") | P27: 24 | Q27: =IF(INDEX(EmployeeTrackingSheet!$B$6:$B$1005,Calculations!P27,1)=0,"",INDEX(EmployeeTrackingSheet!$B$6:$B$1005,Calculations!P27,1)) | R27: =IF(LEN($Q27)=0,"",YEAR($Q27)) | S27: =IF(LEN($Q27)=0,"",MONTH($Q27)) | T27: =IF(LEN($Q27)=0,"",WEEKNUM($Q27)) | U27: =IF(LEN($Q27)=0,"",DAY($Q27)) | V27: =IF(INDEX(EmployeeTrackingSheet!$C$6:$C$1005,Calculations!P27,1)=0,"",INDEX(EmployeeTrackingSheet!$C$6:$C$1005,Calculations!P27,1)) | W27: =IF(INDEX(EmployeeTrackingSheet!$D$6:$D$1005,Calculations!P27,1)=0,"",INDEX(EmployeeTrackingSheet!$D$6:$D$1005,Calculations!P27,1)) | X27: =IF(INDEX(EmployeeTrackingSheet!$E$6:$E$1005,Calculations!P27,1)=0,"",INDEX(EmployeeTrackingSheet!$E$6:$E$1005,Calculations!P27,1)) | Y27: =IF(INDEX(EmployeeTrackingSheet!$F$6:$F$1005,Calculations!P27,1)=0,"",INDEX(EmployeeTrackingSheet!$F$6:$F$1005,Calculations!P27,1)) | Z27: =IFERROR(WEEKNUM(DATE(YEAR($Q27),$S27,$U27),1)-WEEKNUM(DATE(YEAR($Q27),$S27,1),1)+1,"") | AA27: =IF(INDEX(EmployeeTrackingSheet!$G$6:$G$1005,Calculations!P27,1)=0,"",INDEX(EmployeeTrackingSheet!$G$6:$G$1005,Calculations!P27,1)) | AB27: =IF(INDEX(EmployeeTrackingSheet!$H$6:$H$1005,Calculations!P27,1)=0,"",INDEX(EmployeeTrackingSheet!$H$6:$H$1005,Calculations!P27,1)) | AH27: =IF(INDEX(Settings!$E$7:$E$106,Calculations!P27,1)=0,"",INDEX(Settings!$E$7:$E$106,Calculations!P27,1)) | AI27: =IF(INDEX(Settings!$F$7:$F$106,Calculations!P27,1)=0,"",INDEX(Settings!$F$7:$F$106,Calculations!P27,1)) | AJ27: =IFERROR(IF(LEN($AH27)>1,SUMIF($V$4:V1021,$AH27,$X$4:X1021)/COUNTIF($V$4:V1021,$AH27),""),"") | AK27: =IFERROR(INDEX(Settings!$J$8:$L$11,MATCH(Calculations!$AJ27,Settings!$J$8:$J$11,1),3),"") | AP27: 22 | AQ27: =IFERROR(INDEX($AR$1:$AR$99,SMALL(INDEX(ISNUMBER($AZ$6:$AZ$99)*ROW($AZ$6:$AZ$99),0,1),COUNTBLANK($AZ$6:$AZ$99)+ROW(AZ22)),1),"") | AR27: =IFERROR(IF($AM$5="All Departments",INDEX(EmployeeTimesheet!$B$7:$C$106,AP27,1),IF(INDEX( EmployeeTimesheet!$C$7:$C$106,ROW(A22),1)=$AR$5,INDEX(EmployeeTimesheet!$B$7:$B$106,AP27,1),"")),"") -> 0 | AS27: =IFERROR(IF($AM$5="All Departments",EmployeeTimesheet!C28,IF(LEN(AR27)>1,EmployeeTimesheet!C28,"")),"") | AT27: =IF(AND(LEN($AS27)>1,AT$5=$AO$5),EmployeeTimesheet!AL34,"") | AU27: =IF(AND(LEN($AS27)>1,AU$5=$AO$5),EmployeeTimesheet!AM34,"") | AV27: =IF(AND(LEN($AS27)>1,AV$5=$AO$5),EmployeeTimesheet!AN34,"") | AW27: =IF(AND(LEN($AS27)>1,AW$5=$AO$5),EmployeeTimesheet!AO34,"") | AX27: =IF(AND(LEN($AS27)>1,AX$5=$AO$5),EmployeeTimesheet!AP34,"") | AY27: =IF(AND(LEN($AS27)>1,AY$5=$AO$5),EmployeeTimesheet!AQ34,"") | AZ27: =IF(SUM(AT27:AY27)>0,1,"")
M28: 14 | N28: =IF(LEN(Checklist!C26)>0,Checklist!G26,"") | P28: 25 | Q28: =IF(INDEX(EmployeeTrackingSheet!$B$6:$B$1005,Calculations!P28,1)=0,"",INDEX(EmployeeTrackingSheet!$B$6:$B$1005,Calculations!P28,1)) | R28: =IF(LEN($Q28)=0,"",YEAR($Q28)) | S28: =IF(LEN($Q28)=0,"",MONTH($Q28)) | T28: =IF(LEN($Q28)=0,"",WEEKNUM($Q28)) | U28: =IF(LEN($Q28)=0,"",DAY($Q28)) | V28: =IF(INDEX(EmployeeTrackingSheet!$C$6:$C$1005,Calculations!P28,1)=0,"",INDEX(EmployeeTrackingSheet!$C$6:$C$1005,Calculations!P28,1)) | W28: =IF(INDEX(EmployeeTrackingSheet!$D$6:$D$1005,Calculations!P28,1)=0,"",INDEX(EmployeeTrackingSheet!$D$6:$D$1005,Calculations!P28,1)) | X28: =IF(INDEX(EmployeeTrackingSheet!$E$6:$E$1005,Calculations!P28,1)=0,"",INDEX(EmployeeTrackingSheet!$E$6:$E$1005,Calculations!P28,1)) | Y28: =IF(INDEX(EmployeeTrackingSheet!$F$6:$F$1005,Calculations!P28,1)=0,"",INDEX(EmployeeTrackingSheet!$F$6:$F$1005,Calculations!P28,1)) | Z28: =IFERROR(WEEKNUM(DATE(YEAR($Q28),$S28,$U28),1)-WEEKNUM(DATE(YEAR($Q28),$S28,1),1)+1,"") | AA28: =IF(INDEX(EmployeeTrackingSheet!$G$6:$G$1005,Calculations!P28,1)=0,"",INDEX(EmployeeTrackingSheet!$G$6:$G$1005,Calculations!P28,1)) | AB28: =IF(INDEX(EmployeeTrackingSheet!$H$6:$H$1005,Calculations!P28,1)=0,"",INDEX(EmployeeTrackingSheet!$H$6:$H$1005,Calculations!P28,1)) | AH28: =IF(INDEX(Settings!$E$7:$E$106,Calculations!P28,1)=0,"",INDEX(Settings!$E$7:$E$106,Calculations!P28,1)) | AI28: =IF(INDEX(Settings!$F$7:$F$106,Calculations!P28,1)=0,"",INDEX(Settings!$F$7:$F$106,Calculations!P28,1)) | AJ28: =IFERROR(IF(LEN($AH28)>1,SUMIF($V$4:V1022,$AH28,$X$4:X1022)/COUNTIF($V$4:V1022,$AH28),""),"") | AK28: =IFERROR(INDEX(Settings!$J$8:$L$11,MATCH(Calculations!$AJ28,Settings!$J$8:$J$11,1),3),"") | AP28: 23 | AQ28: =IFERROR(INDEX($AR$1:$AR$99,SMALL(INDEX(ISNUMBER($AZ$6:$AZ$99)*ROW($AZ$6:$AZ$99),0,1),COUNTBLANK($AZ$6:$AZ$99)+ROW(AZ23)),1),"") | AR28: =IFERROR(IF($AM$5="All Departments",INDEX(EmployeeTimesheet!$B$7:$C$106,AP28,1),IF(INDEX( EmployeeTimesheet!$C$7:$C$106,ROW(A23),1)=$AR$5,INDEX(EmployeeTimesheet!$B$7:$B$106,AP28,1),"")),"") -> 0 | AS28: =IFERROR(IF($AM$5="All Departments",EmployeeTimesheet!C29,IF(LEN(AR28)>1,EmployeeTimesheet!C29,"")),"") | AT28: =IF(AND(LEN($AS28)>1,AT$5=$AO$5),EmployeeTimesheet!AL35,"") | AU28: =IF(AND(LEN($AS28)>1,AU$5=$AO$5),EmployeeTimesheet!AM35,"") | AV28: =IF(AND(LEN($AS28)>1,AV$5=$AO$5),EmployeeTimesheet!AN35,"") | AW28: =IF(AND(LEN($AS28)>1,AW$5=$AO$5),EmployeeTimesheet!AO35,"") | AX28: =IF(AND(LEN($AS28)>1,AX$5=$AO$5),EmployeeTimesheet!AP35,"") | AY28: =IF(AND(LEN($AS28)>1,AY$5=$AO$5),EmployeeTimesheet!AQ35,"") | AZ28: =IF(SUM(AT28:AY28)>0,1,"")
M29: 15 | N29: =IF(LEN(Checklist!C27)>0,Checklist!G27,"") | P29: 26 | Q29: =IF(INDEX(EmployeeTrackingSheet!$B$6:$B$1005,Calculations!P29,1)=0,"",INDEX(EmployeeTrackingSheet!$B$6:$B$1005,Calculations!P29,1)) | R29: =IF(LEN($Q29)=0,"",YEAR($Q29)) | S29: =IF(LEN($Q29)=0,"",MONTH($Q29)) | T29: =IF(LEN($Q29)=0,"",WEEKNUM($Q29)) | U29: =IF(LEN($Q29)=0,"",DAY($Q29)) | V29: =IF(INDEX(EmployeeTrackingSheet!$C$6:$C$1005,Calculations!P29,1)=0,"",INDEX(EmployeeTrackingSheet!$C$6:$C$1005,Calculations!P29,1)) | W29: =IF(INDEX(EmployeeTrackingSheet!$D$6:$D$1005,Calculations!P29,1)=0,"",INDEX(EmployeeTrackingSheet!$D$6:$D$1005,Calculations!P29,1)) | X29: =IF(INDEX(EmployeeTrackingSheet!$E$6:$E$1005,Calculations!P29,1)=0,"",INDEX(EmployeeTrackingSheet!$E$6:$E$1005,Calculations!P29,1)) | Y29: =IF(INDEX(EmployeeTrackingSheet!$F$6:$F$1005,Calculations!P29,1)=0,"",INDEX(EmployeeTrackingSheet!$F$6:$F$1005,Calculations!P29,1)) | Z29: =IFERROR(WEEKNUM(DATE(YEAR($Q29),$S29,$U29),1)-WEEKNUM(DATE(YEAR($Q29),$S29,1),1)+1,"") | AA29: =IF(INDEX(EmployeeTrackingSheet!$G$6:$G$1005,Calculations!P29,1)=0,"",INDEX(EmployeeTrackingSheet!$G$6:$G$1005,Calculations!P29,1)) | AB29: =IF(INDEX(EmployeeTrackingSheet!$H$6:$H$1005,Calculations!P29,1)=0,"",INDEX(EmployeeTrackingSheet!$H$6:$H$1005,Calculations!P29,1)) | AH29: =IF(INDEX(Settings!$E$7:$E$106,Calculations!P29,1)=0,"",INDEX(Settings!$E$7:$E$106,Calculations!P29,1)) | AI29: =IF(INDEX(Settings!$F$7:$F$106,Calculations!P29,1)=0,"",INDEX(Settings!$F$7:$F$106,Calculations!P29,1)) | AJ29: =IFERROR(IF(LEN($AH29)>1,SUMIF($V$4:V1023,$AH29,$X$4:X1023)/COUNTIF($V$4:V1023,$AH29),""),"") | AK29: =IFERROR(INDEX(Settings!$J$8:$L$11,MATCH(Calculations!$AJ29,Settings!$J$8:$J$11,1),3),"") | AP29: 24 | AQ29: =IFERROR(INDEX($AR$1:$AR$99,SMALL(INDEX(ISNUMBER($AZ$6:$AZ$99)*ROW($AZ$6:$AZ$99),0,1),COUNTBLANK($AZ$6:$AZ$99)+ROW(AZ24)),1),"") | AR29: =IFERROR(IF($AM$5="All Departments",INDEX(EmployeeTimesheet!$B$7:$C$106,AP29,1),IF(INDEX( EmployeeTimesheet!$C$7:$C$106,ROW(A24),1)=$AR$5,INDEX(EmployeeTimesheet!$B$7:$B$106,AP29,1),"")),"") -> 0 | AS29: =IFERROR(IF($AM$5="All Departments",EmployeeTimesheet!C30,IF(LEN(AR29)>1,EmployeeTimesheet!C30,"")),"") | AT29: =IF(AND(LEN($AS29)>1,AT$5=$AO$5),EmployeeTimesheet!AL36,"") | AU29: =IF(AND(LEN($AS29)>1,AU$5=$AO$5),EmployeeTimesheet!AM36,"") | AV29: =IF(AND(LEN($AS29)>1,AV$5=$AO$5),EmployeeTimesheet!AN36,"") | AW29: =IF(AND(LEN($AS29)>1,AW$5=$AO$5),EmployeeTimesheet!AO36,"") | AX29: =IF(AND(LEN($AS29)>1,AX$5=$AO$5),EmployeeTimesheet!AP36,"") | AY29: =IF(AND(LEN($AS29)>1,AY$5=$AO$5),EmployeeTimesheet!AQ36,"") | AZ29: =IF(SUM(AT29:AY29)>0,1,"")
M30: 16 | N30: =IF(LEN(Checklist!C28)>0,Checklist!G28,"") | P30: 27 | Q30: =IF(INDEX(EmployeeTrackingSheet!$B$6:$B$1005,Calculations!P30,1)=0,"",INDEX(EmployeeTrackingSheet!$B$6:$B$1005,Calculations!P30,1)) | R30: =IF(LEN($Q30)=0,"",YEAR($Q30)) | S30: =IF(LEN($Q30)=0,"",MONTH($Q30)) | T30: =IF(LEN($Q30)=0,"",WEEKNUM($Q30)) | U30: =IF(LEN($Q30)=0,"",DAY($Q30)) | V30: =IF(INDEX(EmployeeTrackingSheet!$C$6:$C$1005,Calculations!P30,1)=0,"",INDEX(EmployeeTrackingSheet!$C$6:$C$1005,Calculations!P30,1)) | W30: =IF(INDEX(EmployeeTrackingSheet!$D$6:$D$1005,Calculations!P30,1)=0,"",INDEX(EmployeeTrackingSheet!$D$6:$D$1005,Calculations!P30,1)) | X30: =IF(INDEX(EmployeeTrackingSheet!$E$6:$E$1005,Calculations!P30,1)=0,"",INDEX(EmployeeTrackingSheet!$E$6:$E$1005,Calculations!P30,1)) | Y30: =IF(INDEX(EmployeeTrackingSheet!$F$6:$F$1005,Calculations!P30,1)=0,"",INDEX(EmployeeTrackingSheet!$F$6:$F$1005,Calculations!P30,1)) | Z30: =IFERROR(WEEKNUM(DATE(YEAR($Q30),$S30,$U30),1)-WEEKNUM(DATE(YEAR($Q30),$S30,1),1)+1,"") | AA30: =IF(INDEX(EmployeeTrackingSheet!$G$6:$G$1005,Calculations!P30,1)=0,"",INDEX(EmployeeTrackingSheet!$G$6:$G$1005,Calculations!P30,1)) | AB30: =IF(INDEX(EmployeeTrackingSheet!$H$6:$H$1005,Calculations!P30,1)=0,"",INDEX(EmployeeTrackingSheet!$H$6:$H$1005,Calculations!P30,1)) | AH30: =IF(INDEX(Settings!$E$7:$E$106,Calculations!P30,1)=0,"",INDEX(Settings!$E$7:$E$106,Calculations!P30,1)) | AI30: =IF(INDEX(Settings!$F$7:$F$106,Calculations!P30,1)=0,"",INDEX(Settings!$F$7:$F$106,Calculations!P30,1)) | AJ30: =IFERROR(IF(LEN($AH30)>1,SUMIF($V$4:V1024,$AH30,$X$4:X1024)/COUNTIF($V$4:V1024,$AH30),""),"") | AK30: =IFERROR(INDEX(Settings!$J$8:$L$11,MATCH(Calculations!$AJ30,Settings!$J$8:$J$11,1),3),"") | AP30: 25 | AQ30: =IFERROR(INDEX($AR$1:$AR$99,SMALL(INDEX(ISNUMBER($AZ$6:$AZ$99)*ROW($AZ$6:$AZ$99),0,1),COUNTBLANK($AZ$6:$AZ$99)+ROW(AZ25)),1),"") | AR30: =IFERROR(IF($AM$5="All Departments",INDEX(EmployeeTimesheet!$B$7:$C$106,AP30,1),IF(INDEX( EmployeeTimesheet!$C$7:$C$106,ROW(A25),1)=$AR$5,INDEX(EmployeeTimesheet!$B$7:$B$106,AP30,1),"")),"") -> 0 | AS30: =IFERROR(IF($AM$5="All Departments",EmployeeTimesheet!C31,IF(LEN(AR30)>1,EmployeeTimesheet!C31,"")),"") | AT30: =IF(AND(LEN($AS30)>1,AT$5=$AO$5),EmployeeTimesheet!AL37,"") | AU30: =IF(AND(LEN($AS30)>1,AU$5=$AO$5),EmployeeTimesheet!AM37,"") | AV30: =IF(AND(LEN($AS30)>1,AV$5=$AO$5),EmployeeTimesheet!AN37,"") | AW30: =IF(AND(LEN($AS30)>1,AW$5=$AO$5),EmployeeTimesheet!AO37,"") | AX30: =IF(AND(LEN($AS30)>1,AX$5=$AO$5),EmployeeTimesheet!AP37,"") | AY30: =IF(AND(LEN($AS30)>1,AY$5=$AO$5),EmployeeTimesheet!AQ37,"") | AZ30: =IF(SUM(AT30:AY30)>0,1,"")
M31: 17 | N31: =IF(LEN(Checklist!C29)>0,Checklist!G29,"") | P31: 28 | Q31: =IF(INDEX(EmployeeTrackingSheet!$B$6:$B$1005,Calculations!P31,1)=0,"",INDEX(EmployeeTrackingSheet!$B$6:$B$1005,Calculations!P31,1)) | R31: =IF(LEN($Q31)=0,"",YEAR($Q31)) | S31: =IF(LEN($Q31)=0,"",MONTH($Q31)) | T31: =IF(LEN($Q31)=0,"",WEEKNUM($Q31)) | U31: =IF(LEN($Q31)=0,"",DAY($Q31)) | V31: =IF(INDEX(EmployeeTrackingSheet!$C$6:$C$1005,Calculations!P31,1)=0,"",INDEX(EmployeeTrackingSheet!$C$6:$C$1005,Calculations!P31,1)) | W31: =IF(INDEX(EmployeeTrackingSheet!$D$6:$D$1005,Calculations!P31,1)=0,"",INDEX(EmployeeTrackingSheet!$D$6:$D$1005,Calculations!P31,1)) | X31: =IF(INDEX(EmployeeTrackingSheet!$E$6:$E$1005,Calculations!P31,1)=0,"",INDEX(EmployeeTrackingSheet!$E$6:$E$1005,Calculations!P31,1)) | Y31: =IF(INDEX(EmployeeTrackingSheet!$F$6:$F$1005,Calculations!P31,1)=0,"",INDEX(EmployeeTrackingSheet!$F$6:$F$1005,Calculations!P31,1)) | Z31: =IFERROR(WEEKNUM(DATE(YEAR($Q31),$S31,$U31),1)-WEEKNUM(DATE(YEAR($Q31),$S31,1),1)+1,"") | AA31: =IF(INDEX(EmployeeTrackingSheet!$G$6:$G$1005,Calculations!P31,1)=0,"",INDEX(EmployeeTrackingSheet!$G$6:$G$1005,Calculations!P31,1)) | AB31: =IF(INDEX(EmployeeTrackingSheet!$H$6:$H$1005,Calculations!P31,1)=0,"",INDEX(EmployeeTrackingSheet!$H$6:$H$1005,Calculations!P31,1)) | AH31: =IF(INDEX(Settings!$E$7:$E$106,Calculations!P31,1)=0,"",INDEX(Settings!$E$7:$E$106,Calculations!P31,1)) | AI31: =IF(INDEX(Settings!$F$7:$F$106,Calculations!P31,1)=0,"",INDEX(Settings!$F$7:$F$106,Calculations!P31,1)) | AJ31: =IFERROR(IF(LEN($AH31)>1,SUMIF($V$4:V1025,$AH31,$X$4:X1025)/COUNTIF($V$4:V1025,$AH31),""),"") | AK31: =IFERROR(INDEX(Settings!$J$8:$L$11,MATCH(Calculations!$AJ31,Settings!$J$8:$J$11,1),3),"") | AP31: 26 | AQ31: =IFERROR(INDEX($AR$1:$AR$99,SMALL(INDEX(ISNUMBER($AZ$6:$AZ$99)*ROW($AZ$6:$AZ$99),0,1),COUNTBLANK($AZ$6:$AZ$99)+ROW(AZ26)),1),"") | AR31: =IFERROR(IF($AM$5="All Departments",INDEX(EmployeeTimesheet!$B$7:$C$106,AP31,1),IF(INDEX( EmployeeTimesheet!$C$7:$C$106,ROW(A26),1)=$AR$5,INDEX(EmployeeTimesheet!$B$7:$B$106,AP31,1),"")),"") -> 0 | AS31: =IFERROR(IF($AM$5="All Departments",EmployeeTimesheet!C32,IF(LEN(AR31)>1,EmployeeTimesheet!C32,"")),"") | AT31: =IF(AND(LEN($AS31)>1,AT$5=$AO$5),EmployeeTimesheet!AL38,"") | AU31: =IF(AND(LEN($AS31)>1,AU$5=$AO$5),EmployeeTimesheet!AM38,"") | AV31: =IF(AND(LEN($AS31)>1,AV$5=$AO$5),EmployeeTimesheet!AN38,"") | AW31: =IF(AND(LEN($AS31)>1,AW$5=$AO$5),EmployeeTimesheet!AO38,"") | AX31: =IF(AND(LEN($AS31)>1,AX$5=$AO$5),EmployeeTimesheet!AP38,"") | AY31: =IF(AND(LEN($AS31)>1,AY$5=$AO$5),EmployeeTimesheet!AQ38,"") | AZ31: =IF(SUM(AT31:AY31)>0,1,"")
M32: 18 | N32: =IF(LEN(Checklist!C30)>0,Checklist!G30,"") | P32: 29 | Q32: =IF(INDEX(EmployeeTrackingSheet!$B$6:$B$1005,Calculations!P32,1)=0,"",INDEX(EmployeeTrackingSheet!$B$6:$B$1005,Calculations!P32,1)) | R32: =IF(LEN($Q32)=0,"",YEAR($Q32)) | S32: =IF(LEN($Q32)=0,"",MONTH($Q32)) | T32: =IF(LEN($Q32)=0,"",WEEKNUM($Q32)) | U32: =IF(LEN($Q32)=0,"",DAY($Q32)) | V32: =IF(INDEX(EmployeeTrackingSheet!$C$6:$C$1005,Calculations!P32,1)=0,"",INDEX(EmployeeTrackingSheet!$C$6:$C$1005,Calculations!P32,1)) | W32: =IF(INDEX(EmployeeTrackingSheet!$D$6:$D$1005,Calculations!P32,1)=0,"",INDEX(EmployeeTrackingSheet!$D$6:$D$1005,Calculations!P32,1)) | X32: =IF(INDEX(EmployeeTrackingSheet!$E$6:$E$1005,Calculations!P32,1)=0,"",INDEX(EmployeeTrackingSheet!$E$6:$E$1005,Calculations!P32,1)) | Y32: =IF(INDEX(EmployeeTrackingSheet!$F$6:$F$1005,Calculations!P32,1)=0,"",INDEX(EmployeeTrackingSheet!$F$6:$F$1005,Calculations!P32,1)) | Z32: =IFERROR(WEEKNUM(DATE(YEAR($Q32),$S32,$U32),1)-WEEKNUM(DATE(YEAR($Q32),$S32,1),1)+1,"") | AA32: =IF(INDEX(EmployeeTrackingSheet!$G$6:$G$1005,Calculations!P32,1)=0,"",INDEX(EmployeeTrackingSheet!$G$6:$G$1005,Calculations!P32,1)) | AB32: =IF(INDEX(EmployeeTrackingSheet!$H$6:$H$1005,Calculations!P32,1)=0,"",INDEX(EmployeeTrackingSheet!$H$6:$H$1005,Calculations!P32,1)) | AH32: =IF(INDEX(Settings!$E$7:$E$106,Calculations!P32,1)=0,"",INDEX(Settings!$E$7:$E$106,Calculations!P32,1)) | AI32: =IF(INDEX(Settings!$F$7:$F$106,Calculations!P32,1)=0,"",INDEX(Settings!$F$7:$F$106,Calculations!P32,1)) | AJ32: =IFERROR(IF(LEN($AH32)>1,SUMIF($V$4:V1026,$AH32,$X$4:X1026)/COUNTIF($V$4:V1026,$AH32),""),"") | AK32: =IFERROR(INDEX(Settings!$J$8:$L$11,MATCH(Calculations!$AJ32,Settings!$J$8:$J$11,1),3),"") | AP32: 27 | AQ32: =IFERROR(INDEX($AR$1:$AR$99,SMALL(INDEX(ISNUMBER($AZ$6:$AZ$99)*ROW($AZ$6:$AZ$99),0,1),COUNTBLANK($AZ$6:$AZ$99)+ROW(AZ27)),1),"") | AR32: =IFERROR(IF($AM$5="All Departments",INDEX(EmployeeTimesheet!$B$7:$C$106,AP32,1),IF(INDEX( EmployeeTimesheet!$C$7:$C$106,ROW(A27),1)=$AR$5,INDEX(EmployeeTimesheet!$B$7:$B$106,AP32,1),"")),"") -> 0 | AS32: =IFERROR(IF($AM$5="All Departments",EmployeeTimesheet!C33,IF(LEN(AR32)>1,EmployeeTimesheet!C33,"")),"") | AT32: =IF(AND(LEN($AS32)>1,AT$5=$AO$5),EmployeeTimesheet!AL39,"") | AU32: =IF(AND(LEN($AS32)>1,AU$5=$AO$5),EmployeeTimesheet!AM39,"") | AV32: =IF(AND(LEN($AS32)>1,AV$5=$AO$5),EmployeeTimesheet!AN39,"") | AW32: =IF(AND(LEN($AS32)>1,AW$5=$AO$5),EmployeeTimesheet!AO39,"") | AX32: =IF(AND(LEN($AS32)>1,AX$5=$AO$5),EmployeeTimesheet!AP39,"") | AY32: =IF(AND(LEN($AS32)>1,AY$5=$AO$5),EmployeeTimesheet!AQ39,"") | AZ32: =IF(SUM(AT32:AY32)>0,1,"")
M33: 19 | N33: =IF(LEN(Checklist!C31)>0,Checklist!G31,"") | P33: 30 | Q33: =IF(INDEX(EmployeeTrackingSheet!$B$6:$B$1005,Calculations!P33,1)=0,"",INDEX(EmployeeTrackingSheet!$B$6:$B$1005,Calculations!P33,1)) | R33: =IF(LEN($Q33)=0,"",YEAR($Q33)) | S33: =IF(LEN($Q33)=0,"",MONTH($Q33)) | T33: =IF(LEN($Q33)=0,"",WEEKNUM($Q33)) | U33: =IF(LEN($Q33)=0,"",DAY($Q33)) | V33: =IF(INDEX(EmployeeTrackingSheet!$C$6:$C$1005,Calculations!P33,1)=0,"",INDEX(EmployeeTrackingSheet!$C$6:$C$1005,Calculations!P33,1)) | W33: =IF(INDEX(EmployeeTrackingSheet!$D$6:$D$1005,Calculations!P33,1)=0,"",INDEX(EmployeeTrackingSheet!$D$6:$D$1005,Calculations!P33,1)) | X33: =IF(INDEX(EmployeeTrackingSheet!$E$6:$E$1005,Calculations!P33,1)=0,"",INDEX(EmployeeTrackingSheet!$E$6:$E$1005,Calculations!P33,1)) | Y33: =IF(INDEX(EmployeeTrackingSheet!$F$6:$F$1005,Calculations!P33,1)=0,"",INDEX(EmployeeTrackingSheet!$F$6:$F$1005,Calculations!P33,1)) | Z33: =IFERROR(WEEKNUM(DATE(YEAR($Q33),$S33,$U33),1)-WEEKNUM(DATE(YEAR($Q33),$S33,1),1)+1,"") | AA33: =IF(INDEX(EmployeeTrackingSheet!$G$6:$G$1005,Calculations!P33,1)=0,"",INDEX(EmployeeTrackingSheet!$G$6:$G$1005,Calculations!P33,1)) | AB33: =IF(INDEX(EmployeeTrackingSheet!$H$6:$H$1005,Calculations!P33,1)=0,"",INDEX(EmployeeTrackingSheet!$H$6:$H$1005,Calculations!P33,1)) | AH33: =IF(INDEX(Settings!$E$7:$E$106,Calculations!P33,1)=0,"",INDEX(Settings!$E$7:$E$106,Calculations!P33,1)) | AI33: =IF(INDEX(Settings!$F$7:$F$106,Calculations!P33,1)=0,"",INDEX(Settings!$F$7:$F$106,Calculations!P33,1)) | AJ33: =IFERROR(IF(LEN($AH33)>1,SUMIF($V$4:V1027,$AH33,$X$4:X1027)/COUNTIF($V$4:V1027,$AH33),""),"") | AK33: =IFERROR(INDEX(Settings!$J$8:$L$11,MATCH(Calculations!$AJ33,Settings!$J$8:$J$11,1),3),"") | AP33: 28 | AQ33: =IFERROR(INDEX($AR$1:$AR$99,SMALL(INDEX(ISNUMBER($AZ$6:$AZ$99)*ROW($AZ$6:$AZ$99),0,1),COUNTBLANK($AZ$6:$AZ$99)+ROW(AZ28)),1),"") | AR33: =IFERROR(IF($AM$5="All Departments",INDEX(EmployeeTimesheet!$B$7:$C$106,AP33,1),IF(INDEX( EmployeeTimesheet!$C$7:$C$106,ROW(A28),1)=$AR$5,INDEX(EmployeeTimesheet!$B$7:$B$106,AP33,1),"")),"") -> 0 | AS33: =IFERROR(IF($AM$5="All Departments",EmployeeTimesheet!C34,IF(LEN(AR33)>1,EmployeeTimesheet!C34,"")),"") | AT33: =IF(AND(LEN($AS33)>1,AT$5=$AO$5),EmployeeTimesheet!AL40,"") | AU33: =IF(AND(LEN($AS33)>1,AU$5=$AO$5),EmployeeTimesheet!AM40,"") | AV33: =IF(AND(LEN($AS33)>1,AV$5=$AO$5),EmployeeTimesheet!AN40,"") | AW33: =IF(AND(LEN($AS33)>1,AW$5=$AO$5),EmployeeTimesheet!AO40,"") | AX33: =IF(AND(LEN($AS33)>1,AX$5=$AO$5),EmployeeTimesheet!AP40,"") | AY33: =IF(AND(LEN($AS33)>1,AY$5=$AO$5),EmployeeTimesheet!AQ40,"") | AZ33: =IF(SUM(AT33:AY33)>0,1,"")
M34: 20 | N34: =IF(LEN(Checklist!C32)>0,Checklist!G32,"") | P34: 31 | Q34: =IF(INDEX(EmployeeTrackingSheet!$B$6:$B$1005,Calculations!P34,1)=0,"",INDEX(EmployeeTrackingSheet!$B$6:$B$1005,Calculations!P34,1)) | R34: =IF(LEN($Q34)=0,"",YEAR($Q34)) | S34: =IF(LEN($Q34)=0,"",MONTH($Q34)) | T34: =IF(LEN($Q34)=0,"",WEEKNUM($Q34)) | U34: =IF(LEN($Q34)=0,"",DAY($Q34)) | V34: =IF(INDEX(EmployeeTrackingSheet!$C$6:$C$1005,Calculations!P34,1)=0,"",INDEX(EmployeeTrackingSheet!$C$6:$C$1005,Calculations!P34,1)) | W34: =IF(INDEX(EmployeeTrackingSheet!$D$6:$D$1005,Calculations!P34,1)=0,"",INDEX(EmployeeTrackingSheet!$D$6:$D$1005,Calculations!P34,1)) | X34: =IF(INDEX(EmployeeTrackingSheet!$E$6:$E$1005,Calculations!P34,1)=0,"",INDEX(EmployeeTrackingSheet!$E$6:$E$1005,Calculations!P34,1)) | Y34: =IF(INDEX(EmployeeTrackingSheet!$F$6:$F$1005,Calculations!P34,1)=0,"",INDEX(EmployeeTrackingSheet!$F$6:$F$1005,Calculations!P34,1)) | Z34: =IFERROR(WEEKNUM(DATE(YEAR($Q34),$S34,$U34),1)-WEEKNUM(DATE(YEAR($Q34),$S34,1),1)+1,"") | AA34: =IF(INDEX(EmployeeTrackingSheet!$G$6:$G$1005,Calculations!P34,1)=0,"",INDEX(EmployeeTrackingSheet!$G$6:$G$1005,Calculations!P34,1)) | AB34: =IF(INDEX(EmployeeTrackingSheet!$H$6:$H$1005,Calculations!P34,1)=0,"",INDEX(EmployeeTrackingSheet!$H$6:$H$1005,Calculations!P34,1)) | AH34: =IF(INDEX(Settings!$E$7:$E$106,Calculations!P34,1)=0,"",INDEX(Settings!$E$7:$E$106,Calculations!P34,1)) | AI34: =IF(INDEX(Settings!$F$7:$F$106,Calculations!P34,1)=0,"",INDEX(Settings!$F$7:$F$106,Calculations!P34,1)) | AJ34: =IFERROR(IF(LEN($AH34)>1,SUMIF($V$4:V1028,$AH34,$X$4:X1028)/COUNTIF($V$4:V1028,$AH34),""),"") | AK34: =IFERROR(INDEX(Settings!$J$8:$L$11,MATCH(Calculations!$AJ34,Settings!$J$8:$J$11,1),3),"") | AP34: 29 | AQ34: =IFERROR(INDEX($AR$1:$AR$99,SMALL(INDEX(ISNUMBER($AZ$6:$AZ$99)*ROW($AZ$6:$AZ$99),0,1),COUNTBLANK($AZ$6:$AZ$99)+ROW(AZ29)),1),"") | AR34: =IFERROR(IF($AM$5="All Departments",INDEX(EmployeeTimesheet!$B$7:$C$106,AP34,1),IF(INDEX( EmployeeTimesheet!$C$7:$C$106,ROW(A29),1)=$AR$5,INDEX(EmployeeTimesheet!$B$7:$B$106,AP34,1),"")),"") -> 0 | AS34: =IFERROR(IF($AM$5="All Departments",EmployeeTimesheet!C35,IF(LEN(AR34)>1,EmployeeTimesheet!C35,"")),"") | AT34: =IF(AND(LEN($AS34)>1,AT$5=$AO$5),EmployeeTimesheet!AL41,"") | AU34: =IF(AND(LEN($AS34)>1,AU$5=$AO$5),EmployeeTimesheet!AM41,"") | AV34: =IF(AND(LEN($AS34)>1,AV$5=$AO$5),EmployeeTimesheet!AN41,"") | AW34: =IF(AND(LEN($AS34)>1,AW$5=$AO$5),EmployeeTimesheet!AO41,"") | AX34: =IF(AND(LEN($AS34)>1,AX$5=$AO$5),EmployeeTimesheet!AP41,"") | AY34: =IF(AND(LEN($AS34)>1,AY$5=$AO$5),EmployeeTimesheet!AQ41,"") | AZ34: =IF(SUM(AT34:AY34)>0,1,"")
M35: 21 | N35: =IF(LEN(Checklist!C33)>0,Checklist!G33,"") | P35: 32 | Q35: =IF(INDEX(EmployeeTrackingSheet!$B$6:$B$1005,Calculations!P35,1)=0,"",INDEX(EmployeeTrackingSheet!$B$6:$B$1005,Calculations!P35,1)) | R35: =IF(LEN($Q35)=0,"",YEAR($Q35)) | S35: =IF(LEN($Q35)=0,"",MONTH($Q35)) | T35: =IF(LEN($Q35)=0,"",WEEKNUM($Q35)) | U35: =IF(LEN($Q35)=0,"",DAY($Q35)) | V35: =IF(INDEX(EmployeeTrackingSheet!$C$6:$C$1005,Calculations!P35,1)=0,"",INDEX(EmployeeTrackingSheet!$C$6:$C$1005,Calculations!P35,1)) | W35: =IF(INDEX(EmployeeTrackingSheet!$D$6:$D$1005,Calculations!P35,1)=0,"",INDEX(EmployeeTrackingSheet!$D$6:$D$1005,Calculations!P35,1)) | X35: =IF(INDEX(EmployeeTrackingSheet!$E$6:$E$1005,Calculations!P35,1)=0,"",INDEX(EmployeeTrackingSheet!$E$6:$E$1005,Calculations!P35,1)) | Y35: =IF(INDEX(EmployeeTrackingSheet!$F$6:$F$1005,Calculations!P35,1)=0,"",INDEX(EmployeeTrackingSheet!$F$6:$F$1005,Calculations!P35,1)) | Z35: =IFERROR(WEEKNUM(DATE(YEAR($Q35),$S35,$U35),1)-WEEKNUM(DATE(YEAR($Q35),$S35,1),1)+1,"") | AA35: =IF(INDEX(EmployeeTrackingSheet!$G$6:$G$1005,Calculations!P35,1)=0,"",INDEX(EmployeeTrackingSheet!$G$6:$G$1005,Calculations!P35,1)) | AB35: =IF(INDEX(EmployeeTrackingSheet!$H$6:$H$1005,Calculations!P35,1)=0,"",INDEX(EmployeeTrackingSheet!$H$6:$H$1005,Calculations!P35,1)) | AH35: =IF(INDEX(Settings!$E$7:$E$106,Calculations!P35,1)=0,"",INDEX(Settings!$E$7:$E$106,Calculations!P35,1)) | AI35: =IF(INDEX(Settings!$F$7:$F$106,Calculations!P35,1)=0,"",INDEX(Settings!$F$7:$F$106,Calculations!P35,1)) | AJ35: =IFERROR(IF(LEN($AH35)>1,SUMIF($V$4:V1029,$AH35,$X$4:X1029)/COUNTIF($V$4:V1029,$AH35),""),"") | AK35: =IFERROR(INDEX(Settings!$J$8:$L$11,MATCH(Calculations!$AJ35,Settings!$J$8:$J$11,1),3),"") | AP35: 30 | AQ35: =IFERROR(INDEX($AR$1:$AR$99,SMALL(INDEX(ISNUMBER($AZ$6:$AZ$99)*ROW($AZ$6:$AZ$99),0,1),COUNTBLANK($AZ$6:$AZ$99)+ROW(AZ30)),1),"") | AR35: =IFERROR(IF($AM$5="All Departments",INDEX(EmployeeTimesheet!$B$7:$C$106,AP35,1),IF(INDEX( EmployeeTimesheet!$C$7:$C$106,ROW(A30),1)=$AR$5,INDEX(EmployeeTimesheet!$B$7:$B$106,AP35,1),"")),"") -> 0 | AS35: =IFERROR(IF($AM$5="All Departments",EmployeeTimesheet!C36,IF(LEN(AR35)>1,EmployeeTimesheet!C36,"")),"") | AT35: =IF(AND(LEN($AS35)>1,AT$5=$AO$5),EmployeeTimesheet!AL42,"") | AU35: =IF(AND(LEN($AS35)>1,AU$5=$AO$5),EmployeeTimesheet!AM42,"") | AV35: =IF(AND(LEN($AS35)>1,AV$5=$AO$5),EmployeeTimesheet!AN42,"") | AW35: =IF(AND(LEN($AS35)>1,AW$5=$AO$5),EmployeeTimesheet!AO42,"") | AX35: =IF(AND(LEN($AS35)>1,AX$5=$AO$5),EmployeeTimesheet!AP42,"") | AY35: =IF(AND(LEN($AS35)>1,AY$5=$AO$5),EmployeeTimesheet!AQ42,"") | AZ35: =IF(SUM(AT35:AY35)>0,1,"")
M36: 22 | N36: =IF(LEN(Checklist!C34)>0,Checklist!G34,"") | P36: 33 | Q36: =IF(INDEX(EmployeeTrackingSheet!$B$6:$B$1005,Calculations!P36,1)=0,"",INDEX(EmployeeTrackingSheet!$B$6:$B$1005,Calculations!P36,1)) | R36: =IF(LEN($Q36)=0,"",YEAR($Q36)) | S36: =IF(LEN($Q36)=0,"",MONTH($Q36)) | T36: =IF(LEN($Q36)=0,"",WEEKNUM($Q36)) | U36: =IF(LEN($Q36)=0,"",DAY($Q36)) | V36: =IF(INDEX(EmployeeTrackingSheet!$C$6:$C$1005,Calculations!P36,1)=0,"",INDEX(EmployeeTrackingSheet!$C$6:$C$1005,Calculations!P36,1)) | W36: =IF(INDEX(EmployeeTrackingSheet!$D$6:$D$1005,Calculations!P36,1)=0,"",INDEX(EmployeeTrackingSheet!$D$6:$D$1005,Calculations!P36,1)) | X36: =IF(INDEX(EmployeeTrackingSheet!$E$6:$E$1005,Calculations!P36,1)=0,"",INDEX(EmployeeTrackingSheet!$E$6:$E$1005,Calculations!P36,1)) | Y36: =IF(INDEX(EmployeeTrackingSheet!$F$6:$F$1005,Calculations!P36,1)=0,"",INDEX(EmployeeTrackingSheet!$F$6:$F$1005,Calculations!P36,1)) | Z36: =IFERROR(WEEKNUM(DATE(YEAR($Q36),$S36,$U36),1)-WEEKNUM(DATE(YEAR($Q36),$S36,1),1)+1,"") | AA36: =IF(INDEX(EmployeeTrackingSheet!$G$6:$G$1005,Calculations!P36,1)=0,"",INDEX(EmployeeTrackingSheet!$G$6:$G$1005,Calculations!P36,1)) | AB36: =IF(INDEX(EmployeeTrackingSheet!$H$6:$H$1005,Calculations!P36,1)=0,"",INDEX(EmployeeTrackingSheet!$H$6:$H$1005,Calculations!P36,1)) | AH36: =IF(INDEX(Settings!$E$7:$E$106,Calculations!P36,1)=0,"",INDEX(Settings!$E$7:$E$106,Calculations!P36,1)) | AI36: =IF(INDEX(Settings!$F$7:$F$106,Calculations!P36,1)=0,"",INDEX(Settings!$F$7:$F$106,Calculations!P36,1)) | AJ36: =IFERROR(IF(LEN($AH36)>1,SUMIF($V$4:V1030,$AH36,$X$4:X1030)/COUNTIF($V$4:V1030,$AH36),""),"") | AK36: =IFERROR(INDEX(Settings!$J$8:$L$11,MATCH(Calculations!$AJ36,Settings!$J$8:$J$11,1),3),"") | AP36: 31 | AQ36: =IFERROR(INDEX($AR$1:$AR$99,SMALL(INDEX(ISNUMBER($AZ$6:$AZ$99)*ROW($AZ$6:$AZ$99),0,1),COUNTBLANK($AZ$6:$AZ$99)+ROW(AZ31)),1),"") | AR36: =IFERROR(IF($AM$5="All Departments",INDEX(EmployeeTimesheet!$B$7:$C$106,AP36,1),IF(INDEX( EmployeeTimesheet!$C$7:$C$106,ROW(A31),1)=$AR$5,INDEX(EmployeeTimesheet!$B$7:$B$106,AP36,1),"")),"") -> 0 | AS36: =IFERROR(IF($AM$5="All Departments",EmployeeTimesheet!C37,IF(LEN(AR36)>1,EmployeeTimesheet!C37,"")),"") | AT36: =IF(AND(LEN($AS36)>1,AT$5=$AO$5),EmployeeTimesheet!AL43,"") | AU36: =IF(AND(LEN($AS36)>1,AU$5=$AO$5),EmployeeTimesheet!AM43,"") | AV36: =IF(AND(LEN($AS36)>1,AV$5=$AO$5),EmployeeTimesheet!AN43,"") | AW36: =IF(AND(LEN($AS36)>1,AW$5=$AO$5),EmployeeTimesheet!AO43,"") | AX36: =IF(AND(LEN($AS36)>1,AX$5=$AO$5),EmployeeTimesheet!AP43,"") | AY36: =IF(AND(LEN($AS36)>1,AY$5=$AO$5),EmployeeTimesheet!AQ43,"") | AZ36: =IF(SUM(AT36:AY36)>0,1,"")
M37: 23 | N37: =IF(LEN(Checklist!C35)>0,Checklist!G35,"") | P37: 34 | Q37: =IF(INDEX(EmployeeTrackingSheet!$B$6:$B$1005,Calculations!P37,1)=0,"",INDEX(EmployeeTrackingSheet!$B$6:$B$1005,Calculations!P37,1)) | R37: =IF(LEN($Q37)=0,"",YEAR($Q37)) | S37: =IF(LEN($Q37)=0,"",MONTH($Q37)) | T37: =IF(LEN($Q37)=0,"",WEEKNUM($Q37)) | U37: =IF(LEN($Q37)=0,"",DAY($Q37)) | V37: =IF(INDEX(EmployeeTrackingSheet!$C$6:$C$1005,Calculations!P37,1)=0,"",INDEX(EmployeeTrackingSheet!$C$6:$C$1005,Calculations!P37,1)) | W37: =IF(INDEX(EmployeeTrackingSheet!$D$6:$D$1005,Calculations!P37,1)=0,"",INDEX(EmployeeTrackingSheet!$D$6:$D$1005,Calculations!P37,1)) | X37: =IF(INDEX(EmployeeTrackingSheet!$E$6:$E$1005,Calculations!P37,1)=0,"",INDEX(EmployeeTrackingSheet!$E$6:$E$1005,Calculations!P37,1)) | Y37: =IF(INDEX(EmployeeTrackingSheet!$F$6:$F$1005,Calculations!P37,1)=0,"",INDEX(EmployeeTrackingSheet!$F$6:$F$1005,Calculations!P37,1)) | Z37: =IFERROR(WEEKNUM(DATE(YEAR($Q37),$S37,$U37),1)-WEEKNUM(DATE(YEAR($Q37),$S37,1),1)+1,"") | AA37: =IF(INDEX(EmployeeTrackingSheet!$G$6:$G$1005,Calculations!P37,1)=0,"",INDEX(EmployeeTrackingSheet!$G$6:$G$1005,Calculations!P37,1)) | AB37: =IF(INDEX(EmployeeTrackingSheet!$H$6:$H$1005,Calculations!P37,1)=0,"",INDEX(EmployeeTrackingSheet!$H$6:$H$1005,Calculations!P37,1)) | AH37: =IF(INDEX(Settings!$E$7:$E$106,Calculations!P37,1)=0,"",INDEX(Settings!$E$7:$E$106,Calculations!P37,1)) | AI37: =IF(INDEX(Settings!$F$7:$F$106,Calculations!P37,1)=0,"",INDEX(Settings!$F$7:$F$106,Calculations!P37,1)) | AJ37: =IFERROR(IF(LEN($AH37)>1,SUMIF($V$4:V1031,$AH37,$X$4:X1031)/COUNTIF($V$4:V1031,$AH37),""),"") | AK37: =IFERROR(INDEX(Settings!$J$8:$L$11,MATCH(Calculations!$AJ37,Settings!$J$8:$J$11,1),3),"") | AP37: 32 | AQ37: =IFERROR(INDEX($AR$1:$AR$99,SMALL(INDEX(ISNUMBER($AZ$6:$AZ$99)*ROW($AZ$6:$AZ$99),0,1),COUNTBLANK($AZ$6:$AZ$99)+ROW(AZ32)),1),"") | AR37: =IFERROR(IF($AM$5="All Departments",INDEX(EmployeeTimesheet!$B$7:$C$106,AP37,1),IF(INDEX( EmployeeTimesheet!$C$7:$C$106,ROW(A32),1)=$AR$5,INDEX(EmployeeTimesheet!$B$7:$B$106,AP37,1),"")),"") -> 0 | AS37: =IFERROR(IF($AM$5="All Departments",EmployeeTimesheet!C38,IF(LEN(AR37)>1,EmployeeTimesheet!C38,"")),"") | AT37: =IF(AND(LEN($AS37)>1,AT$5=$AO$5),EmployeeTimesheet!AL44,"") | AU37: =IF(AND(LEN($AS37)>1,AU$5=$AO$5),EmployeeTimesheet!AM44,"") | AV37: =IF(AND(LEN($AS37)>1,AV$5=$AO$5),EmployeeTimesheet!AN44,"") | AW37: =IF(AND(LEN($AS37)>1,AW$5=$AO$5),EmployeeTimesheet!AO44,"") | AX37: =IF(AND(LEN($AS37)>1,AX$5=$AO$5),EmployeeTimesheet!AP44,"") | AY37: =IF(AND(LEN($AS37)>1,AY$5=$AO$5),EmployeeTimesheet!AQ44,"") | AZ37: =IF(SUM(AT37:AY37)>0,1,"")
M38: 24 | N38: =IF(LEN(Checklist!C36)>0,Checklist!G36,"") | P38: 35 | Q38: =IF(INDEX(EmployeeTrackingSheet!$B$6:$B$1005,Calculations!P38,1)=0,"",INDEX(EmployeeTrackingSheet!$B$6:$B$1005,Calculations!P38,1)) | R38: =IF(LEN($Q38)=0,"",YEAR($Q38)) | S38: =IF(LEN($Q38)=0,"",MONTH($Q38)) | T38: =IF(LEN($Q38)=0,"",WEEKNUM($Q38)) | U38: =IF(LEN($Q38)=0,"",DAY($Q38)) | V38: =IF(INDEX(EmployeeTrackingSheet!$C$6:$C$1005,Calculations!P38,1)=0,"",INDEX(EmployeeTrackingSheet!$C$6:$C$1005,Calculations!P38,1)) | W38: =IF(INDEX(EmployeeTrackingSheet!$D$6:$D$1005,Calculations!P38,1)=0,"",INDEX(EmployeeTrackingSheet!$D$6:$D$1005,Calculations!P38,1)) | X38: =IF(INDEX(EmployeeTrackingSheet!$E$6:$E$1005,Calculations!P38,1)=0,"",INDEX(EmployeeTrackingSheet!$E$6:$E$1005,Calculations!P38,1)) | Y38: =IF(INDEX(EmployeeTrackingSheet!$F$6:$F$1005,Calculations!P38,1)=0,"",INDEX(EmployeeTrackingSheet!$F$6:$F$1005,Calculations!P38,1)) | Z38: =IFERROR(WEEKNUM(DATE(YEAR($Q38),$S38,$U38),1)-WEEKNUM(DATE(YEAR($Q38),$S38,1),1)+1,"") | AA38: =IF(INDEX(EmployeeTrackingSheet!$G$6:$G$1005,Calculations!P38,1)=0,"",INDEX(EmployeeTrackingSheet!$G$6:$G$1005,Calculations!P38,1)) | AB38: =IF(INDEX(EmployeeTrackingSheet!$H$6:$H$1005,Calculations!P38,1)=0,"",INDEX(EmployeeTrackingSheet!$H$6:$H$1005,Calculations!P38,1)) | AH38: =IF(INDEX(Settings!$E$7:$E$106,Calculations!P38,1)=0,"",INDEX(Settings!$E$7:$E$106,Calculations!P38,1)) | AI38: =IF(INDEX(Settings!$F$7:$F$106,Calculations!P38,1)=0,"",INDEX(Settings!$F$7:$F$106,Calculations!P38,1)) | AJ38: =IFERROR(IF(LEN($AH38)>1,SUMIF($V$4:V1032,$AH38,$X$4:X1032)/COUNTIF($V$4:V1032,$AH38),""),"") | AK38: =IFERROR(INDEX(Settings!$J$8:$L$11,MATCH(Calculations!$AJ38,Settings!$J$8:$J$11,1),3),"") | AP38: 33 | AQ38: =IFERROR(INDEX($AR$1:$AR$99,SMALL(INDEX(ISNUMBER($AZ$6:$AZ$99)*ROW($AZ$6:$AZ$99),0,1),COUNTBLANK($AZ$6:$AZ$99)+ROW(AZ33)),1),"") | AR38: =IFERROR(IF($AM$5="All Departments",INDEX(EmployeeTimesheet!$B$7:$C$106,AP38,1),IF(INDEX( EmployeeTimesheet!$C$7:$C$106,ROW(A33),1)=$AR$5,INDEX(EmployeeTimesheet!$B$7:$B$106,AP38,1),"")),"") -> 0 | AS38: =IFERROR(IF($AM$5="All Departments",EmployeeTimesheet!C39,IF(LEN(AR38)>1,EmployeeTimesheet!C39,"")),"") | AT38: =IF(AND(LEN($AS38)>1,AT$5=$AO$5),EmployeeTimesheet!AL45,"") | AU38: =IF(AND(LEN($AS38)>1,AU$5=$AO$5),EmployeeTimesheet!AM45,"") | AV38: =IF(AND(LEN($AS38)>1,AV$5=$AO$5),EmployeeTimesheet!AN45,"") | AW38: =IF(AND(LEN($AS38)>1,AW$5=$AO$5),EmployeeTimesheet!AO45,"") | AX38: =IF(AND(LEN($AS38)>1,AX$5=$AO$5),EmployeeTimesheet!AP45,"") | AY38: =IF(AND(LEN($AS38)>1,AY$5=$AO$5),EmployeeTimesheet!AQ45,"") | AZ38: =IF(SUM(AT38:AY38)>0,1,"")
M39: 25 | N39: =IF(LEN(Checklist!C37)>0,Checklist!G37,"") | P39: 36 | Q39: =IF(INDEX(EmployeeTrackingSheet!$B$6:$B$1005,Calculations!P39,1)=0,"",INDEX(EmployeeTrackingSheet!$B$6:$B$1005,Calculations!P39,1)) | R39: =IF(LEN($Q39)=0,"",YEAR($Q39)) | S39: =IF(LEN($Q39)=0,"",MONTH($Q39)) | T39: =IF(LEN($Q39)=0,"",WEEKNUM($Q39)) | U39: =IF(LEN($Q39)=0,"",DAY($Q39)) | V39: =IF(INDEX(EmployeeTrackingSheet!$C$6:$C$1005,Calculations!P39,1)=0,"",INDEX(EmployeeTrackingSheet!$C$6:$C$1005,Calculations!P39,1)) | W39: =IF(INDEX(EmployeeTrackingSheet!$D$6:$D$1005,Calculations!P39,1)=0,"",INDEX(EmployeeTrackingSheet!$D$6:$D$1005,Calculations!P39,1)) | X39: =IF(INDEX(EmployeeTrackingSheet!$E$6:$E$1005,Calculations!P39,1)=0,"",INDEX(EmployeeTrackingSheet!$E$6:$E$1005,Calculations!P39,1)) | Y39: =IF(INDEX(EmployeeTrackingSheet!$F$6:$F$1005,Calculations!P39,1)=0,"",INDEX(EmployeeTrackingSheet!$F$6:$F$1005,Calculations!P39,1)) | Z39: =IFERROR(WEEKNUM(DATE(YEAR($Q39),$S39,$U39),1)-WEEKNUM(DATE(YEAR($Q39),$S39,1),1)+1,"") | AA39: =IF(INDEX(EmployeeTrackingSheet!$G$6:$G$1005,Calculations!P39,1)=0,"",INDEX(EmployeeTrackingSheet!$G$6:$G$1005,Calculations!P39,1)) | AB39: =IF(INDEX(EmployeeTrackingSheet!$H$6:$H$1005,Calculations!P39,1)=0,"",INDEX(EmployeeTrackingSheet!$H$6:$H$1005,Calculations!P39,1)) | AH39: =IF(INDEX(Settings!$E$7:$E$106,Calculations!P39,1)=0,"",INDEX(Settings!$E$7:$E$106,Calculations!P39,1)) | AI39: =IF(INDEX(Settings!$F$7:$F$106,Calculations!P39,1)=0,"",INDEX(Settings!$F$7:$F$106,Calculations!P39,1)) | AJ39: =IFERROR(IF(LEN($AH39)>1,SUMIF($V$4:V1033,$AH39,$X$4:X1033)/COUNTIF($V$4:V1033,$AH39),""),"") | AK39: =IFERROR(INDEX(Settings!$J$8:$L$11,MATCH(Calculations!$AJ39,Settings!$J$8:$J$11,1),3),"") | AP39: 34 | AQ39: =IFERROR(INDEX($AR$1:$AR$99,SMALL(INDEX(ISNUMBER($AZ$6:$AZ$99)*ROW($AZ$6:$AZ$99),0,1),COUNTBLANK($AZ$6:$AZ$99)+ROW(AZ34)),1),"") | AR39: =IFERROR(IF($AM$5="All Departments",INDEX(EmployeeTimesheet!$B$7:$C$106,AP39,1),IF(INDEX( EmployeeTimesheet!$C$7:$C$106,ROW(A34),1)=$AR$5,INDEX(EmployeeTimesheet!$B$7:$B$106,AP39,1),"")),"") -> 0 | AS39: =IFERROR(IF($AM$5="All Departments",EmployeeTimesheet!C40,IF(LEN(AR39)>1,EmployeeTimesheet!C40,"")),"") | AT39: =IF(AND(LEN($AS39)>1,AT$5=$AO$5),EmployeeTimesheet!AL46,"") | AU39: =IF(AND(LEN($AS39)>1,AU$5=$AO$5),EmployeeTimesheet!AM46,"") | AV39: =IF(AND(LEN($AS39)>1,AV$5=$AO$5),EmployeeTimesheet!AN46,"") | AW39: =IF(AND(LEN($AS39)>1,AW$5=$AO$5),EmployeeTimesheet!AO46,"") | AX39: =IF(AND(LEN($AS39)>1,AX$5=$AO$5),EmployeeTimesheet!AP46,"") | AY39: =IF(AND(LEN($AS39)>1,AY$5=$AO$5),EmployeeTimesheet!AQ46,"") | AZ39: =IF(SUM(AT39:AY39)>0,1,"")
... M92: 78 | N92: =IF(LEN(Checklist!C90)>0,Checklist!G90,"") | P92: 89 | Q92: =IF(INDEX(EmployeeTrackingSheet!$B$6:$B$1005,Calculations!P92,1)=0,"",INDEX(EmployeeTrackingSheet!$B$6:$B$1005,Calculations!P92,1)) | R92: =IF(LEN($Q92)=0,"",YEAR($Q92)) | S92: =IF(LEN($Q92)=0,"",MONTH($Q92)) | T92: =IF(LEN($Q92)=0,"",WEEKNUM($Q92)) | U92: =IF(LEN($Q92)=0,"",DAY($Q92)) | V92: =IF(INDEX(EmployeeTrackingSheet!$C$6:$C$1005,Calculations!P92,1)=0,"",INDEX(EmployeeTrackingSheet!$C$6:$C$1005,Calculations!P92,1)) | W92: =IF(INDEX(EmployeeTrackingSheet!$D$6:$D$1005,Calculations!P92,1)=0,"",INDEX(EmployeeTrackingSheet!$D$6:$D$1005,Calculations!P92,1)) | X92: =IF(INDEX(EmployeeTrackingSheet!$E$6:$E$1005,Calculations!P92,1)=0,"",INDEX(EmployeeTrackingSheet!$E$6:$E$1005,Calculations!P92,1)) | Y92: =IF(INDEX(EmployeeTrackingSheet!$F$6:$F$1005,Calculations!P92,1)=0,"",INDEX(EmployeeTrackingSheet!$F$6:$F$1005,Calculations!P92,1)) | Z92: =IFERROR(WEEKNUM(DATE(YEAR($Q92),$S92,$U92),1)-WEEKNUM(DATE(YEAR($Q92),$S92,1),1)+1,"") | AA92: =IF(INDEX(EmployeeTrackingSheet!$G$6:$G$1005,Calculations!P92,1)=0,"",INDEX(EmployeeTrackingSheet!$G$6:$G$1005,Calculations!P92,1)) | AB92: =IF(INDEX(EmployeeTrackingSheet!$H$6:$H$1005,Calculations!P92,1)=0,"",INDEX(EmployeeTrackingSheet!$H$6:$H$1005,Calculations!P92,1)) | AH92: =IF(INDEX(Settings!$E$7:$E$106,Calculations!P92,1)=0,"",INDEX(Settings!$E$7:$E$106,Calculations!P92,1)) | AI92: =IF(INDEX(Settings!$F$7:$F$106,Calculations!P92,1)=0,"",INDEX(Settings!$F$7:$F$106,Calculations!P92,1)) | AJ92: =IFERROR(IF(LEN($AH92)>1,SUMIF($V$4:V1086,$AH92,$X$4:X1086)/COUNTIF($V$4:V1086,$AH92),""),"") | AK92: =IFERROR(INDEX(Settings!$J$8:$L$11,MATCH(Calculations!$AJ92,Settings!$J$8:$J$11,1),3),"") | AP92: 87 | AQ92: =IFERROR(INDEX($AR$1:$AR$99,SMALL(INDEX(ISNUMBER($AZ$6:$AZ$99)*ROW($AZ$6:$AZ$99),0,1),COUNTBLANK($AZ$6:$AZ$99)+ROW(AZ87)),1),"") | AR92: =IFERROR(IF($AM$5="All Departments",INDEX(EmployeeTimesheet!$B$7:$C$106,AP92,1),IF(INDEX( EmployeeTimesheet!$C$7:$C$106,ROW(A87),1)=$AR$5,INDEX(EmployeeTimesheet!$B$7:$B$106,AP92,1),"")),"") -> 0 | AS92: =IFERROR(IF($AM$5="All Departments",EmployeeTimesheet!C93,IF(LEN(AR92)>1,EmployeeTimesheet!C93,"")),"") | AT92: =IF(AND(LEN($AS92)>1,AT$5=$AO$5),EmployeeTimesheet!AL99,"") | AU92: =IF(AND(LEN($AS92)>1,AU$5=$AO$5),EmployeeTimesheet!AM99,"") | AV92: =IF(AND(LEN($AS92)>1,AV$5=$AO$5),EmployeeTimesheet!AN99,"") | AW92: =IF(AND(LEN($AS92)>1,AW$5=$AO$5),EmployeeTimesheet!AO99,"") | AX92: =IF(AND(LEN($AS92)>1,AX$5=$AO$5),EmployeeTimesheet!AP99,"") | AY92: =IF(AND(LEN($AS92)>1,AY$5=$AO$5),EmployeeTimesheet!AQ99,"") | AZ92: =IF(SUM(AT92:AY92)>0,1,"")
M93: 79 | N93: =IF(LEN(Checklist!C91)>0,Checklist!G91,"") | P93: 90 | Q93: =IF(INDEX(EmployeeTrackingSheet!$B$6:$B$1005,Calculations!P93,1)=0,"",INDEX(EmployeeTrackingSheet!$B$6:$B$1005,Calculations!P93,1)) | R93: =IF(LEN($Q93)=0,"",YEAR($Q93)) | S93: =IF(LEN($Q93)=0,"",MONTH($Q93)) | T93: =IF(LEN($Q93)=0,"",WEEKNUM($Q93)) | U93: =IF(LEN($Q93)=0,"",DAY($Q93)) | V93: =IF(INDEX(EmployeeTrackingSheet!$C$6:$C$1005,Calculations!P93,1)=0,"",INDEX(EmployeeTrackingSheet!$C$6:$C$1005,Calculations!P93,1)) | W93: =IF(INDEX(EmployeeTrackingSheet!$D$6:$D$1005,Calculations!P93,1)=0,"",INDEX(EmployeeTrackingSheet!$D$6:$D$1005,Calculations!P93,1)) | X93: =IF(INDEX(EmployeeTrackingSheet!$E$6:$E$1005,Calculations!P93,1)=0,"",INDEX(EmployeeTrackingSheet!$E$6:$E$1005,Calculations!P93,1)) | Y93: =IF(INDEX(EmployeeTrackingSheet!$F$6:$F$1005,Calculations!P93,1)=0,"",INDEX(EmployeeTrackingSheet!$F$6:$F$1005,Calculations!P93,1)) | Z93: =IFERROR(WEEKNUM(DATE(YEAR($Q93),$S93,$U93),1)-WEEKNUM(DATE(YEAR($Q93),$S93,1),1)+1,"") | AA93: =IF(INDEX(EmployeeTrackingSheet!$G$6:$G$1005,Calculations!P93,1)=0,"",INDEX(EmployeeTrackingSheet!$G$6:$G$1005,Calculations!P93,1)) | AB93: =IF(INDEX(EmployeeTrackingSheet!$H$6:$H$1005,Calculations!P93,1)=0,"",INDEX(EmployeeTrackingSheet!$H$6:$H$1005,Calculations!P93,1)) | AH93: =IF(INDEX(Settings!$E$7:$E$106,Calculations!P93,1)=0,"",INDEX(Settings!$E$7:$E$106,Calculations!P93,1)) | AI93: =IF(INDEX(Settings!$F$7:$F$106,Calculations!P93,1)=0,"",INDEX(Settings!$F$7:$F$106,Calculations!P93,1)) | AJ93: =IFERROR(IF(LEN($AH93)>1,SUMIF($V$4:V1087,$AH93,$X$4:X1087)/COUNTIF($V$4:V1087,$AH93),""),"") | AK93: =IFERROR(INDEX(Settings!$J$8:$L$11,MATCH(Calculations!$AJ93,Settings!$J$8:$J$11,1),3),"") | AP93: 88 | AQ93: =IFERROR(INDEX($AR$1:$AR$99,SMALL(INDEX(ISNUMBER($AZ$6:$AZ$99)*ROW($AZ$6:$AZ$99),0,1),COUNTBLANK($AZ$6:$AZ$99)+ROW(AZ88)),1),"") | AR93: =IFERROR(IF($AM$5="All Departments",INDEX(EmployeeTimesheet!$B$7:$C$106,AP93,1),IF(INDEX( EmployeeTimesheet!$C$7:$C$106,ROW(A88),1)=$AR$5,INDEX(EmployeeTimesheet!$B$7:$B$106,AP93,1),"")),"") -> 0 | AS93: =IFERROR(IF($AM$5="All Departments",EmployeeTimesheet!C94,IF(LEN(AR93)>1,EmployeeTimesheet!C94,"")),"") | AT93: =IF(AND(LEN($AS93)>1,AT$5=$AO$5),EmployeeTimesheet!AL106,"") | AU93: =IF(AND(LEN($AS93)>1,AU$5=$AO$5),EmployeeTimesheet!AM106,"") | AV93: =IF(AND(LEN($AS93)>1,AV$5=$AO$5),EmployeeTimesheet!AN106,"") | AW93: =IF(AND(LEN($AS93)>1,AW$5=$AO$5),EmployeeTimesheet!AO106,"") | AX93: =IF(AND(LEN($AS93)>1,AX$5=$AO$5),EmployeeTimesheet!AP106,"") | AY93: =IF(AND(LEN($AS93)>1,AY$5=$AO$5),EmployeeTimesheet!AQ106,"") | AZ93: =IF(SUM(AT93:AY93)>0,1,"")
M94: 80 | N94: =IF(LEN(Checklist!C92)>0,Checklist!G92,"") | P94: 91 | Q94: =IF(INDEX(EmployeeTrackingSheet!$B$6:$B$1005,Calculations!P94,1)=0,"",INDEX(EmployeeTrackingSheet!$B$6:$B$1005,Calculations!P94,1)) | R94: =IF(LEN($Q94)=0,"",YEAR($Q94)) | S94: =IF(LEN($Q94)=0,"",MONTH($Q94)) | T94: =IF(LEN($Q94)=0,"",WEEKNUM($Q94)) | U94: =IF(LEN($Q94)=0,"",DAY($Q94)) | V94: =IF(INDEX(EmployeeTrackingSheet!$C$6:$C$1005,Calculations!P94,1)=0,"",INDEX(EmployeeTrackingSheet!$C$6:$C$1005,Calculations!P94,1)) | W94: =IF(INDEX(EmployeeTrackingSheet!$D$6:$D$1005,Calculations!P94,1)=0,"",INDEX(EmployeeTrackingSheet!$D$6:$D$1005,Calculations!P94,1)) | X94: =IF(INDEX(EmployeeTrackingSheet!$E$6:$E$1005,Calculations!P94,1)=0,"",INDEX(EmployeeTrackingSheet!$E$6:$E$1005,Calculations!P94,1)) | Y94: =IF(INDEX(EmployeeTrackingSheet!$F$6:$F$1005,Calculations!P94,1)=0,"",INDEX(EmployeeTrackingSheet!$F$6:$F$1005,Calculations!P94,1)) | Z94: =IFERROR(WEEKNUM(DATE(YEAR($Q94),$S94,$U94),1)-WEEKNUM(DATE(YEAR($Q94),$S94,1),1)+1,"") | AA94: =IF(INDEX(EmployeeTrackingSheet!$G$6:$G$1005,Calculations!P94,1)=0,"",INDEX(EmployeeTrackingSheet!$G$6:$G$1005,Calculations!P94,1)) | AB94: =IF(INDEX(EmployeeTrackingSheet!$H$6:$H$1005,Calculations!P94,1)=0,"",INDEX(EmployeeTrackingSheet!$H$6:$H$1005,Calculations!P94,1)) | AH94: =IF(INDEX(Settings!$E$7:$E$106,Calculations!P94,1)=0,"",INDEX(Settings!$E$7:$E$106,Calculations!P94,1)) | AI94: =IF(INDEX(Settings!$F$7:$F$106,Calculations!P94,1)=0,"",INDEX(Settings!$F$7:$F$106,Calculations!P94,1)) | AJ94: =IFERROR(IF(LEN($AH94)>1,SUMIF($V$4:V1088,$AH94,$X$4:X1088)/COUNTIF($V$4:V1088,$AH94),""),"") | AK94: =IFERROR(INDEX(Settings!$J$8:$L$11,MATCH(Calculations!$AJ94,Settings!$J$8:$J$11,1),3),"") | AP94: 89 | AQ94: =IFERROR(INDEX($AR$1:$AR$99,SMALL(INDEX(ISNUMBER($AZ$6:$AZ$99)*ROW($AZ$6:$AZ$99),0,1),COUNTBLANK($AZ$6:$AZ$99)+ROW(AZ89)),1),"") | AR94: =IFERROR(IF($AM$5="All Departments",INDEX(EmployeeTimesheet!$B$7:$C$106,AP94,1),IF(INDEX( EmployeeTimesheet!$C$7:$C$106,ROW(A89),1)=$AR$5,INDEX(EmployeeTimesheet!$B$7:$B$106,AP94,1),"")),"") -> 0 | AS94: =IFERROR(IF($AM$5="All Departments",EmployeeTimesheet!C95,IF(LEN(AR94)>1,EmployeeTimesheet!C95,"")),"") | AT94: =IF(AND(LEN($AS94)>1,AT$5=$AO$5),EmployeeTimesheet!#REF!,"") | AU94: =IF(AND(LEN($AS94)>1,AU$5=$AO$5),EmployeeTimesheet!#REF!,"") | AV94: =IF(AND(LEN($AS94)>1,AV$5=$AO$5),EmployeeTimesheet!#REF!,"") | AW94: =IF(AND(LEN($AS94)>1,AW$5=$AO$5),EmployeeTimesheet!#REF!,"") | AX94: =IF(AND(LEN($AS94)>1,AX$5=$AO$5),EmployeeTimesheet!#REF!,"") | AY94: =IF(AND(LEN($AS94)>1,AY$5=$AO$5),EmployeeTimesheet!#REF!,"") | AZ94: =IF(SUM(AT94:AY94)>0,1,"")
M95: 81 | N95: =IF(LEN(Checklist!C93)>0,Checklist!G93,"") | P95: 92 | Q95: =IF(INDEX(EmployeeTrackingSheet!$B$6:$B$1005,Calculations!P95,1)=0,"",INDEX(EmployeeTrackingSheet!$B$6:$B$1005,Calculations!P95,1)) | R95: =IF(LEN($Q95)=0,"",YEAR($Q95)) | S95: =IF(LEN($Q95)=0,"",MONTH($Q95)) | T95: =IF(LEN($Q95)=0,"",WEEKNUM($Q95)) | U95: =IF(LEN($Q95)=0,"",DAY($Q95)) | V95: =IF(INDEX(EmployeeTrackingSheet!$C$6:$C$1005,Calculations!P95,1)=0,"",INDEX(EmployeeTrackingSheet!$C$6:$C$1005,Calculations!P95,1)) | W95: =IF(INDEX(EmployeeTrackingSheet!$D$6:$D$1005,Calculations!P95,1)=0,"",INDEX(EmployeeTrackingSheet!$D$6:$D$1005,Calculations!P95,1)) | X95: =IF(INDEX(EmployeeTrackingSheet!$E$6:$E$1005,Calculations!P95,1)=0,"",INDEX(EmployeeTrackingSheet!$E$6:$E$1005,Calculations!P95,1)) | Y95: =IF(INDEX(EmployeeTrackingSheet!$F$6:$F$1005,Calculations!P95,1)=0,"",INDEX(EmployeeTrackingSheet!$F$6:$F$1005,Calculations!P95,1)) | Z95: =IFERROR(WEEKNUM(DATE(YEAR($Q95),$S95,$U95),1)-WEEKNUM(DATE(YEAR($Q95),$S95,1),1)+1,"") | AA95: =IF(INDEX(EmployeeTrackingSheet!$G$6:$G$1005,Calculations!P95,1)=0,"",INDEX(EmployeeTrackingSheet!$G$6:$G$1005,Calculations!P95,1)) | AB95: =IF(INDEX(EmployeeTrackingSheet!$H$6:$H$1005,Calculations!P95,1)=0,"",INDEX(EmployeeTrackingSheet!$H$6:$H$1005,Calculations!P95,1)) | AH95: =IF(INDEX(Settings!$E$7:$E$106,Calculations!P95,1)=0,"",INDEX(Settings!$E$7:$E$106,Calculations!P95,1)) | AI95: =IF(INDEX(Settings!$F$7:$F$106,Calculations!P95,1)=0,"",INDEX(Settings!$F$7:$F$106,Calculations!P95,1)) | AJ95: =IFERROR(IF(LEN($AH95)>1,SUMIF($V$4:V1089,$AH95,$X$4:X1089)/COUNTIF($V$4:V1089,$AH95),""),"") | AK95: =IFERROR(INDEX(Settings!$J$8:$L$11,MATCH(Calculations!$AJ95,Settings!$J$8:$J$11,1),3),"") | AP95: 90 | AQ95: =IFERROR(INDEX($AR$1:$AR$99,SMALL(INDEX(ISNUMBER($AZ$6:$AZ$99)*ROW($AZ$6:$AZ$99),0,1),COUNTBLANK($AZ$6:$AZ$99)+ROW(AZ90)),1),"") | AR95: =IFERROR(IF($AM$5="All Departments",INDEX(EmployeeTimesheet!$B$7:$C$106,AP95,1),IF(INDEX( EmployeeTimesheet!$C$7:$C$106,ROW(A90),1)=$AR$5,INDEX(EmployeeTimesheet!$B$7:$B$106,AP95,1),"")),"") -> 0 | AS95: =IFERROR(IF($AM$5="All Departments",EmployeeTimesheet!C96,IF(LEN(AR95)>1,EmployeeTimesheet!C96,"")),"") | AT95: =IF(AND(LEN($AS95)>1,AT$5=$AO$5),EmployeeTimesheet!#REF!,"") | AU95: =IF(AND(LEN($AS95)>1,AU$5=$AO$5),EmployeeTimesheet!#REF!,"") | AV95: =IF(AND(LEN($AS95)>1,AV$5=$AO$5),EmployeeTimesheet!#REF!,"") | AW95: =IF(AND(LEN($AS95)>1,AW$5=$AO$5),EmployeeTimesheet!#REF!,"") | AX95: =IF(AND(LEN($AS95)>1,AX$5=$AO$5),EmployeeTimesheet!#REF!,"") | AY95: =IF(AND(LEN($AS95)>1,AY$5=$AO$5),EmployeeTimesheet!#REF!,"") | AZ95: =IF(SUM(AT95:AY95)>0,1,"")
M96: 82 | N96: =IF(LEN(Checklist!C94)>0,Checklist!G94,"") | P96: 93 | Q96: =IF(INDEX(EmployeeTrackingSheet!$B$6:$B$1005,Calculations!P96,1)=0,"",INDEX(EmployeeTrackingSheet!$B$6:$B$1005,Calculations!P96,1)) | R96: =IF(LEN($Q96)=0,"",YEAR($Q96)) | S96: =IF(LEN($Q96)=0,"",MONTH($Q96)) | T96: =IF(LEN($Q96)=0,"",WEEKNUM($Q96)) | U96: =IF(LEN($Q96)=0,"",DAY($Q96)) | V96: =IF(INDEX(EmployeeTrackingSheet!$C$6:$C$1005,Calculations!P96,1)=0,"",INDEX(EmployeeTrackingSheet!$C$6:$C$1005,Calculations!P96,1)) | W96: =IF(INDEX(EmployeeTrackingSheet!$D$6:$D$1005,Calculations!P96,1)=0,"",INDEX(EmployeeTrackingSheet!$D$6:$D$1005,Calculations!P96,1)) | X96: =IF(INDEX(EmployeeTrackingSheet!$E$6:$E$1005,Calculations!P96,1)=0,"",INDEX(EmployeeTrackingSheet!$E$6:$E$1005,Calculations!P96,1)) | Y96: =IF(INDEX(EmployeeTrackingSheet!$F$6:$F$1005,Calculations!P96,1)=0,"",INDEX(EmployeeTrackingSheet!$F$6:$F$1005,Calculations!P96,1)) | Z96: =IFERROR(WEEKNUM(DATE(YEAR($Q96),$S96,$U96),1)-WEEKNUM(DATE(YEAR($Q96),$S96,1),1)+1,"") | AA96: =IF(INDEX(EmployeeTrackingSheet!$G$6:$G$1005,Calculations!P96,1)=0,"",INDEX(EmployeeTrackingSheet!$G$6:$G$1005,Calculations!P96,1)) | AB96: =IF(INDEX(EmployeeTrackingSheet!$H$6:$H$1005,Calculations!P96,1)=0,"",INDEX(EmployeeTrackingSheet!$H$6:$H$1005,Calculations!P96,1)) | AH96: =IF(INDEX(Settings!$E$7:$E$106,Calculations!P96,1)=0,"",INDEX(Settings!$E$7:$E$106,Calculations!P96,1)) | AI96: =IF(INDEX(Settings!$F$7:$F$106,Calculations!P96,1)=0,"",INDEX(Settings!$F$7:$F$106,Calculations!P96,1)) | AJ96: =IFERROR(IF(LEN($AH96)>1,SUMIF($V$4:V1090,$AH96,$X$4:X1090)/COUNTIF($V$4:V1090,$AH96),""),"") | AK96: =IFERROR(INDEX(Settings!$J$8:$L$11,MATCH(Calculations!$AJ96,Settings!$J$8:$J$11,1),3),"") | AP96: 91 | AQ96: =IFERROR(INDEX($AR$1:$AR$99,SMALL(INDEX(ISNUMBER($AZ$6:$AZ$99)*ROW($AZ$6:$AZ$99),0,1),COUNTBLANK($AZ$6:$AZ$99)+ROW(AZ91)),1),"") | AR96: =IFERROR(IF($AM$5="All Departments",INDEX(EmployeeTimesheet!$B$7:$C$106,AP96,1),IF(INDEX( EmployeeTimesheet!$C$7:$C$106,ROW(A91),1)=$AR$5,INDEX(EmployeeTimesheet!$B$7:$B$106,AP96,1),"")),"") -> 0 | AS96: =IFERROR(IF($AM$5="All Departments",EmployeeTimesheet!C97,IF(LEN(AR96)>1,EmployeeTimesheet!C97,"")),"") | AT96: =IF(AND(LEN($AS96)>1,AT$5=$AO$5),EmployeeTimesheet!#REF!,"") | AU96: =IF(AND(LEN($AS96)>1,AU$5=$AO$5),EmployeeTimesheet!#REF!,"") | AV96: =IF(AND(LEN($AS96)>1,AV$5=$AO$5),EmployeeTimesheet!#REF!,"") | AW96: =IF(AND(LEN($AS96)>1,AW$5=$AO$5),EmployeeTimesheet!#REF!,"") | AX96: =IF(AND(LEN($AS96)>1,AX$5=$AO$5),EmployeeTimesheet!#REF!,"") | AY96: =IF(AND(LEN($AS96)>1,AY$5=$AO$5),EmployeeTimesheet!#REF!,"") | AZ96: =IF(SUM(AT96:AY96)>0,1,"")
M97: 83 | N97: =IF(LEN(Checklist!C95)>0,Checklist!G95,"") | P97: 94 | Q97: =IF(INDEX(EmployeeTrackingSheet!$B$6:$B$1005,Calculations!P97,1)=0,"",INDEX(EmployeeTrackingSheet!$B$6:$B$1005,Calculations!P97,1)) | R97: =IF(LEN($Q97)=0,"",YEAR($Q97)) | S97: =IF(LEN($Q97)=0,"",MONTH($Q97)) | T97: =IF(LEN($Q97)=0,"",WEEKNUM($Q97)) | U97: =IF(LEN($Q97)=0,"",DAY($Q97)) | V97: =IF(INDEX(EmployeeTrackingSheet!$C$6:$C$1005,Calculations!P97,1)=0,"",INDEX(EmployeeTrackingSheet!$C$6:$C$1005,Calculations!P97,1)) | W97: =IF(INDEX(EmployeeTrackingSheet!$D$6:$D$1005,Calculations!P97,1)=0,"",INDEX(EmployeeTrackingSheet!$D$6:$D$1005,Calculations!P97,1)) | X97: =IF(INDEX(EmployeeTrackingSheet!$E$6:$E$1005,Calculations!P97,1)=0,"",INDEX(EmployeeTrackingSheet!$E$6:$E$1005,Calculations!P97,1)) | Y97: =IF(INDEX(EmployeeTrackingSheet!$F$6:$F$1005,Calculations!P97,1)=0,"",INDEX(EmployeeTrackingSheet!$F$6:$F$1005,Calculations!P97,1)) | Z97: =IFERROR(WEEKNUM(DATE(YEAR($Q97),$S97,$U97),1)-WEEKNUM(DATE(YEAR($Q97),$S97,1),1)+1,"") | AA97: =IF(INDEX(EmployeeTrackingSheet!$G$6:$G$1005,Calculations!P97,1)=0,"",INDEX(EmployeeTrackingSheet!$G$6:$G$1005,Calculations!P97,1)) | AB97: =IF(INDEX(EmployeeTrackingSheet!$H$6:$H$1005,Calculations!P97,1)=0,"",INDEX(EmployeeTrackingSheet!$H$6:$H$1005,Calculations!P97,1)) | AH97: =IF(INDEX(Settings!$E$7:$E$106,Calculations!P97,1)=0,"",INDEX(Settings!$E$7:$E$106,Calculations!P97,1)) | AI97: =IF(INDEX(Settings!$F$7:$F$106,Calculations!P97,1)=0,"",INDEX(Settings!$F$7:$F$106,Calculations!P97,1)) | AJ97: =IFERROR(IF(LEN($AH97)>1,SUMIF($V$4:V1091,$AH97,$X$4:X1091)/COUNTIF($V$4:V1091,$AH97),""),"") | AK97: =IFERROR(INDEX(Settings!$J$8:$L$11,MATCH(Calculations!$AJ97,Settings!$J$8:$J$11,1),3),"") | AP97: 92 | AQ97: =IFERROR(INDEX($AR$1:$AR$99,SMALL(INDEX(ISNUMBER($AZ$6:$AZ$99)*ROW($AZ$6:$AZ$99),0,1),COUNTBLANK($AZ$6:$AZ$99)+ROW(AZ92)),1),"") | AR97: =IFERROR(IF($AM$5="All Departments",INDEX(EmployeeTimesheet!$B$7:$C$106,AP97,1),IF(INDEX( EmployeeTimesheet!$C$7:$C$106,ROW(A92),1)=$AR$5,INDEX(EmployeeTimesheet!$B$7:$B$106,AP97,1),"")),"") -> 0 | AS97: =IFERROR(IF($AM$5="All Departments",EmployeeTimesheet!C98,IF(LEN(AR97)>1,EmployeeTimesheet!C98,"")),"") | AT97: =IF(AND(LEN($AS97)>1,AT$5=$AO$5),EmployeeTimesheet!#REF!,"") | AU97: =IF(AND(LEN($AS97)>1,AU$5=$AO$5),EmployeeTimesheet!#REF!,"") | AV97: =IF(AND(LEN($AS97)>1,AV$5=$AO$5),EmployeeTimesheet!#REF!,"") | AW97: =IF(AND(LEN($AS97)>1,AW$5=$AO$5),EmployeeTimesheet!#REF!,"") | AX97: =IF(AND(LEN($AS97)>1,AX$5=$AO$5),EmployeeTimesheet!#REF!,"") | AY97: =IF(AND(LEN($AS97)>1,AY$5=$AO$5),EmployeeTimesheet!#REF!,"") | AZ97: =IF(SUM(AT97:AY97)>0,1,"")
M98: 84 | N98: =IF(LEN(Checklist!C96)>0,Checklist!G96,"") | P98: 95 | Q98: =IF(INDEX(EmployeeTrackingSheet!$B$6:$B$1005,Calculations!P98,1)=0,"",INDEX(EmployeeTrackingSheet!$B$6:$B$1005,Calculations!P98,1)) | R98: =IF(LEN($Q98)=0,"",YEAR($Q98)) | S98: =IF(LEN($Q98)=0,"",MONTH($Q98)) | T98: =IF(LEN($Q98)=0,"",WEEKNUM($Q98)) | U98: =IF(LEN($Q98)=0,"",DAY($Q98)) | V98: =IF(INDEX(EmployeeTrackingSheet!$C$6:$C$1005,Calculations!P98,1)=0,"",INDEX(EmployeeTrackingSheet!$C$6:$C$1005,Calculations!P98,1)) | W98: =IF(INDEX(EmployeeTrackingSheet!$D$6:$D$1005,Calculations!P98,1)=0,"",INDEX(EmployeeTrackingSheet!$D$6:$D$1005,Calculations!P98,1)) | X98: =IF(INDEX(EmployeeTrackingSheet!$E$6:$E$1005,Calculations!P98,1)=0,"",INDEX(EmployeeTrackingSheet!$E$6:$E$1005,Calculations!P98,1)) | Y98: =IF(INDEX(EmployeeTrackingSheet!$F$6:$F$1005,Calculations!P98,1)=0,"",INDEX(EmployeeTrackingSheet!$F$6:$F$1005,Calculations!P98,1)) | Z98: =IFERROR(WEEKNUM(DATE(YEAR($Q98),$S98,$U98),1)-WEEKNUM(DATE(YEAR($Q98),$S98,1),1)+1,"") | AA98: =IF(INDEX(EmployeeTrackingSheet!$G$6:$G$1005,Calculations!P98,1)=0,"",INDEX(EmployeeTrackingSheet!$G$6:$G$1005,Calculations!P98,1)) | AB98: =IF(INDEX(EmployeeTrackingSheet!$H$6:$H$1005,Calculations!P98,1)=0,"",INDEX(EmployeeTrackingSheet!$H$6:$H$1005,Calculations!P98,1)) | AP98: 93 | AQ98: =IFERROR(INDEX($AR$1:$AR$99,SMALL(INDEX(ISNUMBER($AZ$6:$AZ$99)*ROW($AZ$6:$AZ$99),0,1),COUNTBLANK($AZ$6:$AZ$99)+ROW(AZ93)),1),"") | AR98: =IFERROR(IF($AM$5="All Departments",INDEX(EmployeeTimesheet!$B$7:$C$106,AP98,1),IF(INDEX( EmployeeTimesheet!$C$7:$C$106,ROW(A93),1)=$AR$5,INDEX(EmployeeTimesheet!$B$7:$B$106,AP98,1),"")),"") -> 0 | AS98: =IFERROR(IF($AM$5="All Departments",EmployeeTimesheet!C99,IF(LEN(AR98)>1,EmployeeTimesheet!C99,"")),"") | AT98: =IF(AND(LEN($AS98)>1,AT$5=$AO$5),EmployeeTimesheet!#REF!,"") | AU98: =IF(AND(LEN($AS98)>1,AU$5=$AO$5),EmployeeTimesheet!#REF!,"") | AV98: =IF(AND(LEN($AS98)>1,AV$5=$AO$5),EmployeeTimesheet!#REF!,"") | AW98: =IF(AND(LEN($AS98)>1,AW$5=$AO$5),EmployeeTimesheet!#REF!,"") | AX98: =IF(AND(LEN($AS98)>1,AX$5=$AO$5),EmployeeTimesheet!#REF!,"") | AY98: =IF(AND(LEN($AS98)>1,AY$5=$AO$5),EmployeeTimesheet!#REF!,"") | AZ98: =IF(SUM(AT98:AY98)>0,1,"")
M99: 85 | N99: =IF(LEN(Checklist!C97)>0,Checklist!G97,"") | P99: 96 | Q99: =IF(INDEX(EmployeeTrackingSheet!$B$6:$B$1005,Calculations!P99,1)=0,"",INDEX(EmployeeTrackingSheet!$B$6:$B$1005,Calculations!P99,1)) | R99: =IF(LEN($Q99)=0,"",YEAR($Q99)) | S99: =IF(LEN($Q99)=0,"",MONTH($Q99)) | T99: =IF(LEN($Q99)=0,"",WEEKNUM($Q99)) | U99: =IF(LEN($Q99)=0,"",DAY($Q99)) | V99: =IF(INDEX(EmployeeTrackingSheet!$C$6:$C$1005,Calculations!P99,1)=0,"",INDEX(EmployeeTrackingSheet!$C$6:$C$1005,Calculations!P99,1)) | W99: =IF(INDEX(EmployeeTrackingSheet!$D$6:$D$1005,Calculations!P99,1)=0,"",INDEX(EmployeeTrackingSheet!$D$6:$D$1005,Calculations!P99,1)) | X99: =IF(INDEX(EmployeeTrackingSheet!$E$6:$E$1005,Calculations!P99,1)=0,"",INDEX(EmployeeTrackingSheet!$E$6:$E$1005,Calculations!P99,1)) | Y99: =IF(INDEX(EmployeeTrackingSheet!$F$6:$F$1005,Calculations!P99,1)=0,"",INDEX(EmployeeTrackingSheet!$F$6:$F$1005,Calculations!P99,1)) | Z99: =IFERROR(WEEKNUM(DATE(YEAR($Q99),$S99,$U99),1)-WEEKNUM(DATE(YEAR($Q99),$S99,1),1)+1,"") | AA99: =IF(INDEX(EmployeeTrackingSheet!$G$6:$G$1005,Calculations!P99,1)=0,"",INDEX(EmployeeTrackingSheet!$G$6:$G$1005,Calculations!P99,1)) | AB99: =IF(INDEX(EmployeeTrackingSheet!$H$6:$H$1005,Calculations!P99,1)=0,"",INDEX(EmployeeTrackingSheet!$H$6:$H$1005,Calculations!P99,1)) | AP99: 94 | AQ99: =IFERROR(INDEX($AR$1:$AR$99,SMALL(INDEX(ISNUMBER($AZ$6:$AZ$99)*ROW($AZ$6:$AZ$99),0,1),COUNTBLANK($AZ$6:$AZ$99)+ROW(AZ94)),1),"") | AR99: =IFERROR(IF($AM$5="All Departments",INDEX(EmployeeTimesheet!$B$7:$C$106,AP99,1),IF(INDEX( EmployeeTimesheet!$C$7:$C$106,ROW(A94),1)=$AR$5,INDEX(EmployeeTimesheet!$B$7:$B$106,AP99,1),"")),"") -> 0 | AS99: =IFERROR(IF($AM$5="All Departments",EmployeeTimesheet!C106,IF(LEN(AR99)>1,EmployeeTimesheet!C106,"")),"") | AT99: =IF(AND(LEN($AS99)>1,AT$5=$AO$5),EmployeeTimesheet!#REF!,"") | AU99: =IF(AND(LEN($AS99)>1,AU$5=$AO$5),EmployeeTimesheet!#REF!,"") | AV99: =IF(AND(LEN($AS99)>1,AV$5=$AO$5),EmployeeTimesheet!#REF!,"") | AW99: =IF(AND(LEN($AS99)>1,AW$5=$AO$5),EmployeeTimesheet!#REF!,"") | AX99: =IF(AND(LEN($AS99)>1,AX$5=$AO$5),EmployeeTimesheet!#REF!,"") | AY99: =IF(AND(LEN($AS99)>1,AY$5=$AO$5),EmployeeTimesheet!#REF!,"") | AZ99: =IF(SUM(AT99:AY99)>0,1,"")
M100: 86 | N100: =IF(LEN(Checklist!C98)>0,Checklist!G98,"") | P100: 97 | Q100: =IF(INDEX(EmployeeTrackingSheet!$B$6:$B$1005,Calculations!P100,1)=0,"",INDEX(EmployeeTrackingSheet!$B$6:$B$1005,Calculations!P100,1)) | R100: =IF(LEN($Q100)=0,"",YEAR($Q100)) | S100: =IF(LEN($Q100)=0,"",MONTH($Q100)) | T100: =IF(LEN($Q100)=0,"",WEEKNUM($Q100)) | U100: =IF(LEN($Q100)=0,"",DAY($Q100)) | V100: =IF(INDEX(EmployeeTrackingSheet!$C$6:$C$1005,Calculations!P100,1)=0,"",INDEX(EmployeeTrackingSheet!$C$6:$C$1005,Calculations!P100,1)) | W100: =IF(INDEX(EmployeeTrackingSheet!$D$6:$D$1005,Calculations!P100,1)=0,"",INDEX(EmployeeTrackingSheet!$D$6:$D$1005,Calculations!P100,1)) | X100: =IF(INDEX(EmployeeTrackingSheet!$E$6:$E$1005,Calculations!P100,1)=0,"",INDEX(EmployeeTrackingSheet!$E$6:$E$1005,Calculations!P100,1)) | Y100: =IF(INDEX(EmployeeTrackingSheet!$F$6:$F$1005,Calculations!P100,1)=0,"",INDEX(EmployeeTrackingSheet!$F$6:$F$1005,Calculations!P100,1)) | Z100: =IFERROR(WEEKNUM(DATE(YEAR($Q100),$S100,$U100),1)-WEEKNUM(DATE(YEAR($Q100),$S100,1),1)+1,"") | AA100: =IF(INDEX(EmployeeTrackingSheet!$G$6:$G$1005,Calculations!P100,1)=0,"",INDEX(EmployeeTrackingSheet!$G$6:$G$1005,Calculations!P100,1)) | AB100: =IF(INDEX(EmployeeTrackingSheet!$H$6:$H$1005,Calculations!P100,1)=0,"",INDEX(EmployeeTrackingSheet!$H$6:$H$1005,Calculations!P100,1))
M101: 87 | N101: =IF(LEN(Checklist!C99)>0,Checklist!G99,"") | P101: 98 | Q101: =IF(INDEX(EmployeeTrackingSheet!$B$6:$B$1005,Calculations!P101,1)=0,"",INDEX(EmployeeTrackingSheet!$B$6:$B$1005,Calculations!P101,1)) | R101: =IF(LEN($Q101)=0,"",YEAR($Q101)) | S101: =IF(LEN($Q101)=0,"",MONTH($Q101)) | T101: =IF(LEN($Q101)=0,"",WEEKNUM($Q101)) | U101: =IF(LEN($Q101)=0,"",DAY($Q101)) | V101: =IF(INDEX(EmployeeTrackingSheet!$C$6:$C$1005,Calculations!P101,1)=0,"",INDEX(EmployeeTrackingSheet!$C$6:$C$1005,Calculations!P101,1)) | W101: =IF(INDEX(EmployeeTrackingSheet!$D$6:$D$1005,Calculations!P101,1)=0,"",INDEX(EmployeeTrackingSheet!$D$6:$D$1005,Calculations!P101,1)) | X101: =IF(INDEX(EmployeeTrackingSheet!$E$6:$E$1005,Calculations!P101,1)=0,"",INDEX(EmployeeTrackingSheet!$E$6:$E$1005,Calculations!P101,1)) | Y101: =IF(INDEX(EmployeeTrackingSheet!$F$6:$F$1005,Calculations!P101,1)=0,"",INDEX(EmployeeTrackingSheet!$F$6:$F$1005,Calculations!P101,1)) | Z101: =IFERROR(WEEKNUM(DATE(YEAR($Q101),$S101,$U101),1)-WEEKNUM(DATE(YEAR($Q101),$S101,1),1)+1,"") | AA101: =IF(INDEX(EmployeeTrackingSheet!$G$6:$G$1005,Calculations!P101,1)=0,"",INDEX(EmployeeTrackingSheet!$G$6:$G$1005,Calculations!P101,1)) | AB101: =IF(INDEX(EmployeeTrackingSheet!$H$6:$H$1005,Calculations!P101,1)=0,"",INDEX(EmployeeTrackingSheet!$H$6:$H$1005,Calculations!P101,1))
M102: 88 | N102: =IF(LEN(Checklist!C100)>0,Checklist!G100,"") | P102: 99 | Q102: =IF(INDEX(EmployeeTrackingSheet!$B$6:$B$1005,Calculations!P102,1)=0,"",INDEX(EmployeeTrackingSheet!$B$6:$B$1005,Calculations!P102,1)) | R102: =IF(LEN($Q102)=0,"",YEAR($Q102)) | S102: =IF(LEN($Q102)=0,"",MONTH($Q102)) | T102: =IF(LEN($Q102)=0,"",WEEKNUM($Q102)) | U102: =IF(LEN($Q102)=0,"",DAY($Q102)) | V102: =IF(INDEX(EmployeeTrackingSheet!$C$6:$C$1005,Calculations!P102,1)=0,"",INDEX(EmployeeTrackingSheet!$C$6:$C$1005,Calculations!P102,1)) | W102: =IF(INDEX(EmployeeTrackingSheet!$D$6:$D$1005,Calculations!P102,1)=0,"",INDEX(EmployeeTrackingSheet!$D$6:$D$1005,Calculations!P102,1)) | X102: =IF(INDEX(EmployeeTrackingSheet!$E$6:$E$1005,Calculations!P102,1)=0,"",INDEX(EmployeeTrackingSheet!$E$6:$E$1005,Calculations!P102,1)) | Y102: =IF(INDEX(EmployeeTrackingSheet!$F$6:$F$1005,Calculations!P102,1)=0,"",INDEX(EmployeeTrackingSheet!$F$6:$F$1005,Calculations!P102,1)) | Z102: =IFERROR(WEEKNUM(DATE(YEAR($Q102),$S102,$U102),1)-WEEKNUM(DATE(YEAR($Q102),$S102,1),1)+1,"") | AA102: =IF(INDEX(EmployeeTrackingSheet!$G$6:$G$1005,Calculations!P102,1)=0,"",INDEX(EmployeeTrackingSheet!$G$6:$G$1005,Calculations!P102,1)) | AB102: =IF(INDEX(EmployeeTrackingSheet!$H$6:$H$1005,Calculations!P102,1)=0,"",INDEX(EmployeeTrackingSheet!$H$6:$H$1005,Calculations!P102,1))
M103: 89 | N103: =IF(LEN(Checklist!C101)>0,Checklist!G101,"") | P103: 100 | Q103: =IF(INDEX(EmployeeTrackingSheet!$B$6:$B$1005,Calculations!P103,1)=0,"",INDEX(EmployeeTrackingSheet!$B$6:$B$1005,Calculations!P103,1)) | R103: =IF(LEN($Q103)=0,"",YEAR($Q103)) | S103: =IF(LEN($Q103)=0,"",MONTH($Q103)) | T103: =IF(LEN($Q103)=0,"",WEEKNUM($Q103)) | U103: =IF(LEN($Q103)=0,"",DAY($Q103)) | V103: =IF(INDEX(EmployeeTrackingSheet!$C$6:$C$1005,Calculations!P103,1)=0,"",INDEX(EmployeeTrackingSheet!$C$6:$C$1005,Calculations!P103,1)) | W103: =IF(INDEX(EmployeeTrackingSheet!$D$6:$D$1005,Calculations!P103,1)=0,"",INDEX(EmployeeTrackingSheet!$D$6:$D$1005,Calculations!P103,1)) | X103: =IF(INDEX(EmployeeTrackingSheet!$E$6:$E$1005,Calculations!P103,1)=0,"",INDEX(EmployeeTrackingSheet!$E$6:$E$1005,Calculations!P103,1)) | Y103: =IF(INDEX(EmployeeTrackingSheet!$F$6:$F$1005,Calculations!P103,1)=0,"",INDEX(EmployeeTrackingSheet!$F$6:$F$1005,Calculations!P103,1)) | Z103: =IFERROR(WEEKNUM(DATE(YEAR($Q103),$S103,$U103),1)-WEEKNUM(DATE(YEAR($Q103),$S103,1),1)+1,"") | AA103: =IF(INDEX(EmployeeTrackingSheet!$G$6:$G$1005,Calculations!P103,1)=0,"",INDEX(EmployeeTrackingSheet!$G$6:$G$1005,Calculations!P103,1)) | AB103: =IF(INDEX(EmployeeTrackingSheet!$H$6:$H$1005,Calculations!P103,1)=0,"",INDEX(EmployeeTrackingSheet!$H$6:$H$1005,Calculations!P103,1))
M104: 90 | N104: =IF(LEN(Checklist!C102)>0,Checklist!G102,"") | P104: 101 | Q104: =IF(INDEX(EmployeeTrackingSheet!$B$6:$B$1005,Calculations!P104,1)=0,"",INDEX(EmployeeTrackingSheet!$B$6:$B$1005,Calculations!P104,1)) | R104: =IF(LEN($Q104)=0,"",YEAR($Q104)) | S104: =IF(LEN($Q104)=0,"",MONTH($Q104)) | T104: =IF(LEN($Q104)=0,"",WEEKNUM($Q104)) | U104: =IF(LEN($Q104)=0,"",DAY($Q104)) | V104: =IF(INDEX(EmployeeTrackingSheet!$C$6:$C$1005,Calculations!P104,1)=0,"",INDEX(EmployeeTrackingSheet!$C$6:$C$1005,Calculations!P104,1)) | W104: =IF(INDEX(EmployeeTrackingSheet!$D$6:$D$1005,Calculations!P104,1)=0,"",INDEX(EmployeeTrackingSheet!$D$6:$D$1005,Calculations!P104,1)) | X104: =IF(INDEX(EmployeeTrackingSheet!$E$6:$E$1005,Calculations!P104,1)=0,"",INDEX(EmployeeTrackingSheet!$E$6:$E$1005,Calculations!P104,1)) | Y104: =IF(INDEX(EmployeeTrackingSheet!$F$6:$F$1005,Calculations!P104,1)=0,"",INDEX(EmployeeTrackingSheet!$F$6:$F$1005,Calculations!P104,1)) | Z104: =IFERROR(WEEKNUM(DATE(YEAR($Q104),$S104,$U104),1)-WEEKNUM(DATE(YEAR($Q104),$S104,1),1)+1,"") | AA104: =IF(INDEX(EmployeeTrackingSheet!$G$6:$G$1005,Calculations!P104,1)=0,"",INDEX(EmployeeTrackingSheet!$G$6:$G$1005,Calculations!P104,1)) | AB104: =IF(INDEX(EmployeeTrackingSheet!$H$6:$H$1005,Calculations!P104,1)=0,"",INDEX(EmployeeTrackingSheet!$H$6:$H$1005,Calculations!P104,1))
M105: 91 | N105: =IF(LEN(Checklist!C103)>0,Checklist!G103,"") | P105: 102 | Q105: =IF(INDEX(EmployeeTrackingSheet!$B$6:$B$1005,Calculations!P105,1)=0,"",INDEX(EmployeeTrackingSheet!$B$6:$B$1005,Calculations!P105,1)) | R105: =IF(LEN($Q105)=0,"",YEAR($Q105)) | S105: =IF(LEN($Q105)=0,"",MONTH($Q105)) | T105: =IF(LEN($Q105)=0,"",WEEKNUM($Q105)) | U105: =IF(LEN($Q105)=0,"",DAY($Q105)) | V105: =IF(INDEX(EmployeeTrackingSheet!$C$6:$C$1005,Calculations!P105,1)=0,"",INDEX(EmployeeTrackingSheet!$C$6:$C$1005,Calculations!P105,1)) | W105: =IF(INDEX(EmployeeTrackingSheet!$D$6:$D$1005,Calculations!P105,1)=0,"",INDEX(EmployeeTrackingSheet!$D$6:$D$1005,Calculations!P105,1)) | X105: =IF(INDEX(EmployeeTrackingSheet!$E$6:$E$1005,Calculations!P105,1)=0,"",INDEX(EmployeeTrackingSheet!$E$6:$E$1005,Calculations!P105,1)) | Y105: =IF(INDEX(EmployeeTrackingSheet!$F$6:$F$1005,Calculations!P105,1)=0,"",INDEX(EmployeeTrackingSheet!$F$6:$F$1005,Calculations!P105,1)) | Z105: =IFERROR(WEEKNUM(DATE(YEAR($Q105),$S105,$U105),1)-WEEKNUM(DATE(YEAR($Q105),$S105,1),1)+1,"") | AA105: =IF(INDEX(EmployeeTrackingSheet!$G$6:$G$1005,Calculations!P105,1)=0,"",INDEX(EmployeeTrackingSheet!$G$6:$G$1005,Calculations!P105,1)) | AB105: =IF(INDEX(EmployeeTrackingSheet!$H$6:$H$1005,Calculations!P105,1)=0,"",INDEX(EmployeeTrackingSheet!$H$6:$H$1005,Calculations!P105,1))
M106: 92 | N106: =IF(LEN(Checklist!C104)>0,Checklist!G104,"") | P106: 103 | Q106: =IF(INDEX(EmployeeTrackingSheet!$B$6:$B$1005,Calculations!P106,1)=0,"",INDEX(EmployeeTrackingSheet!$B$6:$B$1005,Calculations!P106,1)) | R106: =IF(LEN($Q106)=0,"",YEAR($Q106)) | S106: =IF(LEN($Q106)=0,"",MONTH($Q106)) | T106: =IF(LEN($Q106)=0,"",WEEKNUM($Q106)) | U106: =IF(LEN($Q106)=0,"",DAY($Q106)) | V106: =IF(INDEX(EmployeeTrackingSheet!$C$6:$C$1005,Calculations!P106,1)=0,"",INDEX(EmployeeTrackingSheet!$C$6:$C$1005,Calculations!P106,1)) | W106: =IF(INDEX(EmployeeTrackingSheet!$D$6:$D$1005,Calculations!P106,1)=0,"",INDEX(EmployeeTrackingSheet!$D$6:$D$1005,Calculations!P106,1)) | X106: =IF(INDEX(EmployeeTrackingSheet!$E$6:$E$1005,Calculations!P106,1)=0,"",INDEX(EmployeeTrackingSheet!$E$6:$E$1005,Calculations!P106,1)) | Y106: =IF(INDEX(EmployeeTrackingSheet!$F$6:$F$1005,Calculations!P106,1)=0,"",INDEX(EmployeeTrackingSheet!$F$6:$F$1005,Calculations!P106,1)) | Z106: =IFERROR(WEEKNUM(DATE(YEAR($Q106),$S106,$U106),1)-WEEKNUM(DATE(YEAR($Q106),$S106,1),1)+1,"") | AA106: =IF(INDEX(EmployeeTrackingSheet!$G$6:$G$1005,Calculations!P106,1)=0,"",INDEX(EmployeeTrackingSheet!$G$6:$G$1005,Calculations!P106,1)) | AB106: =IF(INDEX(EmployeeTrackingSheet!$H$6:$H$1005,Calculations!P106,1)=0,"",INDEX(EmployeeTrackingSheet!$H$6:$H$1005,Calculations!P106,1))
M107: 93 | N107: =IF(LEN(Checklist!C105)>0,Checklist!G105,"") | P107: 104 | Q107: =IF(INDEX(EmployeeTrackingSheet!$B$6:$B$1005,Calculations!P107,1)=0,"",INDEX(EmployeeTrackingSheet!$B$6:$B$1005,Calculations!P107,1)) | R107: =IF(LEN($Q107)=0,"",YEAR($Q107)) | S107: =IF(LEN($Q107)=0,"",MONTH($Q107)) | T107: =IF(LEN($Q107)=0,"",WEEKNUM($Q107)) | U107: =IF(LEN($Q107)=0,"",DAY($Q107)) | V107: =IF(INDEX(EmployeeTrackingSheet!$C$6:$C$1005,Calculations!P107,1)=0,"",INDEX(EmployeeTrackingSheet!$C$6:$C$1005,Calculations!P107,1)) | W107: =IF(INDEX(EmployeeTrackingSheet!$D$6:$D$1005,Calculations!P107,1)=0,"",INDEX(EmployeeTrackingSheet!$D$6:$D$1005,Calculations!P107,1)) | X107: =IF(INDEX(EmployeeTrackingSheet!$E$6:$E$1005,Calculations!P107,1)=0,"",INDEX(EmployeeTrackingSheet!$E$6:$E$1005,Calculations!P107,1)) | Y107: =IF(INDEX(EmployeeTrackingSheet!$F$6:$F$1005,Calculations!P107,1)=0,"",INDEX(EmployeeTrackingSheet!$F$6:$F$1005,Calculations!P107,1)) | Z107: =IFERROR(WEEKNUM(DATE(YEAR($Q107),$S107,$U107),1)-WEEKNUM(DATE(YEAR($Q107),$S107,1),1)+1,"") | AA107: =IF(INDEX(EmployeeTrackingSheet!$G$6:$G$1005,Calculations!P107,1)=0,"",INDEX(EmployeeTrackingSheet!$G$6:$G$1005,Calculations!P107,1)) | AB107: =IF(INDEX(EmployeeTrackingSheet!$H$6:$H$1005,Calculations!P107,1)=0,"",INDEX(EmployeeTrackingSheet!$H$6:$H$1005,Calculations!P107,1))
M108: 94 | N108: =IF(LEN(Checklist!C106)>0,Checklist!G106,"") | P108: 105 | Q108: =IF(INDEX(EmployeeTrackingSheet!$B$6:$B$1005,Calculations!P108,1)=0,"",INDEX(EmployeeTrackingSheet!$B$6:$B$1005,Calculations!P108,1)) | R108: =IF(LEN($Q108)=0,"",YEAR($Q108)) | S108: =IF(LEN($Q108)=0,"",MONTH($Q108)) | T108: =IF(LEN($Q108)=0,"",WEEKNUM($Q108)) | U108: =IF(LEN($Q108)=0,"",DAY($Q108)) | V108: =IF(INDEX(EmployeeTrackingSheet!$C$6:$C$1005,Calculations!P108,1)=0,"",INDEX(EmployeeTrackingSheet!$C$6:$C$1005,Calculations!P108,1)) | W108: =IF(INDEX(EmployeeTrackingSheet!$D$6:$D$1005,Calculations!P108,1)=0,"",INDEX(EmployeeTrackingSheet!$D$6:$D$1005,Calculations!P108,1)) | X108: =IF(INDEX(EmployeeTrackingSheet!$E$6:$E$1005,Calculations!P108,1)=0,"",INDEX(EmployeeTrackingSheet!$E$6:$E$1005,Calculations!P108,1)) | Y108: =IF(INDEX(EmployeeTrackingSheet!$F$6:$F$1005,Calculations!P108,1)=0,"",INDEX(EmployeeTrackingSheet!$F$6:$F$1005,Calculations!P108,1)) | Z108: =IFERROR(WEEKNUM(DATE(YEAR($Q108),$S108,$U108),1)-WEEKNUM(DATE(YEAR($Q108),$S108,1),1)+1,"") | AA108: =IF(INDEX(EmployeeTrackingSheet!$G$6:$G$1005,Calculations!P108,1)=0,"",INDEX(EmployeeTrackingSheet!$G$6:$G$1005,Calculations!P108,1)) | AB108: =IF(INDEX(EmployeeTrackingSheet!$H$6:$H$1005,Calculations!P108,1)=0,"",INDEX(EmployeeTrackingSheet!$H$6:$H$1005,Calculations!P108,1))
M109: 95 | N109: =IF(LEN(Checklist!C107)>0,Checklist!G107,"") | P109: 106 | Q109: =IF(INDEX(EmployeeTrackingSheet!$B$6:$B$1005,Calculations!P109,1)=0,"",INDEX(EmployeeTrackingSheet!$B$6:$B$1005,Calculations!P109,1)) | R109: =IF(LEN($Q109)=0,"",YEAR($Q109)) | S109: =IF(LEN($Q109)=0,"",MONTH($Q109)) | T109: =IF(LEN($Q109)=0,"",WEEKNUM($Q109)) | U109: =IF(LEN($Q109)=0,"",DAY($Q109)) | V109: =IF(INDEX(EmployeeTrackingSheet!$C$6:$C$1005,Calculations!P109,1)=0,"",INDEX(EmployeeTrackingSheet!$C$6:$C$1005,Calculations!P109,1)) | W109: =IF(INDEX(EmployeeTrackingSheet!$D$6:$D$1005,Calculations!P109,1)=0,"",INDEX(EmployeeTrackingSheet!$D$6:$D$1005,Calculations!P109,1)) | X109: =IF(INDEX(EmployeeTrackingSheet!$E$6:$E$1005,Calculations!P109,1)=0,"",INDEX(EmployeeTrackingSheet!$E$6:$E$1005,Calculations!P109,1)) | Y109: =IF(INDEX(EmployeeTrackingSheet!$F$6:$F$1005,Calculations!P109,1)=0,"",INDEX(EmployeeTrackingSheet!$F$6:$F$1005,Calculations!P109,1)) | Z109: =IFERROR(WEEKNUM(DATE(YEAR($Q109),$S109,$U109),1)-WEEKNUM(DATE(YEAR($Q109),$S109,1),1)+1,"") | AA109: =IF(INDEX(EmployeeTrackingSheet!$G$6:$G$1005,Calculations!P109,1)=0,"",INDEX(EmployeeTrackingSheet!$G$6:$G$1005,Calculations!P109,1)) | AB109: =IF(INDEX(EmployeeTrackingSheet!$H$6:$H$1005,Calculations!P109,1)=0,"",INDEX(EmployeeTrackingSheet!$H$6:$H$1005,Calculations!P109,1))
M110: 96 | N110: =IF(LEN(Checklist!C108)>0,Checklist!G108,"") | P110: 107 | Q110: =IF(INDEX(EmployeeTrackingSheet!$B$6:$B$1005,Calculations!P110,1)=0,"",INDEX(EmployeeTrackingSheet!$B$6:$B$1005,Calculations!P110,1)) | R110: =IF(LEN($Q110)=0,"",YEAR($Q110)) | S110: =IF(LEN($Q110)=0,"",MONTH($Q110)) | T110: =IF(LEN($Q110)=0,"",WEEKNUM($Q110)) | U110: =IF(LEN($Q110)=0,"",DAY($Q110)) | V110: =IF(INDEX(EmployeeTrackingSheet!$C$6:$C$1005,Calculations!P110,1)=0,"",INDEX(EmployeeTrackingSheet!$C$6:$C$1005,Calculations!P110,1)) | W110: =IF(INDEX(EmployeeTrackingSheet!$D$6:$D$1005,Calculations!P110,1)=0,"",INDEX(EmployeeTrackingSheet!$D$6:$D$1005,Calculations!P110,1)) | X110: =IF(INDEX(EmployeeTrackingSheet!$E$6:$E$1005,Calculations!P110,1)=0,"",INDEX(EmployeeTrackingSheet!$E$6:$E$1005,Calculations!P110,1)) | Y110: =IF(INDEX(EmployeeTrackingSheet!$F$6:$F$1005,Calculations!P110,1)=0,"",INDEX(EmployeeTrackingSheet!$F$6:$F$1005,Calculations!P110,1)) | Z110: =IFERROR(WEEKNUM(DATE(YEAR($Q110),$S110,$U110),1)-WEEKNUM(DATE(YEAR($Q110),$S110,1),1)+1,"") | AA110: =IF(INDEX(EmployeeTrackingSheet!$G$6:$G$1005,Calculations!P110,1)=0,"",INDEX(EmployeeTrackingSheet!$G$6:$G$1005,Calculations!P110,1)) | AB110: =IF(INDEX(EmployeeTrackingSheet!$H$6:$H$1005,Calculations!P110,1)=0,"",INDEX(EmployeeTrackingSheet!$H$6:$H$1005,Calculations!P110,1))
M111: 97 | N111: =IF(LEN(Checklist!C109)>0,Checklist!G109,"") | P111: 108 | Q111: =IF(INDEX(EmployeeTrackingSheet!$B$6:$B$1005,Calculations!P111,1)=0,"",INDEX(EmployeeTrackingSheet!$B$6:$B$1005,Calculations!P111,1)) | R111: =IF(LEN($Q111)=0,"",YEAR($Q111)) | S111: =IF(LEN($Q111)=0,"",MONTH($Q111)) | T111: =IF(LEN($Q111)=0,"",WEEKNUM($Q111)) | U111: =IF(LEN($Q111)=0,"",DAY($Q111)) | V111: =IF(INDEX(EmployeeTrackingSheet!$C$6:$C$1005,Calculations!P111,1)=0,"",INDEX(EmployeeTrackingSheet!$C$6:$C$1005,Calculations!P111,1)) | W111: =IF(INDEX(EmployeeTrackingSheet!$D$6:$D$1005,Calculations!P111,1)=0,"",INDEX(EmployeeTrackingSheet!$D$6:$D$1005,Calculations!P111,1)) | X111: =IF(INDEX(EmployeeTrackingSheet!$E$6:$E$1005,Calculations!P111,1)=0,"",INDEX(EmployeeTrackingSheet!$E$6:$E$1005,Calculations!P111,1)) | Y111: =IF(INDEX(EmployeeTrackingSheet!$F$6:$F$1005,Calculations!P111,1)=0,"",INDEX(EmployeeTrackingSheet!$F$6:$F$1005,Calculations!P111,1)) | Z111: =IFERROR(WEEKNUM(DATE(YEAR($Q111),$S111,$U111),1)-WEEKNUM(DATE(YEAR($Q111),$S111,1),1)+1,"") | AA111: =IF(INDEX(EmployeeTrackingSheet!$G$6:$G$1005,Calculations!P111,1)=0,"",INDEX(EmployeeTrackingSheet!$G$6:$G$1005,Calculations!P111,1)) | AB111: =IF(INDEX(EmployeeTrackingSheet!$H$6:$H$1005,Calculations!P111,1)=0,"",INDEX(EmployeeTrackingSheet!$H$6:$H$1005,Calculations!P111,1))
... M126: 112 | N126: =IF(LEN(Checklist!C124)>0,Checklist!G124,"") | P126: 123 | Q126: =IF(INDEX(EmployeeTrackingSheet!$B$6:$B$1005,Calculations!P126,1)=0,"",INDEX(EmployeeTrackingSheet!$B$6:$B$1005,Calculations!P126,1)) | R126: =IF(LEN($Q126)=0,"",YEAR($Q126)) | S126: =IF(LEN($Q126)=0,"",MONTH($Q126)) | T126: =IF(LEN($Q126)=0,"",WEEKNUM($Q126)) | U126: =IF(LEN($Q126)=0,"",DAY($Q126)) | V126: =IF(INDEX(EmployeeTrackingSheet!$C$6:$C$1005,Calculations!P126,1)=0,"",INDEX(EmployeeTrackingSheet!$C$6:$C$1005,Calculations!P126,1)) | W126: =IF(INDEX(EmployeeTrackingSheet!$D$6:$D$1005,Calculations!P126,1)=0,"",INDEX(EmployeeTrackingSheet!$D$6:$D$1005,Calculations!P126,1)) | X126: =IF(INDEX(EmployeeTrackingSheet!$E$6:$E$1005,Calculations!P126,1)=0,"",INDEX(EmployeeTrackingSheet!$E$6:$E$1005,Calculations!P126,1)) | Y126: =IF(INDEX(EmployeeTrackingSheet!$F$6:$F$1005,Calculations!P126,1)=0,"",INDEX(EmployeeTrackingSheet!$F$6:$F$1005,Calculations!P126,1)) | Z126: =IFERROR(WEEKNUM(DATE(YEAR($Q126),$S126,$U126),1)-WEEKNUM(DATE(YEAR($Q126),$S126,1),1)+1,"") | AA126: =IF(INDEX(EmployeeTrackingSheet!$G$6:$G$1005,Calculations!P126,1)=0,"",INDEX(EmployeeTrackingSheet!$G$6:$G$1005,Calculations!P126,1)) | AB126: =IF(INDEX(EmployeeTrackingSheet!$H$6:$H$1005,Calculations!P126,1)=0,"",INDEX(EmployeeTrackingSheet!$H$6:$H$1005,Calculations!P126,1))
P127: 124 | Q127: =IF(INDEX(EmployeeTrackingSheet!$B$6:$B$1005,Calculations!P127,1)=0,"",INDEX(EmployeeTrackingSheet!$B$6:$B$1005,Calculations!P127,1)) | R127: =IF(LEN($Q127)=0,"",YEAR($Q127)) | S127: =IF(LEN($Q127)=0,"",MONTH($Q127)) | T127: =IF(LEN($Q127)=0,"",WEEKNUM($Q127)) | U127: =IF(LEN($Q127)=0,"",DAY($Q127)) | V127: =IF(INDEX(EmployeeTrackingSheet!$C$6:$C$1005,Calculations!P127,1)=0,"",INDEX(EmployeeTrackingSheet!$C$6:$C$1005,Calculations!P127,1)) | W127: =IF(INDEX(EmployeeTrackingSheet!$D$6:$D$1005,Calculations!P127,1)=0,"",INDEX(EmployeeTrackingSheet!$D$6:$D$1005,Calculations!P127,1)) | X127: =IF(INDEX(EmployeeTrackingSheet!$E$6:$E$1005,Calculations!P127,1)=0,"",INDEX(EmployeeTrackingSheet!$E$6:$E$1005,Calculations!P127,1)) | Y127: =IF(INDEX(EmployeeTrackingSheet!$F$6:$F$1005,Calculations!P127,1)=0,"",INDEX(EmployeeTrackingSheet!$F$6:$F$1005,Calculations!P127,1)) | Z127: =IFERROR(WEEKNUM(DATE(YEAR($Q127),$S127,$U127),1)-WEEKNUM(DATE(YEAR($Q127),$S127,1),1)+1,"") | AA127: =IF(INDEX(EmployeeTrackingSheet!$G$6:$G$1005,Calculations!P127,1)=0,"",INDEX(EmployeeTrackingSheet!$G$6:$G$1005,Calculations!P127,1)) | AB127: =IF(INDEX(EmployeeTrackingSheet!$H$6:$H$1005,Calculations!P127,1)=0,"",INDEX(EmployeeTrackingSheet!$H$6:$H$1005,Calculations!P127,1))
