Workbook
Name ChartDepartments: OFFSET(Calculations!$B$14,0,0,Calculations!$B$12,1)
Name ChartHighRisk: OFFSET(Calculations!$E$14,0,0,Calculations!$B$12,1)
Name ChartLowRisk: OFFSET(Calculations!$C$14,0,0,Calculations!$B$12,1)
Name ChartMediumRisk: OFFSET(Calculations!$D$14,0,0,Calculations!$B$12,1)
Name ChartVeryHighRisk: OFFSET(Calculations!$F$14,0,0,Calculations!$B$12,1)
Name Table1: Checklist!$C$12:$G$112
Name Table1: Settings!$E$6:$H$106
Name Table2: EmployeeTrackingSheet!$B$5:$J$1005

Sheet Dashboard
C2: COVID-19 EMPLOYEE HEALTH TRACKER
C3: DASHBOARD
C9: 2020 | F9: JUNE
F13: =COUNTA(Settings!$E$7:$E$106) -> 16
I15: =Calculations!C8 -> 57.142857 | J15: =Calculations!D8 -> 42.857143
C17: Week 1 | F17: All Departments
C19: The Employee List (from employee timesheet)
C20: =IFERROR(IF(LEN(Calculations!$AQ6)>0,Calculations!$AQ6,""),"") -> Tom Wolf
C21: =IFERROR(IF(LEN(Calculations!$AQ7)>0,Calculations!$AQ7,""),"") -> Michela Alexis
C22: =IFERROR(IF(LEN(Calculations!$AQ8)>0,Calculations!$AQ8,""),"") -> Mario Mulhern
C23: =IFERROR(IF(LEN(Calculations!$AQ9)>0,Calculations!$AQ9,""),"") -> Bob Kumar
C24: =IFERROR(IF(LEN(Calculations!$AQ10)>0,Calculations!$AQ10,""),"") -> Adrian McDonagh
C25: =IFERROR(IF(LEN(Calculations!$AQ11)>0,Calculations!$AQ11,""),"") -> Joy Bailey
C26: =IFERROR(IF(LEN(Calculations!$AQ12)>0,Calculations!$AQ12,""),"") -> Ryan Jordan
C27: =IFERROR(IF(LEN(Calculations!$AQ13)>0,Calculations!$AQ13,""),"") -> Isabell Fair
C28: =IFERROR(IF(LEN(Calculations!$AQ14)>0,Calculations!$AQ14,""),"") -> Maxine Hancock
C29: =IFERROR(IF(LEN(Calculations!$AQ15)>0,Calculations!$AQ15,""),"")
C30: =IFERROR(IF(LEN(Calculations!$AQ16)>0,Calculations!$AQ16,""),"")
C31: =IFERROR(IF(LEN(Calculations!$AQ17)>0,Calculations!$AQ17,""),"")
... C33: =IFERROR(IF(LEN(Calculations!$AQ19)>0,Calculations!$AQ19,""),"")

Sheet EmployeeTrackingSheet
B2: COVID-19 EMPLOYEE HEALTH TRACKER
B3: EMPLOYEE TRACKING SHEET
B5: Date | C5: Employee Name | D5: Department | E5: =IF(LEN(Settings!J16)>0,"Temperature"&" "&"-"&""&Calculations!AE4,"Temperature") -> Temperature -°C | F5: Risk Level | G5: Wear a mask? | H5: Travel Outside? (within 14 days) | I5: Had Contacted with Covid-19? | J5: Symptom Evaluation
B6: 43923 | C6: Tom Wolf | D6: =IFERROR(IF(IF(LEN($C6)=0," ",INDEX(Settings!$F$7:$F$106,MATCH($C6,Settings!$E$7:$E$106,0),1))=0,"",IF(LEN($C6)=0,"",INDEX(Settings!$F$7:$F$106,MATCH($C6,Settings!$E$7:$E$106,0),1))),"") -> Sales | E6: 36.8 | F6: =IFERROR(INDEX(Settings!$J$8:$L$11,MATCH($E6,Settings!$J$8:$J$11,1),3),"") -> Low Risk | G6: Yes | H6: Yes | I6: No
B7: 43923 | C7: Adrian McDonagh | D7: =IFERROR(IF(IF(LEN($C7)=0," ",INDEX(Settings!$F$7:$F$106,MATCH($C7,Settings!$E$7:$E$106,0),1))=0,"",IF(LEN($C7)=0,"",INDEX(Settings!$F$7:$F$106,MATCH($C7,Settings!$E$7:$E$106,0),1))),"") -> Sales | E7: 38.7 | F7: =IFERROR(INDEX(Settings!$J$8:$L$11,MATCH($E7,Settings!$J$8:$J$11,1),3),"") -> High Risk | G7: Yes | H7: Yes | I7: No
B8: 43923 | C8: Marry Smith | D8: =IFERROR(IF(IF(LEN($C8)=0," ",INDEX(Settings!$F$7:$F$106,MATCH($C8,Settings!$E$7:$E$106,0),1))=0,"",IF(LEN($C8)=0,"",INDEX(Settings!$F$7:$F$106,MATCH($C8,Settings!$E$7:$E$106,0),1))),"") -> Purchasing | E8: 37.9 | F8: =IFERROR(INDEX(Settings!$J$8:$L$11,MATCH($E8,Settings!$J$8:$J$11,1),3),"") -> Medium Risk | G8: Yes | H8: No | I8: No
B9: 43923 | C9: Mario Mulhern | D9: =IFERROR(IF(IF(LEN($C9)=0," ",INDEX(Settings!$F$7:$F$106,MATCH($C9,Settings!$E$7:$E$106,0),1))=0,"",IF(LEN($C9)=0,"",INDEX(Settings!$F$7:$F$106,MATCH($C9,Settings!$E$7:$E$106,0),1))),"") -> Manufacturing | E9: 37.1 | F9: =IFERROR(INDEX(Settings!$J$8:$L$11,MATCH($E9,Settings!$J$8:$J$11,1),3),"") -> Low Risk | G9: No | H9: No | I9: No
B10: 43923 | C10: Joy Bailey | D10: =IFERROR(IF(IF(LEN($C10)=0," ",INDEX(Settings!$F$7:$F$106,MATCH($C10,Settings!$E$7:$E$106,0),1))=0,"",IF(LEN($C10)=0,"",INDEX(Settings!$F$7:$F$106,MATCH($C10,Settings!$E$7:$E$106,0),1))),"") -> Finance | E10: 36.5 | F10: =IFERROR(INDEX(Settings!$J$8:$L$11,MATCH($E10,Settings!$J$8:$J$11,1),3),"") -> Low Risk | G10: Yes | H10: No | I10: No
B11: 43923 | C11: Robert Liller | D11: =IFERROR(IF(IF(LEN($C11)=0," ",INDEX(Settings!$F$7:$F$106,MATCH($C11,Settings!$E$7:$E$106,0),1))=0,"",IF(LEN($C11)=0,"",INDEX(Settings!$F$7:$F$106,MATCH($C11,Settings!$E$7:$E$106,0),1))),"") -> Logistic | E11: 37.8 | F11: =IFERROR(INDEX(Settings!$J$8:$L$11,MATCH($E11,Settings!$J$8:$J$11,1),3),"") -> Medium Risk | G11: Yes | H11: Yes | I11: No
B12: 43965 | C12: Ellie Kite | D12: =IFERROR(IF(IF(LEN($C12)=0," ",INDEX(Settings!$F$7:$F$106,MATCH($C12,Settings!$E$7:$E$106,0),1))=0,"",IF(LEN($C12)=0,"",INDEX(Settings!$F$7:$F$106,MATCH($C12,Settings!$E$7:$E$106,0),1))),"") -> Purchasing | E12: 38.3 | F12: =IFERROR(INDEX(Settings!$J$8:$L$11,MATCH($E12,Settings!$J$8:$J$11,1),3),"") -> Medium Risk | G12: Yes | H12: No | I12: No
B13: 43965 | C13: Mario Mulhern | D13: =IFERROR(IF(IF(LEN($C13)=0," ",INDEX(Settings!$F$7:$F$106,MATCH($C13,Settings!$E$7:$E$106,0),1))=0,"",IF(LEN($C13)=0,"",INDEX(Settings!$F$7:$F$106,MATCH($C13,Settings!$E$7:$E$106,0),1))),"") -> Manufacturing | E13: 39 | F13: =IFERROR(INDEX(Settings!$J$8:$L$11,MATCH($E13,Settings!$J$8:$J$11,1),3),"") -> High Risk | G13: Yes | H13: No | I13: No
B14: 43990 | C14: Maxine Hancock | D14: =IFERROR(IF(IF(LEN($C14)=0," ",INDEX(Settings!$F$7:$F$106,MATCH($C14,Settings!$E$7:$E$106,0),1))=0,"",IF(LEN($C14)=0,"",INDEX(Settings!$F$7:$F$106,MATCH($C14,Settings!$E$7:$E$106,0),1))),"") -> IT | E14: 39.8 | F14: =IFERROR(INDEX(Settings!$J$8:$L$11,MATCH($E14,Settings!$J$8:$J$11,1),3),"") -> Very High Risk | G14: No | H14: Yes | I14: Yes
B15: 43990 | C15: Kat Tesser | D15: =IFERROR(IF(IF(LEN($C15)=0," ",INDEX(Settings!$F$7:$F$106,MATCH($C15,Settings!$E$7:$E$106,0),1))=0,"",IF(LEN($C15)=0,"",INDEX(Settings!$F$7:$F$106,MATCH($C15,Settings!$E$7:$E$106,0),1))),"") -> Supply Chain | E15: 37.1 | F15: =IFERROR(INDEX(Settings!$J$8:$L$11,MATCH($E15,Settings!$J$8:$J$11,1),3),"") -> Low Risk | G15: Yes | H15: No | I15: No
B16: 43990 | C16: Ellie Kite | D16: =IFERROR(IF(IF(LEN($C16)=0," ",INDEX(Settings!$F$7:$F$106,MATCH($C16,Settings!$E$7:$E$106,0),1))=0,"",IF(LEN($C16)=0,"",INDEX(Settings!$F$7:$F$106,MATCH($C16,Settings!$E$7:$E$106,0),1))),"") -> Purchasing | E16: 37.5 | F16: =IFERROR(INDEX(Settings!$J$8:$L$11,MATCH($E16,Settings!$J$8:$J$11,1),3),"") -> Medium Risk | G16: Yes | H16: No | I16: No
B17: 43999 | C17: Michela Alexis | D17: =IFERROR(IF(IF(LEN($C17)=0," ",INDEX(Settings!$F$7:$F$106,MATCH($C17,Settings!$E$7:$E$106,0),1))=0,"",IF(LEN($C17)=0,"",INDEX(Settings!$F$7:$F$106,MATCH($C17,Settings!$E$7:$E$106,0),1))),"") -> Manufacturing | E17: 37.9 | F17: =IFERROR(INDEX(Settings!$J$8:$L$11,MATCH($E17,Settings!$J$8:$J$11,1),3),"") -> Medium Risk | G17: No | H17: No | I17: No
... B23: 44022 | C23: Maxine Hancock | D23: =IFERROR(IF(IF(LEN($C23)=0," ",INDEX(Settings!$F$7:$F$106,MATCH($C23,Settings!$E$7:$E$106,0),1))=0,"",IF(LEN($C23)=0,"",INDEX(Settings!$F$7:$F$106,MATCH($C23,Settings!$E$7:$E$106,0),1))),"") -> IT | E23: 39 | F23: =IFERROR(INDEX(Settings!$J$8:$L$11,MATCH($E23,Settings!$J$8:$J$11,1),3),"") -> High Risk | G23: Yes | H23: Yes | I23: No
D24: =IFERROR(IF(IF(LEN($C24)=0," ",INDEX(Settings!$F$7:$F$106,MATCH($C24,Settings!$E$7:$E$106,0),1))=0,"",IF(LEN($C24)=0,"",INDEX(Settings!$F$7:$F$106,MATCH($C24,Settings!$E$7:$E$106,0),1))),"") | F24: =IFERROR(INDEX(Settings!$J$8:$L$11,MATCH($E24,Settings!$J$8:$J$11,1),3),"")
D25: =IFERROR(IF(IF(LEN($C25)=0," ",INDEX(Settings!$F$7:$F$106,MATCH($C25,Settings!$E$7:$E$106,0),1))=0,"",IF(LEN($C25)=0,"",INDEX(Settings!$F$7:$F$106,MATCH($C25,Settings!$E$7:$E$106,0),1))),"") | F25: =IFERROR(INDEX(Settings!$J$8:$L$11,MATCH($E25,Settings!$J$8:$J$11,1),3),"")
D26: =IFERROR(IF(IF(LEN($C26)=0," ",INDEX(Settings!$F$7:$F$106,MATCH($C26,Settings!$E$7:$E$106,0),1))=0,"",IF(LEN($C26)=0,"",INDEX(Settings!$F$7:$F$106,MATCH($C26,Settings!$E$7:$E$106,0),1))),"") | F26: =IFERROR(INDEX(Settings!$J$8:$L$11,MATCH($E26,Settings!$J$8:$J$11,1),3),"")
D27: =IFERROR(IF(IF(LEN($C27)=0," ",INDEX(Settings!$F$7:$F$106,MATCH($C27,Settings!$E$7:$E$106,0),1))=0,"",IF(LEN($C27)=0,"",INDEX(Settings!$F$7:$F$106,MATCH($C27,Settings!$E$7:$E$106,0),1))),"") | F27: =IFERROR(INDEX(Settings!$J$8:$L$11,MATCH($E27,Settings!$J$8:$J$11,1),3),"")
D28: =IFERROR(IF(IF(LEN($C28)=0," ",INDEX(Settings!$F$7:$F$106,MATCH($C28,Settings!$E$7:$E$106,0),1))=0,"",IF(LEN($C28)=0,"",INDEX(Settings!$F$7:$F$106,MATCH($C28,Settings!$E$7:$E$106,0),1))),"") | F28: =IFERROR(INDEX(Settings!$J$8:$L$11,MATCH($E28,Settings!$J$8:$J$11,1),3),"")
D29: =IFERROR(IF(IF(LEN($C29)=0," ",INDEX(Settings!$F$7:$F$106,MATCH($C29,Settings!$E$7:$E$106,0),1))=0,"",IF(LEN($C29)=0,"",INDEX(Settings!$F$7:$F$106,MATCH($C29,Settings!$E$7:$E$106,0),1))),"") | F29: =IFERROR(INDEX(Settings!$J$8:$L$11,MATCH($E29,Settings!$J$8:$J$11,1),3),"")
D30: =IFERROR(IF(IF(LEN($C30)=0," ",INDEX(Settings!$F$7:$F$106,MATCH($C30,Settings!$E$7:$E$106,0),1))=0,"",IF(LEN($C30)=0,"",INDEX(Settings!$F$7:$F$106,MATCH($C30,Settings!$E$7:$E$106,0),1))),"") | F30: =IFERROR(INDEX(Settings!$J$8:$L$11,MATCH($E30,Settings!$J$8:$J$11,1),3),"")
D31: =IFERROR(IF(IF(LEN($C31)=0," ",INDEX(Settings!$F$7:$F$106,MATCH($C31,Settings!$E$7:$E$106,0),1))=0,"",IF(LEN($C31)=0,"",INDEX(Settings!$F$7:$F$106,MATCH($C31,Settings!$E$7:$E$106,0),1))),"") | F31: =IFERROR(INDEX(Settings!$J$8:$L$11,MATCH($E31,Settings!$J$8:$J$11,1),3),"")
D32: =IFERROR(IF(IF(LEN($C32)=0," ",INDEX(Settings!$F$7:$F$106,MATCH($C32,Settings!$E$7:$E$106,0),1))=0,"",IF(LEN($C32)=0,"",INDEX(Settings!$F$7:$F$106,MATCH($C32,Settings!$E$7:$E$106,0),1))),"") | F32: =IFERROR(INDEX(Settings!$J$8:$L$11,MATCH($E32,Settings!$J$8:$J$11,1),3),"")
D33: =IFERROR(IF(IF(LEN($C33)=0," ",INDEX(Settings!$F$7:$F$106,MATCH($C33,Settings!$E$7:$E$106,0),1))=0,"",IF(LEN($C33)=0,"",INDEX(Settings!$F$7:$F$106,MATCH($C33,Settings!$E$7:$E$106,0),1))),"") | F33: =IFERROR(INDEX(Settings!$J$8:$L$11,MATCH($E33,Settings!$J$8:$J$11,1),3),"")
D34: =IFERROR(IF(IF(LEN($C34)=0," ",INDEX(Settings!$F$7:$F$106,MATCH($C34,Settings!$E$7:$E$106,0),1))=0,"",IF(LEN($C34)=0,"",INDEX(Settings!$F$7:$F$106,MATCH($C34,Settings!$E$7:$E$106,0),1))),"") | F34: =IFERROR(INDEX(Settings!$J$8:$L$11,MATCH($E34,Settings!$J$8:$J$11,1),3),"")
D35: =IFERROR(IF(IF(LEN($C35)=0," ",INDEX(Settings!$F$7:$F$106,MATCH($C35,Settings!$E$7:$E$106,0),1))=0,"",IF(LEN($C35)=0,"",INDEX(Settings!$F$7:$F$106,MATCH($C35,Settings!$E$7:$E$106,0),1))),"") | F35: =IFERROR(INDEX(Settings!$J$8:$L$11,MATCH($E35,Settings!$J$8:$J$11,1),3),"")
... D1005: =IFERROR(IF(IF(LEN($C1005)=0," ",INDEX(Settings!$F$7:$F$106,MATCH($C1005,Settings!$E$7:$E$106,0),1))=0,"",IF(LEN($C1005)=0,"",INDEX(Settings!$F$7:$F$106,MATCH($C1005,Settings!$E$7:$E$106,0),1))),"") | F1005: =IFERROR(INDEX(Settings!$J$8:$L$11,MATCH($E1005,Settings!$J$8:$J$11,1),3),"")

Sheet EmployeeTimesheet
B2: COVID-19 EMPLOYEE HEALTH TRACKER
B3: ="EMPLOYEE TIMESHEET"&" "&"-"&" "&Dashboard!C9&" "&Dashboard!F9 -> EMPLOYEE TIMESHEET - 2020 JUNE
D5: 1 | E5: 2 | F5: 3 | G5: 4 | H5: 5 | I5: 6 | J5: 7 | K5: 8 | L5: 9 | M5: 10 | N5: 11 | O5: 12 | P5: 13 | Q5: 14 | R5: 15 | S5: 16 | T5: 17 | U5: 18 | V5: 19 | W5: 20 | X5: 21 | Y5: 22 | Z5: 23 | AA5: 24 | AB5: 25 | AC5: 26 | AD5: 27 | AE5: 28 | AF5: 29 | AG5: 30 | AH5: 31 | AJ5: Total worked days | AL5: Number of Working Days
B6: Employee Name | C6: Department | D6: =IFERROR(INDEX(Calculations!$BB$5:$BC$275,MATCH(WEEKDAY(DATE(Calculations!$AD$7,Calculations!$AE$7,EmployeeTimesheet!D$5),2),Calculations!$BB$5:$BB$11,0),2),"") -> Mon | E6: =IFERROR(INDEX(Calculations!$BB$5:$BC$275,MATCH(WEEKDAY(DATE(Calculations!$AD$7,Calculations!$AE$7,EmployeeTimesheet!E$5),2),Calculations!$BB$5:$BB$11,0),2),"") -> Tue | F6: =IFERROR(INDEX(Calculations!$BB$5:$BC$275,MATCH(WEEKDAY(DATE(Calculations!$AD$7,Calculations!$AE$7,EmployeeTimesheet!F$5),2),Calculations!$BB$5:$BB$11,0),2),"") -> Wed | G6: =IFERROR(INDEX(Calculations!$BB$5:$BC$275,MATCH(WEEKDAY(DATE(Calculations!$AD$7,Calculations!$AE$7,EmployeeTimesheet!G$5),2),Calculations!$BB$5:$BB$11,0),2),"") -> Thu | H6: =IFERROR(INDEX(Calculations!$BB$5:$BC$275,MATCH(WEEKDAY(DATE(Calculations!$AD$7,Calculations!$AE$7,EmployeeTimesheet!H$5),2),Calculations!$BB$5:$BB$11,0),2),"") -> Fri | I6: =IFERROR(INDEX(Calculations!$BB$5:$BC$275,MATCH(WEEKDAY(DATE(Calculations!$AD$7,Calculations!$AE$7,EmployeeTimesheet!I$5),2),Calculations!$BB$5:$BB$11,0),2),"") -> Sat | J6: =IFERROR(INDEX(Calculations!$BB$5:$BC$275,MATCH(WEEKDAY(DATE(Calculations!$AD$7,Calculations!$AE$7,EmployeeTimesheet!J$5),2),Calculations!$BB$5:$BB$11,0),2),"") -> Sun | K6: =IFERROR(INDEX(Calculations!$BB$5:$BC$275,MATCH(WEEKDAY(DATE(Calculations!$AD$7,Calculations!$AE$7,EmployeeTimesheet!K$5),2),Calculations!$BB$5:$BB$11,0),2),"") -> Mon | ... AH6: =IFERROR(INDEX(Calculations!$BB$5:$BC$275,MATCH(WEEKDAY(DATE(Calculations!$AD$7,Calculations!$AE$7,EmployeeTimesheet!AH$5),2),Calculations!$BB$5:$BB$11,0),2),"") -> Wed | AL6: W1 | AM6: W2 | AN6: W3 | AO6: W4 | AP6: W5 | AQ6: W6
B7: Tom Wolf | C7: =IFERROR(IF(IF(LEN($B7)=0," ",INDEX(Settings!$E$7:$F$106,MATCH($B7,Settings!$E$7:$E$106,0),2))=0,"",IF(LEN($B7)=0," ",INDEX(Settings!$E$7:$F$106,MATCH($B7,Settings!$E$7:$E$106,0),2))),"") -> Sales | E7: x | F7: x | N7: x | AJ7: =IFERROR(IF(COUNTIF($D7:$AH7,"x")=0," ",COUNTIF($D7:$AH7,"x")),"") -> 3 | AL7: =IF(COUNTIF(OFFSET($D7,,,ROW($A$7)-ROW($A$6),Calculations!$BE$16),"x")=0,"",COUNTIF(OFFSET($D7,,,ROW($A$7)-ROW($A$6),Calculations!$BE$16),"x")) -> 2 | AM7: =IF((COUNTIF(OFFSET($D7,,,ROW($A$7)-ROW($A$6),SUM(Calculations!$BE$16,Calculations!$BF$16)),"x")-SUM($AL7))=0,"",COUNTIF(OFFSET($D7,,,ROW($A$7)-ROW($A$6),SUM(Calculations!$BE$16,Calculations!$BF$16)),"x")-SUM($AL7)) -> 1 | AN7: =IF((COUNTIF(OFFSET($D7,,,ROW($A$7)-ROW($A$6),SUM(Calculations!$BE$16:$BG$16)),"x")-SUM($AL7,$AM7))=0,"",COUNTIF(OFFSET($D7,,,ROW($A$7)-ROW($A$6),SUM(Calculations!$BE$16:$BG$16)),"x")-SUM($AL7,$AM7)) | AO7: =IF((COUNTIF(OFFSET($D7,,,ROW($A$7)-ROW($A$6),SUM(Calculations!$BE$16:$BH$16)),"x")-SUM($AM7,$AN7,$AL7))=0,"",COUNTIF(OFFSET($D7,,,ROW($A$7)-ROW($A$6),SUM(Calculations!$BE$16:$BH$16)),"x")-SUM($AM7,$AN7,$AL7)) | AP7: =IF((COUNTIF(OFFSET($D7,,,ROW($A$7)-ROW($A$6),SUM(Calculations!$BE$16:$BI$16)),"x")-SUM($AN7,$AO7,$AM7,$AL7))=0,"",COUNTIF(OFFSET($D7,,,ROW($A$7)-ROW($A$6),SUM(Calculations!$BE$16:$BI$16)),"x")-SUM($AN7,$AO7,$AM7,$AL7)) | AQ7: =IF((COUNTIF(OFFSET($D7,,,ROW($A$7)-ROW($A$6),SUM(Calculations!$BE$16:$BJ$16)),"x")-SUM($AO7,$AP7,$AN7,$AM7,$AL7))=0,"",COUNTIF(OFFSET($D7,,,ROW($A$7)-ROW($A$6),SUM(Calculations!$BE$16:$BJ$16,#REF!)),"x")-SUM($AO7,$AP7,$AN7,$AM7,$AL7))
B8: Michela Alexis | C8: =IFERROR(IF(IF(LEN($B8)=0," ",INDEX(Settings!$E$7:$F$106,MATCH($B8,Settings!$E$7:$E$106,0),2))=0,"",IF(LEN($B8)=0," ",INDEX(Settings!$E$7:$F$106,MATCH($B8,Settings!$E$7:$E$106,0),2))),"") -> Manufacturing | D8: x | G8: x | H8: x | L8: x | O8: x | T8: x | V8: x | AA8: x | AJ8: =IFERROR(IF(COUNTIF($D8:$AH8,"x")=0," ",COUNTIF($D8:$AH8,"x")),"") -> 8 | AL8: =IF(COUNTIF(OFFSET($D8,,,ROW($A$7)-ROW($A$6),Calculations!$BE$16),"x")=0,"",COUNTIF(OFFSET($D8,,,ROW($A$7)-ROW($A$6),Calculations!$BE$16),"x")) -> 3 | AM8: =IF((COUNTIF(OFFSET($D8,,,ROW($A$7)-ROW($A$6),SUM(Calculations!$BE$16,Calculations!$BF$16)),"x")-SUM($AL8))=0,"",COUNTIF(OFFSET($D8,,,ROW($A$7)-ROW($A$6),SUM(Calculations!$BE$16,Calculations!$BF$16)),"x")-SUM($AL8)) -> 2 | AN8: =IF((COUNTIF(OFFSET($D8,,,ROW($A$7)-ROW($A$6),SUM(Calculations!$BE$16:$BG$16)),"x")-SUM($AL8,$AM8))=0,"",COUNTIF(OFFSET($D8,,,ROW($A$7)-ROW($A$6),SUM(Calculations!$BE$16:$BG$16)),"x")-SUM($AL8,$AM8)) -> 2 | AO8: =IF((COUNTIF(OFFSET($D8,,,ROW($A$7)-ROW($A$6),SUM(Calculations!$BE$16:$BH$16)),"x")-SUM($AM8,$AN8,$AL8))=0,"",COUNTIF(OFFSET($D8,,,ROW($A$7)-ROW($A$6),SUM(Calculations!$BE$16:$BH$16)),"x")-SUM($AM8,$AN8,$AL8)) -> 1 | AP8: =IF((COUNTIF(OFFSET($D8,,,ROW($A$7)-ROW($A$6),SUM(Calculations!$BE$16:$BI$16)),"x")-SUM($AN8,$AO8,$AM8,$AL8))=0,"",COUNTIF(OFFSET($D8,,,ROW($A$7)-ROW($A$6),SUM(Calculations!$BE$16:$BI$16)),"x")-SUM($AN8,$AO8,$AM8,$AL8)) | AQ8: =IF((COUNTIF(OFFSET($D8,,,ROW($A$7)-ROW($A$6),SUM(Calculations!$BE$16:$BJ$16)),"x")-SUM($AO8,$AP8,$AN8,$AM8,$AL8))=0,"",COUNTIF(OFFSET($D8,,,ROW($A$7)-ROW($A$6),SUM(Calculations!$BE$16:$BJ$16,#REF!)),"x")-SUM($AO8,$AP8,$AN8,$AM8,$AL8))
B9: Mario Mulhern | C9: =IFERROR(IF(IF(LEN($B9)=0," ",INDEX(Settings!$E$7:$F$106,MATCH($B9,Settings!$E$7:$E$106,0),2))=0,"",IF(LEN($B9)=0," ",INDEX(Settings!$E$7:$F$106,MATCH($B9,Settings!$E$7:$E$106,0),2))),"") -> Manufacturing | F9: x | K9: x | R9: x | X9: x | AJ9: =IFERROR(IF(COUNTIF($D9:$AH9,"x")=0," ",COUNTIF($D9:$AH9,"x")),"") -> 4 | AL9: =IF(COUNTIF(OFFSET($D9,,,ROW($A$7)-ROW($A$6),Calculations!$BE$16),"x")=0,"",COUNTIF(OFFSET($D9,,,ROW($A$7)-ROW($A$6),Calculations!$BE$16),"x")) -> 1 | AM9: =IF((COUNTIF(OFFSET($D9,,,ROW($A$7)-ROW($A$6),SUM(Calculations!$BE$16,Calculations!$BF$16)),"x")-SUM($AL9))=0,"",COUNTIF(OFFSET($D9,,,ROW($A$7)-ROW($A$6),SUM(Calculations!$BE$16,Calculations!$BF$16)),"x")-SUM($AL9)) -> 1 | AN9: =IF((COUNTIF(OFFSET($D9,,,ROW($A$7)-ROW($A$6),SUM(Calculations!$BE$16:$BG$16)),"x")-SUM($AL9,$AM9))=0,"",COUNTIF(OFFSET($D9,,,ROW($A$7)-ROW($A$6),SUM(Calculations!$BE$16:$BG$16)),"x")-SUM($AL9,$AM9)) -> 2 | AO9: =IF((COUNTIF(OFFSET($D9,,,ROW($A$7)-ROW($A$6),SUM(Calculations!$BE$16:$BH$16)),"x")-SUM($AM9,$AN9,$AL9))=0,"",COUNTIF(OFFSET($D9,,,ROW($A$7)-ROW($A$6),SUM(Calculations!$BE$16:$BH$16)),"x")-SUM($AM9,$AN9,$AL9)) | AP9: =IF((COUNTIF(OFFSET($D9,,,ROW($A$7)-ROW($A$6),SUM(Calculations!$BE$16:$BI$16)),"x")-SUM($AN9,$AO9,$AM9,$AL9))=0,"",COUNTIF(OFFSET($D9,,,ROW($A$7)-ROW($A$6),SUM(Calculations!$BE$16:$BI$16)),"x")-SUM($AN9,$AO9,$AM9,$AL9)) | AQ9: =IF((COUNTIF(OFFSET($D9,,,ROW($A$7)-ROW($A$6),SUM(Calculations!$BE$16:$BJ$16)),"x")-SUM($AO9,$AP9,$AN9,$AM9,$AL9))=0,"",COUNTIF(OFFSET($D9,,,ROW($A$7)-ROW($A$6),SUM(Calculations!$BE$16:$BJ$16,#REF!)),"x")-SUM($AO9,$AP9,$AN9,$AM9,$AL9))
B10: Bob Kumar | C10: =IFERROR(IF(IF(LEN($B10)=0," ",INDEX(Settings!$E$7:$F$106,MATCH($B10,Settings!$E$7:$E$106,0),2))=0,"",IF(LEN($B10)=0," ",INDEX(Settings!$E$7:$F$106,MATCH($B10,Settings!$E$7:$E$106,0),2))),"") -> Human Resources | E10: x | AE10: x | AJ10: =IFERROR(IF(COUNTIF($D10:$AH10,"x")=0," ",COUNTIF($D10:$AH10,"x")),"") -> 2 | AL10: =IF(COUNTIF(OFFSET($D10,,,ROW($A$7)-ROW($A$6),Calculations!$BE$16),"x")=0,"",COUNTIF(OFFSET($D10,,,ROW($A$7)-ROW($A$6),Calculations!$BE$16),"x")) -> 1 | AM10: =IF((COUNTIF(OFFSET($D10,,,ROW($A$7)-ROW($A$6),SUM(Calculations!$BE$16,Calculations!$BF$16)),"x")-SUM($AL10))=0,"",COUNTIF(OFFSET($D10,,,ROW($A$7)-ROW($A$6),SUM(Calculations!$BE$16,Calculations!$BF$16)),"x")-SUM($AL10)) | AN10: =IF((COUNTIF(OFFSET($D10,,,ROW($A$7)-ROW($A$6),SUM(Calculations!$BE$16:$BG$16)),"x")-SUM($AL10,$AM10))=0,"",COUNTIF(OFFSET($D10,,,ROW($A$7)-ROW($A$6),SUM(Calculations!$BE$16:$BG$16)),"x")-SUM($AL10,$AM10)) | AO10: =IF((COUNTIF(OFFSET($D10,,,ROW($A$7)-ROW($A$6),SUM(Calculations!$BE$16:$BH$16)),"x")-SUM($AM10,$AN10,$AL10))=0,"",COUNTIF(OFFSET($D10,,,ROW($A$7)-ROW($A$6),SUM(Calculations!$BE$16:$BH$16)),"x")-SUM($AM10,$AN10,$AL10)) -> 1 | AP10: =IF((COUNTIF(OFFSET($D10,,,ROW($A$7)-ROW($A$6),SUM(Calculations!$BE$16:$BI$16)),"x")-SUM($AN10,$AO10,$AM10,$AL10))=0,"",COUNTIF(OFFSET($D10,,,ROW($A$7)-ROW($A$6),SUM(Calculations!$BE$16:$BI$16)),"x")-SUM($AN10,$AO10,$AM10,$AL10)) | AQ10: =IF((COUNTIF(OFFSET($D10,,,ROW($A$7)-ROW($A$6),SUM(Calculations!$BE$16:$BJ$16)),"x")-SUM($AO10,$AP10,$AN10,$AM10,$AL10))=0,"",COUNTIF(OFFSET($D10,,,ROW($A$7)-ROW($A$6),SUM(Calculations!$BE$16:$BJ$16,#REF!)),"x")-SUM($AO10,$AP10,$AN10,$AM10,$AL10))
B11: Adrian McDonagh | C11: =IFERROR(IF(IF(LEN($B11)=0," ",INDEX(Settings!$E$7:$F$106,MATCH($B11,Settings!$E$7:$E$106,0),2))=0,"",IF(LEN($B11)=0," ",INDEX(Settings!$E$7:$F$106,MATCH($B11,Settings!$E$7:$E$106,0),2))),"") -> Sales | H11: x | AF11: x | AJ11: =IFERROR(IF(COUNTIF($D11:$AH11,"x")=0," ",COUNTIF($D11:$AH11,"x")),"") -> 2 | AL11: =IF(COUNTIF(OFFSET($D11,,,ROW($A$7)-ROW($A$6),Calculations!$BE$16),"x")=0,"",COUNTIF(OFFSET($D11,,,ROW($A$7)-ROW($A$6),Calculations!$BE$16),"x")) -> 1 | AM11: =IF((COUNTIF(OFFSET($D11,,,ROW($A$7)-ROW($A$6),SUM(Calculations!$BE$16,Calculations!$BF$16)),"x")-SUM($AL11))=0,"",COUNTIF(OFFSET($D11,,,ROW($A$7)-ROW($A$6),SUM(Calculations!$BE$16,Calculations!$BF$16)),"x")-SUM($AL11)) | AN11: =IF((COUNTIF(OFFSET($D11,,,ROW($A$7)-ROW($A$6),SUM(Calculations!$BE$16:$BG$16)),"x")-SUM($AL11,$AM11))=0,"",COUNTIF(OFFSET($D11,,,ROW($A$7)-ROW($A$6),SUM(Calculations!$BE$16:$BG$16)),"x")-SUM($AL11,$AM11)) | AO11: =IF((COUNTIF(OFFSET($D11,,,ROW($A$7)-ROW($A$6),SUM(Calculations!$BE$16:$BH$16)),"x")-SUM($AM11,$AN11,$AL11))=0,"",COUNTIF(OFFSET($D11,,,ROW($A$7)-ROW($A$6),SUM(Calculations!$BE$16:$BH$16)),"x")-SUM($AM11,$AN11,$AL11)) | AP11: =IF((COUNTIF(OFFSET($D11,,,ROW($A$7)-ROW($A$6),SUM(Calculations!$BE$16:$BI$16)),"x")-SUM($AN11,$AO11,$AM11,$AL11))=0,"",COUNTIF(OFFSET($D11,,,ROW($A$7)-ROW($A$6),SUM(Calculations!$BE$16:$BI$16)),"x")-SUM($AN11,$AO11,$AM11,$AL11)) -> 1 | AQ11: =IF((COUNTIF(OFFSET($D11,,,ROW($A$7)-ROW($A$6),SUM(Calculations!$BE$16:$BJ$16)),"x")-SUM($AO11,$AP11,$AN11,$AM11,$AL11))=0,"",COUNTIF(OFFSET($D11,,,ROW($A$7)-ROW($A$6),SUM(Calculations!$BE$16:$BJ$16,#REF!)),"x")-SUM($AO11,$AP11,$AN11,$AM11,$AL11))
B12: Joy Bailey | C12: =IFERROR(IF(IF(LEN($B12)=0," ",INDEX(Settings!$E$7:$F$106,MATCH($B12,Settings!$E$7:$E$106,0),2))=0,"",IF(LEN($B12)=0," ",INDEX(Settings!$E$7:$F$106,MATCH($B12,Settings!$E$7:$E$106,0),2))),"") -> Finance | E12: x | AE12: x | AJ12: =IFERROR(IF(COUNTIF($D12:$AH12,"x")=0," ",COUNTIF($D12:$AH12,"x")),"") -> 2 | AL12: =IF(COUNTIF(OFFSET($D12,,,ROW($A$7)-ROW($A$6),Calculations!$BE$16),"x")=0,"",COUNTIF(OFFSET($D12,,,ROW($A$7)-ROW($A$6),Calculations!$BE$16),"x")) -> 1 | AM12: =IF((COUNTIF(OFFSET($D12,,,ROW($A$7)-ROW($A$6),SUM(Calculations!$BE$16,Calculations!$BF$16)),"x")-SUM($AL12))=0,"",COUNTIF(OFFSET($D12,,,ROW($A$7)-ROW($A$6),SUM(Calculations!$BE$16,Calculations!$BF$16)),"x")-SUM($AL12)) | AN12: =IF((COUNTIF(OFFSET($D12,,,ROW($A$7)-ROW($A$6),SUM(Calculations!$BE$16:$BG$16)),"x")-SUM($AL12,$AM12))=0,"",COUNTIF(OFFSET($D12,,,ROW($A$7)-ROW($A$6),SUM(Calculations!$BE$16:$BG$16)),"x")-SUM($AL12,$AM12)) | AO12: =IF((COUNTIF(OFFSET($D12,,,ROW($A$7)-ROW($A$6),SUM(Calculations!$BE$16:$BH$16)),"x")-SUM($AM12,$AN12,$AL12))=0,"",COUNTIF(OFFSET($D12,,,ROW($A$7)-ROW($A$6),SUM(Calculations!$BE$16:$BH$16)),"x")-SUM($AM12,$AN12,$AL12)) -> 1 | AP12: =IF((COUNTIF(OFFSET($D12,,,ROW($A$7)-ROW($A$6),SUM(Calculations!$BE$16:$BI$16)),"x")-SUM($AN12,$AO12,$AM12,$AL12))=0,"",COUNTIF(OFFSET($D12,,,ROW($A$7)-ROW($A$6),SUM(Calculations!$BE$16:$BI$16)),"x")-SUM($AN12,$AO12,$AM12,$AL12)) | AQ12: =IF((COUNTIF(OFFSET($D12,,,ROW($A$7)-ROW($A$6),SUM(Calculations!$BE$16:$BJ$16)),"x")-SUM($AO12,$AP12,$AN12,$AM12,$AL12))=0,"",COUNTIF(OFFSET($D12,,,ROW($A$7)-ROW($A$6),SUM(Calculations!$BE$16:$BJ$16,#REF!)),"x")-SUM($AO12,$AP12,$AN12,$AM12,$AL12))
B13: Courtney Mair | C13: =IFERROR(IF(IF(LEN($B13)=0," ",INDEX(Settings!$E$7:$F$106,MATCH($B13,Settings!$E$7:$E$106,0),2))=0,"",IF(LEN($B13)=0," ",INDEX(Settings!$E$7:$F$106,MATCH($B13,Settings!$E$7:$E$106,0),2))),"") -> Human Resources | AJ13: =IFERROR(IF(COUNTIF($D13:$AH13,"x")=0," ",COUNTIF($D13:$AH13,"x")),"") | AL13: =IF(COUNTIF(OFFSET($D13,,,ROW($A$7)-ROW($A$6),Calculations!$BE$16),"x")=0,"",COUNTIF(OFFSET($D13,,,ROW($A$7)-ROW($A$6),Calculations!$BE$16),"x")) | AM13: =IF((COUNTIF(OFFSET($D13,,,ROW($A$7)-ROW($A$6),SUM(Calculations!$BE$16,Calculations!$BF$16)),"x")-SUM($AL13))=0,"",COUNTIF(OFFSET($D13,,,ROW($A$7)-ROW($A$6),SUM(Calculations!$BE$16,Calculations!$BF$16)),"x")-SUM($AL13)) | AN13: =IF((COUNTIF(OFFSET($D13,,,ROW($A$7)-ROW($A$6),SUM(Calculations!$BE$16:$BG$16)),"x")-SUM($AL13,$AM13))=0,"",COUNTIF(OFFSET($D13,,,ROW($A$7)-ROW($A$6),SUM(Calculations!$BE$16:$BG$16)),"x")-SUM($AL13,$AM13)) | AO13: =IF((COUNTIF(OFFSET($D13,,,ROW($A$7)-ROW($A$6),SUM(Calculations!$BE$16:$BH$16)),"x")-SUM($AM13,$AN13,$AL13))=0,"",COUNTIF(OFFSET($D13,,,ROW($A$7)-ROW($A$6),SUM(Calculations!$BE$16:$BH$16)),"x")-SUM($AM13,$AN13,$AL13)) | AP13: =IF((COUNTIF(OFFSET($D13,,,ROW($A$7)-ROW($A$6),SUM(Calculations!$BE$16:$BI$16)),"x")-SUM($AN13,$AO13,$AM13,$AL13))=0,"",COUNTIF(OFFSET($D13,,,ROW($A$7)-ROW($A$6),SUM(Calculations!$BE$16:$BI$16)),"x")-SUM($AN13,$AO13,$AM13,$AL13)) | AQ13: =IF((COUNTIF(OFFSET($D13,,,ROW($A$7)-ROW($A$6),SUM(Calculations!$BE$16:$BJ$16)),"x")-SUM($AO13,$AP13,$AN13,$AM13,$AL13))=0,"",COUNTIF(OFFSET($D13,,,ROW($A$7)-ROW($A$6),SUM(Calculations!$BE$16:$BJ$16,#REF!)),"x")-SUM($AO13,$AP13,$AN13,$AM13,$AL13))
B14: Ryan Jordan | C14: =IFERROR(IF(IF(LEN($B14)=0," ",INDEX(Settings!$E$7:$F$106,MATCH($B14,Settings!$E$7:$E$106,0),2))=0,"",IF(LEN($B14)=0," ",INDEX(Settings!$E$7:$F$106,MATCH($B14,Settings!$E$7:$E$106,0),2))),"") -> IT | E14: x | J14: x | S14: x | Y14: x | AJ14: =IFERROR(IF(COUNTIF($D14:$AH14,"x")=0," ",COUNTIF($D14:$AH14,"x")),"") -> 4 | AL14: =IF(COUNTIF(OFFSET($D14,,,ROW($A$7)-ROW($A$6),Calculations!$BE$16),"x")=0,"",COUNTIF(OFFSET($D14,,,ROW($A$7)-ROW($A$6),Calculations!$BE$16),"x")) -> 2 | AM14: =IF((COUNTIF(OFFSET($D14,,,ROW($A$7)-ROW($A$6),SUM(Calculations!$BE$16,Calculations!$BF$16)),"x")-SUM($AL14))=0,"",COUNTIF(OFFSET($D14,,,ROW($A$7)-ROW($A$6),SUM(Calculations!$BE$16,Calculations!$BF$16)),"x")-SUM($AL14)) | AN14: =IF((COUNTIF(OFFSET($D14,,,ROW($A$7)-ROW($A$6),SUM(Calculations!$BE$16:$BG$16)),"x")-SUM($AL14,$AM14))=0,"",COUNTIF(OFFSET($D14,,,ROW($A$7)-ROW($A$6),SUM(Calculations!$BE$16:$BG$16)),"x")-SUM($AL14,$AM14)) -> 1 | AO14: =IF((COUNTIF(OFFSET($D14,,,ROW($A$7)-ROW($A$6),SUM(Calculations!$BE$16:$BH$16)),"x")-SUM($AM14,$AN14,$AL14))=0,"",COUNTIF(OFFSET($D14,,,ROW($A$7)-ROW($A$6),SUM(Calculations!$BE$16:$BH$16)),"x")-SUM($AM14,$AN14,$AL14)) -> 1 | AP14: =IF((COUNTIF(OFFSET($D14,,,ROW($A$7)-ROW($A$6),SUM(Calculations!$BE$16:$BI$16)),"x")-SUM($AN14,$AO14,$AM14,$AL14))=0,"",COUNTIF(OFFSET($D14,,,ROW($A$7)-ROW($A$6),SUM(Calculations!$BE$16:$BI$16)),"x")-SUM($AN14,$AO14,$AM14,$AL14)) | AQ14: =IF((COUNTIF(OFFSET($D14,,,ROW($A$7)-ROW($A$6),SUM(Calculations!$BE$16:$BJ$16)),"x")-SUM($AO14,$AP14,$AN14,$AM14,$AL14))=0,"",COUNTIF(OFFSET($D14,,,ROW($A$7)-ROW($A$6),SUM(Calculations!$BE$16:$BJ$16,#REF!)),"x")-SUM($AO14,$AP14,$AN14,$AM14,$AL14))
B15: Isabell Fair | C15: =IFERROR(IF(IF(LEN($B15)=0," ",INDEX(Settings!$E$7:$F$106,MATCH($B15,Settings!$E$7:$E$106,0),2))=0,"",IF(LEN($B15)=0," ",INDEX(Settings!$E$7:$F$106,MATCH($B15,Settings!$E$7:$E$106,0),2))),"") -> IT | F15: x | AJ15: =IFERROR(IF(COUNTIF($D15:$AH15,"x")=0," ",COUNTIF($D15:$AH15,"x")),"") -> 1 | AL15: =IF(COUNTIF(OFFSET($D15,,,ROW($A$7)-ROW($A$6),Calculations!$BE$16),"x")=0,"",COUNTIF(OFFSET($D15,,,ROW($A$7)-ROW($A$6),Calculations!$BE$16),"x")) -> 1 | AM15: =IF((COUNTIF(OFFSET($D15,,,ROW($A$7)-ROW($A$6),SUM(Calculations!$BE$16,Calculations!$BF$16)),"x")-SUM($AL15))=0,"",COUNTIF(OFFSET($D15,,,ROW($A$7)-ROW($A$6),SUM(Calculations!$BE$16,Calculations!$BF$16)),"x")-SUM($AL15)) | AN15: =IF((COUNTIF(OFFSET($D15,,,ROW($A$7)-ROW($A$6),SUM(Calculations!$BE$16:$BG$16)),"x")-SUM($AL15,$AM15))=0,"",COUNTIF(OFFSET($D15,,,ROW($A$7)-ROW($A$6),SUM(Calculations!$BE$16:$BG$16)),"x")-SUM($AL15,$AM15)) | AO15: =IF((COUNTIF(OFFSET($D15,,,ROW($A$7)-ROW($A$6),SUM(Calculations!$BE$16:$BH$16)),"x")-SUM($AM15,$AN15,$AL15))=0,"",COUNTIF(OFFSET($D15,,,ROW($A$7)-ROW($A$6),SUM(Calculations!$BE$16:$BH$16)),"x")-SUM($AM15,$AN15,$AL15)) | AP15: =IF((COUNTIF(OFFSET($D15,,,ROW($A$7)-ROW($A$6),SUM(Calculations!$BE$16:$BI$16)),"x")-SUM($AN15,$AO15,$AM15,$AL15))=0,"",COUNTIF(OFFSET($D15,,,ROW($A$7)-ROW($A$6),SUM(Calculations!$BE$16:$BI$16)),"x")-SUM($AN15,$AO15,$AM15,$AL15)) | AQ15: =IF((COUNTIF(OFFSET($D15,,,ROW($A$7)-ROW($A$6),SUM(Calculations!$BE$16:$BJ$16)),"x")-SUM($AO15,$AP15,$AN15,$AM15,$AL15))=0,"",COUNTIF(OFFSET($D15,,,ROW($A$7)-ROW($A$6),SUM(Calculations!$BE$16:$BJ$16,#REF!)),"x")-SUM($AO15,$AP15,$AN15,$AM15,$AL15))
B16: Maxine Hancock | C16: =IFERROR(IF(IF(LEN($B16)=0," ",INDEX(Settings!$E$7:$F$106,MATCH($B16,Settings!$E$7:$E$106,0),2))=0,"",IF(LEN($B16)=0," ",INDEX(Settings!$E$7:$F$106,MATCH($B16,Settings!$E$7:$E$106,0),2))),"") -> IT | D16: x | AJ16: =IFERROR(IF(COUNTIF($D16:$AH16,"x")=0," ",COUNTIF($D16:$AH16,"x")),"") -> 1 | AL16: =IF(COUNTIF(OFFSET($D16,,,ROW($A$7)-ROW($A$6),Calculations!$BE$16),"x")=0,"",COUNTIF(OFFSET($D16,,,ROW($A$7)-ROW($A$6),Calculations!$BE$16),"x")) -> 1 | AM16: =IF((COUNTIF(OFFSET($D16,,,ROW($A$7)-ROW($A$6),SUM(Calculations!$BE$16,Calculations!$BF$16)),"x")-SUM($AL16))=0,"",COUNTIF(OFFSET($D16,,,ROW($A$7)-ROW($A$6),SUM(Calculations!$BE$16,Calculations!$BF$16)),"x")-SUM($AL16)) | AN16: =IF((COUNTIF(OFFSET($D16,,,ROW($A$7)-ROW($A$6),SUM(Calculations!$BE$16:$BG$16)),"x")-SUM($AL16,$AM16))=0,"",COUNTIF(OFFSET($D16,,,ROW($A$7)-ROW($A$6),SUM(Calculations!$BE$16:$BG$16)),"x")-SUM($AL16,$AM16)) | AO16: =IF((COUNTIF(OFFSET($D16,,,ROW($A$7)-ROW($A$6),SUM(Calculations!$BE$16:$BH$16)),"x")-SUM($AM16,$AN16,$AL16))=0,"",COUNTIF(OFFSET($D16,,,ROW($A$7)-ROW($A$6),SUM(Calculations!$BE$16:$BH$16)),"x")-SUM($AM16,$AN16,$AL16)) | AP16: =IF((COUNTIF(OFFSET($D16,,,ROW($A$7)-ROW($A$6),SUM(Calculations!$BE$16:$BI$16)),"x")-SUM($AN16,$AO16,$AM16,$AL16))=0,"",COUNTIF(OFFSET($D16,,,ROW($A$7)-ROW($A$6),SUM(Calculations!$BE$16:$BI$16)),"x")-SUM($AN16,$AO16,$AM16,$AL16)) | AQ16: =IF((COUNTIF(OFFSET($D16,,,ROW($A$7)-ROW($A$6),SUM(Calculations!$BE$16:$BJ$16)),"x")-SUM($AO16,$AP16,$AN16,$AM16,$AL16))=0,"",COUNTIF(OFFSET($D16,,,ROW($A$7)-ROW($A$6),SUM(Calculations!$BE$16:$BJ$16,#REF!)),"x")-SUM($AO16,$AP16,$AN16,$AM16,$AL16))
C17: =IFERROR(IF(IF(LEN($B17)=0," ",INDEX(Settings!$E$7:$F$106,MATCH($B17,Settings!$E$7:$E$106,0),2))=0,"",IF(LEN($B17)=0," ",INDEX(Settings!$E$7:$F$106,MATCH($B17,Settings!$E$7:$E$106,0),2))),"") | AJ17: =IFERROR(IF(COUNTIF($D17:$AH17,"x")=0," ",COUNTIF($D17:$AH17,"x")),"") | AL17: =IF(COUNTIF(OFFSET($D17,,,ROW($A$7)-ROW($A$6),Calculations!$BE$16),"x")=0,"",COUNTIF(OFFSET($D17,,,ROW($A$7)-ROW($A$6),Calculations!$BE$16),"x")) | AM17: =IF((COUNTIF(OFFSET($D17,,,ROW($A$7)-ROW($A$6),SUM(Calculations!$BE$16,Calculations!$BF$16)),"x")-SUM($AL17))=0,"",COUNTIF(OFFSET($D17,,,ROW($A$7)-ROW($A$6),SUM(Calculations!$BE$16,Calculations!$BF$16)),"x")-SUM($AL17)) | AN17: =IF((COUNTIF(OFFSET($D17,,,ROW($A$7)-ROW($A$6),SUM(Calculations!$BE$16:$BG$16)),"x")-SUM($AL17,$AM17))=0,"",COUNTIF(OFFSET($D17,,,ROW($A$7)-ROW($A$6),SUM(Calculations!$BE$16:$BG$16)),"x")-SUM($AL17,$AM17)) | AO17: =IF((COUNTIF(OFFSET($D17,,,ROW($A$7)-ROW($A$6),SUM(Calculations!$BE$16:$BH$16)),"x")-SUM($AM17,$AN17,$AL17))=0,"",COUNTIF(OFFSET($D17,,,ROW($A$7)-ROW($A$6),SUM(Calculations!$BE$16:$BH$16)),"x")-SUM($AM17,$AN17,$AL17)) | AP17: =IF((COUNTIF(OFFSET($D17,,,ROW($A$7)-ROW($A$6),SUM(Calculations!$BE$16:$BI$16)),"x")-SUM($AN17,$AO17,$AM17,$AL17))=0,"",COUNTIF(OFFSET($D17,,,ROW($A$7)-ROW($A$6),SUM(Calculations!$BE$16:$BI$16)),"x")-SUM($AN17,$AO17,$AM17,$AL17)) | AQ17: =IF((COUNTIF(OFFSET($D17,,,ROW($A$7)-ROW($A$6),SUM(Calculations!$BE$16:$BJ$16)),"x")-SUM($AO17,$AP17,$AN17,$AM17,$AL17))=0,"",COUNTIF(OFFSET($D17,,,ROW($A$7)-ROW($A$6),SUM(Calculations!$BE$16:$BJ$16,#REF!)),"x")-SUM($AO17,$AP17,$AN17,$AM17,$AL17))
C18: =IFERROR(IF(IF(LEN($B18)=0," ",INDEX(Settings!$E$7:$F$106,MATCH($B18,Settings!$E$7:$E$106,0),2))=0,"",IF(LEN($B18)=0," ",INDEX(Settings!$E$7:$F$106,MATCH($B18,Settings!$E$7:$E$106,0),2))),"") | AJ18: =IFERROR(IF(COUNTIF($D18:$AH18,"x")=0," ",COUNTIF($D18:$AH18,"x")),"") | AL18: =IF(COUNTIF(OFFSET($D18,,,ROW($A$7)-ROW($A$6),Calculations!$BE$16),"x")=0,"",COUNTIF(OFFSET($D18,,,ROW($A$7)-ROW($A$6),Calculations!$BE$16),"x")) | AM18: =IF((COUNTIF(OFFSET($D18,,,ROW($A$7)-ROW($A$6),SUM(Calculations!$BE$16,Calculations!$BF$16)),"x")-SUM($AL18))=0,"",COUNTIF(OFFSET($D18,,,ROW($A$7)-ROW($A$6),SUM(Calculations!$BE$16,Calculations!$BF$16)),"x")-SUM($AL18)) | AN18: =IF((COUNTIF(OFFSET($D18,,,ROW($A$7)-ROW($A$6),SUM(Calculations!$BE$16:$BG$16)),"x")-SUM($AL18,$AM18))=0,"",COUNTIF(OFFSET($D18,,,ROW($A$7)-ROW($A$6),SUM(Calculations!$BE$16:$BG$16)),"x")-SUM($AL18,$AM18)) | AO18: =IF((COUNTIF(OFFSET($D18,,,ROW($A$7)-ROW($A$6),SUM(Calculations!$BE$16:$BH$16)),"x")-SUM($AM18,$AN18,$AL18))=0,"",COUNTIF(OFFSET($D18,,,ROW($A$7)-ROW($A$6),SUM(Calculations!$BE$16:$BH$16)),"x")-SUM($AM18,$AN18,$AL18)) | AP18: =IF((COUNTIF(OFFSET($D18,,,ROW($A$7)-ROW($A$6),SUM(Calculations!$BE$16:$BI$16)),"x")-SUM($AN18,$AO18,$AM18,$AL18))=0,"",COUNTIF(OFFSET($D18,,,ROW($A$7)-ROW($A$6),SUM(Calculations!$BE$16:$BI$16)),"x")-SUM($AN18,$AO18,$AM18,$AL18)) | AQ18: =IF((COUNTIF(OFFSET($D18,,,ROW($A$7)-ROW($A$6),SUM(Calculations!$BE$16:$BJ$16)),"x")-SUM($AO18,$AP18,$AN18,$AM18,$AL18))=0,"",COUNTIF(OFFSET($D18,,,ROW($A$7)-ROW($A$6),SUM(Calculations!$BE$16:$BJ$16,#REF!)),"x")-SUM($AO18,$AP18,$AN18,$AM18,$AL18))
C19: =IFERROR(IF(IF(LEN($B19)=0," ",INDEX(Settings!$E$7:$F$106,MATCH($B19,Settings!$E$7:$E$106,0),2))=0,"",IF(LEN($B19)=0," ",INDEX(Settings!$E$7:$F$106,MATCH($B19,Settings!$E$7:$E$106,0),2))),"") | AJ19: =IFERROR(IF(COUNTIF($D19:$AH19,"x")=0," ",COUNTIF($D19:$AH19,"x")),"") | AL19: =IF(COUNTIF(OFFSET($D19,,,ROW($A$7)-ROW($A$6),Calculations!$BE$16),"x")=0,"",COUNTIF(OFFSET($D19,,,ROW($A$7)-ROW($A$6),Calculations!$BE$16),"x")) | AM19: =IF((COUNTIF(OFFSET($D19,,,ROW($A$7)-ROW($A$6),SUM(Calculations!$BE$16,Calculations!$BF$16)),"x")-SUM($AL19))=0,"",COUNTIF(OFFSET($D19,,,ROW($A$7)-ROW($A$6),SUM(Calculations!$BE$16,Calculations!$BF$16)),"x")-SUM($AL19)) | AN19: =IF((COUNTIF(OFFSET($D19,,,ROW($A$7)-ROW($A$6),SUM(Calculations!$BE$16:$BG$16)),"x")-SUM($AL19,$AM19))=0,"",COUNTIF(OFFSET($D19,,,ROW($A$7)-ROW($A$6),SUM(Calculations!$BE$16:$BG$16)),"x")-SUM($AL19,$AM19)) | AO19: =IF((COUNTIF(OFFSET($D19,,,ROW($A$7)-ROW($A$6),SUM(Calculations!$BE$16:$BH$16)),"x")-SUM($AM19,$AN19,$AL19))=0,"",COUNTIF(OFFSET($D19,,,ROW($A$7)-ROW($A$6),SUM(Calculations!$BE$16:$BH$16)),"x")-SUM($AM19,$AN19,$AL19)) | AP19: =IF((COUNTIF(OFFSET($D19,,,ROW($A$7)-ROW($A$6),SUM(Calculations!$BE$16:$BI$16)),"x")-SUM($AN19,$AO19,$AM19,$AL19))=0,"",COUNTIF(OFFSET($D19,,,ROW($A$7)-ROW($A$6),SUM(Calculations!$BE$16:$BI$16)),"x")-SUM($AN19,$AO19,$AM19,$AL19)) | AQ19: =IF((COUNTIF(OFFSET($D19,,,ROW($A$7)-ROW($A$6),SUM(Calculations!$BE$16:$BJ$16)),"x")-SUM($AO19,$AP19,$AN19,$AM19,$AL19))=0,"",COUNTIF(OFFSET($D19,,,ROW($A$7)-ROW($A$6),SUM(Calculations!$BE$16:$BJ$16,#REF!)),"x")-SUM($AO19,$AP19,$AN19,$AM19,$AL19))
C20: =IFERROR(IF(IF(LEN($B20)=0," ",INDEX(Settings!$E$7:$F$106,MATCH($B20,Settings!$E$7:$E$106,0),2))=0,"",IF(LEN($B20)=0," ",INDEX(Settings!$E$7:$F$106,MATCH($B20,Settings!$E$7:$E$106,0),2))),"") | AJ20: =IFERROR(IF(COUNTIF($D20:$AH20,"x")=0," ",COUNTIF($D20:$AH20,"x")),"") | AL20: =IF(COUNTIF(OFFSET($D20,,,ROW($A$7)-ROW($A$6),Calculations!$BE$16),"x")=0,"",COUNTIF(OFFSET($D20,,,ROW($A$7)-ROW($A$6),Calculations!$BE$16),"x")) | AM20: =IF((COUNTIF(OFFSET($D20,,,ROW($A$7)-ROW($A$6),SUM(Calculations!$BE$16,Calculations!$BF$16)),"x")-SUM($AL20))=0,"",COUNTIF(OFFSET($D20,,,ROW($A$7)-ROW($A$6),SUM(Calculations!$BE$16,Calculations!$BF$16)),"x")-SUM($AL20)) | AN20: =IF((COUNTIF(OFFSET($D20,,,ROW($A$7)-ROW($A$6),SUM(Calculations!$BE$16:$BG$16)),"x")-SUM($AL20,$AM20))=0,"",COUNTIF(OFFSET($D20,,,ROW($A$7)-ROW($A$6),SUM(Calculations!$BE$16:$BG$16)),"x")-SUM($AL20,$AM20)) | AO20: =IF((COUNTIF(OFFSET($D20,,,ROW($A$7)-ROW($A$6),SUM(Calculations!$BE$16:$BH$16)),"x")-SUM($AM20,$AN20,$AL20))=0,"",COUNTIF(OFFSET($D20,,,ROW($A$7)-ROW($A$6),SUM(Calculations!$BE$16:$BH$16)),"x")-SUM($AM20,$AN20,$AL20)) | AP20: =IF((COUNTIF(OFFSET($D20,,,ROW($A$7)-ROW($A$6),SUM(Calculations!$BE$16:$BI$16)),"x")-SUM($AN20,$AO20,$AM20,$AL20))=0,"",COUNTIF(OFFSET($D20,,,ROW($A$7)-ROW($A$6),SUM(Calculations!$BE$16:$BI$16)),"x")-SUM($AN20,$AO20,$AM20,$AL20)) | AQ20: =IF((COUNTIF(OFFSET($D20,,,ROW($A$7)-ROW($A$6),SUM(Calculations!$BE$16:$BJ$16)),"x")-SUM($AO20,$AP20,$AN20,$AM20,$AL20))=0,"",COUNTIF(OFFSET($D20,,,ROW($A$7)-ROW($A$6),SUM(Calculations!$BE$16:$BJ$16,#REF!)),"x")-SUM($AO20,$AP20,$AN20,$AM20,$AL20))
C21: =IFERROR(IF(IF(LEN($B21)=0," ",INDEX(Settings!$E$7:$F$106,MATCH($B21,Settings!$E$7:$E$106,0),2))=0,"",IF(LEN($B21)=0," ",INDEX(Settings!$E$7:$F$106,MATCH($B21,Settings!$E$7:$E$106,0),2))),"") | AJ21: =IFERROR(IF(COUNTIF($D21:$AH21,"x")=0," ",COUNTIF($D21:$AH21,"x")),"") | AL21: =IF(COUNTIF(OFFSET($D21,,,ROW($A$7)-ROW($A$6),Calculations!$BE$16),"x")=0,"",COUNTIF(OFFSET($D21,,,ROW($A$7)-ROW($A$6),Calculations!$BE$16),"x")) | AM21: =IF((COUNTIF(OFFSET($D21,,,ROW($A$7)-ROW($A$6),SUM(Calculations!$BE$16,Calculations!$BF$16)),"x")-SUM($AL21))=0,"",COUNTIF(OFFSET($D21,,,ROW($A$7)-ROW($A$6),SUM(Calculations!$BE$16,Calculations!$BF$16)),"x")-SUM($AL21)) | AN21: =IF((COUNTIF(OFFSET($D21,,,ROW($A$7)-ROW($A$6),SUM(Calculations!$BE$16:$BG$16)),"x")-SUM($AL21,$AM21))=0,"",COUNTIF(OFFSET($D21,,,ROW($A$7)-ROW($A$6),SUM(Calculations!$BE$16:$BG$16)),"x")-SUM($AL21,$AM21)) | AO21: =IF((COUNTIF(OFFSET($D21,,,ROW($A$7)-ROW($A$6),SUM(Calculations!$BE$16:$BH$16)),"x")-SUM($AM21,$AN21,$AL21))=0,"",COUNTIF(OFFSET($D21,,,ROW($A$7)-ROW($A$6),SUM(Calculations!$BE$16:$BH$16)),"x")-SUM($AM21,$AN21,$AL21)) | AP21: =IF((COUNTIF(OFFSET($D21,,,ROW($A$7)-ROW($A$6),SUM(Calculations!$BE$16:$BI$16)),"x")-SUM($AN21,$AO21,$AM21,$AL21))=0,"",COUNTIF(OFFSET($D21,,,ROW($A$7)-ROW($A$6),SUM(Calculations!$BE$16:$BI$16)),"x")-SUM($AN21,$AO21,$AM21,$AL21)) | AQ21: =IF((COUNTIF(OFFSET($D21,,,ROW($A$7)-ROW($A$6),SUM(Calculations!$BE$16:$BJ$16)),"x")-SUM($AO21,$AP21,$AN21,$AM21,$AL21))=0,"",COUNTIF(OFFSET($D21,,,ROW($A$7)-ROW($A$6),SUM(Calculations!$BE$16:$BJ$16,#REF!)),"x")-SUM($AO21,$AP21,$AN21,$AM21,$AL21))
C22: =IFERROR(IF(IF(LEN($B22)=0," ",INDEX(Settings!$E$7:$F$106,MATCH($B22,Settings!$E$7:$E$106,0),2))=0,"",IF(LEN($B22)=0," ",INDEX(Settings!$E$7:$F$106,MATCH($B22,Settings!$E$7:$E$106,0),2))),"") | AJ22: =IFERROR(IF(COUNTIF($D22:$AH22,"x")=0," ",COUNTIF($D22:$AH22,"x")),"") | AL22: =IF(COUNTIF(OFFSET($D22,,,ROW($A$7)-ROW($A$6),Calculations!$BE$16),"x")=0,"",COUNTIF(OFFSET($D22,,,ROW($A$7)-ROW($A$6),Calculations!$BE$16),"x")) | AM22: =IF((COUNTIF(OFFSET($D22,,,ROW($A$7)-ROW($A$6),SUM(Calculations!$BE$16,Calculations!$BF$16)),"x")-SUM($AL22))=0,"",COUNTIF(OFFSET($D22,,,ROW($A$7)-ROW($A$6),SUM(Calculations!$BE$16,Calculations!$BF$16)),"x")-SUM($AL22)) | AN22: =IF((COUNTIF(OFFSET($D22,,,ROW($A$7)-ROW($A$6),SUM(Calculations!$BE$16:$BG$16)),"x")-SUM($AL22,$AM22))=0,"",COUNTIF(OFFSET($D22,,,ROW($A$7)-ROW($A$6),SUM(Calculations!$BE$16:$BG$16)),"x")-SUM($AL22,$AM22)) | AO22: =IF((COUNTIF(OFFSET($D22,,,ROW($A$7)-ROW($A$6),SUM(Calculations!$BE$16:$BH$16)),"x")-SUM($AM22,$AN22,$AL22))=0,"",COUNTIF(OFFSET($D22,,,ROW($A$7)-ROW($A$6),SUM(Calculations!$BE$16:$BH$16)),"x")-SUM($AM22,$AN22,$AL22)) | AP22: =IF((COUNTIF(OFFSET($D22,,,ROW($A$7)-ROW($A$6),SUM(Calculations!$BE$16:$BI$16)),"x")-SUM($AN22,$AO22,$AM22,$AL22))=0,"",COUNTIF(OFFSET($D22,,,ROW($A$7)-ROW($A$6),SUM(Calculations!$BE$16:$BI$16)),"x")-SUM($AN22,$AO22,$AM22,$AL22)) | AQ22: =IF((COUNTIF(OFFSET($D22,,,ROW($A$7)-ROW($A$6),SUM(Calculations!$BE$16:$BJ$16)),"x")-SUM($AO22,$AP22,$AN22,$AM22,$AL22))=0,"",COUNTIF(OFFSET($D22,,,ROW($A$7)-ROW($A$6),SUM(Calculations!$BE$16:$BJ$16,#REF!)),"x")-SUM($AO22,$AP22,$AN22,$AM22,$AL22))
C23: =IFERROR(IF(IF(LEN($B23)=0," ",INDEX(Settings!$E$7:$F$106,MATCH($B23,Settings!$E$7:$E$106,0),2))=0,"",IF(LEN($B23)=0," ",INDEX(Settings!$E$7:$F$106,MATCH($B23,Settings!$E$7:$E$106,0),2))),"") | AJ23: =IFERROR(IF(COUNTIF($D23:$AH23,"x")=0," ",COUNTIF($D23:$AH23,"x")),"") | AL23: =IF(COUNTIF(OFFSET($D23,,,ROW($A$7)-ROW($A$6),Calculations!$BE$16),"x")=0,"",COUNTIF(OFFSET($D23,,,ROW($A$7)-ROW($A$6),Calculations!$BE$16),"x")) | AM23: =IF((COUNTIF(OFFSET($D23,,,ROW($A$7)-ROW($A$6),SUM(Calculations!$BE$16,Calculations!$BF$16)),"x")-SUM($AL23))=0,"",COUNTIF(OFFSET($D23,,,ROW($A$7)-ROW($A$6),SUM(Calculations!$BE$16,Calculations!$BF$16)),"x")-SUM($AL23)) | AN23: =IF((COUNTIF(OFFSET($D23,,,ROW($A$7)-ROW($A$6),SUM(Calculations!$BE$16:$BG$16)),"x")-SUM($AL23,$AM23))=0,"",COUNTIF(OFFSET($D23,,,ROW($A$7)-ROW($A$6),SUM(Calculations!$BE$16:$BG$16)),"x")-SUM($AL23,$AM23)) | AO23: =IF((COUNTIF(OFFSET($D23,,,ROW($A$7)-ROW($A$6),SUM(Calculations!$BE$16:$BH$16)),"x")-SUM($AM23,$AN23,$AL23))=0,"",COUNTIF(OFFSET($D23,,,ROW($A$7)-ROW($A$6),SUM(Calculations!$BE$16:$BH$16)),"x")-SUM($AM23,$AN23,$AL23)) | AP23: =IF((COUNTIF(OFFSET($D23,,,ROW($A$7)-ROW($A$6),SUM(Calculations!$BE$16:$BI$16)),"x")-SUM($AN23,$AO23,$AM23,$AL23))=0,"",COUNTIF(OFFSET($D23,,,ROW($A$7)-ROW($A$6),SUM(Calculations!$BE$16:$BI$16)),"x")-SUM($AN23,$AO23,$AM23,$AL23)) | AQ23: =IF((COUNTIF(OFFSET($D23,,,ROW($A$7)-ROW($A$6),SUM(Calculations!$BE$16:$BJ$16)),"x")-SUM($AO23,$AP23,$AN23,$AM23,$AL23))=0,"",COUNTIF(OFFSET($D23,,,ROW($A$7)-ROW($A$6),SUM(Calculations!$BE$16:$BJ$16,#REF!)),"x")-SUM($AO23,$AP23,$AN23,$AM23,$AL23))
C24: =IFERROR(IF(IF(LEN($B24)=0," ",INDEX(Settings!$E$7:$F$106,MATCH($B24,Settings!$E$7:$E$106,0),2))=0,"",IF(LEN($B24)=0," ",INDEX(Settings!$E$7:$F$106,MATCH($B24,Settings!$E$7:$E$106,0),2))),"") | AJ24: =IFERROR(IF(COUNTIF($D24:$AH24,"x")=0," ",COUNTIF($D24:$AH24,"x")),"") | AL24: =IF(COUNTIF(OFFSET($D24,,,ROW($A$7)-ROW($A$6),Calculations!$BE$16),"x")=0,"",COUNTIF(OFFSET($D24,,,ROW($A$7)-ROW($A$6),Calculations!$BE$16),"x")) | AM24: =IF((COUNTIF(OFFSET($D24,,,ROW($A$7)-ROW($A$6),SUM(Calculations!$BE$16,Calculations!$BF$16)),"x")-SUM($AL24))=0,"",COUNTIF(OFFSET($D24,,,ROW($A$7)-ROW($A$6),SUM(Calculations!$BE$16,Calculations!$BF$16)),"x")-SUM($AL24)) | AN24: =IF((COUNTIF(OFFSET($D24,,,ROW($A$7)-ROW($A$6),SUM(Calculations!$BE$16:$BG$16)),"x")-SUM($AL24,$AM24))=0,"",COUNTIF(OFFSET($D24,,,ROW($A$7)-ROW($A$6),SUM(Calculations!$BE$16:$BG$16)),"x")-SUM($AL24,$AM24)) | AO24: =IF((COUNTIF(OFFSET($D24,,,ROW($A$7)-ROW($A$6),SUM(Calculations!$BE$16:$BH$16)),"x")-SUM($AM24,$AN24,$AL24))=0,"",COUNTIF(OFFSET($D24,,,ROW($A$7)-ROW($A$6),SUM(Calculations!$BE$16:$BH$16)),"x")-SUM($AM24,$AN24,$AL24)) | AP24: =IF((COUNTIF(OFFSET($D24,,,ROW($A$7)-ROW($A$6),SUM(Calculations!$BE$16:$BI$16)),"x")-SUM($AN24,$AO24,$AM24,$AL24))=0,"",COUNTIF(OFFSET($D24,,,ROW($A$7)-ROW($A$6),SUM(Calculations!$BE$16:$BI$16)),"x")-SUM($AN24,$AO24,$AM24,$AL24)) | AQ24: =IF((COUNTIF(OFFSET($D24,,,ROW($A$7)-ROW($A$6),SUM(Calculations!$BE$16:$BJ$16)),"x")-SUM($AO24,$AP24,$AN24,$AM24,$AL24))=0,"",COUNTIF(OFFSET($D24,,,ROW($A$7)-ROW($A$6),SUM(Calculations!$BE$16:$BJ$16,#REF!)),"x")-SUM($AO24,$AP24,$AN24,$AM24,$AL24))
C25: =IFERROR(IF(IF(LEN($B25)=0," ",INDEX(Settings!$E$7:$F$106,MATCH($B25,Settings!$E$7:$E$106,0),2))=0,"",IF(LEN($B25)=0," ",INDEX(Settings!$E$7:$F$106,MATCH($B25,Settings!$E$7:$E$106,0),2))),"") | AJ25: =IFERROR(IF(COUNTIF($D25:$AH25,"x")=0," ",COUNTIF($D25:$AH25,"x")),"") | AL25: =IF(COUNTIF(OFFSET($D25,,,ROW($A$7)-ROW($A$6),Calculations!$BE$16),"x")=0,"",COUNTIF(OFFSET($D25,,,ROW($A$7)-ROW($A$6),Calculations!$BE$16),"x")) | AM25: =IF((COUNTIF(OFFSET($D25,,,ROW($A$7)-ROW($A$6),SUM(Calculations!$BE$16,Calculations!$BF$16)),"x")-SUM($AL25))=0,"",COUNTIF(OFFSET($D25,,,ROW($A$7)-ROW($A$6),SUM(Calculations!$BE$16,Calculations!$BF$16)),"x")-SUM($AL25)) | AN25: =IF((COUNTIF(OFFSET($D25,,,ROW($A$7)-ROW($A$6),SUM(Calculations!$BE$16:$BG$16)),"x")-SUM($AL25,$AM25))=0,"",COUNTIF(OFFSET($D25,,,ROW($A$7)-ROW($A$6),SUM(Calculations!$BE$16:$BG$16)),"x")-SUM($AL25,$AM25)) | AO25: =IF((COUNTIF(OFFSET($D25,,,ROW($A$7)-ROW($A$6),SUM(Calculations!$BE$16:$BH$16)),"x")-SUM($AM25,$AN25,$AL25))=0,"",COUNTIF(OFFSET($D25,,,ROW($A$7)-ROW($A$6),SUM(Calculations!$BE$16:$BH$16)),"x")-SUM($AM25,$AN25,$AL25)) | AP25: =IF((COUNTIF(OFFSET($D25,,,ROW($A$7)-ROW($A$6),SUM(Calculations!$BE$16:$BI$16)),"x")-SUM($AN25,$AO25,$AM25,$AL25))=0,"",COUNTIF(OFFSET($D25,,,ROW($A$7)-ROW($A$6),SUM(Calculations!$BE$16:$BI$16)),"x")-SUM($AN25,$AO25,$AM25,$AL25)) | AQ25: =IF((COUNTIF(OFFSET($D25,,,ROW($A$7)-ROW($A$6),SUM(Calculations!$BE$16:$BJ$16)),"x")-SUM($AO25,$AP25,$AN25,$AM25,$AL25))=0,"",COUNTIF(OFFSET($D25,,,ROW($A$7)-ROW($A$6),SUM(Calculations!$BE$16:$BJ$16,#REF!)),"x")-SUM($AO25,$AP25,$AN25,$AM25,$AL25))
C26: =IFERROR(IF(IF(LEN($B26)=0," ",INDEX(Settings!$E$7:$F$106,MATCH($B26,Settings!$E$7:$E$106,0),2))=0,"",IF(LEN($B26)=0," ",INDEX(Settings!$E$7:$F$106,MATCH($B26,Settings!$E$7:$E$106,0),2))),"") | AJ26: =IFERROR(IF(COUNTIF($D26:$AH26,"x")=0," ",COUNTIF($D26:$AH26,"x")),"") | AL26: =IF(COUNTIF(OFFSET($D26,,,ROW($A$7)-ROW($A$6),Calculations!$BE$16),"x")=0,"",COUNTIF(OFFSET($D26,,,ROW($A$7)-ROW($A$6),Calculations!$BE$16),"x")) | AM26: =IF((COUNTIF(OFFSET($D26,,,ROW($A$7)-ROW($A$6),SUM(Calculations!$BE$16,Calculations!$BF$16)),"x")-SUM($AL26))=0,"",COUNTIF(OFFSET($D26,,,ROW($A$7)-ROW($A$6),SUM(Calculations!$BE$16,Calculations!$BF$16)),"x")-SUM($AL26)) | AN26: =IF((COUNTIF(OFFSET($D26,,,ROW($A$7)-ROW($A$6),SUM(Calculations!$BE$16:$BG$16)),"x")-SUM($AL26,$AM26))=0,"",COUNTIF(OFFSET($D26,,,ROW($A$7)-ROW($A$6),SUM(Calculations!$BE$16:$BG$16)),"x")-SUM($AL26,$AM26)) | AO26: =IF((COUNTIF(OFFSET($D26,,,ROW($A$7)-ROW($A$6),SUM(Calculations!$BE$16:$BH$16)),"x")-SUM($AM26,$AN26,$AL26))=0,"",COUNTIF(OFFSET($D26,,,ROW($A$7)-ROW($A$6),SUM(Calculations!$BE$16:$BH$16)),"x")-SUM($AM26,$AN26,$AL26)) | AP26: =IF((COUNTIF(OFFSET($D26,,,ROW($A$7)-ROW($A$6),SUM(Calculations!$BE$16:$BI$16)),"x")-SUM($AN26,$AO26,$AM26,$AL26))=0,"",COUNTIF(OFFSET($D26,,,ROW($A$7)-ROW($A$6),SUM(Calculations!$BE$16:$BI$16)),"x")-SUM($AN26,$AO26,$AM26,$AL26)) | AQ26: =IF((COUNTIF(OFFSET($D26,,,ROW($A$7)-ROW($A$6),SUM(Calculations!$BE$16:$BJ$16)),"x")-SUM($AO26,$AP26,$AN26,$AM26,$AL26))=0,"",COUNTIF(OFFSET($D26,,,ROW($A$7)-ROW($A$6),SUM(Calculations!$BE$16:$BJ$16,#REF!)),"x")-SUM($AO26,$AP26,$AN26,$AM26,$AL26))
C27: =IFERROR(IF(IF(LEN($B27)=0," ",INDEX(Settings!$E$7:$F$106,MATCH($B27,Settings!$E$7:$E$106,0),2))=0,"",IF(LEN($B27)=0," ",INDEX(Settings!$E$7:$F$106,MATCH($B27,Settings!$E$7:$E$106,0),2))),"") | AJ27: =IFERROR(IF(COUNTIF($D27:$AH27,"x")=0," ",COUNTIF($D27:$AH27,"x")),"") | AL27: =IF(COUNTIF(OFFSET($D27,,,ROW($A$7)-ROW($A$6),Calculations!$BE$16),"x")=0,"",COUNTIF(OFFSET($D27,,,ROW($A$7)-ROW($A$6),Calculations!$BE$16),"x")) | AM27: =IF((COUNTIF(OFFSET($D27,,,ROW($A$7)-ROW($A$6),SUM(Calculations!$BE$16,Calculations!$BF$16)),"x")-SUM($AL27))=0,"",COUNTIF(OFFSET($D27,,,ROW($A$7)-ROW($A$6),SUM(Calculations!$BE$16,Calculations!$BF$16)),"x")-SUM($AL27)) | AN27: =IF((COUNTIF(OFFSET($D27,,,ROW($A$7)-ROW($A$6),SUM(Calculations!$BE$16:$BG$16)),"x")-SUM($AL27,$AM27))=0,"",COUNTIF(OFFSET($D27,,,ROW($A$7)-ROW($A$6),SUM(Calculations!$BE$16:$BG$16)),"x")-SUM($AL27,$AM27)) | AO27: =IF((COUNTIF(OFFSET($D27,,,ROW($A$7)-ROW($A$6),SUM(Calculations!$BE$16:$BH$16)),"x")-SUM($AM27,$AN27,$AL27))=0,"",COUNTIF(OFFSET($D27,,,ROW($A$7)-ROW($A$6),SUM(Calculations!$BE$16:$BH$16)),"x")-SUM($AM27,$AN27,$AL27)) | AP27: =IF((COUNTIF(OFFSET($D27,,,ROW($A$7)-ROW($A$6),SUM(Calculations!$BE$16:$BI$16)),"x")-SUM($AN27,$AO27,$AM27,$AL27))=0,"",COUNTIF(OFFSET($D27,,,ROW($A$7)-ROW($A$6),SUM(Calculations!$BE$16:$BI$16)),"x")-SUM($AN27,$AO27,$AM27,$AL27)) | AQ27: =IF((COUNTIF(OFFSET($D27,,,ROW($A$7)-ROW($A$6),SUM(Calculations!$BE$16:$BJ$16)),"x")-SUM($AO27,$AP27,$AN27,$AM27,$AL27))=0,"",COUNTIF(OFFSET($D27,,,ROW($A$7)-ROW($A$6),SUM(Calculations!$BE$16:$BJ$16,#REF!)),"x")-SUM($AO27,$AP27,$AN27,$AM27,$AL27))
C28: =IFERROR(IF(IF(LEN($B28)=0," ",INDEX(Settings!$E$7:$F$106,MATCH($B28,Settings!$E$7:$E$106,0),2))=0,"",IF(LEN($B28)=0," ",INDEX(Settings!$E$7:$F$106,MATCH($B28,Settings!$E$7:$E$106,0),2))),"") | AJ28: =IFERROR(IF(COUNTIF($D28:$AH28,"x")=0," ",COUNTIF($D28:$AH28,"x")),"") | AL28: =IF(COUNTIF(OFFSET($D28,,,ROW($A$7)-ROW($A$6),Calculations!$BE$16),"x")=0,"",COUNTIF(OFFSET($D28,,,ROW($A$7)-ROW($A$6),Calculations!$BE$16),"x")) | AM28: =IF((COUNTIF(OFFSET($D28,,,ROW($A$7)-ROW($A$6),SUM(Calculations!$BE$16,Calculations!$BF$16)),"x")-SUM($AL28))=0,"",COUNTIF(OFFSET($D28,,,ROW($A$7)-ROW($A$6),SUM(Calculations!$BE$16,Calculations!$BF$16)),"x")-SUM($AL28)) | AN28: =IF((COUNTIF(OFFSET($D28,,,ROW($A$7)-ROW($A$6),SUM(Calculations!$BE$16:$BG$16)),"x")-SUM($AL28,$AM28))=0,"",COUNTIF(OFFSET($D28,,,ROW($A$7)-ROW($A$6),SUM(Calculations!$BE$16:$BG$16)),"x")-SUM($AL28,$AM28)) | AO28: =IF((COUNTIF(OFFSET($D28,,,ROW($A$7)-ROW($A$6),SUM(Calculations!$BE$16:$BH$16)),"x")-SUM($AM28,$AN28,$AL28))=0,"",COUNTIF(OFFSET($D28,,,ROW($A$7)-ROW($A$6),SUM(Calculations!$BE$16:$BH$16)),"x")-SUM($AM28,$AN28,$AL28)) | AP28: =IF((COUNTIF(OFFSET($D28,,,ROW($A$7)-ROW($A$6),SUM(Calculations!$BE$16:$BI$16)),"x")-SUM($AN28,$AO28,$AM28,$AL28))=0,"",COUNTIF(OFFSET($D28,,,ROW($A$7)-ROW($A$6),SUM(Calculations!$BE$16:$BI$16)),"x")-SUM($AN28,$AO28,$AM28,$AL28)) | AQ28: =IF((COUNTIF(OFFSET($D28,,,ROW($A$7)-ROW($A$6),SUM(Calculations!$BE$16:$BJ$16)),"x")-SUM($AO28,$AP28,$AN28,$AM28,$AL28))=0,"",COUNTIF(OFFSET($D28,,,ROW($A$7)-ROW($A$6),SUM(Calculations!$BE$16:$BJ$16,#REF!)),"x")-SUM($AO28,$AP28,$AN28,$AM28,$AL28))
... C106: =IFERROR(IF(IF(LEN($B106)=0," ",INDEX(Settings!$E$7:$F$106,MATCH($B106,Settings!$E$7:$E$106,0),2))=0,"",IF(LEN($B106)=0," ",INDEX(Settings!$E$7:$F$106,MATCH($B106,Settings!$E$7:$E$106,0),2))),"") | AJ106: =IFERROR(IF(COUNTIF($D106:$AH106,"x")=0," ",COUNTIF($D106:$AH106,"x")),"") | AL106: =IF(COUNTIF(OFFSET($D106,,,ROW($A$7)-ROW($A$6),Calculations!$BE$16),"x")=0,"",COUNTIF(OFFSET($D106,,,ROW($A$7)-ROW($A$6),Calculations!$BE$16),"x")) | AM106: =IF((COUNTIF(OFFSET($D106,,,ROW($A$7)-ROW($A$6),SUM(Calculations!$BE$16,Calculations!$BF$16)),"x")-SUM($AL106))=0,"",COUNTIF(OFFSET($D106,,,ROW($A$7)-ROW($A$6),SUM(Calculations!$BE$16,Calculations!$BF$16)),"x")-SUM($AL106)) | AN106: =IF((COUNTIF(OFFSET($D106,,,ROW($A$7)-ROW($A$6),SUM(Calculations!$BE$16:$BG$16)),"x")-SUM($AL106,$AM106))=0,"",COUNTIF(OFFSET($D106,,,ROW($A$7)-ROW($A$6),SUM(Calculations!$BE$16:$BG$16)),"x")-SUM($AL106,$AM106)) | AO106: =IF((COUNTIF(OFFSET($D106,,,ROW($A$7)-ROW($A$6),SUM(Calculations!$BE$16:$BH$16)),"x")-SUM($AM106,$AN106,$AL106))=0,"",COUNTIF(OFFSET($D106,,,ROW($A$7)-ROW($A$6),SUM(Calculations!$BE$16:$BH$16)),"x")-SUM($AM106,$AN106,$AL106)) | AP106: =IF((COUNTIF(OFFSET($D106,,,ROW($A$7)-ROW($A$6),SUM(Calculations!$BE$16:$BI$16)),"x")-SUM($AN106,$AO106,$AM106,$AL106))=0,"",COUNTIF(OFFSET($D106,,,ROW($A$7)-ROW($A$6),SUM(Calculations!$BE$16:$BI$16)),"x")-SUM($AN106,$AO106,$AM106,$AL106)) | AQ106: =IF((COUNTIF(OFFSET($D106,,,ROW($A$7)-ROW($A$6),SUM(Calculations!$BE$16:$BJ$16)),"x")-SUM($AO106,$AP106,$AN106,$AM106,$AL106))=0,"",COUNTIF(OFFSET($D106,,,ROW($A$7)-ROW($A$6),SUM(Calculations!$BE$16:$BJ$16,#REF!)),"x")-SUM($AO106,$AP106,$AN106,$AM106,$AL106))

Sheet Checklist
B2: COVID-19 EMPLOYEE HEALTH TRACKER
B3: CHECKLIST
C12: Control List | D12: Explanation | E12: Priority | F12: Point | G12: Checked?
C13: Employee Number in one day | D13: Max 15 number of employee can work on the same day | E13: Medium | F13: =IF(LEN($E13)=0,"",INDEX(Calculations!$J$20:$K$22,MATCH(Checklist!$E13,Calculations!$J$20:$J$22,0),2)) -> 0 | G13: No
C14: Supply of personal cleaning agents | D14: 1 bottle of disinfectant and 45 masks per employee for a monthly usage | E14: Low | F14: =IF(LEN($E14)=0,"",INDEX(Calculations!$J$20:$K$22,MATCH(Checklist!$E14,Calculations!$J$20:$J$22,0),2)) -> -1 | G14: Yes
C15: Is Covid Test Applied? | D15: Implementation requirement every two months | E15: High | F15: =IF(LEN($E15)=0,"",INDEX(Calculations!$J$20:$K$22,MATCH(Checklist!$E15,Calculations!$J$20:$J$22,0),2)) -> 1 | G15: Yes
C16: Social Distance | D16: Adjusting proper layout arrangement | E16: High | F16: =IF(LEN($E16)=0,"",INDEX(Calculations!$J$20:$K$22,MATCH(Checklist!$E16,Calculations!$J$20:$J$22,0),2)) -> 1 | G16: No
C17: Temperature Tracking | D17: Body temperature measurement everyday | E17: Medium | F17: =IF(LEN($E17)=0,"",INDEX(Calculations!$J$20:$K$22,MATCH(Checklist!$E17,Calculations!$J$20:$J$22,0),2)) -> 0 | G17: Yes
C18: Employee Timesheets | D18: Compliance to employee timesheets | E18: Low | F18: =IF(LEN($E18)=0,"",INDEX(Calculations!$J$20:$K$22,MATCH(Checklist!$E18,Calculations!$J$20:$J$22,0),2)) -> -1 | G18: Yes
F19: =IF(LEN($E19)=0,"",INDEX(Calculations!$J$20:$K$22,MATCH(Checklist!$E19,Calculations!$J$20:$J$22,0),2))
F20: =IF(LEN($E20)=0,"",INDEX(Calculations!$J$20:$K$22,MATCH(Checklist!$E20,Calculations!$J$20:$J$22,0),2))
F21: =IF(LEN($E21)=0,"",INDEX(Calculations!$J$20:$K$22,MATCH(Checklist!$E21,Calculations!$J$20:$J$22,0),2))
F22: =IF(LEN($E22)=0,"",INDEX(Calculations!$J$20:$K$22,MATCH(Checklist!$E22,Calculations!$J$20:$J$22,0),2))
F23: =IF(LEN($E23)=0,"",INDEX(Calculations!$J$20:$K$22,MATCH(Checklist!$E23,Calculations!$J$20:$J$22,0),2))
F24: =IF(LEN($E24)=0,"",INDEX(Calculations!$J$20:$K$22,MATCH(Checklist!$E24,Calculations!$J$20:$J$22,0),2))
F25: =IF(LEN($E25)=0,"",INDEX(Calculations!$J$20:$K$22,MATCH(Checklist!$E25,Calculations!$J$20:$J$22,0),2))
F26: =IF(LEN($E26)=0,"",INDEX(Calculations!$J$20:$K$22,MATCH(Checklist!$E26,Calculations!$J$20:$J$22,0),2))
F27: =IF(LEN($E27)=0,"",INDEX(Calculations!$J$20:$K$22,MATCH(Checklist!$E27,Calculations!$J$20:$J$22,0),2))
F28: =IF(LEN($E28)=0,"",INDEX(Calculations!$J$20:$K$22,MATCH(Checklist!$E28,Calculations!$J$20:$J$22,0),2))
F29: =IF(LEN($E29)=0,"",INDEX(Calculations!$J$20:$K$22,MATCH(Checklist!$E29,Calculations!$J$20:$J$22,0),2))
F30: =IF(LEN($E30)=0,"",INDEX(Calculations!$J$20:$K$22,MATCH(Checklist!$E30,Calculations!$J$20:$J$22,0),2))
... F112: =IF(LEN($E112)=0,"",INDEX(Calculations!$J$20:$K$22,MATCH(Checklist!$E112,Calculations!$J$20:$J$22,0),2))

Sheet Settings
B2: COVID-19 EMPLOYEE HEALTH TRACKER
B3: SETTINGS
C6: Departments | E6: Employee Name | F6: Department | G6: Age | H6: Gender | J6: Range
C7: Purchasing | E7: Marry Smith | F7: Purchasing | G7: 29 | H7: Female | J7: Min | K7: Max | L7: Risk Level
C8: Sales | E8: Tom Wolf | F8: Sales | G8: 32 | H8: Male | J8: 36.5 | K8: 37.5 | L8: Low Risk
C9: Finance | E9: Adrian McDonagh | F9: Sales | G9: 40 | H9: Male | J9: 37.5 | K9: 38.5 | L9: Medium Risk
C10: Manufacturing | E10: Michela Alexis | F10: Manufacturing | G10: 37 | H10: Female | J10: 38.5 | K10: 39.5 | L10: High Risk
C11: Human Resources | E11: Bob Kumar | F11: Human Resources | G11: 41 | H11: Male | J11: 39.5 | K11: - | L11: Very High Risk
C12: IT | E12: Mario Mulhern | F12: Manufacturing | G12: 33 | H12: Male
C13: Supply Chain | E13: Joy Bailey | F13: Finance | G13: 30 | H13: Female
C14: Logistic | E14: Ryan Jordan | F14: IT | G14: 32 | H14: Male | J14: Temperature Unit
E15: Anthony Carroll | F15: Finance | G15: 36 | H15: Male
E16: Willy Oliver | F16: Supply Chain | G16: 29 | H16: Male | J16: °C
E17: Kat Tesser | F17: Supply Chain | G17: 38 | H17: Female
E18: Maxine Hancock | F18: IT | G18: 28 | H18: Female
E19: Robert Liller | F19: Logistic | G19: 34 | H19: Male
E20: Ellie Kite | F20: Purchasing | G20: 42 | H20: Female
E21: Courtney Mair | F21: Human Resources | G21: 41 | H21: Female
E22: Isabell Fair | F22: IT | G22: 26 | H22: Female

Sheet Calculations
AC1: EMPLOYEE TRACKING DATA
AY2: EMPLOYEE TIMESHEET DATA
Q3: Date | R3: Year | S3: Month | T3: Week | U3: Day | V3: Employee Name | W3: Department | X3: Temperature | Y3: Risk Level | Z3: # of week | AA3: Wear a mask? | AB3: Travel? | AH3: Employee Name | AI3: Department | AJ3: Avg. Temp. | AK3: Risk Level | AM3: =WEEKNUM(DATE($AD$7,$AE$7,EmployeeTimesheet!D$5),2) -> 23 | AN3: =WEEKNUM(DATE($AD$7,$AE$7,EmployeeTimesheet!E$5),2) -> 23 | AO3: =WEEKNUM(DATE($AD$7,$AE$7,EmployeeTimesheet!F$5),2) -> 23 | AP3: =WEEKNUM(DATE($AD$7,$AE$7,EmployeeTimesheet!G$5),2) -> 23 | AQ3: =WEEKNUM(DATE($AD$7,$AE$7,EmployeeTimesheet!H$5),2) -> 23 | AR3: =WEEKNUM(DATE($AD$7,$AE$7,EmployeeTimesheet!I$5),2) -> 23 | AS3: =WEEKNUM(DATE($AD$7,$AE$7,EmployeeTimesheet!J$5),2) -> 23 | AT3: =WEEKNUM(DATE($AD$7,$AE$7,EmployeeTimesheet!K$5),2) -> 24 | ... BQ3: =WEEKNUM(DATE($AD$7,$AE$7,EmployeeTimesheet!AH$5),2) -> 27
B4: Wear a mask? | C4: Yes | D4: No | F4: Had contacted with Covid-19? | J4: Travel Outside | K4: Yes | L4: No | N4: Checklist-Number of checked items Graph | P4: 1 | Q4: =IF(INDEX(EmployeeTrackingSheet!$B$6:$B$1005,Calculations!P4,1)=0,"",INDEX(EmployeeTrackingSheet!$B$6:$B$1005,Calculations!P4,1)) -> 43923 | R4: =IF(LEN($Q4)=0,"",YEAR($Q4)) -> 2020 | S4: =IF(LEN($Q4)=0,"",MONTH($Q4)) -> 4 | T4: =IF(LEN($Q4)=0,"",WEEKNUM($Q4)) -> 14 | U4: =IF(LEN($Q4)=0,"",DAY($Q4)) -> 2 | V4: =IF(INDEX(EmployeeTrackingSheet!$C$6:$C$1005,Calculations!P4,1)=0,"",INDEX(EmployeeTrackingSheet!$C$6:$C$1005,Calculations!P4,1)) -> Tom Wolf | W4: =IF(INDEX(EmployeeTrackingSheet!$D$6:$D$1005,Calculations!P4,1)=0,"",INDEX(EmployeeTrackingSheet!$D$6:$D$1005,Calculations!P4,1)) -> Sales | X4: =IF(INDEX(EmployeeTrackingSheet!$E$6:$E$1005,Calculations!P4,1)=0,"",INDEX(EmployeeTrackingSheet!$E$6:$E$1005,Calculations!P4,1)) -> 36.8 | Y4: =IF(INDEX(EmployeeTrackingSheet!$F$6:$F$1005,Calculations!P4,1)=0,"",INDEX(EmployeeTrackingSheet!$F$6:$F$1005,Calculations!P4,1)) -> Low Risk | Z4: =IFERROR(WEEKNUM(DATE(YEAR($Q4),$S4,$U4),1)-WEEKNUM(DATE(YEAR($Q4),$S4,1),1)+1,"") -> 1 | AA4: =IF(INDEX(EmployeeTrackingSheet!$G$6:$G$1005,Calculations!P4,1)=0,"",INDEX(EmployeeTrackingSheet!$G$6:$G$1005,Calculations!P4,1)) -> Yes | AB4: =IF(INDEX(EmployeeTrackingSheet!$H$6:$H$1005,Calculations!P4,1)=0,"",INDEX(EmployeeTrackingSheet!$H$6:$H$1005,Calculations!P4,1)) -> Yes | AD4: Temperature: | AE4: =Settings!$J$16 -> °C | AH4: =IF(INDEX(Settings!$E$7:$E$106,Calculations!P4,1)=0,"",INDEX(Settings!$E$7:$E$106,Calculations!P4,1)) -> Marry Smith | AI4: =IF(INDEX(Settings!$F$7:$F$106,Calculations!P4,1)=0,"",INDEX(Settings!$F$7:$F$106,Calculations!P4,1)) -> Purchasing | AJ4: =IFERROR(IF(LEN($AH4)>1,SUMIF($V$4:V998,$AH4,$X$4:X998)/COUNTIF($V$4:V998,$AH4),""),"") -> 37.9 | AK4: =IFERROR(INDEX(Settings!$J$8:$L$11,MATCH(Calculations!$AJ4,Settings!$J$8:$J$11,1),3),"") -> Medium Risk | AM4: Department | AN4: Week # | BH4: The last data of current month | BJ4: =INDEX($BE$9:$BQ$10,MATCH($AD$7,BE9:BE10,0),MATCH($AE$7,$BE$9:$BQ$9,0)) -> 30 | BL4: x | BM4: Data Validation List
C5: =IFERROR(COUNTIFS($R$4:$R$998,$AD$7,$S$4:$S$998,$AE$7,$AA$4:$AA$998,"yes"),"-") -> 4 | D5: =IFERROR(COUNTIFS($R$4:$R$998,$AD$7,$S$4:$S$998,$AE$7,$AA$4:$AA$998,"no"),"-") -> 3 | F5: Yes | G5: No | K5: =IFERROR(COUNTIFS($R$4:$R$998,$AD$7,$S$4:$S$998,$AE$7,$AB$4:$AB$998,"yes"),"-") -> 1 | L5: =IFERROR(COUNTIFS($R$4:$R$998,$AD$7,$S$4:$S$998,$AE$7,$AB$4:$AB$998,"no"),"-") -> 6 | N5: Yes | O5: No | P5: 2 | Q5: =IF(INDEX(EmployeeTrackingSheet!$B$6:$B$1005,Calculations!P5,1)=0,"",INDEX(EmployeeTrackingSheet!$B$6:$B$1005,Calculations!P5,1)) -> 43923 | R5: =IF(LEN($Q5)=0,"",YEAR($Q5)) -> 2020 | S5: =IF(LEN($Q5)=0,"",MONTH($Q5)) -> 4 | T5: =IF(LEN($Q5)=0,"",WEEKNUM($Q5)) -> 14 | U5: =IF(LEN($Q5)=0,"",DAY($Q5)) -> 2 | V5: =IF(INDEX(EmployeeTrackingSheet!$C$6:$C$1005,Calculations!P5,1)=0,"",INDEX(EmployeeTrackingSheet!$C$6:$C$1005,Calculations!P5,1)) -> Adrian McDonagh | W5: =IF(INDEX(EmployeeTrackingSheet!$D$6:$D$1005,Calculations!P5,1)=0,"",INDEX(EmployeeTrackingSheet!$D$6:$D$1005,Calculations!P5,1)) -> Sales | X5: =IF(INDEX(EmployeeTrackingSheet!$E$6:$E$1005,Calculations!P5,1)=0,"",INDEX(EmployeeTrackingSheet!$E$6:$E$1005,Calculations!P5,1)) -> 38.7 | Y5: =IF(INDEX(EmployeeTrackingSheet!$F$6:$F$1005,Calculations!P5,1)=0,"",INDEX(EmployeeTrackingSheet!$F$6:$F$1005,Calculations!P5,1)) -> High Risk | Z5: =IFERROR(WEEKNUM(DATE(YEAR($Q5),$S5,$U5),1)-WEEKNUM(DATE(YEAR($Q5),$S5,1),1)+1,"") -> 1 | AA5: =IF(INDEX(EmployeeTrackingSheet!$G$6:$G$1005,Calculations!P5,1)=0,"",INDEX(EmployeeTrackingSheet!$G$6:$G$1005,Calculations!P5,1)) -> Yes | AB5: =IF(INDEX(EmployeeTrackingSheet!$H$6:$H$1005,Calculations!P5,1)=0,"",INDEX(EmployeeTrackingSheet!$H$6:$H$1005,Calculations!P5,1)) -> Yes | AH5: =IF(INDEX(Settings!$E$7:$E$106,Calculations!P5,1)=0,"",INDEX(Settings!$E$7:$E$106,Calculations!P5,1)) -> Tom Wolf | AI5: =IF(INDEX(Settings!$F$7:$F$106,Calculations!P5,1)=0,"",INDEX(Settings!$F$7:$F$106,Calculations!P5,1)) -> Sales | AJ5: =IFERROR(IF(LEN($AH5)>1,SUMIF($V$4:V999,$AH5,$X$4:X999)/COUNTIF($V$4:V999,$AH5),""),"") -> 36.8 | AK5: =IFERROR(INDEX(Settings!$J$8:$L$11,MATCH(Calculations!$AJ5,Settings!$J$8:$J$11,1),3),"") -> Low Risk | AM5: =Dashboard!$F$17 -> All Departments | AN5: =Dashboard!C17 -> Week 1 | AO5: =INDEX(AM7:AN12,MATCH(AN5,AM7:AM12,0),2) -> W1 | AQ5: Result | AR5: =AM5 -> All Departments | AS5: Department | AT5: W1 | AU5: W2 | AV5: W3 | AW5: W4 | AX5: W5 | AY5: W6 | AZ5: Sum | BB5: 1 | BC5: Mon
