Workbook
Name AveragePerf: ListByCategory!$D$110
Name categories: Settings!$I$7:$I$15
Name catSymbols: Settings!$J$7:$J$15
Name CorePlayer: ListByCategory!$D$58
Name HighPerf: ListByCategory!$F$58
Name HighPot: ListByCategory!$D$6
Name Inconsistent: ListByCategory!$B$58
Name PotentialGem: ListByCategory!$B$6
Name Risk: ListByCategory!$B$110
Name SolidPerf: ListByCategory!$F$110
Name Star: ListByCategory!$F$6

Sheet Dashboard
C2: 9 BOX GRID TALENT MANAGEMENT
C3: DASHBOARD
C7: ID | E7: =EmployeeTable!D5 -> DEPARTMENT | G7: =EmployeeTable!E5 -> POSITION | I7: =EmployeeTable!G5 -> JOB LEVEL | K7: =EmployeeTable!F5 -> YEARS OF EXPERIENCE | M7: =EmployeeTable!H5 -> AGE
C8: ALL | E8: ALL | G8: ALL | I8: ALL | K8: ALL | M8: ALL

Sheet EmployeeTable
C2: 9 BOX GRID TALENT MANAGEMENT
C3: EMPLOYEE TABLE
B5: EMPLOYEE ID | C5: NAME SURNAME | D5: DEPARTMENT | E5: POSITION | F5: YEARS OF EXPERIENCE | G5: JOB LEVEL | H5: AGE | I5: PERFORMANCE | J5: POTENTIAL | K5: 9 BOX CATEGORIZATION
B6: 1 | C6: Daffie Bertot | D6: Product Management | E6: Senior Cost Accountant | F6: 9 | G6: SPECIALIST | H6: 36 | I6: 1 | J6: 1 | K6: =IFERROR(INDEX(categories,MATCH(I6& " - " &J6,catSymbols,0),1),"") -> Risk
B7: 2 | C7: Shelba Meiklem | D7: Research and Development | E7: Chief Design Engineer | F7: 1 | G7: JUNIOR | H7: 24 | I7: 3 | J7: 3 | K7: =IFERROR(INDEX(categories,MATCH(I7& " - " &J7,catSymbols,0),1),"") -> Star
B8: 3 | C8: Frederica Fridlington | D8: Research and Development | E8: Environmental Specialist | F8: 2 | G8: JUNIOR | H8: 25 | I8: 1 | J8: 3 | K8: =IFERROR(INDEX(categories,MATCH(I8& " - " &J8,catSymbols,0),1),"") -> Potential Gem
B9: 4 | C9: Herman Slainey | D9: Accounting | E9: Account Executive | F9: 1 | G9: SENIOR | H9: 22 | I9: 1 | J9: 2 | K9: =IFERROR(INDEX(categories,MATCH(I9& " - " &J9,catSymbols,0),1),"") -> Inconsistent player
B10: 5 | C10: Alastair Gotliffe | D10: Sales | E10: Marketing Assistant | F10: 3 | G10: SPECIALIST | H10: 18 | I10: 3 | J10: 2 | K10: =IFERROR(INDEX(categories,MATCH(I10& " - " &J10,catSymbols,0),1),"") -> High performance
B11: 6 | C11: Kyrstin Urry | D11: Marketing | E11: Marketing Assistant | F11: 4 | G11: BAND 2 | H11: 38 | I11: 2 | J11: 2 | K11: =IFERROR(INDEX(categories,MATCH(I11& " - " &J11,catSymbols,0),1),"") -> Core Player
B12: 7 | C12: Padgett Briance | D12: Support | E12: Health Coach I | F12: 2 | G12: SENIOR | H12: 42 | I12: 1 | J12: 2 | K12: =IFERROR(INDEX(categories,MATCH(I12& " - " &J12,catSymbols,0),1),"") -> Inconsistent player
B13: 8 | C13: Katha St. Quentin | D13: Support | E13: Editor | F13: 1 | G13: BAND 1 | H13: 24 | I13: 2 | J13: 3 | K13: =IFERROR(INDEX(categories,MATCH(I13& " - " &J13,catSymbols,0),1),"") -> High potential
B14: 9 | C14: Dwight Cars | D14: Research and Development | E14: Marketing Assistant | F14: 6 | G14: JUNIOR | H14: 46 | I14: 3 | J14: 1 | K14: =IFERROR(INDEX(categories,MATCH(I14& " - " &J14,catSymbols,0),1),"") -> Solid Performer
B15: 10 | C15: Lotty Gillet | D15: Engineering | E15: Chief Design Engineer | F15: 3 | G15: SPECIALIST | H15: 28 | I15: 2 | J15: 1 | K15: =IFERROR(INDEX(categories,MATCH(I15& " - " &J15,catSymbols,0),1),"") -> Average performer
B16: 11 | C16: Caresa Nabbs | D16: Research and Development | E16: Chief Design Engineer | F16: 3 | G16: BAND 1 | H16: 25 | I16: 2 | J16: 2 | K16: =IFERROR(INDEX(categories,MATCH(I16& " - " &J16,catSymbols,0),1),"") -> Core Player
B17: 12 | C17: Bernhard Newell | D17: Sales | E17: Environmental Specialist | F17: 6 | G17: JUNIOR | H17: 27 | I17: 2 | J17: 3 | K17: =IFERROR(INDEX(categories,MATCH(I17& " - " &J17,catSymbols,0),1),"") -> High potential
B18: 13 | C18: Bette Kernar | D18: Sales | E18: Health Coach I | F18: 1 | G18: SENIOR | H18: 31 | I18: 3 | J18: 1 | K18: =IFERROR(INDEX(categories,MATCH(I18& " - " &J18,catSymbols,0),1),"") -> Solid Performer
K19: =IFERROR(INDEX(categories,MATCH(I19& " - " &J19,catSymbols,0),1),"")
K20: =IFERROR(INDEX(categories,MATCH(I20& " - " &J20,catSymbols,0),1),"")

Sheet ListByCategory
B2: 9 BOX GRID TALENT MANAGEMENT
B3: LIST BY CATEGORY
B5: =SUBSTITUTE(UPPER(Settings!I10),"İ","I") -> POTENTIAL GEM | D5: =SUBSTITUTE(UPPER(Settings!I9),"İ","I") -> HIGH POTENTIAL | F5: =SUBSTITUTE(UPPER(Settings!I7),"İ","I") -> STAR
B6: {=IFERROR(INDEX(Calculation!$D$4:$D$503,MATCH(Calculation!$P$7&(ROW(A6)-ROW($A$5)),Calculation!$L$4:$L$503&Calculation!$N$4:$N$503,0),1),"")} -> Frederica Fridlington | D6: {=IFERROR(INDEX(Calculation!$D$4:$D$503,MATCH(Calculation!$P$6&(ROW(A6)-ROW($A$5)),Calculation!$L$4:$L$503&Calculation!$N$4:$N$503,0),1),"")} -> Katha St. Quentin | F6: {=IFERROR(INDEX(Calculation!$D$4:$D$503,MATCH(Calculation!$P$4&(ROW(A6)-ROW($A$5)),Calculation!$L$4:$L$503&Calculation!$N$4:$N$503,0),1),"")} -> Shelba Meiklem
B7: {=IFERROR(INDEX(Calculation!$D$4:$D$503,MATCH(Calculation!$P$7&(ROW(A7)-ROW($A$5)),Calculation!$L$4:$L$503&Calculation!$N$4:$N$503,0),1),"")} | D7: {=IFERROR(INDEX(Calculation!$D$4:$D$503,MATCH(Calculation!$P$6&(ROW(A7)-ROW($A$5)),Calculation!$L$4:$L$503&Calculation!$N$4:$N$503,0),1),"")} -> Bernhard Newell | F7: {=IFERROR(INDEX(Calculation!$D$4:$D$503,MATCH(Calculation!$P$4&(ROW(A7)-ROW($A$5)),Calculation!$L$4:$L$503&Calculation!$N$4:$N$503,0),1),"")}
B8: {=IFERROR(INDEX(Calculation!$D$4:$D$503,MATCH(Calculation!$P$7&(ROW(A8)-ROW($A$5)),Calculation!$L$4:$L$503&Calculation!$N$4:$N$503,0),1),"")} | D8: {=IFERROR(INDEX(Calculation!$D$4:$D$503,MATCH(Calculation!$P$6&(ROW(A8)-ROW($A$5)),Calculation!$L$4:$L$503&Calculation!$N$4:$N$503,0),1),"")} | F8: {=IFERROR(INDEX(Calculation!$D$4:$D$503,MATCH(Calculation!$P$4&(ROW(A8)-ROW($A$5)),Calculation!$L$4:$L$503&Calculation!$N$4:$N$503,0),1),"")}
B9: {=IFERROR(INDEX(Calculation!$D$4:$D$503,MATCH(Calculation!$P$7&(ROW(A9)-ROW($A$5)),Calculation!$L$4:$L$503&Calculation!$N$4:$N$503,0),1),"")} | D9: {=IFERROR(INDEX(Calculation!$D$4:$D$503,MATCH(Calculation!$P$6&(ROW(A9)-ROW($A$5)),Calculation!$L$4:$L$503&Calculation!$N$4:$N$503,0),1),"")} | F9: {=IFERROR(INDEX(Calculation!$D$4:$D$503,MATCH(Calculation!$P$4&(ROW(A9)-ROW($A$5)),Calculation!$L$4:$L$503&Calculation!$N$4:$N$503,0),1),"")}
B10: {=IFERROR(INDEX(Calculation!$D$4:$D$503,MATCH(Calculation!$P$7&(ROW(A10)-ROW($A$5)),Calculation!$L$4:$L$503&Calculation!$N$4:$N$503,0),1),"")} | D10: {=IFERROR(INDEX(Calculation!$D$4:$D$503,MATCH(Calculation!$P$6&(ROW(A10)-ROW($A$5)),Calculation!$L$4:$L$503&Calculation!$N$4:$N$503,0),1),"")} | F10: {=IFERROR(INDEX(Calculation!$D$4:$D$503,MATCH(Calculation!$P$4&(ROW(A10)-ROW($A$5)),Calculation!$L$4:$L$503&Calculation!$N$4:$N$503,0),1),"")}
B11: {=IFERROR(INDEX(Calculation!$D$4:$D$503,MATCH(Calculation!$P$7&(ROW(A11)-ROW($A$5)),Calculation!$L$4:$L$503&Calculation!$N$4:$N$503,0),1),"")} | D11: {=IFERROR(INDEX(Calculation!$D$4:$D$503,MATCH(Calculation!$P$6&(ROW(A11)-ROW($A$5)),Calculation!$L$4:$L$503&Calculation!$N$4:$N$503,0),1),"")} | F11: {=IFERROR(INDEX(Calculation!$D$4:$D$503,MATCH(Calculation!$P$4&(ROW(A11)-ROW($A$5)),Calculation!$L$4:$L$503&Calculation!$N$4:$N$503,0),1),"")}
B12: {=IFERROR(INDEX(Calculation!$D$4:$D$503,MATCH(Calculation!$P$7&(ROW(A12)-ROW($A$5)),Calculation!$L$4:$L$503&Calculation!$N$4:$N$503,0),1),"")} | D12: {=IFERROR(INDEX(Calculation!$D$4:$D$503,MATCH(Calculation!$P$6&(ROW(A12)-ROW($A$5)),Calculation!$L$4:$L$503&Calculation!$N$4:$N$503,0),1),"")} | F12: {=IFERROR(INDEX(Calculation!$D$4:$D$503,MATCH(Calculation!$P$4&(ROW(A12)-ROW($A$5)),Calculation!$L$4:$L$503&Calculation!$N$4:$N$503,0),1),"")}
B13: {=IFERROR(INDEX(Calculation!$D$4:$D$503,MATCH(Calculation!$P$7&(ROW(A13)-ROW($A$5)),Calculation!$L$4:$L$503&Calculation!$N$4:$N$503,0),1),"")} | D13: {=IFERROR(INDEX(Calculation!$D$4:$D$503,MATCH(Calculation!$P$6&(ROW(A13)-ROW($A$5)),Calculation!$L$4:$L$503&Calculation!$N$4:$N$503,0),1),"")} | F13: {=IFERROR(INDEX(Calculation!$D$4:$D$503,MATCH(Calculation!$P$4&(ROW(A13)-ROW($A$5)),Calculation!$L$4:$L$503&Calculation!$N$4:$N$503,0),1),"")}
B14: {=IFERROR(INDEX(Calculation!$D$4:$D$503,MATCH(Calculation!$P$7&(ROW(A14)-ROW($A$5)),Calculation!$L$4:$L$503&Calculation!$N$4:$N$503,0),1),"")} | D14: {=IFERROR(INDEX(Calculation!$D$4:$D$503,MATCH(Calculation!$P$6&(ROW(A14)-ROW($A$5)),Calculation!$L$4:$L$503&Calculation!$N$4:$N$503,0),1),"")} | F14: {=IFERROR(INDEX(Calculation!$D$4:$D$503,MATCH(Calculation!$P$4&(ROW(A14)-ROW($A$5)),Calculation!$L$4:$L$503&Calculation!$N$4:$N$503,0),1),"")}
B15: {=IFERROR(INDEX(Calculation!$D$4:$D$503,MATCH(Calculation!$P$7&(ROW(A15)-ROW($A$5)),Calculation!$L$4:$L$503&Calculation!$N$4:$N$503,0),1),"")} | D15: {=IFERROR(INDEX(Calculation!$D$4:$D$503,MATCH(Calculation!$P$6&(ROW(A15)-ROW($A$5)),Calculation!$L$4:$L$503&Calculation!$N$4:$N$503,0),1),"")} | F15: {=IFERROR(INDEX(Calculation!$D$4:$D$503,MATCH(Calculation!$P$4&(ROW(A15)-ROW($A$5)),Calculation!$L$4:$L$503&Calculation!$N$4:$N$503,0),1),"")}
B16: {=IFERROR(INDEX(Calculation!$D$4:$D$503,MATCH(Calculation!$P$7&(ROW(A16)-ROW($A$5)),Calculation!$L$4:$L$503&Calculation!$N$4:$N$503,0),1),"")} | D16: {=IFERROR(INDEX(Calculation!$D$4:$D$503,MATCH(Calculation!$P$6&(ROW(A16)-ROW($A$5)),Calculation!$L$4:$L$503&Calculation!$N$4:$N$503,0),1),"")} | F16: {=IFERROR(INDEX(Calculation!$D$4:$D$503,MATCH(Calculation!$P$4&(ROW(A16)-ROW($A$5)),Calculation!$L$4:$L$503&Calculation!$N$4:$N$503,0),1),"")}
B17: {=IFERROR(INDEX(Calculation!$D$4:$D$503,MATCH(Calculation!$P$7&(ROW(A17)-ROW($A$5)),Calculation!$L$4:$L$503&Calculation!$N$4:$N$503,0),1),"")} | D17: {=IFERROR(INDEX(Calculation!$D$4:$D$503,MATCH(Calculation!$P$6&(ROW(A17)-ROW($A$5)),Calculation!$L$4:$L$503&Calculation!$N$4:$N$503,0),1),"")} | F17: {=IFERROR(INDEX(Calculation!$D$4:$D$503,MATCH(Calculation!$P$4&(ROW(A17)-ROW($A$5)),Calculation!$L$4:$L$503&Calculation!$N$4:$N$503,0),1),"")}
... B55: {=IFERROR(INDEX(Calculation!$D$4:$D$503,MATCH(Calculation!$P$7&(ROW(A55)-ROW($A$5)),Calculation!$L$4:$L$503&Calculation!$N$4:$N$503,0),1),"")} | D55: {=IFERROR(INDEX(Calculation!$D$4:$D$503,MATCH(Calculation!$P$6&(ROW(A55)-ROW($A$5)),Calculation!$L$4:$L$503&Calculation!$N$4:$N$503,0),1),"")} | F55: {=IFERROR(INDEX(Calculation!$D$4:$D$503,MATCH(Calculation!$P$4&(ROW(A55)-ROW($A$5)),Calculation!$L$4:$L$503&Calculation!$N$4:$N$503,0),1),"")}
B57: =SUBSTITUTE(UPPER(Settings!I13),"İ","I") -> INCONSISTENT PLAYER | D57: =SUBSTITUTE(UPPER(Settings!I11),"İ","I") -> CORE PLAYER | F57: =SUBSTITUTE(UPPER(Settings!I8),"İ","I") -> HIGH PERFORMANCE
B58: {=IFERROR(INDEX(Calculation!$D$4:$D$503,MATCH(Calculation!$P$10&(ROW(A6)-ROW($A$5)),Calculation!$L$4:$L$503&Calculation!$N$4:$N$503,0),1),"")} -> Herman Slainey | D58: {=IFERROR(INDEX(Calculation!$D$4:$D$503,MATCH(Calculation!$P$8&(ROW(A6)-ROW($A$5)),Calculation!$L$4:$L$503&Calculation!$N$4:$N$503,0),1),"")} -> Kyrstin Urry | F58: {=IFERROR(INDEX(Calculation!$D$4:$D$503,MATCH(Calculation!$P$5&(ROW(A6)-ROW($A$5)),Calculation!$L$4:$L$503&Calculation!$N$4:$N$503,0),1),"")} -> Alastair Gotliffe
B59: {=IFERROR(INDEX(Calculation!$D$4:$D$503,MATCH(Calculation!$P$10&(ROW(A7)-ROW($A$5)),Calculation!$L$4:$L$503&Calculation!$N$4:$N$503,0),1),"")} -> Padgett Briance | D59: {=IFERROR(INDEX(Calculation!$D$4:$D$503,MATCH(Calculation!$P$8&(ROW(A7)-ROW($A$5)),Calculation!$L$4:$L$503&Calculation!$N$4:$N$503,0),1),"")} -> Caresa Nabbs | F59: {=IFERROR(INDEX(Calculation!$D$4:$D$503,MATCH(Calculation!$P$5&(ROW(A7)-ROW($A$5)),Calculation!$L$4:$L$503&Calculation!$N$4:$N$503,0),1),"")}
B60: {=IFERROR(INDEX(Calculation!$D$4:$D$503,MATCH(Calculation!$P$10&(ROW(A8)-ROW($A$5)),Calculation!$L$4:$L$503&Calculation!$N$4:$N$503,0),1),"")} | D60: {=IFERROR(INDEX(Calculation!$D$4:$D$503,MATCH(Calculation!$P$8&(ROW(A8)-ROW($A$5)),Calculation!$L$4:$L$503&Calculation!$N$4:$N$503,0),1),"")} | F60: {=IFERROR(INDEX(Calculation!$D$4:$D$503,MATCH(Calculation!$P$5&(ROW(A8)-ROW($A$5)),Calculation!$L$4:$L$503&Calculation!$N$4:$N$503,0),1),"")}
B61: {=IFERROR(INDEX(Calculation!$D$4:$D$503,MATCH(Calculation!$P$10&(ROW(A9)-ROW($A$5)),Calculation!$L$4:$L$503&Calculation!$N$4:$N$503,0),1),"")} | D61: {=IFERROR(INDEX(Calculation!$D$4:$D$503,MATCH(Calculation!$P$8&(ROW(A9)-ROW($A$5)),Calculation!$L$4:$L$503&Calculation!$N$4:$N$503,0),1),"")} | F61: {=IFERROR(INDEX(Calculation!$D$4:$D$503,MATCH(Calculation!$P$5&(ROW(A9)-ROW($A$5)),Calculation!$L$4:$L$503&Calculation!$N$4:$N$503,0),1),"")}
B62: {=IFERROR(INDEX(Calculation!$D$4:$D$503,MATCH(Calculation!$P$10&(ROW(A10)-ROW($A$5)),Calculation!$L$4:$L$503&Calculation!$N$4:$N$503,0),1),"")} | D62: {=IFERROR(INDEX(Calculation!$D$4:$D$503,MATCH(Calculation!$P$8&(ROW(A10)-ROW($A$5)),Calculation!$L$4:$L$503&Calculation!$N$4:$N$503,0),1),"")} | F62: {=IFERROR(INDEX(Calculation!$D$4:$D$503,MATCH(Calculation!$P$5&(ROW(A10)-ROW($A$5)),Calculation!$L$4:$L$503&Calculation!$N$4:$N$503,0),1),"")}
B63: {=IFERROR(INDEX(Calculation!$D$4:$D$503,MATCH(Calculation!$P$10&(ROW(A11)-ROW($A$5)),Calculation!$L$4:$L$503&Calculation!$N$4:$N$503,0),1),"")} | D63: {=IFERROR(INDEX(Calculation!$D$4:$D$503,MATCH(Calculation!$P$8&(ROW(A11)-ROW($A$5)),Calculation!$L$4:$L$503&Calculation!$N$4:$N$503,0),1),"")} | F63: {=IFERROR(INDEX(Calculation!$D$4:$D$503,MATCH(Calculation!$P$5&(ROW(A11)-ROW($A$5)),Calculation!$L$4:$L$503&Calculation!$N$4:$N$503,0),1),"")}
B64: {=IFERROR(INDEX(Calculation!$D$4:$D$503,MATCH(Calculation!$P$10&(ROW(A12)-ROW($A$5)),Calculation!$L$4:$L$503&Calculation!$N$4:$N$503,0),1),"")} | D64: {=IFERROR(INDEX(Calculation!$D$4:$D$503,MATCH(Calculation!$P$8&(ROW(A12)-ROW($A$5)),Calculation!$L$4:$L$503&Calculation!$N$4:$N$503,0),1),"")} | F64: {=IFERROR(INDEX(Calculation!$D$4:$D$503,MATCH(Calculation!$P$5&(ROW(A12)-ROW($A$5)),Calculation!$L$4:$L$503&Calculation!$N$4:$N$503,0),1),"")}
B65: {=IFERROR(INDEX(Calculation!$D$4:$D$503,MATCH(Calculation!$P$10&(ROW(A13)-ROW($A$5)),Calculation!$L$4:$L$503&Calculation!$N$4:$N$503,0),1),"")} | D65: {=IFERROR(INDEX(Calculation!$D$4:$D$503,MATCH(Calculation!$P$8&(ROW(A13)-ROW($A$5)),Calculation!$L$4:$L$503&Calculation!$N$4:$N$503,0),1),"")} | F65: {=IFERROR(INDEX(Calculation!$D$4:$D$503,MATCH(Calculation!$P$5&(ROW(A13)-ROW($A$5)),Calculation!$L$4:$L$503&Calculation!$N$4:$N$503,0),1),"")}
B66: {=IFERROR(INDEX(Calculation!$D$4:$D$503,MATCH(Calculation!$P$10&(ROW(A14)-ROW($A$5)),Calculation!$L$4:$L$503&Calculation!$N$4:$N$503,0),1),"")} | D66: {=IFERROR(INDEX(Calculation!$D$4:$D$503,MATCH(Calculation!$P$8&(ROW(A14)-ROW($A$5)),Calculation!$L$4:$L$503&Calculation!$N$4:$N$503,0),1),"")} | F66: {=IFERROR(INDEX(Calculation!$D$4:$D$503,MATCH(Calculation!$P$5&(ROW(A14)-ROW($A$5)),Calculation!$L$4:$L$503&Calculation!$N$4:$N$503,0),1),"")}
B67: {=IFERROR(INDEX(Calculation!$D$4:$D$503,MATCH(Calculation!$P$10&(ROW(A15)-ROW($A$5)),Calculation!$L$4:$L$503&Calculation!$N$4:$N$503,0),1),"")} | D67: {=IFERROR(INDEX(Calculation!$D$4:$D$503,MATCH(Calculation!$P$8&(ROW(A15)-ROW($A$5)),Calculation!$L$4:$L$503&Calculation!$N$4:$N$503,0),1),"")} | F67: {=IFERROR(INDEX(Calculation!$D$4:$D$503,MATCH(Calculation!$P$5&(ROW(A15)-ROW($A$5)),Calculation!$L$4:$L$503&Calculation!$N$4:$N$503,0),1),"")}
B68: {=IFERROR(INDEX(Calculation!$D$4:$D$503,MATCH(Calculation!$P$10&(ROW(A16)-ROW($A$5)),Calculation!$L$4:$L$503&Calculation!$N$4:$N$503,0),1),"")} | D68: {=IFERROR(INDEX(Calculation!$D$4:$D$503,MATCH(Calculation!$P$8&(ROW(A16)-ROW($A$5)),Calculation!$L$4:$L$503&Calculation!$N$4:$N$503,0),1),"")} | F68: {=IFERROR(INDEX(Calculation!$D$4:$D$503,MATCH(Calculation!$P$5&(ROW(A16)-ROW($A$5)),Calculation!$L$4:$L$503&Calculation!$N$4:$N$503,0),1),"")}
B69: {=IFERROR(INDEX(Calculation!$D$4:$D$503,MATCH(Calculation!$P$10&(ROW(A17)-ROW($A$5)),Calculation!$L$4:$L$503&Calculation!$N$4:$N$503,0),1),"")} | D69: {=IFERROR(INDEX(Calculation!$D$4:$D$503,MATCH(Calculation!$P$8&(ROW(A17)-ROW($A$5)),Calculation!$L$4:$L$503&Calculation!$N$4:$N$503,0),1),"")} | F69: {=IFERROR(INDEX(Calculation!$D$4:$D$503,MATCH(Calculation!$P$5&(ROW(A17)-ROW($A$5)),Calculation!$L$4:$L$503&Calculation!$N$4:$N$503,0),1),"")}
... B107: {=IFERROR(INDEX(Calculation!$D$4:$D$503,MATCH(Calculation!$P$10&(ROW(A55)-ROW($A$5)),Calculation!$L$4:$L$503&Calculation!$N$4:$N$503,0),1),"")} | D107: {=IFERROR(INDEX(Calculation!$D$4:$D$503,MATCH(Calculation!$P$8&(ROW(A55)-ROW($A$5)),Calculation!$L$4:$L$503&Calculation!$N$4:$N$503,0),1),"")} | F107: {=IFERROR(INDEX(Calculation!$D$4:$D$503,MATCH(Calculation!$P$5&(ROW(A55)-ROW($A$5)),Calculation!$L$4:$L$503&Calculation!$N$4:$N$503,0),1),"")}
B109: =SUBSTITUTE(UPPER(Settings!I15),"İ","I") -> RISK | D109: =SUBSTITUTE(UPPER(Settings!I14),"İ","I") -> AVERAGE PERFORMER | F109: =SUBSTITUTE(UPPER(Settings!I12),"İ","I") -> SOLID PERFORMER
B110: {=IFERROR(INDEX(Calculation!$D$4:$D$503,MATCH(Calculation!$P$12&(ROW(A6)-ROW($A$5)),Calculation!$L$4:$L$503&Calculation!$N$4:$N$503,0),1),"")} -> Daffie Bertot | D110: {=IFERROR(INDEX(Calculation!$D$4:$D$503,MATCH(Calculation!$P$11&(ROW(A6)-ROW($A$5)),Calculation!$L$4:$L$503&Calculation!$N$4:$N$503,0),1),"")} -> Lotty Gillet | F110: {=IFERROR(INDEX(Calculation!$D$4:$D$503,MATCH(Calculation!$P$9&(ROW(A6)-ROW($A$5)),Calculation!$L$4:$L$503&Calculation!$N$4:$N$503,0),1),"")} -> Dwight Cars
B111: {=IFERROR(INDEX(Calculation!$D$4:$D$503,MATCH(Calculation!$P$12&(ROW(A7)-ROW($A$5)),Calculation!$L$4:$L$503&Calculation!$N$4:$N$503,0),1),"")} | D111: {=IFERROR(INDEX(Calculation!$D$4:$D$503,MATCH(Calculation!$P$11&(ROW(A7)-ROW($A$5)),Calculation!$L$4:$L$503&Calculation!$N$4:$N$503,0),1),"")} | F111: {=IFERROR(INDEX(Calculation!$D$4:$D$503,MATCH(Calculation!$P$9&(ROW(A7)-ROW($A$5)),Calculation!$L$4:$L$503&Calculation!$N$4:$N$503,0),1),"")} -> Bette Kernar
B112: {=IFERROR(INDEX(Calculation!$D$4:$D$503,MATCH(Calculation!$P$12&(ROW(A8)-ROW($A$5)),Calculation!$L$4:$L$503&Calculation!$N$4:$N$503,0),1),"")} | D112: {=IFERROR(INDEX(Calculation!$D$4:$D$503,MATCH(Calculation!$P$11&(ROW(A8)-ROW($A$5)),Calculation!$L$4:$L$503&Calculation!$N$4:$N$503,0),1),"")} | F112: {=IFERROR(INDEX(Calculation!$D$4:$D$503,MATCH(Calculation!$P$9&(ROW(A8)-ROW($A$5)),Calculation!$L$4:$L$503&Calculation!$N$4:$N$503,0),1),"")}
B113: {=IFERROR(INDEX(Calculation!$D$4:$D$503,MATCH(Calculation!$P$12&(ROW(A9)-ROW($A$5)),Calculation!$L$4:$L$503&Calculation!$N$4:$N$503,0),1),"")} | D113: {=IFERROR(INDEX(Calculation!$D$4:$D$503,MATCH(Calculation!$P$11&(ROW(A9)-ROW($A$5)),Calculation!$L$4:$L$503&Calculation!$N$4:$N$503,0),1),"")} | F113: {=IFERROR(INDEX(Calculation!$D$4:$D$503,MATCH(Calculation!$P$9&(ROW(A9)-ROW($A$5)),Calculation!$L$4:$L$503&Calculation!$N$4:$N$503,0),1),"")}
B114: {=IFERROR(INDEX(Calculation!$D$4:$D$503,MATCH(Calculation!$P$12&(ROW(A10)-ROW($A$5)),Calculation!$L$4:$L$503&Calculation!$N$4:$N$503,0),1),"")} | D114: {=IFERROR(INDEX(Calculation!$D$4:$D$503,MATCH(Calculation!$P$11&(ROW(A10)-ROW($A$5)),Calculation!$L$4:$L$503&Calculation!$N$4:$N$503,0),1),"")} | F114: {=IFERROR(INDEX(Calculation!$D$4:$D$503,MATCH(Calculation!$P$9&(ROW(A10)-ROW($A$5)),Calculation!$L$4:$L$503&Calculation!$N$4:$N$503,0),1),"")}
B115: {=IFERROR(INDEX(Calculation!$D$4:$D$503,MATCH(Calculation!$P$12&(ROW(A11)-ROW($A$5)),Calculation!$L$4:$L$503&Calculation!$N$4:$N$503,0),1),"")} | D115: {=IFERROR(INDEX(Calculation!$D$4:$D$503,MATCH(Calculation!$P$11&(ROW(A11)-ROW($A$5)),Calculation!$L$4:$L$503&Calculation!$N$4:$N$503,0),1),"")} | F115: {=IFERROR(INDEX(Calculation!$D$4:$D$503,MATCH(Calculation!$P$9&(ROW(A11)-ROW($A$5)),Calculation!$L$4:$L$503&Calculation!$N$4:$N$503,0),1),"")}
B116: {=IFERROR(INDEX(Calculation!$D$4:$D$503,MATCH(Calculation!$P$12&(ROW(A12)-ROW($A$5)),Calculation!$L$4:$L$503&Calculation!$N$4:$N$503,0),1),"")} | D116: {=IFERROR(INDEX(Calculation!$D$4:$D$503,MATCH(Calculation!$P$11&(ROW(A12)-ROW($A$5)),Calculation!$L$4:$L$503&Calculation!$N$4:$N$503,0),1),"")} | F116: {=IFERROR(INDEX(Calculation!$D$4:$D$503,MATCH(Calculation!$P$9&(ROW(A12)-ROW($A$5)),Calculation!$L$4:$L$503&Calculation!$N$4:$N$503,0),1),"")}
B117: {=IFERROR(INDEX(Calculation!$D$4:$D$503,MATCH(Calculation!$P$12&(ROW(A13)-ROW($A$5)),Calculation!$L$4:$L$503&Calculation!$N$4:$N$503,0),1),"")} | D117: {=IFERROR(INDEX(Calculation!$D$4:$D$503,MATCH(Calculation!$P$11&(ROW(A13)-ROW($A$5)),Calculation!$L$4:$L$503&Calculation!$N$4:$N$503,0),1),"")} | F117: {=IFERROR(INDEX(Calculation!$D$4:$D$503,MATCH(Calculation!$P$9&(ROW(A13)-ROW($A$5)),Calculation!$L$4:$L$503&Calculation!$N$4:$N$503,0),1),"")}
B118: {=IFERROR(INDEX(Calculation!$D$4:$D$503,MATCH(Calculation!$P$12&(ROW(A14)-ROW($A$5)),Calculation!$L$4:$L$503&Calculation!$N$4:$N$503,0),1),"")} | D118: {=IFERROR(INDEX(Calculation!$D$4:$D$503,MATCH(Calculation!$P$11&(ROW(A14)-ROW($A$5)),Calculation!$L$4:$L$503&Calculation!$N$4:$N$503,0),1),"")} | F118: {=IFERROR(INDEX(Calculation!$D$4:$D$503,MATCH(Calculation!$P$9&(ROW(A14)-ROW($A$5)),Calculation!$L$4:$L$503&Calculation!$N$4:$N$503,0),1),"")}
B119: {=IFERROR(INDEX(Calculation!$D$4:$D$503,MATCH(Calculation!$P$12&(ROW(A15)-ROW($A$5)),Calculation!$L$4:$L$503&Calculation!$N$4:$N$503,0),1),"")} | D119: {=IFERROR(INDEX(Calculation!$D$4:$D$503,MATCH(Calculation!$P$11&(ROW(A15)-ROW($A$5)),Calculation!$L$4:$L$503&Calculation!$N$4:$N$503,0),1),"")} | F119: {=IFERROR(INDEX(Calculation!$D$4:$D$503,MATCH(Calculation!$P$9&(ROW(A15)-ROW($A$5)),Calculation!$L$4:$L$503&Calculation!$N$4:$N$503,0),1),"")}
B120: {=IFERROR(INDEX(Calculation!$D$4:$D$503,MATCH(Calculation!$P$12&(ROW(A16)-ROW($A$5)),Calculation!$L$4:$L$503&Calculation!$N$4:$N$503,0),1),"")} | D120: {=IFERROR(INDEX(Calculation!$D$4:$D$503,MATCH(Calculation!$P$11&(ROW(A16)-ROW($A$5)),Calculation!$L$4:$L$503&Calculation!$N$4:$N$503,0),1),"")} | F120: {=IFERROR(INDEX(Calculation!$D$4:$D$503,MATCH(Calculation!$P$9&(ROW(A16)-ROW($A$5)),Calculation!$L$4:$L$503&Calculation!$N$4:$N$503,0),1),"")}
B121: {=IFERROR(INDEX(Calculation!$D$4:$D$503,MATCH(Calculation!$P$12&(ROW(A17)-ROW($A$5)),Calculation!$L$4:$L$503&Calculation!$N$4:$N$503,0),1),"")} | D121: {=IFERROR(INDEX(Calculation!$D$4:$D$503,MATCH(Calculation!$P$11&(ROW(A17)-ROW($A$5)),Calculation!$L$4:$L$503&Calculation!$N$4:$N$503,0),1),"")} | F121: {=IFERROR(INDEX(Calculation!$D$4:$D$503,MATCH(Calculation!$P$9&(ROW(A17)-ROW($A$5)),Calculation!$L$4:$L$503&Calculation!$N$4:$N$503,0),1),"")}
... B159: {=IFERROR(INDEX(Calculation!$D$4:$D$503,MATCH(Calculation!$P$12&(ROW(A55)-ROW($A$5)),Calculation!$L$4:$L$503&Calculation!$N$4:$N$503,0),1),"")} | D159: {=IFERROR(INDEX(Calculation!$D$4:$D$503,MATCH(Calculation!$P$11&(ROW(A55)-ROW($A$5)),Calculation!$L$4:$L$503&Calculation!$N$4:$N$503,0),1),"")} | F159: {=IFERROR(INDEX(Calculation!$D$4:$D$503,MATCH(Calculation!$P$9&(ROW(A55)-ROW($A$5)),Calculation!$L$4:$L$503&Calculation!$N$4:$N$503,0),1),"")}

Sheet Settings
C2: 9 BOX GRID TALENT MANAGEMENT
C3: SETTINGS
C6: DEPARTMENTS | E6: POSITION | G6: JOB LEVELS | I6: 9 BOX CATEGORIES | J6: PERF - POT
C7: Product Management | E7: Senior Cost Accountant | G7: JUNIOR | I7: Star | J7: =J41 &" - " & J41 -> 3 - 3
C8: Research and Development | E8: Chief Design Engineer | G8: BAND 1 | I8: High performance | J8: =J41 &" - " & J40 -> 3 - 2
C9: Accounting | E9: Account Executive | G9: BAND 2 | I9: High potential | J9: =J40 &" - " & J41 -> 2 - 3
C10: Sales | E10: Editor | G10: BAND 3 | I10: Potential Gem | J10: =J39 &" - " & J41 -> 1 - 3
C11: Marketing | E11: Environmental Specialist | G11: SENIOR | I11: Core Player | J11: =J40 &" - " & J40 -> 2 - 2
C12: Engineering | E12: Health Coach I | G12: SPECIALIST | I12: Solid Performer | J12: =J41 &" - " & J39 -> 3 - 1
C13: Business Development | E13: Marketing Assistant | I13: Inconsistent player | J13: =J39 &" - " & J40 -> 1 - 2
C14: Support | I14: Average performer | J14: =J40 &" - " & J39 -> 2 - 1
I15: Risk | J15: =J39 &" - " & J39 -> 1 - 1
C38: YEARS OF EXPERIENCE | E38: AGE | I38: EVALUATION LEVELS | J38: LVL
C39: 0-1 | E39: 18-20 | I39: Poor | J39: 1
C40: 2-3 | E40: 21-23 | I40: Average | J40: 2
C41: 4-6 | E41: 24-26 | I41: High | J41: 3
C42: 7-9 | E42: 27-29
C43: 10-15 | E43: 30-35
C44: > 10 | E44: 36-40
C45: < 5 | E45: 41-45
E46: 46-50
E47: 51-60
E48: >30

Sheet Calculation
U2: =COUNTA(U4:U14)-COUNTIF(U4:U14,"") -> 8 | V2: =COUNTA(V4:V14)-COUNTIF(V4:V14,"") -> 11 | X2: =COUNTA(X4:X504)-COUNTIF(X4:X504,"") -> 499 | Z2: =COUNTA(Z4:Z34)-COUNTIF(Z4:Z34,"") -> 9 | AB2: =COUNTA(AB4:AB34)-COUNTIF(AB4:AB34,"") -> 8 | AD2: =COUNTA(AD4:AD34)-COUNTIF(AD4:AD34,"") -> 7
B3: =SUBSTITUTE(UPPER(EmployeeTable!B5),"İ","I") -> EMPLOYEE ID | C3: Filtered ID | D3: =SUBSTITUTE(UPPER(EmployeeTable!C5),"İ","I") -> NAME SURNAME | E3: =SUBSTITUTE(UPPER(EmployeeTable!D5),"İ","I") -> DEPARTMENT | F3: =SUBSTITUTE(UPPER(EmployeeTable!E5),"İ","I") -> POSITION | G3: =SUBSTITUTE(UPPER(EmployeeTable!F5),"İ","I") -> YEARS OF EXPERIENCE | H3: =SUBSTITUTE(UPPER(EmployeeTable!G5),"İ","I") -> JOB LEVEL | I3: =SUBSTITUTE(UPPER(EmployeeTable!H5),"İ","I") -> AGE | J3: =SUBSTITUTE(UPPER(EmployeeTable!I5),"İ","I") -> PERFORMANCE | K3: =SUBSTITUTE(UPPER(EmployeeTable!J5),"İ","I") -> POTENTIAL | L3: =SUBSTITUTE(UPPER(EmployeeTable!K5),"İ","I") -> 9 BOX CATEGORIZATION | M3: Active | N3: COUNT BY CATEGORY | P3: Categorites | Q3: Count | R3: % | S3: Con. Frmt | U3: Years Of expirience | V3: Age | X3: ID | Z3: DEPERTAMENT | AB3: POSITION | AD3: JOB LEVELS
B4: =IF(LEN(INDEX(EmployeeTable!B$6:B$505,ROW($A4)-ROW($A$3),1))=0,"",INDEX(EmployeeTable!B$6:B$505,ROW($A4)-ROW($A$3),1)) -> 1 | C4: =IF(OR(Dashboard!$C$8="ALL",Dashboard!$C$8=""),IF(Calculation!B4="","",1),IF(Dashboard!$C$8=Calculation!B4,1,0)) -> 1 | D4: =IF(LEN(INDEX(EmployeeTable!C$6:C$505,ROW($A4)-ROW($A$3),1))=0,"",INDEX(EmployeeTable!C$6:C$505,ROW($A4)-ROW($A$3),1)) -> Daffie Bertot | E4: =IF(ISNUMBER(C4),IF(OR(Dashboard!$E$8="ALL",Dashboard!$E$8=""),INDEX(EmployeeTable!D$6:D$505,ROW($A4)-ROW($A$3),1),IF(Dashboard!$E$8=INDEX(EmployeeTable!D$6:D$505,ROW($A4)-ROW($A$3),1),INDEX(EmployeeTable!D$6:D$505,ROW($A4)-ROW($A$3),1),"-")),"") -> Product Management | F4: =IF(ISNUMBER(C4),IF(OR(Dashboard!$G$8="ALL",Dashboard!$G$8=""),INDEX(EmployeeTable!E$6:E$505,ROW($A4)-ROW($A$3),1),IF(Dashboard!$G$8=INDEX(EmployeeTable!E$6:E$505,ROW($A4)-ROW($A$3),1),INDEX(EmployeeTable!E$6:E$505,ROW($A4)-ROW($A$3),1),"-")),"") -> Senior Cost Accountant | G4: =IF(ISNUMBER(C4),IF(OR(Dashboard!$K$8="ALL",Dashboard!$K$8=""),"",IF(LEN(INDEX(EmployeeTable!F$6:F$505,ROW($A4)-ROW($A$3),1))=0,"-",IF(AND(INDEX(EmployeeTable!F$6:F$505,ROW($A4)-ROW($A$3),1)>=$U$16,INDEX(EmployeeTable!F$6:F$505,ROW($A4)-ROW($A$3),1)<=$U$17),INDEX(EmployeeTable!F$6:F$505,ROW($A4)-ROW($A$3),1),"-"))),"") | H4: =IF(ISNUMBER(C4),IF(OR(Dashboard!$I$8="ALL",Dashboard!$I$8=""),INDEX(EmployeeTable!G$6:G$505,ROW($A4)-ROW($A$3),1),IF(Dashboard!$I$8=INDEX(EmployeeTable!G$6:G$505,ROW($A4)-ROW($A$3),1),INDEX(EmployeeTable!G$6:G$505,ROW($A4)-ROW($A$3),1),"-")),"") -> SPECIALIST | I4: =IF(ISNUMBER(C4),IF(OR(Dashboard!$M$8="ALL",Dashboard!$M$8=""),"",IF(LEN(INDEX(EmployeeTable!H$6:H$505,ROW($A4)-ROW($A$3),1))=0,"-",IF(AND(INDEX(EmployeeTable!H$6:H$505,ROW($A4)-ROW($A$3),1)>=$V$16,INDEX(EmployeeTable!H$6:H$505,ROW($A4)-ROW($A$3),1)<=$V$17),INDEX(EmployeeTable!H$6:H$505,ROW($A4)-ROW($A$3),1),"-"))),"") | J4: =IF(LEN(INDEX(EmployeeTable!I$6:I$505,ROW($A4)-ROW($A$3),1))=0,"",INDEX(EmployeeTable!I$6:I$505,ROW($A4)-ROW($A$3),1)) -> 1 | K4: =IF(LEN(INDEX(EmployeeTable!J$6:J$505,ROW($A4)-ROW($A$3),1))=0,"",INDEX(EmployeeTable!J$6:J$505,ROW($A4)-ROW($A$3),1)) -> 1 | L4: =IF(LEN(INDEX(EmployeeTable!K$6:K$505,ROW($A4)-ROW($A$3),1))=0,"",INDEX(EmployeeTable!K$6:K$505,ROW($A4)-ROW($A$3),1)) -> Risk | M4: =IF(AND(C4<>0, E4<>"-",F4<>"-",G4<>"-",H4<>"-",I4<>"-",L4<>""),1,"") -> 1 | N4: {=IF(M4="","",SUM(IF($L$4:L4&$M$4:M4=L4&1,1,0)))} -> 1 | P4: =INDEX(categories,ROW(O4)-ROW($O$3),1) -> Star | Q4: =COUNTIFS($L$4:$L$503,P4,$M$4:$M$503,1) -> 1 | R4: =IFERROR(Q4/SUM($Q$4:$Q$12),0) -> 0.076923077 | S4: =COUNTIF($P$4:$P$12,P4) -> 1 | U4: ALL | V4: ALL | X4: ALL | Z4: ALL | AB4: ALL | AD4: ALL
B5: =IF(LEN(INDEX(EmployeeTable!B$6:B$505,ROW($A5)-ROW($A$3),1))=0,"",INDEX(EmployeeTable!B$6:B$505,ROW($A5)-ROW($A$3),1)) -> 2 | C5: =IF(OR(Dashboard!$C$8="ALL",Dashboard!$C$8=""),IF(Calculation!B5="","",1),IF(Dashboard!$C$8=Calculation!B5,1,0)) -> 1 | D5: =IF(LEN(INDEX(EmployeeTable!C$6:C$505,ROW($A5)-ROW($A$3),1))=0,"",INDEX(EmployeeTable!C$6:C$505,ROW($A5)-ROW($A$3),1)) -> Shelba Meiklem | E5: =IF(ISNUMBER(C5),IF(OR(Dashboard!$E$8="ALL",Dashboard!$E$8=""),INDEX(EmployeeTable!D$6:D$505,ROW($A5)-ROW($A$3),1),IF(Dashboard!$E$8=INDEX(EmployeeTable!D$6:D$505,ROW($A5)-ROW($A$3),1),INDEX(EmployeeTable!D$6:D$505,ROW($A5)-ROW($A$3),1),"-")),"") -> Research and Development | F5: =IF(ISNUMBER(C5),IF(OR(Dashboard!$G$8="ALL",Dashboard!$G$8=""),INDEX(EmployeeTable!E$6:E$505,ROW($A5)-ROW($A$3),1),IF(Dashboard!$G$8=INDEX(EmployeeTable!E$6:E$505,ROW($A5)-ROW($A$3),1),INDEX(EmployeeTable!E$6:E$505,ROW($A5)-ROW($A$3),1),"-")),"") -> Chief Design Engineer | G5: =IF(ISNUMBER(C5),IF(OR(Dashboard!$K$8="ALL",Dashboard!$K$8=""),"",IF(LEN(INDEX(EmployeeTable!F$6:F$505,ROW($A5)-ROW($A$3),1))=0,"-",IF(AND(INDEX(EmployeeTable!F$6:F$505,ROW($A5)-ROW($A$3),1)>=$U$16,INDEX(EmployeeTable!F$6:F$505,ROW($A5)-ROW($A$3),1)<=$U$17),INDEX(EmployeeTable!F$6:F$505,ROW($A5)-ROW($A$3),1),"-"))),"") | H5: =IF(ISNUMBER(C5),IF(OR(Dashboard!$I$8="ALL",Dashboard!$I$8=""),INDEX(EmployeeTable!G$6:G$505,ROW($A5)-ROW($A$3),1),IF(Dashboard!$I$8=INDEX(EmployeeTable!G$6:G$505,ROW($A5)-ROW($A$3),1),INDEX(EmployeeTable!G$6:G$505,ROW($A5)-ROW($A$3),1),"-")),"") -> JUNIOR | I5: =IF(ISNUMBER(C5),IF(OR(Dashboard!$M$8="ALL",Dashboard!$M$8=""),"",IF(LEN(INDEX(EmployeeTable!H$6:H$505,ROW($A5)-ROW($A$3),1))=0,"-",IF(AND(INDEX(EmployeeTable!H$6:H$505,ROW($A5)-ROW($A$3),1)>=$V$16,INDEX(EmployeeTable!H$6:H$505,ROW($A5)-ROW($A$3),1)<=$V$17),INDEX(EmployeeTable!H$6:H$505,ROW($A5)-ROW($A$3),1),"-"))),"") | J5: =IF(LEN(INDEX(EmployeeTable!I$6:I$505,ROW($A5)-ROW($A$3),1))=0,"",INDEX(EmployeeTable!I$6:I$505,ROW($A5)-ROW($A$3),1)) -> 3 | K5: =IF(LEN(INDEX(EmployeeTable!J$6:J$505,ROW($A5)-ROW($A$3),1))=0,"",INDEX(EmployeeTable!J$6:J$505,ROW($A5)-ROW($A$3),1)) -> 3 | L5: =IF(LEN(INDEX(EmployeeTable!K$6:K$505,ROW($A5)-ROW($A$3),1))=0,"",INDEX(EmployeeTable!K$6:K$505,ROW($A5)-ROW($A$3),1)) -> Star | M5: =IF(AND(C5<>0, E5<>"-",F5<>"-",G5<>"-",H5<>"-",I5<>"-",L5<>""),1,"") -> 1 | N5: {=IF(M5="","",SUM(IF($L$4:L5&$M$4:M5=L5&1,1,0)))} -> 1 | P5: =INDEX(categories,ROW(O5)-ROW($O$3),1) -> High performance | Q5: =COUNTIFS($L$4:$L$503,P5,$M$4:$M$503,1) -> 1 | R5: =IFERROR(Q5/SUM($Q$4:$Q$12),0) -> 0.076923077 | S5: =COUNTIF($P$4:$P$12,P5) -> 1 | U5: =IF(Settings!C39="","",Settings!C39) -> 0-1 | V5: =IF(Settings!E39="","",Settings!E39) -> 18-20 | X5: =B4 -> 1 | Z5: =IF(Settings!C7="","",Settings!C7) -> Product Management | AB5: =IF(Settings!E7="","",Settings!E7) -> Senior Cost Accountant | AD5: =IF(Settings!G7="","",Settings!G7) -> JUNIOR
B6: =IF(LEN(INDEX(EmployeeTable!B$6:B$505,ROW($A6)-ROW($A$3),1))=0,"",INDEX(EmployeeTable!B$6:B$505,ROW($A6)-ROW($A$3),1)) -> 3 | C6: =IF(OR(Dashboard!$C$8="ALL",Dashboard!$C$8=""),IF(Calculation!B6="","",1),IF(Dashboard!$C$8=Calculation!B6,1,0)) -> 1 | D6: =IF(LEN(INDEX(EmployeeTable!C$6:C$505,ROW($A6)-ROW($A$3),1))=0,"",INDEX(EmployeeTable!C$6:C$505,ROW($A6)-ROW($A$3),1)) -> Frederica Fridlington | E6: =IF(ISNUMBER(C6),IF(OR(Dashboard!$E$8="ALL",Dashboard!$E$8=""),INDEX(EmployeeTable!D$6:D$505,ROW($A6)-ROW($A$3),1),IF(Dashboard!$E$8=INDEX(EmployeeTable!D$6:D$505,ROW($A6)-ROW($A$3),1),INDEX(EmployeeTable!D$6:D$505,ROW($A6)-ROW($A$3),1),"-")),"") -> Research and Development | F6: =IF(ISNUMBER(C6),IF(OR(Dashboard!$G$8="ALL",Dashboard!$G$8=""),INDEX(EmployeeTable!E$6:E$505,ROW($A6)-ROW($A$3),1),IF(Dashboard!$G$8=INDEX(EmployeeTable!E$6:E$505,ROW($A6)-ROW($A$3),1),INDEX(EmployeeTable!E$6:E$505,ROW($A6)-ROW($A$3),1),"-")),"") -> Environmental Specialist | G6: =IF(ISNUMBER(C6),IF(OR(Dashboard!$K$8="ALL",Dashboard!$K$8=""),"",IF(LEN(INDEX(EmployeeTable!F$6:F$505,ROW($A6)-ROW($A$3),1))=0,"-",IF(AND(INDEX(EmployeeTable!F$6:F$505,ROW($A6)-ROW($A$3),1)>=$U$16,INDEX(EmployeeTable!F$6:F$505,ROW($A6)-ROW($A$3),1)<=$U$17),INDEX(EmployeeTable!F$6:F$505,ROW($A6)-ROW($A$3),1),"-"))),"") | H6: =IF(ISNUMBER(C6),IF(OR(Dashboard!$I$8="ALL",Dashboard!$I$8=""),INDEX(EmployeeTable!G$6:G$505,ROW($A6)-ROW($A$3),1),IF(Dashboard!$I$8=INDEX(EmployeeTable!G$6:G$505,ROW($A6)-ROW($A$3),1),INDEX(EmployeeTable!G$6:G$505,ROW($A6)-ROW($A$3),1),"-")),"") -> JUNIOR | I6: =IF(ISNUMBER(C6),IF(OR(Dashboard!$M$8="ALL",Dashboard!$M$8=""),"",IF(LEN(INDEX(EmployeeTable!H$6:H$505,ROW($A6)-ROW($A$3),1))=0,"-",IF(AND(INDEX(EmployeeTable!H$6:H$505,ROW($A6)-ROW($A$3),1)>=$V$16,INDEX(EmployeeTable!H$6:H$505,ROW($A6)-ROW($A$3),1)<=$V$17),INDEX(EmployeeTable!H$6:H$505,ROW($A6)-ROW($A$3),1),"-"))),"") | J6: =IF(LEN(INDEX(EmployeeTable!I$6:I$505,ROW($A6)-ROW($A$3),1))=0,"",INDEX(EmployeeTable!I$6:I$505,ROW($A6)-ROW($A$3),1)) -> 1 | K6: =IF(LEN(INDEX(EmployeeTable!J$6:J$505,ROW($A6)-ROW($A$3),1))=0,"",INDEX(EmployeeTable!J$6:J$505,ROW($A6)-ROW($A$3),1)) -> 3 | L6: =IF(LEN(INDEX(EmployeeTable!K$6:K$505,ROW($A6)-ROW($A$3),1))=0,"",INDEX(EmployeeTable!K$6:K$505,ROW($A6)-ROW($A$3),1)) -> Potential Gem | M6: =IF(AND(C6<>0, E6<>"-",F6<>"-",G6<>"-",H6<>"-",I6<>"-",L6<>""),1,"") -> 1 | N6: {=IF(M6="","",SUM(IF($L$4:L6&$M$4:M6=L6&1,1,0)))} -> 1 | P6: =INDEX(categories,ROW(O6)-ROW($O$3),1) -> High potential | Q6: =COUNTIFS($L$4:$L$503,P6,$M$4:$M$503,1) -> 2 | R6: =IFERROR(Q6/SUM($Q$4:$Q$12),0) -> 0.15384615 | S6: =COUNTIF($P$4:$P$12,P6) -> 1 | U6: =IF(Settings!C40="","",Settings!C40) -> 2-3 | V6: =IF(Settings!E40="","",Settings!E40) -> 21-23 | X6: =B5 -> 2 | Z6: =IF(Settings!C8="","",Settings!C8) -> Research and Development | AB6: =IF(Settings!E8="","",Settings!E8) -> Chief Design Engineer | AD6: =IF(Settings!G8="","",Settings!G8) -> BAND 1
B7: =IF(LEN(INDEX(EmployeeTable!B$6:B$505,ROW($A7)-ROW($A$3),1))=0,"",INDEX(EmployeeTable!B$6:B$505,ROW($A7)-ROW($A$3),1)) -> 4 | C7: =IF(OR(Dashboard!$C$8="ALL",Dashboard!$C$8=""),IF(Calculation!B7="","",1),IF(Dashboard!$C$8=Calculation!B7,1,0)) -> 1 | D7: =IF(LEN(INDEX(EmployeeTable!C$6:C$505,ROW($A7)-ROW($A$3),1))=0,"",INDEX(EmployeeTable!C$6:C$505,ROW($A7)-ROW($A$3),1)) -> Herman Slainey | E7: =IF(ISNUMBER(C7),IF(OR(Dashboard!$E$8="ALL",Dashboard!$E$8=""),INDEX(EmployeeTable!D$6:D$505,ROW($A7)-ROW($A$3),1),IF(Dashboard!$E$8=INDEX(EmployeeTable!D$6:D$505,ROW($A7)-ROW($A$3),1),INDEX(EmployeeTable!D$6:D$505,ROW($A7)-ROW($A$3),1),"-")),"") -> Accounting | F7: =IF(ISNUMBER(C7),IF(OR(Dashboard!$G$8="ALL",Dashboard!$G$8=""),INDEX(EmployeeTable!E$6:E$505,ROW($A7)-ROW($A$3),1),IF(Dashboard!$G$8=INDEX(EmployeeTable!E$6:E$505,ROW($A7)-ROW($A$3),1),INDEX(EmployeeTable!E$6:E$505,ROW($A7)-ROW($A$3),1),"-")),"") -> Account Executive | G7: =IF(ISNUMBER(C7),IF(OR(Dashboard!$K$8="ALL",Dashboard!$K$8=""),"",IF(LEN(INDEX(EmployeeTable!F$6:F$505,ROW($A7)-ROW($A$3),1))=0,"-",IF(AND(INDEX(EmployeeTable!F$6:F$505,ROW($A7)-ROW($A$3),1)>=$U$16,INDEX(EmployeeTable!F$6:F$505,ROW($A7)-ROW($A$3),1)<=$U$17),INDEX(EmployeeTable!F$6:F$505,ROW($A7)-ROW($A$3),1),"-"))),"") | H7: =IF(ISNUMBER(C7),IF(OR(Dashboard!$I$8="ALL",Dashboard!$I$8=""),INDEX(EmployeeTable!G$6:G$505,ROW($A7)-ROW($A$3),1),IF(Dashboard!$I$8=INDEX(EmployeeTable!G$6:G$505,ROW($A7)-ROW($A$3),1),INDEX(EmployeeTable!G$6:G$505,ROW($A7)-ROW($A$3),1),"-")),"") -> SENIOR | I7: =IF(ISNUMBER(C7),IF(OR(Dashboard!$M$8="ALL",Dashboard!$M$8=""),"",IF(LEN(INDEX(EmployeeTable!H$6:H$505,ROW($A7)-ROW($A$3),1))=0,"-",IF(AND(INDEX(EmployeeTable!H$6:H$505,ROW($A7)-ROW($A$3),1)>=$V$16,INDEX(EmployeeTable!H$6:H$505,ROW($A7)-ROW($A$3),1)<=$V$17),INDEX(EmployeeTable!H$6:H$505,ROW($A7)-ROW($A$3),1),"-"))),"") | J7: =IF(LEN(INDEX(EmployeeTable!I$6:I$505,ROW($A7)-ROW($A$3),1))=0,"",INDEX(EmployeeTable!I$6:I$505,ROW($A7)-ROW($A$3),1)) -> 1 | K7: =IF(LEN(INDEX(EmployeeTable!J$6:J$505,ROW($A7)-ROW($A$3),1))=0,"",INDEX(EmployeeTable!J$6:J$505,ROW($A7)-ROW($A$3),1)) -> 2 | L7: =IF(LEN(INDEX(EmployeeTable!K$6:K$505,ROW($A7)-ROW($A$3),1))=0,"",INDEX(EmployeeTable!K$6:K$505,ROW($A7)-ROW($A$3),1)) -> Inconsistent player | M7: =IF(AND(C7<>0, E7<>"-",F7<>"-",G7<>"-",H7<>"-",I7<>"-",L7<>""),1,"") -> 1 | N7: {=IF(M7="","",SUM(IF($L$4:L7&$M$4:M7=L7&1,1,0)))} -> 1 | P7: =INDEX(categories,ROW(O7)-ROW($O$3),1) -> Potential Gem | Q7: =COUNTIFS($L$4:$L$503,P7,$M$4:$M$503,1) -> 1 | R7: =IFERROR(Q7/SUM($Q$4:$Q$12),0) -> 0.076923077 | S7: =COUNTIF($P$4:$P$12,P7) -> 1 | U7: =IF(Settings!C41="","",Settings!C41) -> 4-6 | V7: =IF(Settings!E41="","",Settings!E41) -> 24-26 | X7: =B6 -> 3 | Z7: =IF(Settings!C9="","",Settings!C9) -> Accounting | AB7: =IF(Settings!E9="","",Settings!E9) -> Account Executive | AD7: =IF(Settings!G9="","",Settings!G9) -> BAND 2
B8: =IF(LEN(INDEX(EmployeeTable!B$6:B$505,ROW($A8)-ROW($A$3),1))=0,"",INDEX(EmployeeTable!B$6:B$505,ROW($A8)-ROW($A$3),1)) -> 5 | C8: =IF(OR(Dashboard!$C$8="ALL",Dashboard!$C$8=""),IF(Calculation!B8="","",1),IF(Dashboard!$C$8=Calculation!B8,1,0)) -> 1 | D8: =IF(LEN(INDEX(EmployeeTable!C$6:C$505,ROW($A8)-ROW($A$3),1))=0,"",INDEX(EmployeeTable!C$6:C$505,ROW($A8)-ROW($A$3),1)) -> Alastair Gotliffe | E8: =IF(ISNUMBER(C8),IF(OR(Dashboard!$E$8="ALL",Dashboard!$E$8=""),INDEX(EmployeeTable!D$6:D$505,ROW($A8)-ROW($A$3),1),IF(Dashboard!$E$8=INDEX(EmployeeTable!D$6:D$505,ROW($A8)-ROW($A$3),1),INDEX(EmployeeTable!D$6:D$505,ROW($A8)-ROW($A$3),1),"-")),"") -> Sales | F8: =IF(ISNUMBER(C8),IF(OR(Dashboard!$G$8="ALL",Dashboard!$G$8=""),INDEX(EmployeeTable!E$6:E$505,ROW($A8)-ROW($A$3),1),IF(Dashboard!$G$8=INDEX(EmployeeTable!E$6:E$505,ROW($A8)-ROW($A$3),1),INDEX(EmployeeTable!E$6:E$505,ROW($A8)-ROW($A$3),1),"-")),"") -> Marketing Assistant | G8: =IF(ISNUMBER(C8),IF(OR(Dashboard!$K$8="ALL",Dashboard!$K$8=""),"",IF(LEN(INDEX(EmployeeTable!F$6:F$505,ROW($A8)-ROW($A$3),1))=0,"-",IF(AND(INDEX(EmployeeTable!F$6:F$505,ROW($A8)-ROW($A$3),1)>=$U$16,INDEX(EmployeeTable!F$6:F$505,ROW($A8)-ROW($A$3),1)<=$U$17),INDEX(EmployeeTable!F$6:F$505,ROW($A8)-ROW($A$3),1),"-"))),"") | H8: =IF(ISNUMBER(C8),IF(OR(Dashboard!$I$8="ALL",Dashboard!$I$8=""),INDEX(EmployeeTable!G$6:G$505,ROW($A8)-ROW($A$3),1),IF(Dashboard!$I$8=INDEX(EmployeeTable!G$6:G$505,ROW($A8)-ROW($A$3),1),INDEX(EmployeeTable!G$6:G$505,ROW($A8)-ROW($A$3),1),"-")),"") -> SPECIALIST | I8: =IF(ISNUMBER(C8),IF(OR(Dashboard!$M$8="ALL",Dashboard!$M$8=""),"",IF(LEN(INDEX(EmployeeTable!H$6:H$505,ROW($A8)-ROW($A$3),1))=0,"-",IF(AND(INDEX(EmployeeTable!H$6:H$505,ROW($A8)-ROW($A$3),1)>=$V$16,INDEX(EmployeeTable!H$6:H$505,ROW($A8)-ROW($A$3),1)<=$V$17),INDEX(EmployeeTable!H$6:H$505,ROW($A8)-ROW($A$3),1),"-"))),"") | J8: =IF(LEN(INDEX(EmployeeTable!I$6:I$505,ROW($A8)-ROW($A$3),1))=0,"",INDEX(EmployeeTable!I$6:I$505,ROW($A8)-ROW($A$3),1)) -> 3 | K8: =IF(LEN(INDEX(EmployeeTable!J$6:J$505,ROW($A8)-ROW($A$3),1))=0,"",INDEX(EmployeeTable!J$6:J$505,ROW($A8)-ROW($A$3),1)) -> 2 | L8: =IF(LEN(INDEX(EmployeeTable!K$6:K$505,ROW($A8)-ROW($A$3),1))=0,"",INDEX(EmployeeTable!K$6:K$505,ROW($A8)-ROW($A$3),1)) -> High performance | M8: =IF(AND(C8<>0, E8<>"-",F8<>"-",G8<>"-",H8<>"-",I8<>"-",L8<>""),1,"") -> 1 | N8: {=IF(M8="","",SUM(IF($L$4:L8&$M$4:M8=L8&1,1,0)))} -> 1 | P8: =INDEX(categories,ROW(O8)-ROW($O$3),1) -> Core Player | Q8: =COUNTIFS($L$4:$L$503,P8,$M$4:$M$503,1) -> 2 | R8: =IFERROR(Q8/SUM($Q$4:$Q$12),0) -> 0.15384615 | S8: =COUNTIF($P$4:$P$12,P8) -> 1 | U8: =IF(Settings!C42="","",Settings!C42) -> 7-9 | V8: =IF(Settings!E42="","",Settings!E42) -> 27-29 | X8: =B7 -> 4 | Z8: =IF(Settings!C10="","",Settings!C10) -> Sales | AB8: =IF(Settings!E10="","",Settings!E10) -> Editor | AD8: =IF(Settings!G10="","",Settings!G10) -> BAND 3
B9: =IF(LEN(INDEX(EmployeeTable!B$6:B$505,ROW($A9)-ROW($A$3),1))=0,"",INDEX(EmployeeTable!B$6:B$505,ROW($A9)-ROW($A$3),1)) -> 6 | C9: =IF(OR(Dashboard!$C$8="ALL",Dashboard!$C$8=""),IF(Calculation!B9="","",1),IF(Dashboard!$C$8=Calculation!B9,1,0)) -> 1 | D9: =IF(LEN(INDEX(EmployeeTable!C$6:C$505,ROW($A9)-ROW($A$3),1))=0,"",INDEX(EmployeeTable!C$6:C$505,ROW($A9)-ROW($A$3),1)) -> Kyrstin Urry | E9: =IF(ISNUMBER(C9),IF(OR(Dashboard!$E$8="ALL",Dashboard!$E$8=""),INDEX(EmployeeTable!D$6:D$505,ROW($A9)-ROW($A$3),1),IF(Dashboard!$E$8=INDEX(EmployeeTable!D$6:D$505,ROW($A9)-ROW($A$3),1),INDEX(EmployeeTable!D$6:D$505,ROW($A9)-ROW($A$3),1),"-")),"") -> Marketing | F9: =IF(ISNUMBER(C9),IF(OR(Dashboard!$G$8="ALL",Dashboard!$G$8=""),INDEX(EmployeeTable!E$6:E$505,ROW($A9)-ROW($A$3),1),IF(Dashboard!$G$8=INDEX(EmployeeTable!E$6:E$505,ROW($A9)-ROW($A$3),1),INDEX(EmployeeTable!E$6:E$505,ROW($A9)-ROW($A$3),1),"-")),"") -> Marketing Assistant | G9: =IF(ISNUMBER(C9),IF(OR(Dashboard!$K$8="ALL",Dashboard!$K$8=""),"",IF(LEN(INDEX(EmployeeTable!F$6:F$505,ROW($A9)-ROW($A$3),1))=0,"-",IF(AND(INDEX(EmployeeTable!F$6:F$505,ROW($A9)-ROW($A$3),1)>=$U$16,INDEX(EmployeeTable!F$6:F$505,ROW($A9)-ROW($A$3),1)<=$U$17),INDEX(EmployeeTable!F$6:F$505,ROW($A9)-ROW($A$3),1),"-"))),"") | H9: =IF(ISNUMBER(C9),IF(OR(Dashboard!$I$8="ALL",Dashboard!$I$8=""),INDEX(EmployeeTable!G$6:G$505,ROW($A9)-ROW($A$3),1),IF(Dashboard!$I$8=INDEX(EmployeeTable!G$6:G$505,ROW($A9)-ROW($A$3),1),INDEX(EmployeeTable!G$6:G$505,ROW($A9)-ROW($A$3),1),"-")),"") -> BAND 2 | I9: =IF(ISNUMBER(C9),IF(OR(Dashboard!$M$8="ALL",Dashboard!$M$8=""),"",IF(LEN(INDEX(EmployeeTable!H$6:H$505,ROW($A9)-ROW($A$3),1))=0,"-",IF(AND(INDEX(EmployeeTable!H$6:H$505,ROW($A9)-ROW($A$3),1)>=$V$16,INDEX(EmployeeTable!H$6:H$505,ROW($A9)-ROW($A$3),1)<=$V$17),INDEX(EmployeeTable!H$6:H$505,ROW($A9)-ROW($A$3),1),"-"))),"") | J9: =IF(LEN(INDEX(EmployeeTable!I$6:I$505,ROW($A9)-ROW($A$3),1))=0,"",INDEX(EmployeeTable!I$6:I$505,ROW($A9)-ROW($A$3),1)) -> 2 | K9: =IF(LEN(INDEX(EmployeeTable!J$6:J$505,ROW($A9)-ROW($A$3),1))=0,"",INDEX(EmployeeTable!J$6:J$505,ROW($A9)-ROW($A$3),1)) -> 2 | L9: =IF(LEN(INDEX(EmployeeTable!K$6:K$505,ROW($A9)-ROW($A$3),1))=0,"",INDEX(EmployeeTable!K$6:K$505,ROW($A9)-ROW($A$3),1)) -> Core Player | M9: =IF(AND(C9<>0, E9<>"-",F9<>"-",G9<>"-",H9<>"-",I9<>"-",L9<>""),1,"") -> 1 | N9: {=IF(M9="","",SUM(IF($L$4:L9&$M$4:M9=L9&1,1,0)))} -> 1 | P9: =INDEX(categories,ROW(O9)-ROW($O$3),1) -> Solid Performer | Q9: =COUNTIFS($L$4:$L$503,P9,$M$4:$M$503,1) -> 2 | R9: =IFERROR(Q9/SUM($Q$4:$Q$12),0) -> 0.15384615 | S9: =COUNTIF($P$4:$P$12,P9) -> 1 | U9: =IF(Settings!C43="","",Settings!C43) -> 10-15 | V9: =IF(Settings!E43="","",Settings!E43) -> 30-35 | X9: =B8 -> 5 | Z9: =IF(Settings!C11="","",Settings!C11) -> Marketing | AB9: =IF(Settings!E11="","",Settings!E11) -> Environmental Specialist | AD9: =IF(Settings!G11="","",Settings!G11) -> SENIOR
B10: =IF(LEN(INDEX(EmployeeTable!B$6:B$505,ROW($A10)-ROW($A$3),1))=0,"",INDEX(EmployeeTable!B$6:B$505,ROW($A10)-ROW($A$3),1)) -> 7 | C10: =IF(OR(Dashboard!$C$8="ALL",Dashboard!$C$8=""),IF(Calculation!B10="","",1),IF(Dashboard!$C$8=Calculation!B10,1,0)) -> 1 | D10: =IF(LEN(INDEX(EmployeeTable!C$6:C$505,ROW($A10)-ROW($A$3),1))=0,"",INDEX(EmployeeTable!C$6:C$505,ROW($A10)-ROW($A$3),1)) -> Padgett Briance | E10: =IF(ISNUMBER(C10),IF(OR(Dashboard!$E$8="ALL",Dashboard!$E$8=""),INDEX(EmployeeTable!D$6:D$505,ROW($A10)-ROW($A$3),1),IF(Dashboard!$E$8=INDEX(EmployeeTable!D$6:D$505,ROW($A10)-ROW($A$3),1),INDEX(EmployeeTable!D$6:D$505,ROW($A10)-ROW($A$3),1),"-")),"") -> Support | F10: =IF(ISNUMBER(C10),IF(OR(Dashboard!$G$8="ALL",Dashboard!$G$8=""),INDEX(EmployeeTable!E$6:E$505,ROW($A10)-ROW($A$3),1),IF(Dashboard!$G$8=INDEX(EmployeeTable!E$6:E$505,ROW($A10)-ROW($A$3),1),INDEX(EmployeeTable!E$6:E$505,ROW($A10)-ROW($A$3),1),"-")),"") -> Health Coach I | G10: =IF(ISNUMBER(C10),IF(OR(Dashboard!$K$8="ALL",Dashboard!$K$8=""),"",IF(LEN(INDEX(EmployeeTable!F$6:F$505,ROW($A10)-ROW($A$3),1))=0,"-",IF(AND(INDEX(EmployeeTable!F$6:F$505,ROW($A10)-ROW($A$3),1)>=$U$16,INDEX(EmployeeTable!F$6:F$505,ROW($A10)-ROW($A$3),1)<=$U$17),INDEX(EmployeeTable!F$6:F$505,ROW($A10)-ROW($A$3),1),"-"))),"") | H10: =IF(ISNUMBER(C10),IF(OR(Dashboard!$I$8="ALL",Dashboard!$I$8=""),INDEX(EmployeeTable!G$6:G$505,ROW($A10)-ROW($A$3),1),IF(Dashboard!$I$8=INDEX(EmployeeTable!G$6:G$505,ROW($A10)-ROW($A$3),1),INDEX(EmployeeTable!G$6:G$505,ROW($A10)-ROW($A$3),1),"-")),"") -> SENIOR | I10: =IF(ISNUMBER(C10),IF(OR(Dashboard!$M$8="ALL",Dashboard!$M$8=""),"",IF(LEN(INDEX(EmployeeTable!H$6:H$505,ROW($A10)-ROW($A$3),1))=0,"-",IF(AND(INDEX(EmployeeTable!H$6:H$505,ROW($A10)-ROW($A$3),1)>=$V$16,INDEX(EmployeeTable!H$6:H$505,ROW($A10)-ROW($A$3),1)<=$V$17),INDEX(EmployeeTable!H$6:H$505,ROW($A10)-ROW($A$3),1),"-"))),"") | J10: =IF(LEN(INDEX(EmployeeTable!I$6:I$505,ROW($A10)-ROW($A$3),1))=0,"",INDEX(EmployeeTable!I$6:I$505,ROW($A10)-ROW($A$3),1)) -> 1 | K10: =IF(LEN(INDEX(EmployeeTable!J$6:J$505,ROW($A10)-ROW($A$3),1))=0,"",INDEX(EmployeeTable!J$6:J$505,ROW($A10)-ROW($A$3),1)) -> 2 | L10: =IF(LEN(INDEX(EmployeeTable!K$6:K$505,ROW($A10)-ROW($A$3),1))=0,"",INDEX(EmployeeTable!K$6:K$505,ROW($A10)-ROW($A$3),1)) -> Inconsistent player | M10: =IF(AND(C10<>0, E10<>"-",F10<>"-",G10<>"-",H10<>"-",I10<>"-",L10<>""),1,"") -> 1 | N10: {=IF(M10="","",SUM(IF($L$4:L10&$M$4:M10=L10&1,1,0)))} -> 2 | P10: =INDEX(categories,ROW(O10)-ROW($O$3),1) -> Inconsistent player | Q10: =COUNTIFS($L$4:$L$503,P10,$M$4:$M$503,1) -> 2 | R10: =IFERROR(Q10/SUM($Q$4:$Q$12),0) -> 0.15384615 | S10: =COUNTIF($P$4:$P$12,P10) -> 1 | U10: =IF(Settings!C44="","",Settings!C44) -> > 10 | V10: =IF(Settings!E44="","",Settings!E44) -> 36-40 | X10: =B9 -> 6 | Z10: =IF(Settings!C12="","",Settings!C12) -> Engineering | AB10: =IF(Settings!E12="","",Settings!E12) -> Health Coach I | AD10: =IF(Settings!G12="","",Settings!G12) -> SPECIALIST
B11: =IF(LEN(INDEX(EmployeeTable!B$6:B$505,ROW($A11)-ROW($A$3),1))=0,"",INDEX(EmployeeTable!B$6:B$505,ROW($A11)-ROW($A$3),1)) -> 8 | C11: =IF(OR(Dashboard!$C$8="ALL",Dashboard!$C$8=""),IF(Calculation!B11="","",1),IF(Dashboard!$C$8=Calculation!B11,1,0)) -> 1 | D11: =IF(LEN(INDEX(EmployeeTable!C$6:C$505,ROW($A11)-ROW($A$3),1))=0,"",INDEX(EmployeeTable!C$6:C$505,ROW($A11)-ROW($A$3),1)) -> Katha St. Quentin | E11: =IF(ISNUMBER(C11),IF(OR(Dashboard!$E$8="ALL",Dashboard!$E$8=""),INDEX(EmployeeTable!D$6:D$505,ROW($A11)-ROW($A$3),1),IF(Dashboard!$E$8=INDEX(EmployeeTable!D$6:D$505,ROW($A11)-ROW($A$3),1),INDEX(EmployeeTable!D$6:D$505,ROW($A11)-ROW($A$3),1),"-")),"") -> Support | F11: =IF(ISNUMBER(C11),IF(OR(Dashboard!$G$8="ALL",Dashboard!$G$8=""),INDEX(EmployeeTable!E$6:E$505,ROW($A11)-ROW($A$3),1),IF(Dashboard!$G$8=INDEX(EmployeeTable!E$6:E$505,ROW($A11)-ROW($A$3),1),INDEX(EmployeeTable!E$6:E$505,ROW($A11)-ROW($A$3),1),"-")),"") -> Editor | G11: =IF(ISNUMBER(C11),IF(OR(Dashboard!$K$8="ALL",Dashboard!$K$8=""),"",IF(LEN(INDEX(EmployeeTable!F$6:F$505,ROW($A11)-ROW($A$3),1))=0,"-",IF(AND(INDEX(EmployeeTable!F$6:F$505,ROW($A11)-ROW($A$3),1)>=$U$16,INDEX(EmployeeTable!F$6:F$505,ROW($A11)-ROW($A$3),1)<=$U$17),INDEX(EmployeeTable!F$6:F$505,ROW($A11)-ROW($A$3),1),"-"))),"") | H11: =IF(ISNUMBER(C11),IF(OR(Dashboard!$I$8="ALL",Dashboard!$I$8=""),INDEX(EmployeeTable!G$6:G$505,ROW($A11)-ROW($A$3),1),IF(Dashboard!$I$8=INDEX(EmployeeTable!G$6:G$505,ROW($A11)-ROW($A$3),1),INDEX(EmployeeTable!G$6:G$505,ROW($A11)-ROW($A$3),1),"-")),"") -> BAND 1 | I11: =IF(ISNUMBER(C11),IF(OR(Dashboard!$M$8="ALL",Dashboard!$M$8=""),"",IF(LEN(INDEX(EmployeeTable!H$6:H$505,ROW($A11)-ROW($A$3),1))=0,"-",IF(AND(INDEX(EmployeeTable!H$6:H$505,ROW($A11)-ROW($A$3),1)>=$V$16,INDEX(EmployeeTable!H$6:H$505,ROW($A11)-ROW($A$3),1)<=$V$17),INDEX(EmployeeTable!H$6:H$505,ROW($A11)-ROW($A$3),1),"-"))),"") | J11: =IF(LEN(INDEX(EmployeeTable!I$6:I$505,ROW($A11)-ROW($A$3),1))=0,"",INDEX(EmployeeTable!I$6:I$505,ROW($A11)-ROW($A$3),1)) -> 2 | K11: =IF(LEN(INDEX(EmployeeTable!J$6:J$505,ROW($A11)-ROW($A$3),1))=0,"",INDEX(EmployeeTable!J$6:J$505,ROW($A11)-ROW($A$3),1)) -> 3 | L11: =IF(LEN(INDEX(EmployeeTable!K$6:K$505,ROW($A11)-ROW($A$3),1))=0,"",INDEX(EmployeeTable!K$6:K$505,ROW($A11)-ROW($A$3),1)) -> High potential | M11: =IF(AND(C11<>0, E11<>"-",F11<>"-",G11<>"-",H11<>"-",I11<>"-",L11<>""),1,"") -> 1 | N11: {=IF(M11="","",SUM(IF($L$4:L11&$M$4:M11=L11&1,1,0)))} -> 1 | P11: =INDEX(categories,ROW(O11)-ROW($O$3),1) -> Average performer | Q11: =COUNTIFS($L$4:$L$503,P11,$M$4:$M$503,1) -> 1 | R11: =IFERROR(Q11/SUM($Q$4:$Q$12),0) -> 0.076923077 | S11: =COUNTIF($P$4:$P$12,P11) -> 1 | U11: =IF(Settings!C45="","",Settings!C45) -> < 5 | V11: =IF(Settings!E45="","",Settings!E45) -> 41-45 | X11: =B10 -> 7 | Z11: =IF(Settings!C13="","",Settings!C13) -> Business Development | AB11: =IF(Settings!E13="","",Settings!E13) -> Marketing Assistant | AD11: =IF(Settings!G13="","",Settings!G13)
B12: =IF(LEN(INDEX(EmployeeTable!B$6:B$505,ROW($A12)-ROW($A$3),1))=0,"",INDEX(EmployeeTable!B$6:B$505,ROW($A12)-ROW($A$3),1)) -> 9 | C12: =IF(OR(Dashboard!$C$8="ALL",Dashboard!$C$8=""),IF(Calculation!B12="","",1),IF(Dashboard!$C$8=Calculation!B12,1,0)) -> 1 | D12: =IF(LEN(INDEX(EmployeeTable!C$6:C$505,ROW($A12)-ROW($A$3),1))=0,"",INDEX(EmployeeTable!C$6:C$505,ROW($A12)-ROW($A$3),1)) -> Dwight Cars | E12: =IF(ISNUMBER(C12),IF(OR(Dashboard!$E$8="ALL",Dashboard!$E$8=""),INDEX(EmployeeTable!D$6:D$505,ROW($A12)-ROW($A$3),1),IF(Dashboard!$E$8=INDEX(EmployeeTable!D$6:D$505,ROW($A12)-ROW($A$3),1),INDEX(EmployeeTable!D$6:D$505,ROW($A12)-ROW($A$3),1),"-")),"") -> Research and Development | F12: =IF(ISNUMBER(C12),IF(OR(Dashboard!$G$8="ALL",Dashboard!$G$8=""),INDEX(EmployeeTable!E$6:E$505,ROW($A12)-ROW($A$3),1),IF(Dashboard!$G$8=INDEX(EmployeeTable!E$6:E$505,ROW($A12)-ROW($A$3),1),INDEX(EmployeeTable!E$6:E$505,ROW($A12)-ROW($A$3),1),"-")),"") -> Marketing Assistant | G12: =IF(ISNUMBER(C12),IF(OR(Dashboard!$K$8="ALL",Dashboard!$K$8=""),"",IF(LEN(INDEX(EmployeeTable!F$6:F$505,ROW($A12)-ROW($A$3),1))=0,"-",IF(AND(INDEX(EmployeeTable!F$6:F$505,ROW($A12)-ROW($A$3),1)>=$U$16,INDEX(EmployeeTable!F$6:F$505,ROW($A12)-ROW($A$3),1)<=$U$17),INDEX(EmployeeTable!F$6:F$505,ROW($A12)-ROW($A$3),1),"-"))),"") | H12: =IF(ISNUMBER(C12),IF(OR(Dashboard!$I$8="ALL",Dashboard!$I$8=""),INDEX(EmployeeTable!G$6:G$505,ROW($A12)-ROW($A$3),1),IF(Dashboard!$I$8=INDEX(EmployeeTable!G$6:G$505,ROW($A12)-ROW($A$3),1),INDEX(EmployeeTable!G$6:G$505,ROW($A12)-ROW($A$3),1),"-")),"") -> JUNIOR | I12: =IF(ISNUMBER(C12),IF(OR(Dashboard!$M$8="ALL",Dashboard!$M$8=""),"",IF(LEN(INDEX(EmployeeTable!H$6:H$505,ROW($A12)-ROW($A$3),1))=0,"-",IF(AND(INDEX(EmployeeTable!H$6:H$505,ROW($A12)-ROW($A$3),1)>=$V$16,INDEX(EmployeeTable!H$6:H$505,ROW($A12)-ROW($A$3),1)<=$V$17),INDEX(EmployeeTable!H$6:H$505,ROW($A12)-ROW($A$3),1),"-"))),"") | J12: =IF(LEN(INDEX(EmployeeTable!I$6:I$505,ROW($A12)-ROW($A$3),1))=0,"",INDEX(EmployeeTable!I$6:I$505,ROW($A12)-ROW($A$3),1)) -> 3 | K12: =IF(LEN(INDEX(EmployeeTable!J$6:J$505,ROW($A12)-ROW($A$3),1))=0,"",INDEX(EmployeeTable!J$6:J$505,ROW($A12)-ROW($A$3),1)) -> 1 | L12: =IF(LEN(INDEX(EmployeeTable!K$6:K$505,ROW($A12)-ROW($A$3),1))=0,"",INDEX(EmployeeTable!K$6:K$505,ROW($A12)-ROW($A$3),1)) -> Solid Performer | M12: =IF(AND(C12<>0, E12<>"-",F12<>"-",G12<>"-",H12<>"-",I12<>"-",L12<>""),1,"") -> 1 | N12: {=IF(M12="","",SUM(IF($L$4:L12&$M$4:M12=L12&1,1,0)))} -> 1 | P12: =INDEX(categories,ROW(O12)-ROW($O$3),1) -> Risk | Q12: =COUNTIFS($L$4:$L$503,P12,$M$4:$M$503,1) -> 1 | R12: =IFERROR(Q12/SUM($Q$4:$Q$12),0) -> 0.076923077 | S12: =COUNTIF($P$4:$P$12,P12) -> 1 | U12: =IF(Settings!C46="","",Settings!C46) | V12: =IF(Settings!E46="","",Settings!E46) -> 46-50 | X12: =B11 -> 8 | Z12: =IF(Settings!C14="","",Settings!C14) -> Support | AB12: =IF(Settings!E14="","",Settings!E14) | AD12: =IF(Settings!G14="","",Settings!G14)
B13: =IF(LEN(INDEX(EmployeeTable!B$6:B$505,ROW($A13)-ROW($A$3),1))=0,"",INDEX(EmployeeTable!B$6:B$505,ROW($A13)-ROW($A$3),1)) -> 10 | C13: =IF(OR(Dashboard!$C$8="ALL",Dashboard!$C$8=""),IF(Calculation!B13="","",1),IF(Dashboard!$C$8=Calculation!B13,1,0)) -> 1 | D13: =IF(LEN(INDEX(EmployeeTable!C$6:C$505,ROW($A13)-ROW($A$3),1))=0,"",INDEX(EmployeeTable!C$6:C$505,ROW($A13)-ROW($A$3),1)) -> Lotty Gillet | E13: =IF(ISNUMBER(C13),IF(OR(Dashboard!$E$8="ALL",Dashboard!$E$8=""),INDEX(EmployeeTable!D$6:D$505,ROW($A13)-ROW($A$3),1),IF(Dashboard!$E$8=INDEX(EmployeeTable!D$6:D$505,ROW($A13)-ROW($A$3),1),INDEX(EmployeeTable!D$6:D$505,ROW($A13)-ROW($A$3),1),"-")),"") -> Engineering | F13: =IF(ISNUMBER(C13),IF(OR(Dashboard!$G$8="ALL",Dashboard!$G$8=""),INDEX(EmployeeTable!E$6:E$505,ROW($A13)-ROW($A$3),1),IF(Dashboard!$G$8=INDEX(EmployeeTable!E$6:E$505,ROW($A13)-ROW($A$3),1),INDEX(EmployeeTable!E$6:E$505,ROW($A13)-ROW($A$3),1),"-")),"") -> Chief Design Engineer | G13: =IF(ISNUMBER(C13),IF(OR(Dashboard!$K$8="ALL",Dashboard!$K$8=""),"",IF(LEN(INDEX(EmployeeTable!F$6:F$505,ROW($A13)-ROW($A$3),1))=0,"-",IF(AND(INDEX(EmployeeTable!F$6:F$505,ROW($A13)-ROW($A$3),1)>=$U$16,INDEX(EmployeeTable!F$6:F$505,ROW($A13)-ROW($A$3),1)<=$U$17),INDEX(EmployeeTable!F$6:F$505,ROW($A13)-ROW($A$3),1),"-"))),"") | H13: =IF(ISNUMBER(C13),IF(OR(Dashboard!$I$8="ALL",Dashboard!$I$8=""),INDEX(EmployeeTable!G$6:G$505,ROW($A13)-ROW($A$3),1),IF(Dashboard!$I$8=INDEX(EmployeeTable!G$6:G$505,ROW($A13)-ROW($A$3),1),INDEX(EmployeeTable!G$6:G$505,ROW($A13)-ROW($A$3),1),"-")),"") -> SPECIALIST | I13: =IF(ISNUMBER(C13),IF(OR(Dashboard!$M$8="ALL",Dashboard!$M$8=""),"",IF(LEN(INDEX(EmployeeTable!H$6:H$505,ROW($A13)-ROW($A$3),1))=0,"-",IF(AND(INDEX(EmployeeTable!H$6:H$505,ROW($A13)-ROW($A$3),1)>=$V$16,INDEX(EmployeeTable!H$6:H$505,ROW($A13)-ROW($A$3),1)<=$V$17),INDEX(EmployeeTable!H$6:H$505,ROW($A13)-ROW($A$3),1),"-"))),"") | J13: =IF(LEN(INDEX(EmployeeTable!I$6:I$505,ROW($A13)-ROW($A$3),1))=0,"",INDEX(EmployeeTable!I$6:I$505,ROW($A13)-ROW($A$3),1)) -> 2 | K13: =IF(LEN(INDEX(EmployeeTable!J$6:J$505,ROW($A13)-ROW($A$3),1))=0,"",INDEX(EmployeeTable!J$6:J$505,ROW($A13)-ROW($A$3),1)) -> 1 | L13: =IF(LEN(INDEX(EmployeeTable!K$6:K$505,ROW($A13)-ROW($A$3),1))=0,"",INDEX(EmployeeTable!K$6:K$505,ROW($A13)-ROW($A$3),1)) -> Average performer | M13: =IF(AND(C13<>0, E13<>"-",F13<>"-",G13<>"-",H13<>"-",I13<>"-",L13<>""),1,"") -> 1 | N13: {=IF(M13="","",SUM(IF($L$4:L13&$M$4:M13=L13&1,1,0)))} -> 1 | U13: =IF(Settings!C47="","",Settings!C47) | V13: =IF(Settings!E47="","",Settings!E47) -> 51-60 | X13: =B12 -> 9 | Z13: =IF(Settings!C15="","",Settings!C15) | AB13: =IF(Settings!E15="","",Settings!E15) | AD13: =IF(Settings!G15="","",Settings!G15)
B14: =IF(LEN(INDEX(EmployeeTable!B$6:B$505,ROW($A14)-ROW($A$3),1))=0,"",INDEX(EmployeeTable!B$6:B$505,ROW($A14)-ROW($A$3),1)) -> 11 | C14: =IF(OR(Dashboard!$C$8="ALL",Dashboard!$C$8=""),IF(Calculation!B14="","",1),IF(Dashboard!$C$8=Calculation!B14,1,0)) -> 1 | D14: =IF(LEN(INDEX(EmployeeTable!C$6:C$505,ROW($A14)-ROW($A$3),1))=0,"",INDEX(EmployeeTable!C$6:C$505,ROW($A14)-ROW($A$3),1)) -> Caresa Nabbs | E14: =IF(ISNUMBER(C14),IF(OR(Dashboard!$E$8="ALL",Dashboard!$E$8=""),INDEX(EmployeeTable!D$6:D$505,ROW($A14)-ROW($A$3),1),IF(Dashboard!$E$8=INDEX(EmployeeTable!D$6:D$505,ROW($A14)-ROW($A$3),1),INDEX(EmployeeTable!D$6:D$505,ROW($A14)-ROW($A$3),1),"-")),"") -> Research and Development | F14: =IF(ISNUMBER(C14),IF(OR(Dashboard!$G$8="ALL",Dashboard!$G$8=""),INDEX(EmployeeTable!E$6:E$505,ROW($A14)-ROW($A$3),1),IF(Dashboard!$G$8=INDEX(EmployeeTable!E$6:E$505,ROW($A14)-ROW($A$3),1),INDEX(EmployeeTable!E$6:E$505,ROW($A14)-ROW($A$3),1),"-")),"") -> Chief Design Engineer | G14: =IF(ISNUMBER(C14),IF(OR(Dashboard!$K$8="ALL",Dashboard!$K$8=""),"",IF(LEN(INDEX(EmployeeTable!F$6:F$505,ROW($A14)-ROW($A$3),1))=0,"-",IF(AND(INDEX(EmployeeTable!F$6:F$505,ROW($A14)-ROW($A$3),1)>=$U$16,INDEX(EmployeeTable!F$6:F$505,ROW($A14)-ROW($A$3),1)<=$U$17),INDEX(EmployeeTable!F$6:F$505,ROW($A14)-ROW($A$3),1),"-"))),"") | H14: =IF(ISNUMBER(C14),IF(OR(Dashboard!$I$8="ALL",Dashboard!$I$8=""),INDEX(EmployeeTable!G$6:G$505,ROW($A14)-ROW($A$3),1),IF(Dashboard!$I$8=INDEX(EmployeeTable!G$6:G$505,ROW($A14)-ROW($A$3),1),INDEX(EmployeeTable!G$6:G$505,ROW($A14)-ROW($A$3),1),"-")),"") -> BAND 1 | I14: =IF(ISNUMBER(C14),IF(OR(Dashboard!$M$8="ALL",Dashboard!$M$8=""),"",IF(LEN(INDEX(EmployeeTable!H$6:H$505,ROW($A14)-ROW($A$3),1))=0,"-",IF(AND(INDEX(EmployeeTable!H$6:H$505,ROW($A14)-ROW($A$3),1)>=$V$16,INDEX(EmployeeTable!H$6:H$505,ROW($A14)-ROW($A$3),1)<=$V$17),INDEX(EmployeeTable!H$6:H$505,ROW($A14)-ROW($A$3),1),"-"))),"") | J14: =IF(LEN(INDEX(EmployeeTable!I$6:I$505,ROW($A14)-ROW($A$3),1))=0,"",INDEX(EmployeeTable!I$6:I$505,ROW($A14)-ROW($A$3),1)) -> 2 | K14: =IF(LEN(INDEX(EmployeeTable!J$6:J$505,ROW($A14)-ROW($A$3),1))=0,"",INDEX(EmployeeTable!J$6:J$505,ROW($A14)-ROW($A$3),1)) -> 2 | L14: =IF(LEN(INDEX(EmployeeTable!K$6:K$505,ROW($A14)-ROW($A$3),1))=0,"",INDEX(EmployeeTable!K$6:K$505,ROW($A14)-ROW($A$3),1)) -> Core Player | M14: =IF(AND(C14<>0, E14<>"-",F14<>"-",G14<>"-",H14<>"-",I14<>"-",L14<>""),1,"") -> 1 | N14: {=IF(M14="","",SUM(IF($L$4:L14&$M$4:M14=L14&1,1,0)))} -> 2 | P14: Graph Data | Q14: No | U14: =IF(Settings!C48="","",Settings!C48) | V14: =IF(Settings!E48="","",Settings!E48) -> >30 | X14: =B13 -> 10 | Z14: =IF(Settings!C16="","",Settings!C16) | AB14: =IF(Settings!E16="","",Settings!E16) | AD14: =IF(Settings!G16="","",Settings!G16)
B15: =IF(LEN(INDEX(EmployeeTable!B$6:B$505,ROW($A15)-ROW($A$3),1))=0,"",INDEX(EmployeeTable!B$6:B$505,ROW($A15)-ROW($A$3),1)) -> 12 | C15: =IF(OR(Dashboard!$C$8="ALL",Dashboard!$C$8=""),IF(Calculation!B15="","",1),IF(Dashboard!$C$8=Calculation!B15,1,0)) -> 1 | D15: =IF(LEN(INDEX(EmployeeTable!C$6:C$505,ROW($A15)-ROW($A$3),1))=0,"",INDEX(EmployeeTable!C$6:C$505,ROW($A15)-ROW($A$3),1)) -> Bernhard Newell | E15: =IF(ISNUMBER(C15),IF(OR(Dashboard!$E$8="ALL",Dashboard!$E$8=""),INDEX(EmployeeTable!D$6:D$505,ROW($A15)-ROW($A$3),1),IF(Dashboard!$E$8=INDEX(EmployeeTable!D$6:D$505,ROW($A15)-ROW($A$3),1),INDEX(EmployeeTable!D$6:D$505,ROW($A15)-ROW($A$3),1),"-")),"") -> Sales | F15: =IF(ISNUMBER(C15),IF(OR(Dashboard!$G$8="ALL",Dashboard!$G$8=""),INDEX(EmployeeTable!E$6:E$505,ROW($A15)-ROW($A$3),1),IF(Dashboard!$G$8=INDEX(EmployeeTable!E$6:E$505,ROW($A15)-ROW($A$3),1),INDEX(EmployeeTable!E$6:E$505,ROW($A15)-ROW($A$3),1),"-")),"") -> Environmental Specialist | G15: =IF(ISNUMBER(C15),IF(OR(Dashboard!$K$8="ALL",Dashboard!$K$8=""),"",IF(LEN(INDEX(EmployeeTable!F$6:F$505,ROW($A15)-ROW($A$3),1))=0,"-",IF(AND(INDEX(EmployeeTable!F$6:F$505,ROW($A15)-ROW($A$3),1)>=$U$16,INDEX(EmployeeTable!F$6:F$505,ROW($A15)-ROW($A$3),1)<=$U$17),INDEX(EmployeeTable!F$6:F$505,ROW($A15)-ROW($A$3),1),"-"))),"") | H15: =IF(ISNUMBER(C15),IF(OR(Dashboard!$I$8="ALL",Dashboard!$I$8=""),INDEX(EmployeeTable!G$6:G$505,ROW($A15)-ROW($A$3),1),IF(Dashboard!$I$8=INDEX(EmployeeTable!G$6:G$505,ROW($A15)-ROW($A$3),1),INDEX(EmployeeTable!G$6:G$505,ROW($A15)-ROW($A$3),1),"-")),"") -> JUNIOR | I15: =IF(ISNUMBER(C15),IF(OR(Dashboard!$M$8="ALL",Dashboard!$M$8=""),"",IF(LEN(INDEX(EmployeeTable!H$6:H$505,ROW($A15)-ROW($A$3),1))=0,"-",IF(AND(INDEX(EmployeeTable!H$6:H$505,ROW($A15)-ROW($A$3),1)>=$V$16,INDEX(EmployeeTable!H$6:H$505,ROW($A15)-ROW($A$3),1)<=$V$17),INDEX(EmployeeTable!H$6:H$505,ROW($A15)-ROW($A$3),1),"-"))),"") | J15: =IF(LEN(INDEX(EmployeeTable!I$6:I$505,ROW($A15)-ROW($A$3),1))=0,"",INDEX(EmployeeTable!I$6:I$505,ROW($A15)-ROW($A$3),1)) -> 2 | K15: =IF(LEN(INDEX(EmployeeTable!J$6:J$505,ROW($A15)-ROW($A$3),1))=0,"",INDEX(EmployeeTable!J$6:J$505,ROW($A15)-ROW($A$3),1)) -> 3 | L15: =IF(LEN(INDEX(EmployeeTable!K$6:K$505,ROW($A15)-ROW($A$3),1))=0,"",INDEX(EmployeeTable!K$6:K$505,ROW($A15)-ROW($A$3),1)) -> High potential | M15: =IF(AND(C15<>0, E15<>"-",F15<>"-",G15<>"-",H15<>"-",I15<>"-",L15<>""),1,"") -> 1 | N15: {=IF(M15="","",SUM(IF($L$4:L15&$M$4:M15=L15&1,1,0)))} -> 2 | P15: Green | Q15: =Q4 -> 1 | X15: =B14 -> 11 | Z15: =IF(Settings!C17="","",Settings!C17) | AB15: =IF(Settings!E17="","",Settings!E17) | AD15: =IF(Settings!G17="","",Settings!G17)
B16: =IF(LEN(INDEX(EmployeeTable!B$6:B$505,ROW($A16)-ROW($A$3),1))=0,"",INDEX(EmployeeTable!B$6:B$505,ROW($A16)-ROW($A$3),1)) -> 13 | C16: =IF(OR(Dashboard!$C$8="ALL",Dashboard!$C$8=""),IF(Calculation!B16="","",1),IF(Dashboard!$C$8=Calculation!B16,1,0)) -> 1 | D16: =IF(LEN(INDEX(EmployeeTable!C$6:C$505,ROW($A16)-ROW($A$3),1))=0,"",INDEX(EmployeeTable!C$6:C$505,ROW($A16)-ROW($A$3),1)) -> Bette Kernar | E16: =IF(ISNUMBER(C16),IF(OR(Dashboard!$E$8="ALL",Dashboard!$E$8=""),INDEX(EmployeeTable!D$6:D$505,ROW($A16)-ROW($A$3),1),IF(Dashboard!$E$8=INDEX(EmployeeTable!D$6:D$505,ROW($A16)-ROW($A$3),1),INDEX(EmployeeTable!D$6:D$505,ROW($A16)-ROW($A$3),1),"-")),"") -> Sales | F16: =IF(ISNUMBER(C16),IF(OR(Dashboard!$G$8="ALL",Dashboard!$G$8=""),INDEX(EmployeeTable!E$6:E$505,ROW($A16)-ROW($A$3),1),IF(Dashboard!$G$8=INDEX(EmployeeTable!E$6:E$505,ROW($A16)-ROW($A$3),1),INDEX(EmployeeTable!E$6:E$505,ROW($A16)-ROW($A$3),1),"-")),"") -> Health Coach I | G16: =IF(ISNUMBER(C16),IF(OR(Dashboard!$K$8="ALL",Dashboard!$K$8=""),"",IF(LEN(INDEX(EmployeeTable!F$6:F$505,ROW($A16)-ROW($A$3),1))=0,"-",IF(AND(INDEX(EmployeeTable!F$6:F$505,ROW($A16)-ROW($A$3),1)>=$U$16,INDEX(EmployeeTable!F$6:F$505,ROW($A16)-ROW($A$3),1)<=$U$17),INDEX(EmployeeTable!F$6:F$505,ROW($A16)-ROW($A$3),1),"-"))),"") | H16: =IF(ISNUMBER(C16),IF(OR(Dashboard!$I$8="ALL",Dashboard!$I$8=""),INDEX(EmployeeTable!G$6:G$505,ROW($A16)-ROW($A$3),1),IF(Dashboard!$I$8=INDEX(EmployeeTable!G$6:G$505,ROW($A16)-ROW($A$3),1),INDEX(EmployeeTable!G$6:G$505,ROW($A16)-ROW($A$3),1),"-")),"") -> SENIOR | I16: =IF(ISNUMBER(C16),IF(OR(Dashboard!$M$8="ALL",Dashboard!$M$8=""),"",IF(LEN(INDEX(EmployeeTable!H$6:H$505,ROW($A16)-ROW($A$3),1))=0,"-",IF(AND(INDEX(EmployeeTable!H$6:H$505,ROW($A16)-ROW($A$3),1)>=$V$16,INDEX(EmployeeTable!H$6:H$505,ROW($A16)-ROW($A$3),1)<=$V$17),INDEX(EmployeeTable!H$6:H$505,ROW($A16)-ROW($A$3),1),"-"))),"") | J16: =IF(LEN(INDEX(EmployeeTable!I$6:I$505,ROW($A16)-ROW($A$3),1))=0,"",INDEX(EmployeeTable!I$6:I$505,ROW($A16)-ROW($A$3),1)) -> 3 | K16: =IF(LEN(INDEX(EmployeeTable!J$6:J$505,ROW($A16)-ROW($A$3),1))=0,"",INDEX(EmployeeTable!J$6:J$505,ROW($A16)-ROW($A$3),1)) -> 1 | L16: =IF(LEN(INDEX(EmployeeTable!K$6:K$505,ROW($A16)-ROW($A$3),1))=0,"",INDEX(EmployeeTable!K$6:K$505,ROW($A16)-ROW($A$3),1)) -> Solid Performer | M16: =IF(AND(C16<>0, E16<>"-",F16<>"-",G16<>"-",H16<>"-",I16<>"-",L16<>""),1,"") -> 1 | N16: {=IF(M16="","",SUM(IF($L$4:L16&$M$4:M16=L16&1,1,0)))} -> 2 | P16: Light Green | Q16: =Q5+Q6 -> 3 | T16: Min | U16: =IF(AND(ISNUMBER(SEARCH("-",Dashboard!K8)),LEN(Dashboard!K8)=4),1*LEFT(Dashboard!K8,LEN(Dashboard!K8)-FIND("-",Dashboard!K8)-1),IF(OR(Dashboard!K8="ALL",Dashboard!K8=""),0,IF(ISNUMBER(SEARCH("-",Dashboard!K8,1)),1*LEFT(Dashboard!K8,LEN(Dashboard!K8)-FIND("-",Dashboard!K8)),IF(ISNUMBER(Dashboard!K8),Dashboard!K8,IF(ISNUMBER(SEARCH("<",Dashboard!K8,1)),0,IF(ISNUMBER(SEARCH(">",Dashboard!K8,1)),1*SUBSTITUTE(Dashboard!K8,">",""),0)))))) -> 0 | V16: =IF(OR(Dashboard!M8="ALL",Dashboard!M8=""),0,IF(ISNUMBER(SEARCH("-",Dashboard!M8,1)),1*LEFT(Dashboard!M8,LEN(Dashboard!M8)-FIND("-",Dashboard!M8)),IF(ISNUMBER(Dashboard!M8),Dashboard!M8,IF(ISNUMBER(SEARCH(">",Dashboard!M8,1)),1*SUBSTITUTE(Dashboard!M8,">",""),0)))) -> 0 | X16: =B15 -> 12 | Z16: =IF(Settings!C18="","",Settings!C18) | AB16: =IF(Settings!E18="","",Settings!E18) | AD16: =IF(Settings!G18="","",Settings!G18)
B17: =IF(LEN(INDEX(EmployeeTable!B$6:B$505,ROW($A17)-ROW($A$3),1))=0,"",INDEX(EmployeeTable!B$6:B$505,ROW($A17)-ROW($A$3),1)) | C17: =IF(OR(Dashboard!$C$8="ALL",Dashboard!$C$8=""),IF(Calculation!B17="","",1),IF(Dashboard!$C$8=Calculation!B17,1,0)) | D17: =IF(LEN(INDEX(EmployeeTable!C$6:C$505,ROW($A17)-ROW($A$3),1))=0,"",INDEX(EmployeeTable!C$6:C$505,ROW($A17)-ROW($A$3),1)) | E17: =IF(ISNUMBER(C17),IF(OR(Dashboard!$E$8="ALL",Dashboard!$E$8=""),INDEX(EmployeeTable!D$6:D$505,ROW($A17)-ROW($A$3),1),IF(Dashboard!$E$8=INDEX(EmployeeTable!D$6:D$505,ROW($A17)-ROW($A$3),1),INDEX(EmployeeTable!D$6:D$505,ROW($A17)-ROW($A$3),1),"-")),"") | F17: =IF(ISNUMBER(C17),IF(OR(Dashboard!$G$8="ALL",Dashboard!$G$8=""),INDEX(EmployeeTable!E$6:E$505,ROW($A17)-ROW($A$3),1),IF(Dashboard!$G$8=INDEX(EmployeeTable!E$6:E$505,ROW($A17)-ROW($A$3),1),INDEX(EmployeeTable!E$6:E$505,ROW($A17)-ROW($A$3),1),"-")),"") | G17: =IF(ISNUMBER(C17),IF(OR(Dashboard!$K$8="ALL",Dashboard!$K$8=""),"",IF(LEN(INDEX(EmployeeTable!F$6:F$505,ROW($A17)-ROW($A$3),1))=0,"-",IF(AND(INDEX(EmployeeTable!F$6:F$505,ROW($A17)-ROW($A$3),1)>=$U$16,INDEX(EmployeeTable!F$6:F$505,ROW($A17)-ROW($A$3),1)<=$U$17),INDEX(EmployeeTable!F$6:F$505,ROW($A17)-ROW($A$3),1),"-"))),"") | H17: =IF(ISNUMBER(C17),IF(OR(Dashboard!$I$8="ALL",Dashboard!$I$8=""),INDEX(EmployeeTable!G$6:G$505,ROW($A17)-ROW($A$3),1),IF(Dashboard!$I$8=INDEX(EmployeeTable!G$6:G$505,ROW($A17)-ROW($A$3),1),INDEX(EmployeeTable!G$6:G$505,ROW($A17)-ROW($A$3),1),"-")),"") | I17: =IF(ISNUMBER(C17),IF(OR(Dashboard!$M$8="ALL",Dashboard!$M$8=""),"",IF(LEN(INDEX(EmployeeTable!H$6:H$505,ROW($A17)-ROW($A$3),1))=0,"-",IF(AND(INDEX(EmployeeTable!H$6:H$505,ROW($A17)-ROW($A$3),1)>=$V$16,INDEX(EmployeeTable!H$6:H$505,ROW($A17)-ROW($A$3),1)<=$V$17),INDEX(EmployeeTable!H$6:H$505,ROW($A17)-ROW($A$3),1),"-"))),"") | J17: =IF(LEN(INDEX(EmployeeTable!I$6:I$505,ROW($A17)-ROW($A$3),1))=0,"",INDEX(EmployeeTable!I$6:I$505,ROW($A17)-ROW($A$3),1)) | K17: =IF(LEN(INDEX(EmployeeTable!J$6:J$505,ROW($A17)-ROW($A$3),1))=0,"",INDEX(EmployeeTable!J$6:J$505,ROW($A17)-ROW($A$3),1)) | L17: =IF(LEN(INDEX(EmployeeTable!K$6:K$505,ROW($A17)-ROW($A$3),1))=0,"",INDEX(EmployeeTable!K$6:K$505,ROW($A17)-ROW($A$3),1)) | M17: =IF(AND(C17<>0, E17<>"-",F17<>"-",G17<>"-",H17<>"-",I17<>"-",L17<>""),1,"") | N17: {=IF(M17="","",SUM(IF($L$4:L17&$M$4:M17=L17&1,1,0)))} | P17: Yellow | Q17: =Q7+Q8+Q9 -> 5 | T17: Max | U17: =IF(OR(Dashboard!K8="ALL",Dashboard!K8=""),99,IF(ISNUMBER(SEARCH("-",Dashboard!K8,1)),1*RIGHT(Dashboard!K8,LEN(Dashboard!K8)-FIND("-",Dashboard!K8)),IF(ISNUMBER(Dashboard!K8),Dashboard!K8,IF(ISNUMBER(SEARCH(">",Dashboard!K8,1)),99,IF(ISNUMBER(SEARCH("<",Dashboard!K8,1)),1*SUBSTITUTE(Dashboard!K8,"<",""),99))))) -> 99 | V17: =IF(OR(Dashboard!M8="ALL",Dashboard!M8=""),99,IF(ISNUMBER(SEARCH("-",Dashboard!M8,1)),1*RIGHT(Dashboard!M8,LEN(Dashboard!M8)-FIND("-",Dashboard!M8)),IF(ISNUMBER(Dashboard!M8),Dashboard!M8,IF(ISNUMBER(SEARCH("<",Dashboard!M8,1)),1*SUBSTITUTE(Dashboard!M8,"<",""),99)))) -> 99 | X17: =B16 -> 13 | Z17: =IF(Settings!C19="","",Settings!C19) | AB17: =IF(Settings!E19="","",Settings!E19) | AD17: =IF(Settings!G19="","",Settings!G19)
B18: =IF(LEN(INDEX(EmployeeTable!B$6:B$505,ROW($A18)-ROW($A$3),1))=0,"",INDEX(EmployeeTable!B$6:B$505,ROW($A18)-ROW($A$3),1)) | C18: =IF(OR(Dashboard!$C$8="ALL",Dashboard!$C$8=""),IF(Calculation!B18="","",1),IF(Dashboard!$C$8=Calculation!B18,1,0)) | D18: =IF(LEN(INDEX(EmployeeTable!C$6:C$505,ROW($A18)-ROW($A$3),1))=0,"",INDEX(EmployeeTable!C$6:C$505,ROW($A18)-ROW($A$3),1)) | E18: =IF(ISNUMBER(C18),IF(OR(Dashboard!$E$8="ALL",Dashboard!$E$8=""),INDEX(EmployeeTable!D$6:D$505,ROW($A18)-ROW($A$3),1),IF(Dashboard!$E$8=INDEX(EmployeeTable!D$6:D$505,ROW($A18)-ROW($A$3),1),INDEX(EmployeeTable!D$6:D$505,ROW($A18)-ROW($A$3),1),"-")),"") | F18: =IF(ISNUMBER(C18),IF(OR(Dashboard!$G$8="ALL",Dashboard!$G$8=""),INDEX(EmployeeTable!E$6:E$505,ROW($A18)-ROW($A$3),1),IF(Dashboard!$G$8=INDEX(EmployeeTable!E$6:E$505,ROW($A18)-ROW($A$3),1),INDEX(EmployeeTable!E$6:E$505,ROW($A18)-ROW($A$3),1),"-")),"") | G18: =IF(ISNUMBER(C18),IF(OR(Dashboard!$K$8="ALL",Dashboard!$K$8=""),"",IF(LEN(INDEX(EmployeeTable!F$6:F$505,ROW($A18)-ROW($A$3),1))=0,"-",IF(AND(INDEX(EmployeeTable!F$6:F$505,ROW($A18)-ROW($A$3),1)>=$U$16,INDEX(EmployeeTable!F$6:F$505,ROW($A18)-ROW($A$3),1)<=$U$17),INDEX(EmployeeTable!F$6:F$505,ROW($A18)-ROW($A$3),1),"-"))),"") | H18: =IF(ISNUMBER(C18),IF(OR(Dashboard!$I$8="ALL",Dashboard!$I$8=""),INDEX(EmployeeTable!G$6:G$505,ROW($A18)-ROW($A$3),1),IF(Dashboard!$I$8=INDEX(EmployeeTable!G$6:G$505,ROW($A18)-ROW($A$3),1),INDEX(EmployeeTable!G$6:G$505,ROW($A18)-ROW($A$3),1),"-")),"") | I18: =IF(ISNUMBER(C18),IF(OR(Dashboard!$M$8="ALL",Dashboard!$M$8=""),"",IF(LEN(INDEX(EmployeeTable!H$6:H$505,ROW($A18)-ROW($A$3),1))=0,"-",IF(AND(INDEX(EmployeeTable!H$6:H$505,ROW($A18)-ROW($A$3),1)>=$V$16,INDEX(EmployeeTable!H$6:H$505,ROW($A18)-ROW($A$3),1)<=$V$17),INDEX(EmployeeTable!H$6:H$505,ROW($A18)-ROW($A$3),1),"-"))),"") | J18: =IF(LEN(INDEX(EmployeeTable!I$6:I$505,ROW($A18)-ROW($A$3),1))=0,"",INDEX(EmployeeTable!I$6:I$505,ROW($A18)-ROW($A$3),1)) | K18: =IF(LEN(INDEX(EmployeeTable!J$6:J$505,ROW($A18)-ROW($A$3),1))=0,"",INDEX(EmployeeTable!J$6:J$505,ROW($A18)-ROW($A$3),1)) | L18: =IF(LEN(INDEX(EmployeeTable!K$6:K$505,ROW($A18)-ROW($A$3),1))=0,"",INDEX(EmployeeTable!K$6:K$505,ROW($A18)-ROW($A$3),1)) | M18: =IF(AND(C18<>0, E18<>"-",F18<>"-",G18<>"-",H18<>"-",I18<>"-",L18<>""),1,"") | N18: {=IF(M18="","",SUM(IF($L$4:L18&$M$4:M18=L18&1,1,0)))} | P18: Light Red | Q18: =Q10+Q11 -> 3 | X18: =B17 | Z18: =IF(Settings!C20="","",Settings!C20) | AB18: =IF(Settings!E20="","",Settings!E20) | AD18: =IF(Settings!G20="","",Settings!G20)
P19: Red | Q19: =Q12 -> 1 | X19: =B18 | Z19: =IF(Settings!C21="","",Settings!C21) | AB19: =IF(Settings!E21="","",Settings!E21) | AD19: =IF(Settings!G21="","",Settings!G21)
X20: =B19 -> 0 | Z20: =IF(Settings!C22="","",Settings!C22) | AB20: =IF(Settings!E22="","",Settings!E22) | AD20: =IF(Settings!G22="","",Settings!G22)
X21: =B20 -> 0 | Z21: =IF(Settings!C23="","",Settings!C23) | AB21: =IF(Settings!E23="","",Settings!E23) | AD21: =IF(Settings!G23="","",Settings!G23)
X22: =B21 -> 0 | Z22: =IF(Settings!C24="","",Settings!C24) | AB22: =IF(Settings!E24="","",Settings!E24) | AD22: =IF(Settings!G24="","",Settings!G24)
X23: =B22 -> 0 | Z23: =IF(Settings!C25="","",Settings!C25) | AB23: =IF(Settings!E25="","",Settings!E25) | AD23: =IF(Settings!G25="","",Settings!G25)
X24: =B23 -> 0 | Z24: =IF(Settings!C26="","",Settings!C26) | AB24: =IF(Settings!E26="","",Settings!E26) | AD24: =IF(Settings!G26="","",Settings!G26)
X25: =B24 -> 0 | Z25: =IF(Settings!C27="","",Settings!C27) | AB25: =IF(Settings!E27="","",Settings!E27) | AD25: =IF(Settings!G27="","",Settings!G27)
X26: =B25 -> 0 | Z26: =IF(Settings!C28="","",Settings!C28) | AB26: =IF(Settings!E28="","",Settings!E28) | AD26: =IF(Settings!G28="","",Settings!G28)
X27: =B26 -> 0 | Z27: =IF(Settings!C29="","",Settings!C29) | AB27: =IF(Settings!E29="","",Settings!E29) | AD27: =IF(Settings!G29="","",Settings!G29)
X28: =B27 -> 0 | Z28: =IF(Settings!C30="","",Settings!C30) | AB28: =IF(Settings!E30="","",Settings!E30) | AD28: =IF(Settings!G30="","",Settings!G30)
X29: =B28 -> 0 | Z29: =IF(Settings!C31="","",Settings!C31) | AB29: =IF(Settings!E31="","",Settings!E31) | AD29: =IF(Settings!G31="","",Settings!G31)
X30: =B29 -> 0 | Z30: =IF(Settings!C32="","",Settings!C32) | AB30: =IF(Settings!E32="","",Settings!E32) | AD30: =IF(Settings!G32="","",Settings!G32)
X31: =B30 -> 0 | Z31: =IF(Settings!C33="","",Settings!C33) | AB31: =IF(Settings!E33="","",Settings!E33) | AD31: =IF(Settings!G33="","",Settings!G33)
... X34: =B33 -> 0 | Z34: =IF(Settings!C36="","",Settings!C36) | AB34: =IF(Settings!E36="","",Settings!E36) | AD34: =IF(Settings!G36="","",Settings!G36)
X35: =B34 -> 0
X36: =B35 -> 0
X37: =B36 -> 0
X38: =B37 -> 0
X39: =B38 -> 0
X40: =B39 -> 0
X41: =B40 -> 0
X42: =B41 -> 0
X43: =B42 -> 0
X44: =B43 -> 0
X45: =B44 -> 0
X46: =B45 -> 0
... X504: =B503 -> 0
