Workbook
Name LinearFour1: Linear4Circles!$C$8:$C$17
Name LinearFour2: Linear4Circles!$D$8:$D$17
Name LinearFour3: Linear4Circles!$E$8:$E$17
Name LinearFour4: Linear4Circles!$F$8:$F$17
Name LinearThree1: Linear3Circles!$C$8:$C$17
Name LinearThree2: Linear3Circles!$D$8:$D$17
Name LinearThree3: Linear3Circles!$E$8:$E$17
Name Oval1: Flower4Ovals!$C$8:$C$17
Name Oval2: Flower4Ovals!$D$8:$D$17
Name Oval3: Flower4Ovals!$E$8:$E$17
Name Oval4: Flower4Ovals!$F$8:$F$17
Name Square1: Square4Circles!$C$8:$C$17
Name Square2: Square4Circles!$D$8:$D$17
Name Square3: Square4Circles!$E$8:$E$17
Name Square4: Square4Circles!$F$8:$F$17
Name StackedFour1: Stacked4Circles!$C$8:$C$17
Name StackedFour2: Stacked4Circles!$D$8:$D$17
Name StackedFour3: Stacked4Circles!$E$8:$E$17
Name StackedFour4: Stacked4Circles!$F$8:$F$17
Name StackedThree1: Stacked3Circles!$C$8:$C$17
Name StackedThree2: Stacked3Circles!$D$8:$D$17
Name StackedThree3: Stacked3Circles!$E$8:$E$17
Name Triangular1: Triangular3Circles!$C$8:$C$17
Name Triangular2: Triangular3Circles!$D$8:$D$17
Name Triangular3: Triangular3Circles!$E$8:$E$17
Name TwoCircle1: '2Circles'!$C$8:$C$17
Name TwoCircle2: '2Circles'!$D$8:$D$17

Sheet Dashboard
C2: VENN DIAGRAM TEMPLATE
C3: DASHBOARD

Sheet 2Circles
C2: VENN DIAGRAM TEMPLATE
C3: 2 CIRCLES MODEL
C7: ASIA | D7: EUROPE
C8: Russia | D8: France
C9: Mongolia | D9: Italy
C10: Afghanistan | D10: Russia
C11: Iran | D11: England
C12: North Korea | D12: Spain
C13: Indonesia | D13: Germany
C14: China | D14: Portugal
C15: India | D15: Italy

Sheet Triangular3Circles
C2: VENN DIAGRAM TEMPLATE
C3: TRIANGULAR MODEL
C7: BIG ANIMALS | D7: MAMMALS | E7: AQUATIC ANIMALS
C8: Elephants | D8: Buffaloes | E8: Whales
C9: Bears | D9: Dogs | E9: Fishes
C10: Horses | D10: Dolphins | E10: Sharks
C11: Camels | D11: Foxes | E11: Hippopotamus
C12: Whales | D12: Whales | E12: Dolphins
C13: Sharks | D13: Horses | E13: Turtles
C14: Hippopotamus | D14: Hippopotamus | E14: Seals
C15: Camels
C16: Buffaloes

Sheet Linear3Circles
C2: VENN DIAGRAM TEMPLATE
C3: 3 LINEAR CIRCLES
C7: BIG ANIMALS | D7: MAMMALS | E7: AQUATIC ANIMALS | G7: =IF(OR(LEN(Calc!$V$101)>0,LEN(Calc!$V$102)>0),Calc!$V$103,"") -> Triangular Model would be more suitable for this data set.
C8: Elephants | D8: Buffaloes | E8: Whales
C9: Giraffes | D9: Dogs | E9: Octopus
C10: Horses | D10: Cats | E10: Shark
C11: Cows | D11: Goats | E11: Mollusks
C12: Whales | D12: Whales | E12: Squids
C13: Hippopotamus | D13: Hippopotamus | E13: Hippopotamus
C14: Shark | D14: Orcas | E14: Orcas
C15: Cows

Sheet Stacked3Circles
C2: VENN DIAGRAM TEMPLATE
C3: 3 STACKED CIRCLES
C7: ANIMALS | D7: MAMMALS | E7: AQUATIC MAMMALS | G7: =IF(LEN(Calc!$AF$101)>0,Calc!$AF$102,"") -> Triangular Model would be more suitable for this data set.
C8: Eagles | D8: Tigers | E8: Whales
C9: Dolphins | D9: Whales | E9: Dolphins
C10: Eels | D10: Elephants | E10: Seals
C11: Tigers | D11: Pumas
C12: Whales | D12: Dolphins
C13: Elephants | D13: Sheep
C14: Sharks | D14: Seals
C15: Sheep | D15: Sheep

Sheet Square4Circles
C2: VENN DIAGRAM TEMPLATE
C3: SQUARE MODEL
C7: SMART | D7: OUTGOING | E7: POLITE | F7: HARDWORKING | H7: =IF(OR(LEN(Calc!$AQ$101)>0,LEN(Calc!$AQ$102)>0,LEN(Calc!$AQ$103)>0,LEN(Calc!$AQ$104)>0),Calc!$AQ$103,"") -> Flower Model would be more suitable for this data set.
C8: Mike | D8: Amy | E8: Lewis | F8: Amy
C9: Kyle | D9: Lewis | E9: Salion | F9: Leyla
C10: John | D10: Amanda | E10: Kim | F10: Kim
C11: Leyla | D11: Salion | E11: Leyla | F11: Deniz
C12: Amanda | D12: Rose | E12: Britney | F12: Onur
C13: Onur | D13: John | E13: John | F13: John
C14: Monica | D14: Kyle | E14: Mike | F14: Kyle
C15: Lewis | D15: Rachel | E15: Rose | F15: Rose
C16: Leyla

Sheet Linear4Circles
C2: VENN DIAGRAM TEMPLATE
C3: 4 LINEAR CIRCLES
C7: SMART | D7: OUTGOING | E7: POLITE | F7: HARDWORKING | H7: =IF(LEN(Calc!$BH$102)>0,Calc!$BH$104,IF(LEN(Calc!$BH$101)>0,Calc!$BH$103,"")) -> Flower Model would be more suitable for this data set.
C8: Amanda | D8: Pablo | E8: Kyle | F8: Chloe
C9: Mike | D9: Kyle | E9: Brian | F9: Brian
C10: Alan | D10: Amanda | E10: Stephanie | F10: Mary
C11: John | D11: Gabriel | E11: Gabriel | F11: Norman
C12: Zach | D12: Mike | E12: Charles | F12: Zach
C13: George | D13: Eric | E13: Scott
C14: John | D14: Zach | E14: Zach
D15: Alan | E15: Alan

Sheet Flower4Ovals
C2: VENN DIAGRAM TEMPLATE
C3: FLOWER 4 OVALS
C7: SMART | D7: OUTGOING | E7: POLITE | F7: HARDWORKING
C8: Salion | D8: Fred | E8: Ahmet | F8: Anthony
C9: Kyle | D9: Ahmet | E9: Salion | F9: Marco
C10: Ezgi | D10: Pablo | E10: Leslie | F10: Leslie
C11: Bryan | D11: Bryan | E11: Bryan | F11: Stewart
C12: Stewart | D12: Stewart | E12: Amanda | F12: Ezgi
C13: Melis | D13: Melis | E13: Pablo | F13: Amanda
C14: Ezgi | D14: Leslie | E14: Anthony | F14: Onur
C15: Amanda | D15: Onur | E15: Daisy | F15: Pablo
C16: Pablo

Sheet Stacked4Circles
C2: VENN DIAGRAM TEMPLATE
C3: 4 STACKED CIRCLES
C7: ANIMALS | D7: MAMMALS | E7: AQUATIC MAMMALS | F7: SURVIVE ON LAND | H7: =IF(LEN(Calc!$CP$102)>0,Calc!$CP$102,"") -> Flower Model would be more suitable for this data set.
C8: Tigers | D8: Tigers | E8: Whales | F8: Seals
C9: Whales | D9: Whales | E9: Dolphins | F9: Goats
C10: Pumas | D10: Dolphins | E10: Seals
C11: Seals | D11: Sheep
C12: Sheep | D12: Wolves
C13: Goats | D13: Pumas
C14: Dolphins | D14: Seals
C15: Horses | D15: Goats
C16: Pumas

Sheet Calc
B3: 2 CIRCLES MODEL | G3: TRIANGULAR 3 CIRCLES MODEL | Q3: LINEAR 3 CIRCLES MODEL | AA3: STACKED 3 CIRCLES MODEL | AK3: SQUARE 4 CIRCLES MODEL | BB3: LINEAR 4 CIRCLES MODEL | BS3: FLOWER MODEL | CJ3: STACKED 4 CIRCLES MODEL
G5: COLUMN 1 TEST | J5: COLUMN 2 TEST | M5: COLUMN 3 TEST | Q5: COLUMN 1 TEST | T5: COLUMN 2 TEST | W5: COLUMN 3 TEST | AA5: COLUMN 1 TEST | AD5: COLUMN 2 TEST | AG5: COLUMN 3 TEST | AK5: COLUMN 1 TEST | AO5: COLUMN 2 TEST | AS5: COLUMN 3 TEST | AW5: COLUMN 4 TEST | BB5: COLUMN 1 TEST | BF5: COLUMN 2 TEST | BJ5: COLUMN 3 TEST | BN5: COLUMN 4 TEST | BS5: COLUMN 1 TEST | BW5: COLUMN 2 TEST | CA5: COLUMN 3 TEST | CE5: COLUMN 4 TEST | CJ5: COLUMN 1 TEST | CN5: COLUMN 2 TEST | CR5: COLUMN 3 TEST | CV5: COLUMN 4 TEST
B6: ='2Circles'!$C$7 -> ASIA | C6: ='2Circles'!$D$7 -> EUROPE | D6: Intersection | G6: Column 2 | H6: Column 3 | J6: Column 1 | K6: Column 3 | M6: Column 1 | N6: Column 2 | Q6: Column 2 | R6: Column 3 | T6: Column 1 | U6: Column 3 | W6: Column 1 | X6: Column 2 | AA6: Column 2 | AB6: Column 3 | AD6: Column 1 | AE6: Column 3 | AG6: Column 1 | AH6: Column 2 | AK6: Column 2 | AL6: Column 3 | AM6: Column 4 | AO6: Column 1 | AP6: Column 3 | AQ6: Column 4 | AS6: Column 1 | AT6: Column 2 | AU6: Column 4 | AW6: Column 1 | AX6: Column 2 | AY6: Column 3 | BB6: Column 2 | BC6: Column 3 | BD6: Column 4 | BF6: Column 1 | BG6: Column 3 | BH6: Column 4 | BJ6: Column 1 | BK6: Column 2 | BL6: Column 4 | BN6: Column 1 | BO6: Column 2 | BP6: Column 3 | BS6: Column 2 | BT6: Column 3 | BU6: Column 4 | BW6: Column 1 | BX6: Column 3 | BY6: Column 4 | CA6: Column 1 | CB6: Column 2 | CC6: Column 4 | CE6: Column 1 | CF6: Column 2 | CG6: Column 3 | CJ6: Column 2 | CK6: Column 3 | CL6: Column 4 | CN6: Column 1 | CO6: Column 3 | CP6: Column 4 | CR6: Column 1 | CS6: Column 2 | CT6: Column 4 | CV6: Column 1 | CW6: Column 2 | CX6: Column 3
A7: 1 | B7: =IFERROR(IF(LEN(INDEX(TwoCircle1,A7,0))=0,"",IF(ISERROR(MATCH(INDEX(TwoCircle1,Calc!A7,0),TwoCircle2,0)),INDEX(TwoCircle1,Calc!A7,0),"")),"") | C7: =IFERROR(IF(LEN(INDEX(TwoCircle2,A7,0))=0,"",IF(ISERROR(MATCH(INDEX(TwoCircle2,Calc!A7,0),TwoCircle1,0)),INDEX(TwoCircle2,Calc!A7,0),"")),"") -> France | D7: =IFERROR(IF(MATCH(INDEX(TwoCircle2,Calc!A7,0),TwoCircle1,0)>0,INDEX(TwoCircle2,Calc!A7,0)),"") | G7: =IFERROR(MATCH(INDEX(Triangular1,Calc!A7,0),Triangular2,0),"") | H7: =IFERROR(MATCH(INDEX(Triangular1,Calc!A7,0),Triangular3,0),"") | J7: =IFERROR(MATCH(INDEX(Triangular2,Calc!A7,0),Triangular1,0),"") -> 9 | K7: =IFERROR(MATCH(INDEX(Triangular2,Calc!A7,0),Triangular3,0),"") | M7: =IFERROR(MATCH(INDEX(Triangular3,Calc!A7,0),Triangular1,0),"") -> 5 | N7: =IFERROR(MATCH(INDEX(Triangular3,Calc!A7,0),Triangular2,0),"") -> 5 | Q7: =IFERROR(MATCH(INDEX(LinearThree1,A7,0),LinearThree2,0),"") | R7: =IFERROR(MATCH(INDEX(LinearThree1,A7,0),LinearThree3,0),"") | T7: =IFERROR(MATCH(INDEX(LinearThree2,A7,0),LinearThree1,0),"") | U7: =IFERROR(MATCH(INDEX(LinearThree2,A7,0),LinearThree3,0),"") | W7: =IFERROR(MATCH(INDEX(LinearThree3,A7,0),LinearThree1,0),"") -> 5 | X7: =IFERROR(MATCH(INDEX(LinearThree3,A7,0),LinearThree2,0),"") -> 5 | AA7: =IFERROR(MATCH(INDEX(StackedThree1,A7,0),StackedThree2,0),"") | AB7: =IFERROR(MATCH(INDEX(StackedThree1,A7,0),StackedThree3,0),"") | AD7: =IFERROR(MATCH(INDEX(StackedThree2,A7,0),StackedThree1,0),"") -> 4 | AE7: =IFERROR(MATCH(INDEX(StackedThree2,A7,0),StackedThree3,0),"") | AG7: =IFERROR(MATCH(INDEX(StackedThree3,A7,0),StackedThree1,0),"") -> 5 | AH7: =IFERROR(MATCH(INDEX(StackedThree3,A7,0),StackedThree2,0),"") -> 2 | AK7: =IFERROR(MATCH(INDEX(Square1,A7,0),Square2,0),"") | AL7: =IFERROR(MATCH(INDEX(Square1,A7,0),Square3,0),"") -> 7 | AM7: =IFERROR(MATCH(INDEX(Square1,A7,0),Square4,0),"") | AO7: =IFERROR(MATCH(INDEX(Square2,A7,0),Square1,0),"") | AP7: =IFERROR(MATCH(INDEX(Square2,A7,0),Square3,0),"") | AQ7: =IFERROR(MATCH(INDEX(Square2,A7,0),Square4,0),"") -> 1 | AS7: =IFERROR(MATCH(INDEX(Square3,A7,0),Square1,0),"") -> 8 | AT7: =IFERROR(MATCH(INDEX(Square3,A7,0),Square2,0),"") -> 2 | AU7: =IFERROR(MATCH(INDEX(Square3,A7,0),Square4,0),"") | AW7: =IFERROR(MATCH(INDEX(Square4,A7,0),Square1,0),"") | AX7: =IFERROR(MATCH(INDEX(Square4,A7,0),Square2,0),"") -> 1 | AY7: =IFERROR(MATCH(INDEX(Square4,A7,0),Square3,0),"") | BB7: =IFERROR(MATCH(INDEX(LinearFour1,A7,0),LinearFour2,0),"") -> 3 | BC7: =IFERROR(MATCH(INDEX(LinearFour1,A7,0),LinearFour3,0),"") | BD7: =IFERROR(MATCH(INDEX(LinearFour1,A7,0),LinearFour4,0),"") | BF7: =IFERROR(MATCH(INDEX(LinearFour2,A7,0),LinearFour1,0),"") | BG7: =IFERROR(MATCH(INDEX(LinearFour2,A7,0),LinearFour3,0),"") | BH7: =IFERROR(MATCH(INDEX(LinearFour2,A7,0),LinearFour4,0),"") | BJ7: =IFERROR(MATCH(INDEX(LinearFour3,A7,0),LinearFour1,0),"") | BK7: =IFERROR(MATCH(INDEX(LinearFour3,A7,0),LinearFour2,0),"") -> 2 | BL7: =IFERROR(MATCH(INDEX(LinearFour3,A7,0),LinearFour4,0),"") | BN7: =IFERROR(MATCH(INDEX(LinearFour4,A7,0),LinearFour1,0),"") | BO7: =IFERROR(MATCH(INDEX(LinearFour4,A7,0),LinearFour2,0),"") | BP7: =IFERROR(MATCH(INDEX(LinearFour4,A7,0),LinearFour3,0),"") | BS7: =IFERROR(MATCH(INDEX(Oval1,A7,0),Oval2,0),"") | BT7: =IFERROR(MATCH(INDEX(Oval1,A7,0),Oval3,0),"") -> 2 | BU7: =IFERROR(MATCH(INDEX(Oval1,A7,0),Oval4,0),"") | BW7: =IFERROR(MATCH(INDEX(Oval2,A7,0),Oval1,0),"") | BX7: =IFERROR(MATCH(INDEX(Oval2,A7,0),Oval3,0),"") | BY7: =IFERROR(MATCH(INDEX(Oval2,A7,0),Oval4,0),"") | CA7: =IFERROR(MATCH(INDEX(Oval3,A7,0),Oval1,0),"") | CB7: =IFERROR(MATCH(INDEX(Oval3,A7,0),Oval2,0),"") -> 2 | CC7: =IFERROR(MATCH(INDEX(Oval3,A7,0),Oval4,0),"") | CE7: =IFERROR(MATCH(INDEX(Oval4,A7,0),Oval1,0),"") | CF7: =IFERROR(MATCH(INDEX(Oval4,A7,0),Oval2,0),"") | CG7: =IFERROR(MATCH(INDEX(Oval4,A7,0),Oval3,0),"") -> 7 | CJ7: =IFERROR(MATCH(INDEX(StackedFour1,A7,0),StackedFour2,0),"") -> 1 | CK7: =IFERROR(MATCH(INDEX(StackedFour1,A7,0),StackedFour3,0),"") | CL7: =IFERROR(MATCH(INDEX(StackedFour1,A7,0),StackedFour4,0),"") | CN7: =IFERROR(MATCH(INDEX(StackedFour2,A7,0),StackedFour1,0),"") -> 1 | CO7: =IFERROR(MATCH(INDEX(StackedFour2,A7,0),StackedFour3,0),"") | CP7: =IFERROR(MATCH(INDEX(StackedFour2,A7,0),StackedFour4,0),"") | CR7: =IFERROR(MATCH(INDEX(StackedFour3,A7,0),StackedFour1,0),"") -> 2 | CS7: =IFERROR(MATCH(INDEX(StackedFour3,A7,0),StackedFour2,0),"") -> 2 | CT7: =IFERROR(MATCH(INDEX(StackedFour3,A7,0),StackedFour4,0),"") | CV7: =IFERROR(MATCH(INDEX(StackedFour4,A7,0),StackedFour1,0),"") -> 4 | CW7: =IFERROR(MATCH(INDEX(StackedFour4,A7,0),StackedFour2,0),"") -> 7 | CX7: =IFERROR(MATCH(INDEX(StackedFour4,A7,0),StackedFour3,0),"") -> 3
A8: 2 | B8: =IFERROR(IF(LEN(INDEX(TwoCircle1,A8,0))=0,"",IF(ISERROR(MATCH(INDEX(TwoCircle1,Calc!A8,0),TwoCircle2,0)),INDEX(TwoCircle1,Calc!A8,0),"")),"") -> Mongolia | C8: =IFERROR(IF(LEN(INDEX(TwoCircle2,A8,0))=0,"",IF(ISERROR(MATCH(INDEX(TwoCircle2,Calc!A8,0),TwoCircle1,0)),INDEX(TwoCircle2,Calc!A8,0),"")),"") -> Italy | D8: =IFERROR(IF(MATCH(INDEX(TwoCircle2,Calc!A8,0),TwoCircle1,0)>0,INDEX(TwoCircle2,Calc!A8,0)),"") | G8: =IFERROR(MATCH(INDEX(Triangular1,Calc!A8,0),Triangular2,0),"") | H8: =IFERROR(MATCH(INDEX(Triangular1,Calc!A8,0),Triangular3,0),"") | J8: =IFERROR(MATCH(INDEX(Triangular2,Calc!A8,0),Triangular1,0),"") | K8: =IFERROR(MATCH(INDEX(Triangular2,Calc!A8,0),Triangular3,0),"") | M8: =IFERROR(MATCH(INDEX(Triangular3,Calc!A8,0),Triangular1,0),"") | N8: =IFERROR(MATCH(INDEX(Triangular3,Calc!A8,0),Triangular2,0),"") | Q8: =IFERROR(MATCH(INDEX(LinearThree1,A8,0),LinearThree2,0),"") | R8: =IFERROR(MATCH(INDEX(LinearThree1,A8,0),LinearThree3,0),"") | T8: =IFERROR(MATCH(INDEX(LinearThree2,A8,0),LinearThree1,0),"") | U8: =IFERROR(MATCH(INDEX(LinearThree2,A8,0),LinearThree3,0),"") | W8: =IFERROR(MATCH(INDEX(LinearThree3,A8,0),LinearThree1,0),"") | X8: =IFERROR(MATCH(INDEX(LinearThree3,A8,0),LinearThree2,0),"") | AA8: =IFERROR(MATCH(INDEX(StackedThree1,A8,0),StackedThree2,0),"") -> 5 | AB8: =IFERROR(MATCH(INDEX(StackedThree1,A8,0),StackedThree3,0),"") -> 2 | AD8: =IFERROR(MATCH(INDEX(StackedThree2,A8,0),StackedThree1,0),"") -> 5 | AE8: =IFERROR(MATCH(INDEX(StackedThree2,A8,0),StackedThree3,0),"") -> 1 | AG8: =IFERROR(MATCH(INDEX(StackedThree3,A8,0),StackedThree1,0),"") -> 2 | AH8: =IFERROR(MATCH(INDEX(StackedThree3,A8,0),StackedThree2,0),"") -> 5 | AK8: =IFERROR(MATCH(INDEX(Square1,A8,0),Square2,0),"") -> 7 | AL8: =IFERROR(MATCH(INDEX(Square1,A8,0),Square3,0),"") | AM8: =IFERROR(MATCH(INDEX(Square1,A8,0),Square4,0),"") -> 7 | AO8: =IFERROR(MATCH(INDEX(Square2,A8,0),Square1,0),"") -> 8 | AP8: =IFERROR(MATCH(INDEX(Square2,A8,0),Square3,0),"") -> 1 | AQ8: =IFERROR(MATCH(INDEX(Square2,A8,0),Square4,0),"") | AS8: =IFERROR(MATCH(INDEX(Square3,A8,0),Square1,0),"") | AT8: =IFERROR(MATCH(INDEX(Square3,A8,0),Square2,0),"") -> 4 | AU8: =IFERROR(MATCH(INDEX(Square3,A8,0),Square4,0),"") | AW8: =IFERROR(MATCH(INDEX(Square4,A8,0),Square1,0),"") -> 4 | AX8: =IFERROR(MATCH(INDEX(Square4,A8,0),Square2,0),"") | AY8: =IFERROR(MATCH(INDEX(Square4,A8,0),Square3,0),"") -> 4 | BB8: =IFERROR(MATCH(INDEX(LinearFour1,A8,0),LinearFour2,0),"") -> 5 | BC8: =IFERROR(MATCH(INDEX(LinearFour1,A8,0),LinearFour3,0),"") | BD8: =IFERROR(MATCH(INDEX(LinearFour1,A8,0),LinearFour4,0),"") | BF8: =IFERROR(MATCH(INDEX(LinearFour2,A8,0),LinearFour1,0),"") | BG8: =IFERROR(MATCH(INDEX(LinearFour2,A8,0),LinearFour3,0),"") -> 1 | BH8: =IFERROR(MATCH(INDEX(LinearFour2,A8,0),LinearFour4,0),"") | BJ8: =IFERROR(MATCH(INDEX(LinearFour3,A8,0),LinearFour1,0),"") | BK8: =IFERROR(MATCH(INDEX(LinearFour3,A8,0),LinearFour2,0),"") | BL8: =IFERROR(MATCH(INDEX(LinearFour3,A8,0),LinearFour4,0),"") -> 2 | BN8: =IFERROR(MATCH(INDEX(LinearFour4,A8,0),LinearFour1,0),"") | BO8: =IFERROR(MATCH(INDEX(LinearFour4,A8,0),LinearFour2,0),"") | BP8: =IFERROR(MATCH(INDEX(LinearFour4,A8,0),LinearFour3,0),"") -> 2 | BS8: =IFERROR(MATCH(INDEX(Oval1,A8,0),Oval2,0),"") | BT8: =IFERROR(MATCH(INDEX(Oval1,A8,0),Oval3,0),"") | BU8: =IFERROR(MATCH(INDEX(Oval1,A8,0),Oval4,0),"") | BW8: =IFERROR(MATCH(INDEX(Oval2,A8,0),Oval1,0),"") | BX8: =IFERROR(MATCH(INDEX(Oval2,A8,0),Oval3,0),"") -> 1 | BY8: =IFERROR(MATCH(INDEX(Oval2,A8,0),Oval4,0),"") | CA8: =IFERROR(MATCH(INDEX(Oval3,A8,0),Oval1,0),"") -> 1 | CB8: =IFERROR(MATCH(INDEX(Oval3,A8,0),Oval2,0),"") | CC8: =IFERROR(MATCH(INDEX(Oval3,A8,0),Oval4,0),"") | CE8: =IFERROR(MATCH(INDEX(Oval4,A8,0),Oval1,0),"") | CF8: =IFERROR(MATCH(INDEX(Oval4,A8,0),Oval2,0),"") | CG8: =IFERROR(MATCH(INDEX(Oval4,A8,0),Oval3,0),"") | CJ8: =IFERROR(MATCH(INDEX(StackedFour1,A8,0),StackedFour2,0),"") -> 2 | CK8: =IFERROR(MATCH(INDEX(StackedFour1,A8,0),StackedFour3,0),"") -> 1 | CL8: =IFERROR(MATCH(INDEX(StackedFour1,A8,0),StackedFour4,0),"") | CN8: =IFERROR(MATCH(INDEX(StackedFour2,A8,0),StackedFour1,0),"") -> 2 | CO8: =IFERROR(MATCH(INDEX(StackedFour2,A8,0),StackedFour3,0),"") -> 1 | CP8: =IFERROR(MATCH(INDEX(StackedFour2,A8,0),StackedFour4,0),"") | CR8: =IFERROR(MATCH(INDEX(StackedFour3,A8,0),StackedFour1,0),"") -> 7 | CS8: =IFERROR(MATCH(INDEX(StackedFour3,A8,0),StackedFour2,0),"") -> 3 | CT8: =IFERROR(MATCH(INDEX(StackedFour3,A8,0),StackedFour4,0),"") | CV8: =IFERROR(MATCH(INDEX(StackedFour4,A8,0),StackedFour1,0),"") -> 6 | CW8: =IFERROR(MATCH(INDEX(StackedFour4,A8,0),StackedFour2,0),"") -> 8 | CX8: =IFERROR(MATCH(INDEX(StackedFour4,A8,0),StackedFour3,0),"")
A9: 3 | B9: =IFERROR(IF(LEN(INDEX(TwoCircle1,A9,0))=0,"",IF(ISERROR(MATCH(INDEX(TwoCircle1,Calc!A9,0),TwoCircle2,0)),INDEX(TwoCircle1,Calc!A9,0),"")),"") -> Afghanistan | C9: =IFERROR(IF(LEN(INDEX(TwoCircle2,A9,0))=0,"",IF(ISERROR(MATCH(INDEX(TwoCircle2,Calc!A9,0),TwoCircle1,0)),INDEX(TwoCircle2,Calc!A9,0),"")),"") | D9: =IFERROR(IF(MATCH(INDEX(TwoCircle2,Calc!A9,0),TwoCircle1,0)>0,INDEX(TwoCircle2,Calc!A9,0)),"") -> Russia | G9: =IFERROR(MATCH(INDEX(Triangular1,Calc!A9,0),Triangular2,0),"") -> 6 | H9: =IFERROR(MATCH(INDEX(Triangular1,Calc!A9,0),Triangular3,0),"") | J9: =IFERROR(MATCH(INDEX(Triangular2,Calc!A9,0),Triangular1,0),"") | K9: =IFERROR(MATCH(INDEX(Triangular2,Calc!A9,0),Triangular3,0),"") -> 5 | M9: =IFERROR(MATCH(INDEX(Triangular3,Calc!A9,0),Triangular1,0),"") -> 6 | N9: =IFERROR(MATCH(INDEX(Triangular3,Calc!A9,0),Triangular2,0),"") | Q9: =IFERROR(MATCH(INDEX(LinearThree1,A9,0),LinearThree2,0),"") | R9: =IFERROR(MATCH(INDEX(LinearThree1,A9,0),LinearThree3,0),"") | T9: =IFERROR(MATCH(INDEX(LinearThree2,A9,0),LinearThree1,0),"") | U9: =IFERROR(MATCH(INDEX(LinearThree2,A9,0),LinearThree3,0),"") | W9: =IFERROR(MATCH(INDEX(LinearThree3,A9,0),LinearThree1,0),"") -> 7 | X9: =IFERROR(MATCH(INDEX(LinearThree3,A9,0),LinearThree2,0),"") | AA9: =IFERROR(MATCH(INDEX(StackedThree1,A9,0),StackedThree2,0),"") | AB9: =IFERROR(MATCH(INDEX(StackedThree1,A9,0),StackedThree3,0),"") | AD9: =IFERROR(MATCH(INDEX(StackedThree2,A9,0),StackedThree1,0),"") -> 6 | AE9: =IFERROR(MATCH(INDEX(StackedThree2,A9,0),StackedThree3,0),"") | AG9: =IFERROR(MATCH(INDEX(StackedThree3,A9,0),StackedThree1,0),"") | AH9: =IFERROR(MATCH(INDEX(StackedThree3,A9,0),StackedThree2,0),"") -> 7 | AK9: =IFERROR(MATCH(INDEX(Square1,A9,0),Square2,0),"") -> 6 | AL9: =IFERROR(MATCH(INDEX(Square1,A9,0),Square3,0),"") -> 6 | AM9: =IFERROR(MATCH(INDEX(Square1,A9,0),Square4,0),"") -> 6 | AO9: =IFERROR(MATCH(INDEX(Square2,A9,0),Square1,0),"") -> 5 | AP9: =IFERROR(MATCH(INDEX(Square2,A9,0),Square3,0),"") | AQ9: =IFERROR(MATCH(INDEX(Square2,A9,0),Square4,0),"") | AS9: =IFERROR(MATCH(INDEX(Square3,A9,0),Square1,0),"") | AT9: =IFERROR(MATCH(INDEX(Square3,A9,0),Square2,0),"") | AU9: =IFERROR(MATCH(INDEX(Square3,A9,0),Square4,0),"") -> 3 | AW9: =IFERROR(MATCH(INDEX(Square4,A9,0),Square1,0),"") | AX9: =IFERROR(MATCH(INDEX(Square4,A9,0),Square2,0),"") | AY9: =IFERROR(MATCH(INDEX(Square4,A9,0),Square3,0),"") -> 3 | BB9: =IFERROR(MATCH(INDEX(LinearFour1,A9,0),LinearFour2,0),"") -> 8 | BC9: =IFERROR(MATCH(INDEX(LinearFour1,A9,0),LinearFour3,0),"") -> 8 | BD9: =IFERROR(MATCH(INDEX(LinearFour1,A9,0),LinearFour4,0),"") | BF9: =IFERROR(MATCH(INDEX(LinearFour2,A9,0),LinearFour1,0),"") -> 1 | BG9: =IFERROR(MATCH(INDEX(LinearFour2,A9,0),LinearFour3,0),"") | BH9: =IFERROR(MATCH(INDEX(LinearFour2,A9,0),LinearFour4,0),"") | BJ9: =IFERROR(MATCH(INDEX(LinearFour3,A9,0),LinearFour1,0),"") | BK9: =IFERROR(MATCH(INDEX(LinearFour3,A9,0),LinearFour2,0),"") | BL9: =IFERROR(MATCH(INDEX(LinearFour3,A9,0),LinearFour4,0),"") | BN9: =IFERROR(MATCH(INDEX(LinearFour4,A9,0),LinearFour1,0),"") | BO9: =IFERROR(MATCH(INDEX(LinearFour4,A9,0),LinearFour2,0),"") | BP9: =IFERROR(MATCH(INDEX(LinearFour4,A9,0),LinearFour3,0),"") | BS9: =IFERROR(MATCH(INDEX(Oval1,A9,0),Oval2,0),"") | BT9: =IFERROR(MATCH(INDEX(Oval1,A9,0),Oval3,0),"") | BU9: =IFERROR(MATCH(INDEX(Oval1,A9,0),Oval4,0),"") -> 5 | BW9: =IFERROR(MATCH(INDEX(Oval2,A9,0),Oval1,0),"") -> 9 | BX9: =IFERROR(MATCH(INDEX(Oval2,A9,0),Oval3,0),"") -> 6 | BY9: =IFERROR(MATCH(INDEX(Oval2,A9,0),Oval4,0),"") -> 8 | CA9: =IFERROR(MATCH(INDEX(Oval3,A9,0),Oval1,0),"") | CB9: =IFERROR(MATCH(INDEX(Oval3,A9,0),Oval2,0),"") -> 7 | CC9: =IFERROR(MATCH(INDEX(Oval3,A9,0),Oval4,0),"") -> 3 | CE9: =IFERROR(MATCH(INDEX(Oval4,A9,0),Oval1,0),"") | CF9: =IFERROR(MATCH(INDEX(Oval4,A9,0),Oval2,0),"") -> 7 | CG9: =IFERROR(MATCH(INDEX(Oval4,A9,0),Oval3,0),"") -> 3 | CJ9: =IFERROR(MATCH(INDEX(StackedFour1,A9,0),StackedFour2,0),"") -> 6 | CK9: =IFERROR(MATCH(INDEX(StackedFour1,A9,0),StackedFour3,0),"") | CL9: =IFERROR(MATCH(INDEX(StackedFour1,A9,0),StackedFour4,0),"") | CN9: =IFERROR(MATCH(INDEX(StackedFour2,A9,0),StackedFour1,0),"") -> 7 | CO9: =IFERROR(MATCH(INDEX(StackedFour2,A9,0),StackedFour3,0),"") -> 2 | CP9: =IFERROR(MATCH(INDEX(StackedFour2,A9,0),StackedFour4,0),"") | CR9: =IFERROR(MATCH(INDEX(StackedFour3,A9,0),StackedFour1,0),"") -> 4 | CS9: =IFERROR(MATCH(INDEX(StackedFour3,A9,0),StackedFour2,0),"") -> 7 | CT9: =IFERROR(MATCH(INDEX(StackedFour3,A9,0),StackedFour4,0),"") -> 1 | CV9: =IFERROR(MATCH(INDEX(StackedFour4,A9,0),StackedFour1,0),"") | CW9: =IFERROR(MATCH(INDEX(StackedFour4,A9,0),StackedFour2,0),"") | CX9: =IFERROR(MATCH(INDEX(StackedFour4,A9,0),StackedFour3,0),"")
A10: 4 | B10: =IFERROR(IF(LEN(INDEX(TwoCircle1,A10,0))=0,"",IF(ISERROR(MATCH(INDEX(TwoCircle1,Calc!A10,0),TwoCircle2,0)),INDEX(TwoCircle1,Calc!A10,0),"")),"") -> Iran | C10: =IFERROR(IF(LEN(INDEX(TwoCircle2,A10,0))=0,"",IF(ISERROR(MATCH(INDEX(TwoCircle2,Calc!A10,0),TwoCircle1,0)),INDEX(TwoCircle2,Calc!A10,0),"")),"") -> England | D10: =IFERROR(IF(MATCH(INDEX(TwoCircle2,Calc!A10,0),TwoCircle1,0)>0,INDEX(TwoCircle2,Calc!A10,0)),"") | G10: =IFERROR(MATCH(INDEX(Triangular1,Calc!A10,0),Triangular2,0),"") | H10: =IFERROR(MATCH(INDEX(Triangular1,Calc!A10,0),Triangular3,0),"") | J10: =IFERROR(MATCH(INDEX(Triangular2,Calc!A10,0),Triangular1,0),"") | K10: =IFERROR(MATCH(INDEX(Triangular2,Calc!A10,0),Triangular3,0),"") | M10: =IFERROR(MATCH(INDEX(Triangular3,Calc!A10,0),Triangular1,0),"") -> 7 | N10: =IFERROR(MATCH(INDEX(Triangular3,Calc!A10,0),Triangular2,0),"") -> 7 | Q10: =IFERROR(MATCH(INDEX(LinearThree1,A10,0),LinearThree2,0),"") | R10: =IFERROR(MATCH(INDEX(LinearThree1,A10,0),LinearThree3,0),"") | T10: =IFERROR(MATCH(INDEX(LinearThree2,A10,0),LinearThree1,0),"") | U10: =IFERROR(MATCH(INDEX(LinearThree2,A10,0),LinearThree3,0),"") | W10: =IFERROR(MATCH(INDEX(LinearThree3,A10,0),LinearThree1,0),"") | X10: =IFERROR(MATCH(INDEX(LinearThree3,A10,0),LinearThree2,0),"") | AA10: =IFERROR(MATCH(INDEX(StackedThree1,A10,0),StackedThree2,0),"") -> 1 | AB10: =IFERROR(MATCH(INDEX(StackedThree1,A10,0),StackedThree3,0),"") | AD10: =IFERROR(MATCH(INDEX(StackedThree2,A10,0),StackedThree1,0),"") | AE10: =IFERROR(MATCH(INDEX(StackedThree2,A10,0),StackedThree3,0),"") | AG10: =IFERROR(MATCH(INDEX(StackedThree3,A10,0),StackedThree1,0),"") | AH10: =IFERROR(MATCH(INDEX(StackedThree3,A10,0),StackedThree2,0),"") | AK10: =IFERROR(MATCH(INDEX(Square1,A10,0),Square2,0),"") | AL10: =IFERROR(MATCH(INDEX(Square1,A10,0),Square3,0),"") -> 4 | AM10: =IFERROR(MATCH(INDEX(Square1,A10,0),Square4,0),"") -> 2 | AO10: =IFERROR(MATCH(INDEX(Square2,A10,0),Square1,0),"") | AP10: =IFERROR(MATCH(INDEX(Square2,A10,0),Square3,0),"") -> 2 | AQ10: =IFERROR(MATCH(INDEX(Square2,A10,0),Square4,0),"") | AS10: =IFERROR(MATCH(INDEX(Square3,A10,0),Square1,0),"") -> 4 | AT10: =IFERROR(MATCH(INDEX(Square3,A10,0),Square2,0),"") | AU10: =IFERROR(MATCH(INDEX(Square3,A10,0),Square4,0),"") -> 2 | AW10: =IFERROR(MATCH(INDEX(Square4,A10,0),Square1,0),"") | AX10: =IFERROR(MATCH(INDEX(Square4,A10,0),Square2,0),"") | AY10: =IFERROR(MATCH(INDEX(Square4,A10,0),Square3,0),"") | BB10: =IFERROR(MATCH(INDEX(LinearFour1,A10,0),LinearFour2,0),"") | BC10: =IFERROR(MATCH(INDEX(LinearFour1,A10,0),LinearFour3,0),"") | BD10: =IFERROR(MATCH(INDEX(LinearFour1,A10,0),LinearFour4,0),"") | BF10: =IFERROR(MATCH(INDEX(LinearFour2,A10,0),LinearFour1,0),"") | BG10: =IFERROR(MATCH(INDEX(LinearFour2,A10,0),LinearFour3,0),"") -> 4 | BH10: =IFERROR(MATCH(INDEX(LinearFour2,A10,0),LinearFour4,0),"") | BJ10: =IFERROR(MATCH(INDEX(LinearFour3,A10,0),LinearFour1,0),"") | BK10: =IFERROR(MATCH(INDEX(LinearFour3,A10,0),LinearFour2,0),"") -> 4 | BL10: =IFERROR(MATCH(INDEX(LinearFour3,A10,0),LinearFour4,0),"") | BN10: =IFERROR(MATCH(INDEX(LinearFour4,A10,0),LinearFour1,0),"") | BO10: =IFERROR(MATCH(INDEX(LinearFour4,A10,0),LinearFour2,0),"") | BP10: =IFERROR(MATCH(INDEX(LinearFour4,A10,0),LinearFour3,0),"") | BS10: =IFERROR(MATCH(INDEX(Oval1,A10,0),Oval2,0),"") -> 4 | BT10: =IFERROR(MATCH(INDEX(Oval1,A10,0),Oval3,0),"") -> 4 | BU10: =IFERROR(MATCH(INDEX(Oval1,A10,0),Oval4,0),"") | BW10: =IFERROR(MATCH(INDEX(Oval2,A10,0),Oval1,0),"") -> 4 | BX10: =IFERROR(MATCH(INDEX(Oval2,A10,0),Oval3,0),"") -> 4 | BY10: =IFERROR(MATCH(INDEX(Oval2,A10,0),Oval4,0),"") | CA10: =IFERROR(MATCH(INDEX(Oval3,A10,0),Oval1,0),"") -> 4 | CB10: =IFERROR(MATCH(INDEX(Oval3,A10,0),Oval2,0),"") -> 4 | CC10: =IFERROR(MATCH(INDEX(Oval3,A10,0),Oval4,0),"") | CE10: =IFERROR(MATCH(INDEX(Oval4,A10,0),Oval1,0),"") -> 5 | CF10: =IFERROR(MATCH(INDEX(Oval4,A10,0),Oval2,0),"") -> 5 | CG10: =IFERROR(MATCH(INDEX(Oval4,A10,0),Oval3,0),"") | CJ10: =IFERROR(MATCH(INDEX(StackedFour1,A10,0),StackedFour2,0),"") -> 7 | CK10: =IFERROR(MATCH(INDEX(StackedFour1,A10,0),StackedFour3,0),"") -> 3 | CL10: =IFERROR(MATCH(INDEX(StackedFour1,A10,0),StackedFour4,0),"") -> 1 | CN10: =IFERROR(MATCH(INDEX(StackedFour2,A10,0),StackedFour1,0),"") -> 5 | CO10: =IFERROR(MATCH(INDEX(StackedFour2,A10,0),StackedFour3,0),"") | CP10: =IFERROR(MATCH(INDEX(StackedFour2,A10,0),StackedFour4,0),"") | CR10: =IFERROR(MATCH(INDEX(StackedFour3,A10,0),StackedFour1,0),"") | CS10: =IFERROR(MATCH(INDEX(StackedFour3,A10,0),StackedFour2,0),"") | CT10: =IFERROR(MATCH(INDEX(StackedFour3,A10,0),StackedFour4,0),"") | CV10: =IFERROR(MATCH(INDEX(StackedFour4,A10,0),StackedFour1,0),"") | CW10: =IFERROR(MATCH(INDEX(StackedFour4,A10,0),StackedFour2,0),"") | CX10: =IFERROR(MATCH(INDEX(StackedFour4,A10,0),StackedFour3,0),"")
A11: 5 | B11: =IFERROR(IF(LEN(INDEX(TwoCircle1,A11,0))=0,"",IF(ISERROR(MATCH(INDEX(TwoCircle1,Calc!A11,0),TwoCircle2,0)),INDEX(TwoCircle1,Calc!A11,0),"")),"") -> North Korea | C11: =IFERROR(IF(LEN(INDEX(TwoCircle2,A11,0))=0,"",IF(ISERROR(MATCH(INDEX(TwoCircle2,Calc!A11,0),TwoCircle1,0)),INDEX(TwoCircle2,Calc!A11,0),"")),"") -> Spain | D11: =IFERROR(IF(MATCH(INDEX(TwoCircle2,Calc!A11,0),TwoCircle1,0)>0,INDEX(TwoCircle2,Calc!A11,0)),"") | G11: =IFERROR(MATCH(INDEX(Triangular1,Calc!A11,0),Triangular2,0),"") -> 5 | H11: =IFERROR(MATCH(INDEX(Triangular1,Calc!A11,0),Triangular3,0),"") -> 1 | J11: =IFERROR(MATCH(INDEX(Triangular2,Calc!A11,0),Triangular1,0),"") -> 5 | K11: =IFERROR(MATCH(INDEX(Triangular2,Calc!A11,0),Triangular3,0),"") -> 1 | M11: =IFERROR(MATCH(INDEX(Triangular3,Calc!A11,0),Triangular1,0),"") | N11: =IFERROR(MATCH(INDEX(Triangular3,Calc!A11,0),Triangular2,0),"") -> 3 | Q11: =IFERROR(MATCH(INDEX(LinearThree1,A11,0),LinearThree2,0),"") -> 5 | R11: =IFERROR(MATCH(INDEX(LinearThree1,A11,0),LinearThree3,0),"") -> 1 | T11: =IFERROR(MATCH(INDEX(LinearThree2,A11,0),LinearThree1,0),"") -> 5 | U11: =IFERROR(MATCH(INDEX(LinearThree2,A11,0),LinearThree3,0),"") -> 1 | W11: =IFERROR(MATCH(INDEX(LinearThree3,A11,0),LinearThree1,0),"") | X11: =IFERROR(MATCH(INDEX(LinearThree3,A11,0),LinearThree2,0),"") | AA11: =IFERROR(MATCH(INDEX(StackedThree1,A11,0),StackedThree2,0),"") -> 2 | AB11: =IFERROR(MATCH(INDEX(StackedThree1,A11,0),StackedThree3,0),"") -> 1 | AD11: =IFERROR(MATCH(INDEX(StackedThree2,A11,0),StackedThree1,0),"") -> 2 | AE11: =IFERROR(MATCH(INDEX(StackedThree2,A11,0),StackedThree3,0),"") -> 2 | AG11: =IFERROR(MATCH(INDEX(StackedThree3,A11,0),StackedThree1,0),"") | AH11: =IFERROR(MATCH(INDEX(StackedThree3,A11,0),StackedThree2,0),"") | AK11: =IFERROR(MATCH(INDEX(Square1,A11,0),Square2,0),"") -> 3 | AL11: =IFERROR(MATCH(INDEX(Square1,A11,0),Square3,0),"") | AM11: =IFERROR(MATCH(INDEX(Square1,A11,0),Square4,0),"") | AO11: =IFERROR(MATCH(INDEX(Square2,A11,0),Square1,0),"") | AP11: =IFERROR(MATCH(INDEX(Square2,A11,0),Square3,0),"") -> 8 | AQ11: =IFERROR(MATCH(INDEX(Square2,A11,0),Square4,0),"") -> 8 | AS11: =IFERROR(MATCH(INDEX(Square3,A11,0),Square1,0),"") | AT11: =IFERROR(MATCH(INDEX(Square3,A11,0),Square2,0),"") | AU11: =IFERROR(MATCH(INDEX(Square3,A11,0),Square4,0),"") | AW11: =IFERROR(MATCH(INDEX(Square4,A11,0),Square1,0),"") -> 6 | AX11: =IFERROR(MATCH(INDEX(Square4,A11,0),Square2,0),"") | AY11: =IFERROR(MATCH(INDEX(Square4,A11,0),Square3,0),"") | BB11: =IFERROR(MATCH(INDEX(LinearFour1,A11,0),LinearFour2,0),"") -> 7 | BC11: =IFERROR(MATCH(INDEX(LinearFour1,A11,0),LinearFour3,0),"") -> 7 | BD11: =IFERROR(MATCH(INDEX(LinearFour1,A11,0),LinearFour4,0),"") -> 5 | BF11: =IFERROR(MATCH(INDEX(LinearFour2,A11,0),LinearFour1,0),"") -> 2 | BG11: =IFERROR(MATCH(INDEX(LinearFour2,A11,0),LinearFour3,0),"") | BH11: =IFERROR(MATCH(INDEX(LinearFour2,A11,0),LinearFour4,0),"") | BJ11: =IFERROR(MATCH(INDEX(LinearFour3,A11,0),LinearFour1,0),"") | BK11: =IFERROR(MATCH(INDEX(LinearFour3,A11,0),LinearFour2,0),"") | BL11: =IFERROR(MATCH(INDEX(LinearFour3,A11,0),LinearFour4,0),"") | BN11: =IFERROR(MATCH(INDEX(LinearFour4,A11,0),LinearFour1,0),"") -> 5 | BO11: =IFERROR(MATCH(INDEX(LinearFour4,A11,0),LinearFour2,0),"") -> 7 | BP11: =IFERROR(MATCH(INDEX(LinearFour4,A11,0),LinearFour3,0),"") -> 7 | BS11: =IFERROR(MATCH(INDEX(Oval1,A11,0),Oval2,0),"") -> 5 | BT11: =IFERROR(MATCH(INDEX(Oval1,A11,0),Oval3,0),"") | BU11: =IFERROR(MATCH(INDEX(Oval1,A11,0),Oval4,0),"") -> 4 | BW11: =IFERROR(MATCH(INDEX(Oval2,A11,0),Oval1,0),"") -> 5 | BX11: =IFERROR(MATCH(INDEX(Oval2,A11,0),Oval3,0),"") | BY11: =IFERROR(MATCH(INDEX(Oval2,A11,0),Oval4,0),"") -> 4 | CA11: =IFERROR(MATCH(INDEX(Oval3,A11,0),Oval1,0),"") -> 8 | CB11: =IFERROR(MATCH(INDEX(Oval3,A11,0),Oval2,0),"") | CC11: =IFERROR(MATCH(INDEX(Oval3,A11,0),Oval4,0),"") -> 6 | CE11: =IFERROR(MATCH(INDEX(Oval4,A11,0),Oval1,0),"") -> 3 | CF11: =IFERROR(MATCH(INDEX(Oval4,A11,0),Oval2,0),"") | CG11: =IFERROR(MATCH(INDEX(Oval4,A11,0),Oval3,0),"") | CJ11: =IFERROR(MATCH(INDEX(StackedFour1,A11,0),StackedFour2,0),"") -> 4 | CK11: =IFERROR(MATCH(INDEX(StackedFour1,A11,0),StackedFour3,0),"") | CL11: =IFERROR(MATCH(INDEX(StackedFour1,A11,0),StackedFour4,0),"") | CN11: =IFERROR(MATCH(INDEX(StackedFour2,A11,0),StackedFour1,0),"") | CO11: =IFERROR(MATCH(INDEX(StackedFour2,A11,0),StackedFour3,0),"") | CP11: =IFERROR(MATCH(INDEX(StackedFour2,A11,0),StackedFour4,0),"") | CR11: =IFERROR(MATCH(INDEX(StackedFour3,A11,0),StackedFour1,0),"") | CS11: =IFERROR(MATCH(INDEX(StackedFour3,A11,0),StackedFour2,0),"") | CT11: =IFERROR(MATCH(INDEX(StackedFour3,A11,0),StackedFour4,0),"") | CV11: =IFERROR(MATCH(INDEX(StackedFour4,A11,0),StackedFour1,0),"") | CW11: =IFERROR(MATCH(INDEX(StackedFour4,A11,0),StackedFour2,0),"") | CX11: =IFERROR(MATCH(INDEX(StackedFour4,A11,0),StackedFour3,0),"")
A12: 6 | B12: =IFERROR(IF(LEN(INDEX(TwoCircle1,A12,0))=0,"",IF(ISERROR(MATCH(INDEX(TwoCircle1,Calc!A12,0),TwoCircle2,0)),INDEX(TwoCircle1,Calc!A12,0),"")),"") -> Indonesia | C12: =IFERROR(IF(LEN(INDEX(TwoCircle2,A12,0))=0,"",IF(ISERROR(MATCH(INDEX(TwoCircle2,Calc!A12,0),TwoCircle1,0)),INDEX(TwoCircle2,Calc!A12,0),"")),"") -> Germany | D12: =IFERROR(IF(MATCH(INDEX(TwoCircle2,Calc!A12,0),TwoCircle1,0)>0,INDEX(TwoCircle2,Calc!A12,0)),"") | G12: =IFERROR(MATCH(INDEX(Triangular1,Calc!A12,0),Triangular2,0),"") | H12: =IFERROR(MATCH(INDEX(Triangular1,Calc!A12,0),Triangular3,0),"") -> 3 | J12: =IFERROR(MATCH(INDEX(Triangular2,Calc!A12,0),Triangular1,0),"") -> 3 | K12: =IFERROR(MATCH(INDEX(Triangular2,Calc!A12,0),Triangular3,0),"") | M12: =IFERROR(MATCH(INDEX(Triangular3,Calc!A12,0),Triangular1,0),"") | N12: =IFERROR(MATCH(INDEX(Triangular3,Calc!A12,0),Triangular2,0),"") | Q12: =IFERROR(MATCH(INDEX(LinearThree1,A12,0),LinearThree2,0),"") -> 6 | R12: =IFERROR(MATCH(INDEX(LinearThree1,A12,0),LinearThree3,0),"") -> 6 | T12: =IFERROR(MATCH(INDEX(LinearThree2,A12,0),LinearThree1,0),"") -> 6 | U12: =IFERROR(MATCH(INDEX(LinearThree2,A12,0),LinearThree3,0),"") -> 6 | W12: =IFERROR(MATCH(INDEX(LinearThree3,A12,0),LinearThree1,0),"") -> 6 | X12: =IFERROR(MATCH(INDEX(LinearThree3,A12,0),LinearThree2,0),"") -> 6 | AA12: =IFERROR(MATCH(INDEX(StackedThree1,A12,0),StackedThree2,0),"") -> 3 | AB12: =IFERROR(MATCH(INDEX(StackedThree1,A12,0),StackedThree3,0),"") | AD12: =IFERROR(MATCH(INDEX(StackedThree2,A12,0),StackedThree1,0),"") -> 8 | AE12: =IFERROR(MATCH(INDEX(StackedThree2,A12,0),StackedThree3,0),"") | AG12: =IFERROR(MATCH(INDEX(StackedThree3,A12,0),StackedThree1,0),"") | AH12: =IFERROR(MATCH(INDEX(StackedThree3,A12,0),StackedThree2,0),"") | AK12: =IFERROR(MATCH(INDEX(Square1,A12,0),Square2,0),"") | AL12: =IFERROR(MATCH(INDEX(Square1,A12,0),Square3,0),"") | AM12: =IFERROR(MATCH(INDEX(Square1,A12,0),Square4,0),"") -> 5 | AO12: =IFERROR(MATCH(INDEX(Square2,A12,0),Square1,0),"") -> 3 | AP12: =IFERROR(MATCH(INDEX(Square2,A12,0),Square3,0),"") -> 6 | AQ12: =IFERROR(MATCH(INDEX(Square2,A12,0),Square4,0),"") -> 6 | AS12: =IFERROR(MATCH(INDEX(Square3,A12,0),Square1,0),"") -> 3 | AT12: =IFERROR(MATCH(INDEX(Square3,A12,0),Square2,0),"") -> 6 | AU12: =IFERROR(MATCH(INDEX(Square3,A12,0),Square4,0),"") -> 6 | AW12: =IFERROR(MATCH(INDEX(Square4,A12,0),Square1,0),"") -> 3 | AX12: =IFERROR(MATCH(INDEX(Square4,A12,0),Square2,0),"") -> 6 | AY12: =IFERROR(MATCH(INDEX(Square4,A12,0),Square3,0),"") -> 6 | BB12: =IFERROR(MATCH(INDEX(LinearFour1,A12,0),LinearFour2,0),"") | BC12: =IFERROR(MATCH(INDEX(LinearFour1,A12,0),LinearFour3,0),"") | BD12: =IFERROR(MATCH(INDEX(LinearFour1,A12,0),LinearFour4,0),"") | BF12: =IFERROR(MATCH(INDEX(LinearFour2,A12,0),LinearFour1,0),"") | BG12: =IFERROR(MATCH(INDEX(LinearFour2,A12,0),LinearFour3,0),"") | BH12: =IFERROR(MATCH(INDEX(LinearFour2,A12,0),LinearFour4,0),"") | BJ12: =IFERROR(MATCH(INDEX(LinearFour3,A12,0),LinearFour1,0),"") | BK12: =IFERROR(MATCH(INDEX(LinearFour3,A12,0),LinearFour2,0),"") | BL12: =IFERROR(MATCH(INDEX(LinearFour3,A12,0),LinearFour4,0),"") | BN12: =IFERROR(MATCH(INDEX(LinearFour4,A12,0),LinearFour1,0),"") | BO12: =IFERROR(MATCH(INDEX(LinearFour4,A12,0),LinearFour2,0),"") | BP12: =IFERROR(MATCH(INDEX(LinearFour4,A12,0),LinearFour3,0),"") | BS12: =IFERROR(MATCH(INDEX(Oval1,A12,0),Oval2,0),"") -> 6 | BT12: =IFERROR(MATCH(INDEX(Oval1,A12,0),Oval3,0),"") | BU12: =IFERROR(MATCH(INDEX(Oval1,A12,0),Oval4,0),"") | BW12: =IFERROR(MATCH(INDEX(Oval2,A12,0),Oval1,0),"") -> 6 | BX12: =IFERROR(MATCH(INDEX(Oval2,A12,0),Oval3,0),"") | BY12: =IFERROR(MATCH(INDEX(Oval2,A12,0),Oval4,0),"") | CA12: =IFERROR(MATCH(INDEX(Oval3,A12,0),Oval1,0),"") -> 9 | CB12: =IFERROR(MATCH(INDEX(Oval3,A12,0),Oval2,0),"") -> 3 | CC12: =IFERROR(MATCH(INDEX(Oval3,A12,0),Oval4,0),"") -> 8 | CE12: =IFERROR(MATCH(INDEX(Oval4,A12,0),Oval1,0),"") -> 8 | CF12: =IFERROR(MATCH(INDEX(Oval4,A12,0),Oval2,0),"") | CG12: =IFERROR(MATCH(INDEX(Oval4,A12,0),Oval3,0),"") -> 5 | CJ12: =IFERROR(MATCH(INDEX(StackedFour1,A12,0),StackedFour2,0),"") -> 8 | CK12: =IFERROR(MATCH(INDEX(StackedFour1,A12,0),StackedFour3,0),"") | CL12: =IFERROR(MATCH(INDEX(StackedFour1,A12,0),StackedFour4,0),"") -> 2 | CN12: =IFERROR(MATCH(INDEX(StackedFour2,A12,0),StackedFour1,0),"") -> 3 | CO12: =IFERROR(MATCH(INDEX(StackedFour2,A12,0),StackedFour3,0),"") | CP12: =IFERROR(MATCH(INDEX(StackedFour2,A12,0),StackedFour4,0),"") | CR12: =IFERROR(MATCH(INDEX(StackedFour3,A12,0),StackedFour1,0),"") | CS12: =IFERROR(MATCH(INDEX(StackedFour3,A12,0),StackedFour2,0),"") | CT12: =IFERROR(MATCH(INDEX(StackedFour3,A12,0),StackedFour4,0),"") | CV12: =IFERROR(MATCH(INDEX(StackedFour4,A12,0),StackedFour1,0),"") | CW12: =IFERROR(MATCH(INDEX(StackedFour4,A12,0),StackedFour2,0),"") | CX12: =IFERROR(MATCH(INDEX(StackedFour4,A12,0),StackedFour3,0),"")
A13: 7 | B13: =IFERROR(IF(LEN(INDEX(TwoCircle1,A13,0))=0,"",IF(ISERROR(MATCH(INDEX(TwoCircle1,Calc!A13,0),TwoCircle2,0)),INDEX(TwoCircle1,Calc!A13,0),"")),"") -> China | C13: =IFERROR(IF(LEN(INDEX(TwoCircle2,A13,0))=0,"",IF(ISERROR(MATCH(INDEX(TwoCircle2,Calc!A13,0),TwoCircle1,0)),INDEX(TwoCircle2,Calc!A13,0),"")),"") -> Portugal | D13: =IFERROR(IF(MATCH(INDEX(TwoCircle2,Calc!A13,0),TwoCircle1,0)>0,INDEX(TwoCircle2,Calc!A13,0)),"") | G13: =IFERROR(MATCH(INDEX(Triangular1,Calc!A13,0),Triangular2,0),"") -> 7 | H13: =IFERROR(MATCH(INDEX(Triangular1,Calc!A13,0),Triangular3,0),"") -> 4 | J13: =IFERROR(MATCH(INDEX(Triangular2,Calc!A13,0),Triangular1,0),"") -> 7 | K13: =IFERROR(MATCH(INDEX(Triangular2,Calc!A13,0),Triangular3,0),"") -> 4 | M13: =IFERROR(MATCH(INDEX(Triangular3,Calc!A13,0),Triangular1,0),"") | N13: =IFERROR(MATCH(INDEX(Triangular3,Calc!A13,0),Triangular2,0),"") | Q13: =IFERROR(MATCH(INDEX(LinearThree1,A13,0),LinearThree2,0),"") | R13: =IFERROR(MATCH(INDEX(LinearThree1,A13,0),LinearThree3,0),"") -> 3 | T13: =IFERROR(MATCH(INDEX(LinearThree2,A13,0),LinearThree1,0),"") | U13: =IFERROR(MATCH(INDEX(LinearThree2,A13,0),LinearThree3,0),"") -> 7 | W13: =IFERROR(MATCH(INDEX(LinearThree3,A13,0),LinearThree1,0),"") | X13: =IFERROR(MATCH(INDEX(LinearThree3,A13,0),LinearThree2,0),"") -> 7 | AA13: =IFERROR(MATCH(INDEX(StackedThree1,A13,0),StackedThree2,0),"") | AB13: =IFERROR(MATCH(INDEX(StackedThree1,A13,0),StackedThree3,0),"") | AD13: =IFERROR(MATCH(INDEX(StackedThree2,A13,0),StackedThree1,0),"") | AE13: =IFERROR(MATCH(INDEX(StackedThree2,A13,0),StackedThree3,0),"") -> 3 | AG13: =IFERROR(MATCH(INDEX(StackedThree3,A13,0),StackedThree1,0),"") | AH13: =IFERROR(MATCH(INDEX(StackedThree3,A13,0),StackedThree2,0),"") | AK13: =IFERROR(MATCH(INDEX(Square1,A13,0),Square2,0),"") | AL13: =IFERROR(MATCH(INDEX(Square1,A13,0),Square3,0),"") | AM13: =IFERROR(MATCH(INDEX(Square1,A13,0),Square4,0),"") | AO13: =IFERROR(MATCH(INDEX(Square2,A13,0),Square1,0),"") -> 2 | AP13: =IFERROR(MATCH(INDEX(Square2,A13,0),Square3,0),"") | AQ13: =IFERROR(MATCH(INDEX(Square2,A13,0),Square4,0),"") -> 7 | AS13: =IFERROR(MATCH(INDEX(Square3,A13,0),Square1,0),"") -> 1 | AT13: =IFERROR(MATCH(INDEX(Square3,A13,0),Square2,0),"") | AU13: =IFERROR(MATCH(INDEX(Square3,A13,0),Square4,0),"") | AW13: =IFERROR(MATCH(INDEX(Square4,A13,0),Square1,0),"") -> 2 | AX13: =IFERROR(MATCH(INDEX(Square4,A13,0),Square2,0),"") -> 7 | AY13: =IFERROR(MATCH(INDEX(Square4,A13,0),Square3,0),"") | BB13: =IFERROR(MATCH(INDEX(LinearFour1,A13,0),LinearFour2,0),"") | BC13: =IFERROR(MATCH(INDEX(LinearFour1,A13,0),LinearFour3,0),"") | BD13: =IFERROR(MATCH(INDEX(LinearFour1,A13,0),LinearFour4,0),"") | BF13: =IFERROR(MATCH(INDEX(LinearFour2,A13,0),LinearFour1,0),"") -> 5 | BG13: =IFERROR(MATCH(INDEX(LinearFour2,A13,0),LinearFour3,0),"") -> 7 | BH13: =IFERROR(MATCH(INDEX(LinearFour2,A13,0),LinearFour4,0),"") -> 5 | BJ13: =IFERROR(MATCH(INDEX(LinearFour3,A13,0),LinearFour1,0),"") -> 5 | BK13: =IFERROR(MATCH(INDEX(LinearFour3,A13,0),LinearFour2,0),"") -> 7 | BL13: =IFERROR(MATCH(INDEX(LinearFour3,A13,0),LinearFour4,0),"") -> 5 | BN13: =IFERROR(MATCH(INDEX(LinearFour4,A13,0),LinearFour1,0),"") | BO13: =IFERROR(MATCH(INDEX(LinearFour4,A13,0),LinearFour2,0),"") | BP13: =IFERROR(MATCH(INDEX(LinearFour4,A13,0),LinearFour3,0),"") | BS13: =IFERROR(MATCH(INDEX(Oval1,A13,0),Oval2,0),"") | BT13: =IFERROR(MATCH(INDEX(Oval1,A13,0),Oval3,0),"") | BU13: =IFERROR(MATCH(INDEX(Oval1,A13,0),Oval4,0),"") -> 5 | BW13: =IFERROR(MATCH(INDEX(Oval2,A13,0),Oval1,0),"") | BX13: =IFERROR(MATCH(INDEX(Oval2,A13,0),Oval3,0),"") -> 3 | BY13: =IFERROR(MATCH(INDEX(Oval2,A13,0),Oval4,0),"") -> 3 | CA13: =IFERROR(MATCH(INDEX(Oval3,A13,0),Oval1,0),"") | CB13: =IFERROR(MATCH(INDEX(Oval3,A13,0),Oval2,0),"") | CC13: =IFERROR(MATCH(INDEX(Oval3,A13,0),Oval4,0),"") -> 1 | CE13: =IFERROR(MATCH(INDEX(Oval4,A13,0),Oval1,0),"") | CF13: =IFERROR(MATCH(INDEX(Oval4,A13,0),Oval2,0),"") -> 8 | CG13: =IFERROR(MATCH(INDEX(Oval4,A13,0),Oval3,0),"") | CJ13: =IFERROR(MATCH(INDEX(StackedFour1,A13,0),StackedFour2,0),"") -> 3 | CK13: =IFERROR(MATCH(INDEX(StackedFour1,A13,0),StackedFour3,0),"") -> 2 | CL13: =IFERROR(MATCH(INDEX(StackedFour1,A13,0),StackedFour4,0),"") | CN13: =IFERROR(MATCH(INDEX(StackedFour2,A13,0),StackedFour1,0),"") -> 4 | CO13: =IFERROR(MATCH(INDEX(StackedFour2,A13,0),StackedFour3,0),"") -> 3 | CP13: =IFERROR(MATCH(INDEX(StackedFour2,A13,0),StackedFour4,0),"") -> 1 | CR13: =IFERROR(MATCH(INDEX(StackedFour3,A13,0),StackedFour1,0),"") | CS13: =IFERROR(MATCH(INDEX(StackedFour3,A13,0),StackedFour2,0),"") | CT13: =IFERROR(MATCH(INDEX(StackedFour3,A13,0),StackedFour4,0),"") | CV13: =IFERROR(MATCH(INDEX(StackedFour4,A13,0),StackedFour1,0),"") | CW13: =IFERROR(MATCH(INDEX(StackedFour4,A13,0),StackedFour2,0),"") | CX13: =IFERROR(MATCH(INDEX(StackedFour4,A13,0),StackedFour3,0),"")
A14: 8 | B14: =IFERROR(IF(LEN(INDEX(TwoCircle1,A14,0))=0,"",IF(ISERROR(MATCH(INDEX(TwoCircle1,Calc!A14,0),TwoCircle2,0)),INDEX(TwoCircle1,Calc!A14,0),"")),"") -> India | C14: =IFERROR(IF(LEN(INDEX(TwoCircle2,A14,0))=0,"",IF(ISERROR(MATCH(INDEX(TwoCircle2,Calc!A14,0),TwoCircle1,0)),INDEX(TwoCircle2,Calc!A14,0),"")),"") -> Italy | D14: =IFERROR(IF(MATCH(INDEX(TwoCircle2,Calc!A14,0),TwoCircle1,0)>0,INDEX(TwoCircle2,Calc!A14,0)),"") | G14: =IFERROR(MATCH(INDEX(Triangular1,Calc!A14,0),Triangular2,0),"") | H14: =IFERROR(MATCH(INDEX(Triangular1,Calc!A14,0),Triangular3,0),"") | J14: =IFERROR(MATCH(INDEX(Triangular2,Calc!A14,0),Triangular1,0),"") | K14: =IFERROR(MATCH(INDEX(Triangular2,Calc!A14,0),Triangular3,0),"") | M14: =IFERROR(MATCH(INDEX(Triangular3,Calc!A14,0),Triangular1,0),"") | N14: =IFERROR(MATCH(INDEX(Triangular3,Calc!A14,0),Triangular2,0),"") | Q14: =IFERROR(MATCH(INDEX(LinearThree1,A14,0),LinearThree2,0),"") | R14: =IFERROR(MATCH(INDEX(LinearThree1,A14,0),LinearThree3,0),"") | T14: =IFERROR(MATCH(INDEX(LinearThree2,A14,0),LinearThree1,0),"") | U14: =IFERROR(MATCH(INDEX(LinearThree2,A14,0),LinearThree3,0),"") | W14: =IFERROR(MATCH(INDEX(LinearThree3,A14,0),LinearThree1,0),"") | X14: =IFERROR(MATCH(INDEX(LinearThree3,A14,0),LinearThree2,0),"") | AA14: =IFERROR(MATCH(INDEX(StackedThree1,A14,0),StackedThree2,0),"") -> 6 | AB14: =IFERROR(MATCH(INDEX(StackedThree1,A14,0),StackedThree3,0),"") | AD14: =IFERROR(MATCH(INDEX(StackedThree2,A14,0),StackedThree1,0),"") -> 8 | AE14: =IFERROR(MATCH(INDEX(StackedThree2,A14,0),StackedThree3,0),"") | AG14: =IFERROR(MATCH(INDEX(StackedThree3,A14,0),StackedThree1,0),"") | AH14: =IFERROR(MATCH(INDEX(StackedThree3,A14,0),StackedThree2,0),"") | AK14: =IFERROR(MATCH(INDEX(Square1,A14,0),Square2,0),"") -> 2 | AL14: =IFERROR(MATCH(INDEX(Square1,A14,0),Square3,0),"") -> 1 | AM14: =IFERROR(MATCH(INDEX(Square1,A14,0),Square4,0),"") | AO14: =IFERROR(MATCH(INDEX(Square2,A14,0),Square1,0),"") | AP14: =IFERROR(MATCH(INDEX(Square2,A14,0),Square3,0),"") | AQ14: =IFERROR(MATCH(INDEX(Square2,A14,0),Square4,0),"") | AS14: =IFERROR(MATCH(INDEX(Square3,A14,0),Square1,0),"") | AT14: =IFERROR(MATCH(INDEX(Square3,A14,0),Square2,0),"") -> 5 | AU14: =IFERROR(MATCH(INDEX(Square3,A14,0),Square4,0),"") -> 8 | AW14: =IFERROR(MATCH(INDEX(Square4,A14,0),Square1,0),"") | AX14: =IFERROR(MATCH(INDEX(Square4,A14,0),Square2,0),"") -> 5 | AY14: =IFERROR(MATCH(INDEX(Square4,A14,0),Square3,0),"") -> 8 | BB14: =IFERROR(MATCH(INDEX(LinearFour1,A14,0),LinearFour2,0),"") | BC14: =IFERROR(MATCH(INDEX(LinearFour1,A14,0),LinearFour3,0),"") | BD14: =IFERROR(MATCH(INDEX(LinearFour1,A14,0),LinearFour4,0),"") | BF14: =IFERROR(MATCH(INDEX(LinearFour2,A14,0),LinearFour1,0),"") -> 3 | BG14: =IFERROR(MATCH(INDEX(LinearFour2,A14,0),LinearFour3,0),"") -> 8 | BH14: =IFERROR(MATCH(INDEX(LinearFour2,A14,0),LinearFour4,0),"") | BJ14: =IFERROR(MATCH(INDEX(LinearFour3,A14,0),LinearFour1,0),"") -> 3 | BK14: =IFERROR(MATCH(INDEX(LinearFour3,A14,0),LinearFour2,0),"") -> 8 | BL14: =IFERROR(MATCH(INDEX(LinearFour3,A14,0),LinearFour4,0),"") | BN14: =IFERROR(MATCH(INDEX(LinearFour4,A14,0),LinearFour1,0),"") | BO14: =IFERROR(MATCH(INDEX(LinearFour4,A14,0),LinearFour2,0),"") | BP14: =IFERROR(MATCH(INDEX(LinearFour4,A14,0),LinearFour3,0),"") | BS14: =IFERROR(MATCH(INDEX(Oval1,A14,0),Oval2,0),"") | BT14: =IFERROR(MATCH(INDEX(Oval1,A14,0),Oval3,0),"") -> 5 | BU14: =IFERROR(MATCH(INDEX(Oval1,A14,0),Oval4,0),"") -> 6 | BW14: =IFERROR(MATCH(INDEX(Oval2,A14,0),Oval1,0),"") | BX14: =IFERROR(MATCH(INDEX(Oval2,A14,0),Oval3,0),"") | BY14: =IFERROR(MATCH(INDEX(Oval2,A14,0),Oval4,0),"") -> 7 | CA14: =IFERROR(MATCH(INDEX(Oval3,A14,0),Oval1,0),"") | CB14: =IFERROR(MATCH(INDEX(Oval3,A14,0),Oval2,0),"") | CC14: =IFERROR(MATCH(INDEX(Oval3,A14,0),Oval4,0),"") | CE14: =IFERROR(MATCH(INDEX(Oval4,A14,0),Oval1,0),"") -> 9 | CF14: =IFERROR(MATCH(INDEX(Oval4,A14,0),Oval2,0),"") -> 3 | CG14: =IFERROR(MATCH(INDEX(Oval4,A14,0),Oval3,0),"") -> 6 | CJ14: =IFERROR(MATCH(INDEX(StackedFour1,A14,0),StackedFour2,0),"") | CK14: =IFERROR(MATCH(INDEX(StackedFour1,A14,0),StackedFour3,0),"") | CL14: =IFERROR(MATCH(INDEX(StackedFour1,A14,0),StackedFour4,0),"") | CN14: =IFERROR(MATCH(INDEX(StackedFour2,A14,0),StackedFour1,0),"") -> 6 | CO14: =IFERROR(MATCH(INDEX(StackedFour2,A14,0),StackedFour3,0),"") | CP14: =IFERROR(MATCH(INDEX(StackedFour2,A14,0),StackedFour4,0),"") -> 2 | CR14: =IFERROR(MATCH(INDEX(StackedFour3,A14,0),StackedFour1,0),"") | CS14: =IFERROR(MATCH(INDEX(StackedFour3,A14,0),StackedFour2,0),"") | CT14: =IFERROR(MATCH(INDEX(StackedFour3,A14,0),StackedFour4,0),"") | CV14: =IFERROR(MATCH(INDEX(StackedFour4,A14,0),StackedFour1,0),"") | CW14: =IFERROR(MATCH(INDEX(StackedFour4,A14,0),StackedFour2,0),"") | CX14: =IFERROR(MATCH(INDEX(StackedFour4,A14,0),StackedFour3,0),"")
A15: 9 | B15: =IFERROR(IF(LEN(INDEX(TwoCircle1,A15,0))=0,"",IF(ISERROR(MATCH(INDEX(TwoCircle1,Calc!A15,0),TwoCircle2,0)),INDEX(TwoCircle1,Calc!A15,0),"")),"") | C15: =IFERROR(IF(LEN(INDEX(TwoCircle2,A15,0))=0,"",IF(ISERROR(MATCH(INDEX(TwoCircle2,Calc!A15,0),TwoCircle1,0)),INDEX(TwoCircle2,Calc!A15,0),"")),"") | D15: =IFERROR(IF(MATCH(INDEX(TwoCircle2,Calc!A15,0),TwoCircle1,0)>0,INDEX(TwoCircle2,Calc!A15,0)),"") | G15: =IFERROR(MATCH(INDEX(Triangular1,Calc!A15,0),Triangular2,0),"") -> 1 | H15: =IFERROR(MATCH(INDEX(Triangular1,Calc!A15,0),Triangular3,0),"") | J15: =IFERROR(MATCH(INDEX(Triangular2,Calc!A15,0),Triangular1,0),"") | K15: =IFERROR(MATCH(INDEX(Triangular2,Calc!A15,0),Triangular3,0),"") | M15: =IFERROR(MATCH(INDEX(Triangular3,Calc!A15,0),Triangular1,0),"") | N15: =IFERROR(MATCH(INDEX(Triangular3,Calc!A15,0),Triangular2,0),"") | Q15: =IFERROR(MATCH(INDEX(LinearThree1,A15,0),LinearThree2,0),"") | R15: =IFERROR(MATCH(INDEX(LinearThree1,A15,0),LinearThree3,0),"") | T15: =IFERROR(MATCH(INDEX(LinearThree2,A15,0),LinearThree1,0),"") | U15: =IFERROR(MATCH(INDEX(LinearThree2,A15,0),LinearThree3,0),"") | W15: =IFERROR(MATCH(INDEX(LinearThree3,A15,0),LinearThree1,0),"") | X15: =IFERROR(MATCH(INDEX(LinearThree3,A15,0),LinearThree2,0),"") | AA15: =IFERROR(MATCH(INDEX(StackedThree1,A15,0),StackedThree2,0),"") | AB15: =IFERROR(MATCH(INDEX(StackedThree1,A15,0),StackedThree3,0),"") | AD15: =IFERROR(MATCH(INDEX(StackedThree2,A15,0),StackedThree1,0),"") | AE15: =IFERROR(MATCH(INDEX(StackedThree2,A15,0),StackedThree3,0),"") | AG15: =IFERROR(MATCH(INDEX(StackedThree3,A15,0),StackedThree1,0),"") | AH15: =IFERROR(MATCH(INDEX(StackedThree3,A15,0),StackedThree2,0),"") | AK15: =IFERROR(MATCH(INDEX(Square1,A15,0),Square2,0),"") | AL15: =IFERROR(MATCH(INDEX(Square1,A15,0),Square3,0),"") -> 4 | AM15: =IFERROR(MATCH(INDEX(Square1,A15,0),Square4,0),"") -> 2 | AO15: =IFERROR(MATCH(INDEX(Square2,A15,0),Square1,0),"") | AP15: =IFERROR(MATCH(INDEX(Square2,A15,0),Square3,0),"") | AQ15: =IFERROR(MATCH(INDEX(Square2,A15,0),Square4,0),"") | AS15: =IFERROR(MATCH(INDEX(Square3,A15,0),Square1,0),"") | AT15: =IFERROR(MATCH(INDEX(Square3,A15,0),Square2,0),"") | AU15: =IFERROR(MATCH(INDEX(Square3,A15,0),Square4,0),"") | AW15: =IFERROR(MATCH(INDEX(Square4,A15,0),Square1,0),"") | AX15: =IFERROR(MATCH(INDEX(Square4,A15,0),Square2,0),"") | AY15: =IFERROR(MATCH(INDEX(Square4,A15,0),Square3,0),"") | BB15: =IFERROR(MATCH(INDEX(LinearFour1,A15,0),LinearFour2,0),"") | BC15: =IFERROR(MATCH(INDEX(LinearFour1,A15,0),LinearFour3,0),"") | BD15: =IFERROR(MATCH(INDEX(LinearFour1,A15,0),LinearFour4,0),"") | BF15: =IFERROR(MATCH(INDEX(LinearFour2,A15,0),LinearFour1,0),"") | BG15: =IFERROR(MATCH(INDEX(LinearFour2,A15,0),LinearFour3,0),"") | BH15: =IFERROR(MATCH(INDEX(LinearFour2,A15,0),LinearFour4,0),"") | BJ15: =IFERROR(MATCH(INDEX(LinearFour3,A15,0),LinearFour1,0),"") | BK15: =IFERROR(MATCH(INDEX(LinearFour3,A15,0),LinearFour2,0),"") | BL15: =IFERROR(MATCH(INDEX(LinearFour3,A15,0),LinearFour4,0),"") | BN15: =IFERROR(MATCH(INDEX(LinearFour4,A15,0),LinearFour1,0),"") | BO15: =IFERROR(MATCH(INDEX(LinearFour4,A15,0),LinearFour2,0),"") | BP15: =IFERROR(MATCH(INDEX(LinearFour4,A15,0),LinearFour3,0),"") | BS15: =IFERROR(MATCH(INDEX(Oval1,A15,0),Oval2,0),"") -> 3 | BT15: =IFERROR(MATCH(INDEX(Oval1,A15,0),Oval3,0),"") -> 6 | BU15: =IFERROR(MATCH(INDEX(Oval1,A15,0),Oval4,0),"") -> 8 | BW15: =IFERROR(MATCH(INDEX(Oval2,A15,0),Oval1,0),"") | BX15: =IFERROR(MATCH(INDEX(Oval2,A15,0),Oval3,0),"") | BY15: =IFERROR(MATCH(INDEX(Oval2,A15,0),Oval4,0),"") | CA15: =IFERROR(MATCH(INDEX(Oval3,A15,0),Oval1,0),"") | CB15: =IFERROR(MATCH(INDEX(Oval3,A15,0),Oval2,0),"") | CC15: =IFERROR(MATCH(INDEX(Oval3,A15,0),Oval4,0),"") | CE15: =IFERROR(MATCH(INDEX(Oval4,A15,0),Oval1,0),"") | CF15: =IFERROR(MATCH(INDEX(Oval4,A15,0),Oval2,0),"") | CG15: =IFERROR(MATCH(INDEX(Oval4,A15,0),Oval3,0),"") | CJ15: =IFERROR(MATCH(INDEX(StackedFour1,A15,0),StackedFour2,0),"") -> 6 | CK15: =IFERROR(MATCH(INDEX(StackedFour1,A15,0),StackedFour3,0),"") | CL15: =IFERROR(MATCH(INDEX(StackedFour1,A15,0),StackedFour4,0),"") | CN15: =IFERROR(MATCH(INDEX(StackedFour2,A15,0),StackedFour1,0),"") | CO15: =IFERROR(MATCH(INDEX(StackedFour2,A15,0),StackedFour3,0),"") | CP15: =IFERROR(MATCH(INDEX(StackedFour2,A15,0),StackedFour4,0),"") | CR15: =IFERROR(MATCH(INDEX(StackedFour3,A15,0),StackedFour1,0),"") | CS15: =IFERROR(MATCH(INDEX(StackedFour3,A15,0),StackedFour2,0),"") | CT15: =IFERROR(MATCH(INDEX(StackedFour3,A15,0),StackedFour4,0),"") | CV15: =IFERROR(MATCH(INDEX(StackedFour4,A15,0),StackedFour1,0),"") | CW15: =IFERROR(MATCH(INDEX(StackedFour4,A15,0),StackedFour2,0),"") | CX15: =IFERROR(MATCH(INDEX(StackedFour4,A15,0),StackedFour3,0),"")
A16: 10 | B16: =IFERROR(IF(LEN(INDEX(TwoCircle1,A16,0))=0,"",IF(ISERROR(MATCH(INDEX(TwoCircle1,Calc!A16,0),TwoCircle2,0)),INDEX(TwoCircle1,Calc!A16,0),"")),"") | C16: =IFERROR(IF(LEN(INDEX(TwoCircle2,A16,0))=0,"",IF(ISERROR(MATCH(INDEX(TwoCircle2,Calc!A16,0),TwoCircle1,0)),INDEX(TwoCircle2,Calc!A16,0),"")),"") | D16: =IFERROR(IF(MATCH(INDEX(TwoCircle2,Calc!A16,0),TwoCircle1,0)>0,INDEX(TwoCircle2,Calc!A16,0)),"") | G16: =IFERROR(MATCH(INDEX(Triangular1,Calc!A16,0),Triangular2,0),"") | H16: =IFERROR(MATCH(INDEX(Triangular1,Calc!A16,0),Triangular3,0),"") | J16: =IFERROR(MATCH(INDEX(Triangular2,Calc!A16,0),Triangular1,0),"") | K16: =IFERROR(MATCH(INDEX(Triangular2,Calc!A16,0),Triangular3,0),"") | M16: =IFERROR(MATCH(INDEX(Triangular3,Calc!A16,0),Triangular1,0),"") | N16: =IFERROR(MATCH(INDEX(Triangular3,Calc!A16,0),Triangular2,0),"") | Q16: =IFERROR(MATCH(INDEX(LinearThree1,A16,0),LinearThree2,0),"") | R16: =IFERROR(MATCH(INDEX(LinearThree1,A16,0),LinearThree3,0),"") | T16: =IFERROR(MATCH(INDEX(LinearThree2,A16,0),LinearThree1,0),"") | U16: =IFERROR(MATCH(INDEX(LinearThree2,A16,0),LinearThree3,0),"") | W16: =IFERROR(MATCH(INDEX(LinearThree3,A16,0),LinearThree1,0),"") | X16: =IFERROR(MATCH(INDEX(LinearThree3,A16,0),LinearThree2,0),"") | AA16: =IFERROR(MATCH(INDEX(StackedThree1,A16,0),StackedThree2,0),"") | AB16: =IFERROR(MATCH(INDEX(StackedThree1,A16,0),StackedThree3,0),"") | AD16: =IFERROR(MATCH(INDEX(StackedThree2,A16,0),StackedThree1,0),"") | AE16: =IFERROR(MATCH(INDEX(StackedThree2,A16,0),StackedThree3,0),"") | AG16: =IFERROR(MATCH(INDEX(StackedThree3,A16,0),StackedThree1,0),"") | AH16: =IFERROR(MATCH(INDEX(StackedThree3,A16,0),StackedThree2,0),"") | AK16: =IFERROR(MATCH(INDEX(Square1,A16,0),Square2,0),"") | AL16: =IFERROR(MATCH(INDEX(Square1,A16,0),Square3,0),"") | AM16: =IFERROR(MATCH(INDEX(Square1,A16,0),Square4,0),"") | AO16: =IFERROR(MATCH(INDEX(Square2,A16,0),Square1,0),"") | AP16: =IFERROR(MATCH(INDEX(Square2,A16,0),Square3,0),"") | AQ16: =IFERROR(MATCH(INDEX(Square2,A16,0),Square4,0),"") | AS16: =IFERROR(MATCH(INDEX(Square3,A16,0),Square1,0),"") | AT16: =IFERROR(MATCH(INDEX(Square3,A16,0),Square2,0),"") | AU16: =IFERROR(MATCH(INDEX(Square3,A16,0),Square4,0),"") | AW16: =IFERROR(MATCH(INDEX(Square4,A16,0),Square1,0),"") | AX16: =IFERROR(MATCH(INDEX(Square4,A16,0),Square2,0),"") | AY16: =IFERROR(MATCH(INDEX(Square4,A16,0),Square3,0),"") | BB16: =IFERROR(MATCH(INDEX(LinearFour1,A16,0),LinearFour2,0),"") | BC16: =IFERROR(MATCH(INDEX(LinearFour1,A16,0),LinearFour3,0),"") | BD16: =IFERROR(MATCH(INDEX(LinearFour1,A16,0),LinearFour4,0),"") | BF16: =IFERROR(MATCH(INDEX(LinearFour2,A16,0),LinearFour1,0),"") | BG16: =IFERROR(MATCH(INDEX(LinearFour2,A16,0),LinearFour3,0),"") | BH16: =IFERROR(MATCH(INDEX(LinearFour2,A16,0),LinearFour4,0),"") | BJ16: =IFERROR(MATCH(INDEX(LinearFour3,A16,0),LinearFour1,0),"") | BK16: =IFERROR(MATCH(INDEX(LinearFour3,A16,0),LinearFour2,0),"") | BL16: =IFERROR(MATCH(INDEX(LinearFour3,A16,0),LinearFour4,0),"") | BN16: =IFERROR(MATCH(INDEX(LinearFour4,A16,0),LinearFour1,0),"") | BO16: =IFERROR(MATCH(INDEX(LinearFour4,A16,0),LinearFour2,0),"") | BP16: =IFERROR(MATCH(INDEX(LinearFour4,A16,0),LinearFour3,0),"") | BS16: =IFERROR(MATCH(INDEX(Oval1,A16,0),Oval2,0),"") | BT16: =IFERROR(MATCH(INDEX(Oval1,A16,0),Oval3,0),"") | BU16: =IFERROR(MATCH(INDEX(Oval1,A16,0),Oval4,0),"") | BW16: =IFERROR(MATCH(INDEX(Oval2,A16,0),Oval1,0),"") | BX16: =IFERROR(MATCH(INDEX(Oval2,A16,0),Oval3,0),"") | BY16: =IFERROR(MATCH(INDEX(Oval2,A16,0),Oval4,0),"") | CA16: =IFERROR(MATCH(INDEX(Oval3,A16,0),Oval1,0),"") | CB16: =IFERROR(MATCH(INDEX(Oval3,A16,0),Oval2,0),"") | CC16: =IFERROR(MATCH(INDEX(Oval3,A16,0),Oval4,0),"") | CE16: =IFERROR(MATCH(INDEX(Oval4,A16,0),Oval1,0),"") | CF16: =IFERROR(MATCH(INDEX(Oval4,A16,0),Oval2,0),"") | CG16: =IFERROR(MATCH(INDEX(Oval4,A16,0),Oval3,0),"") | CJ16: =IFERROR(MATCH(INDEX(StackedFour1,A16,0),StackedFour2,0),"") | CK16: =IFERROR(MATCH(INDEX(StackedFour1,A16,0),StackedFour3,0),"") | CL16: =IFERROR(MATCH(INDEX(StackedFour1,A16,0),StackedFour4,0),"") | CN16: =IFERROR(MATCH(INDEX(StackedFour2,A16,0),StackedFour1,0),"") | CO16: =IFERROR(MATCH(INDEX(StackedFour2,A16,0),StackedFour3,0),"") | CP16: =IFERROR(MATCH(INDEX(StackedFour2,A16,0),StackedFour4,0),"") | CR16: =IFERROR(MATCH(INDEX(StackedFour3,A16,0),StackedFour1,0),"") | CS16: =IFERROR(MATCH(INDEX(StackedFour3,A16,0),StackedFour2,0),"") | CT16: =IFERROR(MATCH(INDEX(StackedFour3,A16,0),StackedFour4,0),"") | CV16: =IFERROR(MATCH(INDEX(StackedFour4,A16,0),StackedFour1,0),"") | CW16: =IFERROR(MATCH(INDEX(StackedFour4,A16,0),StackedFour2,0),"") | CX16: =IFERROR(MATCH(INDEX(StackedFour4,A16,0),StackedFour3,0),"")
A17: 11
A18: 12
A19: 13
A20: 14
A21: 15
A22: 16
A23: 17
A24: 18
A25: 19
A26: 20
B29: Manipulated Column 1 | C29: Manipulated Column 2 | D29: Manipulated Column 3 | G29: Column 1 Only | H29: Column 2 Only | I29: Column 3 Only | J29: Column 1&2 | K29: Column 1&3 | L29: Column 2&3 | M29: All 3 Columns | Q29: Column 1 Only | R29: Column 2 Only | S29: Column 3 Only | T29: Column 1&2 | U29: Column 2&3 | V29: Column 1&3 | W29: All 3 Columns | AA29: Column 1 Only | AB29: Column 2 Only | AC29: Column 3 Only | AD29: Column 1&2 | AE29: Column 2&3 | AF29: Column 1&3 | AG29: All 3 Columns | AK29: Column 1 Only | AL29: Column 2 Only | AM29: Column 3 Only | AN29: Column 4 Only | AO29: Column 1&2 | AP29: Column 1&3 | AQ29: Column 1&4 | AR29: Column 2&3 | AS29: Column 2&4 | AT29: Column 3&4 | AU29: Column 1&2&3 | AV29: Column 1&2&4 | AW29: Column 1&3&4 | AX29: Column 2&3&4 | AY29: All 4 Columns | BB29: Column 1 Only | BC29: Column 2 Only | BD29: Column 3 Only | BE29: Column 4 Only | BF29: Column 1&2 | BG29: Column 1&3 | BH29: Column 1&4 | BI29: Column 2&3 | BJ29: Column 2&4 | BK29: Column 3&4 | BL29: Column 1&2&3 | BM29: Column 1&2&4 | BN29: Column 1&3&4 | BO29: Column 2&3&4 | BP29: All 4 Columns | BS29: Column 1 Only | BT29: Column 2 Only | BU29: Column 3 Only | BV29: Column 4 Only | BW29: Column 1&2 | BX29: Column 1&3 | BY29: Column 1&4 | BZ29: Column 2&3 | CA29: Column 2&4 | CB29: Column 3&4 | CC29: Column 1&2&3 | CD29: Column 1&2&4 | CE29: Column 1&3&4 | CF29: Column 2&3&4 | CG29: All 4 Columns | CJ29: Column 1 Only | CK29: Column 2 Only | CL29: Column 3 Only | CM29: Column 4 Only | CN29: Column 1&2 | CO29: Column 1&3 | CP29: Column 1&4 | CQ29: Column 2&3 | CR29: Column 2&4 | CS29: Column 3&4 | CT29: Column 1&2&3 | CU29: Column 1&2&4 | CV29: Column 1&3&4 | CW29: Column 2&3&4 | CX29: All 4 Columns
