Workbook
Name LinearFour1: Linear4Circles!$C$8:$C$17
Name LinearFour2: Linear4Circles!$D$8:$D$17
Name LinearFour3: Linear4Circles!$E$8:$E$17
Name LinearFour4: Linear4Circles!$F$8:$F$17
Name LinearThree1: Linear3Circles!$C$8:$C$17
Name LinearThree2: Linear3Circles!$D$8:$D$17
Name LinearThree3: Linear3Circles!$E$8:$E$17
Name Oval1: Flower4Ovals!$C$8:$C$17
Name Oval2: Flower4Ovals!$D$8:$D$17
Name Oval3: Flower4Ovals!$E$8:$E$17
Name Oval4: Flower4Ovals!$F$8:$F$17
Name Square1: Square4Circles!$C$8:$C$17
Name Square2: Square4Circles!$D$8:$D$17
Name Square3: Square4Circles!$E$8:$E$17
Name Square4: Square4Circles!$F$8:$F$17
Name StackedFour1: Stacked4Circles!$C$8:$C$17
Name StackedFour2: Stacked4Circles!$D$8:$D$17
Name StackedFour3: Stacked4Circles!$E$8:$E$17
Name StackedFour4: Stacked4Circles!$F$8:$F$17
Name StackedThree1: Stacked3Circles!$C$8:$C$17
Name StackedThree2: Stacked3Circles!$D$8:$D$17
Name StackedThree3: Stacked3Circles!$E$8:$E$17
Name Triangular1: Triangular3Circles!$C$8:$C$17
Name Triangular2: Triangular3Circles!$D$8:$D$17
Name Triangular3: Triangular3Circles!$E$8:$E$17
Name TwoCircle1: '2Circles'!$C$8:$C$17
Name TwoCircle2: '2Circles'!$D$8:$D$17

Sheet Dashboard
C2: VENN DIAGRAM TEMPLATE
C3: DASHBOARD

Sheet 2Circles
C2: VENN DIAGRAM TEMPLATE
C3: 2 CIRCLES MODEL
C7: ASIA | D7: EUROPE
C8: Russia | D8: France
C9: Mongolia | D9: Italy
C10: Afghanistan | D10: Russia
C11: Iran | D11: England
C12: North Korea | D12: Spain
C13: Indonesia | D13: Germany
C14: China | D14: Portugal
C15: India | D15: Italy

Sheet Triangular3Circles
C2: VENN DIAGRAM TEMPLATE
C3: TRIANGULAR MODEL
C7: BIG ANIMALS | D7: MAMMALS | E7: AQUATIC ANIMALS
C8: Elephants | D8: Buffaloes | E8: Whales
C9: Bears | D9: Dogs | E9: Fishes
C10: Horses | D10: Dolphins | E10: Sharks
C11: Camels | D11: Foxes | E11: Hippopotamus
C12: Whales | D12: Whales | E12: Dolphins
C13: Sharks | D13: Horses | E13: Turtles
C14: Hippopotamus | D14: Hippopotamus | E14: Seals
C15: Camels
C16: Buffaloes

Sheet Linear3Circles
C2: VENN DIAGRAM TEMPLATE
C3: 3 LINEAR CIRCLES
C7: BIG ANIMALS | D7: MAMMALS | E7: AQUATIC ANIMALS | G7: =IF(OR(LEN(Calc!$V$101)>0,LEN(Calc!$V$102)>0),Calc!$V$103,"") -> Triangular Model would be more suitable for this data set.
C8: Elephants | D8: Buffaloes | E8: Whales
C9: Giraffes | D9: Dogs | E9: Octopus
C10: Horses | D10: Cats | E10: Shark
C11: Cows | D11: Goats | E11: Mollusks
C12: Whales | D12: Whales | E12: Squids
C13: Hippopotamus | D13: Hippopotamus | E13: Hippopotamus
C14: Shark | D14: Orcas | E14: Orcas
C15: Cows

Sheet Stacked3Circles
C2: VENN DIAGRAM TEMPLATE
C3: 3 STACKED CIRCLES
C7: ANIMALS | D7: MAMMALS | E7: AQUATIC MAMMALS | G7: =IF(LEN(Calc!$AF$101)>0,Calc!$AF$102,"") -> Triangular Model would be more suitable for this data set.
C8: Eagles | D8: Tigers | E8: Whales
C9: Dolphins | D9: Whales | E9: Dolphins
C10: Eels | D10: Elephants | E10: Seals
C11: Tigers | D11: Pumas
C12: Whales | D12: Dolphins
C13: Elephants | D13: Sheep
C14: Sharks | D14: Seals
C15: Sheep | D15: Sheep

Sheet Square4Circles
C2: VENN DIAGRAM TEMPLATE
C3: SQUARE MODEL
C7: SMART | D7: OUTGOING | E7: POLITE | F7: HARDWORKING | H7: =IF(OR(LEN(Calc!$AQ$101)>0,LEN(Calc!$AQ$102)>0,LEN(Calc!$AQ$103)>0,LEN(Calc!$AQ$104)>0),Calc!$AQ$103,"") -> Flower Model would be more suitable for this data set.
C8: Mike | D8: Amy | E8: Lewis | F8: Amy
C9: Kyle | D9: Lewis | E9: Salion | F9: Leyla
C10: John | D10: Amanda | E10: Kim | F10: Kim
C11: Leyla | D11: Salion | E11: Leyla | F11: Deniz
C12: Amanda | D12: Rose | E12: Britney | F12: Onur
C13: Onur | D13: John | E13: John | F13: John
C14: Monica | D14: Kyle | E14: Mike | F14: Kyle
C15: Lewis | D15: Rachel | E15: Rose | F15: Rose
C16: Leyla

Sheet Linear4Circles
C2: VENN DIAGRAM TEMPLATE
C3: 4 LINEAR CIRCLES
C7: SMART | D7: OUTGOING | E7: POLITE | F7: HARDWORKING | H7: =IF(LEN(Calc!$BH$102)>0,Calc!$BH$104,IF(LEN(Calc!$BH$101)>0,Calc!$BH$103,"")) -> Flower Model would be more suitable for this data set.
C8: Amanda | D8: Pablo | E8: Kyle | F8: Chloe
C9: Mike | D9: Kyle | E9: Brian | F9: Brian
C10: Alan | D10: Amanda | E10: Stephanie | F10: Mary
C11: John | D11: Gabriel | E11: Gabriel | F11: Norman
C12: Zach | D12: Mike | E12: Charles | F12: Zach
C13: George | D13: Eric | E13: Scott
C14: John | D14: Zach | E14: Zach
D15: Alan | E15: Alan

Sheet Flower4Ovals
C2: VENN DIAGRAM TEMPLATE
C3: FLOWER 4 OVALS
C7: SMART | D7: OUTGOING | E7: POLITE | F7: HARDWORKING
C8: Salion | D8: Fred | E8: Ahmet | F8: Anthony
C9: Kyle | D9: Ahmet | E9: Salion | F9: Marco
C10: Ezgi | D10: Pablo | E10: Leslie | F10: Leslie
C11: Bryan | D11: Bryan | E11: Bryan | F11: Stewart
C12: Stewart | D12: Stewart | E12: Amanda | F12: Ezgi
C13: Melis | D13: Melis | E13: Pablo | F13: Amanda
C14: Ezgi | D14: Leslie | E14: Anthony | F14: Onur
C15: Amanda | D15: Onur | E15: Daisy | F15: Pablo
C16: Pablo

Sheet Stacked4Circles
C2: VENN DIAGRAM TEMPLATE
C3: 4 STACKED CIRCLES
C7: ANIMALS | D7: MAMMALS | E7: AQUATIC MAMMALS | F7: SURVIVE ON LAND | H7: =IF(LEN(Calc!$CP$102)>0,Calc!$CP$102,"") -> Flower Model would be more suitable for this data set.
C8: Tigers | D8: Tigers | E8: Whales | F8: Seals
C9: Whales | D9: Whales | E9: Dolphins | F9: Goats
C10: Pumas | D10: Dolphins | E10: Seals
C11: Seals | D11: Sheep
C12: Sheep | D12: Wolves
C13: Goats | D13: Pumas
C14: Dolphins | D14: Seals
C15: Horses | D15: Goats
C16: Pumas

Sheet Calc
B3: 2 CIRCLES MODEL | G3: TRIANGULAR 3 CIRCLES MODEL | Q3: LINEAR 3 CIRCLES MODEL | AA3: STACKED 3 CIRCLES MODEL | AK3: SQUARE 4 CIRCLES MODEL | BB3: LINEAR 4 CIRCLES MODEL | BS3: FLOWER MODEL | CJ3: STACKED 4 CIRCLES MODEL
G5: COLUMN 1 TEST | J5: COLUMN 2 TEST | M5: COLUMN 3 TEST | Q5: COLUMN 1 TEST | T5: COLUMN 2 TEST | W5: COLUMN 3 TEST | AA5: COLUMN 1 TEST | AD5: COLUMN 2 TEST | AG5: COLUMN 3 TEST | AK5: COLUMN 1 TEST | AO5: COLUMN 2 TEST | AS5: COLUMN 3 TEST | AW5: COLUMN 4 TEST | BB5: COLUMN 1 TEST | BF5: COLUMN 2 TEST | BJ5: COLUMN 3 TEST | BN5: COLUMN 4 TEST | BS5: COLUMN 1 TEST | BW5: COLUMN 2 TEST | CA5: COLUMN 3 TEST | CE5: COLUMN 4 TEST | CJ5: COLUMN 1 TEST | CN5: COLUMN 2 TEST | CR5: COLUMN 3 TEST | CV5: COLUMN 4 TEST
B6: ='2Circles'!$C$7 -> ASIA | C6: ='2Circles'!$D$7 -> EUROPE | D6: Intersection | G6: Column 2 | H6: Column 3 | J6: Column 1 | K6: Column 3 | M6: Column 1 | N6: Column 2 | Q6: Column 2 | R6: Column 3 | T6: Column 1 | U6: Column 3 | W6: Column 1 | X6: Column 2 | AA6: Column 2 | AB6: Column 3 | AD6: Column 1 | AE6: Column 3 | AG6: Column 1 | AH6: Column 2 | AK6: Column 2 | AL6: Column 3 | AM6: Column 4 | AO6: Column 1 | AP6: Column 3 | AQ6: Column 4 | AS6: Column 1 | AT6: Column 2 | AU6: Column 4 | AW6: Column 1 | AX6: Column 2 | AY6: Column 3 | BB6: Column 2 | BC6: Column 3 | BD6: Column 4 | BF6: Column 1 | BG6: Column 3 | BH6: Column 4 | BJ6: Column 1 | BK6: Column 2 | BL6: Column 4 | BN6: Column 1 | BO6: Column 2 | BP6: Column 3 | BS6: Column 2 | BT6: Column 3 | BU6: Column 4 | BW6: Column 1 | BX6: Column 3 | BY6: Column 4 | CA6: Column 1 | CB6: Column 2 | CC6: Column 4 | CE6: Column 1 | CF6: Column 2 | CG6: Column 3 | CJ6: Column 2 | CK6: Column 3 | CL6: Column 4 | CN6: Column 1 | CO6: Column 3 | CP6: Column 4 | CR6: Column 1 | CS6: Column 2 | CT6: Column 4 | CV6: Column 1 | CW6: Column 2 | CX6: Column 3
A7: 1 | B7: =IFERROR(IF(LEN(INDEX(TwoCircle1,A7,0))=0,"",IF(ISERROR(MATCH(INDEX(TwoCircle1,Calc!A7,0),TwoCircle2,0)),INDEX(TwoCircle1,Calc!A7,0),"")),"") | C7: =IFERROR(IF(LEN(INDEX(TwoCircle2,A7,0))=0,"",IF(ISERROR(MATCH(INDEX(TwoCircle2,Calc!A7,0),TwoCircle1,0)),INDEX(TwoCircle2,Calc!A7,0),"")),"") -> France | D7: =IFERROR(IF(MATCH(INDEX(TwoCircle2,Calc!A7,0),TwoCircle1,0)>0,INDEX(TwoCircle2,Calc!A7,0)),"") | G7: =IFERROR(MATCH(INDEX(Triangular1,Calc!A7,0),Triangular2,0),"") | H7: =IFERROR(MATCH(INDEX(Triangular1,Calc!A7,0),Triangular3,0),"") | J7: =IFERROR(MATCH(INDEX(Triangular2,Calc!A7,0),Triangular1,0),"") -> 9 | K7: =IFERROR(MATCH(INDEX(Triangular2,Calc!A7,0),Triangular3,0),"") | M7: =IFERROR(MATCH(INDEX(Triangular3,Calc!A7,0),Triangular1,0),"") -> 5 | N7: =IFERROR(MATCH(INDEX(Triangular3,Calc!A7,0),Triangular2,0),"") -> 5 | Q7: =IFERROR(MATCH(INDEX(LinearThree1,A7,0),LinearThree2,0),"") | R7: =IFERROR(MATCH(INDEX(LinearThree1,A7,0),LinearThree3,0),"") | T7: =IFERROR(MATCH(INDEX(LinearThree2,A7,0),LinearThree1,0),"") | U7: =IFERROR(MATCH(INDEX(LinearThree2,A7,0),LinearThree3,0),"") | W7: =IFERROR(MATCH(INDEX(LinearThree3,A7,0),LinearThree1,0),"") -> 5 | X7: =IFERROR(MATCH(INDEX(LinearThree3,A7,0),LinearThree2,0),"") -> 5 | AA7: =IFERROR(MATCH(INDEX(StackedThree1,A7,0),StackedThree2,0),"") | AB7: =IFERROR(MATCH(INDEX(StackedThree1,A7,0),StackedThree3,0),"") | AD7: =IFERROR(MATCH(INDEX(StackedThree2,A7,0),StackedThree1,0),"") -> 4 | AE7: =IFERROR(MATCH(INDEX(StackedThree2,A7,0),StackedThree3,0),"") | AG7: =IFERROR(MATCH(INDEX(StackedThree3,A7,0),StackedThree1,0),"") -> 5 | AH7: =IFERROR(MATCH(INDEX(StackedThree3,A7,0),StackedThree2,0),"") -> 2 | AK7: =IFERROR(MATCH(INDEX(Square1,A7,0),Square2,0),"") | AL7: =IFERROR(MATCH(INDEX(Square1,A7,0),Square3,0),"") -> 7 | AM7: =IFERROR(MATCH(INDEX(Square1,A7,0),Square4,0),"") | AO7: =IFERROR(MATCH(INDEX(Square2,A7,0),Square1,0),"") | AP7: =IFERROR(MATCH(INDEX(Square2,A7,0),Square3,0),"") | AQ7: =IFERROR(MATCH(INDEX(Square2,A7,0),Square4,0),"") -> 1 | AS7: =IFERROR(MATCH(INDEX(Square3,A7,0),Square1,0),"") -> 8 | AT7: =IFERROR(MATCH(INDEX(Square3,A7,0),Square2,0),"") -> 2 | AU7: =IFERROR(MATCH(INDEX(Square3,A7,0),Square4,0),"") | AW7: =IFERROR(MATCH(INDEX(Square4,A7,0),Square1,0),"") | AX7: =IFERROR(MATCH(INDEX(Square4,A7,0),Square2,0),"") -> 1 | AY7: =IFERROR(MATCH(INDEX(Square4,A7,0),Square3,0),"") | BB7: =IFERROR(MATCH(INDEX(LinearFour1,A7,0),LinearFour2,0),"") -> 3 | BC7: =IFERROR(MATCH(INDEX(LinearFour1,A7,0),LinearFour3,0),"") | BD7: =IFERROR(MATCH(INDEX(LinearFour1,A7,0),LinearFour4,0),"") | BF7: =IFERROR(MATCH(INDEX(LinearFour2,A7,0),LinearFour1,0),"") | BG7: =IFERROR(MATCH(INDEX(LinearFour2,A7,0),LinearFour3,0),"") | BH7: =IFERROR(MATCH(INDEX(LinearFour2,A7,0),LinearFour4,0),"") | BJ7: =IFERROR(MATCH(INDEX(LinearFour3,A7,0),LinearFour1,0),"") | BK7: =IFERROR(MATCH(INDEX(LinearFour3,A7,0),LinearFour2,0),"") -> 2 | BL7: =IFERROR(MATCH(INDEX(LinearFour3,A7,0),LinearFour4,0),"") | BN7: =IFERROR(MATCH(INDEX(LinearFour4,A7,0),LinearFour1,0),"") | BO7: =IFERROR(MATCH(INDEX(LinearFour4,A7,0),LinearFour2,0),"") | BP7: =IFERROR(MATCH(INDEX(LinearFour4,A7,0),LinearFour3,0),"") | BS7: =IFERROR(MATCH(INDEX(Oval1,A7,0),Oval2,0),"") | BT7: =IFERROR(MATCH(INDEX(Oval1,A7,0),Oval3,0),"") -> 2 | BU7: =IFERROR(MATCH(INDEX(Oval1,A7,0),Oval4,0),"") | BW7: =IFERROR(MATCH(INDEX(Oval2,A7,0),Oval1,0),"") | BX7: =IFERROR(MATCH(INDEX(Oval2,A7,0),Oval3,0),"") | BY7: =IFERROR(MATCH(INDEX(Oval2,A7,0),Oval4,0),"") | CA7: =IFERROR(MATCH(INDEX(Oval3,A7,0),Oval1,0),"") | CB7: =IFERROR(MATCH(INDEX(Oval3,A7,0),Oval2,0),"") -> 2 | CC7: =IFERROR(MATCH(INDEX(Oval3,A7,0),Oval4,0),"") | CE7: =IFERROR(MATCH(INDEX(Oval4,A7,0),Oval1,0),"") | CF7: =IFERROR(MATCH(INDEX(Oval4,A7,0),Oval2,0),"") | CG7: =IFERROR(MATCH(INDEX(Oval4,A7,0),Oval3,0),"") -> 7 | CJ7: =IFERROR(MATCH(INDEX(StackedFour1,A7,0),StackedFour2,0),"") -> 1 | CK7: =IFERROR(MATCH(INDEX(StackedFour1,A7,0),StackedFour3,0),"") | CL7: =IFERROR(MATCH(INDEX(StackedFour1,A7,0),StackedFour4,0),"") | CN7: =IFERROR(MATCH(INDEX(StackedFour2,A7,0),StackedFour1,0),"") -> 1 | CO7: =IFERROR(MATCH(INDEX(StackedFour2,A7,0),StackedFour3,0),"") | CP7: =IFERROR(MATCH(INDEX(StackedFour2,A7,0),StackedFour4,0),"") | CR7: =IFERROR(MATCH(INDEX(StackedFour3,A7,0),StackedFour1,0),"") -> 2 | CS7: =IFERROR(MATCH(INDEX(StackedFour3,A7,0),StackedFour2,0),"") -> 2 | CT7: =IFERROR(MATCH(INDEX(StackedFour3,A7,0),StackedFour4,0),"") | CV7: =IFERROR(MATCH(INDEX(StackedFour4,A7,0),StackedFour1,0),"") -> 4 | CW7: =IFERROR(MATCH(INDEX(StackedFour4,A7,0),StackedFour2,0),"") -> 7 | CX7: =IFERROR(MATCH(INDEX(StackedFour4,A7,0),StackedFour3,0),"") -> 3
A8: 2 | B8: =IFERROR(IF(LEN(INDEX(TwoCircle1,A8,0))=0,"",IF(ISERROR(MATCH(INDEX(TwoCircle1,Calc!A8,0),TwoCircle2,0)),INDEX(TwoCircle1,Calc!A8,0),"")),"") -> Mongolia | C8: =IFERROR(IF(LEN(INDEX(TwoCircle2,A8,0))=0,"",IF(ISERROR(MATCH(INDEX(TwoCircle2,Calc!A8,0),TwoCircle1,0)),INDEX(TwoCircle2,Calc!A8,0),"")),"") -> Italy | D8: =IFERROR(IF(MATCH(INDEX(TwoCircle2,Calc!A8,0),TwoCircle1,0)>0,INDEX(TwoCircle2,Calc!A8,0)),"") | G8: =IFERROR(MATCH(INDEX(Triangular1,Calc!A8,0),Triangular2,0),"") | H8: =IFERROR(MATCH(INDEX(Triangular1,Calc!A8,0),Triangular3,0),"") | J8: =IFERROR(MATCH(INDEX(Triangular2,Calc!A8,0),Triangular1,0),"") | K8: =IFERROR(MATCH(INDEX(Triangular2,Calc!A8,0),Triangular3,0),"") | M8: =IFERROR(MATCH(INDEX(Triangular3,Calc!A8,0),Triangular1,0),"") | N8: =IFERROR(MATCH(INDEX(Triangular3,Calc!A8,0),Triangular2,0),"") | Q8: =IFERROR(MATCH(INDEX(LinearThree1,A8,0),LinearThree2,0),"") | R8: =IFERROR(MATCH(INDEX(LinearThree1,A8,0),LinearThree3,0),"") | T8: =IFERROR(MATCH(INDEX(LinearThree2,A8,0),LinearThree1,0),"") | U8: =IFERROR(MATCH(INDEX(LinearThree2,A8,0),LinearThree3,0),"") | W8: =IFERROR(MATCH(INDEX(LinearThree3,A8,0),LinearThree1,0),"") | X8: =IFERROR(MATCH(INDEX(LinearThree3,A8,0),LinearThree2,0),"") | AA8: =IFERROR(MATCH(INDEX(StackedThree1,A8,0),StackedThree2,0),"") -> 5 | AB8: =IFERROR(MATCH(INDEX(StackedThree1,A8,0),StackedThree3,0),"") -> 2 | AD8: =IFERROR(MATCH(INDEX(StackedThree2,A8,0),StackedThree1,0),"") -> 5 | AE8: =IFERROR(MATCH(INDEX(StackedThree2,A8,0),StackedThree3,0),"") -> 1 | AG8: =IFERROR(MATCH(INDEX(StackedThree3,A8,0),StackedThree1,0),"") -> 2 | AH8: =IFERROR(MATCH(INDEX(StackedThree3,A8,0),StackedThree2,0),"") -> 5 | AK8: =IFERROR(MATCH(INDEX(Square1,A8,0),Square2,0),"") -> 7 | AL8: =IFERROR(MATCH(INDEX(Square1,A8,0),Square3,0),"") | AM8: =IFERROR(MATCH(INDEX(Square1,A8,0),Square4,0),"") -> 7 | AO8: =IFERROR(MATCH(INDEX(Square2,A8,0),Square1,0),"") -> 8 | AP8: =IFERROR(MATCH(INDEX(Square2,A8,0),Square3,0),"") -> 1 | AQ8: =IFERROR(MATCH(INDEX(Square2,A8,0),Square4,0),"") | AS8: =IFERROR(MATCH(INDEX(Square3,A8,0),Square1,0),"") | AT8: =IFERROR(MATCH(INDEX(Square3,A8,0),Square2,0),"") -> 4 | AU8: =IFERROR(MATCH(INDEX(Square3,A8,0),Square4,0),"") | AW8: =IFERROR(MATCH(INDEX(Square4,A8,0),Square1,0),"") -> 4 | AX8: =IFERROR(MATCH(INDEX(Square4,A8,0),Square2,0),"") | AY8: =IFERROR(MATCH(INDEX(Square4,A8,0),Square3,0),"") -> 4 | BB8: =IFERROR(MATCH(INDEX(LinearFour1,A8,0),LinearFour2,0),"") -> 5 | BC8: =IFERROR(MATCH(INDEX(LinearFour1,A8,0),LinearFour3,0),"") | BD8: =IFERROR(MATCH(INDEX(LinearFour1,A8,0),LinearFour4,0),"") | BF8: =IFERROR(MATCH(INDEX(LinearFour2,A8,0),LinearFour1,0),"") | BG8: =IFERROR(MATCH(INDEX(LinearFour2,A8,0),LinearFour3,0),"") -> 1 | BH8: =IFERROR(MATCH(INDEX(LinearFour2,A8,0),LinearFour4,0),"") | BJ8: =IFERROR(MATCH(INDEX(LinearFour3,A8,0),LinearFour1,0),"") | BK8: =IFERROR(MATCH(INDEX(LinearFour3,A8,0),LinearFour2,0),"") | BL8: =IFERROR(MATCH(INDEX(LinearFour3,A8,0),LinearFour4,0),"") -> 2 | BN8: =IFERROR(MATCH(INDEX(LinearFour4,A8,0),LinearFour1,0),"") | BO8: =IFERROR(MATCH(INDEX(LinearFour4,A8,0),LinearFour2,0),"") | BP8: =IFERROR(MATCH(INDEX(LinearFour4,A8,0),LinearFour3,0),"") -> 2 | BS8: =IFERROR(MATCH(INDEX(Oval1,A8,0),Oval2,0),"") | BT8: =IFERROR(MATCH(INDEX(Oval1,A8,0),Oval3,0),"") | BU8: =IFERROR(MATCH(INDEX(Oval1,A8,0),Oval4,0),"") | BW8: =IFERROR(MATCH(INDEX(Oval2,A8,0),Oval1,0),"") | BX8: =IFERROR(MATCH(INDEX(Oval2,A8,0),Oval3,0),"") -> 1 | BY8: =IFERROR(MATCH(INDEX(Oval2,A8,0),Oval4,0),"") | CA8: =IFERROR(MATCH(INDEX(Oval3,A8,0),Oval1,0),"") -> 1 | CB8: =IFERROR(MATCH(INDEX(Oval3,A8,0),Oval2,0),"") | CC8: =IFERROR(MATCH(INDEX(Oval3,A8,0),Oval4,0),"") | CE8: =IFERROR(MATCH(INDEX(Oval4,A8,0),Oval1,0),"") | CF8: =IFERROR(MATCH(INDEX(Oval4,A8,0),Oval2,0),"") | CG8: =IFERROR(MATCH(INDEX(Oval4,A8,0),Oval3,0),"") | CJ8: =IFERROR(MATCH(INDEX(StackedFour1,A8,0),StackedFour2,0),"") -> 2 | CK8: =IFERROR(MATCH(INDEX(StackedFour1,A8,0),StackedFour3,0),"") -> 1 | CL8: =IFERROR(MATCH(INDEX(StackedFour1,A8,0),StackedFour4,0),"") | CN8: =IFERROR(MATCH(INDEX(StackedFour2,A8,0),StackedFour1,0),"") -> 2 | CO8: =IFERROR(MATCH(INDEX(StackedFour2,A8,0),StackedFour3,0),"") -> 1 | CP8: =IFERROR(MATCH(INDEX(StackedFour2,A8,0),StackedFour4,0),"") | CR8: =IFERROR(MATCH(INDEX(StackedFour3,A8,0),StackedFour1,0),"") -> 7 | CS8: =IFERROR(MATCH(INDEX(StackedFour3,A8,0),StackedFour2,0),"") -> 3 | CT8: =IFERROR(MATCH(INDEX(StackedFour3,A8,0),StackedFour4,0),"") | CV8: =IFERROR(MATCH(INDEX(StackedFour4,A8,0),StackedFour1,0),"") -> 6 | CW8: =IFERROR(MATCH(INDEX(StackedFour4,A8,0),StackedFour2,0),"") -> 8 | CX8: =IFERROR(MATCH(INDEX(StackedFour4,A8,0),StackedFour3,0),"")
A9: 3 | B9: =IFERROR(IF(LEN(INDEX(TwoCircle1,A9,0))=0,"",IF(ISERROR(MATCH(INDEX(TwoCircle1,Calc!A9,0),TwoCircle2,0)),INDEX(TwoCircle1,Calc!A9,0),"")),"") -> Afghanistan | C9: =IFERROR(IF(LEN(INDEX(TwoCircle2,A9,0))=0,"",IF(ISERROR(MATCH(INDEX(TwoCircle2,Calc!A9,0),TwoCircle1,0)),INDEX(TwoCircle2,Calc!A9,0),"")),"") | D9: =IFERROR(IF(MATCH(INDEX(TwoCircle2,Calc!A9,0),TwoCircle1,0)>0,INDEX(TwoCircle2,Calc!A9,0)),"") -> Russia | G9: =IFERROR(MATCH(INDEX(Triangular1,Calc!A9,0),Triangular2,0),"") -> 6 | H9: =IFERROR(MATCH(INDEX(Triangular1,Calc!A9,0),Triangular3,0),"") | J9: =IFERROR(MATCH(INDEX(Triangular2,Calc!A9,0),Triangular1,0),"") | K9: =IFERROR(MATCH(INDEX(Triangular2,Calc!A9,0),Triangular3,0),"") -> 5 | M9: =IFERROR(MATCH(INDEX(Triangular3,Calc!A9,0),Triangular1,0),"") -> 6 | N9: =IFERROR(MATCH(INDEX(Triangular3,Calc!A9,0),Triangular2,0),"") | Q9: =IFERROR(MATCH(INDEX(LinearThree1,A9,0),LinearThree2,0),"") | R9: =IFERROR(MATCH(INDEX(LinearThree1,A9,0),LinearThree3,0),"") | T9: =IFERROR(MATCH(INDEX(LinearThree2,A9,0),LinearThree1,0),"") | U9: =IFERROR(MATCH(INDEX(LinearThree2,A9,0),LinearThree3,0),"") | W9: =IFERROR(MATCH(INDEX(LinearThree3,A9,0),LinearThree1,0),"") -> 7 | X9: =IFERROR(MATCH(INDEX(LinearThree3,A9,0),LinearThree2,0),"") | AA9: =IFERROR(MATCH(INDEX(StackedThree1,A9,0),StackedThree2,0),"") | AB9: =IFERROR(MATCH(INDEX(StackedThree1,A9,0),StackedThree3,0),"") | AD9: =IFERROR(MATCH(INDEX(StackedThree2,A9,0),StackedThree1,0),"") -> 6 | AE9: =IFERROR(MATCH(INDEX(StackedThree2,A9,0),StackedThree3,0),"") | AG9: =IFERROR(MATCH(INDEX(StackedThree3,A9,0),StackedThree1,0),"") | AH9: =IFERROR(MATCH(INDEX(StackedThree3,A9,0),StackedThree2,0),"") -> 7 | AK9: =IFERROR(MATCH(INDEX(Square1,A9,0),Square2,0),"") -> 6 | AL9: =IFERROR(MATCH(INDEX(Square1,A9,0),Square3,0),"") -> 6 | AM9: =IFERROR(MATCH(INDEX(Square1,A9,0),Square4,0),"") -> 6 | AO9: =IFERROR(MATCH(INDEX(Square2,A9,0),Square1,0),"") -> 5 | AP9: =IFERROR(MATCH(INDEX(Square2,A9,0),Square3,0),"") | AQ9: =IFERROR(MATCH(INDEX(Square2,A9,0),Square4,0),"") | AS9: =IFERROR(MATCH(INDEX(Square3,A9,0),Square1,0),"") | AT9: =IFERROR(MATCH(INDEX(Square3,A9,0),Square2,0),"") | AU9: =IFERROR(MATCH(INDEX(Square3,A9,0),Square4,0),"") -> 3 | AW9: =IFERROR(MATCH(INDEX(Square4,A9,0),Square1,0),"") | AX9: =IFERROR(MATCH(INDEX(Square4,A9,0),Square2,0),"") | AY9: =IFERROR(MATCH(INDEX(Square4,A9,0),Square3,0),"") -> 3 | BB9: =IFERROR(MATCH(INDEX(LinearFour1,A9,0),LinearFour2,0),"") -> 8 | BC9: =IFERROR(MATCH(INDEX(LinearFour1,A9,0),LinearFour3,0),"") -> 8 | BD9: =IFERROR(MATCH(INDEX(LinearFour1,A9,0),LinearFour4,0),"") | BF9: =IFERROR(MATCH(INDEX(LinearFour2,A9,0),LinearFour1,0),"") -> 1 | BG9: =IFERROR(MATCH(INDEX(LinearFour2,A9,0),LinearFour3,0),"") | BH9: =IFERROR(MATCH(INDEX(LinearFour2,A9,0),LinearFour4,0),"") | BJ9: =IFERROR(MATCH(INDEX(LinearFour3,A9,0),LinearFour1,0),"") | BK9: =IFERROR(MATCH(INDEX(LinearFour3,A9,0),LinearFour2,0),"") | BL9: =IFERROR(MATCH(INDEX(LinearFour3,A9,0),LinearFour4,0),"") | BN9: =IFERROR(MATCH(INDEX(LinearFour4,A9,0),LinearFour1,0),"") | BO9: =IFERROR(MATCH(INDEX(LinearFour4,A9,0),LinearFour2,0),"") | BP9: =IFERROR(MATCH(INDEX(LinearFour4,A9,0),LinearFour3,0),"") | BS9: =IFERROR(MATCH(INDEX(Oval1,A9,0),Oval2,0),"") | BT9: =IFERROR(MATCH(INDEX(Oval1,A9,0),Oval3,0),"") | BU9: =IFERROR(MATCH(INDEX(Oval1,A9,0),Oval4,0),"") -> 5 | BW9: =IFERROR(MATCH(INDEX(Oval2,A9,0),Oval1,0),"") -> 9 | BX9: =IFERROR(MATCH(INDEX(Oval2,A9,0),Oval3,0),"") -> 6 | BY9: =IFERROR(MATCH(INDEX(Oval2,A9,0),Oval4,0),"") -> 8 | CA9: =IFERROR(MATCH(INDEX(Oval3,A9,0),Oval1,0),"") | CB9: =IFERROR(MATCH(INDEX(Oval3,A9,0),Oval2,0),"") -> 7 | CC9: =IFERROR(MATCH(INDEX(Oval3,A9,0),Oval4,0),"") -> 3 | CE9: =IFERROR(MATCH(INDEX(Oval4,A9,0),Oval1,0),"") | CF9: =IFERROR(MATCH(INDEX(Oval4,A9,0),Oval2,0),"") -> 7 | CG9: =IFERROR(MATCH(INDEX(Oval4,A9,0),Oval3,0),"") -> 3 | CJ9: =IFERROR(MATCH(INDEX(StackedFour1,A9,0),StackedFour2,0),"") -> 6 | CK9: =IFERROR(MATCH(INDEX(StackedFour1,A9,0),StackedFour3,0),"") | CL9: =IFERROR(MATCH(INDEX(StackedFour1,A9,0),StackedFour4,0),"") | CN9: =IFERROR(MATCH(INDEX(StackedFour2,A9,0),StackedFour1,0),"") -> 7 | CO9: =IFERROR(MATCH(INDEX(StackedFour2,A9,0),StackedFour3,0),"") -> 2 | CP9: =IFERROR(MATCH(INDEX(StackedFour2,A9,0),StackedFour4,0),"") | CR9: =IFERROR(MATCH(INDEX(StackedFour3,A9,0),StackedFour1,0),"") -> 4 | CS9: =IFERROR(MATCH(INDEX(StackedFour3,A9,0),StackedFour2,0),"") -> 7 | CT9: =IFERROR(MATCH(INDEX(StackedFour3,A9,0),StackedFour4,0),"") -> 1 | CV9: =IFERROR(MATCH(INDEX(StackedFour4,A9,0),StackedFour1,0),"") | CW9: =IFERROR(MATCH(INDEX(StackedFour4,A9,0),StackedFour2,0),"") | CX9: =IFERROR(MATCH(INDEX(StackedFour4,A9,0),StackedFour3,0),"")
A10: 4 | B10: =IFERROR(IF(LEN(INDEX(TwoCircle1,A10,0))=0,"",IF(ISERROR(MATCH(INDEX(TwoCircle1,Calc!A10,0),TwoCircle2,0)),INDEX(TwoCircle1,Calc!A10,0),"")),"") -> Iran | C10: =IFERROR(IF(LEN(INDEX(TwoCircle2,A10,0))=0,"",IF(ISERROR(MATCH(INDEX(TwoCircle2,Calc!A10,0),TwoCircle1,0)),INDEX(TwoCircle2,Calc!A10,0),"")),"") -> England | D10: =IFERROR(IF(MATCH(INDEX(TwoCircle2,Calc!A10,0),TwoCircle1,0)>0,INDEX(TwoCircle2,Calc!A10,0)),"") | G10: =IFERROR(MATCH(INDEX(Triangular1,Calc!A10,0),Triangular2,0),"") | H10: =IFERROR(MATCH(INDEX(Triangular1,Calc!A10,0),Triangular3,0),"") | J10: =IFERROR(MATCH(INDEX(Triangular2,Calc!A10,0),Triangular1,0),"") | K10: =IFERROR(MATCH(INDEX(Triangular2,Calc!A10,0),Triangular3,0),"") | M10: =IFERROR(MATCH(INDEX(Triangular3,Calc!A10,0),Triangular1,0),"") -> 7 | N10: =IFERROR(MATCH(INDEX(Triangular3,Calc!A10,0),Triangular2,0),"") -> 7 | Q10: =IFERROR(MATCH(INDEX(LinearThree1,A10,0),LinearThree2,0),"") | R10: =IFERROR(MATCH(INDEX(LinearThree1,A10,0),LinearThree3,0),"") | T10: =IFERROR(MATCH(INDEX(LinearThree2,A10,0),LinearThree1,0),"") | U10: =IFERROR(MATCH(INDEX(LinearThree2,A10,0),LinearThree3,0),"") | W10: =IFERROR(MATCH(INDEX(LinearThree3,A10,0),LinearThree1,0),"") | X10: =IFERROR(MATCH(INDEX(LinearThree3,A10,0),LinearThree2,0),"") | AA10: =IFERROR(MATCH(INDEX(StackedThree1,A10,0),StackedThree2,0),"") -> 1 | AB10: =IFERROR(MATCH(INDEX(StackedThree1,A10,0),StackedThree3,0),"") | AD10: =IFERROR(MATCH(INDEX(StackedThree2,A10,0),StackedThree1,0),"") | AE10: =IFERROR(MATCH(INDEX(StackedThree2,A10,0),StackedThree3,0),"") | AG10: =IFERROR(MATCH(INDEX(StackedThree3,A10,0),StackedThree1,0),"") | AH10: =IFERROR(MATCH(INDEX(StackedThree3,A10,0),StackedThree2,0),"") | AK10: =IFERROR(MATCH(INDEX(Square1,A10,0),Square2,0),"") | AL10: =IFERROR(MATCH(INDEX(Square1,A10,0),Square3,0),"") -> 4 | AM10: =IFERROR(MATCH(INDEX(Square1,A10,0),Square4,0),"") -> 2 | AO10: =IFERROR(MATCH(INDEX(Square2,A10,0),Square1,0),"") | AP10: =IFERROR(MATCH(INDEX(Square2,A10,0),Square3,0),"") -> 2 | AQ10: =IFERROR(MATCH(INDEX(Square2,A10,0),Square4,0),"") | AS10: =IFERROR(MATCH(INDEX(Square3,A10,0),Square1,0),"") -> 4 | AT10: =IFERROR(MATCH(INDEX(Square3,A10,0),Square2,0),"") | AU10: =IFERROR(MATCH(INDEX(Square3,A10,0),Square4,0),"") -> 2 | AW10: =IFERROR(MATCH(INDEX(Square4,A10,0),Square1,0),"") | AX10: =IFERROR(MATCH(INDEX(Square4,A10,0),Square2,0),"") | AY10: =IFERROR(MATCH(INDEX(Square4,A10,0),Square3,0),"") | BB10: =IFERROR(MATCH(INDEX(LinearFour1,A10,0),LinearFour2,0),"") | BC10: =IFERROR(MATCH(INDEX(LinearFour1,A10,0),LinearFour3,0),"") | BD10: =IFERROR(MATCH(INDEX(LinearFour1,A10,0),LinearFour4,0),"") | BF10: =IFERROR(MATCH(INDEX(LinearFour2,A10,0),LinearFour1,0),"") | BG10: =IFERROR(MATCH(INDEX(LinearFour2,A10,0),LinearFour3,0),"") -> 4 | BH10: =IFERROR(MATCH(INDEX(LinearFour2,A10,0),LinearFour4,0),"") | BJ10: =IFERROR(MATCH(INDEX(LinearFour3,A10,0),LinearFour1,0),"") | BK10: =IFERROR(MATCH(INDEX(LinearFour3,A10,0),LinearFour2,0),"") -> 4 | BL10: =IFERROR(MATCH(INDEX(LinearFour3,A10,0),LinearFour4,0),"") | BN10: =IFERROR(MATCH(INDEX(LinearFour4,A10,0),LinearFour1,0),"") | BO10: =IFERROR(MATCH(INDEX(LinearFour4,A10,0),LinearFour2,0),"") | BP10: =IFERROR(MATCH(INDEX(LinearFour4,A10,0),LinearFour3,0),"") | BS10: =IFERROR(MATCH(INDEX(Oval1,A10,0),Oval2,0),"") -> 4 | BT10: =IFERROR(MATCH(INDEX(Oval1,A10,0),Oval3,0),"") -> 4 | BU10: =IFERROR(MATCH(INDEX(Oval1,A10,0),Oval4,0),"") | BW10: =IFERROR(MATCH(INDEX(Oval2,A10,0),Oval1,0),"") -> 4 | BX10: =IFERROR(MATCH(INDEX(Oval2,A10,0),Oval3,0),"") -> 4 | BY10: =IFERROR(MATCH(INDEX(Oval2,A10,0),Oval4,0),"") | CA10: =IFERROR(MATCH(INDEX(Oval3,A10,0),Oval1,0),"") -> 4 | CB10: =IFERROR(MATCH(INDEX(Oval3,A10,0),Oval2,0),"") -> 4 | CC10: =IFERROR(MATCH(INDEX(Oval3,A10,0),Oval4,0),"") | CE10: =IFERROR(MATCH(INDEX(Oval4,A10,0),Oval1,0),"") -> 5 | CF10: =IFERROR(MATCH(INDEX(Oval4,A10,0),Oval2,0),"") -> 5 | CG10: =IFERROR(MATCH(INDEX(Oval4,A10,0),Oval3,0),"") | CJ10: =IFERROR(MATCH(INDEX(StackedFour1,A10,0),StackedFour2,0),"") -> 7 | CK10: =IFERROR(MATCH(INDEX(StackedFour1,A10,0),StackedFour3,0),"") -> 3 | CL10: =IFERROR(MATCH(INDEX(StackedFour1,A10,0),StackedFour4,0),"") -> 1 | CN10: =IFERROR(MATCH(INDEX(StackedFour2,A10,0),StackedFour1,0),"") -> 5 | CO10: =IFERROR(MATCH(INDEX(StackedFour2,A10,0),StackedFour3,0),"") | CP10: =IFERROR(MATCH(INDEX(StackedFour2,A10,0),StackedFour4,0),"") | CR10: =IFERROR(MATCH(INDEX(StackedFour3,A10,0),StackedFour1,0),"") | CS10: =IFERROR(MATCH(INDEX(StackedFour3,A10,0),StackedFour2,0),"") | CT10: =IFERROR(MATCH(INDEX(StackedFour3,A10,0),StackedFour4,0),"") | CV10: =IFERROR(MATCH(INDEX(StackedFour4,A10,0),StackedFour1,0),"") | CW10: =IFERROR(MATCH(INDEX(StackedFour4,A10,0),StackedFour2,0),"") | CX10: =IFERROR(MATCH(INDEX(StackedFour4,A10,0),StackedFour3,0),"")
A11: 5 | B11: =IFERROR(IF(LEN(INDEX(TwoCircle1,A11,0))=0,"",IF(ISERROR(MATCH(INDEX(TwoCircle1,Calc!A11,0),TwoCircle2,0)),INDEX(TwoCircle1,Calc!A11,0),"")),"") -> North Korea | C11: =IFERROR(IF(LEN(INDEX(TwoCircle2,A11,0))=0,"",IF(ISERROR(MATCH(INDEX(TwoCircle2,Calc!A11,0),TwoCircle1,0)),INDEX(TwoCircle2,Calc!A11,0),"")),"") -> Spain | D11: =IFERROR(IF(MATCH(INDEX(TwoCircle2,Calc!A11,0),TwoCircle1,0)>0,INDEX(TwoCircle2,Calc!A11,0)),"") | G11: =IFERROR(MATCH(INDEX(Triangular1,Calc!A11,0),Triangular2,0),"") -> 5 | H11: =IFERROR(MATCH(INDEX(Triangular1,Calc!A11,0),Triangular3,0),"") -> 1 | J11: =IFERROR(MATCH(INDEX(Triangular2,Calc!A11,0),Triangular1,0),"") -> 5 | K11: =IFERROR(MATCH(INDEX(Triangular2,Calc!A11,0),Triangular3,0),"") -> 1 | M11: =IFERROR(MATCH(INDEX(Triangular3,Calc!A11,0),Triangular1,0),"") | N11: =IFERROR(MATCH(INDEX(Triangular3,Calc!A11,0),Triangular2,0),"") -> 3 | Q11: =IFERROR(MATCH(INDEX(LinearThree1,A11,0),LinearThree2,0),"") -> 5 | R11: =IFERROR(MATCH(INDEX(LinearThree1,A11,0),LinearThree3,0),"") -> 1 | T11: =IFERROR(MATCH(INDEX(LinearThree2,A11,0),LinearThree1,0),"") -> 5 | U11: =IFERROR(MATCH(INDEX(LinearThree2,A11,0),LinearThree3,0),"") -> 1 | W11: =IFERROR(MATCH(INDEX(LinearThree3,A11,0),LinearThree1,0),"") | X11: =IFERROR(MATCH(INDEX(LinearThree3,A11,0),LinearThree2,0),"") | AA11: =IFERROR(MATCH(INDEX(StackedThree1,A11,0),StackedThree2,0),"") -> 2 | AB11: =IFERROR(MATCH(INDEX(StackedThree1,A11,0),StackedThree3,0),"") -> 1 | AD11: =IFERROR(MATCH(INDEX(StackedThree2,A11,0),StackedThree1,0),"") -> 2 | AE11: =IFERROR(MATCH(INDEX(StackedThree2,A11,0),StackedThree3,0),"") -> 2 | AG11: =IFERROR(MATCH(INDEX(StackedThree3,A11,0),StackedThree1,0),"") | AH11: =IFERROR(MATCH(INDEX(StackedThree3,A11,0),StackedThree2,0),"") | AK11: =IFERROR(MATCH(INDEX(Square1,A11,0),Square2,0),"") -> 3 | AL11: =IFERROR(MATCH(INDEX(Square1,A11,0),Square3,0),"") | AM11: =IFERROR(MATCH(INDEX(Square1,A11,0),Square4,0),"") | AO11: =IFERROR(MATCH(INDEX(Square2,A11,0),Square1,0),"") | AP11: =IFERROR(MATCH(INDEX(Square2,A11,0),Square3,0),"") -> 8 | AQ11: =IFERROR(MATCH(INDEX(Square2,A11,0),Square4,0),"") -> 8 | AS11: =IFERROR(MATCH(INDEX(Square3,A11,0),Square1,0),"") | AT11: =IFERROR(MATCH(INDEX(Square3,A11,0),Square2,0),"") | AU11: =IFERROR(MATCH(INDEX(Square3,A11,0),Square4,0),"") | AW11: =IFERROR(MATCH(INDEX(Square4,A11,0),Square1,0),"") -> 6 | AX11: =IFERROR(MATCH(INDEX(Square4,A11,0),Square2,0),"") | AY11: =IFERROR(MATCH(INDEX(Square4,A11,0),Square3,0),"") | BB11: =IFERROR(MATCH(INDEX(LinearFour1,A11,0),LinearFour2,0),"") -> 7 | BC11: =IFERROR(MATCH(INDEX(LinearFour1,A11,0),LinearFour3,0),"") -> 7 | BD11: =IFERROR(MATCH(INDEX(LinearFour1,A11,0),LinearFour4,0),"") -> 5 | BF11: =IFERROR(MATCH(INDEX(LinearFour2,A11,0),LinearFour1,0),"") -> 2 | BG11: =IFERROR(MATCH(INDEX(LinearFour2,A11,0),LinearFour3,0),"") | BH11: =IFERROR(MATCH(INDEX(LinearFour2,A11,0),LinearFour4,0),"") | BJ11: =IFERROR(MATCH(INDEX(LinearFour3,A11,0),LinearFour1,0),"") | BK11: =IFERROR(MATCH(INDEX(LinearFour3,A11,0),LinearFour2,0),"") | BL11: =IFERROR(MATCH(INDEX(LinearFour3,A11,0),LinearFour4,0),"") | BN11: =IFERROR(MATCH(INDEX(LinearFour4,A11,0),LinearFour1,0),"") -> 5 | BO11: =IFERROR(MATCH(INDEX(LinearFour4,A11,0),LinearFour2,0),"") -> 7 | BP11: =IFERROR(MATCH(INDEX(LinearFour4,A11,0),LinearFour3,0),"") -> 7 | BS11: =IFERROR(MATCH(INDEX(Oval1,A11,0),Oval2,0),"") -> 5 | BT11: =IFERROR(MATCH(INDEX(Oval1,A11,0),Oval3,0),"") | BU11: =IFERROR(MATCH(INDEX(Oval1,A11,0),Oval4,0),"") -> 4 | BW11: =IFERROR(MATCH(INDEX(Oval2,A11,0),Oval1,0),"") -> 5 | BX11: =IFERROR(MATCH(INDEX(Oval2,A11,0),Oval3,0),"") | BY11: =IFERROR(MATCH(INDEX(Oval2,A11,0),Oval4,0),"") -> 4 | CA11: =IFERROR(MATCH(INDEX(Oval3,A11,0),Oval1,0),"") -> 8 | CB11: =IFERROR(MATCH(INDEX(Oval3,A11,0),Oval2,0),"") | CC11: =IFERROR(MATCH(INDEX(Oval3,A11,0),Oval4,0),"") -> 6 | CE11: =IFERROR(MATCH(INDEX(Oval4,A11,0),Oval1,0),"") -> 3 | CF11: =IFERROR(MATCH(INDEX(Oval4,A11,0),Oval2,0),"") | CG11: =IFERROR(MATCH(INDEX(Oval4,A11,0),Oval3,0),"") | CJ11: =IFERROR(MATCH(INDEX(StackedFour1,A11,0),StackedFour2,0),"") -> 4 | CK11: =IFERROR(MATCH(INDEX(StackedFour1,A11,0),StackedFour3,0),"") | CL11: =IFERROR(MATCH(INDEX(StackedFour1,A11,0),StackedFour4,0),"") | CN11: =IFERROR(MATCH(INDEX(StackedFour2,A11,0),StackedFour1,0),"") | CO11: =IFERROR(MATCH(INDEX(StackedFour2,A11,0),StackedFour3,0),"") | CP11: =IFERROR(MATCH(INDEX(StackedFour2,A11,0),StackedFour4,0),"") | CR11: =IFERROR(MATCH(INDEX(StackedFour3,A11,0),StackedFour1,0),"") | CS11: =IFERROR(MATCH(INDEX(StackedFour3,A11,0),StackedFour2,0),"") | CT11: =IFERROR(MATCH(INDEX(StackedFour3,A11,0),StackedFour4,0),"") | CV11: =IFERROR(MATCH(INDEX(StackedFour4,A11,0),StackedFour1,0),"") | CW11: =IFERROR(MATCH(INDEX(StackedFour4,A11,0),StackedFour2,0),"") | CX11: =IFERROR(MATCH(INDEX(StackedFour4,A11,0),StackedFour3,0),"")
A12: 6 | B12: =IFERROR(IF(LEN(INDEX(TwoCircle1,A12,0))=0,"",IF(ISERROR(MATCH(INDEX(TwoCircle1,Calc!A12,0),TwoCircle2,0)),INDEX(TwoCircle1,Calc!A12,0),"")),"") -> Indonesia | C12: =IFERROR(IF(LEN(INDEX(TwoCircle2,A12,0))=0,"",IF(ISERROR(MATCH(INDEX(TwoCircle2,Calc!A12,0),TwoCircle1,0)),INDEX(TwoCircle2,Calc!A12,0),"")),"") -> Germany | D12: =IFERROR(IF(MATCH(INDEX(TwoCircle2,Calc!A12,0),TwoCircle1,0)>0,INDEX(TwoCircle2,Calc!A12,0)),"") | G12: =IFERROR(MATCH(INDEX(Triangular1,Calc!A12,0),Triangular2,0),"") | H12: =IFERROR(MATCH(INDEX(Triangular1,Calc!A12,0),Triangular3,0),"") -> 3 | J12: =IFERROR(MATCH(INDEX(Triangular2,Calc!A12,0),Triangular1,0),"") -> 3 | K12: =IFERROR(MATCH(INDEX(Triangular2,Calc!A12,0),Triangular3,0),"") | M12: =IFERROR(MATCH(INDEX(Triangular3,Calc!A12,0),Triangular1,0),"") | N12: =IFERROR(MATCH(INDEX(Triangular3,Calc!A12,0),Triangular2,0),"") | Q12: =IFERROR(MATCH(INDEX(LinearThree1,A12,0),LinearThree2,0),"") -> 6 | R12: =IFERROR(MATCH(INDEX(LinearThree1,A12,0),LinearThree3,0),"") -> 6 | T12: =IFERROR(MATCH(INDEX(LinearThree2,A12,0),LinearThree1,0),"") -> 6 | U12: =IFERROR(MATCH(INDEX(LinearThree2,A12,0),LinearThree3,0),"") -> 6 | W12: =IFERROR(MATCH(INDEX(LinearThree3,A12,0),LinearThree1,0),"") -> 6 | X12: =IFERROR(MATCH(INDEX(LinearThree3,A12,0),LinearThree2,0),"") -> 6 | AA12: =IFERROR(MATCH(INDEX(StackedThree1,A12,0),StackedThree2,0),"") -> 3 | AB12: =IFERROR(MATCH(INDEX(StackedThree1,A12,0),StackedThree3,0),"") | AD12: =IFERROR(MATCH(INDEX(StackedThree2,A12,0),StackedThree1,0),"") -> 8 | AE12: =IFERROR(MATCH(INDEX(StackedThree2,A12,0),StackedThree3,0),"") | AG12: =IFERROR(MATCH(INDEX(StackedThree3,A12,0),StackedThree1,0),"") | AH12: =IFERROR(MATCH(INDEX(StackedThree3,A12,0),StackedThree2,0),"") | AK12: =IFERROR(MATCH(INDEX(Square1,A12,0),Square2,0),"") | AL12: =IFERROR(MATCH(INDEX(Square1,A12,0),Square3,0),"") | AM12: =IFERROR(MATCH(INDEX(Square1,A12,0),Square4,0),"") -> 5 | AO12: =IFERROR(MATCH(INDEX(Square2,A12,0),Square1,0),"") -> 3 | AP12: =IFERROR(MATCH(INDEX(Square2,A12,0),Square3,0),"") -> 6 | AQ12: =IFERROR(MATCH(INDEX(Square2,A12,0),Square4,0),"") -> 6 | AS12: =IFERROR(MATCH(INDEX(Square3,A12,0),Square1,0),"") -> 3 | AT12: =IFERROR(MATCH(INDEX(Square3,A12,0),Square2,0),"") -> 6 | AU12: =IFERROR(MATCH(INDEX(Square3,A12,0),Square4,0),"") -> 6 | AW12: =IFERROR(MATCH(INDEX(Square4,A12,0),Square1,0),"") -> 3 | AX12: =IFERROR(MATCH(INDEX(Square4,A12,0),Square2,0),"") -> 6 | AY12: =IFERROR(MATCH(INDEX(Square4,A12,0),Square3,0),"") -> 6 | BB12: =IFERROR(MATCH(INDEX(LinearFour1,A12,0),LinearFour2,0),"") | BC12: =IFERROR(MATCH(INDEX(LinearFour1,A12,0),LinearFour3,0),"") | BD12: =IFERROR(MATCH(INDEX(LinearFour1,A12,0),LinearFour4,0),"") | BF12: =IFERROR(MATCH(INDEX(LinearFour2,A12,0),LinearFour1,0),"") | BG12: =IFERROR(MATCH(INDEX(LinearFour2,A12,0),LinearFour3,0),"") | BH12: =IFERROR(MATCH(INDEX(LinearFour2,A12,0),LinearFour4,0),"") | BJ12: =IFERROR(MATCH(INDEX(LinearFour3,A12,0),LinearFour1,0),"") | BK12: =IFERROR(MATCH(INDEX(LinearFour3,A12,0),LinearFour2,0),"") | BL12: =IFERROR(MATCH(INDEX(LinearFour3,A12,0),LinearFour4,0),"") | BN12: =IFERROR(MATCH(INDEX(LinearFour4,A12,0),LinearFour1,0),"") | BO12: =IFERROR(MATCH(INDEX(LinearFour4,A12,0),LinearFour2,0),"") | BP12: =IFERROR(MATCH(INDEX(LinearFour4,A12,0),LinearFour3,0),"") | BS12: =IFERROR(MATCH(INDEX(Oval1,A12,0),Oval2,0),"") -> 6 | BT12: =IFERROR(MATCH(INDEX(Oval1,A12,0),Oval3,0),"") | BU12: =IFERROR(MATCH(INDEX(Oval1,A12,0),Oval4,0),"") | BW12: =IFERROR(MATCH(INDEX(Oval2,A12,0),Oval1,0),"") -> 6 | BX12: =IFERROR(MATCH(INDEX(Oval2,A12,0),Oval3,0),"") | BY12: =IFERROR(MATCH(INDEX(Oval2,A12,0),Oval4,0),"") | CA12: =IFERROR(MATCH(INDEX(Oval3,A12,0),Oval1,0),"") -> 9 | CB12: =IFERROR(MATCH(INDEX(Oval3,A12,0),Oval2,0),"") -> 3 | CC12: =IFERROR(MATCH(INDEX(Oval3,A12,0),Oval4,0),"") -> 8 | CE12: =IFERROR(MATCH(INDEX(Oval4,A12,0),Oval1,0),"") -> 8 | CF12: =IFERROR(MATCH(INDEX(Oval4,A12,0),Oval2,0),"") | CG12: =IFERROR(MATCH(INDEX(Oval4,A12,0),Oval3,0),"") -> 5 | CJ12: =IFERROR(MATCH(INDEX(StackedFour1,A12,0),StackedFour2,0),"") -> 8 | CK12: =IFERROR(MATCH(INDEX(StackedFour1,A12,0),StackedFour3,0),"") | CL12: =IFERROR(MATCH(INDEX(StackedFour1,A12,0),StackedFour4,0),"") -> 2 | CN12: =IFERROR(MATCH(INDEX(StackedFour2,A12,0),StackedFour1,0),"") -> 3 | CO12: =IFERROR(MATCH(INDEX(StackedFour2,A12,0),StackedFour3,0),"") | CP12: =IFERROR(MATCH(INDEX(StackedFour2,A12,0),StackedFour4,0),"") | CR12: =IFERROR(MATCH(INDEX(StackedFour3,A12,0),StackedFour1,0),"") | CS12: =IFERROR(MATCH(INDEX(StackedFour3,A12,0),StackedFour2,0),"") | CT12: =IFERROR(MATCH(INDEX(StackedFour3,A12,0),StackedFour4,0),"") | CV12: =IFERROR(MATCH(INDEX(StackedFour4,A12,0),StackedFour1,0),"") | CW12: =IFERROR(MATCH(INDEX(StackedFour4,A12,0),StackedFour2,0),"") | CX12: =IFERROR(MATCH(INDEX(StackedFour4,A12,0),StackedFour3,0),"")
A13: 7 | B13: =IFERROR(IF(LEN(INDEX(TwoCircle1,A13,0))=0,"",IF(ISERROR(MATCH(INDEX(TwoCircle1,Calc!A13,0),TwoCircle2,0)),INDEX(TwoCircle1,Calc!A13,0),"")),"") -> China | C13: =IFERROR(IF(LEN(INDEX(TwoCircle2,A13,0))=0,"",IF(ISERROR(MATCH(INDEX(TwoCircle2,Calc!A13,0),TwoCircle1,0)),INDEX(TwoCircle2,Calc!A13,0),"")),"") -> Portugal | D13: =IFERROR(IF(MATCH(INDEX(TwoCircle2,Calc!A13,0),TwoCircle1,0)>0,INDEX(TwoCircle2,Calc!A13,0)),"") | G13: =IFERROR(MATCH(INDEX(Triangular1,Calc!A13,0),Triangular2,0),"") -> 7 | H13: =IFERROR(MATCH(INDEX(Triangular1,Calc!A13,0),Triangular3,0),"") -> 4 | J13: =IFERROR(MATCH(INDEX(Triangular2,Calc!A13,0),Triangular1,0),"") -> 7 | K13: =IFERROR(MATCH(INDEX(Triangular2,Calc!A13,0),Triangular3,0),"") -> 4 | M13: =IFERROR(MATCH(INDEX(Triangular3,Calc!A13,0),Triangular1,0),"") | N13: =IFERROR(MATCH(INDEX(Triangular3,Calc!A13,0),Triangular2,0),"") | Q13: =IFERROR(MATCH(INDEX(LinearThree1,A13,0),LinearThree2,0),"") | R13: =IFERROR(MATCH(INDEX(LinearThree1,A13,0),LinearThree3,0),"") -> 3 | T13: =IFERROR(MATCH(INDEX(LinearThree2,A13,0),LinearThree1,0),"") | U13: =IFERROR(MATCH(INDEX(LinearThree2,A13,0),LinearThree3,0),"") -> 7 | W13: =IFERROR(MATCH(INDEX(LinearThree3,A13,0),LinearThree1,0),"") | X13: =IFERROR(MATCH(INDEX(LinearThree3,A13,0),LinearThree2,0),"") -> 7 | AA13: =IFERROR(MATCH(INDEX(StackedThree1,A13,0),StackedThree2,0),"") | AB13: =IFERROR(MATCH(INDEX(StackedThree1,A13,0),StackedThree3,0),"") | AD13: =IFERROR(MATCH(INDEX(StackedThree2,A13,0),StackedThree1,0),"") | AE13: =IFERROR(MATCH(INDEX(StackedThree2,A13,0),StackedThree3,0),"") -> 3 | AG13: =IFERROR(MATCH(INDEX(StackedThree3,A13,0),StackedThree1,0),"") | AH13: =IFERROR(MATCH(INDEX(StackedThree3,A13,0),StackedThree2,0),"") | AK13: =IFERROR(MATCH(INDEX(Square1,A13,0),Square2,0),"") | AL13: =IFERROR(MATCH(INDEX(Square1,A13,0),Square3,0),"") | AM13: =IFERROR(MATCH(INDEX(Square1,A13,0),Square4,0),"") | AO13: =IFERROR(MATCH(INDEX(Square2,A13,0),Square1,0),"") -> 2 | AP13: =IFERROR(MATCH(INDEX(Square2,A13,0),Square3,0),"") | AQ13: =IFERROR(MATCH(INDEX(Square2,A13,0),Square4,0),"") -> 7 | AS13: =IFERROR(MATCH(INDEX(Square3,A13,0),Square1,0),"") -> 1 | AT13: =IFERROR(MATCH(INDEX(Square3,A13,0),Square2,0),"") | AU13: =IFERROR(MATCH(INDEX(Square3,A13,0),Square4,0),"") | AW13: =IFERROR(MATCH(INDEX(Square4,A13,0),Square1,0),"") -> 2 | AX13: =IFERROR(MATCH(INDEX(Square4,A13,0),Square2,0),"") -> 7 | AY13: =IFERROR(MATCH(INDEX(Square4,A13,0),Square3,0),"") | BB13: =IFERROR(MATCH(INDEX(LinearFour1,A13,0),LinearFour2,0),"") | BC13: =IFERROR(MATCH(INDEX(LinearFour1,A13,0),LinearFour3,0),"") | BD13: =IFERROR(MATCH(INDEX(LinearFour1,A13,0),LinearFour4,0),"") | BF13: =IFERROR(MATCH(INDEX(LinearFour2,A13,0),LinearFour1,0),"") -> 5 | BG13: =IFERROR(MATCH(INDEX(LinearFour2,A13,0),LinearFour3,0),"") -> 7 | BH13: =IFERROR(MATCH(INDEX(LinearFour2,A13,0),LinearFour4,0),"") -> 5 | BJ13: =IFERROR(MATCH(INDEX(LinearFour3,A13,0),LinearFour1,0),"") -> 5 | BK13: =IFERROR(MATCH(INDEX(LinearFour3,A13,0),LinearFour2,0),"") -> 7 | BL13: =IFERROR(MATCH(INDEX(LinearFour3,A13,0),LinearFour4,0),"") -> 5 | BN13: =IFERROR(MATCH(INDEX(LinearFour4,A13,0),LinearFour1,0),"") | BO13: =IFERROR(MATCH(INDEX(LinearFour4,A13,0),LinearFour2,0),"") | BP13: =IFERROR(MATCH(INDEX(LinearFour4,A13,0),LinearFour3,0),"") | BS13: =IFERROR(MATCH(INDEX(Oval1,A13,0),Oval2,0),"") | BT13: =IFERROR(MATCH(INDEX(Oval1,A13,0),Oval3,0),"") | BU13: =IFERROR(MATCH(INDEX(Oval1,A13,0),Oval4,0),"") -> 5 | BW13: =IFERROR(MATCH(INDEX(Oval2,A13,0),Oval1,0),"") | BX13: =IFERROR(MATCH(INDEX(Oval2,A13,0),Oval3,0),"") -> 3 | BY13: =IFERROR(MATCH(INDEX(Oval2,A13,0),Oval4,0),"") -> 3 | CA13: =IFERROR(MATCH(INDEX(Oval3,A13,0),Oval1,0),"") | CB13: =IFERROR(MATCH(INDEX(Oval3,A13,0),Oval2,0),"") | CC13: =IFERROR(MATCH(INDEX(Oval3,A13,0),Oval4,0),"") -> 1 | CE13: =IFERROR(MATCH(INDEX(Oval4,A13,0),Oval1,0),"") | CF13: =IFERROR(MATCH(INDEX(Oval4,A13,0),Oval2,0),"") -> 8 | CG13: =IFERROR(MATCH(INDEX(Oval4,A13,0),Oval3,0),"") | CJ13: =IFERROR(MATCH(INDEX(StackedFour1,A13,0),StackedFour2,0),"") -> 3 | CK13: =IFERROR(MATCH(INDEX(StackedFour1,A13,0),StackedFour3,0),"") -> 2 | CL13: =IFERROR(MATCH(INDEX(StackedFour1,A13,0),StackedFour4,0),"") | CN13: =IFERROR(MATCH(INDEX(StackedFour2,A13,0),StackedFour1,0),"") -> 4 | CO13: =IFERROR(MATCH(INDEX(StackedFour2,A13,0),StackedFour3,0),"") -> 3 | CP13: =IFERROR(MATCH(INDEX(StackedFour2,A13,0),StackedFour4,0),"") -> 1 | CR13: =IFERROR(MATCH(INDEX(StackedFour3,A13,0),StackedFour1,0),"") | CS13: =IFERROR(MATCH(INDEX(StackedFour3,A13,0),StackedFour2,0),"") | CT13: =IFERROR(MATCH(INDEX(StackedFour3,A13,0),StackedFour4,0),"") | CV13: =IFERROR(MATCH(INDEX(StackedFour4,A13,0),StackedFour1,0),"") | CW13: =IFERROR(MATCH(INDEX(StackedFour4,A13,0),StackedFour2,0),"") | CX13: =IFERROR(MATCH(INDEX(StackedFour4,A13,0),StackedFour3,0),"")
A14: 8 | B14: =IFERROR(IF(LEN(INDEX(TwoCircle1,A14,0))=0,"",IF(ISERROR(MATCH(INDEX(TwoCircle1,Calc!A14,0),TwoCircle2,0)),INDEX(TwoCircle1,Calc!A14,0),"")),"") -> India | C14: =IFERROR(IF(LEN(INDEX(TwoCircle2,A14,0))=0,"",IF(ISERROR(MATCH(INDEX(TwoCircle2,Calc!A14,0),TwoCircle1,0)),INDEX(TwoCircle2,Calc!A14,0),"")),"") -> Italy | D14: =IFERROR(IF(MATCH(INDEX(TwoCircle2,Calc!A14,0),TwoCircle1,0)>0,INDEX(TwoCircle2,Calc!A14,0)),"") | G14: =IFERROR(MATCH(INDEX(Triangular1,Calc!A14,0),Triangular2,0),"") | H14: =IFERROR(MATCH(INDEX(Triangular1,Calc!A14,0),Triangular3,0),"") | J14: =IFERROR(MATCH(INDEX(Triangular2,Calc!A14,0),Triangular1,0),"") | K14: =IFERROR(MATCH(INDEX(Triangular2,Calc!A14,0),Triangular3,0),"") | M14: =IFERROR(MATCH(INDEX(Triangular3,Calc!A14,0),Triangular1,0),"") | N14: =IFERROR(MATCH(INDEX(Triangular3,Calc!A14,0),Triangular2,0),"") | Q14: =IFERROR(MATCH(INDEX(LinearThree1,A14,0),LinearThree2,0),"") | R14: =IFERROR(MATCH(INDEX(LinearThree1,A14,0),LinearThree3,0),"") | T14: =IFERROR(MATCH(INDEX(LinearThree2,A14,0),LinearThree1,0),"") | U14: =IFERROR(MATCH(INDEX(LinearThree2,A14,0),LinearThree3,0),"") | W14: =IFERROR(MATCH(INDEX(LinearThree3,A14,0),LinearThree1,0),"") | X14: =IFERROR(MATCH(INDEX(LinearThree3,A14,0),LinearThree2,0),"") | AA14: =IFERROR(MATCH(INDEX(StackedThree1,A14,0),StackedThree2,0),"") -> 6 | AB14: =IFERROR(MATCH(INDEX(StackedThree1,A14,0),StackedThree3,0),"") | AD14: =IFERROR(MATCH(INDEX(StackedThree2,A14,0),StackedThree1,0),"") -> 8 | AE14: =IFERROR(MATCH(INDEX(StackedThree2,A14,0),StackedThree3,0),"") | AG14: =IFERROR(MATCH(INDEX(StackedThree3,A14,0),StackedThree1,0),"") | AH14: =IFERROR(MATCH(INDEX(StackedThree3,A14,0),StackedThree2,0),"") | AK14: =IFERROR(MATCH(INDEX(Square1,A14,0),Square2,0),"") -> 2 | AL14: =IFERROR(MATCH(INDEX(Square1,A14,0),Square3,0),"") -> 1 | AM14: =IFERROR(MATCH(INDEX(Square1,A14,0),Square4,0),"") | AO14: =IFERROR(MATCH(INDEX(Square2,A14,0),Square1,0),"") | AP14: =IFERROR(MATCH(INDEX(Square2,A14,0),Square3,0),"") | AQ14: =IFERROR(MATCH(INDEX(Square2,A14,0),Square4,0),"") | AS14: =IFERROR(MATCH(INDEX(Square3,A14,0),Square1,0),"") | AT14: =IFERROR(MATCH(INDEX(Square3,A14,0),Square2,0),"") -> 5 | AU14: =IFERROR(MATCH(INDEX(Square3,A14,0),Square4,0),"") -> 8 | AW14: =IFERROR(MATCH(INDEX(Square4,A14,0),Square1,0),"") | AX14: =IFERROR(MATCH(INDEX(Square4,A14,0),Square2,0),"") -> 5 | AY14: =IFERROR(MATCH(INDEX(Square4,A14,0),Square3,0),"") -> 8 | BB14: =IFERROR(MATCH(INDEX(LinearFour1,A14,0),LinearFour2,0),"") | BC14: =IFERROR(MATCH(INDEX(LinearFour1,A14,0),LinearFour3,0),"") | BD14: =IFERROR(MATCH(INDEX(LinearFour1,A14,0),LinearFour4,0),"") | BF14: =IFERROR(MATCH(INDEX(LinearFour2,A14,0),LinearFour1,0),"") -> 3 | BG14: =IFERROR(MATCH(INDEX(LinearFour2,A14,0),LinearFour3,0),"") -> 8 | BH14: =IFERROR(MATCH(INDEX(LinearFour2,A14,0),LinearFour4,0),"") | BJ14: =IFERROR(MATCH(INDEX(LinearFour3,A14,0),LinearFour1,0),"") -> 3 | BK14: =IFERROR(MATCH(INDEX(LinearFour3,A14,0),LinearFour2,0),"") -> 8 | BL14: =IFERROR(MATCH(INDEX(LinearFour3,A14,0),LinearFour4,0),"") | BN14: =IFERROR(MATCH(INDEX(LinearFour4,A14,0),LinearFour1,0),"") | BO14: =IFERROR(MATCH(INDEX(LinearFour4,A14,0),LinearFour2,0),"") | BP14: =IFERROR(MATCH(INDEX(LinearFour4,A14,0),LinearFour3,0),"") | BS14: =IFERROR(MATCH(INDEX(Oval1,A14,0),Oval2,0),"") | BT14: =IFERROR(MATCH(INDEX(Oval1,A14,0),Oval3,0),"") -> 5 | BU14: =IFERROR(MATCH(INDEX(Oval1,A14,0),Oval4,0),"") -> 6 | BW14: =IFERROR(MATCH(INDEX(Oval2,A14,0),Oval1,0),"") | BX14: =IFERROR(MATCH(INDEX(Oval2,A14,0),Oval3,0),"") | BY14: =IFERROR(MATCH(INDEX(Oval2,A14,0),Oval4,0),"") -> 7 | CA14: =IFERROR(MATCH(INDEX(Oval3,A14,0),Oval1,0),"") | CB14: =IFERROR(MATCH(INDEX(Oval3,A14,0),Oval2,0),"") | CC14: =IFERROR(MATCH(INDEX(Oval3,A14,0),Oval4,0),"") | CE14: =IFERROR(MATCH(INDEX(Oval4,A14,0),Oval1,0),"") -> 9 | CF14: =IFERROR(MATCH(INDEX(Oval4,A14,0),Oval2,0),"") -> 3 | CG14: =IFERROR(MATCH(INDEX(Oval4,A14,0),Oval3,0),"") -> 6 | CJ14: =IFERROR(MATCH(INDEX(StackedFour1,A14,0),StackedFour2,0),"") | CK14: =IFERROR(MATCH(INDEX(StackedFour1,A14,0),StackedFour3,0),"") | CL14: =IFERROR(MATCH(INDEX(StackedFour1,A14,0),StackedFour4,0),"") | CN14: =IFERROR(MATCH(INDEX(StackedFour2,A14,0),StackedFour1,0),"") -> 6 | CO14: =IFERROR(MATCH(INDEX(StackedFour2,A14,0),StackedFour3,0),"") | CP14: =IFERROR(MATCH(INDEX(StackedFour2,A14,0),StackedFour4,0),"") -> 2 | CR14: =IFERROR(MATCH(INDEX(StackedFour3,A14,0),StackedFour1,0),"") | CS14: =IFERROR(MATCH(INDEX(StackedFour3,A14,0),StackedFour2,0),"") | CT14: =IFERROR(MATCH(INDEX(StackedFour3,A14,0),StackedFour4,0),"") | CV14: =IFERROR(MATCH(INDEX(StackedFour4,A14,0),StackedFour1,0),"") | CW14: =IFERROR(MATCH(INDEX(StackedFour4,A14,0),StackedFour2,0),"") | CX14: =IFERROR(MATCH(INDEX(StackedFour4,A14,0),StackedFour3,0),"")
A15: 9 | B15: =IFERROR(IF(LEN(INDEX(TwoCircle1,A15,0))=0,"",IF(ISERROR(MATCH(INDEX(TwoCircle1,Calc!A15,0),TwoCircle2,0)),INDEX(TwoCircle1,Calc!A15,0),"")),"") | C15: =IFERROR(IF(LEN(INDEX(TwoCircle2,A15,0))=0,"",IF(ISERROR(MATCH(INDEX(TwoCircle2,Calc!A15,0),TwoCircle1,0)),INDEX(TwoCircle2,Calc!A15,0),"")),"") | D15: =IFERROR(IF(MATCH(INDEX(TwoCircle2,Calc!A15,0),TwoCircle1,0)>0,INDEX(TwoCircle2,Calc!A15,0)),"") | G15: =IFERROR(MATCH(INDEX(Triangular1,Calc!A15,0),Triangular2,0),"") -> 1 | H15: =IFERROR(MATCH(INDEX(Triangular1,Calc!A15,0),Triangular3,0),"") | J15: =IFERROR(MATCH(INDEX(Triangular2,Calc!A15,0),Triangular1,0),"") | K15: =IFERROR(MATCH(INDEX(Triangular2,Calc!A15,0),Triangular3,0),"") | M15: =IFERROR(MATCH(INDEX(Triangular3,Calc!A15,0),Triangular1,0),"") | N15: =IFERROR(MATCH(INDEX(Triangular3,Calc!A15,0),Triangular2,0),"") | Q15: =IFERROR(MATCH(INDEX(LinearThree1,A15,0),LinearThree2,0),"") | R15: =IFERROR(MATCH(INDEX(LinearThree1,A15,0),LinearThree3,0),"") | T15: =IFERROR(MATCH(INDEX(LinearThree2,A15,0),LinearThree1,0),"") | U15: =IFERROR(MATCH(INDEX(LinearThree2,A15,0),LinearThree3,0),"") | W15: =IFERROR(MATCH(INDEX(LinearThree3,A15,0),LinearThree1,0),"") | X15: =IFERROR(MATCH(INDEX(LinearThree3,A15,0),LinearThree2,0),"") | AA15: =IFERROR(MATCH(INDEX(StackedThree1,A15,0),StackedThree2,0),"") | AB15: =IFERROR(MATCH(INDEX(StackedThree1,A15,0),StackedThree3,0),"") | AD15: =IFERROR(MATCH(INDEX(StackedThree2,A15,0),StackedThree1,0),"") | AE15: =IFERROR(MATCH(INDEX(StackedThree2,A15,0),StackedThree3,0),"") | AG15: =IFERROR(MATCH(INDEX(StackedThree3,A15,0),StackedThree1,0),"") | AH15: =IFERROR(MATCH(INDEX(StackedThree3,A15,0),StackedThree2,0),"") | AK15: =IFERROR(MATCH(INDEX(Square1,A15,0),Square2,0),"") | AL15: =IFERROR(MATCH(INDEX(Square1,A15,0),Square3,0),"") -> 4 | AM15: =IFERROR(MATCH(INDEX(Square1,A15,0),Square4,0),"") -> 2 | AO15: =IFERROR(MATCH(INDEX(Square2,A15,0),Square1,0),"") | AP15: =IFERROR(MATCH(INDEX(Square2,A15,0),Square3,0),"") | AQ15: =IFERROR(MATCH(INDEX(Square2,A15,0),Square4,0),"") | AS15: =IFERROR(MATCH(INDEX(Square3,A15,0),Square1,0),"") | AT15: =IFERROR(MATCH(INDEX(Square3,A15,0),Square2,0),"") | AU15: =IFERROR(MATCH(INDEX(Square3,A15,0),Square4,0),"") | AW15: =IFERROR(MATCH(INDEX(Square4,A15,0),Square1,0),"") | AX15: =IFERROR(MATCH(INDEX(Square4,A15,0),Square2,0),"") | AY15: =IFERROR(MATCH(INDEX(Square4,A15,0),Square3,0),"") | BB15: =IFERROR(MATCH(INDEX(LinearFour1,A15,0),LinearFour2,0),"") | BC15: =IFERROR(MATCH(INDEX(LinearFour1,A15,0),LinearFour3,0),"") | BD15: =IFERROR(MATCH(INDEX(LinearFour1,A15,0),LinearFour4,0),"") | BF15: =IFERROR(MATCH(INDEX(LinearFour2,A15,0),LinearFour1,0),"") | BG15: =IFERROR(MATCH(INDEX(LinearFour2,A15,0),LinearFour3,0),"") | BH15: =IFERROR(MATCH(INDEX(LinearFour2,A15,0),LinearFour4,0),"") | BJ15: =IFERROR(MATCH(INDEX(LinearFour3,A15,0),LinearFour1,0),"") | BK15: =IFERROR(MATCH(INDEX(LinearFour3,A15,0),LinearFour2,0),"") | BL15: =IFERROR(MATCH(INDEX(LinearFour3,A15,0),LinearFour4,0),"") | BN15: =IFERROR(MATCH(INDEX(LinearFour4,A15,0),LinearFour1,0),"") | BO15: =IFERROR(MATCH(INDEX(LinearFour4,A15,0),LinearFour2,0),"") | BP15: =IFERROR(MATCH(INDEX(LinearFour4,A15,0),LinearFour3,0),"") | BS15: =IFERROR(MATCH(INDEX(Oval1,A15,0),Oval2,0),"") -> 3 | BT15: =IFERROR(MATCH(INDEX(Oval1,A15,0),Oval3,0),"") -> 6 | BU15: =IFERROR(MATCH(INDEX(Oval1,A15,0),Oval4,0),"") -> 8 | BW15: =IFERROR(MATCH(INDEX(Oval2,A15,0),Oval1,0),"") | BX15: =IFERROR(MATCH(INDEX(Oval2,A15,0),Oval3,0),"") | BY15: =IFERROR(MATCH(INDEX(Oval2,A15,0),Oval4,0),"") | CA15: =IFERROR(MATCH(INDEX(Oval3,A15,0),Oval1,0),"") | CB15: =IFERROR(MATCH(INDEX(Oval3,A15,0),Oval2,0),"") | CC15: =IFERROR(MATCH(INDEX(Oval3,A15,0),Oval4,0),"") | CE15: =IFERROR(MATCH(INDEX(Oval4,A15,0),Oval1,0),"") | CF15: =IFERROR(MATCH(INDEX(Oval4,A15,0),Oval2,0),"") | CG15: =IFERROR(MATCH(INDEX(Oval4,A15,0),Oval3,0),"") | CJ15: =IFERROR(MATCH(INDEX(StackedFour1,A15,0),StackedFour2,0),"") -> 6 | CK15: =IFERROR(MATCH(INDEX(StackedFour1,A15,0),StackedFour3,0),"") | CL15: =IFERROR(MATCH(INDEX(StackedFour1,A15,0),StackedFour4,0),"") | CN15: =IFERROR(MATCH(INDEX(StackedFour2,A15,0),StackedFour1,0),"") | CO15: =IFERROR(MATCH(INDEX(StackedFour2,A15,0),StackedFour3,0),"") | CP15: =IFERROR(MATCH(INDEX(StackedFour2,A15,0),StackedFour4,0),"") | CR15: =IFERROR(MATCH(INDEX(StackedFour3,A15,0),StackedFour1,0),"") | CS15: =IFERROR(MATCH(INDEX(StackedFour3,A15,0),StackedFour2,0),"") | CT15: =IFERROR(MATCH(INDEX(StackedFour3,A15,0),StackedFour4,0),"") | CV15: =IFERROR(MATCH(INDEX(StackedFour4,A15,0),StackedFour1,0),"") | CW15: =IFERROR(MATCH(INDEX(StackedFour4,A15,0),StackedFour2,0),"") | CX15: =IFERROR(MATCH(INDEX(StackedFour4,A15,0),StackedFour3,0),"")
A16: 10 | B16: =IFERROR(IF(LEN(INDEX(TwoCircle1,A16,0))=0,"",IF(ISERROR(MATCH(INDEX(TwoCircle1,Calc!A16,0),TwoCircle2,0)),INDEX(TwoCircle1,Calc!A16,0),"")),"") | C16: =IFERROR(IF(LEN(INDEX(TwoCircle2,A16,0))=0,"",IF(ISERROR(MATCH(INDEX(TwoCircle2,Calc!A16,0),TwoCircle1,0)),INDEX(TwoCircle2,Calc!A16,0),"")),"") | D16: =IFERROR(IF(MATCH(INDEX(TwoCircle2,Calc!A16,0),TwoCircle1,0)>0,INDEX(TwoCircle2,Calc!A16,0)),"") | G16: =IFERROR(MATCH(INDEX(Triangular1,Calc!A16,0),Triangular2,0),"") | H16: =IFERROR(MATCH(INDEX(Triangular1,Calc!A16,0),Triangular3,0),"") | J16: =IFERROR(MATCH(INDEX(Triangular2,Calc!A16,0),Triangular1,0),"") | K16: =IFERROR(MATCH(INDEX(Triangular2,Calc!A16,0),Triangular3,0),"") | M16: =IFERROR(MATCH(INDEX(Triangular3,Calc!A16,0),Triangular1,0),"") | N16: =IFERROR(MATCH(INDEX(Triangular3,Calc!A16,0),Triangular2,0),"") | Q16: =IFERROR(MATCH(INDEX(LinearThree1,A16,0),LinearThree2,0),"") | R16: =IFERROR(MATCH(INDEX(LinearThree1,A16,0),LinearThree3,0),"") | T16: =IFERROR(MATCH(INDEX(LinearThree2,A16,0),LinearThree1,0),"") | U16: =IFERROR(MATCH(INDEX(LinearThree2,A16,0),LinearThree3,0),"") | W16: =IFERROR(MATCH(INDEX(LinearThree3,A16,0),LinearThree1,0),"") | X16: =IFERROR(MATCH(INDEX(LinearThree3,A16,0),LinearThree2,0),"") | AA16: =IFERROR(MATCH(INDEX(StackedThree1,A16,0),StackedThree2,0),"") | AB16: =IFERROR(MATCH(INDEX(StackedThree1,A16,0),StackedThree3,0),"") | AD16: =IFERROR(MATCH(INDEX(StackedThree2,A16,0),StackedThree1,0),"") | AE16: =IFERROR(MATCH(INDEX(StackedThree2,A16,0),StackedThree3,0),"") | AG16: =IFERROR(MATCH(INDEX(StackedThree3,A16,0),StackedThree1,0),"") | AH16: =IFERROR(MATCH(INDEX(StackedThree3,A16,0),StackedThree2,0),"") | AK16: =IFERROR(MATCH(INDEX(Square1,A16,0),Square2,0),"") | AL16: =IFERROR(MATCH(INDEX(Square1,A16,0),Square3,0),"") | AM16: =IFERROR(MATCH(INDEX(Square1,A16,0),Square4,0),"") | AO16: =IFERROR(MATCH(INDEX(Square2,A16,0),Square1,0),"") | AP16: =IFERROR(MATCH(INDEX(Square2,A16,0),Square3,0),"") | AQ16: =IFERROR(MATCH(INDEX(Square2,A16,0),Square4,0),"") | AS16: =IFERROR(MATCH(INDEX(Square3,A16,0),Square1,0),"") | AT16: =IFERROR(MATCH(INDEX(Square3,A16,0),Square2,0),"") | AU16: =IFERROR(MATCH(INDEX(Square3,A16,0),Square4,0),"") | AW16: =IFERROR(MATCH(INDEX(Square4,A16,0),Square1,0),"") | AX16: =IFERROR(MATCH(INDEX(Square4,A16,0),Square2,0),"") | AY16: =IFERROR(MATCH(INDEX(Square4,A16,0),Square3,0),"") | BB16: =IFERROR(MATCH(INDEX(LinearFour1,A16,0),LinearFour2,0),"") | BC16: =IFERROR(MATCH(INDEX(LinearFour1,A16,0),LinearFour3,0),"") | BD16: =IFERROR(MATCH(INDEX(LinearFour1,A16,0),LinearFour4,0),"") | BF16: =IFERROR(MATCH(INDEX(LinearFour2,A16,0),LinearFour1,0),"") | BG16: =IFERROR(MATCH(INDEX(LinearFour2,A16,0),LinearFour3,0),"") | BH16: =IFERROR(MATCH(INDEX(LinearFour2,A16,0),LinearFour4,0),"") | BJ16: =IFERROR(MATCH(INDEX(LinearFour3,A16,0),LinearFour1,0),"") | BK16: =IFERROR(MATCH(INDEX(LinearFour3,A16,0),LinearFour2,0),"") | BL16: =IFERROR(MATCH(INDEX(LinearFour3,A16,0),LinearFour4,0),"") | BN16: =IFERROR(MATCH(INDEX(LinearFour4,A16,0),LinearFour1,0),"") | BO16: =IFERROR(MATCH(INDEX(LinearFour4,A16,0),LinearFour2,0),"") | BP16: =IFERROR(MATCH(INDEX(LinearFour4,A16,0),LinearFour3,0),"") | BS16: =IFERROR(MATCH(INDEX(Oval1,A16,0),Oval2,0),"") | BT16: =IFERROR(MATCH(INDEX(Oval1,A16,0),Oval3,0),"") | BU16: =IFERROR(MATCH(INDEX(Oval1,A16,0),Oval4,0),"") | BW16: =IFERROR(MATCH(INDEX(Oval2,A16,0),Oval1,0),"") | BX16: =IFERROR(MATCH(INDEX(Oval2,A16,0),Oval3,0),"") | BY16: =IFERROR(MATCH(INDEX(Oval2,A16,0),Oval4,0),"") | CA16: =IFERROR(MATCH(INDEX(Oval3,A16,0),Oval1,0),"") | CB16: =IFERROR(MATCH(INDEX(Oval3,A16,0),Oval2,0),"") | CC16: =IFERROR(MATCH(INDEX(Oval3,A16,0),Oval4,0),"") | CE16: =IFERROR(MATCH(INDEX(Oval4,A16,0),Oval1,0),"") | CF16: =IFERROR(MATCH(INDEX(Oval4,A16,0),Oval2,0),"") | CG16: =IFERROR(MATCH(INDEX(Oval4,A16,0),Oval3,0),"") | CJ16: =IFERROR(MATCH(INDEX(StackedFour1,A16,0),StackedFour2,0),"") | CK16: =IFERROR(MATCH(INDEX(StackedFour1,A16,0),StackedFour3,0),"") | CL16: =IFERROR(MATCH(INDEX(StackedFour1,A16,0),StackedFour4,0),"") | CN16: =IFERROR(MATCH(INDEX(StackedFour2,A16,0),StackedFour1,0),"") | CO16: =IFERROR(MATCH(INDEX(StackedFour2,A16,0),StackedFour3,0),"") | CP16: =IFERROR(MATCH(INDEX(StackedFour2,A16,0),StackedFour4,0),"") | CR16: =IFERROR(MATCH(INDEX(StackedFour3,A16,0),StackedFour1,0),"") | CS16: =IFERROR(MATCH(INDEX(StackedFour3,A16,0),StackedFour2,0),"") | CT16: =IFERROR(MATCH(INDEX(StackedFour3,A16,0),StackedFour4,0),"") | CV16: =IFERROR(MATCH(INDEX(StackedFour4,A16,0),StackedFour1,0),"") | CW16: =IFERROR(MATCH(INDEX(StackedFour4,A16,0),StackedFour2,0),"") | CX16: =IFERROR(MATCH(INDEX(StackedFour4,A16,0),StackedFour3,0),"")
A17: 11
A18: 12
A19: 13
A20: 14
A21: 15
A22: 16
A23: 17
A24: 18
A25: 19
A26: 20
B29: Manipulated Column 1 | C29: Manipulated Column 2 | D29: Manipulated Column 3 | G29: Column 1 Only | H29: Column 2 Only | I29: Column 3 Only | J29: Column 1&2 | K29: Column 1&3 | L29: Column 2&3 | M29: All 3 Columns | Q29: Column 1 Only | R29: Column 2 Only | S29: Column 3 Only | T29: Column 1&2 | U29: Column 2&3 | V29: Column 1&3 | W29: All 3 Columns | AA29: Column 1 Only | AB29: Column 2 Only | AC29: Column 3 Only | AD29: Column 1&2 | AE29: Column 2&3 | AF29: Column 1&3 | AG29: All 3 Columns | AK29: Column 1 Only | AL29: Column 2 Only | AM29: Column 3 Only | AN29: Column 4 Only | AO29: Column 1&2 | AP29: Column 1&3 | AQ29: Column 1&4 | AR29: Column 2&3 | AS29: Column 2&4 | AT29: Column 3&4 | AU29: Column 1&2&3 | AV29: Column 1&2&4 | AW29: Column 1&3&4 | AX29: Column 2&3&4 | AY29: All 4 Columns | BB29: Column 1 Only | BC29: Column 2 Only | BD29: Column 3 Only | BE29: Column 4 Only | BF29: Column 1&2 | BG29: Column 1&3 | BH29: Column 1&4 | BI29: Column 2&3 | BJ29: Column 2&4 | BK29: Column 3&4 | BL29: Column 1&2&3 | BM29: Column 1&2&4 | BN29: Column 1&3&4 | BO29: Column 2&3&4 | BP29: All 4 Columns | BS29: Column 1 Only | BT29: Column 2 Only | BU29: Column 3 Only | BV29: Column 4 Only | BW29: Column 1&2 | BX29: Column 1&3 | BY29: Column 1&4 | BZ29: Column 2&3 | CA29: Column 2&4 | CB29: Column 3&4 | CC29: Column 1&2&3 | CD29: Column 1&2&4 | CE29: Column 1&3&4 | CF29: Column 2&3&4 | CG29: All 4 Columns | CJ29: Column 1 Only | CK29: Column 2 Only | CL29: Column 3 Only | CM29: Column 4 Only | CN29: Column 1&2 | CO29: Column 1&3 | CP29: Column 1&4 | CQ29: Column 2&3 | CR29: Column 2&4 | CS29: Column 3&4 | CT29: Column 1&2&3 | CU29: Column 1&2&4 | CV29: Column 1&3&4 | CW29: Column 2&3&4 | CX29: All 4 Columns
B30: =IFERROR(IF(B7="","",CHAR(10)&" "&B7),"") | C30: =IFERROR(IF(C7="","",CHAR(10)&" "&C7),"") -> France | D30: =IFERROR(IF(D7="","",CHAR(10)&" "&D7),"") | G30: =IFERROR(IF(IF(AND(LEN(G7)=0,LEN(H7)=0),INDEX(Triangular1,Calc!A7,0),"")=0,"",IF(AND(LEN(G7)=0,LEN(H7)=0)=TRUE,INDEX(Triangular1,Calc!A7,0),"")),"") -> Elephants | H30: =IFERROR(IF(IF(AND(LEN(J7)=0,LEN(K7)=0),INDEX(Triangular2,Calc!A7,0),"")=0,"",IF(AND(LEN(J7)=0,LEN(K7)=0)=TRUE,INDEX(Triangular2,Calc!A7,0),"")),"") | I30: =IFERROR(IF(IF(AND(LEN(M7)=0,LEN(N7)=0),INDEX(Triangular3,Calc!A7,0),"")=0,"",IF(AND(LEN(M7)=0,LEN(N7)=0)=TRUE,INDEX(Triangular3,Calc!A7,0),"")),"") | J30: =IFERROR(IF(IF(AND(LEN(G7)>0,LEN(H7)=0),INDEX(Triangular1,Calc!A7,0),"")=0,"",IF(AND(LEN(G7)>0,LEN(H7)=0),INDEX(Triangular1,Calc!A7,0),"")),"") | K30: =IFERROR(IF(IF(AND(LEN(H7)>0,LEN(G7)=0),INDEX(Triangular1,Calc!A7,0),"")=0,"",IF(AND(LEN(H7)>0,LEN(G7)=0),INDEX(Triangular1,Calc!A7,0),"")),"") | L30: =IFERROR(IF(IF(AND(LEN(K7)>0,LEN(J7)=0),INDEX(Triangular2,Calc!A7,0),"")=0,"",IF(AND(LEN(K7)>0,LEN(J7)=0),INDEX(Triangular2,Calc!A7,0),"")),"") | M30: =IFERROR(IF(ISERROR(G7+H7),"",INDEX(Triangular1,Calc!A7,0)),"") | Q30: =IFERROR(IF(IF(AND(LEN(Q7)=0,LEN(R7)=0),INDEX(LinearThree1,A7,0),"")=0,"",IF(AND(LEN(Q7)=0,LEN(R7)=0),INDEX(LinearThree1,A7,0),"")),"") -> Elephants | R30: =IFERROR(IF(IF(AND(LEN(T7)=0,LEN(U7)=0),INDEX(LinearThree2,A7,0),"")=0,"",IF(AND(LEN(T7)=0,LEN(U7)=0),INDEX(LinearThree2,A7,0),"")),"") -> Buffaloes | S30: =IFERROR(IF(IF(AND(LEN(X7)=0,LEN(W7)=0),INDEX(LinearThree3,A7,0),"")=0,"",IF(AND(LEN(X7)=0,LEN(W7)=0),INDEX(LinearThree3,A7,0),"")),"") | T30: =IFERROR(IF(IF(LEN(Q7)>0,INDEX(LinearThree1,A7,0),"")=0,"",IF(LEN(Q7)>0,INDEX(LinearThree1,A7,0),"")),"") | U30: =IFERROR(IF(IF(LEN(X7)>0,INDEX(LinearThree3,A7,0),"")=0,"",IF(LEN(X7)>0,INDEX(LinearThree3,A7,0),"")),"") -> Whales | V30: =IFERROR(IF(IF(AND(LEN(W7)>0,LEN(X7)=0),INDEX(LinearThree3,A7,0),"")=0,"",IF(AND(LEN(W7)>0,LEN(X7)=0),INDEX(LinearThree3,A7,0),"")),"") | W30: =IFERROR(IF(ISERROR(W7+X7),"",INDEX(LinearThree3,A7,0)),"") -> Whales | AA30: =IFERROR(IF(IF(AND(LEN(AA7)=0,LEN(AB7)=0),INDEX(StackedThree1,A7,0),"")=0,"",IF(AND(LEN(AA7)=0,LEN(AB7)=0),INDEX(StackedThree1,A7,0),"")),"") -> Eagles | AB30: =IFERROR(IF(IF(AND(LEN(AD7)=0,LEN(AE7)=0),INDEX(StackedThree2,A7,0),"")=0,"",IF(AND(LEN(AD7)=0,LEN(AE7)=0),INDEX(StackedThree2,A7,0),"")),"") | AC30: =IFERROR(IF(IF(AND(LEN(AH7)=0,LEN(AG7)=0),INDEX(StackedThree3,A7,0),"")=0,"",IF(AND(LEN(AH7)=0,LEN(AG7)=0),INDEX(StackedThree3,A7,0),"")),"") | AD30: =IFERROR(IF(IF(AND(LEN(AA7)>0,LEN(AB7)=0),INDEX(StackedThree1,A7,0),"")=0,"",IF(AND(LEN(AA7)>0,LEN(AB7)=0),INDEX(StackedThree1,A7,0),"")),"") | AE30: =IFERROR(IF(IF(AND(LEN(AE7)>0,LEN(AD7)=0),INDEX(StackedThree2,A7,0),"")=0,"",IF(AND(LEN(AE7)>0,LEN(AD7)=0),INDEX(StackedThree2,A7,0),"")),"") | AF30: =IFERROR(IF(IF(AND(LEN(AG7)>0,LEN(AH7)=0),INDEX(StackedThree3,A7,0),"")=0,"",IF(AND(LEN(AG7)>0,LEN(AH7)=0),INDEX(StackedThree3,A7,0),"")),"") | AG30: =IFERROR(IF(ISERROR(AG7+AH7),"",INDEX(StackedThree3,A7,0)),"") -> Whales | AK30: =IFERROR(IF(IF(AND(LEN(AK7)=0,LEN(AL7)=0,LEN(AM7)=0),INDEX(Square1,A7,0),"")=0,"",IF(AND(LEN(AK7)=0,LEN(AL7)=0,LEN(AM7)=0),INDEX(Square1,A7,0),"")),"") | AL30: =IFERROR(IF(IF(AND(LEN(AO7)=0,LEN(AP7)=0,LEN(AQ7)=0),INDEX(Square2,A7,0),"")=0,"",IF(AND(LEN(AO7)=0,LEN(AP7)=0,LEN(AQ7)=0),INDEX(Square2,A7,0),"")),"") | AM30: =IFERROR(IF(IF(AND(LEN(AS7)=0,LEN(AT7)=0,LEN(AU7)=0),INDEX(Square3,A7,0),"")=0,"",IF(AND(LEN(AS7)=0,LEN(AT7)=0,LEN(AU7)=0),INDEX(Square3,A7,0),"")),"") | AN30: =IFERROR(IF(IF(AND(LEN(AW7)=0,LEN(AX7)=0,LEN(AY7)=0),INDEX(Square4,A7,0),"")=0,"",IF(AND(LEN(AW7)=0,LEN(AX7)=0,LEN(AY7)=0),INDEX(Square4,A7,0),"")),"") | AO30: =IFERROR(IF(IF(AND(LEN(AK7)>0,LEN(AL7)=0,LEN(AM7)=0),INDEX(Square1,A7,0),"")=0,"",IF(AND(LEN(AK7)>0,LEN(AL7)=0,LEN(AM7)=0),INDEX(Square1,A7,0),"")),"") | AP30: =IFERROR(IF(IF(AND(LEN(AK7)=0,LEN(AL7)>0,LEN(AM7)=0),INDEX(Square1,A7,0),"")=0,"",IF(AND(LEN(AK7)=0,LEN(AL7)>0,LEN(AM7)=0),INDEX(Square1,A7,0),"")),"") -> Mike | AQ30: =IFERROR(IF(IF(AND(LEN(AK7)=0,LEN(AL7)=0,LEN(AM7)>0),INDEX(Square1,A7,0),"")=0,"",IF(AND(LEN(AK7)=0,LEN(AL7)=0,LEN(AM7)>0),INDEX(Square1,A7,0),"")),"") | AR30: =IFERROR(IF(IF(AND(LEN(AO7)=0,LEN(AP7)>0,LEN(AQ7)=0),INDEX(Square2,A7,0),"")=0,"",IF(AND(LEN(AO7)=0,LEN(AP7)>0,LEN(AQ7)=0),INDEX(Square2,A7,0),"")),"") | AS30: =IFERROR(IF(IF(AND(LEN(AO7)=0,LEN(AP7)=0,LEN(AQ7)>0),INDEX(Square2,A7,0),"")=0,"",IF(AND(LEN(AO7)=0,LEN(AP7)=0,LEN(AQ7)>0),INDEX(Square2,A7,0),"")),"") -> Amy | AT30: =IFERROR(IF(IF(AND(LEN(AS7)=0,LEN(AT7)=0,LEN(AU7)>0),INDEX(Square3,A7,0),"")=0,"",IF(AND(LEN(AS7)=0,LEN(AT7)=0,LEN(AU7)>0),INDEX(Square3,A7,0),"")),"") | AU30: =IFERROR(IF(IF(AND(LEN(AK7)>0,LEN(AL7)>0,LEN(AM7)=0),INDEX(Square1,A7,0),"")=0,"",IF(AND(LEN(AK7)>0,LEN(AL7)>0,LEN(AM7)=0),INDEX(Square1,A7,0),"")),"") | AV30: =IFERROR(IF(IF(AND(LEN(AK7)>0,LEN(AL7)=0,LEN(AM7)>0),INDEX(Square1,A7,0),"")=0,"",IF(AND(LEN(AK7)>0,LEN(AL7)=0,LEN(AM7)>0),INDEX(Square1,A7,0),"")),"") | AW30: =IFERROR(IF(IF(AND(LEN(AK7)=0,LEN(AL7)>0,LEN(AM7)>0),INDEX(Square1,A7,0),"")=0,"",IF(AND(LEN(AK7)=0,LEN(AL7)>0,LEN(AM7)>0),INDEX(Square1,A7,0),"")),"") | AX30: =IFERROR(IF(IF(AND(LEN(AO7)=0,LEN(AP7)>0,LEN(AQ7)>0),INDEX(Square2,A7,0),"")=0,"",IF(AND(LEN(AO7)=0,LEN(AP7)>0,LEN(AQ7)>0),INDEX(Square2,A7,0),"")),"") | AY30: =IFERROR(IF(ISERROR(AO7+AP7+AQ7),"",INDEX(Square2,A7,0)),"") | BB30: =IFERROR(IF(IF(AND(LEN(BB7)=0,LEN(BC7)=0,LEN(BD7)=0),INDEX(LinearFour1,A7,0),"")=0,"",IF(AND(LEN(BB7)=0,LEN(BC7)=0,LEN(BD7)=0),INDEX(LinearFour1,A7,0),"")),"") | BC30: =IFERROR(IF(IF(AND(LEN(BF7)=0,LEN(BG7)=0,LEN(BH7)=0),INDEX(LinearFour2,A7,0),"")=0,"",IF(AND(LEN(BF7)=0,LEN(BG7)=0,LEN(BH7)=0),INDEX(LinearFour2,A7,0),"")),"") -> Pablo | BD30: =IFERROR(IF(IF(AND(LEN(BJ7)=0,LEN(BK7)=0,LEN(BL7)=0),INDEX(LinearFour3,A7,0),"")=0,"",IF(AND(LEN(BJ7)=0,LEN(BK7)=0,LEN(BL7)=0),INDEX(LinearFour3,A7,0),"")),"") | BE30: =IFERROR(IF(IF(AND(LEN(BN7)=0,LEN(BO7)=0,LEN(BP7)=0),INDEX(LinearFour4,A7,0),"")=0,"",IF(AND(LEN(BN7)=0,LEN(BO7)=0,LEN(BP7)=0),INDEX(LinearFour4,A7,0),"")),"") -> Chloe | BF30: =IFERROR(IF(IF(AND(LEN(BB7)>0,LEN(BC7)=0,LEN(BD7)=0),INDEX(LinearFour1,A7,0),"")=0,"",IF(AND(LEN(BB7)>0,LEN(BC7)=0,LEN(BD7)=0),INDEX(LinearFour1,A7,0),"")),"") -> Amanda | BG30: =IFERROR(IF(IF(AND(LEN(BB7)=0,LEN(BC7)>0,LEN(BD7)=0),INDEX(LinearFour1,A7,0),"")=0,"",IF(AND(LEN(BB7)=0,LEN(BC7)>0,LEN(BD7)=0),INDEX(LinearFour1,A7,0),"")),"") | BH30: =IFERROR(IF(IF(AND(LEN(BB7)=0,LEN(BC7)=0,LEN(BD7)>0),INDEX(LinearFour1,A7,0),"")=0,"",IF(AND(LEN(BB7)=0,LEN(BC7)=0,LEN(BD7)>0),INDEX(LinearFour1,A7,0),"")),"") | BI30: =IFERROR(IF(IF(AND(LEN(BF7)=0,LEN(BG7)>0,LEN(BH7)=0),INDEX(LinearFour2,A7,0),"")=0,"",IF(AND(LEN(BF7)=0,LEN(BG7)>0,LEN(BH7)=0),INDEX(LinearFour2,A7,0),"")),"") | BJ30: =IFERROR(IF(IF(AND(LEN(BF7)=0,LEN(BG7)=0,LEN(BH7)>0),INDEX(LinearFour2,A7,0),"")=0,"",IF(AND(LEN(BF7)=0,LEN(BG7)=0,LEN(BH7)>0),INDEX(LinearFour2,A7,0),"")),"") | BK30: =IFERROR(IF(IF(AND(LEN(BJ7)=0,LEN(BK7)=0,LEN(BL7)>0),INDEX(LinearFour3,A7,0),"")=0,"",IF(AND(LEN(BJ7)=0,LEN(BK7)=0,LEN(BL7)>0),INDEX(LinearFour3,A7,0),"")),"") | BL30: =IFERROR(IF(IF(AND(LEN(BB7)>0,LEN(BC7)>0,LEN(BD7)=0),INDEX(LinearFour1,A7,0),"")=0,"",IF(AND(LEN(BB7)>0,LEN(BC7)>0,LEN(BD7)=0),INDEX(LinearFour1,A7,0),"")),"") | BM30: =IFERROR(IF(IF(AND(LEN(BB7)>0,LEN(BC7)=0,LEN(BD7)>0),INDEX(LinearFour1,A7,0),"")=0,"",IF(AND(LEN(BB7)>0,LEN(BC7)=0,LEN(BD7)>0),INDEX(LinearFour1,A7,0),"")),"") | BN30: =IFERROR(IF(IF(AND(LEN(BB7)=0,LEN(BC7)>0,LEN(BD7)>0),INDEX(LinearFour1,A7,0),"")=0,"",IF(AND(LEN(BB7)=0,LEN(BC7)>0,LEN(BD7)>0),INDEX(LinearFour1,A7,0),"")),"") | BO30: =IFERROR(IF(IF(AND(LEN(BF7)=0,LEN(BG7)>0,LEN(BH7)>0),INDEX(LinearFour2,A7,0),"")=0,"",IF(AND(LEN(BF7)=0,LEN(BG7)>0,LEN(BH7)>0),INDEX(LinearFour2,A7,0),"")),"") | BP30: =IFERROR(IF(ISERROR(BF7+BG7+BH7),"",INDEX(LinearFour2,A7,0)),"") | BS30: =IFERROR(IF(IF(AND(LEN(BS7)=0,LEN(BT7)=0,LEN(BU7)=0),INDEX(Oval1,A7,0),"")=0,"",IF(AND(LEN(BS7)=0,LEN(BT7)=0,LEN(BU7)=0),INDEX(Oval1,A7,0),"")),"") | BT30: =IFERROR(IF(IF(AND(LEN(BW7)=0,LEN(BX7)=0,LEN(BY7)=0),INDEX(Oval2,A7,0),"")=0,"",IF(AND(LEN(BW7)=0,LEN(BX7)=0,LEN(BY7)=0),INDEX(Oval2,A7,0),"")),"") -> Fred | BU30: =IFERROR(IF(IF(AND(LEN(CA7)=0,LEN(CB7)=0,LEN(CC7)=0),INDEX(Oval3,A7,0),"")=0,"",IF(AND(LEN(CA7)=0,LEN(CB7)=0,LEN(CC7)=0),INDEX(Oval3,A7,0),"")),"") | BV30: =IFERROR(IF(IF(AND(LEN(CE7)=0,LEN(CF7)=0,LEN(CG7)=0),INDEX(Oval4,A7,0),"")=0,"",IF(AND(LEN(CE7)=0,LEN(CF7)=0,LEN(CG7)=0),INDEX(Oval4,A7,0),"")),"") | BW30: =IFERROR(IF(IF(AND(LEN(BS7)>0,LEN(BT7)=0,LEN(BU7)=0),INDEX(Oval1,A7,0),"")=0,"",IF(AND(LEN(BS7)>0,LEN(BT7)=0,LEN(BU7)=0),INDEX(Oval1,A7,0),"")),"") | BX30: =IFERROR(IF(IF(AND(LEN(BS7)=0,LEN(BT7)>0,LEN(BU7)=0),INDEX(Oval1,A7,0),"")=0,"",IF(AND(LEN(BS7)=0,LEN(BT7)>0,LEN(BU7)=0),INDEX(Oval1,A7,0),"")),"") -> Salion | BY30: =IFERROR(IF(IF(AND(LEN(BS7)=0,LEN(BT7)=0,LEN(BU7)>0),INDEX(Oval1,A7,0),"")=0,"",IF(AND(LEN(BS7)=0,LEN(BT7)=0,LEN(BU7)>0),INDEX(Oval1,A7,0),"")),"") | BZ30: =IFERROR(IF(IF(AND(LEN(BW7)=0,LEN(BX7)>0,LEN(BY7)=0),INDEX(Oval2,A7,0),"")=0,"",IF(AND(LEN(BW7)=0,LEN(BX7)>0,LEN(BY7)=0),INDEX(Oval2,A7,0),"")),"") | CA30: =IFERROR(IF(IF(AND(LEN(BW7)=0,LEN(BX7)=0,LEN(BY7)>0),INDEX(Oval2,A7,0),"")=0,"",IF(AND(LEN(BW7)=0,LEN(BX7)=0,LEN(BY7)>0),INDEX(Oval2,A7,0),"")),"") | CB30: =IFERROR(IF(IF(AND(LEN(CA7)=0,LEN(CB7)=0,LEN(CC7)>0),INDEX(Oval3,A7,0),"")=0,"",IF(AND(LEN(CA7)=0,LEN(CB7)=0,LEN(CC7)>0),INDEX(Oval3,A7,0),"")),"") | CC30: =IFERROR(IF(IF(AND(LEN(BS7)>0,LEN(BT7)>0,LEN(BU7)=0),INDEX(Oval1,A7,0),"")=0,"",IF(AND(LEN(BS7)>0,LEN(BT7)>0,LEN(BU7)=0),INDEX(Oval1,A7,0),"")),"") | CD30: =IFERROR(IF(IF(AND(LEN(BS7)>0,LEN(BT7)=0,LEN(BU7)>0),INDEX(Oval1,A7,0),"")=0,"",IF(AND(LEN(BS7)>0,LEN(BT7)=0,LEN(BU7)>0),INDEX(Oval1,A7,0),"")),"") | CE30: =IFERROR(IF(IF(AND(LEN(BS7)=0,LEN(BT7)>0,LEN(BU7)>0),INDEX(Oval1,A7,0),"")=0,"",IF(AND(LEN(BS7)=0,LEN(BT7)>0,LEN(BU7)>0),INDEX(Oval1,A7,0),"")),"") | CF30: =IFERROR(IF(IF(AND(LEN(BW7)=0,LEN(BX7)>0,LEN(BY7)>0),INDEX(Oval2,A7,0),"")=0,"",IF(AND(LEN(BW7)=0,LEN(BX7)>0,LEN(BY7)>0),INDEX(Oval2,A7,0),"")),"") | CG30: =IFERROR(IF(ISERROR(BW7+BX7+BY7),"",INDEX(Oval2,A7,0)),"") | CJ30: =IFERROR(IF(IF(AND(LEN(CJ7)=0,LEN(CK7)=0,LEN(CL7)=0),INDEX(StackedFour1,A7,0),"")=0,"",IF(AND(LEN(CJ7)=0,LEN(CK7)=0,LEN(CL7)=0),INDEX(StackedFour1,A7,0),"")),"") | CK30: =IFERROR(IF(IF(AND(LEN(CN7)=0,LEN(CO7)=0,LEN(CP7)=0),INDEX(StackedFour2,A7,0),"")=0,"",IF(AND(LEN(CN7)=0,LEN(CO7)=0,LEN(CP7)=0),INDEX(StackedFour2,A7,0),"")),"") | CL30: =IFERROR(IF(IF(AND(LEN(CR7)=0,LEN(CS7)=0,LEN(CT7)=0),INDEX(StackedFour3,A7,0),"")=0,"",IF(AND(LEN(CR7)=0,LEN(CS7)=0,LEN(CT7)=0),INDEX(StackedFour3,A7,0),"")),"") | CM30: =IFERROR(IF(IF(AND(LEN(CV7)=0,LEN(CW7)=0,LEN(CX7)=0),INDEX(StackedFour4,A7,0),"")=0,"",IF(AND(LEN(CV7)=0,LEN(CW7)=0,LEN(CX7)=0),INDEX(StackedFour4,A7,0),"")),"") | CN30: =IFERROR(IF(IF(AND(LEN(CJ7)>0,LEN(CK7)=0,LEN(CL7)=0),INDEX(StackedFour1,A7,0),"")=0,"",IF(AND(LEN(CJ7)>0,LEN(CK7)=0,LEN(CL7)=0),INDEX(StackedFour1,A7,0),"")),"") -> Tigers | CO30: =IFERROR(IF(IF(AND(LEN(CJ7)=0,LEN(CK7)>0,LEN(CL7)=0),INDEX(StackedFour1,A7,0),"")=0,"",IF(AND(LEN(CJ7)=0,LEN(CK7)>0,LEN(CL7)=0),INDEX(StackedFour1,A7,0),"")),"") | CP30: =IFERROR(IF(IF(AND(LEN(CJ7)=0,LEN(CK7)=0,LEN(CL7)>0),INDEX(StackedFour1,A7,0),"")=0,"",IF(AND(LEN(CJ7)=0,LEN(CK7)=0,LEN(CL7)>0),INDEX(StackedFour1,A7,0),"")),"") | CQ30: =IFERROR(IF(IF(AND(LEN(CN7)=0,LEN(CO7)>0,LEN(CP7)=0),INDEX(StackedFour2,A7,0),"")=0,"",IF(AND(LEN(CN7)=0,LEN(CO7)>0,LEN(CP7)=0),INDEX(StackedFour2,A7,0),"")),"") | CR30: =IFERROR(IF(IF(AND(LEN(CN7)=0,LEN(CO7)=0,LEN(CP7)>0),INDEX(StackedFour2,A7,0),"")=0,"",IF(AND(LEN(CN7)=0,LEN(CO7)=0,LEN(CP7)>0),INDEX(StackedFour2,A7,0),"")),"") | CS30: =IFERROR(IF(IF(AND(LEN(CR7)=0,LEN(CS7)=0,LEN(CT7)>0),INDEX(StackedFour3,A7,0),"")=0,"",IF(AND(LEN(CR7)=0,LEN(CS7)=0,LEN(CT7)>0),INDEX(StackedFour3,A7,0),"")),"") | CT30: =IFERROR(IF(IF(AND(LEN(CJ7)>0,LEN(CK7)>0,LEN(CL7)=0),INDEX(StackedFour1,A7,0),"")=0,"",IF(AND(LEN(CJ7)>0,LEN(CK7)>0,LEN(CL7)=0),INDEX(StackedFour1,A7,0),"")),"") | CU30: =IFERROR(IF(IF(AND(LEN(CJ7)>0,LEN(CK7)=0,LEN(CL7)>0),INDEX(StackedFour1,A7,0),"")=0,"",IF(AND(LEN(CJ7)>0,LEN(CK7)=0,LEN(CL7)>0),INDEX(StackedFour1,A7,0),"")),"") | CV30: =IFERROR(IF(IF(AND(LEN(CJ7)=0,LEN(CK7)>0,LEN(CL7)>0),INDEX(StackedFour1,A7,0),"")=0,"",IF(AND(LEN(CJ7)=0,LEN(CK7)>0,LEN(CL7)>0),INDEX(StackedFour1,A7,0),"")),"") | CW30: =IFERROR(IF(IF(AND(LEN(CN7)=0,LEN(CO7)>0,LEN(CP7)>0),INDEX(StackedFour2,A7,0),"")=0,"",IF(AND(LEN(CN7)=0,LEN(CO7)>0,LEN(CP7)>0),INDEX(StackedFour2,A7,0),"")),"") | CX30: =IFERROR(IF(ISERROR(CN7+CO7+CP7),"",INDEX(StackedFour2,A7,0)),"")
B31: =IFERROR(IF(B8="","",CHAR(10)&" "&B8),"") -> Mongolia | C31: =IFERROR(IF(C8="","",CHAR(10)&" "&C8),"") -> Italy | D31: =IFERROR(IF(D8="","",CHAR(10)&" "&D8),"") | G31: =IFERROR(IF(IF(AND(LEN(G8)=0,LEN(H8)=0),INDEX(Triangular1,Calc!A8,0),"")=0,"",IF(AND(LEN(G8)=0,LEN(H8)=0)=TRUE,INDEX(Triangular1,Calc!A8,0),"")),"") -> Bears | H31: =IFERROR(IF(IF(AND(LEN(J8)=0,LEN(K8)=0),INDEX(Triangular2,Calc!A8,0),"")=0,"",IF(AND(LEN(J8)=0,LEN(K8)=0)=TRUE,INDEX(Triangular2,Calc!A8,0),"")),"") -> Dogs | I31: =IFERROR(IF(IF(AND(LEN(M8)=0,LEN(N8)=0),INDEX(Triangular3,Calc!A8,0),"")=0,"",IF(AND(LEN(M8)=0,LEN(N8)=0)=TRUE,INDEX(Triangular3,Calc!A8,0),"")),"") -> Fishes | J31: =IFERROR(IF(IF(AND(LEN(G8)>0,LEN(H8)=0),INDEX(Triangular1,Calc!A8,0),"")=0,"",IF(AND(LEN(G8)>0,LEN(H8)=0),INDEX(Triangular1,Calc!A8,0),"")),"") | K31: =IFERROR(IF(IF(AND(LEN(H8)>0,LEN(G8)=0),INDEX(Triangular1,Calc!A8,0),"")=0,"",IF(AND(LEN(H8)>0,LEN(G8)=0),INDEX(Triangular1,Calc!A8,0),"")),"") | L31: =IFERROR(IF(IF(AND(LEN(K8)>0,LEN(J8)=0),INDEX(Triangular2,Calc!A8,0),"")=0,"",IF(AND(LEN(K8)>0,LEN(J8)=0),INDEX(Triangular2,Calc!A8,0),"")),"") | M31: =IFERROR(IF(ISERROR(G8+H8),"",INDEX(Triangular1,Calc!A8,0)),"") | Q31: =IFERROR(IF(IF(AND(LEN(Q8)=0,LEN(R8)=0),INDEX(LinearThree1,A8,0),"")=0,"",IF(AND(LEN(Q8)=0,LEN(R8)=0),INDEX(LinearThree1,A8,0),"")),"") -> Giraffes | R31: =IFERROR(IF(IF(AND(LEN(T8)=0,LEN(U8)=0),INDEX(LinearThree2,A8,0),"")=0,"",IF(AND(LEN(T8)=0,LEN(U8)=0),INDEX(LinearThree2,A8,0),"")),"") -> Dogs | S31: =IFERROR(IF(IF(AND(LEN(X8)=0,LEN(W8)=0),INDEX(LinearThree3,A8,0),"")=0,"",IF(AND(LEN(X8)=0,LEN(W8)=0),INDEX(LinearThree3,A8,0),"")),"") -> Octopus | T31: =IFERROR(IF(IF(LEN(Q8)>0,INDEX(LinearThree1,A8,0),"")=0,"",IF(LEN(Q8)>0,INDEX(LinearThree1,A8,0),"")),"") | U31: =IFERROR(IF(IF(LEN(X8)>0,INDEX(LinearThree3,A8,0),"")=0,"",IF(LEN(X8)>0,INDEX(LinearThree3,A8,0),"")),"") | V31: =IFERROR(IF(IF(AND(LEN(W8)>0,LEN(X8)=0),INDEX(LinearThree3,A8,0),"")=0,"",IF(AND(LEN(W8)>0,LEN(X8)=0),INDEX(LinearThree3,A8,0),"")),"") | W31: =IFERROR(IF(ISERROR(W8+X8),"",INDEX(LinearThree3,A8,0)),"") | AA31: =IFERROR(IF(IF(AND(LEN(AA8)=0,LEN(AB8)=0),INDEX(StackedThree1,A8,0),"")=0,"",IF(AND(LEN(AA8)=0,LEN(AB8)=0),INDEX(StackedThree1,A8,0),"")),"") | AB31: =IFERROR(IF(IF(AND(LEN(AD8)=0,LEN(AE8)=0),INDEX(StackedThree2,A8,0),"")=0,"",IF(AND(LEN(AD8)=0,LEN(AE8)=0),INDEX(StackedThree2,A8,0),"")),"") | AC31: =IFERROR(IF(IF(AND(LEN(AH8)=0,LEN(AG8)=0),INDEX(StackedThree3,A8,0),"")=0,"",IF(AND(LEN(AH8)=0,LEN(AG8)=0),INDEX(StackedThree3,A8,0),"")),"") | AD31: =IFERROR(IF(IF(AND(LEN(AA8)>0,LEN(AB8)=0),INDEX(StackedThree1,A8,0),"")=0,"",IF(AND(LEN(AA8)>0,LEN(AB8)=0),INDEX(StackedThree1,A8,0),"")),"") | AE31: =IFERROR(IF(IF(AND(LEN(AE8)>0,LEN(AD8)=0),INDEX(StackedThree2,A8,0),"")=0,"",IF(AND(LEN(AE8)>0,LEN(AD8)=0),INDEX(StackedThree2,A8,0),"")),"") | AF31: =IFERROR(IF(IF(AND(LEN(AG8)>0,LEN(AH8)=0),INDEX(StackedThree3,A8,0),"")=0,"",IF(AND(LEN(AG8)>0,LEN(AH8)=0),INDEX(StackedThree3,A8,0),"")),"") | AG31: =IFERROR(IF(ISERROR(AG8+AH8),"",INDEX(StackedThree3,A8,0)),"") -> Dolphins | AK31: =IFERROR(IF(IF(AND(LEN(AK8)=0,LEN(AL8)=0,LEN(AM8)=0),INDEX(Square1,A8,0),"")=0,"",IF(AND(LEN(AK8)=0,LEN(AL8)=0,LEN(AM8)=0),INDEX(Square1,A8,0),"")),"") | AL31: =IFERROR(IF(IF(AND(LEN(AO8)=0,LEN(AP8)=0,LEN(AQ8)=0),INDEX(Square2,A8,0),"")=0,"",IF(AND(LEN(AO8)=0,LEN(AP8)=0,LEN(AQ8)=0),INDEX(Square2,A8,0),"")),"") | AM31: =IFERROR(IF(IF(AND(LEN(AS8)=0,LEN(AT8)=0,LEN(AU8)=0),INDEX(Square3,A8,0),"")=0,"",IF(AND(LEN(AS8)=0,LEN(AT8)=0,LEN(AU8)=0),INDEX(Square3,A8,0),"")),"") | AN31: =IFERROR(IF(IF(AND(LEN(AW8)=0,LEN(AX8)=0,LEN(AY8)=0),INDEX(Square4,A8,0),"")=0,"",IF(AND(LEN(AW8)=0,LEN(AX8)=0,LEN(AY8)=0),INDEX(Square4,A8,0),"")),"") | AO31: =IFERROR(IF(IF(AND(LEN(AK8)>0,LEN(AL8)=0,LEN(AM8)=0),INDEX(Square1,A8,0),"")=0,"",IF(AND(LEN(AK8)>0,LEN(AL8)=0,LEN(AM8)=0),INDEX(Square1,A8,0),"")),"") | AP31: =IFERROR(IF(IF(AND(LEN(AK8)=0,LEN(AL8)>0,LEN(AM8)=0),INDEX(Square1,A8,0),"")=0,"",IF(AND(LEN(AK8)=0,LEN(AL8)>0,LEN(AM8)=0),INDEX(Square1,A8,0),"")),"") | AQ31: =IFERROR(IF(IF(AND(LEN(AK8)=0,LEN(AL8)=0,LEN(AM8)>0),INDEX(Square1,A8,0),"")=0,"",IF(AND(LEN(AK8)=0,LEN(AL8)=0,LEN(AM8)>0),INDEX(Square1,A8,0),"")),"") | AR31: =IFERROR(IF(IF(AND(LEN(AO8)=0,LEN(AP8)>0,LEN(AQ8)=0),INDEX(Square2,A8,0),"")=0,"",IF(AND(LEN(AO8)=0,LEN(AP8)>0,LEN(AQ8)=0),INDEX(Square2,A8,0),"")),"") | AS31: =IFERROR(IF(IF(AND(LEN(AO8)=0,LEN(AP8)=0,LEN(AQ8)>0),INDEX(Square2,A8,0),"")=0,"",IF(AND(LEN(AO8)=0,LEN(AP8)=0,LEN(AQ8)>0),INDEX(Square2,A8,0),"")),"") | AT31: =IFERROR(IF(IF(AND(LEN(AS8)=0,LEN(AT8)=0,LEN(AU8)>0),INDEX(Square3,A8,0),"")=0,"",IF(AND(LEN(AS8)=0,LEN(AT8)=0,LEN(AU8)>0),INDEX(Square3,A8,0),"")),"") | AU31: =IFERROR(IF(IF(AND(LEN(AK8)>0,LEN(AL8)>0,LEN(AM8)=0),INDEX(Square1,A8,0),"")=0,"",IF(AND(LEN(AK8)>0,LEN(AL8)>0,LEN(AM8)=0),INDEX(Square1,A8,0),"")),"") | AV31: =IFERROR(IF(IF(AND(LEN(AK8)>0,LEN(AL8)=0,LEN(AM8)>0),INDEX(Square1,A8,0),"")=0,"",IF(AND(LEN(AK8)>0,LEN(AL8)=0,LEN(AM8)>0),INDEX(Square1,A8,0),"")),"") -> Kyle | AW31: =IFERROR(IF(IF(AND(LEN(AK8)=0,LEN(AL8)>0,LEN(AM8)>0),INDEX(Square1,A8,0),"")=0,"",IF(AND(LEN(AK8)=0,LEN(AL8)>0,LEN(AM8)>0),INDEX(Square1,A8,0),"")),"") | AX31: =IFERROR(IF(IF(AND(LEN(AO8)=0,LEN(AP8)>0,LEN(AQ8)>0),INDEX(Square2,A8,0),"")=0,"",IF(AND(LEN(AO8)=0,LEN(AP8)>0,LEN(AQ8)>0),INDEX(Square2,A8,0),"")),"") | AY31: =IFERROR(IF(ISERROR(AO8+AP8+AQ8),"",INDEX(Square2,A8,0)),"") | BB31: =IFERROR(IF(IF(AND(LEN(BB8)=0,LEN(BC8)=0,LEN(BD8)=0),INDEX(LinearFour1,A8,0),"")=0,"",IF(AND(LEN(BB8)=0,LEN(BC8)=0,LEN(BD8)=0),INDEX(LinearFour1,A8,0),"")),"") | BC31: =IFERROR(IF(IF(AND(LEN(BF8)=0,LEN(BG8)=0,LEN(BH8)=0),INDEX(LinearFour2,A8,0),"")=0,"",IF(AND(LEN(BF8)=0,LEN(BG8)=0,LEN(BH8)=0),INDEX(LinearFour2,A8,0),"")),"") | BD31: =IFERROR(IF(IF(AND(LEN(BJ8)=0,LEN(BK8)=0,LEN(BL8)=0),INDEX(LinearFour3,A8,0),"")=0,"",IF(AND(LEN(BJ8)=0,LEN(BK8)=0,LEN(BL8)=0),INDEX(LinearFour3,A8,0),"")),"") | BE31: =IFERROR(IF(IF(AND(LEN(BN8)=0,LEN(BO8)=0,LEN(BP8)=0),INDEX(LinearFour4,A8,0),"")=0,"",IF(AND(LEN(BN8)=0,LEN(BO8)=0,LEN(BP8)=0),INDEX(LinearFour4,A8,0),"")),"") | BF31: =IFERROR(IF(IF(AND(LEN(BB8)>0,LEN(BC8)=0,LEN(BD8)=0),INDEX(LinearFour1,A8,0),"")=0,"",IF(AND(LEN(BB8)>0,LEN(BC8)=0,LEN(BD8)=0),INDEX(LinearFour1,A8,0),"")),"") -> Mike | BG31: =IFERROR(IF(IF(AND(LEN(BB8)=0,LEN(BC8)>0,LEN(BD8)=0),INDEX(LinearFour1,A8,0),"")=0,"",IF(AND(LEN(BB8)=0,LEN(BC8)>0,LEN(BD8)=0),INDEX(LinearFour1,A8,0),"")),"") | BH31: =IFERROR(IF(IF(AND(LEN(BB8)=0,LEN(BC8)=0,LEN(BD8)>0),INDEX(LinearFour1,A8,0),"")=0,"",IF(AND(LEN(BB8)=0,LEN(BC8)=0,LEN(BD8)>0),INDEX(LinearFour1,A8,0),"")),"") | BI31: =IFERROR(IF(IF(AND(LEN(BF8)=0,LEN(BG8)>0,LEN(BH8)=0),INDEX(LinearFour2,A8,0),"")=0,"",IF(AND(LEN(BF8)=0,LEN(BG8)>0,LEN(BH8)=0),INDEX(LinearFour2,A8,0),"")),"") -> Kyle | BJ31: =IFERROR(IF(IF(AND(LEN(BF8)=0,LEN(BG8)=0,LEN(BH8)>0),INDEX(LinearFour2,A8,0),"")=0,"",IF(AND(LEN(BF8)=0,LEN(BG8)=0,LEN(BH8)>0),INDEX(LinearFour2,A8,0),"")),"") | BK31: =IFERROR(IF(IF(AND(LEN(BJ8)=0,LEN(BK8)=0,LEN(BL8)>0),INDEX(LinearFour3,A8,0),"")=0,"",IF(AND(LEN(BJ8)=0,LEN(BK8)=0,LEN(BL8)>0),INDEX(LinearFour3,A8,0),"")),"") -> Brian | BL31: =IFERROR(IF(IF(AND(LEN(BB8)>0,LEN(BC8)>0,LEN(BD8)=0),INDEX(LinearFour1,A8,0),"")=0,"",IF(AND(LEN(BB8)>0,LEN(BC8)>0,LEN(BD8)=0),INDEX(LinearFour1,A8,0),"")),"") | BM31: =IFERROR(IF(IF(AND(LEN(BB8)>0,LEN(BC8)=0,LEN(BD8)>0),INDEX(LinearFour1,A8,0),"")=0,"",IF(AND(LEN(BB8)>0,LEN(BC8)=0,LEN(BD8)>0),INDEX(LinearFour1,A8,0),"")),"") | BN31: =IFERROR(IF(IF(AND(LEN(BB8)=0,LEN(BC8)>0,LEN(BD8)>0),INDEX(LinearFour1,A8,0),"")=0,"",IF(AND(LEN(BB8)=0,LEN(BC8)>0,LEN(BD8)>0),INDEX(LinearFour1,A8,0),"")),"") | BO31: =IFERROR(IF(IF(AND(LEN(BF8)=0,LEN(BG8)>0,LEN(BH8)>0),INDEX(LinearFour2,A8,0),"")=0,"",IF(AND(LEN(BF8)=0,LEN(BG8)>0,LEN(BH8)>0),INDEX(LinearFour2,A8,0),"")),"") | BP31: =IFERROR(IF(ISERROR(BF8+BG8+BH8),"",INDEX(LinearFour2,A8,0)),"") | BS31: =IFERROR(IF(IF(AND(LEN(BS8)=0,LEN(BT8)=0,LEN(BU8)=0),INDEX(Oval1,A8,0),"")=0,"",IF(AND(LEN(BS8)=0,LEN(BT8)=0,LEN(BU8)=0),INDEX(Oval1,A8,0),"")),"") -> Kyle | BT31: =IFERROR(IF(IF(AND(LEN(BW8)=0,LEN(BX8)=0,LEN(BY8)=0),INDEX(Oval2,A8,0),"")=0,"",IF(AND(LEN(BW8)=0,LEN(BX8)=0,LEN(BY8)=0),INDEX(Oval2,A8,0),"")),"") | BU31: =IFERROR(IF(IF(AND(LEN(CA8)=0,LEN(CB8)=0,LEN(CC8)=0),INDEX(Oval3,A8,0),"")=0,"",IF(AND(LEN(CA8)=0,LEN(CB8)=0,LEN(CC8)=0),INDEX(Oval3,A8,0),"")),"") | BV31: =IFERROR(IF(IF(AND(LEN(CE8)=0,LEN(CF8)=0,LEN(CG8)=0),INDEX(Oval4,A8,0),"")=0,"",IF(AND(LEN(CE8)=0,LEN(CF8)=0,LEN(CG8)=0),INDEX(Oval4,A8,0),"")),"") -> Marco | BW31: =IFERROR(IF(IF(AND(LEN(BS8)>0,LEN(BT8)=0,LEN(BU8)=0),INDEX(Oval1,A8,0),"")=0,"",IF(AND(LEN(BS8)>0,LEN(BT8)=0,LEN(BU8)=0),INDEX(Oval1,A8,0),"")),"") | BX31: =IFERROR(IF(IF(AND(LEN(BS8)=0,LEN(BT8)>0,LEN(BU8)=0),INDEX(Oval1,A8,0),"")=0,"",IF(AND(LEN(BS8)=0,LEN(BT8)>0,LEN(BU8)=0),INDEX(Oval1,A8,0),"")),"") | BY31: =IFERROR(IF(IF(AND(LEN(BS8)=0,LEN(BT8)=0,LEN(BU8)>0),INDEX(Oval1,A8,0),"")=0,"",IF(AND(LEN(BS8)=0,LEN(BT8)=0,LEN(BU8)>0),INDEX(Oval1,A8,0),"")),"") | BZ31: =IFERROR(IF(IF(AND(LEN(BW8)=0,LEN(BX8)>0,LEN(BY8)=0),INDEX(Oval2,A8,0),"")=0,"",IF(AND(LEN(BW8)=0,LEN(BX8)>0,LEN(BY8)=0),INDEX(Oval2,A8,0),"")),"") -> Ahmet | CA31: =IFERROR(IF(IF(AND(LEN(BW8)=0,LEN(BX8)=0,LEN(BY8)>0),INDEX(Oval2,A8,0),"")=0,"",IF(AND(LEN(BW8)=0,LEN(BX8)=0,LEN(BY8)>0),INDEX(Oval2,A8,0),"")),"") | CB31: =IFERROR(IF(IF(AND(LEN(CA8)=0,LEN(CB8)=0,LEN(CC8)>0),INDEX(Oval3,A8,0),"")=0,"",IF(AND(LEN(CA8)=0,LEN(CB8)=0,LEN(CC8)>0),INDEX(Oval3,A8,0),"")),"") | CC31: =IFERROR(IF(IF(AND(LEN(BS8)>0,LEN(BT8)>0,LEN(BU8)=0),INDEX(Oval1,A8,0),"")=0,"",IF(AND(LEN(BS8)>0,LEN(BT8)>0,LEN(BU8)=0),INDEX(Oval1,A8,0),"")),"") | CD31: =IFERROR(IF(IF(AND(LEN(BS8)>0,LEN(BT8)=0,LEN(BU8)>0),INDEX(Oval1,A8,0),"")=0,"",IF(AND(LEN(BS8)>0,LEN(BT8)=0,LEN(BU8)>0),INDEX(Oval1,A8,0),"")),"") | CE31: =IFERROR(IF(IF(AND(LEN(BS8)=0,LEN(BT8)>0,LEN(BU8)>0),INDEX(Oval1,A8,0),"")=0,"",IF(AND(LEN(BS8)=0,LEN(BT8)>0,LEN(BU8)>0),INDEX(Oval1,A8,0),"")),"") | CF31: =IFERROR(IF(IF(AND(LEN(BW8)=0,LEN(BX8)>0,LEN(BY8)>0),INDEX(Oval2,A8,0),"")=0,"",IF(AND(LEN(BW8)=0,LEN(BX8)>0,LEN(BY8)>0),INDEX(Oval2,A8,0),"")),"") | CG31: =IFERROR(IF(ISERROR(BW8+BX8+BY8),"",INDEX(Oval2,A8,0)),"") | CJ31: =IFERROR(IF(IF(AND(LEN(CJ8)=0,LEN(CK8)=0,LEN(CL8)=0),INDEX(StackedFour1,A8,0),"")=0,"",IF(AND(LEN(CJ8)=0,LEN(CK8)=0,LEN(CL8)=0),INDEX(StackedFour1,A8,0),"")),"") | CK31: =IFERROR(IF(IF(AND(LEN(CN8)=0,LEN(CO8)=0,LEN(CP8)=0),INDEX(StackedFour2,A8,0),"")=0,"",IF(AND(LEN(CN8)=0,LEN(CO8)=0,LEN(CP8)=0),INDEX(StackedFour2,A8,0),"")),"") | CL31: =IFERROR(IF(IF(AND(LEN(CR8)=0,LEN(CS8)=0,LEN(CT8)=0),INDEX(StackedFour3,A8,0),"")=0,"",IF(AND(LEN(CR8)=0,LEN(CS8)=0,LEN(CT8)=0),INDEX(StackedFour3,A8,0),"")),"") | CM31: =IFERROR(IF(IF(AND(LEN(CV8)=0,LEN(CW8)=0,LEN(CX8)=0),INDEX(StackedFour4,A8,0),"")=0,"",IF(AND(LEN(CV8)=0,LEN(CW8)=0,LEN(CX8)=0),INDEX(StackedFour4,A8,0),"")),"") | CN31: =IFERROR(IF(IF(AND(LEN(CJ8)>0,LEN(CK8)=0,LEN(CL8)=0),INDEX(StackedFour1,A8,0),"")=0,"",IF(AND(LEN(CJ8)>0,LEN(CK8)=0,LEN(CL8)=0),INDEX(StackedFour1,A8,0),"")),"") | CO31: =IFERROR(IF(IF(AND(LEN(CJ8)=0,LEN(CK8)>0,LEN(CL8)=0),INDEX(StackedFour1,A8,0),"")=0,"",IF(AND(LEN(CJ8)=0,LEN(CK8)>0,LEN(CL8)=0),INDEX(StackedFour1,A8,0),"")),"") | CP31: =IFERROR(IF(IF(AND(LEN(CJ8)=0,LEN(CK8)=0,LEN(CL8)>0),INDEX(StackedFour1,A8,0),"")=0,"",IF(AND(LEN(CJ8)=0,LEN(CK8)=0,LEN(CL8)>0),INDEX(StackedFour1,A8,0),"")),"") | CQ31: =IFERROR(IF(IF(AND(LEN(CN8)=0,LEN(CO8)>0,LEN(CP8)=0),INDEX(StackedFour2,A8,0),"")=0,"",IF(AND(LEN(CN8)=0,LEN(CO8)>0,LEN(CP8)=0),INDEX(StackedFour2,A8,0),"")),"") | CR31: =IFERROR(IF(IF(AND(LEN(CN8)=0,LEN(CO8)=0,LEN(CP8)>0),INDEX(StackedFour2,A8,0),"")=0,"",IF(AND(LEN(CN8)=0,LEN(CO8)=0,LEN(CP8)>0),INDEX(StackedFour2,A8,0),"")),"") | CS31: =IFERROR(IF(IF(AND(LEN(CR8)=0,LEN(CS8)=0,LEN(CT8)>0),INDEX(StackedFour3,A8,0),"")=0,"",IF(AND(LEN(CR8)=0,LEN(CS8)=0,LEN(CT8)>0),INDEX(StackedFour3,A8,0),"")),"") | CT31: =IFERROR(IF(IF(AND(LEN(CJ8)>0,LEN(CK8)>0,LEN(CL8)=0),INDEX(StackedFour1,A8,0),"")=0,"",IF(AND(LEN(CJ8)>0,LEN(CK8)>0,LEN(CL8)=0),INDEX(StackedFour1,A8,0),"")),"") -> Whales | CU31: =IFERROR(IF(IF(AND(LEN(CJ8)>0,LEN(CK8)=0,LEN(CL8)>0),INDEX(StackedFour1,A8,0),"")=0,"",IF(AND(LEN(CJ8)>0,LEN(CK8)=0,LEN(CL8)>0),INDEX(StackedFour1,A8,0),"")),"") | CV31: =IFERROR(IF(IF(AND(LEN(CJ8)=0,LEN(CK8)>0,LEN(CL8)>0),INDEX(StackedFour1,A8,0),"")=0,"",IF(AND(LEN(CJ8)=0,LEN(CK8)>0,LEN(CL8)>0),INDEX(StackedFour1,A8,0),"")),"") | CW31: =IFERROR(IF(IF(AND(LEN(CN8)=0,LEN(CO8)>0,LEN(CP8)>0),INDEX(StackedFour2,A8,0),"")=0,"",IF(AND(LEN(CN8)=0,LEN(CO8)>0,LEN(CP8)>0),INDEX(StackedFour2,A8,0),"")),"") | CX31: =IFERROR(IF(ISERROR(CN8+CO8+CP8),"",INDEX(StackedFour2,A8,0)),"")
B32: =IFERROR(IF(B9="","",CHAR(10)&" "&B9),"") -> Afghanistan | C32: =IFERROR(IF(C9="","",CHAR(10)&" "&C9),"") | D32: =IFERROR(IF(D9="","",CHAR(10)&" "&D9),"") -> Russia | G32: =IFERROR(IF(IF(AND(LEN(G9)=0,LEN(H9)=0),INDEX(Triangular1,Calc!A9,0),"")=0,"",IF(AND(LEN(G9)=0,LEN(H9)=0)=TRUE,INDEX(Triangular1,Calc!A9,0),"")),"") | H32: =IFERROR(IF(IF(AND(LEN(J9)=0,LEN(K9)=0),INDEX(Triangular2,Calc!A9,0),"")=0,"",IF(AND(LEN(J9)=0,LEN(K9)=0)=TRUE,INDEX(Triangular2,Calc!A9,0),"")),"") | I32: =IFERROR(IF(IF(AND(LEN(M9)=0,LEN(N9)=0),INDEX(Triangular3,Calc!A9,0),"")=0,"",IF(AND(LEN(M9)=0,LEN(N9)=0)=TRUE,INDEX(Triangular3,Calc!A9,0),"")),"") | J32: =IFERROR(IF(IF(AND(LEN(G9)>0,LEN(H9)=0),INDEX(Triangular1,Calc!A9,0),"")=0,"",IF(AND(LEN(G9)>0,LEN(H9)=0),INDEX(Triangular1,Calc!A9,0),"")),"") -> Horses | K32: =IFERROR(IF(IF(AND(LEN(H9)>0,LEN(G9)=0),INDEX(Triangular1,Calc!A9,0),"")=0,"",IF(AND(LEN(H9)>0,LEN(G9)=0),INDEX(Triangular1,Calc!A9,0),"")),"") | L32: =IFERROR(IF(IF(AND(LEN(K9)>0,LEN(J9)=0),INDEX(Triangular2,Calc!A9,0),"")=0,"",IF(AND(LEN(K9)>0,LEN(J9)=0),INDEX(Triangular2,Calc!A9,0),"")),"") -> Dolphins | M32: =IFERROR(IF(ISERROR(G9+H9),"",INDEX(Triangular1,Calc!A9,0)),"") | Q32: =IFERROR(IF(IF(AND(LEN(Q9)=0,LEN(R9)=0),INDEX(LinearThree1,A9,0),"")=0,"",IF(AND(LEN(Q9)=0,LEN(R9)=0),INDEX(LinearThree1,A9,0),"")),"") -> Horses | R32: =IFERROR(IF(IF(AND(LEN(T9)=0,LEN(U9)=0),INDEX(LinearThree2,A9,0),"")=0,"",IF(AND(LEN(T9)=0,LEN(U9)=0),INDEX(LinearThree2,A9,0),"")),"") -> Cats | S32: =IFERROR(IF(IF(AND(LEN(X9)=0,LEN(W9)=0),INDEX(LinearThree3,A9,0),"")=0,"",IF(AND(LEN(X9)=0,LEN(W9)=0),INDEX(LinearThree3,A9,0),"")),"") | T32: =IFERROR(IF(IF(LEN(Q9)>0,INDEX(LinearThree1,A9,0),"")=0,"",IF(LEN(Q9)>0,INDEX(LinearThree1,A9,0),"")),"") | U32: =IFERROR(IF(IF(LEN(X9)>0,INDEX(LinearThree3,A9,0),"")=0,"",IF(LEN(X9)>0,INDEX(LinearThree3,A9,0),"")),"") | V32: =IFERROR(IF(IF(AND(LEN(W9)>0,LEN(X9)=0),INDEX(LinearThree3,A9,0),"")=0,"",IF(AND(LEN(W9)>0,LEN(X9)=0),INDEX(LinearThree3,A9,0),"")),"") -> Shark | W32: =IFERROR(IF(ISERROR(W9+X9),"",INDEX(LinearThree3,A9,0)),"") | AA32: =IFERROR(IF(IF(AND(LEN(AA9)=0,LEN(AB9)=0),INDEX(StackedThree1,A9,0),"")=0,"",IF(AND(LEN(AA9)=0,LEN(AB9)=0),INDEX(StackedThree1,A9,0),"")),"") -> Eels | AB32: =IFERROR(IF(IF(AND(LEN(AD9)=0,LEN(AE9)=0),INDEX(StackedThree2,A9,0),"")=0,"",IF(AND(LEN(AD9)=0,LEN(AE9)=0),INDEX(StackedThree2,A9,0),"")),"") | AC32: =IFERROR(IF(IF(AND(LEN(AH9)=0,LEN(AG9)=0),INDEX(StackedThree3,A9,0),"")=0,"",IF(AND(LEN(AH9)=0,LEN(AG9)=0),INDEX(StackedThree3,A9,0),"")),"") | AD32: =IFERROR(IF(IF(AND(LEN(AA9)>0,LEN(AB9)=0),INDEX(StackedThree1,A9,0),"")=0,"",IF(AND(LEN(AA9)>0,LEN(AB9)=0),INDEX(StackedThree1,A9,0),"")),"") | AE32: =IFERROR(IF(IF(AND(LEN(AE9)>0,LEN(AD9)=0),INDEX(StackedThree2,A9,0),"")=0,"",IF(AND(LEN(AE9)>0,LEN(AD9)=0),INDEX(StackedThree2,A9,0),"")),"") | AF32: =IFERROR(IF(IF(AND(LEN(AG9)>0,LEN(AH9)=0),INDEX(StackedThree3,A9,0),"")=0,"",IF(AND(LEN(AG9)>0,LEN(AH9)=0),INDEX(StackedThree3,A9,0),"")),"") | AG32: =IFERROR(IF(ISERROR(AG9+AH9),"",INDEX(StackedThree3,A9,0)),"") | AK32: =IFERROR(IF(IF(AND(LEN(AK9)=0,LEN(AL9)=0,LEN(AM9)=0),INDEX(Square1,A9,0),"")=0,"",IF(AND(LEN(AK9)=0,LEN(AL9)=0,LEN(AM9)=0),INDEX(Square1,A9,0),"")),"") | AL32: =IFERROR(IF(IF(AND(LEN(AO9)=0,LEN(AP9)=0,LEN(AQ9)=0),INDEX(Square2,A9,0),"")=0,"",IF(AND(LEN(AO9)=0,LEN(AP9)=0,LEN(AQ9)=0),INDEX(Square2,A9,0),"")),"") | AM32: =IFERROR(IF(IF(AND(LEN(AS9)=0,LEN(AT9)=0,LEN(AU9)=0),INDEX(Square3,A9,0),"")=0,"",IF(AND(LEN(AS9)=0,LEN(AT9)=0,LEN(AU9)=0),INDEX(Square3,A9,0),"")),"") | AN32: =IFERROR(IF(IF(AND(LEN(AW9)=0,LEN(AX9)=0,LEN(AY9)=0),INDEX(Square4,A9,0),"")=0,"",IF(AND(LEN(AW9)=0,LEN(AX9)=0,LEN(AY9)=0),INDEX(Square4,A9,0),"")),"") | AO32: =IFERROR(IF(IF(AND(LEN(AK9)>0,LEN(AL9)=0,LEN(AM9)=0),INDEX(Square1,A9,0),"")=0,"",IF(AND(LEN(AK9)>0,LEN(AL9)=0,LEN(AM9)=0),INDEX(Square1,A9,0),"")),"") | AP32: =IFERROR(IF(IF(AND(LEN(AK9)=0,LEN(AL9)>0,LEN(AM9)=0),INDEX(Square1,A9,0),"")=0,"",IF(AND(LEN(AK9)=0,LEN(AL9)>0,LEN(AM9)=0),INDEX(Square1,A9,0),"")),"") | AQ32: =IFERROR(IF(IF(AND(LEN(AK9)=0,LEN(AL9)=0,LEN(AM9)>0),INDEX(Square1,A9,0),"")=0,"",IF(AND(LEN(AK9)=0,LEN(AL9)=0,LEN(AM9)>0),INDEX(Square1,A9,0),"")),"") | AR32: =IFERROR(IF(IF(AND(LEN(AO9)=0,LEN(AP9)>0,LEN(AQ9)=0),INDEX(Square2,A9,0),"")=0,"",IF(AND(LEN(AO9)=0,LEN(AP9)>0,LEN(AQ9)=0),INDEX(Square2,A9,0),"")),"") | AS32: =IFERROR(IF(IF(AND(LEN(AO9)=0,LEN(AP9)=0,LEN(AQ9)>0),INDEX(Square2,A9,0),"")=0,"",IF(AND(LEN(AO9)=0,LEN(AP9)=0,LEN(AQ9)>0),INDEX(Square2,A9,0),"")),"") | AT32: =IFERROR(IF(IF(AND(LEN(AS9)=0,LEN(AT9)=0,LEN(AU9)>0),INDEX(Square3,A9,0),"")=0,"",IF(AND(LEN(AS9)=0,LEN(AT9)=0,LEN(AU9)>0),INDEX(Square3,A9,0),"")),"") -> Kim | AU32: =IFERROR(IF(IF(AND(LEN(AK9)>0,LEN(AL9)>0,LEN(AM9)=0),INDEX(Square1,A9,0),"")=0,"",IF(AND(LEN(AK9)>0,LEN(AL9)>0,LEN(AM9)=0),INDEX(Square1,A9,0),"")),"") | AV32: =IFERROR(IF(IF(AND(LEN(AK9)>0,LEN(AL9)=0,LEN(AM9)>0),INDEX(Square1,A9,0),"")=0,"",IF(AND(LEN(AK9)>0,LEN(AL9)=0,LEN(AM9)>0),INDEX(Square1,A9,0),"")),"") | AW32: =IFERROR(IF(IF(AND(LEN(AK9)=0,LEN(AL9)>0,LEN(AM9)>0),INDEX(Square1,A9,0),"")=0,"",IF(AND(LEN(AK9)=0,LEN(AL9)>0,LEN(AM9)>0),INDEX(Square1,A9,0),"")),"") | AX32: =IFERROR(IF(IF(AND(LEN(AO9)=0,LEN(AP9)>0,LEN(AQ9)>0),INDEX(Square2,A9,0),"")=0,"",IF(AND(LEN(AO9)=0,LEN(AP9)>0,LEN(AQ9)>0),INDEX(Square2,A9,0),"")),"") | AY32: =IFERROR(IF(ISERROR(AO9+AP9+AQ9),"",INDEX(Square2,A9,0)),"") | BB32: =IFERROR(IF(IF(AND(LEN(BB9)=0,LEN(BC9)=0,LEN(BD9)=0),INDEX(LinearFour1,A9,0),"")=0,"",IF(AND(LEN(BB9)=0,LEN(BC9)=0,LEN(BD9)=0),INDEX(LinearFour1,A9,0),"")),"") | BC32: =IFERROR(IF(IF(AND(LEN(BF9)=0,LEN(BG9)=0,LEN(BH9)=0),INDEX(LinearFour2,A9,0),"")=0,"",IF(AND(LEN(BF9)=0,LEN(BG9)=0,LEN(BH9)=0),INDEX(LinearFour2,A9,0),"")),"") | BD32: =IFERROR(IF(IF(AND(LEN(BJ9)=0,LEN(BK9)=0,LEN(BL9)=0),INDEX(LinearFour3,A9,0),"")=0,"",IF(AND(LEN(BJ9)=0,LEN(BK9)=0,LEN(BL9)=0),INDEX(LinearFour3,A9,0),"")),"") -> Stephanie | BE32: =IFERROR(IF(IF(AND(LEN(BN9)=0,LEN(BO9)=0,LEN(BP9)=0),INDEX(LinearFour4,A9,0),"")=0,"",IF(AND(LEN(BN9)=0,LEN(BO9)=0,LEN(BP9)=0),INDEX(LinearFour4,A9,0),"")),"") -> Mary | BF32: =IFERROR(IF(IF(AND(LEN(BB9)>0,LEN(BC9)=0,LEN(BD9)=0),INDEX(LinearFour1,A9,0),"")=0,"",IF(AND(LEN(BB9)>0,LEN(BC9)=0,LEN(BD9)=0),INDEX(LinearFour1,A9,0),"")),"") | BG32: =IFERROR(IF(IF(AND(LEN(BB9)=0,LEN(BC9)>0,LEN(BD9)=0),INDEX(LinearFour1,A9,0),"")=0,"",IF(AND(LEN(BB9)=0,LEN(BC9)>0,LEN(BD9)=0),INDEX(LinearFour1,A9,0),"")),"") | BH32: =IFERROR(IF(IF(AND(LEN(BB9)=0,LEN(BC9)=0,LEN(BD9)>0),INDEX(LinearFour1,A9,0),"")=0,"",IF(AND(LEN(BB9)=0,LEN(BC9)=0,LEN(BD9)>0),INDEX(LinearFour1,A9,0),"")),"") | BI32: =IFERROR(IF(IF(AND(LEN(BF9)=0,LEN(BG9)>0,LEN(BH9)=0),INDEX(LinearFour2,A9,0),"")=0,"",IF(AND(LEN(BF9)=0,LEN(BG9)>0,LEN(BH9)=0),INDEX(LinearFour2,A9,0),"")),"") | BJ32: =IFERROR(IF(IF(AND(LEN(BF9)=0,LEN(BG9)=0,LEN(BH9)>0),INDEX(LinearFour2,A9,0),"")=0,"",IF(AND(LEN(BF9)=0,LEN(BG9)=0,LEN(BH9)>0),INDEX(LinearFour2,A9,0),"")),"") | BK32: =IFERROR(IF(IF(AND(LEN(BJ9)=0,LEN(BK9)=0,LEN(BL9)>0),INDEX(LinearFour3,A9,0),"")=0,"",IF(AND(LEN(BJ9)=0,LEN(BK9)=0,LEN(BL9)>0),INDEX(LinearFour3,A9,0),"")),"") | BL32: =IFERROR(IF(IF(AND(LEN(BB9)>0,LEN(BC9)>0,LEN(BD9)=0),INDEX(LinearFour1,A9,0),"")=0,"",IF(AND(LEN(BB9)>0,LEN(BC9)>0,LEN(BD9)=0),INDEX(LinearFour1,A9,0),"")),"") -> Alan | BM32: =IFERROR(IF(IF(AND(LEN(BB9)>0,LEN(BC9)=0,LEN(BD9)>0),INDEX(LinearFour1,A9,0),"")=0,"",IF(AND(LEN(BB9)>0,LEN(BC9)=0,LEN(BD9)>0),INDEX(LinearFour1,A9,0),"")),"") | BN32: =IFERROR(IF(IF(AND(LEN(BB9)=0,LEN(BC9)>0,LEN(BD9)>0),INDEX(LinearFour1,A9,0),"")=0,"",IF(AND(LEN(BB9)=0,LEN(BC9)>0,LEN(BD9)>0),INDEX(LinearFour1,A9,0),"")),"") | BO32: =IFERROR(IF(IF(AND(LEN(BF9)=0,LEN(BG9)>0,LEN(BH9)>0),INDEX(LinearFour2,A9,0),"")=0,"",IF(AND(LEN(BF9)=0,LEN(BG9)>0,LEN(BH9)>0),INDEX(LinearFour2,A9,0),"")),"") | BP32: =IFERROR(IF(ISERROR(BF9+BG9+BH9),"",INDEX(LinearFour2,A9,0)),"") | BS32: =IFERROR(IF(IF(AND(LEN(BS9)=0,LEN(BT9)=0,LEN(BU9)=0),INDEX(Oval1,A9,0),"")=0,"",IF(AND(LEN(BS9)=0,LEN(BT9)=0,LEN(BU9)=0),INDEX(Oval1,A9,0),"")),"") | BT32: =IFERROR(IF(IF(AND(LEN(BW9)=0,LEN(BX9)=0,LEN(BY9)=0),INDEX(Oval2,A9,0),"")=0,"",IF(AND(LEN(BW9)=0,LEN(BX9)=0,LEN(BY9)=0),INDEX(Oval2,A9,0),"")),"") | BU32: =IFERROR(IF(IF(AND(LEN(CA9)=0,LEN(CB9)=0,LEN(CC9)=0),INDEX(Oval3,A9,0),"")=0,"",IF(AND(LEN(CA9)=0,LEN(CB9)=0,LEN(CC9)=0),INDEX(Oval3,A9,0),"")),"") | BV32: =IFERROR(IF(IF(AND(LEN(CE9)=0,LEN(CF9)=0,LEN(CG9)=0),INDEX(Oval4,A9,0),"")=0,"",IF(AND(LEN(CE9)=0,LEN(CF9)=0,LEN(CG9)=0),INDEX(Oval4,A9,0),"")),"") | BW32: =IFERROR(IF(IF(AND(LEN(BS9)>0,LEN(BT9)=0,LEN(BU9)=0),INDEX(Oval1,A9,0),"")=0,"",IF(AND(LEN(BS9)>0,LEN(BT9)=0,LEN(BU9)=0),INDEX(Oval1,A9,0),"")),"") | BX32: =IFERROR(IF(IF(AND(LEN(BS9)=0,LEN(BT9)>0,LEN(BU9)=0),INDEX(Oval1,A9,0),"")=0,"",IF(AND(LEN(BS9)=0,LEN(BT9)>0,LEN(BU9)=0),INDEX(Oval1,A9,0),"")),"") | BY32: =IFERROR(IF(IF(AND(LEN(BS9)=0,LEN(BT9)=0,LEN(BU9)>0),INDEX(Oval1,A9,0),"")=0,"",IF(AND(LEN(BS9)=0,LEN(BT9)=0,LEN(BU9)>0),INDEX(Oval1,A9,0),"")),"") -> Ezgi | BZ32: =IFERROR(IF(IF(AND(LEN(BW9)=0,LEN(BX9)>0,LEN(BY9)=0),INDEX(Oval2,A9,0),"")=0,"",IF(AND(LEN(BW9)=0,LEN(BX9)>0,LEN(BY9)=0),INDEX(Oval2,A9,0),"")),"") | CA32: =IFERROR(IF(IF(AND(LEN(BW9)=0,LEN(BX9)=0,LEN(BY9)>0),INDEX(Oval2,A9,0),"")=0,"",IF(AND(LEN(BW9)=0,LEN(BX9)=0,LEN(BY9)>0),INDEX(Oval2,A9,0),"")),"") | CB32: =IFERROR(IF(IF(AND(LEN(CA9)=0,LEN(CB9)=0,LEN(CC9)>0),INDEX(Oval3,A9,0),"")=0,"",IF(AND(LEN(CA9)=0,LEN(CB9)=0,LEN(CC9)>0),INDEX(Oval3,A9,0),"")),"") | CC32: =IFERROR(IF(IF(AND(LEN(BS9)>0,LEN(BT9)>0,LEN(BU9)=0),INDEX(Oval1,A9,0),"")=0,"",IF(AND(LEN(BS9)>0,LEN(BT9)>0,LEN(BU9)=0),INDEX(Oval1,A9,0),"")),"") | CD32: =IFERROR(IF(IF(AND(LEN(BS9)>0,LEN(BT9)=0,LEN(BU9)>0),INDEX(Oval1,A9,0),"")=0,"",IF(AND(LEN(BS9)>0,LEN(BT9)=0,LEN(BU9)>0),INDEX(Oval1,A9,0),"")),"") | CE32: =IFERROR(IF(IF(AND(LEN(BS9)=0,LEN(BT9)>0,LEN(BU9)>0),INDEX(Oval1,A9,0),"")=0,"",IF(AND(LEN(BS9)=0,LEN(BT9)>0,LEN(BU9)>0),INDEX(Oval1,A9,0),"")),"") | CF32: =IFERROR(IF(IF(AND(LEN(BW9)=0,LEN(BX9)>0,LEN(BY9)>0),INDEX(Oval2,A9,0),"")=0,"",IF(AND(LEN(BW9)=0,LEN(BX9)>0,LEN(BY9)>0),INDEX(Oval2,A9,0),"")),"") | CG32: =IFERROR(IF(ISERROR(BW9+BX9+BY9),"",INDEX(Oval2,A9,0)),"") -> Pablo | CJ32: =IFERROR(IF(IF(AND(LEN(CJ9)=0,LEN(CK9)=0,LEN(CL9)=0),INDEX(StackedFour1,A9,0),"")=0,"",IF(AND(LEN(CJ9)=0,LEN(CK9)=0,LEN(CL9)=0),INDEX(StackedFour1,A9,0),"")),"") | CK32: =IFERROR(IF(IF(AND(LEN(CN9)=0,LEN(CO9)=0,LEN(CP9)=0),INDEX(StackedFour2,A9,0),"")=0,"",IF(AND(LEN(CN9)=0,LEN(CO9)=0,LEN(CP9)=0),INDEX(StackedFour2,A9,0),"")),"") | CL32: =IFERROR(IF(IF(AND(LEN(CR9)=0,LEN(CS9)=0,LEN(CT9)=0),INDEX(StackedFour3,A9,0),"")=0,"",IF(AND(LEN(CR9)=0,LEN(CS9)=0,LEN(CT9)=0),INDEX(StackedFour3,A9,0),"")),"") | CM32: =IFERROR(IF(IF(AND(LEN(CV9)=0,LEN(CW9)=0,LEN(CX9)=0),INDEX(StackedFour4,A9,0),"")=0,"",IF(AND(LEN(CV9)=0,LEN(CW9)=0,LEN(CX9)=0),INDEX(StackedFour4,A9,0),"")),"") | CN32: =IFERROR(IF(IF(AND(LEN(CJ9)>0,LEN(CK9)=0,LEN(CL9)=0),INDEX(StackedFour1,A9,0),"")=0,"",IF(AND(LEN(CJ9)>0,LEN(CK9)=0,LEN(CL9)=0),INDEX(StackedFour1,A9,0),"")),"") -> Pumas | CO32: =IFERROR(IF(IF(AND(LEN(CJ9)=0,LEN(CK9)>0,LEN(CL9)=0),INDEX(StackedFour1,A9,0),"")=0,"",IF(AND(LEN(CJ9)=0,LEN(CK9)>0,LEN(CL9)=0),INDEX(StackedFour1,A9,0),"")),"") | CP32: =IFERROR(IF(IF(AND(LEN(CJ9)=0,LEN(CK9)=0,LEN(CL9)>0),INDEX(StackedFour1,A9,0),"")=0,"",IF(AND(LEN(CJ9)=0,LEN(CK9)=0,LEN(CL9)>0),INDEX(StackedFour1,A9,0),"")),"") | CQ32: =IFERROR(IF(IF(AND(LEN(CN9)=0,LEN(CO9)>0,LEN(CP9)=0),INDEX(StackedFour2,A9,0),"")=0,"",IF(AND(LEN(CN9)=0,LEN(CO9)>0,LEN(CP9)=0),INDEX(StackedFour2,A9,0),"")),"") | CR32: =IFERROR(IF(IF(AND(LEN(CN9)=0,LEN(CO9)=0,LEN(CP9)>0),INDEX(StackedFour2,A9,0),"")=0,"",IF(AND(LEN(CN9)=0,LEN(CO9)=0,LEN(CP9)>0),INDEX(StackedFour2,A9,0),"")),"") | CS32: =IFERROR(IF(IF(AND(LEN(CR9)=0,LEN(CS9)=0,LEN(CT9)>0),INDEX(StackedFour3,A9,0),"")=0,"",IF(AND(LEN(CR9)=0,LEN(CS9)=0,LEN(CT9)>0),INDEX(StackedFour3,A9,0),"")),"") | CT32: =IFERROR(IF(IF(AND(LEN(CJ9)>0,LEN(CK9)>0,LEN(CL9)=0),INDEX(StackedFour1,A9,0),"")=0,"",IF(AND(LEN(CJ9)>0,LEN(CK9)>0,LEN(CL9)=0),INDEX(StackedFour1,A9,0),"")),"") | CU32: =IFERROR(IF(IF(AND(LEN(CJ9)>0,LEN(CK9)=0,LEN(CL9)>0),INDEX(StackedFour1,A9,0),"")=0,"",IF(AND(LEN(CJ9)>0,LEN(CK9)=0,LEN(CL9)>0),INDEX(StackedFour1,A9,0),"")),"") | CV32: =IFERROR(IF(IF(AND(LEN(CJ9)=0,LEN(CK9)>0,LEN(CL9)>0),INDEX(StackedFour1,A9,0),"")=0,"",IF(AND(LEN(CJ9)=0,LEN(CK9)>0,LEN(CL9)>0),INDEX(StackedFour1,A9,0),"")),"") | CW32: =IFERROR(IF(IF(AND(LEN(CN9)=0,LEN(CO9)>0,LEN(CP9)>0),INDEX(StackedFour2,A9,0),"")=0,"",IF(AND(LEN(CN9)=0,LEN(CO9)>0,LEN(CP9)>0),INDEX(StackedFour2,A9,0),"")),"") | CX32: =IFERROR(IF(ISERROR(CN9+CO9+CP9),"",INDEX(StackedFour2,A9,0)),"")
B33: =IFERROR(IF(B10="","",CHAR(10)&" "&B10),"") -> Iran | C33: =IFERROR(IF(C10="","",CHAR(10)&" "&C10),"") -> England | D33: =IFERROR(IF(D10="","",CHAR(10)&" "&D10),"") | G33: =IFERROR(IF(IF(AND(LEN(G10)=0,LEN(H10)=0),INDEX(Triangular1,Calc!A10,0),"")=0,"",IF(AND(LEN(G10)=0,LEN(H10)=0)=TRUE,INDEX(Triangular1,Calc!A10,0),"")),"") -> Camels | H33: =IFERROR(IF(IF(AND(LEN(J10)=0,LEN(K10)=0),INDEX(Triangular2,Calc!A10,0),"")=0,"",IF(AND(LEN(J10)=0,LEN(K10)=0)=TRUE,INDEX(Triangular2,Calc!A10,0),"")),"") -> Foxes | I33: =IFERROR(IF(IF(AND(LEN(M10)=0,LEN(N10)=0),INDEX(Triangular3,Calc!A10,0),"")=0,"",IF(AND(LEN(M10)=0,LEN(N10)=0)=TRUE,INDEX(Triangular3,Calc!A10,0),"")),"") | J33: =IFERROR(IF(IF(AND(LEN(G10)>0,LEN(H10)=0),INDEX(Triangular1,Calc!A10,0),"")=0,"",IF(AND(LEN(G10)>0,LEN(H10)=0),INDEX(Triangular1,Calc!A10,0),"")),"") | K33: =IFERROR(IF(IF(AND(LEN(H10)>0,LEN(G10)=0),INDEX(Triangular1,Calc!A10,0),"")=0,"",IF(AND(LEN(H10)>0,LEN(G10)=0),INDEX(Triangular1,Calc!A10,0),"")),"") | L33: =IFERROR(IF(IF(AND(LEN(K10)>0,LEN(J10)=0),INDEX(Triangular2,Calc!A10,0),"")=0,"",IF(AND(LEN(K10)>0,LEN(J10)=0),INDEX(Triangular2,Calc!A10,0),"")),"") | M33: =IFERROR(IF(ISERROR(G10+H10),"",INDEX(Triangular1,Calc!A10,0)),"") | Q33: =IFERROR(IF(IF(AND(LEN(Q10)=0,LEN(R10)=0),INDEX(LinearThree1,A10,0),"")=0,"",IF(AND(LEN(Q10)=0,LEN(R10)=0),INDEX(LinearThree1,A10,0),"")),"") -> Cows | R33: =IFERROR(IF(IF(AND(LEN(T10)=0,LEN(U10)=0),INDEX(LinearThree2,A10,0),"")=0,"",IF(AND(LEN(T10)=0,LEN(U10)=0),INDEX(LinearThree2,A10,0),"")),"") -> Goats | S33: =IFERROR(IF(IF(AND(LEN(X10)=0,LEN(W10)=0),INDEX(LinearThree3,A10,0),"")=0,"",IF(AND(LEN(X10)=0,LEN(W10)=0),INDEX(LinearThree3,A10,0),"")),"") -> Mollusks | T33: =IFERROR(IF(IF(LEN(Q10)>0,INDEX(LinearThree1,A10,0),"")=0,"",IF(LEN(Q10)>0,INDEX(LinearThree1,A10,0),"")),"") | U33: =IFERROR(IF(IF(LEN(X10)>0,INDEX(LinearThree3,A10,0),"")=0,"",IF(LEN(X10)>0,INDEX(LinearThree3,A10,0),"")),"") | V33: =IFERROR(IF(IF(AND(LEN(W10)>0,LEN(X10)=0),INDEX(LinearThree3,A10,0),"")=0,"",IF(AND(LEN(W10)>0,LEN(X10)=0),INDEX(LinearThree3,A10,0),"")),"") | W33: =IFERROR(IF(ISERROR(W10+X10),"",INDEX(LinearThree3,A10,0)),"") | AA33: =IFERROR(IF(IF(AND(LEN(AA10)=0,LEN(AB10)=0),INDEX(StackedThree1,A10,0),"")=0,"",IF(AND(LEN(AA10)=0,LEN(AB10)=0),INDEX(StackedThree1,A10,0),"")),"") | AB33: =IFERROR(IF(IF(AND(LEN(AD10)=0,LEN(AE10)=0),INDEX(StackedThree2,A10,0),"")=0,"",IF(AND(LEN(AD10)=0,LEN(AE10)=0),INDEX(StackedThree2,A10,0),"")),"") -> Pumas | AC33: =IFERROR(IF(IF(AND(LEN(AH10)=0,LEN(AG10)=0),INDEX(StackedThree3,A10,0),"")=0,"",IF(AND(LEN(AH10)=0,LEN(AG10)=0),INDEX(StackedThree3,A10,0),"")),"") | AD33: =IFERROR(IF(IF(AND(LEN(AA10)>0,LEN(AB10)=0),INDEX(StackedThree1,A10,0),"")=0,"",IF(AND(LEN(AA10)>0,LEN(AB10)=0),INDEX(StackedThree1,A10,0),"")),"") -> Tigers | AE33: =IFERROR(IF(IF(AND(LEN(AE10)>0,LEN(AD10)=0),INDEX(StackedThree2,A10,0),"")=0,"",IF(AND(LEN(AE10)>0,LEN(AD10)=0),INDEX(StackedThree2,A10,0),"")),"") | AF33: =IFERROR(IF(IF(AND(LEN(AG10)>0,LEN(AH10)=0),INDEX(StackedThree3,A10,0),"")=0,"",IF(AND(LEN(AG10)>0,LEN(AH10)=0),INDEX(StackedThree3,A10,0),"")),"") | AG33: =IFERROR(IF(ISERROR(AG10+AH10),"",INDEX(StackedThree3,A10,0)),"") | AK33: =IFERROR(IF(IF(AND(LEN(AK10)=0,LEN(AL10)=0,LEN(AM10)=0),INDEX(Square1,A10,0),"")=0,"",IF(AND(LEN(AK10)=0,LEN(AL10)=0,LEN(AM10)=0),INDEX(Square1,A10,0),"")),"") | AL33: =IFERROR(IF(IF(AND(LEN(AO10)=0,LEN(AP10)=0,LEN(AQ10)=0),INDEX(Square2,A10,0),"")=0,"",IF(AND(LEN(AO10)=0,LEN(AP10)=0,LEN(AQ10)=0),INDEX(Square2,A10,0),"")),"") | AM33: =IFERROR(IF(IF(AND(LEN(AS10)=0,LEN(AT10)=0,LEN(AU10)=0),INDEX(Square3,A10,0),"")=0,"",IF(AND(LEN(AS10)=0,LEN(AT10)=0,LEN(AU10)=0),INDEX(Square3,A10,0),"")),"") | AN33: =IFERROR(IF(IF(AND(LEN(AW10)=0,LEN(AX10)=0,LEN(AY10)=0),INDEX(Square4,A10,0),"")=0,"",IF(AND(LEN(AW10)=0,LEN(AX10)=0,LEN(AY10)=0),INDEX(Square4,A10,0),"")),"") -> Deniz | AO33: =IFERROR(IF(IF(AND(LEN(AK10)>0,LEN(AL10)=0,LEN(AM10)=0),INDEX(Square1,A10,0),"")=0,"",IF(AND(LEN(AK10)>0,LEN(AL10)=0,LEN(AM10)=0),INDEX(Square1,A10,0),"")),"") | AP33: =IFERROR(IF(IF(AND(LEN(AK10)=0,LEN(AL10)>0,LEN(AM10)=0),INDEX(Square1,A10,0),"")=0,"",IF(AND(LEN(AK10)=0,LEN(AL10)>0,LEN(AM10)=0),INDEX(Square1,A10,0),"")),"") | AQ33: =IFERROR(IF(IF(AND(LEN(AK10)=0,LEN(AL10)=0,LEN(AM10)>0),INDEX(Square1,A10,0),"")=0,"",IF(AND(LEN(AK10)=0,LEN(AL10)=0,LEN(AM10)>0),INDEX(Square1,A10,0),"")),"") | AR33: =IFERROR(IF(IF(AND(LEN(AO10)=0,LEN(AP10)>0,LEN(AQ10)=0),INDEX(Square2,A10,0),"")=0,"",IF(AND(LEN(AO10)=0,LEN(AP10)>0,LEN(AQ10)=0),INDEX(Square2,A10,0),"")),"") -> Salion | AS33: =IFERROR(IF(IF(AND(LEN(AO10)=0,LEN(AP10)=0,LEN(AQ10)>0),INDEX(Square2,A10,0),"")=0,"",IF(AND(LEN(AO10)=0,LEN(AP10)=0,LEN(AQ10)>0),INDEX(Square2,A10,0),"")),"") | AT33: =IFERROR(IF(IF(AND(LEN(AS10)=0,LEN(AT10)=0,LEN(AU10)>0),INDEX(Square3,A10,0),"")=0,"",IF(AND(LEN(AS10)=0,LEN(AT10)=0,LEN(AU10)>0),INDEX(Square3,A10,0),"")),"") | AU33: =IFERROR(IF(IF(AND(LEN(AK10)>0,LEN(AL10)>0,LEN(AM10)=0),INDEX(Square1,A10,0),"")=0,"",IF(AND(LEN(AK10)>0,LEN(AL10)>0,LEN(AM10)=0),INDEX(Square1,A10,0),"")),"") | AV33: =IFERROR(IF(IF(AND(LEN(AK10)>0,LEN(AL10)=0,LEN(AM10)>0),INDEX(Square1,A10,0),"")=0,"",IF(AND(LEN(AK10)>0,LEN(AL10)=0,LEN(AM10)>0),INDEX(Square1,A10,0),"")),"") | AW33: =IFERROR(IF(IF(AND(LEN(AK10)=0,LEN(AL10)>0,LEN(AM10)>0),INDEX(Square1,A10,0),"")=0,"",IF(AND(LEN(AK10)=0,LEN(AL10)>0,LEN(AM10)>0),INDEX(Square1,A10,0),"")),"") -> Leyla | AX33: =IFERROR(IF(IF(AND(LEN(AO10)=0,LEN(AP10)>0,LEN(AQ10)>0),INDEX(Square2,A10,0),"")=0,"",IF(AND(LEN(AO10)=0,LEN(AP10)>0,LEN(AQ10)>0),INDEX(Square2,A10,0),"")),"") | AY33: =IFERROR(IF(ISERROR(AO10+AP10+AQ10),"",INDEX(Square2,A10,0)),"") | BB33: =IFERROR(IF(IF(AND(LEN(BB10)=0,LEN(BC10)=0,LEN(BD10)=0),INDEX(LinearFour1,A10,0),"")=0,"",IF(AND(LEN(BB10)=0,LEN(BC10)=0,LEN(BD10)=0),INDEX(LinearFour1,A10,0),"")),"") -> John | BC33: =IFERROR(IF(IF(AND(LEN(BF10)=0,LEN(BG10)=0,LEN(BH10)=0),INDEX(LinearFour2,A10,0),"")=0,"",IF(AND(LEN(BF10)=0,LEN(BG10)=0,LEN(BH10)=0),INDEX(LinearFour2,A10,0),"")),"") | BD33: =IFERROR(IF(IF(AND(LEN(BJ10)=0,LEN(BK10)=0,LEN(BL10)=0),INDEX(LinearFour3,A10,0),"")=0,"",IF(AND(LEN(BJ10)=0,LEN(BK10)=0,LEN(BL10)=0),INDEX(LinearFour3,A10,0),"")),"") | BE33: =IFERROR(IF(IF(AND(LEN(BN10)=0,LEN(BO10)=0,LEN(BP10)=0),INDEX(LinearFour4,A10,0),"")=0,"",IF(AND(LEN(BN10)=0,LEN(BO10)=0,LEN(BP10)=0),INDEX(LinearFour4,A10,0),"")),"") -> Norman | BF33: =IFERROR(IF(IF(AND(LEN(BB10)>0,LEN(BC10)=0,LEN(BD10)=0),INDEX(LinearFour1,A10,0),"")=0,"",IF(AND(LEN(BB10)>0,LEN(BC10)=0,LEN(BD10)=0),INDEX(LinearFour1,A10,0),"")),"") | BG33: =IFERROR(IF(IF(AND(LEN(BB10)=0,LEN(BC10)>0,LEN(BD10)=0),INDEX(LinearFour1,A10,0),"")=0,"",IF(AND(LEN(BB10)=0,LEN(BC10)>0,LEN(BD10)=0),INDEX(LinearFour1,A10,0),"")),"") | BH33: =IFERROR(IF(IF(AND(LEN(BB10)=0,LEN(BC10)=0,LEN(BD10)>0),INDEX(LinearFour1,A10,0),"")=0,"",IF(AND(LEN(BB10)=0,LEN(BC10)=0,LEN(BD10)>0),INDEX(LinearFour1,A10,0),"")),"") | BI33: =IFERROR(IF(IF(AND(LEN(BF10)=0,LEN(BG10)>0,LEN(BH10)=0),INDEX(LinearFour2,A10,0),"")=0,"",IF(AND(LEN(BF10)=0,LEN(BG10)>0,LEN(BH10)=0),INDEX(LinearFour2,A10,0),"")),"") -> Gabriel | BJ33: =IFERROR(IF(IF(AND(LEN(BF10)=0,LEN(BG10)=0,LEN(BH10)>0),INDEX(LinearFour2,A10,0),"")=0,"",IF(AND(LEN(BF10)=0,LEN(BG10)=0,LEN(BH10)>0),INDEX(LinearFour2,A10,0),"")),"") | BK33: =IFERROR(IF(IF(AND(LEN(BJ10)=0,LEN(BK10)=0,LEN(BL10)>0),INDEX(LinearFour3,A10,0),"")=0,"",IF(AND(LEN(BJ10)=0,LEN(BK10)=0,LEN(BL10)>0),INDEX(LinearFour3,A10,0),"")),"") | BL33: =IFERROR(IF(IF(AND(LEN(BB10)>0,LEN(BC10)>0,LEN(BD10)=0),INDEX(LinearFour1,A10,0),"")=0,"",IF(AND(LEN(BB10)>0,LEN(BC10)>0,LEN(BD10)=0),INDEX(LinearFour1,A10,0),"")),"") | BM33: =IFERROR(IF(IF(AND(LEN(BB10)>0,LEN(BC10)=0,LEN(BD10)>0),INDEX(LinearFour1,A10,0),"")=0,"",IF(AND(LEN(BB10)>0,LEN(BC10)=0,LEN(BD10)>0),INDEX(LinearFour1,A10,0),"")),"") | BN33: =IFERROR(IF(IF(AND(LEN(BB10)=0,LEN(BC10)>0,LEN(BD10)>0),INDEX(LinearFour1,A10,0),"")=0,"",IF(AND(LEN(BB10)=0,LEN(BC10)>0,LEN(BD10)>0),INDEX(LinearFour1,A10,0),"")),"") | BO33: =IFERROR(IF(IF(AND(LEN(BF10)=0,LEN(BG10)>0,LEN(BH10)>0),INDEX(LinearFour2,A10,0),"")=0,"",IF(AND(LEN(BF10)=0,LEN(BG10)>0,LEN(BH10)>0),INDEX(LinearFour2,A10,0),"")),"") | BP33: =IFERROR(IF(ISERROR(BF10+BG10+BH10),"",INDEX(LinearFour2,A10,0)),"") | BS33: =IFERROR(IF(IF(AND(LEN(BS10)=0,LEN(BT10)=0,LEN(BU10)=0),INDEX(Oval1,A10,0),"")=0,"",IF(AND(LEN(BS10)=0,LEN(BT10)=0,LEN(BU10)=0),INDEX(Oval1,A10,0),"")),"") | BT33: =IFERROR(IF(IF(AND(LEN(BW10)=0,LEN(BX10)=0,LEN(BY10)=0),INDEX(Oval2,A10,0),"")=0,"",IF(AND(LEN(BW10)=0,LEN(BX10)=0,LEN(BY10)=0),INDEX(Oval2,A10,0),"")),"") | BU33: =IFERROR(IF(IF(AND(LEN(CA10)=0,LEN(CB10)=0,LEN(CC10)=0),INDEX(Oval3,A10,0),"")=0,"",IF(AND(LEN(CA10)=0,LEN(CB10)=0,LEN(CC10)=0),INDEX(Oval3,A10,0),"")),"") | BV33: =IFERROR(IF(IF(AND(LEN(CE10)=0,LEN(CF10)=0,LEN(CG10)=0),INDEX(Oval4,A10,0),"")=0,"",IF(AND(LEN(CE10)=0,LEN(CF10)=0,LEN(CG10)=0),INDEX(Oval4,A10,0),"")),"") | BW33: =IFERROR(IF(IF(AND(LEN(BS10)>0,LEN(BT10)=0,LEN(BU10)=0),INDEX(Oval1,A10,0),"")=0,"",IF(AND(LEN(BS10)>0,LEN(BT10)=0,LEN(BU10)=0),INDEX(Oval1,A10,0),"")),"") | BX33: =IFERROR(IF(IF(AND(LEN(BS10)=0,LEN(BT10)>0,LEN(BU10)=0),INDEX(Oval1,A10,0),"")=0,"",IF(AND(LEN(BS10)=0,LEN(BT10)>0,LEN(BU10)=0),INDEX(Oval1,A10,0),"")),"") | BY33: =IFERROR(IF(IF(AND(LEN(BS10)=0,LEN(BT10)=0,LEN(BU10)>0),INDEX(Oval1,A10,0),"")=0,"",IF(AND(LEN(BS10)=0,LEN(BT10)=0,LEN(BU10)>0),INDEX(Oval1,A10,0),"")),"") | BZ33: =IFERROR(IF(IF(AND(LEN(BW10)=0,LEN(BX10)>0,LEN(BY10)=0),INDEX(Oval2,A10,0),"")=0,"",IF(AND(LEN(BW10)=0,LEN(BX10)>0,LEN(BY10)=0),INDEX(Oval2,A10,0),"")),"") | CA33: =IFERROR(IF(IF(AND(LEN(BW10)=0,LEN(BX10)=0,LEN(BY10)>0),INDEX(Oval2,A10,0),"")=0,"",IF(AND(LEN(BW10)=0,LEN(BX10)=0,LEN(BY10)>0),INDEX(Oval2,A10,0),"")),"") | CB33: =IFERROR(IF(IF(AND(LEN(CA10)=0,LEN(CB10)=0,LEN(CC10)>0),INDEX(Oval3,A10,0),"")=0,"",IF(AND(LEN(CA10)=0,LEN(CB10)=0,LEN(CC10)>0),INDEX(Oval3,A10,0),"")),"") | CC33: =IFERROR(IF(IF(AND(LEN(BS10)>0,LEN(BT10)>0,LEN(BU10)=0),INDEX(Oval1,A10,0),"")=0,"",IF(AND(LEN(BS10)>0,LEN(BT10)>0,LEN(BU10)=0),INDEX(Oval1,A10,0),"")),"") -> Bryan | CD33: =IFERROR(IF(IF(AND(LEN(BS10)>0,LEN(BT10)=0,LEN(BU10)>0),INDEX(Oval1,A10,0),"")=0,"",IF(AND(LEN(BS10)>0,LEN(BT10)=0,LEN(BU10)>0),INDEX(Oval1,A10,0),"")),"") | CE33: =IFERROR(IF(IF(AND(LEN(BS10)=0,LEN(BT10)>0,LEN(BU10)>0),INDEX(Oval1,A10,0),"")=0,"",IF(AND(LEN(BS10)=0,LEN(BT10)>0,LEN(BU10)>0),INDEX(Oval1,A10,0),"")),"") | CF33: =IFERROR(IF(IF(AND(LEN(BW10)=0,LEN(BX10)>0,LEN(BY10)>0),INDEX(Oval2,A10,0),"")=0,"",IF(AND(LEN(BW10)=0,LEN(BX10)>0,LEN(BY10)>0),INDEX(Oval2,A10,0),"")),"") | CG33: =IFERROR(IF(ISERROR(BW10+BX10+BY10),"",INDEX(Oval2,A10,0)),"") | CJ33: =IFERROR(IF(IF(AND(LEN(CJ10)=0,LEN(CK10)=0,LEN(CL10)=0),INDEX(StackedFour1,A10,0),"")=0,"",IF(AND(LEN(CJ10)=0,LEN(CK10)=0,LEN(CL10)=0),INDEX(StackedFour1,A10,0),"")),"") | CK33: =IFERROR(IF(IF(AND(LEN(CN10)=0,LEN(CO10)=0,LEN(CP10)=0),INDEX(StackedFour2,A10,0),"")=0,"",IF(AND(LEN(CN10)=0,LEN(CO10)=0,LEN(CP10)=0),INDEX(StackedFour2,A10,0),"")),"") | CL33: =IFERROR(IF(IF(AND(LEN(CR10)=0,LEN(CS10)=0,LEN(CT10)=0),INDEX(StackedFour3,A10,0),"")=0,"",IF(AND(LEN(CR10)=0,LEN(CS10)=0,LEN(CT10)=0),INDEX(StackedFour3,A10,0),"")),"") | CM33: =IFERROR(IF(IF(AND(LEN(CV10)=0,LEN(CW10)=0,LEN(CX10)=0),INDEX(StackedFour4,A10,0),"")=0,"",IF(AND(LEN(CV10)=0,LEN(CW10)=0,LEN(CX10)=0),INDEX(StackedFour4,A10,0),"")),"") | CN33: =IFERROR(IF(IF(AND(LEN(CJ10)>0,LEN(CK10)=0,LEN(CL10)=0),INDEX(StackedFour1,A10,0),"")=0,"",IF(AND(LEN(CJ10)>0,LEN(CK10)=0,LEN(CL10)=0),INDEX(StackedFour1,A10,0),"")),"") | CO33: =IFERROR(IF(IF(AND(LEN(CJ10)=0,LEN(CK10)>0,LEN(CL10)=0),INDEX(StackedFour1,A10,0),"")=0,"",IF(AND(LEN(CJ10)=0,LEN(CK10)>0,LEN(CL10)=0),INDEX(StackedFour1,A10,0),"")),"") | CP33: =IFERROR(IF(IF(AND(LEN(CJ10)=0,LEN(CK10)=0,LEN(CL10)>0),INDEX(StackedFour1,A10,0),"")=0,"",IF(AND(LEN(CJ10)=0,LEN(CK10)=0,LEN(CL10)>0),INDEX(StackedFour1,A10,0),"")),"") | CQ33: =IFERROR(IF(IF(AND(LEN(CN10)=0,LEN(CO10)>0,LEN(CP10)=0),INDEX(StackedFour2,A10,0),"")=0,"",IF(AND(LEN(CN10)=0,LEN(CO10)>0,LEN(CP10)=0),INDEX(StackedFour2,A10,0),"")),"") | CR33: =IFERROR(IF(IF(AND(LEN(CN10)=0,LEN(CO10)=0,LEN(CP10)>0),INDEX(StackedFour2,A10,0),"")=0,"",IF(AND(LEN(CN10)=0,LEN(CO10)=0,LEN(CP10)>0),INDEX(StackedFour2,A10,0),"")),"") | CS33: =IFERROR(IF(IF(AND(LEN(CR10)=0,LEN(CS10)=0,LEN(CT10)>0),INDEX(StackedFour3,A10,0),"")=0,"",IF(AND(LEN(CR10)=0,LEN(CS10)=0,LEN(CT10)>0),INDEX(StackedFour3,A10,0),"")),"") | CT33: =IFERROR(IF(IF(AND(LEN(CJ10)>0,LEN(CK10)>0,LEN(CL10)=0),INDEX(StackedFour1,A10,0),"")=0,"",IF(AND(LEN(CJ10)>0,LEN(CK10)>0,LEN(CL10)=0),INDEX(StackedFour1,A10,0),"")),"") | CU33: =IFERROR(IF(IF(AND(LEN(CJ10)>0,LEN(CK10)=0,LEN(CL10)>0),INDEX(StackedFour1,A10,0),"")=0,"",IF(AND(LEN(CJ10)>0,LEN(CK10)=0,LEN(CL10)>0),INDEX(StackedFour1,A10,0),"")),"") | CV33: =IFERROR(IF(IF(AND(LEN(CJ10)=0,LEN(CK10)>0,LEN(CL10)>0),INDEX(StackedFour1,A10,0),"")=0,"",IF(AND(LEN(CJ10)=0,LEN(CK10)>0,LEN(CL10)>0),INDEX(StackedFour1,A10,0),"")),"") | CW33: =IFERROR(IF(IF(AND(LEN(CN10)=0,LEN(CO10)>0,LEN(CP10)>0),INDEX(StackedFour2,A10,0),"")=0,"",IF(AND(LEN(CN10)=0,LEN(CO10)>0,LEN(CP10)>0),INDEX(StackedFour2,A10,0),"")),"") | CX33: =IFERROR(IF(ISERROR(CN10+CO10+CP10),"",INDEX(StackedFour2,A10,0)),"")
B34: =IFERROR(IF(B11="","",CHAR(10)&" "&B11),"") -> North Korea | C34: =IFERROR(IF(C11="","",CHAR(10)&" "&C11),"") -> Spain | D34: =IFERROR(IF(D11="","",CHAR(10)&" "&D11),"") | G34: =IFERROR(IF(IF(AND(LEN(G11)=0,LEN(H11)=0),INDEX(Triangular1,Calc!A11,0),"")=0,"",IF(AND(LEN(G11)=0,LEN(H11)=0)=TRUE,INDEX(Triangular1,Calc!A11,0),"")),"") | H34: =IFERROR(IF(IF(AND(LEN(J11)=0,LEN(K11)=0),INDEX(Triangular2,Calc!A11,0),"")=0,"",IF(AND(LEN(J11)=0,LEN(K11)=0)=TRUE,INDEX(Triangular2,Calc!A11,0),"")),"") | I34: =IFERROR(IF(IF(AND(LEN(M11)=0,LEN(N11)=0),INDEX(Triangular3,Calc!A11,0),"")=0,"",IF(AND(LEN(M11)=0,LEN(N11)=0)=TRUE,INDEX(Triangular3,Calc!A11,0),"")),"") | J34: =IFERROR(IF(IF(AND(LEN(G11)>0,LEN(H11)=0),INDEX(Triangular1,Calc!A11,0),"")=0,"",IF(AND(LEN(G11)>0,LEN(H11)=0),INDEX(Triangular1,Calc!A11,0),"")),"") | K34: =IFERROR(IF(IF(AND(LEN(H11)>0,LEN(G11)=0),INDEX(Triangular1,Calc!A11,0),"")=0,"",IF(AND(LEN(H11)>0,LEN(G11)=0),INDEX(Triangular1,Calc!A11,0),"")),"") | L34: =IFERROR(IF(IF(AND(LEN(K11)>0,LEN(J11)=0),INDEX(Triangular2,Calc!A11,0),"")=0,"",IF(AND(LEN(K11)>0,LEN(J11)=0),INDEX(Triangular2,Calc!A11,0),"")),"") | M34: =IFERROR(IF(ISERROR(G11+H11),"",INDEX(Triangular1,Calc!A11,0)),"") -> Whales | Q34: =IFERROR(IF(IF(AND(LEN(Q11)=0,LEN(R11)=0),INDEX(LinearThree1,A11,0),"")=0,"",IF(AND(LEN(Q11)=0,LEN(R11)=0),INDEX(LinearThree1,A11,0),"")),"") | R34: =IFERROR(IF(IF(AND(LEN(T11)=0,LEN(U11)=0),INDEX(LinearThree2,A11,0),"")=0,"",IF(AND(LEN(T11)=0,LEN(U11)=0),INDEX(LinearThree2,A11,0),"")),"") | S34: =IFERROR(IF(IF(AND(LEN(X11)=0,LEN(W11)=0),INDEX(LinearThree3,A11,0),"")=0,"",IF(AND(LEN(X11)=0,LEN(W11)=0),INDEX(LinearThree3,A11,0),"")),"") -> Squids | T34: =IFERROR(IF(IF(LEN(Q11)>0,INDEX(LinearThree1,A11,0),"")=0,"",IF(LEN(Q11)>0,INDEX(LinearThree1,A11,0),"")),"") -> Whales | U34: =IFERROR(IF(IF(LEN(X11)>0,INDEX(LinearThree3,A11,0),"")=0,"",IF(LEN(X11)>0,INDEX(LinearThree3,A11,0),"")),"") | V34: =IFERROR(IF(IF(AND(LEN(W11)>0,LEN(X11)=0),INDEX(LinearThree3,A11,0),"")=0,"",IF(AND(LEN(W11)>0,LEN(X11)=0),INDEX(LinearThree3,A11,0),"")),"") | W34: =IFERROR(IF(ISERROR(W11+X11),"",INDEX(LinearThree3,A11,0)),"") | AA34: =IFERROR(IF(IF(AND(LEN(AA11)=0,LEN(AB11)=0),INDEX(StackedThree1,A11,0),"")=0,"",IF(AND(LEN(AA11)=0,LEN(AB11)=0),INDEX(StackedThree1,A11,0),"")),"") | AB34: =IFERROR(IF(IF(AND(LEN(AD11)=0,LEN(AE11)=0),INDEX(StackedThree2,A11,0),"")=0,"",IF(AND(LEN(AD11)=0,LEN(AE11)=0),INDEX(StackedThree2,A11,0),"")),"") | AC34: =IFERROR(IF(IF(AND(LEN(AH11)=0,LEN(AG11)=0),INDEX(StackedThree3,A11,0),"")=0,"",IF(AND(LEN(AH11)=0,LEN(AG11)=0),INDEX(StackedThree3,A11,0),"")),"") | AD34: =IFERROR(IF(IF(AND(LEN(AA11)>0,LEN(AB11)=0),INDEX(StackedThree1,A11,0),"")=0,"",IF(AND(LEN(AA11)>0,LEN(AB11)=0),INDEX(StackedThree1,A11,0),"")),"") | AE34: =IFERROR(IF(IF(AND(LEN(AE11)>0,LEN(AD11)=0),INDEX(StackedThree2,A11,0),"")=0,"",IF(AND(LEN(AE11)>0,LEN(AD11)=0),INDEX(StackedThree2,A11,0),"")),"") | AF34: =IFERROR(IF(IF(AND(LEN(AG11)>0,LEN(AH11)=0),INDEX(StackedThree3,A11,0),"")=0,"",IF(AND(LEN(AG11)>0,LEN(AH11)=0),INDEX(StackedThree3,A11,0),"")),"") | AG34: =IFERROR(IF(ISERROR(AG11+AH11),"",INDEX(StackedThree3,A11,0)),"") | AK34: =IFERROR(IF(IF(AND(LEN(AK11)=0,LEN(AL11)=0,LEN(AM11)=0),INDEX(Square1,A11,0),"")=0,"",IF(AND(LEN(AK11)=0,LEN(AL11)=0,LEN(AM11)=0),INDEX(Square1,A11,0),"")),"") | AL34: =IFERROR(IF(IF(AND(LEN(AO11)=0,LEN(AP11)=0,LEN(AQ11)=0),INDEX(Square2,A11,0),"")=0,"",IF(AND(LEN(AO11)=0,LEN(AP11)=0,LEN(AQ11)=0),INDEX(Square2,A11,0),"")),"") | AM34: =IFERROR(IF(IF(AND(LEN(AS11)=0,LEN(AT11)=0,LEN(AU11)=0),INDEX(Square3,A11,0),"")=0,"",IF(AND(LEN(AS11)=0,LEN(AT11)=0,LEN(AU11)=0),INDEX(Square3,A11,0),"")),"") -> Britney | AN34: =IFERROR(IF(IF(AND(LEN(AW11)=0,LEN(AX11)=0,LEN(AY11)=0),INDEX(Square4,A11,0),"")=0,"",IF(AND(LEN(AW11)=0,LEN(AX11)=0,LEN(AY11)=0),INDEX(Square4,A11,0),"")),"") | AO34: =IFERROR(IF(IF(AND(LEN(AK11)>0,LEN(AL11)=0,LEN(AM11)=0),INDEX(Square1,A11,0),"")=0,"",IF(AND(LEN(AK11)>0,LEN(AL11)=0,LEN(AM11)=0),INDEX(Square1,A11,0),"")),"") -> Amanda | AP34: =IFERROR(IF(IF(AND(LEN(AK11)=0,LEN(AL11)>0,LEN(AM11)=0),INDEX(Square1,A11,0),"")=0,"",IF(AND(LEN(AK11)=0,LEN(AL11)>0,LEN(AM11)=0),INDEX(Square1,A11,0),"")),"") | AQ34: =IFERROR(IF(IF(AND(LEN(AK11)=0,LEN(AL11)=0,LEN(AM11)>0),INDEX(Square1,A11,0),"")=0,"",IF(AND(LEN(AK11)=0,LEN(AL11)=0,LEN(AM11)>0),INDEX(Square1,A11,0),"")),"") | AR34: =IFERROR(IF(IF(AND(LEN(AO11)=0,LEN(AP11)>0,LEN(AQ11)=0),INDEX(Square2,A11,0),"")=0,"",IF(AND(LEN(AO11)=0,LEN(AP11)>0,LEN(AQ11)=0),INDEX(Square2,A11,0),"")),"") | AS34: =IFERROR(IF(IF(AND(LEN(AO11)=0,LEN(AP11)=0,LEN(AQ11)>0),INDEX(Square2,A11,0),"")=0,"",IF(AND(LEN(AO11)=0,LEN(AP11)=0,LEN(AQ11)>0),INDEX(Square2,A11,0),"")),"") | AT34: =IFERROR(IF(IF(AND(LEN(AS11)=0,LEN(AT11)=0,LEN(AU11)>0),INDEX(Square3,A11,0),"")=0,"",IF(AND(LEN(AS11)=0,LEN(AT11)=0,LEN(AU11)>0),INDEX(Square3,A11,0),"")),"") | AU34: =IFERROR(IF(IF(AND(LEN(AK11)>0,LEN(AL11)>0,LEN(AM11)=0),INDEX(Square1,A11,0),"")=0,"",IF(AND(LEN(AK11)>0,LEN(AL11)>0,LEN(AM11)=0),INDEX(Square1,A11,0),"")),"") | AV34: =IFERROR(IF(IF(AND(LEN(AK11)>0,LEN(AL11)=0,LEN(AM11)>0),INDEX(Square1,A11,0),"")=0,"",IF(AND(LEN(AK11)>0,LEN(AL11)=0,LEN(AM11)>0),INDEX(Square1,A11,0),"")),"") | AW34: =IFERROR(IF(IF(AND(LEN(AK11)=0,LEN(AL11)>0,LEN(AM11)>0),INDEX(Square1,A11,0),"")=0,"",IF(AND(LEN(AK11)=0,LEN(AL11)>0,LEN(AM11)>0),INDEX(Square1,A11,0),"")),"") | AX34: =IFERROR(IF(IF(AND(LEN(AO11)=0,LEN(AP11)>0,LEN(AQ11)>0),INDEX(Square2,A11,0),"")=0,"",IF(AND(LEN(AO11)=0,LEN(AP11)>0,LEN(AQ11)>0),INDEX(Square2,A11,0),"")),"") -> Rose | AY34: =IFERROR(IF(ISERROR(AO11+AP11+AQ11),"",INDEX(Square2,A11,0)),"") | BB34: =IFERROR(IF(IF(AND(LEN(BB11)=0,LEN(BC11)=0,LEN(BD11)=0),INDEX(LinearFour1,A11,0),"")=0,"",IF(AND(LEN(BB11)=0,LEN(BC11)=0,LEN(BD11)=0),INDEX(LinearFour1,A11,0),"")),"") | BC34: =IFERROR(IF(IF(AND(LEN(BF11)=0,LEN(BG11)=0,LEN(BH11)=0),INDEX(LinearFour2,A11,0),"")=0,"",IF(AND(LEN(BF11)=0,LEN(BG11)=0,LEN(BH11)=0),INDEX(LinearFour2,A11,0),"")),"") | BD34: =IFERROR(IF(IF(AND(LEN(BJ11)=0,LEN(BK11)=0,LEN(BL11)=0),INDEX(LinearFour3,A11,0),"")=0,"",IF(AND(LEN(BJ11)=0,LEN(BK11)=0,LEN(BL11)=0),INDEX(LinearFour3,A11,0),"")),"") -> Charles | BE34: =IFERROR(IF(IF(AND(LEN(BN11)=0,LEN(BO11)=0,LEN(BP11)=0),INDEX(LinearFour4,A11,0),"")=0,"",IF(AND(LEN(BN11)=0,LEN(BO11)=0,LEN(BP11)=0),INDEX(LinearFour4,A11,0),"")),"") | BF34: =IFERROR(IF(IF(AND(LEN(BB11)>0,LEN(BC11)=0,LEN(BD11)=0),INDEX(LinearFour1,A11,0),"")=0,"",IF(AND(LEN(BB11)>0,LEN(BC11)=0,LEN(BD11)=0),INDEX(LinearFour1,A11,0),"")),"") | BG34: =IFERROR(IF(IF(AND(LEN(BB11)=0,LEN(BC11)>0,LEN(BD11)=0),INDEX(LinearFour1,A11,0),"")=0,"",IF(AND(LEN(BB11)=0,LEN(BC11)>0,LEN(BD11)=0),INDEX(LinearFour1,A11,0),"")),"") | BH34: =IFERROR(IF(IF(AND(LEN(BB11)=0,LEN(BC11)=0,LEN(BD11)>0),INDEX(LinearFour1,A11,0),"")=0,"",IF(AND(LEN(BB11)=0,LEN(BC11)=0,LEN(BD11)>0),INDEX(LinearFour1,A11,0),"")),"") | BI34: =IFERROR(IF(IF(AND(LEN(BF11)=0,LEN(BG11)>0,LEN(BH11)=0),INDEX(LinearFour2,A11,0),"")=0,"",IF(AND(LEN(BF11)=0,LEN(BG11)>0,LEN(BH11)=0),INDEX(LinearFour2,A11,0),"")),"") | BJ34: =IFERROR(IF(IF(AND(LEN(BF11)=0,LEN(BG11)=0,LEN(BH11)>0),INDEX(LinearFour2,A11,0),"")=0,"",IF(AND(LEN(BF11)=0,LEN(BG11)=0,LEN(BH11)>0),INDEX(LinearFour2,A11,0),"")),"") | BK34: =IFERROR(IF(IF(AND(LEN(BJ11)=0,LEN(BK11)=0,LEN(BL11)>0),INDEX(LinearFour3,A11,0),"")=0,"",IF(AND(LEN(BJ11)=0,LEN(BK11)=0,LEN(BL11)>0),INDEX(LinearFour3,A11,0),"")),"") | BL34: =IFERROR(IF(IF(AND(LEN(BB11)>0,LEN(BC11)>0,LEN(BD11)=0),INDEX(LinearFour1,A11,0),"")=0,"",IF(AND(LEN(BB11)>0,LEN(BC11)>0,LEN(BD11)=0),INDEX(LinearFour1,A11,0),"")),"") | BM34: =IFERROR(IF(IF(AND(LEN(BB11)>0,LEN(BC11)=0,LEN(BD11)>0),INDEX(LinearFour1,A11,0),"")=0,"",IF(AND(LEN(BB11)>0,LEN(BC11)=0,LEN(BD11)>0),INDEX(LinearFour1,A11,0),"")),"") | BN34: =IFERROR(IF(IF(AND(LEN(BB11)=0,LEN(BC11)>0,LEN(BD11)>0),INDEX(LinearFour1,A11,0),"")=0,"",IF(AND(LEN(BB11)=0,LEN(BC11)>0,LEN(BD11)>0),INDEX(LinearFour1,A11,0),"")),"") | BO34: =IFERROR(IF(IF(AND(LEN(BF11)=0,LEN(BG11)>0,LEN(BH11)>0),INDEX(LinearFour2,A11,0),"")=0,"",IF(AND(LEN(BF11)=0,LEN(BG11)>0,LEN(BH11)>0),INDEX(LinearFour2,A11,0),"")),"") | BP34: =IFERROR(IF(ISERROR(BF11+BG11+BH11),"",INDEX(LinearFour2,A11,0)),"") | BS34: =IFERROR(IF(IF(AND(LEN(BS11)=0,LEN(BT11)=0,LEN(BU11)=0),INDEX(Oval1,A11,0),"")=0,"",IF(AND(LEN(BS11)=0,LEN(BT11)=0,LEN(BU11)=0),INDEX(Oval1,A11,0),"")),"") | BT34: =IFERROR(IF(IF(AND(LEN(BW11)=0,LEN(BX11)=0,LEN(BY11)=0),INDEX(Oval2,A11,0),"")=0,"",IF(AND(LEN(BW11)=0,LEN(BX11)=0,LEN(BY11)=0),INDEX(Oval2,A11,0),"")),"") | BU34: =IFERROR(IF(IF(AND(LEN(CA11)=0,LEN(CB11)=0,LEN(CC11)=0),INDEX(Oval3,A11,0),"")=0,"",IF(AND(LEN(CA11)=0,LEN(CB11)=0,LEN(CC11)=0),INDEX(Oval3,A11,0),"")),"") | BV34: =IFERROR(IF(IF(AND(LEN(CE11)=0,LEN(CF11)=0,LEN(CG11)=0),INDEX(Oval4,A11,0),"")=0,"",IF(AND(LEN(CE11)=0,LEN(CF11)=0,LEN(CG11)=0),INDEX(Oval4,A11,0),"")),"") | BW34: =IFERROR(IF(IF(AND(LEN(BS11)>0,LEN(BT11)=0,LEN(BU11)=0),INDEX(Oval1,A11,0),"")=0,"",IF(AND(LEN(BS11)>0,LEN(BT11)=0,LEN(BU11)=0),INDEX(Oval1,A11,0),"")),"") | BX34: =IFERROR(IF(IF(AND(LEN(BS11)=0,LEN(BT11)>0,LEN(BU11)=0),INDEX(Oval1,A11,0),"")=0,"",IF(AND(LEN(BS11)=0,LEN(BT11)>0,LEN(BU11)=0),INDEX(Oval1,A11,0),"")),"") | BY34: =IFERROR(IF(IF(AND(LEN(BS11)=0,LEN(BT11)=0,LEN(BU11)>0),INDEX(Oval1,A11,0),"")=0,"",IF(AND(LEN(BS11)=0,LEN(BT11)=0,LEN(BU11)>0),INDEX(Oval1,A11,0),"")),"") | BZ34: =IFERROR(IF(IF(AND(LEN(BW11)=0,LEN(BX11)>0,LEN(BY11)=0),INDEX(Oval2,A11,0),"")=0,"",IF(AND(LEN(BW11)=0,LEN(BX11)>0,LEN(BY11)=0),INDEX(Oval2,A11,0),"")),"") | CA34: =IFERROR(IF(IF(AND(LEN(BW11)=0,LEN(BX11)=0,LEN(BY11)>0),INDEX(Oval2,A11,0),"")=0,"",IF(AND(LEN(BW11)=0,LEN(BX11)=0,LEN(BY11)>0),INDEX(Oval2,A11,0),"")),"") | CB34: =IFERROR(IF(IF(AND(LEN(CA11)=0,LEN(CB11)=0,LEN(CC11)>0),INDEX(Oval3,A11,0),"")=0,"",IF(AND(LEN(CA11)=0,LEN(CB11)=0,LEN(CC11)>0),INDEX(Oval3,A11,0),"")),"") | CC34: =IFERROR(IF(IF(AND(LEN(BS11)>0,LEN(BT11)>0,LEN(BU11)=0),INDEX(Oval1,A11,0),"")=0,"",IF(AND(LEN(BS11)>0,LEN(BT11)>0,LEN(BU11)=0),INDEX(Oval1,A11,0),"")),"") | CD34: =IFERROR(IF(IF(AND(LEN(BS11)>0,LEN(BT11)=0,LEN(BU11)>0),INDEX(Oval1,A11,0),"")=0,"",IF(AND(LEN(BS11)>0,LEN(BT11)=0,LEN(BU11)>0),INDEX(Oval1,A11,0),"")),"") -> Stewart | CE34: =IFERROR(IF(IF(AND(LEN(BS11)=0,LEN(BT11)>0,LEN(BU11)>0),INDEX(Oval1,A11,0),"")=0,"",IF(AND(LEN(BS11)=0,LEN(BT11)>0,LEN(BU11)>0),INDEX(Oval1,A11,0),"")),"") | CF34: =IFERROR(IF(IF(AND(LEN(BW11)=0,LEN(BX11)>0,LEN(BY11)>0),INDEX(Oval2,A11,0),"")=0,"",IF(AND(LEN(BW11)=0,LEN(BX11)>0,LEN(BY11)>0),INDEX(Oval2,A11,0),"")),"") | CG34: =IFERROR(IF(ISERROR(BW11+BX11+BY11),"",INDEX(Oval2,A11,0)),"") | CJ34: =IFERROR(IF(IF(AND(LEN(CJ11)=0,LEN(CK11)=0,LEN(CL11)=0),INDEX(StackedFour1,A11,0),"")=0,"",IF(AND(LEN(CJ11)=0,LEN(CK11)=0,LEN(CL11)=0),INDEX(StackedFour1,A11,0),"")),"") | CK34: =IFERROR(IF(IF(AND(LEN(CN11)=0,LEN(CO11)=0,LEN(CP11)=0),INDEX(StackedFour2,A11,0),"")=0,"",IF(AND(LEN(CN11)=0,LEN(CO11)=0,LEN(CP11)=0),INDEX(StackedFour2,A11,0),"")),"") -> Wolves | CL34: =IFERROR(IF(IF(AND(LEN(CR11)=0,LEN(CS11)=0,LEN(CT11)=0),INDEX(StackedFour3,A11,0),"")=0,"",IF(AND(LEN(CR11)=0,LEN(CS11)=0,LEN(CT11)=0),INDEX(StackedFour3,A11,0),"")),"") | CM34: =IFERROR(IF(IF(AND(LEN(CV11)=0,LEN(CW11)=0,LEN(CX11)=0),INDEX(StackedFour4,A11,0),"")=0,"",IF(AND(LEN(CV11)=0,LEN(CW11)=0,LEN(CX11)=0),INDEX(StackedFour4,A11,0),"")),"") | CN34: =IFERROR(IF(IF(AND(LEN(CJ11)>0,LEN(CK11)=0,LEN(CL11)=0),INDEX(StackedFour1,A11,0),"")=0,"",IF(AND(LEN(CJ11)>0,LEN(CK11)=0,LEN(CL11)=0),INDEX(StackedFour1,A11,0),"")),"") -> Sheep | CO34: =IFERROR(IF(IF(AND(LEN(CJ11)=0,LEN(CK11)>0,LEN(CL11)=0),INDEX(StackedFour1,A11,0),"")=0,"",IF(AND(LEN(CJ11)=0,LEN(CK11)>0,LEN(CL11)=0),INDEX(StackedFour1,A11,0),"")),"") | CP34: =IFERROR(IF(IF(AND(LEN(CJ11)=0,LEN(CK11)=0,LEN(CL11)>0),INDEX(StackedFour1,A11,0),"")=0,"",IF(AND(LEN(CJ11)=0,LEN(CK11)=0,LEN(CL11)>0),INDEX(StackedFour1,A11,0),"")),"") | CQ34: =IFERROR(IF(IF(AND(LEN(CN11)=0,LEN(CO11)>0,LEN(CP11)=0),INDEX(StackedFour2,A11,0),"")=0,"",IF(AND(LEN(CN11)=0,LEN(CO11)>0,LEN(CP11)=0),INDEX(StackedFour2,A11,0),"")),"") | CR34: =IFERROR(IF(IF(AND(LEN(CN11)=0,LEN(CO11)=0,LEN(CP11)>0),INDEX(StackedFour2,A11,0),"")=0,"",IF(AND(LEN(CN11)=0,LEN(CO11)=0,LEN(CP11)>0),INDEX(StackedFour2,A11,0),"")),"") | CS34: =IFERROR(IF(IF(AND(LEN(CR11)=0,LEN(CS11)=0,LEN(CT11)>0),INDEX(StackedFour3,A11,0),"")=0,"",IF(AND(LEN(CR11)=0,LEN(CS11)=0,LEN(CT11)>0),INDEX(StackedFour3,A11,0),"")),"") | CT34: =IFERROR(IF(IF(AND(LEN(CJ11)>0,LEN(CK11)>0,LEN(CL11)=0),INDEX(StackedFour1,A11,0),"")=0,"",IF(AND(LEN(CJ11)>0,LEN(CK11)>0,LEN(CL11)=0),INDEX(StackedFour1,A11,0),"")),"") | CU34: =IFERROR(IF(IF(AND(LEN(CJ11)>0,LEN(CK11)=0,LEN(CL11)>0),INDEX(StackedFour1,A11,0),"")=0,"",IF(AND(LEN(CJ11)>0,LEN(CK11)=0,LEN(CL11)>0),INDEX(StackedFour1,A11,0),"")),"") | CV34: =IFERROR(IF(IF(AND(LEN(CJ11)=0,LEN(CK11)>0,LEN(CL11)>0),INDEX(StackedFour1,A11,0),"")=0,"",IF(AND(LEN(CJ11)=0,LEN(CK11)>0,LEN(CL11)>0),INDEX(StackedFour1,A11,0),"")),"") | CW34: =IFERROR(IF(IF(AND(LEN(CN11)=0,LEN(CO11)>0,LEN(CP11)>0),INDEX(StackedFour2,A11,0),"")=0,"",IF(AND(LEN(CN11)=0,LEN(CO11)>0,LEN(CP11)>0),INDEX(StackedFour2,A11,0),"")),"") | CX34: =IFERROR(IF(ISERROR(CN11+CO11+CP11),"",INDEX(StackedFour2,A11,0)),"")
B35: =IFERROR(IF(B12="","",CHAR(10)&" "&B12),"") -> Indonesia | C35: =IFERROR(IF(C12="","",CHAR(10)&" "&C12),"") -> Germany | D35: =IFERROR(IF(D12="","",CHAR(10)&" "&D12),"") | G35: =IFERROR(IF(IF(AND(LEN(G12)=0,LEN(H12)=0),INDEX(Triangular1,Calc!A12,0),"")=0,"",IF(AND(LEN(G12)=0,LEN(H12)=0)=TRUE,INDEX(Triangular1,Calc!A12,0),"")),"") | H35: =IFERROR(IF(IF(AND(LEN(J12)=0,LEN(K12)=0),INDEX(Triangular2,Calc!A12,0),"")=0,"",IF(AND(LEN(J12)=0,LEN(K12)=0)=TRUE,INDEX(Triangular2,Calc!A12,0),"")),"") | I35: =IFERROR(IF(IF(AND(LEN(M12)=0,LEN(N12)=0),INDEX(Triangular3,Calc!A12,0),"")=0,"",IF(AND(LEN(M12)=0,LEN(N12)=0)=TRUE,INDEX(Triangular3,Calc!A12,0),"")),"") -> Turtles | J35: =IFERROR(IF(IF(AND(LEN(G12)>0,LEN(H12)=0),INDEX(Triangular1,Calc!A12,0),"")=0,"",IF(AND(LEN(G12)>0,LEN(H12)=0),INDEX(Triangular1,Calc!A12,0),"")),"") | K35: =IFERROR(IF(IF(AND(LEN(H12)>0,LEN(G12)=0),INDEX(Triangular1,Calc!A12,0),"")=0,"",IF(AND(LEN(H12)>0,LEN(G12)=0),INDEX(Triangular1,Calc!A12,0),"")),"") -> Sharks | L35: =IFERROR(IF(IF(AND(LEN(K12)>0,LEN(J12)=0),INDEX(Triangular2,Calc!A12,0),"")=0,"",IF(AND(LEN(K12)>0,LEN(J12)=0),INDEX(Triangular2,Calc!A12,0),"")),"") | M35: =IFERROR(IF(ISERROR(G12+H12),"",INDEX(Triangular1,Calc!A12,0)),"") | Q35: =IFERROR(IF(IF(AND(LEN(Q12)=0,LEN(R12)=0),INDEX(LinearThree1,A12,0),"")=0,"",IF(AND(LEN(Q12)=0,LEN(R12)=0),INDEX(LinearThree1,A12,0),"")),"") | R35: =IFERROR(IF(IF(AND(LEN(T12)=0,LEN(U12)=0),INDEX(LinearThree2,A12,0),"")=0,"",IF(AND(LEN(T12)=0,LEN(U12)=0),INDEX(LinearThree2,A12,0),"")),"") | S35: =IFERROR(IF(IF(AND(LEN(X12)=0,LEN(W12)=0),INDEX(LinearThree3,A12,0),"")=0,"",IF(AND(LEN(X12)=0,LEN(W12)=0),INDEX(LinearThree3,A12,0),"")),"") | T35: =IFERROR(IF(IF(LEN(Q12)>0,INDEX(LinearThree1,A12,0),"")=0,"",IF(LEN(Q12)>0,INDEX(LinearThree1,A12,0),"")),"") -> Hippopotamus | U35: =IFERROR(IF(IF(LEN(X12)>0,INDEX(LinearThree3,A12,0),"")=0,"",IF(LEN(X12)>0,INDEX(LinearThree3,A12,0),"")),"") -> Hippopotamus | V35: =IFERROR(IF(IF(AND(LEN(W12)>0,LEN(X12)=0),INDEX(LinearThree3,A12,0),"")=0,"",IF(AND(LEN(W12)>0,LEN(X12)=0),INDEX(LinearThree3,A12,0),"")),"") | W35: =IFERROR(IF(ISERROR(W12+X12),"",INDEX(LinearThree3,A12,0)),"") -> Hippopotamus | AA35: =IFERROR(IF(IF(AND(LEN(AA12)=0,LEN(AB12)=0),INDEX(StackedThree1,A12,0),"")=0,"",IF(AND(LEN(AA12)=0,LEN(AB12)=0),INDEX(StackedThree1,A12,0),"")),"") | AB35: =IFERROR(IF(IF(AND(LEN(AD12)=0,LEN(AE12)=0),INDEX(StackedThree2,A12,0),"")=0,"",IF(AND(LEN(AD12)=0,LEN(AE12)=0),INDEX(StackedThree2,A12,0),"")),"") | AC35: =IFERROR(IF(IF(AND(LEN(AH12)=0,LEN(AG12)=0),INDEX(StackedThree3,A12,0),"")=0,"",IF(AND(LEN(AH12)=0,LEN(AG12)=0),INDEX(StackedThree3,A12,0),"")),"") | AD35: =IFERROR(IF(IF(AND(LEN(AA12)>0,LEN(AB12)=0),INDEX(StackedThree1,A12,0),"")=0,"",IF(AND(LEN(AA12)>0,LEN(AB12)=0),INDEX(StackedThree1,A12,0),"")),"") -> Elephants | AE35: =IFERROR(IF(IF(AND(LEN(AE12)>0,LEN(AD12)=0),INDEX(StackedThree2,A12,0),"")=0,"",IF(AND(LEN(AE12)>0,LEN(AD12)=0),INDEX(StackedThree2,A12,0),"")),"") | AF35: =IFERROR(IF(IF(AND(LEN(AG12)>0,LEN(AH12)=0),INDEX(StackedThree3,A12,0),"")=0,"",IF(AND(LEN(AG12)>0,LEN(AH12)=0),INDEX(StackedThree3,A12,0),"")),"") | AG35: =IFERROR(IF(ISERROR(AG12+AH12),"",INDEX(StackedThree3,A12,0)),"") | AK35: =IFERROR(IF(IF(AND(LEN(AK12)=0,LEN(AL12)=0,LEN(AM12)=0),INDEX(Square1,A12,0),"")=0,"",IF(AND(LEN(AK12)=0,LEN(AL12)=0,LEN(AM12)=0),INDEX(Square1,A12,0),"")),"") | AL35: =IFERROR(IF(IF(AND(LEN(AO12)=0,LEN(AP12)=0,LEN(AQ12)=0),INDEX(Square2,A12,0),"")=0,"",IF(AND(LEN(AO12)=0,LEN(AP12)=0,LEN(AQ12)=0),INDEX(Square2,A12,0),"")),"") | AM35: =IFERROR(IF(IF(AND(LEN(AS12)=0,LEN(AT12)=0,LEN(AU12)=0),INDEX(Square3,A12,0),"")=0,"",IF(AND(LEN(AS12)=0,LEN(AT12)=0,LEN(AU12)=0),INDEX(Square3,A12,0),"")),"") | AN35: =IFERROR(IF(IF(AND(LEN(AW12)=0,LEN(AX12)=0,LEN(AY12)=0),INDEX(Square4,A12,0),"")=0,"",IF(AND(LEN(AW12)=0,LEN(AX12)=0,LEN(AY12)=0),INDEX(Square4,A12,0),"")),"") | AO35: =IFERROR(IF(IF(AND(LEN(AK12)>0,LEN(AL12)=0,LEN(AM12)=0),INDEX(Square1,A12,0),"")=0,"",IF(AND(LEN(AK12)>0,LEN(AL12)=0,LEN(AM12)=0),INDEX(Square1,A12,0),"")),"") | AP35: =IFERROR(IF(IF(AND(LEN(AK12)=0,LEN(AL12)>0,LEN(AM12)=0),INDEX(Square1,A12,0),"")=0,"",IF(AND(LEN(AK12)=0,LEN(AL12)>0,LEN(AM12)=0),INDEX(Square1,A12,0),"")),"") | AQ35: =IFERROR(IF(IF(AND(LEN(AK12)=0,LEN(AL12)=0,LEN(AM12)>0),INDEX(Square1,A12,0),"")=0,"",IF(AND(LEN(AK12)=0,LEN(AL12)=0,LEN(AM12)>0),INDEX(Square1,A12,0),"")),"") -> Onur | AR35: =IFERROR(IF(IF(AND(LEN(AO12)=0,LEN(AP12)>0,LEN(AQ12)=0),INDEX(Square2,A12,0),"")=0,"",IF(AND(LEN(AO12)=0,LEN(AP12)>0,LEN(AQ12)=0),INDEX(Square2,A12,0),"")),"") | AS35: =IFERROR(IF(IF(AND(LEN(AO12)=0,LEN(AP12)=0,LEN(AQ12)>0),INDEX(Square2,A12,0),"")=0,"",IF(AND(LEN(AO12)=0,LEN(AP12)=0,LEN(AQ12)>0),INDEX(Square2,A12,0),"")),"") | AT35: =IFERROR(IF(IF(AND(LEN(AS12)=0,LEN(AT12)=0,LEN(AU12)>0),INDEX(Square3,A12,0),"")=0,"",IF(AND(LEN(AS12)=0,LEN(AT12)=0,LEN(AU12)>0),INDEX(Square3,A12,0),"")),"") | AU35: =IFERROR(IF(IF(AND(LEN(AK12)>0,LEN(AL12)>0,LEN(AM12)=0),INDEX(Square1,A12,0),"")=0,"",IF(AND(LEN(AK12)>0,LEN(AL12)>0,LEN(AM12)=0),INDEX(Square1,A12,0),"")),"") | AV35: =IFERROR(IF(IF(AND(LEN(AK12)>0,LEN(AL12)=0,LEN(AM12)>0),INDEX(Square1,A12,0),"")=0,"",IF(AND(LEN(AK12)>0,LEN(AL12)=0,LEN(AM12)>0),INDEX(Square1,A12,0),"")),"") | AW35: =IFERROR(IF(IF(AND(LEN(AK12)=0,LEN(AL12)>0,LEN(AM12)>0),INDEX(Square1,A12,0),"")=0,"",IF(AND(LEN(AK12)=0,LEN(AL12)>0,LEN(AM12)>0),INDEX(Square1,A12,0),"")),"") | AX35: =IFERROR(IF(IF(AND(LEN(AO12)=0,LEN(AP12)>0,LEN(AQ12)>0),INDEX(Square2,A12,0),"")=0,"",IF(AND(LEN(AO12)=0,LEN(AP12)>0,LEN(AQ12)>0),INDEX(Square2,A12,0),"")),"") | AY35: =IFERROR(IF(ISERROR(AO12+AP12+AQ12),"",INDEX(Square2,A12,0)),"") -> John | BB35: =IFERROR(IF(IF(AND(LEN(BB12)=0,LEN(BC12)=0,LEN(BD12)=0),INDEX(LinearFour1,A12,0),"")=0,"",IF(AND(LEN(BB12)=0,LEN(BC12)=0,LEN(BD12)=0),INDEX(LinearFour1,A12,0),"")),"") -> George | BC35: =IFERROR(IF(IF(AND(LEN(BF12)=0,LEN(BG12)=0,LEN(BH12)=0),INDEX(LinearFour2,A12,0),"")=0,"",IF(AND(LEN(BF12)=0,LEN(BG12)=0,LEN(BH12)=0),INDEX(LinearFour2,A12,0),"")),"") -> Eric | BD35: =IFERROR(IF(IF(AND(LEN(BJ12)=0,LEN(BK12)=0,LEN(BL12)=0),INDEX(LinearFour3,A12,0),"")=0,"",IF(AND(LEN(BJ12)=0,LEN(BK12)=0,LEN(BL12)=0),INDEX(LinearFour3,A12,0),"")),"") -> Scott | BE35: =IFERROR(IF(IF(AND(LEN(BN12)=0,LEN(BO12)=0,LEN(BP12)=0),INDEX(LinearFour4,A12,0),"")=0,"",IF(AND(LEN(BN12)=0,LEN(BO12)=0,LEN(BP12)=0),INDEX(LinearFour4,A12,0),"")),"") | BF35: =IFERROR(IF(IF(AND(LEN(BB12)>0,LEN(BC12)=0,LEN(BD12)=0),INDEX(LinearFour1,A12,0),"")=0,"",IF(AND(LEN(BB12)>0,LEN(BC12)=0,LEN(BD12)=0),INDEX(LinearFour1,A12,0),"")),"") | BG35: =IFERROR(IF(IF(AND(LEN(BB12)=0,LEN(BC12)>0,LEN(BD12)=0),INDEX(LinearFour1,A12,0),"")=0,"",IF(AND(LEN(BB12)=0,LEN(BC12)>0,LEN(BD12)=0),INDEX(LinearFour1,A12,0),"")),"") | BH35: =IFERROR(IF(IF(AND(LEN(BB12)=0,LEN(BC12)=0,LEN(BD12)>0),INDEX(LinearFour1,A12,0),"")=0,"",IF(AND(LEN(BB12)=0,LEN(BC12)=0,LEN(BD12)>0),INDEX(LinearFour1,A12,0),"")),"") | BI35: =IFERROR(IF(IF(AND(LEN(BF12)=0,LEN(BG12)>0,LEN(BH12)=0),INDEX(LinearFour2,A12,0),"")=0,"",IF(AND(LEN(BF12)=0,LEN(BG12)>0,LEN(BH12)=0),INDEX(LinearFour2,A12,0),"")),"") | BJ35: =IFERROR(IF(IF(AND(LEN(BF12)=0,LEN(BG12)=0,LEN(BH12)>0),INDEX(LinearFour2,A12,0),"")=0,"",IF(AND(LEN(BF12)=0,LEN(BG12)=0,LEN(BH12)>0),INDEX(LinearFour2,A12,0),"")),"") | BK35: =IFERROR(IF(IF(AND(LEN(BJ12)=0,LEN(BK12)=0,LEN(BL12)>0),INDEX(LinearFour3,A12,0),"")=0,"",IF(AND(LEN(BJ12)=0,LEN(BK12)=0,LEN(BL12)>0),INDEX(LinearFour3,A12,0),"")),"") | BL35: =IFERROR(IF(IF(AND(LEN(BB12)>0,LEN(BC12)>0,LEN(BD12)=0),INDEX(LinearFour1,A12,0),"")=0,"",IF(AND(LEN(BB12)>0,LEN(BC12)>0,LEN(BD12)=0),INDEX(LinearFour1,A12,0),"")),"") | BM35: =IFERROR(IF(IF(AND(LEN(BB12)>0,LEN(BC12)=0,LEN(BD12)>0),INDEX(LinearFour1,A12,0),"")=0,"",IF(AND(LEN(BB12)>0,LEN(BC12)=0,LEN(BD12)>0),INDEX(LinearFour1,A12,0),"")),"") | BN35: =IFERROR(IF(IF(AND(LEN(BB12)=0,LEN(BC12)>0,LEN(BD12)>0),INDEX(LinearFour1,A12,0),"")=0,"",IF(AND(LEN(BB12)=0,LEN(BC12)>0,LEN(BD12)>0),INDEX(LinearFour1,A12,0),"")),"") | BO35: =IFERROR(IF(IF(AND(LEN(BF12)=0,LEN(BG12)>0,LEN(BH12)>0),INDEX(LinearFour2,A12,0),"")=0,"",IF(AND(LEN(BF12)=0,LEN(BG12)>0,LEN(BH12)>0),INDEX(LinearFour2,A12,0),"")),"") | BP35: =IFERROR(IF(ISERROR(BF12+BG12+BH12),"",INDEX(LinearFour2,A12,0)),"") | BS35: =IFERROR(IF(IF(AND(LEN(BS12)=0,LEN(BT12)=0,LEN(BU12)=0),INDEX(Oval1,A12,0),"")=0,"",IF(AND(LEN(BS12)=0,LEN(BT12)=0,LEN(BU12)=0),INDEX(Oval1,A12,0),"")),"") | BT35: =IFERROR(IF(IF(AND(LEN(BW12)=0,LEN(BX12)=0,LEN(BY12)=0),INDEX(Oval2,A12,0),"")=0,"",IF(AND(LEN(BW12)=0,LEN(BX12)=0,LEN(BY12)=0),INDEX(Oval2,A12,0),"")),"") | BU35: =IFERROR(IF(IF(AND(LEN(CA12)=0,LEN(CB12)=0,LEN(CC12)=0),INDEX(Oval3,A12,0),"")=0,"",IF(AND(LEN(CA12)=0,LEN(CB12)=0,LEN(CC12)=0),INDEX(Oval3,A12,0),"")),"") | BV35: =IFERROR(IF(IF(AND(LEN(CE12)=0,LEN(CF12)=0,LEN(CG12)=0),INDEX(Oval4,A12,0),"")=0,"",IF(AND(LEN(CE12)=0,LEN(CF12)=0,LEN(CG12)=0),INDEX(Oval4,A12,0),"")),"") | BW35: =IFERROR(IF(IF(AND(LEN(BS12)>0,LEN(BT12)=0,LEN(BU12)=0),INDEX(Oval1,A12,0),"")=0,"",IF(AND(LEN(BS12)>0,LEN(BT12)=0,LEN(BU12)=0),INDEX(Oval1,A12,0),"")),"") -> Melis | BX35: =IFERROR(IF(IF(AND(LEN(BS12)=0,LEN(BT12)>0,LEN(BU12)=0),INDEX(Oval1,A12,0),"")=0,"",IF(AND(LEN(BS12)=0,LEN(BT12)>0,LEN(BU12)=0),INDEX(Oval1,A12,0),"")),"") | BY35: =IFERROR(IF(IF(AND(LEN(BS12)=0,LEN(BT12)=0,LEN(BU12)>0),INDEX(Oval1,A12,0),"")=0,"",IF(AND(LEN(BS12)=0,LEN(BT12)=0,LEN(BU12)>0),INDEX(Oval1,A12,0),"")),"") | BZ35: =IFERROR(IF(IF(AND(LEN(BW12)=0,LEN(BX12)>0,LEN(BY12)=0),INDEX(Oval2,A12,0),"")=0,"",IF(AND(LEN(BW12)=0,LEN(BX12)>0,LEN(BY12)=0),INDEX(Oval2,A12,0),"")),"") | CA35: =IFERROR(IF(IF(AND(LEN(BW12)=0,LEN(BX12)=0,LEN(BY12)>0),INDEX(Oval2,A12,0),"")=0,"",IF(AND(LEN(BW12)=0,LEN(BX12)=0,LEN(BY12)>0),INDEX(Oval2,A12,0),"")),"") | CB35: =IFERROR(IF(IF(AND(LEN(CA12)=0,LEN(CB12)=0,LEN(CC12)>0),INDEX(Oval3,A12,0),"")=0,"",IF(AND(LEN(CA12)=0,LEN(CB12)=0,LEN(CC12)>0),INDEX(Oval3,A12,0),"")),"") | CC35: =IFERROR(IF(IF(AND(LEN(BS12)>0,LEN(BT12)>0,LEN(BU12)=0),INDEX(Oval1,A12,0),"")=0,"",IF(AND(LEN(BS12)>0,LEN(BT12)>0,LEN(BU12)=0),INDEX(Oval1,A12,0),"")),"") | CD35: =IFERROR(IF(IF(AND(LEN(BS12)>0,LEN(BT12)=0,LEN(BU12)>0),INDEX(Oval1,A12,0),"")=0,"",IF(AND(LEN(BS12)>0,LEN(BT12)=0,LEN(BU12)>0),INDEX(Oval1,A12,0),"")),"") | CE35: =IFERROR(IF(IF(AND(LEN(BS12)=0,LEN(BT12)>0,LEN(BU12)>0),INDEX(Oval1,A12,0),"")=0,"",IF(AND(LEN(BS12)=0,LEN(BT12)>0,LEN(BU12)>0),INDEX(Oval1,A12,0),"")),"") | CF35: =IFERROR(IF(IF(AND(LEN(BW12)=0,LEN(BX12)>0,LEN(BY12)>0),INDEX(Oval2,A12,0),"")=0,"",IF(AND(LEN(BW12)=0,LEN(BX12)>0,LEN(BY12)>0),INDEX(Oval2,A12,0),"")),"") | CG35: =IFERROR(IF(ISERROR(BW12+BX12+BY12),"",INDEX(Oval2,A12,0)),"") | CJ35: =IFERROR(IF(IF(AND(LEN(CJ12)=0,LEN(CK12)=0,LEN(CL12)=0),INDEX(StackedFour1,A12,0),"")=0,"",IF(AND(LEN(CJ12)=0,LEN(CK12)=0,LEN(CL12)=0),INDEX(StackedFour1,A12,0),"")),"") | CK35: =IFERROR(IF(IF(AND(LEN(CN12)=0,LEN(CO12)=0,LEN(CP12)=0),INDEX(StackedFour2,A12,0),"")=0,"",IF(AND(LEN(CN12)=0,LEN(CO12)=0,LEN(CP12)=0),INDEX(StackedFour2,A12,0),"")),"") | CL35: =IFERROR(IF(IF(AND(LEN(CR12)=0,LEN(CS12)=0,LEN(CT12)=0),INDEX(StackedFour3,A12,0),"")=0,"",IF(AND(LEN(CR12)=0,LEN(CS12)=0,LEN(CT12)=0),INDEX(StackedFour3,A12,0),"")),"") | CM35: =IFERROR(IF(IF(AND(LEN(CV12)=0,LEN(CW12)=0,LEN(CX12)=0),INDEX(StackedFour4,A12,0),"")=0,"",IF(AND(LEN(CV12)=0,LEN(CW12)=0,LEN(CX12)=0),INDEX(StackedFour4,A12,0),"")),"") | CN35: =IFERROR(IF(IF(AND(LEN(CJ12)>0,LEN(CK12)=0,LEN(CL12)=0),INDEX(StackedFour1,A12,0),"")=0,"",IF(AND(LEN(CJ12)>0,LEN(CK12)=0,LEN(CL12)=0),INDEX(StackedFour1,A12,0),"")),"") | CO35: =IFERROR(IF(IF(AND(LEN(CJ12)=0,LEN(CK12)>0,LEN(CL12)=0),INDEX(StackedFour1,A12,0),"")=0,"",IF(AND(LEN(CJ12)=0,LEN(CK12)>0,LEN(CL12)=0),INDEX(StackedFour1,A12,0),"")),"") | CP35: =IFERROR(IF(IF(AND(LEN(CJ12)=0,LEN(CK12)=0,LEN(CL12)>0),INDEX(StackedFour1,A12,0),"")=0,"",IF(AND(LEN(CJ12)=0,LEN(CK12)=0,LEN(CL12)>0),INDEX(StackedFour1,A12,0),"")),"") | CQ35: =IFERROR(IF(IF(AND(LEN(CN12)=0,LEN(CO12)>0,LEN(CP12)=0),INDEX(StackedFour2,A12,0),"")=0,"",IF(AND(LEN(CN12)=0,LEN(CO12)>0,LEN(CP12)=0),INDEX(StackedFour2,A12,0),"")),"") | CR35: =IFERROR(IF(IF(AND(LEN(CN12)=0,LEN(CO12)=0,LEN(CP12)>0),INDEX(StackedFour2,A12,0),"")=0,"",IF(AND(LEN(CN12)=0,LEN(CO12)=0,LEN(CP12)>0),INDEX(StackedFour2,A12,0),"")),"") | CS35: =IFERROR(IF(IF(AND(LEN(CR12)=0,LEN(CS12)=0,LEN(CT12)>0),INDEX(StackedFour3,A12,0),"")=0,"",IF(AND(LEN(CR12)=0,LEN(CS12)=0,LEN(CT12)>0),INDEX(StackedFour3,A12,0),"")),"") | CT35: =IFERROR(IF(IF(AND(LEN(CJ12)>0,LEN(CK12)>0,LEN(CL12)=0),INDEX(StackedFour1,A12,0),"")=0,"",IF(AND(LEN(CJ12)>0,LEN(CK12)>0,LEN(CL12)=0),INDEX(StackedFour1,A12,0),"")),"") | CU35: =IFERROR(IF(IF(AND(LEN(CJ12)>0,LEN(CK12)=0,LEN(CL12)>0),INDEX(StackedFour1,A12,0),"")=0,"",IF(AND(LEN(CJ12)>0,LEN(CK12)=0,LEN(CL12)>0),INDEX(StackedFour1,A12,0),"")),"") -> Goats | CV35: =IFERROR(IF(IF(AND(LEN(CJ12)=0,LEN(CK12)>0,LEN(CL12)>0),INDEX(StackedFour1,A12,0),"")=0,"",IF(AND(LEN(CJ12)=0,LEN(CK12)>0,LEN(CL12)>0),INDEX(StackedFour1,A12,0),"")),"") | CW35: =IFERROR(IF(IF(AND(LEN(CN12)=0,LEN(CO12)>0,LEN(CP12)>0),INDEX(StackedFour2,A12,0),"")=0,"",IF(AND(LEN(CN12)=0,LEN(CO12)>0,LEN(CP12)>0),INDEX(StackedFour2,A12,0),"")),"") | CX35: =IFERROR(IF(ISERROR(CN12+CO12+CP12),"",INDEX(StackedFour2,A12,0)),"")
B36: =IFERROR(IF(B13="","",CHAR(10)&" "&B13),"") -> China | C36: =IFERROR(IF(C13="","",CHAR(10)&" "&C13),"") -> Portugal | D36: =IFERROR(IF(D13="","",CHAR(10)&" "&D13),"") | G36: =IFERROR(IF(IF(AND(LEN(G13)=0,LEN(H13)=0),INDEX(Triangular1,Calc!A13,0),"")=0,"",IF(AND(LEN(G13)=0,LEN(H13)=0)=TRUE,INDEX(Triangular1,Calc!A13,0),"")),"") | H36: =IFERROR(IF(IF(AND(LEN(J13)=0,LEN(K13)=0),INDEX(Triangular2,Calc!A13,0),"")=0,"",IF(AND(LEN(J13)=0,LEN(K13)=0)=TRUE,INDEX(Triangular2,Calc!A13,0),"")),"") | I36: =IFERROR(IF(IF(AND(LEN(M13)=0,LEN(N13)=0),INDEX(Triangular3,Calc!A13,0),"")=0,"",IF(AND(LEN(M13)=0,LEN(N13)=0)=TRUE,INDEX(Triangular3,Calc!A13,0),"")),"") -> Seals | J36: =IFERROR(IF(IF(AND(LEN(G13)>0,LEN(H13)=0),INDEX(Triangular1,Calc!A13,0),"")=0,"",IF(AND(LEN(G13)>0,LEN(H13)=0),INDEX(Triangular1,Calc!A13,0),"")),"") | K36: =IFERROR(IF(IF(AND(LEN(H13)>0,LEN(G13)=0),INDEX(Triangular1,Calc!A13,0),"")=0,"",IF(AND(LEN(H13)>0,LEN(G13)=0),INDEX(Triangular1,Calc!A13,0),"")),"") | L36: =IFERROR(IF(IF(AND(LEN(K13)>0,LEN(J13)=0),INDEX(Triangular2,Calc!A13,0),"")=0,"",IF(AND(LEN(K13)>0,LEN(J13)=0),INDEX(Triangular2,Calc!A13,0),"")),"") | M36: =IFERROR(IF(ISERROR(G13+H13),"",INDEX(Triangular1,Calc!A13,0)),"") -> Hippopotamus | Q36: =IFERROR(IF(IF(AND(LEN(Q13)=0,LEN(R13)=0),INDEX(LinearThree1,A13,0),"")=0,"",IF(AND(LEN(Q13)=0,LEN(R13)=0),INDEX(LinearThree1,A13,0),"")),"") | R36: =IFERROR(IF(IF(AND(LEN(T13)=0,LEN(U13)=0),INDEX(LinearThree2,A13,0),"")=0,"",IF(AND(LEN(T13)=0,LEN(U13)=0),INDEX(LinearThree2,A13,0),"")),"") | S36: =IFERROR(IF(IF(AND(LEN(X13)=0,LEN(W13)=0),INDEX(LinearThree3,A13,0),"")=0,"",IF(AND(LEN(X13)=0,LEN(W13)=0),INDEX(LinearThree3,A13,0),"")),"") | T36: =IFERROR(IF(IF(LEN(Q13)>0,INDEX(LinearThree1,A13,0),"")=0,"",IF(LEN(Q13)>0,INDEX(LinearThree1,A13,0),"")),"") | U36: =IFERROR(IF(IF(LEN(X13)>0,INDEX(LinearThree3,A13,0),"")=0,"",IF(LEN(X13)>0,INDEX(LinearThree3,A13,0),"")),"") -> Orcas | V36: =IFERROR(IF(IF(AND(LEN(W13)>0,LEN(X13)=0),INDEX(LinearThree3,A13,0),"")=0,"",IF(AND(LEN(W13)>0,LEN(X13)=0),INDEX(LinearThree3,A13,0),"")),"") | W36: =IFERROR(IF(ISERROR(W13+X13),"",INDEX(LinearThree3,A13,0)),"") | AA36: =IFERROR(IF(IF(AND(LEN(AA13)=0,LEN(AB13)=0),INDEX(StackedThree1,A13,0),"")=0,"",IF(AND(LEN(AA13)=0,LEN(AB13)=0),INDEX(StackedThree1,A13,0),"")),"") -> Sharks | AB36: =IFERROR(IF(IF(AND(LEN(AD13)=0,LEN(AE13)=0),INDEX(StackedThree2,A13,0),"")=0,"",IF(AND(LEN(AD13)=0,LEN(AE13)=0),INDEX(StackedThree2,A13,0),"")),"") | AC36: =IFERROR(IF(IF(AND(LEN(AH13)=0,LEN(AG13)=0),INDEX(StackedThree3,A13,0),"")=0,"",IF(AND(LEN(AH13)=0,LEN(AG13)=0),INDEX(StackedThree3,A13,0),"")),"") | AD36: =IFERROR(IF(IF(AND(LEN(AA13)>0,LEN(AB13)=0),INDEX(StackedThree1,A13,0),"")=0,"",IF(AND(LEN(AA13)>0,LEN(AB13)=0),INDEX(StackedThree1,A13,0),"")),"") | AE36: =IFERROR(IF(IF(AND(LEN(AE13)>0,LEN(AD13)=0),INDEX(StackedThree2,A13,0),"")=0,"",IF(AND(LEN(AE13)>0,LEN(AD13)=0),INDEX(StackedThree2,A13,0),"")),"") -> Seals | AF36: =IFERROR(IF(IF(AND(LEN(AG13)>0,LEN(AH13)=0),INDEX(StackedThree3,A13,0),"")=0,"",IF(AND(LEN(AG13)>0,LEN(AH13)=0),INDEX(StackedThree3,A13,0),"")),"") | AG36: =IFERROR(IF(ISERROR(AG13+AH13),"",INDEX(StackedThree3,A13,0)),"") | AK36: =IFERROR(IF(IF(AND(LEN(AK13)=0,LEN(AL13)=0,LEN(AM13)=0),INDEX(Square1,A13,0),"")=0,"",IF(AND(LEN(AK13)=0,LEN(AL13)=0,LEN(AM13)=0),INDEX(Square1,A13,0),"")),"") -> Monica | AL36: =IFERROR(IF(IF(AND(LEN(AO13)=0,LEN(AP13)=0,LEN(AQ13)=0),INDEX(Square2,A13,0),"")=0,"",IF(AND(LEN(AO13)=0,LEN(AP13)=0,LEN(AQ13)=0),INDEX(Square2,A13,0),"")),"") | AM36: =IFERROR(IF(IF(AND(LEN(AS13)=0,LEN(AT13)=0,LEN(AU13)=0),INDEX(Square3,A13,0),"")=0,"",IF(AND(LEN(AS13)=0,LEN(AT13)=0,LEN(AU13)=0),INDEX(Square3,A13,0),"")),"") | AN36: =IFERROR(IF(IF(AND(LEN(AW13)=0,LEN(AX13)=0,LEN(AY13)=0),INDEX(Square4,A13,0),"")=0,"",IF(AND(LEN(AW13)=0,LEN(AX13)=0,LEN(AY13)=0),INDEX(Square4,A13,0),"")),"") | AO36: =IFERROR(IF(IF(AND(LEN(AK13)>0,LEN(AL13)=0,LEN(AM13)=0),INDEX(Square1,A13,0),"")=0,"",IF(AND(LEN(AK13)>0,LEN(AL13)=0,LEN(AM13)=0),INDEX(Square1,A13,0),"")),"") | AP36: =IFERROR(IF(IF(AND(LEN(AK13)=0,LEN(AL13)>0,LEN(AM13)=0),INDEX(Square1,A13,0),"")=0,"",IF(AND(LEN(AK13)=0,LEN(AL13)>0,LEN(AM13)=0),INDEX(Square1,A13,0),"")),"") | AQ36: =IFERROR(IF(IF(AND(LEN(AK13)=0,LEN(AL13)=0,LEN(AM13)>0),INDEX(Square1,A13,0),"")=0,"",IF(AND(LEN(AK13)=0,LEN(AL13)=0,LEN(AM13)>0),INDEX(Square1,A13,0),"")),"") | AR36: =IFERROR(IF(IF(AND(LEN(AO13)=0,LEN(AP13)>0,LEN(AQ13)=0),INDEX(Square2,A13,0),"")=0,"",IF(AND(LEN(AO13)=0,LEN(AP13)>0,LEN(AQ13)=0),INDEX(Square2,A13,0),"")),"") | AS36: =IFERROR(IF(IF(AND(LEN(AO13)=0,LEN(AP13)=0,LEN(AQ13)>0),INDEX(Square2,A13,0),"")=0,"",IF(AND(LEN(AO13)=0,LEN(AP13)=0,LEN(AQ13)>0),INDEX(Square2,A13,0),"")),"") | AT36: =IFERROR(IF(IF(AND(LEN(AS13)=0,LEN(AT13)=0,LEN(AU13)>0),INDEX(Square3,A13,0),"")=0,"",IF(AND(LEN(AS13)=0,LEN(AT13)=0,LEN(AU13)>0),INDEX(Square3,A13,0),"")),"") | AU36: =IFERROR(IF(IF(AND(LEN(AK13)>0,LEN(AL13)>0,LEN(AM13)=0),INDEX(Square1,A13,0),"")=0,"",IF(AND(LEN(AK13)>0,LEN(AL13)>0,LEN(AM13)=0),INDEX(Square1,A13,0),"")),"") | AV36: =IFERROR(IF(IF(AND(LEN(AK13)>0,LEN(AL13)=0,LEN(AM13)>0),INDEX(Square1,A13,0),"")=0,"",IF(AND(LEN(AK13)>0,LEN(AL13)=0,LEN(AM13)>0),INDEX(Square1,A13,0),"")),"") | AW36: =IFERROR(IF(IF(AND(LEN(AK13)=0,LEN(AL13)>0,LEN(AM13)>0),INDEX(Square1,A13,0),"")=0,"",IF(AND(LEN(AK13)=0,LEN(AL13)>0,LEN(AM13)>0),INDEX(Square1,A13,0),"")),"") | AX36: =IFERROR(IF(IF(AND(LEN(AO13)=0,LEN(AP13)>0,LEN(AQ13)>0),INDEX(Square2,A13,0),"")=0,"",IF(AND(LEN(AO13)=0,LEN(AP13)>0,LEN(AQ13)>0),INDEX(Square2,A13,0),"")),"") | AY36: =IFERROR(IF(ISERROR(AO13+AP13+AQ13),"",INDEX(Square2,A13,0)),"") | BB36: =IFERROR(IF(IF(AND(LEN(BB13)=0,LEN(BC13)=0,LEN(BD13)=0),INDEX(LinearFour1,A13,0),"")=0,"",IF(AND(LEN(BB13)=0,LEN(BC13)=0,LEN(BD13)=0),INDEX(LinearFour1,A13,0),"")),"") -> John | BC36: =IFERROR(IF(IF(AND(LEN(BF13)=0,LEN(BG13)=0,LEN(BH13)=0),INDEX(LinearFour2,A13,0),"")=0,"",IF(AND(LEN(BF13)=0,LEN(BG13)=0,LEN(BH13)=0),INDEX(LinearFour2,A13,0),"")),"") | BD36: =IFERROR(IF(IF(AND(LEN(BJ13)=0,LEN(BK13)=0,LEN(BL13)=0),INDEX(LinearFour3,A13,0),"")=0,"",IF(AND(LEN(BJ13)=0,LEN(BK13)=0,LEN(BL13)=0),INDEX(LinearFour3,A13,0),"")),"") | BE36: =IFERROR(IF(IF(AND(LEN(BN13)=0,LEN(BO13)=0,LEN(BP13)=0),INDEX(LinearFour4,A13,0),"")=0,"",IF(AND(LEN(BN13)=0,LEN(BO13)=0,LEN(BP13)=0),INDEX(LinearFour4,A13,0),"")),"") | BF36: =IFERROR(IF(IF(AND(LEN(BB13)>0,LEN(BC13)=0,LEN(BD13)=0),INDEX(LinearFour1,A13,0),"")=0,"",IF(AND(LEN(BB13)>0,LEN(BC13)=0,LEN(BD13)=0),INDEX(LinearFour1,A13,0),"")),"") | BG36: =IFERROR(IF(IF(AND(LEN(BB13)=0,LEN(BC13)>0,LEN(BD13)=0),INDEX(LinearFour1,A13,0),"")=0,"",IF(AND(LEN(BB13)=0,LEN(BC13)>0,LEN(BD13)=0),INDEX(LinearFour1,A13,0),"")),"") | BH36: =IFERROR(IF(IF(AND(LEN(BB13)=0,LEN(BC13)=0,LEN(BD13)>0),INDEX(LinearFour1,A13,0),"")=0,"",IF(AND(LEN(BB13)=0,LEN(BC13)=0,LEN(BD13)>0),INDEX(LinearFour1,A13,0),"")),"") | BI36: =IFERROR(IF(IF(AND(LEN(BF13)=0,LEN(BG13)>0,LEN(BH13)=0),INDEX(LinearFour2,A13,0),"")=0,"",IF(AND(LEN(BF13)=0,LEN(BG13)>0,LEN(BH13)=0),INDEX(LinearFour2,A13,0),"")),"") | BJ36: =IFERROR(IF(IF(AND(LEN(BF13)=0,LEN(BG13)=0,LEN(BH13)>0),INDEX(LinearFour2,A13,0),"")=0,"",IF(AND(LEN(BF13)=0,LEN(BG13)=0,LEN(BH13)>0),INDEX(LinearFour2,A13,0),"")),"") | BK36: =IFERROR(IF(IF(AND(LEN(BJ13)=0,LEN(BK13)=0,LEN(BL13)>0),INDEX(LinearFour3,A13,0),"")=0,"",IF(AND(LEN(BJ13)=0,LEN(BK13)=0,LEN(BL13)>0),INDEX(LinearFour3,A13,0),"")),"") | BL36: =IFERROR(IF(IF(AND(LEN(BB13)>0,LEN(BC13)>0,LEN(BD13)=0),INDEX(LinearFour1,A13,0),"")=0,"",IF(AND(LEN(BB13)>0,LEN(BC13)>0,LEN(BD13)=0),INDEX(LinearFour1,A13,0),"")),"") | BM36: =IFERROR(IF(IF(AND(LEN(BB13)>0,LEN(BC13)=0,LEN(BD13)>0),INDEX(LinearFour1,A13,0),"")=0,"",IF(AND(LEN(BB13)>0,LEN(BC13)=0,LEN(BD13)>0),INDEX(LinearFour1,A13,0),"")),"") | BN36: =IFERROR(IF(IF(AND(LEN(BB13)=0,LEN(BC13)>0,LEN(BD13)>0),INDEX(LinearFour1,A13,0),"")=0,"",IF(AND(LEN(BB13)=0,LEN(BC13)>0,LEN(BD13)>0),INDEX(LinearFour1,A13,0),"")),"") | BO36: =IFERROR(IF(IF(AND(LEN(BF13)=0,LEN(BG13)>0,LEN(BH13)>0),INDEX(LinearFour2,A13,0),"")=0,"",IF(AND(LEN(BF13)=0,LEN(BG13)>0,LEN(BH13)>0),INDEX(LinearFour2,A13,0),"")),"") | BP36: =IFERROR(IF(ISERROR(BF13+BG13+BH13),"",INDEX(LinearFour2,A13,0)),"") -> Zach | BS36: =IFERROR(IF(IF(AND(LEN(BS13)=0,LEN(BT13)=0,LEN(BU13)=0),INDEX(Oval1,A13,0),"")=0,"",IF(AND(LEN(BS13)=0,LEN(BT13)=0,LEN(BU13)=0),INDEX(Oval1,A13,0),"")),"") | BT36: =IFERROR(IF(IF(AND(LEN(BW13)=0,LEN(BX13)=0,LEN(BY13)=0),INDEX(Oval2,A13,0),"")=0,"",IF(AND(LEN(BW13)=0,LEN(BX13)=0,LEN(BY13)=0),INDEX(Oval2,A13,0),"")),"") | BU36: =IFERROR(IF(IF(AND(LEN(CA13)=0,LEN(CB13)=0,LEN(CC13)=0),INDEX(Oval3,A13,0),"")=0,"",IF(AND(LEN(CA13)=0,LEN(CB13)=0,LEN(CC13)=0),INDEX(Oval3,A13,0),"")),"") | BV36: =IFERROR(IF(IF(AND(LEN(CE13)=0,LEN(CF13)=0,LEN(CG13)=0),INDEX(Oval4,A13,0),"")=0,"",IF(AND(LEN(CE13)=0,LEN(CF13)=0,LEN(CG13)=0),INDEX(Oval4,A13,0),"")),"") | BW36: =IFERROR(IF(IF(AND(LEN(BS13)>0,LEN(BT13)=0,LEN(BU13)=0),INDEX(Oval1,A13,0),"")=0,"",IF(AND(LEN(BS13)>0,LEN(BT13)=0,LEN(BU13)=0),INDEX(Oval1,A13,0),"")),"") | BX36: =IFERROR(IF(IF(AND(LEN(BS13)=0,LEN(BT13)>0,LEN(BU13)=0),INDEX(Oval1,A13,0),"")=0,"",IF(AND(LEN(BS13)=0,LEN(BT13)>0,LEN(BU13)=0),INDEX(Oval1,A13,0),"")),"") | BY36: =IFERROR(IF(IF(AND(LEN(BS13)=0,LEN(BT13)=0,LEN(BU13)>0),INDEX(Oval1,A13,0),"")=0,"",IF(AND(LEN(BS13)=0,LEN(BT13)=0,LEN(BU13)>0),INDEX(Oval1,A13,0),"")),"") -> Ezgi | BZ36: =IFERROR(IF(IF(AND(LEN(BW13)=0,LEN(BX13)>0,LEN(BY13)=0),INDEX(Oval2,A13,0),"")=0,"",IF(AND(LEN(BW13)=0,LEN(BX13)>0,LEN(BY13)=0),INDEX(Oval2,A13,0),"")),"") | CA36: =IFERROR(IF(IF(AND(LEN(BW13)=0,LEN(BX13)=0,LEN(BY13)>0),INDEX(Oval2,A13,0),"")=0,"",IF(AND(LEN(BW13)=0,LEN(BX13)=0,LEN(BY13)>0),INDEX(Oval2,A13,0),"")),"") | CB36: =IFERROR(IF(IF(AND(LEN(CA13)=0,LEN(CB13)=0,LEN(CC13)>0),INDEX(Oval3,A13,0),"")=0,"",IF(AND(LEN(CA13)=0,LEN(CB13)=0,LEN(CC13)>0),INDEX(Oval3,A13,0),"")),"") -> Anthony | CC36: =IFERROR(IF(IF(AND(LEN(BS13)>0,LEN(BT13)>0,LEN(BU13)=0),INDEX(Oval1,A13,0),"")=0,"",IF(AND(LEN(BS13)>0,LEN(BT13)>0,LEN(BU13)=0),INDEX(Oval1,A13,0),"")),"") | CD36: =IFERROR(IF(IF(AND(LEN(BS13)>0,LEN(BT13)=0,LEN(BU13)>0),INDEX(Oval1,A13,0),"")=0,"",IF(AND(LEN(BS13)>0,LEN(BT13)=0,LEN(BU13)>0),INDEX(Oval1,A13,0),"")),"") | CE36: =IFERROR(IF(IF(AND(LEN(BS13)=0,LEN(BT13)>0,LEN(BU13)>0),INDEX(Oval1,A13,0),"")=0,"",IF(AND(LEN(BS13)=0,LEN(BT13)>0,LEN(BU13)>0),INDEX(Oval1,A13,0),"")),"") | CF36: =IFERROR(IF(IF(AND(LEN(BW13)=0,LEN(BX13)>0,LEN(BY13)>0),INDEX(Oval2,A13,0),"")=0,"",IF(AND(LEN(BW13)=0,LEN(BX13)>0,LEN(BY13)>0),INDEX(Oval2,A13,0),"")),"") -> Leslie | CG36: =IFERROR(IF(ISERROR(BW13+BX13+BY13),"",INDEX(Oval2,A13,0)),"") | CJ36: =IFERROR(IF(IF(AND(LEN(CJ13)=0,LEN(CK13)=0,LEN(CL13)=0),INDEX(StackedFour1,A13,0),"")=0,"",IF(AND(LEN(CJ13)=0,LEN(CK13)=0,LEN(CL13)=0),INDEX(StackedFour1,A13,0),"")),"") | CK36: =IFERROR(IF(IF(AND(LEN(CN13)=0,LEN(CO13)=0,LEN(CP13)=0),INDEX(StackedFour2,A13,0),"")=0,"",IF(AND(LEN(CN13)=0,LEN(CO13)=0,LEN(CP13)=0),INDEX(StackedFour2,A13,0),"")),"") | CL36: =IFERROR(IF(IF(AND(LEN(CR13)=0,LEN(CS13)=0,LEN(CT13)=0),INDEX(StackedFour3,A13,0),"")=0,"",IF(AND(LEN(CR13)=0,LEN(CS13)=0,LEN(CT13)=0),INDEX(StackedFour3,A13,0),"")),"") | CM36: =IFERROR(IF(IF(AND(LEN(CV13)=0,LEN(CW13)=0,LEN(CX13)=0),INDEX(StackedFour4,A13,0),"")=0,"",IF(AND(LEN(CV13)=0,LEN(CW13)=0,LEN(CX13)=0),INDEX(StackedFour4,A13,0),"")),"") | CN36: =IFERROR(IF(IF(AND(LEN(CJ13)>0,LEN(CK13)=0,LEN(CL13)=0),INDEX(StackedFour1,A13,0),"")=0,"",IF(AND(LEN(CJ13)>0,LEN(CK13)=0,LEN(CL13)=0),INDEX(StackedFour1,A13,0),"")),"") | CO36: =IFERROR(IF(IF(AND(LEN(CJ13)=0,LEN(CK13)>0,LEN(CL13)=0),INDEX(StackedFour1,A13,0),"")=0,"",IF(AND(LEN(CJ13)=0,LEN(CK13)>0,LEN(CL13)=0),INDEX(StackedFour1,A13,0),"")),"") | CP36: =IFERROR(IF(IF(AND(LEN(CJ13)=0,LEN(CK13)=0,LEN(CL13)>0),INDEX(StackedFour1,A13,0),"")=0,"",IF(AND(LEN(CJ13)=0,LEN(CK13)=0,LEN(CL13)>0),INDEX(StackedFour1,A13,0),"")),"") | CQ36: =IFERROR(IF(IF(AND(LEN(CN13)=0,LEN(CO13)>0,LEN(CP13)=0),INDEX(StackedFour2,A13,0),"")=0,"",IF(AND(LEN(CN13)=0,LEN(CO13)>0,LEN(CP13)=0),INDEX(StackedFour2,A13,0),"")),"") | CR36: =IFERROR(IF(IF(AND(LEN(CN13)=0,LEN(CO13)=0,LEN(CP13)>0),INDEX(StackedFour2,A13,0),"")=0,"",IF(AND(LEN(CN13)=0,LEN(CO13)=0,LEN(CP13)>0),INDEX(StackedFour2,A13,0),"")),"") | CS36: =IFERROR(IF(IF(AND(LEN(CR13)=0,LEN(CS13)=0,LEN(CT13)>0),INDEX(StackedFour3,A13,0),"")=0,"",IF(AND(LEN(CR13)=0,LEN(CS13)=0,LEN(CT13)>0),INDEX(StackedFour3,A13,0),"")),"") | CT36: =IFERROR(IF(IF(AND(LEN(CJ13)>0,LEN(CK13)>0,LEN(CL13)=0),INDEX(StackedFour1,A13,0),"")=0,"",IF(AND(LEN(CJ13)>0,LEN(CK13)>0,LEN(CL13)=0),INDEX(StackedFour1,A13,0),"")),"") -> Dolphins | CU36: =IFERROR(IF(IF(AND(LEN(CJ13)>0,LEN(CK13)=0,LEN(CL13)>0),INDEX(StackedFour1,A13,0),"")=0,"",IF(AND(LEN(CJ13)>0,LEN(CK13)=0,LEN(CL13)>0),INDEX(StackedFour1,A13,0),"")),"") | CV36: =IFERROR(IF(IF(AND(LEN(CJ13)=0,LEN(CK13)>0,LEN(CL13)>0),INDEX(StackedFour1,A13,0),"")=0,"",IF(AND(LEN(CJ13)=0,LEN(CK13)>0,LEN(CL13)>0),INDEX(StackedFour1,A13,0),"")),"") | CW36: =IFERROR(IF(IF(AND(LEN(CN13)=0,LEN(CO13)>0,LEN(CP13)>0),INDEX(StackedFour2,A13,0),"")=0,"",IF(AND(LEN(CN13)=0,LEN(CO13)>0,LEN(CP13)>0),INDEX(StackedFour2,A13,0),"")),"") | CX36: =IFERROR(IF(ISERROR(CN13+CO13+CP13),"",INDEX(StackedFour2,A13,0)),"") -> Seals
B37: =IFERROR(IF(B14="","",CHAR(10)&" "&B14),"") -> India | C37: =IFERROR(IF(C14="","",CHAR(10)&" "&C14),"") -> Italy | D37: =IFERROR(IF(D14="","",CHAR(10)&" "&D14),"") | G37: =IFERROR(IF(IF(AND(LEN(G14)=0,LEN(H14)=0),INDEX(Triangular1,Calc!A14,0),"")=0,"",IF(AND(LEN(G14)=0,LEN(H14)=0)=TRUE,INDEX(Triangular1,Calc!A14,0),"")),"") -> Camels | H37: =IFERROR(IF(IF(AND(LEN(J14)=0,LEN(K14)=0),INDEX(Triangular2,Calc!A14,0),"")=0,"",IF(AND(LEN(J14)=0,LEN(K14)=0)=TRUE,INDEX(Triangular2,Calc!A14,0),"")),"") | I37: =IFERROR(IF(IF(AND(LEN(M14)=0,LEN(N14)=0),INDEX(Triangular3,Calc!A14,0),"")=0,"",IF(AND(LEN(M14)=0,LEN(N14)=0)=TRUE,INDEX(Triangular3,Calc!A14,0),"")),"") | J37: =IFERROR(IF(IF(AND(LEN(G14)>0,LEN(H14)=0),INDEX(Triangular1,Calc!A14,0),"")=0,"",IF(AND(LEN(G14)>0,LEN(H14)=0),INDEX(Triangular1,Calc!A14,0),"")),"") | K37: =IFERROR(IF(IF(AND(LEN(H14)>0,LEN(G14)=0),INDEX(Triangular1,Calc!A14,0),"")=0,"",IF(AND(LEN(H14)>0,LEN(G14)=0),INDEX(Triangular1,Calc!A14,0),"")),"") | L37: =IFERROR(IF(IF(AND(LEN(K14)>0,LEN(J14)=0),INDEX(Triangular2,Calc!A14,0),"")=0,"",IF(AND(LEN(K14)>0,LEN(J14)=0),INDEX(Triangular2,Calc!A14,0),"")),"") | M37: =IFERROR(IF(ISERROR(G14+H14),"",INDEX(Triangular1,Calc!A14,0)),"") | Q37: =IFERROR(IF(IF(AND(LEN(Q14)=0,LEN(R14)=0),INDEX(LinearThree1,A14,0),"")=0,"",IF(AND(LEN(Q14)=0,LEN(R14)=0),INDEX(LinearThree1,A14,0),"")),"") -> Cows | R37: =IFERROR(IF(IF(AND(LEN(T14)=0,LEN(U14)=0),INDEX(LinearThree2,A14,0),"")=0,"",IF(AND(LEN(T14)=0,LEN(U14)=0),INDEX(LinearThree2,A14,0),"")),"") | S37: =IFERROR(IF(IF(AND(LEN(X14)=0,LEN(W14)=0),INDEX(LinearThree3,A14,0),"")=0,"",IF(AND(LEN(X14)=0,LEN(W14)=0),INDEX(LinearThree3,A14,0),"")),"") | T37: =IFERROR(IF(IF(LEN(Q14)>0,INDEX(LinearThree1,A14,0),"")=0,"",IF(LEN(Q14)>0,INDEX(LinearThree1,A14,0),"")),"") | U37: =IFERROR(IF(IF(LEN(X14)>0,INDEX(LinearThree3,A14,0),"")=0,"",IF(LEN(X14)>0,INDEX(LinearThree3,A14,0),"")),"") | V37: =IFERROR(IF(IF(AND(LEN(W14)>0,LEN(X14)=0),INDEX(LinearThree3,A14,0),"")=0,"",IF(AND(LEN(W14)>0,LEN(X14)=0),INDEX(LinearThree3,A14,0),"")),"") | W37: =IFERROR(IF(ISERROR(W14+X14),"",INDEX(LinearThree3,A14,0)),"") | AA37: =IFERROR(IF(IF(AND(LEN(AA14)=0,LEN(AB14)=0),INDEX(StackedThree1,A14,0),"")=0,"",IF(AND(LEN(AA14)=0,LEN(AB14)=0),INDEX(StackedThree1,A14,0),"")),"") | AB37: =IFERROR(IF(IF(AND(LEN(AD14)=0,LEN(AE14)=0),INDEX(StackedThree2,A14,0),"")=0,"",IF(AND(LEN(AD14)=0,LEN(AE14)=0),INDEX(StackedThree2,A14,0),"")),"") | AC37: =IFERROR(IF(IF(AND(LEN(AH14)=0,LEN(AG14)=0),INDEX(StackedThree3,A14,0),"")=0,"",IF(AND(LEN(AH14)=0,LEN(AG14)=0),INDEX(StackedThree3,A14,0),"")),"") | AD37: =IFERROR(IF(IF(AND(LEN(AA14)>0,LEN(AB14)=0),INDEX(StackedThree1,A14,0),"")=0,"",IF(AND(LEN(AA14)>0,LEN(AB14)=0),INDEX(StackedThree1,A14,0),"")),"") -> Sheep | AE37: =IFERROR(IF(IF(AND(LEN(AE14)>0,LEN(AD14)=0),INDEX(StackedThree2,A14,0),"")=0,"",IF(AND(LEN(AE14)>0,LEN(AD14)=0),INDEX(StackedThree2,A14,0),"")),"") | AF37: =IFERROR(IF(IF(AND(LEN(AG14)>0,LEN(AH14)=0),INDEX(StackedThree3,A14,0),"")=0,"",IF(AND(LEN(AG14)>0,LEN(AH14)=0),INDEX(StackedThree3,A14,0),"")),"") | AG37: =IFERROR(IF(ISERROR(AG14+AH14),"",INDEX(StackedThree3,A14,0)),"") | AK37: =IFERROR(IF(IF(AND(LEN(AK14)=0,LEN(AL14)=0,LEN(AM14)=0),INDEX(Square1,A14,0),"")=0,"",IF(AND(LEN(AK14)=0,LEN(AL14)=0,LEN(AM14)=0),INDEX(Square1,A14,0),"")),"") | AL37: =IFERROR(IF(IF(AND(LEN(AO14)=0,LEN(AP14)=0,LEN(AQ14)=0),INDEX(Square2,A14,0),"")=0,"",IF(AND(LEN(AO14)=0,LEN(AP14)=0,LEN(AQ14)=0),INDEX(Square2,A14,0),"")),"") -> Rachel | AM37: =IFERROR(IF(IF(AND(LEN(AS14)=0,LEN(AT14)=0,LEN(AU14)=0),INDEX(Square3,A14,0),"")=0,"",IF(AND(LEN(AS14)=0,LEN(AT14)=0,LEN(AU14)=0),INDEX(Square3,A14,0),"")),"") | AN37: =IFERROR(IF(IF(AND(LEN(AW14)=0,LEN(AX14)=0,LEN(AY14)=0),INDEX(Square4,A14,0),"")=0,"",IF(AND(LEN(AW14)=0,LEN(AX14)=0,LEN(AY14)=0),INDEX(Square4,A14,0),"")),"") | AO37: =IFERROR(IF(IF(AND(LEN(AK14)>0,LEN(AL14)=0,LEN(AM14)=0),INDEX(Square1,A14,0),"")=0,"",IF(AND(LEN(AK14)>0,LEN(AL14)=0,LEN(AM14)=0),INDEX(Square1,A14,0),"")),"") | AP37: =IFERROR(IF(IF(AND(LEN(AK14)=0,LEN(AL14)>0,LEN(AM14)=0),INDEX(Square1,A14,0),"")=0,"",IF(AND(LEN(AK14)=0,LEN(AL14)>0,LEN(AM14)=0),INDEX(Square1,A14,0),"")),"") | AQ37: =IFERROR(IF(IF(AND(LEN(AK14)=0,LEN(AL14)=0,LEN(AM14)>0),INDEX(Square1,A14,0),"")=0,"",IF(AND(LEN(AK14)=0,LEN(AL14)=0,LEN(AM14)>0),INDEX(Square1,A14,0),"")),"") | AR37: =IFERROR(IF(IF(AND(LEN(AO14)=0,LEN(AP14)>0,LEN(AQ14)=0),INDEX(Square2,A14,0),"")=0,"",IF(AND(LEN(AO14)=0,LEN(AP14)>0,LEN(AQ14)=0),INDEX(Square2,A14,0),"")),"") | AS37: =IFERROR(IF(IF(AND(LEN(AO14)=0,LEN(AP14)=0,LEN(AQ14)>0),INDEX(Square2,A14,0),"")=0,"",IF(AND(LEN(AO14)=0,LEN(AP14)=0,LEN(AQ14)>0),INDEX(Square2,A14,0),"")),"") | AT37: =IFERROR(IF(IF(AND(LEN(AS14)=0,LEN(AT14)=0,LEN(AU14)>0),INDEX(Square3,A14,0),"")=0,"",IF(AND(LEN(AS14)=0,LEN(AT14)=0,LEN(AU14)>0),INDEX(Square3,A14,0),"")),"") | AU37: =IFERROR(IF(IF(AND(LEN(AK14)>0,LEN(AL14)>0,LEN(AM14)=0),INDEX(Square1,A14,0),"")=0,"",IF(AND(LEN(AK14)>0,LEN(AL14)>0,LEN(AM14)=0),INDEX(Square1,A14,0),"")),"") -> Lewis | AV37: =IFERROR(IF(IF(AND(LEN(AK14)>0,LEN(AL14)=0,LEN(AM14)>0),INDEX(Square1,A14,0),"")=0,"",IF(AND(LEN(AK14)>0,LEN(AL14)=0,LEN(AM14)>0),INDEX(Square1,A14,0),"")),"") | AW37: =IFERROR(IF(IF(AND(LEN(AK14)=0,LEN(AL14)>0,LEN(AM14)>0),INDEX(Square1,A14,0),"")=0,"",IF(AND(LEN(AK14)=0,LEN(AL14)>0,LEN(AM14)>0),INDEX(Square1,A14,0),"")),"") | AX37: =IFERROR(IF(IF(AND(LEN(AO14)=0,LEN(AP14)>0,LEN(AQ14)>0),INDEX(Square2,A14,0),"")=0,"",IF(AND(LEN(AO14)=0,LEN(AP14)>0,LEN(AQ14)>0),INDEX(Square2,A14,0),"")),"") | AY37: =IFERROR(IF(ISERROR(AO14+AP14+AQ14),"",INDEX(Square2,A14,0)),"") | BB37: =IFERROR(IF(IF(AND(LEN(BB14)=0,LEN(BC14)=0,LEN(BD14)=0),INDEX(LinearFour1,A14,0),"")=0,"",IF(AND(LEN(BB14)=0,LEN(BC14)=0,LEN(BD14)=0),INDEX(LinearFour1,A14,0),"")),"") | BC37: =IFERROR(IF(IF(AND(LEN(BF14)=0,LEN(BG14)=0,LEN(BH14)=0),INDEX(LinearFour2,A14,0),"")=0,"",IF(AND(LEN(BF14)=0,LEN(BG14)=0,LEN(BH14)=0),INDEX(LinearFour2,A14,0),"")),"") | BD37: =IFERROR(IF(IF(AND(LEN(BJ14)=0,LEN(BK14)=0,LEN(BL14)=0),INDEX(LinearFour3,A14,0),"")=0,"",IF(AND(LEN(BJ14)=0,LEN(BK14)=0,LEN(BL14)=0),INDEX(LinearFour3,A14,0),"")),"") | BE37: =IFERROR(IF(IF(AND(LEN(BN14)=0,LEN(BO14)=0,LEN(BP14)=0),INDEX(LinearFour4,A14,0),"")=0,"",IF(AND(LEN(BN14)=0,LEN(BO14)=0,LEN(BP14)=0),INDEX(LinearFour4,A14,0),"")),"") | BF37: =IFERROR(IF(IF(AND(LEN(BB14)>0,LEN(BC14)=0,LEN(BD14)=0),INDEX(LinearFour1,A14,0),"")=0,"",IF(AND(LEN(BB14)>0,LEN(BC14)=0,LEN(BD14)=0),INDEX(LinearFour1,A14,0),"")),"") | BG37: =IFERROR(IF(IF(AND(LEN(BB14)=0,LEN(BC14)>0,LEN(BD14)=0),INDEX(LinearFour1,A14,0),"")=0,"",IF(AND(LEN(BB14)=0,LEN(BC14)>0,LEN(BD14)=0),INDEX(LinearFour1,A14,0),"")),"") | BH37: =IFERROR(IF(IF(AND(LEN(BB14)=0,LEN(BC14)=0,LEN(BD14)>0),INDEX(LinearFour1,A14,0),"")=0,"",IF(AND(LEN(BB14)=0,LEN(BC14)=0,LEN(BD14)>0),INDEX(LinearFour1,A14,0),"")),"") | BI37: =IFERROR(IF(IF(AND(LEN(BF14)=0,LEN(BG14)>0,LEN(BH14)=0),INDEX(LinearFour2,A14,0),"")=0,"",IF(AND(LEN(BF14)=0,LEN(BG14)>0,LEN(BH14)=0),INDEX(LinearFour2,A14,0),"")),"") | BJ37: =IFERROR(IF(IF(AND(LEN(BF14)=0,LEN(BG14)=0,LEN(BH14)>0),INDEX(LinearFour2,A14,0),"")=0,"",IF(AND(LEN(BF14)=0,LEN(BG14)=0,LEN(BH14)>0),INDEX(LinearFour2,A14,0),"")),"") | BK37: =IFERROR(IF(IF(AND(LEN(BJ14)=0,LEN(BK14)=0,LEN(BL14)>0),INDEX(LinearFour3,A14,0),"")=0,"",IF(AND(LEN(BJ14)=0,LEN(BK14)=0,LEN(BL14)>0),INDEX(LinearFour3,A14,0),"")),"") | BL37: =IFERROR(IF(IF(AND(LEN(BB14)>0,LEN(BC14)>0,LEN(BD14)=0),INDEX(LinearFour1,A14,0),"")=0,"",IF(AND(LEN(BB14)>0,LEN(BC14)>0,LEN(BD14)=0),INDEX(LinearFour1,A14,0),"")),"") | BM37: =IFERROR(IF(IF(AND(LEN(BB14)>0,LEN(BC14)=0,LEN(BD14)>0),INDEX(LinearFour1,A14,0),"")=0,"",IF(AND(LEN(BB14)>0,LEN(BC14)=0,LEN(BD14)>0),INDEX(LinearFour1,A14,0),"")),"") | BN37: =IFERROR(IF(IF(AND(LEN(BB14)=0,LEN(BC14)>0,LEN(BD14)>0),INDEX(LinearFour1,A14,0),"")=0,"",IF(AND(LEN(BB14)=0,LEN(BC14)>0,LEN(BD14)>0),INDEX(LinearFour1,A14,0),"")),"") | BO37: =IFERROR(IF(IF(AND(LEN(BF14)=0,LEN(BG14)>0,LEN(BH14)>0),INDEX(LinearFour2,A14,0),"")=0,"",IF(AND(LEN(BF14)=0,LEN(BG14)>0,LEN(BH14)>0),INDEX(LinearFour2,A14,0),"")),"") | BP37: =IFERROR(IF(ISERROR(BF14+BG14+BH14),"",INDEX(LinearFour2,A14,0)),"") | BS37: =IFERROR(IF(IF(AND(LEN(BS14)=0,LEN(BT14)=0,LEN(BU14)=0),INDEX(Oval1,A14,0),"")=0,"",IF(AND(LEN(BS14)=0,LEN(BT14)=0,LEN(BU14)=0),INDEX(Oval1,A14,0),"")),"") | BT37: =IFERROR(IF(IF(AND(LEN(BW14)=0,LEN(BX14)=0,LEN(BY14)=0),INDEX(Oval2,A14,0),"")=0,"",IF(AND(LEN(BW14)=0,LEN(BX14)=0,LEN(BY14)=0),INDEX(Oval2,A14,0),"")),"") | BU37: =IFERROR(IF(IF(AND(LEN(CA14)=0,LEN(CB14)=0,LEN(CC14)=0),INDEX(Oval3,A14,0),"")=0,"",IF(AND(LEN(CA14)=0,LEN(CB14)=0,LEN(CC14)=0),INDEX(Oval3,A14,0),"")),"") -> Daisy | BV37: =IFERROR(IF(IF(AND(LEN(CE14)=0,LEN(CF14)=0,LEN(CG14)=0),INDEX(Oval4,A14,0),"")=0,"",IF(AND(LEN(CE14)=0,LEN(CF14)=0,LEN(CG14)=0),INDEX(Oval4,A14,0),"")),"") | BW37: =IFERROR(IF(IF(AND(LEN(BS14)>0,LEN(BT14)=0,LEN(BU14)=0),INDEX(Oval1,A14,0),"")=0,"",IF(AND(LEN(BS14)>0,LEN(BT14)=0,LEN(BU14)=0),INDEX(Oval1,A14,0),"")),"") | BX37: =IFERROR(IF(IF(AND(LEN(BS14)=0,LEN(BT14)>0,LEN(BU14)=0),INDEX(Oval1,A14,0),"")=0,"",IF(AND(LEN(BS14)=0,LEN(BT14)>0,LEN(BU14)=0),INDEX(Oval1,A14,0),"")),"") | BY37: =IFERROR(IF(IF(AND(LEN(BS14)=0,LEN(BT14)=0,LEN(BU14)>0),INDEX(Oval1,A14,0),"")=0,"",IF(AND(LEN(BS14)=0,LEN(BT14)=0,LEN(BU14)>0),INDEX(Oval1,A14,0),"")),"") | BZ37: =IFERROR(IF(IF(AND(LEN(BW14)=0,LEN(BX14)>0,LEN(BY14)=0),INDEX(Oval2,A14,0),"")=0,"",IF(AND(LEN(BW14)=0,LEN(BX14)>0,LEN(BY14)=0),INDEX(Oval2,A14,0),"")),"") | CA37: =IFERROR(IF(IF(AND(LEN(BW14)=0,LEN(BX14)=0,LEN(BY14)>0),INDEX(Oval2,A14,0),"")=0,"",IF(AND(LEN(BW14)=0,LEN(BX14)=0,LEN(BY14)>0),INDEX(Oval2,A14,0),"")),"") -> Onur | CB37: =IFERROR(IF(IF(AND(LEN(CA14)=0,LEN(CB14)=0,LEN(CC14)>0),INDEX(Oval3,A14,0),"")=0,"",IF(AND(LEN(CA14)=0,LEN(CB14)=0,LEN(CC14)>0),INDEX(Oval3,A14,0),"")),"") | CC37: =IFERROR(IF(IF(AND(LEN(BS14)>0,LEN(BT14)>0,LEN(BU14)=0),INDEX(Oval1,A14,0),"")=0,"",IF(AND(LEN(BS14)>0,LEN(BT14)>0,LEN(BU14)=0),INDEX(Oval1,A14,0),"")),"") | CD37: =IFERROR(IF(IF(AND(LEN(BS14)>0,LEN(BT14)=0,LEN(BU14)>0),INDEX(Oval1,A14,0),"")=0,"",IF(AND(LEN(BS14)>0,LEN(BT14)=0,LEN(BU14)>0),INDEX(Oval1,A14,0),"")),"") | CE37: =IFERROR(IF(IF(AND(LEN(BS14)=0,LEN(BT14)>0,LEN(BU14)>0),INDEX(Oval1,A14,0),"")=0,"",IF(AND(LEN(BS14)=0,LEN(BT14)>0,LEN(BU14)>0),INDEX(Oval1,A14,0),"")),"") -> Amanda | CF37: =IFERROR(IF(IF(AND(LEN(BW14)=0,LEN(BX14)>0,LEN(BY14)>0),INDEX(Oval2,A14,0),"")=0,"",IF(AND(LEN(BW14)=0,LEN(BX14)>0,LEN(BY14)>0),INDEX(Oval2,A14,0),"")),"") | CG37: =IFERROR(IF(ISERROR(BW14+BX14+BY14),"",INDEX(Oval2,A14,0)),"") | CJ37: =IFERROR(IF(IF(AND(LEN(CJ14)=0,LEN(CK14)=0,LEN(CL14)=0),INDEX(StackedFour1,A14,0),"")=0,"",IF(AND(LEN(CJ14)=0,LEN(CK14)=0,LEN(CL14)=0),INDEX(StackedFour1,A14,0),"")),"") -> Horses | CK37: =IFERROR(IF(IF(AND(LEN(CN14)=0,LEN(CO14)=0,LEN(CP14)=0),INDEX(StackedFour2,A14,0),"")=0,"",IF(AND(LEN(CN14)=0,LEN(CO14)=0,LEN(CP14)=0),INDEX(StackedFour2,A14,0),"")),"") | CL37: =IFERROR(IF(IF(AND(LEN(CR14)=0,LEN(CS14)=0,LEN(CT14)=0),INDEX(StackedFour3,A14,0),"")=0,"",IF(AND(LEN(CR14)=0,LEN(CS14)=0,LEN(CT14)=0),INDEX(StackedFour3,A14,0),"")),"") | CM37: =IFERROR(IF(IF(AND(LEN(CV14)=0,LEN(CW14)=0,LEN(CX14)=0),INDEX(StackedFour4,A14,0),"")=0,"",IF(AND(LEN(CV14)=0,LEN(CW14)=0,LEN(CX14)=0),INDEX(StackedFour4,A14,0),"")),"") | CN37: =IFERROR(IF(IF(AND(LEN(CJ14)>0,LEN(CK14)=0,LEN(CL14)=0),INDEX(StackedFour1,A14,0),"")=0,"",IF(AND(LEN(CJ14)>0,LEN(CK14)=0,LEN(CL14)=0),INDEX(StackedFour1,A14,0),"")),"") | CO37: =IFERROR(IF(IF(AND(LEN(CJ14)=0,LEN(CK14)>0,LEN(CL14)=0),INDEX(StackedFour1,A14,0),"")=0,"",IF(AND(LEN(CJ14)=0,LEN(CK14)>0,LEN(CL14)=0),INDEX(StackedFour1,A14,0),"")),"") | CP37: =IFERROR(IF(IF(AND(LEN(CJ14)=0,LEN(CK14)=0,LEN(CL14)>0),INDEX(StackedFour1,A14,0),"")=0,"",IF(AND(LEN(CJ14)=0,LEN(CK14)=0,LEN(CL14)>0),INDEX(StackedFour1,A14,0),"")),"") | CQ37: =IFERROR(IF(IF(AND(LEN(CN14)=0,LEN(CO14)>0,LEN(CP14)=0),INDEX(StackedFour2,A14,0),"")=0,"",IF(AND(LEN(CN14)=0,LEN(CO14)>0,LEN(CP14)=0),INDEX(StackedFour2,A14,0),"")),"") | CR37: =IFERROR(IF(IF(AND(LEN(CN14)=0,LEN(CO14)=0,LEN(CP14)>0),INDEX(StackedFour2,A14,0),"")=0,"",IF(AND(LEN(CN14)=0,LEN(CO14)=0,LEN(CP14)>0),INDEX(StackedFour2,A14,0),"")),"") | CS37: =IFERROR(IF(IF(AND(LEN(CR14)=0,LEN(CS14)=0,LEN(CT14)>0),INDEX(StackedFour3,A14,0),"")=0,"",IF(AND(LEN(CR14)=0,LEN(CS14)=0,LEN(CT14)>0),INDEX(StackedFour3,A14,0),"")),"") | CT37: =IFERROR(IF(IF(AND(LEN(CJ14)>0,LEN(CK14)>0,LEN(CL14)=0),INDEX(StackedFour1,A14,0),"")=0,"",IF(AND(LEN(CJ14)>0,LEN(CK14)>0,LEN(CL14)=0),INDEX(StackedFour1,A14,0),"")),"") | CU37: =IFERROR(IF(IF(AND(LEN(CJ14)>0,LEN(CK14)=0,LEN(CL14)>0),INDEX(StackedFour1,A14,0),"")=0,"",IF(AND(LEN(CJ14)>0,LEN(CK14)=0,LEN(CL14)>0),INDEX(StackedFour1,A14,0),"")),"") | CV37: =IFERROR(IF(IF(AND(LEN(CJ14)=0,LEN(CK14)>0,LEN(CL14)>0),INDEX(StackedFour1,A14,0),"")=0,"",IF(AND(LEN(CJ14)=0,LEN(CK14)>0,LEN(CL14)>0),INDEX(StackedFour1,A14,0),"")),"") | CW37: =IFERROR(IF(IF(AND(LEN(CN14)=0,LEN(CO14)>0,LEN(CP14)>0),INDEX(StackedFour2,A14,0),"")=0,"",IF(AND(LEN(CN14)=0,LEN(CO14)>0,LEN(CP14)>0),INDEX(StackedFour2,A14,0),"")),"") | CX37: =IFERROR(IF(ISERROR(CN14+CO14+CP14),"",INDEX(StackedFour2,A14,0)),"")
B38: =IFERROR(IF(B15="","",CHAR(10)&" "&B15),"") | C38: =IFERROR(IF(C15="","",CHAR(10)&" "&C15),"") | D38: =IFERROR(IF(D15="","",CHAR(10)&" "&D15),"") | G38: =IFERROR(IF(IF(AND(LEN(G15)=0,LEN(H15)=0),INDEX(Triangular1,Calc!A15,0),"")=0,"",IF(AND(LEN(G15)=0,LEN(H15)=0)=TRUE,INDEX(Triangular1,Calc!A15,0),"")),"") | H38: =IFERROR(IF(IF(AND(LEN(J15)=0,LEN(K15)=0),INDEX(Triangular2,Calc!A15,0),"")=0,"",IF(AND(LEN(J15)=0,LEN(K15)=0)=TRUE,INDEX(Triangular2,Calc!A15,0),"")),"") | I38: =IFERROR(IF(IF(AND(LEN(M15)=0,LEN(N15)=0),INDEX(Triangular3,Calc!A15,0),"")=0,"",IF(AND(LEN(M15)=0,LEN(N15)=0)=TRUE,INDEX(Triangular3,Calc!A15,0),"")),"") | J38: =IFERROR(IF(IF(AND(LEN(G15)>0,LEN(H15)=0),INDEX(Triangular1,Calc!A15,0),"")=0,"",IF(AND(LEN(G15)>0,LEN(H15)=0),INDEX(Triangular1,Calc!A15,0),"")),"") -> Buffaloes | K38: =IFERROR(IF(IF(AND(LEN(H15)>0,LEN(G15)=0),INDEX(Triangular1,Calc!A15,0),"")=0,"",IF(AND(LEN(H15)>0,LEN(G15)=0),INDEX(Triangular1,Calc!A15,0),"")),"") | L38: =IFERROR(IF(IF(AND(LEN(K15)>0,LEN(J15)=0),INDEX(Triangular2,Calc!A15,0),"")=0,"",IF(AND(LEN(K15)>0,LEN(J15)=0),INDEX(Triangular2,Calc!A15,0),"")),"") | M38: =IFERROR(IF(ISERROR(G15+H15),"",INDEX(Triangular1,Calc!A15,0)),"") | Q38: =IFERROR(IF(IF(AND(LEN(Q15)=0,LEN(R15)=0),INDEX(LinearThree1,A15,0),"")=0,"",IF(AND(LEN(Q15)=0,LEN(R15)=0),INDEX(LinearThree1,A15,0),"")),"") | R38: =IFERROR(IF(IF(AND(LEN(T15)=0,LEN(U15)=0),INDEX(LinearThree2,A15,0),"")=0,"",IF(AND(LEN(T15)=0,LEN(U15)=0),INDEX(LinearThree2,A15,0),"")),"") | S38: =IFERROR(IF(IF(AND(LEN(X15)=0,LEN(W15)=0),INDEX(LinearThree3,A15,0),"")=0,"",IF(AND(LEN(X15)=0,LEN(W15)=0),INDEX(LinearThree3,A15,0),"")),"") | T38: =IFERROR(IF(IF(LEN(Q15)>0,INDEX(LinearThree1,A15,0),"")=0,"",IF(LEN(Q15)>0,INDEX(LinearThree1,A15,0),"")),"") | U38: =IFERROR(IF(IF(LEN(X15)>0,INDEX(LinearThree3,A15,0),"")=0,"",IF(LEN(X15)>0,INDEX(LinearThree3,A15,0),"")),"") | V38: =IFERROR(IF(IF(AND(LEN(W15)>0,LEN(X15)=0),INDEX(LinearThree3,A15,0),"")=0,"",IF(AND(LEN(W15)>0,LEN(X15)=0),INDEX(LinearThree3,A15,0),"")),"") | W38: =IFERROR(IF(ISERROR(W15+X15),"",INDEX(LinearThree3,A15,0)),"") | AA38: =IFERROR(IF(IF(AND(LEN(AA15)=0,LEN(AB15)=0),INDEX(StackedThree1,A15,0),"")=0,"",IF(AND(LEN(AA15)=0,LEN(AB15)=0),INDEX(StackedThree1,A15,0),"")),"") | AB38: =IFERROR(IF(IF(AND(LEN(AD15)=0,LEN(AE15)=0),INDEX(StackedThree2,A15,0),"")=0,"",IF(AND(LEN(AD15)=0,LEN(AE15)=0),INDEX(StackedThree2,A15,0),"")),"") | AC38: =IFERROR(IF(IF(AND(LEN(AH15)=0,LEN(AG15)=0),INDEX(StackedThree3,A15,0),"")=0,"",IF(AND(LEN(AH15)=0,LEN(AG15)=0),INDEX(StackedThree3,A15,0),"")),"") | AD38: =IFERROR(IF(IF(AND(LEN(AA15)>0,LEN(AB15)=0),INDEX(StackedThree1,A15,0),"")=0,"",IF(AND(LEN(AA15)>0,LEN(AB15)=0),INDEX(StackedThree1,A15,0),"")),"") | AE38: =IFERROR(IF(IF(AND(LEN(AE15)>0,LEN(AD15)=0),INDEX(StackedThree2,A15,0),"")=0,"",IF(AND(LEN(AE15)>0,LEN(AD15)=0),INDEX(StackedThree2,A15,0),"")),"") | AF38: =IFERROR(IF(IF(AND(LEN(AG15)>0,LEN(AH15)=0),INDEX(StackedThree3,A15,0),"")=0,"",IF(AND(LEN(AG15)>0,LEN(AH15)=0),INDEX(StackedThree3,A15,0),"")),"") | AG38: =IFERROR(IF(ISERROR(AG15+AH15),"",INDEX(StackedThree3,A15,0)),"") | AK38: =IFERROR(IF(IF(AND(LEN(AK15)=0,LEN(AL15)=0,LEN(AM15)=0),INDEX(Square1,A15,0),"")=0,"",IF(AND(LEN(AK15)=0,LEN(AL15)=0,LEN(AM15)=0),INDEX(Square1,A15,0),"")),"") | AL38: =IFERROR(IF(IF(AND(LEN(AO15)=0,LEN(AP15)=0,LEN(AQ15)=0),INDEX(Square2,A15,0),"")=0,"",IF(AND(LEN(AO15)=0,LEN(AP15)=0,LEN(AQ15)=0),INDEX(Square2,A15,0),"")),"") | AM38: =IFERROR(IF(IF(AND(LEN(AS15)=0,LEN(AT15)=0,LEN(AU15)=0),INDEX(Square3,A15,0),"")=0,"",IF(AND(LEN(AS15)=0,LEN(AT15)=0,LEN(AU15)=0),INDEX(Square3,A15,0),"")),"") | AN38: =IFERROR(IF(IF(AND(LEN(AW15)=0,LEN(AX15)=0,LEN(AY15)=0),INDEX(Square4,A15,0),"")=0,"",IF(AND(LEN(AW15)=0,LEN(AX15)=0,LEN(AY15)=0),INDEX(Square4,A15,0),"")),"") | AO38: =IFERROR(IF(IF(AND(LEN(AK15)>0,LEN(AL15)=0,LEN(AM15)=0),INDEX(Square1,A15,0),"")=0,"",IF(AND(LEN(AK15)>0,LEN(AL15)=0,LEN(AM15)=0),INDEX(Square1,A15,0),"")),"") | AP38: =IFERROR(IF(IF(AND(LEN(AK15)=0,LEN(AL15)>0,LEN(AM15)=0),INDEX(Square1,A15,0),"")=0,"",IF(AND(LEN(AK15)=0,LEN(AL15)>0,LEN(AM15)=0),INDEX(Square1,A15,0),"")),"") | AQ38: =IFERROR(IF(IF(AND(LEN(AK15)=0,LEN(AL15)=0,LEN(AM15)>0),INDEX(Square1,A15,0),"")=0,"",IF(AND(LEN(AK15)=0,LEN(AL15)=0,LEN(AM15)>0),INDEX(Square1,A15,0),"")),"") | AR38: =IFERROR(IF(IF(AND(LEN(AO15)=0,LEN(AP15)>0,LEN(AQ15)=0),INDEX(Square2,A15,0),"")=0,"",IF(AND(LEN(AO15)=0,LEN(AP15)>0,LEN(AQ15)=0),INDEX(Square2,A15,0),"")),"") | AS38: =IFERROR(IF(IF(AND(LEN(AO15)=0,LEN(AP15)=0,LEN(AQ15)>0),INDEX(Square2,A15,0),"")=0,"",IF(AND(LEN(AO15)=0,LEN(AP15)=0,LEN(AQ15)>0),INDEX(Square2,A15,0),"")),"") | AT38: =IFERROR(IF(IF(AND(LEN(AS15)=0,LEN(AT15)=0,LEN(AU15)>0),INDEX(Square3,A15,0),"")=0,"",IF(AND(LEN(AS15)=0,LEN(AT15)=0,LEN(AU15)>0),INDEX(Square3,A15,0),"")),"") | AU38: =IFERROR(IF(IF(AND(LEN(AK15)>0,LEN(AL15)>0,LEN(AM15)=0),INDEX(Square1,A15,0),"")=0,"",IF(AND(LEN(AK15)>0,LEN(AL15)>0,LEN(AM15)=0),INDEX(Square1,A15,0),"")),"") | AV38: =IFERROR(IF(IF(AND(LEN(AK15)>0,LEN(AL15)=0,LEN(AM15)>0),INDEX(Square1,A15,0),"")=0,"",IF(AND(LEN(AK15)>0,LEN(AL15)=0,LEN(AM15)>0),INDEX(Square1,A15,0),"")),"") | AW38: =IFERROR(IF(IF(AND(LEN(AK15)=0,LEN(AL15)>0,LEN(AM15)>0),INDEX(Square1,A15,0),"")=0,"",IF(AND(LEN(AK15)=0,LEN(AL15)>0,LEN(AM15)>0),INDEX(Square1,A15,0),"")),"") -> Leyla | AX38: =IFERROR(IF(IF(AND(LEN(AO15)=0,LEN(AP15)>0,LEN(AQ15)>0),INDEX(Square2,A15,0),"")=0,"",IF(AND(LEN(AO15)=0,LEN(AP15)>0,LEN(AQ15)>0),INDEX(Square2,A15,0),"")),"") | AY38: =IFERROR(IF(ISERROR(AO15+AP15+AQ15),"",INDEX(Square2,A15,0)),"") | BB38: =IFERROR(IF(IF(AND(LEN(BB15)=0,LEN(BC15)=0,LEN(BD15)=0),INDEX(LinearFour1,A15,0),"")=0,"",IF(AND(LEN(BB15)=0,LEN(BC15)=0,LEN(BD15)=0),INDEX(LinearFour1,A15,0),"")),"") | BC38: =IFERROR(IF(IF(AND(LEN(BF15)=0,LEN(BG15)=0,LEN(BH15)=0),INDEX(LinearFour2,A15,0),"")=0,"",IF(AND(LEN(BF15)=0,LEN(BG15)=0,LEN(BH15)=0),INDEX(LinearFour2,A15,0),"")),"") | BD38: =IFERROR(IF(IF(AND(LEN(BJ15)=0,LEN(BK15)=0,LEN(BL15)=0),INDEX(LinearFour3,A15,0),"")=0,"",IF(AND(LEN(BJ15)=0,LEN(BK15)=0,LEN(BL15)=0),INDEX(LinearFour3,A15,0),"")),"") | BE38: =IFERROR(IF(IF(AND(LEN(BN15)=0,LEN(BO15)=0,LEN(BP15)=0),INDEX(LinearFour4,A15,0),"")=0,"",IF(AND(LEN(BN15)=0,LEN(BO15)=0,LEN(BP15)=0),INDEX(LinearFour4,A15,0),"")),"") | BF38: =IFERROR(IF(IF(AND(LEN(BB15)>0,LEN(BC15)=0,LEN(BD15)=0),INDEX(LinearFour1,A15,0),"")=0,"",IF(AND(LEN(BB15)>0,LEN(BC15)=0,LEN(BD15)=0),INDEX(LinearFour1,A15,0),"")),"") | BG38: =IFERROR(IF(IF(AND(LEN(BB15)=0,LEN(BC15)>0,LEN(BD15)=0),INDEX(LinearFour1,A15,0),"")=0,"",IF(AND(LEN(BB15)=0,LEN(BC15)>0,LEN(BD15)=0),INDEX(LinearFour1,A15,0),"")),"") | BH38: =IFERROR(IF(IF(AND(LEN(BB15)=0,LEN(BC15)=0,LEN(BD15)>0),INDEX(LinearFour1,A15,0),"")=0,"",IF(AND(LEN(BB15)=0,LEN(BC15)=0,LEN(BD15)>0),INDEX(LinearFour1,A15,0),"")),"") | BI38: =IFERROR(IF(IF(AND(LEN(BF15)=0,LEN(BG15)>0,LEN(BH15)=0),INDEX(LinearFour2,A15,0),"")=0,"",IF(AND(LEN(BF15)=0,LEN(BG15)>0,LEN(BH15)=0),INDEX(LinearFour2,A15,0),"")),"") | BJ38: =IFERROR(IF(IF(AND(LEN(BF15)=0,LEN(BG15)=0,LEN(BH15)>0),INDEX(LinearFour2,A15,0),"")=0,"",IF(AND(LEN(BF15)=0,LEN(BG15)=0,LEN(BH15)>0),INDEX(LinearFour2,A15,0),"")),"") | BK38: =IFERROR(IF(IF(AND(LEN(BJ15)=0,LEN(BK15)=0,LEN(BL15)>0),INDEX(LinearFour3,A15,0),"")=0,"",IF(AND(LEN(BJ15)=0,LEN(BK15)=0,LEN(BL15)>0),INDEX(LinearFour3,A15,0),"")),"") | BL38: =IFERROR(IF(IF(AND(LEN(BB15)>0,LEN(BC15)>0,LEN(BD15)=0),INDEX(LinearFour1,A15,0),"")=0,"",IF(AND(LEN(BB15)>0,LEN(BC15)>0,LEN(BD15)=0),INDEX(LinearFour1,A15,0),"")),"") | BM38: =IFERROR(IF(IF(AND(LEN(BB15)>0,LEN(BC15)=0,LEN(BD15)>0),INDEX(LinearFour1,A15,0),"")=0,"",IF(AND(LEN(BB15)>0,LEN(BC15)=0,LEN(BD15)>0),INDEX(LinearFour1,A15,0),"")),"") | BN38: =IFERROR(IF(IF(AND(LEN(BB15)=0,LEN(BC15)>0,LEN(BD15)>0),INDEX(LinearFour1,A15,0),"")=0,"",IF(AND(LEN(BB15)=0,LEN(BC15)>0,LEN(BD15)>0),INDEX(LinearFour1,A15,0),"")),"") | BO38: =IFERROR(IF(IF(AND(LEN(BF15)=0,LEN(BG15)>0,LEN(BH15)>0),INDEX(LinearFour2,A15,0),"")=0,"",IF(AND(LEN(BF15)=0,LEN(BG15)>0,LEN(BH15)>0),INDEX(LinearFour2,A15,0),"")),"") | BP38: =IFERROR(IF(ISERROR(BF15+BG15+BH15),"",INDEX(LinearFour2,A15,0)),"") | BS38: =IFERROR(IF(IF(AND(LEN(BS15)=0,LEN(BT15)=0,LEN(BU15)=0),INDEX(Oval1,A15,0),"")=0,"",IF(AND(LEN(BS15)=0,LEN(BT15)=0,LEN(BU15)=0),INDEX(Oval1,A15,0),"")),"") | BT38: =IFERROR(IF(IF(AND(LEN(BW15)=0,LEN(BX15)=0,LEN(BY15)=0),INDEX(Oval2,A15,0),"")=0,"",IF(AND(LEN(BW15)=0,LEN(BX15)=0,LEN(BY15)=0),INDEX(Oval2,A15,0),"")),"") | BU38: =IFERROR(IF(IF(AND(LEN(CA15)=0,LEN(CB15)=0,LEN(CC15)=0),INDEX(Oval3,A15,0),"")=0,"",IF(AND(LEN(CA15)=0,LEN(CB15)=0,LEN(CC15)=0),INDEX(Oval3,A15,0),"")),"") | BV38: =IFERROR(IF(IF(AND(LEN(CE15)=0,LEN(CF15)=0,LEN(CG15)=0),INDEX(Oval4,A15,0),"")=0,"",IF(AND(LEN(CE15)=0,LEN(CF15)=0,LEN(CG15)=0),INDEX(Oval4,A15,0),"")),"") | BW38: =IFERROR(IF(IF(AND(LEN(BS15)>0,LEN(BT15)=0,LEN(BU15)=0),INDEX(Oval1,A15,0),"")=0,"",IF(AND(LEN(BS15)>0,LEN(BT15)=0,LEN(BU15)=0),INDEX(Oval1,A15,0),"")),"") | BX38: =IFERROR(IF(IF(AND(LEN(BS15)=0,LEN(BT15)>0,LEN(BU15)=0),INDEX(Oval1,A15,0),"")=0,"",IF(AND(LEN(BS15)=0,LEN(BT15)>0,LEN(BU15)=0),INDEX(Oval1,A15,0),"")),"") | BY38: =IFERROR(IF(IF(AND(LEN(BS15)=0,LEN(BT15)=0,LEN(BU15)>0),INDEX(Oval1,A15,0),"")=0,"",IF(AND(LEN(BS15)=0,LEN(BT15)=0,LEN(BU15)>0),INDEX(Oval1,A15,0),"")),"") | BZ38: =IFERROR(IF(IF(AND(LEN(BW15)=0,LEN(BX15)>0,LEN(BY15)=0),INDEX(Oval2,A15,0),"")=0,"",IF(AND(LEN(BW15)=0,LEN(BX15)>0,LEN(BY15)=0),INDEX(Oval2,A15,0),"")),"") | CA38: =IFERROR(IF(IF(AND(LEN(BW15)=0,LEN(BX15)=0,LEN(BY15)>0),INDEX(Oval2,A15,0),"")=0,"",IF(AND(LEN(BW15)=0,LEN(BX15)=0,LEN(BY15)>0),INDEX(Oval2,A15,0),"")),"") | CB38: =IFERROR(IF(IF(AND(LEN(CA15)=0,LEN(CB15)=0,LEN(CC15)>0),INDEX(Oval3,A15,0),"")=0,"",IF(AND(LEN(CA15)=0,LEN(CB15)=0,LEN(CC15)>0),INDEX(Oval3,A15,0),"")),"") | CC38: =IFERROR(IF(IF(AND(LEN(BS15)>0,LEN(BT15)>0,LEN(BU15)=0),INDEX(Oval1,A15,0),"")=0,"",IF(AND(LEN(BS15)>0,LEN(BT15)>0,LEN(BU15)=0),INDEX(Oval1,A15,0),"")),"") | CD38: =IFERROR(IF(IF(AND(LEN(BS15)>0,LEN(BT15)=0,LEN(BU15)>0),INDEX(Oval1,A15,0),"")=0,"",IF(AND(LEN(BS15)>0,LEN(BT15)=0,LEN(BU15)>0),INDEX(Oval1,A15,0),"")),"") | CE38: =IFERROR(IF(IF(AND(LEN(BS15)=0,LEN(BT15)>0,LEN(BU15)>0),INDEX(Oval1,A15,0),"")=0,"",IF(AND(LEN(BS15)=0,LEN(BT15)>0,LEN(BU15)>0),INDEX(Oval1,A15,0),"")),"") | CF38: =IFERROR(IF(IF(AND(LEN(BW15)=0,LEN(BX15)>0,LEN(BY15)>0),INDEX(Oval2,A15,0),"")=0,"",IF(AND(LEN(BW15)=0,LEN(BX15)>0,LEN(BY15)>0),INDEX(Oval2,A15,0),"")),"") | CG38: =IFERROR(IF(ISERROR(BW15+BX15+BY15),"",INDEX(Oval2,A15,0)),"") | CJ38: =IFERROR(IF(IF(AND(LEN(CJ15)=0,LEN(CK15)=0,LEN(CL15)=0),INDEX(StackedFour1,A15,0),"")=0,"",IF(AND(LEN(CJ15)=0,LEN(CK15)=0,LEN(CL15)=0),INDEX(StackedFour1,A15,0),"")),"") | CK38: =IFERROR(IF(IF(AND(LEN(CN15)=0,LEN(CO15)=0,LEN(CP15)=0),INDEX(StackedFour2,A15,0),"")=0,"",IF(AND(LEN(CN15)=0,LEN(CO15)=0,LEN(CP15)=0),INDEX(StackedFour2,A15,0),"")),"") | CL38: =IFERROR(IF(IF(AND(LEN(CR15)=0,LEN(CS15)=0,LEN(CT15)=0),INDEX(StackedFour3,A15,0),"")=0,"",IF(AND(LEN(CR15)=0,LEN(CS15)=0,LEN(CT15)=0),INDEX(StackedFour3,A15,0),"")),"") | CM38: =IFERROR(IF(IF(AND(LEN(CV15)=0,LEN(CW15)=0,LEN(CX15)=0),INDEX(StackedFour4,A15,0),"")=0,"",IF(AND(LEN(CV15)=0,LEN(CW15)=0,LEN(CX15)=0),INDEX(StackedFour4,A15,0),"")),"") | CN38: =IFERROR(IF(IF(AND(LEN(CJ15)>0,LEN(CK15)=0,LEN(CL15)=0),INDEX(StackedFour1,A15,0),"")=0,"",IF(AND(LEN(CJ15)>0,LEN(CK15)=0,LEN(CL15)=0),INDEX(StackedFour1,A15,0),"")),"") -> Pumas | CO38: =IFERROR(IF(IF(AND(LEN(CJ15)=0,LEN(CK15)>0,LEN(CL15)=0),INDEX(StackedFour1,A15,0),"")=0,"",IF(AND(LEN(CJ15)=0,LEN(CK15)>0,LEN(CL15)=0),INDEX(StackedFour1,A15,0),"")),"") | CP38: =IFERROR(IF(IF(AND(LEN(CJ15)=0,LEN(CK15)=0,LEN(CL15)>0),INDEX(StackedFour1,A15,0),"")=0,"",IF(AND(LEN(CJ15)=0,LEN(CK15)=0,LEN(CL15)>0),INDEX(StackedFour1,A15,0),"")),"") | CQ38: =IFERROR(IF(IF(AND(LEN(CN15)=0,LEN(CO15)>0,LEN(CP15)=0),INDEX(StackedFour2,A15,0),"")=0,"",IF(AND(LEN(CN15)=0,LEN(CO15)>0,LEN(CP15)=0),INDEX(StackedFour2,A15,0),"")),"") | CR38: =IFERROR(IF(IF(AND(LEN(CN15)=0,LEN(CO15)=0,LEN(CP15)>0),INDEX(StackedFour2,A15,0),"")=0,"",IF(AND(LEN(CN15)=0,LEN(CO15)=0,LEN(CP15)>0),INDEX(StackedFour2,A15,0),"")),"") | CS38: =IFERROR(IF(IF(AND(LEN(CR15)=0,LEN(CS15)=0,LEN(CT15)>0),INDEX(StackedFour3,A15,0),"")=0,"",IF(AND(LEN(CR15)=0,LEN(CS15)=0,LEN(CT15)>0),INDEX(StackedFour3,A15,0),"")),"") | CT38: =IFERROR(IF(IF(AND(LEN(CJ15)>0,LEN(CK15)>0,LEN(CL15)=0),INDEX(StackedFour1,A15,0),"")=0,"",IF(AND(LEN(CJ15)>0,LEN(CK15)>0,LEN(CL15)=0),INDEX(StackedFour1,A15,0),"")),"") | CU38: =IFERROR(IF(IF(AND(LEN(CJ15)>0,LEN(CK15)=0,LEN(CL15)>0),INDEX(StackedFour1,A15,0),"")=0,"",IF(AND(LEN(CJ15)>0,LEN(CK15)=0,LEN(CL15)>0),INDEX(StackedFour1,A15,0),"")),"") | CV38: =IFERROR(IF(IF(AND(LEN(CJ15)=0,LEN(CK15)>0,LEN(CL15)>0),INDEX(StackedFour1,A15,0),"")=0,"",IF(AND(LEN(CJ15)=0,LEN(CK15)>0,LEN(CL15)>0),INDEX(StackedFour1,A15,0),"")),"") | CW38: =IFERROR(IF(IF(AND(LEN(CN15)=0,LEN(CO15)>0,LEN(CP15)>0),INDEX(StackedFour2,A15,0),"")=0,"",IF(AND(LEN(CN15)=0,LEN(CO15)>0,LEN(CP15)>0),INDEX(StackedFour2,A15,0),"")),"") | CX38: =IFERROR(IF(ISERROR(CN15+CO15+CP15),"",INDEX(StackedFour2,A15,0)),"")
B39: =IFERROR(IF(B16="","",CHAR(10)&" "&B16),"") | C39: =IFERROR(IF(C16="","",CHAR(10)&" "&C16),"") | D39: =IFERROR(IF(D16="","",CHAR(10)&" "&D16),"") | G39: =IFERROR(IF(IF(AND(LEN(G16)=0,LEN(H16)=0),INDEX(Triangular1,Calc!A16,0),"")=0,"",IF(AND(LEN(G16)=0,LEN(H16)=0)=TRUE,INDEX(Triangular1,Calc!A16,0),"")),"") | H39: =IFERROR(IF(IF(AND(LEN(J16)=0,LEN(K16)=0),INDEX(Triangular2,Calc!A16,0),"")=0,"",IF(AND(LEN(J16)=0,LEN(K16)=0)=TRUE,INDEX(Triangular2,Calc!A16,0),"")),"") | I39: =IFERROR(IF(IF(AND(LEN(M16)=0,LEN(N16)=0),INDEX(Triangular3,Calc!A16,0),"")=0,"",IF(AND(LEN(M16)=0,LEN(N16)=0)=TRUE,INDEX(Triangular3,Calc!A16,0),"")),"") | J39: =IFERROR(IF(IF(AND(LEN(G16)>0,LEN(H16)=0),INDEX(Triangular1,Calc!A16,0),"")=0,"",IF(AND(LEN(G16)>0,LEN(H16)=0),INDEX(Triangular1,Calc!A16,0),"")),"") | K39: =IFERROR(IF(IF(AND(LEN(H16)>0,LEN(G16)=0),INDEX(Triangular1,Calc!A16,0),"")=0,"",IF(AND(LEN(H16)>0,LEN(G16)=0),INDEX(Triangular1,Calc!A16,0),"")),"") | L39: =IFERROR(IF(IF(AND(LEN(K16)>0,LEN(J16)=0),INDEX(Triangular2,Calc!A16,0),"")=0,"",IF(AND(LEN(K16)>0,LEN(J16)=0),INDEX(Triangular2,Calc!A16,0),"")),"") | M39: =IFERROR(IF(ISERROR(G16+H16),"",INDEX(Triangular1,Calc!A16,0)),"") | Q39: =IFERROR(IF(IF(AND(LEN(Q16)=0,LEN(R16)=0),INDEX(LinearThree1,A16,0),"")=0,"",IF(AND(LEN(Q16)=0,LEN(R16)=0),INDEX(LinearThree1,A16,0),"")),"") | R39: =IFERROR(IF(IF(AND(LEN(T16)=0,LEN(U16)=0),INDEX(LinearThree2,A16,0),"")=0,"",IF(AND(LEN(T16)=0,LEN(U16)=0),INDEX(LinearThree2,A16,0),"")),"") | S39: =IFERROR(IF(IF(AND(LEN(X16)=0,LEN(W16)=0),INDEX(LinearThree3,A16,0),"")=0,"",IF(AND(LEN(X16)=0,LEN(W16)=0),INDEX(LinearThree3,A16,0),"")),"") | T39: =IFERROR(IF(IF(LEN(Q16)>0,INDEX(LinearThree1,A16,0),"")=0,"",IF(LEN(Q16)>0,INDEX(LinearThree1,A16,0),"")),"") | U39: =IFERROR(IF(IF(LEN(X16)>0,INDEX(LinearThree3,A16,0),"")=0,"",IF(LEN(X16)>0,INDEX(LinearThree3,A16,0),"")),"") | V39: =IFERROR(IF(IF(AND(LEN(W16)>0,LEN(X16)=0),INDEX(LinearThree3,A16,0),"")=0,"",IF(AND(LEN(W16)>0,LEN(X16)=0),INDEX(LinearThree3,A16,0),"")),"") | W39: =IFERROR(IF(ISERROR(W16+X16),"",INDEX(LinearThree3,A16,0)),"") | AA39: =IFERROR(IF(IF(AND(LEN(AA16)=0,LEN(AB16)=0),INDEX(StackedThree1,A16,0),"")=0,"",IF(AND(LEN(AA16)=0,LEN(AB16)=0),INDEX(StackedThree1,A16,0),"")),"") | AB39: =IFERROR(IF(IF(AND(LEN(AD16)=0,LEN(AE16)=0),INDEX(StackedThree2,A16,0),"")=0,"",IF(AND(LEN(AD16)=0,LEN(AE16)=0),INDEX(StackedThree2,A16,0),"")),"") | AC39: =IFERROR(IF(IF(AND(LEN(AH16)=0,LEN(AG16)=0),INDEX(StackedThree3,A16,0),"")=0,"",IF(AND(LEN(AH16)=0,LEN(AG16)=0),INDEX(StackedThree3,A16,0),"")),"") | AD39: =IFERROR(IF(IF(AND(LEN(AA16)>0,LEN(AB16)=0),INDEX(StackedThree1,A16,0),"")=0,"",IF(AND(LEN(AA16)>0,LEN(AB16)=0),INDEX(StackedThree1,A16,0),"")),"") | AE39: =IFERROR(IF(IF(AND(LEN(AE16)>0,LEN(AD16)=0),INDEX(StackedThree2,A16,0),"")=0,"",IF(AND(LEN(AE16)>0,LEN(AD16)=0),INDEX(StackedThree2,A16,0),"")),"") | AF39: =IFERROR(IF(IF(AND(LEN(AG16)>0,LEN(AH16)=0),INDEX(StackedThree3,A16,0),"")=0,"",IF(AND(LEN(AG16)>0,LEN(AH16)=0),INDEX(StackedThree3,A16,0),"")),"") | AG39: =IFERROR(IF(ISERROR(AG16+AH16),"",INDEX(StackedThree3,A16,0)),"") | AK39: =IFERROR(IF(IF(AND(LEN(AK16)=0,LEN(AL16)=0,LEN(AM16)=0),INDEX(Square1,A16,0),"")=0,"",IF(AND(LEN(AK16)=0,LEN(AL16)=0,LEN(AM16)=0),INDEX(Square1,A16,0),"")),"") | AL39: =IFERROR(IF(IF(AND(LEN(AO16)=0,LEN(AP16)=0,LEN(AQ16)=0),INDEX(Square2,A16,0),"")=0,"",IF(AND(LEN(AO16)=0,LEN(AP16)=0,LEN(AQ16)=0),INDEX(Square2,A16,0),"")),"") | AM39: =IFERROR(IF(IF(AND(LEN(AS16)=0,LEN(AT16)=0,LEN(AU16)=0),INDEX(Square3,A16,0),"")=0,"",IF(AND(LEN(AS16)=0,LEN(AT16)=0,LEN(AU16)=0),INDEX(Square3,A16,0),"")),"") | AN39: =IFERROR(IF(IF(AND(LEN(AW16)=0,LEN(AX16)=0,LEN(AY16)=0),INDEX(Square4,A16,0),"")=0,"",IF(AND(LEN(AW16)=0,LEN(AX16)=0,LEN(AY16)=0),INDEX(Square4,A16,0),"")),"") | AO39: =IFERROR(IF(IF(AND(LEN(AK16)>0,LEN(AL16)=0,LEN(AM16)=0),INDEX(Square1,A16,0),"")=0,"",IF(AND(LEN(AK16)>0,LEN(AL16)=0,LEN(AM16)=0),INDEX(Square1,A16,0),"")),"") | AP39: =IFERROR(IF(IF(AND(LEN(AK16)=0,LEN(AL16)>0,LEN(AM16)=0),INDEX(Square1,A16,0),"")=0,"",IF(AND(LEN(AK16)=0,LEN(AL16)>0,LEN(AM16)=0),INDEX(Square1,A16,0),"")),"") | AQ39: =IFERROR(IF(IF(AND(LEN(AK16)=0,LEN(AL16)=0,LEN(AM16)>0),INDEX(Square1,A16,0),"")=0,"",IF(AND(LEN(AK16)=0,LEN(AL16)=0,LEN(AM16)>0),INDEX(Square1,A16,0),"")),"") | AR39: =IFERROR(IF(IF(AND(LEN(AO16)=0,LEN(AP16)>0,LEN(AQ16)=0),INDEX(Square2,A16,0),"")=0,"",IF(AND(LEN(AO16)=0,LEN(AP16)>0,LEN(AQ16)=0),INDEX(Square2,A16,0),"")),"") | AS39: =IFERROR(IF(IF(AND(LEN(AO16)=0,LEN(AP16)=0,LEN(AQ16)>0),INDEX(Square2,A16,0),"")=0,"",IF(AND(LEN(AO16)=0,LEN(AP16)=0,LEN(AQ16)>0),INDEX(Square2,A16,0),"")),"") | AT39: =IFERROR(IF(IF(AND(LEN(AS16)=0,LEN(AT16)=0,LEN(AU16)>0),INDEX(Square3,A16,0),"")=0,"",IF(AND(LEN(AS16)=0,LEN(AT16)=0,LEN(AU16)>0),INDEX(Square3,A16,0),"")),"") | AU39: =IFERROR(IF(IF(AND(LEN(AK16)>0,LEN(AL16)>0,LEN(AM16)=0),INDEX(Square1,A16,0),"")=0,"",IF(AND(LEN(AK16)>0,LEN(AL16)>0,LEN(AM16)=0),INDEX(Square1,A16,0),"")),"") | AV39: =IFERROR(IF(IF(AND(LEN(AK16)>0,LEN(AL16)=0,LEN(AM16)>0),INDEX(Square1,A16,0),"")=0,"",IF(AND(LEN(AK16)>0,LEN(AL16)=0,LEN(AM16)>0),INDEX(Square1,A16,0),"")),"") | AW39: =IFERROR(IF(IF(AND(LEN(AK16)=0,LEN(AL16)>0,LEN(AM16)>0),INDEX(Square1,A16,0),"")=0,"",IF(AND(LEN(AK16)=0,LEN(AL16)>0,LEN(AM16)>0),INDEX(Square1,A16,0),"")),"") | AX39: =IFERROR(IF(IF(AND(LEN(AO16)=0,LEN(AP16)>0,LEN(AQ16)>0),INDEX(Square2,A16,0),"")=0,"",IF(AND(LEN(AO16)=0,LEN(AP16)>0,LEN(AQ16)>0),INDEX(Square2,A16,0),"")),"") | AY39: =IFERROR(IF(ISERROR(AO16+AP16+AQ16),"",INDEX(Square2,A16,0)),"") | BB39: =IFERROR(IF(IF(AND(LEN(BB16)=0,LEN(BC16)=0,LEN(BD16)=0),INDEX(LinearFour1,A16,0),"")=0,"",IF(AND(LEN(BB16)=0,LEN(BC16)=0,LEN(BD16)=0),INDEX(LinearFour1,A16,0),"")),"") | BC39: =IFERROR(IF(IF(AND(LEN(BF16)=0,LEN(BG16)=0,LEN(BH16)=0),INDEX(LinearFour2,A16,0),"")=0,"",IF(AND(LEN(BF16)=0,LEN(BG16)=0,LEN(BH16)=0),INDEX(LinearFour2,A16,0),"")),"") | BD39: =IFERROR(IF(IF(AND(LEN(BJ16)=0,LEN(BK16)=0,LEN(BL16)=0),INDEX(LinearFour3,A16,0),"")=0,"",IF(AND(LEN(BJ16)=0,LEN(BK16)=0,LEN(BL16)=0),INDEX(LinearFour3,A16,0),"")),"") | BE39: =IFERROR(IF(IF(AND(LEN(BN16)=0,LEN(BO16)=0,LEN(BP16)=0),INDEX(LinearFour4,A16,0),"")=0,"",IF(AND(LEN(BN16)=0,LEN(BO16)=0,LEN(BP16)=0),INDEX(LinearFour4,A16,0),"")),"") | BF39: =IFERROR(IF(IF(AND(LEN(BB16)>0,LEN(BC16)=0,LEN(BD16)=0),INDEX(LinearFour1,A16,0),"")=0,"",IF(AND(LEN(BB16)>0,LEN(BC16)=0,LEN(BD16)=0),INDEX(LinearFour1,A16,0),"")),"") | BG39: =IFERROR(IF(IF(AND(LEN(BB16)=0,LEN(BC16)>0,LEN(BD16)=0),INDEX(LinearFour1,A16,0),"")=0,"",IF(AND(LEN(BB16)=0,LEN(BC16)>0,LEN(BD16)=0),INDEX(LinearFour1,A16,0),"")),"") | BH39: =IFERROR(IF(IF(AND(LEN(BB16)=0,LEN(BC16)=0,LEN(BD16)>0),INDEX(LinearFour1,A16,0),"")=0,"",IF(AND(LEN(BB16)=0,LEN(BC16)=0,LEN(BD16)>0),INDEX(LinearFour1,A16,0),"")),"") | BI39: =IFERROR(IF(IF(AND(LEN(BF16)=0,LEN(BG16)>0,LEN(BH16)=0),INDEX(LinearFour2,A16,0),"")=0,"",IF(AND(LEN(BF16)=0,LEN(BG16)>0,LEN(BH16)=0),INDEX(LinearFour2,A16,0),"")),"") | BJ39: =IFERROR(IF(IF(AND(LEN(BF16)=0,LEN(BG16)=0,LEN(BH16)>0),INDEX(LinearFour2,A16,0),"")=0,"",IF(AND(LEN(BF16)=0,LEN(BG16)=0,LEN(BH16)>0),INDEX(LinearFour2,A16,0),"")),"") | BK39: =IFERROR(IF(IF(AND(LEN(BJ16)=0,LEN(BK16)=0,LEN(BL16)>0),INDEX(LinearFour3,A16,0),"")=0,"",IF(AND(LEN(BJ16)=0,LEN(BK16)=0,LEN(BL16)>0),INDEX(LinearFour3,A16,0),"")),"") | BL39: =IFERROR(IF(IF(AND(LEN(BB16)>0,LEN(BC16)>0,LEN(BD16)=0),INDEX(LinearFour1,A16,0),"")=0,"",IF(AND(LEN(BB16)>0,LEN(BC16)>0,LEN(BD16)=0),INDEX(LinearFour1,A16,0),"")),"") | BM39: =IFERROR(IF(IF(AND(LEN(BB16)>0,LEN(BC16)=0,LEN(BD16)>0),INDEX(LinearFour1,A16,0),"")=0,"",IF(AND(LEN(BB16)>0,LEN(BC16)=0,LEN(BD16)>0),INDEX(LinearFour1,A16,0),"")),"") | BN39: =IFERROR(IF(IF(AND(LEN(BB16)=0,LEN(BC16)>0,LEN(BD16)>0),INDEX(LinearFour1,A16,0),"")=0,"",IF(AND(LEN(BB16)=0,LEN(BC16)>0,LEN(BD16)>0),INDEX(LinearFour1,A16,0),"")),"") | BO39: =IFERROR(IF(IF(AND(LEN(BF16)=0,LEN(BG16)>0,LEN(BH16)>0),INDEX(LinearFour2,A16,0),"")=0,"",IF(AND(LEN(BF16)=0,LEN(BG16)>0,LEN(BH16)>0),INDEX(LinearFour2,A16,0),"")),"") | BP39: =IFERROR(IF(ISERROR(BF16+BG16+BH16),"",INDEX(LinearFour2,A16,0)),"") | BS39: =IFERROR(IF(IF(AND(LEN(BS16)=0,LEN(BT16)=0,LEN(BU16)=0),INDEX(Oval1,A16,0),"")=0,"",IF(AND(LEN(BS16)=0,LEN(BT16)=0,LEN(BU16)=0),INDEX(Oval1,A16,0),"")),"") | BT39: =IFERROR(IF(IF(AND(LEN(BW16)=0,LEN(BX16)=0,LEN(BY16)=0),INDEX(Oval2,A16,0),"")=0,"",IF(AND(LEN(BW16)=0,LEN(BX16)=0,LEN(BY16)=0),INDEX(Oval2,A16,0),"")),"") | BU39: =IFERROR(IF(IF(AND(LEN(CA16)=0,LEN(CB16)=0,LEN(CC16)=0),INDEX(Oval3,A16,0),"")=0,"",IF(AND(LEN(CA16)=0,LEN(CB16)=0,LEN(CC16)=0),INDEX(Oval3,A16,0),"")),"") | BV39: =IFERROR(IF(IF(AND(LEN(CE16)=0,LEN(CF16)=0,LEN(CG16)=0),INDEX(Oval4,A16,0),"")=0,"",IF(AND(LEN(CE16)=0,LEN(CF16)=0,LEN(CG16)=0),INDEX(Oval4,A16,0),"")),"") | BW39: =IFERROR(IF(IF(AND(LEN(BS16)>0,LEN(BT16)=0,LEN(BU16)=0),INDEX(Oval1,A16,0),"")=0,"",IF(AND(LEN(BS16)>0,LEN(BT16)=0,LEN(BU16)=0),INDEX(Oval1,A16,0),"")),"") | BX39: =IFERROR(IF(IF(AND(LEN(BS16)=0,LEN(BT16)>0,LEN(BU16)=0),INDEX(Oval1,A16,0),"")=0,"",IF(AND(LEN(BS16)=0,LEN(BT16)>0,LEN(BU16)=0),INDEX(Oval1,A16,0),"")),"") | BY39: =IFERROR(IF(IF(AND(LEN(BS16)=0,LEN(BT16)=0,LEN(BU16)>0),INDEX(Oval1,A16,0),"")=0,"",IF(AND(LEN(BS16)=0,LEN(BT16)=0,LEN(BU16)>0),INDEX(Oval1,A16,0),"")),"") | BZ39: =IFERROR(IF(IF(AND(LEN(BW16)=0,LEN(BX16)>0,LEN(BY16)=0),INDEX(Oval2,A16,0),"")=0,"",IF(AND(LEN(BW16)=0,LEN(BX16)>0,LEN(BY16)=0),INDEX(Oval2,A16,0),"")),"") | CA39: =IFERROR(IF(IF(AND(LEN(BW16)=0,LEN(BX16)=0,LEN(BY16)>0),INDEX(Oval2,A16,0),"")=0,"",IF(AND(LEN(BW16)=0,LEN(BX16)=0,LEN(BY16)>0),INDEX(Oval2,A16,0),"")),"") | CB39: =IFERROR(IF(IF(AND(LEN(CA16)=0,LEN(CB16)=0,LEN(CC16)>0),INDEX(Oval3,A16,0),"")=0,"",IF(AND(LEN(CA16)=0,LEN(CB16)=0,LEN(CC16)>0),INDEX(Oval3,A16,0),"")),"") | CC39: =IFERROR(IF(IF(AND(LEN(BS16)>0,LEN(BT16)>0,LEN(BU16)=0),INDEX(Oval1,A16,0),"")=0,"",IF(AND(LEN(BS16)>0,LEN(BT16)>0,LEN(BU16)=0),INDEX(Oval1,A16,0),"")),"") | CD39: =IFERROR(IF(IF(AND(LEN(BS16)>0,LEN(BT16)=0,LEN(BU16)>0),INDEX(Oval1,A16,0),"")=0,"",IF(AND(LEN(BS16)>0,LEN(BT16)=0,LEN(BU16)>0),INDEX(Oval1,A16,0),"")),"") | CE39: =IFERROR(IF(IF(AND(LEN(BS16)=0,LEN(BT16)>0,LEN(BU16)>0),INDEX(Oval1,A16,0),"")=0,"",IF(AND(LEN(BS16)=0,LEN(BT16)>0,LEN(BU16)>0),INDEX(Oval1,A16,0),"")),"") | CF39: =IFERROR(IF(IF(AND(LEN(BW16)=0,LEN(BX16)>0,LEN(BY16)>0),INDEX(Oval2,A16,0),"")=0,"",IF(AND(LEN(BW16)=0,LEN(BX16)>0,LEN(BY16)>0),INDEX(Oval2,A16,0),"")),"") | CG39: =IFERROR(IF(ISERROR(BW16+BX16+BY16),"",INDEX(Oval2,A16,0)),"") | CJ39: =IFERROR(IF(IF(AND(LEN(CJ16)=0,LEN(CK16)=0,LEN(CL16)=0),INDEX(StackedFour1,A16,0),"")=0,"",IF(AND(LEN(CJ16)=0,LEN(CK16)=0,LEN(CL16)=0),INDEX(StackedFour1,A16,0),"")),"") | CK39: =IFERROR(IF(IF(AND(LEN(CN16)=0,LEN(CO16)=0,LEN(CP16)=0),INDEX(StackedFour2,A16,0),"")=0,"",IF(AND(LEN(CN16)=0,LEN(CO16)=0,LEN(CP16)=0),INDEX(StackedFour2,A16,0),"")),"") | CL39: =IFERROR(IF(IF(AND(LEN(CR16)=0,LEN(CS16)=0,LEN(CT16)=0),INDEX(StackedFour3,A16,0),"")=0,"",IF(AND(LEN(CR16)=0,LEN(CS16)=0,LEN(CT16)=0),INDEX(StackedFour3,A16,0),"")),"") | CM39: =IFERROR(IF(IF(AND(LEN(CV16)=0,LEN(CW16)=0,LEN(CX16)=0),INDEX(StackedFour4,A16,0),"")=0,"",IF(AND(LEN(CV16)=0,LEN(CW16)=0,LEN(CX16)=0),INDEX(StackedFour4,A16,0),"")),"") | CN39: =IFERROR(IF(IF(AND(LEN(CJ16)>0,LEN(CK16)=0,LEN(CL16)=0),INDEX(StackedFour1,A16,0),"")=0,"",IF(AND(LEN(CJ16)>0,LEN(CK16)=0,LEN(CL16)=0),INDEX(StackedFour1,A16,0),"")),"") | CO39: =IFERROR(IF(IF(AND(LEN(CJ16)=0,LEN(CK16)>0,LEN(CL16)=0),INDEX(StackedFour1,A16,0),"")=0,"",IF(AND(LEN(CJ16)=0,LEN(CK16)>0,LEN(CL16)=0),INDEX(StackedFour1,A16,0),"")),"") | CP39: =IFERROR(IF(IF(AND(LEN(CJ16)=0,LEN(CK16)=0,LEN(CL16)>0),INDEX(StackedFour1,A16,0),"")=0,"",IF(AND(LEN(CJ16)=0,LEN(CK16)=0,LEN(CL16)>0),INDEX(StackedFour1,A16,0),"")),"") | CQ39: =IFERROR(IF(IF(AND(LEN(CN16)=0,LEN(CO16)>0,LEN(CP16)=0),INDEX(StackedFour2,A16,0),"")=0,"",IF(AND(LEN(CN16)=0,LEN(CO16)>0,LEN(CP16)=0),INDEX(StackedFour2,A16,0),"")),"") | CR39: =IFERROR(IF(IF(AND(LEN(CN16)=0,LEN(CO16)=0,LEN(CP16)>0),INDEX(StackedFour2,A16,0),"")=0,"",IF(AND(LEN(CN16)=0,LEN(CO16)=0,LEN(CP16)>0),INDEX(StackedFour2,A16,0),"")),"") | CS39: =IFERROR(IF(IF(AND(LEN(CR16)=0,LEN(CS16)=0,LEN(CT16)>0),INDEX(StackedFour3,A16,0),"")=0,"",IF(AND(LEN(CR16)=0,LEN(CS16)=0,LEN(CT16)>0),INDEX(StackedFour3,A16,0),"")),"") | CT39: =IFERROR(IF(IF(AND(LEN(CJ16)>0,LEN(CK16)>0,LEN(CL16)=0),INDEX(StackedFour1,A16,0),"")=0,"",IF(AND(LEN(CJ16)>0,LEN(CK16)>0,LEN(CL16)=0),INDEX(StackedFour1,A16,0),"")),"") | CU39: =IFERROR(IF(IF(AND(LEN(CJ16)>0,LEN(CK16)=0,LEN(CL16)>0),INDEX(StackedFour1,A16,0),"")=0,"",IF(AND(LEN(CJ16)>0,LEN(CK16)=0,LEN(CL16)>0),INDEX(StackedFour1,A16,0),"")),"") | CV39: =IFERROR(IF(IF(AND(LEN(CJ16)=0,LEN(CK16)>0,LEN(CL16)>0),INDEX(StackedFour1,A16,0),"")=0,"",IF(AND(LEN(CJ16)=0,LEN(CK16)>0,LEN(CL16)>0),INDEX(StackedFour1,A16,0),"")),"") | CW39: =IFERROR(IF(IF(AND(LEN(CN16)=0,LEN(CO16)>0,LEN(CP16)>0),INDEX(StackedFour2,A16,0),"")=0,"",IF(AND(LEN(CN16)=0,LEN(CO16)>0,LEN(CP16)>0),INDEX(StackedFour2,A16,0),"")),"") | CX39: =IFERROR(IF(ISERROR(CN16+CO16+CP16),"",INDEX(StackedFour2,A16,0)),"")
V50: =COUNTIF($V$30:$V$39,"?*") -> 1 | W50: =COUNTIF($W$30:$W$39,"?*") -> 2 | AB50: =COUNTIF($AB$30:$AB$39,"?*") -> 1 | AC50: =COUNTIF($AC$30:$AC$39,"?*") -> 0 | AE50: =COUNTIF($AE$30:$AE$39,"?*") -> 1 | AF50: =COUNTIF($AF$30:$AF$39,"?*") -> 0
G51: MANIPULATED DATA FROM COLUMNS | Q51: MANIPULATED DATA FROM COLUMNS | AA51: MANIPULATED DATA FROM COLUMNS | AK51: MANIPULATED DATA FROM COLUMNS | BB51: MANIPULATED DATA FROM COLUMNS | BS51: MANIPULATED DATA FROM COLUMNS | CJ51: MANIPULATED DATA FROM COLUMNS
B52: =$B$6 -> ASIA | C52: =IFERROR(B30&B31&B32&B33&B34&B35&B36&B37&B38&B39,"") -> Mongolia Afghanistan Iran North Korea Indonesia China India | G52: =G29 -> Column 1 Only | H52: =H29 -> Column 2 Only | I52: =I29 -> Column 3 Only | J52: =J29 -> Column 1&2 | K52: =K29 -> Column 1&3 | L52: =L29 -> Column 2&3 | M52: =M29 -> All 3 Columns | Q52: =Q29 -> Column 1 Only | R52: =R29 -> Column 2 Only | S52: =S29 -> Column 3 Only | T52: =T29 -> Column 1&2 | U52: =U29 -> Column 2&3 | AA52: =AA29 -> Column 1 Only | AB52: =AB29 -> Column 2 Only | AC52: =AC29 -> Column 3 Only | AD52: =AD29 -> Column 1&2 | AE52: =AE29 -> Column 2&3 | AF52: =AF29 -> Column 1&3 | AG52: =AG29 -> All 3 Columns | AK52: =AK29 -> Column 1 Only | AL52: =AL29 -> Column 2 Only | AM52: =AM29 -> Column 3 Only | AN52: =AN29 -> Column 4 Only | AO52: =AO29 -> Column 1&2 | AP52: =AP29 -> Column 1&3 | AQ52: =AQ29 -> Column 1&4 | AR52: =AR29 -> Column 2&3 | ... AY52: =AY29 -> All 4 Columns | BB52: =BB29 -> Column 1 Only | BC52: =BC29 -> Column 2 Only | BD52: =BD29 -> Column 3 Only | BE52: =BE29 -> Column 4 Only | BF52: =BF29 -> Column 1&2 | BG52: =BG29 -> Column 1&3 | BH52: =BH29 -> Column 1&4 | BI52: =BI29 -> Column 2&3 | ... BP52: =BP29 -> All 4 Columns | BS52: =BS29 -> Column 1 Only | BT52: =BT29 -> Column 2 Only | BU52: =BU29 -> Column 3 Only | BV52: =BV29 -> Column 4 Only | BW52: =BW29 -> Column 1&2 | BX52: =BX29 -> Column 1&3 | BY52: =BY29 -> Column 1&4 | BZ52: =BZ29 -> Column 2&3 | ... CG52: =CG29 -> All 4 Columns | CJ52: =CJ29 -> Column 1 Only | CK52: =CK29 -> Column 2 Only | CL52: =CL29 -> Column 3 Only | CM52: =CM29 -> Column 4 Only | CN52: =CN29 -> Column 1&2 | CO52: =CO29 -> Column 1&3 | CP52: =CP29 -> Column 1&4 | CQ52: =CQ29 -> Column 2&3 | ... CX52: =CX29 -> All 4 Columns
B53: =$C$6 -> EUROPE | C53: =IFERROR(C30&C31&C32&C33&C34&C35&C36&C37&C38&C39,"") -> France Italy England Spain Germany Portugal Italy | G53: =IF(G30="","",CHAR(10)&" "&G30) -> Elephants | H53: =IF(H30="","",CHAR(10)&" "&H30) | I53: =IF(I30="","",CHAR(10)&" "&I30) | J53: =IF(J30="","",CHAR(10)&" "&J30) | K53: =IF(K30="","",CHAR(10)&" "&K30) | L53: =IF(L30="","",CHAR(10)&" "&L30) | M53: =IF(M30="","",CHAR(10)&" "&M30) | Q53: =IF(Q30="","",CHAR(10)&" "&Q30) -> Elephants | R53: =IF(R30="","",CHAR(10)&" "&R30) -> Buffaloes | S53: =IF(S30="","",CHAR(10)&" "&S30) | T53: =IF(T30="","",CHAR(10)&" "&T30) | U53: =IF(U30="","",CHAR(10)&" "&U30) -> Whales | AA53: =IF(AA30="","",CHAR(10)&" "&AA30) -> Eagles | AB53: =IF(AB30="","",CHAR(10)&" "&AB30) | AC53: =IF(AC30="","",CHAR(10)&" "&AC30) | AD53: =IF(AD30="","",CHAR(10)&" "&AD30) | AE53: =IF(AE30="","",CHAR(10)&" "&AE30) | AF53: =IF(AF30="","",CHAR(10)&" "&AF30) | AG53: =IF(AG30="","",CHAR(10)&" "&AG30) -> Whales | AK53: =IF(AK30="","",CHAR(10)&" "&AK30) | AL53: =IF(AL30="","",CHAR(10)&" "&AL30) | AM53: =IF(AM30="","",CHAR(10)&" "&AM30) | AN53: =IF(AN30="","",CHAR(10)&" "&AN30) | AO53: =IF(AO30="","",CHAR(10)&" "&AO30) | AP53: =IF(AP30="","",CHAR(10)&" "&AP30) -> Mike | AQ53: =IF(AQ30="","",CHAR(10)&" "&AQ30) | AR53: =IF(AR30="","",CHAR(10)&" "&AR30) | ... AY53: =IF(AY30="","",CHAR(10)&" "&AY30) | BB53: =IF(BB30="","",CHAR(10)&" "&BB30) | BC53: =IF(BC30="","",CHAR(10)&" "&BC30) -> Pablo | BD53: =IF(BD30="","",CHAR(10)&" "&BD30) | BE53: =IF(BE30="","",CHAR(10)&" "&BE30) -> Chloe | BF53: =IF(BF30="","",CHAR(10)&" "&BF30) -> Amanda | BG53: =IF(BG30="","",CHAR(10)&" "&BG30) | BH53: =IF(BH30="","",CHAR(10)&" "&BH30) | BI53: =IF(BI30="","",CHAR(10)&" "&BI30) | ... BP53: =IF(BP30="","",CHAR(10)&" "&BP30) | BS53: =IF(BS30="","",CHAR(10)&" "&BS30) | BT53: =IF(BT30="","",CHAR(10)&" "&BT30) -> Fred | BU53: =IF(BU30="","",CHAR(10)&" "&BU30) | BV53: =IF(BV30="","",CHAR(10)&" "&BV30) | BW53: =IF(BW30="","",CHAR(10)&" "&BW30) | BX53: =IF(BX30="","",CHAR(10)&" "&BX30) -> Salion | BY53: =IF(BY30="","",CHAR(10)&" "&BY30) | BZ53: =IF(BZ30="","",CHAR(10)&" "&BZ30) | ... CG53: =IF(CG30="","",CHAR(10)&" "&CG30) | CJ53: =IF(CJ30="","",CHAR(10)&" "&CJ30) | CK53: =IF(CK30="","",CHAR(10)&" "&CK30) | CL53: =IF(CL30="","",CHAR(10)&" "&CL30) | CM53: =IF(CM30="","",CHAR(10)&" "&CM30) | CN53: =IF(CN30="","",CHAR(10)&" "&CN30) -> Tigers | CO53: =IF(CO30="","",CHAR(10)&" "&CO30) | CP53: =IF(CP30="","",CHAR(10)&" "&CP30) | CQ53: =IF(CQ30="","",CHAR(10)&" "&CQ30) | ... CX53: =IF(CX30="","",CHAR(10)&" "&CX30)
B54: =$D$6 -> Intersection | C54: =IFERROR(D30&D31&D32&D33&D34&D35&D36&D37&D38&D39,"") -> Russia | G54: =IF(G31="","",CHAR(10)&" "&G31) -> Bears | H54: =IF(H31="","",CHAR(10)&" "&H31) -> Dogs | I54: =IF(I31="","",CHAR(10)&" "&I31) -> Fishes | J54: =IF(J31="","",CHAR(10)&" "&J31) | K54: =IF(K31="","",CHAR(10)&" "&K31) | L54: =IF(L31="","",CHAR(10)&" "&L31) | M54: =IF(M31="","",CHAR(10)&" "&M31) | Q54: =IF(Q31="","",CHAR(10)&" "&Q31) -> Giraffes | R54: =IF(R31="","",CHAR(10)&" "&R31) -> Dogs | S54: =IF(S31="","",CHAR(10)&" "&S31) -> Octopus | T54: =IF(T31="","",CHAR(10)&" "&T31) | U54: =IF(U31="","",CHAR(10)&" "&U31) | AA54: =IF(AA31="","",CHAR(10)&" "&AA31) | AB54: =IF(AB31="","",CHAR(10)&" "&AB31) | AC54: =IF(AC31="","",CHAR(10)&" "&AC31) | AD54: =IF(AD31="","",CHAR(10)&" "&AD31) | AE54: =IF(AE31="","",CHAR(10)&" "&AE31) | AF54: =IF(AF31="","",CHAR(10)&" "&AF31) | AG54: =IF(AG31="","",CHAR(10)&" "&AG31) -> Dolphins | AK54: =IF(AK31="","",CHAR(10)&" "&AK31) | AL54: =IF(AL31="","",CHAR(10)&" "&AL31) | AM54: =IF(AM31="","",CHAR(10)&" "&AM31) | AN54: =IF(AN31="","",CHAR(10)&" "&AN31) | AO54: =IF(AO31="","",CHAR(10)&" "&AO31) | AP54: =IF(AP31="","",CHAR(10)&" "&AP31) | AQ54: =IF(AQ31="","",CHAR(10)&" "&AQ31) | AR54: =IF(AR31="","",CHAR(10)&" "&AR31) | ... AY54: =IF(AY31="","",CHAR(10)&" "&AY31) | BB54: =IF(BB31="","",CHAR(10)&" "&BB31) | BC54: =IF(BC31="","",CHAR(10)&" "&BC31) | BD54: =IF(BD31="","",CHAR(10)&" "&BD31) | BE54: =IF(BE31="","",CHAR(10)&" "&BE31) | BF54: =IF(BF31="","",CHAR(10)&" "&BF31) -> Mike | BG54: =IF(BG31="","",CHAR(10)&" "&BG31) | BH54: =IF(BH31="","",CHAR(10)&" "&BH31) | BI54: =IF(BI31="","",CHAR(10)&" "&BI31) -> Kyle | ... BP54: =IF(BP31="","",CHAR(10)&" "&BP31) | BS54: =IF(BS31="","",CHAR(10)&" "&BS31) -> Kyle | BT54: =IF(BT31="","",CHAR(10)&" "&BT31) | BU54: =IF(BU31="","",CHAR(10)&" "&BU31) | BV54: =IF(BV31="","",CHAR(10)&" "&BV31) -> Marco | BW54: =IF(BW31="","",CHAR(10)&" "&BW31) | BX54: =IF(BX31="","",CHAR(10)&" "&BX31) | BY54: =IF(BY31="","",CHAR(10)&" "&BY31) | BZ54: =IF(BZ31="","",CHAR(10)&" "&BZ31) -> Ahmet | ... CG54: =IF(CG31="","",CHAR(10)&" "&CG31) | CJ54: =IF(CJ31="","",CHAR(10)&" "&CJ31) | CK54: =IF(CK31="","",CHAR(10)&" "&CK31) | CL54: =IF(CL31="","",CHAR(10)&" "&CL31) | CM54: =IF(CM31="","",CHAR(10)&" "&CM31) | CN54: =IF(CN31="","",CHAR(10)&" "&CN31) | CO54: =IF(CO31="","",CHAR(10)&" "&CO31) | CP54: =IF(CP31="","",CHAR(10)&" "&CP31) | CQ54: =IF(CQ31="","",CHAR(10)&" "&CQ31) | ... CX54: =IF(CX31="","",CHAR(10)&" "&CX31)
G55: =IF(G32="","",CHAR(10)&" "&G32) | H55: =IF(H32="","",CHAR(10)&" "&H32) | I55: =IF(I32="","",CHAR(10)&" "&I32) | J55: =IF(J32="","",CHAR(10)&" "&J32) -> Horses | K55: =IF(K32="","",CHAR(10)&" "&K32) | L55: =IF(L32="","",CHAR(10)&" "&L32) -> Dolphins | M55: =IF(M32="","",CHAR(10)&" "&M32) | Q55: =IF(Q32="","",CHAR(10)&" "&Q32) -> Horses | R55: =IF(R32="","",CHAR(10)&" "&R32) -> Cats | S55: =IF(S32="","",CHAR(10)&" "&S32) | T55: =IF(T32="","",CHAR(10)&" "&T32) | U55: =IF(U32="","",CHAR(10)&" "&U32) | AA55: =IF(AA32="","",CHAR(10)&" "&AA32) -> Eels | AB55: =IF(AB32="","",CHAR(10)&" "&AB32) | AC55: =IF(AC32="","",CHAR(10)&" "&AC32) | AD55: =IF(AD32="","",CHAR(10)&" "&AD32) | AE55: =IF(AE32="","",CHAR(10)&" "&AE32) | AF55: =IF(AF32="","",CHAR(10)&" "&AF32) | AG55: =IF(AG32="","",CHAR(10)&" "&AG32) | AK55: =IF(AK32="","",CHAR(10)&" "&AK32) | AL55: =IF(AL32="","",CHAR(10)&" "&AL32) | AM55: =IF(AM32="","",CHAR(10)&" "&AM32) | AN55: =IF(AN32="","",CHAR(10)&" "&AN32) | AO55: =IF(AO32="","",CHAR(10)&" "&AO32) | AP55: =IF(AP32="","",CHAR(10)&" "&AP32) | AQ55: =IF(AQ32="","",CHAR(10)&" "&AQ32) | AR55: =IF(AR32="","",CHAR(10)&" "&AR32) | ... AY55: =IF(AY32="","",CHAR(10)&" "&AY32) | BB55: =IF(BB32="","",CHAR(10)&" "&BB32) | BC55: =IF(BC32="","",CHAR(10)&" "&BC32) | BD55: =IF(BD32="","",CHAR(10)&" "&BD32) -> Stephanie | BE55: =IF(BE32="","",CHAR(10)&" "&BE32) -> Mary | BF55: =IF(BF32="","",CHAR(10)&" "&BF32) | BG55: =IF(BG32="","",CHAR(10)&" "&BG32) | BH55: =IF(BH32="","",CHAR(10)&" "&BH32) | BI55: =IF(BI32="","",CHAR(10)&" "&BI32) | ... BP55: =IF(BP32="","",CHAR(10)&" "&BP32) | BS55: =IF(BS32="","",CHAR(10)&" "&BS32) | BT55: =IF(BT32="","",CHAR(10)&" "&BT32) | BU55: =IF(BU32="","",CHAR(10)&" "&BU32) | BV55: =IF(BV32="","",CHAR(10)&" "&BV32) | BW55: =IF(BW32="","",CHAR(10)&" "&BW32) | BX55: =IF(BX32="","",CHAR(10)&" "&BX32) | BY55: =IF(BY32="","",CHAR(10)&" "&BY32) -> Ezgi | BZ55: =IF(BZ32="","",CHAR(10)&" "&BZ32) | ... CG55: =IF(CG32="","",CHAR(10)&" "&CG32) -> Pablo | CJ55: =IF(CJ32="","",CHAR(10)&" "&CJ32) | CK55: =IF(CK32="","",CHAR(10)&" "&CK32) | CL55: =IF(CL32="","",CHAR(10)&" "&CL32) | CM55: =IF(CM32="","",CHAR(10)&" "&CM32) | CN55: =IF(CN32="","",CHAR(10)&" "&CN32) -> Pumas | CO55: =IF(CO32="","",CHAR(10)&" "&CO32) | CP55: =IF(CP32="","",CHAR(10)&" "&CP32) | CQ55: =IF(CQ32="","",CHAR(10)&" "&CQ32) | ... CX55: =IF(CX32="","",CHAR(10)&" "&CX32)
B56: Show Dublicates | G56: =IF(G33="","",CHAR(10)&" "&G33) -> Camels | H56: =IF(H33="","",CHAR(10)&" "&H33) -> Foxes | I56: =IF(I33="","",CHAR(10)&" "&I33) | J56: =IF(J33="","",CHAR(10)&" "&J33) | K56: =IF(K33="","",CHAR(10)&" "&K33) | L56: =IF(L33="","",CHAR(10)&" "&L33) | M56: =IF(M33="","",CHAR(10)&" "&M33) | Q56: =IF(Q33="","",CHAR(10)&" "&Q33) -> Cows | R56: =IF(R33="","",CHAR(10)&" "&R33) -> Goats | S56: =IF(S33="","",CHAR(10)&" "&S33) -> Mollusks | T56: =IF(T33="","",CHAR(10)&" "&T33) | U56: =IF(U33="","",CHAR(10)&" "&U33) | AA56: =IF(AA33="","",CHAR(10)&" "&AA33) | AB56: =IF(AB33="","",CHAR(10)&" "&AB33) -> Pumas | AC56: =IF(AC33="","",CHAR(10)&" "&AC33) | AD56: =IF(AD33="","",CHAR(10)&" "&AD33) -> Tigers | AE56: =IF(AE33="","",CHAR(10)&" "&AE33) | AF56: =IF(AF33="","",CHAR(10)&" "&AF33) | AG56: =IF(AG33="","",CHAR(10)&" "&AG33) | AK56: =IF(AK33="","",CHAR(10)&" "&AK33) | AL56: =IF(AL33="","",CHAR(10)&" "&AL33) | AM56: =IF(AM33="","",CHAR(10)&" "&AM33) | AN56: =IF(AN33="","",CHAR(10)&" "&AN33) -> Deniz | AO56: =IF(AO33="","",CHAR(10)&" "&AO33) | AP56: =IF(AP33="","",CHAR(10)&" "&AP33) | AQ56: =IF(AQ33="","",CHAR(10)&" "&AQ33) | AR56: =IF(AR33="","",CHAR(10)&" "&AR33) -> Salion | ... AY56: =IF(AY33="","",CHAR(10)&" "&AY33) | BB56: =IF(BB33="","",CHAR(10)&" "&BB33) -> John | BC56: =IF(BC33="","",CHAR(10)&" "&BC33) | BD56: =IF(BD33="","",CHAR(10)&" "&BD33) | BE56: =IF(BE33="","",CHAR(10)&" "&BE33) -> Norman | BF56: =IF(BF33="","",CHAR(10)&" "&BF33) | BG56: =IF(BG33="","",CHAR(10)&" "&BG33) | BH56: =IF(BH33="","",CHAR(10)&" "&BH33) | BI56: =IF(BI33="","",CHAR(10)&" "&BI33) -> Gabriel | ... BP56: =IF(BP33="","",CHAR(10)&" "&BP33) | BS56: =IF(BS33="","",CHAR(10)&" "&BS33) | BT56: =IF(BT33="","",CHAR(10)&" "&BT33) | BU56: =IF(BU33="","",CHAR(10)&" "&BU33) | BV56: =IF(BV33="","",CHAR(10)&" "&BV33) | BW56: =IF(BW33="","",CHAR(10)&" "&BW33) | BX56: =IF(BX33="","",CHAR(10)&" "&BX33) | BY56: =IF(BY33="","",CHAR(10)&" "&BY33) | BZ56: =IF(BZ33="","",CHAR(10)&" "&BZ33) | ... CG56: =IF(CG33="","",CHAR(10)&" "&CG33) | CJ56: =IF(CJ33="","",CHAR(10)&" "&CJ33) | CK56: =IF(CK33="","",CHAR(10)&" "&CK33) | CL56: =IF(CL33="","",CHAR(10)&" "&CL33) | CM56: =IF(CM33="","",CHAR(10)&" "&CM33) | CN56: =IF(CN33="","",CHAR(10)&" "&CN33) | CO56: =IF(CO33="","",CHAR(10)&" "&CO33) | CP56: =IF(CP33="","",CHAR(10)&" "&CP33) | CQ56: =IF(CQ33="","",CHAR(10)&" "&CQ33) | ... CX56: =IF(CX33="","",CHAR(10)&" "&CX33)
