Workbook

Sheet Navigation
C2: TREEMAP CHART MAKER
C3: NAVIGATION

Sheet BasicTreemap
B2: TREEMAP CHART MAKER
B3: BASIC TREEMAP - INPUT
B5: Category | C5: Subcategory | D5: Value/Weight | F5: Chart preview
B6: Pets | C6: Dogs
B7: Pets | C7: Cats
B8: Animals | C8: Lions
B9: Animals | C9: Lions
B10: Animals | C10: Cows
B11: Animals | C11: Cows
B12: Animals | C12: Chickens
B13: Animals | C13: Chickens
B14: Plants | C14: Sunflower
B15: Plants | C15: Corn
B16: Plants | C16: Corn
B17: Plants | C17: Corn
... B23: Mushrooms | C23: Champignons

Sheet Chart1
C2: TREEMAP CHART MAKER
C3: BASIC TREEMAP CHART

Sheet HierarchyTree1
C2: TREEMAP CHART MAKER
C3: BASIC - HIERARCHY TREE
C7: =Calculation!U6& " - " & Calculation!V6 -> Total - 18 | E7: =IF(OR(AND(C8="",F8<>""),AND(C7="",F7="",E8="x")),"x","") | F7: =IF(MOD(ROW(F6),2)=0,IF( LEN(INDEX(Calculation!$W$6:$W$505,ROW(F6)/2-2,1))=0,"",INDEX(Calculation!$W$6:$W$505,ROW(F6)/2-2,1)& " - " & INDEX(Calculation!$X$6:$X$505,ROW(F6)/2-2,1)),"") -> Pets - 2 | H7: =IF(OR(AND(F8="",I8<>""),AND(F7="",I7="",H8="x")),"x","") | I7: =IF(MOD(ROW(I6),2)=0,IF( OR(INDEX(Calculation!$Y$6:$Y$505,ROW(I6)/2-2,1)="",INDEX(Calculation!$Y$6:$Y$505,ROW(I6)/2-2,1)="-"),"",INDEX(Calculation!$Y$6:$Y$505,ROW(I6)/2-2,1)& " - " & INDEX(Calculation!$Z$6:$Z$505,ROW(I6)/2-2,1)),"") -> Dogs - 1
E8: =IF(OR(AND(C9="",F9<>""),AND(C8="",F8="",E9="x")),"x","") -> x | F8: =IF(MOD(ROW(F7),2)=0,IF( LEN(INDEX(Calculation!$W$6:$W$505,ROW(F7)/2-2,1))=0,"",INDEX(Calculation!$W$6:$W$505,ROW(F7)/2-2,1)& " - " & INDEX(Calculation!$X$6:$X$505,ROW(F7)/2-2,1)),"") | H8: =IF(OR(AND(F9="",I9<>""),AND(F8="",I8="",H9="x")),"x","") -> x | I8: =IF(MOD(ROW(I7),2)=0,IF( OR(INDEX(Calculation!$Y$6:$Y$505,ROW(I7)/2-2,1)="",INDEX(Calculation!$Y$6:$Y$505,ROW(I7)/2-2,1)="-"),"",INDEX(Calculation!$Y$6:$Y$505,ROW(I7)/2-2,1)& " - " & INDEX(Calculation!$Z$6:$Z$505,ROW(I7)/2-2,1)),"")
E9: =IF(OR(AND(C10="",F10<>""),AND(C9="",F9="",E10="x")),"x","") -> x | F9: =IF(MOD(ROW(F8),2)=0,IF( LEN(INDEX(Calculation!$W$6:$W$505,ROW(F8)/2-2,1))=0,"",INDEX(Calculation!$W$6:$W$505,ROW(F8)/2-2,1)& " - " & INDEX(Calculation!$X$6:$X$505,ROW(F8)/2-2,1)),"") | H9: =IF(OR(AND(F10="",I10<>""),AND(F9="",I9="",H10="x")),"x","") | I9: =IF(MOD(ROW(I8),2)=0,IF( OR(INDEX(Calculation!$Y$6:$Y$505,ROW(I8)/2-2,1)="",INDEX(Calculation!$Y$6:$Y$505,ROW(I8)/2-2,1)="-"),"",INDEX(Calculation!$Y$6:$Y$505,ROW(I8)/2-2,1)& " - " & INDEX(Calculation!$Z$6:$Z$505,ROW(I8)/2-2,1)),"") -> Cats - 1
E10: =IF(OR(AND(C11="",F11<>""),AND(C10="",F10="",E11="x")),"x","") -> x | F10: =IF(MOD(ROW(F9),2)=0,IF( LEN(INDEX(Calculation!$W$6:$W$505,ROW(F9)/2-2,1))=0,"",INDEX(Calculation!$W$6:$W$505,ROW(F9)/2-2,1)& " - " & INDEX(Calculation!$X$6:$X$505,ROW(F9)/2-2,1)),"") | H10: =IF(OR(AND(F11="",I11<>""),AND(F10="",I10="",H11="x")),"x","") | I10: =IF(MOD(ROW(I9),2)=0,IF( OR(INDEX(Calculation!$Y$6:$Y$505,ROW(I9)/2-2,1)="",INDEX(Calculation!$Y$6:$Y$505,ROW(I9)/2-2,1)="-"),"",INDEX(Calculation!$Y$6:$Y$505,ROW(I9)/2-2,1)& " - " & INDEX(Calculation!$Z$6:$Z$505,ROW(I9)/2-2,1)),"")
E11: =IF(OR(AND(C12="",F12<>""),AND(C11="",F11="",E12="x")),"x","") | F11: =IF(MOD(ROW(F10),2)=0,IF( LEN(INDEX(Calculation!$W$6:$W$505,ROW(F10)/2-2,1))=0,"",INDEX(Calculation!$W$6:$W$505,ROW(F10)/2-2,1)& " - " & INDEX(Calculation!$X$6:$X$505,ROW(F10)/2-2,1)),"") -> Animals - 6 | H11: =IF(OR(AND(F12="",I12<>""),AND(F11="",I11="",H12="x")),"x","") | I11: =IF(MOD(ROW(I10),2)=0,IF( OR(INDEX(Calculation!$Y$6:$Y$505,ROW(I10)/2-2,1)="",INDEX(Calculation!$Y$6:$Y$505,ROW(I10)/2-2,1)="-"),"",INDEX(Calculation!$Y$6:$Y$505,ROW(I10)/2-2,1)& " - " & INDEX(Calculation!$Z$6:$Z$505,ROW(I10)/2-2,1)),"") -> Lions - 2
E12: =IF(OR(AND(C13="",F13<>""),AND(C12="",F12="",E13="x")),"x","") -> x | F12: =IF(MOD(ROW(F11),2)=0,IF( LEN(INDEX(Calculation!$W$6:$W$505,ROW(F11)/2-2,1))=0,"",INDEX(Calculation!$W$6:$W$505,ROW(F11)/2-2,1)& " - " & INDEX(Calculation!$X$6:$X$505,ROW(F11)/2-2,1)),"") | H12: =IF(OR(AND(F13="",I13<>""),AND(F12="",I12="",H13="x")),"x","") -> x | I12: =IF(MOD(ROW(I11),2)=0,IF( OR(INDEX(Calculation!$Y$6:$Y$505,ROW(I11)/2-2,1)="",INDEX(Calculation!$Y$6:$Y$505,ROW(I11)/2-2,1)="-"),"",INDEX(Calculation!$Y$6:$Y$505,ROW(I11)/2-2,1)& " - " & INDEX(Calculation!$Z$6:$Z$505,ROW(I11)/2-2,1)),"")
E13: =IF(OR(AND(C14="",F14<>""),AND(C13="",F13="",E14="x")),"x","") -> x | F13: =IF(MOD(ROW(F12),2)=0,IF( LEN(INDEX(Calculation!$W$6:$W$505,ROW(F12)/2-2,1))=0,"",INDEX(Calculation!$W$6:$W$505,ROW(F12)/2-2,1)& " - " & INDEX(Calculation!$X$6:$X$505,ROW(F12)/2-2,1)),"") | H13: =IF(OR(AND(F14="",I14<>""),AND(F13="",I13="",H14="x")),"x","") | I13: =IF(MOD(ROW(I12),2)=0,IF( OR(INDEX(Calculation!$Y$6:$Y$505,ROW(I12)/2-2,1)="",INDEX(Calculation!$Y$6:$Y$505,ROW(I12)/2-2,1)="-"),"",INDEX(Calculation!$Y$6:$Y$505,ROW(I12)/2-2,1)& " - " & INDEX(Calculation!$Z$6:$Z$505,ROW(I12)/2-2,1)),"") -> Cows - 2
E14: =IF(OR(AND(C15="",F15<>""),AND(C14="",F14="",E15="x")),"x","") -> x | F14: =IF(MOD(ROW(F13),2)=0,IF( LEN(INDEX(Calculation!$W$6:$W$505,ROW(F13)/2-2,1))=0,"",INDEX(Calculation!$W$6:$W$505,ROW(F13)/2-2,1)& " - " & INDEX(Calculation!$X$6:$X$505,ROW(F13)/2-2,1)),"") | H14: =IF(OR(AND(F15="",I15<>""),AND(F14="",I14="",H15="x")),"x","") -> x | I14: =IF(MOD(ROW(I13),2)=0,IF( OR(INDEX(Calculation!$Y$6:$Y$505,ROW(I13)/2-2,1)="",INDEX(Calculation!$Y$6:$Y$505,ROW(I13)/2-2,1)="-"),"",INDEX(Calculation!$Y$6:$Y$505,ROW(I13)/2-2,1)& " - " & INDEX(Calculation!$Z$6:$Z$505,ROW(I13)/2-2,1)),"")
E15: =IF(OR(AND(C16="",F16<>""),AND(C15="",F15="",E16="x")),"x","") -> x | F15: =IF(MOD(ROW(F14),2)=0,IF( LEN(INDEX(Calculation!$W$6:$W$505,ROW(F14)/2-2,1))=0,"",INDEX(Calculation!$W$6:$W$505,ROW(F14)/2-2,1)& " - " & INDEX(Calculation!$X$6:$X$505,ROW(F14)/2-2,1)),"") | H15: =IF(OR(AND(F16="",I16<>""),AND(F15="",I15="",H16="x")),"x","") | I15: =IF(MOD(ROW(I14),2)=0,IF( OR(INDEX(Calculation!$Y$6:$Y$505,ROW(I14)/2-2,1)="",INDEX(Calculation!$Y$6:$Y$505,ROW(I14)/2-2,1)="-"),"",INDEX(Calculation!$Y$6:$Y$505,ROW(I14)/2-2,1)& " - " & INDEX(Calculation!$Z$6:$Z$505,ROW(I14)/2-2,1)),"") -> Chickens - 2
E16: =IF(OR(AND(C17="",F17<>""),AND(C16="",F16="",E17="x")),"x","") -> x | F16: =IF(MOD(ROW(F15),2)=0,IF( LEN(INDEX(Calculation!$W$6:$W$505,ROW(F15)/2-2,1))=0,"",INDEX(Calculation!$W$6:$W$505,ROW(F15)/2-2,1)& " - " & INDEX(Calculation!$X$6:$X$505,ROW(F15)/2-2,1)),"") | H16: =IF(OR(AND(F17="",I17<>""),AND(F16="",I16="",H17="x")),"x","") | I16: =IF(MOD(ROW(I15),2)=0,IF( OR(INDEX(Calculation!$Y$6:$Y$505,ROW(I15)/2-2,1)="",INDEX(Calculation!$Y$6:$Y$505,ROW(I15)/2-2,1)="-"),"",INDEX(Calculation!$Y$6:$Y$505,ROW(I15)/2-2,1)& " - " & INDEX(Calculation!$Z$6:$Z$505,ROW(I15)/2-2,1)),"")
E17: =IF(OR(AND(C18="",F18<>""),AND(C17="",F17="",E18="x")),"x","") | F17: =IF(MOD(ROW(F16),2)=0,IF( LEN(INDEX(Calculation!$W$6:$W$505,ROW(F16)/2-2,1))=0,"",INDEX(Calculation!$W$6:$W$505,ROW(F16)/2-2,1)& " - " & INDEX(Calculation!$X$6:$X$505,ROW(F16)/2-2,1)),"") -> Plants - 8 | H17: =IF(OR(AND(F18="",I18<>""),AND(F17="",I17="",H18="x")),"x","") | I17: =IF(MOD(ROW(I16),2)=0,IF( OR(INDEX(Calculation!$Y$6:$Y$505,ROW(I16)/2-2,1)="",INDEX(Calculation!$Y$6:$Y$505,ROW(I16)/2-2,1)="-"),"",INDEX(Calculation!$Y$6:$Y$505,ROW(I16)/2-2,1)& " - " & INDEX(Calculation!$Z$6:$Z$505,ROW(I16)/2-2,1)),"") -> Sunflower - 1
E18: =IF(OR(AND(C19="",F19<>""),AND(C18="",F18="",E19="x")),"x","") -> x | F18: =IF(MOD(ROW(F17),2)=0,IF( LEN(INDEX(Calculation!$W$6:$W$505,ROW(F17)/2-2,1))=0,"",INDEX(Calculation!$W$6:$W$505,ROW(F17)/2-2,1)& " - " & INDEX(Calculation!$X$6:$X$505,ROW(F17)/2-2,1)),"") | H18: =IF(OR(AND(F19="",I19<>""),AND(F18="",I18="",H19="x")),"x","") -> x | I18: =IF(MOD(ROW(I17),2)=0,IF( OR(INDEX(Calculation!$Y$6:$Y$505,ROW(I17)/2-2,1)="",INDEX(Calculation!$Y$6:$Y$505,ROW(I17)/2-2,1)="-"),"",INDEX(Calculation!$Y$6:$Y$505,ROW(I17)/2-2,1)& " - " & INDEX(Calculation!$Z$6:$Z$505,ROW(I17)/2-2,1)),"")
E19: =IF(OR(AND(C20="",F20<>""),AND(C19="",F19="",E20="x")),"x","") -> x | F19: =IF(MOD(ROW(F18),2)=0,IF( LEN(INDEX(Calculation!$W$6:$W$505,ROW(F18)/2-2,1))=0,"",INDEX(Calculation!$W$6:$W$505,ROW(F18)/2-2,1)& " - " & INDEX(Calculation!$X$6:$X$505,ROW(F18)/2-2,1)),"") | H19: =IF(OR(AND(F20="",I20<>""),AND(F19="",I19="",H20="x")),"x","") | I19: =IF(MOD(ROW(I18),2)=0,IF( OR(INDEX(Calculation!$Y$6:$Y$505,ROW(I18)/2-2,1)="",INDEX(Calculation!$Y$6:$Y$505,ROW(I18)/2-2,1)="-"),"",INDEX(Calculation!$Y$6:$Y$505,ROW(I18)/2-2,1)& " - " & INDEX(Calculation!$Z$6:$Z$505,ROW(I18)/2-2,1)),"") -> Corn - 3
... E1005: =IF(OR(AND(C1006="",F1006<>""),AND(C1005="",F1005="",E1006="x")),"x","") | F1005: =IF(MOD(ROW(F1004),2)=0,IF( LEN(INDEX(Calculation!$W$6:$W$505,ROW(F1004)/2-2,1))=0,"",INDEX(Calculation!$W$6:$W$505,ROW(F1004)/2-2,1)& " - " & INDEX(Calculation!$X$6:$X$505,ROW(F1004)/2-2,1)),"") | H1005: =IF(OR(AND(F1006="",I1006<>""),AND(F1005="",I1005="",H1006="x")),"x","") | I1005: =IF(MOD(ROW(I1004),2)=0,IF( OR(INDEX(Calculation!$Y$6:$Y$505,ROW(I1004)/2-2,1)="",INDEX(Calculation!$Y$6:$Y$505,ROW(I1004)/2-2,1)="-"),"",INDEX(Calculation!$Y$6:$Y$505,ROW(I1004)/2-2,1)& " - " & INDEX(Calculation!$Z$6:$Z$505,ROW(I1004)/2-2,1)),"")
E1006: =IF(OR(AND(C1007="",F1007<>""),AND(C1006="",F1006="",E1007="x")),"x","") | F1006: =IF(MOD(ROW(F1005),2)=0,IF( LEN(INDEX(Calculation!$W$6:$W$505,ROW(F1005)/2-2,1))=0,"",INDEX(Calculation!$W$6:$W$505,ROW(F1005)/2-2,1)& " - " & INDEX(Calculation!$X$6:$X$505,ROW(F1005)/2-2,1)),"") | I1006: =IF(MOD(ROW(I1005),2)=0,IF( OR(INDEX(Calculation!$Y$6:$Y$505,ROW(I1005)/2-2,1)="",INDEX(Calculation!$Y$6:$Y$505,ROW(I1005)/2-2,1)="-"),"",INDEX(Calculation!$Y$6:$Y$505,ROW(I1005)/2-2,1)& " - " & INDEX(Calculation!$Z$6:$Z$505,ROW(I1005)/2-2,1)),"")

Sheet AdvancedTreemap
B2: TREEMAP CHART MAKER
B3: ADVANCED TREEMAP - INPUT
C5: Include | D5: Include | E5: Ignore | F5: Ignore | G5: Show
B6: Category | C6: Subcategory1 | D6: Subcategory2 | E6: Subcategory3 | F6: Subcategory4 | G6: Value/Weight
B7: Animals | C7: Turtles | D7: Land | E7: Africa | G7: 2
B8: Animals | C8: Turtles | D8: Water | E8: Africa | G8: 3
B9: Animals | C9: Turtles | D9: Land | E9: Africa
B10: Animals | C10: Chickens | D10: Chicks | E10: Europe | G10: 4
B11: Animals | C11: Chickens | D11: Hean | E11: Europe
B12: Animals | C12: Chickens | D12: Hean | E12: Europe | G12: 5
B13: Plants | C13: Corn | D13: Boiled
B14: Plants | C14: Corn | D14: Boiled
B15: Plants | C15: Corn | D15: Boiled
B16: Plants | C16: Corn | D16: Popcorn
B17: Plants | C17: Roses | D17: red | E17: Asia
B18: Plants | C18: Roses | D18: white
B19: Plants | C19: Roses | D19: red
B20: Plants | C20: Roses | D20: red | G20: 2
B21: Pets | C21: Cats | D21: home | E21: Middle East | G21: 2
B22: Pets | C22: Dogs | D22: shelter | E22: Europe | G22: 3
B23: Pets | C23: Cats | D23: home | E23: Europe | G23: 5
B24: Animals | C24: Turtles | D24: Land | E24: Africa | G24: 3

Sheet Chart2
C2: TREEMAP CHART MAKER
C3: ADVANCED TREEMAP CHART

Sheet HierarchyTree2
C2: TREEMAP CHART MAKER
C3: ADVANCED - HIERARCHY TREE
C7: =Calculation!U6& " - " & Calculation!BE6 -> Total - 38 | E7: =IF(OR(AND(C8="",F8<>""),AND(C7="",F7="",E8="x")),"x","") | F7: =IF(MOD(ROW(F6),2)=0,IF( LEN(INDEX(Calculation!$BF$6:$BF$505,ROW(F6)/2-2,1))=0,"",INDEX(Calculation!$BF$6:$BF$505,ROW(F6)/2-2,1)& " - " & INDEX(Calculation!$BG$6:$BG$505,ROW(F6)/2-2,1)),"") -> Animals - 19 | H7: =IF(OR(AND(F8="",I8<>""),AND(F7="",I7="",H8="x")),"x","") | I7: =IF(MOD(ROW(I6),2)=0,IF( OR(INDEX(Calculation!$BH$6:$BH$505,ROW(I6)/2-2,1)="",AND(INDEX(Calculation!$BH$6:$BH$505,ROW(I6)/2-2,1)="-",INDEX(Calculation!$BG$6:$BG$505,ROW(I6)/2-2,1)="-")),"",INDEX(Calculation!$BH$6:$BH$505,ROW(I6)/2-2,1)& " - " & INDEX(Calculation!$BI$6:$BI$505,ROW(I6)/2-2,1)),"") -> Turtles - 9 | K7: =IF(OR(AND(I8="",L8<>""),AND(I7="",L7="",K8="x")),"x","") | L7: =IF(MOD(ROW(I6),2)=0,IF( OR(INDEX(Calculation!$BJ$6:$BJ$505,ROW(I6)/2-2,1)="",AND(INDEX(Calculation!$BJ$6:$BJ$505,ROW(I6)/2-2,1)="-",INDEX(Calculation!$BH$6:$BH$505,ROW(I6)/2-2,1)="-")),"",INDEX(Calculation!$BJ$6:$BJ$505,ROW(I6)/2-2,1)& " - " & INDEX(Calculation!$BK$6:$BK$505,ROW(I6)/2-2,1)),"") -> Land - 6 | N7: =IF(OR(AND(L8="",O8<>""),AND(L7="",O7="",N8="x")),"x","") | O7: =IF(MOD(ROW(I6),2)=0,IF( OR(INDEX(Calculation!$BL$6:$BL$505,ROW(I6)/2-2,1)="",AND(INDEX(Calculation!$BL$6:$BL$505,ROW(I6)/2-2,1)="-",INDEX(Calculation!$BJ$6:$BJ$505,ROW(I6)/2-2,1)="-")),"",INDEX(Calculation!$BL$6:$BL$505,ROW(I6)/2-2,1)& " - " & INDEX(Calculation!$BM$6:$BM$505,ROW(I6)/2-2,1)),"") | Q7: =IF(OR(AND(O8="",R8<>""),AND(O7="",R7="",Q8="x")),"x","") | R7: =IF(MOD(ROW(L6),2)=0,IF( OR(INDEX(Calculation!$BN$6:$BN$505,ROW(L6)/2-2,1)="",AND(INDEX(Calculation!$BN$6:$BN$505,ROW(L6)/2-2,1)="-",INDEX(Calculation!$BL$6:$BL$505,ROW(I6)/2-2,1)="-")),"",INDEX(Calculation!$BN$6:$BN$505,ROW(L6)/2-2,1)& " - " & INDEX(Calculation!$BO$6:$BO$505,ROW(L6)/2-2,1)),"")
E8: =IF(OR(AND(C9="",F9<>""),AND(C8="",F8="",E9="x")),"x","") -> x | F8: =IF(MOD(ROW(F7),2)=0,IF( LEN(INDEX(Calculation!$BF$6:$BF$505,ROW(F7)/2-2,1))=0,"",INDEX(Calculation!$BF$6:$BF$505,ROW(F7)/2-2,1)& " - " & INDEX(Calculation!$BG$6:$BG$505,ROW(F7)/2-2,1)),"") | H8: =IF(OR(AND(F9="",I9<>""),AND(F8="",I8="",H9="x")),"x","") -> x | I8: =IF(MOD(ROW(I7),2)=0,IF( OR(INDEX(Calculation!$BH$6:$BH$505,ROW(I7)/2-2,1)="",AND(INDEX(Calculation!$BH$6:$BH$505,ROW(I7)/2-2,1)="-",INDEX(Calculation!$BG$6:$BG$505,ROW(I7)/2-2,1)="-")),"",INDEX(Calculation!$BH$6:$BH$505,ROW(I7)/2-2,1)& " - " & INDEX(Calculation!$BI$6:$BI$505,ROW(I7)/2-2,1)),"") | K8: =IF(OR(AND(I9="",L9<>""),AND(I8="",L8="",K9="x")),"x","") -> x | L8: =IF(MOD(ROW(I7),2)=0,IF( OR(INDEX(Calculation!$BJ$6:$BJ$505,ROW(I7)/2-2,1)="",AND(INDEX(Calculation!$BJ$6:$BJ$505,ROW(I7)/2-2,1)="-",INDEX(Calculation!$BH$6:$BH$505,ROW(I7)/2-2,1)="-")),"",INDEX(Calculation!$BJ$6:$BJ$505,ROW(I7)/2-2,1)& " - " & INDEX(Calculation!$BK$6:$BK$505,ROW(I7)/2-2,1)),"") | N8: =IF(OR(AND(L9="",O9<>""),AND(L8="",O8="",N9="x")),"x","") | O8: =IF(MOD(ROW(I7),2)=0,IF( OR(INDEX(Calculation!$BL$6:$BL$505,ROW(I7)/2-2,1)="",AND(INDEX(Calculation!$BL$6:$BL$505,ROW(I7)/2-2,1)="-",INDEX(Calculation!$BJ$6:$BJ$505,ROW(I7)/2-2,1)="-")),"",INDEX(Calculation!$BL$6:$BL$505,ROW(I7)/2-2,1)& " - " & INDEX(Calculation!$BM$6:$BM$505,ROW(I7)/2-2,1)),"") | Q8: =IF(OR(AND(O9="",R9<>""),AND(O8="",R8="",Q9="x")),"x","") | R8: =IF(MOD(ROW(L7),2)=0,IF( OR(INDEX(Calculation!$BN$6:$BN$505,ROW(L7)/2-2,1)="",AND(INDEX(Calculation!$BN$6:$BN$505,ROW(L7)/2-2,1)="-",INDEX(Calculation!$BL$6:$BL$505,ROW(I7)/2-2,1)="-")),"",INDEX(Calculation!$BN$6:$BN$505,ROW(L7)/2-2,1)& " - " & INDEX(Calculation!$BO$6:$BO$505,ROW(L7)/2-2,1)),"")
E9: =IF(OR(AND(C10="",F10<>""),AND(C9="",F9="",E10="x")),"x","") -> x | F9: =IF(MOD(ROW(F8),2)=0,IF( LEN(INDEX(Calculation!$BF$6:$BF$505,ROW(F8)/2-2,1))=0,"",INDEX(Calculation!$BF$6:$BF$505,ROW(F8)/2-2,1)& " - " & INDEX(Calculation!$BG$6:$BG$505,ROW(F8)/2-2,1)),"") | H9: =IF(OR(AND(F10="",I10<>""),AND(F9="",I9="",H10="x")),"x","") -> x | I9: =IF(MOD(ROW(I8),2)=0,IF( OR(INDEX(Calculation!$BH$6:$BH$505,ROW(I8)/2-2,1)="",AND(INDEX(Calculation!$BH$6:$BH$505,ROW(I8)/2-2,1)="-",INDEX(Calculation!$BG$6:$BG$505,ROW(I8)/2-2,1)="-")),"",INDEX(Calculation!$BH$6:$BH$505,ROW(I8)/2-2,1)& " - " & INDEX(Calculation!$BI$6:$BI$505,ROW(I8)/2-2,1)),"") | K9: =IF(OR(AND(I10="",L10<>""),AND(I9="",L9="",K10="x")),"x","") | L9: =IF(MOD(ROW(I8),2)=0,IF( OR(INDEX(Calculation!$BJ$6:$BJ$505,ROW(I8)/2-2,1)="",AND(INDEX(Calculation!$BJ$6:$BJ$505,ROW(I8)/2-2,1)="-",INDEX(Calculation!$BH$6:$BH$505,ROW(I8)/2-2,1)="-")),"",INDEX(Calculation!$BJ$6:$BJ$505,ROW(I8)/2-2,1)& " - " & INDEX(Calculation!$BK$6:$BK$505,ROW(I8)/2-2,1)),"") -> Water - 3 | N9: =IF(OR(AND(L10="",O10<>""),AND(L9="",O9="",N10="x")),"x","") | O9: =IF(MOD(ROW(I8),2)=0,IF( OR(INDEX(Calculation!$BL$6:$BL$505,ROW(I8)/2-2,1)="",AND(INDEX(Calculation!$BL$6:$BL$505,ROW(I8)/2-2,1)="-",INDEX(Calculation!$BJ$6:$BJ$505,ROW(I8)/2-2,1)="-")),"",INDEX(Calculation!$BL$6:$BL$505,ROW(I8)/2-2,1)& " - " & INDEX(Calculation!$BM$6:$BM$505,ROW(I8)/2-2,1)),"") | Q9: =IF(OR(AND(O10="",R10<>""),AND(O9="",R9="",Q10="x")),"x","") | R9: =IF(MOD(ROW(L8),2)=0,IF( OR(INDEX(Calculation!$BN$6:$BN$505,ROW(L8)/2-2,1)="",AND(INDEX(Calculation!$BN$6:$BN$505,ROW(L8)/2-2,1)="-",INDEX(Calculation!$BL$6:$BL$505,ROW(I8)/2-2,1)="-")),"",INDEX(Calculation!$BN$6:$BN$505,ROW(L8)/2-2,1)& " - " & INDEX(Calculation!$BO$6:$BO$505,ROW(L8)/2-2,1)),"")
E10: =IF(OR(AND(C11="",F11<>""),AND(C10="",F10="",E11="x")),"x","") -> x | F10: =IF(MOD(ROW(F9),2)=0,IF( LEN(INDEX(Calculation!$BF$6:$BF$505,ROW(F9)/2-2,1))=0,"",INDEX(Calculation!$BF$6:$BF$505,ROW(F9)/2-2,1)& " - " & INDEX(Calculation!$BG$6:$BG$505,ROW(F9)/2-2,1)),"") | H10: =IF(OR(AND(F11="",I11<>""),AND(F10="",I10="",H11="x")),"x","") -> x | I10: =IF(MOD(ROW(I9),2)=0,IF( OR(INDEX(Calculation!$BH$6:$BH$505,ROW(I9)/2-2,1)="",AND(INDEX(Calculation!$BH$6:$BH$505,ROW(I9)/2-2,1)="-",INDEX(Calculation!$BG$6:$BG$505,ROW(I9)/2-2,1)="-")),"",INDEX(Calculation!$BH$6:$BH$505,ROW(I9)/2-2,1)& " - " & INDEX(Calculation!$BI$6:$BI$505,ROW(I9)/2-2,1)),"") | K10: =IF(OR(AND(I11="",L11<>""),AND(I10="",L10="",K11="x")),"x","") | L10: =IF(MOD(ROW(I9),2)=0,IF( OR(INDEX(Calculation!$BJ$6:$BJ$505,ROW(I9)/2-2,1)="",AND(INDEX(Calculation!$BJ$6:$BJ$505,ROW(I9)/2-2,1)="-",INDEX(Calculation!$BH$6:$BH$505,ROW(I9)/2-2,1)="-")),"",INDEX(Calculation!$BJ$6:$BJ$505,ROW(I9)/2-2,1)& " - " & INDEX(Calculation!$BK$6:$BK$505,ROW(I9)/2-2,1)),"") | N10: =IF(OR(AND(L11="",O11<>""),AND(L10="",O10="",N11="x")),"x","") | O10: =IF(MOD(ROW(I9),2)=0,IF( OR(INDEX(Calculation!$BL$6:$BL$505,ROW(I9)/2-2,1)="",AND(INDEX(Calculation!$BL$6:$BL$505,ROW(I9)/2-2,1)="-",INDEX(Calculation!$BJ$6:$BJ$505,ROW(I9)/2-2,1)="-")),"",INDEX(Calculation!$BL$6:$BL$505,ROW(I9)/2-2,1)& " - " & INDEX(Calculation!$BM$6:$BM$505,ROW(I9)/2-2,1)),"") | Q10: =IF(OR(AND(O11="",R11<>""),AND(O10="",R10="",Q11="x")),"x","") | R10: =IF(MOD(ROW(L9),2)=0,IF( OR(INDEX(Calculation!$BN$6:$BN$505,ROW(L9)/2-2,1)="",AND(INDEX(Calculation!$BN$6:$BN$505,ROW(L9)/2-2,1)="-",INDEX(Calculation!$BL$6:$BL$505,ROW(I9)/2-2,1)="-")),"",INDEX(Calculation!$BN$6:$BN$505,ROW(L9)/2-2,1)& " - " & INDEX(Calculation!$BO$6:$BO$505,ROW(L9)/2-2,1)),"")
E11: =IF(OR(AND(C12="",F12<>""),AND(C11="",F11="",E12="x")),"x","") -> x | F11: =IF(MOD(ROW(F10),2)=0,IF( LEN(INDEX(Calculation!$BF$6:$BF$505,ROW(F10)/2-2,1))=0,"",INDEX(Calculation!$BF$6:$BF$505,ROW(F10)/2-2,1)& " - " & INDEX(Calculation!$BG$6:$BG$505,ROW(F10)/2-2,1)),"") | H11: =IF(OR(AND(F12="",I12<>""),AND(F11="",I11="",H12="x")),"x","") | I11: =IF(MOD(ROW(I10),2)=0,IF( OR(INDEX(Calculation!$BH$6:$BH$505,ROW(I10)/2-2,1)="",AND(INDEX(Calculation!$BH$6:$BH$505,ROW(I10)/2-2,1)="-",INDEX(Calculation!$BG$6:$BG$505,ROW(I10)/2-2,1)="-")),"",INDEX(Calculation!$BH$6:$BH$505,ROW(I10)/2-2,1)& " - " & INDEX(Calculation!$BI$6:$BI$505,ROW(I10)/2-2,1)),"") -> Chickens - 10 | K11: =IF(OR(AND(I12="",L12<>""),AND(I11="",L11="",K12="x")),"x","") | L11: =IF(MOD(ROW(I10),2)=0,IF( OR(INDEX(Calculation!$BJ$6:$BJ$505,ROW(I10)/2-2,1)="",AND(INDEX(Calculation!$BJ$6:$BJ$505,ROW(I10)/2-2,1)="-",INDEX(Calculation!$BH$6:$BH$505,ROW(I10)/2-2,1)="-")),"",INDEX(Calculation!$BJ$6:$BJ$505,ROW(I10)/2-2,1)& " - " & INDEX(Calculation!$BK$6:$BK$505,ROW(I10)/2-2,1)),"") -> Chicks - 4 | N11: =IF(OR(AND(L12="",O12<>""),AND(L11="",O11="",N12="x")),"x","") | O11: =IF(MOD(ROW(I10),2)=0,IF( OR(INDEX(Calculation!$BL$6:$BL$505,ROW(I10)/2-2,1)="",AND(INDEX(Calculation!$BL$6:$BL$505,ROW(I10)/2-2,1)="-",INDEX(Calculation!$BJ$6:$BJ$505,ROW(I10)/2-2,1)="-")),"",INDEX(Calculation!$BL$6:$BL$505,ROW(I10)/2-2,1)& " - " & INDEX(Calculation!$BM$6:$BM$505,ROW(I10)/2-2,1)),"") | Q11: =IF(OR(AND(O12="",R12<>""),AND(O11="",R11="",Q12="x")),"x","") | R11: =IF(MOD(ROW(L10),2)=0,IF( OR(INDEX(Calculation!$BN$6:$BN$505,ROW(L10)/2-2,1)="",AND(INDEX(Calculation!$BN$6:$BN$505,ROW(L10)/2-2,1)="-",INDEX(Calculation!$BL$6:$BL$505,ROW(I10)/2-2,1)="-")),"",INDEX(Calculation!$BN$6:$BN$505,ROW(L10)/2-2,1)& " - " & INDEX(Calculation!$BO$6:$BO$505,ROW(L10)/2-2,1)),"")
E12: =IF(OR(AND(C13="",F13<>""),AND(C12="",F12="",E13="x")),"x","") -> x | F12: =IF(MOD(ROW(F11),2)=0,IF( LEN(INDEX(Calculation!$BF$6:$BF$505,ROW(F11)/2-2,1))=0,"",INDEX(Calculation!$BF$6:$BF$505,ROW(F11)/2-2,1)& " - " & INDEX(Calculation!$BG$6:$BG$505,ROW(F11)/2-2,1)),"") | H12: =IF(OR(AND(F13="",I13<>""),AND(F12="",I12="",H13="x")),"x","") | I12: =IF(MOD(ROW(I11),2)=0,IF( OR(INDEX(Calculation!$BH$6:$BH$505,ROW(I11)/2-2,1)="",AND(INDEX(Calculation!$BH$6:$BH$505,ROW(I11)/2-2,1)="-",INDEX(Calculation!$BG$6:$BG$505,ROW(I11)/2-2,1)="-")),"",INDEX(Calculation!$BH$6:$BH$505,ROW(I11)/2-2,1)& " - " & INDEX(Calculation!$BI$6:$BI$505,ROW(I11)/2-2,1)),"") | K12: =IF(OR(AND(I13="",L13<>""),AND(I12="",L12="",K13="x")),"x","") -> x | L12: =IF(MOD(ROW(I11),2)=0,IF( OR(INDEX(Calculation!$BJ$6:$BJ$505,ROW(I11)/2-2,1)="",AND(INDEX(Calculation!$BJ$6:$BJ$505,ROW(I11)/2-2,1)="-",INDEX(Calculation!$BH$6:$BH$505,ROW(I11)/2-2,1)="-")),"",INDEX(Calculation!$BJ$6:$BJ$505,ROW(I11)/2-2,1)& " - " & INDEX(Calculation!$BK$6:$BK$505,ROW(I11)/2-2,1)),"") | N12: =IF(OR(AND(L13="",O13<>""),AND(L12="",O12="",N13="x")),"x","") | O12: =IF(MOD(ROW(I11),2)=0,IF( OR(INDEX(Calculation!$BL$6:$BL$505,ROW(I11)/2-2,1)="",AND(INDEX(Calculation!$BL$6:$BL$505,ROW(I11)/2-2,1)="-",INDEX(Calculation!$BJ$6:$BJ$505,ROW(I11)/2-2,1)="-")),"",INDEX(Calculation!$BL$6:$BL$505,ROW(I11)/2-2,1)& " - " & INDEX(Calculation!$BM$6:$BM$505,ROW(I11)/2-2,1)),"") | Q12: =IF(OR(AND(O13="",R13<>""),AND(O12="",R12="",Q13="x")),"x","") | R12: =IF(MOD(ROW(L11),2)=0,IF( OR(INDEX(Calculation!$BN$6:$BN$505,ROW(L11)/2-2,1)="",AND(INDEX(Calculation!$BN$6:$BN$505,ROW(L11)/2-2,1)="-",INDEX(Calculation!$BL$6:$BL$505,ROW(I11)/2-2,1)="-")),"",INDEX(Calculation!$BN$6:$BN$505,ROW(L11)/2-2,1)& " - " & INDEX(Calculation!$BO$6:$BO$505,ROW(L11)/2-2,1)),"")
E13: =IF(OR(AND(C14="",F14<>""),AND(C13="",F13="",E14="x")),"x","") -> x | F13: =IF(MOD(ROW(F12),2)=0,IF( LEN(INDEX(Calculation!$BF$6:$BF$505,ROW(F12)/2-2,1))=0,"",INDEX(Calculation!$BF$6:$BF$505,ROW(F12)/2-2,1)& " - " & INDEX(Calculation!$BG$6:$BG$505,ROW(F12)/2-2,1)),"") | H13: =IF(OR(AND(F14="",I14<>""),AND(F13="",I13="",H14="x")),"x","") | I13: =IF(MOD(ROW(I12),2)=0,IF( OR(INDEX(Calculation!$BH$6:$BH$505,ROW(I12)/2-2,1)="",AND(INDEX(Calculation!$BH$6:$BH$505,ROW(I12)/2-2,1)="-",INDEX(Calculation!$BG$6:$BG$505,ROW(I12)/2-2,1)="-")),"",INDEX(Calculation!$BH$6:$BH$505,ROW(I12)/2-2,1)& " - " & INDEX(Calculation!$BI$6:$BI$505,ROW(I12)/2-2,1)),"") | K13: =IF(OR(AND(I14="",L14<>""),AND(I13="",L13="",K14="x")),"x","") | L13: =IF(MOD(ROW(I12),2)=0,IF( OR(INDEX(Calculation!$BJ$6:$BJ$505,ROW(I12)/2-2,1)="",AND(INDEX(Calculation!$BJ$6:$BJ$505,ROW(I12)/2-2,1)="-",INDEX(Calculation!$BH$6:$BH$505,ROW(I12)/2-2,1)="-")),"",INDEX(Calculation!$BJ$6:$BJ$505,ROW(I12)/2-2,1)& " - " & INDEX(Calculation!$BK$6:$BK$505,ROW(I12)/2-2,1)),"") -> Hean - 6 | N13: =IF(OR(AND(L14="",O14<>""),AND(L13="",O13="",N14="x")),"x","") | O13: =IF(MOD(ROW(I12),2)=0,IF( OR(INDEX(Calculation!$BL$6:$BL$505,ROW(I12)/2-2,1)="",AND(INDEX(Calculation!$BL$6:$BL$505,ROW(I12)/2-2,1)="-",INDEX(Calculation!$BJ$6:$BJ$505,ROW(I12)/2-2,1)="-")),"",INDEX(Calculation!$BL$6:$BL$505,ROW(I12)/2-2,1)& " - " & INDEX(Calculation!$BM$6:$BM$505,ROW(I12)/2-2,1)),"") | Q13: =IF(OR(AND(O14="",R14<>""),AND(O13="",R13="",Q14="x")),"x","") | R13: =IF(MOD(ROW(L12),2)=0,IF( OR(INDEX(Calculation!$BN$6:$BN$505,ROW(L12)/2-2,1)="",AND(INDEX(Calculation!$BN$6:$BN$505,ROW(L12)/2-2,1)="-",INDEX(Calculation!$BL$6:$BL$505,ROW(I12)/2-2,1)="-")),"",INDEX(Calculation!$BN$6:$BN$505,ROW(L12)/2-2,1)& " - " & INDEX(Calculation!$BO$6:$BO$505,ROW(L12)/2-2,1)),"")
E14: =IF(OR(AND(C15="",F15<>""),AND(C14="",F14="",E15="x")),"x","") -> x | F14: =IF(MOD(ROW(F13),2)=0,IF( LEN(INDEX(Calculation!$BF$6:$BF$505,ROW(F13)/2-2,1))=0,"",INDEX(Calculation!$BF$6:$BF$505,ROW(F13)/2-2,1)& " - " & INDEX(Calculation!$BG$6:$BG$505,ROW(F13)/2-2,1)),"") | H14: =IF(OR(AND(F15="",I15<>""),AND(F14="",I14="",H15="x")),"x","") | I14: =IF(MOD(ROW(I13),2)=0,IF( OR(INDEX(Calculation!$BH$6:$BH$505,ROW(I13)/2-2,1)="",AND(INDEX(Calculation!$BH$6:$BH$505,ROW(I13)/2-2,1)="-",INDEX(Calculation!$BG$6:$BG$505,ROW(I13)/2-2,1)="-")),"",INDEX(Calculation!$BH$6:$BH$505,ROW(I13)/2-2,1)& " - " & INDEX(Calculation!$BI$6:$BI$505,ROW(I13)/2-2,1)),"") | K14: =IF(OR(AND(I15="",L15<>""),AND(I14="",L14="",K15="x")),"x","") | L14: =IF(MOD(ROW(I13),2)=0,IF( OR(INDEX(Calculation!$BJ$6:$BJ$505,ROW(I13)/2-2,1)="",AND(INDEX(Calculation!$BJ$6:$BJ$505,ROW(I13)/2-2,1)="-",INDEX(Calculation!$BH$6:$BH$505,ROW(I13)/2-2,1)="-")),"",INDEX(Calculation!$BJ$6:$BJ$505,ROW(I13)/2-2,1)& " - " & INDEX(Calculation!$BK$6:$BK$505,ROW(I13)/2-2,1)),"") | N14: =IF(OR(AND(L15="",O15<>""),AND(L14="",O14="",N15="x")),"x","") | O14: =IF(MOD(ROW(I13),2)=0,IF( OR(INDEX(Calculation!$BL$6:$BL$505,ROW(I13)/2-2,1)="",AND(INDEX(Calculation!$BL$6:$BL$505,ROW(I13)/2-2,1)="-",INDEX(Calculation!$BJ$6:$BJ$505,ROW(I13)/2-2,1)="-")),"",INDEX(Calculation!$BL$6:$BL$505,ROW(I13)/2-2,1)& " - " & INDEX(Calculation!$BM$6:$BM$505,ROW(I13)/2-2,1)),"") | Q14: =IF(OR(AND(O15="",R15<>""),AND(O14="",R14="",Q15="x")),"x","") | R14: =IF(MOD(ROW(L13),2)=0,IF( OR(INDEX(Calculation!$BN$6:$BN$505,ROW(L13)/2-2,1)="",AND(INDEX(Calculation!$BN$6:$BN$505,ROW(L13)/2-2,1)="-",INDEX(Calculation!$BL$6:$BL$505,ROW(I13)/2-2,1)="-")),"",INDEX(Calculation!$BN$6:$BN$505,ROW(L13)/2-2,1)& " - " & INDEX(Calculation!$BO$6:$BO$505,ROW(L13)/2-2,1)),"")
E15: =IF(OR(AND(C16="",F16<>""),AND(C15="",F15="",E16="x")),"x","") | F15: =IF(MOD(ROW(F14),2)=0,IF( LEN(INDEX(Calculation!$BF$6:$BF$505,ROW(F14)/2-2,1))=0,"",INDEX(Calculation!$BF$6:$BF$505,ROW(F14)/2-2,1)& " - " & INDEX(Calculation!$BG$6:$BG$505,ROW(F14)/2-2,1)),"") -> Plants - 9 | H15: =IF(OR(AND(F16="",I16<>""),AND(F15="",I15="",H16="x")),"x","") | I15: =IF(MOD(ROW(I14),2)=0,IF( OR(INDEX(Calculation!$BH$6:$BH$505,ROW(I14)/2-2,1)="",AND(INDEX(Calculation!$BH$6:$BH$505,ROW(I14)/2-2,1)="-",INDEX(Calculation!$BG$6:$BG$505,ROW(I14)/2-2,1)="-")),"",INDEX(Calculation!$BH$6:$BH$505,ROW(I14)/2-2,1)& " - " & INDEX(Calculation!$BI$6:$BI$505,ROW(I14)/2-2,1)),"") -> Corn - 4 | K15: =IF(OR(AND(I16="",L16<>""),AND(I15="",L15="",K16="x")),"x","") | L15: =IF(MOD(ROW(I14),2)=0,IF( OR(INDEX(Calculation!$BJ$6:$BJ$505,ROW(I14)/2-2,1)="",AND(INDEX(Calculation!$BJ$6:$BJ$505,ROW(I14)/2-2,1)="-",INDEX(Calculation!$BH$6:$BH$505,ROW(I14)/2-2,1)="-")),"",INDEX(Calculation!$BJ$6:$BJ$505,ROW(I14)/2-2,1)& " - " & INDEX(Calculation!$BK$6:$BK$505,ROW(I14)/2-2,1)),"") -> Boiled - 3 | N15: =IF(OR(AND(L16="",O16<>""),AND(L15="",O15="",N16="x")),"x","") | O15: =IF(MOD(ROW(I14),2)=0,IF( OR(INDEX(Calculation!$BL$6:$BL$505,ROW(I14)/2-2,1)="",AND(INDEX(Calculation!$BL$6:$BL$505,ROW(I14)/2-2,1)="-",INDEX(Calculation!$BJ$6:$BJ$505,ROW(I14)/2-2,1)="-")),"",INDEX(Calculation!$BL$6:$BL$505,ROW(I14)/2-2,1)& " - " & INDEX(Calculation!$BM$6:$BM$505,ROW(I14)/2-2,1)),"") | Q15: =IF(OR(AND(O16="",R16<>""),AND(O15="",R15="",Q16="x")),"x","") | R15: =IF(MOD(ROW(L14),2)=0,IF( OR(INDEX(Calculation!$BN$6:$BN$505,ROW(L14)/2-2,1)="",AND(INDEX(Calculation!$BN$6:$BN$505,ROW(L14)/2-2,1)="-",INDEX(Calculation!$BL$6:$BL$505,ROW(I14)/2-2,1)="-")),"",INDEX(Calculation!$BN$6:$BN$505,ROW(L14)/2-2,1)& " - " & INDEX(Calculation!$BO$6:$BO$505,ROW(L14)/2-2,1)),"")
E16: =IF(OR(AND(C17="",F17<>""),AND(C16="",F16="",E17="x")),"x","") -> x | F16: =IF(MOD(ROW(F15),2)=0,IF( LEN(INDEX(Calculation!$BF$6:$BF$505,ROW(F15)/2-2,1))=0,"",INDEX(Calculation!$BF$6:$BF$505,ROW(F15)/2-2,1)& " - " & INDEX(Calculation!$BG$6:$BG$505,ROW(F15)/2-2,1)),"") | H16: =IF(OR(AND(F17="",I17<>""),AND(F16="",I16="",H17="x")),"x","") -> x | I16: =IF(MOD(ROW(I15),2)=0,IF( OR(INDEX(Calculation!$BH$6:$BH$505,ROW(I15)/2-2,1)="",AND(INDEX(Calculation!$BH$6:$BH$505,ROW(I15)/2-2,1)="-",INDEX(Calculation!$BG$6:$BG$505,ROW(I15)/2-2,1)="-")),"",INDEX(Calculation!$BH$6:$BH$505,ROW(I15)/2-2,1)& " - " & INDEX(Calculation!$BI$6:$BI$505,ROW(I15)/2-2,1)),"") | K16: =IF(OR(AND(I17="",L17<>""),AND(I16="",L16="",K17="x")),"x","") -> x | L16: =IF(MOD(ROW(I15),2)=0,IF( OR(INDEX(Calculation!$BJ$6:$BJ$505,ROW(I15)/2-2,1)="",AND(INDEX(Calculation!$BJ$6:$BJ$505,ROW(I15)/2-2,1)="-",INDEX(Calculation!$BH$6:$BH$505,ROW(I15)/2-2,1)="-")),"",INDEX(Calculation!$BJ$6:$BJ$505,ROW(I15)/2-2,1)& " - " & INDEX(Calculation!$BK$6:$BK$505,ROW(I15)/2-2,1)),"") | N16: =IF(OR(AND(L17="",O17<>""),AND(L16="",O16="",N17="x")),"x","") | O16: =IF(MOD(ROW(I15),2)=0,IF( OR(INDEX(Calculation!$BL$6:$BL$505,ROW(I15)/2-2,1)="",AND(INDEX(Calculation!$BL$6:$BL$505,ROW(I15)/2-2,1)="-",INDEX(Calculation!$BJ$6:$BJ$505,ROW(I15)/2-2,1)="-")),"",INDEX(Calculation!$BL$6:$BL$505,ROW(I15)/2-2,1)& " - " & INDEX(Calculation!$BM$6:$BM$505,ROW(I15)/2-2,1)),"") | Q16: =IF(OR(AND(O17="",R17<>""),AND(O16="",R16="",Q17="x")),"x","") | R16: =IF(MOD(ROW(L15),2)=0,IF( OR(INDEX(Calculation!$BN$6:$BN$505,ROW(L15)/2-2,1)="",AND(INDEX(Calculation!$BN$6:$BN$505,ROW(L15)/2-2,1)="-",INDEX(Calculation!$BL$6:$BL$505,ROW(I15)/2-2,1)="-")),"",INDEX(Calculation!$BN$6:$BN$505,ROW(L15)/2-2,1)& " - " & INDEX(Calculation!$BO$6:$BO$505,ROW(L15)/2-2,1)),"")
E17: =IF(OR(AND(C18="",F18<>""),AND(C17="",F17="",E18="x")),"x","") -> x | F17: =IF(MOD(ROW(F16),2)=0,IF( LEN(INDEX(Calculation!$BF$6:$BF$505,ROW(F16)/2-2,1))=0,"",INDEX(Calculation!$BF$6:$BF$505,ROW(F16)/2-2,1)& " - " & INDEX(Calculation!$BG$6:$BG$505,ROW(F16)/2-2,1)),"") | H17: =IF(OR(AND(F18="",I18<>""),AND(F17="",I17="",H18="x")),"x","") -> x | I17: =IF(MOD(ROW(I16),2)=0,IF( OR(INDEX(Calculation!$BH$6:$BH$505,ROW(I16)/2-2,1)="",AND(INDEX(Calculation!$BH$6:$BH$505,ROW(I16)/2-2,1)="-",INDEX(Calculation!$BG$6:$BG$505,ROW(I16)/2-2,1)="-")),"",INDEX(Calculation!$BH$6:$BH$505,ROW(I16)/2-2,1)& " - " & INDEX(Calculation!$BI$6:$BI$505,ROW(I16)/2-2,1)),"") | K17: =IF(OR(AND(I18="",L18<>""),AND(I17="",L17="",K18="x")),"x","") | L17: =IF(MOD(ROW(I16),2)=0,IF( OR(INDEX(Calculation!$BJ$6:$BJ$505,ROW(I16)/2-2,1)="",AND(INDEX(Calculation!$BJ$6:$BJ$505,ROW(I16)/2-2,1)="-",INDEX(Calculation!$BH$6:$BH$505,ROW(I16)/2-2,1)="-")),"",INDEX(Calculation!$BJ$6:$BJ$505,ROW(I16)/2-2,1)& " - " & INDEX(Calculation!$BK$6:$BK$505,ROW(I16)/2-2,1)),"") -> Popcorn - 1 | N17: =IF(OR(AND(L18="",O18<>""),AND(L17="",O17="",N18="x")),"x","") | O17: =IF(MOD(ROW(I16),2)=0,IF( OR(INDEX(Calculation!$BL$6:$BL$505,ROW(I16)/2-2,1)="",AND(INDEX(Calculation!$BL$6:$BL$505,ROW(I16)/2-2,1)="-",INDEX(Calculation!$BJ$6:$BJ$505,ROW(I16)/2-2,1)="-")),"",INDEX(Calculation!$BL$6:$BL$505,ROW(I16)/2-2,1)& " - " & INDEX(Calculation!$BM$6:$BM$505,ROW(I16)/2-2,1)),"") | Q17: =IF(OR(AND(O18="",R18<>""),AND(O17="",R17="",Q18="x")),"x","") | R17: =IF(MOD(ROW(L16),2)=0,IF( OR(INDEX(Calculation!$BN$6:$BN$505,ROW(L16)/2-2,1)="",AND(INDEX(Calculation!$BN$6:$BN$505,ROW(L16)/2-2,1)="-",INDEX(Calculation!$BL$6:$BL$505,ROW(I16)/2-2,1)="-")),"",INDEX(Calculation!$BN$6:$BN$505,ROW(L16)/2-2,1)& " - " & INDEX(Calculation!$BO$6:$BO$505,ROW(L16)/2-2,1)),"")
E18: =IF(OR(AND(C19="",F19<>""),AND(C18="",F18="",E19="x")),"x","") -> x | F18: =IF(MOD(ROW(F17),2)=0,IF( LEN(INDEX(Calculation!$BF$6:$BF$505,ROW(F17)/2-2,1))=0,"",INDEX(Calculation!$BF$6:$BF$505,ROW(F17)/2-2,1)& " - " & INDEX(Calculation!$BG$6:$BG$505,ROW(F17)/2-2,1)),"") | H18: =IF(OR(AND(F19="",I19<>""),AND(F18="",I18="",H19="x")),"x","") -> x | I18: =IF(MOD(ROW(I17),2)=0,IF( OR(INDEX(Calculation!$BH$6:$BH$505,ROW(I17)/2-2,1)="",AND(INDEX(Calculation!$BH$6:$BH$505,ROW(I17)/2-2,1)="-",INDEX(Calculation!$BG$6:$BG$505,ROW(I17)/2-2,1)="-")),"",INDEX(Calculation!$BH$6:$BH$505,ROW(I17)/2-2,1)& " - " & INDEX(Calculation!$BI$6:$BI$505,ROW(I17)/2-2,1)),"") | K18: =IF(OR(AND(I19="",L19<>""),AND(I18="",L18="",K19="x")),"x","") | L18: =IF(MOD(ROW(I17),2)=0,IF( OR(INDEX(Calculation!$BJ$6:$BJ$505,ROW(I17)/2-2,1)="",AND(INDEX(Calculation!$BJ$6:$BJ$505,ROW(I17)/2-2,1)="-",INDEX(Calculation!$BH$6:$BH$505,ROW(I17)/2-2,1)="-")),"",INDEX(Calculation!$BJ$6:$BJ$505,ROW(I17)/2-2,1)& " - " & INDEX(Calculation!$BK$6:$BK$505,ROW(I17)/2-2,1)),"") | N18: =IF(OR(AND(L19="",O19<>""),AND(L18="",O18="",N19="x")),"x","") | O18: =IF(MOD(ROW(I17),2)=0,IF( OR(INDEX(Calculation!$BL$6:$BL$505,ROW(I17)/2-2,1)="",AND(INDEX(Calculation!$BL$6:$BL$505,ROW(I17)/2-2,1)="-",INDEX(Calculation!$BJ$6:$BJ$505,ROW(I17)/2-2,1)="-")),"",INDEX(Calculation!$BL$6:$BL$505,ROW(I17)/2-2,1)& " - " & INDEX(Calculation!$BM$6:$BM$505,ROW(I17)/2-2,1)),"") | Q18: =IF(OR(AND(O19="",R19<>""),AND(O18="",R18="",Q19="x")),"x","") | R18: =IF(MOD(ROW(L17),2)=0,IF( OR(INDEX(Calculation!$BN$6:$BN$505,ROW(L17)/2-2,1)="",AND(INDEX(Calculation!$BN$6:$BN$505,ROW(L17)/2-2,1)="-",INDEX(Calculation!$BL$6:$BL$505,ROW(I17)/2-2,1)="-")),"",INDEX(Calculation!$BN$6:$BN$505,ROW(L17)/2-2,1)& " - " & INDEX(Calculation!$BO$6:$BO$505,ROW(L17)/2-2,1)),"")
E19: =IF(OR(AND(C20="",F20<>""),AND(C19="",F19="",E20="x")),"x","") -> x | F19: =IF(MOD(ROW(F18),2)=0,IF( LEN(INDEX(Calculation!$BF$6:$BF$505,ROW(F18)/2-2,1))=0,"",INDEX(Calculation!$BF$6:$BF$505,ROW(F18)/2-2,1)& " - " & INDEX(Calculation!$BG$6:$BG$505,ROW(F18)/2-2,1)),"") | H19: =IF(OR(AND(F20="",I20<>""),AND(F19="",I19="",H20="x")),"x","") | I19: =IF(MOD(ROW(I18),2)=0,IF( OR(INDEX(Calculation!$BH$6:$BH$505,ROW(I18)/2-2,1)="",AND(INDEX(Calculation!$BH$6:$BH$505,ROW(I18)/2-2,1)="-",INDEX(Calculation!$BG$6:$BG$505,ROW(I18)/2-2,1)="-")),"",INDEX(Calculation!$BH$6:$BH$505,ROW(I18)/2-2,1)& " - " & INDEX(Calculation!$BI$6:$BI$505,ROW(I18)/2-2,1)),"") -> Roses - 5 | K19: =IF(OR(AND(I20="",L20<>""),AND(I19="",L19="",K20="x")),"x","") | L19: =IF(MOD(ROW(I18),2)=0,IF( OR(INDEX(Calculation!$BJ$6:$BJ$505,ROW(I18)/2-2,1)="",AND(INDEX(Calculation!$BJ$6:$BJ$505,ROW(I18)/2-2,1)="-",INDEX(Calculation!$BH$6:$BH$505,ROW(I18)/2-2,1)="-")),"",INDEX(Calculation!$BJ$6:$BJ$505,ROW(I18)/2-2,1)& " - " & INDEX(Calculation!$BK$6:$BK$505,ROW(I18)/2-2,1)),"") -> red - 4 | N19: =IF(OR(AND(L20="",O20<>""),AND(L19="",O19="",N20="x")),"x","") | O19: =IF(MOD(ROW(I18),2)=0,IF( OR(INDEX(Calculation!$BL$6:$BL$505,ROW(I18)/2-2,1)="",AND(INDEX(Calculation!$BL$6:$BL$505,ROW(I18)/2-2,1)="-",INDEX(Calculation!$BJ$6:$BJ$505,ROW(I18)/2-2,1)="-")),"",INDEX(Calculation!$BL$6:$BL$505,ROW(I18)/2-2,1)& " - " & INDEX(Calculation!$BM$6:$BM$505,ROW(I18)/2-2,1)),"") | Q19: =IF(OR(AND(O20="",R20<>""),AND(O19="",R19="",Q20="x")),"x","") | R19: =IF(MOD(ROW(L18),2)=0,IF( OR(INDEX(Calculation!$BN$6:$BN$505,ROW(L18)/2-2,1)="",AND(INDEX(Calculation!$BN$6:$BN$505,ROW(L18)/2-2,1)="-",INDEX(Calculation!$BL$6:$BL$505,ROW(I18)/2-2,1)="-")),"",INDEX(Calculation!$BN$6:$BN$505,ROW(L18)/2-2,1)& " - " & INDEX(Calculation!$BO$6:$BO$505,ROW(L18)/2-2,1)),"")
... E1005: =IF(OR(AND(C1006="",F1006<>""),AND(C1005="",F1005="",E1006="x")),"x","") | F1005: =IF(MOD(ROW(F1004),2)=0,IF( LEN(INDEX(Calculation!$BF$6:$BF$505,ROW(F1004)/2-2,1))=0,"",INDEX(Calculation!$BF$6:$BF$505,ROW(F1004)/2-2,1)& " - " & INDEX(Calculation!$BG$6:$BG$505,ROW(F1004)/2-2,1)),"") | H1005: =IF(OR(AND(F1006="",I1006<>""),AND(F1005="",I1005="",H1006="x")),"x","") | I1005: =IF(MOD(ROW(I1004),2)=0,IF( OR(INDEX(Calculation!$BH$6:$BH$505,ROW(I1004)/2-2,1)="",AND(INDEX(Calculation!$BH$6:$BH$505,ROW(I1004)/2-2,1)="-",INDEX(Calculation!$BG$6:$BG$505,ROW(I1004)/2-2,1)="-")),"",INDEX(Calculation!$BH$6:$BH$505,ROW(I1004)/2-2,1)& " - " & INDEX(Calculation!$BI$6:$BI$505,ROW(I1004)/2-2,1)),"") | K1005: =IF(OR(AND(I1006="",L1006<>""),AND(I1005="",L1005="",K1006="x")),"x","") | L1005: =IF(MOD(ROW(I1004),2)=0,IF( OR(INDEX(Calculation!$BJ$6:$BJ$505,ROW(I1004)/2-2,1)="",AND(INDEX(Calculation!$BJ$6:$BJ$505,ROW(I1004)/2-2,1)="-",INDEX(Calculation!$BH$6:$BH$505,ROW(I1004)/2-2,1)="-")),"",INDEX(Calculation!$BJ$6:$BJ$505,ROW(I1004)/2-2,1)& " - " & INDEX(Calculation!$BK$6:$BK$505,ROW(I1004)/2-2,1)),"") | N1005: =IF(OR(AND(L1006="",O1006<>""),AND(L1005="",O1005="",N1006="x")),"x","") | O1005: =IF(MOD(ROW(I1004),2)=0,IF( OR(INDEX(Calculation!$BL$6:$BL$505,ROW(I1004)/2-2,1)="",AND(INDEX(Calculation!$BL$6:$BL$505,ROW(I1004)/2-2,1)="-",INDEX(Calculation!$BJ$6:$BJ$505,ROW(I1004)/2-2,1)="-")),"",INDEX(Calculation!$BL$6:$BL$505,ROW(I1004)/2-2,1)& " - " & INDEX(Calculation!$BM$6:$BM$505,ROW(I1004)/2-2,1)),"") | Q1005: =IF(OR(AND(O1006="",R1006<>""),AND(O1005="",R1005="",Q1006="x")),"x","") | R1005: =IF(MOD(ROW(L1004),2)=0,IF( OR(INDEX(Calculation!$BN$6:$BN$505,ROW(L1004)/2-2,1)="",AND(INDEX(Calculation!$BN$6:$BN$505,ROW(L1004)/2-2,1)="-",INDEX(Calculation!$BL$6:$BL$505,ROW(I1004)/2-2,1)="-")),"",INDEX(Calculation!$BN$6:$BN$505,ROW(L1004)/2-2,1)& " - " & INDEX(Calculation!$BO$6:$BO$505,ROW(L1004)/2-2,1)),"")

Sheet Calculation
B2: Basic treemap | AB2: Advanced treemap
AB3: Any data?: | AC3: =COUNTA(AdvancedTreemap!B7:B506) -> 18 | AD3: =COUNTA(AdvancedTreemap!C7:C506) -> 18 | AE3: =COUNTA(AdvancedTreemap!D7:D506) -> 18 | AF3: =COUNTA(AdvancedTreemap!E7:E506) -> 11 | AG3: =COUNTA(AdvancedTreemap!F7:F506) -> 0 | AH3: Active: | AI3: =IF(AdvancedTreemap!C5="Include",1,"") -> 1 | AJ3: =IF(AdvancedTreemap!D5="Include",2,"") -> 2 | AK3: =IF(AdvancedTreemap!E5="Include",3,"") | AL3: =IF(AdvancedTreemap!F5="Include",4,"") | BL3: Print last row: | BN3: =COUNT(BO5:BO504)*2+6 -> 26
I4: Order by groups | Q4: Rewrite unique | U4: Print last row: | X4: =COUNT(Z6:Z505)*2+6 -> 26 | AB4: Sub category | AC4: 1 | AD4: =IFERROR(SMALL($AI$3:$AL$3,1),"") -> 1 | AE4: =IFERROR(SMALL($AI$3:$AL$3,2),"") -> 2 | AF4: =IFERROR(SMALL($AI$3:$AL$3,3),"") | AG4: =IFERROR(SMALL($AI$3:$AL$3,4),"") | AW4: Rewrite unique | BF4: Herarchy Tree
B5: row no. | C5: Category | D5: Subcategory | E5: Value | F5: Sorting | G5: Rank | H5: Order | I5: Category | J5: Subcategory | K5: Value | L5: Concatenate | M5: Repeated? | N5: Unique | O5: Total Value | Q5: Category | R5: Subcategory | S5: Value | U5: Total | V5: Vtotal | W5: T2 | X5: v2 | Y5: T1 | Z5: v1 | AC5: Cat1 | AD5: subcat1 | AE5: subcat2 | AF5: subcat3 | AG5: subcat4 | AH5: Value | AI5: Sorting | AJ5: Rank | AK5: Order | AL5: Category | AM5: subcat1 | AN5: subcat2 | AO5: subcat3 | AP5: subcat4 | AQ5: Value | AR5: Concatenate | AS5: Repeated? | AT5: Unique | AU5: Total Value | AW5: Category | AX5: Total sub | AY5: subcat1 | AZ5: subcat2 | BA5: subcat3 | BB5: subcat4 | BC5: Value | BE5: Total | BF5: name | BG5: value | BH5: name | BI5: value | BJ5: name | BK5: value | BL5: name | BM5: value | BN5: name | BO5: value
B6: 1 | C6: =""&INDEX(BasicTreemap!B$6:B$505,$B6,1) -> Pets | D6: =IF(AND(C6<>"",LEN(INDEX(BasicTreemap!C$6:C$505,$B6,1))=0),"-",""&INDEX(BasicTreemap!C$6:C$505,$B6,1)) -> Dogs | E6: =IF(INDEX(BasicTreemap!D$6:D$505,$B6,1)="",1,INDEX(BasicTreemap!D$6:D$505,$B6,1)) -> 1 | F6: =IF(C6="","",IFERROR(MATCH(C6,$C$6:C6,0)+MATCH(D6,$D$6:D6,0)/1000 +B6/100000,"")) -> 1.00101 | G6: =IF(F6="","",RANK(F6,$F$6:$F$505,1)) -> 1 | H6: =IF(G6="","",MATCH($B6,$G$6:$G$505,0)) -> 1 | I6: =IF($H6="","",INDEX(C$6:C$505,$H6,1)) -> Pets | J6: =IF($H6="","",INDEX(D$6:D$505,$H6,1)) -> Dogs | K6: =IF($H6="","",INDEX(E$6:E$505,$H6,1)) -> 1 | L6: =I6&J6 -> PetsDogs | M6: =IF(L6="","",IF(ISNUMBER(MATCH(L6,$L$5:L5,0)),MATCH(L6,$L$5:L5,0)-1,"")) | N6: =IF(L6="","",IF(M6="",B6,"")) -> 1 | O6: =IF(N6="","",SUMIF($M$6:$M$505,N6,$K$6:$K$505)+K6) -> 1 | Q6: =IFERROR(INDEX(I$6:I$505,SMALL($N$6:$N$505,$B6),1),"") -> Pets | R6: =IFERROR(INDEX(J$6:J$505,SMALL($N$6:$N$505,$B6),1),"") -> Dogs | S6: =IFERROR(INDEX(O$6:O$505,SMALL($N$6:$N$505,$B6),1),"") -> 1 | U6: Total | V6: =SUM(Z6:Z505) -> 18 | W6: =IF(Q5<>Q6,Q6,"") -> Pets | X6: =IF(W6="","",SUMIF($Q$6:$Q$505,W6,$S$6:$S$505)) -> 2 | Y6: =R6 -> Dogs | Z6: =S6 -> 1 | AC6: =""&INDEX(AdvancedTreemap!$B$7:$B$506,$B6,1) -> Animals | AD6: =IF(AD$4="","",IF(AND(LEN(INDEX(AdvancedTreemap!$C$7:$F$506,$B6,AD$4))=0,INDEX($AD$3:$AG$3,1,AD$4)>0),"-",""&INDEX(AdvancedTreemap!$C$7:$F$506,$B6,AD$4))) -> Turtles | AE6: =IF(AE$4="","",IF(AND(LEN(INDEX(AdvancedTreemap!$C$7:$F$506,$B6,AE$4))=0,INDEX($AD$3:$AG$3,1,AE$4)>0),"-",""&INDEX(AdvancedTreemap!$C$7:$F$506,$B6,AE$4))) -> Land | AF6: =IF(AF$4="","",IF(AND(LEN(INDEX(AdvancedTreemap!$C$7:$F$506,$B6,AF$4))=0,INDEX($AD$3:$AG$3,1,AF$4)>0),"-",""&INDEX(AdvancedTreemap!$C$7:$F$506,$B6,AF$4))) | AG6: =IF(AG$4="","",IF(AND(LEN(INDEX(AdvancedTreemap!$C$7:$F$506,$B6,AG$4))=0,INDEX($AD$3:$AG$3,1,AG$4)>0),"-",""&INDEX(AdvancedTreemap!$C$7:$F$506,$B6,AG$4))) | AH6: =IF(INDEX(AdvancedTreemap!G$7:G$506,$B6,1)="",1,INDEX(AdvancedTreemap!G$7:G$506,$B6,1)) -> 2 | AI6: =IF(AC6="","",IFERROR(MATCH(AC6,$AC$6:AC6,0)+MATCH(AD6,$AD$6:AD6,0)/1000 +MATCH(AE6,$AE$6:AE6,0)/1000000+MATCH(AF6,$AF$6:AF6,0)/100000000+MATCH(AG6,$AG$6:AG6,0)/100000000+B6/100000000000,"")) -> 1.001001 | AJ6: =IF(AI6="","",RANK(AI6,$AI$6:$AI$506,1)) -> 1 | AK6: =IF(AJ6="","",MATCH(ROW(AK1),$AJ$6:$AJ$506,0)) -> 1 | AL6: =IF($AK6="","",INDEX(AC$6:AC$506,$AK6,1)) -> Animals | AM6: =IF($AK6="","",INDEX(AD$6:AD$506,$AK6,1)) -> Turtles | AN6: =IF($AK6="","",INDEX(AE$6:AE$506,$AK6,1)) -> Land | AO6: =IF($AK6="","",INDEX(AF$6:AF$506,$AK6,1)) | AP6: =IF($AK6="","",INDEX(AG$6:AG$506,$AK6,1)) | AQ6: =IF($AK6="","",INDEX(AH$6:AH$506,$AK6,1)) -> 2 | AR6: =AL6&AM6&AN6&AO6&AP6 -> AnimalsTurtlesLand | AS6: =IF(AR6="","",IF(ISNUMBER(MATCH(AR6,$AR$5:AR5,0)),MATCH(AR6,$AR$5:AR5,0)-1,"")) | AT6: =IF(AR6="","",IF(AS6="",B6,"")) -> 1 | AU6: =IF(AT6="","",SUMIF(AS$6:AS$505,AT6,AQ$6:AQ$505)+AQ6) -> 6 | AW6: =IFERROR(INDEX(AL$6:AL$505,SMALL($AT$6:$AT$505,$B6),1),"") -> Animals | AX6: =TRIM(SUBSTITUTE(IF(AW6="","",IF(AdvancedTreemap!$G$5="Show",BC6&"; ","")&AY6&"; "&AZ6 &"; "&BA6&"; "&BB6),"; ;","")) -> 6; Turtles; Land | AY6: =IFERROR(INDEX(AM$6:AM$505,SMALL($AT$6:$AT$505,$B6),1),"") -> Turtles | AZ6: =IFERROR(INDEX(AN$6:AN$505,SMALL($AT$6:$AT$505,$B6),1),"") -> Land | BA6: =IFERROR(INDEX(AO$6:AO$505,SMALL($AT$6:$AT$505,$B6),1),"") | BB6: =IFERROR(INDEX(AP$6:AP$505,SMALL($AT$6:$AT$505,$B6),1),"") | BC6: =IFERROR(INDEX(AU$6:AU$505,SMALL($AT$6:$AT$505,$B6),1),"") -> 6 | BE6: =SUM(BC6:BC505) -> 38 | BF6: =IF(AW6="","",IF(AW5<>AW6,AW6,"")) -> Animals | BG6: =IF(BF6="","",SUMIF($AW$6:$AW$505,BF6,$BC$6:$BC$505)) -> 19 | BH6: =IF(AY6="","",IF(OR(AY5<>AY6,AW6<>AW5),AY6,"")) -> Turtles | BI6: =IF(BH6="","",SUMIFS($BC$6:$BC$505,$AY$6:$AY$505,BH6,$AW$6:$AW$505,AW6)) -> 9 | BJ6: =IF(AZ6="","",IF(OR(AZ5<>AZ6,AY5<>AY6,AW5<>AW6),AZ6,"")) -> Land | BK6: =IF(BJ6="","",SUMIFS($BC$6:$BC$505,$AZ$6:$AZ$505,BJ6,$AW$6:$AW$505,AW6,$AY$6:$AY$505,AY6)) -> 6 | BL6: =IF(BA6="","",IF(OR(BA5<>BA6, AZ5<>AZ6,AY5<>AY6,AW5<>AW6),BA6,"")) | BM6: =IF(BL6="","",SUMIFS($BC$6:$BC$505,$AZ$6:$AZ$505,AZ6,$AW$6:$AW$505,AW6,$AY$6:$AY$505,AY6,$BA$6:$BA$505,BL6)) | BN6: =IF(BB6="","",IF(OR(BB5<>BB6, BA5<>BA6,AZ5<>AZ6,AY5<>AY6,AW5<>AW6),BB6,"")) | BO6: =BC6 -> 6
B7: 2 | C7: =""&INDEX(BasicTreemap!B$6:B$505,$B7,1) -> Pets | D7: =IF(AND(C7<>"",LEN(INDEX(BasicTreemap!C$6:C$505,$B7,1))=0),"-",""&INDEX(BasicTreemap!C$6:C$505,$B7,1)) -> Cats | E7: =IF(INDEX(BasicTreemap!D$6:D$505,$B7,1)="",1,INDEX(BasicTreemap!D$6:D$505,$B7,1)) -> 1 | F7: =IF(C7="","",IFERROR(MATCH(C7,$C$6:C7,0)+MATCH(D7,$D$6:D7,0)/1000 +B7/100000,"")) -> 1.00202 | G7: =IF(F7="","",RANK(F7,$F$6:$F$505,1)) -> 2 | H7: =IF(G7="","",MATCH($B7,$G$6:$G$505,0)) -> 2 | I7: =IF($H7="","",INDEX(C$6:C$505,$H7,1)) -> Pets | J7: =IF($H7="","",INDEX(D$6:D$505,$H7,1)) -> Cats | K7: =IF($H7="","",INDEX(E$6:E$505,$H7,1)) -> 1 | L7: =I7&J7 -> PetsCats | M7: =IF(L7="","",IF(ISNUMBER(MATCH(L7,$L$5:L6,0)),MATCH(L7,$L$5:L6,0)-1,"")) | N7: =IF(L7="","",IF(M7="",B7,"")) -> 2 | O7: =IF(N7="","",SUMIF($M$6:$M$505,N7,$K$6:$K$505)+K7) -> 1 | Q7: =IFERROR(INDEX(I$6:I$505,SMALL($N$6:$N$505,$B7),1),"") -> Pets | R7: =IFERROR(INDEX(J$6:J$505,SMALL($N$6:$N$505,$B7),1),"") -> Cats | S7: =IFERROR(INDEX(O$6:O$505,SMALL($N$6:$N$505,$B7),1),"") -> 1 | W7: =IF(Q6<>Q7,Q7,"") | X7: =IF(W7="","",SUMIF($Q$6:$Q$505,W7,$S$6:$S$505)) | Y7: =R7 -> Cats | Z7: =S7 -> 1 | AC7: =""&INDEX(AdvancedTreemap!$B$7:$B$506,$B7,1) -> Animals | AD7: =IF(AD$4="","",IF(AND(LEN(INDEX(AdvancedTreemap!$C$7:$F$506,$B7,AD$4))=0,INDEX($AD$3:$AG$3,1,AD$4)>0),"-",""&INDEX(AdvancedTreemap!$C$7:$F$506,$B7,AD$4))) -> Turtles | AE7: =IF(AE$4="","",IF(AND(LEN(INDEX(AdvancedTreemap!$C$7:$F$506,$B7,AE$4))=0,INDEX($AD$3:$AG$3,1,AE$4)>0),"-",""&INDEX(AdvancedTreemap!$C$7:$F$506,$B7,AE$4))) -> Water | AF7: =IF(AF$4="","",IF(AND(LEN(INDEX(AdvancedTreemap!$C$7:$F$506,$B7,AF$4))=0,INDEX($AD$3:$AG$3,1,AF$4)>0),"-",""&INDEX(AdvancedTreemap!$C$7:$F$506,$B7,AF$4))) | AG7: =IF(AG$4="","",IF(AND(LEN(INDEX(AdvancedTreemap!$C$7:$F$506,$B7,AG$4))=0,INDEX($AD$3:$AG$3,1,AG$4)>0),"-",""&INDEX(AdvancedTreemap!$C$7:$F$506,$B7,AG$4))) | AH7: =IF(INDEX(AdvancedTreemap!G$7:G$506,$B7,1)="",1,INDEX(AdvancedTreemap!G$7:G$506,$B7,1)) -> 3 | AI7: =IF(AC7="","",IFERROR(MATCH(AC7,$AC$6:AC7,0)+MATCH(AD7,$AD$6:AD7,0)/1000 +MATCH(AE7,$AE$6:AE7,0)/1000000+MATCH(AF7,$AF$6:AF7,0)/100000000+MATCH(AG7,$AG$6:AG7,0)/100000000+B7/100000000000,"")) -> 1.001002 | AJ7: =IF(AI7="","",RANK(AI7,$AI$6:$AI$506,1)) -> 4 | AK7: =IF(AJ7="","",MATCH(ROW(AK2),$AJ$6:$AJ$506,0)) -> 3 | AL7: =IF($AK7="","",INDEX(AC$6:AC$506,$AK7,1)) -> Animals | AM7: =IF($AK7="","",INDEX(AD$6:AD$506,$AK7,1)) -> Turtles | AN7: =IF($AK7="","",INDEX(AE$6:AE$506,$AK7,1)) -> Land | AO7: =IF($AK7="","",INDEX(AF$6:AF$506,$AK7,1)) | AP7: =IF($AK7="","",INDEX(AG$6:AG$506,$AK7,1)) | AQ7: =IF($AK7="","",INDEX(AH$6:AH$506,$AK7,1)) -> 1 | AR7: =AL7&AM7&AN7&AO7&AP7 -> AnimalsTurtlesLand | AS7: =IF(AR7="","",IF(ISNUMBER(MATCH(AR7,$AR$5:AR6,0)),MATCH(AR7,$AR$5:AR6,0)-1,"")) -> 1 | AT7: =IF(AR7="","",IF(AS7="",B7,"")) | AU7: =IF(AT7="","",SUMIF(AS$6:AS$505,AT7,AQ$6:AQ$505)+AQ7) | AW7: =IFERROR(INDEX(AL$6:AL$505,SMALL($AT$6:$AT$505,$B7),1),"") -> Animals | AX7: =TRIM(SUBSTITUTE(IF(AW7="","",IF(AdvancedTreemap!$G$5="Show",BC7&"; ","")&AY7&"; "&AZ7 &"; "&BA7&"; "&BB7),"; ;","")) -> 3; Turtles; Water | AY7: =IFERROR(INDEX(AM$6:AM$505,SMALL($AT$6:$AT$505,$B7),1),"") -> Turtles | AZ7: =IFERROR(INDEX(AN$6:AN$505,SMALL($AT$6:$AT$505,$B7),1),"") -> Water | BA7: =IFERROR(INDEX(AO$6:AO$505,SMALL($AT$6:$AT$505,$B7),1),"") | BB7: =IFERROR(INDEX(AP$6:AP$505,SMALL($AT$6:$AT$505,$B7),1),"") | BC7: =IFERROR(INDEX(AU$6:AU$505,SMALL($AT$6:$AT$505,$B7),1),"") -> 3 | BF7: =IF(AW7="","",IF(AW6<>AW7,AW7,"")) | BG7: =IF(BF7="","",SUMIF($AW$6:$AW$505,BF7,$BC$6:$BC$505)) | BH7: =IF(AY7="","",IF(OR(AY6<>AY7,AW7<>AW6),AY7,"")) | BI7: =IF(BH7="","",SUMIFS($BC$6:$BC$505,$AY$6:$AY$505,BH7,$AW$6:$AW$505,AW7)) | BJ7: =IF(AZ7="","",IF(OR(AZ6<>AZ7,AY6<>AY7,AW6<>AW7),AZ7,"")) -> Water | BK7: =IF(BJ7="","",SUMIFS($BC$6:$BC$505,$AZ$6:$AZ$505,BJ7,$AW$6:$AW$505,AW7,$AY$6:$AY$505,AY7)) -> 3 | BL7: =IF(BA7="","",IF(OR(BA6<>BA7, AZ6<>AZ7,AY6<>AY7,AW6<>AW7),BA7,"")) | BM7: =IF(BL7="","",SUMIFS($BC$6:$BC$505,$AZ$6:$AZ$505,AZ7,$AW$6:$AW$505,AW7,$AY$6:$AY$505,AY7,$BA$6:$BA$505,BL7)) | BN7: =IF(BB7="","",IF(OR(BB6<>BB7, BA6<>BA7,AZ6<>AZ7,AY6<>AY7,AW6<>AW7),BB7,"")) | BO7: =BC7 -> 3
B8: 3 | C8: =""&INDEX(BasicTreemap!B$6:B$505,$B8,1) -> Animals | D8: =IF(AND(C8<>"",LEN(INDEX(BasicTreemap!C$6:C$505,$B8,1))=0),"-",""&INDEX(BasicTreemap!C$6:C$505,$B8,1)) -> Lions | E8: =IF(INDEX(BasicTreemap!D$6:D$505,$B8,1)="",1,INDEX(BasicTreemap!D$6:D$505,$B8,1)) -> 1 | F8: =IF(C8="","",IFERROR(MATCH(C8,$C$6:C8,0)+MATCH(D8,$D$6:D8,0)/1000 +B8/100000,"")) -> 3.00303 | G8: =IF(F8="","",RANK(F8,$F$6:$F$505,1)) -> 3 | H8: =IF(G8="","",MATCH($B8,$G$6:$G$505,0)) -> 3 | I8: =IF($H8="","",INDEX(C$6:C$505,$H8,1)) -> Animals | J8: =IF($H8="","",INDEX(D$6:D$505,$H8,1)) -> Lions | K8: =IF($H8="","",INDEX(E$6:E$505,$H8,1)) -> 1 | L8: =I8&J8 -> AnimalsLions | M8: =IF(L8="","",IF(ISNUMBER(MATCH(L8,$L$5:L7,0)),MATCH(L8,$L$5:L7,0)-1,"")) | N8: =IF(L8="","",IF(M8="",B8,"")) -> 3 | O8: =IF(N8="","",SUMIF($M$6:$M$505,N8,$K$6:$K$505)+K8) -> 2 | Q8: =IFERROR(INDEX(I$6:I$505,SMALL($N$6:$N$505,$B8),1),"") -> Animals | R8: =IFERROR(INDEX(J$6:J$505,SMALL($N$6:$N$505,$B8),1),"") -> Lions | S8: =IFERROR(INDEX(O$6:O$505,SMALL($N$6:$N$505,$B8),1),"") -> 2 | W8: =IF(Q7<>Q8,Q8,"") -> Animals | X8: =IF(W8="","",SUMIF($Q$6:$Q$505,W8,$S$6:$S$505)) -> 6 | Y8: =R8 -> Lions | Z8: =S8 -> 2 | AC8: =""&INDEX(AdvancedTreemap!$B$7:$B$506,$B8,1) -> Animals | AD8: =IF(AD$4="","",IF(AND(LEN(INDEX(AdvancedTreemap!$C$7:$F$506,$B8,AD$4))=0,INDEX($AD$3:$AG$3,1,AD$4)>0),"-",""&INDEX(AdvancedTreemap!$C$7:$F$506,$B8,AD$4))) -> Turtles | AE8: =IF(AE$4="","",IF(AND(LEN(INDEX(AdvancedTreemap!$C$7:$F$506,$B8,AE$4))=0,INDEX($AD$3:$AG$3,1,AE$4)>0),"-",""&INDEX(AdvancedTreemap!$C$7:$F$506,$B8,AE$4))) -> Land | AF8: =IF(AF$4="","",IF(AND(LEN(INDEX(AdvancedTreemap!$C$7:$F$506,$B8,AF$4))=0,INDEX($AD$3:$AG$3,1,AF$4)>0),"-",""&INDEX(AdvancedTreemap!$C$7:$F$506,$B8,AF$4))) | AG8: =IF(AG$4="","",IF(AND(LEN(INDEX(AdvancedTreemap!$C$7:$F$506,$B8,AG$4))=0,INDEX($AD$3:$AG$3,1,AG$4)>0),"-",""&INDEX(AdvancedTreemap!$C$7:$F$506,$B8,AG$4))) | AH8: =IF(INDEX(AdvancedTreemap!G$7:G$506,$B8,1)="",1,INDEX(AdvancedTreemap!G$7:G$506,$B8,1)) -> 1 | AI8: =IF(AC8="","",IFERROR(MATCH(AC8,$AC$6:AC8,0)+MATCH(AD8,$AD$6:AD8,0)/1000 +MATCH(AE8,$AE$6:AE8,0)/1000000+MATCH(AF8,$AF$6:AF8,0)/100000000+MATCH(AG8,$AG$6:AG8,0)/100000000+B8/100000000000,"")) -> 1.001001 | AJ8: =IF(AI8="","",RANK(AI8,$AI$6:$AI$506,1)) -> 2 | AK8: =IF(AJ8="","",MATCH(ROW(AK3),$AJ$6:$AJ$506,0)) -> 18 | AL8: =IF($AK8="","",INDEX(AC$6:AC$506,$AK8,1)) -> Animals | AM8: =IF($AK8="","",INDEX(AD$6:AD$506,$AK8,1)) -> Turtles | AN8: =IF($AK8="","",INDEX(AE$6:AE$506,$AK8,1)) -> Land | AO8: =IF($AK8="","",INDEX(AF$6:AF$506,$AK8,1)) | AP8: =IF($AK8="","",INDEX(AG$6:AG$506,$AK8,1)) | AQ8: =IF($AK8="","",INDEX(AH$6:AH$506,$AK8,1)) -> 3 | AR8: =AL8&AM8&AN8&AO8&AP8 -> AnimalsTurtlesLand | AS8: =IF(AR8="","",IF(ISNUMBER(MATCH(AR8,$AR$5:AR7,0)),MATCH(AR8,$AR$5:AR7,0)-1,"")) -> 1 | AT8: =IF(AR8="","",IF(AS8="",B8,"")) | AU8: =IF(AT8="","",SUMIF(AS$6:AS$505,AT8,AQ$6:AQ$505)+AQ8) | AW8: =IFERROR(INDEX(AL$6:AL$505,SMALL($AT$6:$AT$505,$B8),1),"") -> Animals | AX8: =TRIM(SUBSTITUTE(IF(AW8="","",IF(AdvancedTreemap!$G$5="Show",BC8&"; ","")&AY8&"; "&AZ8 &"; "&BA8&"; "&BB8),"; ;","")) -> 4; Chickens; Chicks | AY8: =IFERROR(INDEX(AM$6:AM$505,SMALL($AT$6:$AT$505,$B8),1),"") -> Chickens | AZ8: =IFERROR(INDEX(AN$6:AN$505,SMALL($AT$6:$AT$505,$B8),1),"") -> Chicks | BA8: =IFERROR(INDEX(AO$6:AO$505,SMALL($AT$6:$AT$505,$B8),1),"") | BB8: =IFERROR(INDEX(AP$6:AP$505,SMALL($AT$6:$AT$505,$B8),1),"") | BC8: =IFERROR(INDEX(AU$6:AU$505,SMALL($AT$6:$AT$505,$B8),1),"") -> 4 | BF8: =IF(AW8="","",IF(AW7<>AW8,AW8,"")) | BG8: =IF(BF8="","",SUMIF($AW$6:$AW$505,BF8,$BC$6:$BC$505)) | BH8: =IF(AY8="","",IF(OR(AY7<>AY8,AW8<>AW7),AY8,"")) -> Chickens | BI8: =IF(BH8="","",SUMIFS($BC$6:$BC$505,$AY$6:$AY$505,BH8,$AW$6:$AW$505,AW8)) -> 10 | BJ8: =IF(AZ8="","",IF(OR(AZ7<>AZ8,AY7<>AY8,AW7<>AW8),AZ8,"")) -> Chicks | BK8: =IF(BJ8="","",SUMIFS($BC$6:$BC$505,$AZ$6:$AZ$505,BJ8,$AW$6:$AW$505,AW8,$AY$6:$AY$505,AY8)) -> 4 | BL8: =IF(BA8="","",IF(OR(BA7<>BA8, AZ7<>AZ8,AY7<>AY8,AW7<>AW8),BA8,"")) | BM8: =IF(BL8="","",SUMIFS($BC$6:$BC$505,$AZ$6:$AZ$505,AZ8,$AW$6:$AW$505,AW8,$AY$6:$AY$505,AY8,$BA$6:$BA$505,BL8)) | BN8: =IF(BB8="","",IF(OR(BB7<>BB8, BA7<>BA8,AZ7<>AZ8,AY7<>AY8,AW7<>AW8),BB8,"")) | BO8: =BC8 -> 4
B9: 4 | C9: =""&INDEX(BasicTreemap!B$6:B$505,$B9,1) -> Animals | D9: =IF(AND(C9<>"",LEN(INDEX(BasicTreemap!C$6:C$505,$B9,1))=0),"-",""&INDEX(BasicTreemap!C$6:C$505,$B9,1)) -> Lions | E9: =IF(INDEX(BasicTreemap!D$6:D$505,$B9,1)="",1,INDEX(BasicTreemap!D$6:D$505,$B9,1)) -> 1 | F9: =IF(C9="","",IFERROR(MATCH(C9,$C$6:C9,0)+MATCH(D9,$D$6:D9,0)/1000 +B9/100000,"")) -> 3.00304 | G9: =IF(F9="","",RANK(F9,$F$6:$F$505,1)) -> 4 | H9: =IF(G9="","",MATCH($B9,$G$6:$G$505,0)) -> 4 | I9: =IF($H9="","",INDEX(C$6:C$505,$H9,1)) -> Animals | J9: =IF($H9="","",INDEX(D$6:D$505,$H9,1)) -> Lions | K9: =IF($H9="","",INDEX(E$6:E$505,$H9,1)) -> 1 | L9: =I9&J9 -> AnimalsLions | M9: =IF(L9="","",IF(ISNUMBER(MATCH(L9,$L$5:L8,0)),MATCH(L9,$L$5:L8,0)-1,"")) -> 3 | N9: =IF(L9="","",IF(M9="",B9,"")) | O9: =IF(N9="","",SUMIF($M$6:$M$505,N9,$K$6:$K$505)+K9) | Q9: =IFERROR(INDEX(I$6:I$505,SMALL($N$6:$N$505,$B9),1),"") -> Animals | R9: =IFERROR(INDEX(J$6:J$505,SMALL($N$6:$N$505,$B9),1),"") -> Cows | S9: =IFERROR(INDEX(O$6:O$505,SMALL($N$6:$N$505,$B9),1),"") -> 2 | W9: =IF(Q8<>Q9,Q9,"") | X9: =IF(W9="","",SUMIF($Q$6:$Q$505,W9,$S$6:$S$505)) | Y9: =R9 -> Cows | Z9: =S9 -> 2 | AC9: =""&INDEX(AdvancedTreemap!$B$7:$B$506,$B9,1) -> Animals | AD9: =IF(AD$4="","",IF(AND(LEN(INDEX(AdvancedTreemap!$C$7:$F$506,$B9,AD$4))=0,INDEX($AD$3:$AG$3,1,AD$4)>0),"-",""&INDEX(AdvancedTreemap!$C$7:$F$506,$B9,AD$4))) -> Chickens | AE9: =IF(AE$4="","",IF(AND(LEN(INDEX(AdvancedTreemap!$C$7:$F$506,$B9,AE$4))=0,INDEX($AD$3:$AG$3,1,AE$4)>0),"-",""&INDEX(AdvancedTreemap!$C$7:$F$506,$B9,AE$4))) -> Chicks | AF9: =IF(AF$4="","",IF(AND(LEN(INDEX(AdvancedTreemap!$C$7:$F$506,$B9,AF$4))=0,INDEX($AD$3:$AG$3,1,AF$4)>0),"-",""&INDEX(AdvancedTreemap!$C$7:$F$506,$B9,AF$4))) | AG9: =IF(AG$4="","",IF(AND(LEN(INDEX(AdvancedTreemap!$C$7:$F$506,$B9,AG$4))=0,INDEX($AD$3:$AG$3,1,AG$4)>0),"-",""&INDEX(AdvancedTreemap!$C$7:$F$506,$B9,AG$4))) | AH9: =IF(INDEX(AdvancedTreemap!G$7:G$506,$B9,1)="",1,INDEX(AdvancedTreemap!G$7:G$506,$B9,1)) -> 4 | AI9: =IF(AC9="","",IFERROR(MATCH(AC9,$AC$6:AC9,0)+MATCH(AD9,$AD$6:AD9,0)/1000 +MATCH(AE9,$AE$6:AE9,0)/1000000+MATCH(AF9,$AF$6:AF9,0)/100000000+MATCH(AG9,$AG$6:AG9,0)/100000000+B9/100000000000,"")) -> 1.004004 | AJ9: =IF(AI9="","",RANK(AI9,$AI$6:$AI$506,1)) -> 5 | AK9: =IF(AJ9="","",MATCH(ROW(AK4),$AJ$6:$AJ$506,0)) -> 2 | AL9: =IF($AK9="","",INDEX(AC$6:AC$506,$AK9,1)) -> Animals | AM9: =IF($AK9="","",INDEX(AD$6:AD$506,$AK9,1)) -> Turtles | AN9: =IF($AK9="","",INDEX(AE$6:AE$506,$AK9,1)) -> Water | AO9: =IF($AK9="","",INDEX(AF$6:AF$506,$AK9,1)) | AP9: =IF($AK9="","",INDEX(AG$6:AG$506,$AK9,1)) | AQ9: =IF($AK9="","",INDEX(AH$6:AH$506,$AK9,1)) -> 3 | AR9: =AL9&AM9&AN9&AO9&AP9 -> AnimalsTurtlesWater | AS9: =IF(AR9="","",IF(ISNUMBER(MATCH(AR9,$AR$5:AR8,0)),MATCH(AR9,$AR$5:AR8,0)-1,"")) | AT9: =IF(AR9="","",IF(AS9="",B9,"")) -> 4 | AU9: =IF(AT9="","",SUMIF(AS$6:AS$505,AT9,AQ$6:AQ$505)+AQ9) -> 3 | AW9: =IFERROR(INDEX(AL$6:AL$505,SMALL($AT$6:$AT$505,$B9),1),"") -> Animals | AX9: =TRIM(SUBSTITUTE(IF(AW9="","",IF(AdvancedTreemap!$G$5="Show",BC9&"; ","")&AY9&"; "&AZ9 &"; "&BA9&"; "&BB9),"; ;","")) -> 6; Chickens; Hean | AY9: =IFERROR(INDEX(AM$6:AM$505,SMALL($AT$6:$AT$505,$B9),1),"") -> Chickens | AZ9: =IFERROR(INDEX(AN$6:AN$505,SMALL($AT$6:$AT$505,$B9),1),"") -> Hean | BA9: =IFERROR(INDEX(AO$6:AO$505,SMALL($AT$6:$AT$505,$B9),1),"") | BB9: =IFERROR(INDEX(AP$6:AP$505,SMALL($AT$6:$AT$505,$B9),1),"") | BC9: =IFERROR(INDEX(AU$6:AU$505,SMALL($AT$6:$AT$505,$B9),1),"") -> 6 | BF9: =IF(AW9="","",IF(AW8<>AW9,AW9,"")) | BG9: =IF(BF9="","",SUMIF($AW$6:$AW$505,BF9,$BC$6:$BC$505)) | BH9: =IF(AY9="","",IF(OR(AY8<>AY9,AW9<>AW8),AY9,"")) | BI9: =IF(BH9="","",SUMIFS($BC$6:$BC$505,$AY$6:$AY$505,BH9,$AW$6:$AW$505,AW9)) | BJ9: =IF(AZ9="","",IF(OR(AZ8<>AZ9,AY8<>AY9,AW8<>AW9),AZ9,"")) -> Hean | BK9: =IF(BJ9="","",SUMIFS($BC$6:$BC$505,$AZ$6:$AZ$505,BJ9,$AW$6:$AW$505,AW9,$AY$6:$AY$505,AY9)) -> 6 | BL9: =IF(BA9="","",IF(OR(BA8<>BA9, AZ8<>AZ9,AY8<>AY9,AW8<>AW9),BA9,"")) | BM9: =IF(BL9="","",SUMIFS($BC$6:$BC$505,$AZ$6:$AZ$505,AZ9,$AW$6:$AW$505,AW9,$AY$6:$AY$505,AY9,$BA$6:$BA$505,BL9)) | BN9: =IF(BB9="","",IF(OR(BB8<>BB9, BA8<>BA9,AZ8<>AZ9,AY8<>AY9,AW8<>AW9),BB9,"")) | BO9: =BC9 -> 6
B10: 5 | C10: =""&INDEX(BasicTreemap!B$6:B$505,$B10,1) -> Animals | D10: =IF(AND(C10<>"",LEN(INDEX(BasicTreemap!C$6:C$505,$B10,1))=0),"-",""&INDEX(BasicTreemap!C$6:C$505,$B10,1)) -> Cows | E10: =IF(INDEX(BasicTreemap!D$6:D$505,$B10,1)="",1,INDEX(BasicTreemap!D$6:D$505,$B10,1)) -> 1 | F10: =IF(C10="","",IFERROR(MATCH(C10,$C$6:C10,0)+MATCH(D10,$D$6:D10,0)/1000 +B10/100000,"")) -> 3.00505 | G10: =IF(F10="","",RANK(F10,$F$6:$F$505,1)) -> 5 | H10: =IF(G10="","",MATCH($B10,$G$6:$G$505,0)) -> 5 | I10: =IF($H10="","",INDEX(C$6:C$505,$H10,1)) -> Animals | J10: =IF($H10="","",INDEX(D$6:D$505,$H10,1)) -> Cows | K10: =IF($H10="","",INDEX(E$6:E$505,$H10,1)) -> 1 | L10: =I10&J10 -> AnimalsCows | M10: =IF(L10="","",IF(ISNUMBER(MATCH(L10,$L$5:L9,0)),MATCH(L10,$L$5:L9,0)-1,"")) | N10: =IF(L10="","",IF(M10="",B10,"")) -> 5 | O10: =IF(N10="","",SUMIF($M$6:$M$505,N10,$K$6:$K$505)+K10) -> 2 | Q10: =IFERROR(INDEX(I$6:I$505,SMALL($N$6:$N$505,$B10),1),"") -> Animals | R10: =IFERROR(INDEX(J$6:J$505,SMALL($N$6:$N$505,$B10),1),"") -> Chickens | S10: =IFERROR(INDEX(O$6:O$505,SMALL($N$6:$N$505,$B10),1),"") -> 2 | W10: =IF(Q9<>Q10,Q10,"") | X10: =IF(W10="","",SUMIF($Q$6:$Q$505,W10,$S$6:$S$505)) | Y10: =R10 -> Chickens | Z10: =S10 -> 2 | AC10: =""&INDEX(AdvancedTreemap!$B$7:$B$506,$B10,1) -> Animals | AD10: =IF(AD$4="","",IF(AND(LEN(INDEX(AdvancedTreemap!$C$7:$F$506,$B10,AD$4))=0,INDEX($AD$3:$AG$3,1,AD$4)>0),"-",""&INDEX(AdvancedTreemap!$C$7:$F$506,$B10,AD$4))) -> Chickens | AE10: =IF(AE$4="","",IF(AND(LEN(INDEX(AdvancedTreemap!$C$7:$F$506,$B10,AE$4))=0,INDEX($AD$3:$AG$3,1,AE$4)>0),"-",""&INDEX(AdvancedTreemap!$C$7:$F$506,$B10,AE$4))) -> Hean | AF10: =IF(AF$4="","",IF(AND(LEN(INDEX(AdvancedTreemap!$C$7:$F$506,$B10,AF$4))=0,INDEX($AD$3:$AG$3,1,AF$4)>0),"-",""&INDEX(AdvancedTreemap!$C$7:$F$506,$B10,AF$4))) | AG10: =IF(AG$4="","",IF(AND(LEN(INDEX(AdvancedTreemap!$C$7:$F$506,$B10,AG$4))=0,INDEX($AD$3:$AG$3,1,AG$4)>0),"-",""&INDEX(AdvancedTreemap!$C$7:$F$506,$B10,AG$4))) | AH10: =IF(INDEX(AdvancedTreemap!G$7:G$506,$B10,1)="",1,INDEX(AdvancedTreemap!G$7:G$506,$B10,1)) -> 1 | AI10: =IF(AC10="","",IFERROR(MATCH(AC10,$AC$6:AC10,0)+MATCH(AD10,$AD$6:AD10,0)/1000 +MATCH(AE10,$AE$6:AE10,0)/1000000+MATCH(AF10,$AF$6:AF10,0)/100000000+MATCH(AG10,$AG$6:AG10,0)/100000000+B10/100000000000,"")) -> 1.004005 | AJ10: =IF(AI10="","",RANK(AI10,$AI$6:$AI$506,1)) -> 6 | AK10: =IF(AJ10="","",MATCH(ROW(AK5),$AJ$6:$AJ$506,0)) -> 4 | AL10: =IF($AK10="","",INDEX(AC$6:AC$506,$AK10,1)) -> Animals | AM10: =IF($AK10="","",INDEX(AD$6:AD$506,$AK10,1)) -> Chickens | AN10: =IF($AK10="","",INDEX(AE$6:AE$506,$AK10,1)) -> Chicks | AO10: =IF($AK10="","",INDEX(AF$6:AF$506,$AK10,1)) | AP10: =IF($AK10="","",INDEX(AG$6:AG$506,$AK10,1)) | AQ10: =IF($AK10="","",INDEX(AH$6:AH$506,$AK10,1)) -> 4 | AR10: =AL10&AM10&AN10&AO10&AP10 -> AnimalsChickensChicks | AS10: =IF(AR10="","",IF(ISNUMBER(MATCH(AR10,$AR$5:AR9,0)),MATCH(AR10,$AR$5:AR9,0)-1,"")) | AT10: =IF(AR10="","",IF(AS10="",B10,"")) -> 5 | AU10: =IF(AT10="","",SUMIF(AS$6:AS$505,AT10,AQ$6:AQ$505)+AQ10) -> 4 | AW10: =IFERROR(INDEX(AL$6:AL$505,SMALL($AT$6:$AT$505,$B10),1),"") -> Plants | AX10: =TRIM(SUBSTITUTE(IF(AW10="","",IF(AdvancedTreemap!$G$5="Show",BC10&"; ","")&AY10&"; "&AZ10 &"; "&BA10&"; "&BB10),"; ;","")) -> 3; Corn; Boiled | AY10: =IFERROR(INDEX(AM$6:AM$505,SMALL($AT$6:$AT$505,$B10),1),"") -> Corn | AZ10: =IFERROR(INDEX(AN$6:AN$505,SMALL($AT$6:$AT$505,$B10),1),"") -> Boiled | BA10: =IFERROR(INDEX(AO$6:AO$505,SMALL($AT$6:$AT$505,$B10),1),"") | BB10: =IFERROR(INDEX(AP$6:AP$505,SMALL($AT$6:$AT$505,$B10),1),"") | BC10: =IFERROR(INDEX(AU$6:AU$505,SMALL($AT$6:$AT$505,$B10),1),"") -> 3 | BF10: =IF(AW10="","",IF(AW9<>AW10,AW10,"")) -> Plants | BG10: =IF(BF10="","",SUMIF($AW$6:$AW$505,BF10,$BC$6:$BC$505)) -> 9 | BH10: =IF(AY10="","",IF(OR(AY9<>AY10,AW10<>AW9),AY10,"")) -> Corn | BI10: =IF(BH10="","",SUMIFS($BC$6:$BC$505,$AY$6:$AY$505,BH10,$AW$6:$AW$505,AW10)) -> 4 | BJ10: =IF(AZ10="","",IF(OR(AZ9<>AZ10,AY9<>AY10,AW9<>AW10),AZ10,"")) -> Boiled | BK10: =IF(BJ10="","",SUMIFS($BC$6:$BC$505,$AZ$6:$AZ$505,BJ10,$AW$6:$AW$505,AW10,$AY$6:$AY$505,AY10)) -> 3 | BL10: =IF(BA10="","",IF(OR(BA9<>BA10, AZ9<>AZ10,AY9<>AY10,AW9<>AW10),BA10,"")) | BM10: =IF(BL10="","",SUMIFS($BC$6:$BC$505,$AZ$6:$AZ$505,AZ10,$AW$6:$AW$505,AW10,$AY$6:$AY$505,AY10,$BA$6:$BA$505,BL10)) | BN10: =IF(BB10="","",IF(OR(BB9<>BB10, BA9<>BA10,AZ9<>AZ10,AY9<>AY10,AW9<>AW10),BB10,"")) | BO10: =BC10 -> 3
B11: 6 | C11: =""&INDEX(BasicTreemap!B$6:B$505,$B11,1) -> Animals | D11: =IF(AND(C11<>"",LEN(INDEX(BasicTreemap!C$6:C$505,$B11,1))=0),"-",""&INDEX(BasicTreemap!C$6:C$505,$B11,1)) -> Cows | E11: =IF(INDEX(BasicTreemap!D$6:D$505,$B11,1)="",1,INDEX(BasicTreemap!D$6:D$505,$B11,1)) -> 1 | F11: =IF(C11="","",IFERROR(MATCH(C11,$C$6:C11,0)+MATCH(D11,$D$6:D11,0)/1000 +B11/100000,"")) -> 3.00506 | G11: =IF(F11="","",RANK(F11,$F$6:$F$505,1)) -> 6 | H11: =IF(G11="","",MATCH($B11,$G$6:$G$505,0)) -> 6 | I11: =IF($H11="","",INDEX(C$6:C$505,$H11,1)) -> Animals | J11: =IF($H11="","",INDEX(D$6:D$505,$H11,1)) -> Cows | K11: =IF($H11="","",INDEX(E$6:E$505,$H11,1)) -> 1 | L11: =I11&J11 -> AnimalsCows | M11: =IF(L11="","",IF(ISNUMBER(MATCH(L11,$L$5:L10,0)),MATCH(L11,$L$5:L10,0)-1,"")) -> 5 | N11: =IF(L11="","",IF(M11="",B11,"")) | O11: =IF(N11="","",SUMIF($M$6:$M$505,N11,$K$6:$K$505)+K11) | Q11: =IFERROR(INDEX(I$6:I$505,SMALL($N$6:$N$505,$B11),1),"") -> Plants | R11: =IFERROR(INDEX(J$6:J$505,SMALL($N$6:$N$505,$B11),1),"") -> Sunflower | S11: =IFERROR(INDEX(O$6:O$505,SMALL($N$6:$N$505,$B11),1),"") -> 1 | W11: =IF(Q10<>Q11,Q11,"") -> Plants | X11: =IF(W11="","",SUMIF($Q$6:$Q$505,W11,$S$6:$S$505)) -> 8 | Y11: =R11 -> Sunflower | Z11: =S11 -> 1 | AC11: =""&INDEX(AdvancedTreemap!$B$7:$B$506,$B11,1) -> Animals | AD11: =IF(AD$4="","",IF(AND(LEN(INDEX(AdvancedTreemap!$C$7:$F$506,$B11,AD$4))=0,INDEX($AD$3:$AG$3,1,AD$4)>0),"-",""&INDEX(AdvancedTreemap!$C$7:$F$506,$B11,AD$4))) -> Chickens | AE11: =IF(AE$4="","",IF(AND(LEN(INDEX(AdvancedTreemap!$C$7:$F$506,$B11,AE$4))=0,INDEX($AD$3:$AG$3,1,AE$4)>0),"-",""&INDEX(AdvancedTreemap!$C$7:$F$506,$B11,AE$4))) -> Hean | AF11: =IF(AF$4="","",IF(AND(LEN(INDEX(AdvancedTreemap!$C$7:$F$506,$B11,AF$4))=0,INDEX($AD$3:$AG$3,1,AF$4)>0),"-",""&INDEX(AdvancedTreemap!$C$7:$F$506,$B11,AF$4))) | AG11: =IF(AG$4="","",IF(AND(LEN(INDEX(AdvancedTreemap!$C$7:$F$506,$B11,AG$4))=0,INDEX($AD$3:$AG$3,1,AG$4)>0),"-",""&INDEX(AdvancedTreemap!$C$7:$F$506,$B11,AG$4))) | AH11: =IF(INDEX(AdvancedTreemap!G$7:G$506,$B11,1)="",1,INDEX(AdvancedTreemap!G$7:G$506,$B11,1)) -> 5 | AI11: =IF(AC11="","",IFERROR(MATCH(AC11,$AC$6:AC11,0)+MATCH(AD11,$AD$6:AD11,0)/1000 +MATCH(AE11,$AE$6:AE11,0)/1000000+MATCH(AF11,$AF$6:AF11,0)/100000000+MATCH(AG11,$AG$6:AG11,0)/100000000+B11/100000000000,"")) -> 1.004005 | AJ11: =IF(AI11="","",RANK(AI11,$AI$6:$AI$506,1)) -> 7 | AK11: =IF(AJ11="","",MATCH(ROW(AK6),$AJ$6:$AJ$506,0)) -> 5 | AL11: =IF($AK11="","",INDEX(AC$6:AC$506,$AK11,1)) -> Animals | AM11: =IF($AK11="","",INDEX(AD$6:AD$506,$AK11,1)) -> Chickens | AN11: =IF($AK11="","",INDEX(AE$6:AE$506,$AK11,1)) -> Hean | AO11: =IF($AK11="","",INDEX(AF$6:AF$506,$AK11,1)) | AP11: =IF($AK11="","",INDEX(AG$6:AG$506,$AK11,1)) | AQ11: =IF($AK11="","",INDEX(AH$6:AH$506,$AK11,1)) -> 1 | AR11: =AL11&AM11&AN11&AO11&AP11 -> AnimalsChickensHean | AS11: =IF(AR11="","",IF(ISNUMBER(MATCH(AR11,$AR$5:AR10,0)),MATCH(AR11,$AR$5:AR10,0)-1,"")) | AT11: =IF(AR11="","",IF(AS11="",B11,"")) -> 6 | AU11: =IF(AT11="","",SUMIF(AS$6:AS$505,AT11,AQ$6:AQ$505)+AQ11) -> 6 | AW11: =IFERROR(INDEX(AL$6:AL$505,SMALL($AT$6:$AT$505,$B11),1),"") -> Plants | AX11: =TRIM(SUBSTITUTE(IF(AW11="","",IF(AdvancedTreemap!$G$5="Show",BC11&"; ","")&AY11&"; "&AZ11 &"; "&BA11&"; "&BB11),"; ;","")) -> 1; Corn; Popcorn | AY11: =IFERROR(INDEX(AM$6:AM$505,SMALL($AT$6:$AT$505,$B11),1),"") -> Corn | AZ11: =IFERROR(INDEX(AN$6:AN$505,SMALL($AT$6:$AT$505,$B11),1),"") -> Popcorn | BA11: =IFERROR(INDEX(AO$6:AO$505,SMALL($AT$6:$AT$505,$B11),1),"") | BB11: =IFERROR(INDEX(AP$6:AP$505,SMALL($AT$6:$AT$505,$B11),1),"") | BC11: =IFERROR(INDEX(AU$6:AU$505,SMALL($AT$6:$AT$505,$B11),1),"") -> 1 | BF11: =IF(AW11="","",IF(AW10<>AW11,AW11,"")) | BG11: =IF(BF11="","",SUMIF($AW$6:$AW$505,BF11,$BC$6:$BC$505)) | BH11: =IF(AY11="","",IF(OR(AY10<>AY11,AW11<>AW10),AY11,"")) | BI11: =IF(BH11="","",SUMIFS($BC$6:$BC$505,$AY$6:$AY$505,BH11,$AW$6:$AW$505,AW11)) | BJ11: =IF(AZ11="","",IF(OR(AZ10<>AZ11,AY10<>AY11,AW10<>AW11),AZ11,"")) -> Popcorn | BK11: =IF(BJ11="","",SUMIFS($BC$6:$BC$505,$AZ$6:$AZ$505,BJ11,$AW$6:$AW$505,AW11,$AY$6:$AY$505,AY11)) -> 1 | BL11: =IF(BA11="","",IF(OR(BA10<>BA11, AZ10<>AZ11,AY10<>AY11,AW10<>AW11),BA11,"")) | BM11: =IF(BL11="","",SUMIFS($BC$6:$BC$505,$AZ$6:$AZ$505,AZ11,$AW$6:$AW$505,AW11,$AY$6:$AY$505,AY11,$BA$6:$BA$505,BL11)) | BN11: =IF(BB11="","",IF(OR(BB10<>BB11, BA10<>BA11,AZ10<>AZ11,AY10<>AY11,AW10<>AW11),BB11,"")) | BO11: =BC11 -> 1
B12: 7 | C12: =""&INDEX(BasicTreemap!B$6:B$505,$B12,1) -> Animals | D12: =IF(AND(C12<>"",LEN(INDEX(BasicTreemap!C$6:C$505,$B12,1))=0),"-",""&INDEX(BasicTreemap!C$6:C$505,$B12,1)) -> Chickens | E12: =IF(INDEX(BasicTreemap!D$6:D$505,$B12,1)="",1,INDEX(BasicTreemap!D$6:D$505,$B12,1)) -> 1 | F12: =IF(C12="","",IFERROR(MATCH(C12,$C$6:C12,0)+MATCH(D12,$D$6:D12,0)/1000 +B12/100000,"")) -> 3.00707 | G12: =IF(F12="","",RANK(F12,$F$6:$F$505,1)) -> 7 | H12: =IF(G12="","",MATCH($B12,$G$6:$G$505,0)) -> 7 | I12: =IF($H12="","",INDEX(C$6:C$505,$H12,1)) -> Animals | J12: =IF($H12="","",INDEX(D$6:D$505,$H12,1)) -> Chickens | K12: =IF($H12="","",INDEX(E$6:E$505,$H12,1)) -> 1 | L12: =I12&J12 -> AnimalsChickens | M12: =IF(L12="","",IF(ISNUMBER(MATCH(L12,$L$5:L11,0)),MATCH(L12,$L$5:L11,0)-1,"")) | N12: =IF(L12="","",IF(M12="",B12,"")) -> 7 | O12: =IF(N12="","",SUMIF($M$6:$M$505,N12,$K$6:$K$505)+K12) -> 2 | Q12: =IFERROR(INDEX(I$6:I$505,SMALL($N$6:$N$505,$B12),1),"") -> Plants | R12: =IFERROR(INDEX(J$6:J$505,SMALL($N$6:$N$505,$B12),1),"") -> Corn | S12: =IFERROR(INDEX(O$6:O$505,SMALL($N$6:$N$505,$B12),1),"") -> 3 | W12: =IF(Q11<>Q12,Q12,"") | X12: =IF(W12="","",SUMIF($Q$6:$Q$505,W12,$S$6:$S$505)) | Y12: =R12 -> Corn | Z12: =S12 -> 3 | AC12: =""&INDEX(AdvancedTreemap!$B$7:$B$506,$B12,1) -> Plants | AD12: =IF(AD$4="","",IF(AND(LEN(INDEX(AdvancedTreemap!$C$7:$F$506,$B12,AD$4))=0,INDEX($AD$3:$AG$3,1,AD$4)>0),"-",""&INDEX(AdvancedTreemap!$C$7:$F$506,$B12,AD$4))) -> Corn | AE12: =IF(AE$4="","",IF(AND(LEN(INDEX(AdvancedTreemap!$C$7:$F$506,$B12,AE$4))=0,INDEX($AD$3:$AG$3,1,AE$4)>0),"-",""&INDEX(AdvancedTreemap!$C$7:$F$506,$B12,AE$4))) -> Boiled | AF12: =IF(AF$4="","",IF(AND(LEN(INDEX(AdvancedTreemap!$C$7:$F$506,$B12,AF$4))=0,INDEX($AD$3:$AG$3,1,AF$4)>0),"-",""&INDEX(AdvancedTreemap!$C$7:$F$506,$B12,AF$4))) | AG12: =IF(AG$4="","",IF(AND(LEN(INDEX(AdvancedTreemap!$C$7:$F$506,$B12,AG$4))=0,INDEX($AD$3:$AG$3,1,AG$4)>0),"-",""&INDEX(AdvancedTreemap!$C$7:$F$506,$B12,AG$4))) | AH12: =IF(INDEX(AdvancedTreemap!G$7:G$506,$B12,1)="",1,INDEX(AdvancedTreemap!G$7:G$506,$B12,1)) -> 1 | AI12: =IF(AC12="","",IFERROR(MATCH(AC12,$AC$6:AC12,0)+MATCH(AD12,$AD$6:AD12,0)/1000 +MATCH(AE12,$AE$6:AE12,0)/1000000+MATCH(AF12,$AF$6:AF12,0)/100000000+MATCH(AG12,$AG$6:AG12,0)/100000000+B12/100000000000,"")) -> 7.007007 | AJ12: =IF(AI12="","",RANK(AI12,$AI$6:$AI$506,1)) -> 8 | AK12: =IF(AJ12="","",MATCH(ROW(AK7),$AJ$6:$AJ$506,0)) -> 6 | AL12: =IF($AK12="","",INDEX(AC$6:AC$506,$AK12,1)) -> Animals | AM12: =IF($AK12="","",INDEX(AD$6:AD$506,$AK12,1)) -> Chickens | AN12: =IF($AK12="","",INDEX(AE$6:AE$506,$AK12,1)) -> Hean | AO12: =IF($AK12="","",INDEX(AF$6:AF$506,$AK12,1)) | AP12: =IF($AK12="","",INDEX(AG$6:AG$506,$AK12,1)) | AQ12: =IF($AK12="","",INDEX(AH$6:AH$506,$AK12,1)) -> 5 | AR12: =AL12&AM12&AN12&AO12&AP12 -> AnimalsChickensHean | AS12: =IF(AR12="","",IF(ISNUMBER(MATCH(AR12,$AR$5:AR11,0)),MATCH(AR12,$AR$5:AR11,0)-1,"")) -> 6 | AT12: =IF(AR12="","",IF(AS12="",B12,"")) | AU12: =IF(AT12="","",SUMIF(AS$6:AS$505,AT12,AQ$6:AQ$505)+AQ12) | AW12: =IFERROR(INDEX(AL$6:AL$505,SMALL($AT$6:$AT$505,$B12),1),"") -> Plants | AX12: =TRIM(SUBSTITUTE(IF(AW12="","",IF(AdvancedTreemap!$G$5="Show",BC12&"; ","")&AY12&"; "&AZ12 &"; "&BA12&"; "&BB12),"; ;","")) -> 4; Roses; red | AY12: =IFERROR(INDEX(AM$6:AM$505,SMALL($AT$6:$AT$505,$B12),1),"") -> Roses | AZ12: =IFERROR(INDEX(AN$6:AN$505,SMALL($AT$6:$AT$505,$B12),1),"") -> red | BA12: =IFERROR(INDEX(AO$6:AO$505,SMALL($AT$6:$AT$505,$B12),1),"") | BB12: =IFERROR(INDEX(AP$6:AP$505,SMALL($AT$6:$AT$505,$B12),1),"") | BC12: =IFERROR(INDEX(AU$6:AU$505,SMALL($AT$6:$AT$505,$B12),1),"") -> 4 | BF12: =IF(AW12="","",IF(AW11<>AW12,AW12,"")) | BG12: =IF(BF12="","",SUMIF($AW$6:$AW$505,BF12,$BC$6:$BC$505)) | BH12: =IF(AY12="","",IF(OR(AY11<>AY12,AW12<>AW11),AY12,"")) -> Roses | BI12: =IF(BH12="","",SUMIFS($BC$6:$BC$505,$AY$6:$AY$505,BH12,$AW$6:$AW$505,AW12)) -> 5 | BJ12: =IF(AZ12="","",IF(OR(AZ11<>AZ12,AY11<>AY12,AW11<>AW12),AZ12,"")) -> red | BK12: =IF(BJ12="","",SUMIFS($BC$6:$BC$505,$AZ$6:$AZ$505,BJ12,$AW$6:$AW$505,AW12,$AY$6:$AY$505,AY12)) -> 4 | BL12: =IF(BA12="","",IF(OR(BA11<>BA12, AZ11<>AZ12,AY11<>AY12,AW11<>AW12),BA12,"")) | BM12: =IF(BL12="","",SUMIFS($BC$6:$BC$505,$AZ$6:$AZ$505,AZ12,$AW$6:$AW$505,AW12,$AY$6:$AY$505,AY12,$BA$6:$BA$505,BL12)) | BN12: =IF(BB12="","",IF(OR(BB11<>BB12, BA11<>BA12,AZ11<>AZ12,AY11<>AY12,AW11<>AW12),BB12,"")) | BO12: =BC12 -> 4
B13: 8 | C13: =""&INDEX(BasicTreemap!B$6:B$505,$B13,1) -> Animals | D13: =IF(AND(C13<>"",LEN(INDEX(BasicTreemap!C$6:C$505,$B13,1))=0),"-",""&INDEX(BasicTreemap!C$6:C$505,$B13,1)) -> Chickens | E13: =IF(INDEX(BasicTreemap!D$6:D$505,$B13,1)="",1,INDEX(BasicTreemap!D$6:D$505,$B13,1)) -> 1 | F13: =IF(C13="","",IFERROR(MATCH(C13,$C$6:C13,0)+MATCH(D13,$D$6:D13,0)/1000 +B13/100000,"")) -> 3.00708 | G13: =IF(F13="","",RANK(F13,$F$6:$F$505,1)) -> 8 | H13: =IF(G13="","",MATCH($B13,$G$6:$G$505,0)) -> 8 | I13: =IF($H13="","",INDEX(C$6:C$505,$H13,1)) -> Animals | J13: =IF($H13="","",INDEX(D$6:D$505,$H13,1)) -> Chickens | K13: =IF($H13="","",INDEX(E$6:E$505,$H13,1)) -> 1 | L13: =I13&J13 -> AnimalsChickens | M13: =IF(L13="","",IF(ISNUMBER(MATCH(L13,$L$5:L12,0)),MATCH(L13,$L$5:L12,0)-1,"")) -> 7 | N13: =IF(L13="","",IF(M13="",B13,"")) | O13: =IF(N13="","",SUMIF($M$6:$M$505,N13,$K$6:$K$505)+K13) | Q13: =IFERROR(INDEX(I$6:I$505,SMALL($N$6:$N$505,$B13),1),"") -> Plants | R13: =IFERROR(INDEX(J$6:J$505,SMALL($N$6:$N$505,$B13),1),"") -> Marigold | S13: =IFERROR(INDEX(O$6:O$505,SMALL($N$6:$N$505,$B13),1),"") -> 1 | W13: =IF(Q12<>Q13,Q13,"") | X13: =IF(W13="","",SUMIF($Q$6:$Q$505,W13,$S$6:$S$505)) | Y13: =R13 -> Marigold | Z13: =S13 -> 1 | AC13: =""&INDEX(AdvancedTreemap!$B$7:$B$506,$B13,1) -> Plants | AD13: =IF(AD$4="","",IF(AND(LEN(INDEX(AdvancedTreemap!$C$7:$F$506,$B13,AD$4))=0,INDEX($AD$3:$AG$3,1,AD$4)>0),"-",""&INDEX(AdvancedTreemap!$C$7:$F$506,$B13,AD$4))) -> Corn | AE13: =IF(AE$4="","",IF(AND(LEN(INDEX(AdvancedTreemap!$C$7:$F$506,$B13,AE$4))=0,INDEX($AD$3:$AG$3,1,AE$4)>0),"-",""&INDEX(AdvancedTreemap!$C$7:$F$506,$B13,AE$4))) -> Boiled | AF13: =IF(AF$4="","",IF(AND(LEN(INDEX(AdvancedTreemap!$C$7:$F$506,$B13,AF$4))=0,INDEX($AD$3:$AG$3,1,AF$4)>0),"-",""&INDEX(AdvancedTreemap!$C$7:$F$506,$B13,AF$4))) | AG13: =IF(AG$4="","",IF(AND(LEN(INDEX(AdvancedTreemap!$C$7:$F$506,$B13,AG$4))=0,INDEX($AD$3:$AG$3,1,AG$4)>0),"-",""&INDEX(AdvancedTreemap!$C$7:$F$506,$B13,AG$4))) | AH13: =IF(INDEX(AdvancedTreemap!G$7:G$506,$B13,1)="",1,INDEX(AdvancedTreemap!G$7:G$506,$B13,1)) -> 1 | AI13: =IF(AC13="","",IFERROR(MATCH(AC13,$AC$6:AC13,0)+MATCH(AD13,$AD$6:AD13,0)/1000 +MATCH(AE13,$AE$6:AE13,0)/1000000+MATCH(AF13,$AF$6:AF13,0)/100000000+MATCH(AG13,$AG$6:AG13,0)/100000000+B13/100000000000,"")) -> 7.007007 | AJ13: =IF(AI13="","",RANK(AI13,$AI$6:$AI$506,1)) -> 9 | AK13: =IF(AJ13="","",MATCH(ROW(AK8),$AJ$6:$AJ$506,0)) -> 7 | AL13: =IF($AK13="","",INDEX(AC$6:AC$506,$AK13,1)) -> Plants | AM13: =IF($AK13="","",INDEX(AD$6:AD$506,$AK13,1)) -> Corn | AN13: =IF($AK13="","",INDEX(AE$6:AE$506,$AK13,1)) -> Boiled | AO13: =IF($AK13="","",INDEX(AF$6:AF$506,$AK13,1)) | AP13: =IF($AK13="","",INDEX(AG$6:AG$506,$AK13,1)) | AQ13: =IF($AK13="","",INDEX(AH$6:AH$506,$AK13,1)) -> 1 | AR13: =AL13&AM13&AN13&AO13&AP13 -> PlantsCornBoiled | AS13: =IF(AR13="","",IF(ISNUMBER(MATCH(AR13,$AR$5:AR12,0)),MATCH(AR13,$AR$5:AR12,0)-1,"")) | AT13: =IF(AR13="","",IF(AS13="",B13,"")) -> 8 | AU13: =IF(AT13="","",SUMIF(AS$6:AS$505,AT13,AQ$6:AQ$505)+AQ13) -> 3 | AW13: =IFERROR(INDEX(AL$6:AL$505,SMALL($AT$6:$AT$505,$B13),1),"") -> Plants | AX13: =TRIM(SUBSTITUTE(IF(AW13="","",IF(AdvancedTreemap!$G$5="Show",BC13&"; ","")&AY13&"; "&AZ13 &"; "&BA13&"; "&BB13),"; ;","")) -> 1; Roses; white | AY13: =IFERROR(INDEX(AM$6:AM$505,SMALL($AT$6:$AT$505,$B13),1),"") -> Roses | AZ13: =IFERROR(INDEX(AN$6:AN$505,SMALL($AT$6:$AT$505,$B13),1),"") -> white | BA13: =IFERROR(INDEX(AO$6:AO$505,SMALL($AT$6:$AT$505,$B13),1),"") | BB13: =IFERROR(INDEX(AP$6:AP$505,SMALL($AT$6:$AT$505,$B13),1),"") | BC13: =IFERROR(INDEX(AU$6:AU$505,SMALL($AT$6:$AT$505,$B13),1),"") -> 1 | BF13: =IF(AW13="","",IF(AW12<>AW13,AW13,"")) | BG13: =IF(BF13="","",SUMIF($AW$6:$AW$505,BF13,$BC$6:$BC$505)) | BH13: =IF(AY13="","",IF(OR(AY12<>AY13,AW13<>AW12),AY13,"")) | BI13: =IF(BH13="","",SUMIFS($BC$6:$BC$505,$AY$6:$AY$505,BH13,$AW$6:$AW$505,AW13)) | BJ13: =IF(AZ13="","",IF(OR(AZ12<>AZ13,AY12<>AY13,AW12<>AW13),AZ13,"")) -> white | BK13: =IF(BJ13="","",SUMIFS($BC$6:$BC$505,$AZ$6:$AZ$505,BJ13,$AW$6:$AW$505,AW13,$AY$6:$AY$505,AY13)) -> 1 | BL13: =IF(BA13="","",IF(OR(BA12<>BA13, AZ12<>AZ13,AY12<>AY13,AW12<>AW13),BA13,"")) | BM13: =IF(BL13="","",SUMIFS($BC$6:$BC$505,$AZ$6:$AZ$505,AZ13,$AW$6:$AW$505,AW13,$AY$6:$AY$505,AY13,$BA$6:$BA$505,BL13)) | BN13: =IF(BB13="","",IF(OR(BB12<>BB13, BA12<>BA13,AZ12<>AZ13,AY12<>AY13,AW12<>AW13),BB13,"")) | BO13: =BC13 -> 1
B14: 9 | C14: =""&INDEX(BasicTreemap!B$6:B$505,$B14,1) -> Plants | D14: =IF(AND(C14<>"",LEN(INDEX(BasicTreemap!C$6:C$505,$B14,1))=0),"-",""&INDEX(BasicTreemap!C$6:C$505,$B14,1)) -> Sunflower | E14: =IF(INDEX(BasicTreemap!D$6:D$505,$B14,1)="",1,INDEX(BasicTreemap!D$6:D$505,$B14,1)) -> 1 | F14: =IF(C14="","",IFERROR(MATCH(C14,$C$6:C14,0)+MATCH(D14,$D$6:D14,0)/1000 +B14/100000,"")) -> 9.00909 | G14: =IF(F14="","",RANK(F14,$F$6:$F$505,1)) -> 9 | H14: =IF(G14="","",MATCH($B14,$G$6:$G$505,0)) -> 9 | I14: =IF($H14="","",INDEX(C$6:C$505,$H14,1)) -> Plants | J14: =IF($H14="","",INDEX(D$6:D$505,$H14,1)) -> Sunflower | K14: =IF($H14="","",INDEX(E$6:E$505,$H14,1)) -> 1 | L14: =I14&J14 -> PlantsSunflower | M14: =IF(L14="","",IF(ISNUMBER(MATCH(L14,$L$5:L13,0)),MATCH(L14,$L$5:L13,0)-1,"")) | N14: =IF(L14="","",IF(M14="",B14,"")) -> 9 | O14: =IF(N14="","",SUMIF($M$6:$M$505,N14,$K$6:$K$505)+K14) -> 1 | Q14: =IFERROR(INDEX(I$6:I$505,SMALL($N$6:$N$505,$B14),1),"") -> Plants | R14: =IFERROR(INDEX(J$6:J$505,SMALL($N$6:$N$505,$B14),1),"") -> Roses | S14: =IFERROR(INDEX(O$6:O$505,SMALL($N$6:$N$505,$B14),1),"") -> 3 | W14: =IF(Q13<>Q14,Q14,"") | X14: =IF(W14="","",SUMIF($Q$6:$Q$505,W14,$S$6:$S$505)) | Y14: =R14 -> Roses | Z14: =S14 -> 3 | AC14: =""&INDEX(AdvancedTreemap!$B$7:$B$506,$B14,1) -> Plants | AD14: =IF(AD$4="","",IF(AND(LEN(INDEX(AdvancedTreemap!$C$7:$F$506,$B14,AD$4))=0,INDEX($AD$3:$AG$3,1,AD$4)>0),"-",""&INDEX(AdvancedTreemap!$C$7:$F$506,$B14,AD$4))) -> Corn | AE14: =IF(AE$4="","",IF(AND(LEN(INDEX(AdvancedTreemap!$C$7:$F$506,$B14,AE$4))=0,INDEX($AD$3:$AG$3,1,AE$4)>0),"-",""&INDEX(AdvancedTreemap!$C$7:$F$506,$B14,AE$4))) -> Boiled | AF14: =IF(AF$4="","",IF(AND(LEN(INDEX(AdvancedTreemap!$C$7:$F$506,$B14,AF$4))=0,INDEX($AD$3:$AG$3,1,AF$4)>0),"-",""&INDEX(AdvancedTreemap!$C$7:$F$506,$B14,AF$4))) | AG14: =IF(AG$4="","",IF(AND(LEN(INDEX(AdvancedTreemap!$C$7:$F$506,$B14,AG$4))=0,INDEX($AD$3:$AG$3,1,AG$4)>0),"-",""&INDEX(AdvancedTreemap!$C$7:$F$506,$B14,AG$4))) | AH14: =IF(INDEX(AdvancedTreemap!G$7:G$506,$B14,1)="",1,INDEX(AdvancedTreemap!G$7:G$506,$B14,1)) -> 1 | AI14: =IF(AC14="","",IFERROR(MATCH(AC14,$AC$6:AC14,0)+MATCH(AD14,$AD$6:AD14,0)/1000 +MATCH(AE14,$AE$6:AE14,0)/1000000+MATCH(AF14,$AF$6:AF14,0)/100000000+MATCH(AG14,$AG$6:AG14,0)/100000000+B14/100000000000,"")) -> 7.007007 | AJ14: =IF(AI14="","",RANK(AI14,$AI$6:$AI$506,1)) -> 10 | AK14: =IF(AJ14="","",MATCH(ROW(AK9),$AJ$6:$AJ$506,0)) -> 8 | AL14: =IF($AK14="","",INDEX(AC$6:AC$506,$AK14,1)) -> Plants | AM14: =IF($AK14="","",INDEX(AD$6:AD$506,$AK14,1)) -> Corn | AN14: =IF($AK14="","",INDEX(AE$6:AE$506,$AK14,1)) -> Boiled | AO14: =IF($AK14="","",INDEX(AF$6:AF$506,$AK14,1)) | AP14: =IF($AK14="","",INDEX(AG$6:AG$506,$AK14,1)) | AQ14: =IF($AK14="","",INDEX(AH$6:AH$506,$AK14,1)) -> 1 | AR14: =AL14&AM14&AN14&AO14&AP14 -> PlantsCornBoiled | AS14: =IF(AR14="","",IF(ISNUMBER(MATCH(AR14,$AR$5:AR13,0)),MATCH(AR14,$AR$5:AR13,0)-1,"")) -> 8 | AT14: =IF(AR14="","",IF(AS14="",B14,"")) | AU14: =IF(AT14="","",SUMIF(AS$6:AS$505,AT14,AQ$6:AQ$505)+AQ14) | AW14: =IFERROR(INDEX(AL$6:AL$505,SMALL($AT$6:$AT$505,$B14),1),"") -> Pets | AX14: =TRIM(SUBSTITUTE(IF(AW14="","",IF(AdvancedTreemap!$G$5="Show",BC14&"; ","")&AY14&"; "&AZ14 &"; "&BA14&"; "&BB14),"; ;","")) -> 7; Cats; home | AY14: =IFERROR(INDEX(AM$6:AM$505,SMALL($AT$6:$AT$505,$B14),1),"") -> Cats | AZ14: =IFERROR(INDEX(AN$6:AN$505,SMALL($AT$6:$AT$505,$B14),1),"") -> home | BA14: =IFERROR(INDEX(AO$6:AO$505,SMALL($AT$6:$AT$505,$B14),1),"") | BB14: =IFERROR(INDEX(AP$6:AP$505,SMALL($AT$6:$AT$505,$B14),1),"") | BC14: =IFERROR(INDEX(AU$6:AU$505,SMALL($AT$6:$AT$505,$B14),1),"") -> 7 | BF14: =IF(AW14="","",IF(AW13<>AW14,AW14,"")) -> Pets | BG14: =IF(BF14="","",SUMIF($AW$6:$AW$505,BF14,$BC$6:$BC$505)) -> 10 | BH14: =IF(AY14="","",IF(OR(AY13<>AY14,AW14<>AW13),AY14,"")) -> Cats | BI14: =IF(BH14="","",SUMIFS($BC$6:$BC$505,$AY$6:$AY$505,BH14,$AW$6:$AW$505,AW14)) -> 7 | BJ14: =IF(AZ14="","",IF(OR(AZ13<>AZ14,AY13<>AY14,AW13<>AW14),AZ14,"")) -> home | BK14: =IF(BJ14="","",SUMIFS($BC$6:$BC$505,$AZ$6:$AZ$505,BJ14,$AW$6:$AW$505,AW14,$AY$6:$AY$505,AY14)) -> 7 | BL14: =IF(BA14="","",IF(OR(BA13<>BA14, AZ13<>AZ14,AY13<>AY14,AW13<>AW14),BA14,"")) | BM14: =IF(BL14="","",SUMIFS($BC$6:$BC$505,$AZ$6:$AZ$505,AZ14,$AW$6:$AW$505,AW14,$AY$6:$AY$505,AY14,$BA$6:$BA$505,BL14)) | BN14: =IF(BB14="","",IF(OR(BB13<>BB14, BA13<>BA14,AZ13<>AZ14,AY13<>AY14,AW13<>AW14),BB14,"")) | BO14: =BC14 -> 7
B15: 10 | C15: =""&INDEX(BasicTreemap!B$6:B$505,$B15,1) -> Plants | D15: =IF(AND(C15<>"",LEN(INDEX(BasicTreemap!C$6:C$505,$B15,1))=0),"-",""&INDEX(BasicTreemap!C$6:C$505,$B15,1)) -> Corn | E15: =IF(INDEX(BasicTreemap!D$6:D$505,$B15,1)="",1,INDEX(BasicTreemap!D$6:D$505,$B15,1)) -> 1 | F15: =IF(C15="","",IFERROR(MATCH(C15,$C$6:C15,0)+MATCH(D15,$D$6:D15,0)/1000 +B15/100000,"")) -> 9.0101 | G15: =IF(F15="","",RANK(F15,$F$6:$F$505,1)) -> 10 | H15: =IF(G15="","",MATCH($B15,$G$6:$G$505,0)) -> 10 | I15: =IF($H15="","",INDEX(C$6:C$505,$H15,1)) -> Plants | J15: =IF($H15="","",INDEX(D$6:D$505,$H15,1)) -> Corn | K15: =IF($H15="","",INDEX(E$6:E$505,$H15,1)) -> 1 | L15: =I15&J15 -> PlantsCorn | M15: =IF(L15="","",IF(ISNUMBER(MATCH(L15,$L$5:L14,0)),MATCH(L15,$L$5:L14,0)-1,"")) | N15: =IF(L15="","",IF(M15="",B15,"")) -> 10 | O15: =IF(N15="","",SUMIF($M$6:$M$505,N15,$K$6:$K$505)+K15) -> 3 | Q15: =IFERROR(INDEX(I$6:I$505,SMALL($N$6:$N$505,$B15),1),"") -> Mushrooms | R15: =IFERROR(INDEX(J$6:J$505,SMALL($N$6:$N$505,$B15),1),"") -> Champignons | S15: =IFERROR(INDEX(O$6:O$505,SMALL($N$6:$N$505,$B15),1),"") -> 2 | W15: =IF(Q14<>Q15,Q15,"") -> Mushrooms | X15: =IF(W15="","",SUMIF($Q$6:$Q$505,W15,$S$6:$S$505)) -> 2 | Y15: =R15 -> Champignons | Z15: =S15 -> 2 | AC15: =""&INDEX(AdvancedTreemap!$B$7:$B$506,$B15,1) -> Plants | AD15: =IF(AD$4="","",IF(AND(LEN(INDEX(AdvancedTreemap!$C$7:$F$506,$B15,AD$4))=0,INDEX($AD$3:$AG$3,1,AD$4)>0),"-",""&INDEX(AdvancedTreemap!$C$7:$F$506,$B15,AD$4))) -> Corn | AE15: =IF(AE$4="","",IF(AND(LEN(INDEX(AdvancedTreemap!$C$7:$F$506,$B15,AE$4))=0,INDEX($AD$3:$AG$3,1,AE$4)>0),"-",""&INDEX(AdvancedTreemap!$C$7:$F$506,$B15,AE$4))) -> Popcorn | AF15: =IF(AF$4="","",IF(AND(LEN(INDEX(AdvancedTreemap!$C$7:$F$506,$B15,AF$4))=0,INDEX($AD$3:$AG$3,1,AF$4)>0),"-",""&INDEX(AdvancedTreemap!$C$7:$F$506,$B15,AF$4))) | AG15: =IF(AG$4="","",IF(AND(LEN(INDEX(AdvancedTreemap!$C$7:$F$506,$B15,AG$4))=0,INDEX($AD$3:$AG$3,1,AG$4)>0),"-",""&INDEX(AdvancedTreemap!$C$7:$F$506,$B15,AG$4))) | AH15: =IF(INDEX(AdvancedTreemap!G$7:G$506,$B15,1)="",1,INDEX(AdvancedTreemap!G$7:G$506,$B15,1)) -> 1 | AI15: =IF(AC15="","",IFERROR(MATCH(AC15,$AC$6:AC15,0)+MATCH(AD15,$AD$6:AD15,0)/1000 +MATCH(AE15,$AE$6:AE15,0)/1000000+MATCH(AF15,$AF$6:AF15,0)/100000000+MATCH(AG15,$AG$6:AG15,0)/100000000+B15/100000000000,"")) -> 7.00701 | AJ15: =IF(AI15="","",RANK(AI15,$AI$6:$AI$506,1)) -> 11 | AK15: =IF(AJ15="","",MATCH(ROW(AK10),$AJ$6:$AJ$506,0)) -> 9 | AL15: =IF($AK15="","",INDEX(AC$6:AC$506,$AK15,1)) -> Plants | AM15: =IF($AK15="","",INDEX(AD$6:AD$506,$AK15,1)) -> Corn | AN15: =IF($AK15="","",INDEX(AE$6:AE$506,$AK15,1)) -> Boiled | AO15: =IF($AK15="","",INDEX(AF$6:AF$506,$AK15,1)) | AP15: =IF($AK15="","",INDEX(AG$6:AG$506,$AK15,1)) | AQ15: =IF($AK15="","",INDEX(AH$6:AH$506,$AK15,1)) -> 1 | AR15: =AL15&AM15&AN15&AO15&AP15 -> PlantsCornBoiled | AS15: =IF(AR15="","",IF(ISNUMBER(MATCH(AR15,$AR$5:AR14,0)),MATCH(AR15,$AR$5:AR14,0)-1,"")) -> 8 | AT15: =IF(AR15="","",IF(AS15="",B15,"")) | AU15: =IF(AT15="","",SUMIF(AS$6:AS$505,AT15,AQ$6:AQ$505)+AQ15) | AW15: =IFERROR(INDEX(AL$6:AL$505,SMALL($AT$6:$AT$505,$B15),1),"") -> Pets | AX15: =TRIM(SUBSTITUTE(IF(AW15="","",IF(AdvancedTreemap!$G$5="Show",BC15&"; ","")&AY15&"; "&AZ15 &"; "&BA15&"; "&BB15),"; ;","")) -> 3; Dogs; shelter | AY15: =IFERROR(INDEX(AM$6:AM$505,SMALL($AT$6:$AT$505,$B15),1),"") -> Dogs | AZ15: =IFERROR(INDEX(AN$6:AN$505,SMALL($AT$6:$AT$505,$B15),1),"") -> shelter | BA15: =IFERROR(INDEX(AO$6:AO$505,SMALL($AT$6:$AT$505,$B15),1),"") | BB15: =IFERROR(INDEX(AP$6:AP$505,SMALL($AT$6:$AT$505,$B15),1),"") | BC15: =IFERROR(INDEX(AU$6:AU$505,SMALL($AT$6:$AT$505,$B15),1),"") -> 3 | BF15: =IF(AW15="","",IF(AW14<>AW15,AW15,"")) | BG15: =IF(BF15="","",SUMIF($AW$6:$AW$505,BF15,$BC$6:$BC$505)) | BH15: =IF(AY15="","",IF(OR(AY14<>AY15,AW15<>AW14),AY15,"")) -> Dogs | BI15: =IF(BH15="","",SUMIFS($BC$6:$BC$505,$AY$6:$AY$505,BH15,$AW$6:$AW$505,AW15)) -> 3 | BJ15: =IF(AZ15="","",IF(OR(AZ14<>AZ15,AY14<>AY15,AW14<>AW15),AZ15,"")) -> shelter | BK15: =IF(BJ15="","",SUMIFS($BC$6:$BC$505,$AZ$6:$AZ$505,BJ15,$AW$6:$AW$505,AW15,$AY$6:$AY$505,AY15)) -> 3 | BL15: =IF(BA15="","",IF(OR(BA14<>BA15, AZ14<>AZ15,AY14<>AY15,AW14<>AW15),BA15,"")) | BM15: =IF(BL15="","",SUMIFS($BC$6:$BC$505,$AZ$6:$AZ$505,AZ15,$AW$6:$AW$505,AW15,$AY$6:$AY$505,AY15,$BA$6:$BA$505,BL15)) | BN15: =IF(BB15="","",IF(OR(BB14<>BB15, BA14<>BA15,AZ14<>AZ15,AY14<>AY15,AW14<>AW15),BB15,"")) | BO15: =BC15 -> 3
B16: 11 | C16: =""&INDEX(BasicTreemap!B$6:B$505,$B16,1) -> Plants | D16: =IF(AND(C16<>"",LEN(INDEX(BasicTreemap!C$6:C$505,$B16,1))=0),"-",""&INDEX(BasicTreemap!C$6:C$505,$B16,1)) -> Corn | E16: =IF(INDEX(BasicTreemap!D$6:D$505,$B16,1)="",1,INDEX(BasicTreemap!D$6:D$505,$B16,1)) -> 1 | F16: =IF(C16="","",IFERROR(MATCH(C16,$C$6:C16,0)+MATCH(D16,$D$6:D16,0)/1000 +B16/100000,"")) -> 9.01011 | G16: =IF(F16="","",RANK(F16,$F$6:$F$505,1)) -> 11 | H16: =IF(G16="","",MATCH($B16,$G$6:$G$505,0)) -> 11 | I16: =IF($H16="","",INDEX(C$6:C$505,$H16,1)) -> Plants | J16: =IF($H16="","",INDEX(D$6:D$505,$H16,1)) -> Corn | K16: =IF($H16="","",INDEX(E$6:E$505,$H16,1)) -> 1 | L16: =I16&J16 -> PlantsCorn | M16: =IF(L16="","",IF(ISNUMBER(MATCH(L16,$L$5:L15,0)),MATCH(L16,$L$5:L15,0)-1,"")) -> 10 | N16: =IF(L16="","",IF(M16="",B16,"")) | O16: =IF(N16="","",SUMIF($M$6:$M$505,N16,$K$6:$K$505)+K16) | Q16: =IFERROR(INDEX(I$6:I$505,SMALL($N$6:$N$505,$B16),1),"") | R16: =IFERROR(INDEX(J$6:J$505,SMALL($N$6:$N$505,$B16),1),"") | S16: =IFERROR(INDEX(O$6:O$505,SMALL($N$6:$N$505,$B16),1),"") | W16: =IF(Q15<>Q16,Q16,"") | X16: =IF(W16="","",SUMIF($Q$6:$Q$505,W16,$S$6:$S$505)) | Y16: =R16 | Z16: =S16 | AC16: =""&INDEX(AdvancedTreemap!$B$7:$B$506,$B16,1) -> Plants | AD16: =IF(AD$4="","",IF(AND(LEN(INDEX(AdvancedTreemap!$C$7:$F$506,$B16,AD$4))=0,INDEX($AD$3:$AG$3,1,AD$4)>0),"-",""&INDEX(AdvancedTreemap!$C$7:$F$506,$B16,AD$4))) -> Roses | AE16: =IF(AE$4="","",IF(AND(LEN(INDEX(AdvancedTreemap!$C$7:$F$506,$B16,AE$4))=0,INDEX($AD$3:$AG$3,1,AE$4)>0),"-",""&INDEX(AdvancedTreemap!$C$7:$F$506,$B16,AE$4))) -> red | AF16: =IF(AF$4="","",IF(AND(LEN(INDEX(AdvancedTreemap!$C$7:$F$506,$B16,AF$4))=0,INDEX($AD$3:$AG$3,1,AF$4)>0),"-",""&INDEX(AdvancedTreemap!$C$7:$F$506,$B16,AF$4))) | AG16: =IF(AG$4="","",IF(AND(LEN(INDEX(AdvancedTreemap!$C$7:$F$506,$B16,AG$4))=0,INDEX($AD$3:$AG$3,1,AG$4)>0),"-",""&INDEX(AdvancedTreemap!$C$7:$F$506,$B16,AG$4))) | AH16: =IF(INDEX(AdvancedTreemap!G$7:G$506,$B16,1)="",1,INDEX(AdvancedTreemap!G$7:G$506,$B16,1)) -> 1 | AI16: =IF(AC16="","",IFERROR(MATCH(AC16,$AC$6:AC16,0)+MATCH(AD16,$AD$6:AD16,0)/1000 +MATCH(AE16,$AE$6:AE16,0)/1000000+MATCH(AF16,$AF$6:AF16,0)/100000000+MATCH(AG16,$AG$6:AG16,0)/100000000+B16/100000000000,"")) -> 7.011011 | AJ16: =IF(AI16="","",RANK(AI16,$AI$6:$AI$506,1)) -> 12 | AK16: =IF(AJ16="","",MATCH(ROW(AK11),$AJ$6:$AJ$506,0)) -> 10 | AL16: =IF($AK16="","",INDEX(AC$6:AC$506,$AK16,1)) -> Plants | AM16: =IF($AK16="","",INDEX(AD$6:AD$506,$AK16,1)) -> Corn | AN16: =IF($AK16="","",INDEX(AE$6:AE$506,$AK16,1)) -> Popcorn | AO16: =IF($AK16="","",INDEX(AF$6:AF$506,$AK16,1)) | AP16: =IF($AK16="","",INDEX(AG$6:AG$506,$AK16,1)) | AQ16: =IF($AK16="","",INDEX(AH$6:AH$506,$AK16,1)) -> 1 | AR16: =AL16&AM16&AN16&AO16&AP16 -> PlantsCornPopcorn | AS16: =IF(AR16="","",IF(ISNUMBER(MATCH(AR16,$AR$5:AR15,0)),MATCH(AR16,$AR$5:AR15,0)-1,"")) | AT16: =IF(AR16="","",IF(AS16="",B16,"")) -> 11 | AU16: =IF(AT16="","",SUMIF(AS$6:AS$505,AT16,AQ$6:AQ$505)+AQ16) -> 1 | AW16: =IFERROR(INDEX(AL$6:AL$505,SMALL($AT$6:$AT$505,$B16),1),"") | AX16: =TRIM(SUBSTITUTE(IF(AW16="","",IF(AdvancedTreemap!$G$5="Show",BC16&"; ","")&AY16&"; "&AZ16 &"; "&BA16&"; "&BB16),"; ;","")) | AY16: =IFERROR(INDEX(AM$6:AM$505,SMALL($AT$6:$AT$505,$B16),1),"") | AZ16: =IFERROR(INDEX(AN$6:AN$505,SMALL($AT$6:$AT$505,$B16),1),"") | BA16: =IFERROR(INDEX(AO$6:AO$505,SMALL($AT$6:$AT$505,$B16),1),"") | BB16: =IFERROR(INDEX(AP$6:AP$505,SMALL($AT$6:$AT$505,$B16),1),"") | BC16: =IFERROR(INDEX(AU$6:AU$505,SMALL($AT$6:$AT$505,$B16),1),"") | BF16: =IF(AW16="","",IF(AW15<>AW16,AW16,"")) | BG16: =IF(BF16="","",SUMIF($AW$6:$AW$505,BF16,$BC$6:$BC$505)) | BH16: =IF(AY16="","",IF(OR(AY15<>AY16,AW16<>AW15),AY16,"")) | BI16: =IF(BH16="","",SUMIFS($BC$6:$BC$505,$AY$6:$AY$505,BH16,$AW$6:$AW$505,AW16)) | BJ16: =IF(AZ16="","",IF(OR(AZ15<>AZ16,AY15<>AY16,AW15<>AW16),AZ16,"")) | BK16: =IF(BJ16="","",SUMIFS($BC$6:$BC$505,$AZ$6:$AZ$505,BJ16,$AW$6:$AW$505,AW16,$AY$6:$AY$505,AY16)) | BL16: =IF(BA16="","",IF(OR(BA15<>BA16, AZ15<>AZ16,AY15<>AY16,AW15<>AW16),BA16,"")) | BM16: =IF(BL16="","",SUMIFS($BC$6:$BC$505,$AZ$6:$AZ$505,AZ16,$AW$6:$AW$505,AW16,$AY$6:$AY$505,AY16,$BA$6:$BA$505,BL16)) | BN16: =IF(BB16="","",IF(OR(BB15<>BB16, BA15<>BA16,AZ15<>AZ16,AY15<>AY16,AW15<>AW16),BB16,"")) | BO16: =BC16
B17: 12 | C17: =""&INDEX(BasicTreemap!B$6:B$505,$B17,1) -> Plants | D17: =IF(AND(C17<>"",LEN(INDEX(BasicTreemap!C$6:C$505,$B17,1))=0),"-",""&INDEX(BasicTreemap!C$6:C$505,$B17,1)) -> Corn | E17: =IF(INDEX(BasicTreemap!D$6:D$505,$B17,1)="",1,INDEX(BasicTreemap!D$6:D$505,$B17,1)) -> 1 | F17: =IF(C17="","",IFERROR(MATCH(C17,$C$6:C17,0)+MATCH(D17,$D$6:D17,0)/1000 +B17/100000,"")) -> 9.01012 | G17: =IF(F17="","",RANK(F17,$F$6:$F$505,1)) -> 12 | H17: =IF(G17="","",MATCH($B17,$G$6:$G$505,0)) -> 12 | I17: =IF($H17="","",INDEX(C$6:C$505,$H17,1)) -> Plants | J17: =IF($H17="","",INDEX(D$6:D$505,$H17,1)) -> Corn | K17: =IF($H17="","",INDEX(E$6:E$505,$H17,1)) -> 1 | L17: =I17&J17 -> PlantsCorn | M17: =IF(L17="","",IF(ISNUMBER(MATCH(L17,$L$5:L16,0)),MATCH(L17,$L$5:L16,0)-1,"")) -> 10 | N17: =IF(L17="","",IF(M17="",B17,"")) | O17: =IF(N17="","",SUMIF($M$6:$M$505,N17,$K$6:$K$505)+K17) | Q17: =IFERROR(INDEX(I$6:I$505,SMALL($N$6:$N$505,$B17),1),"") | R17: =IFERROR(INDEX(J$6:J$505,SMALL($N$6:$N$505,$B17),1),"") | S17: =IFERROR(INDEX(O$6:O$505,SMALL($N$6:$N$505,$B17),1),"") | W17: =IF(Q16<>Q17,Q17,"") | X17: =IF(W17="","",SUMIF($Q$6:$Q$505,W17,$S$6:$S$505)) | Y17: =R17 | Z17: =S17 | AC17: =""&INDEX(AdvancedTreemap!$B$7:$B$506,$B17,1) -> Plants | AD17: =IF(AD$4="","",IF(AND(LEN(INDEX(AdvancedTreemap!$C$7:$F$506,$B17,AD$4))=0,INDEX($AD$3:$AG$3,1,AD$4)>0),"-",""&INDEX(AdvancedTreemap!$C$7:$F$506,$B17,AD$4))) -> Roses | AE17: =IF(AE$4="","",IF(AND(LEN(INDEX(AdvancedTreemap!$C$7:$F$506,$B17,AE$4))=0,INDEX($AD$3:$AG$3,1,AE$4)>0),"-",""&INDEX(AdvancedTreemap!$C$7:$F$506,$B17,AE$4))) -> white | AF17: =IF(AF$4="","",IF(AND(LEN(INDEX(AdvancedTreemap!$C$7:$F$506,$B17,AF$4))=0,INDEX($AD$3:$AG$3,1,AF$4)>0),"-",""&INDEX(AdvancedTreemap!$C$7:$F$506,$B17,AF$4))) | AG17: =IF(AG$4="","",IF(AND(LEN(INDEX(AdvancedTreemap!$C$7:$F$506,$B17,AG$4))=0,INDEX($AD$3:$AG$3,1,AG$4)>0),"-",""&INDEX(AdvancedTreemap!$C$7:$F$506,$B17,AG$4))) | AH17: =IF(INDEX(AdvancedTreemap!G$7:G$506,$B17,1)="",1,INDEX(AdvancedTreemap!G$7:G$506,$B17,1)) -> 1 | AI17: =IF(AC17="","",IFERROR(MATCH(AC17,$AC$6:AC17,0)+MATCH(AD17,$AD$6:AD17,0)/1000 +MATCH(AE17,$AE$6:AE17,0)/1000000+MATCH(AF17,$AF$6:AF17,0)/100000000+MATCH(AG17,$AG$6:AG17,0)/100000000+B17/100000000000,"")) -> 7.011012 | AJ17: =IF(AI17="","",RANK(AI17,$AI$6:$AI$506,1)) -> 15 | AK17: =IF(AJ17="","",MATCH(ROW(AK12),$AJ$6:$AJ$506,0)) -> 11 | AL17: =IF($AK17="","",INDEX(AC$6:AC$506,$AK17,1)) -> Plants | AM17: =IF($AK17="","",INDEX(AD$6:AD$506,$AK17,1)) -> Roses | AN17: =IF($AK17="","",INDEX(AE$6:AE$506,$AK17,1)) -> red | AO17: =IF($AK17="","",INDEX(AF$6:AF$506,$AK17,1)) | AP17: =IF($AK17="","",INDEX(AG$6:AG$506,$AK17,1)) | AQ17: =IF($AK17="","",INDEX(AH$6:AH$506,$AK17,1)) -> 1 | AR17: =AL17&AM17&AN17&AO17&AP17 -> PlantsRosesred | AS17: =IF(AR17="","",IF(ISNUMBER(MATCH(AR17,$AR$5:AR16,0)),MATCH(AR17,$AR$5:AR16,0)-1,"")) | AT17: =IF(AR17="","",IF(AS17="",B17,"")) -> 12 | AU17: =IF(AT17="","",SUMIF(AS$6:AS$505,AT17,AQ$6:AQ$505)+AQ17) -> 4 | AW17: =IFERROR(INDEX(AL$6:AL$505,SMALL($AT$6:$AT$505,$B17),1),"") | AX17: =TRIM(SUBSTITUTE(IF(AW17="","",IF(AdvancedTreemap!$G$5="Show",BC17&"; ","")&AY17&"; "&AZ17 &"; "&BA17&"; "&BB17),"; ;","")) | AY17: =IFERROR(INDEX(AM$6:AM$505,SMALL($AT$6:$AT$505,$B17),1),"") | AZ17: =IFERROR(INDEX(AN$6:AN$505,SMALL($AT$6:$AT$505,$B17),1),"") | BA17: =IFERROR(INDEX(AO$6:AO$505,SMALL($AT$6:$AT$505,$B17),1),"") | BB17: =IFERROR(INDEX(AP$6:AP$505,SMALL($AT$6:$AT$505,$B17),1),"") | BC17: =IFERROR(INDEX(AU$6:AU$505,SMALL($AT$6:$AT$505,$B17),1),"") | BF17: =IF(AW17="","",IF(AW16<>AW17,AW17,"")) | BG17: =IF(BF17="","",SUMIF($AW$6:$AW$505,BF17,$BC$6:$BC$505)) | BH17: =IF(AY17="","",IF(OR(AY16<>AY17,AW17<>AW16),AY17,"")) | BI17: =IF(BH17="","",SUMIFS($BC$6:$BC$505,$AY$6:$AY$505,BH17,$AW$6:$AW$505,AW17)) | BJ17: =IF(AZ17="","",IF(OR(AZ16<>AZ17,AY16<>AY17,AW16<>AW17),AZ17,"")) | BK17: =IF(BJ17="","",SUMIFS($BC$6:$BC$505,$AZ$6:$AZ$505,BJ17,$AW$6:$AW$505,AW17,$AY$6:$AY$505,AY17)) | BL17: =IF(BA17="","",IF(OR(BA16<>BA17, AZ16<>AZ17,AY16<>AY17,AW16<>AW17),BA17,"")) | BM17: =IF(BL17="","",SUMIFS($BC$6:$BC$505,$AZ$6:$AZ$505,AZ17,$AW$6:$AW$505,AW17,$AY$6:$AY$505,AY17,$BA$6:$BA$505,BL17)) | BN17: =IF(BB17="","",IF(OR(BB16<>BB17, BA16<>BA17,AZ16<>AZ17,AY16<>AY17,AW16<>AW17),BB17,"")) | BO17: =BC17
B18: 13 | C18: =""&INDEX(BasicTreemap!B$6:B$505,$B18,1) -> Plants | D18: =IF(AND(C18<>"",LEN(INDEX(BasicTreemap!C$6:C$505,$B18,1))=0),"-",""&INDEX(BasicTreemap!C$6:C$505,$B18,1)) -> Marigold | E18: =IF(INDEX(BasicTreemap!D$6:D$505,$B18,1)="",1,INDEX(BasicTreemap!D$6:D$505,$B18,1)) -> 1 | F18: =IF(C18="","",IFERROR(MATCH(C18,$C$6:C18,0)+MATCH(D18,$D$6:D18,0)/1000 +B18/100000,"")) -> 9.01313 | G18: =IF(F18="","",RANK(F18,$F$6:$F$505,1)) -> 13 | H18: =IF(G18="","",MATCH($B18,$G$6:$G$505,0)) -> 13 | I18: =IF($H18="","",INDEX(C$6:C$505,$H18,1)) -> Plants | J18: =IF($H18="","",INDEX(D$6:D$505,$H18,1)) -> Marigold | K18: =IF($H18="","",INDEX(E$6:E$505,$H18,1)) -> 1 | L18: =I18&J18 -> PlantsMarigold | M18: =IF(L18="","",IF(ISNUMBER(MATCH(L18,$L$5:L17,0)),MATCH(L18,$L$5:L17,0)-1,"")) | N18: =IF(L18="","",IF(M18="",B18,"")) -> 13 | O18: =IF(N18="","",SUMIF($M$6:$M$505,N18,$K$6:$K$505)+K18) -> 1 | Q18: =IFERROR(INDEX(I$6:I$505,SMALL($N$6:$N$505,$B18),1),"") | R18: =IFERROR(INDEX(J$6:J$505,SMALL($N$6:$N$505,$B18),1),"") | S18: =IFERROR(INDEX(O$6:O$505,SMALL($N$6:$N$505,$B18),1),"") | W18: =IF(Q17<>Q18,Q18,"") | X18: =IF(W18="","",SUMIF($Q$6:$Q$505,W18,$S$6:$S$505)) | Y18: =R18 | Z18: =S18 | AC18: =""&INDEX(AdvancedTreemap!$B$7:$B$506,$B18,1) -> Plants | AD18: =IF(AD$4="","",IF(AND(LEN(INDEX(AdvancedTreemap!$C$7:$F$506,$B18,AD$4))=0,INDEX($AD$3:$AG$3,1,AD$4)>0),"-",""&INDEX(AdvancedTreemap!$C$7:$F$506,$B18,AD$4))) -> Roses | AE18: =IF(AE$4="","",IF(AND(LEN(INDEX(AdvancedTreemap!$C$7:$F$506,$B18,AE$4))=0,INDEX($AD$3:$AG$3,1,AE$4)>0),"-",""&INDEX(AdvancedTreemap!$C$7:$F$506,$B18,AE$4))) -> red | AF18: =IF(AF$4="","",IF(AND(LEN(INDEX(AdvancedTreemap!$C$7:$F$506,$B18,AF$4))=0,INDEX($AD$3:$AG$3,1,AF$4)>0),"-",""&INDEX(AdvancedTreemap!$C$7:$F$506,$B18,AF$4))) | AG18: =IF(AG$4="","",IF(AND(LEN(INDEX(AdvancedTreemap!$C$7:$F$506,$B18,AG$4))=0,INDEX($AD$3:$AG$3,1,AG$4)>0),"-",""&INDEX(AdvancedTreemap!$C$7:$F$506,$B18,AG$4))) | AH18: =IF(INDEX(AdvancedTreemap!G$7:G$506,$B18,1)="",1,INDEX(AdvancedTreemap!G$7:G$506,$B18,1)) -> 1 | AI18: =IF(AC18="","",IFERROR(MATCH(AC18,$AC$6:AC18,0)+MATCH(AD18,$AD$6:AD18,0)/1000 +MATCH(AE18,$AE$6:AE18,0)/1000000+MATCH(AF18,$AF$6:AF18,0)/100000000+MATCH(AG18,$AG$6:AG18,0)/100000000+B18/100000000000,"")) -> 7.011011 | AJ18: =IF(AI18="","",RANK(AI18,$AI$6:$AI$506,1)) -> 13 | AK18: =IF(AJ18="","",MATCH(ROW(AK13),$AJ$6:$AJ$506,0)) -> 13 | AL18: =IF($AK18="","",INDEX(AC$6:AC$506,$AK18,1)) -> Plants | AM18: =IF($AK18="","",INDEX(AD$6:AD$506,$AK18,1)) -> Roses | AN18: =IF($AK18="","",INDEX(AE$6:AE$506,$AK18,1)) -> red | AO18: =IF($AK18="","",INDEX(AF$6:AF$506,$AK18,1)) | AP18: =IF($AK18="","",INDEX(AG$6:AG$506,$AK18,1)) | AQ18: =IF($AK18="","",INDEX(AH$6:AH$506,$AK18,1)) -> 1 | AR18: =AL18&AM18&AN18&AO18&AP18 -> PlantsRosesred | AS18: =IF(AR18="","",IF(ISNUMBER(MATCH(AR18,$AR$5:AR17,0)),MATCH(AR18,$AR$5:AR17,0)-1,"")) -> 12 | AT18: =IF(AR18="","",IF(AS18="",B18,"")) | AU18: =IF(AT18="","",SUMIF(AS$6:AS$505,AT18,AQ$6:AQ$505)+AQ18) | AW18: =IFERROR(INDEX(AL$6:AL$505,SMALL($AT$6:$AT$505,$B18),1),"") | AX18: =TRIM(SUBSTITUTE(IF(AW18="","",IF(AdvancedTreemap!$G$5="Show",BC18&"; ","")&AY18&"; "&AZ18 &"; "&BA18&"; "&BB18),"; ;","")) | AY18: =IFERROR(INDEX(AM$6:AM$505,SMALL($AT$6:$AT$505,$B18),1),"") | AZ18: =IFERROR(INDEX(AN$6:AN$505,SMALL($AT$6:$AT$505,$B18),1),"") | BA18: =IFERROR(INDEX(AO$6:AO$505,SMALL($AT$6:$AT$505,$B18),1),"") | BB18: =IFERROR(INDEX(AP$6:AP$505,SMALL($AT$6:$AT$505,$B18),1),"") | BC18: =IFERROR(INDEX(AU$6:AU$505,SMALL($AT$6:$AT$505,$B18),1),"") | BF18: =IF(AW18="","",IF(AW17<>AW18,AW18,"")) | BG18: =IF(BF18="","",SUMIF($AW$6:$AW$505,BF18,$BC$6:$BC$505)) | BH18: =IF(AY18="","",IF(OR(AY17<>AY18,AW18<>AW17),AY18,"")) | BI18: =IF(BH18="","",SUMIFS($BC$6:$BC$505,$AY$6:$AY$505,BH18,$AW$6:$AW$505,AW18)) | BJ18: =IF(AZ18="","",IF(OR(AZ17<>AZ18,AY17<>AY18,AW17<>AW18),AZ18,"")) | BK18: =IF(BJ18="","",SUMIFS($BC$6:$BC$505,$AZ$6:$AZ$505,BJ18,$AW$6:$AW$505,AW18,$AY$6:$AY$505,AY18)) | BL18: =IF(BA18="","",IF(OR(BA17<>BA18, AZ17<>AZ18,AY17<>AY18,AW17<>AW18),BA18,"")) | BM18: =IF(BL18="","",SUMIFS($BC$6:$BC$505,$AZ$6:$AZ$505,AZ18,$AW$6:$AW$505,AW18,$AY$6:$AY$505,AY18,$BA$6:$BA$505,BL18)) | BN18: =IF(BB18="","",IF(OR(BB17<>BB18, BA17<>BA18,AZ17<>AZ18,AY17<>AY18,AW17<>AW18),BB18,"")) | BO18: =BC18
... B505: 500 | C505: =""&INDEX(BasicTreemap!B$6:B$505,$B505,1) | D505: =IF(AND(C505<>"",LEN(INDEX(BasicTreemap!C$6:C$505,$B505,1))=0),"-",""&INDEX(BasicTreemap!C$6:C$505,$B505,1)) | E505: =IF(INDEX(BasicTreemap!D$6:D$505,$B505,1)="",1,INDEX(BasicTreemap!D$6:D$505,$B505,1)) -> 1 | F505: =IF(C505="","",IFERROR(MATCH(C505,$C$6:C505,0)+MATCH(D505,$D$6:D505,0)/1000 +B505/100000,"")) | G505: =IF(F505="","",RANK(F505,$F$6:$F$505,1)) | H505: =IF(G505="","",MATCH($B505,$G$6:$G$505,0)) | I505: =IF($H505="","",INDEX(C$6:C$505,$H505,1)) | J505: =IF($H505="","",INDEX(D$6:D$505,$H505,1)) | K505: =IF($H505="","",INDEX(E$6:E$505,$H505,1)) | L505: =I505&J505 | M505: =IF(L505="","",IF(ISNUMBER(MATCH(L505,$L$5:L504,0)),MATCH(L505,$L$5:L504,0)-1,"")) | N505: =IF(L505="","",IF(M505="",B505,"")) | O505: =IF(N505="","",SUMIF($M$6:$M$505,N505,$K$6:$K$505)+K505) | Q505: =IFERROR(INDEX(I$6:I$505,SMALL($N$6:$N$505,$B505),1),"") | R505: =IFERROR(INDEX(J$6:J$505,SMALL($N$6:$N$505,$B505),1),"") | S505: =IFERROR(INDEX(O$6:O$505,SMALL($N$6:$N$505,$B505),1),"") | W505: =IF(Q504<>Q505,Q505,"") | X505: =IF(W505="","",SUMIF($Q$6:$Q$505,W505,$S$6:$S$505)) | Y505: =R505 | Z505: =S505 | AC505: =""&INDEX(AdvancedTreemap!$B$7:$B$506,$B505,1) | AD505: =IF(AD$4="","",IF(AND(LEN(INDEX(AdvancedTreemap!$C$7:$F$506,$B505,AD$4))=0,INDEX($AD$3:$AG$3,1,AD$4)>0),"-",""&INDEX(AdvancedTreemap!$C$7:$F$506,$B505,AD$4))) -> - | AE505: =IF(AE$4="","",IF(AND(LEN(INDEX(AdvancedTreemap!$C$7:$F$506,$B505,AE$4))=0,INDEX($AD$3:$AG$3,1,AE$4)>0),"-",""&INDEX(AdvancedTreemap!$C$7:$F$506,$B505,AE$4))) -> - | AF505: =IF(AF$4="","",IF(AND(LEN(INDEX(AdvancedTreemap!$C$7:$F$506,$B505,AF$4))=0,INDEX($AD$3:$AG$3,1,AF$4)>0),"-",""&INDEX(AdvancedTreemap!$C$7:$F$506,$B505,AF$4))) | AG505: =IF(AG$4="","",IF(AND(LEN(INDEX(AdvancedTreemap!$C$7:$F$506,$B505,AG$4))=0,INDEX($AD$3:$AG$3,1,AG$4)>0),"-",""&INDEX(AdvancedTreemap!$C$7:$F$506,$B505,AG$4))) | AH505: =IF(INDEX(AdvancedTreemap!G$7:G$506,$B505,1)="",1,INDEX(AdvancedTreemap!G$7:G$506,$B505,1)) -> 1 | AI505: =IF(AC505="","",IFERROR(MATCH(AC505,$AC$6:AC505,0)+MATCH(AD505,$AD$6:AD505,0)/1000 +MATCH(AE505,$AE$6:AE505,0)/1000000+MATCH(AF505,$AF$6:AF505,0)/100000000+MATCH(AG505,$AG$6:AG505,0)/100000000+B505/100000000000,"")) | AJ505: =IF(AI505="","",RANK(AI505,$AI$6:$AI$506,1)) | AK505: =IF(AJ505="","",MATCH(ROW(AK500),$AJ$6:$AJ$506,0)) | AL505: =IF($AK505="","",INDEX(AC$6:AC$506,$AK505,1)) | AM505: =IF($AK505="","",INDEX(AD$6:AD$506,$AK505,1)) | AN505: =IF($AK505="","",INDEX(AE$6:AE$506,$AK505,1)) | AO505: =IF($AK505="","",INDEX(AF$6:AF$506,$AK505,1)) | AP505: =IF($AK505="","",INDEX(AG$6:AG$506,$AK505,1)) | AQ505: =IF($AK505="","",INDEX(AH$6:AH$506,$AK505,1)) | AR505: =AL505&AM505&AN505&AO505&AP505 | AS505: =IF(AR505="","",IF(ISNUMBER(MATCH(AR505,$AR$5:AR504,0)),MATCH(AR505,$AR$5:AR504,0)-1,"")) | AT505: =IF(AR505="","",IF(AS505="",B505,"")) | AU505: =IF(AT505="","",SUMIF(AS$6:AS$505,AT505,AQ$6:AQ$505)+AQ505) | AW505: =IFERROR(INDEX(AL$6:AL$505,SMALL($AT$6:$AT$505,$B505),1),"") | AX505: =TRIM(SUBSTITUTE(IF(AW505="","",IF(AdvancedTreemap!$G$5="Show",BC505&"; ","")&AY505&"; "&AZ505 &"; "&BA505&"; "&BB505),"; ;","")) | AY505: =IFERROR(INDEX(AM$6:AM$505,SMALL($AT$6:$AT$505,$B505),1),"") | AZ505: =IFERROR(INDEX(AN$6:AN$505,SMALL($AT$6:$AT$505,$B505),1),"") | BA505: =IFERROR(INDEX(AO$6:AO$505,SMALL($AT$6:$AT$505,$B505),1),"") | BB505: =IFERROR(INDEX(AP$6:AP$505,SMALL($AT$6:$AT$505,$B505),1),"") | BC505: =IFERROR(INDEX(AU$6:AU$505,SMALL($AT$6:$AT$505,$B505),1),"") | BF505: =IF(AW505="","",IF(AW504<>AW505,AW505,"")) | BG505: =IF(BF505="","",SUMIF($AW$6:$AW$505,BF505,$BC$6:$BC$505)) | BH505: =IF(AY505="","",IF(OR(AY504<>AY505,AW505<>AW504),AY505,"")) | BI505: =IF(BH505="","",SUMIFS($BC$6:$BC$505,$AY$6:$AY$505,BH505,$AW$6:$AW$505,AW505)) | BJ505: =IF(AZ505="","",IF(OR(AZ504<>AZ505,AY504<>AY505,AW504<>AW505),AZ505,"")) | BK505: =IF(BJ505="","",SUMIFS($BC$6:$BC$505,$AZ$6:$AZ$505,BJ505,$AW$6:$AW$505,AW505,$AY$6:$AY$505,AY505)) | BL505: =IF(BA505="","",IF(OR(BA504<>BA505, AZ504<>AZ505,AY504<>AY505,AW504<>AW505),BA505,"")) | BM505: =IF(BL505="","",SUMIFS($BC$6:$BC$505,$AZ$6:$AZ$505,AZ505,$AW$6:$AW$505,AW505,$AY$6:$AY$505,AY505,$BA$6:$BA$505,BL505)) | BN505: =IF(BB505="","",IF(OR(BB504<>BB505, BA504<>BA505,AZ504<>AZ505,AY504<>AY505,AW504<>AW505),BB505,"")) | BO505: =BC505
