Workbook

Sheet Navigation
C2: TREEMAP CHART MAKER
C3: NAVIGATION

Sheet BasicTreemap
B2: TREEMAP CHART MAKER
B3: BASIC TREEMAP - INPUT
B5: Category | C5: Subcategory | D5: Value/Weight | F5: Chart preview
B6: Pets | C6: Dogs
B7: Pets | C7: Cats
B8: Animals | C8: Lions
B9: Animals | C9: Lions
B10: Animals | C10: Cows
B11: Animals | C11: Cows
B12: Animals | C12: Chickens
B13: Animals | C13: Chickens
B14: Plants | C14: Sunflower
B15: Plants | C15: Corn
B16: Plants | C16: Corn
B17: Plants | C17: Corn
... B23: Mushrooms | C23: Champignons

Sheet Chart1
C2: TREEMAP CHART MAKER
C3: BASIC TREEMAP CHART

Sheet HierarchyTree1
C2: TREEMAP CHART MAKER
C3: BASIC - HIERARCHY TREE
C7: =Calculation!U6& " - " & Calculation!V6 -> Total - 18 | E7: =IF(OR(AND(C8="",F8<>""),AND(C7="",F7="",E8="x")),"x","") | F7: =IF(MOD(ROW(F6),2)=0,IF( LEN(INDEX(Calculation!$W$6:$W$505,ROW(F6)/2-2,1))=0,"",INDEX(Calculation!$W$6:$W$505,ROW(F6)/2-2,1)& " - " & INDEX(Calculation!$X$6:$X$505,ROW(F6)/2-2,1)),"") -> Pets - 2 | H7: =IF(OR(AND(F8="",I8<>""),AND(F7="",I7="",H8="x")),"x","") | I7: =IF(MOD(ROW(I6),2)=0,IF( OR(INDEX(Calculation!$Y$6:$Y$505,ROW(I6)/2-2,1)="",INDEX(Calculation!$Y$6:$Y$505,ROW(I6)/2-2,1)="-"),"",INDEX(Calculation!$Y$6:$Y$505,ROW(I6)/2-2,1)& " - " & INDEX(Calculation!$Z$6:$Z$505,ROW(I6)/2-2,1)),"") -> Dogs - 1
E8: =IF(OR(AND(C9="",F9<>""),AND(C8="",F8="",E9="x")),"x","") -> x | F8: =IF(MOD(ROW(F7),2)=0,IF( LEN(INDEX(Calculation!$W$6:$W$505,ROW(F7)/2-2,1))=0,"",INDEX(Calculation!$W$6:$W$505,ROW(F7)/2-2,1)& " - " & INDEX(Calculation!$X$6:$X$505,ROW(F7)/2-2,1)),"") | H8: =IF(OR(AND(F9="",I9<>""),AND(F8="",I8="",H9="x")),"x","") -> x | I8: =IF(MOD(ROW(I7),2)=0,IF( OR(INDEX(Calculation!$Y$6:$Y$505,ROW(I7)/2-2,1)="",INDEX(Calculation!$Y$6:$Y$505,ROW(I7)/2-2,1)="-"),"",INDEX(Calculation!$Y$6:$Y$505,ROW(I7)/2-2,1)& " - " & INDEX(Calculation!$Z$6:$Z$505,ROW(I7)/2-2,1)),"")
E9: =IF(OR(AND(C10="",F10<>""),AND(C9="",F9="",E10="x")),"x","") -> x | F9: =IF(MOD(ROW(F8),2)=0,IF( LEN(INDEX(Calculation!$W$6:$W$505,ROW(F8)/2-2,1))=0,"",INDEX(Calculation!$W$6:$W$505,ROW(F8)/2-2,1)& " - " & INDEX(Calculation!$X$6:$X$505,ROW(F8)/2-2,1)),"") | H9: =IF(OR(AND(F10="",I10<>""),AND(F9="",I9="",H10="x")),"x","") | I9: =IF(MOD(ROW(I8),2)=0,IF( OR(INDEX(Calculation!$Y$6:$Y$505,ROW(I8)/2-2,1)="",INDEX(Calculation!$Y$6:$Y$505,ROW(I8)/2-2,1)="-"),"",INDEX(Calculation!$Y$6:$Y$505,ROW(I8)/2-2,1)& " - " & INDEX(Calculation!$Z$6:$Z$505,ROW(I8)/2-2,1)),"") -> Cats - 1
E10: =IF(OR(AND(C11="",F11<>""),AND(C10="",F10="",E11="x")),"x","") -> x | F10: =IF(MOD(ROW(F9),2)=0,IF( LEN(INDEX(Calculation!$W$6:$W$505,ROW(F9)/2-2,1))=0,"",INDEX(Calculation!$W$6:$W$505,ROW(F9)/2-2,1)& " - " & INDEX(Calculation!$X$6:$X$505,ROW(F9)/2-2,1)),"") | H10: =IF(OR(AND(F11="",I11<>""),AND(F10="",I10="",H11="x")),"x","") | I10: =IF(MOD(ROW(I9),2)=0,IF( OR(INDEX(Calculation!$Y$6:$Y$505,ROW(I9)/2-2,1)="",INDEX(Calculation!$Y$6:$Y$505,ROW(I9)/2-2,1)="-"),"",INDEX(Calculation!$Y$6:$Y$505,ROW(I9)/2-2,1)& " - " & INDEX(Calculation!$Z$6:$Z$505,ROW(I9)/2-2,1)),"")
E11: =IF(OR(AND(C12="",F12<>""),AND(C11="",F11="",E12="x")),"x","") | F11: =IF(MOD(ROW(F10),2)=0,IF( LEN(INDEX(Calculation!$W$6:$W$505,ROW(F10)/2-2,1))=0,"",INDEX(Calculation!$W$6:$W$505,ROW(F10)/2-2,1)& " - " & INDEX(Calculation!$X$6:$X$505,ROW(F10)/2-2,1)),"") -> Animals - 6 | H11: =IF(OR(AND(F12="",I12<>""),AND(F11="",I11="",H12="x")),"x","") | I11: =IF(MOD(ROW(I10),2)=0,IF( OR(INDEX(Calculation!$Y$6:$Y$505,ROW(I10)/2-2,1)="",INDEX(Calculation!$Y$6:$Y$505,ROW(I10)/2-2,1)="-"),"",INDEX(Calculation!$Y$6:$Y$505,ROW(I10)/2-2,1)& " - " & INDEX(Calculation!$Z$6:$Z$505,ROW(I10)/2-2,1)),"") -> Lions - 2
E12: =IF(OR(AND(C13="",F13<>""),AND(C12="",F12="",E13="x")),"x","") -> x | F12: =IF(MOD(ROW(F11),2)=0,IF( LEN(INDEX(Calculation!$W$6:$W$505,ROW(F11)/2-2,1))=0,"",INDEX(Calculation!$W$6:$W$505,ROW(F11)/2-2,1)& " - " & INDEX(Calculation!$X$6:$X$505,ROW(F11)/2-2,1)),"") | H12: =IF(OR(AND(F13="",I13<>""),AND(F12="",I12="",H13="x")),"x","") -> x | I12: =IF(MOD(ROW(I11),2)=0,IF( OR(INDEX(Calculation!$Y$6:$Y$505,ROW(I11)/2-2,1)="",INDEX(Calculation!$Y$6:$Y$505,ROW(I11)/2-2,1)="-"),"",INDEX(Calculation!$Y$6:$Y$505,ROW(I11)/2-2,1)& " - " & INDEX(Calculation!$Z$6:$Z$505,ROW(I11)/2-2,1)),"")
E13: =IF(OR(AND(C14="",F14<>""),AND(C13="",F13="",E14="x")),"x","") -> x | F13: =IF(MOD(ROW(F12),2)=0,IF( LEN(INDEX(Calculation!$W$6:$W$505,ROW(F12)/2-2,1))=0,"",INDEX(Calculation!$W$6:$W$505,ROW(F12)/2-2,1)& " - " & INDEX(Calculation!$X$6:$X$505,ROW(F12)/2-2,1)),"") | H13: =IF(OR(AND(F14="",I14<>""),AND(F13="",I13="",H14="x")),"x","") | I13: =IF(MOD(ROW(I12),2)=0,IF( OR(INDEX(Calculation!$Y$6:$Y$505,ROW(I12)/2-2,1)="",INDEX(Calculation!$Y$6:$Y$505,ROW(I12)/2-2,1)="-"),"",INDEX(Calculation!$Y$6:$Y$505,ROW(I12)/2-2,1)& " - " & INDEX(Calculation!$Z$6:$Z$505,ROW(I12)/2-2,1)),"") -> Cows - 2
E14: =IF(OR(AND(C15="",F15<>""),AND(C14="",F14="",E15="x")),"x","") -> x | F14: =IF(MOD(ROW(F13),2)=0,IF( LEN(INDEX(Calculation!$W$6:$W$505,ROW(F13)/2-2,1))=0,"",INDEX(Calculation!$W$6:$W$505,ROW(F13)/2-2,1)& " - " & INDEX(Calculation!$X$6:$X$505,ROW(F13)/2-2,1)),"") | H14: =IF(OR(AND(F15="",I15<>""),AND(F14="",I14="",H15="x")),"x","") -> x | I14: =IF(MOD(ROW(I13),2)=0,IF( OR(INDEX(Calculation!$Y$6:$Y$505,ROW(I13)/2-2,1)="",INDEX(Calculation!$Y$6:$Y$505,ROW(I13)/2-2,1)="-"),"",INDEX(Calculation!$Y$6:$Y$505,ROW(I13)/2-2,1)& " - " & INDEX(Calculation!$Z$6:$Z$505,ROW(I13)/2-2,1)),"")
E15: =IF(OR(AND(C16="",F16<>""),AND(C15="",F15="",E16="x")),"x","") -> x | F15: =IF(MOD(ROW(F14),2)=0,IF( LEN(INDEX(Calculation!$W$6:$W$505,ROW(F14)/2-2,1))=0,"",INDEX(Calculation!$W$6:$W$505,ROW(F14)/2-2,1)& " - " & INDEX(Calculation!$X$6:$X$505,ROW(F14)/2-2,1)),"") | H15: =IF(OR(AND(F16="",I16<>""),AND(F15="",I15="",H16="x")),"x","") | I15: =IF(MOD(ROW(I14),2)=0,IF( OR(INDEX(Calculation!$Y$6:$Y$505,ROW(I14)/2-2,1)="",INDEX(Calculation!$Y$6:$Y$505,ROW(I14)/2-2,1)="-"),"",INDEX(Calculation!$Y$6:$Y$505,ROW(I14)/2-2,1)& " - " & INDEX(Calculation!$Z$6:$Z$505,ROW(I14)/2-2,1)),"") -> Chickens - 2
E16: =IF(OR(AND(C17="",F17<>""),AND(C16="",F16="",E17="x")),"x","") -> x | F16: =IF(MOD(ROW(F15),2)=0,IF( LEN(INDEX(Calculation!$W$6:$W$505,ROW(F15)/2-2,1))=0,"",INDEX(Calculation!$W$6:$W$505,ROW(F15)/2-2,1)& " - " & INDEX(Calculation!$X$6:$X$505,ROW(F15)/2-2,1)),"") | H16: =IF(OR(AND(F17="",I17<>""),AND(F16="",I16="",H17="x")),"x","") | I16: =IF(MOD(ROW(I15),2)=0,IF( OR(INDEX(Calculation!$Y$6:$Y$505,ROW(I15)/2-2,1)="",INDEX(Calculation!$Y$6:$Y$505,ROW(I15)/2-2,1)="-"),"",INDEX(Calculation!$Y$6:$Y$505,ROW(I15)/2-2,1)& " - " & INDEX(Calculation!$Z$6:$Z$505,ROW(I15)/2-2,1)),"")
E17: =IF(OR(AND(C18="",F18<>""),AND(C17="",F17="",E18="x")),"x","") | F17: =IF(MOD(ROW(F16),2)=0,IF( LEN(INDEX(Calculation!$W$6:$W$505,ROW(F16)/2-2,1))=0,"",INDEX(Calculation!$W$6:$W$505,ROW(F16)/2-2,1)& " - " & INDEX(Calculation!$X$6:$X$505,ROW(F16)/2-2,1)),"") -> Plants - 8 | H17: =IF(OR(AND(F18="",I18<>""),AND(F17="",I17="",H18="x")),"x","") | I17: =IF(MOD(ROW(I16),2)=0,IF( OR(INDEX(Calculation!$Y$6:$Y$505,ROW(I16)/2-2,1)="",INDEX(Calculation!$Y$6:$Y$505,ROW(I16)/2-2,1)="-"),"",INDEX(Calculation!$Y$6:$Y$505,ROW(I16)/2-2,1)& " - " & INDEX(Calculation!$Z$6:$Z$505,ROW(I16)/2-2,1)),"") -> Sunflower - 1
E18: =IF(OR(AND(C19="",F19<>""),AND(C18="",F18="",E19="x")),"x","") -> x | F18: =IF(MOD(ROW(F17),2)=0,IF( LEN(INDEX(Calculation!$W$6:$W$505,ROW(F17)/2-2,1))=0,"",INDEX(Calculation!$W$6:$W$505,ROW(F17)/2-2,1)& " - " & INDEX(Calculation!$X$6:$X$505,ROW(F17)/2-2,1)),"") | H18: =IF(OR(AND(F19="",I19<>""),AND(F18="",I18="",H19="x")),"x","") -> x | I18: =IF(MOD(ROW(I17),2)=0,IF( OR(INDEX(Calculation!$Y$6:$Y$505,ROW(I17)/2-2,1)="",INDEX(Calculation!$Y$6:$Y$505,ROW(I17)/2-2,1)="-"),"",INDEX(Calculation!$Y$6:$Y$505,ROW(I17)/2-2,1)& " - " & INDEX(Calculation!$Z$6:$Z$505,ROW(I17)/2-2,1)),"")
E19: =IF(OR(AND(C20="",F20<>""),AND(C19="",F19="",E20="x")),"x","") -> x | F19: =IF(MOD(ROW(F18),2)=0,IF( LEN(INDEX(Calculation!$W$6:$W$505,ROW(F18)/2-2,1))=0,"",INDEX(Calculation!$W$6:$W$505,ROW(F18)/2-2,1)& " - " & INDEX(Calculation!$X$6:$X$505,ROW(F18)/2-2,1)),"") | H19: =IF(OR(AND(F20="",I20<>""),AND(F19="",I19="",H20="x")),"x","") | I19: =IF(MOD(ROW(I18),2)=0,IF( OR(INDEX(Calculation!$Y$6:$Y$505,ROW(I18)/2-2,1)="",INDEX(Calculation!$Y$6:$Y$505,ROW(I18)/2-2,1)="-"),"",INDEX(Calculation!$Y$6:$Y$505,ROW(I18)/2-2,1)& " - " & INDEX(Calculation!$Z$6:$Z$505,ROW(I18)/2-2,1)),"") -> Corn - 3
... E1005: =IF(OR(AND(C1006="",F1006<>""),AND(C1005="",F1005="",E1006="x")),"x","") | F1005: =IF(MOD(ROW(F1004),2)=0,IF( LEN(INDEX(Calculation!$W$6:$W$505,ROW(F1004)/2-2,1))=0,"",INDEX(Calculation!$W$6:$W$505,ROW(F1004)/2-2,1)& " - " & INDEX(Calculation!$X$6:$X$505,ROW(F1004)/2-2,1)),"") | H1005: =IF(OR(AND(F1006="",I1006<>""),AND(F1005="",I1005="",H1006="x")),"x","") | I1005: =IF(MOD(ROW(I1004),2)=0,IF( OR(INDEX(Calculation!$Y$6:$Y$505,ROW(I1004)/2-2,1)="",INDEX(Calculation!$Y$6:$Y$505,ROW(I1004)/2-2,1)="-"),"",INDEX(Calculation!$Y$6:$Y$505,ROW(I1004)/2-2,1)& " - " & INDEX(Calculation!$Z$6:$Z$505,ROW(I1004)/2-2,1)),"")
E1006: =IF(OR(AND(C1007="",F1007<>""),AND(C1006="",F1006="",E1007="x")),"x","") | F1006: =IF(MOD(ROW(F1005),2)=0,IF( LEN(INDEX(Calculation!$W$6:$W$505,ROW(F1005)/2-2,1))=0,"",INDEX(Calculation!$W$6:$W$505,ROW(F1005)/2-2,1)& " - " & INDEX(Calculation!$X$6:$X$505,ROW(F1005)/2-2,1)),"") | I1006: =IF(MOD(ROW(I1005),2)=0,IF( OR(INDEX(Calculation!$Y$6:$Y$505,ROW(I1005)/2-2,1)="",INDEX(Calculation!$Y$6:$Y$505,ROW(I1005)/2-2,1)="-"),"",INDEX(Calculation!$Y$6:$Y$505,ROW(I1005)/2-2,1)& " - " & INDEX(Calculation!$Z$6:$Z$505,ROW(I1005)/2-2,1)),"")

Sheet AdvancedTreemap
B2: TREEMAP CHART MAKER
B3: ADVANCED TREEMAP - INPUT
C5: Include | D5: Include | E5: Ignore | F5: Ignore | G5: Show
B6: Category | C6: Subcategory1 | D6: Subcategory2 | E6: Subcategory3 | F6: Subcategory4 | G6: Value/Weight
B7: Animals | C7: Turtles | D7: Land | E7: Africa | G7: 2
B8: Animals | C8: Turtles | D8: Water | E8: Africa | G8: 3
B9: Animals | C9: Turtles | D9: Land | E9: Africa
B10: Animals | C10: Chickens | D10: Chicks | E10: Europe | G10: 4
B11: Animals | C11: Chickens | D11: Hean | E11: Europe
B12: Animals | C12: Chickens | D12: Hean | E12: Europe | G12: 5
B13: Plants | C13: Corn | D13: Boiled
B14: Plants | C14: Corn | D14: Boiled
B15: Plants | C15: Corn | D15: Boiled
B16: Plants | C16: Corn | D16: Popcorn
B17: Plants | C17: Roses | D17: red | E17: Asia
B18: Plants | C18: Roses | D18: white
B19: Plants | C19: Roses | D19: red
B20: Plants | C20: Roses | D20: red | G20: 2
B21: Pets | C21: Cats | D21: home | E21: Middle East | G21: 2
B22: Pets | C22: Dogs | D22: shelter | E22: Europe | G22: 3
B23: Pets | C23: Cats | D23: home | E23: Europe | G23: 5
B24: Animals | C24: Turtles | D24: Land | E24: Africa | G24: 3

Sheet Chart2
C2: TREEMAP CHART MAKER
C3: ADVANCED TREEMAP CHART

Sheet HierarchyTree2
C2: TREEMAP CHART MAKER
C3: ADVANCED - HIERARCHY TREE
C7: =Calculation!U6& " - " & Calculation!BE6 -> Total - 38 | E7: =IF(OR(AND(C8="",F8<>""),AND(C7="",F7="",E8="x")),"x","") | F7: =IF(MOD(ROW(F6),2)=0,IF( LEN(INDEX(Calculation!$BF$6:$BF$505,ROW(F6)/2-2,1))=0,"",INDEX(Calculation!$BF$6:$BF$505,ROW(F6)/2-2,1)& " - " & INDEX(Calculation!$BG$6:$BG$505,ROW(F6)/2-2,1)),"") -> Animals - 19 | H7: =IF(OR(AND(F8="",I8<>""),AND(F7="",I7="",H8="x")),"x","") | I7: =IF(MOD(ROW(I6),2)=0,IF( OR(INDEX(Calculation!$BH$6:$BH$505,ROW(I6)/2-2,1)="",AND(INDEX(Calculation!$BH$6:$BH$505,ROW(I6)/2-2,1)="-",INDEX(Calculation!$BG$6:$BG$505,ROW(I6)/2-2,1)="-")),"",INDEX(Calculation!$BH$6:$BH$505,ROW(I6)/2-2,1)& " - " & INDEX(Calculation!$BI$6:$BI$505,ROW(I6)/2-2,1)),"") -> Turtles - 9 | K7: =IF(OR(AND(I8="",L8<>""),AND(I7="",L7="",K8="x")),"x","") | L7: =IF(MOD(ROW(I6),2)=0,IF( OR(INDEX(Calculation!$BJ$6:$BJ$505,ROW(I6)/2-2,1)="",AND(INDEX(Calculation!$BJ$6:$BJ$505,ROW(I6)/2-2,1)="-",INDEX(Calculation!$BH$6:$BH$505,ROW(I6)/2-2,1)="-")),"",INDEX(Calculation!$BJ$6:$BJ$505,ROW(I6)/2-2,1)& " - " & INDEX(Calculation!$BK$6:$BK$505,ROW(I6)/2-2,1)),"") -> Land - 6 | N7: =IF(OR(AND(L8="",O8<>""),AND(L7="",O7="",N8="x")),"x","") | O7: =IF(MOD(ROW(I6),2)=0,IF( OR(INDEX(Calculation!$BL$6:$BL$505,ROW(I6)/2-2,1)="",AND(INDEX(Calculation!$BL$6:$BL$505,ROW(I6)/2-2,1)="-",INDEX(Calculation!$BJ$6:$BJ$505,ROW(I6)/2-2,1)="-")),"",INDEX(Calculation!$BL$6:$BL$505,ROW(I6)/2-2,1)& " - " & INDEX(Calculation!$BM$6:$BM$505,ROW(I6)/2-2,1)),"") | Q7: =IF(OR(AND(O8="",R8<>""),AND(O7="",R7="",Q8="x")),"x","") | R7: =IF(MOD(ROW(L6),2)=0,IF( OR(INDEX(Calculation!$BN$6:$BN$505,ROW(L6)/2-2,1)="",AND(INDEX(Calculation!$BN$6:$BN$505,ROW(L6)/2-2,1)="-",INDEX(Calculation!$BL$6:$BL$505,ROW(I6)/2-2,1)="-")),"",INDEX(Calculation!$BN$6:$BN$505,ROW(L6)/2-2,1)& " - " & INDEX(Calculation!$BO$6:$BO$505,ROW(L6)/2-2,1)),"")
E8: =IF(OR(AND(C9="",F9<>""),AND(C8="",F8="",E9="x")),"x","") -> x | F8: =IF(MOD(ROW(F7),2)=0,IF( LEN(INDEX(Calculation!$BF$6:$BF$505,ROW(F7)/2-2,1))=0,"",INDEX(Calculation!$BF$6:$BF$505,ROW(F7)/2-2,1)& " - " & INDEX(Calculation!$BG$6:$BG$505,ROW(F7)/2-2,1)),"") | H8: =IF(OR(AND(F9="",I9<>""),AND(F8="",I8="",H9="x")),"x","") -> x | I8: =IF(MOD(ROW(I7),2)=0,IF( OR(INDEX(Calculation!$BH$6:$BH$505,ROW(I7)/2-2,1)="",AND(INDEX(Calculation!$BH$6:$BH$505,ROW(I7)/2-2,1)="-",INDEX(Calculation!$BG$6:$BG$505,ROW(I7)/2-2,1)="-")),"",INDEX(Calculation!$BH$6:$BH$505,ROW(I7)/2-2,1)& " - " & INDEX(Calculation!$BI$6:$BI$505,ROW(I7)/2-2,1)),"") | K8: =IF(OR(AND(I9="",L9<>""),AND(I8="",L8="",K9="x")),"x","") -> x | L8: =IF(MOD(ROW(I7),2)=0,IF( OR(INDEX(Calculation!$BJ$6:$BJ$505,ROW(I7)/2-2,1)="",AND(INDEX(Calculation!$BJ$6:$BJ$505,ROW(I7)/2-2,1)="-",INDEX(Calculation!$BH$6:$BH$505,ROW(I7)/2-2,1)="-")),"",INDEX(Calculation!$BJ$6:$BJ$505,ROW(I7)/2-2,1)& " - " & INDEX(Calculation!$BK$6:$BK$505,ROW(I7)/2-2,1)),"") | N8: =IF(OR(AND(L9="",O9<>""),AND(L8="",O8="",N9="x")),"x","") | O8: =IF(MOD(ROW(I7),2)=0,IF( OR(INDEX(Calculation!$BL$6:$BL$505,ROW(I7)/2-2,1)="",AND(INDEX(Calculation!$BL$6:$BL$505,ROW(I7)/2-2,1)="-",INDEX(Calculation!$BJ$6:$BJ$505,ROW(I7)/2-2,1)="-")),"",INDEX(Calculation!$BL$6:$BL$505,ROW(I7)/2-2,1)& " - " & INDEX(Calculation!$BM$6:$BM$505,ROW(I7)/2-2,1)),"") | Q8: =IF(OR(AND(O9="",R9<>""),AND(O8="",R8="",Q9="x")),"x","") | R8: =IF(MOD(ROW(L7),2)=0,IF( OR(INDEX(Calculation!$BN$6:$BN$505,ROW(L7)/2-2,1)="",AND(INDEX(Calculation!$BN$6:$BN$505,ROW(L7)/2-2,1)="-",INDEX(Calculation!$BL$6:$BL$505,ROW(I7)/2-2,1)="-")),"",INDEX(Calculation!$BN$6:$BN$505,ROW(L7)/2-2,1)& " - " & INDEX(Calculation!$BO$6:$BO$505,ROW(L7)/2-2,1)),"")
E9: =IF(OR(AND(C10="",F10<>""),AND(C9="",F9="",E10="x")),"x","") -> x | F9: =IF(MOD(ROW(F8),2)=0,IF( LEN(INDEX(Calculation!$BF$6:$BF$505,ROW(F8)/2-2,1))=0,"",INDEX(Calculation!$BF$6:$BF$505,ROW(F8)/2-2,1)& " - " & INDEX(Calculation!$BG$6:$BG$505,ROW(F8)/2-2,1)),"") | H9: =IF(OR(AND(F10="",I10<>""),AND(F9="",I9="",H10="x")),"x","") -> x | I9: =IF(MOD(ROW(I8),2)=0,IF( OR(INDEX(Calculation!$BH$6:$BH$505,ROW(I8)/2-2,1)="",AND(INDEX(Calculation!$BH$6:$BH$505,ROW(I8)/2-2,1)="-",INDEX(Calculation!$BG$6:$BG$505,ROW(I8)/2-2,1)="-")),"",INDEX(Calculation!$BH$6:$BH$505,ROW(I8)/2-2,1)& " - " & INDEX(Calculation!$BI$6:$BI$505,ROW(I8)/2-2,1)),"") | K9: =IF(OR(AND(I10="",L10<>""),AND(I9="",L9="",K10="x")),"x","") | L9: =IF(MOD(ROW(I8),2)=0,IF( OR(INDEX(Calculation!$BJ$6:$BJ$505,ROW(I8)/2-2,1)="",AND(INDEX(Calculation!$BJ$6:$BJ$505,ROW(I8)/2-2,1)="-",INDEX(Calculation!$BH$6:$BH$505,ROW(I8)/2-2,1)="-")),"",INDEX(Calculation!$BJ$6:$BJ$505,ROW(I8)/2-2,1)& " - " & INDEX(Calculation!$BK$6:$BK$505,ROW(I8)/2-2,1)),"") -> Water - 3 | N9: =IF(OR(AND(L10="",O10<>""),AND(L9="",O9="",N10="x")),"x","") | O9: =IF(MOD(ROW(I8),2)=0,IF( OR(INDEX(Calculation!$BL$6:$BL$505,ROW(I8)/2-2,1)="",AND(INDEX(Calculation!$BL$6:$BL$505,ROW(I8)/2-2,1)="-",INDEX(Calculation!$BJ$6:$BJ$505,ROW(I8)/2-2,1)="-")),"",INDEX(Calculation!$BL$6:$BL$505,ROW(I8)/2-2,1)& " - " & INDEX(Calculation!$BM$6:$BM$505,ROW(I8)/2-2,1)),"") | Q9: =IF(OR(AND(O10="",R10<>""),AND(O9="",R9="",Q10="x")),"x","") | R9: =IF(MOD(ROW(L8),2)=0,IF( OR(INDEX(Calculation!$BN$6:$BN$505,ROW(L8)/2-2,1)="",AND(INDEX(Calculation!$BN$6:$BN$505,ROW(L8)/2-2,1)="-",INDEX(Calculation!$BL$6:$BL$505,ROW(I8)/2-2,1)="-")),"",INDEX(Calculation!$BN$6:$BN$505,ROW(L8)/2-2,1)& " - " & INDEX(Calculation!$BO$6:$BO$505,ROW(L8)/2-2,1)),"")
E10: =IF(OR(AND(C11="",F11<>""),AND(C10="",F10="",E11="x")),"x","") -> x | F10: =IF(MOD(ROW(F9),2)=0,IF( LEN(INDEX(Calculation!$BF$6:$BF$505,ROW(F9)/2-2,1))=0,"",INDEX(Calculation!$BF$6:$BF$505,ROW(F9)/2-2,1)& " - " & INDEX(Calculation!$BG$6:$BG$505,ROW(F9)/2-2,1)),"") | H10: =IF(OR(AND(F11="",I11<>""),AND(F10="",I10="",H11="x")),"x","") -> x | I10: =IF(MOD(ROW(I9),2)=0,IF( OR(INDEX(Calculation!$BH$6:$BH$505,ROW(I9)/2-2,1)="",AND(INDEX(Calculation!$BH$6:$BH$505,ROW(I9)/2-2,1)="-",INDEX(Calculation!$BG$6:$BG$505,ROW(I9)/2-2,1)="-")),"",INDEX(Calculation!$BH$6:$BH$505,ROW(I9)/2-2,1)& " - " & INDEX(Calculation!$BI$6:$BI$505,ROW(I9)/2-2,1)),"") | K10: =IF(OR(AND(I11="",L11<>""),AND(I10="",L10="",K11="x")),"x","") | L10: =IF(MOD(ROW(I9),2)=0,IF( OR(INDEX(Calculation!$BJ$6:$BJ$505,ROW(I9)/2-2,1)="",AND(INDEX(Calculation!$BJ$6:$BJ$505,ROW(I9)/2-2,1)="-",INDEX(Calculation!$BH$6:$BH$505,ROW(I9)/2-2,1)="-")),"",INDEX(Calculation!$BJ$6:$BJ$505,ROW(I9)/2-2,1)& " - " & INDEX(Calculation!$BK$6:$BK$505,ROW(I9)/2-2,1)),"") | N10: =IF(OR(AND(L11="",O11<>""),AND(L10="",O10="",N11="x")),"x","") | O10: =IF(MOD(ROW(I9),2)=0,IF( OR(INDEX(Calculation!$BL$6:$BL$505,ROW(I9)/2-2,1)="",AND(INDEX(Calculation!$BL$6:$BL$505,ROW(I9)/2-2,1)="-",INDEX(Calculation!$BJ$6:$BJ$505,ROW(I9)/2-2,1)="-")),"",INDEX(Calculation!$BL$6:$BL$505,ROW(I9)/2-2,1)& " - " & INDEX(Calculation!$BM$6:$BM$505,ROW(I9)/2-2,1)),"") | Q10: =IF(OR(AND(O11="",R11<>""),AND(O10="",R10="",Q11="x")),"x","") | R10: =IF(MOD(ROW(L9),2)=0,IF( OR(INDEX(Calculation!$BN$6:$BN$505,ROW(L9)/2-2,1)="",AND(INDEX(Calculation!$BN$6:$BN$505,ROW(L9)/2-2,1)="-",INDEX(Calculation!$BL$6:$BL$505,ROW(I9)/2-2,1)="-")),"",INDEX(Calculation!$BN$6:$BN$505,ROW(L9)/2-2,1)& " - " & INDEX(Calculation!$BO$6:$BO$505,ROW(L9)/2-2,1)),"")
E11: =IF(OR(AND(C12="",F12<>""),AND(C11="",F11="",E12="x")),"x","") -> x | F11: =IF(MOD(ROW(F10),2)=0,IF( LEN(INDEX(Calculation!$BF$6:$BF$505,ROW(F10)/2-2,1))=0,"",INDEX(Calculation!$BF$6:$BF$505,ROW(F10)/2-2,1)& " - " & INDEX(Calculation!$BG$6:$BG$505,ROW(F10)/2-2,1)),"") | H11: =IF(OR(AND(F12="",I12<>""),AND(F11="",I11="",H12="x")),"x","") | I11: =IF(MOD(ROW(I10),2)=0,IF( OR(INDEX(Calculation!$BH$6:$BH$505,ROW(I10)/2-2,1)="",AND(INDEX(Calculation!$BH$6:$BH$505,ROW(I10)/2-2,1)="-",INDEX(Calculation!$BG$6:$BG$505,ROW(I10)/2-2,1)="-")),"",INDEX(Calculation!$BH$6:$BH$505,ROW(I10)/2-2,1)& " - " & INDEX(Calculation!$BI$6:$BI$505,ROW(I10)/2-2,1)),"") -> Chickens - 10 | K11: =IF(OR(AND(I12="",L12<>""),AND(I11="",L11="",K12="x")),"x","") | L11: =IF(MOD(ROW(I10),2)=0,IF( OR(INDEX(Calculation!$BJ$6:$BJ$505,ROW(I10)/2-2,1)="",AND(INDEX(Calculation!$BJ$6:$BJ$505,ROW(I10)/2-2,1)="-",INDEX(Calculation!$BH$6:$BH$505,ROW(I10)/2-2,1)="-")),"",INDEX(Calculation!$BJ$6:$BJ$505,ROW(I10)/2-2,1)& " - " & INDEX(Calculation!$BK$6:$BK$505,ROW(I10)/2-2,1)),"") -> Chicks - 4 | N11: =IF(OR(AND(L12="",O12<>""),AND(L11="",O11="",N12="x")),"x","") | O11: =IF(MOD(ROW(I10),2)=0,IF( OR(INDEX(Calculation!$BL$6:$BL$505,ROW(I10)/2-2,1)="",AND(INDEX(Calculation!$BL$6:$BL$505,ROW(I10)/2-2,1)="-",INDEX(Calculation!$BJ$6:$BJ$505,ROW(I10)/2-2,1)="-")),"",INDEX(Calculation!$BL$6:$BL$505,ROW(I10)/2-2,1)& " - " & INDEX(Calculation!$BM$6:$BM$505,ROW(I10)/2-2,1)),"") | Q11: =IF(OR(AND(O12="",R12<>""),AND(O11="",R11="",Q12="x")),"x","") | R11: =IF(MOD(ROW(L10),2)=0,IF( OR(INDEX(Calculation!$BN$6:$BN$505,ROW(L10)/2-2,1)="",AND(INDEX(Calculation!$BN$6:$BN$505,ROW(L10)/2-2,1)="-",INDEX(Calculation!$BL$6:$BL$505,ROW(I10)/2-2,1)="-")),"",INDEX(Calculation!$BN$6:$BN$505,ROW(L10)/2-2,1)& " - " & INDEX(Calculation!$BO$6:$BO$505,ROW(L10)/2-2,1)),"")
E12: =IF(OR(AND(C13="",F13<>""),AND(C12="",F12="",E13="x")),"x","") -> x | F12: =IF(MOD(ROW(F11),2)=0,IF( LEN(INDEX(Calculation!$BF$6:$BF$505,ROW(F11)/2-2,1))=0,"",INDEX(Calculation!$BF$6:$BF$505,ROW(F11)/2-2,1)& " - " & INDEX(Calculation!$BG$6:$BG$505,ROW(F11)/2-2,1)),"") | H12: =IF(OR(AND(F13="",I13<>""),AND(F12="",I12="",H13="x")),"x","") | I12: =IF(MOD(ROW(I11),2)=0,IF( OR(INDEX(Calculation!$BH$6:$BH$505,ROW(I11)/2-2,1)="",AND(INDEX(Calculation!$BH$6:$BH$505,ROW(I11)/2-2,1)="-",INDEX(Calculation!$BG$6:$BG$505,ROW(I11)/2-2,1)="-")),"",INDEX(Calculation!$BH$6:$BH$505,ROW(I11)/2-2,1)& " - " & INDEX(Calculation!$BI$6:$BI$505,ROW(I11)/2-2,1)),"") | K12: =IF(OR(AND(I13="",L13<>""),AND(I12="",L12="",K13="x")),"x","") -> x | L12: =IF(MOD(ROW(I11),2)=0,IF( OR(INDEX(Calculation!$BJ$6:$BJ$505,ROW(I11)/2-2,1)="",AND(INDEX(Calculation!$BJ$6:$BJ$505,ROW(I11)/2-2,1)="-",INDEX(Calculation!$BH$6:$BH$505,ROW(I11)/2-2,1)="-")),"",INDEX(Calculation!$BJ$6:$BJ$505,ROW(I11)/2-2,1)& " - " & INDEX(Calculation!$BK$6:$BK$505,ROW(I11)/2-2,1)),"") | N12: =IF(OR(AND(L13="",O13<>""),AND(L12="",O12="",N13="x")),"x","") | O12: =IF(MOD(ROW(I11),2)=0,IF( OR(INDEX(Calculation!$BL$6:$BL$505,ROW(I11)/2-2,1)="",AND(INDEX(Calculation!$BL$6:$BL$505,ROW(I11)/2-2,1)="-",INDEX(Calculation!$BJ$6:$BJ$505,ROW(I11)/2-2,1)="-")),"",INDEX(Calculation!$BL$6:$BL$505,ROW(I11)/2-2,1)& " - " & INDEX(Calculation!$BM$6:$BM$505,ROW(I11)/2-2,1)),"") | Q12: =IF(OR(AND(O13="",R13<>""),AND(O12="",R12="",Q13="x")),"x","") | R12: =IF(MOD(ROW(L11),2)=0,IF( OR(INDEX(Calculation!$BN$6:$BN$505,ROW(L11)/2-2,1)="",AND(INDEX(Calculation!$BN$6:$BN$505,ROW(L11)/2-2,1)="-",INDEX(Calculation!$BL$6:$BL$505,ROW(I11)/2-2,1)="-")),"",INDEX(Calculation!$BN$6:$BN$505,ROW(L11)/2-2,1)& " - " & INDEX(Calculation!$BO$6:$BO$505,ROW(L11)/2-2,1)),"")
E13: =IF(OR(AND(C14="",F14<>""),AND(C13="",F13="",E14="x")),"x","") -> x | F13: =IF(MOD(ROW(F12),2)=0,IF( LEN(INDEX(Calculation!$BF$6:$BF$505,ROW(F12)/2-2,1))=0,"",INDEX(Calculation!$BF$6:$BF$505,ROW(F12)/2-2,1)& " - " & INDEX(Calculation!$BG$6:$BG$505,ROW(F12)/2-2,1)),"") | H13: =IF(OR(AND(F14="",I14<>""),AND(F13="",I13="",H14="x")),"x","") | I13: =IF(MOD(ROW(I12),2)=0,IF( OR(INDEX(Calculation!$BH$6:$BH$505,ROW(I12)/2-2,1)="",AND(INDEX(Calculation!$BH$6:$BH$505,ROW(I12)/2-2,1)="-",INDEX(Calculation!$BG$6:$BG$505,ROW(I12)/2-2,1)="-")),"",INDEX(Calculation!$BH$6:$BH$505,ROW(I12)/2-2,1)& " - " & INDEX(Calculation!$BI$6:$BI$505,ROW(I12)/2-2,1)),"") | K13: =IF(OR(AND(I14="",L14<>""),AND(I13="",L13="",K14="x")),"x","") | L13: =IF(MOD(ROW(I12),2)=0,IF( OR(INDEX(Calculation!$BJ$6:$BJ$505,ROW(I12)/2-2,1)="",AND(INDEX(Calculation!$BJ$6:$BJ$505,ROW(I12)/2-2,1)="-",INDEX(Calculation!$BH$6:$BH$505,ROW(I12)/2-2,1)="-")),"",INDEX(Calculation!$BJ$6:$BJ$505,ROW(I12)/2-2,1)& " - " & INDEX(Calculation!$BK$6:$BK$505,ROW(I12)/2-2,1)),"") -> Hean - 6 | N13: =IF(OR(AND(L14="",O14<>""),AND(L13="",O13="",N14="x")),"x","") | O13: =IF(MOD(ROW(I12),2)=0,IF( OR(INDEX(Calculation!$BL$6:$BL$505,ROW(I12)/2-2,1)="",AND(INDEX(Calculation!$BL$6:$BL$505,ROW(I12)/2-2,1)="-",INDEX(Calculation!$BJ$6:$BJ$505,ROW(I12)/2-2,1)="-")),"",INDEX(Calculation!$BL$6:$BL$505,ROW(I12)/2-2,1)& " - " & INDEX(Calculation!$BM$6:$BM$505,ROW(I12)/2-2,1)),"") | Q13: =IF(OR(AND(O14="",R14<>""),AND(O13="",R13="",Q14="x")),"x","") | R13: =IF(MOD(ROW(L12),2)=0,IF( OR(INDEX(Calculation!$BN$6:$BN$505,ROW(L12)/2-2,1)="",AND(INDEX(Calculation!$BN$6:$BN$505,ROW(L12)/2-2,1)="-",INDEX(Calculation!$BL$6:$BL$505,ROW(I12)/2-2,1)="-")),"",INDEX(Calculation!$BN$6:$BN$505,ROW(L12)/2-2,1)& " - " & INDEX(Calculation!$BO$6:$BO$505,ROW(L12)/2-2,1)),"")
E14: =IF(OR(AND(C15="",F15<>""),AND(C14="",F14="",E15="x")),"x","") -> x | F14: =IF(MOD(ROW(F13),2)=0,IF( LEN(INDEX(Calculation!$BF$6:$BF$505,ROW(F13)/2-2,1))=0,"",INDEX(Calculation!$BF$6:$BF$505,ROW(F13)/2-2,1)& " - " & INDEX(Calculation!$BG$6:$BG$505,ROW(F13)/2-2,1)),"") | H14: =IF(OR(AND(F15="",I15<>""),AND(F14="",I14="",H15="x")),"x","") | I14: =IF(MOD(ROW(I13),2)=0,IF( OR(INDEX(Calculation!$BH$6:$BH$505,ROW(I13)/2-2,1)="",AND(INDEX(Calculation!$BH$6:$BH$505,ROW(I13)/2-2,1)="-",INDEX(Calculation!$BG$6:$BG$505,ROW(I13)/2-2,1)="-")),"",INDEX(Calculation!$BH$6:$BH$505,ROW(I13)/2-2,1)& " - " & INDEX(Calculation!$BI$6:$BI$505,ROW(I13)/2-2,1)),"") | K14: =IF(OR(AND(I15="",L15<>""),AND(I14="",L14="",K15="x")),"x","") | L14: =IF(MOD(ROW(I13),2)=0,IF( OR(INDEX(Calculation!$BJ$6:$BJ$505,ROW(I13)/2-2,1)="",AND(INDEX(Calculation!$BJ$6:$BJ$505,ROW(I13)/2-2,1)="-",INDEX(Calculation!$BH$6:$BH$505,ROW(I13)/2-2,1)="-")),"",INDEX(Calculation!$BJ$6:$BJ$505,ROW(I13)/2-2,1)& " - " & INDEX(Calculation!$BK$6:$BK$505,ROW(I13)/2-2,1)),"") | N14: =IF(OR(AND(L15="",O15<>""),AND(L14="",O14="",N15="x")),"x","") | O14: =IF(MOD(ROW(I13),2)=0,IF( OR(INDEX(Calculation!$BL$6:$BL$505,ROW(I13)/2-2,1)="",AND(INDEX(Calculation!$BL$6:$BL$505,ROW(I13)/2-2,1)="-",INDEX(Calculation!$BJ$6:$BJ$505,ROW(I13)/2-2,1)="-")),"",INDEX(Calculation!$BL$6:$BL$505,ROW(I13)/2-2,1)& " - " & INDEX(Calculation!$BM$6:$BM$505,ROW(I13)/2-2,1)),"") | Q14: =IF(OR(AND(O15="",R15<>""),AND(O14="",R14="",Q15="x")),"x","") | R14: =IF(MOD(ROW(L13),2)=0,IF( OR(INDEX(Calculation!$BN$6:$BN$505,ROW(L13)/2-2,1)="",AND(INDEX(Calculation!$BN$6:$BN$505,ROW(L13)/2-2,1)="-",INDEX(Calculation!$BL$6:$BL$505,ROW(I13)/2-2,1)="-")),"",INDEX(Calculation!$BN$6:$BN$505,ROW(L13)/2-2,1)& " - " & INDEX(Calculation!$BO$6:$BO$505,ROW(L13)/2-2,1)),"")
E15: =IF(OR(AND(C16="",F16<>""),AND(C15="",F15="",E16="x")),"x","") | F15: =IF(MOD(ROW(F14),2)=0,IF( LEN(INDEX(Calculation!$BF$6:$BF$505,ROW(F14)/2-2,1))=0,"",INDEX(Calculation!$BF$6:$BF$505,ROW(F14)/2-2,1)& " - " & INDEX(Calculation!$BG$6:$BG$505,ROW(F14)/2-2,1)),"") -> Plants - 9 | H15: =IF(OR(AND(F16="",I16<>""),AND(F15="",I15="",H16="x")),"x","") | I15: =IF(MOD(ROW(I14),2)=0,IF( OR(INDEX(Calculation!$BH$6:$BH$505,ROW(I14)/2-2,1)="",AND(INDEX(Calculation!$BH$6:$BH$505,ROW(I14)/2-2,1)="-",INDEX(Calculation!$BG$6:$BG$505,ROW(I14)/2-2,1)="-")),"",INDEX(Calculation!$BH$6:$BH$505,ROW(I14)/2-2,1)& " - " & INDEX(Calculation!$BI$6:$BI$505,ROW(I14)/2-2,1)),"") -> Corn - 4 | K15: =IF(OR(AND(I16="",L16<>""),AND(I15="",L15="",K16="x")),"x","") | L15: =IF(MOD(ROW(I14),2)=0,IF( OR(INDEX(Calculation!$BJ$6:$BJ$505,ROW(I14)/2-2,1)="",AND(INDEX(Calculation!$BJ$6:$BJ$505,ROW(I14)/2-2,1)="-",INDEX(Calculation!$BH$6:$BH$505,ROW(I14)/2-2,1)="-")),"",INDEX(Calculation!$BJ$6:$BJ$505,ROW(I14)/2-2,1)& " - " & INDEX(Calculation!$BK$6:$BK$505,ROW(I14)/2-2,1)),"") -> Boiled - 3 | N15: =IF(OR(AND(L16="",O16<>""),AND(L15="",O15="",N16="x")),"x","") | O15: =IF(MOD(ROW(I14),2)=0,IF( OR(INDEX(Calculation!$BL$6:$BL$505,ROW(I14)/2-2,1)="",AND(INDEX(Calculation!$BL$6:$BL$505,ROW(I14)/2-2,1)="-",INDEX(Calculation!$BJ$6:$BJ$505,ROW(I14)/2-2,1)="-")),"",INDEX(Calculation!$BL$6:$BL$505,ROW(I14)/2-2,1)& " - " & INDEX(Calculation!$BM$6:$BM$505,ROW(I14)/2-2,1)),"") | Q15: =IF(OR(AND(O16="",R16<>""),AND(O15="",R15="",Q16="x")),"x","") | R15: =IF(MOD(ROW(L14),2)=0,IF( OR(INDEX(Calculation!$BN$6:$BN$505,ROW(L14)/2-2,1)="",AND(INDEX(Calculation!$BN$6:$BN$505,ROW(L14)/2-2,1)="-",INDEX(Calculation!$BL$6:$BL$505,ROW(I14)/2-2,1)="-")),"",INDEX(Calculation!$BN$6:$BN$505,ROW(L14)/2-2,1)& " - " & INDEX(Calculation!$BO$6:$BO$505,ROW(L14)/2-2,1)),"")
E16: =IF(OR(AND(C17="",F17<>""),AND(C16="",F16="",E17="x")),"x","") -> x | F16: =IF(MOD(ROW(F15),2)=0,IF( LEN(INDEX(Calculation!$BF$6:$BF$505,ROW(F15)/2-2,1))=0,"",INDEX(Calculation!$BF$6:$BF$505,ROW(F15)/2-2,1)& " - " & INDEX(Calculation!$BG$6:$BG$505,ROW(F15)/2-2,1)),"") | H16: =IF(OR(AND(F17="",I17<>""),AND(F16="",I16="",H17="x")),"x","") -> x | I16: =IF(MOD(ROW(I15),2)=0,IF( OR(INDEX(Calculation!$BH$6:$BH$505,ROW(I15)/2-2,1)="",AND(INDEX(Calculation!$BH$6:$BH$505,ROW(I15)/2-2,1)="-",INDEX(Calculation!$BG$6:$BG$505,ROW(I15)/2-2,1)="-")),"",INDEX(Calculation!$BH$6:$BH$505,ROW(I15)/2-2,1)& " - " & INDEX(Calculation!$BI$6:$BI$505,ROW(I15)/2-2,1)),"") | K16: =IF(OR(AND(I17="",L17<>""),AND(I16="",L16="",K17="x")),"x","") -> x | L16: =IF(MOD(ROW(I15),2)=0,IF( OR(INDEX(Calculation!$BJ$6:$BJ$505,ROW(I15)/2-2,1)="",AND(INDEX(Calculation!$BJ$6:$BJ$505,ROW(I15)/2-2,1)="-",INDEX(Calculation!$BH$6:$BH$505,ROW(I15)/2-2,1)="-")),"",INDEX(Calculation!$BJ$6:$BJ$505,ROW(I15)/2-2,1)& " - " & INDEX(Calculation!$BK$6:$BK$505,ROW(I15)/2-2,1)),"") | N16: =IF(OR(AND(L17="",O17<>""),AND(L16="",O16="",N17="x")),"x","") | O16: =IF(MOD(ROW(I15),2)=0,IF( OR(INDEX(Calculation!$BL$6:$BL$505,ROW(I15)/2-2,1)="",AND(INDEX(Calculation!$BL$6:$BL$505,ROW(I15)/2-2,1)="-",INDEX(Calculation!$BJ$6:$BJ$505,ROW(I15)/2-2,1)="-")),"",INDEX(Calculation!$BL$6:$BL$505,ROW(I15)/2-2,1)& " - " & INDEX(Calculation!$BM$6:$BM$505,ROW(I15)/2-2,1)),"") | Q16: =IF(OR(AND(O17="",R17<>""),AND(O16="",R16="",Q17="x")),"x","") | R16: =IF(MOD(ROW(L15),2)=0,IF( OR(INDEX(Calculation!$BN$6:$BN$505,ROW(L15)/2-2,1)="",AND(INDEX(Calculation!$BN$6:$BN$505,ROW(L15)/2-2,1)="-",INDEX(Calculation!$BL$6:$BL$505,ROW(I15)/2-2,1)="-")),"",INDEX(Calculation!$BN$6:$BN$505,ROW(L15)/2-2,1)& " - " & INDEX(Calculation!$BO$6:$BO$505,ROW(L15)/2-2,1)),"")
E17: =IF(OR(AND(C18="",F18<>""),AND(C17="",F17="",E18="x")),"x","") -> x | F17: =IF(MOD(ROW(F16),2)=0,IF( LEN(INDEX(Calculation!$BF$6:$BF$505,ROW(F16)/2-2,1))=0,"",INDEX(Calculation!$BF$6:$BF$505,ROW(F16)/2-2,1)& " - " & INDEX(Calculation!$BG$6:$BG$505,ROW(F16)/2-2,1)),"") | H17: =IF(OR(AND(F18="",I18<>""),AND(F17="",I17="",H18="x")),"x","") -> x | I17: =IF(MOD(ROW(I16),2)=0,IF( OR(INDEX(Calculation!$BH$6:$BH$505,ROW(I16)/2-2,1)="",AND(INDEX(Calculation!$BH$6:$BH$505,ROW(I16)/2-2,1)="-",INDEX(Calculation!$BG$6:$BG$505,ROW(I16)/2-2,1)="-")),"",INDEX(Calculation!$BH$6:$BH$505,ROW(I16)/2-2,1)& " - " & INDEX(Calculation!$BI$6:$BI$505,ROW(I16)/2-2,1)),"") | K17: =IF(OR(AND(I18="",L18<>""),AND(I17="",L17="",K18="x")),"x","") | L17: =IF(MOD(ROW(I16),2)=0,IF( OR(INDEX(Calculation!$BJ$6:$BJ$505,ROW(I16)/2-2,1)="",AND(INDEX(Calculation!$BJ$6:$BJ$505,ROW(I16)/2-2,1)="-",INDEX(Calculation!$BH$6:$BH$505,ROW(I16)/2-2,1)="-")),"",INDEX(Calculation!$BJ$6:$BJ$505,ROW(I16)/2-2,1)& " - " & INDEX(Calculation!$BK$6:$BK$505,ROW(I16)/2-2,1)),"") -> Popcorn - 1 | N17: =IF(OR(AND(L18="",O18<>""),AND(L17="",O17="",N18="x")),"x","") | O17: =IF(MOD(ROW(I16),2)=0,IF( OR(INDEX(Calculation!$BL$6:$BL$505,ROW(I16)/2-2,1)="",AND(INDEX(Calculation!$BL$6:$BL$505,ROW(I16)/2-2,1)="-",INDEX(Calculation!$BJ$6:$BJ$505,ROW(I16)/2-2,1)="-")),"",INDEX(Calculation!$BL$6:$BL$505,ROW(I16)/2-2,1)& " - " & INDEX(Calculation!$BM$6:$BM$505,ROW(I16)/2-2,1)),"") | Q17: =IF(OR(AND(O18="",R18<>""),AND(O17="",R17="",Q18="x")),"x","") | R17: =IF(MOD(ROW(L16),2)=0,IF( OR(INDEX(Calculation!$BN$6:$BN$505,ROW(L16)/2-2,1)="",AND(INDEX(Calculation!$BN$6:$BN$505,ROW(L16)/2-2,1)="-",INDEX(Calculation!$BL$6:$BL$505,ROW(I16)/2-2,1)="-")),"",INDEX(Calculation!$BN$6:$BN$505,ROW(L16)/2-2,1)& " - " & INDEX(Calculation!$BO$6:$BO$505,ROW(L16)/2-2,1)),"")
E18: =IF(OR(AND(C19="",F19<>""),AND(C18="",F18="",E19="x")),"x","") -> x | F18: =IF(MOD(ROW(F17),2)=0,IF( LEN(INDEX(Calculation!$BF$6:$BF$505,ROW(F17)/2-2,1))=0,"",INDEX(Calculation!$BF$6:$BF$505,ROW(F17)/2-2,1)& " - " & INDEX(Calculation!$BG$6:$BG$505,ROW(F17)/2-2,1)),"") | H18: =IF(OR(AND(F19="",I19<>""),AND(F18="",I18="",H19="x")),"x","") -> x | I18: =IF(MOD(ROW(I17),2)=0,IF( OR(INDEX(Calculation!$BH$6:$BH$505,ROW(I17)/2-2,1)="",AND(INDEX(Calculation!$BH$6:$BH$505,ROW(I17)/2-2,1)="-",INDEX(Calculation!$BG$6:$BG$505,ROW(I17)/2-2,1)="-")),"",INDEX(Calculation!$BH$6:$BH$505,ROW(I17)/2-2,1)& " - " & INDEX(Calculation!$BI$6:$BI$505,ROW(I17)/2-2,1)),"") | K18: =IF(OR(AND(I19="",L19<>""),AND(I18="",L18="",K19="x")),"x","") | L18: =IF(MOD(ROW(I17),2)=0,IF( OR(INDEX(Calculation!$BJ$6:$BJ$505,ROW(I17)/2-2,1)="",AND(INDEX(Calculation!$BJ$6:$BJ$505,ROW(I17)/2-2,1)="-",INDEX(Calculation!$BH$6:$BH$505,ROW(I17)/2-2,1)="-")),"",INDEX(Calculation!$BJ$6:$BJ$505,ROW(I17)/2-2,1)& " - " & INDEX(Calculation!$BK$6:$BK$505,ROW(I17)/2-2,1)),"") | N18: =IF(OR(AND(L19="",O19<>""),AND(L18="",O18="",N19="x")),"x","") | O18: =IF(MOD(ROW(I17),2)=0,IF( OR(INDEX(Calculation!$BL$6:$BL$505,ROW(I17)/2-2,1)="",AND(INDEX(Calculation!$BL$6:$BL$505,ROW(I17)/2-2,1)="-",INDEX(Calculation!$BJ$6:$BJ$505,ROW(I17)/2-2,1)="-")),"",INDEX(Calculation!$BL$6:$BL$505,ROW(I17)/2-2,1)& " - " & INDEX(Calculation!$BM$6:$BM$505,ROW(I17)/2-2,1)),"") | Q18: =IF(OR(AND(O19="",R19<>""),AND(O18="",R18="",Q19="x")),"x","") | R18: =IF(MOD(ROW(L17),2)=0,IF( OR(INDEX(Calculation!$BN$6:$BN$505,ROW(L17)/2-2,1)="",AND(INDEX(Calculation!$BN$6:$BN$505,ROW(L17)/2-2,1)="-",INDEX(Calculation!$BL$6:$BL$505,ROW(I17)/2-2,1)="-")),"",INDEX(Calculation!$BN$6:$BN$505,ROW(L17)/2-2,1)& " - " & INDEX(Calculation!$BO$6:$BO$505,ROW(L17)/2-2,1)),"")
E19: =IF(OR(AND(C20="",F20<>""),AND(C19="",F19="",E20="x")),"x","") -> x | F19: =IF(MOD(ROW(F18),2)=0,IF( LEN(INDEX(Calculation!$BF$6:$BF$505,ROW(F18)/2-2,1))=0,"",INDEX(Calculation!$BF$6:$BF$505,ROW(F18)/2-2,1)& " - " & INDEX(Calculation!$BG$6:$BG$505,ROW(F18)/2-2,1)),"") | H19: =IF(OR(AND(F20="",I20<>""),AND(F19="",I19="",H20="x")),"x","") | I19: =IF(MOD(ROW(I18),2)=0,IF( OR(INDEX(Calculation!$BH$6:$BH$505,ROW(I18)/2-2,1)="",AND(INDEX(Calculation!$BH$6:$BH$505,ROW(I18)/2-2,1)="-",INDEX(Calculation!$BG$6:$BG$505,ROW(I18)/2-2,1)="-")),"",INDEX(Calculation!$BH$6:$BH$505,ROW(I18)/2-2,1)& " - " & INDEX(Calculation!$BI$6:$BI$505,ROW(I18)/2-2,1)),"") -> Roses - 5 | K19: =IF(OR(AND(I20="",L20<>""),AND(I19="",L19="",K20="x")),"x","") | L19: =IF(MOD(ROW(I18),2)=0,IF( OR(INDEX(Calculation!$BJ$6:$BJ$505,ROW(I18)/2-2,1)="",AND(INDEX(Calculation!$BJ$6:$BJ$505,ROW(I18)/2-2,1)="-",INDEX(Calculation!$BH$6:$BH$505,ROW(I18)/2-2,1)="-")),"",INDEX(Calculation!$BJ$6:$BJ$505,ROW(I18)/2-2,1)& " - " & INDEX(Calculation!$BK$6:$BK$505,ROW(I18)/2-2,1)),"") -> red - 4 | N19: =IF(OR(AND(L20="",O20<>""),AND(L19="",O19="",N20="x")),"x","") | O19: =IF(MOD(ROW(I18),2)=0,IF( OR(INDEX(Calculation!$BL$6:$BL$505,ROW(I18)/2-2,1)="",AND(INDEX(Calculation!$BL$6:$BL$505,ROW(I18)/2-2,1)="-",INDEX(Calculation!$BJ$6:$BJ$505,ROW(I18)/2-2,1)="-")),"",INDEX(Calculation!$BL$6:$BL$505,ROW(I18)/2-2,1)& " - " & INDEX(Calculation!$BM$6:$BM$505,ROW(I18)/2-2,1)),"") | Q19: =IF(OR(AND(O20="",R20<>""),AND(O19="",R19="",Q20="x")),"x","") | R19: =IF(MOD(ROW(L18),2)=0,IF( OR(INDEX(Calculation!$BN$6:$BN$505,ROW(L18)/2-2,1)="",AND(INDEX(Calculation!$BN$6:$BN$505,ROW(L18)/2-2,1)="-",INDEX(Calculation!$BL$6:$BL$505,ROW(I18)/2-2,1)="-")),"",INDEX(Calculation!$BN$6:$BN$505,ROW(L18)/2-2,1)& " - " & INDEX(Calculation!$BO$6:$BO$505,ROW(L18)/2-2,1)),"")
... E1005: =IF(OR(AND(C1006="",F1006<>""),AND(C1005="",F1005="",E1006="x")),"x","") | F1005: =IF(MOD(ROW(F1004),2)=0,IF( LEN(INDEX(Calculation!$BF$6:$BF$505,ROW(F1004)/2-2,1))=0,"",INDEX(Calculation!$BF$6:$BF$505,ROW(F1004)/2-2,1)& " - " & INDEX(Calculation!$BG$6:$BG$505,ROW(F1004)/2-2,1)),"") | H1005: =IF(OR(AND(F1006="",I1006<>""),AND(F1005="",I1005="",H1006="x")),"x","") | I1005: =IF(MOD(ROW(I1004),2)=0,IF( OR(INDEX(Calculation!$BH$6:$BH$505,ROW(I1004)/2-2,1)="",AND(INDEX(Calculation!$BH$6:$BH$505,ROW(I1004)/2-2,1)="-",INDEX(Calculation!$BG$6:$BG$505,ROW(I1004)/2-2,1)="-")),"",INDEX(Calculation!$BH$6:$BH$505,ROW(I1004)/2-2,1)& " - " & INDEX(Calculation!$BI$6:$BI$505,ROW(I1004)/2-2,1)),"") | K1005: =IF(OR(AND(I1006="",L1006<>""),AND(I1005="",L1005="",K1006="x")),"x","") | L1005: =IF(MOD(ROW(I1004),2)=0,IF( OR(INDEX(Calculation!$BJ$6:$BJ$505,ROW(I1004)/2-2,1)="",AND(INDEX(Calculation!$BJ$6:$BJ$505,ROW(I1004)/2-2,1)="-",INDEX(Calculation!$BH$6:$BH$505,ROW(I1004)/2-2,1)="-")),"",INDEX(Calculation!$BJ$6:$BJ$505,ROW(I1004)/2-2,1)& " - " & INDEX(Calculation!$BK$6:$BK$505,ROW(I1004)/2-2,1)),"") | N1005: =IF(OR(AND(L1006="",O1006<>""),AND(L1005="",O1005="",N1006="x")),"x","") | O1005: =IF(MOD(ROW(I1004),2)=0,IF( OR(INDEX(Calculation!$BL$6:$BL$505,ROW(I1004)/2-2,1)="",AND(INDEX(Calculation!$BL$6:$BL$505,ROW(I1004)/2-2,1)="-",INDEX(Calculation!$BJ$6:$BJ$505,ROW(I1004)/2-2,1)="-")),"",INDEX(Calculation!$BL$6:$BL$505,ROW(I1004)/2-2,1)& " - " & INDEX(Calculation!$BM$6:$BM$505,ROW(I1004)/2-2,1)),"") | Q1005: =IF(OR(AND(O1006="",R1006<>""),AND(O1005="",R1005="",Q1006="x")),"x","") | R1005: =IF(MOD(ROW(L1004),2)=0,IF( OR(INDEX(Calculation!$BN$6:$BN$505,ROW(L1004)/2-2,1)="",AND(INDEX(Calculation!$BN$6:$BN$505,ROW(L1004)/2-2,1)="-",INDEX(Calculation!$BL$6:$BL$505,ROW(I1004)/2-2,1)="-")),"",INDEX(Calculation!$BN$6:$BN$505,ROW(L1004)/2-2,1)& " - " & INDEX(Calculation!$BO$6:$BO$505,ROW(L1004)/2-2,1)),"")

Sheet Calculation
B2: Basic treemap | AB2: Advanced treemap
AB3: Any data?: | AC3: =COUNTA(AdvancedTreemap!B7:B506) -> 18 | AD3: =COUNTA(AdvancedTreemap!C7:C506) -> 18 | AE3: =COUNTA(AdvancedTreemap!D7:D506) -> 18 | AF3: =COUNTA(AdvancedTreemap!E7:E506) -> 11 | AG3: =COUNTA(AdvancedTreemap!F7:F506) -> 0 | AH3: Active: | AI3: =IF(AdvancedTreemap!C5="Include",1,"") -> 1 | AJ3: =IF(AdvancedTreemap!D5="Include",2,"") -> 2 | AK3: =IF(AdvancedTreemap!E5="Include",3,"") | AL3: =IF(AdvancedTreemap!F5="Include",4,"") | BL3: Print last row: | BN3: =COUNT(BO5:BO504)*2+6 -> 26
I4: Order by groups | Q4: Rewrite unique | U4: Print last row: | X4: =COUNT(Z6:Z505)*2+6 -> 26 | AB4: Sub category | AC4: 1 | AD4: =IFERROR(SMALL($AI$3:$AL$3,1),"") -> 1 | AE4: =IFERROR(SMALL($AI$3:$AL$3,2),"") -> 2 | AF4: =IFERROR(SMALL($AI$3:$AL$3,3),"") | AG4: =IFERROR(SMALL($AI$3:$AL$3,4),"") | AW4: Rewrite unique | BF4: Herarchy Tree
B5: row no. | C5: Category | D5: Subcategory | E5: Value | F5: Sorting | G5: Rank | H5: Order | I5: Category | J5: Subcategory | K5: Value | L5: Concatenate | M5: Repeated? | N5: Unique | O5: Total Value | Q5: Category | R5: Subcategory | S5: Value | U5: Total | V5: Vtotal | W5: T2 | X5: v2 | Y5: T1 | Z5: v1 | AC5: Cat1 | AD5: subcat1 | AE5: subcat2 | AF5: subcat3 | AG5: subcat4 | AH5: Value | AI5: Sorting | AJ5: Rank | AK5: Order | AL5: Category | AM5: subcat1 | AN5: subcat2 | AO5: subcat3 | AP5: subcat4 | AQ5: Value | AR5: Concatenate | AS5: Repeated? | AT5: Unique | AU5: Total Value | AW5: Category | AX5: Total sub | AY5: subcat1 | AZ5: subcat2 | BA5: subcat3 | BB5: subcat4 | BC5: Value | BE5: Total | BF5: name | BG5: value | BH5: name | BI5: value | BJ5: name | BK5: value | BL5: name | BM5: value | BN5: name | BO5: value
B6: 1 | C6: =""&INDEX(BasicTreemap!B$6:B$505,$B6,1) -> Pets | D6: =IF(AND(C6<>"",LEN(INDEX(BasicTreemap!C$6:C$505,$B6,1))=0),"-",""&INDEX(BasicTreemap!C$6:C$505,$B6,1)) -> Dogs | E6: =IF(INDEX(BasicTreemap!D$6:D$505,$B6,1)="",1,INDEX(BasicTreemap!D$6:D$505,$B6,1)) -> 1 | F6: =IF(C6="","",IFERROR(MATCH(C6,$C$6:C6,0)+MATCH(D6,$D$6:D6,0)/1000 +B6/100000,"")) -> 1.00101 | G6: =IF(F6="","",RANK(F6,$F$6:$F$505,1)) -> 1 | H6: =IF(G6="","",MATCH($B6,$G$6:$G$505,0)) -> 1 | I6: =IF($H6="","",INDEX(C$6:C$505,$H6,1)) -> Pets | J6: =IF($H6="","",INDEX(D$6:D$505,$H6,1)) -> Dogs | K6: =IF($H6="","",INDEX(E$6:E$505,$H6,1)) -> 1 | L6: =I6&J6 -> PetsDogs | M6: =IF(L6="","",IF(ISNUMBER(MATCH(L6,$L$5:L5,0)),MATCH(L6,$L$5:L5,0)-1,"")) | N6: =IF(L6="","",IF(M6="",B6,"")) -> 1 | O6: =IF(N6="","",SUMIF($M$6:$M$505,N6,$K$6:$K$505)+K6) -> 1 | Q6: =IFERROR(INDEX(I$6:I$505,SMALL($N$6:$N$505,$B6),1),"") -> Pets | R6: =IFERROR(INDEX(J$6:J$505,SMALL($N$6:$N$505,$B6),1),"") -> Dogs | S6: =IFERROR(INDEX(O$6:O$505,SMALL($N$6:$N$505,$B6),1),"") -> 1 | U6: Total | V6: =SUM(Z6:Z505) -> 18 | W6: =IF(Q5<>Q6,Q6,"") -> Pets | X6: =IF(W6="","",SUMIF($Q$6:$Q$505,W6,$S$6:$S$505)) -> 2 | Y6: =R6 -> Dogs | Z6: =S6 -> 1 | AC6: =""&INDEX(AdvancedTreemap!$B$7:$B$506,$B6,1) -> Animals | AD6: =IF(AD$4="","",IF(AND(LEN(INDEX(AdvancedTreemap!$C$7:$F$506,$B6,AD$4))=0,INDEX($AD$3:$AG$3,1,AD$4)>0),"-",""&INDEX(AdvancedTreemap!$C$7:$F$506,$B6,AD$4))) -> Turtles | AE6: =IF(AE$4="","",IF(AND(LEN(INDEX(AdvancedTreemap!$C$7:$F$506,$B6,AE$4))=0,INDEX($AD$3:$AG$3,1,AE$4)>0),"-",""&INDEX(AdvancedTreemap!$C$7:$F$506,$B6,AE$4))) -> Land | AF6: =IF(AF$4="","",IF(AND(LEN(INDEX(AdvancedTreemap!$C$7:$F$506,$B6,AF$4))=0,INDEX($AD$3:$AG$3,1,AF$4)>0),"-",""&INDEX(AdvancedTreemap!$C$7:$F$506,$B6,AF$4))) | AG6: =IF(AG$4="","",IF(AND(LEN(INDEX(AdvancedTreemap!$C$7:$F$506,$B6,AG$4))=0,INDEX($AD$3:$AG$3,1,AG$4)>0),"-",""&INDEX(AdvancedTreemap!$C$7:$F$506,$B6,AG$4))) | AH6: =IF(INDEX(AdvancedTreemap!G$7:G$506,$B6,1)="",1,INDEX(AdvancedTreemap!G$7:G$506,$B6,1)) -> 2 | AI6: =IF(AC6="","",IFERROR(MATCH(AC6,$AC$6:AC6,0)+MATCH(AD6,$AD$6:AD6,0)/1000 +MATCH(AE6,$AE$6:AE6,0)/1000000+MATCH(AF6,$AF$6:AF6,0)/100000000+MATCH(AG6,$AG$6:AG6,0)/100000000+B6/100000000000,"")) -> 1.001001 | AJ6: =IF(AI6="","",RANK(AI6,$AI$6:$AI$506,1)) -> 1 | AK6: =IF(AJ6="","",MATCH(ROW(AK1),$AJ$6:$AJ$506,0)) -> 1 | AL6: =IF($AK6="","",INDEX(AC$6:AC$506,$AK6,1)) -> Animals | AM6: =IF($AK6="","",INDEX(AD$6:AD$506,$AK6,1)) -> Turtles | AN6: =IF($AK6="","",INDEX(AE$6:AE$506,$AK6,1)) -> Land | AO6: =IF($AK6="","",INDEX(AF$6:AF$506,$AK6,1)) | AP6: =IF($AK6="","",INDEX(AG$6:AG$506,$AK6,1)) | AQ6: =IF($AK6="","",INDEX(AH$6:AH$506,$AK6,1)) -> 2 | AR6: =AL6&AM6&AN6&AO6&AP6 -> AnimalsTurtlesLand | AS6: =IF(AR6="","",IF(ISNUMBER(MATCH(AR6,$AR$5:AR5,0)),MATCH(AR6,$AR$5:AR5,0)-1,"")) | AT6: =IF(AR6="","",IF(AS6="",B6,"")) -> 1 | AU6: =IF(AT6="","",SUMIF(AS$6:AS$505,AT6,AQ$6:AQ$505)+AQ6) -> 6 | AW6: =IFERROR(INDEX(AL$6:AL$505,SMALL($AT$6:$AT$505,$B6),1),"") -> Animals | AX6: =TRIM(SUBSTITUTE(IF(AW6="","",IF(AdvancedTreemap!$G$5="Show",BC6&"; ","")&AY6&"; "&AZ6 &"; "&BA6&"; "&BB6),"; ;","")) -> 6; Turtles; Land | AY6: =IFERROR(INDEX(AM$6:AM$505,SMALL($AT$6:$AT$505,$B6),1),"") -> Turtles | AZ6: =IFERROR(INDEX(AN$6:AN$505,SMALL($AT$6:$AT$505,$B6),1),"") -> Land | BA6: =IFERROR(INDEX(AO$6:AO$505,SMALL($AT$6:$AT$505,$B6),1),"") | BB6: =IFERROR(INDEX(AP$6:AP$505,SMALL($AT$6:$AT$505,$B6),1),"") | BC6: =IFERROR(INDEX(AU$6:AU$505,SMALL($AT$6:$AT$505,$B6),1),"") -> 6 | BE6: =SUM(BC6:BC505) -> 38 | BF6: =IF(AW6="","",IF(AW5<>AW6,AW6,"")) -> Animals | BG6: =IF(BF6="","",SUMIF($AW$6:$AW$505,BF6,$BC$6:$BC$505)) -> 19 | BH6: =IF(AY6="","",IF(OR(AY5<>AY6,AW6<>AW5),AY6,"")) -> Turtles | BI6: =IF(BH6="","",SUMIFS($BC$6:$BC$505,$AY$6:$AY$505,BH6,$AW$6:$AW$505,AW6)) -> 9 | BJ6: =IF(AZ6="","",IF(OR(AZ5<>AZ6,AY5<>AY6,AW5<>AW6),AZ6,"")) -> Land | BK6: =IF(BJ6="","",SUMIFS($BC$6:$BC$505,$AZ$6:$AZ$505,BJ6,$AW$6:$AW$505,AW6,$AY$6:$AY$505,AY6)) -> 6 | BL6: =IF(BA6="","",IF(OR(BA5<>BA6, AZ5<>AZ6,AY5<>AY6,AW5<>AW6),BA6,"")) | BM6: =IF(BL6="","",SUMIFS($BC$6:$BC$505,$AZ$6:$AZ$505,AZ6,$AW$6:$AW$505,AW6,$AY$6:$AY$505,AY6,$BA$6:$BA$505,BL6)) | BN6: =IF(BB6="","",IF(OR(BB5<>BB6, BA5<>BA6,AZ5<>AZ6,AY5<>AY6,AW5<>AW6),BB6,"")) | BO6: =BC6 -> 6
B7: 2 | C7: =""&INDEX(BasicTreemap!B$6:B$505,$B7,1) -> Pets | D7: =IF(AND(C7<>"",LEN(INDEX(BasicTreemap!C$6:C$505,$B7,1))=0),"-",""&INDEX(BasicTreemap!C$6:C$505,$B7,1)) -> Cats | E7: =IF(INDEX(BasicTreemap!D$6:D$505,$B7,1)="",1,INDEX(BasicTreemap!D$6:D$505,$B7,1)) -> 1 | F7: =IF(C7="","",IFERROR(MATCH(C7,$C$6:C7,0)+MATCH(D7,$D$6:D7,0)/1000 +B7/100000,"")) -> 1.00202 | G7: =IF(F7="","",RANK(F7,$F$6:$F$505,1)) -> 2 | H7: =IF(G7="","",MATCH($B7,$G$6:$G$505,0)) -> 2 | I7: =IF($H7="","",INDEX(C$6:C$505,$H7,1)) -> Pets | J7: =IF($H7="","",INDEX(D$6:D$505,$H7,1)) -> Cats | K7: =IF($H7="","",INDEX(E$6:E$505,$H7,1)) -> 1 | L7: =I7&J7 -> PetsCats | M7: =IF(L7="","",IF(ISNUMBER(MATCH(L7,$L$5:L6,0)),MATCH(L7,$L$5:L6,0)-1,"")) | N7: =IF(L7="","",IF(M7="",B7,"")) -> 2 | O7: =IF(N7="","",SUMIF($M$6:$M$505,N7,$K$6:$K$505)+K7) -> 1 | Q7: =IFERROR(INDEX(I$6:I$505,SMALL($N$6:$N$505,$B7),1),"") -> Pets | R7: =IFERROR(INDEX(J$6:J$505,SMALL($N$6:$N$505,$B7),1),"") -> Cats | S7: =IFERROR(INDEX(O$6:O$505,SMALL($N$6:$N$505,$B7),1),"") -> 1 | W7: =IF(Q6<>Q7,Q7,"") | X7: =IF(W7="","",SUMIF($Q$6:$Q$505,W7,$S$6:$S$505)) | Y7: =R7 -> Cats | Z7: =S7 -> 1 | AC7: =""&INDEX(AdvancedTreemap!$B$7:$B$506,$B7,1) -> Animals | AD7: =IF(AD$4="","",IF(AND(LEN(INDEX(AdvancedTreemap!$C$7:$F$506,$B7,AD$4))=0,INDEX($AD$3:$AG$3,1,AD$4)>0),"-",""&INDEX(AdvancedTreemap!$C$7:$F$506,$B7,AD$4))) -> Turtles | AE7: =IF(AE$4="","",IF(AND(LEN(INDEX(AdvancedTreemap!$C$7:$F$506,$B7,AE$4))=0,INDEX($AD$3:$AG$3,1,AE$4)>0),"-",""&INDEX(AdvancedTreemap!$C$7:$F$506,$B7,AE$4))) -> Water | AF7: =IF(AF$4="","",IF(AND(LEN(INDEX(AdvancedTreemap!$C$7:$F$506,$B7,AF$4))=0,INDEX($AD$3:$AG$3,1,AF$4)>0),"-",""&INDEX(AdvancedTreemap!$C$7:$F$506,$B7,AF$4))) | AG7: =IF(AG$4="","",IF(AND(LEN(INDEX(AdvancedTreemap!$C$7:$F$506,$B7,AG$4))=0,INDEX($AD$3:$AG$3,1,AG$4)>0),"-",""&INDEX(AdvancedTreemap!$C$7:$F$506,$B7,AG$4))) | AH7: =IF(INDEX(AdvancedTreemap!G$7:G$506,$B7,1)="",1,INDEX(AdvancedTreemap!G$7:G$506,$B7,1)) -> 3 | AI7: =IF(AC7="","",IFERROR(MATCH(AC7,$AC$6:AC7,0)+MATCH(AD7,$AD$6:AD7,0)/1000 +MATCH(AE7,$AE$6:AE7,0)/1000000+MATCH(AF7,$AF$6:AF7,0)/100000000+MATCH(AG7,$AG$6:AG7,0)/100000000+B7/100000000000,"")) -> 1.001002 | AJ7: =IF(AI7="","",RANK(AI7,$AI$6:$AI$506,1)) -> 4 | AK7: =IF(AJ7="","",MATCH(ROW(AK2),$AJ$6:$AJ$506,0)) -> 3 | AL7: =IF($AK7="","",INDEX(AC$6:AC$506,$AK7,1)) -> Animals | AM7: =IF($AK7="","",INDEX(AD$6:AD$506,$AK7,1)) -> Turtles | AN7: =IF($AK7="","",INDEX(AE$6:AE$506,$AK7,1)) -> Land | AO7: =IF($AK7="","",INDEX(AF$6:AF$506,$AK7,1)) | AP7: =IF($AK7="","",INDEX(AG$6:AG$506,$AK7,1)) | AQ7: =IF($AK7="","",INDEX(AH$6:AH$506,$AK7,1)) -> 1 | AR7: =AL7&AM7&AN7&AO7&AP7 -> AnimalsTurtlesLand | AS7: =IF(AR7="","",IF(ISNUMBER(MATCH(AR7,$AR$5:AR6,0)),MATCH(AR7,$AR$5:AR6,0)-1,"")) -> 1 | AT7: =IF(AR7="","",IF(AS7="",B7,"")) | AU7: =IF(AT7="","",SUMIF(AS$6:AS$505,AT7,AQ$6:AQ$505)+AQ7) | AW7: =IFERROR(INDEX(AL$6:AL$505,SMALL($AT$6:$AT$505,$B7),1),"") -> Animals | AX7: =TRIM(SUBSTITUTE(IF(AW7="","",IF(AdvancedTreemap!$G$5="Show",BC7&"; ","")&AY7&"; "&AZ7 &"; "&BA7&"; "&BB7),"; ;","")) -> 3; Turtles; Water | AY7: =IFERROR(INDEX(AM$6:AM$505,SMALL($AT$6:$AT$505,$B7),1),"") -> Turtles | AZ7: =IFERROR(INDEX(AN$6:AN$505,SMALL($AT$6:$AT$505,$B7),1),"") -> Water | BA7: =IFERROR(INDEX(AO$6:AO$505,SMALL($AT$6:$AT$505,$B7),1),"") | BB7: =IFERROR(INDEX(AP$6:AP$505,SMALL($AT$6:$AT$505,$B7),1),"") | BC7: =IFERROR(INDEX(AU$6:AU$505,SMALL($AT$6:$AT$505,$B7),1),"") -> 3 | BF7: =IF(AW7="","",IF(AW6<>AW7,AW7,"")) | BG7: =IF(BF7="","",SUMIF($AW$6:$AW$505,BF7,$BC$6:$BC$505)) | BH7: =IF(AY7="","",IF(OR(AY6<>AY7,AW7<>AW6),AY7,"")) | BI7: =IF(BH7="","",SUMIFS($BC$6:$BC$505,$AY$6:$AY$505,BH7,$AW$6:$AW$505,AW7)) | BJ7: =IF(AZ7="","",IF(OR(AZ6<>AZ7,AY6<>AY7,AW6<>AW7),AZ7,"")) -> Water | BK7: =IF(BJ7="","",SUMIFS($BC$6:$BC$505,$AZ$6:$AZ$505,BJ7,$AW$6:$AW$505,AW7,$AY$6:$AY$505,AY7)) -> 3 | BL7: =IF(BA7="","",IF(OR(BA6<>BA7, AZ6<>AZ7,AY6<>AY7,AW6<>AW7),BA7,"")) | BM7: =IF(BL7="","",SUMIFS($BC$6:$BC$505,$AZ$6:$AZ$505,AZ7,$AW$6:$AW$505,AW7,$AY$6:$AY$505,AY7,$BA$6:$BA$505,BL7)) | BN7: =IF(BB7="","",IF(OR(BB6<>BB7, BA6<>BA7,AZ6<>AZ7,AY6<>AY7,AW6<>AW7),BB7,"")) | BO7: =BC7 -> 3
B8: 3 | C8: =""&INDEX(BasicTreemap!B$6:B$505,$B8,1) -> Animals | D8: =IF(AND(C8<>"",LEN(INDEX(BasicTreemap!C$6:C$505,$B8,1))=0),"-",""&INDEX(BasicTreemap!C$6:C$505,$B8,1)) -> Lions | E8: =IF(INDEX(BasicTreemap!D$6:D$505,$B8,1)="",1,INDEX(BasicTreemap!D$6:D$505,$B8,1)) -> 1 | F8: =IF(C8="","",IFERROR(MATCH(C8,$C$6:C8,0)+MATCH(D8,$D$6:D8,0)/1000 +B8/100000,"")) -> 3.00303 | G8: =IF(F8="","",RANK(F8,$F$6:$F$505,1)) -> 3 | H8: =IF(G8="","",MATCH($B8,$G$6:$G$505,0)) -> 3 | I8: =IF($H8="","",INDEX(C$6:C$505,$H8,1)) -> Animals | J8: =IF($H8="","",INDEX(D$6:D$505,$H8,1)) -> Lions | K8: =IF($H8="","",INDEX(E$6:E$505,$H8,1)) -> 1 | L8: =I8&J8 -> AnimalsLions | M8: =IF(L8="","",IF(ISNUMBER(MATCH(L8,$L$5:L7,0)),MATCH(L8,$L$5:L7,0)-1,"")) | N8: =IF(L8="","",IF(M8="",B8,"")) -> 3 | O8: =IF(N8="","",SUMIF($M$6:$M$505,N8,$K$6:$K$505)+K8) -> 2 | Q8: =IFERROR(INDEX(I$6:I$505,SMALL($N$6:$N$505,$B8),1),"") -> Animals | R8: =IFERROR(INDEX(J$6:J$505,SMALL($N$6:$N$505,$B8),1),"") -> Lions | S8: =IFERROR(INDEX(O$6:O$505,SMALL($N$6:$N$505,$B8),1),"") -> 2 | W8: =IF(Q7<>Q8,Q8,"") -> Animals | X8: =IF(W8="","",SUMIF($Q$6:$Q$505,W8,$S$6:$S$505)) -> 6 | Y8: =R8 -> Lions | Z8: =S8 -> 2 | AC8: =""&INDEX(AdvancedTreemap!$B$7:$B$506,$B8,1) -> Animals | AD8: =IF(AD$4="","",IF(AND(LEN(INDEX(AdvancedTreemap!$C$7:$F$506,$B8,AD$4))=0,INDEX($AD$3:$AG$3,1,AD$4)>0),"-",""&INDEX(AdvancedTreemap!$C$7:$F$506,$B8,AD$4))) -> Turtles | AE8: =IF(AE$4="","",IF(AND(LEN(INDEX(AdvancedTreemap!$C$7:$F$506,$B8,AE$4))=0,INDEX($AD$3:$AG$3,1,AE$4)>0),"-",""&INDEX(AdvancedTreemap!$C$7:$F$506,$B8,AE$4))) -> Land | AF8: =IF(AF$4="","",IF(AND(LEN(INDEX(AdvancedTreemap!$C$7:$F$506,$B8,AF$4))=0,INDEX($AD$3:$AG$3,1,AF$4)>0),"-",""&INDEX(AdvancedTreemap!$C$7:$F$506,$B8,AF$4))) | AG8: =IF(AG$4="","",IF(AND(LEN(INDEX(AdvancedTreemap!$C$7:$F$506,$B8,AG$4))=0,INDEX($AD$3:$AG$3,1,AG$4)>0),"-",""&INDEX(AdvancedTreemap!$C$7:$F$506,$B8,AG$4))) | AH8: =IF(INDEX(AdvancedTreemap!G$7:G$506,$B8,1)="",1,INDEX(AdvancedTreemap!G$7:G$506,$B8,1)) -> 1 | AI8: =IF(AC8="","",IFERROR(MATCH(AC8,$AC$6:AC8,0)+MATCH(AD8,$AD$6:AD8,0)/1000 +MATCH(AE8,$AE$6:AE8,0)/1000000+MATCH(AF8,$AF$6:AF8,0)/100000000+MATCH(AG8,$AG$6:AG8,0)/100000000+B8/100000000000,"")) -> 1.001001 | AJ8: =IF(AI8="","",RANK(AI8,$AI$6:$AI$506,1)) -> 2 | AK8: =IF(AJ8="","",MATCH(ROW(AK3),$AJ$6:$AJ$506,0)) -> 18 | AL8: =IF($AK8="","",INDEX(AC$6:AC$506,$AK8,1)) -> Animals | AM8: =IF($AK8="","",INDEX(AD$6:AD$506,$AK8,1)) -> Turtles | AN8: =IF($AK8="","",INDEX(AE$6:AE$506,$AK8,1)) -> Land | AO8: =IF($AK8="","",INDEX(AF$6:AF$506,$AK8,1)) | AP8: =IF($AK8="","",INDEX(AG$6:AG$506,$AK8,1)) | AQ8: =IF($AK8="","",INDEX(AH$6:AH$506,$AK8,1)) -> 3 | AR8: =AL8&AM8&AN8&AO8&AP8 -> AnimalsTurtlesLand | AS8: =IF(AR8="","",IF(ISNUMBER(MATCH(AR8,$AR$5:AR7,0)),MATCH(AR8,$AR$5:AR7,0)-1,"")) -> 1 | AT8: =IF(AR8="","",IF(AS8="",B8,"")) | AU8: =IF(AT8="","",SUMIF(AS$6:AS$505,AT8,AQ$6:AQ$505)+AQ8) | AW8: =IFERROR(INDEX(AL$6:AL$505,SMALL($AT$6:$AT$505,$B8),1),"") -> Animals | AX8: =TRIM(SUBSTITUTE(IF(AW8="","",IF(AdvancedTreemap!$G$5="Show",BC8&"; ","")&AY8&"; "&AZ8 &"; "&BA8&"; "&BB8),"; ;","")) -> 4; Chickens; Chicks | AY8: =IFERROR(INDEX(AM$6:AM$505,SMALL($AT$6:$AT$505,$B8),1),"") -> Chickens | AZ8: =IFERROR(INDEX(AN$6:AN$505,SMALL($AT$6:$AT$505,$B8),1),"") -> Chicks | BA8: =IFERROR(INDEX(AO$6:AO$505,SMALL($AT$6:$AT$505,$B8),1),"") | BB8: =IFERROR(INDEX(AP$6:AP$505,SMALL($AT$6:$AT$505,$B8),1),"") | BC8: =IFERROR(INDEX(AU$6:AU$505,SMALL($AT$6:$AT$505,$B8),1),"") -> 4 | BF8: =IF(AW8="","",IF(AW7<>AW8,AW8,"")) | BG8: =IF(BF8="","",SUMIF($AW$6:$AW$505,BF8,$BC$6:$BC$505)) | BH8: =IF(AY8="","",IF(OR(AY7<>AY8,AW8<>AW7),AY8,"")) -> Chickens | BI8: =IF(BH8="","",SUMIFS($BC$6:$BC$505,$AY$6:$AY$505,BH8,$AW$6:$AW$505,AW8)) -> 10 | BJ8: =IF(AZ8="","",IF(OR(AZ7<>AZ8,AY7<>AY8,AW7<>AW8),AZ8,"")) -> Chicks | BK8: =IF(BJ8="","",SUMIFS($BC$6:$BC$505,$AZ$6:$AZ$505,BJ8,$AW$6:$AW$505,AW8,$AY$6:$AY$505,AY8)) -> 4 | BL8: =IF(BA8="","",IF(OR(BA7<>BA8, AZ7<>AZ8,AY7<>AY8,AW7<>AW8),BA8,"")) | BM8: =IF(BL8="","",SUMIFS($BC$6:$BC$505,$AZ$6:$AZ$505,AZ8,$AW$6:$AW$505,AW8,$AY$6:$AY$505,AY8,$BA$6:$BA$505,BL8)) | BN8: =IF(BB8="","",IF(OR(BB7<>BB8, BA7<>BA8,AZ7<>AZ8,AY7<>AY8,AW7<>AW8),BB8,"")) | BO8: =BC8 -> 4
B9: 4 | C9: =""&INDEX(BasicTreemap!B$6:B$505,$B9,1) -> Animals | D9: =IF(AND(C9<>"",LEN(INDEX(BasicTreemap!C$6:C$505,$B9,1))=0),"-",""&INDEX(BasicTreemap!C$6:C$505,$B9,1)) -> Lions | E9: =IF(INDEX(BasicTreemap!D$6:D$505,$B9,1)="",1,INDEX(BasicTreemap!D$6:D$505,$B9,1)) -> 1 | F9: =IF(C9="","",IFERROR(MATCH(C9,$C$6:C9,0)+MATCH(D9,$D$6:D9,0)/1000 +B9/100000,"")) -> 3.00304 | G9: =IF(F9="","",RANK(F9,$F$6:$F$505,1)) -> 4 | H9: =IF(G9="","",MATCH($B9,$G$6:$G$505,0)) -> 4 | I9: =IF($H9="","",INDEX(C$6:C$505,$H9,1)) -> Animals | J9: =IF($H9="","",INDEX(D$6:D$505,$H9,1)) -> Lions | K9: =IF($H9="","",INDEX(E$6:E$505,$H9,1)) -> 1 | L9: =I9&J9 -> AnimalsLions | M9: =IF(L9="","",IF(ISNUMBER(MATCH(L9,$L$5:L8,0)),MATCH(L9,$L$5:L8,0)-1,"")) -> 3 | N9: =IF(L9="","",IF(M9="",B9,"")) | O9: =IF(N9="","",SUMIF($M$6:$M$505,N9,$K$6:$K$505)+K9) | Q9: =IFERROR(INDEX(I$6:I$505,SMALL($N$6:$N$505,$B9),1),"") -> Animals | R9: =IFERROR(INDEX(J$6:J$505,SMALL($N$6:$N$505,$B9),1),"") -> Cows | S9: =IFERROR(INDEX(O$6:O$505,SMALL($N$6:$N$505,$B9),1),"") -> 2 | W9: =IF(Q8<>Q9,Q9,"") | X9: =IF(W9="","",SUMIF($Q$6:$Q$505,W9,$S$6:$S$505)) | Y9: =R9 -> Cows | Z9: =S9 -> 2 | AC9: =""&INDEX(AdvancedTreemap!$B$7:$B$506,$B9,1) -> Animals | AD9: =IF(AD$4="","",IF(AND(LEN(INDEX(AdvancedTreemap!$C$7:$F$506,$B9,AD$4))=0,INDEX($AD$3:$AG$3,1,AD$4)>0),"-",""&INDEX(AdvancedTreemap!$C$7:$F$506,$B9,AD$4))) -> Chickens | AE9: =IF(AE$4="","",IF(AND(LEN(INDEX(AdvancedTreemap!$C$7:$F$506,$B9,AE$4))=0,INDEX($AD$3:$AG$3,1,AE$4)>0),"-",""&INDEX(AdvancedTreemap!$C$7:$F$506,$B9,AE$4))) -> Chicks | AF9: =IF(AF$4="","",IF(AND(LEN(INDEX(AdvancedTreemap!$C$7:$F$506,$B9,AF$4))=0,INDEX($AD$3:$AG$3,1,AF$4)>0),"-",""&INDEX(AdvancedTreemap!$C$7:$F$506,$B9,AF$4))) | AG9: =IF(AG$4="","",IF(AND(LEN(INDEX(AdvancedTreemap!$C$7:$F$506,$B9,AG$4))=0,INDEX($AD$3:$AG$3,1,AG$4)>0),"-",""&INDEX(AdvancedTreemap!$C$7:$F$506,$B9,AG$4))) | AH9: =IF(INDEX(AdvancedTreemap!G$7:G$506,$B9,1)="",1,INDEX(AdvancedTreemap!G$7:G$506,$B9,1)) -> 4 | AI9: =IF(AC9="","",IFERROR(MATCH(AC9,$AC$6:AC9,0)+MATCH(AD9,$AD$6:AD9,0)/1000 +MATCH(AE9,$AE$6:AE9,0)/1000000+MATCH(AF9,$AF$6:AF9,0)/100000000+MATCH(AG9,$AG$6:AG9,0)/100000000+B9/100000000000,"")) -> 1.004004 | AJ9: =IF(AI9="","",RANK(AI9,$AI$6:$AI$506,1)) -> 5 | AK9: =IF(AJ9="","",MATCH(ROW(AK4),$AJ$6:$AJ$506,0)) -> 2 | AL9: =IF($AK9="","",INDEX(AC$6:AC$506,$AK9,1)) -> Animals | AM9: =IF($AK9="","",INDEX(AD$6:AD$506,$AK9,1)) -> Turtles | AN9: =IF($AK9="","",INDEX(AE$6:AE$506,$AK9,1)) -> Water | AO9: =IF($AK9="","",INDEX(AF$6:AF$506,$AK9,1)) | AP9: =IF($AK9="","",INDEX(AG$6:AG$506,$AK9,1)) | AQ9: =IF($AK9="","",INDEX(AH$6:AH$506,$AK9,1)) -> 3 | AR9: =AL9&AM9&AN9&AO9&AP9 -> AnimalsTurtlesWater | AS9: =IF(AR9="","",IF(ISNUMBER(MATCH(AR9,$AR$5:AR8,0)),MATCH(AR9,$AR$5:AR8,0)-1,"")) | AT9: =IF(AR9="","",IF(AS9="",B9,"")) -> 4 | AU9: =IF(AT9="","",SUMIF(AS$6:AS$505,AT9,AQ$6:AQ$505)+AQ9) -> 3 | AW9: =IFERROR(INDEX(AL$6:AL$505,SMALL($AT$6:$AT$505,$B9),1),"") -> Animals | AX9: =TRIM(SUBSTITUTE(IF(AW9="","",IF(AdvancedTreemap!$G$5="Show",BC9&"; ","")&AY9&"; "&AZ9 &"; "&BA9&"; "&BB9),"; ;","")) -> 6; Chickens; Hean | AY9: =IFERROR(INDEX(AM$6:AM$505,SMALL($AT$6:$AT$505,$B9),1),"") -> Chickens | AZ9: =IFERROR(INDEX(AN$6:AN$505,SMALL($AT$6:$AT$505,$B9),1),"") -> Hean | BA9: =IFERROR(INDEX(AO$6:AO$505,SMALL($AT$6:$AT$505,$B9),1),"") | BB9: =IFERROR(INDEX(AP$6:AP$505,SMALL($AT$6:$AT$505,$B9),1),"") | BC9: =IFERROR(INDEX(AU$6:AU$505,SMALL($AT$6:$AT$505,$B9),1),"") -> 6 | BF9: =IF(AW9="","",IF(AW8<>AW9,AW9,"")) | BG9: =IF(BF9="","",SUMIF($AW$6:$AW$505,BF9,$BC$6:$BC$505)) | BH9: =IF(AY9="","",IF(OR(AY8<>AY9,AW9<>AW8),AY9,"")) | BI9: =IF(BH9="","",SUMIFS($BC$6:$BC$505,$AY$6:$AY$505,BH9,$AW$6:$AW$505,AW9)) | BJ9: =IF(AZ9="","",IF(OR(AZ8<>AZ9,AY8<>AY9,AW8<>AW9),AZ9,"")) -> Hean | BK9: =IF(BJ9="","",SUMIFS($BC$6:$BC$505,$AZ$6:$AZ$505,BJ9,$AW$6:$AW$505,AW9,$AY$6:$AY$505,AY9)) -> 6 | BL9: =IF(BA9="","",IF(OR(BA8<>BA9, AZ8<>AZ9,AY8<>AY9,AW8<>AW9),BA9,"")) | BM9: =IF(BL9="","",SUMIFS($BC$6:$BC$505,$AZ$6:$AZ$505,AZ9,$AW$6:$AW$505,AW9,$AY$6:$AY$505,AY9,$BA$6:$BA$505,BL9)) | BN9: =IF(BB9="","",IF(OR(BB8<>BB9, BA8<>BA9,AZ8<>AZ9,AY8<>AY9,AW8<>AW9),BB9,"")) | BO9: =BC9 -> 6
B10: 5 | C10: =""&INDEX(BasicTreemap!B$6:B$505,$B10,1) -> Animals | D10: =IF(AND(C10<>"",LEN(INDEX(BasicTreemap!C$6:C$505,$B10,1))=0),"-",""&INDEX(BasicTreemap!C$6:C$505,$B10,1)) -> Cows | E10: =IF(INDEX(BasicTreemap!D$6:D$505,$B10,1)="",1,INDEX(BasicTreemap!D$6:D$505,$B10,1)) -> 1 | F10: =IF(C10="","",IFERROR(MATCH(C10,$C$6:C10,0)+MATCH(D10,$D$6:D10,0)/1000 +B10/100000,"")) -> 3.00505 | G10: =IF(F10="","",RANK(F10,$F$6:$F$505,1)) -> 5 | H10: =IF(G10="","",MATCH($B10,$G$6:$G$505,0)) -> 5 | I10: =IF($H10="","",INDEX(C$6:C$505,$H10,1)) -> Animals | J10: =IF($H10="","",INDEX(D$6:D$505,$H10,1)) -> Cows | K10: =IF($H10="","",INDEX(E$6:E$505,$H10,1)) -> 1 | L10: =I10&J10 -> AnimalsCows | M10: =IF(L10="","",IF(ISNUMBER(MATCH(L10,$L$5:L9,0)),MATCH(L10,$L$5:L9,0)-1,"")) | N10: =IF(L10="","",IF(M10="",B10,"")) -> 5 | O10: =IF(N10="","",SUMIF($M$6:$M$505,N10,$K$6:$K$505)+K10) -> 2 | Q10: =IFERROR(INDEX(I$6:I$505,SMALL($N$6:$N$505,$B10),1),"") -> Animals | R10: =IFERROR(INDEX(J$6:J$505,SMALL($N$6:$N$505,$B10),1),"") -> Chickens | S10: =IFERROR(INDEX(O$6:O$505,SMALL($N$6:$N$505,$B10),1),"") -> 2 | W10: =IF(Q9<>Q10,Q10,"") | X10: =IF(W10="","",SUMIF($Q$6:$Q$505,W10,$S$6:$S$505)) | Y10: =R10 -> Chickens | Z10: =S10 -> 2 | AC10: =""&INDEX(AdvancedTreemap!$B$7:$B$506,$B10,1) -> Animals | AD10: =IF(AD$4="","",IF(AND(LEN(INDEX(AdvancedTreemap!$C$7:$F$506,$B10,AD$4))=0,INDEX($AD$3:$AG$3,1,AD$4)>0),"-",""&INDEX(AdvancedTreemap!$C$7:$F$506,$B10,AD$4))) -> Chickens | AE10: =IF(AE$4="","",IF(AND(LEN(INDEX(AdvancedTreemap!$C$7:$F$506,$B10,AE$4))=0,INDEX($AD$3:$AG$3,1,AE$4)>0),"-",""&INDEX(AdvancedTreemap!$C$7:$F$506,$B10,AE$4))) -> Hean | AF10: =IF(AF$4="","",IF(AND(LEN(INDEX(AdvancedTreemap!$C$7:$F$506,$B10,AF$4))=0,INDEX($AD$3:$AG$3,1,AF$4)>0),"-",""&INDEX(AdvancedTreemap!$C$7:$F$506,$B10,AF$4))) | AG10: =IF(AG$4="","",IF(AND(LEN(INDEX(AdvancedTreemap!$C$7:$F$506,$B10,AG$4))=0,INDEX($AD$3:$AG$3,1,AG$4)>0),"-",""&INDEX(AdvancedTreemap!$C$7:$F$506,$B10,AG$4))) | AH10: =IF(INDEX(AdvancedTreemap!G$7:G$506,$B10,1)="",1,INDEX(AdvancedTreemap!G$7:G$506,$B10,1)) -> 1 | AI10: =IF(AC10="","",IFERROR(MATCH(AC10,$AC$6:AC10,0)+MATCH(AD10,$AD$6:AD10,0)/1000 +MATCH(AE10,$AE$6:AE10,0)/1000000+MATCH(AF10,$AF$6:AF10,0)/100000000+MATCH(AG10,$AG$6:AG10,0)/100000000+B10/100000000000,"")) -> 1.004005 | AJ10: =IF(AI10="","",RANK(AI10,$AI$6:$AI$506,1)) -> 6 | AK10: =IF(AJ10="","",MATCH(ROW(AK5),$AJ$6:$AJ$506,0)) -> 4 | AL10: =IF($AK10="","",INDEX(AC$6:AC$506,$AK10,1)) -> Animals | AM10: =IF($AK10="","",INDEX(AD$6:AD$506,$AK10,1)) -> Chickens | AN10: =IF($AK10="","",INDEX(AE$6:AE$506,$AK10,1)) -> Chicks | AO10: =IF($AK10="","",INDEX(AF$6:AF$506,$AK10,1)) | AP10: =IF($AK10="","",INDEX(AG$6:AG$506,$AK10,1)) | AQ10: =IF($AK10="","",INDEX(AH$6:AH$506,$AK10,1)) -> 4 | AR10: =AL10&AM10&AN10&AO10&AP10 -> AnimalsChickensChicks | AS10: =IF(AR10="","",IF(ISNUMBER(MATCH(AR10,$AR$5:AR9,0)),MATCH(AR10,$AR$5:AR9,0)-1,"")) | AT10: =IF(AR10="","",IF(AS10="",B10,"")) -> 5 | AU10: =IF(AT10="","",SUMIF(AS$6:AS$505,AT10,AQ$6:AQ$505)+AQ10) -> 4 | AW10: =IFERROR(INDEX(AL$6:AL$505,SMALL($AT$6:$AT$505,$B10),1),"") -> Plants | AX10: =TRIM(SUBSTITUTE(IF(AW10="","",IF(AdvancedTreemap!$G$5="Show",BC10&"; ","")&AY10&"; "&AZ10 &"; "&BA10&"; "&BB10),"; ;","")) -> 3; Corn; Boiled | AY10: =IFERROR(INDEX(AM$6:AM$505,SMALL($AT$6:$AT$505,$B10),1),"") -> Corn | AZ10: =IFERROR(INDEX(AN$6:AN$505,SMALL($AT$6:$AT$505,$B10),1),"") -> Boiled | BA10: =IFERROR(INDEX(AO$6:AO$505,SMALL($AT$6:$AT$505,$B10),1),"") | BB10: =IFERROR(INDEX(AP$6:AP$505,SMALL($AT$6:$AT$505,$B10),1),"") | BC10: =IFERROR(INDEX(AU$6:AU$505,SMALL($AT$6:$AT$505,$B10),1),"") -> 3 | BF10: =IF(AW10="","",IF(AW9<>AW10,AW10,"")) -> Plants | BG10: =IF(BF10="","",SUMIF($AW$6:$AW$505,BF10,$BC$6:$BC$505)) -> 9 | BH10: =IF(AY10="","",IF(OR(AY9<>AY10,AW10<>AW9),AY10,"")) -> Corn | BI10: =IF(BH10="","",SUMIFS($BC$6:$BC$505,$AY$6:$AY$505,BH10,$AW$6:$AW$505,AW10)) -> 4 | BJ10: =IF(AZ10="","",IF(OR(AZ9<>AZ10,AY9<>AY10,AW9<>AW10),AZ10,"")) -> Boiled | BK10: =IF(BJ10="","",SUMIFS($BC$6:$BC$505,$AZ$6:$AZ$505,BJ10,$AW$6:$AW$505,AW10,$AY$6:$AY$505,AY10)) -> 3 | BL10: =IF(BA10="","",IF(OR(BA9<>BA10, AZ9<>AZ10,AY9<>AY10,AW9<>AW10),BA10,"")) | BM10: =IF(BL10="","",SUMIFS($BC$6:$BC$505,$AZ$6:$AZ$505,AZ10,$AW$6:$AW$505,AW10,$AY$6:$AY$505,AY10,$BA$6:$BA$505,BL10)) | BN10: =IF(BB10="","",IF(OR(BB9<>BB10, BA9<>BA10,AZ9<>AZ10,AY9<>AY10,AW9<>AW10),BB10,"")) | BO10: =BC10 -> 3
