Workbook
Name DPMOlevels: SixSigmaLevels!$G$9:$G$59
Name DPMOlevelswos: SixSigmaLevels!$D$9:$D$59
Name PCount: Calc!$CB$4
Name Pdata: OFFSET(Calc!$CC$9,0,0,PCount,1)
Name PLCL: OFFSET(Calc!$CG$9,0,0,PCount,1)
Name Pmean: OFFSET(Calc!$CD$9,0,0,PCount,1)
Name PUCL: OFFSET(Calc!$CF$9,0,0,PCount,1)
Name UCount: Calc!$CL$4
Name Udata: OFFSET(Calc!$CM$9,0,0,UCount,1)
Name ULCL: OFFSET(Calc!$CQ$9,0,0,UCount,1)
Name Umean: OFFSET(Calc!$CN$9,0,0,UCount,1)
Name UUCL: OFFSET(Calc!$CP$9,0,0,UCount,1)
Name Xbar: OFFSET(Calc!$AB$9,0,0,XbarCount,1)
Name Xbar3s: OFFSET(Calc!$AM$9,0,0,XbarCount,1)
Name Xbar3ss: OFFSET(Calc!$AS$9,0,0,XbarCount,1)
Name Xbar6s: OFFSET(Calc!$AJ$9,0,0,XbarCount,1)
Name Xbar6ss: OFFSET(Calc!$AV$9,0,0,XbarCount,1)
Name XbarBell: Calc!$AJ$5:$AV$5
Name XbarBellCurve: Calc!$AJ$9:$AV$9
Name XbarCount: Calc!$S$4
Name XbarLCL: OFFSET(Calc!$AF$9,0,0,XbarCount,1)
Name XbarMean: OFFSET(Calc!$AD$9,0,0,XbarCount,1)
Name Xbarmeanline: OFFSET(Calc!$AP$9,0,0,XbarCount,1)
Name XbarR: OFFSET(Calc!$AC$9,0,0,XbarCount,1)
Name XbarRmean: OFFSET(Calc!$AG$9,0,0,XbarCount,1)
Name XbarUCL: OFFSET(Calc!$AE$9,0,0,XbarCount,1)
Name XbarUCLR: OFFSET(Calc!$AH$9,0,0,XbarCount,1)
Name XMRBell: Calc!$BJ$5:$BV$5
Name XMRBellCurve: Calc!$BJ$9:$BV$9
Name XMRCount: Calc!$BB$4
Name XMRLCL: OFFSET(Calc!$BF$9,0,0,XMRCount,1)
Name XMRmean: OFFSET(Calc!$BC$9,0,0,XMRCount,1)
Name XMRmr: OFFSET(Calc!$BD$9,0,0,XMRCount,1)
Name XMRr: OFFSET(Calc!$BB$9,0,0,XMRCount,1)
Name XMRUCL: OFFSET(Calc!$BE$9,0,0,XMRCount,1)
Name XMRUCLR: OFFSET(Calc!$BG$9,0,0,XMRCount,1)
Name XMRx: OFFSET(Calc!$BA$9,0,0,XMRCount,1)

Sheet Menu
C2: SIX SIGMA CALCULATOR TEMPLATE
C3: MENU
C7: SIMPLE CALCULATOR | I7: ADVANCED CHARTS
C10: Data Type | D10: Continuous | I10: MEASURED DATA | M10: COUNTED DATA
C12: =IF($D$10="Discrete","Number of units tested","Average") -> Average | E12: 50
C13: =IF($D$10="Discrete","Number of defects","Standard Deviation") -> Standard Deviation | E13: 3
C14: =IF($D$10="Discrete","Opportunities per unit","Upper Limit") -> Upper Limit | E14: 55
C15: =IF($D$10="Discrete","","Lower Limit") -> Lower Limit | E15: 45
C17: =IF($D$10="Discrete","Defects per Unit","Z-score for Upper Limit") -> Z-score for Upper Limit | E17: =IFERROR(IF($D$10="Discrete",E14/E12,(E14-E12)/E13),"") -> 1.6666667
C18: =IF($D$10="Discrete","Opportunities per Unit","Z-score for Lower Limit") -> Z-score for Lower Limit | E18: =IFERROR(IF($D$10="Discrete",E14/E13/E12,(E12-E15)/E13),"") -> 1.6666667
C19: =IF($D$10="Discrete","DPMO","% of Data Greater than Upper Limit") -> % of Data Greater than Upper Limit | E19: =IFERROR(IF($D$10="Discrete",E18*1000000,(1-INDEX(Calc!$D$24:$M$104,MATCH(TRUNC(E17,1),Calc!$C$24:$C$104,0),MATCH(ABS(TRUNC((E17-TRUNC(E17,1)),2)),Calc!$D$24:$M$24,0)))*100),"") -> 4.846
C20: =IF($D$10="Discrete","Defect Free %","% of Data Less than Lower Limit") -> % of Data Less than Lower Limit | E20: =IFERROR(IF($D$10="Discrete",100*(1000000-E19)/1000000,(1-INDEX(Calc!$D$24:$M$104,MATCH(TRUNC(E17,1),Calc!$C$24:$C$104,0),MATCH(ABS(TRUNC((E17-TRUNC(E17,1)),2)),Calc!$D$24:$M$24,0)))*100),"") -> 4.846
C21: =IF($D$10="Discrete","Sigma Level (Short Term)","% of Data in Specification Limits") -> % of Data in Specification Limits | E21: {=IFERROR(IF($D$10="Discrete",INDEX(SixSigmaLevels!$C$9:$C$59,MATCH(MIN(ABS(DPMOlevels-Menu!E19)),ABS(DPMOlevels-Menu!E19),0)),100-E19-E20),"")} -> 90.308
C22: =IF($D$10="Discrete","Sigma Level (Long Term)","DPMO") -> DPMO | E22: {=IFERROR(IF($D$10="Discrete",INDEX(SixSigmaLevels!$C$9:$C$59,MATCH(MIN(ABS(DPMOlevelswos-Menu!E19)),ABS(DPMOlevelswos-Menu!E19),0)),1000000-E21*10000),"")} -> 96920
C23: =IF($D$10="Discrete","","Sigma Level (Short Term)") -> Sigma Level (Short Term) | E23: {=IFERROR(IF($D$10="Discrete","",INDEX(SixSigmaLevels!$C$9:$C$59,MATCH(MIN(ABS(DPMOlevels-Menu!E22)),ABS(DPMOlevels-Menu!E22),0))),"")} -> 2.8
C24: =IF($D$10="Discrete","","Sigma Level (Long Term)") -> Sigma Level (Long Term) | E24: {=IFERROR(IF($D$10="Discrete","",INDEX(SixSigmaLevels!$C$9:$C$59,MATCH(MIN(ABS(DPMOlevelswos-Menu!E22)),ABS(DPMOlevelswos-Menu!E22),0))),"")} -> 1.7

Sheet MeasuredXMR
C2: SIX SIGMA CALCULATOR TEMPLATE
C3: X, MR CHART
C7: Specifications (for reference) | G7: Statistics
C8: Target | E8: 5.9 | G8: Average, X̅ | H8: =IFERROR(AVERAGE($E$15:$E$29),"") -> 5.8989 | I8: UCL-X | J8: =IFERROR(Calc!$BE$9,"") -> 5.9506139 | K8: Cp | L8: =IFERROR(($E$11-$E$10)/$J$11,"") -> 1.4511429
C9: Unit | E9: mm | G9: Range | H9: =IFERROR(IF(LEN(E15)>0,(MAX($E$15:$E$29)-MIN($E$15:$E$29)),""),"") -> 0.03 | I9: LCL-X | J9: =IFERROR(Calc!$BF$9,"") -> 5.8471861 | K9: Cpk | L9: =IFERROR(MIN(ABS($H$8-$E$10),ABS($E$11-$H$8))/$J$10,"") -> 1.4192177
C10: Lower Limit | E10: 5.85 | G10: R̄ | H10: =IFERROR(Calc!$BB$9,"") -> 0.019444444 | I10: 3s | J10: =IFERROR($H$10/INDEX(Calc!$F$8:$F$17,MATCH(1,Calc!$C$8:$C$17,0))*3,"") -> 0.034455601 | K10: Pp | L10: =IFERROR(($E$11-$E$10)/(6*_xlfn.STDEV.P($E$15:$E$29)),"") -> 1.5784499
C11: Upper Limit | E11: 5.95 | G11: UCL-R | H11: =IFERROR(Calc!$BG$9,"") -> 0.063525 | I11: 6s | J11: =IFERROR(J10*2,"") -> 0.068911203 | K11: Ppk | L11: =IFERROR(MIN(ABS($H$8-$E$10),ABS($E$11-$H$8))/(3*_xlfn.STDEV.P($E$15:$E$29)),"") -> 1.543724
C13: Measurements
C14: Sample | E14: Measurement
C15: 1 | E15: 5.9
C16: 2 | E16: 5.89
C17: 3 | E17: 5.91
C18: 4 | E18: 5.897
C19: 5 | E19: 5.903
C20: 6 | E20: 5.887
C21: 7 | E21: 5.913
C22: 8 | E22: 5.885
C23: 9 | E23: 5.915
C24: 10 | E24: 5.889
C25: 11
C26: 12
C27: 13
C28: 14
C29: 15
C30: 16
C31: 17
C32: 18
C33: 19
C34: 20
C35: 21
C36: 22
... C114: 100

Sheet MeasuredXbarR
C2: SIX SIGMA CALCULATOR TEMPLATE
C3: X-bar, R CHART
C7: Specifications (for reference) | Q7: Statistics
C8: Target | F8: 6 | Q8: Average, X̅ | R8: =IFERROR(AVERAGE($D$15:$H$29),"") -> 5.9902 | S8: UCL-X | T8: =IFERROR(Calc!$AE$9,"") -> 6.0911403 | U8: Cp | V8: =IFERROR(($F$11-$F$10)/$T$11,"") -> 1.7721905
C9: Unit | F9: mm | Q9: Range | R9: =IFERROR(IF(LEN($D$15)>0,(MAX($D$15:$H$29)-MIN($D$15:$H$29)),""),"") -> 0.24 | S9: LCL-X | T9: =IFERROR(Calc!$AF$9,"") -> 5.8892597 | U9: Cpk | V9: =IFERROR(MIN(ABS($R$8-$F$10),ABS($F$11-$R$8))/$T$10,"") -> 0.39962895
C10: Lower Limit | F10: 5.9 | Q10: R̄ | R10: =IFERROR(Calc!$AG$9,"") -> 0.175 | S10: 3s | T10: =IFERROR($R$10/INDEX(Calc!$F$8:$F$17,MATCH(COUNTA($D$15:$H$15),Calc!$C$8:$C$17,0))*3,"") -> 0.22570937 | U10: Pp | V10: =IFERROR(($F$11-$F$10)/(6*_xlfn.STDEV.P($D$15:$H$29)),"") -> 0.44190014
C11: Upper Limit | F11: 6.1 | Q11: UCL-R | R11: =IFERROR(Calc!$AH$9,"") -> 0.36995 | S11: 6s | T11: =IFERROR($T$10/2,"") -> 0.11285469 | U11: Ppk | V11: =IFERROR(MIN(ABS($R$8-$F$10),ABS($F$11-$R$8))/(3*_xlfn.STDEV.P($D$15:$H$29)),"") -> 0.39859393
C13: Measurements | N13: Chart Data Points
C14: Sample | D14: X1 | E14: X2 | F14: X3 | G14: X4 | H14: X5 | I14: X6 | J14: X7 | K14: X8 | L14: X9 | M14: X10 | N14: X-bar | O14: R
C15: 1 | D15: 6.1 | E15: 6.09 | F15: 6.09 | G15: 5.98 | H15: 5.92 | N15: =IF(LEN(D15)>0,AVERAGE($D15:$H15),"") -> 6.036 | O15: =IF(LEN(D15)>0,MAX($D15:$H15)-MIN($D15:$H15),"") -> 0.18
C16: 2 | D16: 5.91 | E16: 6.02 | F16: 5.95 | G16: 5.88 | H16: 5.92 | N16: =IF(LEN(D16)>0,AVERAGE($D16:$H16),"") -> 5.936 | O16: =IF(LEN(D16)>0,MAX($D16:$H16)-MIN($D16:$H16),"") -> 0.14
C17: 3 | D17: 5.93 | E17: 6.09 | F17: 5.91 | G17: 5.94 | H17: 5.92 | N17: =IF(LEN(D17)>0,AVERAGE($D17:$H17),"") -> 5.958 | O17: =IF(LEN(D17)>0,MAX($D17:$H17)-MIN($D17:$H17),"") -> 0.18
C18: 4 | D18: 5.92 | E18: 5.97 | F18: 6.06 | G18: 6.07 | H18: 6.07 | N18: =IF(LEN(D18)>0,AVERAGE($D18:$H18),"") -> 6.018 | O18: =IF(LEN(D18)>0,MAX($D18:$H18)-MIN($D18:$H18),"") -> 0.15
C19: 5 | D19: 5.95 | E19: 5.91 | F19: 5.92 | G19: 6.11 | H19: 6.02 | N19: =IF(LEN(D19)>0,AVERAGE($D19:$H19),"") -> 5.982 | O19: =IF(LEN(D19)>0,MAX($D19:$H19)-MIN($D19:$H19),"") -> 0.2
C20: 6 | D20: 6.08 | E20: 6.09 | F20: 6.09 | G20: 5.9 | H20: 5.94 | N20: =IF(LEN(D20)>0,AVERAGE($D20:$H20),"") -> 6.02 | O20: =IF(LEN(D20)>0,MAX($D20:$H20)-MIN($D20:$H20),"") -> 0.19
C21: 7 | D21: 5.98 | E21: 5.97 | F21: 5.97 | G21: 5.92 | H21: 6.08 | N21: =IF(LEN(D21)>0,AVERAGE($D21:$H21),"") -> 5.984 | O21: =IF(LEN(D21)>0,MAX($D21:$H21)-MIN($D21:$H21),"") -> 0.16
C22: 8 | D22: 5.95 | E22: 6.07 | F22: 5.96 | G22: 6.06 | H22: 5.93 | N22: =IF(LEN(D22)>0,AVERAGE($D22:$H22),"") -> 5.994 | O22: =IF(LEN(D22)>0,MAX($D22:$H22)-MIN($D22:$H22),"") -> 0.14
C23: 9 | D23: 5.91 | E23: 5.9 | F23: 5.91 | G23: 6.12 | H23: 6.07 | N23: =IF(LEN(D23)>0,AVERAGE($D23:$H23),"") -> 5.982 | O23: =IF(LEN(D23)>0,MAX($D23:$H23)-MIN($D23:$H23),"") -> 0.22
C24: 10 | D24: 6.08 | E24: 5.89 | F24: 5.96 | G24: 6.08 | H24: 5.95 | N24: =IF(LEN(D24)>0,AVERAGE($D24:$H24),"") -> 5.992 | O24: =IF(LEN(D24)>0,MAX($D24:$H24)-MIN($D24:$H24),"") -> 0.19
C25: 11 | N25: =IF(LEN(D25)>0,AVERAGE($D25:$H25),"") | O25: =IF(LEN(D25)>0,MAX($D25:$H25)-MIN($D25:$H25),"")
C26: 12 | N26: =IF(LEN(D26)>0,AVERAGE($D26:$H26),"") | O26: =IF(LEN(D26)>0,MAX($D26:$H26)-MIN($D26:$H26),"")
C27: 13 | N27: =IF(LEN(D27)>0,AVERAGE($D27:$H27),"") | O27: =IF(LEN(D27)>0,MAX($D27:$H27)-MIN($D27:$H27),"")
C28: 14 | N28: =IF(LEN(D28)>0,AVERAGE($D28:$H28),"") | O28: =IF(LEN(D28)>0,MAX($D28:$H28)-MIN($D28:$H28),"")
C29: 15 | N29: =IF(LEN(D29)>0,AVERAGE($D29:$H29),"") | O29: =IF(LEN(D29)>0,MAX($D29:$H29)-MIN($D29:$H29),"")
C30: 16
C31: 17
C32: 18
C33: 19
C34: 20
C35: 21
C36: 22
C37: 23
C38: 24
C39: 25
C40: 26
C41: 27
... C114: 100

Sheet CountDefectives
C2: SIX SIGMA CALCULATOR TEMPLATE
C3: P CHART
C7: Data Input Area | F7: Chart Data Points | H7: Statistics | I7: Average, P | J7: Mean, UCL-P | K7: Mean, LCL-P | L7: s | M7: 3s | N7: 6s
C8: Day / Lot | D8: Lot Size, n | E8: Number of Defective Units, D | F8: Defective Rate, P | I8: =IFERROR(AVERAGE($F$9:$F$23),"") -> 0.014059621 | J8: =IFERROR(AVERAGE(Calc!$CF$9:$CF$23),"") -> 0.024172129 | K8: =IFERROR(AVERAGE(Calc!$CG$9:$CG$23),"") -> 0.0039471134 | L8: =IFERROR(_xlfn.STDEV.P($F$9:$F$23),"") -> 0.0036036455 | M8: =IFERROR($L$8*3,"") -> 0.010810936 | N8: =IFERROR($L$8*6,"") -> 0.021621873
C9: 1 | D9: 1250 | E9: 18 | F9: =IFERROR(IF(LEN(D9)>0,E9/D9,""),"") -> 0.0144
C10: 2 | D10: 1300 | E10: 25 | F10: =IFERROR(IF(LEN(D10)>0,E10/D10,""),"") -> 0.019230769
C11: 3 | D11: 1500 | E11: 28 | F11: =IFERROR(IF(LEN(D11)>0,E11/D11,""),"") -> 0.018666667
C12: 4 | D12: 1125 | E12: 17 | F12: =IFERROR(IF(LEN(D12)>0,E12/D12,""),"") -> 0.015111111
C13: 5 | D13: 1160 | E13: 10 | F13: =IFERROR(IF(LEN(D13)>0,E13/D13,""),"") -> 0.0086206897
C14: 6 | D14: 1050 | E14: 9 | F14: =IFERROR(IF(LEN(D14)>0,E14/D14,""),"") -> 0.0085714286
C15: 7 | D15: 1036.6667 | E15: 11 | F15: =IFERROR(IF(LEN(D15)>0,E15/D15,""),"") -> 0.010610932
C16: 8 | D16: 1300 | E16: 20 | F16: =IFERROR(IF(LEN(D16)>0,E16/D16,""),"") -> 0.015384615
C17: 9 | D17: 1500 | E17: 25 | F17: =IFERROR(IF(LEN(D17)>0,E17/D17,""),"") -> 0.016666667
C18: 10 | D18: 1125 | E18: 15 | F18: =IFERROR(IF(LEN(D18)>0,E18/D18,""),"") -> 0.013333333
C19: 11 | F19: =IFERROR(IF(LEN(D19)>0,E19/D19,""),"")
C20: 12 | F20: =IFERROR(IF(LEN(D20)>0,E20/D20,""),"")
C21: 13 | F21: =IFERROR(IF(LEN(D21)>0,E21/D21,""),"")
C22: 14 | F22: =IFERROR(IF(LEN(D22)>0,E22/D22,""),"")
C23: 15 | F23: =IFERROR(IF(LEN(D23)>0,E23/D23,""),"")
C24: 16
C25: 17
C26: 18
C27: 19
C28: 20
C29: 21
C30: 22
C31: 23
C32: 24
C33: 25
C34: 26
C35: 27
... C108: 100

Sheet CountDefects
C2: SIX SIGMA CALCULATOR TEMPLATE
C3: U CHART
C7: Data Input Area | F7: Chart Data Points | H7: Statistics | I7: Average, U | J7: Mean, UCL-U | K7: Mean, LCL-U | L7: s | M7: 3s | N7: 6s
C8: Sample | D8: Units, n | E8: Total Defects, C | F8: Defects per Unit, U | I8: =IFERROR(AVERAGE($F$9:$F$23),"") -> 0.0069346438 | J8: =IFERROR(AVERAGE(Calc!CP9:$CP$23),"") -> 0.012774648 | K8: =IFERROR(AVERAGE(Calc!$CQ$9:$CQ$23),"") -> 0.0010946392 | L8: =IFERROR(_xlfn.STDEV.P($F$9:$F$23),"") -> 0.0019674879 | M8: =IFERROR($L$8*3,"") -> 0.0059024637 | N8: =IFERROR($L$8*6,"") -> 0.011804927
C9: 1 | D9: 1875 | E9: 13 | F9: =IFERROR(IF(LEN(D9)>0,E9/D9,""),"") -> 0.0069333333
C10: 2 | D10: 1950 | E10: 19 | F10: =IFERROR(IF(LEN(D10)>0,E10/D10,""),"") -> 0.0097435897
C11: 3 | D11: 2250 | E11: 21 | F11: =IFERROR(IF(LEN(D11)>0,E11/D11,""),"") -> 0.0093333333
C12: 4 | D12: 1687.5 | E12: 13 | F12: =IFERROR(IF(LEN(D12)>0,E12/D12,""),"") -> 0.0077037037
C13: 5 | D13: 1740 | E13: 7 | F13: =IFERROR(IF(LEN(D13)>0,E13/D13,""),"") -> 0.0040229885
C14: 6 | D14: 1575 | E14: 6 | F14: =IFERROR(IF(LEN(D14)>0,E14/D14,""),"") -> 0.0038095238
C15: 7 | D15: 1555 | E15: 8 | F15: =IFERROR(IF(LEN(D15)>0,E15/D15,""),"") -> 0.0051446945
C16: 8 | D16: 1950 | E16: 15 | F16: =IFERROR(IF(LEN(D16)>0,E16/D16,""),"") -> 0.0076923077
C17: 9 | D17: 2250 | E17: 19 | F17: =IFERROR(IF(LEN(D17)>0,E17/D17,""),"") -> 0.0084444444
C18: 10 | D18: 1687.5 | E18: 11 | F18: =IFERROR(IF(LEN(D18)>0,E18/D18,""),"") -> 0.0065185185
C19: 11 | F19: =IFERROR(IF(LEN(D19)>0,E19/D19,""),"")
C20: 12 | F20: =IFERROR(IF(LEN(D20)>0,E20/D20,""),"")
C21: 13 | F21: =IFERROR(IF(LEN(D21)>0,E21/D21,""),"")
C22: 14 | F22: =IFERROR(IF(LEN(D22)>0,E22/D22,""),"")
C23: 15 | F23: =IFERROR(IF(LEN(D23)>0,E23/D23,""),"")
C24: 16
C25: 17
C26: 18
C27: 19
C28: 20
C29: 21
C30: 22
C31: 23
C32: 24
C33: 25
C34: 26
C35: 27
... C108: 100

Sheet SixSigmaLevels
C2: SIX SIGMA CALCULATOR TEMPLATE
C3: SIX SIGMA LEVELS
D7: Long Term (without 1.5 Sigma Shift) | G7: Short Term (with 1.5 Sigma Shift)
C8: Sigma Level | D8: DPMO | E8: Yield | F8: Defect Rate | G8: DPMO | H8: Yield | I8: Defect Rate
C9: 1 | D9: 317310 | E9: 68.2690000% | F9: 31.7310000% | G9: 697612 | H9: 30.23880% | I9: 69.76120%
C10: 1.1 | D10: 271332 | E10: 72.8668000% | F10: 27.1332000% | G10: 660082 | H10: 33.99180% | I10: 66.00820%
C11: 1.2 | D11: 230139 | E11: 76.9861000% | F11: 23.0139000% | G11: 621378 | H11: 37.86220% | I11: 62.13780%
C12: 1.3 | D12: 193601 | E12: 80.6399000% | F12: 19.3601000% | G12: 581814 | H12: 41.81860% | I12: 58.18140%
C13: 1.4 | D13: 161513 | E13: 83.8487000% | F13: 16.1513000% | G13: 541693 | H13: 45.83070% | I13: 54.16930%
C14: 1.5 | D14: 133614 | E14: 86.6386000% | F14: 13.3614000% | G14: 501349 | H14: 49.86510% | I14: 50.13490%
C15: 1.6 | D15: 109598 | E15: 89.0402000% | F15: 10.9598000% | G15: 461139 | H15: 53.88610% | I15: 46.11390%
C16: 1.7 | D16: 89130 | E16: 91.0870000% | F16: 8.9130000% | G16: 421427 | H16: 57.85730% | I16: 42.14270%
C17: 1.8 | D17: 71860 | E17: 92.8140000% | F17: 7.1860000% | G17: 382572 | H17: 61.74280% | I17: 38.25720%
C18: 1.9 | D18: 57432 | E18: 94.2568000% | F18: 5.7432000% | G18: 344915 | H18: 65.50850% | I18: 34.49150%
C19: 2 | D19: 45500 | E19: 95.4500000% | F19: 4.5500000% | G19: 308770 | H19: 69.12300% | I19: 30.87700%
C20: 2.1 | D20: 35728 | E20: 96.4272000% | F20: 3.5728000% | G20: 274412 | H20: 72.55880% | I20: 27.44120%
... C59: 6 | D59: 0.002 | E59: 99.9999998% | F59: 0.0000002% | G59: 3.4 | H59: 99.99966% | I59: 0.00034%

Sheet Calc
Q4: Number of samples | S4: {=MAX(IF(LEN(R9:R23)>0,Q9:Q23,""),1)} -> 10 | T4: Number of Measurements | W4: {=MAX(IF(LEN(R9:AA9)>0,R6:AA6,""),1)} -> 5 | AJ4: Distribution Diagram, Number of Data in Ranges | AW4: max | AZ4: Number of samples | BB4: {=MAX(IF(LEN($BA$9:$BA$23)>0,$AZ$9:$AZ$23,""),1)} -> 10 | BJ4: Distribution Diagram, Number of Data in Ranges | BW4: max | BZ4: Number of Lots | CB4: {=MAX(IF(LEN($CA$9:$CA$23)>0,$BZ$9:$BZ$23,""),1)} -> 10 | CJ4: Number of Sample | CL4: {=MAX(IF(LEN($CK$9:$CK$23)>0,$CJ$9:$CJ$23,""),1)} -> 10
Q5: Std.dev | S5: =IFERROR($AG$9/INDEX(Calc!$F$8:$F$17,MATCH(COUNTA($R$9:$AA$9),Calc!$C$8:$C$17,0)),"") -> 0.056855101 | AJ5: =COUNTIF($AI$9:$AI$23,"<"&AJ9) -> 0 | AK5: =COUNTIF($AI$9:$AI$23,"<"&AK9)-SUM($AJ$5:AJ5) -> 0 | AL5: =COUNTIF($AI$9:$AI$23,"<"&AL9)-SUM($AJ$5:AK5) -> 0 | AM5: =COUNTIF($AI$9:$AI$23,"<"&AM9)-SUM($AJ$5:AL5) -> 0 | AN5: =COUNTIF($AI$9:$AI$23,"<"&AN9)-SUM($AJ$5:AM5) -> 0 | AO5: =COUNTIF($AI$9:$AI$23,"<"&AO9)-SUM($AJ$5:AN5) -> 0 | AP5: =COUNTIF($AI$9:$AI$23,"<"&AP9)-SUM($AJ$5:AO5) -> 5 | AQ5: =COUNTIF($AI$9:$AI$23,"<"&AQ9)-SUM($AJ$5:AP5) -> 5 | AR5: =COUNTIF($AI$9:$AI$23,"<"&AR9)-SUM($AJ$5:AQ5) -> 0 | ... AV5: =COUNTIF($AI$9:$AI$23,"<"&AV9)-SUM($AJ$5:AU5) -> 0 | AW5: =MAX(XbarBell,1) -> 5 | AZ5: Std.dev | BB5: =IFERROR($BB$9/$F$8,"") -> 0.0114852 | BJ5: =COUNTIF($BI$9:$BI$23,"<"&BJ9) -> 0 | BK5: =COUNTIF($BI$9:$BI$23,"<"&BK9)-SUM($BJ$5:BJ5) -> 0 | BL5: =COUNTIF($BI$9:$BI$23,"<"&BL9)-SUM($BJ$5:BK5) -> 0 | BM5: =COUNTIF($BI$9:$BI$23,"<"&BM9)-SUM($BJ$5:BL5) -> 0 | BN5: =COUNTIF($BI$9:$BI$23,"<"&BN9)-SUM($BJ$5:BM5) -> 0 | BO5: =COUNTIF($BI$9:$BI$23,"<"&BO9)-SUM($BJ$5:BN5) -> 2 | BP5: =COUNTIF($BI$9:$BI$23,"<"&BP9)-SUM($BJ$5:BO5) -> 3 | BQ5: =COUNTIF($BI$9:$BI$23,"<"&BQ9)-SUM($BJ$5:BP5) -> 3 | BR5: =COUNTIF($BI$9:$BI$23,"<"&BR9)-SUM($BJ$5:BQ5) -> 2 | ... BV5: =COUNTIF($BI$9:$BI$23,"<"&BV9)-SUM($BJ$5:BU5) -> 0 | BW5: =MAX(BJ5:BV5,1) -> 3
Q6: Index | R6: 1 | S6: 2 | T6: 3 | U6: 4 | V6: 5 | W6: 6 | X6: 7 | Y6: 8 | Z6: 9 | AA6: 10
C7: Constants for Cpk-Ppk Calculations | H7: Print Area settings | Q7: Measured, X-bar, R chart | AJ7: Measured, X-bar, R chart, Distribution Diagram Ranges | AZ7: Measured, X- MR chart | BJ7: Measured, X-bar, R chart, Distribution Diagram Ranges | BZ7: Counted, P chart | CJ7: Counted, U chart
C8: 1 | D8: 1.77 | E8: 2.574 | F8: 1.693 | H8: X-MR | I8: 40 | R8: X1 | S8: X2 | T8: X3 | U8: X4 | V8: X5 | W8: X6 | X8: X7 | Y8: X8 | Z8: X9 | AA8: X10 | AB8: X-bar | AC8: R | AD8: X̅ | AE8: UCL-X | AF8: LCL-X | AG8: R̄ | AH8: UCL-R | AI8: sorted | AJ8: Xbar-6s | AK8: Xbar-5s | AL8: Xbar-4s | AM8: Xbar-3s | AN8: Xbar-2s | AO8: Xbar-1s | AP8: Xbar | AQ8: Xbar+1s | AR8: Xbar+2s | AS8: Xbar+3s | AT8: Xbar+4s | AU8: Xbar+5s | AV8: Xbar+6s | BA8: X1 | BB8: MR-ave | BC8: X̅ | BD8: MR | BE8: UCL-X | BF8: LCL-X | BG8: UCL-R | BH8: LCL-R | BI8: sorted | BJ8: Xbar-6s | BK8: Xbar-5s | BL8: Xbar-4s | BM8: Xbar-3s | BN8: Xbar-2s | BO8: Xbar-1s | BP8: Xbar | BQ8: Xbar+1s | BR8: Xbar+2s | BS8: Xbar+3s | BT8: Xbar+4s | BU8: Xbar+5s | BV8: Xbar+6s | CA8: Lot Size | CB8: Number of Defectives | CC8: Defective Rate | CD8: Average, p | CE8: s | CF8: UCL-p | CG8: LCL-p | CK8: Units, n | CL8: Total Defects, C | CM8: Defects per Unit | CN8: Average, U | CO8: s | CP8: UCL-U | CQ8: LCL-U
C9: 2 | D9: =3/(F9*(C9^0.5)) -> 1.8806031 | E9: 3.267 | F9: 1.128 | H9: Xbar-R | I9: 40 | Q9: 1 | R9: =IFERROR(IF(LEN(INDEX(MeasuredXbarR!D$15:D$29,Calc!$Q9,1))>0,INDEX(MeasuredXbarR!D$15:D$29,Calc!$Q9,1),""),"") -> 6.1 | S9: =IFERROR(IF(LEN(INDEX(MeasuredXbarR!E$15:E$29,Calc!$Q9,1))>0,INDEX(MeasuredXbarR!E$15:E$29,Calc!$Q9,1),""),"") -> 6.09 | T9: =IFERROR(IF(LEN(INDEX(MeasuredXbarR!F$15:F$29,Calc!$Q9,1))>0,INDEX(MeasuredXbarR!F$15:F$29,Calc!$Q9,1),""),"") -> 6.09 | U9: =IFERROR(IF(LEN(INDEX(MeasuredXbarR!G$15:G$29,Calc!$Q9,1))>0,INDEX(MeasuredXbarR!G$15:G$29,Calc!$Q9,1),""),"") -> 5.98 | V9: =IFERROR(IF(LEN(INDEX(MeasuredXbarR!H$15:H$29,Calc!$Q9,1))>0,INDEX(MeasuredXbarR!H$15:H$29,Calc!$Q9,1),""),"") -> 5.92 | W9: =IFERROR(IF(LEN(INDEX(MeasuredXbarR!I$15:I$29,Calc!$Q9,1))>0,INDEX(MeasuredXbarR!I$15:I$29,Calc!$Q9,1),""),"") | X9: =IFERROR(IF(LEN(INDEX(MeasuredXbarR!J$15:J$29,Calc!$Q9,1))>0,INDEX(MeasuredXbarR!J$15:J$29,Calc!$Q9,1),""),"") | Y9: =IFERROR(IF(LEN(INDEX(MeasuredXbarR!K$15:K$29,Calc!$Q9,1))>0,INDEX(MeasuredXbarR!K$15:K$29,Calc!$Q9,1),""),"") | ... AA9: =IFERROR(IF(LEN(INDEX(MeasuredXbarR!M$15:M$29,Calc!$Q9,1))>0,INDEX(MeasuredXbarR!M$15:M$29,Calc!$Q9,1),""),"") | AB9: =IFERROR(IF(LEN(INDEX(MeasuredXbarR!N$15:N$29,Calc!$Q9,1))>0,INDEX(MeasuredXbarR!N$15:N$129,Calc!$Q9,1),""),"") -> 6.036 | AC9: =IFERROR(IF(LEN(INDEX(MeasuredXbarR!O$15:O$29,Calc!$Q9,1))>0,INDEX(MeasuredXbarR!O$15:O$29,Calc!$Q9,1),""),"") -> 0.18 | AD9: {=IF(Q9>XbarCount,"",IF(LEN(R9)>0,AVERAGE(IFERROR($AB$9:$AB$23,"")),AD8))} -> 5.9902 | AE9: =IF(Q9>XbarCount,"",$AD9+(INDEX(Calc!$D$8:$D$17,MATCH(COUNTIF($R$9:$AA$9,">0"),Calc!$C$8:$C$17,0))*AVERAGE($AC$9:$AC$23))) -> 6.0911403 | AF9: =IF(Q9>XbarCount,"",$AD9-(INDEX(Calc!$D$8:$D$17,MATCH(COUNTIF($R$9:$AA$9,">0"),Calc!$C$8:$C$17,0))*AVERAGE($AC$9:$AC$23))) -> 5.8892597 | AG9: =IF(Q9>XbarCount,"",AVERAGE($AC$9:$AC$23)) -> 0.175 | AH9: =IF(Q9>XbarCount,"",INDEX(Calc!$E$8:$E$17,MATCH(COUNTIF($R$9:$AA$9,">0"),Calc!$C$8:$C$17,0))*AVERAGE($AC$9:$AC$23)) -> 0.36995 | AI9: {=IFERROR(SMALL(IF($AB$9:$AB$23>0,$AB$9:$AB$23,""),Q9),"")} -> 5.936 | AJ9: =IF(LEN($R9)>0,$AD$9+C$20*$S$5,"") -> 5.6490694 | AK9: =IF(LEN($R9)>0,$AD$9+D$20*$S$5,"") -> 5.7059245 | AL9: =IF(LEN($R9)>0,$AD$9+E$20*$S$5,"") -> 5.7627796 | AM9: =IF(LEN($R9)>0,$AD$9+F$20*$S$5,"") -> 5.8196347 | AN9: =IF(LEN($R9)>0,$AD$9+G$20*$S$5,"") -> 5.8764898 | AO9: =IF(LEN($R9)>0,$AD$9+H$20*$S$5,"") -> 5.9333449 | AP9: =IF(LEN($R9)>0,$AD$9+I$20*$S$5,"") -> 5.9902 | AQ9: =IF(LEN($R9)>0,$AD$9+J$20*$S$5,"") -> 6.0470551 | ... AV9: =IF(LEN($R9)>0,$AD$9+O$20*$S$5,"") -> 6.3313306 | AZ9: 1 | BA9: =IFERROR(IF(LEN(INDEX(MeasuredXMR!E$15:E$29,Calc!$AZ9,1))>0,INDEX(MeasuredXMR!E$15:E$29,Calc!$AZ9,1),""),"") -> 5.9 | BB9: =IF(AZ9>XMRCount,"",IF(LEN(BA9)>0,AVERAGE($BD$9:$BD$23),BB8)) -> 0.019444444 | BC9: {=IF(AZ9>XMRCount,"",IF(LEN(BA9)>0,AVERAGE(IF($BA$9:$BA$23>0,$BA$9:$BA$23,"")),BC8))} -> 5.8989 | BD9: =IFERROR(ABS(BA9-BA10),"") -> 0.01 | BE9: =IF(AZ9>XMRCount,"",IF(LEN(BA9)>0,$BC9+(3*AVERAGE($BD$9:$BD$23)/1.128),BE8)) -> 5.9506139 | BF9: =IF(AZ9>XMRCount,"",IF(LEN(BA9)>0,$BC9-(3*AVERAGE($BD$9:$BD$23)/1.128),BF8)) -> 5.8471861 | BG9: =IF(AZ9>XMRCount,"",IF(LEN(BA9)>0,$E$9*AVERAGE($BD$9:$BD$23),BG8)) -> 0.063525 | BH9: =IF(AZ9>XMRCount,"",IF(LEN(BA9)>0,0,BH8)) -> 0 | BI9: {=IFERROR(SMALL(IF($BA$9:$BA$23>0,$BA$9:$BA$23,""),Q9),"")} -> 5.885 | BJ9: =IF(LEN($BA9)>0,$BC$9+C$20*$BB$5,"") -> 5.8299888 | BK9: =IF(LEN($BA9)>0,$BC$9+D$20*$BB$5,"") -> 5.841474 | BL9: =IF(LEN($BA9)>0,$BC$9+E$20*$BB$5,"") -> 5.8529592 | BM9: =IF(LEN($BA9)>0,$BC$9+F$20*$BB$5,"") -> 5.8644444 | BN9: =IF(LEN($BA9)>0,$BC$9+G$20*$BB$5,"") -> 5.8759296 | BO9: =IF(LEN($BA9)>0,$BC$9+H$20*$BB$5,"") -> 5.8874148 | BP9: =IF(LEN($BA9)>0,$BC$9+I$20*$BB$5,"") -> 5.8989 | BQ9: =IF(LEN($BA9)>0,$BC$9+J$20*$BB$5,"") -> 5.9103852 | ... BV9: =IF(LEN($BA9)>0,$BC$9+O$20*$BB$5,"") -> 5.9678112 | BZ9: 1 | CA9: =IFERROR(IF(LEN(INDEX(CountDefectives!D$9:D$23,Calc!$BZ9,1))>0,INDEX(CountDefectives!D$9:D$23,Calc!$BZ9,1),""),"") -> 1250 | CB9: =IFERROR(IF(LEN(INDEX(CountDefectives!E$9:E$23,Calc!$BZ9,1))>0,INDEX(CountDefectives!E$9:E$23,Calc!$BZ9,1),""),"") -> 18 | CC9: =IFERROR(IF(LEN(CA9)>0,CB9/CA9,""),"") -> 0.0144 | CD9: =IFERROR(IF(BZ9>PCount,"",AVERAGE($CC$9:$CC$23)),"Err") -> 0.014059621 | CE9: =IFERROR(IF(LEN(CA9)>0,($CD$9*(1-$CD$9)/$CA9)^0.5,""),"") -> 0.0033300989 | CF9: =IFERROR(IF(BZ9>PCount,"",IF(LEN(CA9)>0,$CD9+(3*$CE9),CF8)),"Err") -> 0.024049918 | CG9: =IFERROR(IF(BZ9>PCount,"",IF(LEN(CA9)>0,$CD9-(3*$CE9),CG8)),"Err") -> 0.0040693246 | CJ9: 1 | CK9: =IFERROR(IF(LEN(INDEX(CountDefects!D$9:D$23,Calc!$CJ9,1))>0,INDEX(CountDefects!D$9:D$23,Calc!$CJ9,1),""),"") -> 1875 | CL9: =IFERROR(IF(LEN(INDEX(CountDefects!E$9:E$23,Calc!$CJ9,1))>0,INDEX(CountDefects!E$9:E$23,Calc!$CJ9,1),""),"") -> 13 | CM9: =IFERROR(IF(LEN(CK9)>0,CL9/CK9,""),"") -> 0.0069333333 | CN9: =IFERROR(IF(CJ9>UCount,"",AVERAGE($CM$9:$CM$23)),"Err") -> 0.0069346438 | CO9: =IFERROR(IF(LEN(CK9)>0,($CN$9/$CK9)^0.5,""),"") -> 0.0019231424 | CP9: =IFERROR(IF(CJ9>UCount,"",IF(LEN(CK9)>0,$CN9+(3*$CO9),CP8)),"Err") -> 0.012704071 | CQ9: =IFERROR(IF(CJ9>UCount,"",IF(LEN(CK9)>0,$CN9-(3*$CO9),CQ8)),"Err") -> 0.0011652166
C10: 3 | D10: =3/(F10*(C10^0.5)) -> 1.023066 | E10: 2.574 | F10: 1.693 | H10: P-chart | I10: 40 | Q10: 2 | R10: =IFERROR(IF(LEN(INDEX(MeasuredXbarR!D$15:D$29,Calc!$Q10,1))>0,INDEX(MeasuredXbarR!D$15:D$29,Calc!$Q10,1),""),"") -> 5.91 | S10: =IFERROR(IF(LEN(INDEX(MeasuredXbarR!E$15:E$29,Calc!$Q10,1))>0,INDEX(MeasuredXbarR!E$15:E$29,Calc!$Q10,1),""),"") -> 6.02 | T10: =IFERROR(IF(LEN(INDEX(MeasuredXbarR!F$15:F$29,Calc!$Q10,1))>0,INDEX(MeasuredXbarR!F$15:F$29,Calc!$Q10,1),""),"") -> 5.95 | U10: =IFERROR(IF(LEN(INDEX(MeasuredXbarR!G$15:G$29,Calc!$Q10,1))>0,INDEX(MeasuredXbarR!G$15:G$29,Calc!$Q10,1),""),"") -> 5.88 | V10: =IFERROR(IF(LEN(INDEX(MeasuredXbarR!H$15:H$29,Calc!$Q10,1))>0,INDEX(MeasuredXbarR!H$15:H$29,Calc!$Q10,1),""),"") -> 5.92 | W10: =IFERROR(IF(LEN(INDEX(MeasuredXbarR!I$15:I$29,Calc!$Q10,1))>0,INDEX(MeasuredXbarR!I$15:I$29,Calc!$Q10,1),""),"") | X10: =IFERROR(IF(LEN(INDEX(MeasuredXbarR!J$15:J$29,Calc!$Q10,1))>0,INDEX(MeasuredXbarR!J$15:J$29,Calc!$Q10,1),""),"") | Y10: =IFERROR(IF(LEN(INDEX(MeasuredXbarR!K$15:K$29,Calc!$Q10,1))>0,INDEX(MeasuredXbarR!K$15:K$29,Calc!$Q10,1),""),"") | ... AA10: =IFERROR(IF(LEN(INDEX(MeasuredXbarR!M$15:M$29,Calc!$Q10,1))>0,INDEX(MeasuredXbarR!M$15:M$29,Calc!$Q10,1),""),"") | AB10: =IFERROR(IF(LEN(INDEX(MeasuredXbarR!N$15:N$29,Calc!$Q10,1))>0,INDEX(MeasuredXbarR!N$15:N$129,Calc!$Q10,1),""),"") -> 5.936 | AC10: =IFERROR(IF(LEN(INDEX(MeasuredXbarR!O$15:O$29,Calc!$Q10,1))>0,INDEX(MeasuredXbarR!O$15:O$29,Calc!$Q10,1),""),"") -> 0.14 | AD10: {=IF(Q10>XbarCount,"",IF(LEN(R10)>0,AVERAGE(IFERROR($AB$9:$AB$23,"")),AD9))} -> 5.9902 | AE10: =IF(Q10>XbarCount,"",$AD10+(INDEX(Calc!$D$8:$D$17,MATCH(COUNTIF($R$9:$AA$9,">0"),Calc!$C$8:$C$17,0))*AVERAGE($AC$9:$AC$23))) -> 6.0911403 | AF10: =IF(Q10>XbarCount,"",$AD10-(INDEX(Calc!$D$8:$D$17,MATCH(COUNTIF($R$9:$AA$9,">0"),Calc!$C$8:$C$17,0))*AVERAGE($AC$9:$AC$23))) -> 5.8892597 | AG10: =IF(Q10>XbarCount,"",AVERAGE($AC$9:$AC$23)) -> 0.175 | AH10: =IF(Q10>XbarCount,"",INDEX(Calc!$E$8:$E$17,MATCH(COUNTIF($R$9:$AA$9,">0"),Calc!$C$8:$C$17,0))*AVERAGE($AC$9:$AC$23)) -> 0.36995 | AI10: {=IFERROR(SMALL(IF($AB$9:$AB$23>0,$AB$9:$AB$23,""),Q10),"")} -> 5.958 | AJ10: =IF(LEN($R10)>0,$AD$9+C$20*$S$5,"") -> 5.6490694 | AK10: =IF(LEN($R10)>0,$AD$9+D$20*$S$5,"") -> 5.7059245 | AL10: =IF(LEN($R10)>0,$AD$9+E$20*$S$5,"") -> 5.7627796 | AM10: =IF(LEN($R10)>0,$AD$9+F$20*$S$5,"") -> 5.8196347 | AN10: =IF(LEN($R10)>0,$AD$9+G$20*$S$5,"") -> 5.8764898 | AO10: =IF(LEN($R10)>0,$AD$9+H$20*$S$5,"") -> 5.9333449 | AP10: =IF(LEN($R10)>0,$AD$9+I$20*$S$5,"") -> 5.9902 | AQ10: =IF(LEN($R10)>0,$AD$9+J$20*$S$5,"") -> 6.0470551 | ... AV10: =IF(LEN($R10)>0,$AD$9+O$20*$S$5,"") -> 6.3313306 | AZ10: 2 | BA10: =IFERROR(IF(LEN(INDEX(MeasuredXMR!E$15:E$29,Calc!$AZ10,1))>0,INDEX(MeasuredXMR!E$15:E$29,Calc!$AZ10,1),""),"") -> 5.89 | BB10: =IF(AZ10>XMRCount,"",IF(LEN(BA10)>0,AVERAGE($BD$9:$BD$23),BB9)) -> 0.019444444 | BC10: {=IF(AZ10>XMRCount,"",IF(LEN(BA10)>0,AVERAGE(IF($BA$9:$BA$23>0,$BA$9:$BA$23,"")),BC9))} -> 5.8989 | BD10: =IFERROR(ABS(BA10-BA11),"") -> 0.02 | BE10: =IF(AZ10>XMRCount,"",IF(LEN(BA10)>0,$BC10+(3*AVERAGE($BD$9:$BD$23)/1.128),BE9)) -> 5.9506139 | BF10: =IF(AZ10>XMRCount,"",IF(LEN(BA10)>0,$BC10-(3*AVERAGE($BD$9:$BD$23)/1.128),BF9)) -> 5.8471861 | BG10: =IF(AZ10>XMRCount,"",IF(LEN(BA10)>0,$E$9*AVERAGE($BD$9:$BD$23),BG9)) -> 0.063525 | BH10: =IF(AZ10>XMRCount,"",IF(LEN(BA10)>0,0,BH9)) -> 0 | BI10: {=IFERROR(SMALL(IF($BA$9:$BA$23>0,$BA$9:$BA$23,""),Q10),"")} -> 5.887 | BJ10: =IF(LEN($BA10)>0,$BC$9+C$20*$BB$5,"") -> 5.8299888 | BK10: =IF(LEN($BA10)>0,$BC$9+D$20*$BB$5,"") -> 5.841474 | BL10: =IF(LEN($BA10)>0,$BC$9+E$20*$BB$5,"") -> 5.8529592 | BM10: =IF(LEN($BA10)>0,$BC$9+F$20*$BB$5,"") -> 5.8644444 | BN10: =IF(LEN($BA10)>0,$BC$9+G$20*$BB$5,"") -> 5.8759296 | BO10: =IF(LEN($BA10)>0,$BC$9+H$20*$BB$5,"") -> 5.8874148 | BP10: =IF(LEN($BA10)>0,$BC$9+I$20*$BB$5,"") -> 5.8989 | BQ10: =IF(LEN($BA10)>0,$BC$9+J$20*$BB$5,"") -> 5.9103852 | ... BV10: =IF(LEN($BA10)>0,$BC$9+O$20*$BB$5,"") -> 5.9678112 | BZ10: 2 | CA10: =IFERROR(IF(LEN(INDEX(CountDefectives!D$9:D$23,Calc!$BZ10,1))>0,INDEX(CountDefectives!D$9:D$23,Calc!$BZ10,1),""),"") -> 1300 | CB10: =IFERROR(IF(LEN(INDEX(CountDefectives!E$9:E$23,Calc!$BZ10,1))>0,INDEX(CountDefectives!E$9:E$23,Calc!$BZ10,1),""),"") -> 25 | CC10: =IFERROR(IF(LEN(CA10)>0,CB10/CA10,""),"") -> 0.019230769 | CD10: =IF(BZ10>PCount,"",AVERAGE($CC$9:$CC$23)) -> 0.014059621 | CE10: =IFERROR(IF(LEN(CA10)>0,($CD$9*(1-$CD$9)/$CA10)^0.5,""),"") -> 0.0032654306 | CF10: =IFERROR(IF(BZ10>PCount,"",IF(LEN(CA10)>0,$CD10+(3*$CE10),CF9)),"Err") -> 0.023855913 | CG10: =IFERROR(IF(BZ10>PCount,"",IF(LEN(CA10)>0,$CD10-(3*$CE10),CG9)),"Err") -> 0.0042633294 | CJ10: 2 | CK10: =IFERROR(IF(LEN(INDEX(CountDefects!D$9:D$23,Calc!$CJ10,1))>0,INDEX(CountDefects!D$9:D$23,Calc!$CJ10,1),""),"") -> 1950 | CL10: =IFERROR(IF(LEN(INDEX(CountDefects!E$9:E$23,Calc!$CJ10,1))>0,INDEX(CountDefects!E$9:E$23,Calc!$CJ10,1),""),"") -> 19 | CM10: =IFERROR(IF(LEN(CK10)>0,CL10/CK10,""),"") -> 0.0097435897 | CN10: =IFERROR(IF(CJ10>UCount,"",AVERAGE($CM$9:$CM$23)),"Err") -> 0.0069346438 | CO10: =IFERROR(IF(LEN(CK10)>0,($CN$9/$CK10)^0.5,""),"") -> 0.0018857963 | CP10: =IFERROR(IF(CJ10>UCount,"",IF(LEN(CK10)>0,$CN10+(3*$CO10),CP9)),"Err") -> 0.012592033 | CQ10: =IFERROR(IF(CJ10>UCount,"",IF(LEN(CK10)>0,$CN10-(3*$CO10),CQ9)),"Err") -> 0.001277255
C11: 4 | D11: =3/(F11*(C11^0.5)) -> 0.72850898 | E11: 2.282 | F11: 2.059 | H11: U-chart | I11: 40 | Q11: 3 | R11: =IFERROR(IF(LEN(INDEX(MeasuredXbarR!D$15:D$29,Calc!$Q11,1))>0,INDEX(MeasuredXbarR!D$15:D$29,Calc!$Q11,1),""),"") -> 5.93 | S11: =IFERROR(IF(LEN(INDEX(MeasuredXbarR!E$15:E$29,Calc!$Q11,1))>0,INDEX(MeasuredXbarR!E$15:E$29,Calc!$Q11,1),""),"") -> 6.09 | T11: =IFERROR(IF(LEN(INDEX(MeasuredXbarR!F$15:F$29,Calc!$Q11,1))>0,INDEX(MeasuredXbarR!F$15:F$29,Calc!$Q11,1),""),"") -> 5.91 | U11: =IFERROR(IF(LEN(INDEX(MeasuredXbarR!G$15:G$29,Calc!$Q11,1))>0,INDEX(MeasuredXbarR!G$15:G$29,Calc!$Q11,1),""),"") -> 5.94 | V11: =IFERROR(IF(LEN(INDEX(MeasuredXbarR!H$15:H$29,Calc!$Q11,1))>0,INDEX(MeasuredXbarR!H$15:H$29,Calc!$Q11,1),""),"") -> 5.92 | W11: =IFERROR(IF(LEN(INDEX(MeasuredXbarR!I$15:I$29,Calc!$Q11,1))>0,INDEX(MeasuredXbarR!I$15:I$29,Calc!$Q11,1),""),"") | X11: =IFERROR(IF(LEN(INDEX(MeasuredXbarR!J$15:J$29,Calc!$Q11,1))>0,INDEX(MeasuredXbarR!J$15:J$29,Calc!$Q11,1),""),"") | Y11: =IFERROR(IF(LEN(INDEX(MeasuredXbarR!K$15:K$29,Calc!$Q11,1))>0,INDEX(MeasuredXbarR!K$15:K$29,Calc!$Q11,1),""),"") | ... AA11: =IFERROR(IF(LEN(INDEX(MeasuredXbarR!M$15:M$29,Calc!$Q11,1))>0,INDEX(MeasuredXbarR!M$15:M$29,Calc!$Q11,1),""),"") | AB11: =IFERROR(IF(LEN(INDEX(MeasuredXbarR!N$15:N$29,Calc!$Q11,1))>0,INDEX(MeasuredXbarR!N$15:N$129,Calc!$Q11,1),""),"") -> 5.958 | AC11: =IFERROR(IF(LEN(INDEX(MeasuredXbarR!O$15:O$29,Calc!$Q11,1))>0,INDEX(MeasuredXbarR!O$15:O$29,Calc!$Q11,1),""),"") -> 0.18 | AD11: {=IF(Q11>XbarCount,"",IF(LEN(R11)>0,AVERAGE(IFERROR($AB$9:$AB$23,"")),AD10))} -> 5.9902 | AE11: =IF(Q11>XbarCount,"",$AD11+(INDEX(Calc!$D$8:$D$17,MATCH(COUNTIF($R$9:$AA$9,">0"),Calc!$C$8:$C$17,0))*AVERAGE($AC$9:$AC$23))) -> 6.0911403 | AF11: =IF(Q11>XbarCount,"",$AD11-(INDEX(Calc!$D$8:$D$17,MATCH(COUNTIF($R$9:$AA$9,">0"),Calc!$C$8:$C$17,0))*AVERAGE($AC$9:$AC$23))) -> 5.8892597 | AG11: =IF(Q11>XbarCount,"",AVERAGE($AC$9:$AC$23)) -> 0.175 | AH11: =IF(Q11>XbarCount,"",INDEX(Calc!$E$8:$E$17,MATCH(COUNTIF($R$9:$AA$9,">0"),Calc!$C$8:$C$17,0))*AVERAGE($AC$9:$AC$23)) -> 0.36995 | AI11: {=IFERROR(SMALL(IF($AB$9:$AB$23>0,$AB$9:$AB$23,""),Q11),"")} -> 5.982 | AJ11: =IF(LEN($R11)>0,$AD$9+C$20*$S$5,"") -> 5.6490694 | AK11: =IF(LEN($R11)>0,$AD$9+D$20*$S$5,"") -> 5.7059245 | AL11: =IF(LEN($R11)>0,$AD$9+E$20*$S$5,"") -> 5.7627796 | AM11: =IF(LEN($R11)>0,$AD$9+F$20*$S$5,"") -> 5.8196347 | AN11: =IF(LEN($R11)>0,$AD$9+G$20*$S$5,"") -> 5.8764898 | AO11: =IF(LEN($R11)>0,$AD$9+H$20*$S$5,"") -> 5.9333449 | AP11: =IF(LEN($R11)>0,$AD$9+I$20*$S$5,"") -> 5.9902 | AQ11: =IF(LEN($R11)>0,$AD$9+J$20*$S$5,"") -> 6.0470551 | ... AV11: =IF(LEN($R11)>0,$AD$9+O$20*$S$5,"") -> 6.3313306 | AZ11: 3 | BA11: =IFERROR(IF(LEN(INDEX(MeasuredXMR!E$15:E$29,Calc!$AZ11,1))>0,INDEX(MeasuredXMR!E$15:E$29,Calc!$AZ11,1),""),"") -> 5.91 | BB11: =IF(AZ11>XMRCount,"",IF(LEN(BA11)>0,AVERAGE($BD$9:$BD$23),BB10)) -> 0.019444444 | BC11: {=IF(AZ11>XMRCount,"",IF(LEN(BA11)>0,AVERAGE(IF($BA$9:$BA$23>0,$BA$9:$BA$23,"")),BC10))} -> 5.8989 | BD11: =IFERROR(ABS(BA11-BA12),"") -> 0.013 | BE11: =IF(AZ11>XMRCount,"",IF(LEN(BA11)>0,$BC11+(3*AVERAGE($BD$9:$BD$23)/1.128),BE10)) -> 5.9506139 | BF11: =IF(AZ11>XMRCount,"",IF(LEN(BA11)>0,$BC11-(3*AVERAGE($BD$9:$BD$23)/1.128),BF10)) -> 5.8471861 | BG11: =IF(AZ11>XMRCount,"",IF(LEN(BA11)>0,$E$9*AVERAGE($BD$9:$BD$23),BG10)) -> 0.063525 | BH11: =IF(AZ11>XMRCount,"",IF(LEN(BA11)>0,0,BH10)) -> 0 | BI11: {=IFERROR(SMALL(IF($BA$9:$BA$23>0,$BA$9:$BA$23,""),Q11),"")} -> 5.889 | BJ11: =IF(LEN($BA11)>0,$BC$9+C$20*$BB$5,"") -> 5.8299888 | BK11: =IF(LEN($BA11)>0,$BC$9+D$20*$BB$5,"") -> 5.841474 | BL11: =IF(LEN($BA11)>0,$BC$9+E$20*$BB$5,"") -> 5.8529592 | BM11: =IF(LEN($BA11)>0,$BC$9+F$20*$BB$5,"") -> 5.8644444 | BN11: =IF(LEN($BA11)>0,$BC$9+G$20*$BB$5,"") -> 5.8759296 | BO11: =IF(LEN($BA11)>0,$BC$9+H$20*$BB$5,"") -> 5.8874148 | BP11: =IF(LEN($BA11)>0,$BC$9+I$20*$BB$5,"") -> 5.8989 | BQ11: =IF(LEN($BA11)>0,$BC$9+J$20*$BB$5,"") -> 5.9103852 | ... BV11: =IF(LEN($BA11)>0,$BC$9+O$20*$BB$5,"") -> 5.9678112 | BZ11: 3 | CA11: =IFERROR(IF(LEN(INDEX(CountDefectives!D$9:D$23,Calc!$BZ11,1))>0,INDEX(CountDefectives!D$9:D$23,Calc!$BZ11,1),""),"") -> 1500 | CB11: =IFERROR(IF(LEN(INDEX(CountDefectives!E$9:E$23,Calc!$BZ11,1))>0,INDEX(CountDefectives!E$9:E$23,Calc!$BZ11,1),""),"") -> 28 | CC11: =IFERROR(IF(LEN(CA11)>0,CB11/CA11,""),"") -> 0.018666667 | CD11: =IF(BZ11>PCount,"",AVERAGE($CC$9:$CC$23)) -> 0.014059621 | CE11: =IFERROR(IF(LEN(CA11)>0,($CD$9*(1-$CD$9)/$CA11)^0.5,""),"") -> 0.0030399505 | CF11: =IFERROR(IF(BZ11>PCount,"",IF(LEN(CA11)>0,$CD11+(3*$CE11),CF10)),"Err") -> 0.023179473 | CG11: =IFERROR(IF(BZ11>PCount,"",IF(LEN(CA11)>0,$CD11-(3*$CE11),CG10)),"Err") -> 0.0049397699 | CJ11: 3 | CK11: =IFERROR(IF(LEN(INDEX(CountDefects!D$9:D$23,Calc!$CJ11,1))>0,INDEX(CountDefects!D$9:D$23,Calc!$CJ11,1),""),"") -> 2250 | CL11: =IFERROR(IF(LEN(INDEX(CountDefects!E$9:E$23,Calc!$CJ11,1))>0,INDEX(CountDefects!E$9:E$23,Calc!$CJ11,1),""),"") -> 21 | CM11: =IFERROR(IF(LEN(CK11)>0,CL11/CK11,""),"") -> 0.0093333333 | CN11: =IFERROR(IF(CJ11>UCount,"",AVERAGE($CM$9:$CM$23)),"Err") -> 0.0069346438 | CO11: =IFERROR(IF(LEN(CK11)>0,($CN$9/$CK11)^0.5,""),"") -> 0.0017555808 | CP11: =IFERROR(IF(CJ11>UCount,"",IF(LEN(CK11)>0,$CN11+(3*$CO11),CP10)),"Err") -> 0.012201386 | CQ11: =IFERROR(IF(CJ11>UCount,"",IF(LEN(CK11)>0,$CN11-(3*$CO11),CQ10)),"Err") -> 0.0016679014
C12: 5 | D12: =3/(F12*(C12^0.5)) -> 0.57680171 | E12: 2.114 | F12: 2.326 | Q12: 4 | R12: =IFERROR(IF(LEN(INDEX(MeasuredXbarR!D$15:D$29,Calc!$Q12,1))>0,INDEX(MeasuredXbarR!D$15:D$29,Calc!$Q12,1),""),"") -> 5.92 | S12: =IFERROR(IF(LEN(INDEX(MeasuredXbarR!E$15:E$29,Calc!$Q12,1))>0,INDEX(MeasuredXbarR!E$15:E$29,Calc!$Q12,1),""),"") -> 5.97 | T12: =IFERROR(IF(LEN(INDEX(MeasuredXbarR!F$15:F$29,Calc!$Q12,1))>0,INDEX(MeasuredXbarR!F$15:F$29,Calc!$Q12,1),""),"") -> 6.06 | U12: =IFERROR(IF(LEN(INDEX(MeasuredXbarR!G$15:G$29,Calc!$Q12,1))>0,INDEX(MeasuredXbarR!G$15:G$29,Calc!$Q12,1),""),"") -> 6.07 | V12: =IFERROR(IF(LEN(INDEX(MeasuredXbarR!H$15:H$29,Calc!$Q12,1))>0,INDEX(MeasuredXbarR!H$15:H$29,Calc!$Q12,1),""),"") -> 6.07 | W12: =IFERROR(IF(LEN(INDEX(MeasuredXbarR!I$15:I$29,Calc!$Q12,1))>0,INDEX(MeasuredXbarR!I$15:I$29,Calc!$Q12,1),""),"") | X12: =IFERROR(IF(LEN(INDEX(MeasuredXbarR!J$15:J$29,Calc!$Q12,1))>0,INDEX(MeasuredXbarR!J$15:J$29,Calc!$Q12,1),""),"") | Y12: =IFERROR(IF(LEN(INDEX(MeasuredXbarR!K$15:K$29,Calc!$Q12,1))>0,INDEX(MeasuredXbarR!K$15:K$29,Calc!$Q12,1),""),"") | ... AA12: =IFERROR(IF(LEN(INDEX(MeasuredXbarR!M$15:M$29,Calc!$Q12,1))>0,INDEX(MeasuredXbarR!M$15:M$29,Calc!$Q12,1),""),"") | AB12: =IFERROR(IF(LEN(INDEX(MeasuredXbarR!N$15:N$29,Calc!$Q12,1))>0,INDEX(MeasuredXbarR!N$15:N$129,Calc!$Q12,1),""),"") -> 6.018 | AC12: =IFERROR(IF(LEN(INDEX(MeasuredXbarR!O$15:O$29,Calc!$Q12,1))>0,INDEX(MeasuredXbarR!O$15:O$29,Calc!$Q12,1),""),"") -> 0.15 | AD12: {=IF(Q12>XbarCount,"",IF(LEN(R12)>0,AVERAGE(IFERROR($AB$9:$AB$23,"")),AD11))} -> 5.9902 | AE12: =IF(Q12>XbarCount,"",$AD12+(INDEX(Calc!$D$8:$D$17,MATCH(COUNTIF($R$9:$AA$9,">0"),Calc!$C$8:$C$17,0))*AVERAGE($AC$9:$AC$23))) -> 6.0911403 | AF12: =IF(Q12>XbarCount,"",$AD12-(INDEX(Calc!$D$8:$D$17,MATCH(COUNTIF($R$9:$AA$9,">0"),Calc!$C$8:$C$17,0))*AVERAGE($AC$9:$AC$23))) -> 5.8892597 | AG12: =IF(Q12>XbarCount,"",AVERAGE($AC$9:$AC$23)) -> 0.175 | AH12: =IF(Q12>XbarCount,"",INDEX(Calc!$E$8:$E$17,MATCH(COUNTIF($R$9:$AA$9,">0"),Calc!$C$8:$C$17,0))*AVERAGE($AC$9:$AC$23)) -> 0.36995 | AI12: {=IFERROR(SMALL(IF($AB$9:$AB$23>0,$AB$9:$AB$23,""),Q12),"")} -> 5.982 | AJ12: =IF(LEN($R12)>0,$AD$9+C$20*$S$5,"") -> 5.6490694 | AK12: =IF(LEN($R12)>0,$AD$9+D$20*$S$5,"") -> 5.7059245 | AL12: =IF(LEN($R12)>0,$AD$9+E$20*$S$5,"") -> 5.7627796 | AM12: =IF(LEN($R12)>0,$AD$9+F$20*$S$5,"") -> 5.8196347 | AN12: =IF(LEN($R12)>0,$AD$9+G$20*$S$5,"") -> 5.8764898 | AO12: =IF(LEN($R12)>0,$AD$9+H$20*$S$5,"") -> 5.9333449 | AP12: =IF(LEN($R12)>0,$AD$9+I$20*$S$5,"") -> 5.9902 | AQ12: =IF(LEN($R12)>0,$AD$9+J$20*$S$5,"") -> 6.0470551 | ... AV12: =IF(LEN($R12)>0,$AD$9+O$20*$S$5,"") -> 6.3313306 | AZ12: 4 | BA12: =IFERROR(IF(LEN(INDEX(MeasuredXMR!E$15:E$29,Calc!$AZ12,1))>0,INDEX(MeasuredXMR!E$15:E$29,Calc!$AZ12,1),""),"") -> 5.897 | BB12: =IF(AZ12>XMRCount,"",IF(LEN(BA12)>0,AVERAGE($BD$9:$BD$23),BB11)) -> 0.019444444 | BC12: {=IF(AZ12>XMRCount,"",IF(LEN(BA12)>0,AVERAGE(IF($BA$9:$BA$23>0,$BA$9:$BA$23,"")),BC11))} -> 5.8989 | BD12: =IFERROR(ABS(BA12-BA13),"") -> 0.006 | BE12: =IF(AZ12>XMRCount,"",IF(LEN(BA12)>0,$BC12+(3*AVERAGE($BD$9:$BD$23)/1.128),BE11)) -> 5.9506139 | BF12: =IF(AZ12>XMRCount,"",IF(LEN(BA12)>0,$BC12-(3*AVERAGE($BD$9:$BD$23)/1.128),BF11)) -> 5.8471861 | BG12: =IF(AZ12>XMRCount,"",IF(LEN(BA12)>0,$E$9*AVERAGE($BD$9:$BD$23),BG11)) -> 0.063525 | BH12: =IF(AZ12>XMRCount,"",IF(LEN(BA12)>0,0,BH11)) -> 0 | BI12: {=IFERROR(SMALL(IF($BA$9:$BA$23>0,$BA$9:$BA$23,""),Q12),"")} -> 5.89 | BJ12: =IF(LEN($BA12)>0,$BC$9+C$20*$BB$5,"") -> 5.8299888 | BK12: =IF(LEN($BA12)>0,$BC$9+D$20*$BB$5,"") -> 5.841474 | BL12: =IF(LEN($BA12)>0,$BC$9+E$20*$BB$5,"") -> 5.8529592 | BM12: =IF(LEN($BA12)>0,$BC$9+F$20*$BB$5,"") -> 5.8644444 | BN12: =IF(LEN($BA12)>0,$BC$9+G$20*$BB$5,"") -> 5.8759296 | BO12: =IF(LEN($BA12)>0,$BC$9+H$20*$BB$5,"") -> 5.8874148 | BP12: =IF(LEN($BA12)>0,$BC$9+I$20*$BB$5,"") -> 5.8989 | BQ12: =IF(LEN($BA12)>0,$BC$9+J$20*$BB$5,"") -> 5.9103852 | ... BV12: =IF(LEN($BA12)>0,$BC$9+O$20*$BB$5,"") -> 5.9678112 | BZ12: 4 | CA12: =IFERROR(IF(LEN(INDEX(CountDefectives!D$9:D$23,Calc!$BZ12,1))>0,INDEX(CountDefectives!D$9:D$23,Calc!$BZ12,1),""),"") -> 1125 | CB12: =IFERROR(IF(LEN(INDEX(CountDefectives!E$9:E$23,Calc!$BZ12,1))>0,INDEX(CountDefectives!E$9:E$23,Calc!$BZ12,1),""),"") -> 17 | CC12: =IFERROR(IF(LEN(CA12)>0,CB12/CA12,""),"") -> 0.015111111 | CD12: =IF(BZ12>PCount,"",AVERAGE($CC$9:$CC$23)) -> 0.014059621 | CE12: =IFERROR(IF(LEN(CA12)>0,($CD$9*(1-$CD$9)/$CA12)^0.5,""),"") -> 0.0035102325 | CF12: =IFERROR(IF(BZ12>PCount,"",IF(LEN(CA12)>0,$CD12+(3*$CE12),CF11)),"Err") -> 0.024590319 | CG12: =IFERROR(IF(BZ12>PCount,"",IF(LEN(CA12)>0,$CD12-(3*$CE12),CG11)),"Err") -> 0.003528924 | CJ12: 4 | CK12: =IFERROR(IF(LEN(INDEX(CountDefects!D$9:D$23,Calc!$CJ12,1))>0,INDEX(CountDefects!D$9:D$23,Calc!$CJ12,1),""),"") -> 1687.5 | CL12: =IFERROR(IF(LEN(INDEX(CountDefects!E$9:E$23,Calc!$CJ12,1))>0,INDEX(CountDefects!E$9:E$23,Calc!$CJ12,1),""),"") -> 13 | CM12: =IFERROR(IF(LEN(CK12)>0,CL12/CK12,""),"") -> 0.0077037037 | CN12: =IFERROR(IF(CJ12>UCount,"",AVERAGE($CM$9:$CM$23)),"Err") -> 0.0069346438 | CO12: =IFERROR(IF(LEN(CK12)>0,($CN$9/$CK12)^0.5,""),"") -> 0.0020271701 | CP12: =IFERROR(IF(CJ12>UCount,"",IF(LEN(CK12)>0,$CN12+(3*$CO12),CP11)),"Err") -> 0.013016154 | CQ12: =IFERROR(IF(CJ12>UCount,"",IF(LEN(CK12)>0,$CN12-(3*$CO12),CQ11)),"Err") -> 0.00085313353
C13: 6 | D13: =3/(F13*(C13^0.5)) -> 0.48332473 | E13: 2.004 | F13: 2.534 | Q13: 5 | R13: =IFERROR(IF(LEN(INDEX(MeasuredXbarR!D$15:D$29,Calc!$Q13,1))>0,INDEX(MeasuredXbarR!D$15:D$29,Calc!$Q13,1),""),"") -> 5.95 | S13: =IFERROR(IF(LEN(INDEX(MeasuredXbarR!E$15:E$29,Calc!$Q13,1))>0,INDEX(MeasuredXbarR!E$15:E$29,Calc!$Q13,1),""),"") -> 5.91 | T13: =IFERROR(IF(LEN(INDEX(MeasuredXbarR!F$15:F$29,Calc!$Q13,1))>0,INDEX(MeasuredXbarR!F$15:F$29,Calc!$Q13,1),""),"") -> 5.92 | U13: =IFERROR(IF(LEN(INDEX(MeasuredXbarR!G$15:G$29,Calc!$Q13,1))>0,INDEX(MeasuredXbarR!G$15:G$29,Calc!$Q13,1),""),"") -> 6.11 | V13: =IFERROR(IF(LEN(INDEX(MeasuredXbarR!H$15:H$29,Calc!$Q13,1))>0,INDEX(MeasuredXbarR!H$15:H$29,Calc!$Q13,1),""),"") -> 6.02 | W13: =IFERROR(IF(LEN(INDEX(MeasuredXbarR!I$15:I$29,Calc!$Q13,1))>0,INDEX(MeasuredXbarR!I$15:I$29,Calc!$Q13,1),""),"") | X13: =IFERROR(IF(LEN(INDEX(MeasuredXbarR!J$15:J$29,Calc!$Q13,1))>0,INDEX(MeasuredXbarR!J$15:J$29,Calc!$Q13,1),""),"") | Y13: =IFERROR(IF(LEN(INDEX(MeasuredXbarR!K$15:K$29,Calc!$Q13,1))>0,INDEX(MeasuredXbarR!K$15:K$29,Calc!$Q13,1),""),"") | ... AA13: =IFERROR(IF(LEN(INDEX(MeasuredXbarR!M$15:M$29,Calc!$Q13,1))>0,INDEX(MeasuredXbarR!M$15:M$29,Calc!$Q13,1),""),"") | AB13: =IFERROR(IF(LEN(INDEX(MeasuredXbarR!N$15:N$29,Calc!$Q13,1))>0,INDEX(MeasuredXbarR!N$15:N$129,Calc!$Q13,1),""),"") -> 5.982 | AC13: =IFERROR(IF(LEN(INDEX(MeasuredXbarR!O$15:O$29,Calc!$Q13,1))>0,INDEX(MeasuredXbarR!O$15:O$29,Calc!$Q13,1),""),"") -> 0.2 | AD13: {=IF(Q13>XbarCount,"",IF(LEN(R13)>0,AVERAGE(IFERROR($AB$9:$AB$23,"")),AD12))} -> 5.9902 | AE13: =IF(Q13>XbarCount,"",$AD13+(INDEX(Calc!$D$8:$D$17,MATCH(COUNTIF($R$9:$AA$9,">0"),Calc!$C$8:$C$17,0))*AVERAGE($AC$9:$AC$23))) -> 6.0911403 | AF13: =IF(Q13>XbarCount,"",$AD13-(INDEX(Calc!$D$8:$D$17,MATCH(COUNTIF($R$9:$AA$9,">0"),Calc!$C$8:$C$17,0))*AVERAGE($AC$9:$AC$23))) -> 5.8892597 | AG13: =IF(Q13>XbarCount,"",AVERAGE($AC$9:$AC$23)) -> 0.175 | AH13: =IF(Q13>XbarCount,"",INDEX(Calc!$E$8:$E$17,MATCH(COUNTIF($R$9:$AA$9,">0"),Calc!$C$8:$C$17,0))*AVERAGE($AC$9:$AC$23)) -> 0.36995 | AI13: {=IFERROR(SMALL(IF($AB$9:$AB$23>0,$AB$9:$AB$23,""),Q13),"")} -> 5.984 | AJ13: =IF(LEN($R13)>0,$AD$9+C$20*$S$5,"") -> 5.6490694 | AK13: =IF(LEN($R13)>0,$AD$9+D$20*$S$5,"") -> 5.7059245 | AL13: =IF(LEN($R13)>0,$AD$9+E$20*$S$5,"") -> 5.7627796 | AM13: =IF(LEN($R13)>0,$AD$9+F$20*$S$5,"") -> 5.8196347 | AN13: =IF(LEN($R13)>0,$AD$9+G$20*$S$5,"") -> 5.8764898 | AO13: =IF(LEN($R13)>0,$AD$9+H$20*$S$5,"") -> 5.9333449 | AP13: =IF(LEN($R13)>0,$AD$9+I$20*$S$5,"") -> 5.9902 | AQ13: =IF(LEN($R13)>0,$AD$9+J$20*$S$5,"") -> 6.0470551 | ... AV13: =IF(LEN($R13)>0,$AD$9+O$20*$S$5,"") -> 6.3313306 | AZ13: 5 | BA13: =IFERROR(IF(LEN(INDEX(MeasuredXMR!E$15:E$29,Calc!$AZ13,1))>0,INDEX(MeasuredXMR!E$15:E$29,Calc!$AZ13,1),""),"") -> 5.903 | BB13: =IF(AZ13>XMRCount,"",IF(LEN(BA13)>0,AVERAGE($BD$9:$BD$23),BB12)) -> 0.019444444 | BC13: {=IF(AZ13>XMRCount,"",IF(LEN(BA13)>0,AVERAGE(IF($BA$9:$BA$23>0,$BA$9:$BA$23,"")),BC12))} -> 5.8989 | BD13: =IFERROR(ABS(BA13-BA14),"") -> 0.016 | BE13: =IF(AZ13>XMRCount,"",IF(LEN(BA13)>0,$BC13+(3*AVERAGE($BD$9:$BD$23)/1.128),BE12)) -> 5.9506139 | BF13: =IF(AZ13>XMRCount,"",IF(LEN(BA13)>0,$BC13-(3*AVERAGE($BD$9:$BD$23)/1.128),BF12)) -> 5.8471861 | BG13: =IF(AZ13>XMRCount,"",IF(LEN(BA13)>0,$E$9*AVERAGE($BD$9:$BD$23),BG12)) -> 0.063525 | BH13: =IF(AZ13>XMRCount,"",IF(LEN(BA13)>0,0,BH12)) -> 0 | BI13: {=IFERROR(SMALL(IF($BA$9:$BA$23>0,$BA$9:$BA$23,""),Q13),"")} -> 5.897 | BJ13: =IF(LEN($BA13)>0,$BC$9+C$20*$BB$5,"") -> 5.8299888 | BK13: =IF(LEN($BA13)>0,$BC$9+D$20*$BB$5,"") -> 5.841474 | BL13: =IF(LEN($BA13)>0,$BC$9+E$20*$BB$5,"") -> 5.8529592 | BM13: =IF(LEN($BA13)>0,$BC$9+F$20*$BB$5,"") -> 5.8644444 | BN13: =IF(LEN($BA13)>0,$BC$9+G$20*$BB$5,"") -> 5.8759296 | BO13: =IF(LEN($BA13)>0,$BC$9+H$20*$BB$5,"") -> 5.8874148 | BP13: =IF(LEN($BA13)>0,$BC$9+I$20*$BB$5,"") -> 5.8989 | BQ13: =IF(LEN($BA13)>0,$BC$9+J$20*$BB$5,"") -> 5.9103852 | ... BV13: =IF(LEN($BA13)>0,$BC$9+O$20*$BB$5,"") -> 5.9678112 | BZ13: 5 | CA13: =IFERROR(IF(LEN(INDEX(CountDefectives!D$9:D$23,Calc!$BZ13,1))>0,INDEX(CountDefectives!D$9:D$23,Calc!$BZ13,1),""),"") -> 1160 | CB13: =IFERROR(IF(LEN(INDEX(CountDefectives!E$9:E$23,Calc!$BZ13,1))>0,INDEX(CountDefectives!E$9:E$23,Calc!$BZ13,1),""),"") -> 10 | CC13: =IFERROR(IF(LEN(CA13)>0,CB13/CA13,""),"") -> 0.0086206897 | CD13: =IF(BZ13>PCount,"",AVERAGE($CC$9:$CC$23)) -> 0.014059621 | CE13: =IFERROR(IF(LEN(CA13)>0,($CD$9*(1-$CD$9)/$CA13)^0.5,""),"") -> 0.0034568708 | CF13: =IFERROR(IF(BZ13>PCount,"",IF(LEN(CA13)>0,$CD13+(3*$CE13),CF12)),"Err") -> 0.024430234 | CG13: =IFERROR(IF(BZ13>PCount,"",IF(LEN(CA13)>0,$CD13-(3*$CE13),CG12)),"Err") -> 0.003689009 | CJ13: 5 | CK13: =IFERROR(IF(LEN(INDEX(CountDefects!D$9:D$23,Calc!$CJ13,1))>0,INDEX(CountDefects!D$9:D$23,Calc!$CJ13,1),""),"") -> 1740 | CL13: =IFERROR(IF(LEN(INDEX(CountDefects!E$9:E$23,Calc!$CJ13,1))>0,INDEX(CountDefects!E$9:E$23,Calc!$CJ13,1),""),"") -> 7 | CM13: =IFERROR(IF(LEN(CK13)>0,CL13/CK13,""),"") -> 0.0040229885 | CN13: =IFERROR(IF(CJ13>UCount,"",AVERAGE($CM$9:$CM$23)),"Err") -> 0.0069346438 | CO13: =IFERROR(IF(LEN(CK13)>0,($CN$9/$CK13)^0.5,""),"") -> 0.0019963535 | CP13: =IFERROR(IF(CJ13>UCount,"",IF(LEN(CK13)>0,$CN13+(3*$CO13),CP12)),"Err") -> 0.012923704 | CQ13: =IFERROR(IF(CJ13>UCount,"",IF(LEN(CK13)>0,$CN13-(3*$CO13),CQ12)),"Err") -> 0.00094558315
C14: 7 | D14: =3/(F14*(C14^0.5)) -> 0.41933928 | E14: 1.924 | F14: 2.704 | Q14: 6 | R14: =IFERROR(IF(LEN(INDEX(MeasuredXbarR!D$15:D$29,Calc!$Q14,1))>0,INDEX(MeasuredXbarR!D$15:D$29,Calc!$Q14,1),""),"") -> 6.08 | S14: =IFERROR(IF(LEN(INDEX(MeasuredXbarR!E$15:E$29,Calc!$Q14,1))>0,INDEX(MeasuredXbarR!E$15:E$29,Calc!$Q14,1),""),"") -> 6.09 | T14: =IFERROR(IF(LEN(INDEX(MeasuredXbarR!F$15:F$29,Calc!$Q14,1))>0,INDEX(MeasuredXbarR!F$15:F$29,Calc!$Q14,1),""),"") -> 6.09 | U14: =IFERROR(IF(LEN(INDEX(MeasuredXbarR!G$15:G$29,Calc!$Q14,1))>0,INDEX(MeasuredXbarR!G$15:G$29,Calc!$Q14,1),""),"") -> 5.9 | V14: =IFERROR(IF(LEN(INDEX(MeasuredXbarR!H$15:H$29,Calc!$Q14,1))>0,INDEX(MeasuredXbarR!H$15:H$29,Calc!$Q14,1),""),"") -> 5.94 | W14: =IFERROR(IF(LEN(INDEX(MeasuredXbarR!I$15:I$29,Calc!$Q14,1))>0,INDEX(MeasuredXbarR!I$15:I$29,Calc!$Q14,1),""),"") | X14: =IFERROR(IF(LEN(INDEX(MeasuredXbarR!J$15:J$29,Calc!$Q14,1))>0,INDEX(MeasuredXbarR!J$15:J$29,Calc!$Q14,1),""),"") | Y14: =IFERROR(IF(LEN(INDEX(MeasuredXbarR!K$15:K$29,Calc!$Q14,1))>0,INDEX(MeasuredXbarR!K$15:K$29,Calc!$Q14,1),""),"") | ... AA14: =IFERROR(IF(LEN(INDEX(MeasuredXbarR!M$15:M$29,Calc!$Q14,1))>0,INDEX(MeasuredXbarR!M$15:M$29,Calc!$Q14,1),""),"") | AB14: =IFERROR(IF(LEN(INDEX(MeasuredXbarR!N$15:N$29,Calc!$Q14,1))>0,INDEX(MeasuredXbarR!N$15:N$129,Calc!$Q14,1),""),"") -> 6.02 | AC14: =IFERROR(IF(LEN(INDEX(MeasuredXbarR!O$15:O$29,Calc!$Q14,1))>0,INDEX(MeasuredXbarR!O$15:O$29,Calc!$Q14,1),""),"") -> 0.19 | AD14: {=IF(Q14>XbarCount,"",IF(LEN(R14)>0,AVERAGE(IFERROR($AB$9:$AB$23,"")),AD13))} -> 5.9902 | AE14: =IF(Q14>XbarCount,"",$AD14+(INDEX(Calc!$D$8:$D$17,MATCH(COUNTIF($R$9:$AA$9,">0"),Calc!$C$8:$C$17,0))*AVERAGE($AC$9:$AC$23))) -> 6.0911403 | AF14: =IF(Q14>XbarCount,"",$AD14-(INDEX(Calc!$D$8:$D$17,MATCH(COUNTIF($R$9:$AA$9,">0"),Calc!$C$8:$C$17,0))*AVERAGE($AC$9:$AC$23))) -> 5.8892597 | AG14: =IF(Q14>XbarCount,"",AVERAGE($AC$9:$AC$23)) -> 0.175 | AH14: =IF(Q14>XbarCount,"",INDEX(Calc!$E$8:$E$17,MATCH(COUNTIF($R$9:$AA$9,">0"),Calc!$C$8:$C$17,0))*AVERAGE($AC$9:$AC$23)) -> 0.36995 | AI14: {=IFERROR(SMALL(IF($AB$9:$AB$23>0,$AB$9:$AB$23,""),Q14),"")} -> 5.992 | AJ14: =IF(LEN($R14)>0,$AD$9+C$20*$S$5,"") -> 5.6490694 | AK14: =IF(LEN($R14)>0,$AD$9+D$20*$S$5,"") -> 5.7059245 | AL14: =IF(LEN($R14)>0,$AD$9+E$20*$S$5,"") -> 5.7627796 | AM14: =IF(LEN($R14)>0,$AD$9+F$20*$S$5,"") -> 5.8196347 | AN14: =IF(LEN($R14)>0,$AD$9+G$20*$S$5,"") -> 5.8764898 | AO14: =IF(LEN($R14)>0,$AD$9+H$20*$S$5,"") -> 5.9333449 | AP14: =IF(LEN($R14)>0,$AD$9+I$20*$S$5,"") -> 5.9902 | AQ14: =IF(LEN($R14)>0,$AD$9+J$20*$S$5,"") -> 6.0470551 | ... AV14: =IF(LEN($R14)>0,$AD$9+O$20*$S$5,"") -> 6.3313306 | AZ14: 6 | BA14: =IFERROR(IF(LEN(INDEX(MeasuredXMR!E$15:E$29,Calc!$AZ14,1))>0,INDEX(MeasuredXMR!E$15:E$29,Calc!$AZ14,1),""),"") -> 5.887 | BB14: =IF(AZ14>XMRCount,"",IF(LEN(BA14)>0,AVERAGE($BD$9:$BD$23),BB13)) -> 0.019444444 | BC14: {=IF(AZ14>XMRCount,"",IF(LEN(BA14)>0,AVERAGE(IF($BA$9:$BA$23>0,$BA$9:$BA$23,"")),BC13))} -> 5.8989 | BD14: =IFERROR(ABS(BA14-BA15),"") -> 0.026 | BE14: =IF(AZ14>XMRCount,"",IF(LEN(BA14)>0,$BC14+(3*AVERAGE($BD$9:$BD$23)/1.128),BE13)) -> 5.9506139 | BF14: =IF(AZ14>XMRCount,"",IF(LEN(BA14)>0,$BC14-(3*AVERAGE($BD$9:$BD$23)/1.128),BF13)) -> 5.8471861 | BG14: =IF(AZ14>XMRCount,"",IF(LEN(BA14)>0,$E$9*AVERAGE($BD$9:$BD$23),BG13)) -> 0.063525 | BH14: =IF(AZ14>XMRCount,"",IF(LEN(BA14)>0,0,BH13)) -> 0 | BI14: {=IFERROR(SMALL(IF($BA$9:$BA$23>0,$BA$9:$BA$23,""),Q14),"")} -> 5.9 | BJ14: =IF(LEN($BA14)>0,$BC$9+C$20*$BB$5,"") -> 5.8299888 | BK14: =IF(LEN($BA14)>0,$BC$9+D$20*$BB$5,"") -> 5.841474 | BL14: =IF(LEN($BA14)>0,$BC$9+E$20*$BB$5,"") -> 5.8529592 | BM14: =IF(LEN($BA14)>0,$BC$9+F$20*$BB$5,"") -> 5.8644444 | BN14: =IF(LEN($BA14)>0,$BC$9+G$20*$BB$5,"") -> 5.8759296 | BO14: =IF(LEN($BA14)>0,$BC$9+H$20*$BB$5,"") -> 5.8874148 | BP14: =IF(LEN($BA14)>0,$BC$9+I$20*$BB$5,"") -> 5.8989 | BQ14: =IF(LEN($BA14)>0,$BC$9+J$20*$BB$5,"") -> 5.9103852 | ... BV14: =IF(LEN($BA14)>0,$BC$9+O$20*$BB$5,"") -> 5.9678112 | BZ14: 6 | CA14: =IFERROR(IF(LEN(INDEX(CountDefectives!D$9:D$23,Calc!$BZ14,1))>0,INDEX(CountDefectives!D$9:D$23,Calc!$BZ14,1),""),"") -> 1050 | CB14: =IFERROR(IF(LEN(INDEX(CountDefectives!E$9:E$23,Calc!$BZ14,1))>0,INDEX(CountDefectives!E$9:E$23,Calc!$BZ14,1),""),"") -> 9 | CC14: =IFERROR(IF(LEN(CA14)>0,CB14/CA14,""),"") -> 0.0085714286 | CD14: =IF(BZ14>PCount,"",AVERAGE($CC$9:$CC$23)) -> 0.014059621 | CE14: =IFERROR(IF(LEN(CA14)>0,($CD$9*(1-$CD$9)/$CA14)^0.5,""),"") -> 0.0036334358 | CF14: =IFERROR(IF(BZ14>PCount,"",IF(LEN(CA14)>0,$CD14+(3*$CE14),CF13)),"Err") -> 0.024959929 | CG14: =IFERROR(IF(BZ14>PCount,"",IF(LEN(CA14)>0,$CD14-(3*$CE14),CG13)),"Err") -> 0.003159314 | CJ14: 6 | CK14: =IFERROR(IF(LEN(INDEX(CountDefects!D$9:D$23,Calc!$CJ14,1))>0,INDEX(CountDefects!D$9:D$23,Calc!$CJ14,1),""),"") -> 1575 | CL14: =IFERROR(IF(LEN(INDEX(CountDefects!E$9:E$23,Calc!$CJ14,1))>0,INDEX(CountDefects!E$9:E$23,Calc!$CJ14,1),""),"") -> 6 | CM14: =IFERROR(IF(LEN(CK14)>0,CL14/CK14,""),"") -> 0.0038095238 | CN14: =IFERROR(IF(CJ14>UCount,"",AVERAGE($CM$9:$CM$23)),"Err") -> 0.0069346438 | CO14: =IFERROR(IF(LEN(CK14)>0,($CN$9/$CK14)^0.5,""),"") -> 0.0020983204 | CP14: =IFERROR(IF(CJ14>UCount,"",IF(LEN(CK14)>0,$CN14+(3*$CO14),CP13)),"Err") -> 0.013229605 | CQ14: =IFERROR(IF(CJ14>UCount,"",IF(LEN(CK14)>0,$CN14-(3*$CO14),CQ13)),"Err") -> 0.00063968262
C15: 8 | D15: =3/(F15*(C15^0.5)) -> 0.37255363 | E15: 1.864 | F15: 2.847 | Q15: 7 | R15: =IFERROR(IF(LEN(INDEX(MeasuredXbarR!D$15:D$29,Calc!$Q15,1))>0,INDEX(MeasuredXbarR!D$15:D$29,Calc!$Q15,1),""),"") -> 5.98 | S15: =IFERROR(IF(LEN(INDEX(MeasuredXbarR!E$15:E$29,Calc!$Q15,1))>0,INDEX(MeasuredXbarR!E$15:E$29,Calc!$Q15,1),""),"") -> 5.97 | T15: =IFERROR(IF(LEN(INDEX(MeasuredXbarR!F$15:F$29,Calc!$Q15,1))>0,INDEX(MeasuredXbarR!F$15:F$29,Calc!$Q15,1),""),"") -> 5.97 | U15: =IFERROR(IF(LEN(INDEX(MeasuredXbarR!G$15:G$29,Calc!$Q15,1))>0,INDEX(MeasuredXbarR!G$15:G$29,Calc!$Q15,1),""),"") -> 5.92 | V15: =IFERROR(IF(LEN(INDEX(MeasuredXbarR!H$15:H$29,Calc!$Q15,1))>0,INDEX(MeasuredXbarR!H$15:H$29,Calc!$Q15,1),""),"") -> 6.08 | W15: =IFERROR(IF(LEN(INDEX(MeasuredXbarR!I$15:I$29,Calc!$Q15,1))>0,INDEX(MeasuredXbarR!I$15:I$29,Calc!$Q15,1),""),"") | X15: =IFERROR(IF(LEN(INDEX(MeasuredXbarR!J$15:J$29,Calc!$Q15,1))>0,INDEX(MeasuredXbarR!J$15:J$29,Calc!$Q15,1),""),"") | Y15: =IFERROR(IF(LEN(INDEX(MeasuredXbarR!K$15:K$29,Calc!$Q15,1))>0,INDEX(MeasuredXbarR!K$15:K$29,Calc!$Q15,1),""),"") | ... AA15: =IFERROR(IF(LEN(INDEX(MeasuredXbarR!M$15:M$29,Calc!$Q15,1))>0,INDEX(MeasuredXbarR!M$15:M$29,Calc!$Q15,1),""),"") | AB15: =IFERROR(IF(LEN(INDEX(MeasuredXbarR!N$15:N$29,Calc!$Q15,1))>0,INDEX(MeasuredXbarR!N$15:N$129,Calc!$Q15,1),""),"") -> 5.984 | AC15: =IFERROR(IF(LEN(INDEX(MeasuredXbarR!O$15:O$29,Calc!$Q15,1))>0,INDEX(MeasuredXbarR!O$15:O$29,Calc!$Q15,1),""),"") -> 0.16 | AD15: {=IF(Q15>XbarCount,"",IF(LEN(R15)>0,AVERAGE(IFERROR($AB$9:$AB$23,"")),AD14))} -> 5.9902 | AE15: =IF(Q15>XbarCount,"",$AD15+(INDEX(Calc!$D$8:$D$17,MATCH(COUNTIF($R$9:$AA$9,">0"),Calc!$C$8:$C$17,0))*AVERAGE($AC$9:$AC$23))) -> 6.0911403 | AF15: =IF(Q15>XbarCount,"",$AD15-(INDEX(Calc!$D$8:$D$17,MATCH(COUNTIF($R$9:$AA$9,">0"),Calc!$C$8:$C$17,0))*AVERAGE($AC$9:$AC$23))) -> 5.8892597 | AG15: =IF(Q15>XbarCount,"",AVERAGE($AC$9:$AC$23)) -> 0.175 | AH15: =IF(Q15>XbarCount,"",INDEX(Calc!$E$8:$E$17,MATCH(COUNTIF($R$9:$AA$9,">0"),Calc!$C$8:$C$17,0))*AVERAGE($AC$9:$AC$23)) -> 0.36995 | AI15: {=IFERROR(SMALL(IF($AB$9:$AB$23>0,$AB$9:$AB$23,""),Q15),"")} -> 5.994 | AJ15: =IF(LEN($R15)>0,$AD$9+C$20*$S$5,"") -> 5.6490694 | AK15: =IF(LEN($R15)>0,$AD$9+D$20*$S$5,"") -> 5.7059245 | AL15: =IF(LEN($R15)>0,$AD$9+E$20*$S$5,"") -> 5.7627796 | AM15: =IF(LEN($R15)>0,$AD$9+F$20*$S$5,"") -> 5.8196347 | AN15: =IF(LEN($R15)>0,$AD$9+G$20*$S$5,"") -> 5.8764898 | AO15: =IF(LEN($R15)>0,$AD$9+H$20*$S$5,"") -> 5.9333449 | AP15: =IF(LEN($R15)>0,$AD$9+I$20*$S$5,"") -> 5.9902 | AQ15: =IF(LEN($R15)>0,$AD$9+J$20*$S$5,"") -> 6.0470551 | ... AV15: =IF(LEN($R15)>0,$AD$9+O$20*$S$5,"") -> 6.3313306 | AZ15: 7 | BA15: =IFERROR(IF(LEN(INDEX(MeasuredXMR!E$15:E$29,Calc!$AZ15,1))>0,INDEX(MeasuredXMR!E$15:E$29,Calc!$AZ15,1),""),"") -> 5.913 | BB15: =IF(AZ15>XMRCount,"",IF(LEN(BA15)>0,AVERAGE($BD$9:$BD$23),BB14)) -> 0.019444444 | BC15: {=IF(AZ15>XMRCount,"",IF(LEN(BA15)>0,AVERAGE(IF($BA$9:$BA$23>0,$BA$9:$BA$23,"")),BC14))} -> 5.8989 | BD15: =IFERROR(ABS(BA15-BA16),"") -> 0.028 | BE15: =IF(AZ15>XMRCount,"",IF(LEN(BA15)>0,$BC15+(3*AVERAGE($BD$9:$BD$23)/1.128),BE14)) -> 5.9506139 | BF15: =IF(AZ15>XMRCount,"",IF(LEN(BA15)>0,$BC15-(3*AVERAGE($BD$9:$BD$23)/1.128),BF14)) -> 5.8471861 | BG15: =IF(AZ15>XMRCount,"",IF(LEN(BA15)>0,$E$9*AVERAGE($BD$9:$BD$23),BG14)) -> 0.063525 | BH15: =IF(AZ15>XMRCount,"",IF(LEN(BA15)>0,0,BH14)) -> 0 | BI15: {=IFERROR(SMALL(IF($BA$9:$BA$23>0,$BA$9:$BA$23,""),Q15),"")} -> 5.903 | BJ15: =IF(LEN($BA15)>0,$BC$9+C$20*$BB$5,"") -> 5.8299888 | BK15: =IF(LEN($BA15)>0,$BC$9+D$20*$BB$5,"") -> 5.841474 | BL15: =IF(LEN($BA15)>0,$BC$9+E$20*$BB$5,"") -> 5.8529592 | BM15: =IF(LEN($BA15)>0,$BC$9+F$20*$BB$5,"") -> 5.8644444 | BN15: =IF(LEN($BA15)>0,$BC$9+G$20*$BB$5,"") -> 5.8759296 | BO15: =IF(LEN($BA15)>0,$BC$9+H$20*$BB$5,"") -> 5.8874148 | BP15: =IF(LEN($BA15)>0,$BC$9+I$20*$BB$5,"") -> 5.8989 | BQ15: =IF(LEN($BA15)>0,$BC$9+J$20*$BB$5,"") -> 5.9103852 | ... BV15: =IF(LEN($BA15)>0,$BC$9+O$20*$BB$5,"") -> 5.9678112 | BZ15: 7 | CA15: =IFERROR(IF(LEN(INDEX(CountDefectives!D$9:D$23,Calc!$BZ15,1))>0,INDEX(CountDefectives!D$9:D$23,Calc!$BZ15,1),""),"") -> 1036.6667 | CB15: =IFERROR(IF(LEN(INDEX(CountDefectives!E$9:E$23,Calc!$BZ15,1))>0,INDEX(CountDefectives!E$9:E$23,Calc!$BZ15,1),""),"") -> 11 | CC15: =IFERROR(IF(LEN(CA15)>0,CB15/CA15,""),"") -> 0.010610932 | CD15: =IF(BZ15>PCount,"",AVERAGE($CC$9:$CC$23)) -> 0.014059621 | CE15: =IFERROR(IF(LEN(CA15)>0,($CD$9*(1-$CD$9)/$CA15)^0.5,""),"") -> 0.0036567273 | CF15: =IFERROR(IF(BZ15>PCount,"",IF(LEN(CA15)>0,$CD15+(3*$CE15),CF14)),"Err") -> 0.025029803 | CG15: =IFERROR(IF(BZ15>PCount,"",IF(LEN(CA15)>0,$CD15-(3*$CE15),CG14)),"Err") -> 0.0030894395 | CJ15: 7 | CK15: =IFERROR(IF(LEN(INDEX(CountDefects!D$9:D$23,Calc!$CJ15,1))>0,INDEX(CountDefects!D$9:D$23,Calc!$CJ15,1),""),"") -> 1555 | CL15: =IFERROR(IF(LEN(INDEX(CountDefects!E$9:E$23,Calc!$CJ15,1))>0,INDEX(CountDefects!E$9:E$23,Calc!$CJ15,1),""),"") -> 8 | CM15: =IFERROR(IF(LEN(CK15)>0,CL15/CK15,""),"") -> 0.0051446945 | CN15: =IFERROR(IF(CJ15>UCount,"",AVERAGE($CM$9:$CM$23)),"Err") -> 0.0069346438 | CO15: =IFERROR(IF(LEN(CK15)>0,($CN$9/$CK15)^0.5,""),"") -> 0.0021117713 | CP15: =IFERROR(IF(CJ15>UCount,"",IF(LEN(CK15)>0,$CN15+(3*$CO15),CP14)),"Err") -> 0.013269958 | CQ15: =IFERROR(IF(CJ15>UCount,"",IF(LEN(CK15)>0,$CN15-(3*$CO15),CQ14)),"Err") -> 0.00059932989
C16: 9 | D16: =3/(F16*(C16^0.5)) -> 0.33670034 | E16: 1.816 | F16: 2.97 | Q16: 8 | R16: =IFERROR(IF(LEN(INDEX(MeasuredXbarR!D$15:D$29,Calc!$Q16,1))>0,INDEX(MeasuredXbarR!D$15:D$29,Calc!$Q16,1),""),"") -> 5.95 | S16: =IFERROR(IF(LEN(INDEX(MeasuredXbarR!E$15:E$29,Calc!$Q16,1))>0,INDEX(MeasuredXbarR!E$15:E$29,Calc!$Q16,1),""),"") -> 6.07 | T16: =IFERROR(IF(LEN(INDEX(MeasuredXbarR!F$15:F$29,Calc!$Q16,1))>0,INDEX(MeasuredXbarR!F$15:F$29,Calc!$Q16,1),""),"") -> 5.96 | U16: =IFERROR(IF(LEN(INDEX(MeasuredXbarR!G$15:G$29,Calc!$Q16,1))>0,INDEX(MeasuredXbarR!G$15:G$29,Calc!$Q16,1),""),"") -> 6.06 | V16: =IFERROR(IF(LEN(INDEX(MeasuredXbarR!H$15:H$29,Calc!$Q16,1))>0,INDEX(MeasuredXbarR!H$15:H$29,Calc!$Q16,1),""),"") -> 5.93 | W16: =IFERROR(IF(LEN(INDEX(MeasuredXbarR!I$15:I$29,Calc!$Q16,1))>0,INDEX(MeasuredXbarR!I$15:I$29,Calc!$Q16,1),""),"") | X16: =IFERROR(IF(LEN(INDEX(MeasuredXbarR!J$15:J$29,Calc!$Q16,1))>0,INDEX(MeasuredXbarR!J$15:J$29,Calc!$Q16,1),""),"") | Y16: =IFERROR(IF(LEN(INDEX(MeasuredXbarR!K$15:K$29,Calc!$Q16,1))>0,INDEX(MeasuredXbarR!K$15:K$29,Calc!$Q16,1),""),"") | ... AA16: =IFERROR(IF(LEN(INDEX(MeasuredXbarR!M$15:M$29,Calc!$Q16,1))>0,INDEX(MeasuredXbarR!M$15:M$29,Calc!$Q16,1),""),"") | AB16: =IFERROR(IF(LEN(INDEX(MeasuredXbarR!N$15:N$29,Calc!$Q16,1))>0,INDEX(MeasuredXbarR!N$15:N$129,Calc!$Q16,1),""),"") -> 5.994 | AC16: =IFERROR(IF(LEN(INDEX(MeasuredXbarR!O$15:O$29,Calc!$Q16,1))>0,INDEX(MeasuredXbarR!O$15:O$29,Calc!$Q16,1),""),"") -> 0.14 | AD16: {=IF(Q16>XbarCount,"",IF(LEN(R16)>0,AVERAGE(IFERROR($AB$9:$AB$23,"")),AD15))} -> 5.9902 | AE16: =IF(Q16>XbarCount,"",$AD16+(INDEX(Calc!$D$8:$D$17,MATCH(COUNTIF($R$9:$AA$9,">0"),Calc!$C$8:$C$17,0))*AVERAGE($AC$9:$AC$23))) -> 6.0911403 | AF16: =IF(Q16>XbarCount,"",$AD16-(INDEX(Calc!$D$8:$D$17,MATCH(COUNTIF($R$9:$AA$9,">0"),Calc!$C$8:$C$17,0))*AVERAGE($AC$9:$AC$23))) -> 5.8892597 | AG16: =IF(Q16>XbarCount,"",AVERAGE($AC$9:$AC$23)) -> 0.175 | AH16: =IF(Q16>XbarCount,"",INDEX(Calc!$E$8:$E$17,MATCH(COUNTIF($R$9:$AA$9,">0"),Calc!$C$8:$C$17,0))*AVERAGE($AC$9:$AC$23)) -> 0.36995 | AI16: {=IFERROR(SMALL(IF($AB$9:$AB$23>0,$AB$9:$AB$23,""),Q16),"")} -> 6.018 | AJ16: =IF(LEN($R16)>0,$AD$9+C$20*$S$5,"") -> 5.6490694 | AK16: =IF(LEN($R16)>0,$AD$9+D$20*$S$5,"") -> 5.7059245 | AL16: =IF(LEN($R16)>0,$AD$9+E$20*$S$5,"") -> 5.7627796 | AM16: =IF(LEN($R16)>0,$AD$9+F$20*$S$5,"") -> 5.8196347 | AN16: =IF(LEN($R16)>0,$AD$9+G$20*$S$5,"") -> 5.8764898 | AO16: =IF(LEN($R16)>0,$AD$9+H$20*$S$5,"") -> 5.9333449 | AP16: =IF(LEN($R16)>0,$AD$9+I$20*$S$5,"") -> 5.9902 | AQ16: =IF(LEN($R16)>0,$AD$9+J$20*$S$5,"") -> 6.0470551 | ... AV16: =IF(LEN($R16)>0,$AD$9+O$20*$S$5,"") -> 6.3313306 | AZ16: 8 | BA16: =IFERROR(IF(LEN(INDEX(MeasuredXMR!E$15:E$29,Calc!$AZ16,1))>0,INDEX(MeasuredXMR!E$15:E$29,Calc!$AZ16,1),""),"") -> 5.885 | BB16: =IF(AZ16>XMRCount,"",IF(LEN(BA16)>0,AVERAGE($BD$9:$BD$23),BB15)) -> 0.019444444 | BC16: {=IF(AZ16>XMRCount,"",IF(LEN(BA16)>0,AVERAGE(IF($BA$9:$BA$23>0,$BA$9:$BA$23,"")),BC15))} -> 5.8989 | BD16: =IFERROR(ABS(BA16-BA17),"") -> 0.03 | BE16: =IF(AZ16>XMRCount,"",IF(LEN(BA16)>0,$BC16+(3*AVERAGE($BD$9:$BD$23)/1.128),BE15)) -> 5.9506139 | BF16: =IF(AZ16>XMRCount,"",IF(LEN(BA16)>0,$BC16-(3*AVERAGE($BD$9:$BD$23)/1.128),BF15)) -> 5.8471861 | BG16: =IF(AZ16>XMRCount,"",IF(LEN(BA16)>0,$E$9*AVERAGE($BD$9:$BD$23),BG15)) -> 0.063525 | BH16: =IF(AZ16>XMRCount,"",IF(LEN(BA16)>0,0,BH15)) -> 0 | BI16: {=IFERROR(SMALL(IF($BA$9:$BA$23>0,$BA$9:$BA$23,""),Q16),"")} -> 5.91 | BJ16: =IF(LEN($BA16)>0,$BC$9+C$20*$BB$5,"") -> 5.8299888 | BK16: =IF(LEN($BA16)>0,$BC$9+D$20*$BB$5,"") -> 5.841474 | BL16: =IF(LEN($BA16)>0,$BC$9+E$20*$BB$5,"") -> 5.8529592 | BM16: =IF(LEN($BA16)>0,$BC$9+F$20*$BB$5,"") -> 5.8644444 | BN16: =IF(LEN($BA16)>0,$BC$9+G$20*$BB$5,"") -> 5.8759296 | BO16: =IF(LEN($BA16)>0,$BC$9+H$20*$BB$5,"") -> 5.8874148 | BP16: =IF(LEN($BA16)>0,$BC$9+I$20*$BB$5,"") -> 5.8989 | BQ16: =IF(LEN($BA16)>0,$BC$9+J$20*$BB$5,"") -> 5.9103852 | ... BV16: =IF(LEN($BA16)>0,$BC$9+O$20*$BB$5,"") -> 5.9678112 | BZ16: 8 | CA16: =IFERROR(IF(LEN(INDEX(CountDefectives!D$9:D$23,Calc!$BZ16,1))>0,INDEX(CountDefectives!D$9:D$23,Calc!$BZ16,1),""),"") -> 1300 | CB16: =IFERROR(IF(LEN(INDEX(CountDefectives!E$9:E$23,Calc!$BZ16,1))>0,INDEX(CountDefectives!E$9:E$23,Calc!$BZ16,1),""),"") -> 20 | CC16: =IFERROR(IF(LEN(CA16)>0,CB16/CA16,""),"") -> 0.015384615 | CD16: =IF(BZ16>PCount,"",AVERAGE($CC$9:$CC$23)) -> 0.014059621 | CE16: =IFERROR(IF(LEN(CA16)>0,($CD$9*(1-$CD$9)/$CA16)^0.5,""),"") -> 0.0032654306 | CF16: =IFERROR(IF(BZ16>PCount,"",IF(LEN(CA16)>0,$CD16+(3*$CE16),CF15)),"Err") -> 0.023855913 | CG16: =IFERROR(IF(BZ16>PCount,"",IF(LEN(CA16)>0,$CD16-(3*$CE16),CG15)),"Err") -> 0.0042633294 | CJ16: 8 | CK16: =IFERROR(IF(LEN(INDEX(CountDefects!D$9:D$23,Calc!$CJ16,1))>0,INDEX(CountDefects!D$9:D$23,Calc!$CJ16,1),""),"") -> 1950 | CL16: =IFERROR(IF(LEN(INDEX(CountDefects!E$9:E$23,Calc!$CJ16,1))>0,INDEX(CountDefects!E$9:E$23,Calc!$CJ16,1),""),"") -> 15 | CM16: =IFERROR(IF(LEN(CK16)>0,CL16/CK16,""),"") -> 0.0076923077 | CN16: =IFERROR(IF(CJ16>UCount,"",AVERAGE($CM$9:$CM$23)),"Err") -> 0.0069346438 | CO16: =IFERROR(IF(LEN(CK16)>0,($CN$9/$CK16)^0.5,""),"") -> 0.0018857963 | CP16: =IFERROR(IF(CJ16>UCount,"",IF(LEN(CK16)>0,$CN16+(3*$CO16),CP15)),"Err") -> 0.012592033 | CQ16: =IFERROR(IF(CJ16>UCount,"",IF(LEN(CK16)>0,$CN16-(3*$CO16),CQ15)),"Err") -> 0.001277255
C17: 10 | D17: =3/(F17*(C17^0.5)) -> 0.3082142 | E17: 1.777 | F17: 3.078 | Q17: 9 | R17: =IFERROR(IF(LEN(INDEX(MeasuredXbarR!D$15:D$29,Calc!$Q17,1))>0,INDEX(MeasuredXbarR!D$15:D$29,Calc!$Q17,1),""),"") -> 5.91 | S17: =IFERROR(IF(LEN(INDEX(MeasuredXbarR!E$15:E$29,Calc!$Q17,1))>0,INDEX(MeasuredXbarR!E$15:E$29,Calc!$Q17,1),""),"") -> 5.9 | T17: =IFERROR(IF(LEN(INDEX(MeasuredXbarR!F$15:F$29,Calc!$Q17,1))>0,INDEX(MeasuredXbarR!F$15:F$29,Calc!$Q17,1),""),"") -> 5.91 | U17: =IFERROR(IF(LEN(INDEX(MeasuredXbarR!G$15:G$29,Calc!$Q17,1))>0,INDEX(MeasuredXbarR!G$15:G$29,Calc!$Q17,1),""),"") -> 6.12 | V17: =IFERROR(IF(LEN(INDEX(MeasuredXbarR!H$15:H$29,Calc!$Q17,1))>0,INDEX(MeasuredXbarR!H$15:H$29,Calc!$Q17,1),""),"") -> 6.07 | W17: =IFERROR(IF(LEN(INDEX(MeasuredXbarR!I$15:I$29,Calc!$Q17,1))>0,INDEX(MeasuredXbarR!I$15:I$29,Calc!$Q17,1),""),"") | X17: =IFERROR(IF(LEN(INDEX(MeasuredXbarR!J$15:J$29,Calc!$Q17,1))>0,INDEX(MeasuredXbarR!J$15:J$29,Calc!$Q17,1),""),"") | Y17: =IFERROR(IF(LEN(INDEX(MeasuredXbarR!K$15:K$29,Calc!$Q17,1))>0,INDEX(MeasuredXbarR!K$15:K$29,Calc!$Q17,1),""),"") | ... AA17: =IFERROR(IF(LEN(INDEX(MeasuredXbarR!M$15:M$29,Calc!$Q17,1))>0,INDEX(MeasuredXbarR!M$15:M$29,Calc!$Q17,1),""),"") | AB17: =IFERROR(IF(LEN(INDEX(MeasuredXbarR!N$15:N$29,Calc!$Q17,1))>0,INDEX(MeasuredXbarR!N$15:N$129,Calc!$Q17,1),""),"") -> 5.982 | AC17: =IFERROR(IF(LEN(INDEX(MeasuredXbarR!O$15:O$29,Calc!$Q17,1))>0,INDEX(MeasuredXbarR!O$15:O$29,Calc!$Q17,1),""),"") -> 0.22 | AD17: {=IF(Q17>XbarCount,"",IF(LEN(R17)>0,AVERAGE(IFERROR($AB$9:$AB$23,"")),AD16))} -> 5.9902 | AE17: =IF(Q17>XbarCount,"",$AD17+(INDEX(Calc!$D$8:$D$17,MATCH(COUNTIF($R$9:$AA$9,">0"),Calc!$C$8:$C$17,0))*AVERAGE($AC$9:$AC$23))) -> 6.0911403 | AF17: =IF(Q17>XbarCount,"",$AD17-(INDEX(Calc!$D$8:$D$17,MATCH(COUNTIF($R$9:$AA$9,">0"),Calc!$C$8:$C$17,0))*AVERAGE($AC$9:$AC$23))) -> 5.8892597 | AG17: =IF(Q17>XbarCount,"",AVERAGE($AC$9:$AC$23)) -> 0.175 | AH17: =IF(Q17>XbarCount,"",INDEX(Calc!$E$8:$E$17,MATCH(COUNTIF($R$9:$AA$9,">0"),Calc!$C$8:$C$17,0))*AVERAGE($AC$9:$AC$23)) -> 0.36995 | AI17: {=IFERROR(SMALL(IF($AB$9:$AB$23>0,$AB$9:$AB$23,""),Q17),"")} -> 6.02 | AJ17: =IF(LEN($R17)>0,$AD$9+C$20*$S$5,"") -> 5.6490694 | AK17: =IF(LEN($R17)>0,$AD$9+D$20*$S$5,"") -> 5.7059245 | AL17: =IF(LEN($R17)>0,$AD$9+E$20*$S$5,"") -> 5.7627796 | AM17: =IF(LEN($R17)>0,$AD$9+F$20*$S$5,"") -> 5.8196347 | AN17: =IF(LEN($R17)>0,$AD$9+G$20*$S$5,"") -> 5.8764898 | AO17: =IF(LEN($R17)>0,$AD$9+H$20*$S$5,"") -> 5.9333449 | AP17: =IF(LEN($R17)>0,$AD$9+I$20*$S$5,"") -> 5.9902 | AQ17: =IF(LEN($R17)>0,$AD$9+J$20*$S$5,"") -> 6.0470551 | ... AV17: =IF(LEN($R17)>0,$AD$9+O$20*$S$5,"") -> 6.3313306 | AZ17: 9 | BA17: =IFERROR(IF(LEN(INDEX(MeasuredXMR!E$15:E$29,Calc!$AZ17,1))>0,INDEX(MeasuredXMR!E$15:E$29,Calc!$AZ17,1),""),"") -> 5.915 | BB17: =IF(AZ17>XMRCount,"",IF(LEN(BA17)>0,AVERAGE($BD$9:$BD$23),BB16)) -> 0.019444444 | BC17: {=IF(AZ17>XMRCount,"",IF(LEN(BA17)>0,AVERAGE(IF($BA$9:$BA$23>0,$BA$9:$BA$23,"")),BC16))} -> 5.8989 | BD17: =IFERROR(ABS(BA17-BA18),"") -> 0.026 | BE17: =IF(AZ17>XMRCount,"",IF(LEN(BA17)>0,$BC17+(3*AVERAGE($BD$9:$BD$23)/1.128),BE16)) -> 5.9506139 | BF17: =IF(AZ17>XMRCount,"",IF(LEN(BA17)>0,$BC17-(3*AVERAGE($BD$9:$BD$23)/1.128),BF16)) -> 5.8471861 | BG17: =IF(AZ17>XMRCount,"",IF(LEN(BA17)>0,$E$9*AVERAGE($BD$9:$BD$23),BG16)) -> 0.063525 | BH17: =IF(AZ17>XMRCount,"",IF(LEN(BA17)>0,0,BH16)) -> 0 | BI17: {=IFERROR(SMALL(IF($BA$9:$BA$23>0,$BA$9:$BA$23,""),Q17),"")} -> 5.913 | BJ17: =IF(LEN($BA17)>0,$BC$9+C$20*$BB$5,"") -> 5.8299888 | BK17: =IF(LEN($BA17)>0,$BC$9+D$20*$BB$5,"") -> 5.841474 | BL17: =IF(LEN($BA17)>0,$BC$9+E$20*$BB$5,"") -> 5.8529592 | BM17: =IF(LEN($BA17)>0,$BC$9+F$20*$BB$5,"") -> 5.8644444 | BN17: =IF(LEN($BA17)>0,$BC$9+G$20*$BB$5,"") -> 5.8759296 | BO17: =IF(LEN($BA17)>0,$BC$9+H$20*$BB$5,"") -> 5.8874148 | BP17: =IF(LEN($BA17)>0,$BC$9+I$20*$BB$5,"") -> 5.8989 | BQ17: =IF(LEN($BA17)>0,$BC$9+J$20*$BB$5,"") -> 5.9103852 | ... BV17: =IF(LEN($BA17)>0,$BC$9+O$20*$BB$5,"") -> 5.9678112 | BZ17: 9 | CA17: =IFERROR(IF(LEN(INDEX(CountDefectives!D$9:D$23,Calc!$BZ17,1))>0,INDEX(CountDefectives!D$9:D$23,Calc!$BZ17,1),""),"") -> 1500 | CB17: =IFERROR(IF(LEN(INDEX(CountDefectives!E$9:E$23,Calc!$BZ17,1))>0,INDEX(CountDefectives!E$9:E$23,Calc!$BZ17,1),""),"") -> 25 | CC17: =IFERROR(IF(LEN(CA17)>0,CB17/CA17,""),"") -> 0.016666667 | CD17: =IF(BZ17>PCount,"",AVERAGE($CC$9:$CC$23)) -> 0.014059621 | CE17: =IFERROR(IF(LEN(CA17)>0,($CD$9*(1-$CD$9)/$CA17)^0.5,""),"") -> 0.0030399505 | CF17: =IFERROR(IF(BZ17>PCount,"",IF(LEN(CA17)>0,$CD17+(3*$CE17),CF16)),"Err") -> 0.023179473 | CG17: =IFERROR(IF(BZ17>PCount,"",IF(LEN(CA17)>0,$CD17-(3*$CE17),CG16)),"Err") -> 0.0049397699 | CJ17: 9 | CK17: =IFERROR(IF(LEN(INDEX(CountDefects!D$9:D$23,Calc!$CJ17,1))>0,INDEX(CountDefects!D$9:D$23,Calc!$CJ17,1),""),"") -> 2250 | CL17: =IFERROR(IF(LEN(INDEX(CountDefects!E$9:E$23,Calc!$CJ17,1))>0,INDEX(CountDefects!E$9:E$23,Calc!$CJ17,1),""),"") -> 19 | CM17: =IFERROR(IF(LEN(CK17)>0,CL17/CK17,""),"") -> 0.0084444444 | CN17: =IFERROR(IF(CJ17>UCount,"",AVERAGE($CM$9:$CM$23)),"Err") -> 0.0069346438 | CO17: =IFERROR(IF(LEN(CK17)>0,($CN$9/$CK17)^0.5,""),"") -> 0.0017555808 | CP17: =IFERROR(IF(CJ17>UCount,"",IF(LEN(CK17)>0,$CN17+(3*$CO17),CP16)),"Err") -> 0.012201386 | CQ17: =IFERROR(IF(CJ17>UCount,"",IF(LEN(CK17)>0,$CN17-(3*$CO17),CQ16)),"Err") -> 0.0016679014
Q18: 10 | R18: =IFERROR(IF(LEN(INDEX(MeasuredXbarR!D$15:D$29,Calc!$Q18,1))>0,INDEX(MeasuredXbarR!D$15:D$29,Calc!$Q18,1),""),"") -> 6.08 | S18: =IFERROR(IF(LEN(INDEX(MeasuredXbarR!E$15:E$29,Calc!$Q18,1))>0,INDEX(MeasuredXbarR!E$15:E$29,Calc!$Q18,1),""),"") -> 5.89 | T18: =IFERROR(IF(LEN(INDEX(MeasuredXbarR!F$15:F$29,Calc!$Q18,1))>0,INDEX(MeasuredXbarR!F$15:F$29,Calc!$Q18,1),""),"") -> 5.96 | U18: =IFERROR(IF(LEN(INDEX(MeasuredXbarR!G$15:G$29,Calc!$Q18,1))>0,INDEX(MeasuredXbarR!G$15:G$29,Calc!$Q18,1),""),"") -> 6.08 | V18: =IFERROR(IF(LEN(INDEX(MeasuredXbarR!H$15:H$29,Calc!$Q18,1))>0,INDEX(MeasuredXbarR!H$15:H$29,Calc!$Q18,1),""),"") -> 5.95 | W18: =IFERROR(IF(LEN(INDEX(MeasuredXbarR!I$15:I$29,Calc!$Q18,1))>0,INDEX(MeasuredXbarR!I$15:I$29,Calc!$Q18,1),""),"") | X18: =IFERROR(IF(LEN(INDEX(MeasuredXbarR!J$15:J$29,Calc!$Q18,1))>0,INDEX(MeasuredXbarR!J$15:J$29,Calc!$Q18,1),""),"") | Y18: =IFERROR(IF(LEN(INDEX(MeasuredXbarR!K$15:K$29,Calc!$Q18,1))>0,INDEX(MeasuredXbarR!K$15:K$29,Calc!$Q18,1),""),"") | ... AA18: =IFERROR(IF(LEN(INDEX(MeasuredXbarR!M$15:M$29,Calc!$Q18,1))>0,INDEX(MeasuredXbarR!M$15:M$29,Calc!$Q18,1),""),"") | AB18: =IFERROR(IF(LEN(INDEX(MeasuredXbarR!N$15:N$29,Calc!$Q18,1))>0,INDEX(MeasuredXbarR!N$15:N$129,Calc!$Q18,1),""),"") -> 5.992 | AC18: =IFERROR(IF(LEN(INDEX(MeasuredXbarR!O$15:O$29,Calc!$Q18,1))>0,INDEX(MeasuredXbarR!O$15:O$29,Calc!$Q18,1),""),"") -> 0.19 | AD18: {=IF(Q18>XbarCount,"",IF(LEN(R18)>0,AVERAGE(IFERROR($AB$9:$AB$23,"")),AD17))} -> 5.9902 | AE18: =IF(Q18>XbarCount,"",$AD18+(INDEX(Calc!$D$8:$D$17,MATCH(COUNTIF($R$9:$AA$9,">0"),Calc!$C$8:$C$17,0))*AVERAGE($AC$9:$AC$23))) -> 6.0911403 | AF18: =IF(Q18>XbarCount,"",$AD18-(INDEX(Calc!$D$8:$D$17,MATCH(COUNTIF($R$9:$AA$9,">0"),Calc!$C$8:$C$17,0))*AVERAGE($AC$9:$AC$23))) -> 5.8892597 | AG18: =IF(Q18>XbarCount,"",AVERAGE($AC$9:$AC$23)) -> 0.175 | AH18: =IF(Q18>XbarCount,"",INDEX(Calc!$E$8:$E$17,MATCH(COUNTIF($R$9:$AA$9,">0"),Calc!$C$8:$C$17,0))*AVERAGE($AC$9:$AC$23)) -> 0.36995 | AI18: {=IFERROR(SMALL(IF($AB$9:$AB$23>0,$AB$9:$AB$23,""),Q18),"")} -> 6.036 | AJ18: =IF(LEN($R18)>0,$AD$9+C$20*$S$5,"") -> 5.6490694 | AK18: =IF(LEN($R18)>0,$AD$9+D$20*$S$5,"") -> 5.7059245 | AL18: =IF(LEN($R18)>0,$AD$9+E$20*$S$5,"") -> 5.7627796 | AM18: =IF(LEN($R18)>0,$AD$9+F$20*$S$5,"") -> 5.8196347 | AN18: =IF(LEN($R18)>0,$AD$9+G$20*$S$5,"") -> 5.8764898 | AO18: =IF(LEN($R18)>0,$AD$9+H$20*$S$5,"") -> 5.9333449 | AP18: =IF(LEN($R18)>0,$AD$9+I$20*$S$5,"") -> 5.9902 | AQ18: =IF(LEN($R18)>0,$AD$9+J$20*$S$5,"") -> 6.0470551 | ... AV18: =IF(LEN($R18)>0,$AD$9+O$20*$S$5,"") -> 6.3313306 | AZ18: 10 | BA18: =IFERROR(IF(LEN(INDEX(MeasuredXMR!E$15:E$29,Calc!$AZ18,1))>0,INDEX(MeasuredXMR!E$15:E$29,Calc!$AZ18,1),""),"") -> 5.889 | BB18: =IF(AZ18>XMRCount,"",IF(LEN(BA18)>0,AVERAGE($BD$9:$BD$23),BB17)) -> 0.019444444 | BC18: {=IF(AZ18>XMRCount,"",IF(LEN(BA18)>0,AVERAGE(IF($BA$9:$BA$23>0,$BA$9:$BA$23,"")),BC17))} -> 5.8989 | BD18: =IFERROR(ABS(BA18-BA19),"") | BE18: =IF(AZ18>XMRCount,"",IF(LEN(BA18)>0,$BC18+(3*AVERAGE($BD$9:$BD$23)/1.128),BE17)) -> 5.9506139 | BF18: =IF(AZ18>XMRCount,"",IF(LEN(BA18)>0,$BC18-(3*AVERAGE($BD$9:$BD$23)/1.128),BF17)) -> 5.8471861 | BG18: =IF(AZ18>XMRCount,"",IF(LEN(BA18)>0,$E$9*AVERAGE($BD$9:$BD$23),BG17)) -> 0.063525 | BH18: =IF(AZ18>XMRCount,"",IF(LEN(BA18)>0,0,BH17)) -> 0 | BI18: {=IFERROR(SMALL(IF($BA$9:$BA$23>0,$BA$9:$BA$23,""),Q18),"")} -> 5.915 | BJ18: =IF(LEN($BA18)>0,$BC$9+C$20*$BB$5,"") -> 5.8299888 | BK18: =IF(LEN($BA18)>0,$BC$9+D$20*$BB$5,"") -> 5.841474 | BL18: =IF(LEN($BA18)>0,$BC$9+E$20*$BB$5,"") -> 5.8529592 | BM18: =IF(LEN($BA18)>0,$BC$9+F$20*$BB$5,"") -> 5.8644444 | BN18: =IF(LEN($BA18)>0,$BC$9+G$20*$BB$5,"") -> 5.8759296 | BO18: =IF(LEN($BA18)>0,$BC$9+H$20*$BB$5,"") -> 5.8874148 | BP18: =IF(LEN($BA18)>0,$BC$9+I$20*$BB$5,"") -> 5.8989 | BQ18: =IF(LEN($BA18)>0,$BC$9+J$20*$BB$5,"") -> 5.9103852 | ... BV18: =IF(LEN($BA18)>0,$BC$9+O$20*$BB$5,"") -> 5.9678112 | BZ18: 10 | CA18: =IFERROR(IF(LEN(INDEX(CountDefectives!D$9:D$23,Calc!$BZ18,1))>0,INDEX(CountDefectives!D$9:D$23,Calc!$BZ18,1),""),"") -> 1125 | CB18: =IFERROR(IF(LEN(INDEX(CountDefectives!E$9:E$23,Calc!$BZ18,1))>0,INDEX(CountDefectives!E$9:E$23,Calc!$BZ18,1),""),"") -> 15 | CC18: =IFERROR(IF(LEN(CA18)>0,CB18/CA18,""),"") -> 0.013333333 | CD18: =IF(BZ18>PCount,"",AVERAGE($CC$9:$CC$23)) -> 0.014059621 | CE18: =IFERROR(IF(LEN(CA18)>0,($CD$9*(1-$CD$9)/$CA18)^0.5,""),"") -> 0.0035102325 | CF18: =IFERROR(IF(BZ18>PCount,"",IF(LEN(CA18)>0,$CD18+(3*$CE18),CF17)),"Err") -> 0.024590319 | CG18: =IFERROR(IF(BZ18>PCount,"",IF(LEN(CA18)>0,$CD18-(3*$CE18),CG17)),"Err") -> 0.003528924 | CJ18: 10 | CK18: =IFERROR(IF(LEN(INDEX(CountDefects!D$9:D$23,Calc!$CJ18,1))>0,INDEX(CountDefects!D$9:D$23,Calc!$CJ18,1),""),"") -> 1687.5 | CL18: =IFERROR(IF(LEN(INDEX(CountDefects!E$9:E$23,Calc!$CJ18,1))>0,INDEX(CountDefects!E$9:E$23,Calc!$CJ18,1),""),"") -> 11 | CM18: =IFERROR(IF(LEN(CK18)>0,CL18/CK18,""),"") -> 0.0065185185 | CN18: =IFERROR(IF(CJ18>UCount,"",AVERAGE($CM$9:$CM$23)),"Err") -> 0.0069346438 | CO18: =IFERROR(IF(LEN(CK18)>0,($CN$9/$CK18)^0.5,""),"") -> 0.0020271701 | CP18: =IFERROR(IF(CJ18>UCount,"",IF(LEN(CK18)>0,$CN18+(3*$CO18),CP17)),"Err") -> 0.013016154 | CQ18: =IFERROR(IF(CJ18>UCount,"",IF(LEN(CK18)>0,$CN18-(3*$CO18),CQ17)),"Err") -> 0.00085313353
C19: Constant multipliers for 6 sigma distribution diagram | Q19: 11 | R19: =IFERROR(IF(LEN(INDEX(MeasuredXbarR!D$15:D$29,Calc!$Q19,1))>0,INDEX(MeasuredXbarR!D$15:D$29,Calc!$Q19,1),""),"") | S19: =IFERROR(IF(LEN(INDEX(MeasuredXbarR!E$15:E$29,Calc!$Q19,1))>0,INDEX(MeasuredXbarR!E$15:E$29,Calc!$Q19,1),""),"") | T19: =IFERROR(IF(LEN(INDEX(MeasuredXbarR!F$15:F$29,Calc!$Q19,1))>0,INDEX(MeasuredXbarR!F$15:F$29,Calc!$Q19,1),""),"") | U19: =IFERROR(IF(LEN(INDEX(MeasuredXbarR!G$15:G$29,Calc!$Q19,1))>0,INDEX(MeasuredXbarR!G$15:G$29,Calc!$Q19,1),""),"") | V19: =IFERROR(IF(LEN(INDEX(MeasuredXbarR!H$15:H$29,Calc!$Q19,1))>0,INDEX(MeasuredXbarR!H$15:H$29,Calc!$Q19,1),""),"") | W19: =IFERROR(IF(LEN(INDEX(MeasuredXbarR!I$15:I$29,Calc!$Q19,1))>0,INDEX(MeasuredXbarR!I$15:I$29,Calc!$Q19,1),""),"") | X19: =IFERROR(IF(LEN(INDEX(MeasuredXbarR!J$15:J$29,Calc!$Q19,1))>0,INDEX(MeasuredXbarR!J$15:J$29,Calc!$Q19,1),""),"") | Y19: =IFERROR(IF(LEN(INDEX(MeasuredXbarR!K$15:K$29,Calc!$Q19,1))>0,INDEX(MeasuredXbarR!K$15:K$29,Calc!$Q19,1),""),"") | ... AA19: =IFERROR(IF(LEN(INDEX(MeasuredXbarR!M$15:M$29,Calc!$Q19,1))>0,INDEX(MeasuredXbarR!M$15:M$29,Calc!$Q19,1),""),"") | AB19: =IFERROR(IF(LEN(INDEX(MeasuredXbarR!N$15:N$29,Calc!$Q19,1))>0,INDEX(MeasuredXbarR!N$15:N$129,Calc!$Q19,1),""),"") | AC19: =IFERROR(IF(LEN(INDEX(MeasuredXbarR!O$15:O$29,Calc!$Q19,1))>0,INDEX(MeasuredXbarR!O$15:O$29,Calc!$Q19,1),""),"") | AD19: {=IF(Q19>XbarCount,"",IF(LEN(R19)>0,AVERAGE(IFERROR($AB$9:$AB$23,"")),AD18))} | AE19: =IF(Q19>XbarCount,"",$AD19+(INDEX(Calc!$D$8:$D$17,MATCH(COUNTIF($R$9:$AA$9,">0"),Calc!$C$8:$C$17,0))*AVERAGE($AC$9:$AC$23))) | AF19: =IF(Q19>XbarCount,"",$AD19-(INDEX(Calc!$D$8:$D$17,MATCH(COUNTIF($R$9:$AA$9,">0"),Calc!$C$8:$C$17,0))*AVERAGE($AC$9:$AC$23))) | AG19: =IF(Q19>XbarCount,"",AVERAGE($AC$9:$AC$23)) | AH19: =IF(Q19>XbarCount,"",INDEX(Calc!$E$8:$E$17,MATCH(COUNTIF($R$9:$AA$9,">0"),Calc!$C$8:$C$17,0))*AVERAGE($AC$9:$AC$23)) | AI19: {=IFERROR(SMALL(IF($AB$9:$AB$23>0,$AB$9:$AB$23,""),Q19),"")} | AJ19: =IF(LEN($R19)>0,$AD$9+C$20*$S$5,"") | AK19: =IF(LEN($R19)>0,$AD$9+D$20*$S$5,"") | AL19: =IF(LEN($R19)>0,$AD$9+E$20*$S$5,"") | AM19: =IF(LEN($R19)>0,$AD$9+F$20*$S$5,"") | AN19: =IF(LEN($R19)>0,$AD$9+G$20*$S$5,"") | AO19: =IF(LEN($R19)>0,$AD$9+H$20*$S$5,"") | AP19: =IF(LEN($R19)>0,$AD$9+I$20*$S$5,"") | AQ19: =IF(LEN($R19)>0,$AD$9+J$20*$S$5,"") | ... AV19: =IF(LEN($R19)>0,$AD$9+O$20*$S$5,"") | AZ19: 11 | BA19: =IFERROR(IF(LEN(INDEX(MeasuredXMR!E$15:E$29,Calc!$AZ19,1))>0,INDEX(MeasuredXMR!E$15:E$29,Calc!$AZ19,1),""),"") | BB19: =IF(AZ19>XMRCount,"",IF(LEN(BA19)>0,AVERAGE($BD$9:$BD$23),BB18)) | BC19: {=IF(AZ19>XMRCount,"",IF(LEN(BA19)>0,AVERAGE(IF($BA$9:$BA$23>0,$BA$9:$BA$23,"")),BC18))} | BD19: =IFERROR(ABS(BA19-BA20),"") | BE19: =IF(AZ19>XMRCount,"",IF(LEN(BA19)>0,$BC19+(3*AVERAGE($BD$9:$BD$23)/1.128),BE18)) | BF19: =IF(AZ19>XMRCount,"",IF(LEN(BA19)>0,$BC19-(3*AVERAGE($BD$9:$BD$23)/1.128),BF18)) | BG19: =IF(AZ19>XMRCount,"",IF(LEN(BA19)>0,$E$9*AVERAGE($BD$9:$BD$23),BG18)) | BH19: =IF(AZ19>XMRCount,"",IF(LEN(BA19)>0,0,BH18)) | BI19: {=IFERROR(SMALL(IF($BA$9:$BA$23>0,$BA$9:$BA$23,""),Q19),"")} | BJ19: =IF(LEN($BA19)>0,$BC$9+C$20*$BB$5,"") | BK19: =IF(LEN($BA19)>0,$BC$9+D$20*$BB$5,"") | BL19: =IF(LEN($BA19)>0,$BC$9+E$20*$BB$5,"") | BM19: =IF(LEN($BA19)>0,$BC$9+F$20*$BB$5,"") | BN19: =IF(LEN($BA19)>0,$BC$9+G$20*$BB$5,"") | BO19: =IF(LEN($BA19)>0,$BC$9+H$20*$BB$5,"") | BP19: =IF(LEN($BA19)>0,$BC$9+I$20*$BB$5,"") | BQ19: =IF(LEN($BA19)>0,$BC$9+J$20*$BB$5,"") | ... BV19: =IF(LEN($BA19)>0,$BC$9+O$20*$BB$5,"") | BZ19: 11 | CA19: =IFERROR(IF(LEN(INDEX(CountDefectives!D$9:D$23,Calc!$BZ19,1))>0,INDEX(CountDefectives!D$9:D$23,Calc!$BZ19,1),""),"") | CB19: =IFERROR(IF(LEN(INDEX(CountDefectives!E$9:E$23,Calc!$BZ19,1))>0,INDEX(CountDefectives!E$9:E$23,Calc!$BZ19,1),""),"") | CC19: =IFERROR(IF(LEN(CA19)>0,CB19/CA19,""),"") | CD19: =IF(BZ19>PCount,"",AVERAGE($CC$9:$CC$23)) | CE19: =IFERROR(IF(LEN(CA19)>0,($CD$9*(1-$CD$9)/$CA19)^0.5,""),"") | CF19: =IFERROR(IF(BZ19>PCount,"",IF(LEN(CA19)>0,$CD19+(3*$CE19),CF18)),"Err") | CG19: =IFERROR(IF(BZ19>PCount,"",IF(LEN(CA19)>0,$CD19-(3*$CE19),CG18)),"Err") | CJ19: 11 | CK19: =IFERROR(IF(LEN(INDEX(CountDefects!D$9:D$23,Calc!$CJ19,1))>0,INDEX(CountDefects!D$9:D$23,Calc!$CJ19,1),""),"") | CL19: =IFERROR(IF(LEN(INDEX(CountDefects!E$9:E$23,Calc!$CJ19,1))>0,INDEX(CountDefects!E$9:E$23,Calc!$CJ19,1),""),"") | CM19: =IFERROR(IF(LEN(CK19)>0,CL19/CK19,""),"") | CN19: =IFERROR(IF(CJ19>UCount,"",AVERAGE($CM$9:$CM$23)),"Err") | CO19: =IFERROR(IF(LEN(CK19)>0,($CN$9/$CK19)^0.5,""),"") | CP19: =IFERROR(IF(CJ19>UCount,"",IF(LEN(CK19)>0,$CN19+(3*$CO19),CP18)),"Err") | CQ19: =IFERROR(IF(CJ19>UCount,"",IF(LEN(CK19)>0,$CN19-(3*$CO19),CQ18)),"Err")
C20: -6 | D20: -5 | E20: -4 | F20: -3 | G20: -2 | H20: -1 | I20: 0 | J20: 1 | K20: 2 | L20: 3 | M20: 4 | N20: 5 | O20: 6 | Q20: 12 | R20: =IFERROR(IF(LEN(INDEX(MeasuredXbarR!D$15:D$29,Calc!$Q20,1))>0,INDEX(MeasuredXbarR!D$15:D$29,Calc!$Q20,1),""),"") | S20: =IFERROR(IF(LEN(INDEX(MeasuredXbarR!E$15:E$29,Calc!$Q20,1))>0,INDEX(MeasuredXbarR!E$15:E$29,Calc!$Q20,1),""),"") | T20: =IFERROR(IF(LEN(INDEX(MeasuredXbarR!F$15:F$29,Calc!$Q20,1))>0,INDEX(MeasuredXbarR!F$15:F$29,Calc!$Q20,1),""),"") | U20: =IFERROR(IF(LEN(INDEX(MeasuredXbarR!G$15:G$29,Calc!$Q20,1))>0,INDEX(MeasuredXbarR!G$15:G$29,Calc!$Q20,1),""),"") | V20: =IFERROR(IF(LEN(INDEX(MeasuredXbarR!H$15:H$29,Calc!$Q20,1))>0,INDEX(MeasuredXbarR!H$15:H$29,Calc!$Q20,1),""),"") | W20: =IFERROR(IF(LEN(INDEX(MeasuredXbarR!I$15:I$29,Calc!$Q20,1))>0,INDEX(MeasuredXbarR!I$15:I$29,Calc!$Q20,1),""),"") | X20: =IFERROR(IF(LEN(INDEX(MeasuredXbarR!J$15:J$29,Calc!$Q20,1))>0,INDEX(MeasuredXbarR!J$15:J$29,Calc!$Q20,1),""),"") | Y20: =IFERROR(IF(LEN(INDEX(MeasuredXbarR!K$15:K$29,Calc!$Q20,1))>0,INDEX(MeasuredXbarR!K$15:K$29,Calc!$Q20,1),""),"") | ... AA20: =IFERROR(IF(LEN(INDEX(MeasuredXbarR!M$15:M$29,Calc!$Q20,1))>0,INDEX(MeasuredXbarR!M$15:M$29,Calc!$Q20,1),""),"") | AB20: =IFERROR(IF(LEN(INDEX(MeasuredXbarR!N$15:N$29,Calc!$Q20,1))>0,INDEX(MeasuredXbarR!N$15:N$129,Calc!$Q20,1),""),"") | AC20: =IFERROR(IF(LEN(INDEX(MeasuredXbarR!O$15:O$29,Calc!$Q20,1))>0,INDEX(MeasuredXbarR!O$15:O$29,Calc!$Q20,1),""),"") | AD20: {=IF(Q20>XbarCount,"",IF(LEN(R20)>0,AVERAGE(IFERROR($AB$9:$AB$23,"")),AD19))} | AE20: =IF(Q20>XbarCount,"",$AD20+(INDEX(Calc!$D$8:$D$17,MATCH(COUNTIF($R$9:$AA$9,">0"),Calc!$C$8:$C$17,0))*AVERAGE($AC$9:$AC$23))) | AF20: =IF(Q20>XbarCount,"",$AD20-(INDEX(Calc!$D$8:$D$17,MATCH(COUNTIF($R$9:$AA$9,">0"),Calc!$C$8:$C$17,0))*AVERAGE($AC$9:$AC$23))) | AG20: =IF(Q20>XbarCount,"",AVERAGE($AC$9:$AC$23)) | AH20: =IF(Q20>XbarCount,"",INDEX(Calc!$E$8:$E$17,MATCH(COUNTIF($R$9:$AA$9,">0"),Calc!$C$8:$C$17,0))*AVERAGE($AC$9:$AC$23)) | AI20: {=IFERROR(SMALL(IF($AB$9:$AB$23>0,$AB$9:$AB$23,""),Q20),"")} | AJ20: =IF(LEN($R20)>0,$AD$9+C$20*$S$5,"") | AK20: =IF(LEN($R20)>0,$AD$9+D$20*$S$5,"") | AL20: =IF(LEN($R20)>0,$AD$9+E$20*$S$5,"") | AM20: =IF(LEN($R20)>0,$AD$9+F$20*$S$5,"") | AN20: =IF(LEN($R20)>0,$AD$9+G$20*$S$5,"") | AO20: =IF(LEN($R20)>0,$AD$9+H$20*$S$5,"") | AP20: =IF(LEN($R20)>0,$AD$9+I$20*$S$5,"") | AQ20: =IF(LEN($R20)>0,$AD$9+J$20*$S$5,"") | ... AV20: =IF(LEN($R20)>0,$AD$9+O$20*$S$5,"") | AZ20: 12 | BA20: =IFERROR(IF(LEN(INDEX(MeasuredXMR!E$15:E$29,Calc!$AZ20,1))>0,INDEX(MeasuredXMR!E$15:E$29,Calc!$AZ20,1),""),"") | BB20: =IF(AZ20>XMRCount,"",IF(LEN(BA20)>0,AVERAGE($BD$9:$BD$23),BB19)) | BC20: {=IF(AZ20>XMRCount,"",IF(LEN(BA20)>0,AVERAGE(IF($BA$9:$BA$23>0,$BA$9:$BA$23,"")),BC19))} | BD20: =IFERROR(ABS(BA20-BA21),"") | BE20: =IF(AZ20>XMRCount,"",IF(LEN(BA20)>0,$BC20+(3*AVERAGE($BD$9:$BD$23)/1.128),BE19)) | BF20: =IF(AZ20>XMRCount,"",IF(LEN(BA20)>0,$BC20-(3*AVERAGE($BD$9:$BD$23)/1.128),BF19)) | BG20: =IF(AZ20>XMRCount,"",IF(LEN(BA20)>0,$E$9*AVERAGE($BD$9:$BD$23),BG19)) | BH20: =IF(AZ20>XMRCount,"",IF(LEN(BA20)>0,0,BH19)) | BI20: {=IFERROR(SMALL(IF($BA$9:$BA$23>0,$BA$9:$BA$23,""),Q20),"")} | BJ20: =IF(LEN($BA20)>0,$BC$9+C$20*$BB$5,"") | BK20: =IF(LEN($BA20)>0,$BC$9+D$20*$BB$5,"") | BL20: =IF(LEN($BA20)>0,$BC$9+E$20*$BB$5,"") | BM20: =IF(LEN($BA20)>0,$BC$9+F$20*$BB$5,"") | BN20: =IF(LEN($BA20)>0,$BC$9+G$20*$BB$5,"") | BO20: =IF(LEN($BA20)>0,$BC$9+H$20*$BB$5,"") | BP20: =IF(LEN($BA20)>0,$BC$9+I$20*$BB$5,"") | BQ20: =IF(LEN($BA20)>0,$BC$9+J$20*$BB$5,"") | ... BV20: =IF(LEN($BA20)>0,$BC$9+O$20*$BB$5,"") | BZ20: 12 | CA20: =IFERROR(IF(LEN(INDEX(CountDefectives!D$9:D$23,Calc!$BZ20,1))>0,INDEX(CountDefectives!D$9:D$23,Calc!$BZ20,1),""),"") | CB20: =IFERROR(IF(LEN(INDEX(CountDefectives!E$9:E$23,Calc!$BZ20,1))>0,INDEX(CountDefectives!E$9:E$23,Calc!$BZ20,1),""),"") | CC20: =IFERROR(IF(LEN(CA20)>0,CB20/CA20,""),"") | CD20: =IF(BZ20>PCount,"",AVERAGE($CC$9:$CC$23)) | CE20: =IFERROR(IF(LEN(CA20)>0,($CD$9*(1-$CD$9)/$CA20)^0.5,""),"") | CF20: =IFERROR(IF(BZ20>PCount,"",IF(LEN(CA20)>0,$CD20+(3*$CE20),CF19)),"Err") | CG20: =IFERROR(IF(BZ20>PCount,"",IF(LEN(CA20)>0,$CD20-(3*$CE20),CG19)),"Err") | CJ20: 12 | CK20: =IFERROR(IF(LEN(INDEX(CountDefects!D$9:D$23,Calc!$CJ20,1))>0,INDEX(CountDefects!D$9:D$23,Calc!$CJ20,1),""),"") | CL20: =IFERROR(IF(LEN(INDEX(CountDefects!E$9:E$23,Calc!$CJ20,1))>0,INDEX(CountDefects!E$9:E$23,Calc!$CJ20,1),""),"") | CM20: =IFERROR(IF(LEN(CK20)>0,CL20/CK20,""),"") | CN20: =IFERROR(IF(CJ20>UCount,"",AVERAGE($CM$9:$CM$23)),"Err") | CO20: =IFERROR(IF(LEN(CK20)>0,($CN$9/$CK20)^0.5,""),"") | CP20: =IFERROR(IF(CJ20>UCount,"",IF(LEN(CK20)>0,$CN20+(3*$CO20),CP19)),"Err") | CQ20: =IFERROR(IF(CJ20>UCount,"",IF(LEN(CK20)>0,$CN20-(3*$CO20),CQ19)),"Err")
Q21: 13 | R21: =IFERROR(IF(LEN(INDEX(MeasuredXbarR!D$15:D$29,Calc!$Q21,1))>0,INDEX(MeasuredXbarR!D$15:D$29,Calc!$Q21,1),""),"") | S21: =IFERROR(IF(LEN(INDEX(MeasuredXbarR!E$15:E$29,Calc!$Q21,1))>0,INDEX(MeasuredXbarR!E$15:E$29,Calc!$Q21,1),""),"") | T21: =IFERROR(IF(LEN(INDEX(MeasuredXbarR!F$15:F$29,Calc!$Q21,1))>0,INDEX(MeasuredXbarR!F$15:F$29,Calc!$Q21,1),""),"") | U21: =IFERROR(IF(LEN(INDEX(MeasuredXbarR!G$15:G$29,Calc!$Q21,1))>0,INDEX(MeasuredXbarR!G$15:G$29,Calc!$Q21,1),""),"") | V21: =IFERROR(IF(LEN(INDEX(MeasuredXbarR!H$15:H$29,Calc!$Q21,1))>0,INDEX(MeasuredXbarR!H$15:H$29,Calc!$Q21,1),""),"") | W21: =IFERROR(IF(LEN(INDEX(MeasuredXbarR!I$15:I$29,Calc!$Q21,1))>0,INDEX(MeasuredXbarR!I$15:I$29,Calc!$Q21,1),""),"") | X21: =IFERROR(IF(LEN(INDEX(MeasuredXbarR!J$15:J$29,Calc!$Q21,1))>0,INDEX(MeasuredXbarR!J$15:J$29,Calc!$Q21,1),""),"") | Y21: =IFERROR(IF(LEN(INDEX(MeasuredXbarR!K$15:K$29,Calc!$Q21,1))>0,INDEX(MeasuredXbarR!K$15:K$29,Calc!$Q21,1),""),"") | ... AA21: =IFERROR(IF(LEN(INDEX(MeasuredXbarR!M$15:M$29,Calc!$Q21,1))>0,INDEX(MeasuredXbarR!M$15:M$29,Calc!$Q21,1),""),"") | AB21: =IFERROR(IF(LEN(INDEX(MeasuredXbarR!N$15:N$29,Calc!$Q21,1))>0,INDEX(MeasuredXbarR!N$15:N$129,Calc!$Q21,1),""),"") | AC21: =IFERROR(IF(LEN(INDEX(MeasuredXbarR!O$15:O$29,Calc!$Q21,1))>0,INDEX(MeasuredXbarR!O$15:O$29,Calc!$Q21,1),""),"") | AD21: {=IF(Q21>XbarCount,"",IF(LEN(R21)>0,AVERAGE(IFERROR($AB$9:$AB$23,"")),AD20))} | AE21: =IF(Q21>XbarCount,"",$AD21+(INDEX(Calc!$D$8:$D$17,MATCH(COUNTIF($R$9:$AA$9,">0"),Calc!$C$8:$C$17,0))*AVERAGE($AC$9:$AC$23))) | AF21: =IF(Q21>XbarCount,"",$AD21-(INDEX(Calc!$D$8:$D$17,MATCH(COUNTIF($R$9:$AA$9,">0"),Calc!$C$8:$C$17,0))*AVERAGE($AC$9:$AC$23))) | AG21: =IF(Q21>XbarCount,"",AVERAGE($AC$9:$AC$23)) | AH21: =IF(Q21>XbarCount,"",INDEX(Calc!$E$8:$E$17,MATCH(COUNTIF($R$9:$AA$9,">0"),Calc!$C$8:$C$17,0))*AVERAGE($AC$9:$AC$23)) | AI21: {=IFERROR(SMALL(IF($AB$9:$AB$23>0,$AB$9:$AB$23,""),Q21),"")} | AJ21: =IF(LEN($R21)>0,$AD$9+C$20*$S$5,"") | AK21: =IF(LEN($R21)>0,$AD$9+D$20*$S$5,"") | AL21: =IF(LEN($R21)>0,$AD$9+E$20*$S$5,"") | AM21: =IF(LEN($R21)>0,$AD$9+F$20*$S$5,"") | AN21: =IF(LEN($R21)>0,$AD$9+G$20*$S$5,"") | AO21: =IF(LEN($R21)>0,$AD$9+H$20*$S$5,"") | AP21: =IF(LEN($R21)>0,$AD$9+I$20*$S$5,"") | AQ21: =IF(LEN($R21)>0,$AD$9+J$20*$S$5,"") | ... AV21: =IF(LEN($R21)>0,$AD$9+O$20*$S$5,"") | AZ21: 13 | BA21: =IFERROR(IF(LEN(INDEX(MeasuredXMR!E$15:E$29,Calc!$AZ21,1))>0,INDEX(MeasuredXMR!E$15:E$29,Calc!$AZ21,1),""),"") | BB21: =IF(AZ21>XMRCount,"",IF(LEN(BA21)>0,AVERAGE($BD$9:$BD$23),BB20)) | BC21: {=IF(AZ21>XMRCount,"",IF(LEN(BA21)>0,AVERAGE(IF($BA$9:$BA$23>0,$BA$9:$BA$23,"")),BC20))} | BD21: =IFERROR(ABS(BA21-BA22),"") | BE21: =IF(AZ21>XMRCount,"",IF(LEN(BA21)>0,$BC21+(3*AVERAGE($BD$9:$BD$23)/1.128),BE20)) | BF21: =IF(AZ21>XMRCount,"",IF(LEN(BA21)>0,$BC21-(3*AVERAGE($BD$9:$BD$23)/1.128),BF20)) | BG21: =IF(AZ21>XMRCount,"",IF(LEN(BA21)>0,$E$9*AVERAGE($BD$9:$BD$23),BG20)) | BH21: =IF(AZ21>XMRCount,"",IF(LEN(BA21)>0,0,BH20)) | BI21: {=IFERROR(SMALL(IF($BA$9:$BA$23>0,$BA$9:$BA$23,""),Q21),"")} | BJ21: =IF(LEN($BA21)>0,$BC$9+C$20*$BB$5,"") | BK21: =IF(LEN($BA21)>0,$BC$9+D$20*$BB$5,"") | BL21: =IF(LEN($BA21)>0,$BC$9+E$20*$BB$5,"") | BM21: =IF(LEN($BA21)>0,$BC$9+F$20*$BB$5,"") | BN21: =IF(LEN($BA21)>0,$BC$9+G$20*$BB$5,"") | BO21: =IF(LEN($BA21)>0,$BC$9+H$20*$BB$5,"") | BP21: =IF(LEN($BA21)>0,$BC$9+I$20*$BB$5,"") | BQ21: =IF(LEN($BA21)>0,$BC$9+J$20*$BB$5,"") | ... BV21: =IF(LEN($BA21)>0,$BC$9+O$20*$BB$5,"") | BZ21: 13 | CA21: =IFERROR(IF(LEN(INDEX(CountDefectives!D$9:D$23,Calc!$BZ21,1))>0,INDEX(CountDefectives!D$9:D$23,Calc!$BZ21,1),""),"") | CB21: =IFERROR(IF(LEN(INDEX(CountDefectives!E$9:E$23,Calc!$BZ21,1))>0,INDEX(CountDefectives!E$9:E$23,Calc!$BZ21,1),""),"") | CC21: =IFERROR(IF(LEN(CA21)>0,CB21/CA21,""),"") | CD21: =IF(BZ21>PCount,"",AVERAGE($CC$9:$CC$23)) | CE21: =IFERROR(IF(LEN(CA21)>0,($CD$9*(1-$CD$9)/$CA21)^0.5,""),"") | CF21: =IFERROR(IF(BZ21>PCount,"",IF(LEN(CA21)>0,$CD21+(3*$CE21),CF20)),"Err") | CG21: =IFERROR(IF(BZ21>PCount,"",IF(LEN(CA21)>0,$CD21-(3*$CE21),CG20)),"Err") | CJ21: 13 | CK21: =IFERROR(IF(LEN(INDEX(CountDefects!D$9:D$23,Calc!$CJ21,1))>0,INDEX(CountDefects!D$9:D$23,Calc!$CJ21,1),""),"") | CL21: =IFERROR(IF(LEN(INDEX(CountDefects!E$9:E$23,Calc!$CJ21,1))>0,INDEX(CountDefects!E$9:E$23,Calc!$CJ21,1),""),"") | CM21: =IFERROR(IF(LEN(CK21)>0,CL21/CK21,""),"") | CN21: =IFERROR(IF(CJ21>UCount,"",AVERAGE($CM$9:$CM$23)),"Err") | CO21: =IFERROR(IF(LEN(CK21)>0,($CN$9/$CK21)^0.5,""),"") | CP21: =IFERROR(IF(CJ21>UCount,"",IF(LEN(CK21)>0,$CN21+(3*$CO21),CP20)),"Err") | CQ21: =IFERROR(IF(CJ21>UCount,"",IF(LEN(CK21)>0,$CN21-(3*$CO21),CQ20)),"Err")
Q22: 14 | R22: =IFERROR(IF(LEN(INDEX(MeasuredXbarR!D$15:D$29,Calc!$Q22,1))>0,INDEX(MeasuredXbarR!D$15:D$29,Calc!$Q22,1),""),"") | S22: =IFERROR(IF(LEN(INDEX(MeasuredXbarR!E$15:E$29,Calc!$Q22,1))>0,INDEX(MeasuredXbarR!E$15:E$29,Calc!$Q22,1),""),"") | T22: =IFERROR(IF(LEN(INDEX(MeasuredXbarR!F$15:F$29,Calc!$Q22,1))>0,INDEX(MeasuredXbarR!F$15:F$29,Calc!$Q22,1),""),"") | U22: =IFERROR(IF(LEN(INDEX(MeasuredXbarR!G$15:G$29,Calc!$Q22,1))>0,INDEX(MeasuredXbarR!G$15:G$29,Calc!$Q22,1),""),"") | V22: =IFERROR(IF(LEN(INDEX(MeasuredXbarR!H$15:H$29,Calc!$Q22,1))>0,INDEX(MeasuredXbarR!H$15:H$29,Calc!$Q22,1),""),"") | W22: =IFERROR(IF(LEN(INDEX(MeasuredXbarR!I$15:I$29,Calc!$Q22,1))>0,INDEX(MeasuredXbarR!I$15:I$29,Calc!$Q22,1),""),"") | X22: =IFERROR(IF(LEN(INDEX(MeasuredXbarR!J$15:J$29,Calc!$Q22,1))>0,INDEX(MeasuredXbarR!J$15:J$29,Calc!$Q22,1),""),"") | Y22: =IFERROR(IF(LEN(INDEX(MeasuredXbarR!K$15:K$29,Calc!$Q22,1))>0,INDEX(MeasuredXbarR!K$15:K$29,Calc!$Q22,1),""),"") | ... AA22: =IFERROR(IF(LEN(INDEX(MeasuredXbarR!M$15:M$29,Calc!$Q22,1))>0,INDEX(MeasuredXbarR!M$15:M$29,Calc!$Q22,1),""),"") | AB22: =IFERROR(IF(LEN(INDEX(MeasuredXbarR!N$15:N$29,Calc!$Q22,1))>0,INDEX(MeasuredXbarR!N$15:N$129,Calc!$Q22,1),""),"") | AC22: =IFERROR(IF(LEN(INDEX(MeasuredXbarR!O$15:O$29,Calc!$Q22,1))>0,INDEX(MeasuredXbarR!O$15:O$29,Calc!$Q22,1),""),"") | AD22: {=IF(Q22>XbarCount,"",IF(LEN(R22)>0,AVERAGE(IFERROR($AB$9:$AB$23,"")),AD21))} | AE22: =IF(Q22>XbarCount,"",$AD22+(INDEX(Calc!$D$8:$D$17,MATCH(COUNTIF($R$9:$AA$9,">0"),Calc!$C$8:$C$17,0))*AVERAGE($AC$9:$AC$23))) | AF22: =IF(Q22>XbarCount,"",$AD22-(INDEX(Calc!$D$8:$D$17,MATCH(COUNTIF($R$9:$AA$9,">0"),Calc!$C$8:$C$17,0))*AVERAGE($AC$9:$AC$23))) | AG22: =IF(Q22>XbarCount,"",AVERAGE($AC$9:$AC$23)) | AH22: =IF(Q22>XbarCount,"",INDEX(Calc!$E$8:$E$17,MATCH(COUNTIF($R$9:$AA$9,">0"),Calc!$C$8:$C$17,0))*AVERAGE($AC$9:$AC$23)) | AI22: {=IFERROR(SMALL(IF($AB$9:$AB$23>0,$AB$9:$AB$23,""),Q22),"")} | AJ22: =IF(LEN($R22)>0,$AD$9+C$20*$S$5,"") | AK22: =IF(LEN($R22)>0,$AD$9+D$20*$S$5,"") | AL22: =IF(LEN($R22)>0,$AD$9+E$20*$S$5,"") | AM22: =IF(LEN($R22)>0,$AD$9+F$20*$S$5,"") | AN22: =IF(LEN($R22)>0,$AD$9+G$20*$S$5,"") | AO22: =IF(LEN($R22)>0,$AD$9+H$20*$S$5,"") | AP22: =IF(LEN($R22)>0,$AD$9+I$20*$S$5,"") | AQ22: =IF(LEN($R22)>0,$AD$9+J$20*$S$5,"") | ... AV22: =IF(LEN($R22)>0,$AD$9+O$20*$S$5,"") | AZ22: 14 | BA22: =IFERROR(IF(LEN(INDEX(MeasuredXMR!E$15:E$29,Calc!$AZ22,1))>0,INDEX(MeasuredXMR!E$15:E$29,Calc!$AZ22,1),""),"") | BB22: =IF(AZ22>XMRCount,"",IF(LEN(BA22)>0,AVERAGE($BD$9:$BD$23),BB21)) | BC22: {=IF(AZ22>XMRCount,"",IF(LEN(BA22)>0,AVERAGE(IF($BA$9:$BA$23>0,$BA$9:$BA$23,"")),BC21))} | BD22: =IFERROR(ABS(BA22-BA23),"") | BE22: =IF(AZ22>XMRCount,"",IF(LEN(BA22)>0,$BC22+(3*AVERAGE($BD$9:$BD$23)/1.128),BE21)) | BF22: =IF(AZ22>XMRCount,"",IF(LEN(BA22)>0,$BC22-(3*AVERAGE($BD$9:$BD$23)/1.128),BF21)) | BG22: =IF(AZ22>XMRCount,"",IF(LEN(BA22)>0,$E$9*AVERAGE($BD$9:$BD$23),BG21)) | BH22: =IF(AZ22>XMRCount,"",IF(LEN(BA22)>0,0,BH21)) | BI22: {=IFERROR(SMALL(IF($BA$9:$BA$23>0,$BA$9:$BA$23,""),Q22),"")} | BJ22: =IF(LEN($BA22)>0,$BC$9+C$20*$BB$5,"") | BK22: =IF(LEN($BA22)>0,$BC$9+D$20*$BB$5,"") | BL22: =IF(LEN($BA22)>0,$BC$9+E$20*$BB$5,"") | BM22: =IF(LEN($BA22)>0,$BC$9+F$20*$BB$5,"") | BN22: =IF(LEN($BA22)>0,$BC$9+G$20*$BB$5,"") | BO22: =IF(LEN($BA22)>0,$BC$9+H$20*$BB$5,"") | BP22: =IF(LEN($BA22)>0,$BC$9+I$20*$BB$5,"") | BQ22: =IF(LEN($BA22)>0,$BC$9+J$20*$BB$5,"") | ... BV22: =IF(LEN($BA22)>0,$BC$9+O$20*$BB$5,"") | BZ22: 14 | CA22: =IFERROR(IF(LEN(INDEX(CountDefectives!D$9:D$23,Calc!$BZ22,1))>0,INDEX(CountDefectives!D$9:D$23,Calc!$BZ22,1),""),"") | CB22: =IFERROR(IF(LEN(INDEX(CountDefectives!E$9:E$23,Calc!$BZ22,1))>0,INDEX(CountDefectives!E$9:E$23,Calc!$BZ22,1),""),"") | CC22: =IFERROR(IF(LEN(CA22)>0,CB22/CA22,""),"") | CD22: =IF(BZ22>PCount,"",AVERAGE($CC$9:$CC$23)) | CE22: =IFERROR(IF(LEN(CA22)>0,($CD$9*(1-$CD$9)/$CA22)^0.5,""),"") | CF22: =IFERROR(IF(BZ22>PCount,"",IF(LEN(CA22)>0,$CD22+(3*$CE22),CF21)),"Err") | CG22: =IFERROR(IF(BZ22>PCount,"",IF(LEN(CA22)>0,$CD22-(3*$CE22),CG21)),"Err") | CJ22: 14 | CK22: =IFERROR(IF(LEN(INDEX(CountDefects!D$9:D$23,Calc!$CJ22,1))>0,INDEX(CountDefects!D$9:D$23,Calc!$CJ22,1),""),"") | CL22: =IFERROR(IF(LEN(INDEX(CountDefects!E$9:E$23,Calc!$CJ22,1))>0,INDEX(CountDefects!E$9:E$23,Calc!$CJ22,1),""),"") | CM22: =IFERROR(IF(LEN(CK22)>0,CL22/CK22,""),"") | CN22: =IFERROR(IF(CJ22>UCount,"",AVERAGE($CM$9:$CM$23)),"Err") | CO22: =IFERROR(IF(LEN(CK22)>0,($CN$9/$CK22)^0.5,""),"") | CP22: =IFERROR(IF(CJ22>UCount,"",IF(LEN(CK22)>0,$CN22+(3*$CO22),CP21)),"Err") | CQ22: =IFERROR(IF(CJ22>UCount,"",IF(LEN(CK22)>0,$CN22-(3*$CO22),CQ21)),"Err")
C23: Z-scores for simple 6 sigma calculation | Q23: 15 | R23: =IFERROR(IF(LEN(INDEX(MeasuredXbarR!D$15:D$29,Calc!$Q23,1))>0,INDEX(MeasuredXbarR!D$15:D$29,Calc!$Q23,1),""),"") | S23: =IFERROR(IF(LEN(INDEX(MeasuredXbarR!E$15:E$29,Calc!$Q23,1))>0,INDEX(MeasuredXbarR!E$15:E$29,Calc!$Q23,1),""),"") | T23: =IFERROR(IF(LEN(INDEX(MeasuredXbarR!F$15:F$29,Calc!$Q23,1))>0,INDEX(MeasuredXbarR!F$15:F$29,Calc!$Q23,1),""),"") | U23: =IFERROR(IF(LEN(INDEX(MeasuredXbarR!G$15:G$29,Calc!$Q23,1))>0,INDEX(MeasuredXbarR!G$15:G$29,Calc!$Q23,1),""),"") | V23: =IFERROR(IF(LEN(INDEX(MeasuredXbarR!H$15:H$29,Calc!$Q23,1))>0,INDEX(MeasuredXbarR!H$15:H$29,Calc!$Q23,1),""),"") | W23: =IFERROR(IF(LEN(INDEX(MeasuredXbarR!I$15:I$29,Calc!$Q23,1))>0,INDEX(MeasuredXbarR!I$15:I$29,Calc!$Q23,1),""),"") | X23: =IFERROR(IF(LEN(INDEX(MeasuredXbarR!J$15:J$29,Calc!$Q23,1))>0,INDEX(MeasuredXbarR!J$15:J$29,Calc!$Q23,1),""),"") | Y23: =IFERROR(IF(LEN(INDEX(MeasuredXbarR!K$15:K$29,Calc!$Q23,1))>0,INDEX(MeasuredXbarR!K$15:K$29,Calc!$Q23,1),""),"") | ... AA23: =IFERROR(IF(LEN(INDEX(MeasuredXbarR!M$15:M$29,Calc!$Q23,1))>0,INDEX(MeasuredXbarR!M$15:M$29,Calc!$Q23,1),""),"") | AB23: =IFERROR(IF(LEN(INDEX(MeasuredXbarR!N$15:N$29,Calc!$Q23,1))>0,INDEX(MeasuredXbarR!N$15:N$129,Calc!$Q23,1),""),"") | AC23: =IFERROR(IF(LEN(INDEX(MeasuredXbarR!O$15:O$29,Calc!$Q23,1))>0,INDEX(MeasuredXbarR!O$15:O$29,Calc!$Q23,1),""),"") | AD23: {=IF(Q23>XbarCount,"",IF(LEN(R23)>0,AVERAGE(IFERROR($AB$9:$AB$23,"")),AD22))} | AE23: =IF(Q23>XbarCount,"",$AD23+(INDEX(Calc!$D$8:$D$17,MATCH(COUNTIF($R$9:$AA$9,">0"),Calc!$C$8:$C$17,0))*AVERAGE($AC$9:$AC$23))) | AF23: =IF(Q23>XbarCount,"",$AD23-(INDEX(Calc!$D$8:$D$17,MATCH(COUNTIF($R$9:$AA$9,">0"),Calc!$C$8:$C$17,0))*AVERAGE($AC$9:$AC$23))) | AG23: =IF(Q23>XbarCount,"",AVERAGE($AC$9:$AC$23)) | AH23: =IF(Q23>XbarCount,"",INDEX(Calc!$E$8:$E$17,MATCH(COUNTIF($R$9:$AA$9,">0"),Calc!$C$8:$C$17,0))*AVERAGE($AC$9:$AC$23)) | AI23: {=IFERROR(SMALL(IF($AB$9:$AB$23>0,$AB$9:$AB$23,""),Q23),"")} | AJ23: =IF(LEN($R23)>0,$AD$9+C$20*$S$5,"") | AK23: =IF(LEN($R23)>0,$AD$9+D$20*$S$5,"") | AL23: =IF(LEN($R23)>0,$AD$9+E$20*$S$5,"") | AM23: =IF(LEN($R23)>0,$AD$9+F$20*$S$5,"") | AN23: =IF(LEN($R23)>0,$AD$9+G$20*$S$5,"") | AO23: =IF(LEN($R23)>0,$AD$9+H$20*$S$5,"") | AP23: =IF(LEN($R23)>0,$AD$9+I$20*$S$5,"") | AQ23: =IF(LEN($R23)>0,$AD$9+J$20*$S$5,"") | ... AV23: =IF(LEN($R23)>0,$AD$9+O$20*$S$5,"") | AZ23: 15 | BA23: =IFERROR(IF(LEN(INDEX(MeasuredXMR!E$15:E$29,Calc!$AZ23,1))>0,INDEX(MeasuredXMR!E$15:E$29,Calc!$AZ23,1),""),"") | BB23: =IF(AZ23>XMRCount,"",IF(LEN(BA23)>0,AVERAGE($BD$9:$BD$23),BB22)) | BC23: {=IF(AZ23>XMRCount,"",IF(LEN(BA23)>0,AVERAGE(IF($BA$9:$BA$23>0,$BA$9:$BA$23,"")),BC22))} | BD23: =IFERROR(ABS(BA23-BA24),"") | BE23: =IF(AZ23>XMRCount,"",IF(LEN(BA23)>0,$BC23+(3*AVERAGE($BD$9:$BD$23)/1.128),BE22)) | BF23: =IF(AZ23>XMRCount,"",IF(LEN(BA23)>0,$BC23-(3*AVERAGE($BD$9:$BD$23)/1.128),BF22)) | BG23: =IF(AZ23>XMRCount,"",IF(LEN(BA23)>0,$E$9*AVERAGE($BD$9:$BD$23),BG22)) | BH23: =IF(AZ23>XMRCount,"",IF(LEN(BA23)>0,0,BH22)) | BI23: {=IFERROR(SMALL(IF($BA$9:$BA$23>0,$BA$9:$BA$23,""),Q23),"")} | BJ23: =IF(LEN($BA23)>0,$BC$9+C$20*$BB$5,"") | BK23: =IF(LEN($BA23)>0,$BC$9+D$20*$BB$5,"") | BL23: =IF(LEN($BA23)>0,$BC$9+E$20*$BB$5,"") | BM23: =IF(LEN($BA23)>0,$BC$9+F$20*$BB$5,"") | BN23: =IF(LEN($BA23)>0,$BC$9+G$20*$BB$5,"") | BO23: =IF(LEN($BA23)>0,$BC$9+H$20*$BB$5,"") | BP23: =IF(LEN($BA23)>0,$BC$9+I$20*$BB$5,"") | BQ23: =IF(LEN($BA23)>0,$BC$9+J$20*$BB$5,"") | ... BV23: =IF(LEN($BA23)>0,$BC$9+O$20*$BB$5,"") | BZ23: 15 | CA23: =IFERROR(IF(LEN(INDEX(CountDefectives!D$9:D$23,Calc!$BZ23,1))>0,INDEX(CountDefectives!D$9:D$23,Calc!$BZ23,1),""),"") | CB23: =IFERROR(IF(LEN(INDEX(CountDefectives!E$9:E$23,Calc!$BZ23,1))>0,INDEX(CountDefectives!E$9:E$23,Calc!$BZ23,1),""),"") | CC23: =IFERROR(IF(LEN(CA23)>0,CB23/CA23,""),"") | CD23: =IF(BZ23>PCount,"",AVERAGE($CC$9:$CC$23)) | CE23: =IFERROR(IF(LEN(CA23)>0,($CD$9*(1-$CD$9)/$CA23)^0.5,""),"") | CF23: =IFERROR(IF(BZ23>PCount,"",IF(LEN(CA23)>0,$CD23+(3*$CE23),CF22)),"Err") | CG23: =IFERROR(IF(BZ23>PCount,"",IF(LEN(CA23)>0,$CD23-(3*$CE23),CG22)),"Err") | CJ23: 15 | CK23: =IFERROR(IF(LEN(INDEX(CountDefects!D$9:D$23,Calc!$CJ23,1))>0,INDEX(CountDefects!D$9:D$23,Calc!$CJ23,1),""),"") | CL23: =IFERROR(IF(LEN(INDEX(CountDefects!E$9:E$23,Calc!$CJ23,1))>0,INDEX(CountDefects!E$9:E$23,Calc!$CJ23,1),""),"") | CM23: =IFERROR(IF(LEN(CK23)>0,CL23/CK23,""),"") | CN23: =IFERROR(IF(CJ23>UCount,"",AVERAGE($CM$9:$CM$23)),"Err") | CO23: =IFERROR(IF(LEN(CK23)>0,($CN$9/$CK23)^0.5,""),"") | CP23: =IFERROR(IF(CJ23>UCount,"",IF(LEN(CK23)>0,$CN23+(3*$CO23),CP22)),"Err") | CQ23: =IFERROR(IF(CJ23>UCount,"",IF(LEN(CK23)>0,$CN23-(3*$CO23),CQ22)),"Err")
C24: Z | D24: 0 | E24: 0.01 | F24: 0.02 | G24: 0.03 | H24: 0.04 | I24: 0.05 | J24: 0.06 | K24: 0.07 | L24: 0.08 | M24: 0.09
C25: -3.9 | D25: 5e-05 | E25: 5e-05 | F25: 4e-05 | G25: 4e-05 | H25: 4e-05 | I25: 4e-05 | J25: 4e-05 | K25: 4e-05 | L25: 3e-05 | M25: 3e-05
C26: -3.8 | D26: 7e-05 | E26: 7e-05 | F26: 7e-05 | G26: 6e-05 | H26: 6e-05 | I26: 6e-05 | J26: 6e-05 | K26: 5e-05 | L26: 5e-05 | M26: 5e-05
C27: -3.7 | D27: 0.00011 | E27: 0.0001 | F27: 0.0001 | G27: 0.0001 | H27: 9e-05 | I27: 9e-05 | J27: 8e-05 | K27: 8e-05 | L27: 8e-05 | M27: 8e-05
C28: -3.6 | D28: 0.00016 | E28: 0.00015 | F28: 0.00015 | G28: 0.00014 | H28: 0.00014 | I28: 0.00013 | J28: 0.00013 | K28: 0.00012 | L28: 0.00012 | M28: 0.00011
C29: -3.5 | D29: 0.00023 | E29: 0.00022 | F29: 0.00022 | G29: 0.00021 | H29: 0.0002 | I29: 0.00019 | J29: 0.00019 | K29: 0.00018 | L29: 0.00017 | M29: 0.00017
C30: -3.4 | D30: 0.00034 | E30: 0.00032 | F30: 0.00031 | G30: 0.0003 | H30: 0.00029 | I30: 0.00028 | J30: 0.00027 | K30: 0.00026 | L30: 0.00025 | M30: 0.00024
C31: -3.3 | D31: 0.00048 | E31: 0.00047 | F31: 0.00045 | G31: 0.00043 | H31: 0.00042 | I31: 0.0004 | J31: 0.00039 | K31: 0.00038 | L31: 0.00036 | M31: 0.00035
C32: -3.2 | D32: 0.00069 | E32: 0.00066 | F32: 0.00064 | G32: 0.00062 | H32: 0.0006 | I32: 0.00058 | J32: 0.00056 | K32: 0.00054 | L32: 0.00052 | M32: 0.0005
C33: -3.1 | D33: 0.00097 | E33: 0.00094 | F33: 0.0009 | G33: 0.00087 | H33: 0.00084 | I33: 0.00082 | J33: 0.00079 | K33: 0.00076 | L33: 0.00074 | M33: 0.00071
C34: -3 | D34: 0.00135 | E34: 0.00131 | F34: 0.00126 | G34: 0.00122 | H34: 0.00118 | I34: 0.00114 | J34: 0.00111 | K34: 0.00107 | L34: 0.00104 | M34: 0.001
C35: -2.9 | D35: 0.00187 | E35: 0.00181 | F35: 0.00175 | G35: 0.00169 | H35: 0.00164 | I35: 0.00159 | J35: 0.00154 | K35: 0.00149 | L35: 0.00144 | M35: 0.00139
C36: -2.8 | D36: 0.00256 | E36: 0.00248 | F36: 0.0024 | G36: 0.00233 | H36: 0.00226 | I36: 0.00219 | J36: 0.00212 | K36: 0.00205 | L36: 0.00199 | M36: 0.00193
... C104: 3.9 | D104: 0.99995 | E104: 0.99995 | F104: 0.99996 | G104: 0.99996 | H104: 0.99996 | I104: 0.99996 | J104: 0.99996 | K104: 0.99996 | L104: 0.99997 | M104: 0.99997
