Workbook
Name Below_Target: Calc!$Q$13
Name Causes_Realization: Calc!$Q$17:$Q$20
Name CausesRealization: OFFSET(Calc!$K$5,0,0,Calc!$L$3,1)
Name CausesRealizationName: OFFSET(Calc!$J$5,0,0,Calc!$L$3,1)
Name Choose_Responsible: OFFSET(Calc!$AG$5,0,0,Calc!$AG$3,1)
Name Over_Target: Calc!$Q$15
Name ParetoCauses: OFFSET(Calc!$J$5,,,Calc!$J$3)
Name ParetoCum: OFFSET(Calc!$M$5,,,Calc!$J$3)
Name ParetoFreq: OFFSET(Calc!$K$5,,,Calc!$J$3)
Name ResCauses: OFFSET(Calc!$AC$5,,,Calc!$Y$3)
Name ResFreq: OFFSET(Calc!$AD$5,,,Calc!$Y$3)
Name StatusChartCount: OFFSET(Calc!$Q$5,0,0,1,Calc!$P$5)
Name StatusChartLabelName: OFFSET(Calc!$Q$4,0,0,1,Calc!$P$5)
Name Target: Calc!$Q$14

Sheet Dashboard
C2: PARETO CHART
C3: DASHBOARD
I7: The Responsible of Most Occurred Cause
I8: =IFERROR(Calc!$I$5,"-") -> Manuel Rivas
I10: The Most Occurred Cause
I11: =IFERROR(Calc!$J$5,"-") -> Errors during packaging
I13: Over Target | J13: Target | K13: Below Target
I14: =IFERROR(Calc!$R$8,"-") -> 3 | J14: =IFERROR(Calc!$R$9,"-") -> 3 | K14: =IFERROR(Calc!$R$10,"-") -> 4
C19: Choose Responsible | D19: Gia Pruitt | F19: Causes Realization - Top 3

Sheet Input
B2: PARETO CHART
B3: DATA INPUT
B5: Causes | C5: Occasions | D5: Responsibles | E5: Targets | F5: Status | G5: Comments
B6: Wrong supplier selection | C6: 5 | D6: Gia Pruitt | E6: 2 | F6: =IF(AND(LEN(E6),LEN(C6))=FALSE,"",(IF(C6=E6,Calc!$Q$14,IF(C6<E6,Calc!$Q$13,Calc!$Q$15)))) -> Over Target
B7: Incorrect raw material used | C7: 60 | D7: Manuel Rivas | E7: 100 | F7: =IF(AND(LEN(E7),LEN(C7))=FALSE,"",(IF(C7=E7,Calc!$Q$14,IF(C7<E7,Calc!$Q$13,Calc!$Q$15)))) -> Below Target
B8: Incorrect stocking of raw materials | C8: 10 | D8: Joshua Kent | E8: 30 | F8: =IF(AND(LEN(E8),LEN(C8))=FALSE,"",(IF(C8=E8,Calc!$Q$14,IF(C8<E8,Calc!$Q$13,Calc!$Q$15)))) -> Below Target
B9: Deterioration in machines | C9: 5 | D9: Gia Pruitt | E9: 35 | F9: =IF(AND(LEN(E9),LEN(C9))=FALSE,"",(IF(C9=E9,Calc!$Q$14,IF(C9<E9,Calc!$Q$13,Calc!$Q$15)))) -> Below Target
B10: Inadequate quality control testing | C10: 15 | D10: Gia Pruitt | E10: 90 | F10: =IF(AND(LEN(E10),LEN(C10))=FALSE,"",(IF(C10=E10,Calc!$Q$14,IF(C10<E10,Calc!$Q$13,Calc!$Q$15)))) -> Below Target
B11: Operator defects | C11: 10 | D11: Sean Warren | E11: 10 | F11: =IF(AND(LEN(E11),LEN(C11))=FALSE,"",(IF(C11=E11,Calc!$Q$14,IF(C11<E11,Calc!$Q$13,Calc!$Q$15)))) -> Target
B12: Production line defect | C12: 10 | D12: Joshua Kent | E12: 5 | F12: =IF(AND(LEN(E12),LEN(C12))=FALSE,"",(IF(C12=E12,Calc!$Q$14,IF(C12<E12,Calc!$Q$13,Calc!$Q$15)))) -> Over Target
B13: Errors during packaging | C13: 75 | D13: Manuel Rivas | E13: 25 | F13: =IF(AND(LEN(E13),LEN(C13))=FALSE,"",(IF(C13=E13,Calc!$Q$14,IF(C13<E13,Calc!$Q$13,Calc!$Q$15)))) -> Over Target
B14: Insufficient warehouse | C14: 5 | D14: Madison May | E14: 5 | F14: =IF(AND(LEN(E14),LEN(C14))=FALSE,"",(IF(C14=E14,Calc!$Q$14,IF(C14<E14,Calc!$Q$13,Calc!$Q$15)))) -> Target
B15: Logistics Defect | C15: 5 | D15: Sean Warren | E15: 5 | F15: =IF(AND(LEN(E15),LEN(C15))=FALSE,"",(IF(C15=E15,Calc!$Q$14,IF(C15<E15,Calc!$Q$13,Calc!$Q$15)))) -> Target
F16: =IF(AND(LEN(E16),LEN(C16))=FALSE,"",(IF(C16=E16,Calc!$Q$14,IF(C16<E16,Calc!$Q$13,Calc!$Q$15))))
F17: =IF(AND(LEN(E17),LEN(C17))=FALSE,"",(IF(C17=E17,Calc!$Q$14,IF(C17<E17,Calc!$Q$13,Calc!$Q$15))))
F18: =IF(AND(LEN(E18),LEN(C18))=FALSE,"",(IF(C18=E18,Calc!$Q$14,IF(C18<E18,Calc!$Q$13,Calc!$Q$15))))
F19: =IF(AND(LEN(E19),LEN(C19))=FALSE,"",(IF(C19=E19,Calc!$Q$14,IF(C19<E19,Calc!$Q$13,Calc!$Q$15))))

Sheet Calc
B2: DATA INPUT - PARETO CHART | AF2: DROPDOWN
C3: =COUNTA($C$5:$C$18)-COUNTBLANK($C$5:$C$18) -> 10 | G3: =MAX(COUNTA($G$5:$G$18)-COUNTBLANK($G$5:$G$18),1) -> 10 | J3: =MAX(COUNTA($J$5:$J$18)-COUNTBLANK($J$5:$J$18),1) -> 10 | K3: =IFERROR(SUM(K5:K18),"") -> 200 | L3: =MIN($J$3,IF(LEN(Dashboard!$F$19)=0,$J$3,INDEX(Calc!$Q$17:$R$20,MATCH(Dashboard!$F$19,Calc!$Q$17:$Q$20,0),2))) -> 3 | Q3: STATUS CHART | R3: # | Y3: =MAX(COUNTA($Y$5:$Y$9)-COUNTBLANK($Y$5:$Y$9),1) -> 3 | Z3: FIRST 5 CAUSES BY RESPONSIBLE CHART | AG3: =MAX(COUNTA($AG$5:$AG$18)-COUNTBLANK($AG$5:$AG$18),1) -> 5
B4: Rows | C4: Causes | D4: Frequency | E4: Rank | F4: Rank Adj | G4: Responsibles | H4: Status | I4: Sorted Responsibles | J4: Sorted Causes | K4: Sorted Freq | L4: % | M4: Cum % | Q4: =IFERROR(IF(LEN($Q$5)=0,"",$T$8),"") -> Over Target | R4: =IFERROR(IF(LEN($R$5)=0,"",$T$9),"") -> Target | S4: =IFERROR(IF(LEN($S$5)=0,"",$T$10),"") -> Below Target | W4: Rows | X4: =IFERROR(Dashboard!$D$19,"") -> Gia Pruitt | Y4: Causes | Z4: Freq | AA4: Rank | AB4: Rank Adj | AC4: Sorted Causes | AD4: Sorted Freq | AF4: Officials | AG4: No blank
B5: 1 | C5: {=IFERROR(INDEX(Input!$B$6:$B$19,SMALL(IF(LEN(Input!$B$6:$B$19)>0,ROW(Input!$B$6:$B$19)-ROW(INDEX(Input!$B$6:$B$19,1,1))+1),ROW($A6)-ROW($A$5))),"")} -> Wrong supplier selection | D5: =IFERROR(IF(AND(LEN(C5)=0,LEN(Input!C6)=0),"",IF(INDEX(Input!$C$6:$C$19,MATCH(Calc!C5,Input!$B$6:$B$19,0))=0,"",INDEX(Input!$C$6:$C$19,MATCH(Calc!C5,Input!$B$6:$B$19,0)))),"") -> 5 | E5: =IFERROR(IF(LEN(D5)=0,"",+RANK(D5,$D$5:$D$18,0)),"") -> 7 | F5: =IFERROR(IF(LEN(E5)=0,"",+COUNTIF($E$5:$E5,$E5)+E5-1),"") -> 7 | G5: =IFERROR(IF(INDEX(Input!$D$6:$D$19,MATCH(Calc!C5,Input!$B$6:$B$19,0))=0,"",INDEX(Input!$D$6:$D$19,MATCH(Calc!C5,Input!$B$6:$B$19,0))),"") -> Gia Pruitt | H5: =IFERROR(INDEX(Input!$F$6:$F$19,MATCH(Calc!C5,Input!$B$6:$B$19,0)),"") -> Over Target | I5: =IFERROR(INDEX($G$5:$G$18,MATCH(B5,$F$5:$F$18,0)),"") -> Manuel Rivas | J5: =IFERROR(INDEX($C$5:$C$18,MATCH(B5,$F$5:$F$18,0)),"") -> Errors during packaging | K5: =IFERROR(INDEX($D$5:$D$18,MATCH(B5,$F$5:$F$18,0)),"") -> 75 | L5: =IFERROR(IF(LEN(K5)=0,"",K5/$K$3),"") -> 0.375 | M5: =IFERROR(IF(LEN(L5)=0,"",L5),"") -> 0.375 | P5: =MAX(COUNT($Q$5:$S$5),1) -> 3 | Q5: =IFERROR($U$8,"") -> 3 | R5: =IFERROR($U$9,"") -> 3 | S5: =IFERROR($U$10,"") -> 4 | W5: 1 | X5: =IFERROR(IF(I5=$X$4,J5,""),"") | Y5: {=IFERROR(INDEX($X$5:$X$18,MATCH(0,INDEX((LEN($X$5:$X$18)=0)+COUNTIF($Y$4:$Y4,$X$5:$X$18),0),0)),"")} -> Inadequate quality control testing | Z5: =IFERROR(INDEX(Calc!$K$5:$K$18,MATCH(Calc!Y5,Calc!$J$5:$J$18,0)),"") -> 15 | AA5: =IFERROR(IF(LEN(Z5)=0,"",+RANK(Z5,$Z$5:$Z$9,0)),"") -> 1 | AB5: =IFERROR(IF(LEN(AA5)=0,"",+COUNTIF($AA$5:$AA5,$AA5)+AA5-1),"") -> 1 | AC5: =IFERROR(INDEX($Y$5:$Y$9,MATCH(W5,$AB$5:$AB$9,0)),"") -> Inadequate quality control testing | AD5: =IFERROR(INDEX($Z$5:$Z$9,MATCH(W5,$AB$5:$AB$9,0)),"") -> 15 | AF5: =IFERROR(IF(LEN(INDEX(Input!$D$6:$D$19,Calc!B5,1))>0,INDEX(Input!$D$6:$D$19,Calc!B5,1),""),"") -> Gia Pruitt | AG5: {=IFERROR(INDEX($AF$5:$AF$18,MATCH(0,INDEX((LEN($AF$5:$AF$18)=0)+COUNTIF($AG$4:$AG4,$AF$5:$AF$18),0),0)),"")} -> Gia Pruitt
B6: 2 | C6: {=IFERROR(INDEX(Input!$B$6:$B$19,SMALL(IF(LEN(Input!$B$6:$B$19)>0,ROW(Input!$B$6:$B$19)-ROW(INDEX(Input!$B$6:$B$19,1,1))+1),ROW($A7)-ROW($A$5))),"")} -> Incorrect raw material used | D6: =IFERROR(IF(AND(LEN(C6)=0,LEN(Input!C7)=0),"",IF(INDEX(Input!$C$6:$C$19,MATCH(Calc!C6,Input!$B$6:$B$19,0))=0,"",INDEX(Input!$C$6:$C$19,MATCH(Calc!C6,Input!$B$6:$B$19,0)))),"") -> 60 | E6: =IFERROR(IF(LEN(D6)=0,"",+RANK(D6,$D$5:$D$18,0)),"") -> 2 | F6: =IFERROR(IF(LEN(E6)=0,"",+COUNTIF($E$5:$E6,$E6)+E6-1),"") -> 2 | G6: =IFERROR(IF(INDEX(Input!$D$6:$D$19,MATCH(Calc!C6,Input!$B$6:$B$19,0))=0,"",INDEX(Input!$D$6:$D$19,MATCH(Calc!C6,Input!$B$6:$B$19,0))),"") -> Manuel Rivas | H6: =IFERROR(INDEX(Input!$F$6:$F$19,MATCH(Calc!C6,Input!$B$6:$B$19,0)),"") -> Below Target | I6: =IFERROR(INDEX($G$5:$G$18,MATCH(B6,$F$5:$F$18,0)),"") -> Manuel Rivas | J6: =IFERROR(INDEX($C$5:$C$18,MATCH(B6,$F$5:$F$18,0)),"") -> Incorrect raw material used | K6: =IFERROR(INDEX($D$5:$D$18,MATCH(B6,$F$5:$F$18,0)),"") -> 60 | L6: =IFERROR(IF(LEN(K6)=0,"",K6/$K$3),"") -> 0.3 | M6: =IFERROR(IF(LEN(L6)=0,"",M5+L6),"") -> 0.675 | W6: 2 | X6: =IFERROR(IF(I6=$X$4,J6,""),"") | Y6: {=IFERROR(INDEX($X$5:$X$18,MATCH(0,INDEX((LEN($X$5:$X$18)=0)+COUNTIF($Y$4:$Y5,$X$5:$X$18),0),0)),"")} -> Wrong supplier selection | Z6: =IFERROR(INDEX(Calc!$K$5:$K$18,MATCH(Calc!Y6,Calc!$J$5:$J$18,0)),"") -> 5 | AA6: =IFERROR(IF(LEN(Z6)=0,"",+RANK(Z6,$Z$5:$Z$9,0)),"") -> 2 | AB6: =IFERROR(IF(LEN(AA6)=0,"",+COUNTIF($AA$5:$AA6,$AA6)+AA6-1),"") -> 2 | AC6: =IFERROR(INDEX($Y$5:$Y$9,MATCH(W6,$AB$5:$AB$9,0)),"") -> Wrong supplier selection | AD6: =IFERROR(INDEX($Z$5:$Z$9,MATCH(W6,$AB$5:$AB$9,0)),"") -> 5 | AF6: =IFERROR(IF(LEN(INDEX(Input!$D$6:$D$19,Calc!B6,1))>0,INDEX(Input!$D$6:$D$19,Calc!B6,1),""),"") -> Manuel Rivas | AG6: {=IFERROR(INDEX($AF$5:$AF$18,MATCH(0,INDEX((LEN($AF$5:$AF$18)=0)+COUNTIF($AG$4:$AG5,$AF$5:$AF$18),0),0)),"")} -> Manuel Rivas
B7: 3 | C7: {=IFERROR(INDEX(Input!$B$6:$B$19,SMALL(IF(LEN(Input!$B$6:$B$19)>0,ROW(Input!$B$6:$B$19)-ROW(INDEX(Input!$B$6:$B$19,1,1))+1),ROW($A8)-ROW($A$5))),"")} -> Incorrect stocking of raw materials | D7: =IFERROR(IF(AND(LEN(C7)=0,LEN(Input!C8)=0),"",IF(INDEX(Input!$C$6:$C$19,MATCH(Calc!C7,Input!$B$6:$B$19,0))=0,"",INDEX(Input!$C$6:$C$19,MATCH(Calc!C7,Input!$B$6:$B$19,0)))),"") -> 10 | E7: =IFERROR(IF(LEN(D7)=0,"",+RANK(D7,$D$5:$D$18,0)),"") -> 4 | F7: =IFERROR(IF(LEN(E7)=0,"",+COUNTIF($E$5:$E7,$E7)+E7-1),"") -> 4 | G7: =IFERROR(IF(INDEX(Input!$D$6:$D$19,MATCH(Calc!C7,Input!$B$6:$B$19,0))=0,"",INDEX(Input!$D$6:$D$19,MATCH(Calc!C7,Input!$B$6:$B$19,0))),"") -> Joshua Kent | H7: =IFERROR(INDEX(Input!$F$6:$F$19,MATCH(Calc!C7,Input!$B$6:$B$19,0)),"") -> Below Target | I7: =IFERROR(INDEX($G$5:$G$18,MATCH(B7,$F$5:$F$18,0)),"") -> Gia Pruitt | J7: =IFERROR(INDEX($C$5:$C$18,MATCH(B7,$F$5:$F$18,0)),"") -> Inadequate quality control testing | K7: =IFERROR(INDEX($D$5:$D$18,MATCH(B7,$F$5:$F$18,0)),"") -> 15 | L7: =IFERROR(IF(LEN(K7)=0,"",K7/$K$3),"") -> 0.075 | M7: =IFERROR(IF(LEN(L7)=0,"",M6+L7),"") -> 0.75 | Q7: Dynamic Label | T7: No blank | W7: 3 | X7: =IFERROR(IF(I7=$X$4,J7,""),"") -> Inadequate quality control testing | Y7: {=IFERROR(INDEX($X$5:$X$18,MATCH(0,INDEX((LEN($X$5:$X$18)=0)+COUNTIF($Y$4:$Y6,$X$5:$X$18),0),0)),"")} -> Deterioration in machines | Z7: =IFERROR(INDEX(Calc!$K$5:$K$18,MATCH(Calc!Y7,Calc!$J$5:$J$18,0)),"") -> 5 | AA7: =IFERROR(IF(LEN(Z7)=0,"",+RANK(Z7,$Z$5:$Z$9,0)),"") -> 2 | AB7: =IFERROR(IF(LEN(AA7)=0,"",+COUNTIF($AA$5:$AA7,$AA7)+AA7-1),"") -> 3 | AC7: =IFERROR(INDEX($Y$5:$Y$9,MATCH(W7,$AB$5:$AB$9,0)),"") -> Deterioration in machines | AD7: =IFERROR(INDEX($Z$5:$Z$9,MATCH(W7,$AB$5:$AB$9,0)),"") -> 5 | AF7: =IFERROR(IF(LEN(INDEX(Input!$D$6:$D$19,Calc!B7,1))>0,INDEX(Input!$D$6:$D$19,Calc!B7,1),""),"") -> Joshua Kent | AG7: {=IFERROR(INDEX($AF$5:$AF$18,MATCH(0,INDEX((LEN($AF$5:$AF$18)=0)+COUNTIF($AG$4:$AG6,$AF$5:$AF$18),0),0)),"")} -> Joshua Kent
B8: 4 | C8: {=IFERROR(INDEX(Input!$B$6:$B$19,SMALL(IF(LEN(Input!$B$6:$B$19)>0,ROW(Input!$B$6:$B$19)-ROW(INDEX(Input!$B$6:$B$19,1,1))+1),ROW($A9)-ROW($A$5))),"")} -> Deterioration in machines | D8: =IFERROR(IF(AND(LEN(C8)=0,LEN(Input!C9)=0),"",IF(INDEX(Input!$C$6:$C$19,MATCH(Calc!C8,Input!$B$6:$B$19,0))=0,"",INDEX(Input!$C$6:$C$19,MATCH(Calc!C8,Input!$B$6:$B$19,0)))),"") -> 5 | E8: =IFERROR(IF(LEN(D8)=0,"",+RANK(D8,$D$5:$D$18,0)),"") -> 7 | F8: =IFERROR(IF(LEN(E8)=0,"",+COUNTIF($E$5:$E8,$E8)+E8-1),"") -> 8 | G8: =IFERROR(IF(INDEX(Input!$D$6:$D$19,MATCH(Calc!C8,Input!$B$6:$B$19,0))=0,"",INDEX(Input!$D$6:$D$19,MATCH(Calc!C8,Input!$B$6:$B$19,0))),"") -> Gia Pruitt | H8: =IFERROR(INDEX(Input!$F$6:$F$19,MATCH(Calc!C8,Input!$B$6:$B$19,0)),"") -> Below Target | I8: =IFERROR(INDEX($G$5:$G$18,MATCH(B8,$F$5:$F$18,0)),"") -> Joshua Kent | J8: =IFERROR(INDEX($C$5:$C$18,MATCH(B8,$F$5:$F$18,0)),"") -> Incorrect stocking of raw materials | K8: =IFERROR(INDEX($D$5:$D$18,MATCH(B8,$F$5:$F$18,0)),"") -> 10 | L8: =IFERROR(IF(LEN(K8)=0,"",K8/$K$3),"") -> 0.05 | M8: =IFERROR(IF(LEN(L8)=0,"",M7+L8),"") -> 0.8 | Q8: =IFERROR($Q$15,"") -> Over Target | R8: =IFERROR(IF(COUNTIF($H$5:$H$18,Q8)=0,"",COUNTIF($H$5:$H$18,Q8)),"") -> 3 | S8: =IFERROR(IF(LEN($R$8)>0,$Q$8,""),"") -> Over Target | T8: {=IFERROR(INDEX($S$8:$S$10,MATCH(0,INDEX((LEN($S$8:$S$10)=0)+COUNTIF($T$7:$T7,$S$8:$S$10),0),0)),"")} -> Over Target | U8: =IFERROR(IF(LEN($T$8)=0,"",INDEX(Calc!$R$8:$R$10,MATCH(Calc!T8,Calc!$Q$8:$Q$10,0))),"") -> 3 | W8: 4 | X8: =IFERROR(IF(I8=$X$4,J8,""),"") | Y8: {=IFERROR(INDEX($X$5:$X$18,MATCH(0,INDEX((LEN($X$5:$X$18)=0)+COUNTIF($Y$4:$Y7,$X$5:$X$18),0),0)),"")} | Z8: =IFERROR(INDEX(Calc!$K$5:$K$18,MATCH(Calc!Y8,Calc!$J$5:$J$18,0)),"") | AA8: =IFERROR(IF(LEN(Z8)=0,"",+RANK(Z8,$Z$5:$Z$9,0)),"") | AB8: =IFERROR(IF(LEN(AA8)=0,"",+COUNTIF($AA$5:$AA8,$AA8)+AA8-1),"") | AC8: =IFERROR(INDEX($Y$5:$Y$9,MATCH(W8,$AB$5:$AB$9,0)),"") | AD8: =IFERROR(INDEX($Z$5:$Z$9,MATCH(W8,$AB$5:$AB$9,0)),"") | AF8: =IFERROR(IF(LEN(INDEX(Input!$D$6:$D$19,Calc!B8,1))>0,INDEX(Input!$D$6:$D$19,Calc!B8,1),""),"") -> Gia Pruitt | AG8: {=IFERROR(INDEX($AF$5:$AF$18,MATCH(0,INDEX((LEN($AF$5:$AF$18)=0)+COUNTIF($AG$4:$AG7,$AF$5:$AF$18),0),0)),"")} -> Sean Warren
B9: 5 | C9: {=IFERROR(INDEX(Input!$B$6:$B$19,SMALL(IF(LEN(Input!$B$6:$B$19)>0,ROW(Input!$B$6:$B$19)-ROW(INDEX(Input!$B$6:$B$19,1,1))+1),ROW($A10)-ROW($A$5))),"")} -> Inadequate quality control testing | D9: =IFERROR(IF(AND(LEN(C9)=0,LEN(Input!C10)=0),"",IF(INDEX(Input!$C$6:$C$19,MATCH(Calc!C9,Input!$B$6:$B$19,0))=0,"",INDEX(Input!$C$6:$C$19,MATCH(Calc!C9,Input!$B$6:$B$19,0)))),"") -> 15 | E9: =IFERROR(IF(LEN(D9)=0,"",+RANK(D9,$D$5:$D$18,0)),"") -> 3 | F9: =IFERROR(IF(LEN(E9)=0,"",+COUNTIF($E$5:$E9,$E9)+E9-1),"") -> 3 | G9: =IFERROR(IF(INDEX(Input!$D$6:$D$19,MATCH(Calc!C9,Input!$B$6:$B$19,0))=0,"",INDEX(Input!$D$6:$D$19,MATCH(Calc!C9,Input!$B$6:$B$19,0))),"") -> Gia Pruitt | H9: =IFERROR(INDEX(Input!$F$6:$F$19,MATCH(Calc!C9,Input!$B$6:$B$19,0)),"") -> Below Target | I9: =IFERROR(INDEX($G$5:$G$18,MATCH(B9,$F$5:$F$18,0)),"") -> Sean Warren | J9: =IFERROR(INDEX($C$5:$C$18,MATCH(B9,$F$5:$F$18,0)),"") -> Operator defects | K9: =IFERROR(INDEX($D$5:$D$18,MATCH(B9,$F$5:$F$18,0)),"") -> 10 | L9: =IFERROR(IF(LEN(K9)=0,"",K9/$K$3),"") -> 0.05 | M9: =IFERROR(IF(LEN(L9)=0,"",M8+L9),"") -> 0.85 | Q9: =IFERROR($Q$14,"") -> Target | R9: =IFERROR(IF(COUNTIF($H$5:$H$18,Q9)=0,"",COUNTIF($H$5:$H$18,Q9)),"") -> 3 | S9: =IFERROR(IF(LEN($R$9)>0,$Q$9,""),"") -> Target | T9: {=IFERROR(INDEX($S$8:$S$10,MATCH(0,INDEX((LEN($S$8:$S$10)=0)+COUNTIF($T$7:$T8,$S$8:$S$10),0),0)),"")} -> Target | U9: =IFERROR(IF(LEN($T$9)=0,"",INDEX(Calc!$R$8:$R$10,MATCH(Calc!T9,Calc!$Q$8:$Q$10,0))),"") -> 3 | W9: 5 | X9: =IFERROR(IF(I9=$X$4,J9,""),"") | Y9: {=IFERROR(INDEX($X$5:$X$18,MATCH(0,INDEX((LEN($X$5:$X$18)=0)+COUNTIF($Y$4:$Y8,$X$5:$X$18),0),0)),"")} | Z9: =IFERROR(INDEX(Calc!$K$5:$K$18,MATCH(Calc!Y9,Calc!$J$5:$J$18,0)),"") | AA9: =IFERROR(IF(LEN(Z9)=0,"",+RANK(Z9,$Z$5:$Z$9,0)),"") | AB9: =IFERROR(IF(LEN(AA9)=0,"",+COUNTIF($AA$5:$AA9,$AA9)+AA9-1),"") | AC9: =IFERROR(INDEX($Y$5:$Y$9,MATCH(W9,$AB$5:$AB$9,0)),"") | AD9: =IFERROR(INDEX($Z$5:$Z$9,MATCH(W9,$AB$5:$AB$9,0)),"") | AF9: =IFERROR(IF(LEN(INDEX(Input!$D$6:$D$19,Calc!B9,1))>0,INDEX(Input!$D$6:$D$19,Calc!B9,1),""),"") -> Gia Pruitt | AG9: {=IFERROR(INDEX($AF$5:$AF$18,MATCH(0,INDEX((LEN($AF$5:$AF$18)=0)+COUNTIF($AG$4:$AG8,$AF$5:$AF$18),0),0)),"")} -> Madison May
B10: 6 | C10: {=IFERROR(INDEX(Input!$B$6:$B$19,SMALL(IF(LEN(Input!$B$6:$B$19)>0,ROW(Input!$B$6:$B$19)-ROW(INDEX(Input!$B$6:$B$19,1,1))+1),ROW($A11)-ROW($A$5))),"")} -> Operator defects | D10: =IFERROR(IF(AND(LEN(C10)=0,LEN(Input!C11)=0),"",IF(INDEX(Input!$C$6:$C$19,MATCH(Calc!C10,Input!$B$6:$B$19,0))=0,"",INDEX(Input!$C$6:$C$19,MATCH(Calc!C10,Input!$B$6:$B$19,0)))),"") -> 10 | E10: =IFERROR(IF(LEN(D10)=0,"",+RANK(D10,$D$5:$D$18,0)),"") -> 4 | F10: =IFERROR(IF(LEN(E10)=0,"",+COUNTIF($E$5:$E10,$E10)+E10-1),"") -> 5 | G10: =IFERROR(IF(INDEX(Input!$D$6:$D$19,MATCH(Calc!C10,Input!$B$6:$B$19,0))=0,"",INDEX(Input!$D$6:$D$19,MATCH(Calc!C10,Input!$B$6:$B$19,0))),"") -> Sean Warren | H10: =IFERROR(INDEX(Input!$F$6:$F$19,MATCH(Calc!C10,Input!$B$6:$B$19,0)),"") -> Target | I10: =IFERROR(INDEX($G$5:$G$18,MATCH(B10,$F$5:$F$18,0)),"") -> Joshua Kent | J10: =IFERROR(INDEX($C$5:$C$18,MATCH(B10,$F$5:$F$18,0)),"") -> Production line defect | K10: =IFERROR(INDEX($D$5:$D$18,MATCH(B10,$F$5:$F$18,0)),"") -> 10 | L10: =IFERROR(IF(LEN(K10)=0,"",K10/$K$3),"") -> 0.05 | M10: =IFERROR(IF(LEN(L10)=0,"",M9+L10),"") -> 0.9 | Q10: =IFERROR($Q$13,"") -> Below Target | R10: =IFERROR(IF(COUNTIF($H$5:$H$18,Q10)=0,"",COUNTIF($H$5:$H$18,Q10)),"") -> 4 | S10: =IFERROR(IF(LEN($R$10)>0,$Q$10,""),"") -> Below Target | T10: {=IFERROR(INDEX($S$8:$S$10,MATCH(0,INDEX((LEN($S$8:$S$10)=0)+COUNTIF($T$7:$T9,$S$8:$S$10),0),0)),"")} -> Below Target | U10: =IFERROR(IF(LEN($T$10)=0,"",INDEX(Calc!$R$8:$R$10,MATCH(Calc!T10,Calc!$Q$8:$Q$10,0))),"") -> 4 | W10: 6 | X10: =IFERROR(IF(I10=$X$4,J10,""),"") | AF10: =IFERROR(IF(LEN(INDEX(Input!$D$6:$D$19,Calc!B10,1))>0,INDEX(Input!$D$6:$D$19,Calc!B10,1),""),"") -> Sean Warren | AG10: {=IFERROR(INDEX($AF$5:$AF$18,MATCH(0,INDEX((LEN($AF$5:$AF$18)=0)+COUNTIF($AG$4:$AG9,$AF$5:$AF$18),0),0)),"")}
B11: 7 | C11: {=IFERROR(INDEX(Input!$B$6:$B$19,SMALL(IF(LEN(Input!$B$6:$B$19)>0,ROW(Input!$B$6:$B$19)-ROW(INDEX(Input!$B$6:$B$19,1,1))+1),ROW($A12)-ROW($A$5))),"")} -> Production line defect | D11: =IFERROR(IF(AND(LEN(C11)=0,LEN(Input!C12)=0),"",IF(INDEX(Input!$C$6:$C$19,MATCH(Calc!C11,Input!$B$6:$B$19,0))=0,"",INDEX(Input!$C$6:$C$19,MATCH(Calc!C11,Input!$B$6:$B$19,0)))),"") -> 10 | E11: =IFERROR(IF(LEN(D11)=0,"",+RANK(D11,$D$5:$D$18,0)),"") -> 4 | F11: =IFERROR(IF(LEN(E11)=0,"",+COUNTIF($E$5:$E11,$E11)+E11-1),"") -> 6 | G11: =IFERROR(IF(INDEX(Input!$D$6:$D$19,MATCH(Calc!C11,Input!$B$6:$B$19,0))=0,"",INDEX(Input!$D$6:$D$19,MATCH(Calc!C11,Input!$B$6:$B$19,0))),"") -> Joshua Kent | H11: =IFERROR(INDEX(Input!$F$6:$F$19,MATCH(Calc!C11,Input!$B$6:$B$19,0)),"") -> Over Target | I11: =IFERROR(INDEX($G$5:$G$18,MATCH(B11,$F$5:$F$18,0)),"") -> Gia Pruitt | J11: =IFERROR(INDEX($C$5:$C$18,MATCH(B11,$F$5:$F$18,0)),"") -> Wrong supplier selection | K11: =IFERROR(INDEX($D$5:$D$18,MATCH(B11,$F$5:$F$18,0)),"") -> 5 | L11: =IFERROR(IF(LEN(K11)=0,"",K11/$K$3),"") -> 0.025 | M11: =IFERROR(IF(LEN(L11)=0,"",M10+L11),"") -> 0.925 | W11: 7 | X11: =IFERROR(IF(I11=$X$4,J11,""),"") -> Wrong supplier selection | AF11: =IFERROR(IF(LEN(INDEX(Input!$D$6:$D$19,Calc!B11,1))>0,INDEX(Input!$D$6:$D$19,Calc!B11,1),""),"") -> Joshua Kent | AG11: {=IFERROR(INDEX($AF$5:$AF$18,MATCH(0,INDEX((LEN($AF$5:$AF$18)=0)+COUNTIF($AG$4:$AG10,$AF$5:$AF$18),0),0)),"")}
B12: 8 | C12: {=IFERROR(INDEX(Input!$B$6:$B$19,SMALL(IF(LEN(Input!$B$6:$B$19)>0,ROW(Input!$B$6:$B$19)-ROW(INDEX(Input!$B$6:$B$19,1,1))+1),ROW($A13)-ROW($A$5))),"")} -> Errors during packaging | D12: =IFERROR(IF(AND(LEN(C12)=0,LEN(Input!C13)=0),"",IF(INDEX(Input!$C$6:$C$19,MATCH(Calc!C12,Input!$B$6:$B$19,0))=0,"",INDEX(Input!$C$6:$C$19,MATCH(Calc!C12,Input!$B$6:$B$19,0)))),"") -> 75 | E12: =IFERROR(IF(LEN(D12)=0,"",+RANK(D12,$D$5:$D$18,0)),"") -> 1 | F12: =IFERROR(IF(LEN(E12)=0,"",+COUNTIF($E$5:$E12,$E12)+E12-1),"") -> 1 | G12: =IFERROR(IF(INDEX(Input!$D$6:$D$19,MATCH(Calc!C12,Input!$B$6:$B$19,0))=0,"",INDEX(Input!$D$6:$D$19,MATCH(Calc!C12,Input!$B$6:$B$19,0))),"") -> Manuel Rivas | H12: =IFERROR(INDEX(Input!$F$6:$F$19,MATCH(Calc!C12,Input!$B$6:$B$19,0)),"") -> Over Target | I12: =IFERROR(INDEX($G$5:$G$18,MATCH(B12,$F$5:$F$18,0)),"") -> Gia Pruitt | J12: =IFERROR(INDEX($C$5:$C$18,MATCH(B12,$F$5:$F$18,0)),"") -> Deterioration in machines | K12: =IFERROR(INDEX($D$5:$D$18,MATCH(B12,$F$5:$F$18,0)),"") -> 5 | L12: =IFERROR(IF(LEN(K12)=0,"",K12/$K$3),"") -> 0.025 | M12: =IFERROR(IF(LEN(L12)=0,"",M11+L12),"") -> 0.95 | S12: Color Code | W12: 8 | X12: =IFERROR(IF(I12=$X$4,J12,""),"") -> Deterioration in machines | AF12: =IFERROR(IF(LEN(INDEX(Input!$D$6:$D$19,Calc!B12,1))>0,INDEX(Input!$D$6:$D$19,Calc!B12,1),""),"") -> Manuel Rivas | AG12: {=IFERROR(INDEX($AF$5:$AF$18,MATCH(0,INDEX((LEN($AF$5:$AF$18)=0)+COUNTIF($AG$4:$AG11,$AF$5:$AF$18),0),0)),"")}
B13: 9 | C13: {=IFERROR(INDEX(Input!$B$6:$B$19,SMALL(IF(LEN(Input!$B$6:$B$19)>0,ROW(Input!$B$6:$B$19)-ROW(INDEX(Input!$B$6:$B$19,1,1))+1),ROW($A14)-ROW($A$5))),"")} -> Insufficient warehouse | D13: =IFERROR(IF(AND(LEN(C13)=0,LEN(Input!C14)=0),"",IF(INDEX(Input!$C$6:$C$19,MATCH(Calc!C13,Input!$B$6:$B$19,0))=0,"",INDEX(Input!$C$6:$C$19,MATCH(Calc!C13,Input!$B$6:$B$19,0)))),"") -> 5 | E13: =IFERROR(IF(LEN(D13)=0,"",+RANK(D13,$D$5:$D$18,0)),"") -> 7 | F13: =IFERROR(IF(LEN(E13)=0,"",+COUNTIF($E$5:$E13,$E13)+E13-1),"") -> 9 | G13: =IFERROR(IF(INDEX(Input!$D$6:$D$19,MATCH(Calc!C13,Input!$B$6:$B$19,0))=0,"",INDEX(Input!$D$6:$D$19,MATCH(Calc!C13,Input!$B$6:$B$19,0))),"") -> Madison May | H13: =IFERROR(INDEX(Input!$F$6:$F$19,MATCH(Calc!C13,Input!$B$6:$B$19,0)),"") -> Target | I13: =IFERROR(INDEX($G$5:$G$18,MATCH(B13,$F$5:$F$18,0)),"") -> Madison May | J13: =IFERROR(INDEX($C$5:$C$18,MATCH(B13,$F$5:$F$18,0)),"") -> Insufficient warehouse | K13: =IFERROR(INDEX($D$5:$D$18,MATCH(B13,$F$5:$F$18,0)),"") -> 5 | L13: =IFERROR(IF(LEN(K13)=0,"",K13/$K$3),"") -> 0.025 | M13: =IFERROR(IF(LEN(L13)=0,"",M12+L13),"") -> 0.975 | Q13: Below Target | S13: aeb8fe | W13: 9 | X13: =IFERROR(IF(I13=$X$4,J13,""),"") | AF13: =IFERROR(IF(LEN(INDEX(Input!$D$6:$D$19,Calc!B13,1))>0,INDEX(Input!$D$6:$D$19,Calc!B13,1),""),"") -> Madison May | AG13: {=IFERROR(INDEX($AF$5:$AF$18,MATCH(0,INDEX((LEN($AF$5:$AF$18)=0)+COUNTIF($AG$4:$AG12,$AF$5:$AF$18),0),0)),"")}
B14: 10 | C14: {=IFERROR(INDEX(Input!$B$6:$B$19,SMALL(IF(LEN(Input!$B$6:$B$19)>0,ROW(Input!$B$6:$B$19)-ROW(INDEX(Input!$B$6:$B$19,1,1))+1),ROW($A15)-ROW($A$5))),"")} -> Logistics Defect | D14: =IFERROR(IF(AND(LEN(C14)=0,LEN(Input!C15)=0),"",IF(INDEX(Input!$C$6:$C$19,MATCH(Calc!C14,Input!$B$6:$B$19,0))=0,"",INDEX(Input!$C$6:$C$19,MATCH(Calc!C14,Input!$B$6:$B$19,0)))),"") -> 5 | E14: =IFERROR(IF(LEN(D14)=0,"",+RANK(D14,$D$5:$D$18,0)),"") -> 7 | F14: =IFERROR(IF(LEN(E14)=0,"",+COUNTIF($E$5:$E14,$E14)+E14-1),"") -> 10 | G14: =IFERROR(IF(INDEX(Input!$D$6:$D$19,MATCH(Calc!C14,Input!$B$6:$B$19,0))=0,"",INDEX(Input!$D$6:$D$19,MATCH(Calc!C14,Input!$B$6:$B$19,0))),"") -> Sean Warren | H14: =IFERROR(INDEX(Input!$F$6:$F$19,MATCH(Calc!C14,Input!$B$6:$B$19,0)),"") -> Target | I14: =IFERROR(INDEX($G$5:$G$18,MATCH(B14,$F$5:$F$18,0)),"") -> Sean Warren | J14: =IFERROR(INDEX($C$5:$C$18,MATCH(B14,$F$5:$F$18,0)),"") -> Logistics Defect | K14: =IFERROR(INDEX($D$5:$D$18,MATCH(B14,$F$5:$F$18,0)),"") -> 5 | L14: =IFERROR(IF(LEN(K14)=0,"",K14/$K$3),"") -> 0.025 | M14: =IFERROR(IF(LEN(L14)=0,"",M13+L14),"") -> 1 | Q14: Target | S14: 758bfd | W14: 10 | X14: =IFERROR(IF(I14=$X$4,J14,""),"") | AF14: =IFERROR(IF(LEN(INDEX(Input!$D$6:$D$19,Calc!B14,1))>0,INDEX(Input!$D$6:$D$19,Calc!B14,1),""),"") -> Sean Warren | AG14: {=IFERROR(INDEX($AF$5:$AF$18,MATCH(0,INDEX((LEN($AF$5:$AF$18)=0)+COUNTIF($AG$4:$AG13,$AF$5:$AF$18),0),0)),"")}
B15: 11 | C15: {=IFERROR(INDEX(Input!$B$6:$B$19,SMALL(IF(LEN(Input!$B$6:$B$19)>0,ROW(Input!$B$6:$B$19)-ROW(INDEX(Input!$B$6:$B$19,1,1))+1),ROW($A16)-ROW($A$5))),"")} | D15: =IFERROR(IF(AND(LEN(C15)=0,LEN(Input!C16)=0),"",IF(INDEX(Input!$C$6:$C$19,MATCH(Calc!C15,Input!$B$6:$B$19,0))=0,"",INDEX(Input!$C$6:$C$19,MATCH(Calc!C15,Input!$B$6:$B$19,0)))),"") | E15: =IFERROR(IF(LEN(D15)=0,"",+RANK(D15,$D$5:$D$18,0)),"") | F15: =IFERROR(IF(LEN(E15)=0,"",+COUNTIF($E$5:$E15,$E15)+E15-1),"") | G15: =IFERROR(IF(INDEX(Input!$D$6:$D$19,MATCH(Calc!C15,Input!$B$6:$B$19,0))=0,"",INDEX(Input!$D$6:$D$19,MATCH(Calc!C15,Input!$B$6:$B$19,0))),"") | H15: =IFERROR(INDEX(Input!$F$6:$F$19,MATCH(Calc!C15,Input!$B$6:$B$19,0)),"") | I15: =IFERROR(INDEX($G$5:$G$18,MATCH(B15,$F$5:$F$18,0)),"") | J15: =IFERROR(INDEX($C$5:$C$18,MATCH(B15,$F$5:$F$18,0)),"") | K15: =IFERROR(INDEX($D$5:$D$18,MATCH(B15,$F$5:$F$18,0)),"") | L15: =IFERROR(IF(LEN(K15)=0,"",K15/$K$3),"") | M15: =IFERROR(IF(LEN(L15)=0,"",M14+L15),"") | Q15: Over Target | S15: 27187e | W15: 11 | X15: =IFERROR(IF(I15=$X$4,J15,""),"") | AF15: =IFERROR(IF(LEN(INDEX(Input!$D$6:$D$19,Calc!B15,1))>0,INDEX(Input!$D$6:$D$19,Calc!B15,1),""),"") | AG15: {=IFERROR(INDEX($AF$5:$AF$18,MATCH(0,INDEX((LEN($AF$5:$AF$18)=0)+COUNTIF($AG$4:$AG14,$AF$5:$AF$18),0),0)),"")}
B16: 12 | C16: {=IFERROR(INDEX(Input!$B$6:$B$19,SMALL(IF(LEN(Input!$B$6:$B$19)>0,ROW(Input!$B$6:$B$19)-ROW(INDEX(Input!$B$6:$B$19,1,1))+1),ROW($A17)-ROW($A$5))),"")} | D16: =IFERROR(IF(AND(LEN(C16)=0,LEN(Input!C17)=0),"",IF(INDEX(Input!$C$6:$C$19,MATCH(Calc!C16,Input!$B$6:$B$19,0))=0,"",INDEX(Input!$C$6:$C$19,MATCH(Calc!C16,Input!$B$6:$B$19,0)))),"") | E16: =IFERROR(IF(LEN(D16)=0,"",+RANK(D16,$D$5:$D$18,0)),"") | F16: =IFERROR(IF(LEN(E16)=0,"",+COUNTIF($E$5:$E16,$E16)+E16-1),"") | G16: =IFERROR(IF(INDEX(Input!$D$6:$D$19,MATCH(Calc!C16,Input!$B$6:$B$19,0))=0,"",INDEX(Input!$D$6:$D$19,MATCH(Calc!C16,Input!$B$6:$B$19,0))),"") | H16: =IFERROR(INDEX(Input!$F$6:$F$19,MATCH(Calc!C16,Input!$B$6:$B$19,0)),"") | I16: =IFERROR(INDEX($G$5:$G$18,MATCH(B16,$F$5:$F$18,0)),"") | J16: =IFERROR(INDEX($C$5:$C$18,MATCH(B16,$F$5:$F$18,0)),"") | K16: =IFERROR(INDEX($D$5:$D$18,MATCH(B16,$F$5:$F$18,0)),"") | L16: =IFERROR(IF(LEN(K16)=0,"",K16/$K$3),"") | M16: =IFERROR(IF(LEN(L16)=0,"",M15+L16),"") | W16: 12 | X16: =IFERROR(IF(I16=$X$4,J16,""),"") | AF16: =IFERROR(IF(LEN(INDEX(Input!$D$6:$D$19,Calc!B16,1))>0,INDEX(Input!$D$6:$D$19,Calc!B16,1),""),"") | AG16: {=IFERROR(INDEX($AF$5:$AF$18,MATCH(0,INDEX((LEN($AF$5:$AF$18)=0)+COUNTIF($AG$4:$AG15,$AF$5:$AF$18),0),0)),"")}
B17: 13 | C17: {=IFERROR(INDEX(Input!$B$6:$B$19,SMALL(IF(LEN(Input!$B$6:$B$19)>0,ROW(Input!$B$6:$B$19)-ROW(INDEX(Input!$B$6:$B$19,1,1))+1),ROW($A18)-ROW($A$5))),"")} | D17: =IFERROR(IF(AND(LEN(C17)=0,LEN(Input!C18)=0),"",IF(INDEX(Input!$C$6:$C$19,MATCH(Calc!C17,Input!$B$6:$B$19,0))=0,"",INDEX(Input!$C$6:$C$19,MATCH(Calc!C17,Input!$B$6:$B$19,0)))),"") | E17: =IFERROR(IF(LEN(D17)=0,"",+RANK(D17,$D$5:$D$18,0)),"") | F17: =IFERROR(IF(LEN(E17)=0,"",+COUNTIF($E$5:$E17,$E17)+E17-1),"") | G17: =IFERROR(IF(INDEX(Input!$D$6:$D$19,MATCH(Calc!C17,Input!$B$6:$B$19,0))=0,"",INDEX(Input!$D$6:$D$19,MATCH(Calc!C17,Input!$B$6:$B$19,0))),"") | H17: =IFERROR(INDEX(Input!$F$6:$F$19,MATCH(Calc!C17,Input!$B$6:$B$19,0)),"") | I17: =IFERROR(INDEX($G$5:$G$18,MATCH(B17,$F$5:$F$18,0)),"") | J17: =IFERROR(INDEX($C$5:$C$18,MATCH(B17,$F$5:$F$18,0)),"") | K17: =IFERROR(INDEX($D$5:$D$18,MATCH(B17,$F$5:$F$18,0)),"") | L17: =IFERROR(IF(LEN(K17)=0,"",K17/$K$3),"") | M17: =IFERROR(IF(LEN(L17)=0,"",M16+L17),"") | Q17: Causes Realization - Top 2 | R17: 2 | W17: 13 | X17: =IFERROR(IF(I17=$X$4,J17,""),"") | AF17: =IFERROR(IF(LEN(INDEX(Input!$D$6:$D$19,Calc!B17,1))>0,INDEX(Input!$D$6:$D$19,Calc!B17,1),""),"") | AG17: {=IFERROR(INDEX($AF$5:$AF$18,MATCH(0,INDEX((LEN($AF$5:$AF$18)=0)+COUNTIF($AG$4:$AG16,$AF$5:$AF$18),0),0)),"")}
B18: 14 | C18: {=IFERROR(INDEX(Input!$B$6:$B$19,SMALL(IF(LEN(Input!$B$6:$B$19)>0,ROW(Input!$B$6:$B$19)-ROW(INDEX(Input!$B$6:$B$19,1,1))+1),ROW($A19)-ROW($A$5))),"")} | D18: =IFERROR(IF(AND(LEN(C18)=0,LEN(Input!C19)=0),"",IF(INDEX(Input!$C$6:$C$19,MATCH(Calc!C18,Input!$B$6:$B$19,0))=0,"",INDEX(Input!$C$6:$C$19,MATCH(Calc!C18,Input!$B$6:$B$19,0)))),"") | E18: =IFERROR(IF(LEN(D18)=0,"",+RANK(D18,$D$5:$D$18,0)),"") | F18: =IFERROR(IF(LEN(E18)=0,"",+COUNTIF($E$5:$E18,$E18)+E18-1),"") | G18: =IFERROR(IF(INDEX(Input!$D$6:$D$19,MATCH(Calc!C18,Input!$B$6:$B$19,0))=0,"",INDEX(Input!$D$6:$D$19,MATCH(Calc!C18,Input!$B$6:$B$19,0))),"") | H18: =IFERROR(INDEX(Input!$F$6:$F$19,MATCH(Calc!C18,Input!$B$6:$B$19,0)),"") | I18: =IFERROR(INDEX($G$5:$G$18,MATCH(B18,$F$5:$F$18,0)),"") | J18: =IFERROR(INDEX($C$5:$C$18,MATCH(B18,$F$5:$F$18,0)),"") | K18: =IFERROR(INDEX($D$5:$D$18,MATCH(B18,$F$5:$F$18,0)),"") | L18: =IFERROR(IF(LEN(K18)=0,"",K18/$K$3),"") | M18: =IFERROR(IF(LEN(L18)=0,"",M17+L18),"") | Q18: Causes Realization - Top 3 | R18: 3 | W18: 14 | X18: =IFERROR(IF(I18=$X$4,J18,""),"") | AF18: =IFERROR(IF(LEN(INDEX(Input!$D$6:$D$19,Calc!B18,1))>0,INDEX(Input!$D$6:$D$19,Calc!B18,1),""),"") | AG18: {=IFERROR(INDEX($AF$5:$AF$18,MATCH(0,INDEX((LEN($AF$5:$AF$18)=0)+COUNTIF($AG$4:$AG17,$AF$5:$AF$18),0),0)),"")}
Q19: Causes Realization - Top 5 | R19: 5
Q20: Causes Realization - Top 10 | R20: 10
