Workbook
Name choosenMonth: MonthView!$M$6
Name chosenWeek: WeeklyView!$O$6
Name day_1: Calc!$AQ$7:$AS$54
Name day_2: Calc!$AV$7:$AX$54
Name day_3: Calc!$BA$7:$BC$54
Name day_4: Calc!$BF$7:$BH$54
Name day_5: Calc!$BK$7:$BM$54
Name day_6: Calc!$BP$7:$BR$54
Name day_7: Calc!$BU$7:$BW$54
Name endOfMonth: Calc!$BZ$3
Name firstDay: Dashboard!$J$21
Name hoursList: Calc!$I$4:$I$51
Name ImportanceList2: OFFSET(Calc!$G$20,0,0,Calc!$G$27,1)
Name importanceFilter: WeeklyView!$U$6
Name importanceList: OFFSET(Dashboard!$J$24,0,0,COUNTA(Dashboard!$J$24:$J$28),1)
Name monthFirst: Calc!$BZ$5
Name monthOffset: Calc!$BZ$2
Name monthsList: Calc!$C$4:$C$15
Name monthYear: MonthView!$G$6
Name parea: Calc!$B$32
Name step: Calc!$G$13
Name thisWeek: Calc!$G$4
Name typeList: OFFSET(Calc!$AE$62,0,0,Calc!$AE$59,1)
Name weekChoosen: Calc!$G$7
Name weekDays: OFFSET(Calc!$E$4,Calc!$G$10,0,7,1)
Name weekOffset: Calc!$G$10
Name weeksList: Calc!$D$3:$D$57
Name weekYear: WeeklyView!$I$6
Name yearsList: Calc!$B$4:$B$24

Sheet Dashboard
D2: TIME BLOCKING TEMPLATE
D3: DASHBOARD
C7: This week summary
G18: SETTINGS
G20: Task Type | J20: Week Start Day
H21: Meeting | J21: Monday
D22: This week reminders: | H22: Call
C23: 1 | D23: {=IFERROR(INDEX(Calc!$S$3:$S$32,MATCH(SMALL(IF(Calc!$S$3:$S$32<>"",Calc!$L$3:$L$32,""),C23),Calc!$L$3:$L$32,0),1),"")} | E23: {=IFERROR(IF(TODAY()=INDEX(Calc!$T$3:$T$32,MATCH(SMALL(IF(Calc!$S$3:$S$32<>"",Calc!$L$3:$L$32,""),C23),Calc!$L$3:$L$32,0),1),"Today!",""),"")} | H23: Reminder | J23: Importance
C24: 2 | D24: {=IFERROR(INDEX(Calc!$S$3:$S$32,MATCH(SMALL(IF(Calc!$S$3:$S$32<>"",Calc!$L$3:$L$32,""),C24),Calc!$L$3:$L$32,0),1),"")} | E24: {=IFERROR(IF(TODAY()=INDEX(Calc!$T$3:$T$32,MATCH(SMALL(IF(Calc!$S$3:$S$32<>"",Calc!$L$3:$L$32,""),C24),Calc!$L$3:$L$32,0),1),"Today!",""),"")} | H24: Birthday | J24: High
C25: 3 | D25: {=IFERROR(INDEX(Calc!$S$3:$S$32,MATCH(SMALL(IF(Calc!$S$3:$S$32<>"",Calc!$L$3:$L$32,""),C25),Calc!$L$3:$L$32,0),1),"")} | E25: {=IFERROR(IF(TODAY()=INDEX(Calc!$T$3:$T$32,MATCH(SMALL(IF(Calc!$S$3:$S$32<>"",Calc!$L$3:$L$32,""),C25),Calc!$L$3:$L$32,0),1),"Today!",""),"")} | H25: Holiday | J25: Low
C26: 4 | D26: {=IFERROR(INDEX(Calc!$S$3:$S$32,MATCH(SMALL(IF(Calc!$S$3:$S$32<>"",Calc!$L$3:$L$32,""),C26),Calc!$L$3:$L$32,0),1),"")} | E26: {=IFERROR(IF(TODAY()=INDEX(Calc!$T$3:$T$32,MATCH(SMALL(IF(Calc!$S$3:$S$32<>"",Calc!$L$3:$L$32,""),C26),Calc!$L$3:$L$32,0),1),"Today!",""),"")} | H26: Day off | J26: Medium
C27: 5 | D27: {=IFERROR(INDEX(Calc!$S$3:$S$32,MATCH(SMALL(IF(Calc!$S$3:$S$32<>"",Calc!$L$3:$L$32,""),C27),Calc!$L$3:$L$32,0),1),"")} | E27: {=IFERROR(IF(TODAY()=INDEX(Calc!$T$3:$T$32,MATCH(SMALL(IF(Calc!$S$3:$S$32<>"",Calc!$L$3:$L$32,""),C27),Calc!$L$3:$L$32,0),1),"Today!",""),"")}
C28: 6 | D28: {=IFERROR(INDEX(Calc!$S$3:$S$32,MATCH(SMALL(IF(Calc!$S$3:$S$32<>"",Calc!$L$3:$L$32,""),C28),Calc!$L$3:$L$32,0),1),"")} | E28: {=IFERROR(IF(TODAY()=INDEX(Calc!$T$3:$T$32,MATCH(SMALL(IF(Calc!$S$3:$S$32<>"",Calc!$L$3:$L$32,""),C28),Calc!$L$3:$L$32,0),1),"Today!",""),"")}
C29: 7 | D29: {=IFERROR(INDEX(Calc!$S$3:$S$32,MATCH(SMALL(IF(Calc!$S$3:$S$32<>"",Calc!$L$3:$L$32,""),C29),Calc!$L$3:$L$32,0),1),"")} | E29: {=IFERROR(IF(TODAY()=INDEX(Calc!$T$3:$T$32,MATCH(SMALL(IF(Calc!$S$3:$S$32<>"",Calc!$L$3:$L$32,""),C29),Calc!$L$3:$L$32,0),1),"Today!",""),"")}
C30: 8 | D30: {=IFERROR(INDEX(Calc!$S$3:$S$32,MATCH(SMALL(IF(Calc!$S$3:$S$32<>"",Calc!$L$3:$L$32,""),C30),Calc!$L$3:$L$32,0),1),"")} | E30: {=IFERROR(IF(TODAY()=INDEX(Calc!$T$3:$T$32,MATCH(SMALL(IF(Calc!$S$3:$S$32<>"",Calc!$L$3:$L$32,""),C30),Calc!$L$3:$L$32,0),1),"Today!",""),"")}
C31: 9 | D31: {=IFERROR(INDEX(Calc!$S$3:$S$32,MATCH(SMALL(IF(Calc!$S$3:$S$32<>"",Calc!$L$3:$L$32,""),C31),Calc!$L$3:$L$32,0),1),"")} | E31: {=IFERROR(IF(TODAY()=INDEX(Calc!$T$3:$T$32,MATCH(SMALL(IF(Calc!$S$3:$S$32<>"",Calc!$L$3:$L$32,""),C31),Calc!$L$3:$L$32,0),1),"Today!",""),"")}
C32: 10 | D32: {=IFERROR(INDEX(Calc!$S$3:$S$32,MATCH(SMALL(IF(Calc!$S$3:$S$32<>"",Calc!$L$3:$L$32,""),C32),Calc!$L$3:$L$32,0),1),"")} | E32: {=IFERROR(IF(TODAY()=INDEX(Calc!$T$3:$T$32,MATCH(SMALL(IF(Calc!$S$3:$S$32<>"",Calc!$L$3:$L$32,""),C32),Calc!$L$3:$L$32,0),1),"Today!",""),"")}
C33: … | D33: =IF(Calc!S1>10," There is " &Calc!S1-10 & " reminders this week! For details check Weekly View","")

Sheet EventsList
C2: TIME BLOCKING TEMPLATE
C3: EVENTS LIST
C6: Event Name | D6: Start Date | E6: End date optional | F6: Start Time | G6: End Time | H6: Event Type | I6: Importance | J6: Link / Phone | K6: Contact person | L6: Notes | M6: Notify Me | N6: Weekday | O6: Overlap warning
C7: Meeting with John | D7: 45063 | H7: Meeting | I7: High | K7: John Smith | L7: Bring project files | M7: Yes | N7: =IF(ISNUMBER(D7),LEFT(INDEX(weekDays,WEEKDAY(D7,weekOffset+1),1),3),"") -> Wed | O7: =INDEX(Calc!$AC$3:$AC$1002,ROW()-ROW($O$6),1)
C8: Team Call | D8: 45060 | F8: 0.60416667 | G8: 0.625 | H8: Call | I8: Medium | L8: Discuss project updates | M8: Yes | N8: =IF(ISNUMBER(D8),LEFT(INDEX(weekDays,WEEKDAY(D8,weekOffset+1),1),3),"") -> Sun | O8: =INDEX(Calc!$AC$3:$AC$1002,ROW()-ROW($O$6),1) -> 2 more events overlaping
C9: Birthday Party | D9: 45060 | F9: 0.58333333 | G9: 0.64583333 | H9: Birthday | I9: Low | L9: Bring a gift | M9: Yes | N9: =IF(ISNUMBER(D9),LEFT(INDEX(weekDays,WEEKDAY(D9,weekOffset+1),1),3),"") -> Sun | O9: =INDEX(Calc!$AC$3:$AC$1002,ROW()-ROW($O$6),1)
C10: Bank Holiday | D10: 45065 | H10: Reminder | I10: High | L10: Office closed | M10: Yes | N10: =IF(ISNUMBER(D10),LEFT(INDEX(weekDays,WEEKDAY(D10,weekOffset+1),1),3),"") -> Fri | O10: =INDEX(Calc!$AC$3:$AC$1002,ROW()-ROW($O$6),1)
C11: Day Off | D11: 45066 | H11: Day off | I11: Medium | L11: Relax and unwind | M11: No | N11: =IF(ISNUMBER(D11),LEFT(INDEX(weekDays,WEEKDAY(D11,weekOffset+1),1),3),"") -> Sat | O11: =INDEX(Calc!$AC$3:$AC$1002,ROW()-ROW($O$6),1)
C12: Reminder: Dentist | D12: 45062 | F12: 0.41666667 | G12: 0.5 | H12: Reminder | L12: Confirm appointment | M12: Yes | N12: =IF(ISNUMBER(D12),LEFT(INDEX(weekDays,WEEKDAY(D12,weekOffset+1),1),3),"") -> Tue | O12: =INDEX(Calc!$AC$3:$AC$1002,ROW()-ROW($O$6),1)
C13: Meeting with Lisa | D13: 45061 | F13: 0.47916667 | G13: 0.52083333 | H13: Meeting | I13: High | K13: Lisa Johnson | L13: Discuss new project | M13: Yes | N13: =IF(ISNUMBER(D13),LEFT(INDEX(weekDays,WEEKDAY(D13,weekOffset+1),1),3),"") -> Mon | O13: =INDEX(Calc!$AC$3:$AC$1002,ROW()-ROW($O$6),1)
C14: Conference Call | D14: 45065 | F14: 0.625 | G14: 0.66666667 | H14: Call | I14: Medium | L14: Review quarterly goals | M14: No | N14: =IF(ISNUMBER(D14),LEFT(INDEX(weekDays,WEEKDAY(D14,weekOffset+1),1),3),"") -> Fri | O14: =INDEX(Calc!$AC$3:$AC$1002,ROW()-ROW($O$6),1) -> 2 more events overlaping
C15: Lunch with Sarah | D15: 45074 | F15: 0.52083333 | G15: 0.5625 | H15: Meeting | K15: Sarah Davis | L15: Discuss upcoming event | M15: Yes | N15: =IF(ISNUMBER(D15),LEFT(INDEX(weekDays,WEEKDAY(D15,weekOffset+1),1),3),"") -> Sun | O15: =INDEX(Calc!$AC$3:$AC$1002,ROW()-ROW($O$6),1)
C16: Family Gathering | D16: 45075 | E16: 45078 | H16: Reminder | I16: High | L16: RSVP and bring a dish | M16: Yes | N16: =IF(ISNUMBER(D16),LEFT(INDEX(weekDays,WEEKDAY(D16,weekOffset+1),1),3),"") -> Mon | O16: =INDEX(Calc!$AC$3:$AC$1002,ROW()-ROW($O$6),1)
C17: Meeting with Mark | D17: 45078 | F17: 0.39583333 | G17: 0.4375 | H17: Meeting | I17: Medium | K17: Mark Thompson | L17: Share project updates | M17: Yes | N17: =IF(ISNUMBER(D17),LEFT(INDEX(weekDays,WEEKDAY(D17,weekOffset+1),1),3),"") -> Thu | O17: =INDEX(Calc!$AC$3:$AC$1002,ROW()-ROW($O$6),1) -> 2 more events overlaping
C18: Call with Client | D18: 45080 | F18: 0.66666667 | G18: 0.6875 | H18: Call | I18: High | L18: Discuss contract details | M18: Yes | N18: =IF(ISNUMBER(D18),LEFT(INDEX(weekDays,WEEKDAY(D18,weekOffset+1),1),3),"") -> Sat | O18: =INDEX(Calc!$AC$3:$AC$1002,ROW()-ROW($O$6),1)
C19: Team Building | D19: 45081 | E19: 45084 | H19: Meeting | I19: Medium | L19: Prepare team activities | M19: No | N19: =IF(ISNUMBER(D19),LEFT(INDEX(weekDays,WEEKDAY(D19,weekOffset+1),1),3),"") -> Sun | O19: =INDEX(Calc!$AC$3:$AC$1002,ROW()-ROW($O$6),1)
C20: Birthday Celebration | D20: 45085 | E20: 45087 | H20: Birthday | I20: Low | L20: Buy a gift and send wishes | M20: Yes | N20: =IF(ISNUMBER(D20),LEFT(INDEX(weekDays,WEEKDAY(D20,weekOffset+1),1),3),"") -> Thu | O20: =INDEX(Calc!$AC$3:$AC$1002,ROW()-ROW($O$6),1)
C21: Bank Holiday | D21: 45088 | E21: 45089 | H21: Day off | I21: High | L21: Office closed | M21: No | N21: =IF(ISNUMBER(D21),LEFT(INDEX(weekDays,WEEKDAY(D21,weekOffset+1),1),3),"") -> Sun | O21: =INDEX(Calc!$AC$3:$AC$1002,ROW()-ROW($O$6),1)
C22: Day Off | D22: 45090 | E22: 45097 | H22: Day off | I22: Medium | L22: Relax and unwind | M22: No | N22: =IF(ISNUMBER(D22),LEFT(INDEX(weekDays,WEEKDAY(D22,weekOffset+1),1),3),"") -> Tue | O22: =INDEX(Calc!$AC$3:$AC$1002,ROW()-ROW($O$6),1)
C23: Meeting with Alex | D23: 45090 | F23: 0.58333333 | G23: 0.6875 | H23: Meeting | I23: High | K23: Alex Turner | L23: Discuss marketing strategy | M23: Yes | N23: =IF(ISNUMBER(D23),LEFT(INDEX(weekDays,WEEKDAY(D23,weekOffset+1),1),3),"") -> Tue | O23: =INDEX(Calc!$AC$3:$AC$1002,ROW()-ROW($O$6),1) -> 2 more events overlaping
C24: Call with Supplier | D24: 45078 | F24: 0.47916667 | G24: 0.5 | H24: Call | I24: Medium | M24: No | N24: =IF(ISNUMBER(D24),LEFT(INDEX(weekDays,WEEKDAY(D24,weekOffset+1),1),3),"") -> Thu | O24: =INDEX(Calc!$AC$3:$AC$1002,ROW()-ROW($O$6),1) -> 2 more events overlaping
C25: Project Deadline | D25: 45067 | E25: 45067 | H25: Reminder | I25: High | L25: Submit final report | M25: Yes | N25: =IF(ISNUMBER(D25),LEFT(INDEX(weekDays,WEEKDAY(D25,weekOffset+1),1),3),"") -> Sun | O25: =INDEX(Calc!$AC$3:$AC$1002,ROW()-ROW($O$6),1)
C26: Team Lunch | D26: 45068 | F26: 0.5 | G26: 0.54166667 | H26: Meeting | I26: Medium | L26: Discuss upcoming plans | M26: Yes | N26: =IF(ISNUMBER(D26),LEFT(INDEX(weekDays,WEEKDAY(D26,weekOffset+1),1),3),"") -> Mon | O26: =INDEX(Calc!$AC$3:$AC$1002,ROW()-ROW($O$6),1)
C27: Training Session | D27: 45069 | E27: 45071 | F27: 0.375 | G27: 0.70833333 | H27: Meeting | I27: High | L27: Learn new skills | M27: Yes | N27: =IF(ISNUMBER(D27),LEFT(INDEX(weekDays,WEEKDAY(D27,weekOffset+1),1),3),"") -> Tue | O27: =INDEX(Calc!$AC$3:$AC$1002,ROW()-ROW($O$6),1) -> 1 event overlap
C28: Conference | D28: 45070 | E28: 45072 | H28: Reminder | I28: Low | L28: Prepare presentation | M28: No | N28: =IF(ISNUMBER(D28),LEFT(INDEX(weekDays,WEEKDAY(D28,weekOffset+1),1),3),"") -> Wed | O28: =INDEX(Calc!$AC$3:$AC$1002,ROW()-ROW($O$6),1) -> 1 event overlap
C29: Call with Supplier | D29: 45072 | F29: 0.64583333 | G29: 0.66666667 | H29: Call | I29: Medium | L29: Discuss pricing | M29: Yes | N29: =IF(ISNUMBER(D29),LEFT(INDEX(weekDays,WEEKDAY(D29,weekOffset+1),1),3),"") -> Fri | O29: =INDEX(Calc!$AC$3:$AC$1002,ROW()-ROW($O$6),1) -> 2 more events overlaping
C30: Family BBQ | D30: 45073 | H30: Reminder | I30: High | L30: Bring side dish | M30: Yes | N30: =IF(ISNUMBER(D30),LEFT(INDEX(weekDays,WEEKDAY(D30,weekOffset+1),1),3),"") -> Sat | O30: =INDEX(Calc!$AC$3:$AC$1002,ROW()-ROW($O$6),1)
C31: Meeting with David | D31: 45074 | F31: 0.45833333 | G31: 0.5 | H31: Meeting | I31: Low | K31: David Wilson | L31: Finalize project details | M31: Yes | N31: =IF(ISNUMBER(D31),LEFT(INDEX(weekDays,WEEKDAY(D31,weekOffset+1),1),3),"") -> Sun | O31: =INDEX(Calc!$AC$3:$AC$1002,ROW()-ROW($O$6),1)
N32: =IF(ISNUMBER(D32),LEFT(INDEX(weekDays,WEEKDAY(D32,weekOffset+1),1),3),"") | O32: =INDEX(Calc!$AC$3:$AC$1002,ROW()-ROW($O$6),1)
N33: =IF(ISNUMBER(D33),LEFT(INDEX(weekDays,WEEKDAY(D33,weekOffset+1),1),3),"") | O33: =INDEX(Calc!$AC$3:$AC$1002,ROW()-ROW($O$6),1)
N34: =IF(ISNUMBER(D34),LEFT(INDEX(weekDays,WEEKDAY(D34,weekOffset+1),1),3),"") | O34: =INDEX(Calc!$AC$3:$AC$1002,ROW()-ROW($O$6),1)
N35: =IF(ISNUMBER(D35),LEFT(INDEX(weekDays,WEEKDAY(D35,weekOffset+1),1),3),"") | O35: =INDEX(Calc!$AC$3:$AC$1002,ROW()-ROW($O$6),1)
N36: =IF(ISNUMBER(D36),LEFT(INDEX(weekDays,WEEKDAY(D36,weekOffset+1),1),3),"") | O36: =INDEX(Calc!$AC$3:$AC$1002,ROW()-ROW($O$6),1)

Sheet WeeklyView
E2: TIME BLOCKING TEMPLATE
E3: WEEKLY VIEW
F6: Year | I6: 2023 | L6: Week | O6: This Week | R6: Importance | U6: Show all
F8: =INDEX(weekDays,1,1) -> Monday | I8: =INDEX(weekDays,2,1) -> Tuesday | L8: =INDEX(weekDays,3,1) -> Wednesday | O8: =INDEX(weekDays,4,1) -> Thursday | R8: =INDEX(weekDays,5,1) -> Friday | U8: =INDEX(weekDays,6,1) -> Saturday | X8: =INDEX(weekDays,7,1) -> Sunday
C9: 0.33333333 | E9: =INDEX(day_1,ROW()-ROW($F$8),2) | F9: =INDEX(day_1,ROW()-ROW($F$8),1) | H9: =INDEX(day_2,ROW()-ROW($I$8),2) | I9: =INDEX(day_2,ROW()-ROW($F$8),1) | K9: =INDEX(day_3,ROW()-ROW($L$8),2) | L9: =INDEX(day_3,ROW()-ROW($F$8),1) | N9: =INDEX(day_4,ROW()-ROW($O$8),2) | O9: =INDEX(day_4,ROW()-ROW($F$8),1) | Q9: =INDEX(day_5,ROW()-ROW($R$8),2) | R9: =INDEX(day_5,ROW()-ROW($F$8),1) | T9: =INDEX(day_6,ROW()-ROW($U$8),2) | U9: =INDEX(day_6,ROW()-ROW($F$8),1) | W9: =INDEX(day_7,ROW()-ROW($X$8),2) | X9: =INDEX(day_7,ROW()-ROW($F$8),1)
C10: =IF(C9>TIME(23,30,0),"",C9+step) -> 0.35416667 | E10: =INDEX(day_1,ROW()-ROW($F$8),2) | F10: =INDEX(day_1,ROW()-ROW($F$8),1) | H10: =INDEX(day_2,ROW()-ROW($I$8),2) | I10: =INDEX(day_2,ROW()-ROW($F$8),1) | K10: =INDEX(day_3,ROW()-ROW($L$8),2) | L10: =INDEX(day_3,ROW()-ROW($F$8),1) | N10: =INDEX(day_4,ROW()-ROW($O$8),2) | O10: =INDEX(day_4,ROW()-ROW($F$8),1) | Q10: =INDEX(day_5,ROW()-ROW($R$8),2) | R10: =INDEX(day_5,ROW()-ROW($F$8),1) | T10: =INDEX(day_6,ROW()-ROW($U$8),2) | U10: =INDEX(day_6,ROW()-ROW($F$8),1) | W10: =INDEX(day_7,ROW()-ROW($X$8),2) | X10: =INDEX(day_7,ROW()-ROW($F$8),1)
C11: =IF(C10>TIME(23,30,0),"",C10+step) -> 0.375 | E11: =INDEX(day_1,ROW()-ROW($F$8),2) | F11: =INDEX(day_1,ROW()-ROW($F$8),1) | H11: =INDEX(day_2,ROW()-ROW($I$8),2) | I11: =INDEX(day_2,ROW()-ROW($F$8),1) | K11: =INDEX(day_3,ROW()-ROW($L$8),2) | L11: =INDEX(day_3,ROW()-ROW($F$8),1) | N11: =INDEX(day_4,ROW()-ROW($O$8),2) | O11: =INDEX(day_4,ROW()-ROW($F$8),1) | Q11: =INDEX(day_5,ROW()-ROW($R$8),2) | R11: =INDEX(day_5,ROW()-ROW($F$8),1) | T11: =INDEX(day_6,ROW()-ROW($U$8),2) | U11: =INDEX(day_6,ROW()-ROW($F$8),1) | W11: =INDEX(day_7,ROW()-ROW($X$8),2) | X11: =INDEX(day_7,ROW()-ROW($F$8),1)
C12: =IF(C11>TIME(23,30,0),"",C11+step) -> 0.39583333 | E12: =INDEX(day_1,ROW()-ROW($F$8),2) | F12: =INDEX(day_1,ROW()-ROW($F$8),1) | H12: =INDEX(day_2,ROW()-ROW($I$8),2) | I12: =INDEX(day_2,ROW()-ROW($F$8),1) | K12: =INDEX(day_3,ROW()-ROW($L$8),2) | L12: =INDEX(day_3,ROW()-ROW($F$8),1) | N12: =INDEX(day_4,ROW()-ROW($O$8),2) | O12: =INDEX(day_4,ROW()-ROW($F$8),1) | Q12: =INDEX(day_5,ROW()-ROW($R$8),2) | R12: =INDEX(day_5,ROW()-ROW($F$8),1) | T12: =INDEX(day_6,ROW()-ROW($U$8),2) | U12: =INDEX(day_6,ROW()-ROW($F$8),1) | W12: =INDEX(day_7,ROW()-ROW($X$8),2) | X12: =INDEX(day_7,ROW()-ROW($F$8),1)
C13: =IF(C12>TIME(23,30,0),"",C12+step) -> 0.41666667 | E13: =INDEX(day_1,ROW()-ROW($F$8),2) | F13: =INDEX(day_1,ROW()-ROW($F$8),1) | H13: =INDEX(day_2,ROW()-ROW($I$8),2) | I13: =INDEX(day_2,ROW()-ROW($F$8),1) | K13: =INDEX(day_3,ROW()-ROW($L$8),2) | L13: =INDEX(day_3,ROW()-ROW($F$8),1) | N13: =INDEX(day_4,ROW()-ROW($O$8),2) | O13: =INDEX(day_4,ROW()-ROW($F$8),1) | Q13: =INDEX(day_5,ROW()-ROW($R$8),2) | R13: =INDEX(day_5,ROW()-ROW($F$8),1) | T13: =INDEX(day_6,ROW()-ROW($U$8),2) | U13: =INDEX(day_6,ROW()-ROW($F$8),1) | W13: =INDEX(day_7,ROW()-ROW($X$8),2) | X13: =INDEX(day_7,ROW()-ROW($F$8),1)
C14: =IF(C13>TIME(23,30,0),"",C13+step) -> 0.4375 | E14: =INDEX(day_1,ROW()-ROW($F$8),2) | F14: =INDEX(day_1,ROW()-ROW($F$8),1) | H14: =INDEX(day_2,ROW()-ROW($I$8),2) | I14: =INDEX(day_2,ROW()-ROW($F$8),1) | K14: =INDEX(day_3,ROW()-ROW($L$8),2) | L14: =INDEX(day_3,ROW()-ROW($F$8),1) | N14: =INDEX(day_4,ROW()-ROW($O$8),2) | O14: =INDEX(day_4,ROW()-ROW($F$8),1) | Q14: =INDEX(day_5,ROW()-ROW($R$8),2) | R14: =INDEX(day_5,ROW()-ROW($F$8),1) | T14: =INDEX(day_6,ROW()-ROW($U$8),2) | U14: =INDEX(day_6,ROW()-ROW($F$8),1) | W14: =INDEX(day_7,ROW()-ROW($X$8),2) | X14: =INDEX(day_7,ROW()-ROW($F$8),1)
C15: =IF(C14>TIME(23,30,0),"",C14+step) -> 0.45833333 | E15: =INDEX(day_1,ROW()-ROW($F$8),2) | F15: =INDEX(day_1,ROW()-ROW($F$8),1) | H15: =INDEX(day_2,ROW()-ROW($I$8),2) | I15: =INDEX(day_2,ROW()-ROW($F$8),1) | K15: =INDEX(day_3,ROW()-ROW($L$8),2) | L15: =INDEX(day_3,ROW()-ROW($F$8),1) | N15: =INDEX(day_4,ROW()-ROW($O$8),2) | O15: =INDEX(day_4,ROW()-ROW($F$8),1) | Q15: =INDEX(day_5,ROW()-ROW($R$8),2) | R15: =INDEX(day_5,ROW()-ROW($F$8),1) | T15: =INDEX(day_6,ROW()-ROW($U$8),2) | U15: =INDEX(day_6,ROW()-ROW($F$8),1) | W15: =INDEX(day_7,ROW()-ROW($X$8),2) | X15: =INDEX(day_7,ROW()-ROW($F$8),1)
C16: =IF(C15>TIME(23,30,0),"",C15+step) -> 0.47916667 | E16: =INDEX(day_1,ROW()-ROW($F$8),2) | F16: =INDEX(day_1,ROW()-ROW($F$8),1) | H16: =INDEX(day_2,ROW()-ROW($I$8),2) | I16: =INDEX(day_2,ROW()-ROW($F$8),1) | K16: =INDEX(day_3,ROW()-ROW($L$8),2) | L16: =INDEX(day_3,ROW()-ROW($F$8),1) | N16: =INDEX(day_4,ROW()-ROW($O$8),2) | O16: =INDEX(day_4,ROW()-ROW($F$8),1) | Q16: =INDEX(day_5,ROW()-ROW($R$8),2) | R16: =INDEX(day_5,ROW()-ROW($F$8),1) | T16: =INDEX(day_6,ROW()-ROW($U$8),2) | U16: =INDEX(day_6,ROW()-ROW($F$8),1) | W16: =INDEX(day_7,ROW()-ROW($X$8),2) | X16: =INDEX(day_7,ROW()-ROW($F$8),1)
C17: =IF(C16>TIME(23,30,0),"",C16+step) -> 0.5 | E17: =INDEX(day_1,ROW()-ROW($F$8),2) | F17: =INDEX(day_1,ROW()-ROW($F$8),1) | H17: =INDEX(day_2,ROW()-ROW($I$8),2) | I17: =INDEX(day_2,ROW()-ROW($F$8),1) | K17: =INDEX(day_3,ROW()-ROW($L$8),2) | L17: =INDEX(day_3,ROW()-ROW($F$8),1) | N17: =INDEX(day_4,ROW()-ROW($O$8),2) | O17: =INDEX(day_4,ROW()-ROW($F$8),1) | Q17: =INDEX(day_5,ROW()-ROW($R$8),2) | R17: =INDEX(day_5,ROW()-ROW($F$8),1) | T17: =INDEX(day_6,ROW()-ROW($U$8),2) | U17: =INDEX(day_6,ROW()-ROW($F$8),1) | W17: =INDEX(day_7,ROW()-ROW($X$8),2) | X17: =INDEX(day_7,ROW()-ROW($F$8),1)
C18: =IF(C17>TIME(23,30,0),"",C17+step) -> 0.52083333 | E18: =INDEX(day_1,ROW()-ROW($F$8),2) | F18: =INDEX(day_1,ROW()-ROW($F$8),1) | H18: =INDEX(day_2,ROW()-ROW($I$8),2) | I18: =INDEX(day_2,ROW()-ROW($F$8),1) | K18: =INDEX(day_3,ROW()-ROW($L$8),2) | L18: =INDEX(day_3,ROW()-ROW($F$8),1) | N18: =INDEX(day_4,ROW()-ROW($O$8),2) | O18: =INDEX(day_4,ROW()-ROW($F$8),1) | Q18: =INDEX(day_5,ROW()-ROW($R$8),2) | R18: =INDEX(day_5,ROW()-ROW($F$8),1) | T18: =INDEX(day_6,ROW()-ROW($U$8),2) | U18: =INDEX(day_6,ROW()-ROW($F$8),1) | W18: =INDEX(day_7,ROW()-ROW($X$8),2) | X18: =INDEX(day_7,ROW()-ROW($F$8),1)
C19: =IF(C18>TIME(23,30,0),"",C18+step) -> 0.54166667 | E19: =INDEX(day_1,ROW()-ROW($F$8),2) | F19: =INDEX(day_1,ROW()-ROW($F$8),1) | H19: =INDEX(day_2,ROW()-ROW($I$8),2) | I19: =INDEX(day_2,ROW()-ROW($F$8),1) | K19: =INDEX(day_3,ROW()-ROW($L$8),2) | L19: =INDEX(day_3,ROW()-ROW($F$8),1) | N19: =INDEX(day_4,ROW()-ROW($O$8),2) | O19: =INDEX(day_4,ROW()-ROW($F$8),1) | Q19: =INDEX(day_5,ROW()-ROW($R$8),2) | R19: =INDEX(day_5,ROW()-ROW($F$8),1) | T19: =INDEX(day_6,ROW()-ROW($U$8),2) | U19: =INDEX(day_6,ROW()-ROW($F$8),1) | W19: =INDEX(day_7,ROW()-ROW($X$8),2) | X19: =INDEX(day_7,ROW()-ROW($F$8),1)
C20: =IF(C19>TIME(23,30,0),"",C19+step) -> 0.5625 | E20: =INDEX(day_1,ROW()-ROW($F$8),2) | F20: =INDEX(day_1,ROW()-ROW($F$8),1) | H20: =INDEX(day_2,ROW()-ROW($I$8),2) | I20: =INDEX(day_2,ROW()-ROW($F$8),1) | K20: =INDEX(day_3,ROW()-ROW($L$8),2) | L20: =INDEX(day_3,ROW()-ROW($F$8),1) | N20: =INDEX(day_4,ROW()-ROW($O$8),2) | O20: =INDEX(day_4,ROW()-ROW($F$8),1) | Q20: =INDEX(day_5,ROW()-ROW($R$8),2) | R20: =INDEX(day_5,ROW()-ROW($F$8),1) | T20: =INDEX(day_6,ROW()-ROW($U$8),2) | U20: =INDEX(day_6,ROW()-ROW($F$8),1) | W20: =INDEX(day_7,ROW()-ROW($X$8),2) | X20: =INDEX(day_7,ROW()-ROW($F$8),1)
C21: =IF(C20>TIME(23,30,0),"",C20+step) -> 0.58333333 | E21: =INDEX(day_1,ROW()-ROW($F$8),2) | F21: =INDEX(day_1,ROW()-ROW($F$8),1) | H21: =INDEX(day_2,ROW()-ROW($I$8),2) | I21: =INDEX(day_2,ROW()-ROW($F$8),1) | K21: =INDEX(day_3,ROW()-ROW($L$8),2) | L21: =INDEX(day_3,ROW()-ROW($F$8),1) | N21: =INDEX(day_4,ROW()-ROW($O$8),2) | O21: =INDEX(day_4,ROW()-ROW($F$8),1) | Q21: =INDEX(day_5,ROW()-ROW($R$8),2) | R21: =INDEX(day_5,ROW()-ROW($F$8),1) | T21: =INDEX(day_6,ROW()-ROW($U$8),2) | U21: =INDEX(day_6,ROW()-ROW($F$8),1) | W21: =INDEX(day_7,ROW()-ROW($X$8),2) | X21: =INDEX(day_7,ROW()-ROW($F$8),1)
... C56: =IF(C55>TIME(23,30,0),"",C55+step) | E56: =INDEX(day_1,ROW()-ROW($F$8),2) | F56: =INDEX(day_1,ROW()-ROW($F$8),1) | H56: =INDEX(day_2,ROW()-ROW($I$8),2) | I56: =INDEX(day_2,ROW()-ROW($F$8),1) | K56: =INDEX(day_3,ROW()-ROW($L$8),2) | L56: =INDEX(day_3,ROW()-ROW($F$8),1) | N56: =INDEX(day_4,ROW()-ROW($O$8),2) | O56: =INDEX(day_4,ROW()-ROW($F$8),1) | Q56: =INDEX(day_5,ROW()-ROW($R$8),2) | R56: =INDEX(day_5,ROW()-ROW($F$8),1) | T56: =INDEX(day_6,ROW()-ROW($U$8),2) | U56: =INDEX(day_6,ROW()-ROW($F$8),1) | W56: =INDEX(day_7,ROW()-ROW($X$8),2) | X56: =INDEX(day_7,ROW()-ROW($F$8),1)

Sheet MonthView
D2: TIME BLOCKING TEMPLATE
D3: MONTH VIEW
D6: Year | G6: 2023 | J6: Month | M6: May
D8: =INDEX(weekDays,1,1) -> Monday | G8: =INDEX(weekDays,2,1) -> Tuesday | J8: =INDEX(weekDays,3,1) -> Wednesday | M8: =INDEX(weekDays,4,1) -> Thursday | P8: =INDEX(weekDays,5,1) -> Friday | S8: =INDEX(weekDays,6,1) -> Saturday | V8: =INDEX(weekDays,7,1) -> Sunday
D9: =IFERROR(IF(DAY(G9)=1,"",G9-1),"") -> 45047 | G9: =IFERROR(IF(DAY(J9)=1,"",J9-1),"") -> 45048 | J9: =IFERROR(IF(DAY(M9)=1,"",M9-1),"") -> 45049 | M9: =IFERROR(IF(DAY(P9)=1,"",P9-1),"") -> 45050 | P9: =IFERROR(IF(DAY(S9)=1,"",S9-1),"") -> 45051 | S9: =IFERROR(IF(DAY(V9)=1,"",V9-1),"") -> 45052 | V9: =IF((COLUMN()-1)/2<monthOffset,"",OFFSET(monthFirst,0,(COLUMN()-1)/3-monthOffset,1,1)) -> 45053
C10: =IF(D$9="","",OFFSET(monthFirst,16+ROW()-ROW(D$9),DAY(D$9)-1,1,1)) | D10: =IF(D$9="","",OFFSET(monthFirst,ROW()-ROW(D$9),DAY(D$9)-1,1,1)) | F10: =IF(G$9="","",OFFSET(monthFirst,16+ROW()-ROW(G$9),DAY(G$9)-1,1,1)) | G10: =IF(G$9="","",OFFSET(monthFirst,ROW()-ROW(G$9),DAY(G$9)-1,1,1)) | I10: =IF(J$9="","",OFFSET(monthFirst,16+ROW()-ROW(J$9),DAY(J$9)-1,1,1)) | J10: =IF(J$9="","",OFFSET(monthFirst,ROW()-ROW(J$9),DAY(J$9)-1,1,1)) | L10: =IF(M$9="","",OFFSET(monthFirst,16+ROW()-ROW(M$9),DAY(M$9)-1,1,1)) | M10: =IF(M$9="","",OFFSET(monthFirst,ROW()-ROW(M$9),DAY(M$9)-1,1,1)) | O10: =IF(P$9="","",OFFSET(monthFirst,16+ROW()-ROW(P$9),DAY(P$9)-1,1,1)) | P10: =IF(P$9="","",OFFSET(monthFirst,ROW()-ROW(P$9),DAY(P$9)-1,1,1)) | R10: =IF(S$9="","",OFFSET(monthFirst,16+ROW()-ROW(S$9),DAY(S$9)-1,1,1)) | S10: =IF(S$9="","",OFFSET(monthFirst,ROW()-ROW(S$9),DAY(S$9)-1,1,1)) | U10: =IF(V$9="","",OFFSET(monthFirst,16+ROW()-ROW(V$9),DAY(V$9)-1,1,1)) | V10: =IF(V$9="","",OFFSET(monthFirst,ROW()-ROW(V$9),DAY(V$9)-1,1,1))
C11: =IF(D$9="","",OFFSET(monthFirst,16+ROW()-ROW(D$9),DAY(D$9)-1,1,1)) | D11: =IF(D$9="","",OFFSET(monthFirst,ROW()-ROW(D$9),DAY(D$9)-1,1,1)) | F11: =IF(G$9="","",OFFSET(monthFirst,16+ROW()-ROW(G$9),DAY(G$9)-1,1,1)) | G11: =IF(G$9="","",OFFSET(monthFirst,ROW()-ROW(G$9),DAY(G$9)-1,1,1)) | I11: =IF(J$9="","",OFFSET(monthFirst,16+ROW()-ROW(J$9),DAY(J$9)-1,1,1)) | J11: =IF(J$9="","",OFFSET(monthFirst,ROW()-ROW(J$9),DAY(J$9)-1,1,1)) | L11: =IF(M$9="","",OFFSET(monthFirst,16+ROW()-ROW(M$9),DAY(M$9)-1,1,1)) | M11: =IF(M$9="","",OFFSET(monthFirst,ROW()-ROW(M$9),DAY(M$9)-1,1,1)) | O11: =IF(P$9="","",OFFSET(monthFirst,16+ROW()-ROW(P$9),DAY(P$9)-1,1,1)) | P11: =IF(P$9="","",OFFSET(monthFirst,ROW()-ROW(P$9),DAY(P$9)-1,1,1)) | R11: =IF(S$9="","",OFFSET(monthFirst,16+ROW()-ROW(S$9),DAY(S$9)-1,1,1)) | S11: =IF(S$9="","",OFFSET(monthFirst,ROW()-ROW(S$9),DAY(S$9)-1,1,1)) | U11: =IF(V$9="","",OFFSET(monthFirst,16+ROW()-ROW(V$9),DAY(V$9)-1,1,1)) | V11: =IF(V$9="","",OFFSET(monthFirst,ROW()-ROW(V$9),DAY(V$9)-1,1,1))
C12: =IF(D$9="","",OFFSET(monthFirst,16+ROW()-ROW(D$9),DAY(D$9)-1,1,1)) | D12: =IF(D$9="","",OFFSET(monthFirst,ROW()-ROW(D$9),DAY(D$9)-1,1,1)) | F12: =IF(G$9="","",OFFSET(monthFirst,16+ROW()-ROW(G$9),DAY(G$9)-1,1,1)) | G12: =IF(G$9="","",OFFSET(monthFirst,ROW()-ROW(G$9),DAY(G$9)-1,1,1)) | I12: =IF(J$9="","",OFFSET(monthFirst,16+ROW()-ROW(J$9),DAY(J$9)-1,1,1)) | J12: =IF(J$9="","",OFFSET(monthFirst,ROW()-ROW(J$9),DAY(J$9)-1,1,1)) | L12: =IF(M$9="","",OFFSET(monthFirst,16+ROW()-ROW(M$9),DAY(M$9)-1,1,1)) | M12: =IF(M$9="","",OFFSET(monthFirst,ROW()-ROW(M$9),DAY(M$9)-1,1,1)) | O12: =IF(P$9="","",OFFSET(monthFirst,16+ROW()-ROW(P$9),DAY(P$9)-1,1,1)) | P12: =IF(P$9="","",OFFSET(monthFirst,ROW()-ROW(P$9),DAY(P$9)-1,1,1)) | R12: =IF(S$9="","",OFFSET(monthFirst,16+ROW()-ROW(S$9),DAY(S$9)-1,1,1)) | S12: =IF(S$9="","",OFFSET(monthFirst,ROW()-ROW(S$9),DAY(S$9)-1,1,1)) | U12: =IF(V$9="","",OFFSET(monthFirst,16+ROW()-ROW(V$9),DAY(V$9)-1,1,1)) | V12: =IF(V$9="","",OFFSET(monthFirst,ROW()-ROW(V$9),DAY(V$9)-1,1,1))
C13: =IF(D$9="","",OFFSET(monthFirst,16+ROW()-ROW(D$9),DAY(D$9)-1,1,1)) | D13: =IF(D$9="","",OFFSET(monthFirst,ROW()-ROW(D$9),DAY(D$9)-1,1,1)) | F13: =IF(G$9="","",OFFSET(monthFirst,16+ROW()-ROW(G$9),DAY(G$9)-1,1,1)) | G13: =IF(G$9="","",OFFSET(monthFirst,ROW()-ROW(G$9),DAY(G$9)-1,1,1)) | I13: =IF(J$9="","",OFFSET(monthFirst,16+ROW()-ROW(J$9),DAY(J$9)-1,1,1)) | J13: =IF(J$9="","",OFFSET(monthFirst,ROW()-ROW(J$9),DAY(J$9)-1,1,1)) | L13: =IF(M$9="","",OFFSET(monthFirst,16+ROW()-ROW(M$9),DAY(M$9)-1,1,1)) | M13: =IF(M$9="","",OFFSET(monthFirst,ROW()-ROW(M$9),DAY(M$9)-1,1,1)) | O13: =IF(P$9="","",OFFSET(monthFirst,16+ROW()-ROW(P$9),DAY(P$9)-1,1,1)) | P13: =IF(P$9="","",OFFSET(monthFirst,ROW()-ROW(P$9),DAY(P$9)-1,1,1)) | R13: =IF(S$9="","",OFFSET(monthFirst,16+ROW()-ROW(S$9),DAY(S$9)-1,1,1)) | S13: =IF(S$9="","",OFFSET(monthFirst,ROW()-ROW(S$9),DAY(S$9)-1,1,1)) | U13: =IF(V$9="","",OFFSET(monthFirst,16+ROW()-ROW(V$9),DAY(V$9)-1,1,1)) | V13: =IF(V$9="","",OFFSET(monthFirst,ROW()-ROW(V$9),DAY(V$9)-1,1,1))
C14: =IF(D$9="","",OFFSET(monthFirst,16+ROW()-ROW(D$9),DAY(D$9)-1,1,1)) | D14: =IF(D$9="","",OFFSET(monthFirst,ROW()-ROW(D$9),DAY(D$9)-1,1,1)) | F14: =IF(G$9="","",OFFSET(monthFirst,16+ROW()-ROW(G$9),DAY(G$9)-1,1,1)) | G14: =IF(G$9="","",OFFSET(monthFirst,ROW()-ROW(G$9),DAY(G$9)-1,1,1)) | I14: =IF(J$9="","",OFFSET(monthFirst,16+ROW()-ROW(J$9),DAY(J$9)-1,1,1)) | J14: =IF(J$9="","",OFFSET(monthFirst,ROW()-ROW(J$9),DAY(J$9)-1,1,1)) | L14: =IF(M$9="","",OFFSET(monthFirst,16+ROW()-ROW(M$9),DAY(M$9)-1,1,1)) | M14: =IF(M$9="","",OFFSET(monthFirst,ROW()-ROW(M$9),DAY(M$9)-1,1,1)) | O14: =IF(P$9="","",OFFSET(monthFirst,16+ROW()-ROW(P$9),DAY(P$9)-1,1,1)) | P14: =IF(P$9="","",OFFSET(monthFirst,ROW()-ROW(P$9),DAY(P$9)-1,1,1)) | R14: =IF(S$9="","",OFFSET(monthFirst,16+ROW()-ROW(S$9),DAY(S$9)-1,1,1)) | S14: =IF(S$9="","",OFFSET(monthFirst,ROW()-ROW(S$9),DAY(S$9)-1,1,1)) | U14: =IF(V$9="","",OFFSET(monthFirst,16+ROW()-ROW(V$9),DAY(V$9)-1,1,1)) | V14: =IF(V$9="","",OFFSET(monthFirst,ROW()-ROW(V$9),DAY(V$9)-1,1,1))
C15: =IF(D$9="","",OFFSET(monthFirst,16+ROW()-ROW(D$9),DAY(D$9)-1,1,1)) | D15: =IF(D$9="","",OFFSET(monthFirst,ROW()-ROW(D$9),DAY(D$9)-1,1,1)) | F15: =IF(G$9="","",OFFSET(monthFirst,16+ROW()-ROW(G$9),DAY(G$9)-1,1,1)) | G15: =IF(G$9="","",OFFSET(monthFirst,ROW()-ROW(G$9),DAY(G$9)-1,1,1)) | I15: =IF(J$9="","",OFFSET(monthFirst,16+ROW()-ROW(J$9),DAY(J$9)-1,1,1)) | J15: =IF(J$9="","",OFFSET(monthFirst,ROW()-ROW(J$9),DAY(J$9)-1,1,1)) | L15: =IF(M$9="","",OFFSET(monthFirst,16+ROW()-ROW(M$9),DAY(M$9)-1,1,1)) | M15: =IF(M$9="","",OFFSET(monthFirst,ROW()-ROW(M$9),DAY(M$9)-1,1,1)) | O15: =IF(P$9="","",OFFSET(monthFirst,16+ROW()-ROW(P$9),DAY(P$9)-1,1,1)) | P15: =IF(P$9="","",OFFSET(monthFirst,ROW()-ROW(P$9),DAY(P$9)-1,1,1)) | R15: =IF(S$9="","",OFFSET(monthFirst,16+ROW()-ROW(S$9),DAY(S$9)-1,1,1)) | S15: =IF(S$9="","",OFFSET(monthFirst,ROW()-ROW(S$9),DAY(S$9)-1,1,1)) | U15: =IF(V$9="","",OFFSET(monthFirst,16+ROW()-ROW(V$9),DAY(V$9)-1,1,1)) | V15: =IF(V$9="","",OFFSET(monthFirst,ROW()-ROW(V$9),DAY(V$9)-1,1,1))
C16: =IF(D$9="","",OFFSET(monthFirst,16+ROW()-ROW(D$9),DAY(D$9)-1,1,1)) | D16: =IF(D$9="","",OFFSET(monthFirst,ROW()-ROW(D$9),DAY(D$9)-1,1,1)) | F16: =IF(G$9="","",OFFSET(monthFirst,16+ROW()-ROW(G$9),DAY(G$9)-1,1,1)) | G16: =IF(G$9="","",OFFSET(monthFirst,ROW()-ROW(G$9),DAY(G$9)-1,1,1)) | I16: =IF(J$9="","",OFFSET(monthFirst,16+ROW()-ROW(J$9),DAY(J$9)-1,1,1)) | J16: =IF(J$9="","",OFFSET(monthFirst,ROW()-ROW(J$9),DAY(J$9)-1,1,1)) | L16: =IF(M$9="","",OFFSET(monthFirst,16+ROW()-ROW(M$9),DAY(M$9)-1,1,1)) | M16: =IF(M$9="","",OFFSET(monthFirst,ROW()-ROW(M$9),DAY(M$9)-1,1,1)) | O16: =IF(P$9="","",OFFSET(monthFirst,16+ROW()-ROW(P$9),DAY(P$9)-1,1,1)) | P16: =IF(P$9="","",OFFSET(monthFirst,ROW()-ROW(P$9),DAY(P$9)-1,1,1)) | R16: =IF(S$9="","",OFFSET(monthFirst,16+ROW()-ROW(S$9),DAY(S$9)-1,1,1)) | S16: =IF(S$9="","",OFFSET(monthFirst,ROW()-ROW(S$9),DAY(S$9)-1,1,1)) | U16: =IF(V$9="","",OFFSET(monthFirst,16+ROW()-ROW(V$9),DAY(V$9)-1,1,1)) | V16: =IF(V$9="","",OFFSET(monthFirst,ROW()-ROW(V$9),DAY(V$9)-1,1,1))
C17: =IF(D$9="","",OFFSET(monthFirst,16+ROW()-ROW(D$9),DAY(D$9)-1,1,1)) | D17: =IF(D$9="","",OFFSET(monthFirst,ROW()-ROW(D$9),DAY(D$9)-1,1,1)) | F17: =IF(G$9="","",OFFSET(monthFirst,16+ROW()-ROW(G$9),DAY(G$9)-1,1,1)) | G17: =IF(G$9="","",OFFSET(monthFirst,ROW()-ROW(G$9),DAY(G$9)-1,1,1)) | I17: =IF(J$9="","",OFFSET(monthFirst,16+ROW()-ROW(J$9),DAY(J$9)-1,1,1)) | J17: =IF(J$9="","",OFFSET(monthFirst,ROW()-ROW(J$9),DAY(J$9)-1,1,1)) | L17: =IF(M$9="","",OFFSET(monthFirst,16+ROW()-ROW(M$9),DAY(M$9)-1,1,1)) | M17: =IF(M$9="","",OFFSET(monthFirst,ROW()-ROW(M$9),DAY(M$9)-1,1,1)) | O17: =IF(P$9="","",OFFSET(monthFirst,16+ROW()-ROW(P$9),DAY(P$9)-1,1,1)) | P17: =IF(P$9="","",OFFSET(monthFirst,ROW()-ROW(P$9),DAY(P$9)-1,1,1)) | R17: =IF(S$9="","",OFFSET(monthFirst,16+ROW()-ROW(S$9),DAY(S$9)-1,1,1)) | S17: =IF(S$9="","",OFFSET(monthFirst,ROW()-ROW(S$9),DAY(S$9)-1,1,1)) | U17: =IF(V$9="","",OFFSET(monthFirst,16+ROW()-ROW(V$9),DAY(V$9)-1,1,1)) | V17: =IF(V$9="","",OFFSET(monthFirst,ROW()-ROW(V$9),DAY(V$9)-1,1,1))
C18: =IF(D$9="","",OFFSET(monthFirst,16+ROW()-ROW(D$9),DAY(D$9)-1,1,1)) | D18: =IF(D$9="","",OFFSET(monthFirst,ROW()-ROW(D$9),DAY(D$9)-1,1,1)) | F18: =IF(G$9="","",OFFSET(monthFirst,16+ROW()-ROW(G$9),DAY(G$9)-1,1,1)) | G18: =IF(G$9="","",OFFSET(monthFirst,ROW()-ROW(G$9),DAY(G$9)-1,1,1)) | I18: =IF(J$9="","",OFFSET(monthFirst,16+ROW()-ROW(J$9),DAY(J$9)-1,1,1)) | J18: =IF(J$9="","",OFFSET(monthFirst,ROW()-ROW(J$9),DAY(J$9)-1,1,1)) | L18: =IF(M$9="","",OFFSET(monthFirst,16+ROW()-ROW(M$9),DAY(M$9)-1,1,1)) | M18: =IF(M$9="","",OFFSET(monthFirst,ROW()-ROW(M$9),DAY(M$9)-1,1,1)) | O18: =IF(P$9="","",OFFSET(monthFirst,16+ROW()-ROW(P$9),DAY(P$9)-1,1,1)) | P18: =IF(P$9="","",OFFSET(monthFirst,ROW()-ROW(P$9),DAY(P$9)-1,1,1)) | R18: =IF(S$9="","",OFFSET(monthFirst,16+ROW()-ROW(S$9),DAY(S$9)-1,1,1)) | S18: =IF(S$9="","",OFFSET(monthFirst,ROW()-ROW(S$9),DAY(S$9)-1,1,1)) | U18: =IF(V$9="","",OFFSET(monthFirst,16+ROW()-ROW(V$9),DAY(V$9)-1,1,1)) | V18: =IF(V$9="","",OFFSET(monthFirst,ROW()-ROW(V$9),DAY(V$9)-1,1,1))
C19: =IF(D$9="","",OFFSET(monthFirst,16+ROW()-ROW(D$9),DAY(D$9)-1,1,1)) | D19: =IF(D$9="","",OFFSET(monthFirst,ROW()-ROW(D$9),DAY(D$9)-1,1,1)) | F19: =IF(G$9="","",OFFSET(monthFirst,16+ROW()-ROW(G$9),DAY(G$9)-1,1,1)) | G19: =IF(G$9="","",OFFSET(monthFirst,ROW()-ROW(G$9),DAY(G$9)-1,1,1)) | I19: =IF(J$9="","",OFFSET(monthFirst,16+ROW()-ROW(J$9),DAY(J$9)-1,1,1)) | J19: =IF(J$9="","",OFFSET(monthFirst,ROW()-ROW(J$9),DAY(J$9)-1,1,1)) | L19: =IF(M$9="","",OFFSET(monthFirst,16+ROW()-ROW(M$9),DAY(M$9)-1,1,1)) | M19: =IF(M$9="","",OFFSET(monthFirst,ROW()-ROW(M$9),DAY(M$9)-1,1,1)) | O19: =IF(P$9="","",OFFSET(monthFirst,16+ROW()-ROW(P$9),DAY(P$9)-1,1,1)) | P19: =IF(P$9="","",OFFSET(monthFirst,ROW()-ROW(P$9),DAY(P$9)-1,1,1)) | R19: =IF(S$9="","",OFFSET(monthFirst,16+ROW()-ROW(S$9),DAY(S$9)-1,1,1)) | S19: =IF(S$9="","",OFFSET(monthFirst,ROW()-ROW(S$9),DAY(S$9)-1,1,1)) | U19: =IF(V$9="","",OFFSET(monthFirst,16+ROW()-ROW(V$9),DAY(V$9)-1,1,1)) | V19: =IF(V$9="","",OFFSET(monthFirst,ROW()-ROW(V$9),DAY(V$9)-1,1,1))
C20: =IF(D$9="","",OFFSET(monthFirst,16+ROW()-ROW(D$9),DAY(D$9)-1,1,1)) | D20: =IF(D$9="","",OFFSET(monthFirst,ROW()-ROW(D$9),DAY(D$9)-1,1,1)) | F20: =IF(G$9="","",OFFSET(monthFirst,16+ROW()-ROW(G$9),DAY(G$9)-1,1,1)) | G20: =IF(G$9="","",OFFSET(monthFirst,ROW()-ROW(G$9),DAY(G$9)-1,1,1)) | I20: =IF(J$9="","",OFFSET(monthFirst,16+ROW()-ROW(J$9),DAY(J$9)-1,1,1)) | J20: =IF(J$9="","",OFFSET(monthFirst,ROW()-ROW(J$9),DAY(J$9)-1,1,1)) | L20: =IF(M$9="","",OFFSET(monthFirst,16+ROW()-ROW(M$9),DAY(M$9)-1,1,1)) | M20: =IF(M$9="","",OFFSET(monthFirst,ROW()-ROW(M$9),DAY(M$9)-1,1,1)) | O20: =IF(P$9="","",OFFSET(monthFirst,16+ROW()-ROW(P$9),DAY(P$9)-1,1,1)) | P20: =IF(P$9="","",OFFSET(monthFirst,ROW()-ROW(P$9),DAY(P$9)-1,1,1)) | R20: =IF(S$9="","",OFFSET(monthFirst,16+ROW()-ROW(S$9),DAY(S$9)-1,1,1)) | S20: =IF(S$9="","",OFFSET(monthFirst,ROW()-ROW(S$9),DAY(S$9)-1,1,1)) | U20: =IF(V$9="","",OFFSET(monthFirst,16+ROW()-ROW(V$9),DAY(V$9)-1,1,1)) | V20: =IF(V$9="","",OFFSET(monthFirst,ROW()-ROW(V$9),DAY(V$9)-1,1,1))
C21: =IF(D$9="","",OFFSET(monthFirst,16+ROW()-ROW(D$9),DAY(D$9)-1,1,1)) | D21: =IF(D$9="","",OFFSET(monthFirst,ROW()-ROW(D$9),DAY(D$9)-1,1,1)) | F21: =IF(G$9="","",OFFSET(monthFirst,16+ROW()-ROW(G$9),DAY(G$9)-1,1,1)) | G21: =IF(G$9="","",OFFSET(monthFirst,ROW()-ROW(G$9),DAY(G$9)-1,1,1)) | I21: =IF(J$9="","",OFFSET(monthFirst,16+ROW()-ROW(J$9),DAY(J$9)-1,1,1)) | J21: =IF(J$9="","",OFFSET(monthFirst,ROW()-ROW(J$9),DAY(J$9)-1,1,1)) | L21: =IF(M$9="","",OFFSET(monthFirst,16+ROW()-ROW(M$9),DAY(M$9)-1,1,1)) | M21: =IF(M$9="","",OFFSET(monthFirst,ROW()-ROW(M$9),DAY(M$9)-1,1,1)) | O21: =IF(P$9="","",OFFSET(monthFirst,16+ROW()-ROW(P$9),DAY(P$9)-1,1,1)) | P21: =IF(P$9="","",OFFSET(monthFirst,ROW()-ROW(P$9),DAY(P$9)-1,1,1)) | R21: =IF(S$9="","",OFFSET(monthFirst,16+ROW()-ROW(S$9),DAY(S$9)-1,1,1)) | S21: =IF(S$9="","",OFFSET(monthFirst,ROW()-ROW(S$9),DAY(S$9)-1,1,1)) | U21: =IF(V$9="","",OFFSET(monthFirst,16+ROW()-ROW(V$9),DAY(V$9)-1,1,1)) | V21: =IF(V$9="","",OFFSET(monthFirst,ROW()-ROW(V$9),DAY(V$9)-1,1,1))
... C25: =IF(D$9="","",OFFSET(monthFirst,16+ROW()-ROW(D$9),DAY(D$9)-1,1,1)) | D25: =IF(D$9="","",OFFSET(monthFirst,ROW()-ROW(D$9),DAY(D$9)-1,1,1)) | F25: =IF(G$9="","",OFFSET(monthFirst,16+ROW()-ROW(G$9),DAY(G$9)-1,1,1)) | G25: =IF(G$9="","",OFFSET(monthFirst,ROW()-ROW(G$9),DAY(G$9)-1,1,1)) | I25: =IF(J$9="","",OFFSET(monthFirst,16+ROW()-ROW(J$9),DAY(J$9)-1,1,1)) | J25: =IF(J$9="","",OFFSET(monthFirst,ROW()-ROW(J$9),DAY(J$9)-1,1,1)) | L25: =IF(M$9="","",OFFSET(monthFirst,16+ROW()-ROW(M$9),DAY(M$9)-1,1,1)) | M25: =IF(M$9="","",OFFSET(monthFirst,ROW()-ROW(M$9),DAY(M$9)-1,1,1)) | O25: =IF(P$9="","",OFFSET(monthFirst,16+ROW()-ROW(P$9),DAY(P$9)-1,1,1)) | P25: =IF(P$9="","",OFFSET(monthFirst,ROW()-ROW(P$9),DAY(P$9)-1,1,1)) | R25: =IF(S$9="","",OFFSET(monthFirst,16+ROW()-ROW(S$9),DAY(S$9)-1,1,1)) | S25: =IF(S$9="","",OFFSET(monthFirst,ROW()-ROW(S$9),DAY(S$9)-1,1,1)) | U25: =IF(V$9="","",OFFSET(monthFirst,16+ROW()-ROW(V$9),DAY(V$9)-1,1,1)) | V25: =IF(V$9="","",OFFSET(monthFirst,ROW()-ROW(V$9),DAY(V$9)-1,1,1))
D27: =IFERROR(V9+1,"") -> 45054 | G27: =IFERROR(D27+1,"") -> 45055 | J27: =IFERROR(G27+1,"") -> 45056 | M27: =IFERROR(J27+1,"") -> 45057 | P27: =IFERROR(M27+1,"") -> 45058 | S27: =IFERROR(P27+1,"") -> 45059 | V27: =IFERROR(S27+1,"") -> 45060
C28: =IF(D$27="","",OFFSET(monthFirst,16+ROW()-ROW(D$27),DAY(D$27)-1,1,1)) | D28: =IF(D$27="","",OFFSET(monthFirst,ROW()-ROW(D$27),DAY(D$27)-1,1,1)) | F28: =IF(G$27="","",OFFSET(monthFirst,16+ROW()-ROW(G$27),DAY(G$27)-1,1,1)) | G28: =IF(G$27="","",OFFSET(monthFirst,ROW()-ROW(G$27),DAY(G$27)-1,1,1)) | I28: =IF(J$27="","",OFFSET(monthFirst,16+ROW()-ROW(J$27),DAY(J$27)-1,1,1)) | J28: =IF(J$27="","",OFFSET(monthFirst,ROW()-ROW(J$27),DAY(J$27)-1,1,1)) | L28: =IF(M$27="","",OFFSET(monthFirst,16+ROW()-ROW(M$27),DAY(M$27)-1,1,1)) | M28: =IF(M$27="","",OFFSET(monthFirst,ROW()-ROW(M$27),DAY(M$27)-1,1,1)) | O28: =IF(P$27="","",OFFSET(monthFirst,16+ROW()-ROW(P$27),DAY(P$27)-1,1,1)) | P28: =IF(P$27="","",OFFSET(monthFirst,ROW()-ROW(P$27),DAY(P$27)-1,1,1)) | R28: =IF(S$27="","",OFFSET(monthFirst,16+ROW()-ROW(S$27),DAY(S$27)-1,1,1)) | S28: =IF(S$27="","",OFFSET(monthFirst,ROW()-ROW(S$27),DAY(S$27)-1,1,1)) | U28: =IF(V$27="","",OFFSET(monthFirst,16+ROW()-ROW(V$27),DAY(V$27)-1,1,1)) -> Birthday | V28: =IF(V$27="","",OFFSET(monthFirst,ROW()-ROW(V$27),DAY(V$27)-1,1,1)) -> Birthday Party - 14:00
C29: =IF(D$27="","",OFFSET(monthFirst,16+ROW()-ROW(D$27),DAY(D$27)-1,1,1)) | D29: =IF(D$27="","",OFFSET(monthFirst,ROW()-ROW(D$27),DAY(D$27)-1,1,1)) | F29: =IF(G$27="","",OFFSET(monthFirst,16+ROW()-ROW(G$27),DAY(G$27)-1,1,1)) | G29: =IF(G$27="","",OFFSET(monthFirst,ROW()-ROW(G$27),DAY(G$27)-1,1,1)) | I29: =IF(J$27="","",OFFSET(monthFirst,16+ROW()-ROW(J$27),DAY(J$27)-1,1,1)) | J29: =IF(J$27="","",OFFSET(monthFirst,ROW()-ROW(J$27),DAY(J$27)-1,1,1)) | L29: =IF(M$27="","",OFFSET(monthFirst,16+ROW()-ROW(M$27),DAY(M$27)-1,1,1)) | M29: =IF(M$27="","",OFFSET(monthFirst,ROW()-ROW(M$27),DAY(M$27)-1,1,1)) | O29: =IF(P$27="","",OFFSET(monthFirst,16+ROW()-ROW(P$27),DAY(P$27)-1,1,1)) | P29: =IF(P$27="","",OFFSET(monthFirst,ROW()-ROW(P$27),DAY(P$27)-1,1,1)) | R29: =IF(S$27="","",OFFSET(monthFirst,16+ROW()-ROW(S$27),DAY(S$27)-1,1,1)) | S29: =IF(S$27="","",OFFSET(monthFirst,ROW()-ROW(S$27),DAY(S$27)-1,1,1)) | U29: =IF(V$27="","",OFFSET(monthFirst,16+ROW()-ROW(V$27),DAY(V$27)-1,1,1)) -> Call | V29: =IF(V$27="","",OFFSET(monthFirst,ROW()-ROW(V$27),DAY(V$27)-1,1,1)) -> Team Call - 14:30
C30: =IF(D$27="","",OFFSET(monthFirst,16+ROW()-ROW(D$27),DAY(D$27)-1,1,1)) | D30: =IF(D$27="","",OFFSET(monthFirst,ROW()-ROW(D$27),DAY(D$27)-1,1,1)) | F30: =IF(G$27="","",OFFSET(monthFirst,16+ROW()-ROW(G$27),DAY(G$27)-1,1,1)) | G30: =IF(G$27="","",OFFSET(monthFirst,ROW()-ROW(G$27),DAY(G$27)-1,1,1)) | I30: =IF(J$27="","",OFFSET(monthFirst,16+ROW()-ROW(J$27),DAY(J$27)-1,1,1)) | J30: =IF(J$27="","",OFFSET(monthFirst,ROW()-ROW(J$27),DAY(J$27)-1,1,1)) | L30: =IF(M$27="","",OFFSET(monthFirst,16+ROW()-ROW(M$27),DAY(M$27)-1,1,1)) | M30: =IF(M$27="","",OFFSET(monthFirst,ROW()-ROW(M$27),DAY(M$27)-1,1,1)) | O30: =IF(P$27="","",OFFSET(monthFirst,16+ROW()-ROW(P$27),DAY(P$27)-1,1,1)) | P30: =IF(P$27="","",OFFSET(monthFirst,ROW()-ROW(P$27),DAY(P$27)-1,1,1)) | R30: =IF(S$27="","",OFFSET(monthFirst,16+ROW()-ROW(S$27),DAY(S$27)-1,1,1)) | S30: =IF(S$27="","",OFFSET(monthFirst,ROW()-ROW(S$27),DAY(S$27)-1,1,1)) | U30: =IF(V$27="","",OFFSET(monthFirst,16+ROW()-ROW(V$27),DAY(V$27)-1,1,1)) | V30: =IF(V$27="","",OFFSET(monthFirst,ROW()-ROW(V$27),DAY(V$27)-1,1,1))
C31: =IF(D$27="","",OFFSET(monthFirst,16+ROW()-ROW(D$27),DAY(D$27)-1,1,1)) | D31: =IF(D$27="","",OFFSET(monthFirst,ROW()-ROW(D$27),DAY(D$27)-1,1,1)) | F31: =IF(G$27="","",OFFSET(monthFirst,16+ROW()-ROW(G$27),DAY(G$27)-1,1,1)) | G31: =IF(G$27="","",OFFSET(monthFirst,ROW()-ROW(G$27),DAY(G$27)-1,1,1)) | I31: =IF(J$27="","",OFFSET(monthFirst,16+ROW()-ROW(J$27),DAY(J$27)-1,1,1)) | J31: =IF(J$27="","",OFFSET(monthFirst,ROW()-ROW(J$27),DAY(J$27)-1,1,1)) | L31: =IF(M$27="","",OFFSET(monthFirst,16+ROW()-ROW(M$27),DAY(M$27)-1,1,1)) | M31: =IF(M$27="","",OFFSET(monthFirst,ROW()-ROW(M$27),DAY(M$27)-1,1,1)) | O31: =IF(P$27="","",OFFSET(monthFirst,16+ROW()-ROW(P$27),DAY(P$27)-1,1,1)) | P31: =IF(P$27="","",OFFSET(monthFirst,ROW()-ROW(P$27),DAY(P$27)-1,1,1)) | R31: =IF(S$27="","",OFFSET(monthFirst,16+ROW()-ROW(S$27),DAY(S$27)-1,1,1)) | S31: =IF(S$27="","",OFFSET(monthFirst,ROW()-ROW(S$27),DAY(S$27)-1,1,1)) | U31: =IF(V$27="","",OFFSET(monthFirst,16+ROW()-ROW(V$27),DAY(V$27)-1,1,1)) | V31: =IF(V$27="","",OFFSET(monthFirst,ROW()-ROW(V$27),DAY(V$27)-1,1,1))
C32: =IF(D$27="","",OFFSET(monthFirst,16+ROW()-ROW(D$27),DAY(D$27)-1,1,1)) | D32: =IF(D$27="","",OFFSET(monthFirst,ROW()-ROW(D$27),DAY(D$27)-1,1,1)) | F32: =IF(G$27="","",OFFSET(monthFirst,16+ROW()-ROW(G$27),DAY(G$27)-1,1,1)) | G32: =IF(G$27="","",OFFSET(monthFirst,ROW()-ROW(G$27),DAY(G$27)-1,1,1)) | I32: =IF(J$27="","",OFFSET(monthFirst,16+ROW()-ROW(J$27),DAY(J$27)-1,1,1)) | J32: =IF(J$27="","",OFFSET(monthFirst,ROW()-ROW(J$27),DAY(J$27)-1,1,1)) | L32: =IF(M$27="","",OFFSET(monthFirst,16+ROW()-ROW(M$27),DAY(M$27)-1,1,1)) | M32: =IF(M$27="","",OFFSET(monthFirst,ROW()-ROW(M$27),DAY(M$27)-1,1,1)) | O32: =IF(P$27="","",OFFSET(monthFirst,16+ROW()-ROW(P$27),DAY(P$27)-1,1,1)) | P32: =IF(P$27="","",OFFSET(monthFirst,ROW()-ROW(P$27),DAY(P$27)-1,1,1)) | R32: =IF(S$27="","",OFFSET(monthFirst,16+ROW()-ROW(S$27),DAY(S$27)-1,1,1)) | S32: =IF(S$27="","",OFFSET(monthFirst,ROW()-ROW(S$27),DAY(S$27)-1,1,1)) | U32: =IF(V$27="","",OFFSET(monthFirst,16+ROW()-ROW(V$27),DAY(V$27)-1,1,1)) | V32: =IF(V$27="","",OFFSET(monthFirst,ROW()-ROW(V$27),DAY(V$27)-1,1,1))
C33: =IF(D$27="","",OFFSET(monthFirst,16+ROW()-ROW(D$27),DAY(D$27)-1,1,1)) | D33: =IF(D$27="","",OFFSET(monthFirst,ROW()-ROW(D$27),DAY(D$27)-1,1,1)) | F33: =IF(G$27="","",OFFSET(monthFirst,16+ROW()-ROW(G$27),DAY(G$27)-1,1,1)) | G33: =IF(G$27="","",OFFSET(monthFirst,ROW()-ROW(G$27),DAY(G$27)-1,1,1)) | I33: =IF(J$27="","",OFFSET(monthFirst,16+ROW()-ROW(J$27),DAY(J$27)-1,1,1)) | J33: =IF(J$27="","",OFFSET(monthFirst,ROW()-ROW(J$27),DAY(J$27)-1,1,1)) | L33: =IF(M$27="","",OFFSET(monthFirst,16+ROW()-ROW(M$27),DAY(M$27)-1,1,1)) | M33: =IF(M$27="","",OFFSET(monthFirst,ROW()-ROW(M$27),DAY(M$27)-1,1,1)) | O33: =IF(P$27="","",OFFSET(monthFirst,16+ROW()-ROW(P$27),DAY(P$27)-1,1,1)) | P33: =IF(P$27="","",OFFSET(monthFirst,ROW()-ROW(P$27),DAY(P$27)-1,1,1)) | R33: =IF(S$27="","",OFFSET(monthFirst,16+ROW()-ROW(S$27),DAY(S$27)-1,1,1)) | S33: =IF(S$27="","",OFFSET(monthFirst,ROW()-ROW(S$27),DAY(S$27)-1,1,1)) | U33: =IF(V$27="","",OFFSET(monthFirst,16+ROW()-ROW(V$27),DAY(V$27)-1,1,1)) | V33: =IF(V$27="","",OFFSET(monthFirst,ROW()-ROW(V$27),DAY(V$27)-1,1,1))
C34: =IF(D$27="","",OFFSET(monthFirst,16+ROW()-ROW(D$27),DAY(D$27)-1,1,1)) | D34: =IF(D$27="","",OFFSET(monthFirst,ROW()-ROW(D$27),DAY(D$27)-1,1,1)) | F34: =IF(G$27="","",OFFSET(monthFirst,16+ROW()-ROW(G$27),DAY(G$27)-1,1,1)) | G34: =IF(G$27="","",OFFSET(monthFirst,ROW()-ROW(G$27),DAY(G$27)-1,1,1)) | I34: =IF(J$27="","",OFFSET(monthFirst,16+ROW()-ROW(J$27),DAY(J$27)-1,1,1)) | J34: =IF(J$27="","",OFFSET(monthFirst,ROW()-ROW(J$27),DAY(J$27)-1,1,1)) | L34: =IF(M$27="","",OFFSET(monthFirst,16+ROW()-ROW(M$27),DAY(M$27)-1,1,1)) | M34: =IF(M$27="","",OFFSET(monthFirst,ROW()-ROW(M$27),DAY(M$27)-1,1,1)) | O34: =IF(P$27="","",OFFSET(monthFirst,16+ROW()-ROW(P$27),DAY(P$27)-1,1,1)) | P34: =IF(P$27="","",OFFSET(monthFirst,ROW()-ROW(P$27),DAY(P$27)-1,1,1)) | R34: =IF(S$27="","",OFFSET(monthFirst,16+ROW()-ROW(S$27),DAY(S$27)-1,1,1)) | S34: =IF(S$27="","",OFFSET(monthFirst,ROW()-ROW(S$27),DAY(S$27)-1,1,1)) | U34: =IF(V$27="","",OFFSET(monthFirst,16+ROW()-ROW(V$27),DAY(V$27)-1,1,1)) | V34: =IF(V$27="","",OFFSET(monthFirst,ROW()-ROW(V$27),DAY(V$27)-1,1,1))
C35: =IF(D$27="","",OFFSET(monthFirst,16+ROW()-ROW(D$27),DAY(D$27)-1,1,1)) | D35: =IF(D$27="","",OFFSET(monthFirst,ROW()-ROW(D$27),DAY(D$27)-1,1,1)) | F35: =IF(G$27="","",OFFSET(monthFirst,16+ROW()-ROW(G$27),DAY(G$27)-1,1,1)) | G35: =IF(G$27="","",OFFSET(monthFirst,ROW()-ROW(G$27),DAY(G$27)-1,1,1)) | I35: =IF(J$27="","",OFFSET(monthFirst,16+ROW()-ROW(J$27),DAY(J$27)-1,1,1)) | J35: =IF(J$27="","",OFFSET(monthFirst,ROW()-ROW(J$27),DAY(J$27)-1,1,1)) | L35: =IF(M$27="","",OFFSET(monthFirst,16+ROW()-ROW(M$27),DAY(M$27)-1,1,1)) | M35: =IF(M$27="","",OFFSET(monthFirst,ROW()-ROW(M$27),DAY(M$27)-1,1,1)) | O35: =IF(P$27="","",OFFSET(monthFirst,16+ROW()-ROW(P$27),DAY(P$27)-1,1,1)) | P35: =IF(P$27="","",OFFSET(monthFirst,ROW()-ROW(P$27),DAY(P$27)-1,1,1)) | R35: =IF(S$27="","",OFFSET(monthFirst,16+ROW()-ROW(S$27),DAY(S$27)-1,1,1)) | S35: =IF(S$27="","",OFFSET(monthFirst,ROW()-ROW(S$27),DAY(S$27)-1,1,1)) | U35: =IF(V$27="","",OFFSET(monthFirst,16+ROW()-ROW(V$27),DAY(V$27)-1,1,1)) | V35: =IF(V$27="","",OFFSET(monthFirst,ROW()-ROW(V$27),DAY(V$27)-1,1,1))
C36: =IF(D$27="","",OFFSET(monthFirst,16+ROW()-ROW(D$27),DAY(D$27)-1,1,1)) | D36: =IF(D$27="","",OFFSET(monthFirst,ROW()-ROW(D$27),DAY(D$27)-1,1,1)) | F36: =IF(G$27="","",OFFSET(monthFirst,16+ROW()-ROW(G$27),DAY(G$27)-1,1,1)) | G36: =IF(G$27="","",OFFSET(monthFirst,ROW()-ROW(G$27),DAY(G$27)-1,1,1)) | I36: =IF(J$27="","",OFFSET(monthFirst,16+ROW()-ROW(J$27),DAY(J$27)-1,1,1)) | J36: =IF(J$27="","",OFFSET(monthFirst,ROW()-ROW(J$27),DAY(J$27)-1,1,1)) | L36: =IF(M$27="","",OFFSET(monthFirst,16+ROW()-ROW(M$27),DAY(M$27)-1,1,1)) | M36: =IF(M$27="","",OFFSET(monthFirst,ROW()-ROW(M$27),DAY(M$27)-1,1,1)) | O36: =IF(P$27="","",OFFSET(monthFirst,16+ROW()-ROW(P$27),DAY(P$27)-1,1,1)) | P36: =IF(P$27="","",OFFSET(monthFirst,ROW()-ROW(P$27),DAY(P$27)-1,1,1)) | R36: =IF(S$27="","",OFFSET(monthFirst,16+ROW()-ROW(S$27),DAY(S$27)-1,1,1)) | S36: =IF(S$27="","",OFFSET(monthFirst,ROW()-ROW(S$27),DAY(S$27)-1,1,1)) | U36: =IF(V$27="","",OFFSET(monthFirst,16+ROW()-ROW(V$27),DAY(V$27)-1,1,1)) | V36: =IF(V$27="","",OFFSET(monthFirst,ROW()-ROW(V$27),DAY(V$27)-1,1,1))
C37: =IF(D$27="","",OFFSET(monthFirst,16+ROW()-ROW(D$27),DAY(D$27)-1,1,1)) | D37: =IF(D$27="","",OFFSET(monthFirst,ROW()-ROW(D$27),DAY(D$27)-1,1,1)) | F37: =IF(G$27="","",OFFSET(monthFirst,16+ROW()-ROW(G$27),DAY(G$27)-1,1,1)) | G37: =IF(G$27="","",OFFSET(monthFirst,ROW()-ROW(G$27),DAY(G$27)-1,1,1)) | I37: =IF(J$27="","",OFFSET(monthFirst,16+ROW()-ROW(J$27),DAY(J$27)-1,1,1)) | J37: =IF(J$27="","",OFFSET(monthFirst,ROW()-ROW(J$27),DAY(J$27)-1,1,1)) | L37: =IF(M$27="","",OFFSET(monthFirst,16+ROW()-ROW(M$27),DAY(M$27)-1,1,1)) | M37: =IF(M$27="","",OFFSET(monthFirst,ROW()-ROW(M$27),DAY(M$27)-1,1,1)) | O37: =IF(P$27="","",OFFSET(monthFirst,16+ROW()-ROW(P$27),DAY(P$27)-1,1,1)) | P37: =IF(P$27="","",OFFSET(monthFirst,ROW()-ROW(P$27),DAY(P$27)-1,1,1)) | R37: =IF(S$27="","",OFFSET(monthFirst,16+ROW()-ROW(S$27),DAY(S$27)-1,1,1)) | S37: =IF(S$27="","",OFFSET(monthFirst,ROW()-ROW(S$27),DAY(S$27)-1,1,1)) | U37: =IF(V$27="","",OFFSET(monthFirst,16+ROW()-ROW(V$27),DAY(V$27)-1,1,1)) | V37: =IF(V$27="","",OFFSET(monthFirst,ROW()-ROW(V$27),DAY(V$27)-1,1,1))
C38: =IF(D$27="","",OFFSET(monthFirst,16+ROW()-ROW(D$27),DAY(D$27)-1,1,1)) | D38: =IF(D$27="","",OFFSET(monthFirst,ROW()-ROW(D$27),DAY(D$27)-1,1,1)) | F38: =IF(G$27="","",OFFSET(monthFirst,16+ROW()-ROW(G$27),DAY(G$27)-1,1,1)) | G38: =IF(G$27="","",OFFSET(monthFirst,ROW()-ROW(G$27),DAY(G$27)-1,1,1)) | I38: =IF(J$27="","",OFFSET(monthFirst,16+ROW()-ROW(J$27),DAY(J$27)-1,1,1)) | J38: =IF(J$27="","",OFFSET(monthFirst,ROW()-ROW(J$27),DAY(J$27)-1,1,1)) | L38: =IF(M$27="","",OFFSET(monthFirst,16+ROW()-ROW(M$27),DAY(M$27)-1,1,1)) | M38: =IF(M$27="","",OFFSET(monthFirst,ROW()-ROW(M$27),DAY(M$27)-1,1,1)) | O38: =IF(P$27="","",OFFSET(monthFirst,16+ROW()-ROW(P$27),DAY(P$27)-1,1,1)) | P38: =IF(P$27="","",OFFSET(monthFirst,ROW()-ROW(P$27),DAY(P$27)-1,1,1)) | R38: =IF(S$27="","",OFFSET(monthFirst,16+ROW()-ROW(S$27),DAY(S$27)-1,1,1)) | S38: =IF(S$27="","",OFFSET(monthFirst,ROW()-ROW(S$27),DAY(S$27)-1,1,1)) | U38: =IF(V$27="","",OFFSET(monthFirst,16+ROW()-ROW(V$27),DAY(V$27)-1,1,1)) | V38: =IF(V$27="","",OFFSET(monthFirst,ROW()-ROW(V$27),DAY(V$27)-1,1,1))
C39: =IF(D$27="","",OFFSET(monthFirst,16+ROW()-ROW(D$27),DAY(D$27)-1,1,1)) | D39: =IF(D$27="","",OFFSET(monthFirst,ROW()-ROW(D$27),DAY(D$27)-1,1,1)) | F39: =IF(G$27="","",OFFSET(monthFirst,16+ROW()-ROW(G$27),DAY(G$27)-1,1,1)) | G39: =IF(G$27="","",OFFSET(monthFirst,ROW()-ROW(G$27),DAY(G$27)-1,1,1)) | I39: =IF(J$27="","",OFFSET(monthFirst,16+ROW()-ROW(J$27),DAY(J$27)-1,1,1)) | J39: =IF(J$27="","",OFFSET(monthFirst,ROW()-ROW(J$27),DAY(J$27)-1,1,1)) | L39: =IF(M$27="","",OFFSET(monthFirst,16+ROW()-ROW(M$27),DAY(M$27)-1,1,1)) | M39: =IF(M$27="","",OFFSET(monthFirst,ROW()-ROW(M$27),DAY(M$27)-1,1,1)) | O39: =IF(P$27="","",OFFSET(monthFirst,16+ROW()-ROW(P$27),DAY(P$27)-1,1,1)) | P39: =IF(P$27="","",OFFSET(monthFirst,ROW()-ROW(P$27),DAY(P$27)-1,1,1)) | R39: =IF(S$27="","",OFFSET(monthFirst,16+ROW()-ROW(S$27),DAY(S$27)-1,1,1)) | S39: =IF(S$27="","",OFFSET(monthFirst,ROW()-ROW(S$27),DAY(S$27)-1,1,1)) | U39: =IF(V$27="","",OFFSET(monthFirst,16+ROW()-ROW(V$27),DAY(V$27)-1,1,1)) | V39: =IF(V$27="","",OFFSET(monthFirst,ROW()-ROW(V$27),DAY(V$27)-1,1,1))
... C43: =IF(D$27="","",OFFSET(monthFirst,16+ROW()-ROW(D$27),DAY(D$27)-1,1,1)) | D43: =IF(D$27="","",OFFSET(monthFirst,ROW()-ROW(D$27),DAY(D$27)-1,1,1)) | F43: =IF(G$27="","",OFFSET(monthFirst,16+ROW()-ROW(G$27),DAY(G$27)-1,1,1)) | G43: =IF(G$27="","",OFFSET(monthFirst,ROW()-ROW(G$27),DAY(G$27)-1,1,1)) | I43: =IF(J$27="","",OFFSET(monthFirst,16+ROW()-ROW(J$27),DAY(J$27)-1,1,1)) | J43: =IF(J$27="","",OFFSET(monthFirst,ROW()-ROW(J$27),DAY(J$27)-1,1,1)) | L43: =IF(M$27="","",OFFSET(monthFirst,16+ROW()-ROW(M$27),DAY(M$27)-1,1,1)) | M43: =IF(M$27="","",OFFSET(monthFirst,ROW()-ROW(M$27),DAY(M$27)-1,1,1)) | O43: =IF(P$27="","",OFFSET(monthFirst,16+ROW()-ROW(P$27),DAY(P$27)-1,1,1)) | P43: =IF(P$27="","",OFFSET(monthFirst,ROW()-ROW(P$27),DAY(P$27)-1,1,1)) | R43: =IF(S$27="","",OFFSET(monthFirst,16+ROW()-ROW(S$27),DAY(S$27)-1,1,1)) | S43: =IF(S$27="","",OFFSET(monthFirst,ROW()-ROW(S$27),DAY(S$27)-1,1,1)) | U43: =IF(V$27="","",OFFSET(monthFirst,16+ROW()-ROW(V$27),DAY(V$27)-1,1,1)) | V43: =IF(V$27="","",OFFSET(monthFirst,ROW()-ROW(V$27),DAY(V$27)-1,1,1))
D45: =IFERROR(V27+1,"") -> 45061 | G45: =IFERROR(D45+1,"") -> 45062 | J45: =IFERROR(G45+1,"") -> 45063 | M45: =IFERROR(J45+1,"") -> 45064 | P45: =IFERROR(M45+1,"") -> 45065 | S45: =IFERROR(P45+1,"") -> 45066 | V45: =IFERROR(S45+1,"") -> 45067
C46: =IF(D$45="","",OFFSET(monthFirst,16+ROW()-ROW(D$45),DAY(D$45)-1,1,1)) -> Meeting | D46: =IF(D$45="","",OFFSET(monthFirst,ROW()-ROW(D$45),DAY(D$45)-1,1,1)) -> Meeting with Lisa - 11:30 | F46: =IF(G$45="","",OFFSET(monthFirst,16+ROW()-ROW(G$45),DAY(G$45)-1,1,1)) -> Reminder | G46: =IF(G$45="","",OFFSET(monthFirst,ROW()-ROW(G$45),DAY(G$45)-1,1,1)) -> Reminder: Dentist - 10:00 | I46: =IF(J$45="","",OFFSET(monthFirst,16+ROW()-ROW(J$45),DAY(J$45)-1,1,1)) -> Meeting | J46: =IF(J$45="","",OFFSET(monthFirst,ROW()-ROW(J$45),DAY(J$45)-1,1,1)) -> Meeting with John - All day | L46: =IF(M$45="","",OFFSET(monthFirst,16+ROW()-ROW(M$45),DAY(M$45)-1,1,1)) | M46: =IF(M$45="","",OFFSET(monthFirst,ROW()-ROW(M$45),DAY(M$45)-1,1,1)) | O46: =IF(P$45="","",OFFSET(monthFirst,16+ROW()-ROW(P$45),DAY(P$45)-1,1,1)) -> Reminder | P46: =IF(P$45="","",OFFSET(monthFirst,ROW()-ROW(P$45),DAY(P$45)-1,1,1)) -> Bank Holiday - All day | R46: =IF(S$45="","",OFFSET(monthFirst,16+ROW()-ROW(S$45),DAY(S$45)-1,1,1)) -> Day off | S46: =IF(S$45="","",OFFSET(monthFirst,ROW()-ROW(S$45),DAY(S$45)-1,1,1)) -> Day Off - All day | U46: =IF(V$45="","",OFFSET(monthFirst,16+ROW()-ROW(V$45),DAY(V$45)-1,1,1)) -> Reminder | V46: =IF(V$45="","",OFFSET(monthFirst,ROW()-ROW(V$45),DAY(V$45)-1,1,1)) -> Project Deadline - All day
C47: =IF(D$45="","",OFFSET(monthFirst,16+ROW()-ROW(D$45),DAY(D$45)-1,1,1)) | D47: =IF(D$45="","",OFFSET(monthFirst,ROW()-ROW(D$45),DAY(D$45)-1,1,1)) | F47: =IF(G$45="","",OFFSET(monthFirst,16+ROW()-ROW(G$45),DAY(G$45)-1,1,1)) | G47: =IF(G$45="","",OFFSET(monthFirst,ROW()-ROW(G$45),DAY(G$45)-1,1,1)) | I47: =IF(J$45="","",OFFSET(monthFirst,16+ROW()-ROW(J$45),DAY(J$45)-1,1,1)) | J47: =IF(J$45="","",OFFSET(monthFirst,ROW()-ROW(J$45),DAY(J$45)-1,1,1)) | L47: =IF(M$45="","",OFFSET(monthFirst,16+ROW()-ROW(M$45),DAY(M$45)-1,1,1)) | M47: =IF(M$45="","",OFFSET(monthFirst,ROW()-ROW(M$45),DAY(M$45)-1,1,1)) | O47: =IF(P$45="","",OFFSET(monthFirst,16+ROW()-ROW(P$45),DAY(P$45)-1,1,1)) -> Call | P47: =IF(P$45="","",OFFSET(monthFirst,ROW()-ROW(P$45),DAY(P$45)-1,1,1)) -> Conference Call - 15:00 | R47: =IF(S$45="","",OFFSET(monthFirst,16+ROW()-ROW(S$45),DAY(S$45)-1,1,1)) | S47: =IF(S$45="","",OFFSET(monthFirst,ROW()-ROW(S$45),DAY(S$45)-1,1,1)) | U47: =IF(V$45="","",OFFSET(monthFirst,16+ROW()-ROW(V$45),DAY(V$45)-1,1,1)) | V47: =IF(V$45="","",OFFSET(monthFirst,ROW()-ROW(V$45),DAY(V$45)-1,1,1))
C48: =IF(D$45="","",OFFSET(monthFirst,16+ROW()-ROW(D$45),DAY(D$45)-1,1,1)) | D48: =IF(D$45="","",OFFSET(monthFirst,ROW()-ROW(D$45),DAY(D$45)-1,1,1)) | F48: =IF(G$45="","",OFFSET(monthFirst,16+ROW()-ROW(G$45),DAY(G$45)-1,1,1)) | G48: =IF(G$45="","",OFFSET(monthFirst,ROW()-ROW(G$45),DAY(G$45)-1,1,1)) | I48: =IF(J$45="","",OFFSET(monthFirst,16+ROW()-ROW(J$45),DAY(J$45)-1,1,1)) | J48: =IF(J$45="","",OFFSET(monthFirst,ROW()-ROW(J$45),DAY(J$45)-1,1,1)) | L48: =IF(M$45="","",OFFSET(monthFirst,16+ROW()-ROW(M$45),DAY(M$45)-1,1,1)) | M48: =IF(M$45="","",OFFSET(monthFirst,ROW()-ROW(M$45),DAY(M$45)-1,1,1)) | O48: =IF(P$45="","",OFFSET(monthFirst,16+ROW()-ROW(P$45),DAY(P$45)-1,1,1)) | P48: =IF(P$45="","",OFFSET(monthFirst,ROW()-ROW(P$45),DAY(P$45)-1,1,1)) | R48: =IF(S$45="","",OFFSET(monthFirst,16+ROW()-ROW(S$45),DAY(S$45)-1,1,1)) | S48: =IF(S$45="","",OFFSET(monthFirst,ROW()-ROW(S$45),DAY(S$45)-1,1,1)) | U48: =IF(V$45="","",OFFSET(monthFirst,16+ROW()-ROW(V$45),DAY(V$45)-1,1,1)) | V48: =IF(V$45="","",OFFSET(monthFirst,ROW()-ROW(V$45),DAY(V$45)-1,1,1))
C49: =IF(D$45="","",OFFSET(monthFirst,16+ROW()-ROW(D$45),DAY(D$45)-1,1,1)) | D49: =IF(D$45="","",OFFSET(monthFirst,ROW()-ROW(D$45),DAY(D$45)-1,1,1)) | F49: =IF(G$45="","",OFFSET(monthFirst,16+ROW()-ROW(G$45),DAY(G$45)-1,1,1)) | G49: =IF(G$45="","",OFFSET(monthFirst,ROW()-ROW(G$45),DAY(G$45)-1,1,1)) | I49: =IF(J$45="","",OFFSET(monthFirst,16+ROW()-ROW(J$45),DAY(J$45)-1,1,1)) | J49: =IF(J$45="","",OFFSET(monthFirst,ROW()-ROW(J$45),DAY(J$45)-1,1,1)) | L49: =IF(M$45="","",OFFSET(monthFirst,16+ROW()-ROW(M$45),DAY(M$45)-1,1,1)) | M49: =IF(M$45="","",OFFSET(monthFirst,ROW()-ROW(M$45),DAY(M$45)-1,1,1)) | O49: =IF(P$45="","",OFFSET(monthFirst,16+ROW()-ROW(P$45),DAY(P$45)-1,1,1)) | P49: =IF(P$45="","",OFFSET(monthFirst,ROW()-ROW(P$45),DAY(P$45)-1,1,1)) | R49: =IF(S$45="","",OFFSET(monthFirst,16+ROW()-ROW(S$45),DAY(S$45)-1,1,1)) | S49: =IF(S$45="","",OFFSET(monthFirst,ROW()-ROW(S$45),DAY(S$45)-1,1,1)) | U49: =IF(V$45="","",OFFSET(monthFirst,16+ROW()-ROW(V$45),DAY(V$45)-1,1,1)) | V49: =IF(V$45="","",OFFSET(monthFirst,ROW()-ROW(V$45),DAY(V$45)-1,1,1))
C50: =IF(D$45="","",OFFSET(monthFirst,16+ROW()-ROW(D$45),DAY(D$45)-1,1,1)) | D50: =IF(D$45="","",OFFSET(monthFirst,ROW()-ROW(D$45),DAY(D$45)-1,1,1)) | F50: =IF(G$45="","",OFFSET(monthFirst,16+ROW()-ROW(G$45),DAY(G$45)-1,1,1)) | G50: =IF(G$45="","",OFFSET(monthFirst,ROW()-ROW(G$45),DAY(G$45)-1,1,1)) | I50: =IF(J$45="","",OFFSET(monthFirst,16+ROW()-ROW(J$45),DAY(J$45)-1,1,1)) | J50: =IF(J$45="","",OFFSET(monthFirst,ROW()-ROW(J$45),DAY(J$45)-1,1,1)) | L50: =IF(M$45="","",OFFSET(monthFirst,16+ROW()-ROW(M$45),DAY(M$45)-1,1,1)) | M50: =IF(M$45="","",OFFSET(monthFirst,ROW()-ROW(M$45),DAY(M$45)-1,1,1)) | O50: =IF(P$45="","",OFFSET(monthFirst,16+ROW()-ROW(P$45),DAY(P$45)-1,1,1)) | P50: =IF(P$45="","",OFFSET(monthFirst,ROW()-ROW(P$45),DAY(P$45)-1,1,1)) | R50: =IF(S$45="","",OFFSET(monthFirst,16+ROW()-ROW(S$45),DAY(S$45)-1,1,1)) | S50: =IF(S$45="","",OFFSET(monthFirst,ROW()-ROW(S$45),DAY(S$45)-1,1,1)) | U50: =IF(V$45="","",OFFSET(monthFirst,16+ROW()-ROW(V$45),DAY(V$45)-1,1,1)) | V50: =IF(V$45="","",OFFSET(monthFirst,ROW()-ROW(V$45),DAY(V$45)-1,1,1))
C51: =IF(D$45="","",OFFSET(monthFirst,16+ROW()-ROW(D$45),DAY(D$45)-1,1,1)) | D51: =IF(D$45="","",OFFSET(monthFirst,ROW()-ROW(D$45),DAY(D$45)-1,1,1)) | F51: =IF(G$45="","",OFFSET(monthFirst,16+ROW()-ROW(G$45),DAY(G$45)-1,1,1)) | G51: =IF(G$45="","",OFFSET(monthFirst,ROW()-ROW(G$45),DAY(G$45)-1,1,1)) | I51: =IF(J$45="","",OFFSET(monthFirst,16+ROW()-ROW(J$45),DAY(J$45)-1,1,1)) | J51: =IF(J$45="","",OFFSET(monthFirst,ROW()-ROW(J$45),DAY(J$45)-1,1,1)) | L51: =IF(M$45="","",OFFSET(monthFirst,16+ROW()-ROW(M$45),DAY(M$45)-1,1,1)) | M51: =IF(M$45="","",OFFSET(monthFirst,ROW()-ROW(M$45),DAY(M$45)-1,1,1)) | O51: =IF(P$45="","",OFFSET(monthFirst,16+ROW()-ROW(P$45),DAY(P$45)-1,1,1)) | P51: =IF(P$45="","",OFFSET(monthFirst,ROW()-ROW(P$45),DAY(P$45)-1,1,1)) | R51: =IF(S$45="","",OFFSET(monthFirst,16+ROW()-ROW(S$45),DAY(S$45)-1,1,1)) | S51: =IF(S$45="","",OFFSET(monthFirst,ROW()-ROW(S$45),DAY(S$45)-1,1,1)) | U51: =IF(V$45="","",OFFSET(monthFirst,16+ROW()-ROW(V$45),DAY(V$45)-1,1,1)) | V51: =IF(V$45="","",OFFSET(monthFirst,ROW()-ROW(V$45),DAY(V$45)-1,1,1))
C52: =IF(D$45="","",OFFSET(monthFirst,16+ROW()-ROW(D$45),DAY(D$45)-1,1,1)) | D52: =IF(D$45="","",OFFSET(monthFirst,ROW()-ROW(D$45),DAY(D$45)-1,1,1)) | F52: =IF(G$45="","",OFFSET(monthFirst,16+ROW()-ROW(G$45),DAY(G$45)-1,1,1)) | G52: =IF(G$45="","",OFFSET(monthFirst,ROW()-ROW(G$45),DAY(G$45)-1,1,1)) | I52: =IF(J$45="","",OFFSET(monthFirst,16+ROW()-ROW(J$45),DAY(J$45)-1,1,1)) | J52: =IF(J$45="","",OFFSET(monthFirst,ROW()-ROW(J$45),DAY(J$45)-1,1,1)) | L52: =IF(M$45="","",OFFSET(monthFirst,16+ROW()-ROW(M$45),DAY(M$45)-1,1,1)) | M52: =IF(M$45="","",OFFSET(monthFirst,ROW()-ROW(M$45),DAY(M$45)-1,1,1)) | O52: =IF(P$45="","",OFFSET(monthFirst,16+ROW()-ROW(P$45),DAY(P$45)-1,1,1)) | P52: =IF(P$45="","",OFFSET(monthFirst,ROW()-ROW(P$45),DAY(P$45)-1,1,1)) | R52: =IF(S$45="","",OFFSET(monthFirst,16+ROW()-ROW(S$45),DAY(S$45)-1,1,1)) | S52: =IF(S$45="","",OFFSET(monthFirst,ROW()-ROW(S$45),DAY(S$45)-1,1,1)) | U52: =IF(V$45="","",OFFSET(monthFirst,16+ROW()-ROW(V$45),DAY(V$45)-1,1,1)) | V52: =IF(V$45="","",OFFSET(monthFirst,ROW()-ROW(V$45),DAY(V$45)-1,1,1))
C53: =IF(D$45="","",OFFSET(monthFirst,16+ROW()-ROW(D$45),DAY(D$45)-1,1,1)) | D53: =IF(D$45="","",OFFSET(monthFirst,ROW()-ROW(D$45),DAY(D$45)-1,1,1)) | F53: =IF(G$45="","",OFFSET(monthFirst,16+ROW()-ROW(G$45),DAY(G$45)-1,1,1)) | G53: =IF(G$45="","",OFFSET(monthFirst,ROW()-ROW(G$45),DAY(G$45)-1,1,1)) | I53: =IF(J$45="","",OFFSET(monthFirst,16+ROW()-ROW(J$45),DAY(J$45)-1,1,1)) | J53: =IF(J$45="","",OFFSET(monthFirst,ROW()-ROW(J$45),DAY(J$45)-1,1,1)) | L53: =IF(M$45="","",OFFSET(monthFirst,16+ROW()-ROW(M$45),DAY(M$45)-1,1,1)) | M53: =IF(M$45="","",OFFSET(monthFirst,ROW()-ROW(M$45),DAY(M$45)-1,1,1)) | O53: =IF(P$45="","",OFFSET(monthFirst,16+ROW()-ROW(P$45),DAY(P$45)-1,1,1)) | P53: =IF(P$45="","",OFFSET(monthFirst,ROW()-ROW(P$45),DAY(P$45)-1,1,1)) | R53: =IF(S$45="","",OFFSET(monthFirst,16+ROW()-ROW(S$45),DAY(S$45)-1,1,1)) | S53: =IF(S$45="","",OFFSET(monthFirst,ROW()-ROW(S$45),DAY(S$45)-1,1,1)) | U53: =IF(V$45="","",OFFSET(monthFirst,16+ROW()-ROW(V$45),DAY(V$45)-1,1,1)) | V53: =IF(V$45="","",OFFSET(monthFirst,ROW()-ROW(V$45),DAY(V$45)-1,1,1))
C54: =IF(D$45="","",OFFSET(monthFirst,16+ROW()-ROW(D$45),DAY(D$45)-1,1,1)) | D54: =IF(D$45="","",OFFSET(monthFirst,ROW()-ROW(D$45),DAY(D$45)-1,1,1)) | F54: =IF(G$45="","",OFFSET(monthFirst,16+ROW()-ROW(G$45),DAY(G$45)-1,1,1)) | G54: =IF(G$45="","",OFFSET(monthFirst,ROW()-ROW(G$45),DAY(G$45)-1,1,1)) | I54: =IF(J$45="","",OFFSET(monthFirst,16+ROW()-ROW(J$45),DAY(J$45)-1,1,1)) | J54: =IF(J$45="","",OFFSET(monthFirst,ROW()-ROW(J$45),DAY(J$45)-1,1,1)) | L54: =IF(M$45="","",OFFSET(monthFirst,16+ROW()-ROW(M$45),DAY(M$45)-1,1,1)) | M54: =IF(M$45="","",OFFSET(monthFirst,ROW()-ROW(M$45),DAY(M$45)-1,1,1)) | O54: =IF(P$45="","",OFFSET(monthFirst,16+ROW()-ROW(P$45),DAY(P$45)-1,1,1)) | P54: =IF(P$45="","",OFFSET(monthFirst,ROW()-ROW(P$45),DAY(P$45)-1,1,1)) | R54: =IF(S$45="","",OFFSET(monthFirst,16+ROW()-ROW(S$45),DAY(S$45)-1,1,1)) | S54: =IF(S$45="","",OFFSET(monthFirst,ROW()-ROW(S$45),DAY(S$45)-1,1,1)) | U54: =IF(V$45="","",OFFSET(monthFirst,16+ROW()-ROW(V$45),DAY(V$45)-1,1,1)) | V54: =IF(V$45="","",OFFSET(monthFirst,ROW()-ROW(V$45),DAY(V$45)-1,1,1))
C55: =IF(D$45="","",OFFSET(monthFirst,16+ROW()-ROW(D$45),DAY(D$45)-1,1,1)) | D55: =IF(D$45="","",OFFSET(monthFirst,ROW()-ROW(D$45),DAY(D$45)-1,1,1)) | F55: =IF(G$45="","",OFFSET(monthFirst,16+ROW()-ROW(G$45),DAY(G$45)-1,1,1)) | G55: =IF(G$45="","",OFFSET(monthFirst,ROW()-ROW(G$45),DAY(G$45)-1,1,1)) | I55: =IF(J$45="","",OFFSET(monthFirst,16+ROW()-ROW(J$45),DAY(J$45)-1,1,1)) | J55: =IF(J$45="","",OFFSET(monthFirst,ROW()-ROW(J$45),DAY(J$45)-1,1,1)) | L55: =IF(M$45="","",OFFSET(monthFirst,16+ROW()-ROW(M$45),DAY(M$45)-1,1,1)) | M55: =IF(M$45="","",OFFSET(monthFirst,ROW()-ROW(M$45),DAY(M$45)-1,1,1)) | O55: =IF(P$45="","",OFFSET(monthFirst,16+ROW()-ROW(P$45),DAY(P$45)-1,1,1)) | P55: =IF(P$45="","",OFFSET(monthFirst,ROW()-ROW(P$45),DAY(P$45)-1,1,1)) | R55: =IF(S$45="","",OFFSET(monthFirst,16+ROW()-ROW(S$45),DAY(S$45)-1,1,1)) | S55: =IF(S$45="","",OFFSET(monthFirst,ROW()-ROW(S$45),DAY(S$45)-1,1,1)) | U55: =IF(V$45="","",OFFSET(monthFirst,16+ROW()-ROW(V$45),DAY(V$45)-1,1,1)) | V55: =IF(V$45="","",OFFSET(monthFirst,ROW()-ROW(V$45),DAY(V$45)-1,1,1))
C56: =IF(D$45="","",OFFSET(monthFirst,16+ROW()-ROW(D$45),DAY(D$45)-1,1,1)) | D56: =IF(D$45="","",OFFSET(monthFirst,ROW()-ROW(D$45),DAY(D$45)-1,1,1)) | F56: =IF(G$45="","",OFFSET(monthFirst,16+ROW()-ROW(G$45),DAY(G$45)-1,1,1)) | G56: =IF(G$45="","",OFFSET(monthFirst,ROW()-ROW(G$45),DAY(G$45)-1,1,1)) | I56: =IF(J$45="","",OFFSET(monthFirst,16+ROW()-ROW(J$45),DAY(J$45)-1,1,1)) | J56: =IF(J$45="","",OFFSET(monthFirst,ROW()-ROW(J$45),DAY(J$45)-1,1,1)) | L56: =IF(M$45="","",OFFSET(monthFirst,16+ROW()-ROW(M$45),DAY(M$45)-1,1,1)) | M56: =IF(M$45="","",OFFSET(monthFirst,ROW()-ROW(M$45),DAY(M$45)-1,1,1)) | O56: =IF(P$45="","",OFFSET(monthFirst,16+ROW()-ROW(P$45),DAY(P$45)-1,1,1)) | P56: =IF(P$45="","",OFFSET(monthFirst,ROW()-ROW(P$45),DAY(P$45)-1,1,1)) | R56: =IF(S$45="","",OFFSET(monthFirst,16+ROW()-ROW(S$45),DAY(S$45)-1,1,1)) | S56: =IF(S$45="","",OFFSET(monthFirst,ROW()-ROW(S$45),DAY(S$45)-1,1,1)) | U56: =IF(V$45="","",OFFSET(monthFirst,16+ROW()-ROW(V$45),DAY(V$45)-1,1,1)) | V56: =IF(V$45="","",OFFSET(monthFirst,ROW()-ROW(V$45),DAY(V$45)-1,1,1))
C57: =IF(D$45="","",OFFSET(monthFirst,16+ROW()-ROW(D$45),DAY(D$45)-1,1,1)) | D57: =IF(D$45="","",OFFSET(monthFirst,ROW()-ROW(D$45),DAY(D$45)-1,1,1)) | F57: =IF(G$45="","",OFFSET(monthFirst,16+ROW()-ROW(G$45),DAY(G$45)-1,1,1)) | G57: =IF(G$45="","",OFFSET(monthFirst,ROW()-ROW(G$45),DAY(G$45)-1,1,1)) | I57: =IF(J$45="","",OFFSET(monthFirst,16+ROW()-ROW(J$45),DAY(J$45)-1,1,1)) | J57: =IF(J$45="","",OFFSET(monthFirst,ROW()-ROW(J$45),DAY(J$45)-1,1,1)) | L57: =IF(M$45="","",OFFSET(monthFirst,16+ROW()-ROW(M$45),DAY(M$45)-1,1,1)) | M57: =IF(M$45="","",OFFSET(monthFirst,ROW()-ROW(M$45),DAY(M$45)-1,1,1)) | O57: =IF(P$45="","",OFFSET(monthFirst,16+ROW()-ROW(P$45),DAY(P$45)-1,1,1)) | P57: =IF(P$45="","",OFFSET(monthFirst,ROW()-ROW(P$45),DAY(P$45)-1,1,1)) | R57: =IF(S$45="","",OFFSET(monthFirst,16+ROW()-ROW(S$45),DAY(S$45)-1,1,1)) | S57: =IF(S$45="","",OFFSET(monthFirst,ROW()-ROW(S$45),DAY(S$45)-1,1,1)) | U57: =IF(V$45="","",OFFSET(monthFirst,16+ROW()-ROW(V$45),DAY(V$45)-1,1,1)) | V57: =IF(V$45="","",OFFSET(monthFirst,ROW()-ROW(V$45),DAY(V$45)-1,1,1))
... C61: =IF(D$45="","",OFFSET(monthFirst,16+ROW()-ROW(D$45),DAY(D$45)-1,1,1)) | D61: =IF(D$45="","",OFFSET(monthFirst,ROW()-ROW(D$45),DAY(D$45)-1,1,1)) | F61: =IF(G$45="","",OFFSET(monthFirst,16+ROW()-ROW(G$45),DAY(G$45)-1,1,1)) | G61: =IF(G$45="","",OFFSET(monthFirst,ROW()-ROW(G$45),DAY(G$45)-1,1,1)) | I61: =IF(J$45="","",OFFSET(monthFirst,16+ROW()-ROW(J$45),DAY(J$45)-1,1,1)) | J61: =IF(J$45="","",OFFSET(monthFirst,ROW()-ROW(J$45),DAY(J$45)-1,1,1)) | L61: =IF(M$45="","",OFFSET(monthFirst,16+ROW()-ROW(M$45),DAY(M$45)-1,1,1)) | M61: =IF(M$45="","",OFFSET(monthFirst,ROW()-ROW(M$45),DAY(M$45)-1,1,1)) | O61: =IF(P$45="","",OFFSET(monthFirst,16+ROW()-ROW(P$45),DAY(P$45)-1,1,1)) | P61: =IF(P$45="","",OFFSET(monthFirst,ROW()-ROW(P$45),DAY(P$45)-1,1,1)) | R61: =IF(S$45="","",OFFSET(monthFirst,16+ROW()-ROW(S$45),DAY(S$45)-1,1,1)) | S61: =IF(S$45="","",OFFSET(monthFirst,ROW()-ROW(S$45),DAY(S$45)-1,1,1)) | U61: =IF(V$45="","",OFFSET(monthFirst,16+ROW()-ROW(V$45),DAY(V$45)-1,1,1)) | V61: =IF(V$45="","",OFFSET(monthFirst,ROW()-ROW(V$45),DAY(V$45)-1,1,1))
D63: =IFERROR(IF(V45+1>endOfMonth,"",V45+1),"") -> 45068 | G63: =IFERROR(IF(D63+1>endOfMonth,"",D63+1),"") -> 45069 | J63: =IFERROR(IF(G63+1>endOfMonth,"",G63+1),"") -> 45070 | M63: =IFERROR(IF(J63+1>endOfMonth,"",J63+1),"") -> 45071 | P63: =IFERROR(IF(M63+1>endOfMonth,"",M63+1),"") -> 45072 | S63: =IFERROR(IF(P63+1>endOfMonth,"",P63+1),"") -> 45073 | V63: =IFERROR(IF(S63+1>endOfMonth,"",S63+1),"") -> 45074
C64: =IF(D$63="","",OFFSET(monthFirst,16+ROW()-ROW(D$63),DAY(D$63)-1,1,1)) -> Meeting | D64: =IF(D$63="","",OFFSET(monthFirst,ROW()-ROW(D$63),DAY(D$63)-1,1,1)) -> Team Lunch - 12:00 | F64: =IF(G$63="","",OFFSET(monthFirst,16+ROW()-ROW(G$63),DAY(G$63)-1,1,1)) -> Meeting | G64: =IF(G$63="","",OFFSET(monthFirst,ROW()-ROW(G$63),DAY(G$63)-1,1,1)) -> Training Session - All day | I64: =IF(J$63="","",OFFSET(monthFirst,16+ROW()-ROW(J$63),DAY(J$63)-1,1,1)) -> Meeting | J64: =IF(J$63="","",OFFSET(monthFirst,ROW()-ROW(J$63),DAY(J$63)-1,1,1)) -> Training Session - All day | L64: =IF(M$63="","",OFFSET(monthFirst,16+ROW()-ROW(M$63),DAY(M$63)-1,1,1)) -> Meeting | M64: =IF(M$63="","",OFFSET(monthFirst,ROW()-ROW(M$63),DAY(M$63)-1,1,1)) -> Training Session - All day | O64: =IF(P$63="","",OFFSET(monthFirst,16+ROW()-ROW(P$63),DAY(P$63)-1,1,1)) -> Reminder | P64: =IF(P$63="","",OFFSET(monthFirst,ROW()-ROW(P$63),DAY(P$63)-1,1,1)) -> Conference - All day | R64: =IF(S$63="","",OFFSET(monthFirst,16+ROW()-ROW(S$63),DAY(S$63)-1,1,1)) -> Reminder | S64: =IF(S$63="","",OFFSET(monthFirst,ROW()-ROW(S$63),DAY(S$63)-1,1,1)) -> Family BBQ - All day | U64: =IF(V$63="","",OFFSET(monthFirst,16+ROW()-ROW(V$63),DAY(V$63)-1,1,1)) -> Meeting | V64: =IF(V$63="","",OFFSET(monthFirst,ROW()-ROW(V$63),DAY(V$63)-1,1,1)) -> Meeting with David - 11:00
C65: =IF(D$63="","",OFFSET(monthFirst,16+ROW()-ROW(D$63),DAY(D$63)-1,1,1)) | D65: =IF(D$63="","",OFFSET(monthFirst,ROW()-ROW(D$63),DAY(D$63)-1,1,1)) | F65: =IF(G$63="","",OFFSET(monthFirst,16+ROW()-ROW(G$63),DAY(G$63)-1,1,1)) | G65: =IF(G$63="","",OFFSET(monthFirst,ROW()-ROW(G$63),DAY(G$63)-1,1,1)) | I65: =IF(J$63="","",OFFSET(monthFirst,16+ROW()-ROW(J$63),DAY(J$63)-1,1,1)) -> Reminder | J65: =IF(J$63="","",OFFSET(monthFirst,ROW()-ROW(J$63),DAY(J$63)-1,1,1)) -> Conference - All day | L65: =IF(M$63="","",OFFSET(monthFirst,16+ROW()-ROW(M$63),DAY(M$63)-1,1,1)) -> Reminder | M65: =IF(M$63="","",OFFSET(monthFirst,ROW()-ROW(M$63),DAY(M$63)-1,1,1)) -> Conference - All day | O65: =IF(P$63="","",OFFSET(monthFirst,16+ROW()-ROW(P$63),DAY(P$63)-1,1,1)) -> Call | P65: =IF(P$63="","",OFFSET(monthFirst,ROW()-ROW(P$63),DAY(P$63)-1,1,1)) -> Call with Supplier - 15:30 | R65: =IF(S$63="","",OFFSET(monthFirst,16+ROW()-ROW(S$63),DAY(S$63)-1,1,1)) | S65: =IF(S$63="","",OFFSET(monthFirst,ROW()-ROW(S$63),DAY(S$63)-1,1,1)) | U65: =IF(V$63="","",OFFSET(monthFirst,16+ROW()-ROW(V$63),DAY(V$63)-1,1,1)) -> Meeting | V65: =IF(V$63="","",OFFSET(monthFirst,ROW()-ROW(V$63),DAY(V$63)-1,1,1)) -> Lunch with Sarah - 12:30
C66: =IF(D$63="","",OFFSET(monthFirst,16+ROW()-ROW(D$63),DAY(D$63)-1,1,1)) | D66: =IF(D$63="","",OFFSET(monthFirst,ROW()-ROW(D$63),DAY(D$63)-1,1,1)) | F66: =IF(G$63="","",OFFSET(monthFirst,16+ROW()-ROW(G$63),DAY(G$63)-1,1,1)) | G66: =IF(G$63="","",OFFSET(monthFirst,ROW()-ROW(G$63),DAY(G$63)-1,1,1)) | I66: =IF(J$63="","",OFFSET(monthFirst,16+ROW()-ROW(J$63),DAY(J$63)-1,1,1)) | J66: =IF(J$63="","",OFFSET(monthFirst,ROW()-ROW(J$63),DAY(J$63)-1,1,1)) | L66: =IF(M$63="","",OFFSET(monthFirst,16+ROW()-ROW(M$63),DAY(M$63)-1,1,1)) | M66: =IF(M$63="","",OFFSET(monthFirst,ROW()-ROW(M$63),DAY(M$63)-1,1,1)) | O66: =IF(P$63="","",OFFSET(monthFirst,16+ROW()-ROW(P$63),DAY(P$63)-1,1,1)) | P66: =IF(P$63="","",OFFSET(monthFirst,ROW()-ROW(P$63),DAY(P$63)-1,1,1)) | R66: =IF(S$63="","",OFFSET(monthFirst,16+ROW()-ROW(S$63),DAY(S$63)-1,1,1)) | S66: =IF(S$63="","",OFFSET(monthFirst,ROW()-ROW(S$63),DAY(S$63)-1,1,1)) | U66: =IF(V$63="","",OFFSET(monthFirst,16+ROW()-ROW(V$63),DAY(V$63)-1,1,1)) | V66: =IF(V$63="","",OFFSET(monthFirst,ROW()-ROW(V$63),DAY(V$63)-1,1,1))
C67: =IF(D$63="","",OFFSET(monthFirst,16+ROW()-ROW(D$63),DAY(D$63)-1,1,1)) | D67: =IF(D$63="","",OFFSET(monthFirst,ROW()-ROW(D$63),DAY(D$63)-1,1,1)) | F67: =IF(G$63="","",OFFSET(monthFirst,16+ROW()-ROW(G$63),DAY(G$63)-1,1,1)) | G67: =IF(G$63="","",OFFSET(monthFirst,ROW()-ROW(G$63),DAY(G$63)-1,1,1)) | I67: =IF(J$63="","",OFFSET(monthFirst,16+ROW()-ROW(J$63),DAY(J$63)-1,1,1)) | J67: =IF(J$63="","",OFFSET(monthFirst,ROW()-ROW(J$63),DAY(J$63)-1,1,1)) | L67: =IF(M$63="","",OFFSET(monthFirst,16+ROW()-ROW(M$63),DAY(M$63)-1,1,1)) | M67: =IF(M$63="","",OFFSET(monthFirst,ROW()-ROW(M$63),DAY(M$63)-1,1,1)) | O67: =IF(P$63="","",OFFSET(monthFirst,16+ROW()-ROW(P$63),DAY(P$63)-1,1,1)) | P67: =IF(P$63="","",OFFSET(monthFirst,ROW()-ROW(P$63),DAY(P$63)-1,1,1)) | R67: =IF(S$63="","",OFFSET(monthFirst,16+ROW()-ROW(S$63),DAY(S$63)-1,1,1)) | S67: =IF(S$63="","",OFFSET(monthFirst,ROW()-ROW(S$63),DAY(S$63)-1,1,1)) | U67: =IF(V$63="","",OFFSET(monthFirst,16+ROW()-ROW(V$63),DAY(V$63)-1,1,1)) | V67: =IF(V$63="","",OFFSET(monthFirst,ROW()-ROW(V$63),DAY(V$63)-1,1,1))
C68: =IF(D$63="","",OFFSET(monthFirst,16+ROW()-ROW(D$63),DAY(D$63)-1,1,1)) | D68: =IF(D$63="","",OFFSET(monthFirst,ROW()-ROW(D$63),DAY(D$63)-1,1,1)) | F68: =IF(G$63="","",OFFSET(monthFirst,16+ROW()-ROW(G$63),DAY(G$63)-1,1,1)) | G68: =IF(G$63="","",OFFSET(monthFirst,ROW()-ROW(G$63),DAY(G$63)-1,1,1)) | I68: =IF(J$63="","",OFFSET(monthFirst,16+ROW()-ROW(J$63),DAY(J$63)-1,1,1)) | J68: =IF(J$63="","",OFFSET(monthFirst,ROW()-ROW(J$63),DAY(J$63)-1,1,1)) | L68: =IF(M$63="","",OFFSET(monthFirst,16+ROW()-ROW(M$63),DAY(M$63)-1,1,1)) | M68: =IF(M$63="","",OFFSET(monthFirst,ROW()-ROW(M$63),DAY(M$63)-1,1,1)) | O68: =IF(P$63="","",OFFSET(monthFirst,16+ROW()-ROW(P$63),DAY(P$63)-1,1,1)) | P68: =IF(P$63="","",OFFSET(monthFirst,ROW()-ROW(P$63),DAY(P$63)-1,1,1)) | R68: =IF(S$63="","",OFFSET(monthFirst,16+ROW()-ROW(S$63),DAY(S$63)-1,1,1)) | S68: =IF(S$63="","",OFFSET(monthFirst,ROW()-ROW(S$63),DAY(S$63)-1,1,1)) | U68: =IF(V$63="","",OFFSET(monthFirst,16+ROW()-ROW(V$63),DAY(V$63)-1,1,1)) | V68: =IF(V$63="","",OFFSET(monthFirst,ROW()-ROW(V$63),DAY(V$63)-1,1,1))
C69: =IF(D$63="","",OFFSET(monthFirst,16+ROW()-ROW(D$63),DAY(D$63)-1,1,1)) | D69: =IF(D$63="","",OFFSET(monthFirst,ROW()-ROW(D$63),DAY(D$63)-1,1,1)) | F69: =IF(G$63="","",OFFSET(monthFirst,16+ROW()-ROW(G$63),DAY(G$63)-1,1,1)) | G69: =IF(G$63="","",OFFSET(monthFirst,ROW()-ROW(G$63),DAY(G$63)-1,1,1)) | I69: =IF(J$63="","",OFFSET(monthFirst,16+ROW()-ROW(J$63),DAY(J$63)-1,1,1)) | J69: =IF(J$63="","",OFFSET(monthFirst,ROW()-ROW(J$63),DAY(J$63)-1,1,1)) | L69: =IF(M$63="","",OFFSET(monthFirst,16+ROW()-ROW(M$63),DAY(M$63)-1,1,1)) | M69: =IF(M$63="","",OFFSET(monthFirst,ROW()-ROW(M$63),DAY(M$63)-1,1,1)) | O69: =IF(P$63="","",OFFSET(monthFirst,16+ROW()-ROW(P$63),DAY(P$63)-1,1,1)) | P69: =IF(P$63="","",OFFSET(monthFirst,ROW()-ROW(P$63),DAY(P$63)-1,1,1)) | R69: =IF(S$63="","",OFFSET(monthFirst,16+ROW()-ROW(S$63),DAY(S$63)-1,1,1)) | S69: =IF(S$63="","",OFFSET(monthFirst,ROW()-ROW(S$63),DAY(S$63)-1,1,1)) | U69: =IF(V$63="","",OFFSET(monthFirst,16+ROW()-ROW(V$63),DAY(V$63)-1,1,1)) | V69: =IF(V$63="","",OFFSET(monthFirst,ROW()-ROW(V$63),DAY(V$63)-1,1,1))
C70: =IF(D$63="","",OFFSET(monthFirst,16+ROW()-ROW(D$63),DAY(D$63)-1,1,1)) | D70: =IF(D$63="","",OFFSET(monthFirst,ROW()-ROW(D$63),DAY(D$63)-1,1,1)) | F70: =IF(G$63="","",OFFSET(monthFirst,16+ROW()-ROW(G$63),DAY(G$63)-1,1,1)) | G70: =IF(G$63="","",OFFSET(monthFirst,ROW()-ROW(G$63),DAY(G$63)-1,1,1)) | I70: =IF(J$63="","",OFFSET(monthFirst,16+ROW()-ROW(J$63),DAY(J$63)-1,1,1)) | J70: =IF(J$63="","",OFFSET(monthFirst,ROW()-ROW(J$63),DAY(J$63)-1,1,1)) | L70: =IF(M$63="","",OFFSET(monthFirst,16+ROW()-ROW(M$63),DAY(M$63)-1,1,1)) | M70: =IF(M$63="","",OFFSET(monthFirst,ROW()-ROW(M$63),DAY(M$63)-1,1,1)) | O70: =IF(P$63="","",OFFSET(monthFirst,16+ROW()-ROW(P$63),DAY(P$63)-1,1,1)) | P70: =IF(P$63="","",OFFSET(monthFirst,ROW()-ROW(P$63),DAY(P$63)-1,1,1)) | R70: =IF(S$63="","",OFFSET(monthFirst,16+ROW()-ROW(S$63),DAY(S$63)-1,1,1)) | S70: =IF(S$63="","",OFFSET(monthFirst,ROW()-ROW(S$63),DAY(S$63)-1,1,1)) | U70: =IF(V$63="","",OFFSET(monthFirst,16+ROW()-ROW(V$63),DAY(V$63)-1,1,1)) | V70: =IF(V$63="","",OFFSET(monthFirst,ROW()-ROW(V$63),DAY(V$63)-1,1,1))
C71: =IF(D$63="","",OFFSET(monthFirst,16+ROW()-ROW(D$63),DAY(D$63)-1,1,1)) | D71: =IF(D$63="","",OFFSET(monthFirst,ROW()-ROW(D$63),DAY(D$63)-1,1,1)) | F71: =IF(G$63="","",OFFSET(monthFirst,16+ROW()-ROW(G$63),DAY(G$63)-1,1,1)) | G71: =IF(G$63="","",OFFSET(monthFirst,ROW()-ROW(G$63),DAY(G$63)-1,1,1)) | I71: =IF(J$63="","",OFFSET(monthFirst,16+ROW()-ROW(J$63),DAY(J$63)-1,1,1)) | J71: =IF(J$63="","",OFFSET(monthFirst,ROW()-ROW(J$63),DAY(J$63)-1,1,1)) | L71: =IF(M$63="","",OFFSET(monthFirst,16+ROW()-ROW(M$63),DAY(M$63)-1,1,1)) | M71: =IF(M$63="","",OFFSET(monthFirst,ROW()-ROW(M$63),DAY(M$63)-1,1,1)) | O71: =IF(P$63="","",OFFSET(monthFirst,16+ROW()-ROW(P$63),DAY(P$63)-1,1,1)) | P71: =IF(P$63="","",OFFSET(monthFirst,ROW()-ROW(P$63),DAY(P$63)-1,1,1)) | R71: =IF(S$63="","",OFFSET(monthFirst,16+ROW()-ROW(S$63),DAY(S$63)-1,1,1)) | S71: =IF(S$63="","",OFFSET(monthFirst,ROW()-ROW(S$63),DAY(S$63)-1,1,1)) | U71: =IF(V$63="","",OFFSET(monthFirst,16+ROW()-ROW(V$63),DAY(V$63)-1,1,1)) | V71: =IF(V$63="","",OFFSET(monthFirst,ROW()-ROW(V$63),DAY(V$63)-1,1,1))
C72: =IF(D$63="","",OFFSET(monthFirst,16+ROW()-ROW(D$63),DAY(D$63)-1,1,1)) | D72: =IF(D$63="","",OFFSET(monthFirst,ROW()-ROW(D$63),DAY(D$63)-1,1,1)) | F72: =IF(G$63="","",OFFSET(monthFirst,16+ROW()-ROW(G$63),DAY(G$63)-1,1,1)) | G72: =IF(G$63="","",OFFSET(monthFirst,ROW()-ROW(G$63),DAY(G$63)-1,1,1)) | I72: =IF(J$63="","",OFFSET(monthFirst,16+ROW()-ROW(J$63),DAY(J$63)-1,1,1)) | J72: =IF(J$63="","",OFFSET(monthFirst,ROW()-ROW(J$63),DAY(J$63)-1,1,1)) | L72: =IF(M$63="","",OFFSET(monthFirst,16+ROW()-ROW(M$63),DAY(M$63)-1,1,1)) | M72: =IF(M$63="","",OFFSET(monthFirst,ROW()-ROW(M$63),DAY(M$63)-1,1,1)) | O72: =IF(P$63="","",OFFSET(monthFirst,16+ROW()-ROW(P$63),DAY(P$63)-1,1,1)) | P72: =IF(P$63="","",OFFSET(monthFirst,ROW()-ROW(P$63),DAY(P$63)-1,1,1)) | R72: =IF(S$63="","",OFFSET(monthFirst,16+ROW()-ROW(S$63),DAY(S$63)-1,1,1)) | S72: =IF(S$63="","",OFFSET(monthFirst,ROW()-ROW(S$63),DAY(S$63)-1,1,1)) | U72: =IF(V$63="","",OFFSET(monthFirst,16+ROW()-ROW(V$63),DAY(V$63)-1,1,1)) | V72: =IF(V$63="","",OFFSET(monthFirst,ROW()-ROW(V$63),DAY(V$63)-1,1,1))
C73: =IF(D$63="","",OFFSET(monthFirst,16+ROW()-ROW(D$63),DAY(D$63)-1,1,1)) | D73: =IF(D$63="","",OFFSET(monthFirst,ROW()-ROW(D$63),DAY(D$63)-1,1,1)) | F73: =IF(G$63="","",OFFSET(monthFirst,16+ROW()-ROW(G$63),DAY(G$63)-1,1,1)) | G73: =IF(G$63="","",OFFSET(monthFirst,ROW()-ROW(G$63),DAY(G$63)-1,1,1)) | I73: =IF(J$63="","",OFFSET(monthFirst,16+ROW()-ROW(J$63),DAY(J$63)-1,1,1)) | J73: =IF(J$63="","",OFFSET(monthFirst,ROW()-ROW(J$63),DAY(J$63)-1,1,1)) | L73: =IF(M$63="","",OFFSET(monthFirst,16+ROW()-ROW(M$63),DAY(M$63)-1,1,1)) | M73: =IF(M$63="","",OFFSET(monthFirst,ROW()-ROW(M$63),DAY(M$63)-1,1,1)) | O73: =IF(P$63="","",OFFSET(monthFirst,16+ROW()-ROW(P$63),DAY(P$63)-1,1,1)) | P73: =IF(P$63="","",OFFSET(monthFirst,ROW()-ROW(P$63),DAY(P$63)-1,1,1)) | R73: =IF(S$63="","",OFFSET(monthFirst,16+ROW()-ROW(S$63),DAY(S$63)-1,1,1)) | S73: =IF(S$63="","",OFFSET(monthFirst,ROW()-ROW(S$63),DAY(S$63)-1,1,1)) | U73: =IF(V$63="","",OFFSET(monthFirst,16+ROW()-ROW(V$63),DAY(V$63)-1,1,1)) | V73: =IF(V$63="","",OFFSET(monthFirst,ROW()-ROW(V$63),DAY(V$63)-1,1,1))
C74: =IF(D$63="","",OFFSET(monthFirst,16+ROW()-ROW(D$63),DAY(D$63)-1,1,1)) | D74: =IF(D$63="","",OFFSET(monthFirst,ROW()-ROW(D$63),DAY(D$63)-1,1,1)) | F74: =IF(G$63="","",OFFSET(monthFirst,16+ROW()-ROW(G$63),DAY(G$63)-1,1,1)) | G74: =IF(G$63="","",OFFSET(monthFirst,ROW()-ROW(G$63),DAY(G$63)-1,1,1)) | I74: =IF(J$63="","",OFFSET(monthFirst,16+ROW()-ROW(J$63),DAY(J$63)-1,1,1)) | J74: =IF(J$63="","",OFFSET(monthFirst,ROW()-ROW(J$63),DAY(J$63)-1,1,1)) | L74: =IF(M$63="","",OFFSET(monthFirst,16+ROW()-ROW(M$63),DAY(M$63)-1,1,1)) | M74: =IF(M$63="","",OFFSET(monthFirst,ROW()-ROW(M$63),DAY(M$63)-1,1,1)) | O74: =IF(P$63="","",OFFSET(monthFirst,16+ROW()-ROW(P$63),DAY(P$63)-1,1,1)) | P74: =IF(P$63="","",OFFSET(monthFirst,ROW()-ROW(P$63),DAY(P$63)-1,1,1)) | R74: =IF(S$63="","",OFFSET(monthFirst,16+ROW()-ROW(S$63),DAY(S$63)-1,1,1)) | S74: =IF(S$63="","",OFFSET(monthFirst,ROW()-ROW(S$63),DAY(S$63)-1,1,1)) | U74: =IF(V$63="","",OFFSET(monthFirst,16+ROW()-ROW(V$63),DAY(V$63)-1,1,1)) | V74: =IF(V$63="","",OFFSET(monthFirst,ROW()-ROW(V$63),DAY(V$63)-1,1,1))
C75: =IF(D$63="","",OFFSET(monthFirst,16+ROW()-ROW(D$63),DAY(D$63)-1,1,1)) | D75: =IF(D$63="","",OFFSET(monthFirst,ROW()-ROW(D$63),DAY(D$63)-1,1,1)) | F75: =IF(G$63="","",OFFSET(monthFirst,16+ROW()-ROW(G$63),DAY(G$63)-1,1,1)) | G75: =IF(G$63="","",OFFSET(monthFirst,ROW()-ROW(G$63),DAY(G$63)-1,1,1)) | I75: =IF(J$63="","",OFFSET(monthFirst,16+ROW()-ROW(J$63),DAY(J$63)-1,1,1)) | J75: =IF(J$63="","",OFFSET(monthFirst,ROW()-ROW(J$63),DAY(J$63)-1,1,1)) | L75: =IF(M$63="","",OFFSET(monthFirst,16+ROW()-ROW(M$63),DAY(M$63)-1,1,1)) | M75: =IF(M$63="","",OFFSET(monthFirst,ROW()-ROW(M$63),DAY(M$63)-1,1,1)) | O75: =IF(P$63="","",OFFSET(monthFirst,16+ROW()-ROW(P$63),DAY(P$63)-1,1,1)) | P75: =IF(P$63="","",OFFSET(monthFirst,ROW()-ROW(P$63),DAY(P$63)-1,1,1)) | R75: =IF(S$63="","",OFFSET(monthFirst,16+ROW()-ROW(S$63),DAY(S$63)-1,1,1)) | S75: =IF(S$63="","",OFFSET(monthFirst,ROW()-ROW(S$63),DAY(S$63)-1,1,1)) | U75: =IF(V$63="","",OFFSET(monthFirst,16+ROW()-ROW(V$63),DAY(V$63)-1,1,1)) | V75: =IF(V$63="","",OFFSET(monthFirst,ROW()-ROW(V$63),DAY(V$63)-1,1,1))
... C79: =IF(D$63="","",OFFSET(monthFirst,16+ROW()-ROW(D$63),DAY(D$63)-1,1,1)) | D79: =IF(D$63="","",OFFSET(monthFirst,ROW()-ROW(D$63),DAY(D$63)-1,1,1)) | F79: =IF(G$63="","",OFFSET(monthFirst,16+ROW()-ROW(G$63),DAY(G$63)-1,1,1)) | G79: =IF(G$63="","",OFFSET(monthFirst,ROW()-ROW(G$63),DAY(G$63)-1,1,1)) | I79: =IF(J$63="","",OFFSET(monthFirst,16+ROW()-ROW(J$63),DAY(J$63)-1,1,1)) | J79: =IF(J$63="","",OFFSET(monthFirst,ROW()-ROW(J$63),DAY(J$63)-1,1,1)) | L79: =IF(M$63="","",OFFSET(monthFirst,16+ROW()-ROW(M$63),DAY(M$63)-1,1,1)) | M79: =IF(M$63="","",OFFSET(monthFirst,ROW()-ROW(M$63),DAY(M$63)-1,1,1)) | O79: =IF(P$63="","",OFFSET(monthFirst,16+ROW()-ROW(P$63),DAY(P$63)-1,1,1)) | P79: =IF(P$63="","",OFFSET(monthFirst,ROW()-ROW(P$63),DAY(P$63)-1,1,1)) | R79: =IF(S$63="","",OFFSET(monthFirst,16+ROW()-ROW(S$63),DAY(S$63)-1,1,1)) | S79: =IF(S$63="","",OFFSET(monthFirst,ROW()-ROW(S$63),DAY(S$63)-1,1,1)) | U79: =IF(V$63="","",OFFSET(monthFirst,16+ROW()-ROW(V$63),DAY(V$63)-1,1,1)) | V79: =IF(V$63="","",OFFSET(monthFirst,ROW()-ROW(V$63),DAY(V$63)-1,1,1))
D81: =IFERROR(IF(V63+1>endOfMonth,"",V63+1),"") -> 45075 | G81: =IFERROR(IF(D81+1>endOfMonth,"",D81+1),"") -> 45076 | J81: =IFERROR(IF(G81+1>endOfMonth,"",G81+1),"") -> 45077 | M81: =IFERROR(IF(J81+1>endOfMonth,"",J81+1),"") | P81: =IFERROR(IF(M81+1>endOfMonth,"",M81+1),"") | S81: =IFERROR(IF(P81+1>endOfMonth,"",P81+1),"") | V81: =IFERROR(IF(S81+1>endOfMonth,"",S81+1),"")
C82: =IF(D$81="","",OFFSET(monthFirst,16+ROW()-ROW(D$81),DAY(D$81)-1,1,1)) -> Reminder | D82: =IF(D$81="","",OFFSET(monthFirst,ROW()-ROW(D$81),DAY(D$81)-1,1,1)) -> Family Gathering - All day | F82: =IF(G$81="","",OFFSET(monthFirst,16+ROW()-ROW(G$81),DAY(G$81)-1,1,1)) -> Reminder | G82: =IF(G$81="","",OFFSET(monthFirst,ROW()-ROW(G$81),DAY(G$81)-1,1,1)) -> Family Gathering - All day | I82: =IF(J$81="","",OFFSET(monthFirst,16+ROW()-ROW(J$81),DAY(J$81)-1,1,1)) -> Reminder | J82: =IF(J$81="","",OFFSET(monthFirst,ROW()-ROW(J$81),DAY(J$81)-1,1,1)) -> Family Gathering - All day | L82: =IF(M$81="","",OFFSET(monthFirst,16+ROW()-ROW(M$81),DAY(M$81)-1,1,1)) | M82: =IF(M$81="","",OFFSET(monthFirst,ROW()-ROW(M$81),DAY(M$81)-1,1,1)) | O82: =IF(P$81="","",OFFSET(monthFirst,16+ROW()-ROW(P$81),DAY(P$81)-1,1,1)) | P82: =IF(P$81="","",OFFSET(monthFirst,ROW()-ROW(P$81),DAY(P$81)-1,1,1)) | R82: =IF(S$81="","",OFFSET(monthFirst,16+ROW()-ROW(S$81),DAY(S$81)-1,1,1)) | S82: =IF(S$81="","",OFFSET(monthFirst,ROW()-ROW(S$81),DAY(S$81)-1,1,1)) | U82: =IF(V$81="","",OFFSET(monthFirst,16+ROW()-ROW(V$81),DAY(V$81)-1,1,1)) | V82: =IF(V$81="","",OFFSET(monthFirst,ROW()-ROW(V$81),DAY(V$81)-1,1,1))
C83: =IF(D$81="","",OFFSET(monthFirst,16+ROW()-ROW(D$81),DAY(D$81)-1,1,1)) | D83: =IF(D$81="","",OFFSET(monthFirst,ROW()-ROW(D$81),DAY(D$81)-1,1,1)) | F83: =IF(G$81="","",OFFSET(monthFirst,16+ROW()-ROW(G$81),DAY(G$81)-1,1,1)) | G83: =IF(G$81="","",OFFSET(monthFirst,ROW()-ROW(G$81),DAY(G$81)-1,1,1)) | I83: =IF(J$81="","",OFFSET(monthFirst,16+ROW()-ROW(J$81),DAY(J$81)-1,1,1)) | J83: =IF(J$81="","",OFFSET(monthFirst,ROW()-ROW(J$81),DAY(J$81)-1,1,1)) | L83: =IF(M$81="","",OFFSET(monthFirst,16+ROW()-ROW(M$81),DAY(M$81)-1,1,1)) | M83: =IF(M$81="","",OFFSET(monthFirst,ROW()-ROW(M$81),DAY(M$81)-1,1,1)) | O83: =IF(P$81="","",OFFSET(monthFirst,16+ROW()-ROW(P$81),DAY(P$81)-1,1,1)) | P83: =IF(P$81="","",OFFSET(monthFirst,ROW()-ROW(P$81),DAY(P$81)-1,1,1)) | R83: =IF(S$81="","",OFFSET(monthFirst,16+ROW()-ROW(S$81),DAY(S$81)-1,1,1)) | S83: =IF(S$81="","",OFFSET(monthFirst,ROW()-ROW(S$81),DAY(S$81)-1,1,1)) | U83: =IF(V$81="","",OFFSET(monthFirst,16+ROW()-ROW(V$81),DAY(V$81)-1,1,1)) | V83: =IF(V$81="","",OFFSET(monthFirst,ROW()-ROW(V$81),DAY(V$81)-1,1,1))
C84: =IF(D$81="","",OFFSET(monthFirst,16+ROW()-ROW(D$81),DAY(D$81)-1,1,1)) | D84: =IF(D$81="","",OFFSET(monthFirst,ROW()-ROW(D$81),DAY(D$81)-1,1,1)) | F84: =IF(G$81="","",OFFSET(monthFirst,16+ROW()-ROW(G$81),DAY(G$81)-1,1,1)) | G84: =IF(G$81="","",OFFSET(monthFirst,ROW()-ROW(G$81),DAY(G$81)-1,1,1)) | I84: =IF(J$81="","",OFFSET(monthFirst,16+ROW()-ROW(J$81),DAY(J$81)-1,1,1)) | J84: =IF(J$81="","",OFFSET(monthFirst,ROW()-ROW(J$81),DAY(J$81)-1,1,1)) | L84: =IF(M$81="","",OFFSET(monthFirst,16+ROW()-ROW(M$81),DAY(M$81)-1,1,1)) | M84: =IF(M$81="","",OFFSET(monthFirst,ROW()-ROW(M$81),DAY(M$81)-1,1,1)) | O84: =IF(P$81="","",OFFSET(monthFirst,16+ROW()-ROW(P$81),DAY(P$81)-1,1,1)) | P84: =IF(P$81="","",OFFSET(monthFirst,ROW()-ROW(P$81),DAY(P$81)-1,1,1)) | R84: =IF(S$81="","",OFFSET(monthFirst,16+ROW()-ROW(S$81),DAY(S$81)-1,1,1)) | S84: =IF(S$81="","",OFFSET(monthFirst,ROW()-ROW(S$81),DAY(S$81)-1,1,1)) | U84: =IF(V$81="","",OFFSET(monthFirst,16+ROW()-ROW(V$81),DAY(V$81)-1,1,1)) | V84: =IF(V$81="","",OFFSET(monthFirst,ROW()-ROW(V$81),DAY(V$81)-1,1,1))
C85: =IF(D$81="","",OFFSET(monthFirst,16+ROW()-ROW(D$81),DAY(D$81)-1,1,1)) | D85: =IF(D$81="","",OFFSET(monthFirst,ROW()-ROW(D$81),DAY(D$81)-1,1,1)) | F85: =IF(G$81="","",OFFSET(monthFirst,16+ROW()-ROW(G$81),DAY(G$81)-1,1,1)) | G85: =IF(G$81="","",OFFSET(monthFirst,ROW()-ROW(G$81),DAY(G$81)-1,1,1)) | I85: =IF(J$81="","",OFFSET(monthFirst,16+ROW()-ROW(J$81),DAY(J$81)-1,1,1)) | J85: =IF(J$81="","",OFFSET(monthFirst,ROW()-ROW(J$81),DAY(J$81)-1,1,1)) | L85: =IF(M$81="","",OFFSET(monthFirst,16+ROW()-ROW(M$81),DAY(M$81)-1,1,1)) | M85: =IF(M$81="","",OFFSET(monthFirst,ROW()-ROW(M$81),DAY(M$81)-1,1,1)) | O85: =IF(P$81="","",OFFSET(monthFirst,16+ROW()-ROW(P$81),DAY(P$81)-1,1,1)) | P85: =IF(P$81="","",OFFSET(monthFirst,ROW()-ROW(P$81),DAY(P$81)-1,1,1)) | R85: =IF(S$81="","",OFFSET(monthFirst,16+ROW()-ROW(S$81),DAY(S$81)-1,1,1)) | S85: =IF(S$81="","",OFFSET(monthFirst,ROW()-ROW(S$81),DAY(S$81)-1,1,1)) | U85: =IF(V$81="","",OFFSET(monthFirst,16+ROW()-ROW(V$81),DAY(V$81)-1,1,1)) | V85: =IF(V$81="","",OFFSET(monthFirst,ROW()-ROW(V$81),DAY(V$81)-1,1,1))
C86: =IF(D$81="","",OFFSET(monthFirst,16+ROW()-ROW(D$81),DAY(D$81)-1,1,1)) | D86: =IF(D$81="","",OFFSET(monthFirst,ROW()-ROW(D$81),DAY(D$81)-1,1,1)) | F86: =IF(G$81="","",OFFSET(monthFirst,16+ROW()-ROW(G$81),DAY(G$81)-1,1,1)) | G86: =IF(G$81="","",OFFSET(monthFirst,ROW()-ROW(G$81),DAY(G$81)-1,1,1)) | I86: =IF(J$81="","",OFFSET(monthFirst,16+ROW()-ROW(J$81),DAY(J$81)-1,1,1)) | J86: =IF(J$81="","",OFFSET(monthFirst,ROW()-ROW(J$81),DAY(J$81)-1,1,1)) | L86: =IF(M$81="","",OFFSET(monthFirst,16+ROW()-ROW(M$81),DAY(M$81)-1,1,1)) | M86: =IF(M$81="","",OFFSET(monthFirst,ROW()-ROW(M$81),DAY(M$81)-1,1,1)) | O86: =IF(P$81="","",OFFSET(monthFirst,16+ROW()-ROW(P$81),DAY(P$81)-1,1,1)) | P86: =IF(P$81="","",OFFSET(monthFirst,ROW()-ROW(P$81),DAY(P$81)-1,1,1)) | R86: =IF(S$81="","",OFFSET(monthFirst,16+ROW()-ROW(S$81),DAY(S$81)-1,1,1)) | S86: =IF(S$81="","",OFFSET(monthFirst,ROW()-ROW(S$81),DAY(S$81)-1,1,1)) | U86: =IF(V$81="","",OFFSET(monthFirst,16+ROW()-ROW(V$81),DAY(V$81)-1,1,1)) | V86: =IF(V$81="","",OFFSET(monthFirst,ROW()-ROW(V$81),DAY(V$81)-1,1,1))
C87: =IF(D$81="","",OFFSET(monthFirst,16+ROW()-ROW(D$81),DAY(D$81)-1,1,1)) | D87: =IF(D$81="","",OFFSET(monthFirst,ROW()-ROW(D$81),DAY(D$81)-1,1,1)) | F87: =IF(G$81="","",OFFSET(monthFirst,16+ROW()-ROW(G$81),DAY(G$81)-1,1,1)) | G87: =IF(G$81="","",OFFSET(monthFirst,ROW()-ROW(G$81),DAY(G$81)-1,1,1)) | I87: =IF(J$81="","",OFFSET(monthFirst,16+ROW()-ROW(J$81),DAY(J$81)-1,1,1)) | J87: =IF(J$81="","",OFFSET(monthFirst,ROW()-ROW(J$81),DAY(J$81)-1,1,1)) | L87: =IF(M$81="","",OFFSET(monthFirst,16+ROW()-ROW(M$81),DAY(M$81)-1,1,1)) | M87: =IF(M$81="","",OFFSET(monthFirst,ROW()-ROW(M$81),DAY(M$81)-1,1,1)) | O87: =IF(P$81="","",OFFSET(monthFirst,16+ROW()-ROW(P$81),DAY(P$81)-1,1,1)) | P87: =IF(P$81="","",OFFSET(monthFirst,ROW()-ROW(P$81),DAY(P$81)-1,1,1)) | R87: =IF(S$81="","",OFFSET(monthFirst,16+ROW()-ROW(S$81),DAY(S$81)-1,1,1)) | S87: =IF(S$81="","",OFFSET(monthFirst,ROW()-ROW(S$81),DAY(S$81)-1,1,1)) | U87: =IF(V$81="","",OFFSET(monthFirst,16+ROW()-ROW(V$81),DAY(V$81)-1,1,1)) | V87: =IF(V$81="","",OFFSET(monthFirst,ROW()-ROW(V$81),DAY(V$81)-1,1,1))
C88: =IF(D$81="","",OFFSET(monthFirst,16+ROW()-ROW(D$81),DAY(D$81)-1,1,1)) | D88: =IF(D$81="","",OFFSET(monthFirst,ROW()-ROW(D$81),DAY(D$81)-1,1,1)) | F88: =IF(G$81="","",OFFSET(monthFirst,16+ROW()-ROW(G$81),DAY(G$81)-1,1,1)) | G88: =IF(G$81="","",OFFSET(monthFirst,ROW()-ROW(G$81),DAY(G$81)-1,1,1)) | I88: =IF(J$81="","",OFFSET(monthFirst,16+ROW()-ROW(J$81),DAY(J$81)-1,1,1)) | J88: =IF(J$81="","",OFFSET(monthFirst,ROW()-ROW(J$81),DAY(J$81)-1,1,1)) | L88: =IF(M$81="","",OFFSET(monthFirst,16+ROW()-ROW(M$81),DAY(M$81)-1,1,1)) | M88: =IF(M$81="","",OFFSET(monthFirst,ROW()-ROW(M$81),DAY(M$81)-1,1,1)) | O88: =IF(P$81="","",OFFSET(monthFirst,16+ROW()-ROW(P$81),DAY(P$81)-1,1,1)) | P88: =IF(P$81="","",OFFSET(monthFirst,ROW()-ROW(P$81),DAY(P$81)-1,1,1)) | R88: =IF(S$81="","",OFFSET(monthFirst,16+ROW()-ROW(S$81),DAY(S$81)-1,1,1)) | S88: =IF(S$81="","",OFFSET(monthFirst,ROW()-ROW(S$81),DAY(S$81)-1,1,1)) | U88: =IF(V$81="","",OFFSET(monthFirst,16+ROW()-ROW(V$81),DAY(V$81)-1,1,1)) | V88: =IF(V$81="","",OFFSET(monthFirst,ROW()-ROW(V$81),DAY(V$81)-1,1,1))
C89: =IF(D$81="","",OFFSET(monthFirst,16+ROW()-ROW(D$81),DAY(D$81)-1,1,1)) | D89: =IF(D$81="","",OFFSET(monthFirst,ROW()-ROW(D$81),DAY(D$81)-1,1,1)) | F89: =IF(G$81="","",OFFSET(monthFirst,16+ROW()-ROW(G$81),DAY(G$81)-1,1,1)) | G89: =IF(G$81="","",OFFSET(monthFirst,ROW()-ROW(G$81),DAY(G$81)-1,1,1)) | I89: =IF(J$81="","",OFFSET(monthFirst,16+ROW()-ROW(J$81),DAY(J$81)-1,1,1)) | J89: =IF(J$81="","",OFFSET(monthFirst,ROW()-ROW(J$81),DAY(J$81)-1,1,1)) | L89: =IF(M$81="","",OFFSET(monthFirst,16+ROW()-ROW(M$81),DAY(M$81)-1,1,1)) | M89: =IF(M$81="","",OFFSET(monthFirst,ROW()-ROW(M$81),DAY(M$81)-1,1,1)) | O89: =IF(P$81="","",OFFSET(monthFirst,16+ROW()-ROW(P$81),DAY(P$81)-1,1,1)) | P89: =IF(P$81="","",OFFSET(monthFirst,ROW()-ROW(P$81),DAY(P$81)-1,1,1)) | R89: =IF(S$81="","",OFFSET(monthFirst,16+ROW()-ROW(S$81),DAY(S$81)-1,1,1)) | S89: =IF(S$81="","",OFFSET(monthFirst,ROW()-ROW(S$81),DAY(S$81)-1,1,1)) | U89: =IF(V$81="","",OFFSET(monthFirst,16+ROW()-ROW(V$81),DAY(V$81)-1,1,1)) | V89: =IF(V$81="","",OFFSET(monthFirst,ROW()-ROW(V$81),DAY(V$81)-1,1,1))
C90: =IF(D$81="","",OFFSET(monthFirst,16+ROW()-ROW(D$81),DAY(D$81)-1,1,1)) | D90: =IF(D$81="","",OFFSET(monthFirst,ROW()-ROW(D$81),DAY(D$81)-1,1,1)) | F90: =IF(G$81="","",OFFSET(monthFirst,16+ROW()-ROW(G$81),DAY(G$81)-1,1,1)) | G90: =IF(G$81="","",OFFSET(monthFirst,ROW()-ROW(G$81),DAY(G$81)-1,1,1)) | I90: =IF(J$81="","",OFFSET(monthFirst,16+ROW()-ROW(J$81),DAY(J$81)-1,1,1)) | J90: =IF(J$81="","",OFFSET(monthFirst,ROW()-ROW(J$81),DAY(J$81)-1,1,1)) | L90: =IF(M$81="","",OFFSET(monthFirst,16+ROW()-ROW(M$81),DAY(M$81)-1,1,1)) | M90: =IF(M$81="","",OFFSET(monthFirst,ROW()-ROW(M$81),DAY(M$81)-1,1,1)) | O90: =IF(P$81="","",OFFSET(monthFirst,16+ROW()-ROW(P$81),DAY(P$81)-1,1,1)) | P90: =IF(P$81="","",OFFSET(monthFirst,ROW()-ROW(P$81),DAY(P$81)-1,1,1)) | R90: =IF(S$81="","",OFFSET(monthFirst,16+ROW()-ROW(S$81),DAY(S$81)-1,1,1)) | S90: =IF(S$81="","",OFFSET(monthFirst,ROW()-ROW(S$81),DAY(S$81)-1,1,1)) | U90: =IF(V$81="","",OFFSET(monthFirst,16+ROW()-ROW(V$81),DAY(V$81)-1,1,1)) | V90: =IF(V$81="","",OFFSET(monthFirst,ROW()-ROW(V$81),DAY(V$81)-1,1,1))
C91: =IF(D$81="","",OFFSET(monthFirst,16+ROW()-ROW(D$81),DAY(D$81)-1,1,1)) | D91: =IF(D$81="","",OFFSET(monthFirst,ROW()-ROW(D$81),DAY(D$81)-1,1,1)) | F91: =IF(G$81="","",OFFSET(monthFirst,16+ROW()-ROW(G$81),DAY(G$81)-1,1,1)) | G91: =IF(G$81="","",OFFSET(monthFirst,ROW()-ROW(G$81),DAY(G$81)-1,1,1)) | I91: =IF(J$81="","",OFFSET(monthFirst,16+ROW()-ROW(J$81),DAY(J$81)-1,1,1)) | J91: =IF(J$81="","",OFFSET(monthFirst,ROW()-ROW(J$81),DAY(J$81)-1,1,1)) | L91: =IF(M$81="","",OFFSET(monthFirst,16+ROW()-ROW(M$81),DAY(M$81)-1,1,1)) | M91: =IF(M$81="","",OFFSET(monthFirst,ROW()-ROW(M$81),DAY(M$81)-1,1,1)) | O91: =IF(P$81="","",OFFSET(monthFirst,16+ROW()-ROW(P$81),DAY(P$81)-1,1,1)) | P91: =IF(P$81="","",OFFSET(monthFirst,ROW()-ROW(P$81),DAY(P$81)-1,1,1)) | R91: =IF(S$81="","",OFFSET(monthFirst,16+ROW()-ROW(S$81),DAY(S$81)-1,1,1)) | S91: =IF(S$81="","",OFFSET(monthFirst,ROW()-ROW(S$81),DAY(S$81)-1,1,1)) | U91: =IF(V$81="","",OFFSET(monthFirst,16+ROW()-ROW(V$81),DAY(V$81)-1,1,1)) | V91: =IF(V$81="","",OFFSET(monthFirst,ROW()-ROW(V$81),DAY(V$81)-1,1,1))
C92: =IF(D$81="","",OFFSET(monthFirst,16+ROW()-ROW(D$81),DAY(D$81)-1,1,1)) | D92: =IF(D$81="","",OFFSET(monthFirst,ROW()-ROW(D$81),DAY(D$81)-1,1,1)) | F92: =IF(G$81="","",OFFSET(monthFirst,16+ROW()-ROW(G$81),DAY(G$81)-1,1,1)) | G92: =IF(G$81="","",OFFSET(monthFirst,ROW()-ROW(G$81),DAY(G$81)-1,1,1)) | I92: =IF(J$81="","",OFFSET(monthFirst,16+ROW()-ROW(J$81),DAY(J$81)-1,1,1)) | J92: =IF(J$81="","",OFFSET(monthFirst,ROW()-ROW(J$81),DAY(J$81)-1,1,1)) | L92: =IF(M$81="","",OFFSET(monthFirst,16+ROW()-ROW(M$81),DAY(M$81)-1,1,1)) | M92: =IF(M$81="","",OFFSET(monthFirst,ROW()-ROW(M$81),DAY(M$81)-1,1,1)) | O92: =IF(P$81="","",OFFSET(monthFirst,16+ROW()-ROW(P$81),DAY(P$81)-1,1,1)) | P92: =IF(P$81="","",OFFSET(monthFirst,ROW()-ROW(P$81),DAY(P$81)-1,1,1)) | R92: =IF(S$81="","",OFFSET(monthFirst,16+ROW()-ROW(S$81),DAY(S$81)-1,1,1)) | S92: =IF(S$81="","",OFFSET(monthFirst,ROW()-ROW(S$81),DAY(S$81)-1,1,1)) | U92: =IF(V$81="","",OFFSET(monthFirst,16+ROW()-ROW(V$81),DAY(V$81)-1,1,1)) | V92: =IF(V$81="","",OFFSET(monthFirst,ROW()-ROW(V$81),DAY(V$81)-1,1,1))
C93: =IF(D$81="","",OFFSET(monthFirst,16+ROW()-ROW(D$81),DAY(D$81)-1,1,1)) | D93: =IF(D$81="","",OFFSET(monthFirst,ROW()-ROW(D$81),DAY(D$81)-1,1,1)) | F93: =IF(G$81="","",OFFSET(monthFirst,16+ROW()-ROW(G$81),DAY(G$81)-1,1,1)) | G93: =IF(G$81="","",OFFSET(monthFirst,ROW()-ROW(G$81),DAY(G$81)-1,1,1)) | I93: =IF(J$81="","",OFFSET(monthFirst,16+ROW()-ROW(J$81),DAY(J$81)-1,1,1)) | J93: =IF(J$81="","",OFFSET(monthFirst,ROW()-ROW(J$81),DAY(J$81)-1,1,1)) | L93: =IF(M$81="","",OFFSET(monthFirst,16+ROW()-ROW(M$81),DAY(M$81)-1,1,1)) | M93: =IF(M$81="","",OFFSET(monthFirst,ROW()-ROW(M$81),DAY(M$81)-1,1,1)) | O93: =IF(P$81="","",OFFSET(monthFirst,16+ROW()-ROW(P$81),DAY(P$81)-1,1,1)) | P93: =IF(P$81="","",OFFSET(monthFirst,ROW()-ROW(P$81),DAY(P$81)-1,1,1)) | R93: =IF(S$81="","",OFFSET(monthFirst,16+ROW()-ROW(S$81),DAY(S$81)-1,1,1)) | S93: =IF(S$81="","",OFFSET(monthFirst,ROW()-ROW(S$81),DAY(S$81)-1,1,1)) | U93: =IF(V$81="","",OFFSET(monthFirst,16+ROW()-ROW(V$81),DAY(V$81)-1,1,1)) | V93: =IF(V$81="","",OFFSET(monthFirst,ROW()-ROW(V$81),DAY(V$81)-1,1,1))
... C97: =IF(D$81="","",OFFSET(monthFirst,16+ROW()-ROW(D$81),DAY(D$81)-1,1,1)) | D97: =IF(D$81="","",OFFSET(monthFirst,ROW()-ROW(D$81),DAY(D$81)-1,1,1)) | F97: =IF(G$81="","",OFFSET(monthFirst,16+ROW()-ROW(G$81),DAY(G$81)-1,1,1)) | G97: =IF(G$81="","",OFFSET(monthFirst,ROW()-ROW(G$81),DAY(G$81)-1,1,1)) | I97: =IF(J$81="","",OFFSET(monthFirst,16+ROW()-ROW(J$81),DAY(J$81)-1,1,1)) | J97: =IF(J$81="","",OFFSET(monthFirst,ROW()-ROW(J$81),DAY(J$81)-1,1,1)) | L97: =IF(M$81="","",OFFSET(monthFirst,16+ROW()-ROW(M$81),DAY(M$81)-1,1,1)) | M97: =IF(M$81="","",OFFSET(monthFirst,ROW()-ROW(M$81),DAY(M$81)-1,1,1)) | O97: =IF(P$81="","",OFFSET(monthFirst,16+ROW()-ROW(P$81),DAY(P$81)-1,1,1)) | P97: =IF(P$81="","",OFFSET(monthFirst,ROW()-ROW(P$81),DAY(P$81)-1,1,1)) | R97: =IF(S$81="","",OFFSET(monthFirst,16+ROW()-ROW(S$81),DAY(S$81)-1,1,1)) | S97: =IF(S$81="","",OFFSET(monthFirst,ROW()-ROW(S$81),DAY(S$81)-1,1,1)) | U97: =IF(V$81="","",OFFSET(monthFirst,16+ROW()-ROW(V$81),DAY(V$81)-1,1,1)) | V97: =IF(V$81="","",OFFSET(monthFirst,ROW()-ROW(V$81),DAY(V$81)-1,1,1))
D99: =IFERROR(IF(V81+1>endOfMonth,"",V81+1),"") | G99: =IFERROR(IF(D99+1>endOfMonth,"",D99+1),"") | J99: =IFERROR(IF(G99+1>endOfMonth,"",G99+1),"") | M99: =IFERROR(IF(J99+1>endOfMonth,"",J99+1),"") | P99: =IFERROR(IF(M99+1>endOfMonth,"",M99+1),"") | S99: =IFERROR(IF(P99+1>endOfMonth,"",P99+1),"") | V99: =IFERROR(IF(S99+1>endOfMonth,"",S99+1),"")
C100: =IF(D$99="","",OFFSET(monthFirst,16+ROW()-ROW(D$99),DAY(D$99)-1,1,1)) | D100: =IF(D$99="","",OFFSET(monthFirst,ROW()-ROW(D$99),DAY(D$99)-1,1,1)) | F100: =IF(G$99="","",OFFSET(monthFirst,16+ROW()-ROW(G$99),DAY(G$99)-1,1,1)) | G100: =IF(G$99="","",OFFSET(monthFirst,ROW()-ROW(G$99),DAY(G$99)-1,1,1)) | I100: =IF(J$99="","",OFFSET(monthFirst,16+ROW()-ROW(J$99),DAY(J$99)-1,1,1)) | J100: =IF(J$99="","",OFFSET(monthFirst,ROW()-ROW(J$99),DAY(J$99)-1,1,1)) | L100: =IF(M$99="","",OFFSET(monthFirst,16+ROW()-ROW(M$99),DAY(M$99)-1,1,1)) | M100: =IF(M$99="","",OFFSET(monthFirst,ROW()-ROW(M$99),DAY(M$99)-1,1,1)) | O100: =IF(P$99="","",OFFSET(monthFirst,16+ROW()-ROW(P$99),DAY(P$99)-1,1,1)) | P100: =IF(P$99="","",OFFSET(monthFirst,ROW()-ROW(P$99),DAY(P$99)-1,1,1)) | R100: =IF(S$99="","",OFFSET(monthFirst,16+ROW()-ROW(S$99),DAY(S$99)-1,1,1)) | S100: =IF(S$99="","",OFFSET(monthFirst,ROW()-ROW(S$99),DAY(S$99)-1,1,1)) | U100: =IF(V$99="","",OFFSET(monthFirst,16+ROW()-ROW(V$99),DAY(V$99)-1,1,1)) | V100: =IF(V$99="","",OFFSET(monthFirst,ROW()-ROW(V$99),DAY(V$99)-1,1,1))
C101: =IF(D$99="","",OFFSET(monthFirst,16+ROW()-ROW(D$99),DAY(D$99)-1,1,1)) | D101: =IF(D$99="","",OFFSET(monthFirst,ROW()-ROW(D$99),DAY(D$99)-1,1,1)) | F101: =IF(G$99="","",OFFSET(monthFirst,16+ROW()-ROW(G$99),DAY(G$99)-1,1,1)) | G101: =IF(G$99="","",OFFSET(monthFirst,ROW()-ROW(G$99),DAY(G$99)-1,1,1)) | I101: =IF(J$99="","",OFFSET(monthFirst,16+ROW()-ROW(J$99),DAY(J$99)-1,1,1)) | J101: =IF(J$99="","",OFFSET(monthFirst,ROW()-ROW(J$99),DAY(J$99)-1,1,1)) | L101: =IF(M$99="","",OFFSET(monthFirst,16+ROW()-ROW(M$99),DAY(M$99)-1,1,1)) | M101: =IF(M$99="","",OFFSET(monthFirst,ROW()-ROW(M$99),DAY(M$99)-1,1,1)) | O101: =IF(P$99="","",OFFSET(monthFirst,16+ROW()-ROW(P$99),DAY(P$99)-1,1,1)) | P101: =IF(P$99="","",OFFSET(monthFirst,ROW()-ROW(P$99),DAY(P$99)-1,1,1)) | R101: =IF(S$99="","",OFFSET(monthFirst,16+ROW()-ROW(S$99),DAY(S$99)-1,1,1)) | S101: =IF(S$99="","",OFFSET(monthFirst,ROW()-ROW(S$99),DAY(S$99)-1,1,1)) | U101: =IF(V$99="","",OFFSET(monthFirst,16+ROW()-ROW(V$99),DAY(V$99)-1,1,1)) | V101: =IF(V$99="","",OFFSET(monthFirst,ROW()-ROW(V$99),DAY(V$99)-1,1,1))
C102: =IF(D$99="","",OFFSET(monthFirst,16+ROW()-ROW(D$99),DAY(D$99)-1,1,1)) | D102: =IF(D$99="","",OFFSET(monthFirst,ROW()-ROW(D$99),DAY(D$99)-1,1,1)) | F102: =IF(G$99="","",OFFSET(monthFirst,16+ROW()-ROW(G$99),DAY(G$99)-1,1,1)) | G102: =IF(G$99="","",OFFSET(monthFirst,ROW()-ROW(G$99),DAY(G$99)-1,1,1)) | I102: =IF(J$99="","",OFFSET(monthFirst,16+ROW()-ROW(J$99),DAY(J$99)-1,1,1)) | J102: =IF(J$99="","",OFFSET(monthFirst,ROW()-ROW(J$99),DAY(J$99)-1,1,1)) | L102: =IF(M$99="","",OFFSET(monthFirst,16+ROW()-ROW(M$99),DAY(M$99)-1,1,1)) | M102: =IF(M$99="","",OFFSET(monthFirst,ROW()-ROW(M$99),DAY(M$99)-1,1,1)) | O102: =IF(P$99="","",OFFSET(monthFirst,16+ROW()-ROW(P$99),DAY(P$99)-1,1,1)) | P102: =IF(P$99="","",OFFSET(monthFirst,ROW()-ROW(P$99),DAY(P$99)-1,1,1)) | R102: =IF(S$99="","",OFFSET(monthFirst,16+ROW()-ROW(S$99),DAY(S$99)-1,1,1)) | S102: =IF(S$99="","",OFFSET(monthFirst,ROW()-ROW(S$99),DAY(S$99)-1,1,1)) | U102: =IF(V$99="","",OFFSET(monthFirst,16+ROW()-ROW(V$99),DAY(V$99)-1,1,1)) | V102: =IF(V$99="","",OFFSET(monthFirst,ROW()-ROW(V$99),DAY(V$99)-1,1,1))
C103: =IF(D$99="","",OFFSET(monthFirst,16+ROW()-ROW(D$99),DAY(D$99)-1,1,1)) | D103: =IF(D$99="","",OFFSET(monthFirst,ROW()-ROW(D$99),DAY(D$99)-1,1,1)) | F103: =IF(G$99="","",OFFSET(monthFirst,16+ROW()-ROW(G$99),DAY(G$99)-1,1,1)) | G103: =IF(G$99="","",OFFSET(monthFirst,ROW()-ROW(G$99),DAY(G$99)-1,1,1)) | I103: =IF(J$99="","",OFFSET(monthFirst,16+ROW()-ROW(J$99),DAY(J$99)-1,1,1)) | J103: =IF(J$99="","",OFFSET(monthFirst,ROW()-ROW(J$99),DAY(J$99)-1,1,1)) | L103: =IF(M$99="","",OFFSET(monthFirst,16+ROW()-ROW(M$99),DAY(M$99)-1,1,1)) | M103: =IF(M$99="","",OFFSET(monthFirst,ROW()-ROW(M$99),DAY(M$99)-1,1,1)) | O103: =IF(P$99="","",OFFSET(monthFirst,16+ROW()-ROW(P$99),DAY(P$99)-1,1,1)) | P103: =IF(P$99="","",OFFSET(monthFirst,ROW()-ROW(P$99),DAY(P$99)-1,1,1)) | R103: =IF(S$99="","",OFFSET(monthFirst,16+ROW()-ROW(S$99),DAY(S$99)-1,1,1)) | S103: =IF(S$99="","",OFFSET(monthFirst,ROW()-ROW(S$99),DAY(S$99)-1,1,1)) | U103: =IF(V$99="","",OFFSET(monthFirst,16+ROW()-ROW(V$99),DAY(V$99)-1,1,1)) | V103: =IF(V$99="","",OFFSET(monthFirst,ROW()-ROW(V$99),DAY(V$99)-1,1,1))
C104: =IF(D$99="","",OFFSET(monthFirst,16+ROW()-ROW(D$99),DAY(D$99)-1,1,1)) | D104: =IF(D$99="","",OFFSET(monthFirst,ROW()-ROW(D$99),DAY(D$99)-1,1,1)) | F104: =IF(G$99="","",OFFSET(monthFirst,16+ROW()-ROW(G$99),DAY(G$99)-1,1,1)) | G104: =IF(G$99="","",OFFSET(monthFirst,ROW()-ROW(G$99),DAY(G$99)-1,1,1)) | I104: =IF(J$99="","",OFFSET(monthFirst,16+ROW()-ROW(J$99),DAY(J$99)-1,1,1)) | J104: =IF(J$99="","",OFFSET(monthFirst,ROW()-ROW(J$99),DAY(J$99)-1,1,1)) | L104: =IF(M$99="","",OFFSET(monthFirst,16+ROW()-ROW(M$99),DAY(M$99)-1,1,1)) | M104: =IF(M$99="","",OFFSET(monthFirst,ROW()-ROW(M$99),DAY(M$99)-1,1,1)) | O104: =IF(P$99="","",OFFSET(monthFirst,16+ROW()-ROW(P$99),DAY(P$99)-1,1,1)) | P104: =IF(P$99="","",OFFSET(monthFirst,ROW()-ROW(P$99),DAY(P$99)-1,1,1)) | R104: =IF(S$99="","",OFFSET(monthFirst,16+ROW()-ROW(S$99),DAY(S$99)-1,1,1)) | S104: =IF(S$99="","",OFFSET(monthFirst,ROW()-ROW(S$99),DAY(S$99)-1,1,1)) | U104: =IF(V$99="","",OFFSET(monthFirst,16+ROW()-ROW(V$99),DAY(V$99)-1,1,1)) | V104: =IF(V$99="","",OFFSET(monthFirst,ROW()-ROW(V$99),DAY(V$99)-1,1,1))
C105: =IF(D$99="","",OFFSET(monthFirst,16+ROW()-ROW(D$99),DAY(D$99)-1,1,1)) | D105: =IF(D$99="","",OFFSET(monthFirst,ROW()-ROW(D$99),DAY(D$99)-1,1,1)) | F105: =IF(G$99="","",OFFSET(monthFirst,16+ROW()-ROW(G$99),DAY(G$99)-1,1,1)) | G105: =IF(G$99="","",OFFSET(monthFirst,ROW()-ROW(G$99),DAY(G$99)-1,1,1)) | I105: =IF(J$99="","",OFFSET(monthFirst,16+ROW()-ROW(J$99),DAY(J$99)-1,1,1)) | J105: =IF(J$99="","",OFFSET(monthFirst,ROW()-ROW(J$99),DAY(J$99)-1,1,1)) | L105: =IF(M$99="","",OFFSET(monthFirst,16+ROW()-ROW(M$99),DAY(M$99)-1,1,1)) | M105: =IF(M$99="","",OFFSET(monthFirst,ROW()-ROW(M$99),DAY(M$99)-1,1,1)) | O105: =IF(P$99="","",OFFSET(monthFirst,16+ROW()-ROW(P$99),DAY(P$99)-1,1,1)) | P105: =IF(P$99="","",OFFSET(monthFirst,ROW()-ROW(P$99),DAY(P$99)-1,1,1)) | R105: =IF(S$99="","",OFFSET(monthFirst,16+ROW()-ROW(S$99),DAY(S$99)-1,1,1)) | S105: =IF(S$99="","",OFFSET(monthFirst,ROW()-ROW(S$99),DAY(S$99)-1,1,1)) | U105: =IF(V$99="","",OFFSET(monthFirst,16+ROW()-ROW(V$99),DAY(V$99)-1,1,1)) | V105: =IF(V$99="","",OFFSET(monthFirst,ROW()-ROW(V$99),DAY(V$99)-1,1,1))
C106: =IF(D$99="","",OFFSET(monthFirst,16+ROW()-ROW(D$99),DAY(D$99)-1,1,1)) | D106: =IF(D$99="","",OFFSET(monthFirst,ROW()-ROW(D$99),DAY(D$99)-1,1,1)) | F106: =IF(G$99="","",OFFSET(monthFirst,16+ROW()-ROW(G$99),DAY(G$99)-1,1,1)) | G106: =IF(G$99="","",OFFSET(monthFirst,ROW()-ROW(G$99),DAY(G$99)-1,1,1)) | I106: =IF(J$99="","",OFFSET(monthFirst,16+ROW()-ROW(J$99),DAY(J$99)-1,1,1)) | J106: =IF(J$99="","",OFFSET(monthFirst,ROW()-ROW(J$99),DAY(J$99)-1,1,1)) | L106: =IF(M$99="","",OFFSET(monthFirst,16+ROW()-ROW(M$99),DAY(M$99)-1,1,1)) | M106: =IF(M$99="","",OFFSET(monthFirst,ROW()-ROW(M$99),DAY(M$99)-1,1,1)) | O106: =IF(P$99="","",OFFSET(monthFirst,16+ROW()-ROW(P$99),DAY(P$99)-1,1,1)) | P106: =IF(P$99="","",OFFSET(monthFirst,ROW()-ROW(P$99),DAY(P$99)-1,1,1)) | R106: =IF(S$99="","",OFFSET(monthFirst,16+ROW()-ROW(S$99),DAY(S$99)-1,1,1)) | S106: =IF(S$99="","",OFFSET(monthFirst,ROW()-ROW(S$99),DAY(S$99)-1,1,1)) | U106: =IF(V$99="","",OFFSET(monthFirst,16+ROW()-ROW(V$99),DAY(V$99)-1,1,1)) | V106: =IF(V$99="","",OFFSET(monthFirst,ROW()-ROW(V$99),DAY(V$99)-1,1,1))
C107: =IF(D$99="","",OFFSET(monthFirst,16+ROW()-ROW(D$99),DAY(D$99)-1,1,1)) | D107: =IF(D$99="","",OFFSET(monthFirst,ROW()-ROW(D$99),DAY(D$99)-1,1,1)) | F107: =IF(G$99="","",OFFSET(monthFirst,16+ROW()-ROW(G$99),DAY(G$99)-1,1,1)) | G107: =IF(G$99="","",OFFSET(monthFirst,ROW()-ROW(G$99),DAY(G$99)-1,1,1)) | I107: =IF(J$99="","",OFFSET(monthFirst,16+ROW()-ROW(J$99),DAY(J$99)-1,1,1)) | J107: =IF(J$99="","",OFFSET(monthFirst,ROW()-ROW(J$99),DAY(J$99)-1,1,1)) | L107: =IF(M$99="","",OFFSET(monthFirst,16+ROW()-ROW(M$99),DAY(M$99)-1,1,1)) | M107: =IF(M$99="","",OFFSET(monthFirst,ROW()-ROW(M$99),DAY(M$99)-1,1,1)) | O107: =IF(P$99="","",OFFSET(monthFirst,16+ROW()-ROW(P$99),DAY(P$99)-1,1,1)) | P107: =IF(P$99="","",OFFSET(monthFirst,ROW()-ROW(P$99),DAY(P$99)-1,1,1)) | R107: =IF(S$99="","",OFFSET(monthFirst,16+ROW()-ROW(S$99),DAY(S$99)-1,1,1)) | S107: =IF(S$99="","",OFFSET(monthFirst,ROW()-ROW(S$99),DAY(S$99)-1,1,1)) | U107: =IF(V$99="","",OFFSET(monthFirst,16+ROW()-ROW(V$99),DAY(V$99)-1,1,1)) | V107: =IF(V$99="","",OFFSET(monthFirst,ROW()-ROW(V$99),DAY(V$99)-1,1,1))
C108: =IF(D$99="","",OFFSET(monthFirst,16+ROW()-ROW(D$99),DAY(D$99)-1,1,1)) | D108: =IF(D$99="","",OFFSET(monthFirst,ROW()-ROW(D$99),DAY(D$99)-1,1,1)) | F108: =IF(G$99="","",OFFSET(monthFirst,16+ROW()-ROW(G$99),DAY(G$99)-1,1,1)) | G108: =IF(G$99="","",OFFSET(monthFirst,ROW()-ROW(G$99),DAY(G$99)-1,1,1)) | I108: =IF(J$99="","",OFFSET(monthFirst,16+ROW()-ROW(J$99),DAY(J$99)-1,1,1)) | J108: =IF(J$99="","",OFFSET(monthFirst,ROW()-ROW(J$99),DAY(J$99)-1,1,1)) | L108: =IF(M$99="","",OFFSET(monthFirst,16+ROW()-ROW(M$99),DAY(M$99)-1,1,1)) | M108: =IF(M$99="","",OFFSET(monthFirst,ROW()-ROW(M$99),DAY(M$99)-1,1,1)) | O108: =IF(P$99="","",OFFSET(monthFirst,16+ROW()-ROW(P$99),DAY(P$99)-1,1,1)) | P108: =IF(P$99="","",OFFSET(monthFirst,ROW()-ROW(P$99),DAY(P$99)-1,1,1)) | R108: =IF(S$99="","",OFFSET(monthFirst,16+ROW()-ROW(S$99),DAY(S$99)-1,1,1)) | S108: =IF(S$99="","",OFFSET(monthFirst,ROW()-ROW(S$99),DAY(S$99)-1,1,1)) | U108: =IF(V$99="","",OFFSET(monthFirst,16+ROW()-ROW(V$99),DAY(V$99)-1,1,1)) | V108: =IF(V$99="","",OFFSET(monthFirst,ROW()-ROW(V$99),DAY(V$99)-1,1,1))
C109: =IF(D$99="","",OFFSET(monthFirst,16+ROW()-ROW(D$99),DAY(D$99)-1,1,1)) | D109: =IF(D$99="","",OFFSET(monthFirst,ROW()-ROW(D$99),DAY(D$99)-1,1,1)) | F109: =IF(G$99="","",OFFSET(monthFirst,16+ROW()-ROW(G$99),DAY(G$99)-1,1,1)) | G109: =IF(G$99="","",OFFSET(monthFirst,ROW()-ROW(G$99),DAY(G$99)-1,1,1)) | I109: =IF(J$99="","",OFFSET(monthFirst,16+ROW()-ROW(J$99),DAY(J$99)-1,1,1)) | J109: =IF(J$99="","",OFFSET(monthFirst,ROW()-ROW(J$99),DAY(J$99)-1,1,1)) | L109: =IF(M$99="","",OFFSET(monthFirst,16+ROW()-ROW(M$99),DAY(M$99)-1,1,1)) | M109: =IF(M$99="","",OFFSET(monthFirst,ROW()-ROW(M$99),DAY(M$99)-1,1,1)) | O109: =IF(P$99="","",OFFSET(monthFirst,16+ROW()-ROW(P$99),DAY(P$99)-1,1,1)) | P109: =IF(P$99="","",OFFSET(monthFirst,ROW()-ROW(P$99),DAY(P$99)-1,1,1)) | R109: =IF(S$99="","",OFFSET(monthFirst,16+ROW()-ROW(S$99),DAY(S$99)-1,1,1)) | S109: =IF(S$99="","",OFFSET(monthFirst,ROW()-ROW(S$99),DAY(S$99)-1,1,1)) | U109: =IF(V$99="","",OFFSET(monthFirst,16+ROW()-ROW(V$99),DAY(V$99)-1,1,1)) | V109: =IF(V$99="","",OFFSET(monthFirst,ROW()-ROW(V$99),DAY(V$99)-1,1,1))
C110: =IF(D$99="","",OFFSET(monthFirst,16+ROW()-ROW(D$99),DAY(D$99)-1,1,1)) | D110: =IF(D$99="","",OFFSET(monthFirst,ROW()-ROW(D$99),DAY(D$99)-1,1,1)) | F110: =IF(G$99="","",OFFSET(monthFirst,16+ROW()-ROW(G$99),DAY(G$99)-1,1,1)) | G110: =IF(G$99="","",OFFSET(monthFirst,ROW()-ROW(G$99),DAY(G$99)-1,1,1)) | I110: =IF(J$99="","",OFFSET(monthFirst,16+ROW()-ROW(J$99),DAY(J$99)-1,1,1)) | J110: =IF(J$99="","",OFFSET(monthFirst,ROW()-ROW(J$99),DAY(J$99)-1,1,1)) | L110: =IF(M$99="","",OFFSET(monthFirst,16+ROW()-ROW(M$99),DAY(M$99)-1,1,1)) | M110: =IF(M$99="","",OFFSET(monthFirst,ROW()-ROW(M$99),DAY(M$99)-1,1,1)) | O110: =IF(P$99="","",OFFSET(monthFirst,16+ROW()-ROW(P$99),DAY(P$99)-1,1,1)) | P110: =IF(P$99="","",OFFSET(monthFirst,ROW()-ROW(P$99),DAY(P$99)-1,1,1)) | R110: =IF(S$99="","",OFFSET(monthFirst,16+ROW()-ROW(S$99),DAY(S$99)-1,1,1)) | S110: =IF(S$99="","",OFFSET(monthFirst,ROW()-ROW(S$99),DAY(S$99)-1,1,1)) | U110: =IF(V$99="","",OFFSET(monthFirst,16+ROW()-ROW(V$99),DAY(V$99)-1,1,1)) | V110: =IF(V$99="","",OFFSET(monthFirst,ROW()-ROW(V$99),DAY(V$99)-1,1,1))
C111: =IF(D$99="","",OFFSET(monthFirst,16+ROW()-ROW(D$99),DAY(D$99)-1,1,1)) | D111: =IF(D$99="","",OFFSET(monthFirst,ROW()-ROW(D$99),DAY(D$99)-1,1,1)) | F111: =IF(G$99="","",OFFSET(monthFirst,16+ROW()-ROW(G$99),DAY(G$99)-1,1,1)) | G111: =IF(G$99="","",OFFSET(monthFirst,ROW()-ROW(G$99),DAY(G$99)-1,1,1)) | I111: =IF(J$99="","",OFFSET(monthFirst,16+ROW()-ROW(J$99),DAY(J$99)-1,1,1)) | J111: =IF(J$99="","",OFFSET(monthFirst,ROW()-ROW(J$99),DAY(J$99)-1,1,1)) | L111: =IF(M$99="","",OFFSET(monthFirst,16+ROW()-ROW(M$99),DAY(M$99)-1,1,1)) | M111: =IF(M$99="","",OFFSET(monthFirst,ROW()-ROW(M$99),DAY(M$99)-1,1,1)) | O111: =IF(P$99="","",OFFSET(monthFirst,16+ROW()-ROW(P$99),DAY(P$99)-1,1,1)) | P111: =IF(P$99="","",OFFSET(monthFirst,ROW()-ROW(P$99),DAY(P$99)-1,1,1)) | R111: =IF(S$99="","",OFFSET(monthFirst,16+ROW()-ROW(S$99),DAY(S$99)-1,1,1)) | S111: =IF(S$99="","",OFFSET(monthFirst,ROW()-ROW(S$99),DAY(S$99)-1,1,1)) | U111: =IF(V$99="","",OFFSET(monthFirst,16+ROW()-ROW(V$99),DAY(V$99)-1,1,1)) | V111: =IF(V$99="","",OFFSET(monthFirst,ROW()-ROW(V$99),DAY(V$99)-1,1,1))
... C115: =IF(D$99="","",OFFSET(monthFirst,16+ROW()-ROW(D$99),DAY(D$99)-1,1,1)) | D115: =IF(D$99="","",OFFSET(monthFirst,ROW()-ROW(D$99),DAY(D$99)-1,1,1)) | F115: =IF(G$99="","",OFFSET(monthFirst,16+ROW()-ROW(G$99),DAY(G$99)-1,1,1)) | G115: =IF(G$99="","",OFFSET(monthFirst,ROW()-ROW(G$99),DAY(G$99)-1,1,1)) | I115: =IF(J$99="","",OFFSET(monthFirst,16+ROW()-ROW(J$99),DAY(J$99)-1,1,1)) | J115: =IF(J$99="","",OFFSET(monthFirst,ROW()-ROW(J$99),DAY(J$99)-1,1,1)) | L115: =IF(M$99="","",OFFSET(monthFirst,16+ROW()-ROW(M$99),DAY(M$99)-1,1,1)) | M115: =IF(M$99="","",OFFSET(monthFirst,ROW()-ROW(M$99),DAY(M$99)-1,1,1)) | O115: =IF(P$99="","",OFFSET(monthFirst,16+ROW()-ROW(P$99),DAY(P$99)-1,1,1)) | P115: =IF(P$99="","",OFFSET(monthFirst,ROW()-ROW(P$99),DAY(P$99)-1,1,1)) | R115: =IF(S$99="","",OFFSET(monthFirst,16+ROW()-ROW(S$99),DAY(S$99)-1,1,1)) | S115: =IF(S$99="","",OFFSET(monthFirst,ROW()-ROW(S$99),DAY(S$99)-1,1,1)) | U115: =IF(V$99="","",OFFSET(monthFirst,16+ROW()-ROW(V$99),DAY(V$99)-1,1,1)) | V115: =IF(V$99="","",OFFSET(monthFirst,ROW()-ROW(V$99),DAY(V$99)-1,1,1))

Sheet Calc
B1: DROPDOWNS | K1: IMPORT & FILTER EVENTS | S1: =COUNTA(S3:S1002)-COUNTBLANK(S3:S1002) -> -970 | AF1: Current week | AO1: Week View | BZ1: Calendar View
K2: ID | L2: Real Index | M2: Month Active | N2: Week Active | O2: Summary Active | P2: Title | Q2: Type | R2: Importance | S2: Notify Me | T2: Start Date | U2: End date | V2: S Time | W2: E Time | X2: Start | Y2: End | Z2: Whole-day Event | AA2: Length | AB2: Overlap? | AC2: MSG | AG2: =WEEKDAY(TODAY(),weekOffset+1) -> 2 | BZ2: =IFERROR(MATCH(BZ4,weekDays,0),"") -> 1
B3: Year | C3: Month | D3: This Week | E3: Weekdays | G3: Current Week | I3: Start Hour | K3: 1 | L3: =IF(X3="","",RANK(X3,$X$3:$X$1002,TRUE)+K3/1000) -> 5.001 | M3: =IF(T3="",0,IF(AND(T3>=monthFirst,T3<=endOfMonth),1,0)) -> 1 | N3: =IF(T3="",0,IF(AND(WEEKNUM(T3,weekOffset+1)=weekChoosen,YEAR(T3)=weekYear,OR(importanceFilter="Show all",importanceFilter="",importanceFilter=R3)),1,0)) -> 0 | O3: =IF(T3="",0,IF(AND(WEEKNUM(T3,weekOffset+1)=thisWeek,YEAR(T3)=YEAR(TODAY())),1,0)) -> 0 | P3: =INDEX(EventsList!C$7:C$36,$K3,1)&"" -> Meeting with John | Q3: =IFERROR(IF(L3="","",INDEX(EventsList!H$7:H$36,$K3,1)&""),"") -> Meeting | R3: =IFERROR(IF(L3="","",INDEX(EventsList!I$7:I$36,$K3,1)),0) -> High | S3: =IFERROR(IF(O3=0,"",IF(INDEX(EventsList!M$7:M$36,$K3,1)="Yes", P3 & IF(U3<>T3,"| from ", "| on ") & INDEX(weekDays,WEEKDAY(T3,weekOffset+1),1)& IF(U3<>T3," till "& INDEX(weekDays,WEEKDAY(U3,weekOffset+1),1), "") & IF(V3="","", "| at " & HOUR(V3)&":"&IF(LEN(MINUTE(V3))=1,"0"&MINUTE(V3),MINUTE(V3))),"")),"") | T3: =IF(ISNUMBER(INDEX(EventsList!D$7:D$36,$K3,1)),INDEX(EventsList!D$7:D$36,$K3,1),"") -> 45063 | U3: =IF(ISNUMBER(INDEX(EventsList!E$7:E$36,$K3,1)),INDEX(EventsList!E$7:E$36,$K3,1),T3) -> 45063 | V3: =IF(ISNUMBER(INDEX(EventsList!F$7:F$36,$K3,1)),INDEX(EventsList!F$7:F$36,$K3,1),"") | W3: =IF(ISNUMBER(INDEX(EventsList!G$7:G$36,$K3,1)),INDEX(EventsList!G$7:G$36,$K3,1),"") | X3: =IF(Z3="","",IF(Z3="No",T3+V3,T3+0)) -> 45063 | Y3: =IF(Z3="","",IF(Z3="No",U3+W3,U3+TIME(23,59,59))) -> 45064 | Z3: =IF(T3="","",IF(OR(U3<>T3,V3="",W3=""),"Yes","No")) -> Yes | AA3: =IF(Z3="No",Y3-X3,"") | AB3: {=IF(Z3="","",SUM(IF((X3>=$X$3:$X$32)*(X3<=$Y$3:$Y$32),1,0))+SUM(IF((Y3>=$X$3:$X$32)*(Y3<=$Y$3:$Y$32),1,0))-2)} -> 0 | AC3: =IF(OR(AB3=0,AB3=""),"",IF(AB3<0,"End date incorrect",IF(AB3=1,"1 event overlap",AB3&" more events overlaping"))) | AF3: 1 | AG3: 2 | AH3: 3 | AI3: 4 | AJ3: 5 | AK3: 6 | AL3: 7 | AO3: 1 | AT3: 2 | AY3: 3 | BD3: 4 | BI3: 5 | BN3: 6 | BS3: 7 | BZ3: =IFERROR(EOMONTH(BZ5,0),"") -> 45077
B4: 2020 | C4: January | D4: 1 | E4: Sunday | G4: =WEEKNUM(TODAY(),weekOffset+1) -> 28 | I4: 0 | K4: 2 | L4: =IF(X4="","",RANK(X4,$X$3:$X$1002,TRUE)+K4/1000) -> 2.002 | M4: =IF(T4="",0,IF(AND(T4>=monthFirst,T4<=endOfMonth),1,0)) -> 1 | N4: =IF(T4="",0,IF(AND(WEEKNUM(T4,weekOffset+1)=weekChoosen,YEAR(T4)=weekYear,OR(importanceFilter="Show all",importanceFilter="",importanceFilter=R4)),1,0)) -> 0 | O4: =IF(T4="",0,IF(AND(WEEKNUM(T4,weekOffset+1)=thisWeek,YEAR(T4)=YEAR(TODAY())),1,0)) -> 0 | P4: =INDEX(EventsList!C$7:C$36,$K4,1)&"" -> Team Call | Q4: =IFERROR(IF(L4="","",INDEX(EventsList!H$7:H$36,$K4,1)&""),"") -> Call | R4: =IFERROR(IF(L4="","",INDEX(EventsList!I$7:I$36,$K4,1)),0) -> Medium | S4: =IFERROR(IF(O4=0,"",IF(INDEX(EventsList!M$7:M$36,$K4,1)="Yes", P4 & IF(U4<>T4,"| from ", "| on ") & INDEX(weekDays,WEEKDAY(T4,weekOffset+1),1)& IF(U4<>T4," till "& INDEX(weekDays,WEEKDAY(U4,weekOffset+1),1), "") & IF(V4="","", "| at " & HOUR(V4)&":"&IF(LEN(MINUTE(V4))=1,"0"&MINUTE(V4),MINUTE(V4))),"")),"") | T4: =IF(ISNUMBER(INDEX(EventsList!D$7:D$36,$K4,1)),INDEX(EventsList!D$7:D$36,$K4,1),"") -> 45060 | U4: =IF(ISNUMBER(INDEX(EventsList!E$7:E$36,$K4,1)),INDEX(EventsList!E$7:E$36,$K4,1),T4) -> 45060 | V4: =IF(ISNUMBER(INDEX(EventsList!F$7:F$36,$K4,1)),INDEX(EventsList!F$7:F$36,$K4,1),"") -> 0.60416667 | W4: =IF(ISNUMBER(INDEX(EventsList!G$7:G$36,$K4,1)),INDEX(EventsList!G$7:G$36,$K4,1),"") -> 0.625 | X4: =IF(Z4="","",IF(Z4="No",T4+V4,T4+0)) -> 45060.604 | Y4: =IF(Z4="","",IF(Z4="No",U4+W4,U4+TIME(23,59,59))) -> 45060.625 | Z4: =IF(T4="","",IF(OR(U4<>T4,V4="",W4=""),"Yes","No")) -> No | AA4: =IF(Z4="No",Y4-X4,"") -> 0.020833333 | AB4: {=IF(Z4="","",SUM(IF((X4>=$X$3:$X$32)*(X4<=$Y$3:$Y$32),1,0))+SUM(IF((Y4>=$X$3:$X$32)*(Y4<=$Y$3:$Y$32),1,0))-2)} -> 2 | AC4: =IF(OR(AB4=0,AB4=""),"",IF(AB4<0,"End date incorrect",IF(AB4=1,"1 event overlap",AB4&" more events overlaping"))) -> 2 more events overlaping | AF4: =INDEX(weekDays,AF3,1) -> Monday | AG4: =INDEX(weekDays,AG3,1) -> Tuesday | AH4: =INDEX(weekDays,AH3,1) -> Wednesday | AI4: =INDEX(weekDays,AI3,1) -> Thursday | AJ4: =INDEX(weekDays,AJ3,1) -> Friday | AK4: =INDEX(weekDays,AK3,1) -> Saturday | AL4: =INDEX(weekDays,AL3,1) -> Sunday | AO4: =INDEX(weekDays,AO3,1) -> Monday | AT4: =INDEX(weekDays,AT3,1) -> Tuesday | AY4: =INDEX(weekDays,AY3,1) -> Wednesday | BD4: =INDEX(weekDays,BD3,1) -> Thursday | BI4: =INDEX(weekDays,BI3,1) -> Friday | BN4: =INDEX(weekDays,BN3,1) -> Saturday | BS4: =INDEX(weekDays,BS3,1) -> Sunday | BZ4: =IFERROR(INDEX(weekDays,WEEKDAY(BZ5,$G$10+1),1),"") -> Monday | CA4: =IFERROR(INDEX(weekDays,WEEKDAY(CA5,$G$10+1),1),"") -> Tuesday | CB4: =IFERROR(INDEX(weekDays,WEEKDAY(CB5,$G$10+1),1),"") -> Wednesday | CC4: =IFERROR(INDEX(weekDays,WEEKDAY(CC5,$G$10+1),1),"") -> Thursday | CD4: =IFERROR(INDEX(weekDays,WEEKDAY(CD5,$G$10+1),1),"") -> Friday | CE4: =IFERROR(INDEX(weekDays,WEEKDAY(CE5,$G$10+1),1),"") -> Saturday | CF4: =IFERROR(INDEX(weekDays,WEEKDAY(CF5,$G$10+1),1),"") -> Sunday | CG4: =IFERROR(INDEX(weekDays,WEEKDAY(CG5,$G$10+1),1),"") -> Monday | ... DD4: =IFERROR(INDEX(weekDays,WEEKDAY(DD5,$G$10+1),1),"") -> Wednesday
B5: 2021 | C5: February | D5: 2 | E5: Monday | I5: =I4+step -> 0.020833333 | K5: 3 | L5: =IF(X5="","",RANK(X5,$X$3:$X$1002,TRUE)+K5/1000) -> 1.003 | M5: =IF(T5="",0,IF(AND(T5>=monthFirst,T5<=endOfMonth),1,0)) -> 1 | N5: =IF(T5="",0,IF(AND(WEEKNUM(T5,weekOffset+1)=weekChoosen,YEAR(T5)=weekYear,OR(importanceFilter="Show all",importanceFilter="",importanceFilter=R5)),1,0)) -> 0 | O5: =IF(T5="",0,IF(AND(WEEKNUM(T5,weekOffset+1)=thisWeek,YEAR(T5)=YEAR(TODAY())),1,0)) -> 0 | P5: =INDEX(EventsList!C$7:C$36,$K5,1)&"" -> Birthday Party | Q5: =IFERROR(IF(L5="","",INDEX(EventsList!H$7:H$36,$K5,1)&""),"") -> Birthday | R5: =IFERROR(IF(L5="","",INDEX(EventsList!I$7:I$36,$K5,1)),0) -> Low | S5: =IFERROR(IF(O5=0,"",IF(INDEX(EventsList!M$7:M$36,$K5,1)="Yes", P5 & IF(U5<>T5,"| from ", "| on ") & INDEX(weekDays,WEEKDAY(T5,weekOffset+1),1)& IF(U5<>T5," till "& INDEX(weekDays,WEEKDAY(U5,weekOffset+1),1), "") & IF(V5="","", "| at " & HOUR(V5)&":"&IF(LEN(MINUTE(V5))=1,"0"&MINUTE(V5),MINUTE(V5))),"")),"") | T5: =IF(ISNUMBER(INDEX(EventsList!D$7:D$36,$K5,1)),INDEX(EventsList!D$7:D$36,$K5,1),"") -> 45060 | U5: =IF(ISNUMBER(INDEX(EventsList!E$7:E$36,$K5,1)),INDEX(EventsList!E$7:E$36,$K5,1),T5) -> 45060 | V5: =IF(ISNUMBER(INDEX(EventsList!F$7:F$36,$K5,1)),INDEX(EventsList!F$7:F$36,$K5,1),"") -> 0.58333333 | W5: =IF(ISNUMBER(INDEX(EventsList!G$7:G$36,$K5,1)),INDEX(EventsList!G$7:G$36,$K5,1),"") -> 0.64583333 | X5: =IF(Z5="","",IF(Z5="No",T5+V5,T5+0)) -> 45060.583 | Y5: =IF(Z5="","",IF(Z5="No",U5+W5,U5+TIME(23,59,59))) -> 45060.646 | Z5: =IF(T5="","",IF(OR(U5<>T5,V5="",W5=""),"Yes","No")) -> No | AA5: =IF(Z5="No",Y5-X5,"") -> 0.0625 | AB5: {=IF(Z5="","",SUM(IF((X5>=$X$3:$X$32)*(X5<=$Y$3:$Y$32),1,0))+SUM(IF((Y5>=$X$3:$X$32)*(Y5<=$Y$3:$Y$32),1,0))-2)} -> 0 | AC5: =IF(OR(AB5=0,AB5=""),"",IF(AB5<0,"End date incorrect",IF(AB5=1,"1 event overlap",AB5&" more events overlaping"))) | AE5: Date | AF5: =TODAY()-($AG$2-AF3) -> 45481 | AG5: =TODAY()-($AG$2-AG3) -> 45482 | AH5: =TODAY()-($AG$2-AH3) -> 45483 | AI5: =TODAY()-($AG$2-AI3) -> 45484 | AJ5: =TODAY()-($AG$2-AJ3) -> 45485 | AK5: =TODAY()-($AG$2-AK3) -> 45486 | AL5: =TODAY()-($AG$2-AL3) -> 45487 | AO5: =IFERROR(DATE(weekYear, 1, -5) - WEEKDAY(DATE(weekYear, 1, 1),weekOffset+1) + weekChoosen * 7,"") -> 45110 | AT5: =IFERROR(AO5+1,"") -> 45111 | AY5: =IFERROR(AT5+1,"") -> 45112 | BD5: =IFERROR(AY5+1,"") -> 45113 | BI5: =IFERROR(BD5+1,"") -> 45114 | BN5: =IFERROR(BI5+1,"") -> 45115 | BS5: =IFERROR(BN5+1,"") -> 45116 | BZ5: =IFERROR(DATE(monthYear,MATCH(choosenMonth,monthsList,0),1),"") -> 45047 | CA5: =IFERROR(BZ5+1,"") -> 45048 | CB5: =IFERROR(CA5+1,"") -> 45049 | CC5: =IFERROR(CB5+1,"") -> 45050 | CD5: =IFERROR(CC5+1,"") -> 45051 | CE5: =IFERROR(CD5+1,"") -> 45052 | CF5: =IFERROR(CE5+1,"") -> 45053 | CG5: =IFERROR(CF5+1,"") -> 45054 | CH5: =IFERROR(CG5+1,"") -> 45055 | ... DD5: =IFERROR(DC5+1,"") -> 45077
B6: 2022 | C6: March | D6: 3 | E6: Tuesday | G6: Chosen week | I6: =I5+step -> 0.041666667 | K6: 4 | L6: =IF(X6="","",RANK(X6,$X$3:$X$1002,TRUE)+K6/1000) -> 6.004 | M6: =IF(T6="",0,IF(AND(T6>=monthFirst,T6<=endOfMonth),1,0)) -> 1 | N6: =IF(T6="",0,IF(AND(WEEKNUM(T6,weekOffset+1)=weekChoosen,YEAR(T6)=weekYear,OR(importanceFilter="Show all",importanceFilter="",importanceFilter=R6)),1,0)) -> 0 | O6: =IF(T6="",0,IF(AND(WEEKNUM(T6,weekOffset+1)=thisWeek,YEAR(T6)=YEAR(TODAY())),1,0)) -> 0 | P6: =INDEX(EventsList!C$7:C$36,$K6,1)&"" -> Bank Holiday | Q6: =IFERROR(IF(L6="","",INDEX(EventsList!H$7:H$36,$K6,1)&""),"") -> Reminder | R6: =IFERROR(IF(L6="","",INDEX(EventsList!I$7:I$36,$K6,1)),0) -> High | S6: =IFERROR(IF(O6=0,"",IF(INDEX(EventsList!M$7:M$36,$K6,1)="Yes", P6 & IF(U6<>T6,"| from ", "| on ") & INDEX(weekDays,WEEKDAY(T6,weekOffset+1),1)& IF(U6<>T6," till "& INDEX(weekDays,WEEKDAY(U6,weekOffset+1),1), "") & IF(V6="","", "| at " & HOUR(V6)&":"&IF(LEN(MINUTE(V6))=1,"0"&MINUTE(V6),MINUTE(V6))),"")),"") | T6: =IF(ISNUMBER(INDEX(EventsList!D$7:D$36,$K6,1)),INDEX(EventsList!D$7:D$36,$K6,1),"") -> 45065 | U6: =IF(ISNUMBER(INDEX(EventsList!E$7:E$36,$K6,1)),INDEX(EventsList!E$7:E$36,$K6,1),T6) -> 45065 | V6: =IF(ISNUMBER(INDEX(EventsList!F$7:F$36,$K6,1)),INDEX(EventsList!F$7:F$36,$K6,1),"") | W6: =IF(ISNUMBER(INDEX(EventsList!G$7:G$36,$K6,1)),INDEX(EventsList!G$7:G$36,$K6,1),"") | X6: =IF(Z6="","",IF(Z6="No",T6+V6,T6+0)) -> 45065 | Y6: =IF(Z6="","",IF(Z6="No",U6+W6,U6+TIME(23,59,59))) -> 45066 | Z6: =IF(T6="","",IF(OR(U6<>T6,V6="",W6=""),"Yes","No")) -> Yes | AA6: =IF(Z6="No",Y6-X6,"") | AB6: {=IF(Z6="","",SUM(IF((X6>=$X$3:$X$32)*(X6<=$Y$3:$Y$32),1,0))+SUM(IF((Y6>=$X$3:$X$32)*(Y6<=$Y$3:$Y$32),1,0))-2)} -> 0 | AC6: =IF(OR(AB6=0,AB6=""),"",IF(AB6<0,"End date incorrect",IF(AB6=1,"1 event overlap",AB6&" more events overlaping"))) | AE6: 0 | AF6: {=MIN(IF(($O$3:$O$32=1)*($T$3:$T$32=AF$5)*($V$3:$V$32<=$AE6)*($W$3:$W$32>$AE6)*($Z$3:$Z$32="No"),$K$3:$K$32,""))} -> 0 | AG6: {=MIN(IF(($O$3:$O$32=1)*($T$3:$T$32=AG$5)*($V$3:$V$32<=$AE6)*($W$3:$W$32>$AE6)*($Z$3:$Z$32="No"),$K$3:$K$32,""))} -> 0 | AH6: {=MIN(IF(($O$3:$O$32=1)*($T$3:$T$32=AH$5)*($V$3:$V$32<=$AE6)*($W$3:$W$32>$AE6)*($Z$3:$Z$32="No"),$K$3:$K$32,""))} -> 0 | AI6: {=MIN(IF(($O$3:$O$32=1)*($T$3:$T$32=AI$5)*($V$3:$V$32<=$AE6)*($W$3:$W$32>$AE6)*($Z$3:$Z$32="No"),$K$3:$K$32,""))} -> 0 | AJ6: {=MIN(IF(($O$3:$O$32=1)*($T$3:$T$32=AJ$5)*($V$3:$V$32<=$AE6)*($W$3:$W$32>$AE6)*($Z$3:$Z$32="No"),$K$3:$K$32,""))} -> 0 | AK6: {=MIN(IF(($O$3:$O$32=1)*($T$3:$T$32=AK$5)*($V$3:$V$32<=$AE6)*($W$3:$W$32>$AE6)*($Z$3:$Z$32="No"),$K$3:$K$32,""))} -> 0 | AL6: {=MIN(IF(($O$3:$O$32=1)*($T$3:$T$32=AL$5)*($V$3:$V$32<=$AE6)*($W$3:$W$32>$AE6)*($Z$3:$Z$32="No"),$K$3:$K$32,""))} -> 0 | AO6: ID | AP6: Overlap | AQ6: Text | AR6: Type | AS6: Importance | AT6: ID | AU6: Overlap | AV6: Text | AW6: Type | AX6: Importance | AY6: ID | AZ6: Overlap | BA6: Text | BB6: Type | BC6: Importance | BD6: ID | BE6: Overlap | BF6: Text | BG6: Type | BH6: Importance | BI6: ID | BJ6: Overlap | BK6: Text | BL6: Type | BM6: Importance | BN6: ID | BO6: Overlap | BP6: Text | BQ6: Type | BR6: Importance | BS6: ID | BT6: Overlap | BU6: Text | BV6: Type | BW6: Importance | BY6: 1 | BZ6: =IF(BZ38="","",INDEX($P$3:$P$32,BZ38,1) & IF(INDEX($Z$3:$Z$32,BZ38,1)="No", " - "&HOUR(INDEX($V$3:$V$32,BZ38,1))&":"&IF(LEN(MINUTE(INDEX($V$3:$V$32,BZ38,1)))=1,"0"&MINUTE(INDEX($V$3:$V$32,BZ38,1)),MINUTE(INDEX($V$3:$V$32,BZ38,1)))," - All day")) | CA6: =IF(CA38="","",INDEX($P$3:$P$32,CA38,1) & IF(INDEX($Z$3:$Z$32,CA38,1)="No", " - "&HOUR(INDEX($V$3:$V$32,CA38,1))&":"&IF(LEN(MINUTE(INDEX($V$3:$V$32,CA38,1)))=1,"0"&MINUTE(INDEX($V$3:$V$32,CA38,1)),MINUTE(INDEX($V$3:$V$32,CA38,1)))," - All day")) | CB6: =IF(CB38="","",INDEX($P$3:$P$32,CB38,1) & IF(INDEX($Z$3:$Z$32,CB38,1)="No", " - "&HOUR(INDEX($V$3:$V$32,CB38,1))&":"&IF(LEN(MINUTE(INDEX($V$3:$V$32,CB38,1)))=1,"0"&MINUTE(INDEX($V$3:$V$32,CB38,1)),MINUTE(INDEX($V$3:$V$32,CB38,1)))," - All day")) | CC6: =IF(CC38="","",INDEX($P$3:$P$32,CC38,1) & IF(INDEX($Z$3:$Z$32,CC38,1)="No", " - "&HOUR(INDEX($V$3:$V$32,CC38,1))&":"&IF(LEN(MINUTE(INDEX($V$3:$V$32,CC38,1)))=1,"0"&MINUTE(INDEX($V$3:$V$32,CC38,1)),MINUTE(INDEX($V$3:$V$32,CC38,1)))," - All day")) | CD6: =IF(CD38="","",INDEX($P$3:$P$32,CD38,1) & IF(INDEX($Z$3:$Z$32,CD38,1)="No", " - "&HOUR(INDEX($V$3:$V$32,CD38,1))&":"&IF(LEN(MINUTE(INDEX($V$3:$V$32,CD38,1)))=1,"0"&MINUTE(INDEX($V$3:$V$32,CD38,1)),MINUTE(INDEX($V$3:$V$32,CD38,1)))," - All day")) | CE6: =IF(CE38="","",INDEX($P$3:$P$32,CE38,1) & IF(INDEX($Z$3:$Z$32,CE38,1)="No", " - "&HOUR(INDEX($V$3:$V$32,CE38,1))&":"&IF(LEN(MINUTE(INDEX($V$3:$V$32,CE38,1)))=1,"0"&MINUTE(INDEX($V$3:$V$32,CE38,1)),MINUTE(INDEX($V$3:$V$32,CE38,1)))," - All day")) | CF6: =IF(CF38="","",INDEX($P$3:$P$32,CF38,1) & IF(INDEX($Z$3:$Z$32,CF38,1)="No", " - "&HOUR(INDEX($V$3:$V$32,CF38,1))&":"&IF(LEN(MINUTE(INDEX($V$3:$V$32,CF38,1)))=1,"0"&MINUTE(INDEX($V$3:$V$32,CF38,1)),MINUTE(INDEX($V$3:$V$32,CF38,1)))," - All day")) | CG6: =IF(CG38="","",INDEX($P$3:$P$32,CG38,1) & IF(INDEX($Z$3:$Z$32,CG38,1)="No", " - "&HOUR(INDEX($V$3:$V$32,CG38,1))&":"&IF(LEN(MINUTE(INDEX($V$3:$V$32,CG38,1)))=1,"0"&MINUTE(INDEX($V$3:$V$32,CG38,1)),MINUTE(INDEX($V$3:$V$32,CG38,1)))," - All day")) | ... DD6: =IF(DD38="","",INDEX($P$3:$P$32,DD38,1) & IF(INDEX($Z$3:$Z$32,DD38,1)="No", " - "&HOUR(INDEX($V$3:$V$32,DD38,1))&":"&IF(LEN(MINUTE(INDEX($V$3:$V$32,DD38,1)))=1,"0"&MINUTE(INDEX($V$3:$V$32,DD38,1)),MINUTE(INDEX($V$3:$V$32,DD38,1)))," - All day")) -> Family Gathering - All day
B7: 2023 | C7: April | D7: 4 | E7: Wednesday | G7: =IF(OR(chosenWeek="",chosenWeek="This Week"),thisWeek,chosenWeek) -> 28 | I7: =I6+step -> 0.0625 | K7: 5 | L7: =IF(X7="","",RANK(X7,$X$3:$X$1002,TRUE)+K7/1000) -> 8.005 | M7: =IF(T7="",0,IF(AND(T7>=monthFirst,T7<=endOfMonth),1,0)) -> 1 | N7: =IF(T7="",0,IF(AND(WEEKNUM(T7,weekOffset+1)=weekChoosen,YEAR(T7)=weekYear,OR(importanceFilter="Show all",importanceFilter="",importanceFilter=R7)),1,0)) -> 0 | O7: =IF(T7="",0,IF(AND(WEEKNUM(T7,weekOffset+1)=thisWeek,YEAR(T7)=YEAR(TODAY())),1,0)) -> 0 | P7: =INDEX(EventsList!C$7:C$36,$K7,1)&"" -> Day Off | Q7: =IFERROR(IF(L7="","",INDEX(EventsList!H$7:H$36,$K7,1)&""),"") -> Day off | R7: =IFERROR(IF(L7="","",INDEX(EventsList!I$7:I$36,$K7,1)),0) -> Medium | S7: =IFERROR(IF(O7=0,"",IF(INDEX(EventsList!M$7:M$36,$K7,1)="Yes", P7 & IF(U7<>T7,"| from ", "| on ") & INDEX(weekDays,WEEKDAY(T7,weekOffset+1),1)& IF(U7<>T7," till "& INDEX(weekDays,WEEKDAY(U7,weekOffset+1),1), "") & IF(V7="","", "| at " & HOUR(V7)&":"&IF(LEN(MINUTE(V7))=1,"0"&MINUTE(V7),MINUTE(V7))),"")),"") | T7: =IF(ISNUMBER(INDEX(EventsList!D$7:D$36,$K7,1)),INDEX(EventsList!D$7:D$36,$K7,1),"") -> 45066 | U7: =IF(ISNUMBER(INDEX(EventsList!E$7:E$36,$K7,1)),INDEX(EventsList!E$7:E$36,$K7,1),T7) -> 45066 | V7: =IF(ISNUMBER(INDEX(EventsList!F$7:F$36,$K7,1)),INDEX(EventsList!F$7:F$36,$K7,1),"") | W7: =IF(ISNUMBER(INDEX(EventsList!G$7:G$36,$K7,1)),INDEX(EventsList!G$7:G$36,$K7,1),"") | X7: =IF(Z7="","",IF(Z7="No",T7+V7,T7+0)) -> 45066 | Y7: =IF(Z7="","",IF(Z7="No",U7+W7,U7+TIME(23,59,59))) -> 45067 | Z7: =IF(T7="","",IF(OR(U7<>T7,V7="",W7=""),"Yes","No")) -> Yes | AA7: =IF(Z7="No",Y7-X7,"") | AB7: {=IF(Z7="","",SUM(IF((X7>=$X$3:$X$32)*(X7<=$Y$3:$Y$32),1,0))+SUM(IF((Y7>=$X$3:$X$32)*(Y7<=$Y$3:$Y$32),1,0))-2)} -> 0 | AC7: =IF(OR(AB7=0,AB7=""),"",IF(AB7<0,"End date incorrect",IF(AB7=1,"1 event overlap",AB7&" more events overlaping"))) | AE7: =AE6+step -> 0.020833333 | AF7: {=MIN(IF(($O$3:$O$32=1)*($T$3:$T$32=AF$5)*($V$3:$V$32<=$AE7)*($W$3:$W$32>$AE7)*($Z$3:$Z$32="No"),$K$3:$K$32,""))} -> 0 | AG7: {=MIN(IF(($O$3:$O$32=1)*($T$3:$T$32=AG$5)*($V$3:$V$32<=$AE7)*($W$3:$W$32>$AE7)*($Z$3:$Z$32="No"),$K$3:$K$32,""))} -> 0 | AH7: {=MIN(IF(($O$3:$O$32=1)*($T$3:$T$32=AH$5)*($V$3:$V$32<=$AE7)*($W$3:$W$32>$AE7)*($Z$3:$Z$32="No"),$K$3:$K$32,""))} -> 0 | AI7: {=MIN(IF(($O$3:$O$32=1)*($T$3:$T$32=AI$5)*($V$3:$V$32<=$AE7)*($W$3:$W$32>$AE7)*($Z$3:$Z$32="No"),$K$3:$K$32,""))} -> 0 | AJ7: {=MIN(IF(($O$3:$O$32=1)*($T$3:$T$32=AJ$5)*($V$3:$V$32<=$AE7)*($W$3:$W$32>$AE7)*($Z$3:$Z$32="No"),$K$3:$K$32,""))} -> 0 | AK7: {=MIN(IF(($O$3:$O$32=1)*($T$3:$T$32=AK$5)*($V$3:$V$32<=$AE7)*($W$3:$W$32>$AE7)*($Z$3:$Z$32="No"),$K$3:$K$32,""))} -> 0 | AL7: {=MIN(IF(($O$3:$O$32=1)*($T$3:$T$32=AL$5)*($V$3:$V$32<=$AE7)*($W$3:$W$32>$AE7)*($Z$3:$Z$32="No"),$K$3:$K$32,""))} -> 0 | AN7: =WeeklyView!C9 -> 0.33333333 | AO7: {=MIN(IF(($N$3:$N$32=1)*($T$3:$T$32=AO$5)*($V$3:$V$32<=$AN7)*($W$3:$W$32>$AN7)*($Z$3:$Z$32="No"),$K$3:$K$32,""))} -> 0 | AP7: =COUNTIFS($N$3:$N$32,1,$T$3:$T$32,AO$5,$V$3:$V$32,"<="&$AN7,$W$3:$W$32,">"&$AN7,$Z$3:$Z$32,"No") -> 0 | AQ7: =IF(AQ57<>"",AQ57,IF(OR(AO7=AO6,AS7=""),"",IF(AO7>0,INDEX($P$3:$P$32,AO7,1)& IF(AP7>1," - " & AP7 &" Events overlap!",""),""))) | AR7: =IF(AR57<>"",AR57,IF(LEN(AS7)>0,INDEX($Q$3:$Q$32,AO7,1),"")) | AS7: =IF(AS57<>"",AS57,IF(AO7>0,IF(importanceFilter="Show all",1,IF(INDEX($R$3:$R$32,AO7,1)=importanceFilter,1,"")),"")) | AT7: {=MIN(IF(($N$3:$N$32=1)*($T$3:$T$32=AT$5)*($V$3:$V$32<=$AN7)*($W$3:$W$32>$AN7)*($Z$3:$Z$32="No"),$K$3:$K$32,""))} -> 0 | AU7: =COUNTIFS($N$3:$N$32,1,$T$3:$T$32,AT$5,$V$3:$V$32,"<="&$AN7,$W$3:$W$32,">"&$AN7,$Z$3:$Z$32,"No") -> 0 | AV7: =IF(AV57<>"",AV57,IF(OR(AT7=AT6,AX7=""),"",IF(AT7>0,INDEX($P$3:$P$32,AT7,1)& IF(AU7>1," - " & AU7 &" Events overlap!",""),""))) | AW7: =IF(AW57<>"",AW57,IF(LEN(AX7)>0,INDEX($Q$3:$Q$32,AT7,1),"")) | AX7: =IF(AX57<>"",AX57,IF(AT7>0,IF(importanceFilter="Show all",1,IF(INDEX($R$3:$R$32,AT7,1)=importanceFilter,1,"")),"")) | AY7: {=MIN(IF(($N$3:$N$32=1)*($T$3:$T$32=AY$5)*($V$3:$V$32<=$AN7)*($W$3:$W$32>$AN7)*($Z$3:$Z$32="No"),$K$3:$K$32,""))} -> 0 | AZ7: =COUNTIFS($N$3:$N$32,1,$T$3:$T$32,AY$5,$V$3:$V$32,"<="&$AN7,$W$3:$W$32,">"&$AN7,$Z$3:$Z$32,"No") -> 0 | BA7: =IF(BA57<>"",BA57,IF(OR(AY7=AY6,BC7=""),"",IF(AY7>0,INDEX($P$3:$P$32,AY7,1)& IF(AZ7>1," - " & AZ7 &" Events overlap!",""),""))) | BB7: =IF(BB57<>"",BB57,IF(LEN(BC7)>0,INDEX($Q$3:$Q$32,AY7,1),"")) | BC7: =IF(BC57<>"",BC57,IF(AY7>0,IF(importanceFilter="Show all",1,IF(INDEX($R$3:$R$32,AY7,1)=importanceFilter,1,"")),"")) | BD7: {=MIN(IF(($N$3:$N$32=1)*($T$3:$T$32=BD$5)*($V$3:$V$32<=$AN7)*($W$3:$W$32>$AN7)*($Z$3:$Z$32="No"),$K$3:$K$32,""))} -> 0 | BE7: =COUNTIFS($N$3:$N$32,1,$T$3:$T$32,BD$5,$V$3:$V$32,"<="&$AN7,$W$3:$W$32,">"&$AN7,$Z$3:$Z$32,"No") -> 0 | BF7: =IF(BF57<>"",BF57,IF(OR(BD7=BD6,BH7=""),"",IF(BD7>0,INDEX($P$3:$P$32,BD7,1)& IF(BE7>1," - " & BE7 &" Events overlap!",""),""))) | BG7: =IF(BG57<>"",BG57,IF(LEN(BH7)>0,INDEX($Q$3:$Q$32,BD7,1),"")) | BH7: =IF(BH57<>"",BH57,IF(BD7>0,IF(importanceFilter="Show all",1,IF(INDEX($R$3:$R$32,BD7,1)=importanceFilter,1,"")),"")) | BI7: {=MIN(IF(($N$3:$N$32=1)*($T$3:$T$32=BI$5)*($V$3:$V$32<=$AN7)*($W$3:$W$32>$AN7)*($Z$3:$Z$32="No"),$K$3:$K$32,""))} -> 0 | BJ7: =COUNTIFS($N$3:$N$32,1,$T$3:$T$32,BI$5,$V$3:$V$32,"<="&$AN7,$W$3:$W$32,">"&$AN7,$Z$3:$Z$32,"No") -> 0 | BK7: =IF(BK57<>"",BK57,IF(OR(BI7=BI6,BM7=""),"",IF(BI7>0,INDEX($P$3:$P$32,BI7,1)& IF(BJ7>1," - " & BJ7 &" Events overlap!",""),""))) | BL7: =IF(BL57<>"",BL57,IF(LEN(BM7)>0,INDEX($Q$3:$Q$32,BI7,1),"")) | BM7: =IF(BM57<>"",BM57,IF(BI7>0,IF(importanceFilter="Show all",1,IF(INDEX($R$3:$R$32,BI7,1)=importanceFilter,1,"")),"")) | BN7: {=MIN(IF(($N$3:$N$32=1)*($T$3:$T$32=BN$5)*($V$3:$V$32<=$AN7)*($W$3:$W$32>$AN7)*($Z$3:$Z$32="No"),$K$3:$K$32,""))} -> 0 | BO7: =COUNTIFS($N$3:$N$32,1,$T$3:$T$32,BN$5,$V$3:$V$32,"<="&$AN7,$W$3:$W$32,">"&$AN7,$Z$3:$Z$32,"No") -> 0 | BP7: =IF(BP57<>"",BP57,IF(OR(BN7=BN6,BR7=""),"",IF(BN7>0,INDEX($P$3:$P$32,BN7,1)& IF(BO7>1," - " & BO7 &" Events overlap!",""),""))) | BQ7: =IF(BQ57<>"",BQ57,IF(LEN(BR7)>0,INDEX($Q$3:$Q$32,BN7,1),"")) | BR7: =IF(BR57<>"",BR57,IF(BN7>0,IF(importanceFilter="Show all",1,IF(INDEX($R$3:$R$32,BN7,1)=importanceFilter,1,"")),"")) | BS7: {=MIN(IF(($N$3:$N$32=1)*($T$3:$T$32=BS$5)*($V$3:$V$32<=$AN7)*($W$3:$W$32>$AN7)*($Z$3:$Z$32="No"),$K$3:$K$32,""))} -> 0 | BT7: =COUNTIFS($N$3:$N$32,1,$T$3:$T$32,BS$5,$V$3:$V$32,"<="&$AN7,$W$3:$W$32,">"&$AN7,$Z$3:$Z$32,"No") -> 0 | BU7: =IF(BU57<>"",BU57,IF(OR(BS7=BS6,BW7=""),"",IF(BS7>0,INDEX($P$3:$P$32,BS7,1)& IF(BT7>1," - " & BT7 &" Events overlap!",""),""))) | BV7: =IF(BV57<>"",BV57,IF(LEN(BW7)>0,INDEX($Q$3:$Q$32,BS7,1),"")) | BW7: =IF(BW57<>"",BW57,IF(BS7>0,IF(importanceFilter="Show all",1,IF(INDEX($R$3:$R$32,BS7,1)=importanceFilter,1,"")),"")) | BY7: 2 | BZ7: =IF(BZ39="","",INDEX($P$3:$P$32,BZ39,1) & IF(INDEX($Z$3:$Z$32,BZ39,1)="No", " - "&HOUR(INDEX($V$3:$V$32,BZ39,1))&":"&IF(LEN(MINUTE(INDEX($V$3:$V$32,BZ39,1)))=1,"0"&MINUTE(INDEX($V$3:$V$32,BZ39,1)),MINUTE(INDEX($V$3:$V$32,BZ39,1)))," - All day")) | CA7: =IF(CA39="","",INDEX($P$3:$P$32,CA39,1) & IF(INDEX($Z$3:$Z$32,CA39,1)="No", " - "&HOUR(INDEX($V$3:$V$32,CA39,1))&":"&IF(LEN(MINUTE(INDEX($V$3:$V$32,CA39,1)))=1,"0"&MINUTE(INDEX($V$3:$V$32,CA39,1)),MINUTE(INDEX($V$3:$V$32,CA39,1)))," - All day")) | CB7: =IF(CB39="","",INDEX($P$3:$P$32,CB39,1) & IF(INDEX($Z$3:$Z$32,CB39,1)="No", " - "&HOUR(INDEX($V$3:$V$32,CB39,1))&":"&IF(LEN(MINUTE(INDEX($V$3:$V$32,CB39,1)))=1,"0"&MINUTE(INDEX($V$3:$V$32,CB39,1)),MINUTE(INDEX($V$3:$V$32,CB39,1)))," - All day")) | CC7: =IF(CC39="","",INDEX($P$3:$P$32,CC39,1) & IF(INDEX($Z$3:$Z$32,CC39,1)="No", " - "&HOUR(INDEX($V$3:$V$32,CC39,1))&":"&IF(LEN(MINUTE(INDEX($V$3:$V$32,CC39,1)))=1,"0"&MINUTE(INDEX($V$3:$V$32,CC39,1)),MINUTE(INDEX($V$3:$V$32,CC39,1)))," - All day")) | CD7: =IF(CD39="","",INDEX($P$3:$P$32,CD39,1) & IF(INDEX($Z$3:$Z$32,CD39,1)="No", " - "&HOUR(INDEX($V$3:$V$32,CD39,1))&":"&IF(LEN(MINUTE(INDEX($V$3:$V$32,CD39,1)))=1,"0"&MINUTE(INDEX($V$3:$V$32,CD39,1)),MINUTE(INDEX($V$3:$V$32,CD39,1)))," - All day")) | CE7: =IF(CE39="","",INDEX($P$3:$P$32,CE39,1) & IF(INDEX($Z$3:$Z$32,CE39,1)="No", " - "&HOUR(INDEX($V$3:$V$32,CE39,1))&":"&IF(LEN(MINUTE(INDEX($V$3:$V$32,CE39,1)))=1,"0"&MINUTE(INDEX($V$3:$V$32,CE39,1)),MINUTE(INDEX($V$3:$V$32,CE39,1)))," - All day")) | CF7: =IF(CF39="","",INDEX($P$3:$P$32,CF39,1) & IF(INDEX($Z$3:$Z$32,CF39,1)="No", " - "&HOUR(INDEX($V$3:$V$32,CF39,1))&":"&IF(LEN(MINUTE(INDEX($V$3:$V$32,CF39,1)))=1,"0"&MINUTE(INDEX($V$3:$V$32,CF39,1)),MINUTE(INDEX($V$3:$V$32,CF39,1)))," - All day")) | CG7: =IF(CG39="","",INDEX($P$3:$P$32,CG39,1) & IF(INDEX($Z$3:$Z$32,CG39,1)="No", " - "&HOUR(INDEX($V$3:$V$32,CG39,1))&":"&IF(LEN(MINUTE(INDEX($V$3:$V$32,CG39,1)))=1,"0"&MINUTE(INDEX($V$3:$V$32,CG39,1)),MINUTE(INDEX($V$3:$V$32,CG39,1)))," - All day")) | ... DD7: =IF(DD39="","",INDEX($P$3:$P$32,DD39,1) & IF(INDEX($Z$3:$Z$32,DD39,1)="No", " - "&HOUR(INDEX($V$3:$V$32,DD39,1))&":"&IF(LEN(MINUTE(INDEX($V$3:$V$32,DD39,1)))=1,"0"&MINUTE(INDEX($V$3:$V$32,DD39,1)),MINUTE(INDEX($V$3:$V$32,DD39,1)))," - All day"))
B8: 2024 | C8: May | D8: 5 | E8: Thursday | I8: =I7+step -> 0.083333333 | K8: 6 | L8: =IF(X8="","",RANK(X8,$X$3:$X$1002,TRUE)+K8/1000) -> 4.006 | M8: =IF(T8="",0,IF(AND(T8>=monthFirst,T8<=endOfMonth),1,0)) -> 1 | N8: =IF(T8="",0,IF(AND(WEEKNUM(T8,weekOffset+1)=weekChoosen,YEAR(T8)=weekYear,OR(importanceFilter="Show all",importanceFilter="",importanceFilter=R8)),1,0)) -> 0 | O8: =IF(T8="",0,IF(AND(WEEKNUM(T8,weekOffset+1)=thisWeek,YEAR(T8)=YEAR(TODAY())),1,0)) -> 0 | P8: =INDEX(EventsList!C$7:C$36,$K8,1)&"" -> Reminder: Dentist | Q8: =IFERROR(IF(L8="","",INDEX(EventsList!H$7:H$36,$K8,1)&""),"") -> Reminder | R8: =IFERROR(IF(L8="","",INDEX(EventsList!I$7:I$36,$K8,1)),0) -> 0 | S8: =IFERROR(IF(O8=0,"",IF(INDEX(EventsList!M$7:M$36,$K8,1)="Yes", P8 & IF(U8<>T8,"| from ", "| on ") & INDEX(weekDays,WEEKDAY(T8,weekOffset+1),1)& IF(U8<>T8," till "& INDEX(weekDays,WEEKDAY(U8,weekOffset+1),1), "") & IF(V8="","", "| at " & HOUR(V8)&":"&IF(LEN(MINUTE(V8))=1,"0"&MINUTE(V8),MINUTE(V8))),"")),"") | T8: =IF(ISNUMBER(INDEX(EventsList!D$7:D$36,$K8,1)),INDEX(EventsList!D$7:D$36,$K8,1),"") -> 45062 | U8: =IF(ISNUMBER(INDEX(EventsList!E$7:E$36,$K8,1)),INDEX(EventsList!E$7:E$36,$K8,1),T8) -> 45062 | V8: =IF(ISNUMBER(INDEX(EventsList!F$7:F$36,$K8,1)),INDEX(EventsList!F$7:F$36,$K8,1),"") -> 0.41666667 | W8: =IF(ISNUMBER(INDEX(EventsList!G$7:G$36,$K8,1)),INDEX(EventsList!G$7:G$36,$K8,1),"") -> 0.5 | X8: =IF(Z8="","",IF(Z8="No",T8+V8,T8+0)) -> 45062.417 | Y8: =IF(Z8="","",IF(Z8="No",U8+W8,U8+TIME(23,59,59))) -> 45062.5 | Z8: =IF(T8="","",IF(OR(U8<>T8,V8="",W8=""),"Yes","No")) -> No | AA8: =IF(Z8="No",Y8-X8,"") -> 0.083333333 | AB8: {=IF(Z8="","",SUM(IF((X8>=$X$3:$X$32)*(X8<=$Y$3:$Y$32),1,0))+SUM(IF((Y8>=$X$3:$X$32)*(Y8<=$Y$3:$Y$32),1,0))-2)} -> 0 | AC8: =IF(OR(AB8=0,AB8=""),"",IF(AB8<0,"End date incorrect",IF(AB8=1,"1 event overlap",AB8&" more events overlaping"))) | AE8: =AE7+step -> 0.041666667 | AF8: {=MIN(IF(($O$3:$O$32=1)*($T$3:$T$32=AF$5)*($V$3:$V$32<=$AE8)*($W$3:$W$32>$AE8)*($Z$3:$Z$32="No"),$K$3:$K$32,""))} -> 0 | AG8: {=MIN(IF(($O$3:$O$32=1)*($T$3:$T$32=AG$5)*($V$3:$V$32<=$AE8)*($W$3:$W$32>$AE8)*($Z$3:$Z$32="No"),$K$3:$K$32,""))} -> 0 | AH8: {=MIN(IF(($O$3:$O$32=1)*($T$3:$T$32=AH$5)*($V$3:$V$32<=$AE8)*($W$3:$W$32>$AE8)*($Z$3:$Z$32="No"),$K$3:$K$32,""))} -> 0 | AI8: {=MIN(IF(($O$3:$O$32=1)*($T$3:$T$32=AI$5)*($V$3:$V$32<=$AE8)*($W$3:$W$32>$AE8)*($Z$3:$Z$32="No"),$K$3:$K$32,""))} -> 0 | AJ8: {=MIN(IF(($O$3:$O$32=1)*($T$3:$T$32=AJ$5)*($V$3:$V$32<=$AE8)*($W$3:$W$32>$AE8)*($Z$3:$Z$32="No"),$K$3:$K$32,""))} -> 0 | AK8: {=MIN(IF(($O$3:$O$32=1)*($T$3:$T$32=AK$5)*($V$3:$V$32<=$AE8)*($W$3:$W$32>$AE8)*($Z$3:$Z$32="No"),$K$3:$K$32,""))} -> 0 | AL8: {=MIN(IF(($O$3:$O$32=1)*($T$3:$T$32=AL$5)*($V$3:$V$32<=$AE8)*($W$3:$W$32>$AE8)*($Z$3:$Z$32="No"),$K$3:$K$32,""))} -> 0 | AN8: =WeeklyView!C10 -> 0.35416667 | AO8: {=MIN(IF(($N$3:$N$32=1)*($T$3:$T$32=AO$5)*($V$3:$V$32<=$AN8)*($W$3:$W$32>$AN8)*($Z$3:$Z$32="No"),$K$3:$K$32,""))} -> 0 | AP8: =COUNTIFS($N$3:$N$32,1,$T$3:$T$32,AO$5,$V$3:$V$32,"<="&$AN8,$W$3:$W$32,">"&$AN8,$Z$3:$Z$32,"No") -> 0 | AQ8: =IF(AQ58<>"",AQ58,IF(OR(AO8=AO7,AS8=""),"",IF(AO8>0,INDEX($P$3:$P$32,AO8,1)& IF(AP8>1," - " & AP8 &" Events overlap!",""),""))) | AR8: =IF(AR58<>"",AR58,IF(LEN(AS8)>0,INDEX($Q$3:$Q$32,AO8,1),"")) | AS8: =IF(AS58<>"",AS58,IF(AO8>0,IF(importanceFilter="Show all",1,IF(INDEX($R$3:$R$32,AO8,1)=importanceFilter,1,"")),"")) | AT8: {=MIN(IF(($N$3:$N$32=1)*($T$3:$T$32=AT$5)*($V$3:$V$32<=$AN8)*($W$3:$W$32>$AN8)*($Z$3:$Z$32="No"),$K$3:$K$32,""))} -> 0 | AU8: =COUNTIFS($N$3:$N$32,1,$T$3:$T$32,AT$5,$V$3:$V$32,"<="&$AN8,$W$3:$W$32,">"&$AN8,$Z$3:$Z$32,"No") -> 0 | AV8: =IF(AV58<>"",AV58,IF(OR(AT8=AT7,AX8=""),"",IF(AT8>0,INDEX($P$3:$P$32,AT8,1)& IF(AU8>1," - " & AU8 &" Events overlap!",""),""))) | AW8: =IF(AW58<>"",AW58,IF(LEN(AX8)>0,INDEX($Q$3:$Q$32,AT8,1),"")) | AX8: =IF(AX58<>"",AX58,IF(AT8>0,IF(importanceFilter="Show all",1,IF(INDEX($R$3:$R$32,AT8,1)=importanceFilter,1,"")),"")) | AY8: {=MIN(IF(($N$3:$N$32=1)*($T$3:$T$32=AY$5)*($V$3:$V$32<=$AN8)*($W$3:$W$32>$AN8)*($Z$3:$Z$32="No"),$K$3:$K$32,""))} -> 0 | AZ8: =COUNTIFS($N$3:$N$32,1,$T$3:$T$32,AY$5,$V$3:$V$32,"<="&$AN8,$W$3:$W$32,">"&$AN8,$Z$3:$Z$32,"No") -> 0 | BA8: =IF(BA58<>"",BA58,IF(OR(AY8=AY7,BC8=""),"",IF(AY8>0,INDEX($P$3:$P$32,AY8,1)& IF(AZ8>1," - " & AZ8 &" Events overlap!",""),""))) | BB8: =IF(BB58<>"",BB58,IF(LEN(BC8)>0,INDEX($Q$3:$Q$32,AY8,1),"")) | BC8: =IF(BC58<>"",BC58,IF(AY8>0,IF(importanceFilter="Show all",1,IF(INDEX($R$3:$R$32,AY8,1)=importanceFilter,1,"")),"")) | BD8: {=MIN(IF(($N$3:$N$32=1)*($T$3:$T$32=BD$5)*($V$3:$V$32<=$AN8)*($W$3:$W$32>$AN8)*($Z$3:$Z$32="No"),$K$3:$K$32,""))} -> 0 | BE8: =COUNTIFS($N$3:$N$32,1,$T$3:$T$32,BD$5,$V$3:$V$32,"<="&$AN8,$W$3:$W$32,">"&$AN8,$Z$3:$Z$32,"No") -> 0 | BF8: =IF(BF58<>"",BF58,IF(OR(BD8=BD7,BH8=""),"",IF(BD8>0,INDEX($P$3:$P$32,BD8,1)& IF(BE8>1," - " & BE8 &" Events overlap!",""),""))) | BG8: =IF(BG58<>"",BG58,IF(LEN(BH8)>0,INDEX($Q$3:$Q$32,BD8,1),"")) | BH8: =IF(BH58<>"",BH58,IF(BD8>0,IF(importanceFilter="Show all",1,IF(INDEX($R$3:$R$32,BD8,1)=importanceFilter,1,"")),"")) | BI8: {=MIN(IF(($N$3:$N$32=1)*($T$3:$T$32=BI$5)*($V$3:$V$32<=$AN8)*($W$3:$W$32>$AN8)*($Z$3:$Z$32="No"),$K$3:$K$32,""))} -> 0 | BJ8: =COUNTIFS($N$3:$N$32,1,$T$3:$T$32,BI$5,$V$3:$V$32,"<="&$AN8,$W$3:$W$32,">"&$AN8,$Z$3:$Z$32,"No") -> 0 | BK8: =IF(BK58<>"",BK58,IF(OR(BI8=BI7,BM8=""),"",IF(BI8>0,INDEX($P$3:$P$32,BI8,1)& IF(BJ8>1," - " & BJ8 &" Events overlap!",""),""))) | BL8: =IF(BL58<>"",BL58,IF(LEN(BM8)>0,INDEX($Q$3:$Q$32,BI8,1),"")) | BM8: =IF(BM58<>"",BM58,IF(BI8>0,IF(importanceFilter="Show all",1,IF(INDEX($R$3:$R$32,BI8,1)=importanceFilter,1,"")),"")) | BN8: {=MIN(IF(($N$3:$N$32=1)*($T$3:$T$32=BN$5)*($V$3:$V$32<=$AN8)*($W$3:$W$32>$AN8)*($Z$3:$Z$32="No"),$K$3:$K$32,""))} -> 0 | BO8: =COUNTIFS($N$3:$N$32,1,$T$3:$T$32,BN$5,$V$3:$V$32,"<="&$AN8,$W$3:$W$32,">"&$AN8,$Z$3:$Z$32,"No") -> 0 | BP8: =IF(BP58<>"",BP58,IF(OR(BN8=BN7,BR8=""),"",IF(BN8>0,INDEX($P$3:$P$32,BN8,1)& IF(BO8>1," - " & BO8 &" Events overlap!",""),""))) | BQ8: =IF(BQ58<>"",BQ58,IF(LEN(BR8)>0,INDEX($Q$3:$Q$32,BN8,1),"")) | BR8: =IF(BR58<>"",BR58,IF(BN8>0,IF(importanceFilter="Show all",1,IF(INDEX($R$3:$R$32,BN8,1)=importanceFilter,1,"")),"")) | BS8: {=MIN(IF(($N$3:$N$32=1)*($T$3:$T$32=BS$5)*($V$3:$V$32<=$AN8)*($W$3:$W$32>$AN8)*($Z$3:$Z$32="No"),$K$3:$K$32,""))} -> 0 | BT8: =COUNTIFS($N$3:$N$32,1,$T$3:$T$32,BS$5,$V$3:$V$32,"<="&$AN8,$W$3:$W$32,">"&$AN8,$Z$3:$Z$32,"No") -> 0 | BU8: =IF(BU58<>"",BU58,IF(OR(BS8=BS7,BW8=""),"",IF(BS8>0,INDEX($P$3:$P$32,BS8,1)& IF(BT8>1," - " & BT8 &" Events overlap!",""),""))) | BV8: =IF(BV58<>"",BV58,IF(LEN(BW8)>0,INDEX($Q$3:$Q$32,BS8,1),"")) | BW8: =IF(BW58<>"",BW58,IF(BS8>0,IF(importanceFilter="Show all",1,IF(INDEX($R$3:$R$32,BS8,1)=importanceFilter,1,"")),"")) | BY8: 3 | BZ8: =IF(BZ40="","",INDEX($P$3:$P$32,BZ40,1) & IF(INDEX($Z$3:$Z$32,BZ40,1)="No", " - "&HOUR(INDEX($V$3:$V$32,BZ40,1))&":"&IF(LEN(MINUTE(INDEX($V$3:$V$32,BZ40,1)))=1,"0"&MINUTE(INDEX($V$3:$V$32,BZ40,1)),MINUTE(INDEX($V$3:$V$32,BZ40,1)))," - All day")) | CA8: =IF(CA40="","",INDEX($P$3:$P$32,CA40,1) & IF(INDEX($Z$3:$Z$32,CA40,1)="No", " - "&HOUR(INDEX($V$3:$V$32,CA40,1))&":"&IF(LEN(MINUTE(INDEX($V$3:$V$32,CA40,1)))=1,"0"&MINUTE(INDEX($V$3:$V$32,CA40,1)),MINUTE(INDEX($V$3:$V$32,CA40,1)))," - All day")) | CB8: =IF(CB40="","",INDEX($P$3:$P$32,CB40,1) & IF(INDEX($Z$3:$Z$32,CB40,1)="No", " - "&HOUR(INDEX($V$3:$V$32,CB40,1))&":"&IF(LEN(MINUTE(INDEX($V$3:$V$32,CB40,1)))=1,"0"&MINUTE(INDEX($V$3:$V$32,CB40,1)),MINUTE(INDEX($V$3:$V$32,CB40,1)))," - All day")) | CC8: =IF(CC40="","",INDEX($P$3:$P$32,CC40,1) & IF(INDEX($Z$3:$Z$32,CC40,1)="No", " - "&HOUR(INDEX($V$3:$V$32,CC40,1))&":"&IF(LEN(MINUTE(INDEX($V$3:$V$32,CC40,1)))=1,"0"&MINUTE(INDEX($V$3:$V$32,CC40,1)),MINUTE(INDEX($V$3:$V$32,CC40,1)))," - All day")) | CD8: =IF(CD40="","",INDEX($P$3:$P$32,CD40,1) & IF(INDEX($Z$3:$Z$32,CD40,1)="No", " - "&HOUR(INDEX($V$3:$V$32,CD40,1))&":"&IF(LEN(MINUTE(INDEX($V$3:$V$32,CD40,1)))=1,"0"&MINUTE(INDEX($V$3:$V$32,CD40,1)),MINUTE(INDEX($V$3:$V$32,CD40,1)))," - All day")) | CE8: =IF(CE40="","",INDEX($P$3:$P$32,CE40,1) & IF(INDEX($Z$3:$Z$32,CE40,1)="No", " - "&HOUR(INDEX($V$3:$V$32,CE40,1))&":"&IF(LEN(MINUTE(INDEX($V$3:$V$32,CE40,1)))=1,"0"&MINUTE(INDEX($V$3:$V$32,CE40,1)),MINUTE(INDEX($V$3:$V$32,CE40,1)))," - All day")) | CF8: =IF(CF40="","",INDEX($P$3:$P$32,CF40,1) & IF(INDEX($Z$3:$Z$32,CF40,1)="No", " - "&HOUR(INDEX($V$3:$V$32,CF40,1))&":"&IF(LEN(MINUTE(INDEX($V$3:$V$32,CF40,1)))=1,"0"&MINUTE(INDEX($V$3:$V$32,CF40,1)),MINUTE(INDEX($V$3:$V$32,CF40,1)))," - All day")) | CG8: =IF(CG40="","",INDEX($P$3:$P$32,CG40,1) & IF(INDEX($Z$3:$Z$32,CG40,1)="No", " - "&HOUR(INDEX($V$3:$V$32,CG40,1))&":"&IF(LEN(MINUTE(INDEX($V$3:$V$32,CG40,1)))=1,"0"&MINUTE(INDEX($V$3:$V$32,CG40,1)),MINUTE(INDEX($V$3:$V$32,CG40,1)))," - All day")) | ... DD8: =IF(DD40="","",INDEX($P$3:$P$32,DD40,1) & IF(INDEX($Z$3:$Z$32,DD40,1)="No", " - "&HOUR(INDEX($V$3:$V$32,DD40,1))&":"&IF(LEN(MINUTE(INDEX($V$3:$V$32,DD40,1)))=1,"0"&MINUTE(INDEX($V$3:$V$32,DD40,1)),MINUTE(INDEX($V$3:$V$32,DD40,1)))," - All day"))
B9: 2025 | C9: June | D9: 6 | E9: Friday | G9: weekday Offset | I9: =I8+step -> 0.10416667 | K9: 7 | L9: =IF(X9="","",RANK(X9,$X$3:$X$1002,TRUE)+K9/1000) -> 3.007 | M9: =IF(T9="",0,IF(AND(T9>=monthFirst,T9<=endOfMonth),1,0)) -> 1 | N9: =IF(T9="",0,IF(AND(WEEKNUM(T9,weekOffset+1)=weekChoosen,YEAR(T9)=weekYear,OR(importanceFilter="Show all",importanceFilter="",importanceFilter=R9)),1,0)) -> 0 | O9: =IF(T9="",0,IF(AND(WEEKNUM(T9,weekOffset+1)=thisWeek,YEAR(T9)=YEAR(TODAY())),1,0)) -> 0 | P9: =INDEX(EventsList!C$7:C$36,$K9,1)&"" -> Meeting with Lisa | Q9: =IFERROR(IF(L9="","",INDEX(EventsList!H$7:H$36,$K9,1)&""),"") -> Meeting | R9: =IFERROR(IF(L9="","",INDEX(EventsList!I$7:I$36,$K9,1)),0) -> High | S9: =IFERROR(IF(O9=0,"",IF(INDEX(EventsList!M$7:M$36,$K9,1)="Yes", P9 & IF(U9<>T9,"| from ", "| on ") & INDEX(weekDays,WEEKDAY(T9,weekOffset+1),1)& IF(U9<>T9," till "& INDEX(weekDays,WEEKDAY(U9,weekOffset+1),1), "") & IF(V9="","", "| at " & HOUR(V9)&":"&IF(LEN(MINUTE(V9))=1,"0"&MINUTE(V9),MINUTE(V9))),"")),"") | T9: =IF(ISNUMBER(INDEX(EventsList!D$7:D$36,$K9,1)),INDEX(EventsList!D$7:D$36,$K9,1),"") -> 45061 | U9: =IF(ISNUMBER(INDEX(EventsList!E$7:E$36,$K9,1)),INDEX(EventsList!E$7:E$36,$K9,1),T9) -> 45061 | V9: =IF(ISNUMBER(INDEX(EventsList!F$7:F$36,$K9,1)),INDEX(EventsList!F$7:F$36,$K9,1),"") -> 0.47916667 | W9: =IF(ISNUMBER(INDEX(EventsList!G$7:G$36,$K9,1)),INDEX(EventsList!G$7:G$36,$K9,1),"") -> 0.52083333 | X9: =IF(Z9="","",IF(Z9="No",T9+V9,T9+0)) -> 45061.479 | Y9: =IF(Z9="","",IF(Z9="No",U9+W9,U9+TIME(23,59,59))) -> 45061.521 | Z9: =IF(T9="","",IF(OR(U9<>T9,V9="",W9=""),"Yes","No")) -> No | AA9: =IF(Z9="No",Y9-X9,"") -> 0.041666667 | AB9: {=IF(Z9="","",SUM(IF((X9>=$X$3:$X$32)*(X9<=$Y$3:$Y$32),1,0))+SUM(IF((Y9>=$X$3:$X$32)*(Y9<=$Y$3:$Y$32),1,0))-2)} -> 0 | AC9: =IF(OR(AB9=0,AB9=""),"",IF(AB9<0,"End date incorrect",IF(AB9=1,"1 event overlap",AB9&" more events overlaping"))) | AE9: =AE8+step -> 0.0625 | AF9: {=MIN(IF(($O$3:$O$32=1)*($T$3:$T$32=AF$5)*($V$3:$V$32<=$AE9)*($W$3:$W$32>$AE9)*($Z$3:$Z$32="No"),$K$3:$K$32,""))} -> 0 | AG9: {=MIN(IF(($O$3:$O$32=1)*($T$3:$T$32=AG$5)*($V$3:$V$32<=$AE9)*($W$3:$W$32>$AE9)*($Z$3:$Z$32="No"),$K$3:$K$32,""))} -> 0 | AH9: {=MIN(IF(($O$3:$O$32=1)*($T$3:$T$32=AH$5)*($V$3:$V$32<=$AE9)*($W$3:$W$32>$AE9)*($Z$3:$Z$32="No"),$K$3:$K$32,""))} -> 0 | AI9: {=MIN(IF(($O$3:$O$32=1)*($T$3:$T$32=AI$5)*($V$3:$V$32<=$AE9)*($W$3:$W$32>$AE9)*($Z$3:$Z$32="No"),$K$3:$K$32,""))} -> 0 | AJ9: {=MIN(IF(($O$3:$O$32=1)*($T$3:$T$32=AJ$5)*($V$3:$V$32<=$AE9)*($W$3:$W$32>$AE9)*($Z$3:$Z$32="No"),$K$3:$K$32,""))} -> 0 | AK9: {=MIN(IF(($O$3:$O$32=1)*($T$3:$T$32=AK$5)*($V$3:$V$32<=$AE9)*($W$3:$W$32>$AE9)*($Z$3:$Z$32="No"),$K$3:$K$32,""))} -> 0 | AL9: {=MIN(IF(($O$3:$O$32=1)*($T$3:$T$32=AL$5)*($V$3:$V$32<=$AE9)*($W$3:$W$32>$AE9)*($Z$3:$Z$32="No"),$K$3:$K$32,""))} -> 0 | AN9: =WeeklyView!C11 -> 0.375 | AO9: {=MIN(IF(($N$3:$N$32=1)*($T$3:$T$32=AO$5)*($V$3:$V$32<=$AN9)*($W$3:$W$32>$AN9)*($Z$3:$Z$32="No"),$K$3:$K$32,""))} -> 0 | AP9: =COUNTIFS($N$3:$N$32,1,$T$3:$T$32,AO$5,$V$3:$V$32,"<="&$AN9,$W$3:$W$32,">"&$AN9,$Z$3:$Z$32,"No") -> 0 | AQ9: =IF(AQ59<>"",AQ59,IF(OR(AO9=AO8,AS9=""),"",IF(AO9>0,INDEX($P$3:$P$32,AO9,1)& IF(AP9>1," - " & AP9 &" Events overlap!",""),""))) | AR9: =IF(AR59<>"",AR59,IF(LEN(AS9)>0,INDEX($Q$3:$Q$32,AO9,1),"")) | AS9: =IF(AS59<>"",AS59,IF(AO9>0,IF(importanceFilter="Show all",1,IF(INDEX($R$3:$R$32,AO9,1)=importanceFilter,1,"")),"")) | AT9: {=MIN(IF(($N$3:$N$32=1)*($T$3:$T$32=AT$5)*($V$3:$V$32<=$AN9)*($W$3:$W$32>$AN9)*($Z$3:$Z$32="No"),$K$3:$K$32,""))} -> 0 | AU9: =COUNTIFS($N$3:$N$32,1,$T$3:$T$32,AT$5,$V$3:$V$32,"<="&$AN9,$W$3:$W$32,">"&$AN9,$Z$3:$Z$32,"No") -> 0 | AV9: =IF(AV59<>"",AV59,IF(OR(AT9=AT8,AX9=""),"",IF(AT9>0,INDEX($P$3:$P$32,AT9,1)& IF(AU9>1," - " & AU9 &" Events overlap!",""),""))) | AW9: =IF(AW59<>"",AW59,IF(LEN(AX9)>0,INDEX($Q$3:$Q$32,AT9,1),"")) | AX9: =IF(AX59<>"",AX59,IF(AT9>0,IF(importanceFilter="Show all",1,IF(INDEX($R$3:$R$32,AT9,1)=importanceFilter,1,"")),"")) | AY9: {=MIN(IF(($N$3:$N$32=1)*($T$3:$T$32=AY$5)*($V$3:$V$32<=$AN9)*($W$3:$W$32>$AN9)*($Z$3:$Z$32="No"),$K$3:$K$32,""))} -> 0 | AZ9: =COUNTIFS($N$3:$N$32,1,$T$3:$T$32,AY$5,$V$3:$V$32,"<="&$AN9,$W$3:$W$32,">"&$AN9,$Z$3:$Z$32,"No") -> 0 | BA9: =IF(BA59<>"",BA59,IF(OR(AY9=AY8,BC9=""),"",IF(AY9>0,INDEX($P$3:$P$32,AY9,1)& IF(AZ9>1," - " & AZ9 &" Events overlap!",""),""))) | BB9: =IF(BB59<>"",BB59,IF(LEN(BC9)>0,INDEX($Q$3:$Q$32,AY9,1),"")) | BC9: =IF(BC59<>"",BC59,IF(AY9>0,IF(importanceFilter="Show all",1,IF(INDEX($R$3:$R$32,AY9,1)=importanceFilter,1,"")),"")) | BD9: {=MIN(IF(($N$3:$N$32=1)*($T$3:$T$32=BD$5)*($V$3:$V$32<=$AN9)*($W$3:$W$32>$AN9)*($Z$3:$Z$32="No"),$K$3:$K$32,""))} -> 0 | BE9: =COUNTIFS($N$3:$N$32,1,$T$3:$T$32,BD$5,$V$3:$V$32,"<="&$AN9,$W$3:$W$32,">"&$AN9,$Z$3:$Z$32,"No") -> 0 | BF9: =IF(BF59<>"",BF59,IF(OR(BD9=BD8,BH9=""),"",IF(BD9>0,INDEX($P$3:$P$32,BD9,1)& IF(BE9>1," - " & BE9 &" Events overlap!",""),""))) | BG9: =IF(BG59<>"",BG59,IF(LEN(BH9)>0,INDEX($Q$3:$Q$32,BD9,1),"")) | BH9: =IF(BH59<>"",BH59,IF(BD9>0,IF(importanceFilter="Show all",1,IF(INDEX($R$3:$R$32,BD9,1)=importanceFilter,1,"")),"")) | BI9: {=MIN(IF(($N$3:$N$32=1)*($T$3:$T$32=BI$5)*($V$3:$V$32<=$AN9)*($W$3:$W$32>$AN9)*($Z$3:$Z$32="No"),$K$3:$K$32,""))} -> 0 | BJ9: =COUNTIFS($N$3:$N$32,1,$T$3:$T$32,BI$5,$V$3:$V$32,"<="&$AN9,$W$3:$W$32,">"&$AN9,$Z$3:$Z$32,"No") -> 0 | BK9: =IF(BK59<>"",BK59,IF(OR(BI9=BI8,BM9=""),"",IF(BI9>0,INDEX($P$3:$P$32,BI9,1)& IF(BJ9>1," - " & BJ9 &" Events overlap!",""),""))) | BL9: =IF(BL59<>"",BL59,IF(LEN(BM9)>0,INDEX($Q$3:$Q$32,BI9,1),"")) | BM9: =IF(BM59<>"",BM59,IF(BI9>0,IF(importanceFilter="Show all",1,IF(INDEX($R$3:$R$32,BI9,1)=importanceFilter,1,"")),"")) | BN9: {=MIN(IF(($N$3:$N$32=1)*($T$3:$T$32=BN$5)*($V$3:$V$32<=$AN9)*($W$3:$W$32>$AN9)*($Z$3:$Z$32="No"),$K$3:$K$32,""))} -> 0 | BO9: =COUNTIFS($N$3:$N$32,1,$T$3:$T$32,BN$5,$V$3:$V$32,"<="&$AN9,$W$3:$W$32,">"&$AN9,$Z$3:$Z$32,"No") -> 0 | BP9: =IF(BP59<>"",BP59,IF(OR(BN9=BN8,BR9=""),"",IF(BN9>0,INDEX($P$3:$P$32,BN9,1)& IF(BO9>1," - " & BO9 &" Events overlap!",""),""))) | BQ9: =IF(BQ59<>"",BQ59,IF(LEN(BR9)>0,INDEX($Q$3:$Q$32,BN9,1),"")) | BR9: =IF(BR59<>"",BR59,IF(BN9>0,IF(importanceFilter="Show all",1,IF(INDEX($R$3:$R$32,BN9,1)=importanceFilter,1,"")),"")) | BS9: {=MIN(IF(($N$3:$N$32=1)*($T$3:$T$32=BS$5)*($V$3:$V$32<=$AN9)*($W$3:$W$32>$AN9)*($Z$3:$Z$32="No"),$K$3:$K$32,""))} -> 0 | BT9: =COUNTIFS($N$3:$N$32,1,$T$3:$T$32,BS$5,$V$3:$V$32,"<="&$AN9,$W$3:$W$32,">"&$AN9,$Z$3:$Z$32,"No") -> 0 | BU9: =IF(BU59<>"",BU59,IF(OR(BS9=BS8,BW9=""),"",IF(BS9>0,INDEX($P$3:$P$32,BS9,1)& IF(BT9>1," - " & BT9 &" Events overlap!",""),""))) | BV9: =IF(BV59<>"",BV59,IF(LEN(BW9)>0,INDEX($Q$3:$Q$32,BS9,1),"")) | BW9: =IF(BW59<>"",BW59,IF(BS9>0,IF(importanceFilter="Show all",1,IF(INDEX($R$3:$R$32,BS9,1)=importanceFilter,1,"")),"")) | BY9: 4 | BZ9: =IF(BZ41="","",INDEX($P$3:$P$32,BZ41,1) & IF(INDEX($Z$3:$Z$32,BZ41,1)="No", " - "&HOUR(INDEX($V$3:$V$32,BZ41,1))&":"&IF(LEN(MINUTE(INDEX($V$3:$V$32,BZ41,1)))=1,"0"&MINUTE(INDEX($V$3:$V$32,BZ41,1)),MINUTE(INDEX($V$3:$V$32,BZ41,1)))," - All day")) | CA9: =IF(CA41="","",INDEX($P$3:$P$32,CA41,1) & IF(INDEX($Z$3:$Z$32,CA41,1)="No", " - "&HOUR(INDEX($V$3:$V$32,CA41,1))&":"&IF(LEN(MINUTE(INDEX($V$3:$V$32,CA41,1)))=1,"0"&MINUTE(INDEX($V$3:$V$32,CA41,1)),MINUTE(INDEX($V$3:$V$32,CA41,1)))," - All day")) | CB9: =IF(CB41="","",INDEX($P$3:$P$32,CB41,1) & IF(INDEX($Z$3:$Z$32,CB41,1)="No", " - "&HOUR(INDEX($V$3:$V$32,CB41,1))&":"&IF(LEN(MINUTE(INDEX($V$3:$V$32,CB41,1)))=1,"0"&MINUTE(INDEX($V$3:$V$32,CB41,1)),MINUTE(INDEX($V$3:$V$32,CB41,1)))," - All day")) | CC9: =IF(CC41="","",INDEX($P$3:$P$32,CC41,1) & IF(INDEX($Z$3:$Z$32,CC41,1)="No", " - "&HOUR(INDEX($V$3:$V$32,CC41,1))&":"&IF(LEN(MINUTE(INDEX($V$3:$V$32,CC41,1)))=1,"0"&MINUTE(INDEX($V$3:$V$32,CC41,1)),MINUTE(INDEX($V$3:$V$32,CC41,1)))," - All day")) | CD9: =IF(CD41="","",INDEX($P$3:$P$32,CD41,1) & IF(INDEX($Z$3:$Z$32,CD41,1)="No", " - "&HOUR(INDEX($V$3:$V$32,CD41,1))&":"&IF(LEN(MINUTE(INDEX($V$3:$V$32,CD41,1)))=1,"0"&MINUTE(INDEX($V$3:$V$32,CD41,1)),MINUTE(INDEX($V$3:$V$32,CD41,1)))," - All day")) | CE9: =IF(CE41="","",INDEX($P$3:$P$32,CE41,1) & IF(INDEX($Z$3:$Z$32,CE41,1)="No", " - "&HOUR(INDEX($V$3:$V$32,CE41,1))&":"&IF(LEN(MINUTE(INDEX($V$3:$V$32,CE41,1)))=1,"0"&MINUTE(INDEX($V$3:$V$32,CE41,1)),MINUTE(INDEX($V$3:$V$32,CE41,1)))," - All day")) | CF9: =IF(CF41="","",INDEX($P$3:$P$32,CF41,1) & IF(INDEX($Z$3:$Z$32,CF41,1)="No", " - "&HOUR(INDEX($V$3:$V$32,CF41,1))&":"&IF(LEN(MINUTE(INDEX($V$3:$V$32,CF41,1)))=1,"0"&MINUTE(INDEX($V$3:$V$32,CF41,1)),MINUTE(INDEX($V$3:$V$32,CF41,1)))," - All day")) | CG9: =IF(CG41="","",INDEX($P$3:$P$32,CG41,1) & IF(INDEX($Z$3:$Z$32,CG41,1)="No", " - "&HOUR(INDEX($V$3:$V$32,CG41,1))&":"&IF(LEN(MINUTE(INDEX($V$3:$V$32,CG41,1)))=1,"0"&MINUTE(INDEX($V$3:$V$32,CG41,1)),MINUTE(INDEX($V$3:$V$32,CG41,1)))," - All day")) | ... DD9: =IF(DD41="","",INDEX($P$3:$P$32,DD41,1) & IF(INDEX($Z$3:$Z$32,DD41,1)="No", " - "&HOUR(INDEX($V$3:$V$32,DD41,1))&":"&IF(LEN(MINUTE(INDEX($V$3:$V$32,DD41,1)))=1,"0"&MINUTE(INDEX($V$3:$V$32,DD41,1)),MINUTE(INDEX($V$3:$V$32,DD41,1)))," - All day"))
B10: 2026 | C10: July | D10: 7 | E10: Saturday | G10: =IF(firstDay="Monday",1,0) -> 1 | I10: =I9+step -> 0.125 | K10: 8 | L10: =IF(X10="","",RANK(X10,$X$3:$X$1002,TRUE)+K10/1000) -> 7.008 | M10: =IF(T10="",0,IF(AND(T10>=monthFirst,T10<=endOfMonth),1,0)) -> 1 | N10: =IF(T10="",0,IF(AND(WEEKNUM(T10,weekOffset+1)=weekChoosen,YEAR(T10)=weekYear,OR(importanceFilter="Show all",importanceFilter="",importanceFilter=R10)),1,0)) -> 0 | O10: =IF(T10="",0,IF(AND(WEEKNUM(T10,weekOffset+1)=thisWeek,YEAR(T10)=YEAR(TODAY())),1,0)) -> 0 | P10: =INDEX(EventsList!C$7:C$36,$K10,1)&"" -> Conference Call | Q10: =IFERROR(IF(L10="","",INDEX(EventsList!H$7:H$36,$K10,1)&""),"") -> Call | R10: =IFERROR(IF(L10="","",INDEX(EventsList!I$7:I$36,$K10,1)),0) -> Medium | S10: =IFERROR(IF(O10=0,"",IF(INDEX(EventsList!M$7:M$36,$K10,1)="Yes", P10 & IF(U10<>T10,"| from ", "| on ") & INDEX(weekDays,WEEKDAY(T10,weekOffset+1),1)& IF(U10<>T10," till "& INDEX(weekDays,WEEKDAY(U10,weekOffset+1),1), "") & IF(V10="","", "| at " & HOUR(V10)&":"&IF(LEN(MINUTE(V10))=1,"0"&MINUTE(V10),MINUTE(V10))),"")),"") | T10: =IF(ISNUMBER(INDEX(EventsList!D$7:D$36,$K10,1)),INDEX(EventsList!D$7:D$36,$K10,1),"") -> 45065 | U10: =IF(ISNUMBER(INDEX(EventsList!E$7:E$36,$K10,1)),INDEX(EventsList!E$7:E$36,$K10,1),T10) -> 45065 | V10: =IF(ISNUMBER(INDEX(EventsList!F$7:F$36,$K10,1)),INDEX(EventsList!F$7:F$36,$K10,1),"") -> 0.625 | W10: =IF(ISNUMBER(INDEX(EventsList!G$7:G$36,$K10,1)),INDEX(EventsList!G$7:G$36,$K10,1),"") -> 0.66666667 | X10: =IF(Z10="","",IF(Z10="No",T10+V10,T10+0)) -> 45065.625 | Y10: =IF(Z10="","",IF(Z10="No",U10+W10,U10+TIME(23,59,59))) -> 45065.667 | Z10: =IF(T10="","",IF(OR(U10<>T10,V10="",W10=""),"Yes","No")) -> No | AA10: =IF(Z10="No",Y10-X10,"") -> 0.041666667 | AB10: {=IF(Z10="","",SUM(IF((X10>=$X$3:$X$32)*(X10<=$Y$3:$Y$32),1,0))+SUM(IF((Y10>=$X$3:$X$32)*(Y10<=$Y$3:$Y$32),1,0))-2)} -> 2 | AC10: =IF(OR(AB10=0,AB10=""),"",IF(AB10<0,"End date incorrect",IF(AB10=1,"1 event overlap",AB10&" more events overlaping"))) -> 2 more events overlaping | AE10: =AE9+step -> 0.083333333 | AF10: {=MIN(IF(($O$3:$O$32=1)*($T$3:$T$32=AF$5)*($V$3:$V$32<=$AE10)*($W$3:$W$32>$AE10)*($Z$3:$Z$32="No"),$K$3:$K$32,""))} -> 0 | AG10: {=MIN(IF(($O$3:$O$32=1)*($T$3:$T$32=AG$5)*($V$3:$V$32<=$AE10)*($W$3:$W$32>$AE10)*($Z$3:$Z$32="No"),$K$3:$K$32,""))} -> 0 | AH10: {=MIN(IF(($O$3:$O$32=1)*($T$3:$T$32=AH$5)*($V$3:$V$32<=$AE10)*($W$3:$W$32>$AE10)*($Z$3:$Z$32="No"),$K$3:$K$32,""))} -> 0 | AI10: {=MIN(IF(($O$3:$O$32=1)*($T$3:$T$32=AI$5)*($V$3:$V$32<=$AE10)*($W$3:$W$32>$AE10)*($Z$3:$Z$32="No"),$K$3:$K$32,""))} -> 0 | AJ10: {=MIN(IF(($O$3:$O$32=1)*($T$3:$T$32=AJ$5)*($V$3:$V$32<=$AE10)*($W$3:$W$32>$AE10)*($Z$3:$Z$32="No"),$K$3:$K$32,""))} -> 0 | AK10: {=MIN(IF(($O$3:$O$32=1)*($T$3:$T$32=AK$5)*($V$3:$V$32<=$AE10)*($W$3:$W$32>$AE10)*($Z$3:$Z$32="No"),$K$3:$K$32,""))} -> 0 | AL10: {=MIN(IF(($O$3:$O$32=1)*($T$3:$T$32=AL$5)*($V$3:$V$32<=$AE10)*($W$3:$W$32>$AE10)*($Z$3:$Z$32="No"),$K$3:$K$32,""))} -> 0 | AN10: =WeeklyView!C12 -> 0.39583333 | AO10: {=MIN(IF(($N$3:$N$32=1)*($T$3:$T$32=AO$5)*($V$3:$V$32<=$AN10)*($W$3:$W$32>$AN10)*($Z$3:$Z$32="No"),$K$3:$K$32,""))} -> 0 | AP10: =COUNTIFS($N$3:$N$32,1,$T$3:$T$32,AO$5,$V$3:$V$32,"<="&$AN10,$W$3:$W$32,">"&$AN10,$Z$3:$Z$32,"No") -> 0 | AQ10: =IF(AQ60<>"",AQ60,IF(OR(AO10=AO9,AS10=""),"",IF(AO10>0,INDEX($P$3:$P$32,AO10,1)& IF(AP10>1," - " & AP10 &" Events overlap!",""),""))) | AR10: =IF(AR60<>"",AR60,IF(LEN(AS10)>0,INDEX($Q$3:$Q$32,AO10,1),"")) | AS10: =IF(AS60<>"",AS60,IF(AO10>0,IF(importanceFilter="Show all",1,IF(INDEX($R$3:$R$32,AO10,1)=importanceFilter,1,"")),"")) | AT10: {=MIN(IF(($N$3:$N$32=1)*($T$3:$T$32=AT$5)*($V$3:$V$32<=$AN10)*($W$3:$W$32>$AN10)*($Z$3:$Z$32="No"),$K$3:$K$32,""))} -> 0 | AU10: =COUNTIFS($N$3:$N$32,1,$T$3:$T$32,AT$5,$V$3:$V$32,"<="&$AN10,$W$3:$W$32,">"&$AN10,$Z$3:$Z$32,"No") -> 0 | AV10: =IF(AV60<>"",AV60,IF(OR(AT10=AT9,AX10=""),"",IF(AT10>0,INDEX($P$3:$P$32,AT10,1)& IF(AU10>1," - " & AU10 &" Events overlap!",""),""))) | AW10: =IF(AW60<>"",AW60,IF(LEN(AX10)>0,INDEX($Q$3:$Q$32,AT10,1),"")) | AX10: =IF(AX60<>"",AX60,IF(AT10>0,IF(importanceFilter="Show all",1,IF(INDEX($R$3:$R$32,AT10,1)=importanceFilter,1,"")),"")) | AY10: {=MIN(IF(($N$3:$N$32=1)*($T$3:$T$32=AY$5)*($V$3:$V$32<=$AN10)*($W$3:$W$32>$AN10)*($Z$3:$Z$32="No"),$K$3:$K$32,""))} -> 0 | AZ10: =COUNTIFS($N$3:$N$32,1,$T$3:$T$32,AY$5,$V$3:$V$32,"<="&$AN10,$W$3:$W$32,">"&$AN10,$Z$3:$Z$32,"No") -> 0 | BA10: =IF(BA60<>"",BA60,IF(OR(AY10=AY9,BC10=""),"",IF(AY10>0,INDEX($P$3:$P$32,AY10,1)& IF(AZ10>1," - " & AZ10 &" Events overlap!",""),""))) | BB10: =IF(BB60<>"",BB60,IF(LEN(BC10)>0,INDEX($Q$3:$Q$32,AY10,1),"")) | BC10: =IF(BC60<>"",BC60,IF(AY10>0,IF(importanceFilter="Show all",1,IF(INDEX($R$3:$R$32,AY10,1)=importanceFilter,1,"")),"")) | BD10: {=MIN(IF(($N$3:$N$32=1)*($T$3:$T$32=BD$5)*($V$3:$V$32<=$AN10)*($W$3:$W$32>$AN10)*($Z$3:$Z$32="No"),$K$3:$K$32,""))} -> 0 | BE10: =COUNTIFS($N$3:$N$32,1,$T$3:$T$32,BD$5,$V$3:$V$32,"<="&$AN10,$W$3:$W$32,">"&$AN10,$Z$3:$Z$32,"No") -> 0 | BF10: =IF(BF60<>"",BF60,IF(OR(BD10=BD9,BH10=""),"",IF(BD10>0,INDEX($P$3:$P$32,BD10,1)& IF(BE10>1," - " & BE10 &" Events overlap!",""),""))) | BG10: =IF(BG60<>"",BG60,IF(LEN(BH10)>0,INDEX($Q$3:$Q$32,BD10,1),"")) | BH10: =IF(BH60<>"",BH60,IF(BD10>0,IF(importanceFilter="Show all",1,IF(INDEX($R$3:$R$32,BD10,1)=importanceFilter,1,"")),"")) | BI10: {=MIN(IF(($N$3:$N$32=1)*($T$3:$T$32=BI$5)*($V$3:$V$32<=$AN10)*($W$3:$W$32>$AN10)*($Z$3:$Z$32="No"),$K$3:$K$32,""))} -> 0 | BJ10: =COUNTIFS($N$3:$N$32,1,$T$3:$T$32,BI$5,$V$3:$V$32,"<="&$AN10,$W$3:$W$32,">"&$AN10,$Z$3:$Z$32,"No") -> 0 | BK10: =IF(BK60<>"",BK60,IF(OR(BI10=BI9,BM10=""),"",IF(BI10>0,INDEX($P$3:$P$32,BI10,1)& IF(BJ10>1," - " & BJ10 &" Events overlap!",""),""))) | BL10: =IF(BL60<>"",BL60,IF(LEN(BM10)>0,INDEX($Q$3:$Q$32,BI10,1),"")) | BM10: =IF(BM60<>"",BM60,IF(BI10>0,IF(importanceFilter="Show all",1,IF(INDEX($R$3:$R$32,BI10,1)=importanceFilter,1,"")),"")) | BN10: {=MIN(IF(($N$3:$N$32=1)*($T$3:$T$32=BN$5)*($V$3:$V$32<=$AN10)*($W$3:$W$32>$AN10)*($Z$3:$Z$32="No"),$K$3:$K$32,""))} -> 0 | BO10: =COUNTIFS($N$3:$N$32,1,$T$3:$T$32,BN$5,$V$3:$V$32,"<="&$AN10,$W$3:$W$32,">"&$AN10,$Z$3:$Z$32,"No") -> 0 | BP10: =IF(BP60<>"",BP60,IF(OR(BN10=BN9,BR10=""),"",IF(BN10>0,INDEX($P$3:$P$32,BN10,1)& IF(BO10>1," - " & BO10 &" Events overlap!",""),""))) | BQ10: =IF(BQ60<>"",BQ60,IF(LEN(BR10)>0,INDEX($Q$3:$Q$32,BN10,1),"")) | BR10: =IF(BR60<>"",BR60,IF(BN10>0,IF(importanceFilter="Show all",1,IF(INDEX($R$3:$R$32,BN10,1)=importanceFilter,1,"")),"")) | BS10: {=MIN(IF(($N$3:$N$32=1)*($T$3:$T$32=BS$5)*($V$3:$V$32<=$AN10)*($W$3:$W$32>$AN10)*($Z$3:$Z$32="No"),$K$3:$K$32,""))} -> 0 | BT10: =COUNTIFS($N$3:$N$32,1,$T$3:$T$32,BS$5,$V$3:$V$32,"<="&$AN10,$W$3:$W$32,">"&$AN10,$Z$3:$Z$32,"No") -> 0 | BU10: =IF(BU60<>"",BU60,IF(OR(BS10=BS9,BW10=""),"",IF(BS10>0,INDEX($P$3:$P$32,BS10,1)& IF(BT10>1," - " & BT10 &" Events overlap!",""),""))) | BV10: =IF(BV60<>"",BV60,IF(LEN(BW10)>0,INDEX($Q$3:$Q$32,BS10,1),"")) | BW10: =IF(BW60<>"",BW60,IF(BS10>0,IF(importanceFilter="Show all",1,IF(INDEX($R$3:$R$32,BS10,1)=importanceFilter,1,"")),"")) | BY10: 5 | BZ10: =IF(BZ42="","",INDEX($P$3:$P$32,BZ42,1) & IF(INDEX($Z$3:$Z$32,BZ42,1)="No", " - "&HOUR(INDEX($V$3:$V$32,BZ42,1))&":"&IF(LEN(MINUTE(INDEX($V$3:$V$32,BZ42,1)))=1,"0"&MINUTE(INDEX($V$3:$V$32,BZ42,1)),MINUTE(INDEX($V$3:$V$32,BZ42,1)))," - All day")) | CA10: =IF(CA42="","",INDEX($P$3:$P$32,CA42,1) & IF(INDEX($Z$3:$Z$32,CA42,1)="No", " - "&HOUR(INDEX($V$3:$V$32,CA42,1))&":"&IF(LEN(MINUTE(INDEX($V$3:$V$32,CA42,1)))=1,"0"&MINUTE(INDEX($V$3:$V$32,CA42,1)),MINUTE(INDEX($V$3:$V$32,CA42,1)))," - All day")) | CB10: =IF(CB42="","",INDEX($P$3:$P$32,CB42,1) & IF(INDEX($Z$3:$Z$32,CB42,1)="No", " - "&HOUR(INDEX($V$3:$V$32,CB42,1))&":"&IF(LEN(MINUTE(INDEX($V$3:$V$32,CB42,1)))=1,"0"&MINUTE(INDEX($V$3:$V$32,CB42,1)),MINUTE(INDEX($V$3:$V$32,CB42,1)))," - All day")) | CC10: =IF(CC42="","",INDEX($P$3:$P$32,CC42,1) & IF(INDEX($Z$3:$Z$32,CC42,1)="No", " - "&HOUR(INDEX($V$3:$V$32,CC42,1))&":"&IF(LEN(MINUTE(INDEX($V$3:$V$32,CC42,1)))=1,"0"&MINUTE(INDEX($V$3:$V$32,CC42,1)),MINUTE(INDEX($V$3:$V$32,CC42,1)))," - All day")) | CD10: =IF(CD42="","",INDEX($P$3:$P$32,CD42,1) & IF(INDEX($Z$3:$Z$32,CD42,1)="No", " - "&HOUR(INDEX($V$3:$V$32,CD42,1))&":"&IF(LEN(MINUTE(INDEX($V$3:$V$32,CD42,1)))=1,"0"&MINUTE(INDEX($V$3:$V$32,CD42,1)),MINUTE(INDEX($V$3:$V$32,CD42,1)))," - All day")) | CE10: =IF(CE42="","",INDEX($P$3:$P$32,CE42,1) & IF(INDEX($Z$3:$Z$32,CE42,1)="No", " - "&HOUR(INDEX($V$3:$V$32,CE42,1))&":"&IF(LEN(MINUTE(INDEX($V$3:$V$32,CE42,1)))=1,"0"&MINUTE(INDEX($V$3:$V$32,CE42,1)),MINUTE(INDEX($V$3:$V$32,CE42,1)))," - All day")) | CF10: =IF(CF42="","",INDEX($P$3:$P$32,CF42,1) & IF(INDEX($Z$3:$Z$32,CF42,1)="No", " - "&HOUR(INDEX($V$3:$V$32,CF42,1))&":"&IF(LEN(MINUTE(INDEX($V$3:$V$32,CF42,1)))=1,"0"&MINUTE(INDEX($V$3:$V$32,CF42,1)),MINUTE(INDEX($V$3:$V$32,CF42,1)))," - All day")) | CG10: =IF(CG42="","",INDEX($P$3:$P$32,CG42,1) & IF(INDEX($Z$3:$Z$32,CG42,1)="No", " - "&HOUR(INDEX($V$3:$V$32,CG42,1))&":"&IF(LEN(MINUTE(INDEX($V$3:$V$32,CG42,1)))=1,"0"&MINUTE(INDEX($V$3:$V$32,CG42,1)),MINUTE(INDEX($V$3:$V$32,CG42,1)))," - All day")) | ... DD10: =IF(DD42="","",INDEX($P$3:$P$32,DD42,1) & IF(INDEX($Z$3:$Z$32,DD42,1)="No", " - "&HOUR(INDEX($V$3:$V$32,DD42,1))&":"&IF(LEN(MINUTE(INDEX($V$3:$V$32,DD42,1)))=1,"0"&MINUTE(INDEX($V$3:$V$32,DD42,1)),MINUTE(INDEX($V$3:$V$32,DD42,1)))," - All day"))
B11: 2027 | C11: August | D11: 8 | E11: Sunday | I11: =I10+step -> 0.14583333 | K11: 9 | L11: =IF(X11="","",RANK(X11,$X$3:$X$1002,TRUE)+K11/1000) -> 16.009 | M11: =IF(T11="",0,IF(AND(T11>=monthFirst,T11<=endOfMonth),1,0)) -> 1 | N11: =IF(T11="",0,IF(AND(WEEKNUM(T11,weekOffset+1)=weekChoosen,YEAR(T11)=weekYear,OR(importanceFilter="Show all",importanceFilter="",importanceFilter=R11)),1,0)) -> 0 | O11: =IF(T11="",0,IF(AND(WEEKNUM(T11,weekOffset+1)=thisWeek,YEAR(T11)=YEAR(TODAY())),1,0)) -> 0 | P11: =INDEX(EventsList!C$7:C$36,$K11,1)&"" -> Lunch with Sarah | Q11: =IFERROR(IF(L11="","",INDEX(EventsList!H$7:H$36,$K11,1)&""),"") -> Meeting | R11: =IFERROR(IF(L11="","",INDEX(EventsList!I$7:I$36,$K11,1)),0) -> 0 | S11: =IFERROR(IF(O11=0,"",IF(INDEX(EventsList!M$7:M$36,$K11,1)="Yes", P11 & IF(U11<>T11,"| from ", "| on ") & INDEX(weekDays,WEEKDAY(T11,weekOffset+1),1)& IF(U11<>T11," till "& INDEX(weekDays,WEEKDAY(U11,weekOffset+1),1), "") & IF(V11="","", "| at " & HOUR(V11)&":"&IF(LEN(MINUTE(V11))=1,"0"&MINUTE(V11),MINUTE(V11))),"")),"") | T11: =IF(ISNUMBER(INDEX(EventsList!D$7:D$36,$K11,1)),INDEX(EventsList!D$7:D$36,$K11,1),"") -> 45074 | U11: =IF(ISNUMBER(INDEX(EventsList!E$7:E$36,$K11,1)),INDEX(EventsList!E$7:E$36,$K11,1),T11) -> 45074 | V11: =IF(ISNUMBER(INDEX(EventsList!F$7:F$36,$K11,1)),INDEX(EventsList!F$7:F$36,$K11,1),"") -> 0.52083333 | W11: =IF(ISNUMBER(INDEX(EventsList!G$7:G$36,$K11,1)),INDEX(EventsList!G$7:G$36,$K11,1),"") -> 0.5625 | X11: =IF(Z11="","",IF(Z11="No",T11+V11,T11+0)) -> 45074.521 | Y11: =IF(Z11="","",IF(Z11="No",U11+W11,U11+TIME(23,59,59))) -> 45074.562 | Z11: =IF(T11="","",IF(OR(U11<>T11,V11="",W11=""),"Yes","No")) -> No | AA11: =IF(Z11="No",Y11-X11,"") -> 0.041666667 | AB11: {=IF(Z11="","",SUM(IF((X11>=$X$3:$X$32)*(X11<=$Y$3:$Y$32),1,0))+SUM(IF((Y11>=$X$3:$X$32)*(Y11<=$Y$3:$Y$32),1,0))-2)} -> 0 | AC11: =IF(OR(AB11=0,AB11=""),"",IF(AB11<0,"End date incorrect",IF(AB11=1,"1 event overlap",AB11&" more events overlaping"))) | AE11: =AE10+step -> 0.10416667 | AF11: {=MIN(IF(($O$3:$O$32=1)*($T$3:$T$32=AF$5)*($V$3:$V$32<=$AE11)*($W$3:$W$32>$AE11)*($Z$3:$Z$32="No"),$K$3:$K$32,""))} -> 0 | AG11: {=MIN(IF(($O$3:$O$32=1)*($T$3:$T$32=AG$5)*($V$3:$V$32<=$AE11)*($W$3:$W$32>$AE11)*($Z$3:$Z$32="No"),$K$3:$K$32,""))} -> 0 | AH11: {=MIN(IF(($O$3:$O$32=1)*($T$3:$T$32=AH$5)*($V$3:$V$32<=$AE11)*($W$3:$W$32>$AE11)*($Z$3:$Z$32="No"),$K$3:$K$32,""))} -> 0 | AI11: {=MIN(IF(($O$3:$O$32=1)*($T$3:$T$32=AI$5)*($V$3:$V$32<=$AE11)*($W$3:$W$32>$AE11)*($Z$3:$Z$32="No"),$K$3:$K$32,""))} -> 0 | AJ11: {=MIN(IF(($O$3:$O$32=1)*($T$3:$T$32=AJ$5)*($V$3:$V$32<=$AE11)*($W$3:$W$32>$AE11)*($Z$3:$Z$32="No"),$K$3:$K$32,""))} -> 0 | AK11: {=MIN(IF(($O$3:$O$32=1)*($T$3:$T$32=AK$5)*($V$3:$V$32<=$AE11)*($W$3:$W$32>$AE11)*($Z$3:$Z$32="No"),$K$3:$K$32,""))} -> 0 | AL11: {=MIN(IF(($O$3:$O$32=1)*($T$3:$T$32=AL$5)*($V$3:$V$32<=$AE11)*($W$3:$W$32>$AE11)*($Z$3:$Z$32="No"),$K$3:$K$32,""))} -> 0 | AN11: =WeeklyView!C13 -> 0.41666667 | AO11: {=MIN(IF(($N$3:$N$32=1)*($T$3:$T$32=AO$5)*($V$3:$V$32<=$AN11)*($W$3:$W$32>$AN11)*($Z$3:$Z$32="No"),$K$3:$K$32,""))} -> 0 | AP11: =COUNTIFS($N$3:$N$32,1,$T$3:$T$32,AO$5,$V$3:$V$32,"<="&$AN11,$W$3:$W$32,">"&$AN11,$Z$3:$Z$32,"No") -> 0 | AQ11: =IF(AQ61<>"",AQ61,IF(OR(AO11=AO10,AS11=""),"",IF(AO11>0,INDEX($P$3:$P$32,AO11,1)& IF(AP11>1," - " & AP11 &" Events overlap!",""),""))) | AR11: =IF(AR61<>"",AR61,IF(LEN(AS11)>0,INDEX($Q$3:$Q$32,AO11,1),"")) | AS11: =IF(AS61<>"",AS61,IF(AO11>0,IF(importanceFilter="Show all",1,IF(INDEX($R$3:$R$32,AO11,1)=importanceFilter,1,"")),"")) | AT11: {=MIN(IF(($N$3:$N$32=1)*($T$3:$T$32=AT$5)*($V$3:$V$32<=$AN11)*($W$3:$W$32>$AN11)*($Z$3:$Z$32="No"),$K$3:$K$32,""))} -> 0 | AU11: =COUNTIFS($N$3:$N$32,1,$T$3:$T$32,AT$5,$V$3:$V$32,"<="&$AN11,$W$3:$W$32,">"&$AN11,$Z$3:$Z$32,"No") -> 0 | AV11: =IF(AV61<>"",AV61,IF(OR(AT11=AT10,AX11=""),"",IF(AT11>0,INDEX($P$3:$P$32,AT11,1)& IF(AU11>1," - " & AU11 &" Events overlap!",""),""))) | AW11: =IF(AW61<>"",AW61,IF(LEN(AX11)>0,INDEX($Q$3:$Q$32,AT11,1),"")) | AX11: =IF(AX61<>"",AX61,IF(AT11>0,IF(importanceFilter="Show all",1,IF(INDEX($R$3:$R$32,AT11,1)=importanceFilter,1,"")),"")) | AY11: {=MIN(IF(($N$3:$N$32=1)*($T$3:$T$32=AY$5)*($V$3:$V$32<=$AN11)*($W$3:$W$32>$AN11)*($Z$3:$Z$32="No"),$K$3:$K$32,""))} -> 0 | AZ11: =COUNTIFS($N$3:$N$32,1,$T$3:$T$32,AY$5,$V$3:$V$32,"<="&$AN11,$W$3:$W$32,">"&$AN11,$Z$3:$Z$32,"No") -> 0 | BA11: =IF(BA61<>"",BA61,IF(OR(AY11=AY10,BC11=""),"",IF(AY11>0,INDEX($P$3:$P$32,AY11,1)& IF(AZ11>1," - " & AZ11 &" Events overlap!",""),""))) | BB11: =IF(BB61<>"",BB61,IF(LEN(BC11)>0,INDEX($Q$3:$Q$32,AY11,1),"")) | BC11: =IF(BC61<>"",BC61,IF(AY11>0,IF(importanceFilter="Show all",1,IF(INDEX($R$3:$R$32,AY11,1)=importanceFilter,1,"")),"")) | BD11: {=MIN(IF(($N$3:$N$32=1)*($T$3:$T$32=BD$5)*($V$3:$V$32<=$AN11)*($W$3:$W$32>$AN11)*($Z$3:$Z$32="No"),$K$3:$K$32,""))} -> 0 | BE11: =COUNTIFS($N$3:$N$32,1,$T$3:$T$32,BD$5,$V$3:$V$32,"<="&$AN11,$W$3:$W$32,">"&$AN11,$Z$3:$Z$32,"No") -> 0 | BF11: =IF(BF61<>"",BF61,IF(OR(BD11=BD10,BH11=""),"",IF(BD11>0,INDEX($P$3:$P$32,BD11,1)& IF(BE11>1," - " & BE11 &" Events overlap!",""),""))) | BG11: =IF(BG61<>"",BG61,IF(LEN(BH11)>0,INDEX($Q$3:$Q$32,BD11,1),"")) | BH11: =IF(BH61<>"",BH61,IF(BD11>0,IF(importanceFilter="Show all",1,IF(INDEX($R$3:$R$32,BD11,1)=importanceFilter,1,"")),"")) | BI11: {=MIN(IF(($N$3:$N$32=1)*($T$3:$T$32=BI$5)*($V$3:$V$32<=$AN11)*($W$3:$W$32>$AN11)*($Z$3:$Z$32="No"),$K$3:$K$32,""))} -> 0 | BJ11: =COUNTIFS($N$3:$N$32,1,$T$3:$T$32,BI$5,$V$3:$V$32,"<="&$AN11,$W$3:$W$32,">"&$AN11,$Z$3:$Z$32,"No") -> 0 | BK11: =IF(BK61<>"",BK61,IF(OR(BI11=BI10,BM11=""),"",IF(BI11>0,INDEX($P$3:$P$32,BI11,1)& IF(BJ11>1," - " & BJ11 &" Events overlap!",""),""))) | BL11: =IF(BL61<>"",BL61,IF(LEN(BM11)>0,INDEX($Q$3:$Q$32,BI11,1),"")) | BM11: =IF(BM61<>"",BM61,IF(BI11>0,IF(importanceFilter="Show all",1,IF(INDEX($R$3:$R$32,BI11,1)=importanceFilter,1,"")),"")) | BN11: {=MIN(IF(($N$3:$N$32=1)*($T$3:$T$32=BN$5)*($V$3:$V$32<=$AN11)*($W$3:$W$32>$AN11)*($Z$3:$Z$32="No"),$K$3:$K$32,""))} -> 0 | BO11: =COUNTIFS($N$3:$N$32,1,$T$3:$T$32,BN$5,$V$3:$V$32,"<="&$AN11,$W$3:$W$32,">"&$AN11,$Z$3:$Z$32,"No") -> 0 | BP11: =IF(BP61<>"",BP61,IF(OR(BN11=BN10,BR11=""),"",IF(BN11>0,INDEX($P$3:$P$32,BN11,1)& IF(BO11>1," - " & BO11 &" Events overlap!",""),""))) | BQ11: =IF(BQ61<>"",BQ61,IF(LEN(BR11)>0,INDEX($Q$3:$Q$32,BN11,1),"")) | BR11: =IF(BR61<>"",BR61,IF(BN11>0,IF(importanceFilter="Show all",1,IF(INDEX($R$3:$R$32,BN11,1)=importanceFilter,1,"")),"")) | BS11: {=MIN(IF(($N$3:$N$32=1)*($T$3:$T$32=BS$5)*($V$3:$V$32<=$AN11)*($W$3:$W$32>$AN11)*($Z$3:$Z$32="No"),$K$3:$K$32,""))} -> 0 | BT11: =COUNTIFS($N$3:$N$32,1,$T$3:$T$32,BS$5,$V$3:$V$32,"<="&$AN11,$W$3:$W$32,">"&$AN11,$Z$3:$Z$32,"No") -> 0 | BU11: =IF(BU61<>"",BU61,IF(OR(BS11=BS10,BW11=""),"",IF(BS11>0,INDEX($P$3:$P$32,BS11,1)& IF(BT11>1," - " & BT11 &" Events overlap!",""),""))) | BV11: =IF(BV61<>"",BV61,IF(LEN(BW11)>0,INDEX($Q$3:$Q$32,BS11,1),"")) | BW11: =IF(BW61<>"",BW61,IF(BS11>0,IF(importanceFilter="Show all",1,IF(INDEX($R$3:$R$32,BS11,1)=importanceFilter,1,"")),"")) | BY11: 6 | BZ11: =IF(BZ43="","",INDEX($P$3:$P$32,BZ43,1) & IF(INDEX($Z$3:$Z$32,BZ43,1)="No", " - "&HOUR(INDEX($V$3:$V$32,BZ43,1))&":"&IF(LEN(MINUTE(INDEX($V$3:$V$32,BZ43,1)))=1,"0"&MINUTE(INDEX($V$3:$V$32,BZ43,1)),MINUTE(INDEX($V$3:$V$32,BZ43,1)))," - All day")) | CA11: =IF(CA43="","",INDEX($P$3:$P$32,CA43,1) & IF(INDEX($Z$3:$Z$32,CA43,1)="No", " - "&HOUR(INDEX($V$3:$V$32,CA43,1))&":"&IF(LEN(MINUTE(INDEX($V$3:$V$32,CA43,1)))=1,"0"&MINUTE(INDEX($V$3:$V$32,CA43,1)),MINUTE(INDEX($V$3:$V$32,CA43,1)))," - All day")) | CB11: =IF(CB43="","",INDEX($P$3:$P$32,CB43,1) & IF(INDEX($Z$3:$Z$32,CB43,1)="No", " - "&HOUR(INDEX($V$3:$V$32,CB43,1))&":"&IF(LEN(MINUTE(INDEX($V$3:$V$32,CB43,1)))=1,"0"&MINUTE(INDEX($V$3:$V$32,CB43,1)),MINUTE(INDEX($V$3:$V$32,CB43,1)))," - All day")) | CC11: =IF(CC43="","",INDEX($P$3:$P$32,CC43,1) & IF(INDEX($Z$3:$Z$32,CC43,1)="No", " - "&HOUR(INDEX($V$3:$V$32,CC43,1))&":"&IF(LEN(MINUTE(INDEX($V$3:$V$32,CC43,1)))=1,"0"&MINUTE(INDEX($V$3:$V$32,CC43,1)),MINUTE(INDEX($V$3:$V$32,CC43,1)))," - All day")) | CD11: =IF(CD43="","",INDEX($P$3:$P$32,CD43,1) & IF(INDEX($Z$3:$Z$32,CD43,1)="No", " - "&HOUR(INDEX($V$3:$V$32,CD43,1))&":"&IF(LEN(MINUTE(INDEX($V$3:$V$32,CD43,1)))=1,"0"&MINUTE(INDEX($V$3:$V$32,CD43,1)),MINUTE(INDEX($V$3:$V$32,CD43,1)))," - All day")) | CE11: =IF(CE43="","",INDEX($P$3:$P$32,CE43,1) & IF(INDEX($Z$3:$Z$32,CE43,1)="No", " - "&HOUR(INDEX($V$3:$V$32,CE43,1))&":"&IF(LEN(MINUTE(INDEX($V$3:$V$32,CE43,1)))=1,"0"&MINUTE(INDEX($V$3:$V$32,CE43,1)),MINUTE(INDEX($V$3:$V$32,CE43,1)))," - All day")) | CF11: =IF(CF43="","",INDEX($P$3:$P$32,CF43,1) & IF(INDEX($Z$3:$Z$32,CF43,1)="No", " - "&HOUR(INDEX($V$3:$V$32,CF43,1))&":"&IF(LEN(MINUTE(INDEX($V$3:$V$32,CF43,1)))=1,"0"&MINUTE(INDEX($V$3:$V$32,CF43,1)),MINUTE(INDEX($V$3:$V$32,CF43,1)))," - All day")) | CG11: =IF(CG43="","",INDEX($P$3:$P$32,CG43,1) & IF(INDEX($Z$3:$Z$32,CG43,1)="No", " - "&HOUR(INDEX($V$3:$V$32,CG43,1))&":"&IF(LEN(MINUTE(INDEX($V$3:$V$32,CG43,1)))=1,"0"&MINUTE(INDEX($V$3:$V$32,CG43,1)),MINUTE(INDEX($V$3:$V$32,CG43,1)))," - All day")) | ... DD11: =IF(DD43="","",INDEX($P$3:$P$32,DD43,1) & IF(INDEX($Z$3:$Z$32,DD43,1)="No", " - "&HOUR(INDEX($V$3:$V$32,DD43,1))&":"&IF(LEN(MINUTE(INDEX($V$3:$V$32,DD43,1)))=1,"0"&MINUTE(INDEX($V$3:$V$32,DD43,1)),MINUTE(INDEX($V$3:$V$32,DD43,1)))," - All day"))
B12: 2028 | C12: September | D12: 9 | G12: Step | I12: =I11+step -> 0.16666667 | K12: 10 | L12: =IF(X12="","",RANK(X12,$X$3:$X$1002,TRUE)+K12/1000) -> 17.01 | M12: =IF(T12="",0,IF(AND(T12>=monthFirst,T12<=endOfMonth),1,0)) -> 1 | N12: =IF(T12="",0,IF(AND(WEEKNUM(T12,weekOffset+1)=weekChoosen,YEAR(T12)=weekYear,OR(importanceFilter="Show all",importanceFilter="",importanceFilter=R12)),1,0)) -> 0 | O12: =IF(T12="",0,IF(AND(WEEKNUM(T12,weekOffset+1)=thisWeek,YEAR(T12)=YEAR(TODAY())),1,0)) -> 0 | P12: =INDEX(EventsList!C$7:C$36,$K12,1)&"" -> Family Gathering | Q12: =IFERROR(IF(L12="","",INDEX(EventsList!H$7:H$36,$K12,1)&""),"") -> Reminder | R12: =IFERROR(IF(L12="","",INDEX(EventsList!I$7:I$36,$K12,1)),0) -> High | S12: =IFERROR(IF(O12=0,"",IF(INDEX(EventsList!M$7:M$36,$K12,1)="Yes", P12 & IF(U12<>T12,"| from ", "| on ") & INDEX(weekDays,WEEKDAY(T12,weekOffset+1),1)& IF(U12<>T12," till "& INDEX(weekDays,WEEKDAY(U12,weekOffset+1),1), "") & IF(V12="","", "| at " & HOUR(V12)&":"&IF(LEN(MINUTE(V12))=1,"0"&MINUTE(V12),MINUTE(V12))),"")),"") | T12: =IF(ISNUMBER(INDEX(EventsList!D$7:D$36,$K12,1)),INDEX(EventsList!D$7:D$36,$K12,1),"") -> 45075 | U12: =IF(ISNUMBER(INDEX(EventsList!E$7:E$36,$K12,1)),INDEX(EventsList!E$7:E$36,$K12,1),T12) -> 45078 | V12: =IF(ISNUMBER(INDEX(EventsList!F$7:F$36,$K12,1)),INDEX(EventsList!F$7:F$36,$K12,1),"") | W12: =IF(ISNUMBER(INDEX(EventsList!G$7:G$36,$K12,1)),INDEX(EventsList!G$7:G$36,$K12,1),"") | X12: =IF(Z12="","",IF(Z12="No",T12+V12,T12+0)) -> 45075 | Y12: =IF(Z12="","",IF(Z12="No",U12+W12,U12+TIME(23,59,59))) -> 45079 | Z12: =IF(T12="","",IF(OR(U12<>T12,V12="",W12=""),"Yes","No")) -> Yes | AA12: =IF(Z12="No",Y12-X12,"") | AB12: {=IF(Z12="","",SUM(IF((X12>=$X$3:$X$32)*(X12<=$Y$3:$Y$32),1,0))+SUM(IF((Y12>=$X$3:$X$32)*(Y12<=$Y$3:$Y$32),1,0))-2)} -> 0 | AC12: =IF(OR(AB12=0,AB12=""),"",IF(AB12<0,"End date incorrect",IF(AB12=1,"1 event overlap",AB12&" more events overlaping"))) | AE12: =AE11+step -> 0.125 | AF12: {=MIN(IF(($O$3:$O$32=1)*($T$3:$T$32=AF$5)*($V$3:$V$32<=$AE12)*($W$3:$W$32>$AE12)*($Z$3:$Z$32="No"),$K$3:$K$32,""))} -> 0 | AG12: {=MIN(IF(($O$3:$O$32=1)*($T$3:$T$32=AG$5)*($V$3:$V$32<=$AE12)*($W$3:$W$32>$AE12)*($Z$3:$Z$32="No"),$K$3:$K$32,""))} -> 0 | AH12: {=MIN(IF(($O$3:$O$32=1)*($T$3:$T$32=AH$5)*($V$3:$V$32<=$AE12)*($W$3:$W$32>$AE12)*($Z$3:$Z$32="No"),$K$3:$K$32,""))} -> 0 | AI12: {=MIN(IF(($O$3:$O$32=1)*($T$3:$T$32=AI$5)*($V$3:$V$32<=$AE12)*($W$3:$W$32>$AE12)*($Z$3:$Z$32="No"),$K$3:$K$32,""))} -> 0 | AJ12: {=MIN(IF(($O$3:$O$32=1)*($T$3:$T$32=AJ$5)*($V$3:$V$32<=$AE12)*($W$3:$W$32>$AE12)*($Z$3:$Z$32="No"),$K$3:$K$32,""))} -> 0 | AK12: {=MIN(IF(($O$3:$O$32=1)*($T$3:$T$32=AK$5)*($V$3:$V$32<=$AE12)*($W$3:$W$32>$AE12)*($Z$3:$Z$32="No"),$K$3:$K$32,""))} -> 0 | AL12: {=MIN(IF(($O$3:$O$32=1)*($T$3:$T$32=AL$5)*($V$3:$V$32<=$AE12)*($W$3:$W$32>$AE12)*($Z$3:$Z$32="No"),$K$3:$K$32,""))} -> 0 | AN12: =WeeklyView!C14 -> 0.4375 | AO12: {=MIN(IF(($N$3:$N$32=1)*($T$3:$T$32=AO$5)*($V$3:$V$32<=$AN12)*($W$3:$W$32>$AN12)*($Z$3:$Z$32="No"),$K$3:$K$32,""))} -> 0 | AP12: =COUNTIFS($N$3:$N$32,1,$T$3:$T$32,AO$5,$V$3:$V$32,"<="&$AN12,$W$3:$W$32,">"&$AN12,$Z$3:$Z$32,"No") -> 0 | AQ12: =IF(AQ62<>"",AQ62,IF(OR(AO12=AO11,AS12=""),"",IF(AO12>0,INDEX($P$3:$P$32,AO12,1)& IF(AP12>1," - " & AP12 &" Events overlap!",""),""))) | AR12: =IF(AR62<>"",AR62,IF(LEN(AS12)>0,INDEX($Q$3:$Q$32,AO12,1),"")) | AS12: =IF(AS62<>"",AS62,IF(AO12>0,IF(importanceFilter="Show all",1,IF(INDEX($R$3:$R$32,AO12,1)=importanceFilter,1,"")),"")) | AT12: {=MIN(IF(($N$3:$N$32=1)*($T$3:$T$32=AT$5)*($V$3:$V$32<=$AN12)*($W$3:$W$32>$AN12)*($Z$3:$Z$32="No"),$K$3:$K$32,""))} -> 0 | AU12: =COUNTIFS($N$3:$N$32,1,$T$3:$T$32,AT$5,$V$3:$V$32,"<="&$AN12,$W$3:$W$32,">"&$AN12,$Z$3:$Z$32,"No") -> 0 | AV12: =IF(AV62<>"",AV62,IF(OR(AT12=AT11,AX12=""),"",IF(AT12>0,INDEX($P$3:$P$32,AT12,1)& IF(AU12>1," - " & AU12 &" Events overlap!",""),""))) | AW12: =IF(AW62<>"",AW62,IF(LEN(AX12)>0,INDEX($Q$3:$Q$32,AT12,1),"")) | AX12: =IF(AX62<>"",AX62,IF(AT12>0,IF(importanceFilter="Show all",1,IF(INDEX($R$3:$R$32,AT12,1)=importanceFilter,1,"")),"")) | AY12: {=MIN(IF(($N$3:$N$32=1)*($T$3:$T$32=AY$5)*($V$3:$V$32<=$AN12)*($W$3:$W$32>$AN12)*($Z$3:$Z$32="No"),$K$3:$K$32,""))} -> 0 | AZ12: =COUNTIFS($N$3:$N$32,1,$T$3:$T$32,AY$5,$V$3:$V$32,"<="&$AN12,$W$3:$W$32,">"&$AN12,$Z$3:$Z$32,"No") -> 0 | BA12: =IF(BA62<>"",BA62,IF(OR(AY12=AY11,BC12=""),"",IF(AY12>0,INDEX($P$3:$P$32,AY12,1)& IF(AZ12>1," - " & AZ12 &" Events overlap!",""),""))) | BB12: =IF(BB62<>"",BB62,IF(LEN(BC12)>0,INDEX($Q$3:$Q$32,AY12,1),"")) | BC12: =IF(BC62<>"",BC62,IF(AY12>0,IF(importanceFilter="Show all",1,IF(INDEX($R$3:$R$32,AY12,1)=importanceFilter,1,"")),"")) | BD12: {=MIN(IF(($N$3:$N$32=1)*($T$3:$T$32=BD$5)*($V$3:$V$32<=$AN12)*($W$3:$W$32>$AN12)*($Z$3:$Z$32="No"),$K$3:$K$32,""))} -> 0 | BE12: =COUNTIFS($N$3:$N$32,1,$T$3:$T$32,BD$5,$V$3:$V$32,"<="&$AN12,$W$3:$W$32,">"&$AN12,$Z$3:$Z$32,"No") -> 0 | BF12: =IF(BF62<>"",BF62,IF(OR(BD12=BD11,BH12=""),"",IF(BD12>0,INDEX($P$3:$P$32,BD12,1)& IF(BE12>1," - " & BE12 &" Events overlap!",""),""))) | BG12: =IF(BG62<>"",BG62,IF(LEN(BH12)>0,INDEX($Q$3:$Q$32,BD12,1),"")) | BH12: =IF(BH62<>"",BH62,IF(BD12>0,IF(importanceFilter="Show all",1,IF(INDEX($R$3:$R$32,BD12,1)=importanceFilter,1,"")),"")) | BI12: {=MIN(IF(($N$3:$N$32=1)*($T$3:$T$32=BI$5)*($V$3:$V$32<=$AN12)*($W$3:$W$32>$AN12)*($Z$3:$Z$32="No"),$K$3:$K$32,""))} -> 0 | BJ12: =COUNTIFS($N$3:$N$32,1,$T$3:$T$32,BI$5,$V$3:$V$32,"<="&$AN12,$W$3:$W$32,">"&$AN12,$Z$3:$Z$32,"No") -> 0 | BK12: =IF(BK62<>"",BK62,IF(OR(BI12=BI11,BM12=""),"",IF(BI12>0,INDEX($P$3:$P$32,BI12,1)& IF(BJ12>1," - " & BJ12 &" Events overlap!",""),""))) | BL12: =IF(BL62<>"",BL62,IF(LEN(BM12)>0,INDEX($Q$3:$Q$32,BI12,1),"")) | BM12: =IF(BM62<>"",BM62,IF(BI12>0,IF(importanceFilter="Show all",1,IF(INDEX($R$3:$R$32,BI12,1)=importanceFilter,1,"")),"")) | BN12: {=MIN(IF(($N$3:$N$32=1)*($T$3:$T$32=BN$5)*($V$3:$V$32<=$AN12)*($W$3:$W$32>$AN12)*($Z$3:$Z$32="No"),$K$3:$K$32,""))} -> 0 | BO12: =COUNTIFS($N$3:$N$32,1,$T$3:$T$32,BN$5,$V$3:$V$32,"<="&$AN12,$W$3:$W$32,">"&$AN12,$Z$3:$Z$32,"No") -> 0 | BP12: =IF(BP62<>"",BP62,IF(OR(BN12=BN11,BR12=""),"",IF(BN12>0,INDEX($P$3:$P$32,BN12,1)& IF(BO12>1," - " & BO12 &" Events overlap!",""),""))) | BQ12: =IF(BQ62<>"",BQ62,IF(LEN(BR12)>0,INDEX($Q$3:$Q$32,BN12,1),"")) | BR12: =IF(BR62<>"",BR62,IF(BN12>0,IF(importanceFilter="Show all",1,IF(INDEX($R$3:$R$32,BN12,1)=importanceFilter,1,"")),"")) | BS12: {=MIN(IF(($N$3:$N$32=1)*($T$3:$T$32=BS$5)*($V$3:$V$32<=$AN12)*($W$3:$W$32>$AN12)*($Z$3:$Z$32="No"),$K$3:$K$32,""))} -> 0 | BT12: =COUNTIFS($N$3:$N$32,1,$T$3:$T$32,BS$5,$V$3:$V$32,"<="&$AN12,$W$3:$W$32,">"&$AN12,$Z$3:$Z$32,"No") -> 0 | BU12: =IF(BU62<>"",BU62,IF(OR(BS12=BS11,BW12=""),"",IF(BS12>0,INDEX($P$3:$P$32,BS12,1)& IF(BT12>1," - " & BT12 &" Events overlap!",""),""))) | BV12: =IF(BV62<>"",BV62,IF(LEN(BW12)>0,INDEX($Q$3:$Q$32,BS12,1),"")) | BW12: =IF(BW62<>"",BW62,IF(BS12>0,IF(importanceFilter="Show all",1,IF(INDEX($R$3:$R$32,BS12,1)=importanceFilter,1,"")),"")) | BY12: 7 | BZ12: =IF(BZ44="","",INDEX($P$3:$P$32,BZ44,1) & IF(INDEX($Z$3:$Z$32,BZ44,1)="No", " - "&HOUR(INDEX($V$3:$V$32,BZ44,1))&":"&IF(LEN(MINUTE(INDEX($V$3:$V$32,BZ44,1)))=1,"0"&MINUTE(INDEX($V$3:$V$32,BZ44,1)),MINUTE(INDEX($V$3:$V$32,BZ44,1)))," - All day")) | CA12: =IF(CA44="","",INDEX($P$3:$P$32,CA44,1) & IF(INDEX($Z$3:$Z$32,CA44,1)="No", " - "&HOUR(INDEX($V$3:$V$32,CA44,1))&":"&IF(LEN(MINUTE(INDEX($V$3:$V$32,CA44,1)))=1,"0"&MINUTE(INDEX($V$3:$V$32,CA44,1)),MINUTE(INDEX($V$3:$V$32,CA44,1)))," - All day")) | CB12: =IF(CB44="","",INDEX($P$3:$P$32,CB44,1) & IF(INDEX($Z$3:$Z$32,CB44,1)="No", " - "&HOUR(INDEX($V$3:$V$32,CB44,1))&":"&IF(LEN(MINUTE(INDEX($V$3:$V$32,CB44,1)))=1,"0"&MINUTE(INDEX($V$3:$V$32,CB44,1)),MINUTE(INDEX($V$3:$V$32,CB44,1)))," - All day")) | CC12: =IF(CC44="","",INDEX($P$3:$P$32,CC44,1) & IF(INDEX($Z$3:$Z$32,CC44,1)="No", " - "&HOUR(INDEX($V$3:$V$32,CC44,1))&":"&IF(LEN(MINUTE(INDEX($V$3:$V$32,CC44,1)))=1,"0"&MINUTE(INDEX($V$3:$V$32,CC44,1)),MINUTE(INDEX($V$3:$V$32,CC44,1)))," - All day")) | CD12: =IF(CD44="","",INDEX($P$3:$P$32,CD44,1) & IF(INDEX($Z$3:$Z$32,CD44,1)="No", " - "&HOUR(INDEX($V$3:$V$32,CD44,1))&":"&IF(LEN(MINUTE(INDEX($V$3:$V$32,CD44,1)))=1,"0"&MINUTE(INDEX($V$3:$V$32,CD44,1)),MINUTE(INDEX($V$3:$V$32,CD44,1)))," - All day")) | CE12: =IF(CE44="","",INDEX($P$3:$P$32,CE44,1) & IF(INDEX($Z$3:$Z$32,CE44,1)="No", " - "&HOUR(INDEX($V$3:$V$32,CE44,1))&":"&IF(LEN(MINUTE(INDEX($V$3:$V$32,CE44,1)))=1,"0"&MINUTE(INDEX($V$3:$V$32,CE44,1)),MINUTE(INDEX($V$3:$V$32,CE44,1)))," - All day")) | CF12: =IF(CF44="","",INDEX($P$3:$P$32,CF44,1) & IF(INDEX($Z$3:$Z$32,CF44,1)="No", " - "&HOUR(INDEX($V$3:$V$32,CF44,1))&":"&IF(LEN(MINUTE(INDEX($V$3:$V$32,CF44,1)))=1,"0"&MINUTE(INDEX($V$3:$V$32,CF44,1)),MINUTE(INDEX($V$3:$V$32,CF44,1)))," - All day")) | CG12: =IF(CG44="","",INDEX($P$3:$P$32,CG44,1) & IF(INDEX($Z$3:$Z$32,CG44,1)="No", " - "&HOUR(INDEX($V$3:$V$32,CG44,1))&":"&IF(LEN(MINUTE(INDEX($V$3:$V$32,CG44,1)))=1,"0"&MINUTE(INDEX($V$3:$V$32,CG44,1)),MINUTE(INDEX($V$3:$V$32,CG44,1)))," - All day")) | ... DD12: =IF(DD44="","",INDEX($P$3:$P$32,DD44,1) & IF(INDEX($Z$3:$Z$32,DD44,1)="No", " - "&HOUR(INDEX($V$3:$V$32,DD44,1))&":"&IF(LEN(MINUTE(INDEX($V$3:$V$32,DD44,1)))=1,"0"&MINUTE(INDEX($V$3:$V$32,DD44,1)),MINUTE(INDEX($V$3:$V$32,DD44,1)))," - All day"))
B13: 2029 | C13: October | D13: 10 | G13: =G16-G15 -> 0.020833333 | I13: =I12+step -> 0.1875 | K13: 11 | L13: =IF(X13="","",RANK(X13,$X$3:$X$1002,TRUE)+K13/1000) -> 18.011 | M13: =IF(T13="",0,IF(AND(T13>=monthFirst,T13<=endOfMonth),1,0)) -> 0 | N13: =IF(T13="",0,IF(AND(WEEKNUM(T13,weekOffset+1)=weekChoosen,YEAR(T13)=weekYear,OR(importanceFilter="Show all",importanceFilter="",importanceFilter=R13)),1,0)) -> 0 | O13: =IF(T13="",0,IF(AND(WEEKNUM(T13,weekOffset+1)=thisWeek,YEAR(T13)=YEAR(TODAY())),1,0)) -> 0 | P13: =INDEX(EventsList!C$7:C$36,$K13,1)&"" -> Meeting with Mark | Q13: =IFERROR(IF(L13="","",INDEX(EventsList!H$7:H$36,$K13,1)&""),"") -> Meeting | R13: =IFERROR(IF(L13="","",INDEX(EventsList!I$7:I$36,$K13,1)),0) -> Medium | S13: =IFERROR(IF(O13=0,"",IF(INDEX(EventsList!M$7:M$36,$K13,1)="Yes", P13 & IF(U13<>T13,"| from ", "| on ") & INDEX(weekDays,WEEKDAY(T13,weekOffset+1),1)& IF(U13<>T13," till "& INDEX(weekDays,WEEKDAY(U13,weekOffset+1),1), "") & IF(V13="","", "| at " & HOUR(V13)&":"&IF(LEN(MINUTE(V13))=1,"0"&MINUTE(V13),MINUTE(V13))),"")),"") | T13: =IF(ISNUMBER(INDEX(EventsList!D$7:D$36,$K13,1)),INDEX(EventsList!D$7:D$36,$K13,1),"") -> 45078 | U13: =IF(ISNUMBER(INDEX(EventsList!E$7:E$36,$K13,1)),INDEX(EventsList!E$7:E$36,$K13,1),T13) -> 45078 | V13: =IF(ISNUMBER(INDEX(EventsList!F$7:F$36,$K13,1)),INDEX(EventsList!F$7:F$36,$K13,1),"") -> 0.39583333 | W13: =IF(ISNUMBER(INDEX(EventsList!G$7:G$36,$K13,1)),INDEX(EventsList!G$7:G$36,$K13,1),"") -> 0.4375 | X13: =IF(Z13="","",IF(Z13="No",T13+V13,T13+0)) -> 45078.396 | Y13: =IF(Z13="","",IF(Z13="No",U13+W13,U13+TIME(23,59,59))) -> 45078.438 | Z13: =IF(T13="","",IF(OR(U13<>T13,V13="",W13=""),"Yes","No")) -> No | AA13: =IF(Z13="No",Y13-X13,"") -> 0.041666667 | AB13: {=IF(Z13="","",SUM(IF((X13>=$X$3:$X$32)*(X13<=$Y$3:$Y$32),1,0))+SUM(IF((Y13>=$X$3:$X$32)*(Y13<=$Y$3:$Y$32),1,0))-2)} -> 2 | AC13: =IF(OR(AB13=0,AB13=""),"",IF(AB13<0,"End date incorrect",IF(AB13=1,"1 event overlap",AB13&" more events overlaping"))) -> 2 more events overlaping | AE13: =AE12+step -> 0.14583333 | AF13: {=MIN(IF(($O$3:$O$32=1)*($T$3:$T$32=AF$5)*($V$3:$V$32<=$AE13)*($W$3:$W$32>$AE13)*($Z$3:$Z$32="No"),$K$3:$K$32,""))} -> 0 | AG13: {=MIN(IF(($O$3:$O$32=1)*($T$3:$T$32=AG$5)*($V$3:$V$32<=$AE13)*($W$3:$W$32>$AE13)*($Z$3:$Z$32="No"),$K$3:$K$32,""))} -> 0 | AH13: {=MIN(IF(($O$3:$O$32=1)*($T$3:$T$32=AH$5)*($V$3:$V$32<=$AE13)*($W$3:$W$32>$AE13)*($Z$3:$Z$32="No"),$K$3:$K$32,""))} -> 0 | AI13: {=MIN(IF(($O$3:$O$32=1)*($T$3:$T$32=AI$5)*($V$3:$V$32<=$AE13)*($W$3:$W$32>$AE13)*($Z$3:$Z$32="No"),$K$3:$K$32,""))} -> 0 | AJ13: {=MIN(IF(($O$3:$O$32=1)*($T$3:$T$32=AJ$5)*($V$3:$V$32<=$AE13)*($W$3:$W$32>$AE13)*($Z$3:$Z$32="No"),$K$3:$K$32,""))} -> 0 | AK13: {=MIN(IF(($O$3:$O$32=1)*($T$3:$T$32=AK$5)*($V$3:$V$32<=$AE13)*($W$3:$W$32>$AE13)*($Z$3:$Z$32="No"),$K$3:$K$32,""))} -> 0 | AL13: {=MIN(IF(($O$3:$O$32=1)*($T$3:$T$32=AL$5)*($V$3:$V$32<=$AE13)*($W$3:$W$32>$AE13)*($Z$3:$Z$32="No"),$K$3:$K$32,""))} -> 0 | AN13: =WeeklyView!C15 -> 0.45833333 | AO13: {=MIN(IF(($N$3:$N$32=1)*($T$3:$T$32=AO$5)*($V$3:$V$32<=$AN13)*($W$3:$W$32>$AN13)*($Z$3:$Z$32="No"),$K$3:$K$32,""))} -> 0 | AP13: =COUNTIFS($N$3:$N$32,1,$T$3:$T$32,AO$5,$V$3:$V$32,"<="&$AN13,$W$3:$W$32,">"&$AN13,$Z$3:$Z$32,"No") -> 0 | AQ13: =IF(AQ63<>"",AQ63,IF(OR(AO13=AO12,AS13=""),"",IF(AO13>0,INDEX($P$3:$P$32,AO13,1)& IF(AP13>1," - " & AP13 &" Events overlap!",""),""))) | AR13: =IF(AR63<>"",AR63,IF(LEN(AS13)>0,INDEX($Q$3:$Q$32,AO13,1),"")) | AS13: =IF(AS63<>"",AS63,IF(AO13>0,IF(importanceFilter="Show all",1,IF(INDEX($R$3:$R$32,AO13,1)=importanceFilter,1,"")),"")) | AT13: {=MIN(IF(($N$3:$N$32=1)*($T$3:$T$32=AT$5)*($V$3:$V$32<=$AN13)*($W$3:$W$32>$AN13)*($Z$3:$Z$32="No"),$K$3:$K$32,""))} -> 0 | AU13: =COUNTIFS($N$3:$N$32,1,$T$3:$T$32,AT$5,$V$3:$V$32,"<="&$AN13,$W$3:$W$32,">"&$AN13,$Z$3:$Z$32,"No") -> 0 | AV13: =IF(AV63<>"",AV63,IF(OR(AT13=AT12,AX13=""),"",IF(AT13>0,INDEX($P$3:$P$32,AT13,1)& IF(AU13>1," - " & AU13 &" Events overlap!",""),""))) | AW13: =IF(AW63<>"",AW63,IF(LEN(AX13)>0,INDEX($Q$3:$Q$32,AT13,1),"")) | AX13: =IF(AX63<>"",AX63,IF(AT13>0,IF(importanceFilter="Show all",1,IF(INDEX($R$3:$R$32,AT13,1)=importanceFilter,1,"")),"")) | AY13: {=MIN(IF(($N$3:$N$32=1)*($T$3:$T$32=AY$5)*($V$3:$V$32<=$AN13)*($W$3:$W$32>$AN13)*($Z$3:$Z$32="No"),$K$3:$K$32,""))} -> 0 | AZ13: =COUNTIFS($N$3:$N$32,1,$T$3:$T$32,AY$5,$V$3:$V$32,"<="&$AN13,$W$3:$W$32,">"&$AN13,$Z$3:$Z$32,"No") -> 0 | BA13: =IF(BA63<>"",BA63,IF(OR(AY13=AY12,BC13=""),"",IF(AY13>0,INDEX($P$3:$P$32,AY13,1)& IF(AZ13>1," - " & AZ13 &" Events overlap!",""),""))) | BB13: =IF(BB63<>"",BB63,IF(LEN(BC13)>0,INDEX($Q$3:$Q$32,AY13,1),"")) | BC13: =IF(BC63<>"",BC63,IF(AY13>0,IF(importanceFilter="Show all",1,IF(INDEX($R$3:$R$32,AY13,1)=importanceFilter,1,"")),"")) | BD13: {=MIN(IF(($N$3:$N$32=1)*($T$3:$T$32=BD$5)*($V$3:$V$32<=$AN13)*($W$3:$W$32>$AN13)*($Z$3:$Z$32="No"),$K$3:$K$32,""))} -> 0 | BE13: =COUNTIFS($N$3:$N$32,1,$T$3:$T$32,BD$5,$V$3:$V$32,"<="&$AN13,$W$3:$W$32,">"&$AN13,$Z$3:$Z$32,"No") -> 0 | BF13: =IF(BF63<>"",BF63,IF(OR(BD13=BD12,BH13=""),"",IF(BD13>0,INDEX($P$3:$P$32,BD13,1)& IF(BE13>1," - " & BE13 &" Events overlap!",""),""))) | BG13: =IF(BG63<>"",BG63,IF(LEN(BH13)>0,INDEX($Q$3:$Q$32,BD13,1),"")) | BH13: =IF(BH63<>"",BH63,IF(BD13>0,IF(importanceFilter="Show all",1,IF(INDEX($R$3:$R$32,BD13,1)=importanceFilter,1,"")),"")) | BI13: {=MIN(IF(($N$3:$N$32=1)*($T$3:$T$32=BI$5)*($V$3:$V$32<=$AN13)*($W$3:$W$32>$AN13)*($Z$3:$Z$32="No"),$K$3:$K$32,""))} -> 0 | BJ13: =COUNTIFS($N$3:$N$32,1,$T$3:$T$32,BI$5,$V$3:$V$32,"<="&$AN13,$W$3:$W$32,">"&$AN13,$Z$3:$Z$32,"No") -> 0 | BK13: =IF(BK63<>"",BK63,IF(OR(BI13=BI12,BM13=""),"",IF(BI13>0,INDEX($P$3:$P$32,BI13,1)& IF(BJ13>1," - " & BJ13 &" Events overlap!",""),""))) | BL13: =IF(BL63<>"",BL63,IF(LEN(BM13)>0,INDEX($Q$3:$Q$32,BI13,1),"")) | BM13: =IF(BM63<>"",BM63,IF(BI13>0,IF(importanceFilter="Show all",1,IF(INDEX($R$3:$R$32,BI13,1)=importanceFilter,1,"")),"")) | BN13: {=MIN(IF(($N$3:$N$32=1)*($T$3:$T$32=BN$5)*($V$3:$V$32<=$AN13)*($W$3:$W$32>$AN13)*($Z$3:$Z$32="No"),$K$3:$K$32,""))} -> 0 | BO13: =COUNTIFS($N$3:$N$32,1,$T$3:$T$32,BN$5,$V$3:$V$32,"<="&$AN13,$W$3:$W$32,">"&$AN13,$Z$3:$Z$32,"No") -> 0 | BP13: =IF(BP63<>"",BP63,IF(OR(BN13=BN12,BR13=""),"",IF(BN13>0,INDEX($P$3:$P$32,BN13,1)& IF(BO13>1," - " & BO13 &" Events overlap!",""),""))) | BQ13: =IF(BQ63<>"",BQ63,IF(LEN(BR13)>0,INDEX($Q$3:$Q$32,BN13,1),"")) | BR13: =IF(BR63<>"",BR63,IF(BN13>0,IF(importanceFilter="Show all",1,IF(INDEX($R$3:$R$32,BN13,1)=importanceFilter,1,"")),"")) | BS13: {=MIN(IF(($N$3:$N$32=1)*($T$3:$T$32=BS$5)*($V$3:$V$32<=$AN13)*($W$3:$W$32>$AN13)*($Z$3:$Z$32="No"),$K$3:$K$32,""))} -> 0 | BT13: =COUNTIFS($N$3:$N$32,1,$T$3:$T$32,BS$5,$V$3:$V$32,"<="&$AN13,$W$3:$W$32,">"&$AN13,$Z$3:$Z$32,"No") -> 0 | BU13: =IF(BU63<>"",BU63,IF(OR(BS13=BS12,BW13=""),"",IF(BS13>0,INDEX($P$3:$P$32,BS13,1)& IF(BT13>1," - " & BT13 &" Events overlap!",""),""))) | BV13: =IF(BV63<>"",BV63,IF(LEN(BW13)>0,INDEX($Q$3:$Q$32,BS13,1),"")) | BW13: =IF(BW63<>"",BW63,IF(BS13>0,IF(importanceFilter="Show all",1,IF(INDEX($R$3:$R$32,BS13,1)=importanceFilter,1,"")),"")) | BY13: 8 | BZ13: =IF(BZ45="","",INDEX($P$3:$P$32,BZ45,1) & IF(INDEX($Z$3:$Z$32,BZ45,1)="No", " - "&HOUR(INDEX($V$3:$V$32,BZ45,1))&":"&IF(LEN(MINUTE(INDEX($V$3:$V$32,BZ45,1)))=1,"0"&MINUTE(INDEX($V$3:$V$32,BZ45,1)),MINUTE(INDEX($V$3:$V$32,BZ45,1)))," - All day")) | CA13: =IF(CA45="","",INDEX($P$3:$P$32,CA45,1) & IF(INDEX($Z$3:$Z$32,CA45,1)="No", " - "&HOUR(INDEX($V$3:$V$32,CA45,1))&":"&IF(LEN(MINUTE(INDEX($V$3:$V$32,CA45,1)))=1,"0"&MINUTE(INDEX($V$3:$V$32,CA45,1)),MINUTE(INDEX($V$3:$V$32,CA45,1)))," - All day")) | CB13: =IF(CB45="","",INDEX($P$3:$P$32,CB45,1) & IF(INDEX($Z$3:$Z$32,CB45,1)="No", " - "&HOUR(INDEX($V$3:$V$32,CB45,1))&":"&IF(LEN(MINUTE(INDEX($V$3:$V$32,CB45,1)))=1,"0"&MINUTE(INDEX($V$3:$V$32,CB45,1)),MINUTE(INDEX($V$3:$V$32,CB45,1)))," - All day")) | CC13: =IF(CC45="","",INDEX($P$3:$P$32,CC45,1) & IF(INDEX($Z$3:$Z$32,CC45,1)="No", " - "&HOUR(INDEX($V$3:$V$32,CC45,1))&":"&IF(LEN(MINUTE(INDEX($V$3:$V$32,CC45,1)))=1,"0"&MINUTE(INDEX($V$3:$V$32,CC45,1)),MINUTE(INDEX($V$3:$V$32,CC45,1)))," - All day")) | CD13: =IF(CD45="","",INDEX($P$3:$P$32,CD45,1) & IF(INDEX($Z$3:$Z$32,CD45,1)="No", " - "&HOUR(INDEX($V$3:$V$32,CD45,1))&":"&IF(LEN(MINUTE(INDEX($V$3:$V$32,CD45,1)))=1,"0"&MINUTE(INDEX($V$3:$V$32,CD45,1)),MINUTE(INDEX($V$3:$V$32,CD45,1)))," - All day")) | CE13: =IF(CE45="","",INDEX($P$3:$P$32,CE45,1) & IF(INDEX($Z$3:$Z$32,CE45,1)="No", " - "&HOUR(INDEX($V$3:$V$32,CE45,1))&":"&IF(LEN(MINUTE(INDEX($V$3:$V$32,CE45,1)))=1,"0"&MINUTE(INDEX($V$3:$V$32,CE45,1)),MINUTE(INDEX($V$3:$V$32,CE45,1)))," - All day")) | CF13: =IF(CF45="","",INDEX($P$3:$P$32,CF45,1) & IF(INDEX($Z$3:$Z$32,CF45,1)="No", " - "&HOUR(INDEX($V$3:$V$32,CF45,1))&":"&IF(LEN(MINUTE(INDEX($V$3:$V$32,CF45,1)))=1,"0"&MINUTE(INDEX($V$3:$V$32,CF45,1)),MINUTE(INDEX($V$3:$V$32,CF45,1)))," - All day")) | CG13: =IF(CG45="","",INDEX($P$3:$P$32,CG45,1) & IF(INDEX($Z$3:$Z$32,CG45,1)="No", " - "&HOUR(INDEX($V$3:$V$32,CG45,1))&":"&IF(LEN(MINUTE(INDEX($V$3:$V$32,CG45,1)))=1,"0"&MINUTE(INDEX($V$3:$V$32,CG45,1)),MINUTE(INDEX($V$3:$V$32,CG45,1)))," - All day")) | ... DD13: =IF(DD45="","",INDEX($P$3:$P$32,DD45,1) & IF(INDEX($Z$3:$Z$32,DD45,1)="No", " - "&HOUR(INDEX($V$3:$V$32,DD45,1))&":"&IF(LEN(MINUTE(INDEX($V$3:$V$32,DD45,1)))=1,"0"&MINUTE(INDEX($V$3:$V$32,DD45,1)),MINUTE(INDEX($V$3:$V$32,DD45,1)))," - All day"))
B14: 2030 | C14: November | D14: 11 | I14: =I13+step -> 0.20833333 | K14: 12 | L14: =IF(X14="","",RANK(X14,$X$3:$X$1002,TRUE)+K14/1000) -> 20.012 | M14: =IF(T14="",0,IF(AND(T14>=monthFirst,T14<=endOfMonth),1,0)) -> 0 | N14: =IF(T14="",0,IF(AND(WEEKNUM(T14,weekOffset+1)=weekChoosen,YEAR(T14)=weekYear,OR(importanceFilter="Show all",importanceFilter="",importanceFilter=R14)),1,0)) -> 0 | O14: =IF(T14="",0,IF(AND(WEEKNUM(T14,weekOffset+1)=thisWeek,YEAR(T14)=YEAR(TODAY())),1,0)) -> 0 | P14: =INDEX(EventsList!C$7:C$36,$K14,1)&"" -> Call with Client | Q14: =IFERROR(IF(L14="","",INDEX(EventsList!H$7:H$36,$K14,1)&""),"") -> Call | R14: =IFERROR(IF(L14="","",INDEX(EventsList!I$7:I$36,$K14,1)),0) -> High | S14: =IFERROR(IF(O14=0,"",IF(INDEX(EventsList!M$7:M$36,$K14,1)="Yes", P14 & IF(U14<>T14,"| from ", "| on ") & INDEX(weekDays,WEEKDAY(T14,weekOffset+1),1)& IF(U14<>T14," till "& INDEX(weekDays,WEEKDAY(U14,weekOffset+1),1), "") & IF(V14="","", "| at " & HOUR(V14)&":"&IF(LEN(MINUTE(V14))=1,"0"&MINUTE(V14),MINUTE(V14))),"")),"") | T14: =IF(ISNUMBER(INDEX(EventsList!D$7:D$36,$K14,1)),INDEX(EventsList!D$7:D$36,$K14,1),"") -> 45080 | U14: =IF(ISNUMBER(INDEX(EventsList!E$7:E$36,$K14,1)),INDEX(EventsList!E$7:E$36,$K14,1),T14) -> 45080 | V14: =IF(ISNUMBER(INDEX(EventsList!F$7:F$36,$K14,1)),INDEX(EventsList!F$7:F$36,$K14,1),"") -> 0.66666667 | W14: =IF(ISNUMBER(INDEX(EventsList!G$7:G$36,$K14,1)),INDEX(EventsList!G$7:G$36,$K14,1),"") -> 0.6875 | X14: =IF(Z14="","",IF(Z14="No",T14+V14,T14+0)) -> 45080.667 | Y14: =IF(Z14="","",IF(Z14="No",U14+W14,U14+TIME(23,59,59))) -> 45080.688 | Z14: =IF(T14="","",IF(OR(U14<>T14,V14="",W14=""),"Yes","No")) -> No | AA14: =IF(Z14="No",Y14-X14,"") -> 0.020833333 | AB14: {=IF(Z14="","",SUM(IF((X14>=$X$3:$X$32)*(X14<=$Y$3:$Y$32),1,0))+SUM(IF((Y14>=$X$3:$X$32)*(Y14<=$Y$3:$Y$32),1,0))-2)} -> 0 | AC14: =IF(OR(AB14=0,AB14=""),"",IF(AB14<0,"End date incorrect",IF(AB14=1,"1 event overlap",AB14&" more events overlaping"))) | AE14: =AE13+step -> 0.16666667 | AF14: {=MIN(IF(($O$3:$O$32=1)*($T$3:$T$32=AF$5)*($V$3:$V$32<=$AE14)*($W$3:$W$32>$AE14)*($Z$3:$Z$32="No"),$K$3:$K$32,""))} -> 0 | AG14: {=MIN(IF(($O$3:$O$32=1)*($T$3:$T$32=AG$5)*($V$3:$V$32<=$AE14)*($W$3:$W$32>$AE14)*($Z$3:$Z$32="No"),$K$3:$K$32,""))} -> 0 | AH14: {=MIN(IF(($O$3:$O$32=1)*($T$3:$T$32=AH$5)*($V$3:$V$32<=$AE14)*($W$3:$W$32>$AE14)*($Z$3:$Z$32="No"),$K$3:$K$32,""))} -> 0 | AI14: {=MIN(IF(($O$3:$O$32=1)*($T$3:$T$32=AI$5)*($V$3:$V$32<=$AE14)*($W$3:$W$32>$AE14)*($Z$3:$Z$32="No"),$K$3:$K$32,""))} -> 0 | AJ14: {=MIN(IF(($O$3:$O$32=1)*($T$3:$T$32=AJ$5)*($V$3:$V$32<=$AE14)*($W$3:$W$32>$AE14)*($Z$3:$Z$32="No"),$K$3:$K$32,""))} -> 0 | AK14: {=MIN(IF(($O$3:$O$32=1)*($T$3:$T$32=AK$5)*($V$3:$V$32<=$AE14)*($W$3:$W$32>$AE14)*($Z$3:$Z$32="No"),$K$3:$K$32,""))} -> 0 | AL14: {=MIN(IF(($O$3:$O$32=1)*($T$3:$T$32=AL$5)*($V$3:$V$32<=$AE14)*($W$3:$W$32>$AE14)*($Z$3:$Z$32="No"),$K$3:$K$32,""))} -> 0 | AN14: =WeeklyView!C16 -> 0.47916667 | AO14: {=MIN(IF(($N$3:$N$32=1)*($T$3:$T$32=AO$5)*($V$3:$V$32<=$AN14)*($W$3:$W$32>$AN14)*($Z$3:$Z$32="No"),$K$3:$K$32,""))} -> 0 | AP14: =COUNTIFS($N$3:$N$32,1,$T$3:$T$32,AO$5,$V$3:$V$32,"<="&$AN14,$W$3:$W$32,">"&$AN14,$Z$3:$Z$32,"No") -> 0 | AQ14: =IF(AQ64<>"",AQ64,IF(OR(AO14=AO13,AS14=""),"",IF(AO14>0,INDEX($P$3:$P$32,AO14,1)& IF(AP14>1," - " & AP14 &" Events overlap!",""),""))) | AR14: =IF(AR64<>"",AR64,IF(LEN(AS14)>0,INDEX($Q$3:$Q$32,AO14,1),"")) | AS14: =IF(AS64<>"",AS64,IF(AO14>0,IF(importanceFilter="Show all",1,IF(INDEX($R$3:$R$32,AO14,1)=importanceFilter,1,"")),"")) | AT14: {=MIN(IF(($N$3:$N$32=1)*($T$3:$T$32=AT$5)*($V$3:$V$32<=$AN14)*($W$3:$W$32>$AN14)*($Z$3:$Z$32="No"),$K$3:$K$32,""))} -> 0 | AU14: =COUNTIFS($N$3:$N$32,1,$T$3:$T$32,AT$5,$V$3:$V$32,"<="&$AN14,$W$3:$W$32,">"&$AN14,$Z$3:$Z$32,"No") -> 0 | AV14: =IF(AV64<>"",AV64,IF(OR(AT14=AT13,AX14=""),"",IF(AT14>0,INDEX($P$3:$P$32,AT14,1)& IF(AU14>1," - " & AU14 &" Events overlap!",""),""))) | AW14: =IF(AW64<>"",AW64,IF(LEN(AX14)>0,INDEX($Q$3:$Q$32,AT14,1),"")) | AX14: =IF(AX64<>"",AX64,IF(AT14>0,IF(importanceFilter="Show all",1,IF(INDEX($R$3:$R$32,AT14,1)=importanceFilter,1,"")),"")) | AY14: {=MIN(IF(($N$3:$N$32=1)*($T$3:$T$32=AY$5)*($V$3:$V$32<=$AN14)*($W$3:$W$32>$AN14)*($Z$3:$Z$32="No"),$K$3:$K$32,""))} -> 0 | AZ14: =COUNTIFS($N$3:$N$32,1,$T$3:$T$32,AY$5,$V$3:$V$32,"<="&$AN14,$W$3:$W$32,">"&$AN14,$Z$3:$Z$32,"No") -> 0 | BA14: =IF(BA64<>"",BA64,IF(OR(AY14=AY13,BC14=""),"",IF(AY14>0,INDEX($P$3:$P$32,AY14,1)& IF(AZ14>1," - " & AZ14 &" Events overlap!",""),""))) | BB14: =IF(BB64<>"",BB64,IF(LEN(BC14)>0,INDEX($Q$3:$Q$32,AY14,1),"")) | BC14: =IF(BC64<>"",BC64,IF(AY14>0,IF(importanceFilter="Show all",1,IF(INDEX($R$3:$R$32,AY14,1)=importanceFilter,1,"")),"")) | BD14: {=MIN(IF(($N$3:$N$32=1)*($T$3:$T$32=BD$5)*($V$3:$V$32<=$AN14)*($W$3:$W$32>$AN14)*($Z$3:$Z$32="No"),$K$3:$K$32,""))} -> 0 | BE14: =COUNTIFS($N$3:$N$32,1,$T$3:$T$32,BD$5,$V$3:$V$32,"<="&$AN14,$W$3:$W$32,">"&$AN14,$Z$3:$Z$32,"No") -> 0 | BF14: =IF(BF64<>"",BF64,IF(OR(BD14=BD13,BH14=""),"",IF(BD14>0,INDEX($P$3:$P$32,BD14,1)& IF(BE14>1," - " & BE14 &" Events overlap!",""),""))) | BG14: =IF(BG64<>"",BG64,IF(LEN(BH14)>0,INDEX($Q$3:$Q$32,BD14,1),"")) | BH14: =IF(BH64<>"",BH64,IF(BD14>0,IF(importanceFilter="Show all",1,IF(INDEX($R$3:$R$32,BD14,1)=importanceFilter,1,"")),"")) | BI14: {=MIN(IF(($N$3:$N$32=1)*($T$3:$T$32=BI$5)*($V$3:$V$32<=$AN14)*($W$3:$W$32>$AN14)*($Z$3:$Z$32="No"),$K$3:$K$32,""))} -> 0 | BJ14: =COUNTIFS($N$3:$N$32,1,$T$3:$T$32,BI$5,$V$3:$V$32,"<="&$AN14,$W$3:$W$32,">"&$AN14,$Z$3:$Z$32,"No") -> 0 | BK14: =IF(BK64<>"",BK64,IF(OR(BI14=BI13,BM14=""),"",IF(BI14>0,INDEX($P$3:$P$32,BI14,1)& IF(BJ14>1," - " & BJ14 &" Events overlap!",""),""))) | BL14: =IF(BL64<>"",BL64,IF(LEN(BM14)>0,INDEX($Q$3:$Q$32,BI14,1),"")) | BM14: =IF(BM64<>"",BM64,IF(BI14>0,IF(importanceFilter="Show all",1,IF(INDEX($R$3:$R$32,BI14,1)=importanceFilter,1,"")),"")) | BN14: {=MIN(IF(($N$3:$N$32=1)*($T$3:$T$32=BN$5)*($V$3:$V$32<=$AN14)*($W$3:$W$32>$AN14)*($Z$3:$Z$32="No"),$K$3:$K$32,""))} -> 0 | BO14: =COUNTIFS($N$3:$N$32,1,$T$3:$T$32,BN$5,$V$3:$V$32,"<="&$AN14,$W$3:$W$32,">"&$AN14,$Z$3:$Z$32,"No") -> 0 | BP14: =IF(BP64<>"",BP64,IF(OR(BN14=BN13,BR14=""),"",IF(BN14>0,INDEX($P$3:$P$32,BN14,1)& IF(BO14>1," - " & BO14 &" Events overlap!",""),""))) | BQ14: =IF(BQ64<>"",BQ64,IF(LEN(BR14)>0,INDEX($Q$3:$Q$32,BN14,1),"")) | BR14: =IF(BR64<>"",BR64,IF(BN14>0,IF(importanceFilter="Show all",1,IF(INDEX($R$3:$R$32,BN14,1)=importanceFilter,1,"")),"")) | BS14: {=MIN(IF(($N$3:$N$32=1)*($T$3:$T$32=BS$5)*($V$3:$V$32<=$AN14)*($W$3:$W$32>$AN14)*($Z$3:$Z$32="No"),$K$3:$K$32,""))} -> 0 | BT14: =COUNTIFS($N$3:$N$32,1,$T$3:$T$32,BS$5,$V$3:$V$32,"<="&$AN14,$W$3:$W$32,">"&$AN14,$Z$3:$Z$32,"No") -> 0 | BU14: =IF(BU64<>"",BU64,IF(OR(BS14=BS13,BW14=""),"",IF(BS14>0,INDEX($P$3:$P$32,BS14,1)& IF(BT14>1," - " & BT14 &" Events overlap!",""),""))) | BV14: =IF(BV64<>"",BV64,IF(LEN(BW14)>0,INDEX($Q$3:$Q$32,BS14,1),"")) | BW14: =IF(BW64<>"",BW64,IF(BS14>0,IF(importanceFilter="Show all",1,IF(INDEX($R$3:$R$32,BS14,1)=importanceFilter,1,"")),"")) | BY14: 9 | BZ14: =IF(BZ46="","",INDEX($P$3:$P$32,BZ46,1) & IF(INDEX($Z$3:$Z$32,BZ46,1)="No", " - "&HOUR(INDEX($V$3:$V$32,BZ46,1))&":"&IF(LEN(MINUTE(INDEX($V$3:$V$32,BZ46,1)))=1,"0"&MINUTE(INDEX($V$3:$V$32,BZ46,1)),MINUTE(INDEX($V$3:$V$32,BZ46,1)))," - All day")) | CA14: =IF(CA46="","",INDEX($P$3:$P$32,CA46,1) & IF(INDEX($Z$3:$Z$32,CA46,1)="No", " - "&HOUR(INDEX($V$3:$V$32,CA46,1))&":"&IF(LEN(MINUTE(INDEX($V$3:$V$32,CA46,1)))=1,"0"&MINUTE(INDEX($V$3:$V$32,CA46,1)),MINUTE(INDEX($V$3:$V$32,CA46,1)))," - All day")) | CB14: =IF(CB46="","",INDEX($P$3:$P$32,CB46,1) & IF(INDEX($Z$3:$Z$32,CB46,1)="No", " - "&HOUR(INDEX($V$3:$V$32,CB46,1))&":"&IF(LEN(MINUTE(INDEX($V$3:$V$32,CB46,1)))=1,"0"&MINUTE(INDEX($V$3:$V$32,CB46,1)),MINUTE(INDEX($V$3:$V$32,CB46,1)))," - All day")) | CC14: =IF(CC46="","",INDEX($P$3:$P$32,CC46,1) & IF(INDEX($Z$3:$Z$32,CC46,1)="No", " - "&HOUR(INDEX($V$3:$V$32,CC46,1))&":"&IF(LEN(MINUTE(INDEX($V$3:$V$32,CC46,1)))=1,"0"&MINUTE(INDEX($V$3:$V$32,CC46,1)),MINUTE(INDEX($V$3:$V$32,CC46,1)))," - All day")) | CD14: =IF(CD46="","",INDEX($P$3:$P$32,CD46,1) & IF(INDEX($Z$3:$Z$32,CD46,1)="No", " - "&HOUR(INDEX($V$3:$V$32,CD46,1))&":"&IF(LEN(MINUTE(INDEX($V$3:$V$32,CD46,1)))=1,"0"&MINUTE(INDEX($V$3:$V$32,CD46,1)),MINUTE(INDEX($V$3:$V$32,CD46,1)))," - All day")) | CE14: =IF(CE46="","",INDEX($P$3:$P$32,CE46,1) & IF(INDEX($Z$3:$Z$32,CE46,1)="No", " - "&HOUR(INDEX($V$3:$V$32,CE46,1))&":"&IF(LEN(MINUTE(INDEX($V$3:$V$32,CE46,1)))=1,"0"&MINUTE(INDEX($V$3:$V$32,CE46,1)),MINUTE(INDEX($V$3:$V$32,CE46,1)))," - All day")) | CF14: =IF(CF46="","",INDEX($P$3:$P$32,CF46,1) & IF(INDEX($Z$3:$Z$32,CF46,1)="No", " - "&HOUR(INDEX($V$3:$V$32,CF46,1))&":"&IF(LEN(MINUTE(INDEX($V$3:$V$32,CF46,1)))=1,"0"&MINUTE(INDEX($V$3:$V$32,CF46,1)),MINUTE(INDEX($V$3:$V$32,CF46,1)))," - All day")) | CG14: =IF(CG46="","",INDEX($P$3:$P$32,CG46,1) & IF(INDEX($Z$3:$Z$32,CG46,1)="No", " - "&HOUR(INDEX($V$3:$V$32,CG46,1))&":"&IF(LEN(MINUTE(INDEX($V$3:$V$32,CG46,1)))=1,"0"&MINUTE(INDEX($V$3:$V$32,CG46,1)),MINUTE(INDEX($V$3:$V$32,CG46,1)))," - All day")) | ... DD14: =IF(DD46="","",INDEX($P$3:$P$32,DD46,1) & IF(INDEX($Z$3:$Z$32,DD46,1)="No", " - "&HOUR(INDEX($V$3:$V$32,DD46,1))&":"&IF(LEN(MINUTE(INDEX($V$3:$V$32,DD46,1)))=1,"0"&MINUTE(INDEX($V$3:$V$32,DD46,1)),MINUTE(INDEX($V$3:$V$32,DD46,1)))," - All day"))
