Workbook
Name choosenMonth: MonthView!$M$6
Name chosenWeek: WeeklyView!$O$6
Name day_1: Calc!$AQ$7:$AS$54
Name day_2: Calc!$AV$7:$AX$54
Name day_3: Calc!$BA$7:$BC$54
Name day_4: Calc!$BF$7:$BH$54
Name day_5: Calc!$BK$7:$BM$54
Name day_6: Calc!$BP$7:$BR$54
Name day_7: Calc!$BU$7:$BW$54
Name endOfMonth: Calc!$BZ$3
Name firstDay: Dashboard!$J$21
Name hoursList: Calc!$I$4:$I$51
Name ImportanceList2: OFFSET(Calc!$G$20,0,0,Calc!$G$27,1)
Name importanceFilter: WeeklyView!$U$6
Name importanceList: OFFSET(Dashboard!$J$24,0,0,COUNTA(Dashboard!$J$24:$J$28),1)
Name monthFirst: Calc!$BZ$5
Name monthOffset: Calc!$BZ$2
Name monthsList: Calc!$C$4:$C$15
Name monthYear: MonthView!$G$6
Name parea: Calc!$B$32
Name step: Calc!$G$13
Name thisWeek: Calc!$G$4
Name typeList: OFFSET(Calc!$AE$62,0,0,Calc!$AE$59,1)
Name weekChoosen: Calc!$G$7
Name weekDays: OFFSET(Calc!$E$4,Calc!$G$10,0,7,1)
Name weekOffset: Calc!$G$10
Name weeksList: Calc!$D$3:$D$57
Name weekYear: WeeklyView!$I$6
Name yearsList: Calc!$B$4:$B$24

Sheet Dashboard
D2: TIME BLOCKING TEMPLATE
D3: DASHBOARD
C7: This week summary
G18: SETTINGS
G20: Task Type | J20: Week Start Day
H21: Meeting | J21: Monday
D22: This week reminders: | H22: Call
C23: 1 | D23: {=IFERROR(INDEX(Calc!$S$3:$S$32,MATCH(SMALL(IF(Calc!$S$3:$S$32<>"",Calc!$L$3:$L$32,""),C23),Calc!$L$3:$L$32,0),1),"")} | E23: {=IFERROR(IF(TODAY()=INDEX(Calc!$T$3:$T$32,MATCH(SMALL(IF(Calc!$S$3:$S$32<>"",Calc!$L$3:$L$32,""),C23),Calc!$L$3:$L$32,0),1),"Today!",""),"")} | H23: Reminder | J23: Importance
C24: 2 | D24: {=IFERROR(INDEX(Calc!$S$3:$S$32,MATCH(SMALL(IF(Calc!$S$3:$S$32<>"",Calc!$L$3:$L$32,""),C24),Calc!$L$3:$L$32,0),1),"")} | E24: {=IFERROR(IF(TODAY()=INDEX(Calc!$T$3:$T$32,MATCH(SMALL(IF(Calc!$S$3:$S$32<>"",Calc!$L$3:$L$32,""),C24),Calc!$L$3:$L$32,0),1),"Today!",""),"")} | H24: Birthday | J24: High
C25: 3 | D25: {=IFERROR(INDEX(Calc!$S$3:$S$32,MATCH(SMALL(IF(Calc!$S$3:$S$32<>"",Calc!$L$3:$L$32,""),C25),Calc!$L$3:$L$32,0),1),"")} | E25: {=IFERROR(IF(TODAY()=INDEX(Calc!$T$3:$T$32,MATCH(SMALL(IF(Calc!$S$3:$S$32<>"",Calc!$L$3:$L$32,""),C25),Calc!$L$3:$L$32,0),1),"Today!",""),"")} | H25: Holiday | J25: Low
C26: 4 | D26: {=IFERROR(INDEX(Calc!$S$3:$S$32,MATCH(SMALL(IF(Calc!$S$3:$S$32<>"",Calc!$L$3:$L$32,""),C26),Calc!$L$3:$L$32,0),1),"")} | E26: {=IFERROR(IF(TODAY()=INDEX(Calc!$T$3:$T$32,MATCH(SMALL(IF(Calc!$S$3:$S$32<>"",Calc!$L$3:$L$32,""),C26),Calc!$L$3:$L$32,0),1),"Today!",""),"")} | H26: Day off | J26: Medium
C27: 5 | D27: {=IFERROR(INDEX(Calc!$S$3:$S$32,MATCH(SMALL(IF(Calc!$S$3:$S$32<>"",Calc!$L$3:$L$32,""),C27),Calc!$L$3:$L$32,0),1),"")} | E27: {=IFERROR(IF(TODAY()=INDEX(Calc!$T$3:$T$32,MATCH(SMALL(IF(Calc!$S$3:$S$32<>"",Calc!$L$3:$L$32,""),C27),Calc!$L$3:$L$32,0),1),"Today!",""),"")}
C28: 6 | D28: {=IFERROR(INDEX(Calc!$S$3:$S$32,MATCH(SMALL(IF(Calc!$S$3:$S$32<>"",Calc!$L$3:$L$32,""),C28),Calc!$L$3:$L$32,0),1),"")} | E28: {=IFERROR(IF(TODAY()=INDEX(Calc!$T$3:$T$32,MATCH(SMALL(IF(Calc!$S$3:$S$32<>"",Calc!$L$3:$L$32,""),C28),Calc!$L$3:$L$32,0),1),"Today!",""),"")}
C29: 7 | D29: {=IFERROR(INDEX(Calc!$S$3:$S$32,MATCH(SMALL(IF(Calc!$S$3:$S$32<>"",Calc!$L$3:$L$32,""),C29),Calc!$L$3:$L$32,0),1),"")} | E29: {=IFERROR(IF(TODAY()=INDEX(Calc!$T$3:$T$32,MATCH(SMALL(IF(Calc!$S$3:$S$32<>"",Calc!$L$3:$L$32,""),C29),Calc!$L$3:$L$32,0),1),"Today!",""),"")}
C30: 8 | D30: {=IFERROR(INDEX(Calc!$S$3:$S$32,MATCH(SMALL(IF(Calc!$S$3:$S$32<>"",Calc!$L$3:$L$32,""),C30),Calc!$L$3:$L$32,0),1),"")} | E30: {=IFERROR(IF(TODAY()=INDEX(Calc!$T$3:$T$32,MATCH(SMALL(IF(Calc!$S$3:$S$32<>"",Calc!$L$3:$L$32,""),C30),Calc!$L$3:$L$32,0),1),"Today!",""),"")}
C31: 9 | D31: {=IFERROR(INDEX(Calc!$S$3:$S$32,MATCH(SMALL(IF(Calc!$S$3:$S$32<>"",Calc!$L$3:$L$32,""),C31),Calc!$L$3:$L$32,0),1),"")} | E31: {=IFERROR(IF(TODAY()=INDEX(Calc!$T$3:$T$32,MATCH(SMALL(IF(Calc!$S$3:$S$32<>"",Calc!$L$3:$L$32,""),C31),Calc!$L$3:$L$32,0),1),"Today!",""),"")}
C32: 10 | D32: {=IFERROR(INDEX(Calc!$S$3:$S$32,MATCH(SMALL(IF(Calc!$S$3:$S$32<>"",Calc!$L$3:$L$32,""),C32),Calc!$L$3:$L$32,0),1),"")} | E32: {=IFERROR(IF(TODAY()=INDEX(Calc!$T$3:$T$32,MATCH(SMALL(IF(Calc!$S$3:$S$32<>"",Calc!$L$3:$L$32,""),C32),Calc!$L$3:$L$32,0),1),"Today!",""),"")}
C33: … | D33: =IF(Calc!S1>10," There is " &Calc!S1-10 & " reminders this week! For details check Weekly View","")

Sheet EventsList
C2: TIME BLOCKING TEMPLATE
C3: EVENTS LIST
C6: Event Name | D6: Start Date | E6: End date optional | F6: Start Time | G6: End Time | H6: Event Type | I6: Importance | J6: Link / Phone | K6: Contact person | L6: Notes | M6: Notify Me | N6: Weekday | O6: Overlap warning
C7: Meeting with John | D7: 45063 | H7: Meeting | I7: High | K7: John Smith | L7: Bring project files | M7: Yes | N7: =IF(ISNUMBER(D7),LEFT(INDEX(weekDays,WEEKDAY(D7,weekOffset+1),1),3),"") -> Wed | O7: =INDEX(Calc!$AC$3:$AC$1002,ROW()-ROW($O$6),1)
C8: Team Call | D8: 45060 | F8: 0.60416667 | G8: 0.625 | H8: Call | I8: Medium | L8: Discuss project updates | M8: Yes | N8: =IF(ISNUMBER(D8),LEFT(INDEX(weekDays,WEEKDAY(D8,weekOffset+1),1),3),"") -> Sun | O8: =INDEX(Calc!$AC$3:$AC$1002,ROW()-ROW($O$6),1) -> 2 more events overlaping
C9: Birthday Party | D9: 45060 | F9: 0.58333333 | G9: 0.64583333 | H9: Birthday | I9: Low | L9: Bring a gift | M9: Yes | N9: =IF(ISNUMBER(D9),LEFT(INDEX(weekDays,WEEKDAY(D9,weekOffset+1),1),3),"") -> Sun | O9: =INDEX(Calc!$AC$3:$AC$1002,ROW()-ROW($O$6),1)
C10: Bank Holiday | D10: 45065 | H10: Reminder | I10: High | L10: Office closed | M10: Yes | N10: =IF(ISNUMBER(D10),LEFT(INDEX(weekDays,WEEKDAY(D10,weekOffset+1),1),3),"") -> Fri | O10: =INDEX(Calc!$AC$3:$AC$1002,ROW()-ROW($O$6),1)
C11: Day Off | D11: 45066 | H11: Day off | I11: Medium | L11: Relax and unwind | M11: No | N11: =IF(ISNUMBER(D11),LEFT(INDEX(weekDays,WEEKDAY(D11,weekOffset+1),1),3),"") -> Sat | O11: =INDEX(Calc!$AC$3:$AC$1002,ROW()-ROW($O$6),1)
C12: Reminder: Dentist | D12: 45062 | F12: 0.41666667 | G12: 0.5 | H12: Reminder | L12: Confirm appointment | M12: Yes | N12: =IF(ISNUMBER(D12),LEFT(INDEX(weekDays,WEEKDAY(D12,weekOffset+1),1),3),"") -> Tue | O12: =INDEX(Calc!$AC$3:$AC$1002,ROW()-ROW($O$6),1)
C13: Meeting with Lisa | D13: 45061 | F13: 0.47916667 | G13: 0.52083333 | H13: Meeting | I13: High | K13: Lisa Johnson | L13: Discuss new project | M13: Yes | N13: =IF(ISNUMBER(D13),LEFT(INDEX(weekDays,WEEKDAY(D13,weekOffset+1),1),3),"") -> Mon | O13: =INDEX(Calc!$AC$3:$AC$1002,ROW()-ROW($O$6),1)
C14: Conference Call | D14: 45065 | F14: 0.625 | G14: 0.66666667 | H14: Call | I14: Medium | L14: Review quarterly goals | M14: No | N14: =IF(ISNUMBER(D14),LEFT(INDEX(weekDays,WEEKDAY(D14,weekOffset+1),1),3),"") -> Fri | O14: =INDEX(Calc!$AC$3:$AC$1002,ROW()-ROW($O$6),1) -> 2 more events overlaping
C15: Lunch with Sarah | D15: 45074 | F15: 0.52083333 | G15: 0.5625 | H15: Meeting | K15: Sarah Davis | L15: Discuss upcoming event | M15: Yes | N15: =IF(ISNUMBER(D15),LEFT(INDEX(weekDays,WEEKDAY(D15,weekOffset+1),1),3),"") -> Sun | O15: =INDEX(Calc!$AC$3:$AC$1002,ROW()-ROW($O$6),1)
C16: Family Gathering | D16: 45075 | E16: 45078 | H16: Reminder | I16: High | L16: RSVP and bring a dish | M16: Yes | N16: =IF(ISNUMBER(D16),LEFT(INDEX(weekDays,WEEKDAY(D16,weekOffset+1),1),3),"") -> Mon | O16: =INDEX(Calc!$AC$3:$AC$1002,ROW()-ROW($O$6),1)
C17: Meeting with Mark | D17: 45078 | F17: 0.39583333 | G17: 0.4375 | H17: Meeting | I17: Medium | K17: Mark Thompson | L17: Share project updates | M17: Yes | N17: =IF(ISNUMBER(D17),LEFT(INDEX(weekDays,WEEKDAY(D17,weekOffset+1),1),3),"") -> Thu | O17: =INDEX(Calc!$AC$3:$AC$1002,ROW()-ROW($O$6),1) -> 2 more events overlaping
C18: Call with Client | D18: 45080 | F18: 0.66666667 | G18: 0.6875 | H18: Call | I18: High | L18: Discuss contract details | M18: Yes | N18: =IF(ISNUMBER(D18),LEFT(INDEX(weekDays,WEEKDAY(D18,weekOffset+1),1),3),"") -> Sat | O18: =INDEX(Calc!$AC$3:$AC$1002,ROW()-ROW($O$6),1)
C19: Team Building | D19: 45081 | E19: 45084 | H19: Meeting | I19: Medium | L19: Prepare team activities | M19: No | N19: =IF(ISNUMBER(D19),LEFT(INDEX(weekDays,WEEKDAY(D19,weekOffset+1),1),3),"") -> Sun | O19: =INDEX(Calc!$AC$3:$AC$1002,ROW()-ROW($O$6),1)
C20: Birthday Celebration | D20: 45085 | E20: 45087 | H20: Birthday | I20: Low | L20: Buy a gift and send wishes | M20: Yes | N20: =IF(ISNUMBER(D20),LEFT(INDEX(weekDays,WEEKDAY(D20,weekOffset+1),1),3),"") -> Thu | O20: =INDEX(Calc!$AC$3:$AC$1002,ROW()-ROW($O$6),1)
C21: Bank Holiday | D21: 45088 | E21: 45089 | H21: Day off | I21: High | L21: Office closed | M21: No | N21: =IF(ISNUMBER(D21),LEFT(INDEX(weekDays,WEEKDAY(D21,weekOffset+1),1),3),"") -> Sun | O21: =INDEX(Calc!$AC$3:$AC$1002,ROW()-ROW($O$6),1)
C22: Day Off | D22: 45090 | E22: 45097 | H22: Day off | I22: Medium | L22: Relax and unwind | M22: No | N22: =IF(ISNUMBER(D22),LEFT(INDEX(weekDays,WEEKDAY(D22,weekOffset+1),1),3),"") -> Tue | O22: =INDEX(Calc!$AC$3:$AC$1002,ROW()-ROW($O$6),1)
C23: Meeting with Alex | D23: 45090 | F23: 0.58333333 | G23: 0.6875 | H23: Meeting | I23: High | K23: Alex Turner | L23: Discuss marketing strategy | M23: Yes | N23: =IF(ISNUMBER(D23),LEFT(INDEX(weekDays,WEEKDAY(D23,weekOffset+1),1),3),"") -> Tue | O23: =INDEX(Calc!$AC$3:$AC$1002,ROW()-ROW($O$6),1) -> 2 more events overlaping
C24: Call with Supplier | D24: 45078 | F24: 0.47916667 | G24: 0.5 | H24: Call | I24: Medium | M24: No | N24: =IF(ISNUMBER(D24),LEFT(INDEX(weekDays,WEEKDAY(D24,weekOffset+1),1),3),"") -> Thu | O24: =INDEX(Calc!$AC$3:$AC$1002,ROW()-ROW($O$6),1) -> 2 more events overlaping
C25: Project Deadline | D25: 45067 | E25: 45067 | H25: Reminder | I25: High | L25: Submit final report | M25: Yes | N25: =IF(ISNUMBER(D25),LEFT(INDEX(weekDays,WEEKDAY(D25,weekOffset+1),1),3),"") -> Sun | O25: =INDEX(Calc!$AC$3:$AC$1002,ROW()-ROW($O$6),1)
C26: Team Lunch | D26: 45068 | F26: 0.5 | G26: 0.54166667 | H26: Meeting | I26: Medium | L26: Discuss upcoming plans | M26: Yes | N26: =IF(ISNUMBER(D26),LEFT(INDEX(weekDays,WEEKDAY(D26,weekOffset+1),1),3),"") -> Mon | O26: =INDEX(Calc!$AC$3:$AC$1002,ROW()-ROW($O$6),1)
C27: Training Session | D27: 45069 | E27: 45071 | F27: 0.375 | G27: 0.70833333 | H27: Meeting | I27: High | L27: Learn new skills | M27: Yes | N27: =IF(ISNUMBER(D27),LEFT(INDEX(weekDays,WEEKDAY(D27,weekOffset+1),1),3),"") -> Tue | O27: =INDEX(Calc!$AC$3:$AC$1002,ROW()-ROW($O$6),1) -> 1 event overlap
C28: Conference | D28: 45070 | E28: 45072 | H28: Reminder | I28: Low | L28: Prepare presentation | M28: No | N28: =IF(ISNUMBER(D28),LEFT(INDEX(weekDays,WEEKDAY(D28,weekOffset+1),1),3),"") -> Wed | O28: =INDEX(Calc!$AC$3:$AC$1002,ROW()-ROW($O$6),1) -> 1 event overlap
C29: Call with Supplier | D29: 45072 | F29: 0.64583333 | G29: 0.66666667 | H29: Call | I29: Medium | L29: Discuss pricing | M29: Yes | N29: =IF(ISNUMBER(D29),LEFT(INDEX(weekDays,WEEKDAY(D29,weekOffset+1),1),3),"") -> Fri | O29: =INDEX(Calc!$AC$3:$AC$1002,ROW()-ROW($O$6),1) -> 2 more events overlaping
C30: Family BBQ | D30: 45073 | H30: Reminder | I30: High | L30: Bring side dish | M30: Yes | N30: =IF(ISNUMBER(D30),LEFT(INDEX(weekDays,WEEKDAY(D30,weekOffset+1),1),3),"") -> Sat | O30: =INDEX(Calc!$AC$3:$AC$1002,ROW()-ROW($O$6),1)
C31: Meeting with David | D31: 45074 | F31: 0.45833333 | G31: 0.5 | H31: Meeting | I31: Low | K31: David Wilson | L31: Finalize project details | M31: Yes | N31: =IF(ISNUMBER(D31),LEFT(INDEX(weekDays,WEEKDAY(D31,weekOffset+1),1),3),"") -> Sun | O31: =INDEX(Calc!$AC$3:$AC$1002,ROW()-ROW($O$6),1)
N32: =IF(ISNUMBER(D32),LEFT(INDEX(weekDays,WEEKDAY(D32,weekOffset+1),1),3),"") | O32: =INDEX(Calc!$AC$3:$AC$1002,ROW()-ROW($O$6),1)
N33: =IF(ISNUMBER(D33),LEFT(INDEX(weekDays,WEEKDAY(D33,weekOffset+1),1),3),"") | O33: =INDEX(Calc!$AC$3:$AC$1002,ROW()-ROW($O$6),1)
N34: =IF(ISNUMBER(D34),LEFT(INDEX(weekDays,WEEKDAY(D34,weekOffset+1),1),3),"") | O34: =INDEX(Calc!$AC$3:$AC$1002,ROW()-ROW($O$6),1)
N35: =IF(ISNUMBER(D35),LEFT(INDEX(weekDays,WEEKDAY(D35,weekOffset+1),1),3),"") | O35: =INDEX(Calc!$AC$3:$AC$1002,ROW()-ROW($O$6),1)
N36: =IF(ISNUMBER(D36),LEFT(INDEX(weekDays,WEEKDAY(D36,weekOffset+1),1),3),"") | O36: =INDEX(Calc!$AC$3:$AC$1002,ROW()-ROW($O$6),1)

Sheet WeeklyView
E2: TIME BLOCKING TEMPLATE
E3: WEEKLY VIEW
F6: Year | I6: 2023 | L6: Week | O6: This Week | R6: Importance | U6: Show all
F8: =INDEX(weekDays,1,1) -> Monday | I8: =INDEX(weekDays,2,1) -> Tuesday | L8: =INDEX(weekDays,3,1) -> Wednesday | O8: =INDEX(weekDays,4,1) -> Thursday | R8: =INDEX(weekDays,5,1) -> Friday | U8: =INDEX(weekDays,6,1) -> Saturday | X8: =INDEX(weekDays,7,1) -> Sunday
C9: 0.33333333 | E9: =INDEX(day_1,ROW()-ROW($F$8),2) | F9: =INDEX(day_1,ROW()-ROW($F$8),1) | H9: =INDEX(day_2,ROW()-ROW($I$8),2) | I9: =INDEX(day_2,ROW()-ROW($F$8),1) | K9: =INDEX(day_3,ROW()-ROW($L$8),2) | L9: =INDEX(day_3,ROW()-ROW($F$8),1) | N9: =INDEX(day_4,ROW()-ROW($O$8),2) | O9: =INDEX(day_4,ROW()-ROW($F$8),1) | Q9: =INDEX(day_5,ROW()-ROW($R$8),2) | R9: =INDEX(day_5,ROW()-ROW($F$8),1) | T9: =INDEX(day_6,ROW()-ROW($U$8),2) | U9: =INDEX(day_6,ROW()-ROW($F$8),1) | W9: =INDEX(day_7,ROW()-ROW($X$8),2) | X9: =INDEX(day_7,ROW()-ROW($F$8),1)
C10: =IF(C9>TIME(23,30,0),"",C9+step) -> 0.35416667 | E10: =INDEX(day_1,ROW()-ROW($F$8),2) | F10: =INDEX(day_1,ROW()-ROW($F$8),1) | H10: =INDEX(day_2,ROW()-ROW($I$8),2) | I10: =INDEX(day_2,ROW()-ROW($F$8),1) | K10: =INDEX(day_3,ROW()-ROW($L$8),2) | L10: =INDEX(day_3,ROW()-ROW($F$8),1) | N10: =INDEX(day_4,ROW()-ROW($O$8),2) | O10: =INDEX(day_4,ROW()-ROW($F$8),1) | Q10: =INDEX(day_5,ROW()-ROW($R$8),2) | R10: =INDEX(day_5,ROW()-ROW($F$8),1) | T10: =INDEX(day_6,ROW()-ROW($U$8),2) | U10: =INDEX(day_6,ROW()-ROW($F$8),1) | W10: =INDEX(day_7,ROW()-ROW($X$8),2) | X10: =INDEX(day_7,ROW()-ROW($F$8),1)
C11: =IF(C10>TIME(23,30,0),"",C10+step) -> 0.375 | E11: =INDEX(day_1,ROW()-ROW($F$8),2) | F11: =INDEX(day_1,ROW()-ROW($F$8),1) | H11: =INDEX(day_2,ROW()-ROW($I$8),2) | I11: =INDEX(day_2,ROW()-ROW($F$8),1) | K11: =INDEX(day_3,ROW()-ROW($L$8),2) | L11: =INDEX(day_3,ROW()-ROW($F$8),1) | N11: =INDEX(day_4,ROW()-ROW($O$8),2) | O11: =INDEX(day_4,ROW()-ROW($F$8),1) | Q11: =INDEX(day_5,ROW()-ROW($R$8),2) | R11: =INDEX(day_5,ROW()-ROW($F$8),1) | T11: =INDEX(day_6,ROW()-ROW($U$8),2) | U11: =INDEX(day_6,ROW()-ROW($F$8),1) | W11: =INDEX(day_7,ROW()-ROW($X$8),2) | X11: =INDEX(day_7,ROW()-ROW($F$8),1)
C12: =IF(C11>TIME(23,30,0),"",C11+step) -> 0.39583333 | E12: =INDEX(day_1,ROW()-ROW($F$8),2) | F12: =INDEX(day_1,ROW()-ROW($F$8),1) | H12: =INDEX(day_2,ROW()-ROW($I$8),2) | I12: =INDEX(day_2,ROW()-ROW($F$8),1) | K12: =INDEX(day_3,ROW()-ROW($L$8),2) | L12: =INDEX(day_3,ROW()-ROW($F$8),1) | N12: =INDEX(day_4,ROW()-ROW($O$8),2) | O12: =INDEX(day_4,ROW()-ROW($F$8),1) | Q12: =INDEX(day_5,ROW()-ROW($R$8),2) | R12: =INDEX(day_5,ROW()-ROW($F$8),1) | T12: =INDEX(day_6,ROW()-ROW($U$8),2) | U12: =INDEX(day_6,ROW()-ROW($F$8),1) | W12: =INDEX(day_7,ROW()-ROW($X$8),2) | X12: =INDEX(day_7,ROW()-ROW($F$8),1)
C13: =IF(C12>TIME(23,30,0),"",C12+step) -> 0.41666667 | E13: =INDEX(day_1,ROW()-ROW($F$8),2) | F13: =INDEX(day_1,ROW()-ROW($F$8),1) | H13: =INDEX(day_2,ROW()-ROW($I$8),2) | I13: =INDEX(day_2,ROW()-ROW($F$8),1) | K13: =INDEX(day_3,ROW()-ROW($L$8),2) | L13: =INDEX(day_3,ROW()-ROW($F$8),1) | N13: =INDEX(day_4,ROW()-ROW($O$8),2) | O13: =INDEX(day_4,ROW()-ROW($F$8),1) | Q13: =INDEX(day_5,ROW()-ROW($R$8),2) | R13: =INDEX(day_5,ROW()-ROW($F$8),1) | T13: =INDEX(day_6,ROW()-ROW($U$8),2) | U13: =INDEX(day_6,ROW()-ROW($F$8),1) | W13: =INDEX(day_7,ROW()-ROW($X$8),2) | X13: =INDEX(day_7,ROW()-ROW($F$8),1)
C14: =IF(C13>TIME(23,30,0),"",C13+step) -> 0.4375 | E14: =INDEX(day_1,ROW()-ROW($F$8),2) | F14: =INDEX(day_1,ROW()-ROW($F$8),1) | H14: =INDEX(day_2,ROW()-ROW($I$8),2) | I14: =INDEX(day_2,ROW()-ROW($F$8),1) | K14: =INDEX(day_3,ROW()-ROW($L$8),2) | L14: =INDEX(day_3,ROW()-ROW($F$8),1) | N14: =INDEX(day_4,ROW()-ROW($O$8),2) | O14: =INDEX(day_4,ROW()-ROW($F$8),1) | Q14: =INDEX(day_5,ROW()-ROW($R$8),2) | R14: =INDEX(day_5,ROW()-ROW($F$8),1) | T14: =INDEX(day_6,ROW()-ROW($U$8),2) | U14: =INDEX(day_6,ROW()-ROW($F$8),1) | W14: =INDEX(day_7,ROW()-ROW($X$8),2) | X14: =INDEX(day_7,ROW()-ROW($F$8),1)
C15: =IF(C14>TIME(23,30,0),"",C14+step) -> 0.45833333 | E15: =INDEX(day_1,ROW()-ROW($F$8),2) | F15: =INDEX(day_1,ROW()-ROW($F$8),1) | H15: =INDEX(day_2,ROW()-ROW($I$8),2) | I15: =INDEX(day_2,ROW()-ROW($F$8),1) | K15: =INDEX(day_3,ROW()-ROW($L$8),2) | L15: =INDEX(day_3,ROW()-ROW($F$8),1) | N15: =INDEX(day_4,ROW()-ROW($O$8),2) | O15: =INDEX(day_4,ROW()-ROW($F$8),1) | Q15: =INDEX(day_5,ROW()-ROW($R$8),2) | R15: =INDEX(day_5,ROW()-ROW($F$8),1) | T15: =INDEX(day_6,ROW()-ROW($U$8),2) | U15: =INDEX(day_6,ROW()-ROW($F$8),1) | W15: =INDEX(day_7,ROW()-ROW($X$8),2) | X15: =INDEX(day_7,ROW()-ROW($F$8),1)
C16: =IF(C15>TIME(23,30,0),"",C15+step) -> 0.47916667 | E16: =INDEX(day_1,ROW()-ROW($F$8),2) | F16: =INDEX(day_1,ROW()-ROW($F$8),1) | H16: =INDEX(day_2,ROW()-ROW($I$8),2) | I16: =INDEX(day_2,ROW()-ROW($F$8),1) | K16: =INDEX(day_3,ROW()-ROW($L$8),2) | L16: =INDEX(day_3,ROW()-ROW($F$8),1) | N16: =INDEX(day_4,ROW()-ROW($O$8),2) | O16: =INDEX(day_4,ROW()-ROW($F$8),1) | Q16: =INDEX(day_5,ROW()-ROW($R$8),2) | R16: =INDEX(day_5,ROW()-ROW($F$8),1) | T16: =INDEX(day_6,ROW()-ROW($U$8),2) | U16: =INDEX(day_6,ROW()-ROW($F$8),1) | W16: =INDEX(day_7,ROW()-ROW($X$8),2) | X16: =INDEX(day_7,ROW()-ROW($F$8),1)
C17: =IF(C16>TIME(23,30,0),"",C16+step) -> 0.5 | E17: =INDEX(day_1,ROW()-ROW($F$8),2) | F17: =INDEX(day_1,ROW()-ROW($F$8),1) | H17: =INDEX(day_2,ROW()-ROW($I$8),2) | I17: =INDEX(day_2,ROW()-ROW($F$8),1) | K17: =INDEX(day_3,ROW()-ROW($L$8),2) | L17: =INDEX(day_3,ROW()-ROW($F$8),1) | N17: =INDEX(day_4,ROW()-ROW($O$8),2) | O17: =INDEX(day_4,ROW()-ROW($F$8),1) | Q17: =INDEX(day_5,ROW()-ROW($R$8),2) | R17: =INDEX(day_5,ROW()-ROW($F$8),1) | T17: =INDEX(day_6,ROW()-ROW($U$8),2) | U17: =INDEX(day_6,ROW()-ROW($F$8),1) | W17: =INDEX(day_7,ROW()-ROW($X$8),2) | X17: =INDEX(day_7,ROW()-ROW($F$8),1)
C18: =IF(C17>TIME(23,30,0),"",C17+step) -> 0.52083333 | E18: =INDEX(day_1,ROW()-ROW($F$8),2) | F18: =INDEX(day_1,ROW()-ROW($F$8),1) | H18: =INDEX(day_2,ROW()-ROW($I$8),2) | I18: =INDEX(day_2,ROW()-ROW($F$8),1) | K18: =INDEX(day_3,ROW()-ROW($L$8),2) | L18: =INDEX(day_3,ROW()-ROW($F$8),1) | N18: =INDEX(day_4,ROW()-ROW($O$8),2) | O18: =INDEX(day_4,ROW()-ROW($F$8),1) | Q18: =INDEX(day_5,ROW()-ROW($R$8),2) | R18: =INDEX(day_5,ROW()-ROW($F$8),1) | T18: =INDEX(day_6,ROW()-ROW($U$8),2) | U18: =INDEX(day_6,ROW()-ROW($F$8),1) | W18: =INDEX(day_7,ROW()-ROW($X$8),2) | X18: =INDEX(day_7,ROW()-ROW($F$8),1)
C19: =IF(C18>TIME(23,30,0),"",C18+step) -> 0.54166667 | E19: =INDEX(day_1,ROW()-ROW($F$8),2) | F19: =INDEX(day_1,ROW()-ROW($F$8),1) | H19: =INDEX(day_2,ROW()-ROW($I$8),2) | I19: =INDEX(day_2,ROW()-ROW($F$8),1) | K19: =INDEX(day_3,ROW()-ROW($L$8),2) | L19: =INDEX(day_3,ROW()-ROW($F$8),1) | N19: =INDEX(day_4,ROW()-ROW($O$8),2) | O19: =INDEX(day_4,ROW()-ROW($F$8),1) | Q19: =INDEX(day_5,ROW()-ROW($R$8),2) | R19: =INDEX(day_5,ROW()-ROW($F$8),1) | T19: =INDEX(day_6,ROW()-ROW($U$8),2) | U19: =INDEX(day_6,ROW()-ROW($F$8),1) | W19: =INDEX(day_7,ROW()-ROW($X$8),2) | X19: =INDEX(day_7,ROW()-ROW($F$8),1)
C20: =IF(C19>TIME(23,30,0),"",C19+step) -> 0.5625 | E20: =INDEX(day_1,ROW()-ROW($F$8),2) | F20: =INDEX(day_1,ROW()-ROW($F$8),1) | H20: =INDEX(day_2,ROW()-ROW($I$8),2) | I20: =INDEX(day_2,ROW()-ROW($F$8),1) | K20: =INDEX(day_3,ROW()-ROW($L$8),2) | L20: =INDEX(day_3,ROW()-ROW($F$8),1) | N20: =INDEX(day_4,ROW()-ROW($O$8),2) | O20: =INDEX(day_4,ROW()-ROW($F$8),1) | Q20: =INDEX(day_5,ROW()-ROW($R$8),2) | R20: =INDEX(day_5,ROW()-ROW($F$8),1) | T20: =INDEX(day_6,ROW()-ROW($U$8),2) | U20: =INDEX(day_6,ROW()-ROW($F$8),1) | W20: =INDEX(day_7,ROW()-ROW($X$8),2) | X20: =INDEX(day_7,ROW()-ROW($F$8),1)
C21: =IF(C20>TIME(23,30,0),"",C20+step) -> 0.58333333 | E21: =INDEX(day_1,ROW()-ROW($F$8),2) | F21: =INDEX(day_1,ROW()-ROW($F$8),1) | H21: =INDEX(day_2,ROW()-ROW($I$8),2) | I21: =INDEX(day_2,ROW()-ROW($F$8),1) | K21: =INDEX(day_3,ROW()-ROW($L$8),2) | L21: =INDEX(day_3,ROW()-ROW($F$8),1) | N21: =INDEX(day_4,ROW()-ROW($O$8),2) | O21: =INDEX(day_4,ROW()-ROW($F$8),1) | Q21: =INDEX(day_5,ROW()-ROW($R$8),2) | R21: =INDEX(day_5,ROW()-ROW($F$8),1) | T21: =INDEX(day_6,ROW()-ROW($U$8),2) | U21: =INDEX(day_6,ROW()-ROW($F$8),1) | W21: =INDEX(day_7,ROW()-ROW($X$8),2) | X21: =INDEX(day_7,ROW()-ROW($F$8),1)
... C56: =IF(C55>TIME(23,30,0),"",C55+step) | E56: =INDEX(day_1,ROW()-ROW($F$8),2) | F56: =INDEX(day_1,ROW()-ROW($F$8),1) | H56: =INDEX(day_2,ROW()-ROW($I$8),2) | I56: =INDEX(day_2,ROW()-ROW($F$8),1) | K56: =INDEX(day_3,ROW()-ROW($L$8),2) | L56: =INDEX(day_3,ROW()-ROW($F$8),1) | N56: =INDEX(day_4,ROW()-ROW($O$8),2) | O56: =INDEX(day_4,ROW()-ROW($F$8),1) | Q56: =INDEX(day_5,ROW()-ROW($R$8),2) | R56: =INDEX(day_5,ROW()-ROW($F$8),1) | T56: =INDEX(day_6,ROW()-ROW($U$8),2) | U56: =INDEX(day_6,ROW()-ROW($F$8),1) | W56: =INDEX(day_7,ROW()-ROW($X$8),2) | X56: =INDEX(day_7,ROW()-ROW($F$8),1)

Sheet MonthView
D2: TIME BLOCKING TEMPLATE
D3: MONTH VIEW
D6: Year | G6: 2023 | J6: Month | M6: May
D8: =INDEX(weekDays,1,1) -> Monday | G8: =INDEX(weekDays,2,1) -> Tuesday | J8: =INDEX(weekDays,3,1) -> Wednesday | M8: =INDEX(weekDays,4,1) -> Thursday | P8: =INDEX(weekDays,5,1) -> Friday | S8: =INDEX(weekDays,6,1) -> Saturday | V8: =INDEX(weekDays,7,1) -> Sunday
D9: =IFERROR(IF(DAY(G9)=1,"",G9-1),"") -> 45047 | G9: =IFERROR(IF(DAY(J9)=1,"",J9-1),"") -> 45048 | J9: =IFERROR(IF(DAY(M9)=1,"",M9-1),"") -> 45049 | M9: =IFERROR(IF(DAY(P9)=1,"",P9-1),"") -> 45050 | P9: =IFERROR(IF(DAY(S9)=1,"",S9-1),"") -> 45051 | S9: =IFERROR(IF(DAY(V9)=1,"",V9-1),"") -> 45052 | V9: =IF((COLUMN()-1)/2<monthOffset,"",OFFSET(monthFirst,0,(COLUMN()-1)/3-monthOffset,1,1)) -> 45053
C10: =IF(D$9="","",OFFSET(monthFirst,16+ROW()-ROW(D$9),DAY(D$9)-1,1,1)) | D10: =IF(D$9="","",OFFSET(monthFirst,ROW()-ROW(D$9),DAY(D$9)-1,1,1)) | F10: =IF(G$9="","",OFFSET(monthFirst,16+ROW()-ROW(G$9),DAY(G$9)-1,1,1)) | G10: =IF(G$9="","",OFFSET(monthFirst,ROW()-ROW(G$9),DAY(G$9)-1,1,1)) | I10: =IF(J$9="","",OFFSET(monthFirst,16+ROW()-ROW(J$9),DAY(J$9)-1,1,1)) | J10: =IF(J$9="","",OFFSET(monthFirst,ROW()-ROW(J$9),DAY(J$9)-1,1,1)) | L10: =IF(M$9="","",OFFSET(monthFirst,16+ROW()-ROW(M$9),DAY(M$9)-1,1,1)) | M10: =IF(M$9="","",OFFSET(monthFirst,ROW()-ROW(M$9),DAY(M$9)-1,1,1)) | O10: =IF(P$9="","",OFFSET(monthFirst,16+ROW()-ROW(P$9),DAY(P$9)-1,1,1)) | P10: =IF(P$9="","",OFFSET(monthFirst,ROW()-ROW(P$9),DAY(P$9)-1,1,1)) | R10: =IF(S$9="","",OFFSET(monthFirst,16+ROW()-ROW(S$9),DAY(S$9)-1,1,1)) | S10: =IF(S$9="","",OFFSET(monthFirst,ROW()-ROW(S$9),DAY(S$9)-1,1,1)) | U10: =IF(V$9="","",OFFSET(monthFirst,16+ROW()-ROW(V$9),DAY(V$9)-1,1,1)) | V10: =IF(V$9="","",OFFSET(monthFirst,ROW()-ROW(V$9),DAY(V$9)-1,1,1))
C11: =IF(D$9="","",OFFSET(monthFirst,16+ROW()-ROW(D$9),DAY(D$9)-1,1,1)) | D11: =IF(D$9="","",OFFSET(monthFirst,ROW()-ROW(D$9),DAY(D$9)-1,1,1)) | F11: =IF(G$9="","",OFFSET(monthFirst,16+ROW()-ROW(G$9),DAY(G$9)-1,1,1)) | G11: =IF(G$9="","",OFFSET(monthFirst,ROW()-ROW(G$9),DAY(G$9)-1,1,1)) | I11: =IF(J$9="","",OFFSET(monthFirst,16+ROW()-ROW(J$9),DAY(J$9)-1,1,1)) | J11: =IF(J$9="","",OFFSET(monthFirst,ROW()-ROW(J$9),DAY(J$9)-1,1,1)) | L11: =IF(M$9="","",OFFSET(monthFirst,16+ROW()-ROW(M$9),DAY(M$9)-1,1,1)) | M11: =IF(M$9="","",OFFSET(monthFirst,ROW()-ROW(M$9),DAY(M$9)-1,1,1)) | O11: =IF(P$9="","",OFFSET(monthFirst,16+ROW()-ROW(P$9),DAY(P$9)-1,1,1)) | P11: =IF(P$9="","",OFFSET(monthFirst,ROW()-ROW(P$9),DAY(P$9)-1,1,1)) | R11: =IF(S$9="","",OFFSET(monthFirst,16+ROW()-ROW(S$9),DAY(S$9)-1,1,1)) | S11: =IF(S$9="","",OFFSET(monthFirst,ROW()-ROW(S$9),DAY(S$9)-1,1,1)) | U11: =IF(V$9="","",OFFSET(monthFirst,16+ROW()-ROW(V$9),DAY(V$9)-1,1,1)) | V11: =IF(V$9="","",OFFSET(monthFirst,ROW()-ROW(V$9),DAY(V$9)-1,1,1))
C12: =IF(D$9="","",OFFSET(monthFirst,16+ROW()-ROW(D$9),DAY(D$9)-1,1,1)) | D12: =IF(D$9="","",OFFSET(monthFirst,ROW()-ROW(D$9),DAY(D$9)-1,1,1)) | F12: =IF(G$9="","",OFFSET(monthFirst,16+ROW()-ROW(G$9),DAY(G$9)-1,1,1)) | G12: =IF(G$9="","",OFFSET(monthFirst,ROW()-ROW(G$9),DAY(G$9)-1,1,1)) | I12: =IF(J$9="","",OFFSET(monthFirst,16+ROW()-ROW(J$9),DAY(J$9)-1,1,1)) | J12: =IF(J$9="","",OFFSET(monthFirst,ROW()-ROW(J$9),DAY(J$9)-1,1,1)) | L12: =IF(M$9="","",OFFSET(monthFirst,16+ROW()-ROW(M$9),DAY(M$9)-1,1,1)) | M12: =IF(M$9="","",OFFSET(monthFirst,ROW()-ROW(M$9),DAY(M$9)-1,1,1)) | O12: =IF(P$9="","",OFFSET(monthFirst,16+ROW()-ROW(P$9),DAY(P$9)-1,1,1)) | P12: =IF(P$9="","",OFFSET(monthFirst,ROW()-ROW(P$9),DAY(P$9)-1,1,1)) | R12: =IF(S$9="","",OFFSET(monthFirst,16+ROW()-ROW(S$9),DAY(S$9)-1,1,1)) | S12: =IF(S$9="","",OFFSET(monthFirst,ROW()-ROW(S$9),DAY(S$9)-1,1,1)) | U12: =IF(V$9="","",OFFSET(monthFirst,16+ROW()-ROW(V$9),DAY(V$9)-1,1,1)) | V12: =IF(V$9="","",OFFSET(monthFirst,ROW()-ROW(V$9),DAY(V$9)-1,1,1))
C13: =IF(D$9="","",OFFSET(monthFirst,16+ROW()-ROW(D$9),DAY(D$9)-1,1,1)) | D13: =IF(D$9="","",OFFSET(monthFirst,ROW()-ROW(D$9),DAY(D$9)-1,1,1)) | F13: =IF(G$9="","",OFFSET(monthFirst,16+ROW()-ROW(G$9),DAY(G$9)-1,1,1)) | G13: =IF(G$9="","",OFFSET(monthFirst,ROW()-ROW(G$9),DAY(G$9)-1,1,1)) | I13: =IF(J$9="","",OFFSET(monthFirst,16+ROW()-ROW(J$9),DAY(J$9)-1,1,1)) | J13: =IF(J$9="","",OFFSET(monthFirst,ROW()-ROW(J$9),DAY(J$9)-1,1,1)) | L13: =IF(M$9="","",OFFSET(monthFirst,16+ROW()-ROW(M$9),DAY(M$9)-1,1,1)) | M13: =IF(M$9="","",OFFSET(monthFirst,ROW()-ROW(M$9),DAY(M$9)-1,1,1)) | O13: =IF(P$9="","",OFFSET(monthFirst,16+ROW()-ROW(P$9),DAY(P$9)-1,1,1)) | P13: =IF(P$9="","",OFFSET(monthFirst,ROW()-ROW(P$9),DAY(P$9)-1,1,1)) | R13: =IF(S$9="","",OFFSET(monthFirst,16+ROW()-ROW(S$9),DAY(S$9)-1,1,1)) | S13: =IF(S$9="","",OFFSET(monthFirst,ROW()-ROW(S$9),DAY(S$9)-1,1,1)) | U13: =IF(V$9="","",OFFSET(monthFirst,16+ROW()-ROW(V$9),DAY(V$9)-1,1,1)) | V13: =IF(V$9="","",OFFSET(monthFirst,ROW()-ROW(V$9),DAY(V$9)-1,1,1))
C14: =IF(D$9="","",OFFSET(monthFirst,16+ROW()-ROW(D$9),DAY(D$9)-1,1,1)) | D14: =IF(D$9="","",OFFSET(monthFirst,ROW()-ROW(D$9),DAY(D$9)-1,1,1)) | F14: =IF(G$9="","",OFFSET(monthFirst,16+ROW()-ROW(G$9),DAY(G$9)-1,1,1)) | G14: =IF(G$9="","",OFFSET(monthFirst,ROW()-ROW(G$9),DAY(G$9)-1,1,1)) | I14: =IF(J$9="","",OFFSET(monthFirst,16+ROW()-ROW(J$9),DAY(J$9)-1,1,1)) | J14: =IF(J$9="","",OFFSET(monthFirst,ROW()-ROW(J$9),DAY(J$9)-1,1,1)) | L14: =IF(M$9="","",OFFSET(monthFirst,16+ROW()-ROW(M$9),DAY(M$9)-1,1,1)) | M14: =IF(M$9="","",OFFSET(monthFirst,ROW()-ROW(M$9),DAY(M$9)-1,1,1)) | O14: =IF(P$9="","",OFFSET(monthFirst,16+ROW()-ROW(P$9),DAY(P$9)-1,1,1)) | P14: =IF(P$9="","",OFFSET(monthFirst,ROW()-ROW(P$9),DAY(P$9)-1,1,1)) | R14: =IF(S$9="","",OFFSET(monthFirst,16+ROW()-ROW(S$9),DAY(S$9)-1,1,1)) | S14: =IF(S$9="","",OFFSET(monthFirst,ROW()-ROW(S$9),DAY(S$9)-1,1,1)) | U14: =IF(V$9="","",OFFSET(monthFirst,16+ROW()-ROW(V$9),DAY(V$9)-1,1,1)) | V14: =IF(V$9="","",OFFSET(monthFirst,ROW()-ROW(V$9),DAY(V$9)-1,1,1))
C15: =IF(D$9="","",OFFSET(monthFirst,16+ROW()-ROW(D$9),DAY(D$9)-1,1,1)) | D15: =IF(D$9="","",OFFSET(monthFirst,ROW()-ROW(D$9),DAY(D$9)-1,1,1)) | F15: =IF(G$9="","",OFFSET(monthFirst,16+ROW()-ROW(G$9),DAY(G$9)-1,1,1)) | G15: =IF(G$9="","",OFFSET(monthFirst,ROW()-ROW(G$9),DAY(G$9)-1,1,1)) | I15: =IF(J$9="","",OFFSET(monthFirst,16+ROW()-ROW(J$9),DAY(J$9)-1,1,1)) | J15: =IF(J$9="","",OFFSET(monthFirst,ROW()-ROW(J$9),DAY(J$9)-1,1,1)) | L15: =IF(M$9="","",OFFSET(monthFirst,16+ROW()-ROW(M$9),DAY(M$9)-1,1,1)) | M15: =IF(M$9="","",OFFSET(monthFirst,ROW()-ROW(M$9),DAY(M$9)-1,1,1)) | O15: =IF(P$9="","",OFFSET(monthFirst,16+ROW()-ROW(P$9),DAY(P$9)-1,1,1)) | P15: =IF(P$9="","",OFFSET(monthFirst,ROW()-ROW(P$9),DAY(P$9)-1,1,1)) | R15: =IF(S$9="","",OFFSET(monthFirst,16+ROW()-ROW(S$9),DAY(S$9)-1,1,1)) | S15: =IF(S$9="","",OFFSET(monthFirst,ROW()-ROW(S$9),DAY(S$9)-1,1,1)) | U15: =IF(V$9="","",OFFSET(monthFirst,16+ROW()-ROW(V$9),DAY(V$9)-1,1,1)) | V15: =IF(V$9="","",OFFSET(monthFirst,ROW()-ROW(V$9),DAY(V$9)-1,1,1))
C16: =IF(D$9="","",OFFSET(monthFirst,16+ROW()-ROW(D$9),DAY(D$9)-1,1,1)) | D16: =IF(D$9="","",OFFSET(monthFirst,ROW()-ROW(D$9),DAY(D$9)-1,1,1)) | F16: =IF(G$9="","",OFFSET(monthFirst,16+ROW()-ROW(G$9),DAY(G$9)-1,1,1)) | G16: =IF(G$9="","",OFFSET(monthFirst,ROW()-ROW(G$9),DAY(G$9)-1,1,1)) | I16: =IF(J$9="","",OFFSET(monthFirst,16+ROW()-ROW(J$9),DAY(J$9)-1,1,1)) | J16: =IF(J$9="","",OFFSET(monthFirst,ROW()-ROW(J$9),DAY(J$9)-1,1,1)) | L16: =IF(M$9="","",OFFSET(monthFirst,16+ROW()-ROW(M$9),DAY(M$9)-1,1,1)) | M16: =IF(M$9="","",OFFSET(monthFirst,ROW()-ROW(M$9),DAY(M$9)-1,1,1)) | O16: =IF(P$9="","",OFFSET(monthFirst,16+ROW()-ROW(P$9),DAY(P$9)-1,1,1)) | P16: =IF(P$9="","",OFFSET(monthFirst,ROW()-ROW(P$9),DAY(P$9)-1,1,1)) | R16: =IF(S$9="","",OFFSET(monthFirst,16+ROW()-ROW(S$9),DAY(S$9)-1,1,1)) | S16: =IF(S$9="","",OFFSET(monthFirst,ROW()-ROW(S$9),DAY(S$9)-1,1,1)) | U16: =IF(V$9="","",OFFSET(monthFirst,16+ROW()-ROW(V$9),DAY(V$9)-1,1,1)) | V16: =IF(V$9="","",OFFSET(monthFirst,ROW()-ROW(V$9),DAY(V$9)-1,1,1))
C17: =IF(D$9="","",OFFSET(monthFirst,16+ROW()-ROW(D$9),DAY(D$9)-1,1,1)) | D17: =IF(D$9="","",OFFSET(monthFirst,ROW()-ROW(D$9),DAY(D$9)-1,1,1)) | F17: =IF(G$9="","",OFFSET(monthFirst,16+ROW()-ROW(G$9),DAY(G$9)-1,1,1)) | G17: =IF(G$9="","",OFFSET(monthFirst,ROW()-ROW(G$9),DAY(G$9)-1,1,1)) | I17: =IF(J$9="","",OFFSET(monthFirst,16+ROW()-ROW(J$9),DAY(J$9)-1,1,1)) | J17: =IF(J$9="","",OFFSET(monthFirst,ROW()-ROW(J$9),DAY(J$9)-1,1,1)) | L17: =IF(M$9="","",OFFSET(monthFirst,16+ROW()-ROW(M$9),DAY(M$9)-1,1,1)) | M17: =IF(M$9="","",OFFSET(monthFirst,ROW()-ROW(M$9),DAY(M$9)-1,1,1)) | O17: =IF(P$9="","",OFFSET(monthFirst,16+ROW()-ROW(P$9),DAY(P$9)-1,1,1)) | P17: =IF(P$9="","",OFFSET(monthFirst,ROW()-ROW(P$9),DAY(P$9)-1,1,1)) | R17: =IF(S$9="","",OFFSET(monthFirst,16+ROW()-ROW(S$9),DAY(S$9)-1,1,1)) | S17: =IF(S$9="","",OFFSET(monthFirst,ROW()-ROW(S$9),DAY(S$9)-1,1,1)) | U17: =IF(V$9="","",OFFSET(monthFirst,16+ROW()-ROW(V$9),DAY(V$9)-1,1,1)) | V17: =IF(V$9="","",OFFSET(monthFirst,ROW()-ROW(V$9),DAY(V$9)-1,1,1))
C18: =IF(D$9="","",OFFSET(monthFirst,16+ROW()-ROW(D$9),DAY(D$9)-1,1,1)) | D18: =IF(D$9="","",OFFSET(monthFirst,ROW()-ROW(D$9),DAY(D$9)-1,1,1)) | F18: =IF(G$9="","",OFFSET(monthFirst,16+ROW()-ROW(G$9),DAY(G$9)-1,1,1)) | G18: =IF(G$9="","",OFFSET(monthFirst,ROW()-ROW(G$9),DAY(G$9)-1,1,1)) | I18: =IF(J$9="","",OFFSET(monthFirst,16+ROW()-ROW(J$9),DAY(J$9)-1,1,1)) | J18: =IF(J$9="","",OFFSET(monthFirst,ROW()-ROW(J$9),DAY(J$9)-1,1,1)) | L18: =IF(M$9="","",OFFSET(monthFirst,16+ROW()-ROW(M$9),DAY(M$9)-1,1,1)) | M18: =IF(M$9="","",OFFSET(monthFirst,ROW()-ROW(M$9),DAY(M$9)-1,1,1)) | O18: =IF(P$9="","",OFFSET(monthFirst,16+ROW()-ROW(P$9),DAY(P$9)-1,1,1)) | P18: =IF(P$9="","",OFFSET(monthFirst,ROW()-ROW(P$9),DAY(P$9)-1,1,1)) | R18: =IF(S$9="","",OFFSET(monthFirst,16+ROW()-ROW(S$9),DAY(S$9)-1,1,1)) | S18: =IF(S$9="","",OFFSET(monthFirst,ROW()-ROW(S$9),DAY(S$9)-1,1,1)) | U18: =IF(V$9="","",OFFSET(monthFirst,16+ROW()-ROW(V$9),DAY(V$9)-1,1,1)) | V18: =IF(V$9="","",OFFSET(monthFirst,ROW()-ROW(V$9),DAY(V$9)-1,1,1))
C19: =IF(D$9="","",OFFSET(monthFirst,16+ROW()-ROW(D$9),DAY(D$9)-1,1,1)) | D19: =IF(D$9="","",OFFSET(monthFirst,ROW()-ROW(D$9),DAY(D$9)-1,1,1)) | F19: =IF(G$9="","",OFFSET(monthFirst,16+ROW()-ROW(G$9),DAY(G$9)-1,1,1)) | G19: =IF(G$9="","",OFFSET(monthFirst,ROW()-ROW(G$9),DAY(G$9)-1,1,1)) | I19: =IF(J$9="","",OFFSET(monthFirst,16+ROW()-ROW(J$9),DAY(J$9)-1,1,1)) | J19: =IF(J$9="","",OFFSET(monthFirst,ROW()-ROW(J$9),DAY(J$9)-1,1,1)) | L19: =IF(M$9="","",OFFSET(monthFirst,16+ROW()-ROW(M$9),DAY(M$9)-1,1,1)) | M19: =IF(M$9="","",OFFSET(monthFirst,ROW()-ROW(M$9),DAY(M$9)-1,1,1)) | O19: =IF(P$9="","",OFFSET(monthFirst,16+ROW()-ROW(P$9),DAY(P$9)-1,1,1)) | P19: =IF(P$9="","",OFFSET(monthFirst,ROW()-ROW(P$9),DAY(P$9)-1,1,1)) | R19: =IF(S$9="","",OFFSET(monthFirst,16+ROW()-ROW(S$9),DAY(S$9)-1,1,1)) | S19: =IF(S$9="","",OFFSET(monthFirst,ROW()-ROW(S$9),DAY(S$9)-1,1,1)) | U19: =IF(V$9="","",OFFSET(monthFirst,16+ROW()-ROW(V$9),DAY(V$9)-1,1,1)) | V19: =IF(V$9="","",OFFSET(monthFirst,ROW()-ROW(V$9),DAY(V$9)-1,1,1))
C20: =IF(D$9="","",OFFSET(monthFirst,16+ROW()-ROW(D$9),DAY(D$9)-1,1,1)) | D20: =IF(D$9="","",OFFSET(monthFirst,ROW()-ROW(D$9),DAY(D$9)-1,1,1)) | F20: =IF(G$9="","",OFFSET(monthFirst,16+ROW()-ROW(G$9),DAY(G$9)-1,1,1)) | G20: =IF(G$9="","",OFFSET(monthFirst,ROW()-ROW(G$9),DAY(G$9)-1,1,1)) | I20: =IF(J$9="","",OFFSET(monthFirst,16+ROW()-ROW(J$9),DAY(J$9)-1,1,1)) | J20: =IF(J$9="","",OFFSET(monthFirst,ROW()-ROW(J$9),DAY(J$9)-1,1,1)) | L20: =IF(M$9="","",OFFSET(monthFirst,16+ROW()-ROW(M$9),DAY(M$9)-1,1,1)) | M20: =IF(M$9="","",OFFSET(monthFirst,ROW()-ROW(M$9),DAY(M$9)-1,1,1)) | O20: =IF(P$9="","",OFFSET(monthFirst,16+ROW()-ROW(P$9),DAY(P$9)-1,1,1)) | P20: =IF(P$9="","",OFFSET(monthFirst,ROW()-ROW(P$9),DAY(P$9)-1,1,1)) | R20: =IF(S$9="","",OFFSET(monthFirst,16+ROW()-ROW(S$9),DAY(S$9)-1,1,1)) | S20: =IF(S$9="","",OFFSET(monthFirst,ROW()-ROW(S$9),DAY(S$9)-1,1,1)) | U20: =IF(V$9="","",OFFSET(monthFirst,16+ROW()-ROW(V$9),DAY(V$9)-1,1,1)) | V20: =IF(V$9="","",OFFSET(monthFirst,ROW()-ROW(V$9),DAY(V$9)-1,1,1))
C21: =IF(D$9="","",OFFSET(monthFirst,16+ROW()-ROW(D$9),DAY(D$9)-1,1,1)) | D21: =IF(D$9="","",OFFSET(monthFirst,ROW()-ROW(D$9),DAY(D$9)-1,1,1)) | F21: =IF(G$9="","",OFFSET(monthFirst,16+ROW()-ROW(G$9),DAY(G$9)-1,1,1)) | G21: =IF(G$9="","",OFFSET(monthFirst,ROW()-ROW(G$9),DAY(G$9)-1,1,1)) | I21: =IF(J$9="","",OFFSET(monthFirst,16+ROW()-ROW(J$9),DAY(J$9)-1,1,1)) | J21: =IF(J$9="","",OFFSET(monthFirst,ROW()-ROW(J$9),DAY(J$9)-1,1,1)) | L21: =IF(M$9="","",OFFSET(monthFirst,16+ROW()-ROW(M$9),DAY(M$9)-1,1,1)) | M21: =IF(M$9="","",OFFSET(monthFirst,ROW()-ROW(M$9),DAY(M$9)-1,1,1)) | O21: =IF(P$9="","",OFFSET(monthFirst,16+ROW()-ROW(P$9),DAY(P$9)-1,1,1)) | P21: =IF(P$9="","",OFFSET(monthFirst,ROW()-ROW(P$9),DAY(P$9)-1,1,1)) | R21: =IF(S$9="","",OFFSET(monthFirst,16+ROW()-ROW(S$9),DAY(S$9)-1,1,1)) | S21: =IF(S$9="","",OFFSET(monthFirst,ROW()-ROW(S$9),DAY(S$9)-1,1,1)) | U21: =IF(V$9="","",OFFSET(monthFirst,16+ROW()-ROW(V$9),DAY(V$9)-1,1,1)) | V21: =IF(V$9="","",OFFSET(monthFirst,ROW()-ROW(V$9),DAY(V$9)-1,1,1))
... C25: =IF(D$9="","",OFFSET(monthFirst,16+ROW()-ROW(D$9),DAY(D$9)-1,1,1)) | D25: =IF(D$9="","",OFFSET(monthFirst,ROW()-ROW(D$9),DAY(D$9)-1,1,1)) | F25: =IF(G$9="","",OFFSET(monthFirst,16+ROW()-ROW(G$9),DAY(G$9)-1,1,1)) | G25: =IF(G$9="","",OFFSET(monthFirst,ROW()-ROW(G$9),DAY(G$9)-1,1,1)) | I25: =IF(J$9="","",OFFSET(monthFirst,16+ROW()-ROW(J$9),DAY(J$9)-1,1,1)) | J25: =IF(J$9="","",OFFSET(monthFirst,ROW()-ROW(J$9),DAY(J$9)-1,1,1)) | L25: =IF(M$9="","",OFFSET(monthFirst,16+ROW()-ROW(M$9),DAY(M$9)-1,1,1)) | M25: =IF(M$9="","",OFFSET(monthFirst,ROW()-ROW(M$9),DAY(M$9)-1,1,1)) | O25: =IF(P$9="","",OFFSET(monthFirst,16+ROW()-ROW(P$9),DAY(P$9)-1,1,1)) | P25: =IF(P$9="","",OFFSET(monthFirst,ROW()-ROW(P$9),DAY(P$9)-1,1,1)) | R25: =IF(S$9="","",OFFSET(monthFirst,16+ROW()-ROW(S$9),DAY(S$9)-1,1,1)) | S25: =IF(S$9="","",OFFSET(monthFirst,ROW()-ROW(S$9),DAY(S$9)-1,1,1)) | U25: =IF(V$9="","",OFFSET(monthFirst,16+ROW()-ROW(V$9),DAY(V$9)-1,1,1)) | V25: =IF(V$9="","",OFFSET(monthFirst,ROW()-ROW(V$9),DAY(V$9)-1,1,1))
D27: =IFERROR(V9+1,"") -> 45054 | G27: =IFERROR(D27+1,"") -> 45055 | J27: =IFERROR(G27+1,"") -> 45056 | M27: =IFERROR(J27+1,"") -> 45057 | P27: =IFERROR(M27+1,"") -> 45058 | S27: =IFERROR(P27+1,"") -> 45059 | V27: =IFERROR(S27+1,"") -> 45060
C28: =IF(D$27="","",OFFSET(monthFirst,16+ROW()-ROW(D$27),DAY(D$27)-1,1,1)) | D28: =IF(D$27="","",OFFSET(monthFirst,ROW()-ROW(D$27),DAY(D$27)-1,1,1)) | F28: =IF(G$27="","",OFFSET(monthFirst,16+ROW()-ROW(G$27),DAY(G$27)-1,1,1)) | G28: =IF(G$27="","",OFFSET(monthFirst,ROW()-ROW(G$27),DAY(G$27)-1,1,1)) | I28: =IF(J$27="","",OFFSET(monthFirst,16+ROW()-ROW(J$27),DAY(J$27)-1,1,1)) | J28: =IF(J$27="","",OFFSET(monthFirst,ROW()-ROW(J$27),DAY(J$27)-1,1,1)) | L28: =IF(M$27="","",OFFSET(monthFirst,16+ROW()-ROW(M$27),DAY(M$27)-1,1,1)) | M28: =IF(M$27="","",OFFSET(monthFirst,ROW()-ROW(M$27),DAY(M$27)-1,1,1)) | O28: =IF(P$27="","",OFFSET(monthFirst,16+ROW()-ROW(P$27),DAY(P$27)-1,1,1)) | P28: =IF(P$27="","",OFFSET(monthFirst,ROW()-ROW(P$27),DAY(P$27)-1,1,1)) | R28: =IF(S$27="","",OFFSET(monthFirst,16+ROW()-ROW(S$27),DAY(S$27)-1,1,1)) | S28: =IF(S$27="","",OFFSET(monthFirst,ROW()-ROW(S$27),DAY(S$27)-1,1,1)) | U28: =IF(V$27="","",OFFSET(monthFirst,16+ROW()-ROW(V$27),DAY(V$27)-1,1,1)) -> Birthday | V28: =IF(V$27="","",OFFSET(monthFirst,ROW()-ROW(V$27),DAY(V$27)-1,1,1)) -> Birthday Party - 14:00
C29: =IF(D$27="","",OFFSET(monthFirst,16+ROW()-ROW(D$27),DAY(D$27)-1,1,1)) | D29: =IF(D$27="","",OFFSET(monthFirst,ROW()-ROW(D$27),DAY(D$27)-1,1,1)) | F29: =IF(G$27="","",OFFSET(monthFirst,16+ROW()-ROW(G$27),DAY(G$27)-1,1,1)) | G29: =IF(G$27="","",OFFSET(monthFirst,ROW()-ROW(G$27),DAY(G$27)-1,1,1)) | I29: =IF(J$27="","",OFFSET(monthFirst,16+ROW()-ROW(J$27),DAY(J$27)-1,1,1)) | J29: =IF(J$27="","",OFFSET(monthFirst,ROW()-ROW(J$27),DAY(J$27)-1,1,1)) | L29: =IF(M$27="","",OFFSET(monthFirst,16+ROW()-ROW(M$27),DAY(M$27)-1,1,1)) | M29: =IF(M$27="","",OFFSET(monthFirst,ROW()-ROW(M$27),DAY(M$27)-1,1,1)) | O29: =IF(P$27="","",OFFSET(monthFirst,16+ROW()-ROW(P$27),DAY(P$27)-1,1,1)) | P29: =IF(P$27="","",OFFSET(monthFirst,ROW()-ROW(P$27),DAY(P$27)-1,1,1)) | R29: =IF(S$27="","",OFFSET(monthFirst,16+ROW()-ROW(S$27),DAY(S$27)-1,1,1)) | S29: =IF(S$27="","",OFFSET(monthFirst,ROW()-ROW(S$27),DAY(S$27)-1,1,1)) | U29: =IF(V$27="","",OFFSET(monthFirst,16+ROW()-ROW(V$27),DAY(V$27)-1,1,1)) -> Call | V29: =IF(V$27="","",OFFSET(monthFirst,ROW()-ROW(V$27),DAY(V$27)-1,1,1)) -> Team Call - 14:30
C30: =IF(D$27="","",OFFSET(monthFirst,16+ROW()-ROW(D$27),DAY(D$27)-1,1,1)) | D30: =IF(D$27="","",OFFSET(monthFirst,ROW()-ROW(D$27),DAY(D$27)-1,1,1)) | F30: =IF(G$27="","",OFFSET(monthFirst,16+ROW()-ROW(G$27),DAY(G$27)-1,1,1)) | G30: =IF(G$27="","",OFFSET(monthFirst,ROW()-ROW(G$27),DAY(G$27)-1,1,1)) | I30: =IF(J$27="","",OFFSET(monthFirst,16+ROW()-ROW(J$27),DAY(J$27)-1,1,1)) | J30: =IF(J$27="","",OFFSET(monthFirst,ROW()-ROW(J$27),DAY(J$27)-1,1,1)) | L30: =IF(M$27="","",OFFSET(monthFirst,16+ROW()-ROW(M$27),DAY(M$27)-1,1,1)) | M30: =IF(M$27="","",OFFSET(monthFirst,ROW()-ROW(M$27),DAY(M$27)-1,1,1)) | O30: =IF(P$27="","",OFFSET(monthFirst,16+ROW()-ROW(P$27),DAY(P$27)-1,1,1)) | P30: =IF(P$27="","",OFFSET(monthFirst,ROW()-ROW(P$27),DAY(P$27)-1,1,1)) | R30: =IF(S$27="","",OFFSET(monthFirst,16+ROW()-ROW(S$27),DAY(S$27)-1,1,1)) | S30: =IF(S$27="","",OFFSET(monthFirst,ROW()-ROW(S$27),DAY(S$27)-1,1,1)) | U30: =IF(V$27="","",OFFSET(monthFirst,16+ROW()-ROW(V$27),DAY(V$27)-1,1,1)) | V30: =IF(V$27="","",OFFSET(monthFirst,ROW()-ROW(V$27),DAY(V$27)-1,1,1))
C31: =IF(D$27="","",OFFSET(monthFirst,16+ROW()-ROW(D$27),DAY(D$27)-1,1,1)) | D31: =IF(D$27="","",OFFSET(monthFirst,ROW()-ROW(D$27),DAY(D$27)-1,1,1)) | F31: =IF(G$27="","",OFFSET(monthFirst,16+ROW()-ROW(G$27),DAY(G$27)-1,1,1)) | G31: =IF(G$27="","",OFFSET(monthFirst,ROW()-ROW(G$27),DAY(G$27)-1,1,1)) | I31: =IF(J$27="","",OFFSET(monthFirst,16+ROW()-ROW(J$27),DAY(J$27)-1,1,1)) | J31: =IF(J$27="","",OFFSET(monthFirst,ROW()-ROW(J$27),DAY(J$27)-1,1,1)) | L31: =IF(M$27="","",OFFSET(monthFirst,16+ROW()-ROW(M$27),DAY(M$27)-1,1,1)) | M31: =IF(M$27="","",OFFSET(monthFirst,ROW()-ROW(M$27),DAY(M$27)-1,1,1)) | O31: =IF(P$27="","",OFFSET(monthFirst,16+ROW()-ROW(P$27),DAY(P$27)-1,1,1)) | P31: =IF(P$27="","",OFFSET(monthFirst,ROW()-ROW(P$27),DAY(P$27)-1,1,1)) | R31: =IF(S$27="","",OFFSET(monthFirst,16+ROW()-ROW(S$27),DAY(S$27)-1,1,1)) | S31: =IF(S$27="","",OFFSET(monthFirst,ROW()-ROW(S$27),DAY(S$27)-1,1,1)) | U31: =IF(V$27="","",OFFSET(monthFirst,16+ROW()-ROW(V$27),DAY(V$27)-1,1,1)) | V31: =IF(V$27="","",OFFSET(monthFirst,ROW()-ROW(V$27),DAY(V$27)-1,1,1))
C32: =IF(D$27="","",OFFSET(monthFirst,16+ROW()-ROW(D$27),DAY(D$27)-1,1,1)) | D32: =IF(D$27="","",OFFSET(monthFirst,ROW()-ROW(D$27),DAY(D$27)-1,1,1)) | F32: =IF(G$27="","",OFFSET(monthFirst,16+ROW()-ROW(G$27),DAY(G$27)-1,1,1)) | G32: =IF(G$27="","",OFFSET(monthFirst,ROW()-ROW(G$27),DAY(G$27)-1,1,1)) | I32: =IF(J$27="","",OFFSET(monthFirst,16+ROW()-ROW(J$27),DAY(J$27)-1,1,1)) | J32: =IF(J$27="","",OFFSET(monthFirst,ROW()-ROW(J$27),DAY(J$27)-1,1,1)) | L32: =IF(M$27="","",OFFSET(monthFirst,16+ROW()-ROW(M$27),DAY(M$27)-1,1,1)) | M32: =IF(M$27="","",OFFSET(monthFirst,ROW()-ROW(M$27),DAY(M$27)-1,1,1)) | O32: =IF(P$27="","",OFFSET(monthFirst,16+ROW()-ROW(P$27),DAY(P$27)-1,1,1)) | P32: =IF(P$27="","",OFFSET(monthFirst,ROW()-ROW(P$27),DAY(P$27)-1,1,1)) | R32: =IF(S$27="","",OFFSET(monthFirst,16+ROW()-ROW(S$27),DAY(S$27)-1,1,1)) | S32: =IF(S$27="","",OFFSET(monthFirst,ROW()-ROW(S$27),DAY(S$27)-1,1,1)) | U32: =IF(V$27="","",OFFSET(monthFirst,16+ROW()-ROW(V$27),DAY(V$27)-1,1,1)) | V32: =IF(V$27="","",OFFSET(monthFirst,ROW()-ROW(V$27),DAY(V$27)-1,1,1))
C33: =IF(D$27="","",OFFSET(monthFirst,16+ROW()-ROW(D$27),DAY(D$27)-1,1,1)) | D33: =IF(D$27="","",OFFSET(monthFirst,ROW()-ROW(D$27),DAY(D$27)-1,1,1)) | F33: =IF(G$27="","",OFFSET(monthFirst,16+ROW()-ROW(G$27),DAY(G$27)-1,1,1)) | G33: =IF(G$27="","",OFFSET(monthFirst,ROW()-ROW(G$27),DAY(G$27)-1,1,1)) | I33: =IF(J$27="","",OFFSET(monthFirst,16+ROW()-ROW(J$27),DAY(J$27)-1,1,1)) | J33: =IF(J$27="","",OFFSET(monthFirst,ROW()-ROW(J$27),DAY(J$27)-1,1,1)) | L33: =IF(M$27="","",OFFSET(monthFirst,16+ROW()-ROW(M$27),DAY(M$27)-1,1,1)) | M33: =IF(M$27="","",OFFSET(monthFirst,ROW()-ROW(M$27),DAY(M$27)-1,1,1)) | O33: =IF(P$27="","",OFFSET(monthFirst,16+ROW()-ROW(P$27),DAY(P$27)-1,1,1)) | P33: =IF(P$27="","",OFFSET(monthFirst,ROW()-ROW(P$27),DAY(P$27)-1,1,1)) | R33: =IF(S$27="","",OFFSET(monthFirst,16+ROW()-ROW(S$27),DAY(S$27)-1,1,1)) | S33: =IF(S$27="","",OFFSET(monthFirst,ROW()-ROW(S$27),DAY(S$27)-1,1,1)) | U33: =IF(V$27="","",OFFSET(monthFirst,16+ROW()-ROW(V$27),DAY(V$27)-1,1,1)) | V33: =IF(V$27="","",OFFSET(monthFirst,ROW()-ROW(V$27),DAY(V$27)-1,1,1))
C34: =IF(D$27="","",OFFSET(monthFirst,16+ROW()-ROW(D$27),DAY(D$27)-1,1,1)) | D34: =IF(D$27="","",OFFSET(monthFirst,ROW()-ROW(D$27),DAY(D$27)-1,1,1)) | F34: =IF(G$27="","",OFFSET(monthFirst,16+ROW()-ROW(G$27),DAY(G$27)-1,1,1)) | G34: =IF(G$27="","",OFFSET(monthFirst,ROW()-ROW(G$27),DAY(G$27)-1,1,1)) | I34: =IF(J$27="","",OFFSET(monthFirst,16+ROW()-ROW(J$27),DAY(J$27)-1,1,1)) | J34: =IF(J$27="","",OFFSET(monthFirst,ROW()-ROW(J$27),DAY(J$27)-1,1,1)) | L34: =IF(M$27="","",OFFSET(monthFirst,16+ROW()-ROW(M$27),DAY(M$27)-1,1,1)) | M34: =IF(M$27="","",OFFSET(monthFirst,ROW()-ROW(M$27),DAY(M$27)-1,1,1)) | O34: =IF(P$27="","",OFFSET(monthFirst,16+ROW()-ROW(P$27),DAY(P$27)-1,1,1)) | P34: =IF(P$27="","",OFFSET(monthFirst,ROW()-ROW(P$27),DAY(P$27)-1,1,1)) | R34: =IF(S$27="","",OFFSET(monthFirst,16+ROW()-ROW(S$27),DAY(S$27)-1,1,1)) | S34: =IF(S$27="","",OFFSET(monthFirst,ROW()-ROW(S$27),DAY(S$27)-1,1,1)) | U34: =IF(V$27="","",OFFSET(monthFirst,16+ROW()-ROW(V$27),DAY(V$27)-1,1,1)) | V34: =IF(V$27="","",OFFSET(monthFirst,ROW()-ROW(V$27),DAY(V$27)-1,1,1))
C35: =IF(D$27="","",OFFSET(monthFirst,16+ROW()-ROW(D$27),DAY(D$27)-1,1,1)) | D35: =IF(D$27="","",OFFSET(monthFirst,ROW()-ROW(D$27),DAY(D$27)-1,1,1)) | F35: =IF(G$27="","",OFFSET(monthFirst,16+ROW()-ROW(G$27),DAY(G$27)-1,1,1)) | G35: =IF(G$27="","",OFFSET(monthFirst,ROW()-ROW(G$27),DAY(G$27)-1,1,1)) | I35: =IF(J$27="","",OFFSET(monthFirst,16+ROW()-ROW(J$27),DAY(J$27)-1,1,1)) | J35: =IF(J$27="","",OFFSET(monthFirst,ROW()-ROW(J$27),DAY(J$27)-1,1,1)) | L35: =IF(M$27="","",OFFSET(monthFirst,16+ROW()-ROW(M$27),DAY(M$27)-1,1,1)) | M35: =IF(M$27="","",OFFSET(monthFirst,ROW()-ROW(M$27),DAY(M$27)-1,1,1)) | O35: =IF(P$27="","",OFFSET(monthFirst,16+ROW()-ROW(P$27),DAY(P$27)-1,1,1)) | P35: =IF(P$27="","",OFFSET(monthFirst,ROW()-ROW(P$27),DAY(P$27)-1,1,1)) | R35: =IF(S$27="","",OFFSET(monthFirst,16+ROW()-ROW(S$27),DAY(S$27)-1,1,1)) | S35: =IF(S$27="","",OFFSET(monthFirst,ROW()-ROW(S$27),DAY(S$27)-1,1,1)) | U35: =IF(V$27="","",OFFSET(monthFirst,16+ROW()-ROW(V$27),DAY(V$27)-1,1,1)) | V35: =IF(V$27="","",OFFSET(monthFirst,ROW()-ROW(V$27),DAY(V$27)-1,1,1))
C36: =IF(D$27="","",OFFSET(monthFirst,16+ROW()-ROW(D$27),DAY(D$27)-1,1,1)) | D36: =IF(D$27="","",OFFSET(monthFirst,ROW()-ROW(D$27),DAY(D$27)-1,1,1)) | F36: =IF(G$27="","",OFFSET(monthFirst,16+ROW()-ROW(G$27),DAY(G$27)-1,1,1)) | G36: =IF(G$27="","",OFFSET(monthFirst,ROW()-ROW(G$27),DAY(G$27)-1,1,1)) | I36: =IF(J$27="","",OFFSET(monthFirst,16+ROW()-ROW(J$27),DAY(J$27)-1,1,1)) | J36: =IF(J$27="","",OFFSET(monthFirst,ROW()-ROW(J$27),DAY(J$27)-1,1,1)) | L36: =IF(M$27="","",OFFSET(monthFirst,16+ROW()-ROW(M$27),DAY(M$27)-1,1,1)) | M36: =IF(M$27="","",OFFSET(monthFirst,ROW()-ROW(M$27),DAY(M$27)-1,1,1)) | O36: =IF(P$27="","",OFFSET(monthFirst,16+ROW()-ROW(P$27),DAY(P$27)-1,1,1)) | P36: =IF(P$27="","",OFFSET(monthFirst,ROW()-ROW(P$27),DAY(P$27)-1,1,1)) | R36: =IF(S$27="","",OFFSET(monthFirst,16+ROW()-ROW(S$27),DAY(S$27)-1,1,1)) | S36: =IF(S$27="","",OFFSET(monthFirst,ROW()-ROW(S$27),DAY(S$27)-1,1,1)) | U36: =IF(V$27="","",OFFSET(monthFirst,16+ROW()-ROW(V$27),DAY(V$27)-1,1,1)) | V36: =IF(V$27="","",OFFSET(monthFirst,ROW()-ROW(V$27),DAY(V$27)-1,1,1))
C37: =IF(D$27="","",OFFSET(monthFirst,16+ROW()-ROW(D$27),DAY(D$27)-1,1,1)) | D37: =IF(D$27="","",OFFSET(monthFirst,ROW()-ROW(D$27),DAY(D$27)-1,1,1)) | F37: =IF(G$27="","",OFFSET(monthFirst,16+ROW()-ROW(G$27),DAY(G$27)-1,1,1)) | G37: =IF(G$27="","",OFFSET(monthFirst,ROW()-ROW(G$27),DAY(G$27)-1,1,1)) | I37: =IF(J$27="","",OFFSET(monthFirst,16+ROW()-ROW(J$27),DAY(J$27)-1,1,1)) | J37: =IF(J$27="","",OFFSET(monthFirst,ROW()-ROW(J$27),DAY(J$27)-1,1,1)) | L37: =IF(M$27="","",OFFSET(monthFirst,16+ROW()-ROW(M$27),DAY(M$27)-1,1,1)) | M37: =IF(M$27="","",OFFSET(monthFirst,ROW()-ROW(M$27),DAY(M$27)-1,1,1)) | O37: =IF(P$27="","",OFFSET(monthFirst,16+ROW()-ROW(P$27),DAY(P$27)-1,1,1)) | P37: =IF(P$27="","",OFFSET(monthFirst,ROW()-ROW(P$27),DAY(P$27)-1,1,1)) | R37: =IF(S$27="","",OFFSET(monthFirst,16+ROW()-ROW(S$27),DAY(S$27)-1,1,1)) | S37: =IF(S$27="","",OFFSET(monthFirst,ROW()-ROW(S$27),DAY(S$27)-1,1,1)) | U37: =IF(V$27="","",OFFSET(monthFirst,16+ROW()-ROW(V$27),DAY(V$27)-1,1,1)) | V37: =IF(V$27="","",OFFSET(monthFirst,ROW()-ROW(V$27),DAY(V$27)-1,1,1))
C38: =IF(D$27="","",OFFSET(monthFirst,16+ROW()-ROW(D$27),DAY(D$27)-1,1,1)) | D38: =IF(D$27="","",OFFSET(monthFirst,ROW()-ROW(D$27),DAY(D$27)-1,1,1)) | F38: =IF(G$27="","",OFFSET(monthFirst,16+ROW()-ROW(G$27),DAY(G$27)-1,1,1)) | G38: =IF(G$27="","",OFFSET(monthFirst,ROW()-ROW(G$27),DAY(G$27)-1,1,1)) | I38: =IF(J$27="","",OFFSET(monthFirst,16+ROW()-ROW(J$27),DAY(J$27)-1,1,1)) | J38: =IF(J$27="","",OFFSET(monthFirst,ROW()-ROW(J$27),DAY(J$27)-1,1,1)) | L38: =IF(M$27="","",OFFSET(monthFirst,16+ROW()-ROW(M$27),DAY(M$27)-1,1,1)) | M38: =IF(M$27="","",OFFSET(monthFirst,ROW()-ROW(M$27),DAY(M$27)-1,1,1)) | O38: =IF(P$27="","",OFFSET(monthFirst,16+ROW()-ROW(P$27),DAY(P$27)-1,1,1)) | P38: =IF(P$27="","",OFFSET(monthFirst,ROW()-ROW(P$27),DAY(P$27)-1,1,1)) | R38: =IF(S$27="","",OFFSET(monthFirst,16+ROW()-ROW(S$27),DAY(S$27)-1,1,1)) | S38: =IF(S$27="","",OFFSET(monthFirst,ROW()-ROW(S$27),DAY(S$27)-1,1,1)) | U38: =IF(V$27="","",OFFSET(monthFirst,16+ROW()-ROW(V$27),DAY(V$27)-1,1,1)) | V38: =IF(V$27="","",OFFSET(monthFirst,ROW()-ROW(V$27),DAY(V$27)-1,1,1))
C39: =IF(D$27="","",OFFSET(monthFirst,16+ROW()-ROW(D$27),DAY(D$27)-1,1,1)) | D39: =IF(D$27="","",OFFSET(monthFirst,ROW()-ROW(D$27),DAY(D$27)-1,1,1)) | F39: =IF(G$27="","",OFFSET(monthFirst,16+ROW()-ROW(G$27),DAY(G$27)-1,1,1)) | G39: =IF(G$27="","",OFFSET(monthFirst,ROW()-ROW(G$27),DAY(G$27)-1,1,1)) | I39: =IF(J$27="","",OFFSET(monthFirst,16+ROW()-ROW(J$27),DAY(J$27)-1,1,1)) | J39: =IF(J$27="","",OFFSET(monthFirst,ROW()-ROW(J$27),DAY(J$27)-1,1,1)) | L39: =IF(M$27="","",OFFSET(monthFirst,16+ROW()-ROW(M$27),DAY(M$27)-1,1,1)) | M39: =IF(M$27="","",OFFSET(monthFirst,ROW()-ROW(M$27),DAY(M$27)-1,1,1)) | O39: =IF(P$27="","",OFFSET(monthFirst,16+ROW()-ROW(P$27),DAY(P$27)-1,1,1)) | P39: =IF(P$27="","",OFFSET(monthFirst,ROW()-ROW(P$27),DAY(P$27)-1,1,1)) | R39: =IF(S$27="","",OFFSET(monthFirst,16+ROW()-ROW(S$27),DAY(S$27)-1,1,1)) | S39: =IF(S$27="","",OFFSET(monthFirst,ROW()-ROW(S$27),DAY(S$27)-1,1,1)) | U39: =IF(V$27="","",OFFSET(monthFirst,16+ROW()-ROW(V$27),DAY(V$27)-1,1,1)) | V39: =IF(V$27="","",OFFSET(monthFirst,ROW()-ROW(V$27),DAY(V$27)-1,1,1))
... C43: =IF(D$27="","",OFFSET(monthFirst,16+ROW()-ROW(D$27),DAY(D$27)-1,1,1)) | D43: =IF(D$27="","",OFFSET(monthFirst,ROW()-ROW(D$27),DAY(D$27)-1,1,1)) | F43: =IF(G$27="","",OFFSET(monthFirst,16+ROW()-ROW(G$27),DAY(G$27)-1,1,1)) | G43: =IF(G$27="","",OFFSET(monthFirst,ROW()-ROW(G$27),DAY(G$27)-1,1,1)) | I43: =IF(J$27="","",OFFSET(monthFirst,16+ROW()-ROW(J$27),DAY(J$27)-1,1,1)) | J43: =IF(J$27="","",OFFSET(monthFirst,ROW()-ROW(J$27),DAY(J$27)-1,1,1)) | L43: =IF(M$27="","",OFFSET(monthFirst,16+ROW()-ROW(M$27),DAY(M$27)-1,1,1)) | M43: =IF(M$27="","",OFFSET(monthFirst,ROW()-ROW(M$27),DAY(M$27)-1,1,1)) | O43: =IF(P$27="","",OFFSET(monthFirst,16+ROW()-ROW(P$27),DAY(P$27)-1,1,1)) | P43: =IF(P$27="","",OFFSET(monthFirst,ROW()-ROW(P$27),DAY(P$27)-1,1,1)) | R43: =IF(S$27="","",OFFSET(monthFirst,16+ROW()-ROW(S$27),DAY(S$27)-1,1,1)) | S43: =IF(S$27="","",OFFSET(monthFirst,ROW()-ROW(S$27),DAY(S$27)-1,1,1)) | U43: =IF(V$27="","",OFFSET(monthFirst,16+ROW()-ROW(V$27),DAY(V$27)-1,1,1)) | V43: =IF(V$27="","",OFFSET(monthFirst,ROW()-ROW(V$27),DAY(V$27)-1,1,1))
D45: =IFERROR(V27+1,"") -> 45061 | G45: =IFERROR(D45+1,"") -> 45062 | J45: =IFERROR(G45+1,"") -> 45063 | M45: =IFERROR(J45+1,"") -> 45064 | P45: =IFERROR(M45+1,"") -> 45065 | S45: =IFERROR(P45+1,"") -> 45066 | V45: =IFERROR(S45+1,"") -> 45067
C46: =IF(D$45="","",OFFSET(monthFirst,16+ROW()-ROW(D$45),DAY(D$45)-1,1,1)) -> Meeting | D46: =IF(D$45="","",OFFSET(monthFirst,ROW()-ROW(D$45),DAY(D$45)-1,1,1)) -> Meeting with Lisa - 11:30 | F46: =IF(G$45="","",OFFSET(monthFirst,16+ROW()-ROW(G$45),DAY(G$45)-1,1,1)) -> Reminder | G46: =IF(G$45="","",OFFSET(monthFirst,ROW()-ROW(G$45),DAY(G$45)-1,1,1)) -> Reminder: Dentist - 10:00 | I46: =IF(J$45="","",OFFSET(monthFirst,16+ROW()-ROW(J$45),DAY(J$45)-1,1,1)) -> Meeting | J46: =IF(J$45="","",OFFSET(monthFirst,ROW()-ROW(J$45),DAY(J$45)-1,1,1)) -> Meeting with John - All day | L46: =IF(M$45="","",OFFSET(monthFirst,16+ROW()-ROW(M$45),DAY(M$45)-1,1,1)) | M46: =IF(M$45="","",OFFSET(monthFirst,ROW()-ROW(M$45),DAY(M$45)-1,1,1)) | O46: =IF(P$45="","",OFFSET(monthFirst,16+ROW()-ROW(P$45),DAY(P$45)-1,1,1)) -> Reminder | P46: =IF(P$45="","",OFFSET(monthFirst,ROW()-ROW(P$45),DAY(P$45)-1,1,1)) -> Bank Holiday - All day | R46: =IF(S$45="","",OFFSET(monthFirst,16+ROW()-ROW(S$45),DAY(S$45)-1,1,1)) -> Day off | S46: =IF(S$45="","",OFFSET(monthFirst,ROW()-ROW(S$45),DAY(S$45)-1,1,1)) -> Day Off - All day | U46: =IF(V$45="","",OFFSET(monthFirst,16+ROW()-ROW(V$45),DAY(V$45)-1,1,1)) -> Reminder | V46: =IF(V$45="","",OFFSET(monthFirst,ROW()-ROW(V$45),DAY(V$45)-1,1,1)) -> Project Deadline - All day
C47: =IF(D$45="","",OFFSET(monthFirst,16+ROW()-ROW(D$45),DAY(D$45)-1,1,1)) | D47: =IF(D$45="","",OFFSET(monthFirst,ROW()-ROW(D$45),DAY(D$45)-1,1,1)) | F47: =IF(G$45="","",OFFSET(monthFirst,16+ROW()-ROW(G$45),DAY(G$45)-1,1,1)) | G47: =IF(G$45="","",OFFSET(monthFirst,ROW()-ROW(G$45),DAY(G$45)-1,1,1)) | I47: =IF(J$45="","",OFFSET(monthFirst,16+ROW()-ROW(J$45),DAY(J$45)-1,1,1)) | J47: =IF(J$45="","",OFFSET(monthFirst,ROW()-ROW(J$45),DAY(J$45)-1,1,1)) | L47: =IF(M$45="","",OFFSET(monthFirst,16+ROW()-ROW(M$45),DAY(M$45)-1,1,1)) | M47: =IF(M$45="","",OFFSET(monthFirst,ROW()-ROW(M$45),DAY(M$45)-1,1,1)) | O47: =IF(P$45="","",OFFSET(monthFirst,16+ROW()-ROW(P$45),DAY(P$45)-1,1,1)) -> Call | P47: =IF(P$45="","",OFFSET(monthFirst,ROW()-ROW(P$45),DAY(P$45)-1,1,1)) -> Conference Call - 15:00 | R47: =IF(S$45="","",OFFSET(monthFirst,16+ROW()-ROW(S$45),DAY(S$45)-1,1,1)) | S47: =IF(S$45="","",OFFSET(monthFirst,ROW()-ROW(S$45),DAY(S$45)-1,1,1)) | U47: =IF(V$45="","",OFFSET(monthFirst,16+ROW()-ROW(V$45),DAY(V$45)-1,1,1)) | V47: =IF(V$45="","",OFFSET(monthFirst,ROW()-ROW(V$45),DAY(V$45)-1,1,1))
C48: =IF(D$45="","",OFFSET(monthFirst,16+ROW()-ROW(D$45),DAY(D$45)-1,1,1)) | D48: =IF(D$45="","",OFFSET(monthFirst,ROW()-ROW(D$45),DAY(D$45)-1,1,1)) | F48: =IF(G$45="","",OFFSET(monthFirst,16+ROW()-ROW(G$45),DAY(G$45)-1,1,1)) | G48: =IF(G$45="","",OFFSET(monthFirst,ROW()-ROW(G$45),DAY(G$45)-1,1,1)) | I48: =IF(J$45="","",OFFSET(monthFirst,16+ROW()-ROW(J$45),DAY(J$45)-1,1,1)) | J48: =IF(J$45="","",OFFSET(monthFirst,ROW()-ROW(J$45),DAY(J$45)-1,1,1)) | L48: =IF(M$45="","",OFFSET(monthFirst,16+ROW()-ROW(M$45),DAY(M$45)-1,1,1)) | M48: =IF(M$45="","",OFFSET(monthFirst,ROW()-ROW(M$45),DAY(M$45)-1,1,1)) | O48: =IF(P$45="","",OFFSET(monthFirst,16+ROW()-ROW(P$45),DAY(P$45)-1,1,1)) | P48: =IF(P$45="","",OFFSET(monthFirst,ROW()-ROW(P$45),DAY(P$45)-1,1,1)) | R48: =IF(S$45="","",OFFSET(monthFirst,16+ROW()-ROW(S$45),DAY(S$45)-1,1,1)) | S48: =IF(S$45="","",OFFSET(monthFirst,ROW()-ROW(S$45),DAY(S$45)-1,1,1)) | U48: =IF(V$45="","",OFFSET(monthFirst,16+ROW()-ROW(V$45),DAY(V$45)-1,1,1)) | V48: =IF(V$45="","",OFFSET(monthFirst,ROW()-ROW(V$45),DAY(V$45)-1,1,1))
C49: =IF(D$45="","",OFFSET(monthFirst,16+ROW()-ROW(D$45),DAY(D$45)-1,1,1)) | D49: =IF(D$45="","",OFFSET(monthFirst,ROW()-ROW(D$45),DAY(D$45)-1,1,1)) | F49: =IF(G$45="","",OFFSET(monthFirst,16+ROW()-ROW(G$45),DAY(G$45)-1,1,1)) | G49: =IF(G$45="","",OFFSET(monthFirst,ROW()-ROW(G$45),DAY(G$45)-1,1,1)) | I49: =IF(J$45="","",OFFSET(monthFirst,16+ROW()-ROW(J$45),DAY(J$45)-1,1,1)) | J49: =IF(J$45="","",OFFSET(monthFirst,ROW()-ROW(J$45),DAY(J$45)-1,1,1)) | L49: =IF(M$45="","",OFFSET(monthFirst,16+ROW()-ROW(M$45),DAY(M$45)-1,1,1)) | M49: =IF(M$45="","",OFFSET(monthFirst,ROW()-ROW(M$45),DAY(M$45)-1,1,1)) | O49: =IF(P$45="","",OFFSET(monthFirst,16+ROW()-ROW(P$45),DAY(P$45)-1,1,1)) | P49: =IF(P$45="","",OFFSET(monthFirst,ROW()-ROW(P$45),DAY(P$45)-1,1,1)) | R49: =IF(S$45="","",OFFSET(monthFirst,16+ROW()-ROW(S$45),DAY(S$45)-1,1,1)) | S49: =IF(S$45="","",OFFSET(monthFirst,ROW()-ROW(S$45),DAY(S$45)-1,1,1)) | U49: =IF(V$45="","",OFFSET(monthFirst,16+ROW()-ROW(V$45),DAY(V$45)-1,1,1)) | V49: =IF(V$45="","",OFFSET(monthFirst,ROW()-ROW(V$45),DAY(V$45)-1,1,1))
C50: =IF(D$45="","",OFFSET(monthFirst,16+ROW()-ROW(D$45),DAY(D$45)-1,1,1)) | D50: =IF(D$45="","",OFFSET(monthFirst,ROW()-ROW(D$45),DAY(D$45)-1,1,1)) | F50: =IF(G$45="","",OFFSET(monthFirst,16+ROW()-ROW(G$45),DAY(G$45)-1,1,1)) | G50: =IF(G$45="","",OFFSET(monthFirst,ROW()-ROW(G$45),DAY(G$45)-1,1,1)) | I50: =IF(J$45="","",OFFSET(monthFirst,16+ROW()-ROW(J$45),DAY(J$45)-1,1,1)) | J50: =IF(J$45="","",OFFSET(monthFirst,ROW()-ROW(J$45),DAY(J$45)-1,1,1)) | L50: =IF(M$45="","",OFFSET(monthFirst,16+ROW()-ROW(M$45),DAY(M$45)-1,1,1)) | M50: =IF(M$45="","",OFFSET(monthFirst,ROW()-ROW(M$45),DAY(M$45)-1,1,1)) | O50: =IF(P$45="","",OFFSET(monthFirst,16+ROW()-ROW(P$45),DAY(P$45)-1,1,1)) | P50: =IF(P$45="","",OFFSET(monthFirst,ROW()-ROW(P$45),DAY(P$45)-1,1,1)) | R50: =IF(S$45="","",OFFSET(monthFirst,16+ROW()-ROW(S$45),DAY(S$45)-1,1,1)) | S50: =IF(S$45="","",OFFSET(monthFirst,ROW()-ROW(S$45),DAY(S$45)-1,1,1)) | U50: =IF(V$45="","",OFFSET(monthFirst,16+ROW()-ROW(V$45),DAY(V$45)-1,1,1)) | V50: =IF(V$45="","",OFFSET(monthFirst,ROW()-ROW(V$45),DAY(V$45)-1,1,1))
C51: =IF(D$45="","",OFFSET(monthFirst,16+ROW()-ROW(D$45),DAY(D$45)-1,1,1)) | D51: =IF(D$45="","",OFFSET(monthFirst,ROW()-ROW(D$45),DAY(D$45)-1,1,1)) | F51: =IF(G$45="","",OFFSET(monthFirst,16+ROW()-ROW(G$45),DAY(G$45)-1,1,1)) | G51: =IF(G$45="","",OFFSET(monthFirst,ROW()-ROW(G$45),DAY(G$45)-1,1,1)) | I51: =IF(J$45="","",OFFSET(monthFirst,16+ROW()-ROW(J$45),DAY(J$45)-1,1,1)) | J51: =IF(J$45="","",OFFSET(monthFirst,ROW()-ROW(J$45),DAY(J$45)-1,1,1)) | L51: =IF(M$45="","",OFFSET(monthFirst,16+ROW()-ROW(M$45),DAY(M$45)-1,1,1)) | M51: =IF(M$45="","",OFFSET(monthFirst,ROW()-ROW(M$45),DAY(M$45)-1,1,1)) | O51: =IF(P$45="","",OFFSET(monthFirst,16+ROW()-ROW(P$45),DAY(P$45)-1,1,1)) | P51: =IF(P$45="","",OFFSET(monthFirst,ROW()-ROW(P$45),DAY(P$45)-1,1,1)) | R51: =IF(S$45="","",OFFSET(monthFirst,16+ROW()-ROW(S$45),DAY(S$45)-1,1,1)) | S51: =IF(S$45="","",OFFSET(monthFirst,ROW()-ROW(S$45),DAY(S$45)-1,1,1)) | U51: =IF(V$45="","",OFFSET(monthFirst,16+ROW()-ROW(V$45),DAY(V$45)-1,1,1)) | V51: =IF(V$45="","",OFFSET(monthFirst,ROW()-ROW(V$45),DAY(V$45)-1,1,1))
C52: =IF(D$45="","",OFFSET(monthFirst,16+ROW()-ROW(D$45),DAY(D$45)-1,1,1)) | D52: =IF(D$45="","",OFFSET(monthFirst,ROW()-ROW(D$45),DAY(D$45)-1,1,1)) | F52: =IF(G$45="","",OFFSET(monthFirst,16+ROW()-ROW(G$45),DAY(G$45)-1,1,1)) | G52: =IF(G$45="","",OFFSET(monthFirst,ROW()-ROW(G$45),DAY(G$45)-1,1,1)) | I52: =IF(J$45="","",OFFSET(monthFirst,16+ROW()-ROW(J$45),DAY(J$45)-1,1,1)) | J52: =IF(J$45="","",OFFSET(monthFirst,ROW()-ROW(J$45),DAY(J$45)-1,1,1)) | L52: =IF(M$45="","",OFFSET(monthFirst,16+ROW()-ROW(M$45),DAY(M$45)-1,1,1)) | M52: =IF(M$45="","",OFFSET(monthFirst,ROW()-ROW(M$45),DAY(M$45)-1,1,1)) | O52: =IF(P$45="","",OFFSET(monthFirst,16+ROW()-ROW(P$45),DAY(P$45)-1,1,1)) | P52: =IF(P$45="","",OFFSET(monthFirst,ROW()-ROW(P$45),DAY(P$45)-1,1,1)) | R52: =IF(S$45="","",OFFSET(monthFirst,16+ROW()-ROW(S$45),DAY(S$45)-1,1,1)) | S52: =IF(S$45="","",OFFSET(monthFirst,ROW()-ROW(S$45),DAY(S$45)-1,1,1)) | U52: =IF(V$45="","",OFFSET(monthFirst,16+ROW()-ROW(V$45),DAY(V$45)-1,1,1)) | V52: =IF(V$45="","",OFFSET(monthFirst,ROW()-ROW(V$45),DAY(V$45)-1,1,1))
...

Sheet Calc
B1: DROPDOWNS | K1: IMPORT & FILTER EVENTS | S1: =COUNTA(S3:S1002)-COUNTBLANK(S3:S1002) -> -970 | AF1: Current week | AO1: Week View | BZ1: Calendar View
K2: ID | L2: Real Index | M2: Month Active | N2: Week Active | O2: Summary Active | P2: Title | Q2: Type | R2: Importance | S2: Notify Me | T2: Start Date | U2: End date | V2: S Time | W2: E Time | X2: Start | Y2: End | Z2: Whole-day Event | AA2: Length | AB2: Overlap? | AC2: MSG | AG2: =WEEKDAY(TODAY(),weekOffset+1) -> 2 | BZ2: =IFERROR(MATCH(BZ4,weekDays,0),"") -> 1
B3: Year | C3: Month | D3: This Week | E3: Weekdays | G3: Current Week | I3: Start Hour | K3: 1 | L3: =IF(X3="","",RANK(X3,$X$3:$X$1002,TRUE)+K3/1000) -> 5.001 | M3: =IF(T3="",0,IF(AND(T3>=monthFirst,T3<=endOfMonth),1,0)) -> 1 | N3: =IF(T3="",0,IF(AND(WEEKNUM(T3,weekOffset+1)=weekChoosen,YEAR(T3)=weekYear,OR(importanceFilter="Show all",importanceFilter="",importanceFilter=R3)),1,0)) -> 0 | O3: =IF(T3="",0,IF(AND(WEEKNUM(T3,weekOffset+1)=thisWeek,YEAR(T3)=YEAR(TODAY())),1,0)) -> 0 | P3: =INDEX(EventsList!C$7:C$36,$K3,1)&"" -> Meeting with John | Q3: =IFERROR(IF(L3="","",INDEX(EventsList!H$7:H$36,$K3,1)&""),"") -> Meeting | R3: =IFERROR(IF(L3="","",INDEX(EventsList!I$7:I$36,$K3,1)),0) -> High | S3: =IFERROR(IF(O3=0,"",IF(INDEX(EventsList!M$7:M$36,$K3,1)="Yes", P3 & IF(U3<>T3,"| from ", "| on ") & INDEX(weekDays,WEEKDAY(T3,weekOffset+1),1)& IF(U3<>T3," till "& INDEX(weekDays,WEEKDAY(U3,weekOffset+1),1), "") & IF(V3="","", "| at " & HOUR(V3)&":"&IF(LEN(MINUTE(V3))=1,"0"&MINUTE(V3),MINUTE(V3))),"")),"") | T3: =IF(ISNUMBER(INDEX(EventsList!D$7:D$36,$K3,1)),INDEX(EventsList!D$7:D$36,$K3,1),"") -> 45063 | U3: =IF(ISNUMBER(INDEX(EventsList!E$7:E$36,$K3,1)),INDEX(EventsList!E$7:E$36,$K3,1),T3) -> 45063 | V3: =IF(ISNUMBER(INDEX(EventsList!F$7:F$36,$K3,1)),INDEX(EventsList!F$7:F$36,$K3,1),"") | W3: =IF(ISNUMBER(INDEX(EventsList!G$7:G$36,$K3,1)),INDEX(EventsList!G$7:G$36,$K3,1),"") | X3: =IF(Z3="","",IF(Z3="No",T3+V3,T3+0)) -> 45063 | Y3: =IF(Z3="","",IF(Z3="No",U3+W3,U3+TIME(23,59,59))) -> 45064 | Z3: =IF(T3="","",IF(OR(U3<>T3,V3="",W3=""),"Yes","No")) -> Yes | AA3: =IF(Z3="No",Y3-X3,"") | AB3: {=IF(Z3="","",SUM(IF((X3>=$X$3:$X$32)*(X3<=$Y$3:$Y$32),1,0))+SUM(IF((Y3>=$X$3:$X$32)*(Y3<=$Y$3:$Y$32),1,0))-2)} -> 0 | AC3: =IF(OR(AB3=0,AB3=""),"",IF(AB3<0,"End date incorrect",IF(AB3=1,"1 event overlap",AB3&" more events overlaping"))) | AF3: 1 | AG3: 2 | AH3: 3 | AI3: 4 | AJ3: 5 | AK3: 6 | AL3: 7 | AO3: 1 | AT3: 2 | AY3: 3 | BD3: 4 | BI3: 5 | BN3: 6 | BS3: 7 | BZ3: =IFERROR(EOMONTH(BZ5,0),"") -> 45077
