Workbook
Name Chart2Label: IFERROR(OFFSET(Calc!$BJ$14,0,0,Calc!$BH$12,1),"")
Name Chart2Values: IFERROR(OFFSET(Calc!$BI$14,0,0,Calc!$BH$12,1),"")
Name MonthList: Calc!$BK$13:$BV$13
Name Status1: Dashboard!$C$10
Name Status2: Dashboard!$C$11
Name Status3: Dashboard!$C$12
Name Status4: Dashboard!$C$13
Name StatusListPerson1: Calc!$BK$14:$BV$14
Name StatusListPerson2: Calc!$BK$15:$BV$15
Name StatusListPerson3: Calc!$BK$16:$BV$16
Name StatusListPerson4: Calc!$BK$17:$BV$17
Name TotalRowsCount: Calc!$E$34+3

Sheet Dashboard
B2: MONTHLY ATTENDANCE SHEET
B3: DASHBOARD
B6: YEAR | E6: MONTHLY LISTS
B7: 2021
B9: Status | C9: Sign
B10: Attended | C10: A
B11: Not Attended | C11: N
B12: Tardy | C12: T
B15: Participants
B16: Michael Hall

Sheet ParticipantList
B2: MONTHLY ATTENDANCE SHEET
B3: PARTICIPANT LIST
B5: Participant List | C5: Contact Info
B6: Michael Hall | C6: hallm@mail.com
B7: James Beriker | C7: berikerj@mail.com
B8: Kelly Hoeyco | C8: hoeycok@mail.com
B9: Julia Meighan | C9: meighank@mail.com
B10: Kristin Zaslavsky | C10: zaslavskyk@mail.com
B11: Laurinda Seabra | C11: seabrak@mail.com
B12: James Maltese | C12: maltesek@mail.com
B13: Robert Balentine | C13: balentinek@mail.com

Sheet January
B2: MONTHLY ATTENDANCE SHEET
B3: MONTHLY SECTION
B5: ="JANUARY - "&Dashboard!$B$7 -> JANUARY - 2021 | F5: =IFERROR(IF(LEN(Calc!$BK$20)>0,Calc!$BK$20,""),"") -> A | H5: =IFERROR(IF(LEN(Calc!$BJ$20)>0,Calc!$BJ$20,""),"") -> Attended | M5: =IFERROR(IF(LEN(Calc!$BK$21)>0,Calc!$BK$21,""),"") -> N | O5: =IFERROR(IF(LEN(Calc!$BJ$21)>0,Calc!$BJ$21,""),"") -> Not Attended | T5: =IFERROR(IF(LEN(Calc!$BK$22)>0,Calc!$BK$22,""),"") -> T | V5: =IFERROR(IF(LEN(Calc!$BJ$22)>0,Calc!$BJ$22,""),"") -> Tardy | AA5: =IFERROR(IF(LEN(Calc!$BK$23)>0,Calc!$BK$23,""),"") | AC5: =IFERROR(IF(LEN(Calc!$BJ$23)>0,Calc!$BJ$23,""),"")
B7: Participant | D7: =INDEX(Calc!$BJ$26:$BK$32,WEEKDAY(DATE(Dashboard!$B$7,MATCH($B$5,Calc!$B$6:$B$17,0),D$8),2),2) -> Fri | E7: =INDEX(Calc!$BJ$26:$BK$32,WEEKDAY(DATE(Dashboard!$B$7,MATCH($B$5,Calc!$B$6:$B$17,0),E$8),2),2) -> Sat | F7: =INDEX(Calc!$BJ$26:$BK$32,WEEKDAY(DATE(Dashboard!$B$7,MATCH($B$5,Calc!$B$6:$B$17,0),F$8),2),2) -> Sun | G7: =INDEX(Calc!$BJ$26:$BK$32,WEEKDAY(DATE(Dashboard!$B$7,MATCH($B$5,Calc!$B$6:$B$17,0),G$8),2),2) -> Mon | H7: =INDEX(Calc!$BJ$26:$BK$32,WEEKDAY(DATE(Dashboard!$B$7,MATCH($B$5,Calc!$B$6:$B$17,0),H$8),2),2) -> Tue | I7: =INDEX(Calc!$BJ$26:$BK$32,WEEKDAY(DATE(Dashboard!$B$7,MATCH($B$5,Calc!$B$6:$B$17,0),I$8),2),2) -> Wed | J7: =INDEX(Calc!$BJ$26:$BK$32,WEEKDAY(DATE(Dashboard!$B$7,MATCH($B$5,Calc!$B$6:$B$17,0),J$8),2),2) -> Thu | K7: =INDEX(Calc!$BJ$26:$BK$32,WEEKDAY(DATE(Dashboard!$B$7,MATCH($B$5,Calc!$B$6:$B$17,0),K$8),2),2) -> Fri | ... AH7: =INDEX(Calc!$BJ$26:$BK$32,WEEKDAY(DATE(Dashboard!$B$7,MATCH($B$5,Calc!$B$6:$B$17,0),AH$8),2),2) -> Sun | AJ7: =IF(LEN(Status1)>0,$H$5,"") -> Attended | AK7: =IF(LEN(Status2)>0,$O$5,"") -> Not Attended | AL7: =IF(LEN(Status3)>0,$V$5,"") -> Tardy | AM7: =IF(LEN(Status4)>0,$AC$5,"")
B8: List | D8: 1 | E8: 2 | F8: 3 | G8: 4 | H8: 5 | I8: 6 | J8: 7 | K8: 8 | L8: 9 | M8: 10 | N8: 11 | O8: 12 | P8: 13 | Q8: 14 | R8: 15 | S8: 16 | T8: 17 | U8: 18 | V8: 19 | W8: 20 | X8: 21 | Y8: 22 | Z8: 23 | AA8: 24 | AB8: 25 | AC8: 26 | AD8: 27 | AE8: 28 | AF8: 29 | AG8: 30 | AH8: 31
B9: =IF(LEN(Calc!$D35)>0,Calc!$D35,"") -> Michael Hall | D9: A | G9: A | H9: A | I9: T | J9: N | K9: N | N9: T | O9: A | P9: N | Q9: T | R9: A | U9: A | V9: A | W9: A | X9: A | Y9: T | AB9: N | AC9: N | AD9: A | AE9: A | AF9: A | AJ9: =IFERROR(IF(AND(LEN($B9)>0,LEN(AJ$7)>0),COUNTIF($D9:$AH9,Status1),""),"") -> 12 | AK9: =IFERROR(IF(AND(LEN($B9)>0,LEN(AK$7)>0),COUNTIF($D9:$AH9,Status2),""),"") -> 5 | AL9: =IFERROR(IF(AND(LEN($B9)>0,LEN(AL$7)>0),COUNTIF($D9:$AH9,Status3),""),"") -> 4 | AM9: =IFERROR(IF(AND(LEN($B9)>0,LEN(AM$7)>0),COUNTIF($D9:$AH9,Status4),""),"")
B10: =IF(LEN(Calc!$D36)>0,Calc!$D36,"") -> James Beriker | D10: T | G10: A | H10: N | I10: T | J10: A | K10: A | N10: A | O10: A | P10: A | Q10: A | R10: N | U10: N | V10: A | W10: T | X10: A | Y10: A | AB10: N | AC10: A | AD10: A | AE10: T | AF10: A | AJ10: =IFERROR(IF(AND(LEN($B10)>0,LEN(AJ$7)>0),COUNTIF($D10:$AH10,Status1),""),"") -> 13 | AK10: =IFERROR(IF(AND(LEN($B10)>0,LEN(AK$7)>0),COUNTIF($D10:$AH10,Status2),""),"") -> 4 | AL10: =IFERROR(IF(AND(LEN($B10)>0,LEN(AL$7)>0),COUNTIF($D10:$AH10,Status3),""),"") -> 4 | AM10: =IFERROR(IF(AND(LEN($B10)>0,LEN(AM$7)>0),COUNTIF($D10:$AH10,Status4),""),"")
B11: =IF(LEN(Calc!$D37)>0,Calc!$D37,"") -> Kelly Hoeyco | D11: A | G11: A | H11: A | I11: T | J11: A | K11: N | N11: N | O11: N | P11: N | Q11: A | R11: A | U11: A | V11: A | W11: A | X11: T | Y11: A | AB11: A | AC11: T | AD11: T | AE11: A | AF11: A | AJ11: =IFERROR(IF(AND(LEN($B11)>0,LEN(AJ$7)>0),COUNTIF($D11:$AH11,Status1),""),"") -> 13 | AK11: =IFERROR(IF(AND(LEN($B11)>0,LEN(AK$7)>0),COUNTIF($D11:$AH11,Status2),""),"") -> 4 | AL11: =IFERROR(IF(AND(LEN($B11)>0,LEN(AL$7)>0),COUNTIF($D11:$AH11,Status3),""),"") -> 4 | AM11: =IFERROR(IF(AND(LEN($B11)>0,LEN(AM$7)>0),COUNTIF($D11:$AH11,Status4),""),"")
B12: =IF(LEN(Calc!$D38)>0,Calc!$D38,"") -> Julia Meighan | D12: A | G12: A | H12: T | I12: A | J12: N | K12: A | N12: T | O12: A | P12: N | Q12: A | R12: A | U12: A | V12: A | W12: N | X12: A | Y12: A | AB12: N | AC12: N | AD12: A | AE12: A | AF12: T | AJ12: =IFERROR(IF(AND(LEN($B12)>0,LEN(AJ$7)>0),COUNTIF($D12:$AH12,Status1),""),"") -> 13 | AK12: =IFERROR(IF(AND(LEN($B12)>0,LEN(AK$7)>0),COUNTIF($D12:$AH12,Status2),""),"") -> 5 | AL12: =IFERROR(IF(AND(LEN($B12)>0,LEN(AL$7)>0),COUNTIF($D12:$AH12,Status3),""),"") -> 3 | AM12: =IFERROR(IF(AND(LEN($B12)>0,LEN(AM$7)>0),COUNTIF($D12:$AH12,Status4),""),"")
B13: =IF(LEN(Calc!$D39)>0,Calc!$D39,"") -> Kristin Zaslavsky | D13: T | G13: A | H13: A | I13: A | J13: N | K13: A | N13: A | O13: A | P13: T | Q13: A | R13: N | U13: N | V13: A | W13: A | X13: T | Y13: A | AB13: A | AC13: A | AD13: A | AE13: A | AF13: A | AJ13: =IFERROR(IF(AND(LEN($B13)>0,LEN(AJ$7)>0),COUNTIF($D13:$AH13,Status1),""),"") -> 15 | AK13: =IFERROR(IF(AND(LEN($B13)>0,LEN(AK$7)>0),COUNTIF($D13:$AH13,Status2),""),"") -> 3 | AL13: =IFERROR(IF(AND(LEN($B13)>0,LEN(AL$7)>0),COUNTIF($D13:$AH13,Status3),""),"") -> 3 | AM13: =IFERROR(IF(AND(LEN($B13)>0,LEN(AM$7)>0),COUNTIF($D13:$AH13,Status4),""),"")
B14: =IF(LEN(Calc!$D40)>0,Calc!$D40,"") -> Laurinda Seabra | D14: A | G14: A | H14: T | I14: A | J14: A | K14: A | N14: A | O14: T | P14: A | Q14: A | R14: A | U14: A | V14: A | W14: A | X14: N | Y14: N | AB14: N | AC14: N | AD14: A | AE14: A | AF14: A | AJ14: =IFERROR(IF(AND(LEN($B14)>0,LEN(AJ$7)>0),COUNTIF($D14:$AH14,Status1),""),"") -> 15 | AK14: =IFERROR(IF(AND(LEN($B14)>0,LEN(AK$7)>0),COUNTIF($D14:$AH14,Status2),""),"") -> 4 | AL14: =IFERROR(IF(AND(LEN($B14)>0,LEN(AL$7)>0),COUNTIF($D14:$AH14,Status3),""),"") -> 2 | AM14: =IFERROR(IF(AND(LEN($B14)>0,LEN(AM$7)>0),COUNTIF($D14:$AH14,Status4),""),"")
B15: =IF(LEN(Calc!$D41)>0,Calc!$D41,"") -> James Maltese | D15: A | G15: A | H15: A | I15: A | J15: A | K15: N | N15: T | O15: A | P15: N | Q15: A | R15: A | U15: A | V15: A | W15: N | X15: A | Y15: A | AB15: A | AC15: A | AD15: A | AE15: T | AF15: A | AJ15: =IFERROR(IF(AND(LEN($B15)>0,LEN(AJ$7)>0),COUNTIF($D15:$AH15,Status1),""),"") -> 16 | AK15: =IFERROR(IF(AND(LEN($B15)>0,LEN(AK$7)>0),COUNTIF($D15:$AH15,Status2),""),"") -> 3 | AL15: =IFERROR(IF(AND(LEN($B15)>0,LEN(AL$7)>0),COUNTIF($D15:$AH15,Status3),""),"") -> 2 | AM15: =IFERROR(IF(AND(LEN($B15)>0,LEN(AM$7)>0),COUNTIF($D15:$AH15,Status4),""),"")
B16: =IF(LEN(Calc!$D42)>0,Calc!$D42,"") -> Robert Balentine | D16: A | G16: A | H16: T | I16: A | J16: A | K16: A | N16: A | O16: A | P16: A | Q16: T | R16: A | U16: A | V16: A | W16: A | X16: T | Y16: T | AB16: T | AC16: A | AD16: A | AE16: A | AF16: A | AJ16: =IFERROR(IF(AND(LEN($B16)>0,LEN(AJ$7)>0),COUNTIF($D16:$AH16,Status1),""),"") -> 16 | AK16: =IFERROR(IF(AND(LEN($B16)>0,LEN(AK$7)>0),COUNTIF($D16:$AH16,Status2),""),"") -> 0 | AL16: =IFERROR(IF(AND(LEN($B16)>0,LEN(AL$7)>0),COUNTIF($D16:$AH16,Status3),""),"") -> 5 | AM16: =IFERROR(IF(AND(LEN($B16)>0,LEN(AM$7)>0),COUNTIF($D16:$AH16,Status4),""),"")
B17: =IF(LEN(Calc!$D43)>0,Calc!$D43,"") | AJ17: =IFERROR(IF(AND(LEN($B17)>0,LEN(AJ$7)>0),COUNTIF($D17:$AH17,Status1),""),"") | AK17: =IFERROR(IF(AND(LEN($B17)>0,LEN(AK$7)>0),COUNTIF($D17:$AH17,Status2),""),"") | AL17: =IFERROR(IF(AND(LEN($B17)>0,LEN(AL$7)>0),COUNTIF($D17:$AH17,Status3),""),"") | AM17: =IFERROR(IF(AND(LEN($B17)>0,LEN(AM$7)>0),COUNTIF($D17:$AH17,Status4),""),"")
B18: =IF(LEN(Calc!$D44)>0,Calc!$D44,"") | AJ18: =IFERROR(IF(AND(LEN($B18)>0,LEN(AJ$7)>0),COUNTIF($D18:$AH18,Status1),""),"") | AK18: =IFERROR(IF(AND(LEN($B18)>0,LEN(AK$7)>0),COUNTIF($D18:$AH18,Status2),""),"") | AL18: =IFERROR(IF(AND(LEN($B18)>0,LEN(AL$7)>0),COUNTIF($D18:$AH18,Status3),""),"") | AM18: =IFERROR(IF(AND(LEN($B18)>0,LEN(AM$7)>0),COUNTIF($D18:$AH18,Status4),""),"")
B19: =IF(LEN(Calc!$D45)>0,Calc!$D45,"") | AJ19: =IFERROR(IF(AND(LEN($B19)>0,LEN(AJ$7)>0),COUNTIF($D19:$AH19,Status1),""),"") | AK19: =IFERROR(IF(AND(LEN($B19)>0,LEN(AK$7)>0),COUNTIF($D19:$AH19,Status2),""),"") | AL19: =IFERROR(IF(AND(LEN($B19)>0,LEN(AL$7)>0),COUNTIF($D19:$AH19,Status3),""),"") | AM19: =IFERROR(IF(AND(LEN($B19)>0,LEN(AM$7)>0),COUNTIF($D19:$AH19,Status4),""),"")
B20: =IF(LEN(Calc!$D46)>0,Calc!$D46,"") | AJ20: =IFERROR(IF(AND(LEN($B20)>0,LEN(AJ$7)>0),COUNTIF($D20:$AH20,Status1),""),"") | AK20: =IFERROR(IF(AND(LEN($B20)>0,LEN(AK$7)>0),COUNTIF($D20:$AH20,Status2),""),"") | AL20: =IFERROR(IF(AND(LEN($B20)>0,LEN(AL$7)>0),COUNTIF($D20:$AH20,Status3),""),"") | AM20: =IFERROR(IF(AND(LEN($B20)>0,LEN(AM$7)>0),COUNTIF($D20:$AH20,Status4),""),"")
B21: =IF(LEN(Calc!$D47)>0,Calc!$D47,"") | AJ21: =IFERROR(IF(AND(LEN($B21)>0,LEN(AJ$7)>0),COUNTIF($D21:$AH21,Status1),""),"") | AK21: =IFERROR(IF(AND(LEN($B21)>0,LEN(AK$7)>0),COUNTIF($D21:$AH21,Status2),""),"") | AL21: =IFERROR(IF(AND(LEN($B21)>0,LEN(AL$7)>0),COUNTIF($D21:$AH21,Status3),""),"") | AM21: =IFERROR(IF(AND(LEN($B21)>0,LEN(AM$7)>0),COUNTIF($D21:$AH21,Status4),""),"")
B22: =IF(LEN(Calc!$D48)>0,Calc!$D48,"") | AJ22: =IFERROR(IF(AND(LEN($B22)>0,LEN(AJ$7)>0),COUNTIF($D22:$AH22,Status1),""),"") | AK22: =IFERROR(IF(AND(LEN($B22)>0,LEN(AK$7)>0),COUNTIF($D22:$AH22,Status2),""),"") | AL22: =IFERROR(IF(AND(LEN($B22)>0,LEN(AL$7)>0),COUNTIF($D22:$AH22,Status3),""),"") | AM22: =IFERROR(IF(AND(LEN($B22)>0,LEN(AM$7)>0),COUNTIF($D22:$AH22,Status4),""),"")
B23: =IF(LEN(Calc!$D49)>0,Calc!$D49,"") | AJ23: =IFERROR(IF(AND(LEN($B23)>0,LEN(AJ$7)>0),COUNTIF($D23:$AH23,Status1),""),"") | AK23: =IFERROR(IF(AND(LEN($B23)>0,LEN(AK$7)>0),COUNTIF($D23:$AH23,Status2),""),"") | AL23: =IFERROR(IF(AND(LEN($B23)>0,LEN(AL$7)>0),COUNTIF($D23:$AH23,Status3),""),"") | AM23: =IFERROR(IF(AND(LEN($B23)>0,LEN(AM$7)>0),COUNTIF($D23:$AH23,Status4),""),"")

Sheet February
B2: MONTHLY ATTENDANCE SHEET
B3: DASHBOARD
B5: ="FEBRUARY - "&Dashboard!$B$7 -> FEBRUARY - 2021 | F5: =IFERROR(IF(LEN(Calc!$BK$20)>0,Calc!$BK$20,""),"") -> A | H5: =IFERROR(IF(LEN(Calc!$BJ$20)>0,Calc!$BJ$20,""),"") -> Attended | M5: =IFERROR(IF(LEN(Calc!$BK$21)>0,Calc!$BK$21,""),"") -> N | O5: =IFERROR(IF(LEN(Calc!$BJ$21)>0,Calc!$BJ$21,""),"") -> Not Attended | T5: =IFERROR(IF(LEN(Calc!$BK$22)>0,Calc!$BK$22,""),"") -> T | V5: =IFERROR(IF(LEN(Calc!$BJ$22)>0,Calc!$BJ$22,""),"") -> Tardy | AA5: =IFERROR(IF(LEN(Calc!$BK$23)>0,Calc!$BK$23,""),"") | AC5: =IFERROR(IF(LEN(Calc!$BJ$23)>0,Calc!$BJ$23,""),"")
B7: Participant | D7: =INDEX(Calc!$BJ$26:$BK$32,WEEKDAY(DATE(Dashboard!$B$7,MATCH($B$5,Calc!$B$6:$B$17,0),D$8),2),2) -> Mon | E7: =INDEX(Calc!$BJ$26:$BK$32,WEEKDAY(DATE(Dashboard!$B$7,MATCH($B$5,Calc!$B$6:$B$17,0),E$8),2),2) -> Tue | F7: =INDEX(Calc!$BJ$26:$BK$32,WEEKDAY(DATE(Dashboard!$B$7,MATCH($B$5,Calc!$B$6:$B$17,0),F$8),2),2) -> Wed | G7: =INDEX(Calc!$BJ$26:$BK$32,WEEKDAY(DATE(Dashboard!$B$7,MATCH($B$5,Calc!$B$6:$B$17,0),G$8),2),2) -> Thu | H7: =INDEX(Calc!$BJ$26:$BK$32,WEEKDAY(DATE(Dashboard!$B$7,MATCH($B$5,Calc!$B$6:$B$17,0),H$8),2),2) -> Fri | I7: =INDEX(Calc!$BJ$26:$BK$32,WEEKDAY(DATE(Dashboard!$B$7,MATCH($B$5,Calc!$B$6:$B$17,0),I$8),2),2) -> Sat | J7: =INDEX(Calc!$BJ$26:$BK$32,WEEKDAY(DATE(Dashboard!$B$7,MATCH($B$5,Calc!$B$6:$B$17,0),J$8),2),2) -> Sun | K7: =INDEX(Calc!$BJ$26:$BK$32,WEEKDAY(DATE(Dashboard!$B$7,MATCH($B$5,Calc!$B$6:$B$17,0),K$8),2),2) -> Mon | ... AH7: =INDEX(Calc!$BJ$26:$BK$32,WEEKDAY(DATE(Dashboard!$B$7,MATCH($B$5,Calc!$B$6:$B$17,0),AH$8),2),2) -> Wed | AJ7: =IF(LEN(Status1)>0,$H$5,"") -> Attended | AK7: =IF(LEN(Status2)>0,$O$5,"") -> Not Attended | AL7: =IF(LEN(Status3)>0,$V$5,"") -> Tardy | AM7: =IF(LEN(Status4)>0,$AC$5,"")
B8: List | D8: 1 | E8: 2 | F8: 3 | G8: 4 | H8: 5 | I8: 6 | J8: 7 | K8: 8 | L8: 9 | M8: 10 | N8: 11 | O8: 12 | P8: 13 | Q8: 14 | R8: 15 | S8: 16 | T8: 17 | U8: 18 | V8: 19 | W8: 20 | X8: 21 | Y8: 22 | Z8: 23 | AA8: 24 | AB8: 25 | AC8: 26 | AD8: 27 | AE8: 28 | AF8: 29 | AG8: 30 | AH8: 31
B9: =IF(LEN(Calc!$D35)>0,Calc!$D35,"") -> Michael Hall | D9: A | E9: A | F9: A | G9: T | H9: N | K9: A | L9: A | M9: N | N9: T | O9: A | R9: T | S9: T | T9: A | U9: A | V9: A | Y9: A | Z9: A | AA9: A | AB9: N | AC9: A | AJ9: =IFERROR(IF(AND(LEN($B9)>0,LEN(AJ$7)>0),COUNTIF($D9:$AH9,Status1),""),"") -> 13 | AK9: =IFERROR(IF(AND(LEN($B9)>0,LEN(AK$7)>0),COUNTIF($D9:$AH9,Status2),""),"") -> 3 | AL9: =IFERROR(IF(AND(LEN($B9)>0,LEN(AL$7)>0),COUNTIF($D9:$AH9,Status3),""),"") -> 4 | AM9: =IFERROR(IF(AND(LEN($B9)>0,LEN(AM$7)>0),COUNTIF($D9:$AH9,Status4),""),"")
B10: =IF(LEN(Calc!$D36)>0,Calc!$D36,"") -> James Beriker | D10: A | E10: T | F10: A | G10: A | H10: N | K10: A | L10: A | M10: A | N10: A | O10: A | R10: A | S10: A | T10: A | U10: T | V10: N | Y10: A | Z10: A | AA10: A | AB10: T | AC10: A | AJ10: =IFERROR(IF(AND(LEN($B10)>0,LEN(AJ$7)>0),COUNTIF($D10:$AH10,Status1),""),"") -> 15 | AK10: =IFERROR(IF(AND(LEN($B10)>0,LEN(AK$7)>0),COUNTIF($D10:$AH10,Status2),""),"") -> 2 | AL10: =IFERROR(IF(AND(LEN($B10)>0,LEN(AL$7)>0),COUNTIF($D10:$AH10,Status3),""),"") -> 3 | AM10: =IFERROR(IF(AND(LEN($B10)>0,LEN(AM$7)>0),COUNTIF($D10:$AH10,Status4),""),"")
B11: =IF(LEN(Calc!$D37)>0,Calc!$D37,"") -> Kelly Hoeyco | D11: A | E11: A | F11: T | G11: A | H11: A | K11: A | L11: A | M11: A | N11: T | O11: A | R11: N | S11: A | T11: A | U11: A | V11: T | Y11: A | Z11: A | AA11: A | AB11: T | AC11: N | AJ11: =IFERROR(IF(AND(LEN($B11)>0,LEN(AJ$7)>0),COUNTIF($D11:$AH11,Status1),""),"") -> 14 | AK11: =IFERROR(IF(AND(LEN($B11)>0,LEN(AK$7)>0),COUNTIF($D11:$AH11,Status2),""),"") -> 2 | AL11: =IFERROR(IF(AND(LEN($B11)>0,LEN(AL$7)>0),COUNTIF($D11:$AH11,Status3),""),"") -> 4 | AM11: =IFERROR(IF(AND(LEN($B11)>0,LEN(AM$7)>0),COUNTIF($D11:$AH11,Status4),""),"")
B12: =IF(LEN(Calc!$D38)>0,Calc!$D38,"") -> Julia Meighan | D12: A | E12: N | F12: A | G12: A | H12: A | K12: A | L12: A | M12: A | N12: N | O12: A | R12: A | S12: A | T12: A | U12: A | V12: A | Y12: A | Z12: N | AA12: A | AB12: A | AC12: T | AJ12: =IFERROR(IF(AND(LEN($B12)>0,LEN(AJ$7)>0),COUNTIF($D12:$AH12,Status1),""),"") -> 16 | AK12: =IFERROR(IF(AND(LEN($B12)>0,LEN(AK$7)>0),COUNTIF($D12:$AH12,Status2),""),"") -> 3 | AL12: =IFERROR(IF(AND(LEN($B12)>0,LEN(AL$7)>0),COUNTIF($D12:$AH12,Status3),""),"") -> 1 | AM12: =IFERROR(IF(AND(LEN($B12)>0,LEN(AM$7)>0),COUNTIF($D12:$AH12,Status4),""),"")
B13: =IF(LEN(Calc!$D39)>0,Calc!$D39,"") -> Kristin Zaslavsky | D13: A | E13: A | F13: N | G13: A | H13: A | K13: A | L13: A | M13: T | N13: T | O13: A | R13: A | S13: A | T13: A | U13: N | V13: T | Y13: A | Z13: A | AA13: A | AB13: N | AC13: A | AJ13: =IFERROR(IF(AND(LEN($B13)>0,LEN(AJ$7)>0),COUNTIF($D13:$AH13,Status1),""),"") -> 14 | AK13: =IFERROR(IF(AND(LEN($B13)>0,LEN(AK$7)>0),COUNTIF($D13:$AH13,Status2),""),"") -> 3 | AL13: =IFERROR(IF(AND(LEN($B13)>0,LEN(AL$7)>0),COUNTIF($D13:$AH13,Status3),""),"") -> 3 | AM13: =IFERROR(IF(AND(LEN($B13)>0,LEN(AM$7)>0),COUNTIF($D13:$AH13,Status4),""),"")
B14: =IF(LEN(Calc!$D40)>0,Calc!$D40,"") -> Laurinda Seabra | D14: A | E14: A | F14: T | G14: N | H14: A | K14: N | L14: A | M14: T | N14: N | O14: N | R14: A | S14: A | T14: T | U14: A | V14: N | Y14: A | Z14: T | AA14: A | AB14: A | AC14: A | AJ14: =IFERROR(IF(AND(LEN($B14)>0,LEN(AJ$7)>0),COUNTIF($D14:$AH14,Status1),""),"") -> 11 | AK14: =IFERROR(IF(AND(LEN($B14)>0,LEN(AK$7)>0),COUNTIF($D14:$AH14,Status2),""),"") -> 5 | AL14: =IFERROR(IF(AND(LEN($B14)>0,LEN(AL$7)>0),COUNTIF($D14:$AH14,Status3),""),"") -> 4 | AM14: =IFERROR(IF(AND(LEN($B14)>0,LEN(AM$7)>0),COUNTIF($D14:$AH14,Status4),""),"")
B15: =IF(LEN(Calc!$D41)>0,Calc!$D41,"") -> James Maltese | D15: A | E15: T | F15: A | G15: A | H15: N | K15: A | L15: A | M15: A | N15: A | O15: A | R15: A | S15: A | T15: A | U15: N | V15: A | Y15: A | Z15: A | AA15: T | AB15: N | AC15: A | AJ15: =IFERROR(IF(AND(LEN($B15)>0,LEN(AJ$7)>0),COUNTIF($D15:$AH15,Status1),""),"") -> 15 | AK15: =IFERROR(IF(AND(LEN($B15)>0,LEN(AK$7)>0),COUNTIF($D15:$AH15,Status2),""),"") -> 3 | AL15: =IFERROR(IF(AND(LEN($B15)>0,LEN(AL$7)>0),COUNTIF($D15:$AH15,Status3),""),"") -> 2 | AM15: =IFERROR(IF(AND(LEN($B15)>0,LEN(AM$7)>0),COUNTIF($D15:$AH15,Status4),""),"")
B16: =IF(LEN(Calc!$D42)>0,Calc!$D42,"") -> Robert Balentine | D16: A | E16: N | F16: A | G16: N | H16: A | K16: A | L16: A | M16: A | N16: A | O16: A | R16: A | S16: A | T16: A | U16: A | V16: A | Y16: A | Z16: A | AA16: A | AB16: A | AC16: A | AJ16: =IFERROR(IF(AND(LEN($B16)>0,LEN(AJ$7)>0),COUNTIF($D16:$AH16,Status1),""),"") -> 18 | AK16: =IFERROR(IF(AND(LEN($B16)>0,LEN(AK$7)>0),COUNTIF($D16:$AH16,Status2),""),"") -> 2 | AL16: =IFERROR(IF(AND(LEN($B16)>0,LEN(AL$7)>0),COUNTIF($D16:$AH16,Status3),""),"") -> 0 | AM16: =IFERROR(IF(AND(LEN($B16)>0,LEN(AM$7)>0),COUNTIF($D16:$AH16,Status4),""),"")
B17: =IF(LEN(Calc!$D43)>0,Calc!$D43,"") | AJ17: =IFERROR(IF(AND(LEN($B17)>0,LEN(AJ$7)>0),COUNTIF($D17:$AH17,Status1),""),"") | AK17: =IFERROR(IF(AND(LEN($B17)>0,LEN(AK$7)>0),COUNTIF($D17:$AH17,Status2),""),"") | AL17: =IFERROR(IF(AND(LEN($B17)>0,LEN(AL$7)>0),COUNTIF($D17:$AH17,Status3),""),"") | AM17: =IFERROR(IF(AND(LEN($B17)>0,LEN(AM$7)>0),COUNTIF($D17:$AH17,Status4),""),"")
B18: =IF(LEN(Calc!$D44)>0,Calc!$D44,"") | AJ18: =IFERROR(IF(AND(LEN($B18)>0,LEN(AJ$7)>0),COUNTIF($D18:$AH18,Status1),""),"") | AK18: =IFERROR(IF(AND(LEN($B18)>0,LEN(AK$7)>0),COUNTIF($D18:$AH18,Status2),""),"") | AL18: =IFERROR(IF(AND(LEN($B18)>0,LEN(AL$7)>0),COUNTIF($D18:$AH18,Status3),""),"") | AM18: =IFERROR(IF(AND(LEN($B18)>0,LEN(AM$7)>0),COUNTIF($D18:$AH18,Status4),""),"")
B19: =IF(LEN(Calc!$D45)>0,Calc!$D45,"") | AJ19: =IFERROR(IF(AND(LEN($B19)>0,LEN(AJ$7)>0),COUNTIF($D19:$AH19,Status1),""),"") | AK19: =IFERROR(IF(AND(LEN($B19)>0,LEN(AK$7)>0),COUNTIF($D19:$AH19,Status2),""),"") | AL19: =IFERROR(IF(AND(LEN($B19)>0,LEN(AL$7)>0),COUNTIF($D19:$AH19,Status3),""),"") | AM19: =IFERROR(IF(AND(LEN($B19)>0,LEN(AM$7)>0),COUNTIF($D19:$AH19,Status4),""),"")
B20: =IF(LEN(Calc!$D46)>0,Calc!$D46,"") | AJ20: =IFERROR(IF(AND(LEN($B20)>0,LEN(AJ$7)>0),COUNTIF($D20:$AH20,Status1),""),"") | AK20: =IFERROR(IF(AND(LEN($B20)>0,LEN(AK$7)>0),COUNTIF($D20:$AH20,Status2),""),"") | AL20: =IFERROR(IF(AND(LEN($B20)>0,LEN(AL$7)>0),COUNTIF($D20:$AH20,Status3),""),"") | AM20: =IFERROR(IF(AND(LEN($B20)>0,LEN(AM$7)>0),COUNTIF($D20:$AH20,Status4),""),"")
B21: =IF(LEN(Calc!$D47)>0,Calc!$D47,"") | AJ21: =IFERROR(IF(AND(LEN($B21)>0,LEN(AJ$7)>0),COUNTIF($D21:$AH21,Status1),""),"") | AK21: =IFERROR(IF(AND(LEN($B21)>0,LEN(AK$7)>0),COUNTIF($D21:$AH21,Status2),""),"") | AL21: =IFERROR(IF(AND(LEN($B21)>0,LEN(AL$7)>0),COUNTIF($D21:$AH21,Status3),""),"") | AM21: =IFERROR(IF(AND(LEN($B21)>0,LEN(AM$7)>0),COUNTIF($D21:$AH21,Status4),""),"")
B22: =IF(LEN(Calc!$D48)>0,Calc!$D48,"") | AJ22: =IFERROR(IF(AND(LEN($B22)>0,LEN(AJ$7)>0),COUNTIF($D22:$AH22,Status1),""),"") | AK22: =IFERROR(IF(AND(LEN($B22)>0,LEN(AK$7)>0),COUNTIF($D22:$AH22,Status2),""),"") | AL22: =IFERROR(IF(AND(LEN($B22)>0,LEN(AL$7)>0),COUNTIF($D22:$AH22,Status3),""),"") | AM22: =IFERROR(IF(AND(LEN($B22)>0,LEN(AM$7)>0),COUNTIF($D22:$AH22,Status4),""),"")
B23: =IF(LEN(Calc!$D49)>0,Calc!$D49,"") | AJ23: =IFERROR(IF(AND(LEN($B23)>0,LEN(AJ$7)>0),COUNTIF($D23:$AH23,Status1),""),"") | AK23: =IFERROR(IF(AND(LEN($B23)>0,LEN(AK$7)>0),COUNTIF($D23:$AH23,Status2),""),"") | AL23: =IFERROR(IF(AND(LEN($B23)>0,LEN(AL$7)>0),COUNTIF($D23:$AH23,Status3),""),"") | AM23: =IFERROR(IF(AND(LEN($B23)>0,LEN(AM$7)>0),COUNTIF($D23:$AH23,Status4),""),"")

Sheet March
B2: MONTHLY ATTENDANCE SHEET
B3: DASHBOARD
B5: ="MARCH - "&Dashboard!$B$7 -> MARCH - 2021 | F5: =IFERROR(IF(LEN(Calc!$BK$20)>0,Calc!$BK$20,""),"") -> A | H5: =IFERROR(IF(LEN(Calc!$BJ$20)>0,Calc!$BJ$20,""),"") -> Attended | M5: =IFERROR(IF(LEN(Calc!$BK$21)>0,Calc!$BK$21,""),"") -> N | O5: =IFERROR(IF(LEN(Calc!$BJ$21)>0,Calc!$BJ$21,""),"") -> Not Attended | T5: =IFERROR(IF(LEN(Calc!$BK$22)>0,Calc!$BK$22,""),"") -> T | V5: =IFERROR(IF(LEN(Calc!$BJ$22)>0,Calc!$BJ$22,""),"") -> Tardy | AA5: =IFERROR(IF(LEN(Calc!$BK$23)>0,Calc!$BK$23,""),"") | AC5: =IFERROR(IF(LEN(Calc!$BJ$23)>0,Calc!$BJ$23,""),"")
B7: Participant | D7: =INDEX(Calc!$BJ$26:$BK$32,WEEKDAY(DATE(Dashboard!$B$7,MATCH($B$5,Calc!$B$6:$B$17,0),D$8),2),2) -> Mon | E7: =INDEX(Calc!$BJ$26:$BK$32,WEEKDAY(DATE(Dashboard!$B$7,MATCH($B$5,Calc!$B$6:$B$17,0),E$8),2),2) -> Tue | F7: =INDEX(Calc!$BJ$26:$BK$32,WEEKDAY(DATE(Dashboard!$B$7,MATCH($B$5,Calc!$B$6:$B$17,0),F$8),2),2) -> Wed | G7: =INDEX(Calc!$BJ$26:$BK$32,WEEKDAY(DATE(Dashboard!$B$7,MATCH($B$5,Calc!$B$6:$B$17,0),G$8),2),2) -> Thu | H7: =INDEX(Calc!$BJ$26:$BK$32,WEEKDAY(DATE(Dashboard!$B$7,MATCH($B$5,Calc!$B$6:$B$17,0),H$8),2),2) -> Fri | I7: =INDEX(Calc!$BJ$26:$BK$32,WEEKDAY(DATE(Dashboard!$B$7,MATCH($B$5,Calc!$B$6:$B$17,0),I$8),2),2) -> Sat | J7: =INDEX(Calc!$BJ$26:$BK$32,WEEKDAY(DATE(Dashboard!$B$7,MATCH($B$5,Calc!$B$6:$B$17,0),J$8),2),2) -> Sun | K7: =INDEX(Calc!$BJ$26:$BK$32,WEEKDAY(DATE(Dashboard!$B$7,MATCH($B$5,Calc!$B$6:$B$17,0),K$8),2),2) -> Mon | ... AH7: =INDEX(Calc!$BJ$26:$BK$32,WEEKDAY(DATE(Dashboard!$B$7,MATCH($B$5,Calc!$B$6:$B$17,0),AH$8),2),2) -> Wed | AJ7: =IF(LEN(Status1)>0,$H$5,"") -> Attended | AK7: =IF(LEN(Status2)>0,$O$5,"") -> Not Attended | AL7: =IF(LEN(Status3)>0,$V$5,"") -> Tardy | AM7: =IF(LEN(Status4)>0,$AC$5,"")
B8: List | D8: 1 | E8: 2 | F8: 3 | G8: 4 | H8: 5 | I8: 6 | J8: 7 | K8: 8 | L8: 9 | M8: 10 | N8: 11 | O8: 12 | P8: 13 | Q8: 14 | R8: 15 | S8: 16 | T8: 17 | U8: 18 | V8: 19 | W8: 20 | X8: 21 | Y8: 22 | Z8: 23 | AA8: 24 | AB8: 25 | AC8: 26 | AD8: 27 | AE8: 28 | AF8: 29 | AG8: 30 | AH8: 31
B9: =IF(LEN(Calc!$D35)>0,Calc!$D35,"") -> Michael Hall | D9: A | E9: A | F9: A | G9: T | H9: N | K9: A | L9: A | M9: A | N9: A | O9: N | R9: A | S9: A | T9: A | U9: N | V9: T | Y9: T | Z9: A | AA9: A | AB9: A | AC9: A | AF9: A | AG9: A | AH9: A | AJ9: =IFERROR(IF(AND(LEN($B9)>0,LEN(AJ$7)>0),COUNTIF($D9:$AH9,Status1),""),"") -> 17 | AK9: =IFERROR(IF(AND(LEN($B9)>0,LEN(AK$7)>0),COUNTIF($D9:$AH9,Status2),""),"") -> 3 | AL9: =IFERROR(IF(AND(LEN($B9)>0,LEN(AL$7)>0),COUNTIF($D9:$AH9,Status3),""),"") -> 3 | AM9: =IFERROR(IF(AND(LEN($B9)>0,LEN(AM$7)>0),COUNTIF($D9:$AH9,Status4),""),"")
B10: =IF(LEN(Calc!$D36)>0,Calc!$D36,"") -> James Beriker | D10: A | E10: A | F10: A | G10: A | H10: A | K10: A | L10: A | M10: N | N10: N | O10: T | R10: T | S10: A | T10: A | U10: A | V10: N | Y10: A | Z10: N | AA10: T | AB10: A | AC10: A | AF10: A | AG10: A | AH10: A | AJ10: =IFERROR(IF(AND(LEN($B10)>0,LEN(AJ$7)>0),COUNTIF($D10:$AH10,Status1),""),"") -> 16 | AK10: =IFERROR(IF(AND(LEN($B10)>0,LEN(AK$7)>0),COUNTIF($D10:$AH10,Status2),""),"") -> 4 | AL10: =IFERROR(IF(AND(LEN($B10)>0,LEN(AL$7)>0),COUNTIF($D10:$AH10,Status3),""),"") -> 3 | AM10: =IFERROR(IF(AND(LEN($B10)>0,LEN(AM$7)>0),COUNTIF($D10:$AH10,Status4),""),"")
B11: =IF(LEN(Calc!$D37)>0,Calc!$D37,"") -> Kelly Hoeyco | D11: A | E11: A | F11: A | G11: A | H11: A | K11: A | L11: A | M11: A | N11: A | O11: A | R11: A | S11: A | T11: A | U11: A | V11: A | Y11: A | Z11: A | AA11: A | AB11: A | AC11: A | AF11: A | AG11: A | AH11: A | AJ11: =IFERROR(IF(AND(LEN($B11)>0,LEN(AJ$7)>0),COUNTIF($D11:$AH11,Status1),""),"") -> 23 | AK11: =IFERROR(IF(AND(LEN($B11)>0,LEN(AK$7)>0),COUNTIF($D11:$AH11,Status2),""),"") -> 0 | AL11: =IFERROR(IF(AND(LEN($B11)>0,LEN(AL$7)>0),COUNTIF($D11:$AH11,Status3),""),"") -> 0 | AM11: =IFERROR(IF(AND(LEN($B11)>0,LEN(AM$7)>0),COUNTIF($D11:$AH11,Status4),""),"")
B12: =IF(LEN(Calc!$D38)>0,Calc!$D38,"") -> Julia Meighan | D12: A | E12: T | F12: N | G12: A | H12: A | K12: A | L12: A | M12: A | N12: N | O12: A | R12: A | S12: A | T12: A | U12: A | V12: N | Y12: T | Z12: A | AA12: A | AB12: A | AC12: T | AF12: T | AG12: A | AH12: A | AJ12: =IFERROR(IF(AND(LEN($B12)>0,LEN(AJ$7)>0),COUNTIF($D12:$AH12,Status1),""),"") -> 16 | AK12: =IFERROR(IF(AND(LEN($B12)>0,LEN(AK$7)>0),COUNTIF($D12:$AH12,Status2),""),"") -> 3 | AL12: =IFERROR(IF(AND(LEN($B12)>0,LEN(AL$7)>0),COUNTIF($D12:$AH12,Status3),""),"") -> 4 | AM12: =IFERROR(IF(AND(LEN($B12)>0,LEN(AM$7)>0),COUNTIF($D12:$AH12,Status4),""),"")
B13: =IF(LEN(Calc!$D39)>0,Calc!$D39,"") -> Kristin Zaslavsky | D13: A | E13: A | F13: A | G13: A | H13: A | K13: A | L13: A | M13: A | N13: A | O13: A | R13: A | S13: A | T13: A | U13: A | V13: A | Y13: A | Z13: A | AA13: A | AB13: A | AC13: A | AF13: A | AG13: A | AH13: A | AJ13: =IFERROR(IF(AND(LEN($B13)>0,LEN(AJ$7)>0),COUNTIF($D13:$AH13,Status1),""),"") -> 23 | AK13: =IFERROR(IF(AND(LEN($B13)>0,LEN(AK$7)>0),COUNTIF($D13:$AH13,Status2),""),"") -> 0 | AL13: =IFERROR(IF(AND(LEN($B13)>0,LEN(AL$7)>0),COUNTIF($D13:$AH13,Status3),""),"") -> 0 | AM13: =IFERROR(IF(AND(LEN($B13)>0,LEN(AM$7)>0),COUNTIF($D13:$AH13,Status4),""),"")
B14: =IF(LEN(Calc!$D40)>0,Calc!$D40,"") -> Laurinda Seabra | D14: A | E14: A | F14: A | G14: T | H14: N | K14: A | L14: A | M14: A | N14: A | O14: N | R14: A | S14: A | T14: A | U14: N | V14: T | Y14: T | Z14: A | AA14: A | AB14: A | AC14: A | AF14: A | AG14: A | AH14: A | AJ14: =IFERROR(IF(AND(LEN($B14)>0,LEN(AJ$7)>0),COUNTIF($D14:$AH14,Status1),""),"") -> 17 | AK14: =IFERROR(IF(AND(LEN($B14)>0,LEN(AK$7)>0),COUNTIF($D14:$AH14,Status2),""),"") -> 3 | AL14: =IFERROR(IF(AND(LEN($B14)>0,LEN(AL$7)>0),COUNTIF($D14:$AH14,Status3),""),"") -> 3 | AM14: =IFERROR(IF(AND(LEN($B14)>0,LEN(AM$7)>0),COUNTIF($D14:$AH14,Status4),""),"")
B15: =IF(LEN(Calc!$D41)>0,Calc!$D41,"") -> James Maltese | D15: A | E15: A | F15: A | G15: A | H15: A | K15: A | L15: A | M15: N | N15: N | O15: T | R15: T | S15: A | T15: A | U15: A | V15: N | Y15: A | Z15: N | AA15: T | AB15: A | AC15: A | AF15: A | AG15: A | AH15: A | AJ15: =IFERROR(IF(AND(LEN($B15)>0,LEN(AJ$7)>0),COUNTIF($D15:$AH15,Status1),""),"") -> 16 | AK15: =IFERROR(IF(AND(LEN($B15)>0,LEN(AK$7)>0),COUNTIF($D15:$AH15,Status2),""),"") -> 4 | AL15: =IFERROR(IF(AND(LEN($B15)>0,LEN(AL$7)>0),COUNTIF($D15:$AH15,Status3),""),"") -> 3 | AM15: =IFERROR(IF(AND(LEN($B15)>0,LEN(AM$7)>0),COUNTIF($D15:$AH15,Status4),""),"")
B16: =IF(LEN(Calc!$D42)>0,Calc!$D42,"") -> Robert Balentine | D16: A | E16: T | F16: N | G16: A | H16: A | K16: A | L16: A | M16: A | N16: N | O16: A | R16: A | S16: A | T16: A | U16: A | V16: N | Y16: T | Z16: A | AA16: A | AB16: A | AC16: T | AF16: T | AG16: A | AH16: A | AJ16: =IFERROR(IF(AND(LEN($B16)>0,LEN(AJ$7)>0),COUNTIF($D16:$AH16,Status1),""),"") -> 16 | AK16: =IFERROR(IF(AND(LEN($B16)>0,LEN(AK$7)>0),COUNTIF($D16:$AH16,Status2),""),"") -> 3 | AL16: =IFERROR(IF(AND(LEN($B16)>0,LEN(AL$7)>0),COUNTIF($D16:$AH16,Status3),""),"") -> 4 | AM16: =IFERROR(IF(AND(LEN($B16)>0,LEN(AM$7)>0),COUNTIF($D16:$AH16,Status4),""),"")
B17: =IF(LEN(Calc!$D43)>0,Calc!$D43,"") | AJ17: =IFERROR(IF(AND(LEN($B17)>0,LEN(AJ$7)>0),COUNTIF($D17:$AH17,Status1),""),"") | AK17: =IFERROR(IF(AND(LEN($B17)>0,LEN(AK$7)>0),COUNTIF($D17:$AH17,Status2),""),"") | AL17: =IFERROR(IF(AND(LEN($B17)>0,LEN(AL$7)>0),COUNTIF($D17:$AH17,Status3),""),"") | AM17: =IFERROR(IF(AND(LEN($B17)>0,LEN(AM$7)>0),COUNTIF($D17:$AH17,Status4),""),"")
B18: =IF(LEN(Calc!$D44)>0,Calc!$D44,"") | AJ18: =IFERROR(IF(AND(LEN($B18)>0,LEN(AJ$7)>0),COUNTIF($D18:$AH18,Status1),""),"") | AK18: =IFERROR(IF(AND(LEN($B18)>0,LEN(AK$7)>0),COUNTIF($D18:$AH18,Status2),""),"") | AL18: =IFERROR(IF(AND(LEN($B18)>0,LEN(AL$7)>0),COUNTIF($D18:$AH18,Status3),""),"") | AM18: =IFERROR(IF(AND(LEN($B18)>0,LEN(AM$7)>0),COUNTIF($D18:$AH18,Status4),""),"")
B19: =IF(LEN(Calc!$D45)>0,Calc!$D45,"") | AJ19: =IFERROR(IF(AND(LEN($B19)>0,LEN(AJ$7)>0),COUNTIF($D19:$AH19,Status1),""),"") | AK19: =IFERROR(IF(AND(LEN($B19)>0,LEN(AK$7)>0),COUNTIF($D19:$AH19,Status2),""),"") | AL19: =IFERROR(IF(AND(LEN($B19)>0,LEN(AL$7)>0),COUNTIF($D19:$AH19,Status3),""),"") | AM19: =IFERROR(IF(AND(LEN($B19)>0,LEN(AM$7)>0),COUNTIF($D19:$AH19,Status4),""),"")
B20: =IF(LEN(Calc!$D46)>0,Calc!$D46,"") | AJ20: =IFERROR(IF(AND(LEN($B20)>0,LEN(AJ$7)>0),COUNTIF($D20:$AH20,Status1),""),"") | AK20: =IFERROR(IF(AND(LEN($B20)>0,LEN(AK$7)>0),COUNTIF($D20:$AH20,Status2),""),"") | AL20: =IFERROR(IF(AND(LEN($B20)>0,LEN(AL$7)>0),COUNTIF($D20:$AH20,Status3),""),"") | AM20: =IFERROR(IF(AND(LEN($B20)>0,LEN(AM$7)>0),COUNTIF($D20:$AH20,Status4),""),"")
B21: =IF(LEN(Calc!$D47)>0,Calc!$D47,"") | AJ21: =IFERROR(IF(AND(LEN($B21)>0,LEN(AJ$7)>0),COUNTIF($D21:$AH21,Status1),""),"") | AK21: =IFERROR(IF(AND(LEN($B21)>0,LEN(AK$7)>0),COUNTIF($D21:$AH21,Status2),""),"") | AL21: =IFERROR(IF(AND(LEN($B21)>0,LEN(AL$7)>0),COUNTIF($D21:$AH21,Status3),""),"") | AM21: =IFERROR(IF(AND(LEN($B21)>0,LEN(AM$7)>0),COUNTIF($D21:$AH21,Status4),""),"")
B22: =IF(LEN(Calc!$D48)>0,Calc!$D48,"") | AJ22: =IFERROR(IF(AND(LEN($B22)>0,LEN(AJ$7)>0),COUNTIF($D22:$AH22,Status1),""),"") | AK22: =IFERROR(IF(AND(LEN($B22)>0,LEN(AK$7)>0),COUNTIF($D22:$AH22,Status2),""),"") | AL22: =IFERROR(IF(AND(LEN($B22)>0,LEN(AL$7)>0),COUNTIF($D22:$AH22,Status3),""),"") | AM22: =IFERROR(IF(AND(LEN($B22)>0,LEN(AM$7)>0),COUNTIF($D22:$AH22,Status4),""),"")
B23: =IF(LEN(Calc!$D49)>0,Calc!$D49,"") | AJ23: =IFERROR(IF(AND(LEN($B23)>0,LEN(AJ$7)>0),COUNTIF($D23:$AH23,Status1),""),"") | AK23: =IFERROR(IF(AND(LEN($B23)>0,LEN(AK$7)>0),COUNTIF($D23:$AH23,Status2),""),"") | AL23: =IFERROR(IF(AND(LEN($B23)>0,LEN(AL$7)>0),COUNTIF($D23:$AH23,Status3),""),"") | AM23: =IFERROR(IF(AND(LEN($B23)>0,LEN(AM$7)>0),COUNTIF($D23:$AH23,Status4),""),"")

Sheet April
B2: MONTHLY ATTENDANCE SHEET
B3: DASHBOARD
B5: ="APRIL - "&Dashboard!$B$7 -> APRIL - 2021 | F5: =IFERROR(IF(LEN(Calc!$BK$20)>0,Calc!$BK$20,""),"") -> A | H5: =IFERROR(IF(LEN(Calc!$BJ$20)>0,Calc!$BJ$20,""),"") -> Attended | M5: =IFERROR(IF(LEN(Calc!$BK$21)>0,Calc!$BK$21,""),"") -> N | O5: =IFERROR(IF(LEN(Calc!$BJ$21)>0,Calc!$BJ$21,""),"") -> Not Attended | T5: =IFERROR(IF(LEN(Calc!$BK$22)>0,Calc!$BK$22,""),"") -> T | V5: =IFERROR(IF(LEN(Calc!$BJ$22)>0,Calc!$BJ$22,""),"") -> Tardy | AA5: =IFERROR(IF(LEN(Calc!$BK$23)>0,Calc!$BK$23,""),"") | AC5: =IFERROR(IF(LEN(Calc!$BJ$23)>0,Calc!$BJ$23,""),"")
B7: Participant | D7: =INDEX(Calc!$BJ$26:$BK$32,WEEKDAY(DATE(Dashboard!$B$7,MATCH($B$5,Calc!$B$6:$B$17,0),D$8),2),2) -> Thu | E7: =INDEX(Calc!$BJ$26:$BK$32,WEEKDAY(DATE(Dashboard!$B$7,MATCH($B$5,Calc!$B$6:$B$17,0),E$8),2),2) -> Fri | F7: =INDEX(Calc!$BJ$26:$BK$32,WEEKDAY(DATE(Dashboard!$B$7,MATCH($B$5,Calc!$B$6:$B$17,0),F$8),2),2) -> Sat | G7: =INDEX(Calc!$BJ$26:$BK$32,WEEKDAY(DATE(Dashboard!$B$7,MATCH($B$5,Calc!$B$6:$B$17,0),G$8),2),2) -> Sun | H7: =INDEX(Calc!$BJ$26:$BK$32,WEEKDAY(DATE(Dashboard!$B$7,MATCH($B$5,Calc!$B$6:$B$17,0),H$8),2),2) -> Mon | I7: =INDEX(Calc!$BJ$26:$BK$32,WEEKDAY(DATE(Dashboard!$B$7,MATCH($B$5,Calc!$B$6:$B$17,0),I$8),2),2) -> Tue | J7: =INDEX(Calc!$BJ$26:$BK$32,WEEKDAY(DATE(Dashboard!$B$7,MATCH($B$5,Calc!$B$6:$B$17,0),J$8),2),2) -> Wed | K7: =INDEX(Calc!$BJ$26:$BK$32,WEEKDAY(DATE(Dashboard!$B$7,MATCH($B$5,Calc!$B$6:$B$17,0),K$8),2),2) -> Thu | ... AH7: =INDEX(Calc!$BJ$26:$BK$32,WEEKDAY(DATE(Dashboard!$B$7,MATCH($B$5,Calc!$B$6:$B$17,0),AH$8),2),2) -> Sat | AJ7: =IF(LEN(Status1)>0,$H$5,"") -> Attended | AK7: =IF(LEN(Status2)>0,$O$5,"") -> Not Attended | AL7: =IF(LEN(Status3)>0,$V$5,"") -> Tardy | AM7: =IF(LEN(Status4)>0,$AC$5,"")
B8: List | D8: 1 | E8: 2 | F8: 3 | G8: 4 | H8: 5 | I8: 6 | J8: 7 | K8: 8 | L8: 9 | M8: 10 | N8: 11 | O8: 12 | P8: 13 | Q8: 14 | R8: 15 | S8: 16 | T8: 17 | U8: 18 | V8: 19 | W8: 20 | X8: 21 | Y8: 22 | Z8: 23 | AA8: 24 | AB8: 25 | AC8: 26 | AD8: 27 | AE8: 28 | AF8: 29 | AG8: 30 | AH8: 31
B9: =IF(LEN(Calc!$D35)>0,Calc!$D35,"") -> Michael Hall | D9: A | E9: A | H9: T | I9: A | J9: A | K9: A | L9: N | O9: A | P9: A | Q9: A | R9: T | S9: A | V9: A | W9: A | X9: A | Y9: A | Z9: N | AC9: N | AD9: T | AE9: A | AF9: A | AG9: A | AJ9: =IFERROR(IF(AND(LEN($B9)>0,LEN(AJ$7)>0),COUNTIF($D9:$AH9,Status1),""),"") -> 16 | AK9: =IFERROR(IF(AND(LEN($B9)>0,LEN(AK$7)>0),COUNTIF($D9:$AH9,Status2),""),"") -> 3 | AL9: =IFERROR(IF(AND(LEN($B9)>0,LEN(AL$7)>0),COUNTIF($D9:$AH9,Status3),""),"") -> 3 | AM9: =IFERROR(IF(AND(LEN($B9)>0,LEN(AM$7)>0),COUNTIF($D9:$AH9,Status4),""),"")
B10: =IF(LEN(Calc!$D36)>0,Calc!$D36,"") -> James Beriker | D10: A | E10: A | H10: A | I10: T | J10: A | K10: N | L10: A | O10: A | P10: A | Q10: A | R10: A | S10: A | V10: A | W10: A | X10: A | Y10: A | Z10: A | AC10: A | AD10: A | AE10: A | AF10: A | AG10: A | AJ10: =IFERROR(IF(AND(LEN($B10)>0,LEN(AJ$7)>0),COUNTIF($D10:$AH10,Status1),""),"") -> 20 | AK10: =IFERROR(IF(AND(LEN($B10)>0,LEN(AK$7)>0),COUNTIF($D10:$AH10,Status2),""),"") -> 1 | AL10: =IFERROR(IF(AND(LEN($B10)>0,LEN(AL$7)>0),COUNTIF($D10:$AH10,Status3),""),"") -> 1 | AM10: =IFERROR(IF(AND(LEN($B10)>0,LEN(AM$7)>0),COUNTIF($D10:$AH10,Status4),""),"")
B11: =IF(LEN(Calc!$D37)>0,Calc!$D37,"") -> Kelly Hoeyco | D11: T | E11: A | H11: A | I11: A | J11: A | K11: A | L11: A | O11: A | P11: A | Q11: A | R11: A | S11: A | V11: A | W11: A | X11: A | Y11: A | Z11: A | AC11: A | AD11: A | AE11: A | AF11: A | AG11: A | AJ11: =IFERROR(IF(AND(LEN($B11)>0,LEN(AJ$7)>0),COUNTIF($D11:$AH11,Status1),""),"") -> 21 | AK11: =IFERROR(IF(AND(LEN($B11)>0,LEN(AK$7)>0),COUNTIF($D11:$AH11,Status2),""),"") -> 0 | AL11: =IFERROR(IF(AND(LEN($B11)>0,LEN(AL$7)>0),COUNTIF($D11:$AH11,Status3),""),"") -> 1 | AM11: =IFERROR(IF(AND(LEN($B11)>0,LEN(AM$7)>0),COUNTIF($D11:$AH11,Status4),""),"")
B12: =IF(LEN(Calc!$D38)>0,Calc!$D38,"") -> Julia Meighan | D12: N | E12: A | H12: T | I12: A | J12: A | K12: A | L12: A | O12: A | P12: A | Q12: A | R12: A | S12: A | V12: A | W12: A | X12: A | Y12: A | Z12: A | AC12: A | AD12: A | AE12: A | AF12: A | AG12: A | AJ12: =IFERROR(IF(AND(LEN($B12)>0,LEN(AJ$7)>0),COUNTIF($D12:$AH12,Status1),""),"") -> 20 | AK12: =IFERROR(IF(AND(LEN($B12)>0,LEN(AK$7)>0),COUNTIF($D12:$AH12,Status2),""),"") -> 1 | AL12: =IFERROR(IF(AND(LEN($B12)>0,LEN(AL$7)>0),COUNTIF($D12:$AH12,Status3),""),"") -> 1 | AM12: =IFERROR(IF(AND(LEN($B12)>0,LEN(AM$7)>0),COUNTIF($D12:$AH12,Status4),""),"")
B13: =IF(LEN(Calc!$D39)>0,Calc!$D39,"") -> Kristin Zaslavsky | D13: A | E13: A | H13: A | I13: N | J13: A | K13: A | L13: A | O13: A | P13: A | Q13: T | R13: A | S13: A | V13: A | W13: A | X13: T | Y13: A | Z13: A | AC13: A | AD13: A | AE13: A | AF13: A | AG13: A | AJ13: =IFERROR(IF(AND(LEN($B13)>0,LEN(AJ$7)>0),COUNTIF($D13:$AH13,Status1),""),"") -> 19 | AK13: =IFERROR(IF(AND(LEN($B13)>0,LEN(AK$7)>0),COUNTIF($D13:$AH13,Status2),""),"") -> 1 | AL13: =IFERROR(IF(AND(LEN($B13)>0,LEN(AL$7)>0),COUNTIF($D13:$AH13,Status3),""),"") -> 2 | AM13: =IFERROR(IF(AND(LEN($B13)>0,LEN(AM$7)>0),COUNTIF($D13:$AH13,Status4),""),"")
B14: =IF(LEN(Calc!$D40)>0,Calc!$D40,"") -> Laurinda Seabra | D14: N | E14: A | H14: T | I14: A | J14: A | K14: A | L14: A | O14: A | P14: A | Q14: A | R14: N | S14: A | V14: A | W14: A | X14: A | Y14: A | Z14: A | AC14: A | AD14: A | AE14: A | AF14: A | AG14: A | AJ14: =IFERROR(IF(AND(LEN($B14)>0,LEN(AJ$7)>0),COUNTIF($D14:$AH14,Status1),""),"") -> 19 | AK14: =IFERROR(IF(AND(LEN($B14)>0,LEN(AK$7)>0),COUNTIF($D14:$AH14,Status2),""),"") -> 2 | AL14: =IFERROR(IF(AND(LEN($B14)>0,LEN(AL$7)>0),COUNTIF($D14:$AH14,Status3),""),"") -> 1 | AM14: =IFERROR(IF(AND(LEN($B14)>0,LEN(AM$7)>0),COUNTIF($D14:$AH14,Status4),""),"")
B15: =IF(LEN(Calc!$D41)>0,Calc!$D41,"") -> James Maltese | D15: A | E15: A | H15: T | I15: A | J15: A | K15: A | L15: N | O15: A | P15: A | Q15: A | R15: T | S15: A | V15: A | W15: A | X15: A | Y15: A | Z15: N | AC15: N | AD15: T | AE15: A | AF15: A | AG15: A | AJ15: =IFERROR(IF(AND(LEN($B15)>0,LEN(AJ$7)>0),COUNTIF($D15:$AH15,Status1),""),"") -> 16 | AK15: =IFERROR(IF(AND(LEN($B15)>0,LEN(AK$7)>0),COUNTIF($D15:$AH15,Status2),""),"") -> 3 | AL15: =IFERROR(IF(AND(LEN($B15)>0,LEN(AL$7)>0),COUNTIF($D15:$AH15,Status3),""),"") -> 3 | AM15: =IFERROR(IF(AND(LEN($B15)>0,LEN(AM$7)>0),COUNTIF($D15:$AH15,Status4),""),"")
B16: =IF(LEN(Calc!$D42)>0,Calc!$D42,"") -> Robert Balentine | D16: A | E16: A | H16: A | I16: T | J16: A | K16: N | L16: A | O16: A | P16: A | Q16: A | R16: A | S16: A | V16: A | W16: A | X16: A | Y16: A | Z16: A | AC16: A | AD16: A | AE16: A | AF16: A | AG16: A | AJ16: =IFERROR(IF(AND(LEN($B16)>0,LEN(AJ$7)>0),COUNTIF($D16:$AH16,Status1),""),"") -> 20 | AK16: =IFERROR(IF(AND(LEN($B16)>0,LEN(AK$7)>0),COUNTIF($D16:$AH16,Status2),""),"") -> 1 | AL16: =IFERROR(IF(AND(LEN($B16)>0,LEN(AL$7)>0),COUNTIF($D16:$AH16,Status3),""),"") -> 1 | AM16: =IFERROR(IF(AND(LEN($B16)>0,LEN(AM$7)>0),COUNTIF($D16:$AH16,Status4),""),"")
B17: =IF(LEN(Calc!$D43)>0,Calc!$D43,"") | AJ17: =IFERROR(IF(AND(LEN($B17)>0,LEN(AJ$7)>0),COUNTIF($D17:$AH17,Status1),""),"") | AK17: =IFERROR(IF(AND(LEN($B17)>0,LEN(AK$7)>0),COUNTIF($D17:$AH17,Status2),""),"") | AL17: =IFERROR(IF(AND(LEN($B17)>0,LEN(AL$7)>0),COUNTIF($D17:$AH17,Status3),""),"") | AM17: =IFERROR(IF(AND(LEN($B17)>0,LEN(AM$7)>0),COUNTIF($D17:$AH17,Status4),""),"")
B18: =IF(LEN(Calc!$D44)>0,Calc!$D44,"") | AJ18: =IFERROR(IF(AND(LEN($B18)>0,LEN(AJ$7)>0),COUNTIF($D18:$AH18,Status1),""),"") | AK18: =IFERROR(IF(AND(LEN($B18)>0,LEN(AK$7)>0),COUNTIF($D18:$AH18,Status2),""),"") | AL18: =IFERROR(IF(AND(LEN($B18)>0,LEN(AL$7)>0),COUNTIF($D18:$AH18,Status3),""),"") | AM18: =IFERROR(IF(AND(LEN($B18)>0,LEN(AM$7)>0),COUNTIF($D18:$AH18,Status4),""),"")
B19: =IF(LEN(Calc!$D45)>0,Calc!$D45,"") | AJ19: =IFERROR(IF(AND(LEN($B19)>0,LEN(AJ$7)>0),COUNTIF($D19:$AH19,Status1),""),"") | AK19: =IFERROR(IF(AND(LEN($B19)>0,LEN(AK$7)>0),COUNTIF($D19:$AH19,Status2),""),"") | AL19: =IFERROR(IF(AND(LEN($B19)>0,LEN(AL$7)>0),COUNTIF($D19:$AH19,Status3),""),"") | AM19: =IFERROR(IF(AND(LEN($B19)>0,LEN(AM$7)>0),COUNTIF($D19:$AH19,Status4),""),"")
B20: =IF(LEN(Calc!$D46)>0,Calc!$D46,"") | AJ20: =IFERROR(IF(AND(LEN($B20)>0,LEN(AJ$7)>0),COUNTIF($D20:$AH20,Status1),""),"") | AK20: =IFERROR(IF(AND(LEN($B20)>0,LEN(AK$7)>0),COUNTIF($D20:$AH20,Status2),""),"") | AL20: =IFERROR(IF(AND(LEN($B20)>0,LEN(AL$7)>0),COUNTIF($D20:$AH20,Status3),""),"") | AM20: =IFERROR(IF(AND(LEN($B20)>0,LEN(AM$7)>0),COUNTIF($D20:$AH20,Status4),""),"")
B21: =IF(LEN(Calc!$D47)>0,Calc!$D47,"") | AJ21: =IFERROR(IF(AND(LEN($B21)>0,LEN(AJ$7)>0),COUNTIF($D21:$AH21,Status1),""),"") | AK21: =IFERROR(IF(AND(LEN($B21)>0,LEN(AK$7)>0),COUNTIF($D21:$AH21,Status2),""),"") | AL21: =IFERROR(IF(AND(LEN($B21)>0,LEN(AL$7)>0),COUNTIF($D21:$AH21,Status3),""),"") | AM21: =IFERROR(IF(AND(LEN($B21)>0,LEN(AM$7)>0),COUNTIF($D21:$AH21,Status4),""),"")
B22: =IF(LEN(Calc!$D48)>0,Calc!$D48,"") | AJ22: =IFERROR(IF(AND(LEN($B22)>0,LEN(AJ$7)>0),COUNTIF($D22:$AH22,Status1),""),"") | AK22: =IFERROR(IF(AND(LEN($B22)>0,LEN(AK$7)>0),COUNTIF($D22:$AH22,Status2),""),"") | AL22: =IFERROR(IF(AND(LEN($B22)>0,LEN(AL$7)>0),COUNTIF($D22:$AH22,Status3),""),"") | AM22: =IFERROR(IF(AND(LEN($B22)>0,LEN(AM$7)>0),COUNTIF($D22:$AH22,Status4),""),"")
B23: =IF(LEN(Calc!$D49)>0,Calc!$D49,"") | AJ23: =IFERROR(IF(AND(LEN($B23)>0,LEN(AJ$7)>0),COUNTIF($D23:$AH23,Status1),""),"") | AK23: =IFERROR(IF(AND(LEN($B23)>0,LEN(AK$7)>0),COUNTIF($D23:$AH23,Status2),""),"") | AL23: =IFERROR(IF(AND(LEN($B23)>0,LEN(AL$7)>0),COUNTIF($D23:$AH23,Status3),""),"") | AM23: =IFERROR(IF(AND(LEN($B23)>0,LEN(AM$7)>0),COUNTIF($D23:$AH23,Status4),""),"")

Sheet May
B2: MONTHLY ATTENDANCE SHEET
B3: DASHBOARD
B5: ="MAY - "&Dashboard!$B$7 -> MAY - 2021 | F5: =IFERROR(IF(LEN(Calc!$BK$20)>0,Calc!$BK$20,""),"") -> A | H5: =IFERROR(IF(LEN(Calc!$BJ$20)>0,Calc!$BJ$20,""),"") -> Attended | M5: =IFERROR(IF(LEN(Calc!$BK$21)>0,Calc!$BK$21,""),"") -> N | O5: =IFERROR(IF(LEN(Calc!$BJ$21)>0,Calc!$BJ$21,""),"") -> Not Attended | T5: =IFERROR(IF(LEN(Calc!$BK$22)>0,Calc!$BK$22,""),"") -> T | V5: =IFERROR(IF(LEN(Calc!$BJ$22)>0,Calc!$BJ$22,""),"") -> Tardy | AA5: =IFERROR(IF(LEN(Calc!$BK$23)>0,Calc!$BK$23,""),"") | AC5: =IFERROR(IF(LEN(Calc!$BJ$23)>0,Calc!$BJ$23,""),"")
B7: Participant | D7: =INDEX(Calc!$BJ$26:$BK$32,WEEKDAY(DATE(Dashboard!$B$7,MATCH($B$5,Calc!$B$6:$B$17,0),D$8),2),2) -> Sat | E7: =INDEX(Calc!$BJ$26:$BK$32,WEEKDAY(DATE(Dashboard!$B$7,MATCH($B$5,Calc!$B$6:$B$17,0),E$8),2),2) -> Sun | F7: =INDEX(Calc!$BJ$26:$BK$32,WEEKDAY(DATE(Dashboard!$B$7,MATCH($B$5,Calc!$B$6:$B$17,0),F$8),2),2) -> Mon | G7: =INDEX(Calc!$BJ$26:$BK$32,WEEKDAY(DATE(Dashboard!$B$7,MATCH($B$5,Calc!$B$6:$B$17,0),G$8),2),2) -> Tue | H7: =INDEX(Calc!$BJ$26:$BK$32,WEEKDAY(DATE(Dashboard!$B$7,MATCH($B$5,Calc!$B$6:$B$17,0),H$8),2),2) -> Wed | I7: =INDEX(Calc!$BJ$26:$BK$32,WEEKDAY(DATE(Dashboard!$B$7,MATCH($B$5,Calc!$B$6:$B$17,0),I$8),2),2) -> Thu | J7: =INDEX(Calc!$BJ$26:$BK$32,WEEKDAY(DATE(Dashboard!$B$7,MATCH($B$5,Calc!$B$6:$B$17,0),J$8),2),2) -> Fri | K7: =INDEX(Calc!$BJ$26:$BK$32,WEEKDAY(DATE(Dashboard!$B$7,MATCH($B$5,Calc!$B$6:$B$17,0),K$8),2),2) -> Sat | ... AH7: =INDEX(Calc!$BJ$26:$BK$32,WEEKDAY(DATE(Dashboard!$B$7,MATCH($B$5,Calc!$B$6:$B$17,0),AH$8),2),2) -> Mon | AJ7: =IF(LEN(Status1)>0,$H$5,"") -> Attended | AK7: =IF(LEN(Status2)>0,$O$5,"") -> Not Attended | AL7: =IF(LEN(Status3)>0,$V$5,"") -> Tardy | AM7: =IF(LEN(Status4)>0,$AC$5,"")
B8: List | D8: 1 | E8: 2 | F8: 3 | G8: 4 | H8: 5 | I8: 6 | J8: 7 | K8: 8 | L8: 9 | M8: 10 | N8: 11 | O8: 12 | P8: 13 | Q8: 14 | R8: 15 | S8: 16 | T8: 17 | U8: 18 | V8: 19 | W8: 20 | X8: 21 | Y8: 22 | Z8: 23 | AA8: 24 | AB8: 25 | AC8: 26 | AD8: 27 | AE8: 28 | AF8: 29 | AG8: 30 | AH8: 31
B9: =IF(LEN(Calc!$D35)>0,Calc!$D35,"") -> Michael Hall | F9: A | G9: A | H9: A | I9: T | J9: A | M9: A | N9: A | O9: N | P9: A | Q9: A | T9: A | U9: T | V9: A | W9: A | X9: A | AA9: N | AB9: T | AC9: A | AD9: A | AE9: A | AH9: A | AJ9: =IFERROR(IF(AND(LEN($B9)>0,LEN(AJ$7)>0),COUNTIF($D9:$AH9,Status1),""),"") -> 16 | AK9: =IFERROR(IF(AND(LEN($B9)>0,LEN(AK$7)>0),COUNTIF($D9:$AH9,Status2),""),"") -> 2 | AL9: =IFERROR(IF(AND(LEN($B9)>0,LEN(AL$7)>0),COUNTIF($D9:$AH9,Status3),""),"") -> 3 | AM9: =IFERROR(IF(AND(LEN($B9)>0,LEN(AM$7)>0),COUNTIF($D9:$AH9,Status4),""),"")
B10: =IF(LEN(Calc!$D36)>0,Calc!$D36,"") -> James Beriker | F10: A | G10: A | H10: N | I10: A | J10: A | M10: A | N10: A | O10: A | P10: T | Q10: A | T10: A | U10: A | V10: A | W10: A | X10: A | AA10: A | AB10: A | AC10: A | AD10: A | AE10: A | AH10: T | AJ10: =IFERROR(IF(AND(LEN($B10)>0,LEN(AJ$7)>0),COUNTIF($D10:$AH10,Status1),""),"") -> 18 | AK10: =IFERROR(IF(AND(LEN($B10)>0,LEN(AK$7)>0),COUNTIF($D10:$AH10,Status2),""),"") -> 1 | AL10: =IFERROR(IF(AND(LEN($B10)>0,LEN(AL$7)>0),COUNTIF($D10:$AH10,Status3),""),"") -> 2 | AM10: =IFERROR(IF(AND(LEN($B10)>0,LEN(AM$7)>0),COUNTIF($D10:$AH10,Status4),""),"")
B11: =IF(LEN(Calc!$D37)>0,Calc!$D37,"") -> Kelly Hoeyco | F11: N | G11: A | H11: A | I11: T | J11: A | M11: A | N11: N | O11: A | P11: A | Q11: A | T11: A | U11: A | V11: A | W11: A | X11: A | AA11: T | AB11: A | AC11: N | AD11: A | AE11: A | AH11: A | AJ11: =IFERROR(IF(AND(LEN($B11)>0,LEN(AJ$7)>0),COUNTIF($D11:$AH11,Status1),""),"") -> 16 | AK11: =IFERROR(IF(AND(LEN($B11)>0,LEN(AK$7)>0),COUNTIF($D11:$AH11,Status2),""),"") -> 3 | AL11: =IFERROR(IF(AND(LEN($B11)>0,LEN(AL$7)>0),COUNTIF($D11:$AH11,Status3),""),"") -> 2 | AM11: =IFERROR(IF(AND(LEN($B11)>0,LEN(AM$7)>0),COUNTIF($D11:$AH11,Status4),""),"")
B12: =IF(LEN(Calc!$D38)>0,Calc!$D38,"") -> Julia Meighan | F12: A | G12: A | H12: A | I12: T | J12: A | M12: A | N12: A | O12: N | P12: A | Q12: A | T12: A | U12: T | V12: A | W12: A | X12: A | AA12: N | AB12: T | AC12: A | AD12: A | AE12: A | AH12: A | AJ12: =IFERROR(IF(AND(LEN($B12)>0,LEN(AJ$7)>0),COUNTIF($D12:$AH12,Status1),""),"") -> 16 | AK12: =IFERROR(IF(AND(LEN($B12)>0,LEN(AK$7)>0),COUNTIF($D12:$AH12,Status2),""),"") -> 2 | AL12: =IFERROR(IF(AND(LEN($B12)>0,LEN(AL$7)>0),COUNTIF($D12:$AH12,Status3),""),"") -> 3 | AM12: =IFERROR(IF(AND(LEN($B12)>0,LEN(AM$7)>0),COUNTIF($D12:$AH12,Status4),""),"")
B13: =IF(LEN(Calc!$D39)>0,Calc!$D39,"") -> Kristin Zaslavsky | F13: A | G13: A | H13: N | I13: A | J13: A | M13: A | N13: A | O13: A | P13: T | Q13: A | T13: A | U13: A | V13: N | W13: A | X13: A | AA13: A | AB13: A | AC13: A | AD13: T | AE13: A | AH13: T | AJ13: =IFERROR(IF(AND(LEN($B13)>0,LEN(AJ$7)>0),COUNTIF($D13:$AH13,Status1),""),"") -> 16 | AK13: =IFERROR(IF(AND(LEN($B13)>0,LEN(AK$7)>0),COUNTIF($D13:$AH13,Status2),""),"") -> 2 | AL13: =IFERROR(IF(AND(LEN($B13)>0,LEN(AL$7)>0),COUNTIF($D13:$AH13,Status3),""),"") -> 3 | AM13: =IFERROR(IF(AND(LEN($B13)>0,LEN(AM$7)>0),COUNTIF($D13:$AH13,Status4),""),"")
B14: =IF(LEN(Calc!$D40)>0,Calc!$D40,"") -> Laurinda Seabra | F14: N | G14: A | H14: A | I14: T | J14: A | M14: A | N14: N | O14: A | P14: A | Q14: A | T14: A | U14: A | V14: A | W14: A | X14: A | AA14: T | AB14: A | AC14: N | AD14: A | AE14: A | AH14: A | AJ14: =IFERROR(IF(AND(LEN($B14)>0,LEN(AJ$7)>0),COUNTIF($D14:$AH14,Status1),""),"") -> 16 | AK14: =IFERROR(IF(AND(LEN($B14)>0,LEN(AK$7)>0),COUNTIF($D14:$AH14,Status2),""),"") -> 3 | AL14: =IFERROR(IF(AND(LEN($B14)>0,LEN(AL$7)>0),COUNTIF($D14:$AH14,Status3),""),"") -> 2 | AM14: =IFERROR(IF(AND(LEN($B14)>0,LEN(AM$7)>0),COUNTIF($D14:$AH14,Status4),""),"")
B15: =IF(LEN(Calc!$D41)>0,Calc!$D41,"") -> James Maltese | F15: A | G15: A | H15: N | I15: A | J15: A | M15: A | N15: A | O15: A | P15: T | Q15: A | T15: A | U15: A | V15: A | W15: A | X15: A | AA15: A | AB15: A | AC15: A | AD15: A | AE15: A | AH15: T | AJ15: =IFERROR(IF(AND(LEN($B15)>0,LEN(AJ$7)>0),COUNTIF($D15:$AH15,Status1),""),"") -> 18 | AK15: =IFERROR(IF(AND(LEN($B15)>0,LEN(AK$7)>0),COUNTIF($D15:$AH15,Status2),""),"") -> 1 | AL15: =IFERROR(IF(AND(LEN($B15)>0,LEN(AL$7)>0),COUNTIF($D15:$AH15,Status3),""),"") -> 2 | AM15: =IFERROR(IF(AND(LEN($B15)>0,LEN(AM$7)>0),COUNTIF($D15:$AH15,Status4),""),"")
B16: =IF(LEN(Calc!$D42)>0,Calc!$D42,"") -> Robert Balentine | F16: N | G16: A | H16: A | I16: T | J16: A | M16: A | N16: N | O16: A | P16: A | Q16: A | T16: A | U16: A | V16: A | W16: A | X16: A | AA16: A | AB16: T | AC16: A | AD16: A | AE16: N | AH16: A | AJ16: =IFERROR(IF(AND(LEN($B16)>0,LEN(AJ$7)>0),COUNTIF($D16:$AH16,Status1),""),"") -> 16 | AK16: =IFERROR(IF(AND(LEN($B16)>0,LEN(AK$7)>0),COUNTIF($D16:$AH16,Status2),""),"") -> 3 | AL16: =IFERROR(IF(AND(LEN($B16)>0,LEN(AL$7)>0),COUNTIF($D16:$AH16,Status3),""),"") -> 2 | AM16: =IFERROR(IF(AND(LEN($B16)>0,LEN(AM$7)>0),COUNTIF($D16:$AH16,Status4),""),"")
B17: =IF(LEN(Calc!$D43)>0,Calc!$D43,"") | AJ17: =IFERROR(IF(AND(LEN($B17)>0,LEN(AJ$7)>0),COUNTIF($D17:$AH17,Status1),""),"") | AK17: =IFERROR(IF(AND(LEN($B17)>0,LEN(AK$7)>0),COUNTIF($D17:$AH17,Status2),""),"") | AL17: =IFERROR(IF(AND(LEN($B17)>0,LEN(AL$7)>0),COUNTIF($D17:$AH17,Status3),""),"") | AM17: =IFERROR(IF(AND(LEN($B17)>0,LEN(AM$7)>0),COUNTIF($D17:$AH17,Status4),""),"")
B18: =IF(LEN(Calc!$D44)>0,Calc!$D44,"") | AJ18: =IFERROR(IF(AND(LEN($B18)>0,LEN(AJ$7)>0),COUNTIF($D18:$AH18,Status1),""),"") | AK18: =IFERROR(IF(AND(LEN($B18)>0,LEN(AK$7)>0),COUNTIF($D18:$AH18,Status2),""),"") | AL18: =IFERROR(IF(AND(LEN($B18)>0,LEN(AL$7)>0),COUNTIF($D18:$AH18,Status3),""),"") | AM18: =IFERROR(IF(AND(LEN($B18)>0,LEN(AM$7)>0),COUNTIF($D18:$AH18,Status4),""),"")
B19: =IF(LEN(Calc!$D45)>0,Calc!$D45,"") | AJ19: =IFERROR(IF(AND(LEN($B19)>0,LEN(AJ$7)>0),COUNTIF($D19:$AH19,Status1),""),"") | AK19: =IFERROR(IF(AND(LEN($B19)>0,LEN(AK$7)>0),COUNTIF($D19:$AH19,Status2),""),"") | AL19: =IFERROR(IF(AND(LEN($B19)>0,LEN(AL$7)>0),COUNTIF($D19:$AH19,Status3),""),"") | AM19: =IFERROR(IF(AND(LEN($B19)>0,LEN(AM$7)>0),COUNTIF($D19:$AH19,Status4),""),"")
B20: =IF(LEN(Calc!$D46)>0,Calc!$D46,"") | AJ20: =IFERROR(IF(AND(LEN($B20)>0,LEN(AJ$7)>0),COUNTIF($D20:$AH20,Status1),""),"") | AK20: =IFERROR(IF(AND(LEN($B20)>0,LEN(AK$7)>0),COUNTIF($D20:$AH20,Status2),""),"") | AL20: =IFERROR(IF(AND(LEN($B20)>0,LEN(AL$7)>0),COUNTIF($D20:$AH20,Status3),""),"") | AM20: =IFERROR(IF(AND(LEN($B20)>0,LEN(AM$7)>0),COUNTIF($D20:$AH20,Status4),""),"")
B21: =IF(LEN(Calc!$D47)>0,Calc!$D47,"") | AJ21: =IFERROR(IF(AND(LEN($B21)>0,LEN(AJ$7)>0),COUNTIF($D21:$AH21,Status1),""),"") | AK21: =IFERROR(IF(AND(LEN($B21)>0,LEN(AK$7)>0),COUNTIF($D21:$AH21,Status2),""),"") | AL21: =IFERROR(IF(AND(LEN($B21)>0,LEN(AL$7)>0),COUNTIF($D21:$AH21,Status3),""),"") | AM21: =IFERROR(IF(AND(LEN($B21)>0,LEN(AM$7)>0),COUNTIF($D21:$AH21,Status4),""),"")
B22: =IF(LEN(Calc!$D48)>0,Calc!$D48,"") | AJ22: =IFERROR(IF(AND(LEN($B22)>0,LEN(AJ$7)>0),COUNTIF($D22:$AH22,Status1),""),"") | AK22: =IFERROR(IF(AND(LEN($B22)>0,LEN(AK$7)>0),COUNTIF($D22:$AH22,Status2),""),"") | AL22: =IFERROR(IF(AND(LEN($B22)>0,LEN(AL$7)>0),COUNTIF($D22:$AH22,Status3),""),"") | AM22: =IFERROR(IF(AND(LEN($B22)>0,LEN(AM$7)>0),COUNTIF($D22:$AH22,Status4),""),"")
B23: =IF(LEN(Calc!$D49)>0,Calc!$D49,"") | AJ23: =IFERROR(IF(AND(LEN($B23)>0,LEN(AJ$7)>0),COUNTIF($D23:$AH23,Status1),""),"") | AK23: =IFERROR(IF(AND(LEN($B23)>0,LEN(AK$7)>0),COUNTIF($D23:$AH23,Status2),""),"") | AL23: =IFERROR(IF(AND(LEN($B23)>0,LEN(AL$7)>0),COUNTIF($D23:$AH23,Status3),""),"") | AM23: =IFERROR(IF(AND(LEN($B23)>0,LEN(AM$7)>0),COUNTIF($D23:$AH23,Status4),""),"")

Sheet June
B2: MONTHLY ATTENDANCE SHEET
B3: DASHBOARD
B5: ="JUNE - "&Dashboard!$B$7 -> JUNE - 2021 | F5: =IFERROR(IF(LEN(Calc!$BK$20)>0,Calc!$BK$20,""),"") -> A | H5: =IFERROR(IF(LEN(Calc!$BJ$20)>0,Calc!$BJ$20,""),"") -> Attended | M5: =IFERROR(IF(LEN(Calc!$BK$21)>0,Calc!$BK$21,""),"") -> N | O5: =IFERROR(IF(LEN(Calc!$BJ$21)>0,Calc!$BJ$21,""),"") -> Not Attended | T5: =IFERROR(IF(LEN(Calc!$BK$22)>0,Calc!$BK$22,""),"") -> T | V5: =IFERROR(IF(LEN(Calc!$BJ$22)>0,Calc!$BJ$22,""),"") -> Tardy | AA5: =IFERROR(IF(LEN(Calc!$BK$23)>0,Calc!$BK$23,""),"") | AC5: =IFERROR(IF(LEN(Calc!$BJ$23)>0,Calc!$BJ$23,""),"")
B7: Participant | D7: =INDEX(Calc!$BJ$26:$BK$32,WEEKDAY(DATE(Dashboard!$B$7,MATCH($B$5,Calc!$B$6:$B$17,0),D$8),2),2) -> Tue | E7: =INDEX(Calc!$BJ$26:$BK$32,WEEKDAY(DATE(Dashboard!$B$7,MATCH($B$5,Calc!$B$6:$B$17,0),E$8),2),2) -> Wed | F7: =INDEX(Calc!$BJ$26:$BK$32,WEEKDAY(DATE(Dashboard!$B$7,MATCH($B$5,Calc!$B$6:$B$17,0),F$8),2),2) -> Thu | G7: =INDEX(Calc!$BJ$26:$BK$32,WEEKDAY(DATE(Dashboard!$B$7,MATCH($B$5,Calc!$B$6:$B$17,0),G$8),2),2) -> Fri | H7: =INDEX(Calc!$BJ$26:$BK$32,WEEKDAY(DATE(Dashboard!$B$7,MATCH($B$5,Calc!$B$6:$B$17,0),H$8),2),2) -> Sat | I7: =INDEX(Calc!$BJ$26:$BK$32,WEEKDAY(DATE(Dashboard!$B$7,MATCH($B$5,Calc!$B$6:$B$17,0),I$8),2),2) -> Sun | J7: =INDEX(Calc!$BJ$26:$BK$32,WEEKDAY(DATE(Dashboard!$B$7,MATCH($B$5,Calc!$B$6:$B$17,0),J$8),2),2) -> Mon | K7: =INDEX(Calc!$BJ$26:$BK$32,WEEKDAY(DATE(Dashboard!$B$7,MATCH($B$5,Calc!$B$6:$B$17,0),K$8),2),2) -> Tue | ... AH7: =INDEX(Calc!$BJ$26:$BK$32,WEEKDAY(DATE(Dashboard!$B$7,MATCH($B$5,Calc!$B$6:$B$17,0),AH$8),2),2) -> Thu | AJ7: =IF(LEN(Status1)>0,$H$5,"") -> Attended | AK7: =IF(LEN(Status2)>0,$O$5,"") -> Not Attended | AL7: =IF(LEN(Status3)>0,$V$5,"") -> Tardy | AM7: =IF(LEN(Status4)>0,$AC$5,"")
B8: List | D8: 1 | E8: 2 | F8: 3 | G8: 4 | H8: 5 | I8: 6 | J8: 7 | K8: 8 | L8: 9 | M8: 10 | N8: 11 | O8: 12 | P8: 13 | Q8: 14 | R8: 15 | S8: 16 | T8: 17 | U8: 18 | V8: 19 | W8: 20 | X8: 21 | Y8: 22 | Z8: 23 | AA8: 24 | AB8: 25 | AC8: 26 | AD8: 27 | AE8: 28 | AF8: 29 | AG8: 30 | AH8: 31
B9: =IF(LEN(Calc!$D35)>0,Calc!$D35,"") -> Michael Hall | D9: A | E9: T | F9: A | G9: A | J9: A | K9: A | L9: T | M9: A | N9: A | Q9: A | R9: T | S9: A | T9: A | U9: A | X9: A | Y9: T | Z9: A | AA9: A | AB9: N | AE9: A | AF9: T | AG9: A | AJ9: =IFERROR(IF(AND(LEN($B9)>0,LEN(AJ$7)>0),COUNTIF($D9:$AH9,Status1),""),"") -> 16 | AK9: =IFERROR(IF(AND(LEN($B9)>0,LEN(AK$7)>0),COUNTIF($D9:$AH9,Status2),""),"") -> 1 | AL9: =IFERROR(IF(AND(LEN($B9)>0,LEN(AL$7)>0),COUNTIF($D9:$AH9,Status3),""),"") -> 5 | AM9: =IFERROR(IF(AND(LEN($B9)>0,LEN(AM$7)>0),COUNTIF($D9:$AH9,Status4),""),"")
B10: =IF(LEN(Calc!$D36)>0,Calc!$D36,"") -> James Beriker | D10: A | E10: A | F10: N | G10: A | J10: A | K10: A | L10: A | M10: N | N10: A | Q10: A | R10: A | S10: A | T10: A | U10: A | X10: A | Y10: A | Z10: A | AA10: A | AB10: T | AE10: A | AF10: A | AG10: A | AJ10: =IFERROR(IF(AND(LEN($B10)>0,LEN(AJ$7)>0),COUNTIF($D10:$AH10,Status1),""),"") -> 19 | AK10: =IFERROR(IF(AND(LEN($B10)>0,LEN(AK$7)>0),COUNTIF($D10:$AH10,Status2),""),"") -> 2 | AL10: =IFERROR(IF(AND(LEN($B10)>0,LEN(AL$7)>0),COUNTIF($D10:$AH10,Status3),""),"") -> 1 | AM10: =IFERROR(IF(AND(LEN($B10)>0,LEN(AM$7)>0),COUNTIF($D10:$AH10,Status4),""),"")
B11: =IF(LEN(Calc!$D37)>0,Calc!$D37,"") -> Kelly Hoeyco | D11: A | E11: A | F11: A | G11: T | J11: A | K11: T | L11: A | M11: A | N11: A | Q11: A | R11: A | S11: A | T11: T | U11: A | X11: N | Y11: A | Z11: A | AA11: A | AB11: A | AE11: N | AF11: A | AG11: A | AJ11: =IFERROR(IF(AND(LEN($B11)>0,LEN(AJ$7)>0),COUNTIF($D11:$AH11,Status1),""),"") -> 17 | AK11: =IFERROR(IF(AND(LEN($B11)>0,LEN(AK$7)>0),COUNTIF($D11:$AH11,Status2),""),"") -> 2 | AL11: =IFERROR(IF(AND(LEN($B11)>0,LEN(AL$7)>0),COUNTIF($D11:$AH11,Status3),""),"") -> 3 | AM11: =IFERROR(IF(AND(LEN($B11)>0,LEN(AM$7)>0),COUNTIF($D11:$AH11,Status4),""),"")
B12: =IF(LEN(Calc!$D38)>0,Calc!$D38,"") -> Julia Meighan | D12: A | E12: N | F12: A | G12: A | J12: A | K12: A | L12: A | M12: A | N12: A | Q12: A | R12: A | S12: A | T12: A | U12: A | X12: A | Y12: A | Z12: A | AA12: T | AB12: A | AE12: A | AF12: A | AG12: A | AJ12: =IFERROR(IF(AND(LEN($B12)>0,LEN(AJ$7)>0),COUNTIF($D12:$AH12,Status1),""),"") -> 20 | AK12: =IFERROR(IF(AND(LEN($B12)>0,LEN(AK$7)>0),COUNTIF($D12:$AH12,Status2),""),"") -> 1 | AL12: =IFERROR(IF(AND(LEN($B12)>0,LEN(AL$7)>0),COUNTIF($D12:$AH12,Status3),""),"") -> 1 | AM12: =IFERROR(IF(AND(LEN($B12)>0,LEN(AM$7)>0),COUNTIF($D12:$AH12,Status4),""),"")
B13: =IF(LEN(Calc!$D39)>0,Calc!$D39,"") -> Kristin Zaslavsky | D13: A | E13: A | F13: T | G13: A | J13: A | K13: A | L13: A | M13: T | N13: A | Q13: A | R13: N | S13: A | T13: A | U13: A | X13: A | Y13: A | Z13: N | AA13: A | AB13: A | AE13: A | AF13: A | AG13: A | AJ13: =IFERROR(IF(AND(LEN($B13)>0,LEN(AJ$7)>0),COUNTIF($D13:$AH13,Status1),""),"") -> 18 | AK13: =IFERROR(IF(AND(LEN($B13)>0,LEN(AK$7)>0),COUNTIF($D13:$AH13,Status2),""),"") -> 2 | AL13: =IFERROR(IF(AND(LEN($B13)>0,LEN(AL$7)>0),COUNTIF($D13:$AH13,Status3),""),"") -> 2 | AM13: =IFERROR(IF(AND(LEN($B13)>0,LEN(AM$7)>0),COUNTIF($D13:$AH13,Status4),""),"")
B14: =IF(LEN(Calc!$D40)>0,Calc!$D40,"") -> Laurinda Seabra | D14: A | E14: A | F14: A | G14: A | J14: A | K14: A | L14: N | M14: A | N14: A | Q14: A | R14: A | S14: T | T14: A | U14: A | X14: A | Y14: A | Z14: A | AA14: A | AB14: A | AE14: A | AF14: A | AG14: N | AJ14: =IFERROR(IF(AND(LEN($B14)>0,LEN(AJ$7)>0),COUNTIF($D14:$AH14,Status1),""),"") -> 19 | AK14: =IFERROR(IF(AND(LEN($B14)>0,LEN(AK$7)>0),COUNTIF($D14:$AH14,Status2),""),"") -> 2 | AL14: =IFERROR(IF(AND(LEN($B14)>0,LEN(AL$7)>0),COUNTIF($D14:$AH14,Status3),""),"") -> 1 | AM14: =IFERROR(IF(AND(LEN($B14)>0,LEN(AM$7)>0),COUNTIF($D14:$AH14,Status4),""),"")
B15: =IF(LEN(Calc!$D41)>0,Calc!$D41,"") -> James Maltese | D15: A | E15: A | F15: A | G15: T | J15: T | K15: A | L15: A | M15: A | N15: A | Q15: A | R15: A | S15: A | T15: A | U15: A | X15: A | Y15: A | Z15: A | AA15: T | AB15: A | AE15: A | AF15: A | AG15: A | AJ15: =IFERROR(IF(AND(LEN($B15)>0,LEN(AJ$7)>0),COUNTIF($D15:$AH15,Status1),""),"") -> 19 | AK15: =IFERROR(IF(AND(LEN($B15)>0,LEN(AK$7)>0),COUNTIF($D15:$AH15,Status2),""),"") -> 0 | AL15: =IFERROR(IF(AND(LEN($B15)>0,LEN(AL$7)>0),COUNTIF($D15:$AH15,Status3),""),"") -> 3 | AM15: =IFERROR(IF(AND(LEN($B15)>0,LEN(AM$7)>0),COUNTIF($D15:$AH15,Status4),""),"")
B16: =IF(LEN(Calc!$D42)>0,Calc!$D42,"") -> Robert Balentine | D16: A | E16: N | F16: A | G16: A | J16: A | K16: A | L16: A | M16: A | N16: N | Q16: A | R16: A | S16: A | T16: A | U16: A | X16: A | Y16: N | Z16: A | AA16: A | AB16: A | AE16: A | AF16: A | AG16: A | AJ16: =IFERROR(IF(AND(LEN($B16)>0,LEN(AJ$7)>0),COUNTIF($D16:$AH16,Status1),""),"") -> 19 | AK16: =IFERROR(IF(AND(LEN($B16)>0,LEN(AK$7)>0),COUNTIF($D16:$AH16,Status2),""),"") -> 3 | AL16: =IFERROR(IF(AND(LEN($B16)>0,LEN(AL$7)>0),COUNTIF($D16:$AH16,Status3),""),"") -> 0 | AM16: =IFERROR(IF(AND(LEN($B16)>0,LEN(AM$7)>0),COUNTIF($D16:$AH16,Status4),""),"")
B17: =IF(LEN(Calc!$D43)>0,Calc!$D43,"") | AJ17: =IFERROR(IF(AND(LEN($B17)>0,LEN(AJ$7)>0),COUNTIF($D17:$AH17,Status1),""),"") | AK17: =IFERROR(IF(AND(LEN($B17)>0,LEN(AK$7)>0),COUNTIF($D17:$AH17,Status2),""),"") | AL17: =IFERROR(IF(AND(LEN($B17)>0,LEN(AL$7)>0),COUNTIF($D17:$AH17,Status3),""),"") | AM17: =IFERROR(IF(AND(LEN($B17)>0,LEN(AM$7)>0),COUNTIF($D17:$AH17,Status4),""),"")
B18: =IF(LEN(Calc!$D44)>0,Calc!$D44,"") | AJ18: =IFERROR(IF(AND(LEN($B18)>0,LEN(AJ$7)>0),COUNTIF($D18:$AH18,Status1),""),"") | AK18: =IFERROR(IF(AND(LEN($B18)>0,LEN(AK$7)>0),COUNTIF($D18:$AH18,Status2),""),"") | AL18: =IFERROR(IF(AND(LEN($B18)>0,LEN(AL$7)>0),COUNTIF($D18:$AH18,Status3),""),"") | AM18: =IFERROR(IF(AND(LEN($B18)>0,LEN(AM$7)>0),COUNTIF($D18:$AH18,Status4),""),"")
B19: =IF(LEN(Calc!$D45)>0,Calc!$D45,"") | AJ19: =IFERROR(IF(AND(LEN($B19)>0,LEN(AJ$7)>0),COUNTIF($D19:$AH19,Status1),""),"") | AK19: =IFERROR(IF(AND(LEN($B19)>0,LEN(AK$7)>0),COUNTIF($D19:$AH19,Status2),""),"") | AL19: =IFERROR(IF(AND(LEN($B19)>0,LEN(AL$7)>0),COUNTIF($D19:$AH19,Status3),""),"") | AM19: =IFERROR(IF(AND(LEN($B19)>0,LEN(AM$7)>0),COUNTIF($D19:$AH19,Status4),""),"")
B20: =IF(LEN(Calc!$D46)>0,Calc!$D46,"") | AJ20: =IFERROR(IF(AND(LEN($B20)>0,LEN(AJ$7)>0),COUNTIF($D20:$AH20,Status1),""),"") | AK20: =IFERROR(IF(AND(LEN($B20)>0,LEN(AK$7)>0),COUNTIF($D20:$AH20,Status2),""),"") | AL20: =IFERROR(IF(AND(LEN($B20)>0,LEN(AL$7)>0),COUNTIF($D20:$AH20,Status3),""),"") | AM20: =IFERROR(IF(AND(LEN($B20)>0,LEN(AM$7)>0),COUNTIF($D20:$AH20,Status4),""),"")
B21: =IF(LEN(Calc!$D47)>0,Calc!$D47,"") | AJ21: =IFERROR(IF(AND(LEN($B21)>0,LEN(AJ$7)>0),COUNTIF($D21:$AH21,Status1),""),"") | AK21: =IFERROR(IF(AND(LEN($B21)>0,LEN(AK$7)>0),COUNTIF($D21:$AH21,Status2),""),"") | AL21: =IFERROR(IF(AND(LEN($B21)>0,LEN(AL$7)>0),COUNTIF($D21:$AH21,Status3),""),"") | AM21: =IFERROR(IF(AND(LEN($B21)>0,LEN(AM$7)>0),COUNTIF($D21:$AH21,Status4),""),"")
B22: =IF(LEN(Calc!$D48)>0,Calc!$D48,"") | AJ22: =IFERROR(IF(AND(LEN($B22)>0,LEN(AJ$7)>0),COUNTIF($D22:$AH22,Status1),""),"") | AK22: =IFERROR(IF(AND(LEN($B22)>0,LEN(AK$7)>0),COUNTIF($D22:$AH22,Status2),""),"") | AL22: =IFERROR(IF(AND(LEN($B22)>0,LEN(AL$7)>0),COUNTIF($D22:$AH22,Status3),""),"") | AM22: =IFERROR(IF(AND(LEN($B22)>0,LEN(AM$7)>0),COUNTIF($D22:$AH22,Status4),""),"")
B23: =IF(LEN(Calc!$D49)>0,Calc!$D49,"") | AJ23: =IFERROR(IF(AND(LEN($B23)>0,LEN(AJ$7)>0),COUNTIF($D23:$AH23,Status1),""),"") | AK23: =IFERROR(IF(AND(LEN($B23)>0,LEN(AK$7)>0),COUNTIF($D23:$AH23,Status2),""),"") | AL23: =IFERROR(IF(AND(LEN($B23)>0,LEN(AL$7)>0),COUNTIF($D23:$AH23,Status3),""),"") | AM23: =IFERROR(IF(AND(LEN($B23)>0,LEN(AM$7)>0),COUNTIF($D23:$AH23,Status4),""),"")

Sheet July
B2: MONTHLY ATTENDANCE SHEET
B3: DASHBOARD
B5: ="JULY - "&Dashboard!$B$7 -> JULY - 2021 | F5: =IFERROR(IF(LEN(Calc!$BK$20)>0,Calc!$BK$20,""),"") -> A | H5: =IFERROR(IF(LEN(Calc!$BJ$20)>0,Calc!$BJ$20,""),"") -> Attended | M5: =IFERROR(IF(LEN(Calc!$BK$21)>0,Calc!$BK$21,""),"") -> N | O5: =IFERROR(IF(LEN(Calc!$BJ$21)>0,Calc!$BJ$21,""),"") -> Not Attended | T5: =IFERROR(IF(LEN(Calc!$BK$22)>0,Calc!$BK$22,""),"") -> T | V5: =IFERROR(IF(LEN(Calc!$BJ$22)>0,Calc!$BJ$22,""),"") -> Tardy | AA5: =IFERROR(IF(LEN(Calc!$BK$23)>0,Calc!$BK$23,""),"") | AC5: =IFERROR(IF(LEN(Calc!$BJ$23)>0,Calc!$BJ$23,""),"")
