Workbook
Name Chart2Label: IFERROR(OFFSET(Calc!$BJ$14,0,0,Calc!$BH$12,1),"")
Name Chart2Values: IFERROR(OFFSET(Calc!$BI$14,0,0,Calc!$BH$12,1),"")
Name MonthList: Calc!$BK$13:$BV$13
Name Status1: Dashboard!$C$10
Name Status2: Dashboard!$C$11
Name Status3: Dashboard!$C$12
Name Status4: Dashboard!$C$13
Name StatusListPerson1: Calc!$BK$14:$BV$14
Name StatusListPerson2: Calc!$BK$15:$BV$15
Name StatusListPerson3: Calc!$BK$16:$BV$16
Name StatusListPerson4: Calc!$BK$17:$BV$17
Name TotalRowsCount: Calc!$E$34+3

Sheet Dashboard
B2: MONTHLY ATTENDANCE SHEET
B3: DASHBOARD
B6: YEAR | E6: MONTHLY LISTS
B7: 2021
B9: Status | C9: Sign
B10: Attended | C10: A
B11: Not Attended | C11: N
B12: Tardy | C12: T
B15: Participants
B16: Michael Hall

Sheet ParticipantList
B2: MONTHLY ATTENDANCE SHEET
B3: PARTICIPANT LIST
B5: Participant List | C5: Contact Info
B6: Michael Hall | C6: hallm@mail.com
B7: James Beriker | C7: berikerj@mail.com
B8: Kelly Hoeyco | C8: hoeycok@mail.com
B9: Julia Meighan | C9: meighank@mail.com
B10: Kristin Zaslavsky | C10: zaslavskyk@mail.com
B11: Laurinda Seabra | C11: seabrak@mail.com
B12: James Maltese | C12: maltesek@mail.com
B13: Robert Balentine | C13: balentinek@mail.com

Sheet January
B2: MONTHLY ATTENDANCE SHEET
B3: MONTHLY SECTION
B5: ="JANUARY - "&Dashboard!$B$7 -> JANUARY - 2021 | F5: =IFERROR(IF(LEN(Calc!$BK$20)>0,Calc!$BK$20,""),"") -> A | H5: =IFERROR(IF(LEN(Calc!$BJ$20)>0,Calc!$BJ$20,""),"") -> Attended | M5: =IFERROR(IF(LEN(Calc!$BK$21)>0,Calc!$BK$21,""),"") -> N | O5: =IFERROR(IF(LEN(Calc!$BJ$21)>0,Calc!$BJ$21,""),"") -> Not Attended | T5: =IFERROR(IF(LEN(Calc!$BK$22)>0,Calc!$BK$22,""),"") -> T | V5: =IFERROR(IF(LEN(Calc!$BJ$22)>0,Calc!$BJ$22,""),"") -> Tardy | AA5: =IFERROR(IF(LEN(Calc!$BK$23)>0,Calc!$BK$23,""),"") | AC5: =IFERROR(IF(LEN(Calc!$BJ$23)>0,Calc!$BJ$23,""),"")
B7: Participant | D7: =INDEX(Calc!$BJ$26:$BK$32,WEEKDAY(DATE(Dashboard!$B$7,MATCH($B$5,Calc!$B$6:$B$17,0),D$8),2),2) -> Fri | E7: =INDEX(Calc!$BJ$26:$BK$32,WEEKDAY(DATE(Dashboard!$B$7,MATCH($B$5,Calc!$B$6:$B$17,0),E$8),2),2) -> Sat | F7: =INDEX(Calc!$BJ$26:$BK$32,WEEKDAY(DATE(Dashboard!$B$7,MATCH($B$5,Calc!$B$6:$B$17,0),F$8),2),2) -> Sun | G7: =INDEX(Calc!$BJ$26:$BK$32,WEEKDAY(DATE(Dashboard!$B$7,MATCH($B$5,Calc!$B$6:$B$17,0),G$8),2),2) -> Mon | H7: =INDEX(Calc!$BJ$26:$BK$32,WEEKDAY(DATE(Dashboard!$B$7,MATCH($B$5,Calc!$B$6:$B$17,0),H$8),2),2) -> Tue | I7: =INDEX(Calc!$BJ$26:$BK$32,WEEKDAY(DATE(Dashboard!$B$7,MATCH($B$5,Calc!$B$6:$B$17,0),I$8),2),2) -> Wed | J7: =INDEX(Calc!$BJ$26:$BK$32,WEEKDAY(DATE(Dashboard!$B$7,MATCH($B$5,Calc!$B$6:$B$17,0),J$8),2),2) -> Thu | K7: =INDEX(Calc!$BJ$26:$BK$32,WEEKDAY(DATE(Dashboard!$B$7,MATCH($B$5,Calc!$B$6:$B$17,0),K$8),2),2) -> Fri | ... AH7: =INDEX(Calc!$BJ$26:$BK$32,WEEKDAY(DATE(Dashboard!$B$7,MATCH($B$5,Calc!$B$6:$B$17,0),AH$8),2),2) -> Sun | AJ7: =IF(LEN(Status1)>0,$H$5,"") -> Attended | AK7: =IF(LEN(Status2)>0,$O$5,"") -> Not Attended | AL7: =IF(LEN(Status3)>0,$V$5,"") -> Tardy | AM7: =IF(LEN(Status4)>0,$AC$5,"")
B8: List | D8: 1 | E8: 2 | F8: 3 | G8: 4 | H8: 5 | I8: 6 | J8: 7 | K8: 8 | L8: 9 | M8: 10 | N8: 11 | O8: 12 | P8: 13 | Q8: 14 | R8: 15 | S8: 16 | T8: 17 | U8: 18 | V8: 19 | W8: 20 | X8: 21 | Y8: 22 | Z8: 23 | AA8: 24 | AB8: 25 | AC8: 26 | AD8: 27 | AE8: 28 | AF8: 29 | AG8: 30 | AH8: 31
B9: =IF(LEN(Calc!$D35)>0,Calc!$D35,"") -> Michael Hall | D9: A | G9: A | H9: A | I9: T | J9: N | K9: N | N9: T | O9: A | P9: N | Q9: T | R9: A | U9: A | V9: A | W9: A | X9: A | Y9: T | AB9: N | AC9: N | AD9: A | AE9: A | AF9: A | AJ9: =IFERROR(IF(AND(LEN($B9)>0,LEN(AJ$7)>0),COUNTIF($D9:$AH9,Status1),""),"") -> 12 | AK9: =IFERROR(IF(AND(LEN($B9)>0,LEN(AK$7)>0),COUNTIF($D9:$AH9,Status2),""),"") -> 5 | AL9: =IFERROR(IF(AND(LEN($B9)>0,LEN(AL$7)>0),COUNTIF($D9:$AH9,Status3),""),"") -> 4 | AM9: =IFERROR(IF(AND(LEN($B9)>0,LEN(AM$7)>0),COUNTIF($D9:$AH9,Status4),""),"")
B10: =IF(LEN(Calc!$D36)>0,Calc!$D36,"") -> James Beriker | D10: T | G10: A | H10: N | I10: T | J10: A | K10: A | N10: A | O10: A | P10: A | Q10: A | R10: N | U10: N | V10: A | W10: T | X10: A | Y10: A | AB10: N | AC10: A | AD10: A | AE10: T | AF10: A | AJ10: =IFERROR(IF(AND(LEN($B10)>0,LEN(AJ$7)>0),COUNTIF($D10:$AH10,Status1),""),"") -> 13 | AK10: =IFERROR(IF(AND(LEN($B10)>0,LEN(AK$7)>0),COUNTIF($D10:$AH10,Status2),""),"") -> 4 | AL10: =IFERROR(IF(AND(LEN($B10)>0,LEN(AL$7)>0),COUNTIF($D10:$AH10,Status3),""),"") -> 4 | AM10: =IFERROR(IF(AND(LEN($B10)>0,LEN(AM$7)>0),COUNTIF($D10:$AH10,Status4),""),"")
B11: =IF(LEN(Calc!$D37)>0,Calc!$D37,"") -> Kelly Hoeyco | D11: A | G11: A | H11: A | I11: T | J11: A | K11: N | N11: N | O11: N | P11: N | Q11: A | R11: A | U11: A | V11: A | W11: A | X11: T | Y11: A | AB11: A | AC11: T | AD11: T | AE11: A | AF11: A | AJ11: =IFERROR(IF(AND(LEN($B11)>0,LEN(AJ$7)>0),COUNTIF($D11:$AH11,Status1),""),"") -> 13 | AK11: =IFERROR(IF(AND(LEN($B11)>0,LEN(AK$7)>0),COUNTIF($D11:$AH11,Status2),""),"") -> 4 | AL11: =IFERROR(IF(AND(LEN($B11)>0,LEN(AL$7)>0),COUNTIF($D11:$AH11,Status3),""),"") -> 4 | AM11: =IFERROR(IF(AND(LEN($B11)>0,LEN(AM$7)>0),COUNTIF($D11:$AH11,Status4),""),"")
B12: =IF(LEN(Calc!$D38)>0,Calc!$D38,"") -> Julia Meighan | D12: A | G12: A | H12: T | I12: A | J12: N | K12: A | N12: T | O12: A | P12: N | Q12: A | R12: A | U12: A | V12: A | W12: N | X12: A | Y12: A | AB12: N | AC12: N | AD12: A | AE12: A | AF12: T | AJ12: =IFERROR(IF(AND(LEN($B12)>0,LEN(AJ$7)>0),COUNTIF($D12:$AH12,Status1),""),"") -> 13 | AK12: =IFERROR(IF(AND(LEN($B12)>0,LEN(AK$7)>0),COUNTIF($D12:$AH12,Status2),""),"") -> 5 | AL12: =IFERROR(IF(AND(LEN($B12)>0,LEN(AL$7)>0),COUNTIF($D12:$AH12,Status3),""),"") -> 3 | AM12: =IFERROR(IF(AND(LEN($B12)>0,LEN(AM$7)>0),COUNTIF($D12:$AH12,Status4),""),"")
B13: =IF(LEN(Calc!$D39)>0,Calc!$D39,"") -> Kristin Zaslavsky | D13: T | G13: A | H13: A | I13: A | J13: N | K13: A | N13: A | O13: A | P13: T | Q13: A | R13: N | U13: N | V13: A | W13: A | X13: T | Y13: A | AB13: A | AC13: A | AD13: A | AE13: A | AF13: A | AJ13: =IFERROR(IF(AND(LEN($B13)>0,LEN(AJ$7)>0),COUNTIF($D13:$AH13,Status1),""),"") -> 15 | AK13: =IFERROR(IF(AND(LEN($B13)>0,LEN(AK$7)>0),COUNTIF($D13:$AH13,Status2),""),"") -> 3 | AL13: =IFERROR(IF(AND(LEN($B13)>0,LEN(AL$7)>0),COUNTIF($D13:$AH13,Status3),""),"") -> 3 | AM13: =IFERROR(IF(AND(LEN($B13)>0,LEN(AM$7)>0),COUNTIF($D13:$AH13,Status4),""),"")
B14: =IF(LEN(Calc!$D40)>0,Calc!$D40,"") -> Laurinda Seabra | D14: A | G14: A | H14: T | I14: A | J14: A | K14: A | N14: A | O14: T | P14: A | Q14: A | R14: A | U14: A | V14: A | W14: A | X14: N | Y14: N | AB14: N | AC14: N | AD14: A | AE14: A | AF14: A | AJ14: =IFERROR(IF(AND(LEN($B14)>0,LEN(AJ$7)>0),COUNTIF($D14:$AH14,Status1),""),"") -> 15 | AK14: =IFERROR(IF(AND(LEN($B14)>0,LEN(AK$7)>0),COUNTIF($D14:$AH14,Status2),""),"") -> 4 | AL14: =IFERROR(IF(AND(LEN($B14)>0,LEN(AL$7)>0),COUNTIF($D14:$AH14,Status3),""),"") -> 2 | AM14: =IFERROR(IF(AND(LEN($B14)>0,LEN(AM$7)>0),COUNTIF($D14:$AH14,Status4),""),"")
B15: =IF(LEN(Calc!$D41)>0,Calc!$D41,"") -> James Maltese | D15: A | G15: A | H15: A | I15: A | J15: A | K15: N | N15: T | O15: A | P15: N | Q15: A | R15: A | U15: A | V15: A | W15: N | X15: A | Y15: A | AB15: A | AC15: A | AD15: A | AE15: T | AF15: A | AJ15: =IFERROR(IF(AND(LEN($B15)>0,LEN(AJ$7)>0),COUNTIF($D15:$AH15,Status1),""),"") -> 16 | AK15: =IFERROR(IF(AND(LEN($B15)>0,LEN(AK$7)>0),COUNTIF($D15:$AH15,Status2),""),"") -> 3 | AL15: =IFERROR(IF(AND(LEN($B15)>0,LEN(AL$7)>0),COUNTIF($D15:$AH15,Status3),""),"") -> 2 | AM15: =IFERROR(IF(AND(LEN($B15)>0,LEN(AM$7)>0),COUNTIF($D15:$AH15,Status4),""),"")
B16: =IF(LEN(Calc!$D42)>0,Calc!$D42,"") -> Robert Balentine | D16: A | G16: A | H16: T | I16: A | J16: A | K16: A | N16: A | O16: A | P16: A | Q16: T | R16: A | U16: A | V16: A | W16: A | X16: T | Y16: T | AB16: T | AC16: A | AD16: A | AE16: A | AF16: A | AJ16: =IFERROR(IF(AND(LEN($B16)>0,LEN(AJ$7)>0),COUNTIF($D16:$AH16,Status1),""),"") -> 16 | AK16: =IFERROR(IF(AND(LEN($B16)>0,LEN(AK$7)>0),COUNTIF($D16:$AH16,Status2),""),"") -> 0 | AL16: =IFERROR(IF(AND(LEN($B16)>0,LEN(AL$7)>0),COUNTIF($D16:$AH16,Status3),""),"") -> 5 | AM16: =IFERROR(IF(AND(LEN($B16)>0,LEN(AM$7)>0),COUNTIF($D16:$AH16,Status4),""),"")
B17: =IF(LEN(Calc!$D43)>0,Calc!$D43,"") | AJ17: =IFERROR(IF(AND(LEN($B17)>0,LEN(AJ$7)>0),COUNTIF($D17:$AH17,Status1),""),"") | AK17: =IFERROR(IF(AND(LEN($B17)>0,LEN(AK$7)>0),COUNTIF($D17:$AH17,Status2),""),"") | AL17: =IFERROR(IF(AND(LEN($B17)>0,LEN(AL$7)>0),COUNTIF($D17:$AH17,Status3),""),"") | AM17: =IFERROR(IF(AND(LEN($B17)>0,LEN(AM$7)>0),COUNTIF($D17:$AH17,Status4),""),"")
B18: =IF(LEN(Calc!$D44)>0,Calc!$D44,"") | AJ18: =IFERROR(IF(AND(LEN($B18)>0,LEN(AJ$7)>0),COUNTIF($D18:$AH18,Status1),""),"") | AK18: =IFERROR(IF(AND(LEN($B18)>0,LEN(AK$7)>0),COUNTIF($D18:$AH18,Status2),""),"") | AL18: =IFERROR(IF(AND(LEN($B18)>0,LEN(AL$7)>0),COUNTIF($D18:$AH18,Status3),""),"") | AM18: =IFERROR(IF(AND(LEN($B18)>0,LEN(AM$7)>0),COUNTIF($D18:$AH18,Status4),""),"")
B19: =IF(LEN(Calc!$D45)>0,Calc!$D45,"") | AJ19: =IFERROR(IF(AND(LEN($B19)>0,LEN(AJ$7)>0),COUNTIF($D19:$AH19,Status1),""),"") | AK19: =IFERROR(IF(AND(LEN($B19)>0,LEN(AK$7)>0),COUNTIF($D19:$AH19,Status2),""),"") | AL19: =IFERROR(IF(AND(LEN($B19)>0,LEN(AL$7)>0),COUNTIF($D19:$AH19,Status3),""),"") | AM19: =IFERROR(IF(AND(LEN($B19)>0,LEN(AM$7)>0),COUNTIF($D19:$AH19,Status4),""),"")
B20: =IF(LEN(Calc!$D46)>0,Calc!$D46,"") | AJ20: =IFERROR(IF(AND(LEN($B20)>0,LEN(AJ$7)>0),COUNTIF($D20:$AH20,Status1),""),"") | AK20: =IFERROR(IF(AND(LEN($B20)>0,LEN(AK$7)>0),COUNTIF($D20:$AH20,Status2),""),"") | AL20: =IFERROR(IF(AND(LEN($B20)>0,LEN(AL$7)>0),COUNTIF($D20:$AH20,Status3),""),"") | AM20: =IFERROR(IF(AND(LEN($B20)>0,LEN(AM$7)>0),COUNTIF($D20:$AH20,Status4),""),"")
B21: =IF(LEN(Calc!$D47)>0,Calc!$D47,"") | AJ21: =IFERROR(IF(AND(LEN($B21)>0,LEN(AJ$7)>0),COUNTIF($D21:$AH21,Status1),""),"") | AK21: =IFERROR(IF(AND(LEN($B21)>0,LEN(AK$7)>0),COUNTIF($D21:$AH21,Status2),""),"") | AL21: =IFERROR(IF(AND(LEN($B21)>0,LEN(AL$7)>0),COUNTIF($D21:$AH21,Status3),""),"") | AM21: =IFERROR(IF(AND(LEN($B21)>0,LEN(AM$7)>0),COUNTIF($D21:$AH21,Status4),""),"")
B22: =IF(LEN(Calc!$D48)>0,Calc!$D48,"") | AJ22: =IFERROR(IF(AND(LEN($B22)>0,LEN(AJ$7)>0),COUNTIF($D22:$AH22,Status1),""),"") | AK22: =IFERROR(IF(AND(LEN($B22)>0,LEN(AK$7)>0),COUNTIF($D22:$AH22,Status2),""),"") | AL22: =IFERROR(IF(AND(LEN($B22)>0,LEN(AL$7)>0),COUNTIF($D22:$AH22,Status3),""),"") | AM22: =IFERROR(IF(AND(LEN($B22)>0,LEN(AM$7)>0),COUNTIF($D22:$AH22,Status4),""),"")
B23: =IF(LEN(Calc!$D49)>0,Calc!$D49,"") | AJ23: =IFERROR(IF(AND(LEN($B23)>0,LEN(AJ$7)>0),COUNTIF($D23:$AH23,Status1),""),"") | AK23: =IFERROR(IF(AND(LEN($B23)>0,LEN(AK$7)>0),COUNTIF($D23:$AH23,Status2),""),"") | AL23: =IFERROR(IF(AND(LEN($B23)>0,LEN(AL$7)>0),COUNTIF($D23:$AH23,Status3),""),"") | AM23: =IFERROR(IF(AND(LEN($B23)>0,LEN(AM$7)>0),COUNTIF($D23:$AH23,Status4),""),"")

Sheet February
B2: MONTHLY ATTENDANCE SHEET
B3: DASHBOARD
B5: ="FEBRUARY - "&Dashboard!$B$7 -> FEBRUARY - 2021 | F5: =IFERROR(IF(LEN(Calc!$BK$20)>0,Calc!$BK$20,""),"") -> A | H5: =IFERROR(IF(LEN(Calc!$BJ$20)>0,Calc!$BJ$20,""),"") -> Attended | M5: =IFERROR(IF(LEN(Calc!$BK$21)>0,Calc!$BK$21,""),"") -> N | O5: =IFERROR(IF(LEN(Calc!$BJ$21)>0,Calc!$BJ$21,""),"") -> Not Attended | T5: =IFERROR(IF(LEN(Calc!$BK$22)>0,Calc!$BK$22,""),"") -> T | V5: =IFERROR(IF(LEN(Calc!$BJ$22)>0,Calc!$BJ$22,""),"") -> Tardy | AA5: =IFERROR(IF(LEN(Calc!$BK$23)>0,Calc!$BK$23,""),"") | AC5: =IFERROR(IF(LEN(Calc!$BJ$23)>0,Calc!$BJ$23,""),"")
B7: Participant | D7: =INDEX(Calc!$BJ$26:$BK$32,WEEKDAY(DATE(Dashboard!$B$7,MATCH($B$5,Calc!$B$6:$B$17,0),D$8),2),2) -> Mon | E7: =INDEX(Calc!$BJ$26:$BK$32,WEEKDAY(DATE(Dashboard!$B$7,MATCH($B$5,Calc!$B$6:$B$17,0),E$8),2),2) -> Tue | F7: =INDEX(Calc!$BJ$26:$BK$32,WEEKDAY(DATE(Dashboard!$B$7,MATCH($B$5,Calc!$B$6:$B$17,0),F$8),2),2) -> Wed | G7: =INDEX(Calc!$BJ$26:$BK$32,WEEKDAY(DATE(Dashboard!$B$7,MATCH($B$5,Calc!$B$6:$B$17,0),G$8),2),2) -> Thu | H7: =INDEX(Calc!$BJ$26:$BK$32,WEEKDAY(DATE(Dashboard!$B$7,MATCH($B$5,Calc!$B$6:$B$17,0),H$8),2),2) -> Fri | I7: =INDEX(Calc!$BJ$26:$BK$32,WEEKDAY(DATE(Dashboard!$B$7,MATCH($B$5,Calc!$B$6:$B$17,0),I$8),2),2) -> Sat | J7: =INDEX(Calc!$BJ$26:$BK$32,WEEKDAY(DATE(Dashboard!$B$7,MATCH($B$5,Calc!$B$6:$B$17,0),J$8),2),2) -> Sun | K7: =INDEX(Calc!$BJ$26:$BK$32,WEEKDAY(DATE(Dashboard!$B$7,MATCH($B$5,Calc!$B$6:$B$17,0),K$8),2),2) -> Mon | ... AH7: =INDEX(Calc!$BJ$26:$BK$32,WEEKDAY(DATE(Dashboard!$B$7,MATCH($B$5,Calc!$B$6:$B$17,0),AH$8),2),2) -> Wed | AJ7: =IF(LEN(Status1)>0,$H$5,"") -> Attended | AK7: =IF(LEN(Status2)>0,$O$5,"") -> Not Attended | AL7: =IF(LEN(Status3)>0,$V$5,"") -> Tardy | AM7: =IF(LEN(Status4)>0,$AC$5,"")
B8: List | D8: 1 | E8: 2 | F8: 3 | G8: 4 | H8: 5 | I8: 6 | J8: 7 | K8: 8 | L8: 9 | M8: 10 | N8: 11 | O8: 12 | P8: 13 | Q8: 14 | R8: 15 | S8: 16 | T8: 17 | U8: 18 | V8: 19 | W8: 20 | X8: 21 | Y8: 22 | Z8: 23 | AA8: 24 | AB8: 25 | AC8: 26 | AD8: 27 | AE8: 28 | AF8: 29 | AG8: 30 | AH8: 31
B9: =IF(LEN(Calc!$D35)>0,Calc!$D35,"") -> Michael Hall | D9: A | E9: A | F9: A | G9: T | H9: N | K9: A | L9: A | M9: N | N9: T | O9: A | R9: T | S9: T | T9: A | U9: A | V9: A | Y9: A | Z9: A | AA9: A | AB9: N | AC9: A | AJ9: =IFERROR(IF(AND(LEN($B9)>0,LEN(AJ$7)>0),COUNTIF($D9:$AH9,Status1),""),"") -> 13 | AK9: =IFERROR(IF(AND(LEN($B9)>0,LEN(AK$7)>0),COUNTIF($D9:$AH9,Status2),""),"") -> 3 | AL9: =IFERROR(IF(AND(LEN($B9)>0,LEN(AL$7)>0),COUNTIF($D9:$AH9,Status3),""),"") -> 4 | AM9: =IFERROR(IF(AND(LEN($B9)>0,LEN(AM$7)>0),COUNTIF($D9:$AH9,Status4),""),"")
B10: =IF(LEN(Calc!$D36)>0,Calc!$D36,"") -> James Beriker | D10: A | E10: T | F10: A | G10: A | H10: N | K10: A | L10: A | M10: A | N10: A | O10: A | R10: A | S10: A | T10: A | U10: T | V10: N | Y10: A | Z10: A | AA10: A | AB10: T | AC10: A | AJ10: =IFERROR(IF(AND(LEN($B10)>0,LEN(AJ$7)>0),COUNTIF($D10:$AH10,Status1),""),"") -> 15 | AK10: =IFERROR(IF(AND(LEN($B10)>0,LEN(AK$7)>0),COUNTIF($D10:$AH10,Status2),""),"") -> 2 | AL10: =IFERROR(IF(AND(LEN($B10)>0,LEN(AL$7)>0),COUNTIF($D10:$AH10,Status3),""),"") -> 3 | AM10: =IFERROR(IF(AND(LEN($B10)>0,LEN(AM$7)>0),COUNTIF($D10:$AH10,Status4),""),"")
B11: =IF(LEN(Calc!$D37)>0,Calc!$D37,"") -> Kelly Hoeyco | D11: A | E11: A | F11: T | G11: A | H11: A | K11: A | L11: A | M11: A | N11: T | O11: A | R11: N | S11: A | T11: A | U11: A | V11: T | Y11: A | Z11: A | AA11: A | AB11: T | AC11: N | AJ11: =IFERROR(IF(AND(LEN($B11)>0,LEN(AJ$7)>0),COUNTIF($D11:$AH11,Status1),""),"") -> 14 | AK11: =IFERROR(IF(AND(LEN($B11)>0,LEN(AK$7)>0),COUNTIF($D11:$AH11,Status2),""),"") -> 2 | AL11: =IFERROR(IF(AND(LEN($B11)>0,LEN(AL$7)>0),COUNTIF($D11:$AH11,Status3),""),"") -> 4 | AM11: =IFERROR(IF(AND(LEN($B11)>0,LEN(AM$7)>0),COUNTIF($D11:$AH11,Status4),""),"")
B12: =IF(LEN(Calc!$D38)>0,Calc!$D38,"") -> Julia Meighan | D12: A | E12: N | F12: A | G12: A | H12: A | K12: A | L12: A | M12: A | N12: N | O12: A | R12: A | S12: A | T12: A | U12: A | V12: A | Y12: A | Z12: N | AA12: A | AB12: A | AC12: T | AJ12: =IFERROR(IF(AND(LEN($B12)>0,LEN(AJ$7)>0),COUNTIF($D12:$AH12,Status1),""),"") -> 16 | AK12: =IFERROR(IF(AND(LEN($B12)>0,LEN(AK$7)>0),COUNTIF($D12:$AH12,Status2),""),"") -> 3 | AL12: =IFERROR(IF(AND(LEN($B12)>0,LEN(AL$7)>0),COUNTIF($D12:$AH12,Status3),""),"") -> 1 | AM12: =IFERROR(IF(AND(LEN($B12)>0,LEN(AM$7)>0),COUNTIF($D12:$AH12,Status4),""),"")
B13: =IF(LEN(Calc!$D39)>0,Calc!$D39,"") -> Kristin Zaslavsky | D13: A | E13: A | F13: N | G13: A | H13: A | K13: A | L13: A | M13: T | N13: T | O13: A | R13: A | S13: A | T13: A | U13: N | V13: T | Y13: A | Z13: A | AA13: A | AB13: N | AC13: A | AJ13: =IFERROR(IF(AND(LEN($B13)>0,LEN(AJ$7)>0),COUNTIF($D13:$AH13,Status1),""),"") -> 14 | AK13: =IFERROR(IF(AND(LEN($B13)>0,LEN(AK$7)>0),COUNTIF($D13:$AH13,Status2),""),"") -> 3 | AL13: =IFERROR(IF(AND(LEN($B13)>0,LEN(AL$7)>0),COUNTIF($D13:$AH13,Status3),""),"") -> 3 | AM13: =IFERROR(IF(AND(LEN($B13)>0,LEN(AM$7)>0),COUNTIF($D13:$AH13,Status4),""),"")
B14: =IF(LEN(Calc!$D40)>0,Calc!$D40,"") -> Laurinda Seabra | D14: A | E14: A | F14: T | G14: N | H14: A | K14: N | L14: A | M14: T | N14: N | O14: N | R14: A | S14: A | T14: T | U14: A | V14: N | Y14: A | Z14: T | AA14: A | AB14: A | AC14: A | AJ14: =IFERROR(IF(AND(LEN($B14)>0,LEN(AJ$7)>0),COUNTIF($D14:$AH14,Status1),""),"") -> 11 | AK14: =IFERROR(IF(AND(LEN($B14)>0,LEN(AK$7)>0),COUNTIF($D14:$AH14,Status2),""),"") -> 5 | AL14: =IFERROR(IF(AND(LEN($B14)>0,LEN(AL$7)>0),COUNTIF($D14:$AH14,Status3),""),"") -> 4 | AM14: =IFERROR(IF(AND(LEN($B14)>0,LEN(AM$7)>0),COUNTIF($D14:$AH14,Status4),""),"")
B15: =IF(LEN(Calc!$D41)>0,Calc!$D41,"") -> James Maltese | D15: A | E15: T | F15: A | G15: A | H15: N | K15: A | L15: A | M15: A | N15: A | O15: A | R15: A | S15: A | T15: A | U15: N | V15: A | Y15: A | Z15: A | AA15: T | AB15: N | AC15: A | AJ15: =IFERROR(IF(AND(LEN($B15)>0,LEN(AJ$7)>0),COUNTIF($D15:$AH15,Status1),""),"") -> 15 | AK15: =IFERROR(IF(AND(LEN($B15)>0,LEN(AK$7)>0),COUNTIF($D15:$AH15,Status2),""),"") -> 3 | AL15: =IFERROR(IF(AND(LEN($B15)>0,LEN(AL$7)>0),COUNTIF($D15:$AH15,Status3),""),"") -> 2 | AM15: =IFERROR(IF(AND(LEN($B15)>0,LEN(AM$7)>0),COUNTIF($D15:$AH15,Status4),""),"")
B16: =IF(LEN(Calc!$D42)>0,Calc!$D42,"") -> Robert Balentine | D16: A | E16: N | F16: A | G16: N | H16: A | K16: A | L16: A | M16: A | N16: A | O16: A | R16: A | S16: A | T16: A | U16: A | V16: A | Y16: A | Z16: A | AA16: A | AB16: A | AC16: A | AJ16: =IFERROR(IF(AND(LEN($B16)>0,LEN(AJ$7)>0),COUNTIF($D16:$AH16,Status1),""),"") -> 18 | AK16: =IFERROR(IF(AND(LEN($B16)>0,LEN(AK$7)>0),COUNTIF($D16:$AH16,Status2),""),"") -> 2 | AL16: =IFERROR(IF(AND(LEN($B16)>0,LEN(AL$7)>0),COUNTIF($D16:$AH16,Status3),""),"") -> 0 | AM16: =IFERROR(IF(AND(LEN($B16)>0,LEN(AM$7)>0),COUNTIF($D16:$AH16,Status4),""),"")
B17: =IF(LEN(Calc!$D43)>0,Calc!$D43,"") | AJ17: =IFERROR(IF(AND(LEN($B17)>0,LEN(AJ$7)>0),COUNTIF($D17:$AH17,Status1),""),"") | AK17: =IFERROR(IF(AND(LEN($B17)>0,LEN(AK$7)>0),COUNTIF($D17:$AH17,Status2),""),"") | AL17: =IFERROR(IF(AND(LEN($B17)>0,LEN(AL$7)>0),COUNTIF($D17:$AH17,Status3),""),"") | AM17: =IFERROR(IF(AND(LEN($B17)>0,LEN(AM$7)>0),COUNTIF($D17:$AH17,Status4),""),"")
B18: =IF(LEN(Calc!$D44)>0,Calc!$D44,"") | AJ18: =IFERROR(IF(AND(LEN($B18)>0,LEN(AJ$7)>0),COUNTIF($D18:$AH18,Status1),""),"") | AK18: =IFERROR(IF(AND(LEN($B18)>0,LEN(AK$7)>0),COUNTIF($D18:$AH18,Status2),""),"") | AL18: =IFERROR(IF(AND(LEN($B18)>0,LEN(AL$7)>0),COUNTIF($D18:$AH18,Status3),""),"") | AM18: =IFERROR(IF(AND(LEN($B18)>0,LEN(AM$7)>0),COUNTIF($D18:$AH18,Status4),""),"")
B19: =IF(LEN(Calc!$D45)>0,Calc!$D45,"") | AJ19: =IFERROR(IF(AND(LEN($B19)>0,LEN(AJ$7)>0),COUNTIF($D19:$AH19,Status1),""),"") | AK19: =IFERROR(IF(AND(LEN($B19)>0,LEN(AK$7)>0),COUNTIF($D19:$AH19,Status2),""),"") | AL19: =IFERROR(IF(AND(LEN($B19)>0,LEN(AL$7)>0),COUNTIF($D19:$AH19,Status3),""),"") | AM19: =IFERROR(IF(AND(LEN($B19)>0,LEN(AM$7)>0),COUNTIF($D19:$AH19,Status4),""),"")
B20: =IF(LEN(Calc!$D46)>0,Calc!$D46,"") | AJ20: =IFERROR(IF(AND(LEN($B20)>0,LEN(AJ$7)>0),COUNTIF($D20:$AH20,Status1),""),"") | AK20: =IFERROR(IF(AND(LEN($B20)>0,LEN(AK$7)>0),COUNTIF($D20:$AH20,Status2),""),"") | AL20: =IFERROR(IF(AND(LEN($B20)>0,LEN(AL$7)>0),COUNTIF($D20:$AH20,Status3),""),"") | AM20: =IFERROR(IF(AND(LEN($B20)>0,LEN(AM$7)>0),COUNTIF($D20:$AH20,Status4),""),"")
B21: =IF(LEN(Calc!$D47)>0,Calc!$D47,"") | AJ21: =IFERROR(IF(AND(LEN($B21)>0,LEN(AJ$7)>0),COUNTIF($D21:$AH21,Status1),""),"") | AK21: =IFERROR(IF(AND(LEN($B21)>0,LEN(AK$7)>0),COUNTIF($D21:$AH21,Status2),""),"") | AL21: =IFERROR(IF(AND(LEN($B21)>0,LEN(AL$7)>0),COUNTIF($D21:$AH21,Status3),""),"") | AM21: =IFERROR(IF(AND(LEN($B21)>0,LEN(AM$7)>0),COUNTIF($D21:$AH21,Status4),""),"")
B22: =IF(LEN(Calc!$D48)>0,Calc!$D48,"") | AJ22: =IFERROR(IF(AND(LEN($B22)>0,LEN(AJ$7)>0),COUNTIF($D22:$AH22,Status1),""),"") | AK22: =IFERROR(IF(AND(LEN($B22)>0,LEN(AK$7)>0),COUNTIF($D22:$AH22,Status2),""),"") | AL22: =IFERROR(IF(AND(LEN($B22)>0,LEN(AL$7)>0),COUNTIF($D22:$AH22,Status3),""),"") | AM22: =IFERROR(IF(AND(LEN($B22)>0,LEN(AM$7)>0),COUNTIF($D22:$AH22,Status4),""),"")
B23: =IF(LEN(Calc!$D49)>0,Calc!$D49,"") | AJ23: =IFERROR(IF(AND(LEN($B23)>0,LEN(AJ$7)>0),COUNTIF($D23:$AH23,Status1),""),"") | AK23: =IFERROR(IF(AND(LEN($B23)>0,LEN(AK$7)>0),COUNTIF($D23:$AH23,Status2),""),"") | AL23: =IFERROR(IF(AND(LEN($B23)>0,LEN(AL$7)>0),COUNTIF($D23:$AH23,Status3),""),"") | AM23: =IFERROR(IF(AND(LEN($B23)>0,LEN(AM$7)>0),COUNTIF($D23:$AH23,Status4),""),"")

Sheet March
B2: MONTHLY ATTENDANCE SHEET
B3: DASHBOARD
B5: ="MARCH - "&Dashboard!$B$7 -> MARCH - 2021 | F5: =IFERROR(IF(LEN(Calc!$BK$20)>0,Calc!$BK$20,""),"") -> A | H5: =IFERROR(IF(LEN(Calc!$BJ$20)>0,Calc!$BJ$20,""),"") -> Attended | M5: =IFERROR(IF(LEN(Calc!$BK$21)>0,Calc!$BK$21,""),"") -> N | O5: =IFERROR(IF(LEN(Calc!$BJ$21)>0,Calc!$BJ$21,""),"") -> Not Attended | T5: =IFERROR(IF(LEN(Calc!$BK$22)>0,Calc!$BK$22,""),"") -> T | V5: =IFERROR(IF(LEN(Calc!$BJ$22)>0,Calc!$BJ$22,""),"") -> Tardy | AA5: =IFERROR(IF(LEN(Calc!$BK$23)>0,Calc!$BK$23,""),"") | AC5: =IFERROR(IF(LEN(Calc!$BJ$23)>0,Calc!$BJ$23,""),"")
B7: Participant | D7: =INDEX(Calc!$BJ$26:$BK$32,WEEKDAY(DATE(Dashboard!$B$7,MATCH($B$5,Calc!$B$6:$B$17,0),D$8),2),2) -> Mon | E7: =INDEX(Calc!$BJ$26:$BK$32,WEEKDAY(DATE(Dashboard!$B$7,MATCH($B$5,Calc!$B$6:$B$17,0),E$8),2),2) -> Tue | F7: =INDEX(Calc!$BJ$26:$BK$32,WEEKDAY(DATE(Dashboard!$B$7,MATCH($B$5,Calc!$B$6:$B$17,0),F$8),2),2) -> Wed | G7: =INDEX(Calc!$BJ$26:$BK$32,WEEKDAY(DATE(Dashboard!$B$7,MATCH($B$5,Calc!$B$6:$B$17,0),G$8),2),2) -> Thu | H7: =INDEX(Calc!$BJ$26:$BK$32,WEEKDAY(DATE(Dashboard!$B$7,MATCH($B$5,Calc!$B$6:$B$17,0),H$8),2),2) -> Fri | I7: =INDEX(Calc!$BJ$26:$BK$32,WEEKDAY(DATE(Dashboard!$B$7,MATCH($B$5,Calc!$B$6:$B$17,0),I$8),2),2) -> Sat | J7: =INDEX(Calc!$BJ$26:$BK$32,WEEKDAY(DATE(Dashboard!$B$7,MATCH($B$5,Calc!$B$6:$B$17,0),J$8),2),2) -> Sun | K7: =INDEX(Calc!$BJ$26:$BK$32,WEEKDAY(DATE(Dashboard!$B$7,MATCH($B$5,Calc!$B$6:$B$17,0),K$8),2),2) -> Mon | ... AH7: =INDEX(Calc!$BJ$26:$BK$32,WEEKDAY(DATE(Dashboard!$B$7,MATCH($B$5,Calc!$B$6:$B$17,0),AH$8),2),2) -> Wed | AJ7: =IF(LEN(Status1)>0,$H$5,"") -> Attended | AK7: =IF(LEN(Status2)>0,$O$5,"") -> Not Attended | AL7: =IF(LEN(Status3)>0,$V$5,"") -> Tardy | AM7: =IF(LEN(Status4)>0,$AC$5,"")
B8: List | D8: 1 | E8: 2 | F8: 3 | G8: 4 | H8: 5 | I8: 6 | J8: 7 | K8: 8 | L8: 9 | M8: 10 | N8: 11 | O8: 12 | P8: 13 | Q8: 14 | R8: 15 | S8: 16 | T8: 17 | U8: 18 | V8: 19 | W8: 20 | X8: 21 | Y8: 22 | Z8: 23 | AA8: 24 | AB8: 25 | AC8: 26 | AD8: 27 | AE8: 28 | AF8: 29 | AG8: 30 | AH8: 31
B9: =IF(LEN(Calc!$D35)>0,Calc!$D35,"") -> Michael Hall | D9: A | E9: A | F9: A | G9: T | H9: N | K9: A | L9: A | M9: A | N9: A | O9: N | R9: A | S9: A | T9: A | U9: N | V9: T | Y9: T | Z9: A | AA9: A | AB9: A | AC9: A | AF9: A | AG9: A | AH9: A | AJ9: =IFERROR(IF(AND(LEN($B9)>0,LEN(AJ$7)>0),COUNTIF($D9:$AH9,Status1),""),"") -> 17 | AK9: =IFERROR(IF(AND(LEN($B9)>0,LEN(AK$7)>0),COUNTIF($D9:$AH9,Status2),""),"") -> 3 | AL9: =IFERROR(IF(AND(LEN($B9)>0,LEN(AL$7)>0),COUNTIF($D9:$AH9,Status3),""),"") -> 3 | AM9: =IFERROR(IF(AND(LEN($B9)>0,LEN(AM$7)>0),COUNTIF($D9:$AH9,Status4),""),"")
B10: =IF(LEN(Calc!$D36)>0,Calc!$D36,"") -> James Beriker | D10: A | E10: A | F10: A | G10: A | H10: A | K10: A | L10: A | M10: N | N10: N | O10: T | R10: T | S10: A | T10: A | U10: A | V10: N | Y10: A | Z10: N | AA10: T | AB10: A | AC10: A | AF10: A | AG10: A | AH10: A | AJ10: =IFERROR(IF(AND(LEN($B10)>0,LEN(AJ$7)>0),COUNTIF($D10:$AH10,Status1),""),"") -> 16 | AK10: =IFERROR(IF(AND(LEN($B10)>0,LEN(AK$7)>0),COUNTIF($D10:$AH10,Status2),""),"") -> 4 | AL10: =IFERROR(IF(AND(LEN($B10)>0,LEN(AL$7)>0),COUNTIF($D10:$AH10,Status3),""),"") -> 3 | AM10: =IFERROR(IF(AND(LEN($B10)>0,LEN(AM$7)>0),COUNTIF($D10:$AH10,Status4),""),"")
B11: =IF(LEN(Calc!$D37)>0,Calc!$D37,"") -> Kelly Hoeyco | D11: A | E11: A | F11: A | G11: A | H11: A | K11: A | L11: A | M11: A | N11: A | O11: A | R11: A | S11: A | T11: A | U11: A | V11: A | Y11: A | Z11: A | AA11: A | AB11: A | AC11: A | AF11: A | AG11: A | AH11: A | AJ11: =IFERROR(IF(AND(LEN($B11)>0,LEN(AJ$7)>0),COUNTIF($D11:$AH11,Status1),""),"") -> 23 | AK11: =IFERROR(IF(AND(LEN($B11)>0,LEN(AK$7)>0),COUNTIF($D11:$AH11,Status2),""),"") -> 0 | AL11: =IFERROR(IF(AND(LEN($B11)>0,LEN(AL$7)>0),COUNTIF($D11:$AH11,Status3),""),"") -> 0 | AM11: =IFERROR(IF(AND(LEN($B11)>0,LEN(AM$7)>0),COUNTIF($D11:$AH11,Status4),""),"")
B12: =IF(LEN(Calc!$D38)>0,Calc!$D38,"") -> Julia Meighan | D12: A | E12: T | F12: N | G12: A | H12: A | K12: A | L12: A | M12: A | N12: N | O12: A | R12: A | S12: A | T12: A | U12: A | V12: N | Y12: T | Z12: A | AA12: A | AB12: A | AC12: T | AF12: T | AG12: A | AH12: A | AJ12: =IFERROR(IF(AND(LEN($B12)>0,LEN(AJ$7)>0),COUNTIF($D12:$AH12,Status1),""),"") -> 16 | AK12: =IFERROR(IF(AND(LEN($B12)>0,LEN(AK$7)>0),COUNTIF($D12:$AH12,Status2),""),"") -> 3 | AL12: =IFERROR(IF(AND(LEN($B12)>0,LEN(AL$7)>0),COUNTIF($D12:$AH12,Status3),""),"") -> 4 | AM12: =IFERROR(IF(AND(LEN($B12)>0,LEN(AM$7)>0),COUNTIF($D12:$AH12,Status4),""),"")
B13: =IF(LEN(Calc!$D39)>0,Calc!$D39,"") -> Kristin Zaslavsky | D13: A | E13: A | F13: A | G13: A | H13: A | K13: A | L13: A | M13: A | N13: A | O13: A | R13: A | S13: A | T13: A | U13: A | V13: A | Y13: A | Z13: A | AA13: A | AB13: A | AC13: A | AF13: A | AG13: A | AH13: A | AJ13: =IFERROR(IF(AND(LEN($B13)>0,LEN(AJ$7)>0),COUNTIF($D13:$AH13,Status1),""),"") -> 23 | AK13: =IFERROR(IF(AND(LEN($B13)>0,LEN(AK$7)>0),COUNTIF($D13:$AH13,Status2),""),"") -> 0 | AL13: =IFERROR(IF(AND(LEN($B13)>0,LEN(AL$7)>0),COUNTIF($D13:$AH13,Status3),""),"") -> 0 | AM13: =IFERROR(IF(AND(LEN($B13)>0,LEN(AM$7)>0),COUNTIF($D13:$AH13,Status4),""),"")
B14: =IF(LEN(Calc!$D40)>0,Calc!$D40,"") -> Laurinda Seabra | D14: A | E14: A | F14: A | G14: T | H14: N | K14: A | L14: A | M14: A | N14: A | O14: N | R14: A | S14: A | T14: A | U14: N | V14: T | Y14: T | Z14: A | AA14: A | AB14: A | AC14: A | AF14: A | AG14: A | AH14: A | AJ14: =IFERROR(IF(AND(LEN($B14)>0,LEN(AJ$7)>0),COUNTIF($D14:$AH14,Status1),""),"") -> 17 | AK14: =IFERROR(IF(AND(LEN($B14)>0,LEN(AK$7)>0),COUNTIF($D14:$AH14,Status2),""),"") -> 3 | AL14: =IFERROR(IF(AND(LEN($B14)>0,LEN(AL$7)>0),COUNTIF($D14:$AH14,Status3),""),"") -> 3 | AM14: =IFERROR(IF(AND(LEN($B14)>0,LEN(AM$7)>0),COUNTIF($D14:$AH14,Status4),""),"")
B15: =IF(LEN(Calc!$D41)>0,Calc!$D41,"") -> James Maltese | D15: A | E15: A | F15: A | G15: A | H15: A | K15: A | L15: A | M15: N | N15: N | O15: T | R15: T | S15: A | T15: A | U15: A | V15: N | Y15: A | Z15: N | AA15: T | AB15: A | AC15: A | AF15: A | AG15: A | AH15: A | AJ15: =IFERROR(IF(AND(LEN($B15)>0,LEN(AJ$7)>0),COUNTIF($D15:$AH15,Status1),""),"") -> 16 | AK15: =IFERROR(IF(AND(LEN($B15)>0,LEN(AK$7)>0),COUNTIF($D15:$AH15,Status2),""),"") -> 4 | AL15: =IFERROR(IF(AND(LEN($B15)>0,LEN(AL$7)>0),COUNTIF($D15:$AH15,Status3),""),"") -> 3 | AM15: =IFERROR(IF(AND(LEN($B15)>0,LEN(AM$7)>0),COUNTIF($D15:$AH15,Status4),""),"")
B16: =IF(LEN(Calc!$D42)>0,Calc!$D42,"") -> Robert Balentine | D16: A | E16: T | F16: N | G16: A | H16: A | K16: A | L16: A | M16: A | N16: N | O16: A | R16: A | S16: A | T16: A | U16: A | V16: N | Y16: T | Z16: A | AA16: A | AB16: A | AC16: T | AF16: T | AG16: A | AH16: A | AJ16: =IFERROR(IF(AND(LEN($B16)>0,LEN(AJ$7)>0),COUNTIF($D16:$AH16,Status1),""),"") -> 16 | AK16: =IFERROR(IF(AND(LEN($B16)>0,LEN(AK$7)>0),COUNTIF($D16:$AH16,Status2),""),"") -> 3 | AL16: =IFERROR(IF(AND(LEN($B16)>0,LEN(AL$7)>0),COUNTIF($D16:$AH16,Status3),""),"") -> 4 | AM16: =IFERROR(IF(AND(LEN($B16)>0,LEN(AM$7)>0),COUNTIF($D16:$AH16,Status4),""),"")
B17: =IF(LEN(Calc!$D43)>0,Calc!$D43,"") | AJ17: =IFERROR(IF(AND(LEN($B17)>0,LEN(AJ$7)>0),COUNTIF($D17:$AH17,Status1),""),"") | AK17: =IFERROR(IF(AND(LEN($B17)>0,LEN(AK$7)>0),COUNTIF($D17:$AH17,Status2),""),"") | AL17: =IFERROR(IF(AND(LEN($B17)>0,LEN(AL$7)>0),COUNTIF($D17:$AH17,Status3),""),"") | AM17: =IFERROR(IF(AND(LEN($B17)>0,LEN(AM$7)>0),COUNTIF($D17:$AH17,Status4),""),"")
B18: =IF(LEN(Calc!$D44)>0,Calc!$D44,"") | AJ18: =IFERROR(IF(AND(LEN($B18)>0,LEN(AJ$7)>0),COUNTIF($D18:$AH18,Status1),""),"") | AK18: =IFERROR(IF(AND(LEN($B18)>0,LEN(AK$7)>0),COUNTIF($D18:$AH18,Status2),""),"") | AL18: =IFERROR(IF(AND(LEN($B18)>0,LEN(AL$7)>0),COUNTIF($D18:$AH18,Status3),""),"") | AM18: =IFERROR(IF(AND(LEN($B18)>0,LEN(AM$7)>0),COUNTIF($D18:$AH18,Status4),""),"")
B19: =IF(LEN(Calc!$D45)>0,Calc!$D45,"") | AJ19: =IFERROR(IF(AND(LEN($B19)>0,LEN(AJ$7)>0),COUNTIF($D19:$AH19,Status1),""),"") | AK19: =IFERROR(IF(AND(LEN($B19)>0,LEN(AK$7)>0),COUNTIF($D19:$AH19,Status2),""),"") | AL19: =IFERROR(IF(AND(LEN($B19)>0,LEN(AL$7)>0),COUNTIF($D19:$AH19,Status3),""),"") | AM19: =IFERROR(IF(AND(LEN($B19)>0,LEN(AM$7)>0),COUNTIF($D19:$AH19,Status4),""),"")
B20: =IF(LEN(Calc!$D46)>0,Calc!$D46,"") | AJ20: =IFERROR(IF(AND(LEN($B20)>0,LEN(AJ$7)>0),COUNTIF($D20:$AH20,Status1),""),"") | AK20: =IFERROR(IF(AND(LEN($B20)>0,LEN(AK$7)>0),COUNTIF($D20:$AH20,Status2),""),"") | AL20: =IFERROR(IF(AND(LEN($B20)>0,LEN(AL$7)>0),COUNTIF($D20:$AH20,Status3),""),"") | AM20: =IFERROR(IF(AND(LEN($B20)>0,LEN(AM$7)>0),COUNTIF($D20:$AH20,Status4),""),"")
B21: =IF(LEN(Calc!$D47)>0,Calc!$D47,"") | AJ21: =IFERROR(IF(AND(LEN($B21)>0,LEN(AJ$7)>0),COUNTIF($D21:$AH21,Status1),""),"") | AK21: =IFERROR(IF(AND(LEN($B21)>0,LEN(AK$7)>0),COUNTIF($D21:$AH21,Status2),""),"") | AL21: =IFERROR(IF(AND(LEN($B21)>0,LEN(AL$7)>0),COUNTIF($D21:$AH21,Status3),""),"") | AM21: =IFERROR(IF(AND(LEN($B21)>0,LEN(AM$7)>0),COUNTIF($D21:$AH21,Status4),""),"")
B22: =IF(LEN(Calc!$D48)>0,Calc!$D48,"") | AJ22: =IFERROR(IF(AND(LEN($B22)>0,LEN(AJ$7)>0),COUNTIF($D22:$AH22,Status1),""),"") | AK22: =IFERROR(IF(AND(LEN($B22)>0,LEN(AK$7)>0),COUNTIF($D22:$AH22,Status2),""),"") | AL22: =IFERROR(IF(AND(LEN($B22)>0,LEN(AL$7)>0),COUNTIF($D22:$AH22,Status3),""),"") | AM22: =IFERROR(IF(AND(LEN($B22)>0,LEN(AM$7)>0),COUNTIF($D22:$AH22,Status4),""),"")
B23: =IF(LEN(Calc!$D49)>0,Calc!$D49,"") | AJ23: =IFERROR(IF(AND(LEN($B23)>0,LEN(AJ$7)>0),COUNTIF($D23:$AH23,Status1),""),"") | AK23: =IFERROR(IF(AND(LEN($B23)>0,LEN(AK$7)>0),COUNTIF($D23:$AH23,Status2),""),"") | AL23: =IFERROR(IF(AND(LEN($B23)>0,LEN(AL$7)>0),COUNTIF($D23:$AH23,Status3),""),"") | AM23: =IFERROR(IF(AND(LEN($B23)>0,LEN(AM$7)>0),COUNTIF($D23:$AH23,Status4),""),"")

Sheet April
B2: MONTHLY ATTENDANCE SHEET
B3: DASHBOARD
B5: ="APRIL - "&Dashboard!$B$7 -> APRIL - 2021 | F5: =IFERROR(IF(LEN(Calc!$BK$20)>0,Calc!$BK$20,""),"") -> A | H5: =IFERROR(IF(LEN(Calc!$BJ$20)>0,Calc!$BJ$20,""),"") -> Attended | M5: =IFERROR(IF(LEN(Calc!$BK$21)>0,Calc!$BK$21,""),"") -> N | O5: =IFERROR(IF(LEN(Calc!$BJ$21)>0,Calc!$BJ$21,""),"") -> Not Attended | T5: =IFERROR(IF(LEN(Calc!$BK$22)>0,Calc!$BK$22,""),"") -> T | V5: =IFERROR(IF(LEN(Calc!$BJ$22)>0,Calc!$BJ$22,""),"") -> Tardy | AA5: =IFERROR(IF(LEN(Calc!$BK$23)>0,Calc!$BK$23,""),"") | AC5: =IFERROR(IF(LEN(Calc!$BJ$23)>0,Calc!$BJ$23,""),"")
B7: Participant | D7: =INDEX(Calc!$BJ$26:$BK$32,WEEKDAY(DATE(Dashboard!$B$7,MATCH($B$5,Calc!$B$6:$B$17,0),D$8),2),2) -> Thu | E7: =INDEX(Calc!$BJ$26:$BK$32,WEEKDAY(DATE(Dashboard!$B$7,MATCH($B$5,Calc!$B$6:$B$17,0),E$8),2),2) -> Fri | F7: =INDEX(Calc!$BJ$26:$BK$32,WEEKDAY(DATE(Dashboard!$B$7,MATCH($B$5,Calc!$B$6:$B$17,0),F$8),2),2) -> Sat | G7: =INDEX(Calc!$BJ$26:$BK$32,WEEKDAY(DATE(Dashboard!$B$7,MATCH($B$5,Calc!$B$6:$B$17,0),G$8),2),2) -> Sun | H7: =INDEX(Calc!$BJ$26:$BK$32,WEEKDAY(DATE(Dashboard!$B$7,MATCH($B$5,Calc!$B$6:$B$17,0),H$8),2),2) -> Mon | I7: =INDEX(Calc!$BJ$26:$BK$32,WEEKDAY(DATE(Dashboard!$B$7,MATCH($B$5,Calc!$B$6:$B$17,0),I$8),2),2) -> Tue | J7: =INDEX(Calc!$BJ$26:$BK$32,WEEKDAY(DATE(Dashboard!$B$7,MATCH($B$5,Calc!$B$6:$B$17,0),J$8),2),2) -> Wed | K7: =INDEX(Calc!$BJ$26:$BK$32,WEEKDAY(DATE(Dashboard!$B$7,MATCH($B$5,Calc!$B$6:$B$17,0),K$8),2),2) -> Thu | ... AH7: =INDEX(Calc!$BJ$26:$BK$32,WEEKDAY(DATE(Dashboard!$B$7,MATCH($B$5,Calc!$B$6:$B$17,0),AH$8),2),2) -> Sat | AJ7: =IF(LEN(Status1)>0,$H$5,"") -> Attended | AK7: =IF(LEN(Status2)>0,$O$5,"") -> Not Attended | AL7: =IF(LEN(Status3)>0,$V$5,"") -> Tardy | AM7: =IF(LEN(Status4)>0,$AC$5,"")
B8: List | D8: 1 | E8: 2 | F8: 3 | G8: 4 | H8: 5 | I8: 6 | J8: 7 | K8: 8 | L8: 9 | M8: 10 | N8: 11 | O8: 12 | P8: 13 | Q8: 14 | R8: 15 | S8: 16 | T8: 17 | U8: 18 | V8: 19 | W8: 20 | X8: 21 | Y8: 22 | Z8: 23 | AA8: 24 | AB8: 25 | AC8: 26 | AD8: 27 | AE8: 28 | AF8: 29 | AG8: 30 | AH8: 31
B9: =IF(LEN(Calc!$D35)>0,Calc!$D35,"") -> Michael Hall | D9: A | E9: A | H9: T | I9: A | J9: A | K9: A | L9: N | O9: A | P9: A | Q9: A | R9: T | S9: A | V9: A | W9: A | X9: A | Y9: A | Z9: N | AC9: N | AD9: T | AE9: A | AF9: A | AG9: A | AJ9: =IFERROR(IF(AND(LEN($B9)>0,LEN(AJ$7)>0),COUNTIF($D9:$AH9,Status1),""),"") -> 16 | AK9: =IFERROR(IF(AND(LEN($B9)>0,LEN(AK$7)>0),COUNTIF($D9:$AH9,Status2),""),"") -> 3 | AL9: =IFERROR(IF(AND(LEN($B9)>0,LEN(AL$7)>0),COUNTIF($D9:$AH9,Status3),""),"") -> 3 | AM9: =IFERROR(IF(AND(LEN($B9)>0,LEN(AM$7)>0),COUNTIF($D9:$AH9,Status4),""),"")
B10: =IF(LEN(Calc!$D36)>0,Calc!$D36,"") -> James Beriker | D10: A | E10: A | H10: A | I10: T | J10: A | K10: N | L10: A | O10: A | P10: A | Q10: A | R10: A | S10: A | V10: A | W10: A | X10: A | Y10: A | Z10: A | AC10: A | AD10: A | AE10: A | AF10: A | AG10: A | AJ10: =IFERROR(IF(AND(LEN($B10)>0,LEN(AJ$7)>0),COUNTIF($D10:$AH10,Status1),""),"") -> 20 | AK10: =IFERROR(IF(AND(LEN($B10)>0,LEN(AK$7)>0),COUNTIF($D10:$AH10,Status2),""),"") -> 1 | AL10: =IFERROR(IF(AND(LEN($B10)>0,LEN(AL$7)>0),COUNTIF($D10:$AH10,Status3),""),"") -> 1 | AM10: =IFERROR(IF(AND(LEN($B10)>0,LEN(AM$7)>0),COUNTIF($D10:$AH10,Status4),""),"")
B11: =IF(LEN(Calc!$D37)>0,Calc!$D37,"") -> Kelly Hoeyco | D11: T | E11: A | H11: A | I11: A | J11: A | K11: A | L11: A | O11: A | P11: A | Q11: A | R11: A | S11: A | V11: A | W11: A | X11: A | Y11: A | Z11: A | AC11: A | AD11: A | AE11: A | AF11: A | AG11: A | AJ11: =IFERROR(IF(AND(LEN($B11)>0,LEN(AJ$7)>0),COUNTIF($D11:$AH11,Status1),""),"") -> 21 | AK11: =IFERROR(IF(AND(LEN($B11)>0,LEN(AK$7)>0),COUNTIF($D11:$AH11,Status2),""),"") -> 0 | AL11: =IFERROR(IF(AND(LEN($B11)>0,LEN(AL$7)>0),COUNTIF($D11:$AH11,Status3),""),"") -> 1 | AM11: =IFERROR(IF(AND(LEN($B11)>0,LEN(AM$7)>0),COUNTIF($D11:$AH11,Status4),""),"")
B12: =IF(LEN(Calc!$D38)>0,Calc!$D38,"") -> Julia Meighan | D12: N | E12: A | H12: T | I12: A | J12: A | K12: A | L12: A | O12: A | P12: A | Q12: A | R12: A | S12: A | V12: A | W12: A | X12: A | Y12: A | Z12: A | AC12: A | AD12: A | AE12: A | AF12: A | AG12: A | AJ12: =IFERROR(IF(AND(LEN($B12)>0,LEN(AJ$7)>0),COUNTIF($D12:$AH12,Status1),""),"") -> 20 | AK12: =IFERROR(IF(AND(LEN($B12)>0,LEN(AK$7)>0),COUNTIF($D12:$AH12,Status2),""),"") -> 1 | AL12: =IFERROR(IF(AND(LEN($B12)>0,LEN(AL$7)>0),COUNTIF($D12:$AH12,Status3),""),"") -> 1 | AM12: =IFERROR(IF(AND(LEN($B12)>0,LEN(AM$7)>0),COUNTIF($D12:$AH12,Status4),""),"")
B13: =IF(LEN(Calc!$D39)>0,Calc!$D39,"") -> Kristin Zaslavsky | D13: A | E13: A | H13: A | I13: N | J13: A | K13: A | L13: A | O13: A | P13: A | Q13: T | R13: A | S13: A | V13: A | W13: A | X13: T | Y13: A | Z13: A | AC13: A | AD13: A | AE13: A | AF13: A | AG13: A | AJ13: =IFERROR(IF(AND(LEN($B13)>0,LEN(AJ$7)>0),COUNTIF($D13:$AH13,Status1),""),"") -> 19 | AK13: =IFERROR(IF(AND(LEN($B13)>0,LEN(AK$7)>0),COUNTIF($D13:$AH13,Status2),""),"") -> 1 | AL13: =IFERROR(IF(AND(LEN($B13)>0,LEN(AL$7)>0),COUNTIF($D13:$AH13,Status3),""),"") -> 2 | AM13: =IFERROR(IF(AND(LEN($B13)>0,LEN(AM$7)>0),COUNTIF($D13:$AH13,Status4),""),"")
B14: =IF(LEN(Calc!$D40)>0,Calc!$D40,"") -> Laurinda Seabra | D14: N | E14: A | H14: T | I14: A | J14: A | K14: A | L14: A | O14: A | P14: A | Q14: A | R14: N | S14: A | V14: A | W14: A | X14: A | Y14: A | Z14: A | AC14: A | AD14: A | AE14: A | AF14: A | AG14: A | AJ14: =IFERROR(IF(AND(LEN($B14)>0,LEN(AJ$7)>0),COUNTIF($D14:$AH14,Status1),""),"") -> 19 | AK14: =IFERROR(IF(AND(LEN($B14)>0,LEN(AK$7)>0),COUNTIF($D14:$AH14,Status2),""),"") -> 2 | AL14: =IFERROR(IF(AND(LEN($B14)>0,LEN(AL$7)>0),COUNTIF($D14:$AH14,Status3),""),"") -> 1 | AM14: =IFERROR(IF(AND(LEN($B14)>0,LEN(AM$7)>0),COUNTIF($D14:$AH14,Status4),""),"")
B15: =IF(LEN(Calc!$D41)>0,Calc!$D41,"") -> James Maltese | D15: A | E15: A | H15: T | I15: A | J15: A | K15: A | L15: N | O15: A | P15: A | Q15: A | R15: T | S15: A | V15: A | W15: A | X15: A | Y15: A | Z15: N | AC15: N | AD15: T | AE15: A | AF15: A | AG15: A | AJ15: =IFERROR(IF(AND(LEN($B15)>0,LEN(AJ$7)>0),COUNTIF($D15:$AH15,Status1),""),"") -> 16 | AK15: =IFERROR(IF(AND(LEN($B15)>0,LEN(AK$7)>0),COUNTIF($D15:$AH15,Status2),""),"") -> 3 | AL15: =IFERROR(IF(AND(LEN($B15)>0,LEN(AL$7)>0),COUNTIF($D15:$AH15,Status3),""),"") -> 3 | AM15: =IFERROR(IF(AND(LEN($B15)>0,LEN(AM$7)>0),COUNTIF($D15:$AH15,Status4),""),"")
B16: =IF(LEN(Calc!$D42)>0,Calc!$D42,"") -> Robert Balentine | D16: A | E16: A | H16: A | I16: T | J16: A | K16: N | L16: A | O16: A | P16: A | Q16: A | R16: A | S16: A | V16: A | W16: A | X16: A | Y16: A | Z16: A | AC16: A | AD16: A | AE16: A | AF16: A | AG16: A | AJ16: =IFERROR(IF(AND(LEN($B16)>0,LEN(AJ$7)>0),COUNTIF($D16:$AH16,Status1),""),"") -> 20 | AK16: =IFERROR(IF(AND(LEN($B16)>0,LEN(AK$7)>0),COUNTIF($D16:$AH16,Status2),""),"") -> 1 | AL16: =IFERROR(IF(AND(LEN($B16)>0,LEN(AL$7)>0),COUNTIF($D16:$AH16,Status3),""),"") -> 1 | AM16: =IFERROR(IF(AND(LEN($B16)>0,LEN(AM$7)>0),COUNTIF($D16:$AH16,Status4),""),"")
B17: =IF(LEN(Calc!$D43)>0,Calc!$D43,"") | AJ17: =IFERROR(IF(AND(LEN($B17)>0,LEN(AJ$7)>0),COUNTIF($D17:$AH17,Status1),""),"") | AK17: =IFERROR(IF(AND(LEN($B17)>0,LEN(AK$7)>0),COUNTIF($D17:$AH17,Status2),""),"") | AL17: =IFERROR(IF(AND(LEN($B17)>0,LEN(AL$7)>0),COUNTIF($D17:$AH17,Status3),""),"") | AM17: =IFERROR(IF(AND(LEN($B17)>0,LEN(AM$7)>0),COUNTIF($D17:$AH17,Status4),""),"")
B18: =IF(LEN(Calc!$D44)>0,Calc!$D44,"") | AJ18: =IFERROR(IF(AND(LEN($B18)>0,LEN(AJ$7)>0),COUNTIF($D18:$AH18,Status1),""),"") | AK18: =IFERROR(IF(AND(LEN($B18)>0,LEN(AK$7)>0),COUNTIF($D18:$AH18,Status2),""),"") | AL18: =IFERROR(IF(AND(LEN($B18)>0,LEN(AL$7)>0),COUNTIF($D18:$AH18,Status3),""),"") | AM18: =IFERROR(IF(AND(LEN($B18)>0,LEN(AM$7)>0),COUNTIF($D18:$AH18,Status4),""),"")
B19: =IF(LEN(Calc!$D45)>0,Calc!$D45,"") | AJ19: =IFERROR(IF(AND(LEN($B19)>0,LEN(AJ$7)>0),COUNTIF($D19:$AH19,Status1),""),"") | AK19: =IFERROR(IF(AND(LEN($B19)>0,LEN(AK$7)>0),COUNTIF($D19:$AH19,Status2),""),"") | AL19: =IFERROR(IF(AND(LEN($B19)>0,LEN(AL$7)>0),COUNTIF($D19:$AH19,Status3),""),"") | AM19: =IFERROR(IF(AND(LEN($B19)>0,LEN(AM$7)>0),COUNTIF($D19:$AH19,Status4),""),"")
B20: =IF(LEN(Calc!$D46)>0,Calc!$D46,"") | AJ20: =IFERROR(IF(AND(LEN($B20)>0,LEN(AJ$7)>0),COUNTIF($D20:$AH20,Status1),""),"") | AK20: =IFERROR(IF(AND(LEN($B20)>0,LEN(AK$7)>0),COUNTIF($D20:$AH20,Status2),""),"") | AL20: =IFERROR(IF(AND(LEN($B20)>0,LEN(AL$7)>0),COUNTIF($D20:$AH20,Status3),""),"") | AM20: =IFERROR(IF(AND(LEN($B20)>0,LEN(AM$7)>0),COUNTIF($D20:$AH20,Status4),""),"")
B21: =IF(LEN(Calc!$D47)>0,Calc!$D47,"") | AJ21: =IFERROR(IF(AND(LEN($B21)>0,LEN(AJ$7)>0),COUNTIF($D21:$AH21,Status1),""),"") | AK21: =IFERROR(IF(AND(LEN($B21)>0,LEN(AK$7)>0),COUNTIF($D21:$AH21,Status2),""),"") | AL21: =IFERROR(IF(AND(LEN($B21)>0,LEN(AL$7)>0),COUNTIF($D21:$AH21,Status3),""),"") | AM21: =IFERROR(IF(AND(LEN($B21)>0,LEN(AM$7)>0),COUNTIF($D21:$AH21,Status4),""),"")
B22: =IF(LEN(Calc!$D48)>0,Calc!$D48,"") | AJ22: =IFERROR(IF(AND(LEN($B22)>0,LEN(AJ$7)>0),COUNTIF($D22:$AH22,Status1),""),"") | AK22: =IFERROR(IF(AND(LEN($B22)>0,LEN(AK$7)>0),COUNTIF($D22:$AH22,Status2),""),"") | AL22: =IFERROR(IF(AND(LEN($B22)>0,LEN(AL$7)>0),COUNTIF($D22:$AH22,Status3),""),"") | AM22: =IFERROR(IF(AND(LEN($B22)>0,LEN(AM$7)>0),COUNTIF($D22:$AH22,Status4),""),"")
B23: =IF(LEN(Calc!$D49)>0,Calc!$D49,"") | AJ23: =IFERROR(IF(AND(LEN($B23)>0,LEN(AJ$7)>0),COUNTIF($D23:$AH23,Status1),""),"") | AK23: =IFERROR(IF(AND(LEN($B23)>0,LEN(AK$7)>0),COUNTIF($D23:$AH23,Status2),""),"") | AL23: =IFERROR(IF(AND(LEN($B23)>0,LEN(AL$7)>0),COUNTIF($D23:$AH23,Status3),""),"") | AM23: =IFERROR(IF(AND(LEN($B23)>0,LEN(AM$7)>0),COUNTIF($D23:$AH23,Status4),""),"")

Sheet May
B2: MONTHLY ATTENDANCE SHEET
B3: DASHBOARD
B5: ="MAY - "&Dashboard!$B$7 -> MAY - 2021 | F5: =IFERROR(IF(LEN(Calc!$BK$20)>0,Calc!$BK$20,""),"") -> A | H5: =IFERROR(IF(LEN(Calc!$BJ$20)>0,Calc!$BJ$20,""),"") -> Attended | M5: =IFERROR(IF(LEN(Calc!$BK$21)>0,Calc!$BK$21,""),"") -> N | O5: =IFERROR(IF(LEN(Calc!$BJ$21)>0,Calc!$BJ$21,""),"") -> Not Attended | T5: =IFERROR(IF(LEN(Calc!$BK$22)>0,Calc!$BK$22,""),"") -> T | V5: =IFERROR(IF(LEN(Calc!$BJ$22)>0,Calc!$BJ$22,""),"") -> Tardy | AA5: =IFERROR(IF(LEN(Calc!$BK$23)>0,Calc!$BK$23,""),"") | AC5: =IFERROR(IF(LEN(Calc!$BJ$23)>0,Calc!$BJ$23,""),"")
B7: Participant | D7: =INDEX(Calc!$BJ$26:$BK$32,WEEKDAY(DATE(Dashboard!$B$7,MATCH($B$5,Calc!$B$6:$B$17,0),D$8),2),2) -> Sat | E7: =INDEX(Calc!$BJ$26:$BK$32,WEEKDAY(DATE(Dashboard!$B$7,MATCH($B$5,Calc!$B$6:$B$17,0),E$8),2),2) -> Sun | F7: =INDEX(Calc!$BJ$26:$BK$32,WEEKDAY(DATE(Dashboard!$B$7,MATCH($B$5,Calc!$B$6:$B$17,0),F$8),2),2) -> Mon | G7: =INDEX(Calc!$BJ$26:$BK$32,WEEKDAY(DATE(Dashboard!$B$7,MATCH($B$5,Calc!$B$6:$B$17,0),G$8),2),2) -> Tue | H7: =INDEX(Calc!$BJ$26:$BK$32,WEEKDAY(DATE(Dashboard!$B$7,MATCH($B$5,Calc!$B$6:$B$17,0),H$8),2),2) -> Wed | I7: =INDEX(Calc!$BJ$26:$BK$32,WEEKDAY(DATE(Dashboard!$B$7,MATCH($B$5,Calc!$B$6:$B$17,0),I$8),2),2) -> Thu | J7: =INDEX(Calc!$BJ$26:$BK$32,WEEKDAY(DATE(Dashboard!$B$7,MATCH($B$5,Calc!$B$6:$B$17,0),J$8),2),2) -> Fri | K7: =INDEX(Calc!$BJ$26:$BK$32,WEEKDAY(DATE(Dashboard!$B$7,MATCH($B$5,Calc!$B$6:$B$17,0),K$8),2),2) -> Sat | ... AH7: =INDEX(Calc!$BJ$26:$BK$32,WEEKDAY(DATE(Dashboard!$B$7,MATCH($B$5,Calc!$B$6:$B$17,0),AH$8),2),2) -> Mon | AJ7: =IF(LEN(Status1)>0,$H$5,"") -> Attended | AK7: =IF(LEN(Status2)>0,$O$5,"") -> Not Attended | AL7: =IF(LEN(Status3)>0,$V$5,"") -> Tardy | AM7: =IF(LEN(Status4)>0,$AC$5,"")
B8: List | D8: 1 | E8: 2 | F8: 3 | G8: 4 | H8: 5 | I8: 6 | J8: 7 | K8: 8 | L8: 9 | M8: 10 | N8: 11 | O8: 12 | P8: 13 | Q8: 14 | R8: 15 | S8: 16 | T8: 17 | U8: 18 | V8: 19 | W8: 20 | X8: 21 | Y8: 22 | Z8: 23 | AA8: 24 | AB8: 25 | AC8: 26 | AD8: 27 | AE8: 28 | AF8: 29 | AG8: 30 | AH8: 31
B9: =IF(LEN(Calc!$D35)>0,Calc!$D35,"") -> Michael Hall | F9: A | G9: A | H9: A | I9: T | J9: A | M9: A | N9: A | O9: N | P9: A | Q9: A | T9: A | U9: T | V9: A | W9: A | X9: A | AA9: N | AB9: T | AC9: A | AD9: A | AE9: A | AH9: A | AJ9: =IFERROR(IF(AND(LEN($B9)>0,LEN(AJ$7)>0),COUNTIF($D9:$AH9,Status1),""),"") -> 16 | AK9: =IFERROR(IF(AND(LEN($B9)>0,LEN(AK$7)>0),COUNTIF($D9:$AH9,Status2),""),"") -> 2 | AL9: =IFERROR(IF(AND(LEN($B9)>0,LEN(AL$7)>0),COUNTIF($D9:$AH9,Status3),""),"") -> 3 | AM9: =IFERROR(IF(AND(LEN($B9)>0,LEN(AM$7)>0),COUNTIF($D9:$AH9,Status4),""),"")
B10: =IF(LEN(Calc!$D36)>0,Calc!$D36,"") -> James Beriker | F10: A | G10: A | H10: N | I10: A | J10: A | M10: A | N10: A | O10: A | P10: T | Q10: A | T10: A | U10: A | V10: A | W10: A | X10: A | AA10: A | AB10: A | AC10: A | AD10: A | AE10: A | AH10: T | AJ10: =IFERROR(IF(AND(LEN($B10)>0,LEN(AJ$7)>0),COUNTIF($D10:$AH10,Status1),""),"") -> 18 | AK10: =IFERROR(IF(AND(LEN($B10)>0,LEN(AK$7)>0),COUNTIF($D10:$AH10,Status2),""),"") -> 1 | AL10: =IFERROR(IF(AND(LEN($B10)>0,LEN(AL$7)>0),COUNTIF($D10:$AH10,Status3),""),"") -> 2 | AM10: =IFERROR(IF(AND(LEN($B10)>0,LEN(AM$7)>0),COUNTIF($D10:$AH10,Status4),""),"")
B11: =IF(LEN(Calc!$D37)>0,Calc!$D37,"") -> Kelly Hoeyco | F11: N | G11: A | H11: A | I11: T | J11: A | M11: A | N11: N | O11: A | P11: A | Q11: A | T11: A | U11: A | V11: A | W11: A | X11: A | AA11: T | AB11: A | AC11: N | AD11: A | AE11: A | AH11: A | AJ11: =IFERROR(IF(AND(LEN($B11)>0,LEN(AJ$7)>0),COUNTIF($D11:$AH11,Status1),""),"") -> 16 | AK11: =IFERROR(IF(AND(LEN($B11)>0,LEN(AK$7)>0),COUNTIF($D11:$AH11,Status2),""),"") -> 3 | AL11: =IFERROR(IF(AND(LEN($B11)>0,LEN(AL$7)>0),COUNTIF($D11:$AH11,Status3),""),"") -> 2 | AM11: =IFERROR(IF(AND(LEN($B11)>0,LEN(AM$7)>0),COUNTIF($D11:$AH11,Status4),""),"")
B12: =IF(LEN(Calc!$D38)>0,Calc!$D38,"") -> Julia Meighan | F12: A | G12: A | H12: A | I12: T | J12: A | M12: A | N12: A | O12: N | P12: A | Q12: A | T12: A | U12: T | V12: A | W12: A | X12: A | AA12: N | AB12: T | AC12: A | AD12: A | AE12: A | AH12: A | AJ12: =IFERROR(IF(AND(LEN($B12)>0,LEN(AJ$7)>0),COUNTIF($D12:$AH12,Status1),""),"") -> 16 | AK12: =IFERROR(IF(AND(LEN($B12)>0,LEN(AK$7)>0),COUNTIF($D12:$AH12,Status2),""),"") -> 2 | AL12: =IFERROR(IF(AND(LEN($B12)>0,LEN(AL$7)>0),COUNTIF($D12:$AH12,Status3),""),"") -> 3 | AM12: =IFERROR(IF(AND(LEN($B12)>0,LEN(AM$7)>0),COUNTIF($D12:$AH12,Status4),""),"")
B13: =IF(LEN(Calc!$D39)>0,Calc!$D39,"") -> Kristin Zaslavsky | F13: A | G13: A | H13: N | I13: A | J13: A | M13: A | N13: A | O13: A | P13: T | Q13: A | T13: A | U13: A | V13: N | W13: A | X13: A | AA13: A | AB13: A | AC13: A | AD13: T | AE13: A | AH13: T | AJ13: =IFERROR(IF(AND(LEN($B13)>0,LEN(AJ$7)>0),COUNTIF($D13:$AH13,Status1),""),"") -> 16 | AK13: =IFERROR(IF(AND(LEN($B13)>0,LEN(AK$7)>0),COUNTIF($D13:$AH13,Status2),""),"") -> 2 | AL13: =IFERROR(IF(AND(LEN($B13)>0,LEN(AL$7)>0),COUNTIF($D13:$AH13,Status3),""),"") -> 3 | AM13: =IFERROR(IF(AND(LEN($B13)>0,LEN(AM$7)>0),COUNTIF($D13:$AH13,Status4),""),"")
B14: =IF(LEN(Calc!$D40)>0,Calc!$D40,"") -> Laurinda Seabra | F14: N | G14: A | H14: A | I14: T | J14: A | M14: A | N14: N | O14: A | P14: A | Q14: A | T14: A | U14: A | V14: A | W14: A | X14: A | AA14: T | AB14: A | AC14: N | AD14: A | AE14: A | AH14: A | AJ14: =IFERROR(IF(AND(LEN($B14)>0,LEN(AJ$7)>0),COUNTIF($D14:$AH14,Status1),""),"") -> 16 | AK14: =IFERROR(IF(AND(LEN($B14)>0,LEN(AK$7)>0),COUNTIF($D14:$AH14,Status2),""),"") -> 3 | AL14: =IFERROR(IF(AND(LEN($B14)>0,LEN(AL$7)>0),COUNTIF($D14:$AH14,Status3),""),"") -> 2 | AM14: =IFERROR(IF(AND(LEN($B14)>0,LEN(AM$7)>0),COUNTIF($D14:$AH14,Status4),""),"")
B15: =IF(LEN(Calc!$D41)>0,Calc!$D41,"") -> James Maltese | F15: A | G15: A | H15: N | I15: A | J15: A | M15: A | N15: A | O15: A | P15: T | Q15: A | T15: A | U15: A | V15: A | W15: A | X15: A | AA15: A | AB15: A | AC15: A | AD15: A | AE15: A | AH15: T | AJ15: =IFERROR(IF(AND(LEN($B15)>0,LEN(AJ$7)>0),COUNTIF($D15:$AH15,Status1),""),"") -> 18 | AK15: =IFERROR(IF(AND(LEN($B15)>0,LEN(AK$7)>0),COUNTIF($D15:$AH15,Status2),""),"") -> 1 | AL15: =IFERROR(IF(AND(LEN($B15)>0,LEN(AL$7)>0),COUNTIF($D15:$AH15,Status3),""),"") -> 2 | AM15: =IFERROR(IF(AND(LEN($B15)>0,LEN(AM$7)>0),COUNTIF($D15:$AH15,Status4),""),"")
B16: =IF(LEN(Calc!$D42)>0,Calc!$D42,"") -> Robert Balentine | F16: N | G16: A | H16: A | I16: T | J16: A | M16: A | N16: N | O16: A | P16: A | Q16: A | T16: A | U16: A | V16: A | W16: A | X16: A | AA16: A | AB16: T | AC16: A | AD16: A | AE16: N | AH16: A | AJ16: =IFERROR(IF(AND(LEN($B16)>0,LEN(AJ$7)>0),COUNTIF($D16:$AH16,Status1),""),"") -> 16 | AK16: =IFERROR(IF(AND(LEN($B16)>0,LEN(AK$7)>0),COUNTIF($D16:$AH16,Status2),""),"") -> 3 | AL16: =IFERROR(IF(AND(LEN($B16)>0,LEN(AL$7)>0),COUNTIF($D16:$AH16,Status3),""),"") -> 2 | AM16: =IFERROR(IF(AND(LEN($B16)>0,LEN(AM$7)>0),COUNTIF($D16:$AH16,Status4),""),"")
B17: =IF(LEN(Calc!$D43)>0,Calc!$D43,"") | AJ17: =IFERROR(IF(AND(LEN($B17)>0,LEN(AJ$7)>0),COUNTIF($D17:$AH17,Status1),""),"") | AK17: =IFERROR(IF(AND(LEN($B17)>0,LEN(AK$7)>0),COUNTIF($D17:$AH17,Status2),""),"") | AL17: =IFERROR(IF(AND(LEN($B17)>0,LEN(AL$7)>0),COUNTIF($D17:$AH17,Status3),""),"") | AM17: =IFERROR(IF(AND(LEN($B17)>0,LEN(AM$7)>0),COUNTIF($D17:$AH17,Status4),""),"")
B18: =IF(LEN(Calc!$D44)>0,Calc!$D44,"") | AJ18: =IFERROR(IF(AND(LEN($B18)>0,LEN(AJ$7)>0),COUNTIF($D18:$AH18,Status1),""),"") | AK18: =IFERROR(IF(AND(LEN($B18)>0,LEN(AK$7)>0),COUNTIF($D18:$AH18,Status2),""),"") | AL18: =IFERROR(IF(AND(LEN($B18)>0,LEN(AL$7)>0),COUNTIF($D18:$AH18,Status3),""),"") | AM18: =IFERROR(IF(AND(LEN($B18)>0,LEN(AM$7)>0),COUNTIF($D18:$AH18,Status4),""),"")
B19: =IF(LEN(Calc!$D45)>0,Calc!$D45,"") | AJ19: =IFERROR(IF(AND(LEN($B19)>0,LEN(AJ$7)>0),COUNTIF($D19:$AH19,Status1),""),"") | AK19: =IFERROR(IF(AND(LEN($B19)>0,LEN(AK$7)>0),COUNTIF($D19:$AH19,Status2),""),"") | AL19: =IFERROR(IF(AND(LEN($B19)>0,LEN(AL$7)>0),COUNTIF($D19:$AH19,Status3),""),"") | AM19: =IFERROR(IF(AND(LEN($B19)>0,LEN(AM$7)>0),COUNTIF($D19:$AH19,Status4),""),"")
B20: =IF(LEN(Calc!$D46)>0,Calc!$D46,"") | AJ20: =IFERROR(IF(AND(LEN($B20)>0,LEN(AJ$7)>0),COUNTIF($D20:$AH20,Status1),""),"") | AK20: =IFERROR(IF(AND(LEN($B20)>0,LEN(AK$7)>0),COUNTIF($D20:$AH20,Status2),""),"") | AL20: =IFERROR(IF(AND(LEN($B20)>0,LEN(AL$7)>0),COUNTIF($D20:$AH20,Status3),""),"") | AM20: =IFERROR(IF(AND(LEN($B20)>0,LEN(AM$7)>0),COUNTIF($D20:$AH20,Status4),""),"")
B21: =IF(LEN(Calc!$D47)>0,Calc!$D47,"") | AJ21: =IFERROR(IF(AND(LEN($B21)>0,LEN(AJ$7)>0),COUNTIF($D21:$AH21,Status1),""),"") | AK21: =IFERROR(IF(AND(LEN($B21)>0,LEN(AK$7)>0),COUNTIF($D21:$AH21,Status2),""),"") | AL21: =IFERROR(IF(AND(LEN($B21)>0,LEN(AL$7)>0),COUNTIF($D21:$AH21,Status3),""),"") | AM21: =IFERROR(IF(AND(LEN($B21)>0,LEN(AM$7)>0),COUNTIF($D21:$AH21,Status4),""),"")
B22: =IF(LEN(Calc!$D48)>0,Calc!$D48,"") | AJ22: =IFERROR(IF(AND(LEN($B22)>0,LEN(AJ$7)>0),COUNTIF($D22:$AH22,Status1),""),"") | AK22: =IFERROR(IF(AND(LEN($B22)>0,LEN(AK$7)>0),COUNTIF($D22:$AH22,Status2),""),"") | AL22: =IFERROR(IF(AND(LEN($B22)>0,LEN(AL$7)>0),COUNTIF($D22:$AH22,Status3),""),"") | AM22: =IFERROR(IF(AND(LEN($B22)>0,LEN(AM$7)>0),COUNTIF($D22:$AH22,Status4),""),"")
B23: =IF(LEN(Calc!$D49)>0,Calc!$D49,"") | AJ23: =IFERROR(IF(AND(LEN($B23)>0,LEN(AJ$7)>0),COUNTIF($D23:$AH23,Status1),""),"") | AK23: =IFERROR(IF(AND(LEN($B23)>0,LEN(AK$7)>0),COUNTIF($D23:$AH23,Status2),""),"") | AL23: =IFERROR(IF(AND(LEN($B23)>0,LEN(AL$7)>0),COUNTIF($D23:$AH23,Status3),""),"") | AM23: =IFERROR(IF(AND(LEN($B23)>0,LEN(AM$7)>0),COUNTIF($D23:$AH23,Status4),""),"")

Sheet June
B2: MONTHLY ATTENDANCE SHEET
B3: DASHBOARD
B5: ="JUNE - "&Dashboard!$B$7 -> JUNE - 2021 | F5: =IFERROR(IF(LEN(Calc!$BK$20)>0,Calc!$BK$20,""),"") -> A | H5: =IFERROR(IF(LEN(Calc!$BJ$20)>0,Calc!$BJ$20,""),"") -> Attended | M5: =IFERROR(IF(LEN(Calc!$BK$21)>0,Calc!$BK$21,""),"") -> N | O5: =IFERROR(IF(LEN(Calc!$BJ$21)>0,Calc!$BJ$21,""),"") -> Not Attended | T5: =IFERROR(IF(LEN(Calc!$BK$22)>0,Calc!$BK$22,""),"") -> T | V5: =IFERROR(IF(LEN(Calc!$BJ$22)>0,Calc!$BJ$22,""),"") -> Tardy | AA5: =IFERROR(IF(LEN(Calc!$BK$23)>0,Calc!$BK$23,""),"") | AC5: =IFERROR(IF(LEN(Calc!$BJ$23)>0,Calc!$BJ$23,""),"")
B7: Participant | D7: =INDEX(Calc!$BJ$26:$BK$32,WEEKDAY(DATE(Dashboard!$B$7,MATCH($B$5,Calc!$B$6:$B$17,0),D$8),2),2) -> Tue | E7: =INDEX(Calc!$BJ$26:$BK$32,WEEKDAY(DATE(Dashboard!$B$7,MATCH($B$5,Calc!$B$6:$B$17,0),E$8),2),2) -> Wed | F7: =INDEX(Calc!$BJ$26:$BK$32,WEEKDAY(DATE(Dashboard!$B$7,MATCH($B$5,Calc!$B$6:$B$17,0),F$8),2),2) -> Thu | G7: =INDEX(Calc!$BJ$26:$BK$32,WEEKDAY(DATE(Dashboard!$B$7,MATCH($B$5,Calc!$B$6:$B$17,0),G$8),2),2) -> Fri | H7: =INDEX(Calc!$BJ$26:$BK$32,WEEKDAY(DATE(Dashboard!$B$7,MATCH($B$5,Calc!$B$6:$B$17,0),H$8),2),2) -> Sat | I7: =INDEX(Calc!$BJ$26:$BK$32,WEEKDAY(DATE(Dashboard!$B$7,MATCH($B$5,Calc!$B$6:$B$17,0),I$8),2),2) -> Sun | J7: =INDEX(Calc!$BJ$26:$BK$32,WEEKDAY(DATE(Dashboard!$B$7,MATCH($B$5,Calc!$B$6:$B$17,0),J$8),2),2) -> Mon | K7: =INDEX(Calc!$BJ$26:$BK$32,WEEKDAY(DATE(Dashboard!$B$7,MATCH($B$5,Calc!$B$6:$B$17,0),K$8),2),2) -> Tue | ... AH7: =INDEX(Calc!$BJ$26:$BK$32,WEEKDAY(DATE(Dashboard!$B$7,MATCH($B$5,Calc!$B$6:$B$17,0),AH$8),2),2) -> Thu | AJ7: =IF(LEN(Status1)>0,$H$5,"") -> Attended | AK7: =IF(LEN(Status2)>0,$O$5,"") -> Not Attended | AL7: =IF(LEN(Status3)>0,$V$5,"") -> Tardy | AM7: =IF(LEN(Status4)>0,$AC$5,"")
B8: List | D8: 1 | E8: 2 | F8: 3 | G8: 4 | H8: 5 | I8: 6 | J8: 7 | K8: 8 | L8: 9 | M8: 10 | N8: 11 | O8: 12 | P8: 13 | Q8: 14 | R8: 15 | S8: 16 | T8: 17 | U8: 18 | V8: 19 | W8: 20 | X8: 21 | Y8: 22 | Z8: 23 | AA8: 24 | AB8: 25 | AC8: 26 | AD8: 27 | AE8: 28 | AF8: 29 | AG8: 30 | AH8: 31
B9: =IF(LEN(Calc!$D35)>0,Calc!$D35,"") -> Michael Hall | D9: A | E9: T | F9: A | G9: A | J9: A | K9: A | L9: T | M9: A | N9: A | Q9: A | R9: T | S9: A | T9: A | U9: A | X9: A | Y9: T | Z9: A | AA9: A | AB9: N | AE9: A | AF9: T | AG9: A | AJ9: =IFERROR(IF(AND(LEN($B9)>0,LEN(AJ$7)>0),COUNTIF($D9:$AH9,Status1),""),"") -> 16 | AK9: =IFERROR(IF(AND(LEN($B9)>0,LEN(AK$7)>0),COUNTIF($D9:$AH9,Status2),""),"") -> 1 | AL9: =IFERROR(IF(AND(LEN($B9)>0,LEN(AL$7)>0),COUNTIF($D9:$AH9,Status3),""),"") -> 5 | AM9: =IFERROR(IF(AND(LEN($B9)>0,LEN(AM$7)>0),COUNTIF($D9:$AH9,Status4),""),"")
B10: =IF(LEN(Calc!$D36)>0,Calc!$D36,"") -> James Beriker | D10: A | E10: A | F10: N | G10: A | J10: A | K10: A | L10: A | M10: N | N10: A | Q10: A | R10: A | S10: A | T10: A | U10: A | X10: A | Y10: A | Z10: A | AA10: A | AB10: T | AE10: A | AF10: A | AG10: A | AJ10: =IFERROR(IF(AND(LEN($B10)>0,LEN(AJ$7)>0),COUNTIF($D10:$AH10,Status1),""),"") -> 19 | AK10: =IFERROR(IF(AND(LEN($B10)>0,LEN(AK$7)>0),COUNTIF($D10:$AH10,Status2),""),"") -> 2 | AL10: =IFERROR(IF(AND(LEN($B10)>0,LEN(AL$7)>0),COUNTIF($D10:$AH10,Status3),""),"") -> 1 | AM10: =IFERROR(IF(AND(LEN($B10)>0,LEN(AM$7)>0),COUNTIF($D10:$AH10,Status4),""),"")
B11: =IF(LEN(Calc!$D37)>0,Calc!$D37,"") -> Kelly Hoeyco | D11: A | E11: A | F11: A | G11: T | J11: A | K11: T | L11: A | M11: A | N11: A | Q11: A | R11: A | S11: A | T11: T | U11: A | X11: N | Y11: A | Z11: A | AA11: A | AB11: A | AE11: N | AF11: A | AG11: A | AJ11: =IFERROR(IF(AND(LEN($B11)>0,LEN(AJ$7)>0),COUNTIF($D11:$AH11,Status1),""),"") -> 17 | AK11: =IFERROR(IF(AND(LEN($B11)>0,LEN(AK$7)>0),COUNTIF($D11:$AH11,Status2),""),"") -> 2 | AL11: =IFERROR(IF(AND(LEN($B11)>0,LEN(AL$7)>0),COUNTIF($D11:$AH11,Status3),""),"") -> 3 | AM11: =IFERROR(IF(AND(LEN($B11)>0,LEN(AM$7)>0),COUNTIF($D11:$AH11,Status4),""),"")
B12: =IF(LEN(Calc!$D38)>0,Calc!$D38,"") -> Julia Meighan | D12: A | E12: N | F12: A | G12: A | J12: A | K12: A | L12: A | M12: A | N12: A | Q12: A | R12: A | S12: A | T12: A | U12: A | X12: A | Y12: A | Z12: A | AA12: T | AB12: A | AE12: A | AF12: A | AG12: A | AJ12: =IFERROR(IF(AND(LEN($B12)>0,LEN(AJ$7)>0),COUNTIF($D12:$AH12,Status1),""),"") -> 20 | AK12: =IFERROR(IF(AND(LEN($B12)>0,LEN(AK$7)>0),COUNTIF($D12:$AH12,Status2),""),"") -> 1 | AL12: =IFERROR(IF(AND(LEN($B12)>0,LEN(AL$7)>0),COUNTIF($D12:$AH12,Status3),""),"") -> 1 | AM12: =IFERROR(IF(AND(LEN($B12)>0,LEN(AM$7)>0),COUNTIF($D12:$AH12,Status4),""),"")
B13: =IF(LEN(Calc!$D39)>0,Calc!$D39,"") -> Kristin Zaslavsky | D13: A | E13: A | F13: T | G13: A | J13: A | K13: A | L13: A | M13: T | N13: A | Q13: A | R13: N | S13: A | T13: A | U13: A | X13: A | Y13: A | Z13: N | AA13: A | AB13: A | AE13: A | AF13: A | AG13: A | AJ13: =IFERROR(IF(AND(LEN($B13)>0,LEN(AJ$7)>0),COUNTIF($D13:$AH13,Status1),""),"") -> 18 | AK13: =IFERROR(IF(AND(LEN($B13)>0,LEN(AK$7)>0),COUNTIF($D13:$AH13,Status2),""),"") -> 2 | AL13: =IFERROR(IF(AND(LEN($B13)>0,LEN(AL$7)>0),COUNTIF($D13:$AH13,Status3),""),"") -> 2 | AM13: =IFERROR(IF(AND(LEN($B13)>0,LEN(AM$7)>0),COUNTIF($D13:$AH13,Status4),""),"")
B14: =IF(LEN(Calc!$D40)>0,Calc!$D40,"") -> Laurinda Seabra | D14: A | E14: A | F14: A | G14: A | J14: A | K14: A | L14: N | M14: A | N14: A | Q14: A | R14: A | S14: T | T14: A | U14: A | X14: A | Y14: A | Z14: A | AA14: A | AB14: A | AE14: A | AF14: A | AG14: N | AJ14: =IFERROR(IF(AND(LEN($B14)>0,LEN(AJ$7)>0),COUNTIF($D14:$AH14,Status1),""),"") -> 19 | AK14: =IFERROR(IF(AND(LEN($B14)>0,LEN(AK$7)>0),COUNTIF($D14:$AH14,Status2),""),"") -> 2 | AL14: =IFERROR(IF(AND(LEN($B14)>0,LEN(AL$7)>0),COUNTIF($D14:$AH14,Status3),""),"") -> 1 | AM14: =IFERROR(IF(AND(LEN($B14)>0,LEN(AM$7)>0),COUNTIF($D14:$AH14,Status4),""),"")
B15: =IF(LEN(Calc!$D41)>0,Calc!$D41,"") -> James Maltese | D15: A | E15: A | F15: A | G15: T | J15: T | K15: A | L15: A | M15: A | N15: A | Q15: A | R15: A | S15: A | T15: A | U15: A | X15: A | Y15: A | Z15: A | AA15: T | AB15: A | AE15: A | AF15: A | AG15: A | AJ15: =IFERROR(IF(AND(LEN($B15)>0,LEN(AJ$7)>0),COUNTIF($D15:$AH15,Status1),""),"") -> 19 | AK15: =IFERROR(IF(AND(LEN($B15)>0,LEN(AK$7)>0),COUNTIF($D15:$AH15,Status2),""),"") -> 0 | AL15: =IFERROR(IF(AND(LEN($B15)>0,LEN(AL$7)>0),COUNTIF($D15:$AH15,Status3),""),"") -> 3 | AM15: =IFERROR(IF(AND(LEN($B15)>0,LEN(AM$7)>0),COUNTIF($D15:$AH15,Status4),""),"")
B16: =IF(LEN(Calc!$D42)>0,Calc!$D42,"") -> Robert Balentine | D16: A | E16: N | F16: A | G16: A | J16: A | K16: A | L16: A | M16: A | N16: N | Q16: A | R16: A | S16: A | T16: A | U16: A | X16: A | Y16: N | Z16: A | AA16: A | AB16: A | AE16: A | AF16: A | AG16: A | AJ16: =IFERROR(IF(AND(LEN($B16)>0,LEN(AJ$7)>0),COUNTIF($D16:$AH16,Status1),""),"") -> 19 | AK16: =IFERROR(IF(AND(LEN($B16)>0,LEN(AK$7)>0),COUNTIF($D16:$AH16,Status2),""),"") -> 3 | AL16: =IFERROR(IF(AND(LEN($B16)>0,LEN(AL$7)>0),COUNTIF($D16:$AH16,Status3),""),"") -> 0 | AM16: =IFERROR(IF(AND(LEN($B16)>0,LEN(AM$7)>0),COUNTIF($D16:$AH16,Status4),""),"")
B17: =IF(LEN(Calc!$D43)>0,Calc!$D43,"") | AJ17: =IFERROR(IF(AND(LEN($B17)>0,LEN(AJ$7)>0),COUNTIF($D17:$AH17,Status1),""),"") | AK17: =IFERROR(IF(AND(LEN($B17)>0,LEN(AK$7)>0),COUNTIF($D17:$AH17,Status2),""),"") | AL17: =IFERROR(IF(AND(LEN($B17)>0,LEN(AL$7)>0),COUNTIF($D17:$AH17,Status3),""),"") | AM17: =IFERROR(IF(AND(LEN($B17)>0,LEN(AM$7)>0),COUNTIF($D17:$AH17,Status4),""),"")
B18: =IF(LEN(Calc!$D44)>0,Calc!$D44,"") | AJ18: =IFERROR(IF(AND(LEN($B18)>0,LEN(AJ$7)>0),COUNTIF($D18:$AH18,Status1),""),"") | AK18: =IFERROR(IF(AND(LEN($B18)>0,LEN(AK$7)>0),COUNTIF($D18:$AH18,Status2),""),"") | AL18: =IFERROR(IF(AND(LEN($B18)>0,LEN(AL$7)>0),COUNTIF($D18:$AH18,Status3),""),"") | AM18: =IFERROR(IF(AND(LEN($B18)>0,LEN(AM$7)>0),COUNTIF($D18:$AH18,Status4),""),"")
B19: =IF(LEN(Calc!$D45)>0,Calc!$D45,"") | AJ19: =IFERROR(IF(AND(LEN($B19)>0,LEN(AJ$7)>0),COUNTIF($D19:$AH19,Status1),""),"") | AK19: =IFERROR(IF(AND(LEN($B19)>0,LEN(AK$7)>0),COUNTIF($D19:$AH19,Status2),""),"") | AL19: =IFERROR(IF(AND(LEN($B19)>0,LEN(AL$7)>0),COUNTIF($D19:$AH19,Status3),""),"") | AM19: =IFERROR(IF(AND(LEN($B19)>0,LEN(AM$7)>0),COUNTIF($D19:$AH19,Status4),""),"")
B20: =IF(LEN(Calc!$D46)>0,Calc!$D46,"") | AJ20: =IFERROR(IF(AND(LEN($B20)>0,LEN(AJ$7)>0),COUNTIF($D20:$AH20,Status1),""),"") | AK20: =IFERROR(IF(AND(LEN($B20)>0,LEN(AK$7)>0),COUNTIF($D20:$AH20,Status2),""),"") | AL20: =IFERROR(IF(AND(LEN($B20)>0,LEN(AL$7)>0),COUNTIF($D20:$AH20,Status3),""),"") | AM20: =IFERROR(IF(AND(LEN($B20)>0,LEN(AM$7)>0),COUNTIF($D20:$AH20,Status4),""),"")
B21: =IF(LEN(Calc!$D47)>0,Calc!$D47,"") | AJ21: =IFERROR(IF(AND(LEN($B21)>0,LEN(AJ$7)>0),COUNTIF($D21:$AH21,Status1),""),"") | AK21: =IFERROR(IF(AND(LEN($B21)>0,LEN(AK$7)>0),COUNTIF($D21:$AH21,Status2),""),"") | AL21: =IFERROR(IF(AND(LEN($B21)>0,LEN(AL$7)>0),COUNTIF($D21:$AH21,Status3),""),"") | AM21: =IFERROR(IF(AND(LEN($B21)>0,LEN(AM$7)>0),COUNTIF($D21:$AH21,Status4),""),"")
B22: =IF(LEN(Calc!$D48)>0,Calc!$D48,"") | AJ22: =IFERROR(IF(AND(LEN($B22)>0,LEN(AJ$7)>0),COUNTIF($D22:$AH22,Status1),""),"") | AK22: =IFERROR(IF(AND(LEN($B22)>0,LEN(AK$7)>0),COUNTIF($D22:$AH22,Status2),""),"") | AL22: =IFERROR(IF(AND(LEN($B22)>0,LEN(AL$7)>0),COUNTIF($D22:$AH22,Status3),""),"") | AM22: =IFERROR(IF(AND(LEN($B22)>0,LEN(AM$7)>0),COUNTIF($D22:$AH22,Status4),""),"")
B23: =IF(LEN(Calc!$D49)>0,Calc!$D49,"") | AJ23: =IFERROR(IF(AND(LEN($B23)>0,LEN(AJ$7)>0),COUNTIF($D23:$AH23,Status1),""),"") | AK23: =IFERROR(IF(AND(LEN($B23)>0,LEN(AK$7)>0),COUNTIF($D23:$AH23,Status2),""),"") | AL23: =IFERROR(IF(AND(LEN($B23)>0,LEN(AL$7)>0),COUNTIF($D23:$AH23,Status3),""),"") | AM23: =IFERROR(IF(AND(LEN($B23)>0,LEN(AM$7)>0),COUNTIF($D23:$AH23,Status4),""),"")

Sheet July
B2: MONTHLY ATTENDANCE SHEET
B3: DASHBOARD
B5: ="JULY - "&Dashboard!$B$7 -> JULY - 2021 | F5: =IFERROR(IF(LEN(Calc!$BK$20)>0,Calc!$BK$20,""),"") -> A | H5: =IFERROR(IF(LEN(Calc!$BJ$20)>0,Calc!$BJ$20,""),"") -> Attended | M5: =IFERROR(IF(LEN(Calc!$BK$21)>0,Calc!$BK$21,""),"") -> N | O5: =IFERROR(IF(LEN(Calc!$BJ$21)>0,Calc!$BJ$21,""),"") -> Not Attended | T5: =IFERROR(IF(LEN(Calc!$BK$22)>0,Calc!$BK$22,""),"") -> T | V5: =IFERROR(IF(LEN(Calc!$BJ$22)>0,Calc!$BJ$22,""),"") -> Tardy | AA5: =IFERROR(IF(LEN(Calc!$BK$23)>0,Calc!$BK$23,""),"") | AC5: =IFERROR(IF(LEN(Calc!$BJ$23)>0,Calc!$BJ$23,""),"")
B7: Participant | D7: =INDEX(Calc!$BJ$26:$BK$32,WEEKDAY(DATE(Dashboard!$B$7,MATCH($B$5,Calc!$B$6:$B$17,0),D$8),2),2) -> Thu | E7: =INDEX(Calc!$BJ$26:$BK$32,WEEKDAY(DATE(Dashboard!$B$7,MATCH($B$5,Calc!$B$6:$B$17,0),E$8),2),2) -> Fri | F7: =INDEX(Calc!$BJ$26:$BK$32,WEEKDAY(DATE(Dashboard!$B$7,MATCH($B$5,Calc!$B$6:$B$17,0),F$8),2),2) -> Sat | G7: =INDEX(Calc!$BJ$26:$BK$32,WEEKDAY(DATE(Dashboard!$B$7,MATCH($B$5,Calc!$B$6:$B$17,0),G$8),2),2) -> Sun | H7: =INDEX(Calc!$BJ$26:$BK$32,WEEKDAY(DATE(Dashboard!$B$7,MATCH($B$5,Calc!$B$6:$B$17,0),H$8),2),2) -> Mon | I7: =INDEX(Calc!$BJ$26:$BK$32,WEEKDAY(DATE(Dashboard!$B$7,MATCH($B$5,Calc!$B$6:$B$17,0),I$8),2),2) -> Tue | J7: =INDEX(Calc!$BJ$26:$BK$32,WEEKDAY(DATE(Dashboard!$B$7,MATCH($B$5,Calc!$B$6:$B$17,0),J$8),2),2) -> Wed | K7: =INDEX(Calc!$BJ$26:$BK$32,WEEKDAY(DATE(Dashboard!$B$7,MATCH($B$5,Calc!$B$6:$B$17,0),K$8),2),2) -> Thu | ... AH7: =INDEX(Calc!$BJ$26:$BK$32,WEEKDAY(DATE(Dashboard!$B$7,MATCH($B$5,Calc!$B$6:$B$17,0),AH$8),2),2) -> Sat | AJ7: =IF(LEN(Status1)>0,$H$5,"") -> Attended | AK7: =IF(LEN(Status2)>0,$O$5,"") -> Not Attended | AL7: =IF(LEN(Status3)>0,$V$5,"") -> Tardy | AM7: =IF(LEN(Status4)>0,$AC$5,"")
B8: List | D8: 1 | E8: 2 | F8: 3 | G8: 4 | H8: 5 | I8: 6 | J8: 7 | K8: 8 | L8: 9 | M8: 10 | N8: 11 | O8: 12 | P8: 13 | Q8: 14 | R8: 15 | S8: 16 | T8: 17 | U8: 18 | V8: 19 | W8: 20 | X8: 21 | Y8: 22 | Z8: 23 | AA8: 24 | AB8: 25 | AC8: 26 | AD8: 27 | AE8: 28 | AF8: 29 | AG8: 30 | AH8: 31
B9: =IF(LEN(Calc!$D35)>0,Calc!$D35,"") -> Michael Hall | D9: A | E9: A | H9: A | I9: A | J9: T | K9: A | L9: A | O9: A | P9: A | Q9: A | R9: N | S9: A | V9: A | W9: A | X9: A | Y9: A | Z9: A | AC9: A | AD9: A | AE9: A | AF9: T | AG9: A | AJ9: =IFERROR(IF(AND(LEN($B9)>0,LEN(AJ$7)>0),COUNTIF($D9:$AH9,Status1),""),"") -> 19 | AK9: =IFERROR(IF(AND(LEN($B9)>0,LEN(AK$7)>0),COUNTIF($D9:$AH9,Status2),""),"") -> 1 | AL9: =IFERROR(IF(AND(LEN($B9)>0,LEN(AL$7)>0),COUNTIF($D9:$AH9,Status3),""),"") -> 2 | AM9: =IFERROR(IF(AND(LEN($B9)>0,LEN(AM$7)>0),COUNTIF($D9:$AH9,Status4),""),"")
B10: =IF(LEN(Calc!$D36)>0,Calc!$D36,"") -> James Beriker | D10: A | E10: A | H10: A | I10: A | J10: A | K10: A | L10: A | O10: A | P10: A | Q10: A | R10: A | S10: A | V10: A | W10: A | X10: A | Y10: A | Z10: N | AC10: A | AD10: A | AE10: A | AF10: A | AG10: A | AJ10: =IFERROR(IF(AND(LEN($B10)>0,LEN(AJ$7)>0),COUNTIF($D10:$AH10,Status1),""),"") -> 21 | AK10: =IFERROR(IF(AND(LEN($B10)>0,LEN(AK$7)>0),COUNTIF($D10:$AH10,Status2),""),"") -> 1 | AL10: =IFERROR(IF(AND(LEN($B10)>0,LEN(AL$7)>0),COUNTIF($D10:$AH10,Status3),""),"") -> 0 | AM10: =IFERROR(IF(AND(LEN($B10)>0,LEN(AM$7)>0),COUNTIF($D10:$AH10,Status4),""),"")
B11: =IF(LEN(Calc!$D37)>0,Calc!$D37,"") -> Kelly Hoeyco | D11: A | E11: T | H11: A | I11: A | J11: A | K11: N | L11: A | O11: A | P11: T | Q11: A | R11: A | S11: A | V11: A | W11: A | X11: A | Y11: A | Z11: A | AC11: A | AD11: N | AE11: A | AF11: A | AG11: A | AJ11: =IFERROR(IF(AND(LEN($B11)>0,LEN(AJ$7)>0),COUNTIF($D11:$AH11,Status1),""),"") -> 18 | AK11: =IFERROR(IF(AND(LEN($B11)>0,LEN(AK$7)>0),COUNTIF($D11:$AH11,Status2),""),"") -> 2 | AL11: =IFERROR(IF(AND(LEN($B11)>0,LEN(AL$7)>0),COUNTIF($D11:$AH11,Status3),""),"") -> 2 | AM11: =IFERROR(IF(AND(LEN($B11)>0,LEN(AM$7)>0),COUNTIF($D11:$AH11,Status4),""),"")
B12: =IF(LEN(Calc!$D38)>0,Calc!$D38,"") -> Julia Meighan | D12: A | E12: A | H12: A | I12: A | J12: A | K12: A | L12: A | O12: A | P12: A | Q12: A | R12: A | S12: A | V12: A | W12: N | X12: A | Y12: A | Z12: A | AC12: A | AD12: A | AE12: A | AF12: A | AG12: A | AJ12: =IFERROR(IF(AND(LEN($B12)>0,LEN(AJ$7)>0),COUNTIF($D12:$AH12,Status1),""),"") -> 21 | AK12: =IFERROR(IF(AND(LEN($B12)>0,LEN(AK$7)>0),COUNTIF($D12:$AH12,Status2),""),"") -> 1 | AL12: =IFERROR(IF(AND(LEN($B12)>0,LEN(AL$7)>0),COUNTIF($D12:$AH12,Status3),""),"") -> 0 | AM12: =IFERROR(IF(AND(LEN($B12)>0,LEN(AM$7)>0),COUNTIF($D12:$AH12,Status4),""),"")
B13: =IF(LEN(Calc!$D39)>0,Calc!$D39,"") -> Kristin Zaslavsky | D13: N | E13: A | H13: A | I13: T | J13: A | K13: A | L13: A | O13: A | P13: A | Q13: T | R13: A | S13: A | V13: A | W13: A | X13: A | Y13: A | Z13: A | AC13: A | AD13: A | AE13: T | AF13: A | AG13: A | AJ13: =IFERROR(IF(AND(LEN($B13)>0,LEN(AJ$7)>0),COUNTIF($D13:$AH13,Status1),""),"") -> 18 | AK13: =IFERROR(IF(AND(LEN($B13)>0,LEN(AK$7)>0),COUNTIF($D13:$AH13,Status2),""),"") -> 1 | AL13: =IFERROR(IF(AND(LEN($B13)>0,LEN(AL$7)>0),COUNTIF($D13:$AH13,Status3),""),"") -> 3 | AM13: =IFERROR(IF(AND(LEN($B13)>0,LEN(AM$7)>0),COUNTIF($D13:$AH13,Status4),""),"")
B14: =IF(LEN(Calc!$D40)>0,Calc!$D40,"") -> Laurinda Seabra | D14: A | E14: A | H14: A | I14: A | J14: A | K14: A | L14: A | O14: A | P14: A | Q14: A | R14: A | S14: A | V14: A | W14: A | X14: A | Y14: T | Z14: A | AC14: A | AD14: A | AE14: A | AF14: A | AG14: A | AJ14: =IFERROR(IF(AND(LEN($B14)>0,LEN(AJ$7)>0),COUNTIF($D14:$AH14,Status1),""),"") -> 21 | AK14: =IFERROR(IF(AND(LEN($B14)>0,LEN(AK$7)>0),COUNTIF($D14:$AH14,Status2),""),"") -> 0 | AL14: =IFERROR(IF(AND(LEN($B14)>0,LEN(AL$7)>0),COUNTIF($D14:$AH14,Status3),""),"") -> 1 | AM14: =IFERROR(IF(AND(LEN($B14)>0,LEN(AM$7)>0),COUNTIF($D14:$AH14,Status4),""),"")
B15: =IF(LEN(Calc!$D41)>0,Calc!$D41,"") -> James Maltese | D15: A | E15: A | H15: A | I15: A | J15: N | K15: A | L15: A | O15: A | P15: N | Q15: A | R15: A | S15: A | V15: A | W15: A | X15: A | Y15: A | Z15: A | AC15: A | AD15: N | AE15: A | AF15: A | AG15: A | AJ15: =IFERROR(IF(AND(LEN($B15)>0,LEN(AJ$7)>0),COUNTIF($D15:$AH15,Status1),""),"") -> 19 | AK15: =IFERROR(IF(AND(LEN($B15)>0,LEN(AK$7)>0),COUNTIF($D15:$AH15,Status2),""),"") -> 3 | AL15: =IFERROR(IF(AND(LEN($B15)>0,LEN(AL$7)>0),COUNTIF($D15:$AH15,Status3),""),"") -> 0 | AM15: =IFERROR(IF(AND(LEN($B15)>0,LEN(AM$7)>0),COUNTIF($D15:$AH15,Status4),""),"")
B16: =IF(LEN(Calc!$D42)>0,Calc!$D42,"") -> Robert Balentine | D16: A | E16: A | H16: A | I16: A | J16: A | K16: A | L16: A | O16: A | P16: A | Q16: A | R16: A | S16: A | V16: N | W16: A | X16: A | Y16: A | Z16: A | AC16: A | AD16: A | AE16: A | AF16: A | AG16: T | AJ16: =IFERROR(IF(AND(LEN($B16)>0,LEN(AJ$7)>0),COUNTIF($D16:$AH16,Status1),""),"") -> 20 | AK16: =IFERROR(IF(AND(LEN($B16)>0,LEN(AK$7)>0),COUNTIF($D16:$AH16,Status2),""),"") -> 1 | AL16: =IFERROR(IF(AND(LEN($B16)>0,LEN(AL$7)>0),COUNTIF($D16:$AH16,Status3),""),"") -> 1 | AM16: =IFERROR(IF(AND(LEN($B16)>0,LEN(AM$7)>0),COUNTIF($D16:$AH16,Status4),""),"")
B17: =IF(LEN(Calc!$D43)>0,Calc!$D43,"") | AJ17: =IFERROR(IF(AND(LEN($B17)>0,LEN(AJ$7)>0),COUNTIF($D17:$AH17,Status1),""),"") | AK17: =IFERROR(IF(AND(LEN($B17)>0,LEN(AK$7)>0),COUNTIF($D17:$AH17,Status2),""),"") | AL17: =IFERROR(IF(AND(LEN($B17)>0,LEN(AL$7)>0),COUNTIF($D17:$AH17,Status3),""),"") | AM17: =IFERROR(IF(AND(LEN($B17)>0,LEN(AM$7)>0),COUNTIF($D17:$AH17,Status4),""),"")
B18: =IF(LEN(Calc!$D44)>0,Calc!$D44,"") | AJ18: =IFERROR(IF(AND(LEN($B18)>0,LEN(AJ$7)>0),COUNTIF($D18:$AH18,Status1),""),"") | AK18: =IFERROR(IF(AND(LEN($B18)>0,LEN(AK$7)>0),COUNTIF($D18:$AH18,Status2),""),"") | AL18: =IFERROR(IF(AND(LEN($B18)>0,LEN(AL$7)>0),COUNTIF($D18:$AH18,Status3),""),"") | AM18: =IFERROR(IF(AND(LEN($B18)>0,LEN(AM$7)>0),COUNTIF($D18:$AH18,Status4),""),"")
B19: =IF(LEN(Calc!$D45)>0,Calc!$D45,"") | AJ19: =IFERROR(IF(AND(LEN($B19)>0,LEN(AJ$7)>0),COUNTIF($D19:$AH19,Status1),""),"") | AK19: =IFERROR(IF(AND(LEN($B19)>0,LEN(AK$7)>0),COUNTIF($D19:$AH19,Status2),""),"") | AL19: =IFERROR(IF(AND(LEN($B19)>0,LEN(AL$7)>0),COUNTIF($D19:$AH19,Status3),""),"") | AM19: =IFERROR(IF(AND(LEN($B19)>0,LEN(AM$7)>0),COUNTIF($D19:$AH19,Status4),""),"")
B20: =IF(LEN(Calc!$D46)>0,Calc!$D46,"") | AJ20: =IFERROR(IF(AND(LEN($B20)>0,LEN(AJ$7)>0),COUNTIF($D20:$AH20,Status1),""),"") | AK20: =IFERROR(IF(AND(LEN($B20)>0,LEN(AK$7)>0),COUNTIF($D20:$AH20,Status2),""),"") | AL20: =IFERROR(IF(AND(LEN($B20)>0,LEN(AL$7)>0),COUNTIF($D20:$AH20,Status3),""),"") | AM20: =IFERROR(IF(AND(LEN($B20)>0,LEN(AM$7)>0),COUNTIF($D20:$AH20,Status4),""),"")
B21: =IF(LEN(Calc!$D47)>0,Calc!$D47,"") | AJ21: =IFERROR(IF(AND(LEN($B21)>0,LEN(AJ$7)>0),COUNTIF($D21:$AH21,Status1),""),"") | AK21: =IFERROR(IF(AND(LEN($B21)>0,LEN(AK$7)>0),COUNTIF($D21:$AH21,Status2),""),"") | AL21: =IFERROR(IF(AND(LEN($B21)>0,LEN(AL$7)>0),COUNTIF($D21:$AH21,Status3),""),"") | AM21: =IFERROR(IF(AND(LEN($B21)>0,LEN(AM$7)>0),COUNTIF($D21:$AH21,Status4),""),"")
B22: =IF(LEN(Calc!$D48)>0,Calc!$D48,"") | AJ22: =IFERROR(IF(AND(LEN($B22)>0,LEN(AJ$7)>0),COUNTIF($D22:$AH22,Status1),""),"") | AK22: =IFERROR(IF(AND(LEN($B22)>0,LEN(AK$7)>0),COUNTIF($D22:$AH22,Status2),""),"") | AL22: =IFERROR(IF(AND(LEN($B22)>0,LEN(AL$7)>0),COUNTIF($D22:$AH22,Status3),""),"") | AM22: =IFERROR(IF(AND(LEN($B22)>0,LEN(AM$7)>0),COUNTIF($D22:$AH22,Status4),""),"")
B23: =IF(LEN(Calc!$D49)>0,Calc!$D49,"") | AJ23: =IFERROR(IF(AND(LEN($B23)>0,LEN(AJ$7)>0),COUNTIF($D23:$AH23,Status1),""),"") | AK23: =IFERROR(IF(AND(LEN($B23)>0,LEN(AK$7)>0),COUNTIF($D23:$AH23,Status2),""),"") | AL23: =IFERROR(IF(AND(LEN($B23)>0,LEN(AL$7)>0),COUNTIF($D23:$AH23,Status3),""),"") | AM23: =IFERROR(IF(AND(LEN($B23)>0,LEN(AM$7)>0),COUNTIF($D23:$AH23,Status4),""),"")

Sheet August
B2: MONTHLY ATTENDANCE SHEET
B3: DASHBOARD
B5: ="AUGUST - "&Dashboard!$B$7 -> AUGUST - 2021 | F5: =IFERROR(IF(LEN(Calc!$BK$20)>0,Calc!$BK$20,""),"") -> A | H5: =IFERROR(IF(LEN(Calc!$BJ$20)>0,Calc!$BJ$20,""),"") -> Attended | M5: =IFERROR(IF(LEN(Calc!$BK$21)>0,Calc!$BK$21,""),"") -> N | O5: =IFERROR(IF(LEN(Calc!$BJ$21)>0,Calc!$BJ$21,""),"") -> Not Attended | T5: =IFERROR(IF(LEN(Calc!$BK$22)>0,Calc!$BK$22,""),"") -> T | V5: =IFERROR(IF(LEN(Calc!$BJ$22)>0,Calc!$BJ$22,""),"") -> Tardy | AA5: =IFERROR(IF(LEN(Calc!$BK$23)>0,Calc!$BK$23,""),"") | AC5: =IFERROR(IF(LEN(Calc!$BJ$23)>0,Calc!$BJ$23,""),"")
B7: Participant | D7: =INDEX(Calc!$BJ$26:$BK$32,WEEKDAY(DATE(Dashboard!$B$7,MATCH($B$5,Calc!$B$6:$B$17,0),D$8),2),2) -> Sun | E7: =INDEX(Calc!$BJ$26:$BK$32,WEEKDAY(DATE(Dashboard!$B$7,MATCH($B$5,Calc!$B$6:$B$17,0),E$8),2),2) -> Mon | F7: =INDEX(Calc!$BJ$26:$BK$32,WEEKDAY(DATE(Dashboard!$B$7,MATCH($B$5,Calc!$B$6:$B$17,0),F$8),2),2) -> Tue | G7: =INDEX(Calc!$BJ$26:$BK$32,WEEKDAY(DATE(Dashboard!$B$7,MATCH($B$5,Calc!$B$6:$B$17,0),G$8),2),2) -> Wed | H7: =INDEX(Calc!$BJ$26:$BK$32,WEEKDAY(DATE(Dashboard!$B$7,MATCH($B$5,Calc!$B$6:$B$17,0),H$8),2),2) -> Thu | I7: =INDEX(Calc!$BJ$26:$BK$32,WEEKDAY(DATE(Dashboard!$B$7,MATCH($B$5,Calc!$B$6:$B$17,0),I$8),2),2) -> Fri | J7: =INDEX(Calc!$BJ$26:$BK$32,WEEKDAY(DATE(Dashboard!$B$7,MATCH($B$5,Calc!$B$6:$B$17,0),J$8),2),2) -> Sat | K7: =INDEX(Calc!$BJ$26:$BK$32,WEEKDAY(DATE(Dashboard!$B$7,MATCH($B$5,Calc!$B$6:$B$17,0),K$8),2),2) -> Sun | ... AH7: =INDEX(Calc!$BJ$26:$BK$32,WEEKDAY(DATE(Dashboard!$B$7,MATCH($B$5,Calc!$B$6:$B$17,0),AH$8),2),2) -> Tue | AJ7: =IF(LEN(Status1)>0,$H$5,"") -> Attended | AK7: =IF(LEN(Status2)>0,$O$5,"") -> Not Attended | AL7: =IF(LEN(Status3)>0,$V$5,"") -> Tardy | AM7: =IF(LEN(Status4)>0,$AC$5,"")
B8: List | D8: 1 | E8: 2 | F8: 3 | G8: 4 | H8: 5 | I8: 6 | J8: 7 | K8: 8 | L8: 9 | M8: 10 | N8: 11 | O8: 12 | P8: 13 | Q8: 14 | R8: 15 | S8: 16 | T8: 17 | U8: 18 | V8: 19 | W8: 20 | X8: 21 | Y8: 22 | Z8: 23 | AA8: 24 | AB8: 25 | AC8: 26 | AD8: 27 | AE8: 28 | AF8: 29 | AG8: 30 | AH8: 31
B9: =IF(LEN(Calc!$D35)>0,Calc!$D35,"") -> Michael Hall | E9: A | F9: A | G9: T | H9: A | I9: A | L9: A | M9: T | N9: A | O9: A | P9: A | S9: A | T9: T | U9: A | V9: A | W9: A | Z9: A | AA9: T | AB9: A | AC9: A | AD9: A | AG9: N | AH9: A | AJ9: =IFERROR(IF(AND(LEN($B9)>0,LEN(AJ$7)>0),COUNTIF($D9:$AH9,Status1),""),"") -> 17 | AK9: =IFERROR(IF(AND(LEN($B9)>0,LEN(AK$7)>0),COUNTIF($D9:$AH9,Status2),""),"") -> 1 | AL9: =IFERROR(IF(AND(LEN($B9)>0,LEN(AL$7)>0),COUNTIF($D9:$AH9,Status3),""),"") -> 4 | AM9: =IFERROR(IF(AND(LEN($B9)>0,LEN(AM$7)>0),COUNTIF($D9:$AH9,Status4),""),"")
B10: =IF(LEN(Calc!$D36)>0,Calc!$D36,"") -> James Beriker | E10: A | F10: A | G10: A | H10: A | I10: A | L10: A | M10: A | N10: N | O10: A | P10: A | S10: A | T10: A | U10: A | V10: T | W10: A | Z10: A | AA10: A | AB10: A | AC10: A | AD10: A | AG10: A | AH10: A | AJ10: =IFERROR(IF(AND(LEN($B10)>0,LEN(AJ$7)>0),COUNTIF($D10:$AH10,Status1),""),"") -> 20 | AK10: =IFERROR(IF(AND(LEN($B10)>0,LEN(AK$7)>0),COUNTIF($D10:$AH10,Status2),""),"") -> 1 | AL10: =IFERROR(IF(AND(LEN($B10)>0,LEN(AL$7)>0),COUNTIF($D10:$AH10,Status3),""),"") -> 1 | AM10: =IFERROR(IF(AND(LEN($B10)>0,LEN(AM$7)>0),COUNTIF($D10:$AH10,Status4),""),"")
B11: =IF(LEN(Calc!$D37)>0,Calc!$D37,"") -> Kelly Hoeyco | E11: A | F11: A | G11: A | H11: A | I11: N | L11: A | M11: A | N11: A | O11: A | P11: A | S11: A | T11: A | U11: A | V11: A | W11: A | Z11: A | AA11: A | AB11: A | AC11: A | AD11: N | AG11: A | AH11: A | AJ11: =IFERROR(IF(AND(LEN($B11)>0,LEN(AJ$7)>0),COUNTIF($D11:$AH11,Status1),""),"") -> 20 | AK11: =IFERROR(IF(AND(LEN($B11)>0,LEN(AK$7)>0),COUNTIF($D11:$AH11,Status2),""),"") -> 2 | AL11: =IFERROR(IF(AND(LEN($B11)>0,LEN(AL$7)>0),COUNTIF($D11:$AH11,Status3),""),"") -> 0 | AM11: =IFERROR(IF(AND(LEN($B11)>0,LEN(AM$7)>0),COUNTIF($D11:$AH11,Status4),""),"")
B12: =IF(LEN(Calc!$D38)>0,Calc!$D38,"") -> Julia Meighan | E12: A | F12: A | G12: A | H12: A | I12: A | L12: N | M12: A | N12: A | O12: A | P12: A | S12: A | T12: A | U12: N | V12: A | W12: A | Z12: A | AA12: A | AB12: A | AC12: A | AD12: A | AG12: A | AH12: T | AJ12: =IFERROR(IF(AND(LEN($B12)>0,LEN(AJ$7)>0),COUNTIF($D12:$AH12,Status1),""),"") -> 19 | AK12: =IFERROR(IF(AND(LEN($B12)>0,LEN(AK$7)>0),COUNTIF($D12:$AH12,Status2),""),"") -> 2 | AL12: =IFERROR(IF(AND(LEN($B12)>0,LEN(AL$7)>0),COUNTIF($D12:$AH12,Status3),""),"") -> 1 | AM12: =IFERROR(IF(AND(LEN($B12)>0,LEN(AM$7)>0),COUNTIF($D12:$AH12,Status4),""),"")
B13: =IF(LEN(Calc!$D39)>0,Calc!$D39,"") -> Kristin Zaslavsky | E13: N | F13: A | G13: A | H13: A | I13: A | L13: A | M13: A | N13: A | O13: A | P13: A | S13: A | T13: A | U13: A | V13: A | W13: A | Z13: N | AA13: A | AB13: A | AC13: A | AD13: A | AG13: A | AH13: A | AJ13: =IFERROR(IF(AND(LEN($B13)>0,LEN(AJ$7)>0),COUNTIF($D13:$AH13,Status1),""),"") -> 20 | AK13: =IFERROR(IF(AND(LEN($B13)>0,LEN(AK$7)>0),COUNTIF($D13:$AH13,Status2),""),"") -> 2 | AL13: =IFERROR(IF(AND(LEN($B13)>0,LEN(AL$7)>0),COUNTIF($D13:$AH13,Status3),""),"") -> 0 | AM13: =IFERROR(IF(AND(LEN($B13)>0,LEN(AM$7)>0),COUNTIF($D13:$AH13,Status4),""),"")
B14: =IF(LEN(Calc!$D40)>0,Calc!$D40,"") -> Laurinda Seabra | E14: A | F14: A | G14: A | H14: A | I14: A | L14: A | M14: A | N14: A | O14: T | P14: A | S14: A | T14: T | U14: A | V14: A | W14: A | Z14: A | AA14: A | AB14: A | AC14: A | AD14: A | AG14: A | AH14: A | AJ14: =IFERROR(IF(AND(LEN($B14)>0,LEN(AJ$7)>0),COUNTIF($D14:$AH14,Status1),""),"") -> 20 | AK14: =IFERROR(IF(AND(LEN($B14)>0,LEN(AK$7)>0),COUNTIF($D14:$AH14,Status2),""),"") -> 0 | AL14: =IFERROR(IF(AND(LEN($B14)>0,LEN(AL$7)>0),COUNTIF($D14:$AH14,Status3),""),"") -> 2 | AM14: =IFERROR(IF(AND(LEN($B14)>0,LEN(AM$7)>0),COUNTIF($D14:$AH14,Status4),""),"")
B15: =IF(LEN(Calc!$D41)>0,Calc!$D41,"") -> James Maltese | E15: A | F15: A | G15: A | H15: T | I15: A | L15: A | M15: A | N15: A | O15: A | P15: A | S15: A | T15: A | U15: A | V15: N | W15: A | Z15: A | AA15: A | AB15: T | AC15: A | AD15: A | AG15: T | AH15: A | AJ15: =IFERROR(IF(AND(LEN($B15)>0,LEN(AJ$7)>0),COUNTIF($D15:$AH15,Status1),""),"") -> 18 | AK15: =IFERROR(IF(AND(LEN($B15)>0,LEN(AK$7)>0),COUNTIF($D15:$AH15,Status2),""),"") -> 1 | AL15: =IFERROR(IF(AND(LEN($B15)>0,LEN(AL$7)>0),COUNTIF($D15:$AH15,Status3),""),"") -> 3 | AM15: =IFERROR(IF(AND(LEN($B15)>0,LEN(AM$7)>0),COUNTIF($D15:$AH15,Status4),""),"")
B16: =IF(LEN(Calc!$D42)>0,Calc!$D42,"") -> Robert Balentine | E16: A | F16: N | G16: A | H16: A | I16: A | L16: A | M16: N | N16: A | O16: A | P16: A | S16: A | T16: A | U16: A | V16: A | W16: A | Z16: A | AA16: A | AB16: A | AC16: A | AD16: A | AG16: A | AH16: A | AJ16: =IFERROR(IF(AND(LEN($B16)>0,LEN(AJ$7)>0),COUNTIF($D16:$AH16,Status1),""),"") -> 20 | AK16: =IFERROR(IF(AND(LEN($B16)>0,LEN(AK$7)>0),COUNTIF($D16:$AH16,Status2),""),"") -> 2 | AL16: =IFERROR(IF(AND(LEN($B16)>0,LEN(AL$7)>0),COUNTIF($D16:$AH16,Status3),""),"") -> 0 | AM16: =IFERROR(IF(AND(LEN($B16)>0,LEN(AM$7)>0),COUNTIF($D16:$AH16,Status4),""),"")
B17: =IF(LEN(Calc!$D43)>0,Calc!$D43,"") | AJ17: =IFERROR(IF(AND(LEN($B17)>0,LEN(AJ$7)>0),COUNTIF($D17:$AH17,Status1),""),"") | AK17: =IFERROR(IF(AND(LEN($B17)>0,LEN(AK$7)>0),COUNTIF($D17:$AH17,Status2),""),"") | AL17: =IFERROR(IF(AND(LEN($B17)>0,LEN(AL$7)>0),COUNTIF($D17:$AH17,Status3),""),"") | AM17: =IFERROR(IF(AND(LEN($B17)>0,LEN(AM$7)>0),COUNTIF($D17:$AH17,Status4),""),"")
B18: =IF(LEN(Calc!$D44)>0,Calc!$D44,"") | AJ18: =IFERROR(IF(AND(LEN($B18)>0,LEN(AJ$7)>0),COUNTIF($D18:$AH18,Status1),""),"") | AK18: =IFERROR(IF(AND(LEN($B18)>0,LEN(AK$7)>0),COUNTIF($D18:$AH18,Status2),""),"") | AL18: =IFERROR(IF(AND(LEN($B18)>0,LEN(AL$7)>0),COUNTIF($D18:$AH18,Status3),""),"") | AM18: =IFERROR(IF(AND(LEN($B18)>0,LEN(AM$7)>0),COUNTIF($D18:$AH18,Status4),""),"")
B19: =IF(LEN(Calc!$D45)>0,Calc!$D45,"") | AJ19: =IFERROR(IF(AND(LEN($B19)>0,LEN(AJ$7)>0),COUNTIF($D19:$AH19,Status1),""),"") | AK19: =IFERROR(IF(AND(LEN($B19)>0,LEN(AK$7)>0),COUNTIF($D19:$AH19,Status2),""),"") | AL19: =IFERROR(IF(AND(LEN($B19)>0,LEN(AL$7)>0),COUNTIF($D19:$AH19,Status3),""),"") | AM19: =IFERROR(IF(AND(LEN($B19)>0,LEN(AM$7)>0),COUNTIF($D19:$AH19,Status4),""),"")
B20: =IF(LEN(Calc!$D46)>0,Calc!$D46,"") | AJ20: =IFERROR(IF(AND(LEN($B20)>0,LEN(AJ$7)>0),COUNTIF($D20:$AH20,Status1),""),"") | AK20: =IFERROR(IF(AND(LEN($B20)>0,LEN(AK$7)>0),COUNTIF($D20:$AH20,Status2),""),"") | AL20: =IFERROR(IF(AND(LEN($B20)>0,LEN(AL$7)>0),COUNTIF($D20:$AH20,Status3),""),"") | AM20: =IFERROR(IF(AND(LEN($B20)>0,LEN(AM$7)>0),COUNTIF($D20:$AH20,Status4),""),"")
B21: =IF(LEN(Calc!$D47)>0,Calc!$D47,"") | AJ21: =IFERROR(IF(AND(LEN($B21)>0,LEN(AJ$7)>0),COUNTIF($D21:$AH21,Status1),""),"") | AK21: =IFERROR(IF(AND(LEN($B21)>0,LEN(AK$7)>0),COUNTIF($D21:$AH21,Status2),""),"") | AL21: =IFERROR(IF(AND(LEN($B21)>0,LEN(AL$7)>0),COUNTIF($D21:$AH21,Status3),""),"") | AM21: =IFERROR(IF(AND(LEN($B21)>0,LEN(AM$7)>0),COUNTIF($D21:$AH21,Status4),""),"")
B22: =IF(LEN(Calc!$D48)>0,Calc!$D48,"") | AJ22: =IFERROR(IF(AND(LEN($B22)>0,LEN(AJ$7)>0),COUNTIF($D22:$AH22,Status1),""),"") | AK22: =IFERROR(IF(AND(LEN($B22)>0,LEN(AK$7)>0),COUNTIF($D22:$AH22,Status2),""),"") | AL22: =IFERROR(IF(AND(LEN($B22)>0,LEN(AL$7)>0),COUNTIF($D22:$AH22,Status3),""),"") | AM22: =IFERROR(IF(AND(LEN($B22)>0,LEN(AM$7)>0),COUNTIF($D22:$AH22,Status4),""),"")
B23: =IF(LEN(Calc!$D49)>0,Calc!$D49,"") | AJ23: =IFERROR(IF(AND(LEN($B23)>0,LEN(AJ$7)>0),COUNTIF($D23:$AH23,Status1),""),"") | AK23: =IFERROR(IF(AND(LEN($B23)>0,LEN(AK$7)>0),COUNTIF($D23:$AH23,Status2),""),"") | AL23: =IFERROR(IF(AND(LEN($B23)>0,LEN(AL$7)>0),COUNTIF($D23:$AH23,Status3),""),"") | AM23: =IFERROR(IF(AND(LEN($B23)>0,LEN(AM$7)>0),COUNTIF($D23:$AH23,Status4),""),"")

Sheet September
B2: MONTHLY ATTENDANCE SHEET
B3: DASHBOARD
B5: ="SEPTEMBER - "&Dashboard!$B$7 -> SEPTEMBER - 2021 | F5: =IFERROR(IF(LEN(Calc!$BK$20)>0,Calc!$BK$20,""),"") -> A | H5: =IFERROR(IF(LEN(Calc!$BJ$20)>0,Calc!$BJ$20,""),"") -> Attended | M5: =IFERROR(IF(LEN(Calc!$BK$21)>0,Calc!$BK$21,""),"") -> N | O5: =IFERROR(IF(LEN(Calc!$BJ$21)>0,Calc!$BJ$21,""),"") -> Not Attended | T5: =IFERROR(IF(LEN(Calc!$BK$22)>0,Calc!$BK$22,""),"") -> T | V5: =IFERROR(IF(LEN(Calc!$BJ$22)>0,Calc!$BJ$22,""),"") -> Tardy | AA5: =IFERROR(IF(LEN(Calc!$BK$23)>0,Calc!$BK$23,""),"") | AC5: =IFERROR(IF(LEN(Calc!$BJ$23)>0,Calc!$BJ$23,""),"")
B7: Participant | D7: =INDEX(Calc!$BJ$26:$BK$32,WEEKDAY(DATE(Dashboard!$B$7,MATCH($B$5,Calc!$B$6:$B$17,0),D$8),2),2) -> Wed | E7: =INDEX(Calc!$BJ$26:$BK$32,WEEKDAY(DATE(Dashboard!$B$7,MATCH($B$5,Calc!$B$6:$B$17,0),E$8),2),2) -> Thu | F7: =INDEX(Calc!$BJ$26:$BK$32,WEEKDAY(DATE(Dashboard!$B$7,MATCH($B$5,Calc!$B$6:$B$17,0),F$8),2),2) -> Fri | G7: =INDEX(Calc!$BJ$26:$BK$32,WEEKDAY(DATE(Dashboard!$B$7,MATCH($B$5,Calc!$B$6:$B$17,0),G$8),2),2) -> Sat | H7: =INDEX(Calc!$BJ$26:$BK$32,WEEKDAY(DATE(Dashboard!$B$7,MATCH($B$5,Calc!$B$6:$B$17,0),H$8),2),2) -> Sun | I7: =INDEX(Calc!$BJ$26:$BK$32,WEEKDAY(DATE(Dashboard!$B$7,MATCH($B$5,Calc!$B$6:$B$17,0),I$8),2),2) -> Mon | J7: =INDEX(Calc!$BJ$26:$BK$32,WEEKDAY(DATE(Dashboard!$B$7,MATCH($B$5,Calc!$B$6:$B$17,0),J$8),2),2) -> Tue | K7: =INDEX(Calc!$BJ$26:$BK$32,WEEKDAY(DATE(Dashboard!$B$7,MATCH($B$5,Calc!$B$6:$B$17,0),K$8),2),2) -> Wed | ... AH7: =INDEX(Calc!$BJ$26:$BK$32,WEEKDAY(DATE(Dashboard!$B$7,MATCH($B$5,Calc!$B$6:$B$17,0),AH$8),2),2) -> Fri | AJ7: =IF(LEN(Status1)>0,$H$5,"") -> Attended | AK7: =IF(LEN(Status2)>0,$O$5,"") -> Not Attended | AL7: =IF(LEN(Status3)>0,$V$5,"") -> Tardy | AM7: =IF(LEN(Status4)>0,$AC$5,"")
B8: List | D8: 1 | E8: 2 | F8: 3 | G8: 4 | H8: 5 | I8: 6 | J8: 7 | K8: 8 | L8: 9 | M8: 10 | N8: 11 | O8: 12 | P8: 13 | Q8: 14 | R8: 15 | S8: 16 | T8: 17 | U8: 18 | V8: 19 | W8: 20 | X8: 21 | Y8: 22 | Z8: 23 | AA8: 24 | AB8: 25 | AC8: 26 | AD8: 27 | AE8: 28 | AF8: 29 | AG8: 30 | AH8: 31
B9: =IF(LEN(Calc!$D35)>0,Calc!$D35,"") -> Michael Hall | D9: A | E9: A | F9: A | I9: A | J9: A | K9: A | L9: T | M9: A | P9: A | Q9: A | R9: A | S9: T | T9: A | W9: A | X9: A | Y9: A | Z9: A | AA9: A | AD9: T | AE9: A | AF9: N | AG9: A | AJ9: =IFERROR(IF(AND(LEN($B9)>0,LEN(AJ$7)>0),COUNTIF($D9:$AH9,Status1),""),"") -> 18 | AK9: =IFERROR(IF(AND(LEN($B9)>0,LEN(AK$7)>0),COUNTIF($D9:$AH9,Status2),""),"") -> 1 | AL9: =IFERROR(IF(AND(LEN($B9)>0,LEN(AL$7)>0),COUNTIF($D9:$AH9,Status3),""),"") -> 3 | AM9: =IFERROR(IF(AND(LEN($B9)>0,LEN(AM$7)>0),COUNTIF($D9:$AH9,Status4),""),"")
B10: =IF(LEN(Calc!$D36)>0,Calc!$D36,"") -> James Beriker | D10: A | E10: T | F10: A | I10: A | J10: A | K10: A | L10: A | M10: A | P10: A | Q10: A | R10: A | S10: A | T10: A | W10: A | X10: A | Y10: T | Z10: A | AA10: A | AD10: A | AE10: A | AF10: A | AG10: A | AJ10: =IFERROR(IF(AND(LEN($B10)>0,LEN(AJ$7)>0),COUNTIF($D10:$AH10,Status1),""),"") -> 20 | AK10: =IFERROR(IF(AND(LEN($B10)>0,LEN(AK$7)>0),COUNTIF($D10:$AH10,Status2),""),"") -> 0 | AL10: =IFERROR(IF(AND(LEN($B10)>0,LEN(AL$7)>0),COUNTIF($D10:$AH10,Status3),""),"") -> 2 | AM10: =IFERROR(IF(AND(LEN($B10)>0,LEN(AM$7)>0),COUNTIF($D10:$AH10,Status4),""),"")
B11: =IF(LEN(Calc!$D37)>0,Calc!$D37,"") -> Kelly Hoeyco | D11: A | E11: A | F11: A | I11: A | J11: N | K11: A | L11: A | M11: A | P11: T | Q11: A | R11: A | S11: A | T11: A | W11: A | X11: A | Y11: A | Z11: A | AA11: A | AD11: A | AE11: A | AF11: A | AG11: A | AJ11: =IFERROR(IF(AND(LEN($B11)>0,LEN(AJ$7)>0),COUNTIF($D11:$AH11,Status1),""),"") -> 20 | AK11: =IFERROR(IF(AND(LEN($B11)>0,LEN(AK$7)>0),COUNTIF($D11:$AH11,Status2),""),"") -> 1 | AL11: =IFERROR(IF(AND(LEN($B11)>0,LEN(AL$7)>0),COUNTIF($D11:$AH11,Status3),""),"") -> 1 | AM11: =IFERROR(IF(AND(LEN($B11)>0,LEN(AM$7)>0),COUNTIF($D11:$AH11,Status4),""),"")
B12: =IF(LEN(Calc!$D38)>0,Calc!$D38,"") -> Julia Meighan | D12: A | E12: A | F12: N | I12: A | J12: A | K12: A | L12: A | M12: A | P12: A | Q12: A | R12: A | S12: A | T12: A | W12: A | X12: A | Y12: A | Z12: T | AA12: A | AD12: A | AE12: A | AF12: N | AG12: A | AJ12: =IFERROR(IF(AND(LEN($B12)>0,LEN(AJ$7)>0),COUNTIF($D12:$AH12,Status1),""),"") -> 19 | AK12: =IFERROR(IF(AND(LEN($B12)>0,LEN(AK$7)>0),COUNTIF($D12:$AH12,Status2),""),"") -> 2 | AL12: =IFERROR(IF(AND(LEN($B12)>0,LEN(AL$7)>0),COUNTIF($D12:$AH12,Status3),""),"") -> 1 | AM12: =IFERROR(IF(AND(LEN($B12)>0,LEN(AM$7)>0),COUNTIF($D12:$AH12,Status4),""),"")
B13: =IF(LEN(Calc!$D39)>0,Calc!$D39,"") -> Kristin Zaslavsky | D13: A | E13: A | F13: A | I13: A | J13: A | K13: T | L13: A | M13: A | P13: A | Q13: A | R13: A | S13: A | T13: N | W13: A | X13: A | Y13: A | Z13: A | AA13: A | AD13: A | AE13: A | AF13: A | AG13: A | AJ13: =IFERROR(IF(AND(LEN($B13)>0,LEN(AJ$7)>0),COUNTIF($D13:$AH13,Status1),""),"") -> 20 | AK13: =IFERROR(IF(AND(LEN($B13)>0,LEN(AK$7)>0),COUNTIF($D13:$AH13,Status2),""),"") -> 1 | AL13: =IFERROR(IF(AND(LEN($B13)>0,LEN(AL$7)>0),COUNTIF($D13:$AH13,Status3),""),"") -> 1 | AM13: =IFERROR(IF(AND(LEN($B13)>0,LEN(AM$7)>0),COUNTIF($D13:$AH13,Status4),""),"")
B14: =IF(LEN(Calc!$D40)>0,Calc!$D40,"") -> Laurinda Seabra | D14: N | E14: A | F14: A | I14: A | J14: A | K14: A | L14: A | M14: A | P14: A | Q14: A | R14: A | S14: A | T14: A | W14: N | X14: A | Y14: A | Z14: A | AA14: A | AD14: A | AE14: A | AF14: A | AG14: A | AJ14: =IFERROR(IF(AND(LEN($B14)>0,LEN(AJ$7)>0),COUNTIF($D14:$AH14,Status1),""),"") -> 20 | AK14: =IFERROR(IF(AND(LEN($B14)>0,LEN(AK$7)>0),COUNTIF($D14:$AH14,Status2),""),"") -> 2 | AL14: =IFERROR(IF(AND(LEN($B14)>0,LEN(AL$7)>0),COUNTIF($D14:$AH14,Status3),""),"") -> 0 | AM14: =IFERROR(IF(AND(LEN($B14)>0,LEN(AM$7)>0),COUNTIF($D14:$AH14,Status4),""),"")
B15: =IF(LEN(Calc!$D41)>0,Calc!$D41,"") -> James Maltese | D15: A | E15: A | F15: A | I15: A | J15: N | K15: A | L15: A | M15: A | P15: A | Q15: N | R15: A | S15: A | T15: A | W15: A | X15: A | Y15: A | Z15: A | AA15: A | AD15: A | AE15: N | AF15: A | AG15: A | AJ15: =IFERROR(IF(AND(LEN($B15)>0,LEN(AJ$7)>0),COUNTIF($D15:$AH15,Status1),""),"") -> 19 | AK15: =IFERROR(IF(AND(LEN($B15)>0,LEN(AK$7)>0),COUNTIF($D15:$AH15,Status2),""),"") -> 3 | AL15: =IFERROR(IF(AND(LEN($B15)>0,LEN(AL$7)>0),COUNTIF($D15:$AH15,Status3),""),"") -> 0 | AM15: =IFERROR(IF(AND(LEN($B15)>0,LEN(AM$7)>0),COUNTIF($D15:$AH15,Status4),""),"")
B16: =IF(LEN(Calc!$D42)>0,Calc!$D42,"") -> Robert Balentine | D16: A | E16: A | F16: T | I16: A | J16: A | K16: A | L16: A | M16: A | P16: A | Q16: A | R16: A | S16: A | T16: A | W16: A | X16: A | Y16: A | Z16: T | AA16: A | AD16: A | AE16: A | AF16: A | AG16: T | AJ16: =IFERROR(IF(AND(LEN($B16)>0,LEN(AJ$7)>0),COUNTIF($D16:$AH16,Status1),""),"") -> 19 | AK16: =IFERROR(IF(AND(LEN($B16)>0,LEN(AK$7)>0),COUNTIF($D16:$AH16,Status2),""),"") -> 0 | AL16: =IFERROR(IF(AND(LEN($B16)>0,LEN(AL$7)>0),COUNTIF($D16:$AH16,Status3),""),"") -> 3 | AM16: =IFERROR(IF(AND(LEN($B16)>0,LEN(AM$7)>0),COUNTIF($D16:$AH16,Status4),""),"")
B17: =IF(LEN(Calc!$D43)>0,Calc!$D43,"") | AJ17: =IFERROR(IF(AND(LEN($B17)>0,LEN(AJ$7)>0),COUNTIF($D17:$AH17,Status1),""),"") | AK17: =IFERROR(IF(AND(LEN($B17)>0,LEN(AK$7)>0),COUNTIF($D17:$AH17,Status2),""),"") | AL17: =IFERROR(IF(AND(LEN($B17)>0,LEN(AL$7)>0),COUNTIF($D17:$AH17,Status3),""),"") | AM17: =IFERROR(IF(AND(LEN($B17)>0,LEN(AM$7)>0),COUNTIF($D17:$AH17,Status4),""),"")
B18: =IF(LEN(Calc!$D44)>0,Calc!$D44,"") | AJ18: =IFERROR(IF(AND(LEN($B18)>0,LEN(AJ$7)>0),COUNTIF($D18:$AH18,Status1),""),"") | AK18: =IFERROR(IF(AND(LEN($B18)>0,LEN(AK$7)>0),COUNTIF($D18:$AH18,Status2),""),"") | AL18: =IFERROR(IF(AND(LEN($B18)>0,LEN(AL$7)>0),COUNTIF($D18:$AH18,Status3),""),"") | AM18: =IFERROR(IF(AND(LEN($B18)>0,LEN(AM$7)>0),COUNTIF($D18:$AH18,Status4),""),"")
B19: =IF(LEN(Calc!$D45)>0,Calc!$D45,"") | AJ19: =IFERROR(IF(AND(LEN($B19)>0,LEN(AJ$7)>0),COUNTIF($D19:$AH19,Status1),""),"") | AK19: =IFERROR(IF(AND(LEN($B19)>0,LEN(AK$7)>0),COUNTIF($D19:$AH19,Status2),""),"") | AL19: =IFERROR(IF(AND(LEN($B19)>0,LEN(AL$7)>0),COUNTIF($D19:$AH19,Status3),""),"") | AM19: =IFERROR(IF(AND(LEN($B19)>0,LEN(AM$7)>0),COUNTIF($D19:$AH19,Status4),""),"")
B20: =IF(LEN(Calc!$D46)>0,Calc!$D46,"") | AJ20: =IFERROR(IF(AND(LEN($B20)>0,LEN(AJ$7)>0),COUNTIF($D20:$AH20,Status1),""),"") | AK20: =IFERROR(IF(AND(LEN($B20)>0,LEN(AK$7)>0),COUNTIF($D20:$AH20,Status2),""),"") | AL20: =IFERROR(IF(AND(LEN($B20)>0,LEN(AL$7)>0),COUNTIF($D20:$AH20,Status3),""),"") | AM20: =IFERROR(IF(AND(LEN($B20)>0,LEN(AM$7)>0),COUNTIF($D20:$AH20,Status4),""),"")
B21: =IF(LEN(Calc!$D47)>0,Calc!$D47,"") | AJ21: =IFERROR(IF(AND(LEN($B21)>0,LEN(AJ$7)>0),COUNTIF($D21:$AH21,Status1),""),"") | AK21: =IFERROR(IF(AND(LEN($B21)>0,LEN(AK$7)>0),COUNTIF($D21:$AH21,Status2),""),"") | AL21: =IFERROR(IF(AND(LEN($B21)>0,LEN(AL$7)>0),COUNTIF($D21:$AH21,Status3),""),"") | AM21: =IFERROR(IF(AND(LEN($B21)>0,LEN(AM$7)>0),COUNTIF($D21:$AH21,Status4),""),"")
B22: =IF(LEN(Calc!$D48)>0,Calc!$D48,"") | AJ22: =IFERROR(IF(AND(LEN($B22)>0,LEN(AJ$7)>0),COUNTIF($D22:$AH22,Status1),""),"") | AK22: =IFERROR(IF(AND(LEN($B22)>0,LEN(AK$7)>0),COUNTIF($D22:$AH22,Status2),""),"") | AL22: =IFERROR(IF(AND(LEN($B22)>0,LEN(AL$7)>0),COUNTIF($D22:$AH22,Status3),""),"") | AM22: =IFERROR(IF(AND(LEN($B22)>0,LEN(AM$7)>0),COUNTIF($D22:$AH22,Status4),""),"")
B23: =IF(LEN(Calc!$D49)>0,Calc!$D49,"") | AJ23: =IFERROR(IF(AND(LEN($B23)>0,LEN(AJ$7)>0),COUNTIF($D23:$AH23,Status1),""),"") | AK23: =IFERROR(IF(AND(LEN($B23)>0,LEN(AK$7)>0),COUNTIF($D23:$AH23,Status2),""),"") | AL23: =IFERROR(IF(AND(LEN($B23)>0,LEN(AL$7)>0),COUNTIF($D23:$AH23,Status3),""),"") | AM23: =IFERROR(IF(AND(LEN($B23)>0,LEN(AM$7)>0),COUNTIF($D23:$AH23,Status4),""),"")

Sheet October
B2: MONTHLY ATTENDANCE SHEET
B3: DASHBOARD
B5: ="OCTOBER - "&Dashboard!$B$7 -> OCTOBER - 2021 | F5: =IFERROR(IF(LEN(Calc!$BK$20)>0,Calc!$BK$20,""),"") -> A | H5: =IFERROR(IF(LEN(Calc!$BJ$20)>0,Calc!$BJ$20,""),"") -> Attended | M5: =IFERROR(IF(LEN(Calc!$BK$21)>0,Calc!$BK$21,""),"") -> N | O5: =IFERROR(IF(LEN(Calc!$BJ$21)>0,Calc!$BJ$21,""),"") -> Not Attended | T5: =IFERROR(IF(LEN(Calc!$BK$22)>0,Calc!$BK$22,""),"") -> T | V5: =IFERROR(IF(LEN(Calc!$BJ$22)>0,Calc!$BJ$22,""),"") -> Tardy | AA5: =IFERROR(IF(LEN(Calc!$BK$23)>0,Calc!$BK$23,""),"") | AC5: =IFERROR(IF(LEN(Calc!$BJ$23)>0,Calc!$BJ$23,""),"")
B7: Participant | D7: =INDEX(Calc!$BJ$26:$BK$32,WEEKDAY(DATE(Dashboard!$B$7,MATCH($B$5,Calc!$B$6:$B$17,0),D$8),2),2) -> Fri | E7: =INDEX(Calc!$BJ$26:$BK$32,WEEKDAY(DATE(Dashboard!$B$7,MATCH($B$5,Calc!$B$6:$B$17,0),E$8),2),2) -> Sat | F7: =INDEX(Calc!$BJ$26:$BK$32,WEEKDAY(DATE(Dashboard!$B$7,MATCH($B$5,Calc!$B$6:$B$17,0),F$8),2),2) -> Sun | G7: =INDEX(Calc!$BJ$26:$BK$32,WEEKDAY(DATE(Dashboard!$B$7,MATCH($B$5,Calc!$B$6:$B$17,0),G$8),2),2) -> Mon | H7: =INDEX(Calc!$BJ$26:$BK$32,WEEKDAY(DATE(Dashboard!$B$7,MATCH($B$5,Calc!$B$6:$B$17,0),H$8),2),2) -> Tue | I7: =INDEX(Calc!$BJ$26:$BK$32,WEEKDAY(DATE(Dashboard!$B$7,MATCH($B$5,Calc!$B$6:$B$17,0),I$8),2),2) -> Wed | J7: =INDEX(Calc!$BJ$26:$BK$32,WEEKDAY(DATE(Dashboard!$B$7,MATCH($B$5,Calc!$B$6:$B$17,0),J$8),2),2) -> Thu | K7: =INDEX(Calc!$BJ$26:$BK$32,WEEKDAY(DATE(Dashboard!$B$7,MATCH($B$5,Calc!$B$6:$B$17,0),K$8),2),2) -> Fri | ... AH7: =INDEX(Calc!$BJ$26:$BK$32,WEEKDAY(DATE(Dashboard!$B$7,MATCH($B$5,Calc!$B$6:$B$17,0),AH$8),2),2) -> Sun | AJ7: =IF(LEN(Status1)>0,$H$5,"") -> Attended | AK7: =IF(LEN(Status2)>0,$O$5,"") -> Not Attended | AL7: =IF(LEN(Status3)>0,$V$5,"") -> Tardy | AM7: =IF(LEN(Status4)>0,$AC$5,"")
B8: List | D8: 1 | E8: 2 | F8: 3 | G8: 4 | H8: 5 | I8: 6 | J8: 7 | K8: 8 | L8: 9 | M8: 10 | N8: 11 | O8: 12 | P8: 13 | Q8: 14 | R8: 15 | S8: 16 | T8: 17 | U8: 18 | V8: 19 | W8: 20 | X8: 21 | Y8: 22 | Z8: 23 | AA8: 24 | AB8: 25 | AC8: 26 | AD8: 27 | AE8: 28 | AF8: 29 | AG8: 30 | AH8: 31
B9: =IF(LEN(Calc!$D35)>0,Calc!$D35,"") -> Michael Hall | D9: A | G9: A | H9: A | I9: A | J9: A | K9: A | N9: A | O9: A | P9: A | Q9: A | R9: A | U9: A | V9: A | W9: N | X9: A | Y9: A | AB9: T | AC9: A | AD9: A | AE9: A | AF9: A | AJ9: =IFERROR(IF(AND(LEN($B9)>0,LEN(AJ$7)>0),COUNTIF($D9:$AH9,Status1),""),"") -> 19 | AK9: =IFERROR(IF(AND(LEN($B9)>0,LEN(AK$7)>0),COUNTIF($D9:$AH9,Status2),""),"") -> 1 | AL9: =IFERROR(IF(AND(LEN($B9)>0,LEN(AL$7)>0),COUNTIF($D9:$AH9,Status3),""),"") -> 1 | AM9: =IFERROR(IF(AND(LEN($B9)>0,LEN(AM$7)>0),COUNTIF($D9:$AH9,Status4),""),"")
B10: =IF(LEN(Calc!$D36)>0,Calc!$D36,"") -> James Beriker | D10: A | G10: A | H10: A | I10: A | J10: T | K10: A | N10: A | O10: T | P10: A | Q10: A | R10: A | U10: A | V10: A | W10: A | X10: A | Y10: T | AB10: A | AC10: A | AD10: A | AE10: A | AF10: N | AJ10: =IFERROR(IF(AND(LEN($B10)>0,LEN(AJ$7)>0),COUNTIF($D10:$AH10,Status1),""),"") -> 17 | AK10: =IFERROR(IF(AND(LEN($B10)>0,LEN(AK$7)>0),COUNTIF($D10:$AH10,Status2),""),"") -> 1 | AL10: =IFERROR(IF(AND(LEN($B10)>0,LEN(AL$7)>0),COUNTIF($D10:$AH10,Status3),""),"") -> 3 | AM10: =IFERROR(IF(AND(LEN($B10)>0,LEN(AM$7)>0),COUNTIF($D10:$AH10,Status4),""),"")
B11: =IF(LEN(Calc!$D37)>0,Calc!$D37,"") -> Kelly Hoeyco | D11: A | G11: A | H11: N | I11: A | J11: A | K11: A | N11: A | O11: A | P11: A | Q11: A | R11: A | U11: A | V11: A | W11: A | X11: A | Y11: A | AB11: A | AC11: A | AD11: A | AE11: A | AF11: A | AJ11: =IFERROR(IF(AND(LEN($B11)>0,LEN(AJ$7)>0),COUNTIF($D11:$AH11,Status1),""),"") -> 20 | AK11: =IFERROR(IF(AND(LEN($B11)>0,LEN(AK$7)>0),COUNTIF($D11:$AH11,Status2),""),"") -> 1 | AL11: =IFERROR(IF(AND(LEN($B11)>0,LEN(AL$7)>0),COUNTIF($D11:$AH11,Status3),""),"") -> 0 | AM11: =IFERROR(IF(AND(LEN($B11)>0,LEN(AM$7)>0),COUNTIF($D11:$AH11,Status4),""),"")
B12: =IF(LEN(Calc!$D38)>0,Calc!$D38,"") -> Julia Meighan | D12: T | G12: A | H12: A | I12: A | J12: A | K12: A | N12: A | O12: A | P12: A | Q12: A | R12: N | U12: A | V12: A | W12: A | X12: A | Y12: A | AB12: A | AC12: N | AD12: A | AE12: A | AF12: A | AJ12: =IFERROR(IF(AND(LEN($B12)>0,LEN(AJ$7)>0),COUNTIF($D12:$AH12,Status1),""),"") -> 18 | AK12: =IFERROR(IF(AND(LEN($B12)>0,LEN(AK$7)>0),COUNTIF($D12:$AH12,Status2),""),"") -> 2 | AL12: =IFERROR(IF(AND(LEN($B12)>0,LEN(AL$7)>0),COUNTIF($D12:$AH12,Status3),""),"") -> 1 | AM12: =IFERROR(IF(AND(LEN($B12)>0,LEN(AM$7)>0),COUNTIF($D12:$AH12,Status4),""),"")
B13: =IF(LEN(Calc!$D39)>0,Calc!$D39,"") -> Kristin Zaslavsky | D13: A | G13: A | H13: A | I13: A | J13: A | K13: A | N13: A | O13: A | P13: A | Q13: A | R13: A | U13: N | V13: A | W13: A | X13: A | Y13: A | AB13: A | AC13: A | AD13: A | AE13: A | AF13: A | AJ13: =IFERROR(IF(AND(LEN($B13)>0,LEN(AJ$7)>0),COUNTIF($D13:$AH13,Status1),""),"") -> 20 | AK13: =IFERROR(IF(AND(LEN($B13)>0,LEN(AK$7)>0),COUNTIF($D13:$AH13,Status2),""),"") -> 1 | AL13: =IFERROR(IF(AND(LEN($B13)>0,LEN(AL$7)>0),COUNTIF($D13:$AH13,Status3),""),"") -> 0 | AM13: =IFERROR(IF(AND(LEN($B13)>0,LEN(AM$7)>0),COUNTIF($D13:$AH13,Status4),""),"")
B14: =IF(LEN(Calc!$D40)>0,Calc!$D40,"") -> Laurinda Seabra | D14: A | G14: A | H14: A | I14: A | J14: N | K14: A | N14: A | O14: A | P14: A | Q14: T | R14: A | U14: A | V14: A | W14: A | X14: A | Y14: A | AB14: A | AC14: A | AD14: A | AE14: T | AF14: A | AJ14: =IFERROR(IF(AND(LEN($B14)>0,LEN(AJ$7)>0),COUNTIF($D14:$AH14,Status1),""),"") -> 18 | AK14: =IFERROR(IF(AND(LEN($B14)>0,LEN(AK$7)>0),COUNTIF($D14:$AH14,Status2),""),"") -> 1 | AL14: =IFERROR(IF(AND(LEN($B14)>0,LEN(AL$7)>0),COUNTIF($D14:$AH14,Status3),""),"") -> 2 | AM14: =IFERROR(IF(AND(LEN($B14)>0,LEN(AM$7)>0),COUNTIF($D14:$AH14,Status4),""),"")
B15: =IF(LEN(Calc!$D41)>0,Calc!$D41,"") -> James Maltese | D15: N | G15: A | H15: A | I15: A | J15: A | K15: A | N15: A | O15: A | P15: A | Q15: A | R15: A | U15: A | V15: A | W15: A | X15: N | Y15: A | AB15: A | AC15: A | AD15: A | AE15: A | AF15: A | AJ15: =IFERROR(IF(AND(LEN($B15)>0,LEN(AJ$7)>0),COUNTIF($D15:$AH15,Status1),""),"") -> 19 | AK15: =IFERROR(IF(AND(LEN($B15)>0,LEN(AK$7)>0),COUNTIF($D15:$AH15,Status2),""),"") -> 2 | AL15: =IFERROR(IF(AND(LEN($B15)>0,LEN(AL$7)>0),COUNTIF($D15:$AH15,Status3),""),"") -> 0 | AM15: =IFERROR(IF(AND(LEN($B15)>0,LEN(AM$7)>0),COUNTIF($D15:$AH15,Status4),""),"")
B16: =IF(LEN(Calc!$D42)>0,Calc!$D42,"") -> Robert Balentine | D16: A | G16: T | H16: A | I16: A | J16: A | K16: A | N16: A | O16: A | P16: A | Q16: A | R16: A | U16: T | V16: A | W16: A | X16: A | Y16: A | AB16: N | AC16: A | AD16: A | AE16: A | AF16: A | AJ16: =IFERROR(IF(AND(LEN($B16)>0,LEN(AJ$7)>0),COUNTIF($D16:$AH16,Status1),""),"") -> 18 | AK16: =IFERROR(IF(AND(LEN($B16)>0,LEN(AK$7)>0),COUNTIF($D16:$AH16,Status2),""),"") -> 1 | AL16: =IFERROR(IF(AND(LEN($B16)>0,LEN(AL$7)>0),COUNTIF($D16:$AH16,Status3),""),"") -> 2 | AM16: =IFERROR(IF(AND(LEN($B16)>0,LEN(AM$7)>0),COUNTIF($D16:$AH16,Status4),""),"")
B17: =IF(LEN(Calc!$D43)>0,Calc!$D43,"") | AJ17: =IFERROR(IF(AND(LEN($B17)>0,LEN(AJ$7)>0),COUNTIF($D17:$AH17,Status1),""),"") | AK17: =IFERROR(IF(AND(LEN($B17)>0,LEN(AK$7)>0),COUNTIF($D17:$AH17,Status2),""),"") | AL17: =IFERROR(IF(AND(LEN($B17)>0,LEN(AL$7)>0),COUNTIF($D17:$AH17,Status3),""),"") | AM17: =IFERROR(IF(AND(LEN($B17)>0,LEN(AM$7)>0),COUNTIF($D17:$AH17,Status4),""),"")
B18: =IF(LEN(Calc!$D44)>0,Calc!$D44,"") | AJ18: =IFERROR(IF(AND(LEN($B18)>0,LEN(AJ$7)>0),COUNTIF($D18:$AH18,Status1),""),"") | AK18: =IFERROR(IF(AND(LEN($B18)>0,LEN(AK$7)>0),COUNTIF($D18:$AH18,Status2),""),"") | AL18: =IFERROR(IF(AND(LEN($B18)>0,LEN(AL$7)>0),COUNTIF($D18:$AH18,Status3),""),"") | AM18: =IFERROR(IF(AND(LEN($B18)>0,LEN(AM$7)>0),COUNTIF($D18:$AH18,Status4),""),"")
B19: =IF(LEN(Calc!$D45)>0,Calc!$D45,"") | AJ19: =IFERROR(IF(AND(LEN($B19)>0,LEN(AJ$7)>0),COUNTIF($D19:$AH19,Status1),""),"") | AK19: =IFERROR(IF(AND(LEN($B19)>0,LEN(AK$7)>0),COUNTIF($D19:$AH19,Status2),""),"") | AL19: =IFERROR(IF(AND(LEN($B19)>0,LEN(AL$7)>0),COUNTIF($D19:$AH19,Status3),""),"") | AM19: =IFERROR(IF(AND(LEN($B19)>0,LEN(AM$7)>0),COUNTIF($D19:$AH19,Status4),""),"")
B20: =IF(LEN(Calc!$D46)>0,Calc!$D46,"") | AJ20: =IFERROR(IF(AND(LEN($B20)>0,LEN(AJ$7)>0),COUNTIF($D20:$AH20,Status1),""),"") | AK20: =IFERROR(IF(AND(LEN($B20)>0,LEN(AK$7)>0),COUNTIF($D20:$AH20,Status2),""),"") | AL20: =IFERROR(IF(AND(LEN($B20)>0,LEN(AL$7)>0),COUNTIF($D20:$AH20,Status3),""),"") | AM20: =IFERROR(IF(AND(LEN($B20)>0,LEN(AM$7)>0),COUNTIF($D20:$AH20,Status4),""),"")
B21: =IF(LEN(Calc!$D47)>0,Calc!$D47,"") | AJ21: =IFERROR(IF(AND(LEN($B21)>0,LEN(AJ$7)>0),COUNTIF($D21:$AH21,Status1),""),"") | AK21: =IFERROR(IF(AND(LEN($B21)>0,LEN(AK$7)>0),COUNTIF($D21:$AH21,Status2),""),"") | AL21: =IFERROR(IF(AND(LEN($B21)>0,LEN(AL$7)>0),COUNTIF($D21:$AH21,Status3),""),"") | AM21: =IFERROR(IF(AND(LEN($B21)>0,LEN(AM$7)>0),COUNTIF($D21:$AH21,Status4),""),"")
B22: =IF(LEN(Calc!$D48)>0,Calc!$D48,"") | AJ22: =IFERROR(IF(AND(LEN($B22)>0,LEN(AJ$7)>0),COUNTIF($D22:$AH22,Status1),""),"") | AK22: =IFERROR(IF(AND(LEN($B22)>0,LEN(AK$7)>0),COUNTIF($D22:$AH22,Status2),""),"") | AL22: =IFERROR(IF(AND(LEN($B22)>0,LEN(AL$7)>0),COUNTIF($D22:$AH22,Status3),""),"") | AM22: =IFERROR(IF(AND(LEN($B22)>0,LEN(AM$7)>0),COUNTIF($D22:$AH22,Status4),""),"")
B23: =IF(LEN(Calc!$D49)>0,Calc!$D49,"") | AJ23: =IFERROR(IF(AND(LEN($B23)>0,LEN(AJ$7)>0),COUNTIF($D23:$AH23,Status1),""),"") | AK23: =IFERROR(IF(AND(LEN($B23)>0,LEN(AK$7)>0),COUNTIF($D23:$AH23,Status2),""),"") | AL23: =IFERROR(IF(AND(LEN($B23)>0,LEN(AL$7)>0),COUNTIF($D23:$AH23,Status3),""),"") | AM23: =IFERROR(IF(AND(LEN($B23)>0,LEN(AM$7)>0),COUNTIF($D23:$AH23,Status4),""),"")

Sheet November
B2: MONTHLY ATTENDANCE SHEET
B3: DASHBOARD
B5: ="NOVEMBER - "&Dashboard!$B$7 -> NOVEMBER - 2021 | F5: =IFERROR(IF(LEN(Calc!$BK$20)>0,Calc!$BK$20,""),"") -> A | H5: =IFERROR(IF(LEN(Calc!$BJ$20)>0,Calc!$BJ$20,""),"") -> Attended | M5: =IFERROR(IF(LEN(Calc!$BK$21)>0,Calc!$BK$21,""),"") -> N | O5: =IFERROR(IF(LEN(Calc!$BJ$21)>0,Calc!$BJ$21,""),"") -> Not Attended | T5: =IFERROR(IF(LEN(Calc!$BK$22)>0,Calc!$BK$22,""),"") -> T | V5: =IFERROR(IF(LEN(Calc!$BJ$22)>0,Calc!$BJ$22,""),"") -> Tardy | AA5: =IFERROR(IF(LEN(Calc!$BK$23)>0,Calc!$BK$23,""),"") | AC5: =IFERROR(IF(LEN(Calc!$BJ$23)>0,Calc!$BJ$23,""),"")
B7: Participant | D7: =INDEX(Calc!$BJ$26:$BK$32,WEEKDAY(DATE(Dashboard!$B$7,MATCH($B$5,Calc!$B$6:$B$17,0),D$8),2),2) -> Mon | E7: =INDEX(Calc!$BJ$26:$BK$32,WEEKDAY(DATE(Dashboard!$B$7,MATCH($B$5,Calc!$B$6:$B$17,0),E$8),2),2) -> Tue | F7: =INDEX(Calc!$BJ$26:$BK$32,WEEKDAY(DATE(Dashboard!$B$7,MATCH($B$5,Calc!$B$6:$B$17,0),F$8),2),2) -> Wed | G7: =INDEX(Calc!$BJ$26:$BK$32,WEEKDAY(DATE(Dashboard!$B$7,MATCH($B$5,Calc!$B$6:$B$17,0),G$8),2),2) -> Thu | H7: =INDEX(Calc!$BJ$26:$BK$32,WEEKDAY(DATE(Dashboard!$B$7,MATCH($B$5,Calc!$B$6:$B$17,0),H$8),2),2) -> Fri | I7: =INDEX(Calc!$BJ$26:$BK$32,WEEKDAY(DATE(Dashboard!$B$7,MATCH($B$5,Calc!$B$6:$B$17,0),I$8),2),2) -> Sat | J7: =INDEX(Calc!$BJ$26:$BK$32,WEEKDAY(DATE(Dashboard!$B$7,MATCH($B$5,Calc!$B$6:$B$17,0),J$8),2),2) -> Sun | K7: =INDEX(Calc!$BJ$26:$BK$32,WEEKDAY(DATE(Dashboard!$B$7,MATCH($B$5,Calc!$B$6:$B$17,0),K$8),2),2) -> Mon | ... AH7: =INDEX(Calc!$BJ$26:$BK$32,WEEKDAY(DATE(Dashboard!$B$7,MATCH($B$5,Calc!$B$6:$B$17,0),AH$8),2),2) -> Wed | AJ7: =IF(LEN(Status1)>0,$H$5,"") -> Attended | AK7: =IF(LEN(Status2)>0,$O$5,"") -> Not Attended | AL7: =IF(LEN(Status3)>0,$V$5,"") -> Tardy | AM7: =IF(LEN(Status4)>0,$AC$5,"")
B8: List | D8: 1 | E8: 2 | F8: 3 | G8: 4 | H8: 5 | I8: 6 | J8: 7 | K8: 8 | L8: 9 | M8: 10 | N8: 11 | O8: 12 | P8: 13 | Q8: 14 | R8: 15 | S8: 16 | T8: 17 | U8: 18 | V8: 19 | W8: 20 | X8: 21 | Y8: 22 | Z8: 23 | AA8: 24 | AB8: 25 | AC8: 26 | AD8: 27 | AE8: 28 | AF8: 29 | AG8: 30 | AH8: 31
B9: =IF(LEN(Calc!$D35)>0,Calc!$D35,"") -> Michael Hall | D9: A | E9: T | F9: A | G9: A | H9: A | K9: A | L9: A | M9: A | N9: T | O9: A | R9: A | S9: A | T9: A | U9: A | V9: T | Y9: A | Z9: A | AA9: N | AB9: A | AC9: A | AF9: A | AG9: A | AJ9: =IFERROR(IF(AND(LEN($B9)>0,LEN(AJ$7)>0),COUNTIF($D9:$AH9,Status1),""),"") -> 18 | AK9: =IFERROR(IF(AND(LEN($B9)>0,LEN(AK$7)>0),COUNTIF($D9:$AH9,Status2),""),"") -> 1 | AL9: =IFERROR(IF(AND(LEN($B9)>0,LEN(AL$7)>0),COUNTIF($D9:$AH9,Status3),""),"") -> 3 | AM9: =IFERROR(IF(AND(LEN($B9)>0,LEN(AM$7)>0),COUNTIF($D9:$AH9,Status4),""),"")
B10: =IF(LEN(Calc!$D36)>0,Calc!$D36,"") -> James Beriker | D10: A | E10: A | F10: A | G10: A | H10: A | K10: N | L10: A | M10: A | N10: A | O10: A | R10: A | S10: A | T10: A | U10: A | V10: A | Y10: A | Z10: A | AA10: A | AB10: T | AC10: A | AF10: A | AG10: T | AJ10: =IFERROR(IF(AND(LEN($B10)>0,LEN(AJ$7)>0),COUNTIF($D10:$AH10,Status1),""),"") -> 19 | AK10: =IFERROR(IF(AND(LEN($B10)>0,LEN(AK$7)>0),COUNTIF($D10:$AH10,Status2),""),"") -> 1 | AL10: =IFERROR(IF(AND(LEN($B10)>0,LEN(AL$7)>0),COUNTIF($D10:$AH10,Status3),""),"") -> 2 | AM10: =IFERROR(IF(AND(LEN($B10)>0,LEN(AM$7)>0),COUNTIF($D10:$AH10,Status4),""),"")
B11: =IF(LEN(Calc!$D37)>0,Calc!$D37,"") -> Kelly Hoeyco | D11: A | E11: A | F11: A | G11: N | H11: A | K11: A | L11: A | M11: A | N11: A | O11: A | R11: N | S11: A | T11: A | U11: A | V11: A | Y11: A | Z11: A | AA11: A | AB11: A | AC11: A | AF11: A | AG11: A | AJ11: =IFERROR(IF(AND(LEN($B11)>0,LEN(AJ$7)>0),COUNTIF($D11:$AH11,Status1),""),"") -> 20 | AK11: =IFERROR(IF(AND(LEN($B11)>0,LEN(AK$7)>0),COUNTIF($D11:$AH11,Status2),""),"") -> 2 | AL11: =IFERROR(IF(AND(LEN($B11)>0,LEN(AL$7)>0),COUNTIF($D11:$AH11,Status3),""),"") -> 0 | AM11: =IFERROR(IF(AND(LEN($B11)>0,LEN(AM$7)>0),COUNTIF($D11:$AH11,Status4),""),"")
B12: =IF(LEN(Calc!$D38)>0,Calc!$D38,"") -> Julia Meighan | D12: A | E12: A | F12: A | G12: A | H12: A | K12: A | L12: A | M12: A | N12: A | O12: A | R12: A | S12: A | T12: A | U12: A | V12: A | Y12: A | Z12: N | AA12: A | AB12: A | AC12: A | AF12: N | AG12: A | AJ12: =IFERROR(IF(AND(LEN($B12)>0,LEN(AJ$7)>0),COUNTIF($D12:$AH12,Status1),""),"") -> 20 | AK12: =IFERROR(IF(AND(LEN($B12)>0,LEN(AK$7)>0),COUNTIF($D12:$AH12,Status2),""),"") -> 2 | AL12: =IFERROR(IF(AND(LEN($B12)>0,LEN(AL$7)>0),COUNTIF($D12:$AH12,Status3),""),"") -> 0 | AM12: =IFERROR(IF(AND(LEN($B12)>0,LEN(AM$7)>0),COUNTIF($D12:$AH12,Status4),""),"")
B13: =IF(LEN(Calc!$D39)>0,Calc!$D39,"") -> Kristin Zaslavsky | D13: N | E13: A | F13: A | G13: A | H13: A | K13: A | L13: A | M13: A | N13: A | O13: N | R13: A | S13: A | T13: A | U13: A | V13: A | Y13: A | Z13: A | AA13: A | AB13: A | AC13: A | AF13: A | AG13: A | AJ13: =IFERROR(IF(AND(LEN($B13)>0,LEN(AJ$7)>0),COUNTIF($D13:$AH13,Status1),""),"") -> 20 | AK13: =IFERROR(IF(AND(LEN($B13)>0,LEN(AK$7)>0),COUNTIF($D13:$AH13,Status2),""),"") -> 2 | AL13: =IFERROR(IF(AND(LEN($B13)>0,LEN(AL$7)>0),COUNTIF($D13:$AH13,Status3),""),"") -> 0 | AM13: =IFERROR(IF(AND(LEN($B13)>0,LEN(AM$7)>0),COUNTIF($D13:$AH13,Status4),""),"")
B14: =IF(LEN(Calc!$D40)>0,Calc!$D40,"") -> Laurinda Seabra | D14: A | E14: A | F14: A | G14: A | H14: A | K14: A | L14: A | M14: A | N14: A | O14: A | R14: A | S14: A | T14: A | U14: A | V14: N | Y14: A | Z14: A | AA14: N | AB14: A | AC14: A | AF14: A | AG14: A | AJ14: =IFERROR(IF(AND(LEN($B14)>0,LEN(AJ$7)>0),COUNTIF($D14:$AH14,Status1),""),"") -> 20 | AK14: =IFERROR(IF(AND(LEN($B14)>0,LEN(AK$7)>0),COUNTIF($D14:$AH14,Status2),""),"") -> 2 | AL14: =IFERROR(IF(AND(LEN($B14)>0,LEN(AL$7)>0),COUNTIF($D14:$AH14,Status3),""),"") -> 0 | AM14: =IFERROR(IF(AND(LEN($B14)>0,LEN(AM$7)>0),COUNTIF($D14:$AH14,Status4),""),"")
B15: =IF(LEN(Calc!$D41)>0,Calc!$D41,"") -> James Maltese | D15: A | E15: A | F15: A | G15: A | H15: T | K15: A | L15: T | M15: A | N15: A | O15: A | R15: A | S15: A | T15: A | U15: A | V15: A | Y15: N | Z15: A | AA15: A | AB15: A | AC15: T | AF15: T | AG15: A | AJ15: =IFERROR(IF(AND(LEN($B15)>0,LEN(AJ$7)>0),COUNTIF($D15:$AH15,Status1),""),"") -> 17 | AK15: =IFERROR(IF(AND(LEN($B15)>0,LEN(AK$7)>0),COUNTIF($D15:$AH15,Status2),""),"") -> 1 | AL15: =IFERROR(IF(AND(LEN($B15)>0,LEN(AL$7)>0),COUNTIF($D15:$AH15,Status3),""),"") -> 4 | AM15: =IFERROR(IF(AND(LEN($B15)>0,LEN(AM$7)>0),COUNTIF($D15:$AH15,Status4),""),"")
B16: =IF(LEN(Calc!$D42)>0,Calc!$D42,"") -> Robert Balentine | D16: A | E16: N | F16: A | G16: A | H16: A | K16: A | L16: A | M16: A | N16: N | O16: A | R16: A | S16: T | T16: A | U16: A | V16: A | Y16: A | Z16: A | AA16: N | AB16: A | AC16: A | AF16: A | AG16: A | AJ16: =IFERROR(IF(AND(LEN($B16)>0,LEN(AJ$7)>0),COUNTIF($D16:$AH16,Status1),""),"") -> 18 | AK16: =IFERROR(IF(AND(LEN($B16)>0,LEN(AK$7)>0),COUNTIF($D16:$AH16,Status2),""),"") -> 3 | AL16: =IFERROR(IF(AND(LEN($B16)>0,LEN(AL$7)>0),COUNTIF($D16:$AH16,Status3),""),"") -> 1 | AM16: =IFERROR(IF(AND(LEN($B16)>0,LEN(AM$7)>0),COUNTIF($D16:$AH16,Status4),""),"")
B17: =IF(LEN(Calc!$D43)>0,Calc!$D43,"") | AJ17: =IFERROR(IF(AND(LEN($B17)>0,LEN(AJ$7)>0),COUNTIF($D17:$AH17,Status1),""),"") | AK17: =IFERROR(IF(AND(LEN($B17)>0,LEN(AK$7)>0),COUNTIF($D17:$AH17,Status2),""),"") | AL17: =IFERROR(IF(AND(LEN($B17)>0,LEN(AL$7)>0),COUNTIF($D17:$AH17,Status3),""),"") | AM17: =IFERROR(IF(AND(LEN($B17)>0,LEN(AM$7)>0),COUNTIF($D17:$AH17,Status4),""),"")
B18: =IF(LEN(Calc!$D44)>0,Calc!$D44,"") | AJ18: =IFERROR(IF(AND(LEN($B18)>0,LEN(AJ$7)>0),COUNTIF($D18:$AH18,Status1),""),"") | AK18: =IFERROR(IF(AND(LEN($B18)>0,LEN(AK$7)>0),COUNTIF($D18:$AH18,Status2),""),"") | AL18: =IFERROR(IF(AND(LEN($B18)>0,LEN(AL$7)>0),COUNTIF($D18:$AH18,Status3),""),"") | AM18: =IFERROR(IF(AND(LEN($B18)>0,LEN(AM$7)>0),COUNTIF($D18:$AH18,Status4),""),"")
B19: =IF(LEN(Calc!$D45)>0,Calc!$D45,"") | AJ19: =IFERROR(IF(AND(LEN($B19)>0,LEN(AJ$7)>0),COUNTIF($D19:$AH19,Status1),""),"") | AK19: =IFERROR(IF(AND(LEN($B19)>0,LEN(AK$7)>0),COUNTIF($D19:$AH19,Status2),""),"") | AL19: =IFERROR(IF(AND(LEN($B19)>0,LEN(AL$7)>0),COUNTIF($D19:$AH19,Status3),""),"") | AM19: =IFERROR(IF(AND(LEN($B19)>0,LEN(AM$7)>0),COUNTIF($D19:$AH19,Status4),""),"")
B20: =IF(LEN(Calc!$D46)>0,Calc!$D46,"") | AJ20: =IFERROR(IF(AND(LEN($B20)>0,LEN(AJ$7)>0),COUNTIF($D20:$AH20,Status1),""),"") | AK20: =IFERROR(IF(AND(LEN($B20)>0,LEN(AK$7)>0),COUNTIF($D20:$AH20,Status2),""),"") | AL20: =IFERROR(IF(AND(LEN($B20)>0,LEN(AL$7)>0),COUNTIF($D20:$AH20,Status3),""),"") | AM20: =IFERROR(IF(AND(LEN($B20)>0,LEN(AM$7)>0),COUNTIF($D20:$AH20,Status4),""),"")
B21: =IF(LEN(Calc!$D47)>0,Calc!$D47,"") | AJ21: =IFERROR(IF(AND(LEN($B21)>0,LEN(AJ$7)>0),COUNTIF($D21:$AH21,Status1),""),"") | AK21: =IFERROR(IF(AND(LEN($B21)>0,LEN(AK$7)>0),COUNTIF($D21:$AH21,Status2),""),"") | AL21: =IFERROR(IF(AND(LEN($B21)>0,LEN(AL$7)>0),COUNTIF($D21:$AH21,Status3),""),"") | AM21: =IFERROR(IF(AND(LEN($B21)>0,LEN(AM$7)>0),COUNTIF($D21:$AH21,Status4),""),"")
B22: =IF(LEN(Calc!$D48)>0,Calc!$D48,"") | AJ22: =IFERROR(IF(AND(LEN($B22)>0,LEN(AJ$7)>0),COUNTIF($D22:$AH22,Status1),""),"") | AK22: =IFERROR(IF(AND(LEN($B22)>0,LEN(AK$7)>0),COUNTIF($D22:$AH22,Status2),""),"") | AL22: =IFERROR(IF(AND(LEN($B22)>0,LEN(AL$7)>0),COUNTIF($D22:$AH22,Status3),""),"") | AM22: =IFERROR(IF(AND(LEN($B22)>0,LEN(AM$7)>0),COUNTIF($D22:$AH22,Status4),""),"")
B23: =IF(LEN(Calc!$D49)>0,Calc!$D49,"") | AJ23: =IFERROR(IF(AND(LEN($B23)>0,LEN(AJ$7)>0),COUNTIF($D23:$AH23,Status1),""),"") | AK23: =IFERROR(IF(AND(LEN($B23)>0,LEN(AK$7)>0),COUNTIF($D23:$AH23,Status2),""),"") | AL23: =IFERROR(IF(AND(LEN($B23)>0,LEN(AL$7)>0),COUNTIF($D23:$AH23,Status3),""),"") | AM23: =IFERROR(IF(AND(LEN($B23)>0,LEN(AM$7)>0),COUNTIF($D23:$AH23,Status4),""),"")

Sheet December
B2: MONTHLY ATTENDANCE SHEET
B3: DASHBOARD
B5: ="DECEMBER - "&Dashboard!$B$7 -> DECEMBER - 2021 | F5: =IFERROR(IF(LEN(Calc!$BK$20)>0,Calc!$BK$20,""),"") -> A | H5: =IFERROR(IF(LEN(Calc!$BJ$20)>0,Calc!$BJ$20,""),"") -> Attended | M5: =IFERROR(IF(LEN(Calc!$BK$21)>0,Calc!$BK$21,""),"") -> N | O5: =IFERROR(IF(LEN(Calc!$BJ$21)>0,Calc!$BJ$21,""),"") -> Not Attended | T5: =IFERROR(IF(LEN(Calc!$BK$22)>0,Calc!$BK$22,""),"") -> T | V5: =IFERROR(IF(LEN(Calc!$BJ$22)>0,Calc!$BJ$22,""),"") -> Tardy | AA5: =IFERROR(IF(LEN(Calc!$BK$23)>0,Calc!$BK$23,""),"") | AC5: =IFERROR(IF(LEN(Calc!$BJ$23)>0,Calc!$BJ$23,""),"")
B7: Participant | D7: =INDEX(Calc!$BJ$26:$BK$32,WEEKDAY(DATE(Dashboard!$B$7,MATCH($B$5,Calc!$B$6:$B$17,0),D$8),2),2) -> Wed | E7: =INDEX(Calc!$BJ$26:$BK$32,WEEKDAY(DATE(Dashboard!$B$7,MATCH($B$5,Calc!$B$6:$B$17,0),E$8),2),2) -> Thu | F7: =INDEX(Calc!$BJ$26:$BK$32,WEEKDAY(DATE(Dashboard!$B$7,MATCH($B$5,Calc!$B$6:$B$17,0),F$8),2),2) -> Fri | G7: =INDEX(Calc!$BJ$26:$BK$32,WEEKDAY(DATE(Dashboard!$B$7,MATCH($B$5,Calc!$B$6:$B$17,0),G$8),2),2) -> Sat | H7: =INDEX(Calc!$BJ$26:$BK$32,WEEKDAY(DATE(Dashboard!$B$7,MATCH($B$5,Calc!$B$6:$B$17,0),H$8),2),2) -> Sun | I7: =INDEX(Calc!$BJ$26:$BK$32,WEEKDAY(DATE(Dashboard!$B$7,MATCH($B$5,Calc!$B$6:$B$17,0),I$8),2),2) -> Mon | J7: =INDEX(Calc!$BJ$26:$BK$32,WEEKDAY(DATE(Dashboard!$B$7,MATCH($B$5,Calc!$B$6:$B$17,0),J$8),2),2) -> Tue | K7: =INDEX(Calc!$BJ$26:$BK$32,WEEKDAY(DATE(Dashboard!$B$7,MATCH($B$5,Calc!$B$6:$B$17,0),K$8),2),2) -> Wed | ... AH7: =INDEX(Calc!$BJ$26:$BK$32,WEEKDAY(DATE(Dashboard!$B$7,MATCH($B$5,Calc!$B$6:$B$17,0),AH$8),2),2) -> Fri | AJ7: =IF(LEN(Status1)>0,$H$5,"") -> Attended | AK7: =IF(LEN(Status2)>0,$O$5,"") -> Not Attended | AL7: =IF(LEN(Status3)>0,$V$5,"") -> Tardy | AM7: =IF(LEN(Status4)>0,$AC$5,"")
B8: List | D8: 1 | E8: 2 | F8: 3 | G8: 4 | H8: 5 | I8: 6 | J8: 7 | K8: 8 | L8: 9 | M8: 10 | N8: 11 | O8: 12 | P8: 13 | Q8: 14 | R8: 15 | S8: 16 | T8: 17 | U8: 18 | V8: 19 | W8: 20 | X8: 21 | Y8: 22 | Z8: 23 | AA8: 24 | AB8: 25 | AC8: 26 | AD8: 27 | AE8: 28 | AF8: 29 | AG8: 30 | AH8: 31
B9: =IF(LEN(Calc!$D35)>0,Calc!$D35,"") -> Michael Hall | D9: A | E9: T | F9: A | I9: A | J9: A | K9: A | L9: A | M9: A | P9: A | Q9: T | R9: A | S9: A | T9: N | W9: A | X9: A | Y9: A | Z9: T | AA9: A | AD9: A | AE9: T | AF9: A | AG9: A | AH9: A | AJ9: =IFERROR(IF(AND(LEN($B9)>0,LEN(AJ$7)>0),COUNTIF($D9:$AH9,Status1),""),"") -> 18 | AK9: =IFERROR(IF(AND(LEN($B9)>0,LEN(AK$7)>0),COUNTIF($D9:$AH9,Status2),""),"") -> 1 | AL9: =IFERROR(IF(AND(LEN($B9)>0,LEN(AL$7)>0),COUNTIF($D9:$AH9,Status3),""),"") -> 4 | AM9: =IFERROR(IF(AND(LEN($B9)>0,LEN(AM$7)>0),COUNTIF($D9:$AH9,Status4),""),"")
B10: =IF(LEN(Calc!$D36)>0,Calc!$D36,"") -> James Beriker | D10: A | E10: A | F10: A | I10: A | J10: A | K10: A | L10: T | M10: A | P10: A | Q10: A | R10: A | S10: A | T10: A | W10: N | X10: A | Y10: A | Z10: A | AA10: A | AD10: A | AE10: A | AF10: A | AG10: A | AH10: A | AJ10: =IFERROR(IF(AND(LEN($B10)>0,LEN(AJ$7)>0),COUNTIF($D10:$AH10,Status1),""),"") -> 21 | AK10: =IFERROR(IF(AND(LEN($B10)>0,LEN(AK$7)>0),COUNTIF($D10:$AH10,Status2),""),"") -> 1 | AL10: =IFERROR(IF(AND(LEN($B10)>0,LEN(AL$7)>0),COUNTIF($D10:$AH10,Status3),""),"") -> 1 | AM10: =IFERROR(IF(AND(LEN($B10)>0,LEN(AM$7)>0),COUNTIF($D10:$AH10,Status4),""),"")
B11: =IF(LEN(Calc!$D37)>0,Calc!$D37,"") -> Kelly Hoeyco | D11: A | E11: A | F11: N | I11: N | J11: A | K11: A | L11: A | M11: A | P11: A | Q11: A | R11: A | S11: N | T11: A | W11: A | X11: A | Y11: T | Z11: A | AA11: A | AD11: A | AE11: T | AF11: A | AG11: N | AH11: A | AJ11: =IFERROR(IF(AND(LEN($B11)>0,LEN(AJ$7)>0),COUNTIF($D11:$AH11,Status1),""),"") -> 17 | AK11: =IFERROR(IF(AND(LEN($B11)>0,LEN(AK$7)>0),COUNTIF($D11:$AH11,Status2),""),"") -> 4 | AL11: =IFERROR(IF(AND(LEN($B11)>0,LEN(AL$7)>0),COUNTIF($D11:$AH11,Status3),""),"") -> 2 | AM11: =IFERROR(IF(AND(LEN($B11)>0,LEN(AM$7)>0),COUNTIF($D11:$AH11,Status4),""),"")
B12: =IF(LEN(Calc!$D38)>0,Calc!$D38,"") -> Julia Meighan | D12: A | E12: A | F12: A | I12: A | J12: A | K12: T | L12: A | M12: A | P12: A | Q12: A | R12: A | S12: A | T12: A | W12: A | X12: A | Y12: A | Z12: N | AA12: A | AD12: A | AE12: A | AF12: A | AG12: A | AH12: A | AJ12: =IFERROR(IF(AND(LEN($B12)>0,LEN(AJ$7)>0),COUNTIF($D12:$AH12,Status1),""),"") -> 21 | AK12: =IFERROR(IF(AND(LEN($B12)>0,LEN(AK$7)>0),COUNTIF($D12:$AH12,Status2),""),"") -> 1 | AL12: =IFERROR(IF(AND(LEN($B12)>0,LEN(AL$7)>0),COUNTIF($D12:$AH12,Status3),""),"") -> 1 | AM12: =IFERROR(IF(AND(LEN($B12)>0,LEN(AM$7)>0),COUNTIF($D12:$AH12,Status4),""),"")
B13: =IF(LEN(Calc!$D39)>0,Calc!$D39,"") -> Kristin Zaslavsky | D13: N | E13: A | F13: A | I13: A | J13: A | K13: A | L13: N | M13: A | P13: T | Q13: A | R13: A | S13: A | T13: A | W13: A | X13: T | Y13: A | Z13: A | AA13: A | AD13: A | AE13: A | AF13: N | AG13: A | AH13: A | AJ13: =IFERROR(IF(AND(LEN($B13)>0,LEN(AJ$7)>0),COUNTIF($D13:$AH13,Status1),""),"") -> 18 | AK13: =IFERROR(IF(AND(LEN($B13)>0,LEN(AK$7)>0),COUNTIF($D13:$AH13,Status2),""),"") -> 3 | AL13: =IFERROR(IF(AND(LEN($B13)>0,LEN(AL$7)>0),COUNTIF($D13:$AH13,Status3),""),"") -> 2 | AM13: =IFERROR(IF(AND(LEN($B13)>0,LEN(AM$7)>0),COUNTIF($D13:$AH13,Status4),""),"")
B14: =IF(LEN(Calc!$D40)>0,Calc!$D40,"") -> Laurinda Seabra | D14: A | E14: A | F14: A | I14: A | J14: N | K14: A | L14: A | M14: A | P14: A | Q14: A | R14: A | S14: A | T14: N | W14: A | X14: A | Y14: N | Z14: A | AA14: A | AD14: A | AE14: A | AF14: A | AG14: A | AH14: A | AJ14: =IFERROR(IF(AND(LEN($B14)>0,LEN(AJ$7)>0),COUNTIF($D14:$AH14,Status1),""),"") -> 20 | AK14: =IFERROR(IF(AND(LEN($B14)>0,LEN(AK$7)>0),COUNTIF($D14:$AH14,Status2),""),"") -> 3 | AL14: =IFERROR(IF(AND(LEN($B14)>0,LEN(AL$7)>0),COUNTIF($D14:$AH14,Status3),""),"") -> 0 | AM14: =IFERROR(IF(AND(LEN($B14)>0,LEN(AM$7)>0),COUNTIF($D14:$AH14,Status4),""),"")
B15: =IF(LEN(Calc!$D41)>0,Calc!$D41,"") -> James Maltese | D15: A | E15: A | F15: T | I15: A | J15: A | K15: A | L15: A | M15: T | P15: A | Q15: A | R15: A | S15: A | T15: A | W15: A | X15: A | Y15: A | Z15: A | AA15: A | AD15: A | AE15: T | AF15: A | AG15: A | AH15: A | AJ15: =IFERROR(IF(AND(LEN($B15)>0,LEN(AJ$7)>0),COUNTIF($D15:$AH15,Status1),""),"") -> 20 | AK15: =IFERROR(IF(AND(LEN($B15)>0,LEN(AK$7)>0),COUNTIF($D15:$AH15,Status2),""),"") -> 0 | AL15: =IFERROR(IF(AND(LEN($B15)>0,LEN(AL$7)>0),COUNTIF($D15:$AH15,Status3),""),"") -> 3 | AM15: =IFERROR(IF(AND(LEN($B15)>0,LEN(AM$7)>0),COUNTIF($D15:$AH15,Status4),""),"")
B16: =IF(LEN(Calc!$D42)>0,Calc!$D42,"") -> Robert Balentine | D16: A | E16: T | F16: A | I16: A | J16: A | K16: N | L16: A | M16: A | P16: A | Q16: A | R16: N | S16: A | T16: A | W16: N | X16: A | Y16: A | Z16: T | AA16: A | AD16: A | AE16: A | AF16: A | AG16: N | AH16: A | AJ16: =IFERROR(IF(AND(LEN($B16)>0,LEN(AJ$7)>0),COUNTIF($D16:$AH16,Status1),""),"") -> 17 | AK16: =IFERROR(IF(AND(LEN($B16)>0,LEN(AK$7)>0),COUNTIF($D16:$AH16,Status2),""),"") -> 4 | AL16: =IFERROR(IF(AND(LEN($B16)>0,LEN(AL$7)>0),COUNTIF($D16:$AH16,Status3),""),"") -> 2 | AM16: =IFERROR(IF(AND(LEN($B16)>0,LEN(AM$7)>0),COUNTIF($D16:$AH16,Status4),""),"")
B17: =IF(LEN(Calc!$D43)>0,Calc!$D43,"") | AJ17: =IFERROR(IF(AND(LEN($B17)>0,LEN(AJ$7)>0),COUNTIF($D17:$AH17,Status1),""),"") | AK17: =IFERROR(IF(AND(LEN($B17)>0,LEN(AK$7)>0),COUNTIF($D17:$AH17,Status2),""),"") | AL17: =IFERROR(IF(AND(LEN($B17)>0,LEN(AL$7)>0),COUNTIF($D17:$AH17,Status3),""),"") | AM17: =IFERROR(IF(AND(LEN($B17)>0,LEN(AM$7)>0),COUNTIF($D17:$AH17,Status4),""),"")
B18: =IF(LEN(Calc!$D44)>0,Calc!$D44,"") | AJ18: =IFERROR(IF(AND(LEN($B18)>0,LEN(AJ$7)>0),COUNTIF($D18:$AH18,Status1),""),"") | AK18: =IFERROR(IF(AND(LEN($B18)>0,LEN(AK$7)>0),COUNTIF($D18:$AH18,Status2),""),"") | AL18: =IFERROR(IF(AND(LEN($B18)>0,LEN(AL$7)>0),COUNTIF($D18:$AH18,Status3),""),"") | AM18: =IFERROR(IF(AND(LEN($B18)>0,LEN(AM$7)>0),COUNTIF($D18:$AH18,Status4),""),"")
B19: =IF(LEN(Calc!$D45)>0,Calc!$D45,"") | AJ19: =IFERROR(IF(AND(LEN($B19)>0,LEN(AJ$7)>0),COUNTIF($D19:$AH19,Status1),""),"") | AK19: =IFERROR(IF(AND(LEN($B19)>0,LEN(AK$7)>0),COUNTIF($D19:$AH19,Status2),""),"") | AL19: =IFERROR(IF(AND(LEN($B19)>0,LEN(AL$7)>0),COUNTIF($D19:$AH19,Status3),""),"") | AM19: =IFERROR(IF(AND(LEN($B19)>0,LEN(AM$7)>0),COUNTIF($D19:$AH19,Status4),""),"")
B20: =IF(LEN(Calc!$D46)>0,Calc!$D46,"") | AJ20: =IFERROR(IF(AND(LEN($B20)>0,LEN(AJ$7)>0),COUNTIF($D20:$AH20,Status1),""),"") | AK20: =IFERROR(IF(AND(LEN($B20)>0,LEN(AK$7)>0),COUNTIF($D20:$AH20,Status2),""),"") | AL20: =IFERROR(IF(AND(LEN($B20)>0,LEN(AL$7)>0),COUNTIF($D20:$AH20,Status3),""),"") | AM20: =IFERROR(IF(AND(LEN($B20)>0,LEN(AM$7)>0),COUNTIF($D20:$AH20,Status4),""),"")
B21: =IF(LEN(Calc!$D47)>0,Calc!$D47,"") | AJ21: =IFERROR(IF(AND(LEN($B21)>0,LEN(AJ$7)>0),COUNTIF($D21:$AH21,Status1),""),"") | AK21: =IFERROR(IF(AND(LEN($B21)>0,LEN(AK$7)>0),COUNTIF($D21:$AH21,Status2),""),"") | AL21: =IFERROR(IF(AND(LEN($B21)>0,LEN(AL$7)>0),COUNTIF($D21:$AH21,Status3),""),"") | AM21: =IFERROR(IF(AND(LEN($B21)>0,LEN(AM$7)>0),COUNTIF($D21:$AH21,Status4),""),"")
B22: =IF(LEN(Calc!$D48)>0,Calc!$D48,"") | AJ22: =IFERROR(IF(AND(LEN($B22)>0,LEN(AJ$7)>0),COUNTIF($D22:$AH22,Status1),""),"") | AK22: =IFERROR(IF(AND(LEN($B22)>0,LEN(AK$7)>0),COUNTIF($D22:$AH22,Status2),""),"") | AL22: =IFERROR(IF(AND(LEN($B22)>0,LEN(AL$7)>0),COUNTIF($D22:$AH22,Status3),""),"") | AM22: =IFERROR(IF(AND(LEN($B22)>0,LEN(AM$7)>0),COUNTIF($D22:$AH22,Status4),""),"")
B23: =IF(LEN(Calc!$D49)>0,Calc!$D49,"") | AJ23: =IFERROR(IF(AND(LEN($B23)>0,LEN(AJ$7)>0),COUNTIF($D23:$AH23,Status1),""),"") | AK23: =IFERROR(IF(AND(LEN($B23)>0,LEN(AK$7)>0),COUNTIF($D23:$AH23,Status2),""),"") | AL23: =IFERROR(IF(AND(LEN($B23)>0,LEN(AL$7)>0),COUNTIF($D23:$AH23,Status3),""),"") | AM23: =IFERROR(IF(AND(LEN($B23)>0,LEN(AM$7)>0),COUNTIF($D23:$AH23,Status4),""),"")

Sheet Calc
K3: 1 | L3: 2 | M3: 3 | N3: 4 | O3: 1 | P3: 2 | Q3: 3 | R3: 4 | S3: 1 | T3: 2 | U3: 3 | V3: 4 | W3: 1 | X3: 2 | Y3: 3 | Z3: 4 | AA3: 1 | AB3: 2 | AC3: 3 | AD3: 4 | AE3: 1 | AF3: 2 | AG3: 3 | AH3: 4 | AI3: 1 | AJ3: 2 | AK3: 3 | AL3: 4 | AM3: 1 | AN3: 2 | AO3: 3 | AP3: 4 | AQ3: 1 | AR3: 2 | AS3: 3 | AT3: 4 | AU3: 1 | AV3: 2 | AW3: 3 | AX3: 4 | AY3: 1 | AZ3: 2 | BA3: 3 | BB3: 4 | BC3: 1 | BD3: 2 | BE3: 3 | BF3: 4
K4: January | L4: January | M4: January | N4: January | O4: February | P4: February | Q4: February | R4: February | S4: March | T4: March | U4: March | V4: March | W4: April | X4: April | Y4: April | Z4: April | AA4: May | AB4: May | AC4: May | AD4: May | AE4: June | AF4: June | AG4: June | AH4: June | AI4: July | AJ4: July | AK4: July | AL4: July | AM4: August | AN4: August | AO4: August | AP4: August | AQ4: September | AR4: September | AS4: September | AT4: September | AU4: October | AV4: October | AW4: October | AX4: October | AY4: November | AZ4: November | BA4: November | BB4: November | BC4: December | BD4: December | BE4: December | BF4: December
B5: Sheet Heades | C5: Filter Month | D5: Filter Days | E5: Filter Year | I5: Index | J5: =ParticipantList!$B$5 -> Participant List | K5: =Dashboard!$B$10 -> Attended | L5: =Dashboard!$B$11 -> Not Attended | M5: =Dashboard!$B$12 -> Tardy | N5: =Dashboard!$B$13 -> 0 | O5: =Dashboard!$B$10 -> Attended | P5: =Dashboard!$B$11 -> Not Attended | Q5: =Dashboard!$B$12 -> Tardy | R5: =Dashboard!$B$13 -> 0 | S5: =Dashboard!$B$10 -> Attended | T5: =Dashboard!$B$11 -> Not Attended | U5: =Dashboard!$B$12 -> Tardy | V5: =Dashboard!$B$13 -> 0 | W5: =Dashboard!$B$10 -> Attended | X5: =Dashboard!$B$11 -> Not Attended | Y5: =Dashboard!$B$12 -> Tardy | Z5: =Dashboard!$B$13 -> 0 | AA5: =Dashboard!$B$10 -> Attended | AB5: =Dashboard!$B$11 -> Not Attended | AC5: =Dashboard!$B$12 -> Tardy | AD5: =Dashboard!$B$13 -> 0 | AE5: =Dashboard!$B$10 -> Attended | AF5: =Dashboard!$B$11 -> Not Attended | AG5: =Dashboard!$B$12 -> Tardy | AH5: =Dashboard!$B$13 -> 0 | AI5: =Dashboard!$B$10 -> Attended | AJ5: =Dashboard!$B$11 -> Not Attended | AK5: =Dashboard!$B$12 -> Tardy | AL5: =Dashboard!$B$13 -> 0 | AM5: =Dashboard!$B$10 -> Attended | AN5: =Dashboard!$B$11 -> Not Attended | AO5: =Dashboard!$B$12 -> Tardy | AP5: =Dashboard!$B$13 -> 0 | AQ5: =Dashboard!$B$10 -> Attended | AR5: =Dashboard!$B$11 -> Not Attended | AS5: =Dashboard!$B$12 -> Tardy | AT5: =Dashboard!$B$13 -> 0 | AU5: =Dashboard!$B$10 -> Attended | AV5: =Dashboard!$B$11 -> Not Attended | AW5: =Dashboard!$B$12 -> Tardy | AX5: =Dashboard!$B$13 -> 0 | AY5: =Dashboard!$B$10 -> Attended | AZ5: =Dashboard!$B$11 -> Not Attended | BA5: =Dashboard!$B$12 -> Tardy | BB5: =Dashboard!$B$13 -> 0 | BC5: =Dashboard!$B$10 -> Attended | BD5: =Dashboard!$B$11 -> Not Attended | BE5: =Dashboard!$B$12 -> Tardy | BF5: =Dashboard!$B$13 -> 0
B6: ="JANUARY - "&Dashboard!$B$7 -> JANUARY - 2021 | C6: 1 | D6: =INDEX($B$20:$G$31,C6,6) -> 31 | E6: =Dashboard!$B$7 -> 2021 | I6: 1 | J6: =IF(LEN($D35)>0,$D35,"") -> Michael Hall | K6: =IFERROR(INDEX(January!$AJ$9:$AM$108,Calc!$I6,Calc!K$3),0) -> 12 | L6: =IFERROR(INDEX(January!$AJ$9:$AM$108,Calc!$I6,Calc!L$3),0) -> 5 | M6: =IFERROR(INDEX(January!$AJ$9:$AM$108,Calc!$I6,Calc!M$3),0) -> 4 | N6: =IFERROR(INDEX(January!$AJ$9:$AM$108,Calc!$I6,Calc!N$3),0) | O6: =IFERROR(INDEX(February!$AJ$9:$AM$108,Calc!$I6,Calc!O$3),"") -> 13 | P6: =IFERROR(INDEX(February!$AJ$9:$AM$108,Calc!$I6,Calc!P$3),"") -> 3 | Q6: =IFERROR(INDEX(February!$AJ$9:$AM$108,Calc!$I6,Calc!Q$3),"") -> 4 | R6: =IFERROR(INDEX(February!$AJ$9:$AM$108,Calc!$I6,Calc!R$3),"") | S6: =IFERROR(INDEX(March!$AJ$9:$AM$108,Calc!$I6,Calc!S$3),"") -> 17 | T6: =IFERROR(INDEX(March!$AJ$9:$AM$108,Calc!$I6,Calc!T$3),"") -> 3 | U6: =IFERROR(INDEX(March!$AJ$9:$AM$108,Calc!$I6,Calc!U$3),"") -> 3 | V6: =IFERROR(INDEX(March!$AJ$9:$AM$108,Calc!$I6,Calc!V$3),"") | W6: =IFERROR(INDEX(April!$AJ$9:$AM$108,Calc!$I6,Calc!W$3),"") -> 16 | X6: =IFERROR(INDEX(April!$AJ$9:$AM$108,Calc!$I6,Calc!X$3),"") -> 3 | Y6: =IFERROR(INDEX(April!$AJ$9:$AM$108,Calc!$I6,Calc!Y$3),"") -> 3 | Z6: =IFERROR(INDEX(April!$AJ$9:$AM$108,Calc!$I6,Calc!Z$3),"") | AA6: =IFERROR(INDEX(May!$AJ$9:$AM$108,Calc!$I6,Calc!AA$3),"") -> 16 | AB6: =IFERROR(INDEX(May!$AJ$9:$AM$108,Calc!$I6,Calc!AB$3),"") -> 2 | AC6: =IFERROR(INDEX(May!$AJ$9:$AM$108,Calc!$I6,Calc!AC$3),"") -> 3 | AD6: =IFERROR(INDEX(May!$AJ$9:$AM$108,Calc!$I6,Calc!AD$3),"") | AE6: =IFERROR(INDEX(June!$AJ$9:$AM$108,Calc!$I6,Calc!AE$3),"") -> 16 | AF6: =IFERROR(INDEX(June!$AJ$9:$AM$108,Calc!$I6,Calc!AF$3),"") -> 1 | AG6: =IFERROR(INDEX(June!$AJ$9:$AM$108,Calc!$I6,Calc!AG$3),"") -> 5 | AH6: =IFERROR(INDEX(June!$AJ$9:$AM$108,Calc!$I6,Calc!AH$3),"") | AI6: =IFERROR(INDEX(July!$AJ$9:$AM$108,Calc!$I6,Calc!AI$3),"") -> 19 | AJ6: =IFERROR(INDEX(July!$AJ$9:$AM$108,Calc!$I6,Calc!AJ$3),"") -> 1 | AK6: =IFERROR(INDEX(July!$AJ$9:$AM$108,Calc!$I6,Calc!AK$3),"") -> 2 | AL6: =IFERROR(INDEX(July!$AJ$9:$AM$108,Calc!$I6,Calc!AL$3),"") | AM6: =IFERROR(INDEX(August!$AJ$9:$AM$108,Calc!$I6,Calc!AM$3),"") -> 17 | AN6: =IFERROR(INDEX(August!$AJ$9:$AM$108,Calc!$I6,Calc!AN$3),"") -> 1 | AO6: =IFERROR(INDEX(August!$AJ$9:$AM$108,Calc!$I6,Calc!AO$3),"") -> 4 | AP6: =IFERROR(INDEX(August!$AJ$9:$AM$108,Calc!$I6,Calc!AP$3),"") | AQ6: =IFERROR(INDEX(September!$AJ$9:$AM$108,Calc!$I6,Calc!AQ$3),"") -> 18 | AR6: =IFERROR(INDEX(September!$AJ$9:$AM$108,Calc!$I6,Calc!AR$3),"") -> 1 | AS6: =IFERROR(INDEX(September!$AJ$9:$AM$108,Calc!$I6,Calc!AS$3),"") -> 3 | AT6: =IFERROR(INDEX(September!$AJ$9:$AM$108,Calc!$I6,Calc!AT$3),"") | AU6: =IFERROR(INDEX(October!$AJ$9:$AM$108,Calc!$I6,Calc!AU$3),"") -> 19 | AV6: =IFERROR(INDEX(October!$AJ$9:$AM$108,Calc!$I6,Calc!AV$3),"") -> 1 | AW6: =IFERROR(INDEX(October!$AJ$9:$AM$108,Calc!$I6,Calc!AW$3),"") -> 1 | AX6: =IFERROR(INDEX(October!$AJ$9:$AM$108,Calc!$I6,Calc!AX$3),"") | AY6: =IFERROR(INDEX(November!$AJ$9:$AM$108,Calc!$I6,Calc!AY$3),"") -> 18 | AZ6: =IFERROR(INDEX(November!$AJ$9:$AM$108,Calc!$I6,Calc!AZ$3),"") -> 1 | BA6: =IFERROR(INDEX(November!$AJ$9:$AM$108,Calc!$I6,Calc!BA$3),"") -> 3 | BB6: =IFERROR(INDEX(November!$AJ$9:$AM$108,Calc!$I6,Calc!BB$3),"") | BC6: =IFERROR(INDEX(December!$AJ$9:$AM$108,Calc!$I6,Calc!BC$3),"") -> 18 | BD6: =IFERROR(INDEX(December!$AJ$9:$AM$108,Calc!$I6,Calc!BD$3),"") -> 1 | BE6: =IFERROR(INDEX(December!$AJ$9:$AM$108,Calc!$I6,Calc!BE$3),"") -> 4 | BF6: =IFERROR(INDEX(December!$AJ$9:$AM$108,Calc!$I6,Calc!BF$3),"") | BK6: COLUMN INDEX LIST
B7: ="FEBRUARY - "&Dashboard!$B$7 -> FEBRUARY - 2021 | C7: 2 | D7: =INDEX($B$20:$G$31,C7,6) -> 28 | E7: =Dashboard!$B$7 -> 2021 | I7: 2 | J7: =IF(LEN($D36)>0,$D36,"") -> James Beriker | K7: =IFERROR(INDEX(January!$AJ$9:$AM$108,Calc!$I7,Calc!K$3),0) -> 13 | L7: =IFERROR(INDEX(January!$AJ$9:$AM$108,Calc!$I7,Calc!L$3),0) -> 4 | M7: =IFERROR(INDEX(January!$AJ$9:$AM$108,Calc!$I7,Calc!M$3),0) -> 4 | N7: =IFERROR(INDEX(January!$AJ$9:$AM$108,Calc!$I7,Calc!N$3),0) | O7: =IFERROR(INDEX(February!$AJ$9:$AM$108,Calc!$I7,Calc!O$3),"") -> 15 | P7: =IFERROR(INDEX(February!$AJ$9:$AM$108,Calc!$I7,Calc!P$3),"") -> 2 | Q7: =IFERROR(INDEX(February!$AJ$9:$AM$108,Calc!$I7,Calc!Q$3),"") -> 3 | R7: =IFERROR(INDEX(February!$AJ$9:$AM$108,Calc!$I7,Calc!R$3),"") | S7: =IFERROR(INDEX(March!$AJ$9:$AM$108,Calc!$I7,Calc!S$3),"") -> 16 | T7: =IFERROR(INDEX(March!$AJ$9:$AM$108,Calc!$I7,Calc!T$3),"") -> 4 | U7: =IFERROR(INDEX(March!$AJ$9:$AM$108,Calc!$I7,Calc!U$3),"") -> 3 | V7: =IFERROR(INDEX(March!$AJ$9:$AM$108,Calc!$I7,Calc!V$3),"") | W7: =IFERROR(INDEX(April!$AJ$9:$AM$108,Calc!$I7,Calc!W$3),"") -> 20 | X7: =IFERROR(INDEX(April!$AJ$9:$AM$108,Calc!$I7,Calc!X$3),"") -> 1 | Y7: =IFERROR(INDEX(April!$AJ$9:$AM$108,Calc!$I7,Calc!Y$3),"") -> 1 | Z7: =IFERROR(INDEX(April!$AJ$9:$AM$108,Calc!$I7,Calc!Z$3),"") | AA7: =IFERROR(INDEX(May!$AJ$9:$AM$108,Calc!$I7,Calc!AA$3),"") -> 18 | AB7: =IFERROR(INDEX(May!$AJ$9:$AM$108,Calc!$I7,Calc!AB$3),"") -> 1 | AC7: =IFERROR(INDEX(May!$AJ$9:$AM$108,Calc!$I7,Calc!AC$3),"") -> 2 | AD7: =IFERROR(INDEX(May!$AJ$9:$AM$108,Calc!$I7,Calc!AD$3),"") | AE7: =IFERROR(INDEX(June!$AJ$9:$AM$108,Calc!$I7,Calc!AE$3),"") -> 19 | AF7: =IFERROR(INDEX(June!$AJ$9:$AM$108,Calc!$I7,Calc!AF$3),"") -> 2 | AG7: =IFERROR(INDEX(June!$AJ$9:$AM$108,Calc!$I7,Calc!AG$3),"") -> 1 | AH7: =IFERROR(INDEX(June!$AJ$9:$AM$108,Calc!$I7,Calc!AH$3),"") | AI7: =IFERROR(INDEX(July!$AJ$9:$AM$108,Calc!$I7,Calc!AI$3),"") -> 21 | AJ7: =IFERROR(INDEX(July!$AJ$9:$AM$108,Calc!$I7,Calc!AJ$3),"") -> 1 | AK7: =IFERROR(INDEX(July!$AJ$9:$AM$108,Calc!$I7,Calc!AK$3),"") -> 0 | AL7: =IFERROR(INDEX(July!$AJ$9:$AM$108,Calc!$I7,Calc!AL$3),"") | AM7: =IFERROR(INDEX(August!$AJ$9:$AM$108,Calc!$I7,Calc!AM$3),"") -> 20 | AN7: =IFERROR(INDEX(August!$AJ$9:$AM$108,Calc!$I7,Calc!AN$3),"") -> 1 | AO7: =IFERROR(INDEX(August!$AJ$9:$AM$108,Calc!$I7,Calc!AO$3),"") -> 1 | AP7: =IFERROR(INDEX(August!$AJ$9:$AM$108,Calc!$I7,Calc!AP$3),"") | AQ7: =IFERROR(INDEX(September!$AJ$9:$AM$108,Calc!$I7,Calc!AQ$3),"") -> 20 | AR7: =IFERROR(INDEX(September!$AJ$9:$AM$108,Calc!$I7,Calc!AR$3),"") -> 0 | AS7: =IFERROR(INDEX(September!$AJ$9:$AM$108,Calc!$I7,Calc!AS$3),"") -> 2 | AT7: =IFERROR(INDEX(September!$AJ$9:$AM$108,Calc!$I7,Calc!AT$3),"") | AU7: =IFERROR(INDEX(October!$AJ$9:$AM$108,Calc!$I7,Calc!AU$3),"") -> 17 | AV7: =IFERROR(INDEX(October!$AJ$9:$AM$108,Calc!$I7,Calc!AV$3),"") -> 1 | AW7: =IFERROR(INDEX(October!$AJ$9:$AM$108,Calc!$I7,Calc!AW$3),"") -> 3 | AX7: =IFERROR(INDEX(October!$AJ$9:$AM$108,Calc!$I7,Calc!AX$3),"") | AY7: =IFERROR(INDEX(November!$AJ$9:$AM$108,Calc!$I7,Calc!AY$3),"") -> 19 | AZ7: =IFERROR(INDEX(November!$AJ$9:$AM$108,Calc!$I7,Calc!AZ$3),"") -> 1 | BA7: =IFERROR(INDEX(November!$AJ$9:$AM$108,Calc!$I7,Calc!BA$3),"") -> 2 | BB7: =IFERROR(INDEX(November!$AJ$9:$AM$108,Calc!$I7,Calc!BB$3),"") | BC7: =IFERROR(INDEX(December!$AJ$9:$AM$108,Calc!$I7,Calc!BC$3),"") -> 21 | BD7: =IFERROR(INDEX(December!$AJ$9:$AM$108,Calc!$I7,Calc!BD$3),"") -> 1 | BE7: =IFERROR(INDEX(December!$AJ$9:$AM$108,Calc!$I7,Calc!BE$3),"") -> 1 | BF7: =IFERROR(INDEX(December!$AJ$9:$AM$108,Calc!$I7,Calc!BF$3),"") | BK7: 1 | BL7: =BK7+4 -> 5 | BM7: =BL7+4 -> 9 | BN7: =BM7+4 -> 13 | BO7: =BN7+4 -> 17 | BP7: =BO7+4 -> 21 | BQ7: =BP7+4 -> 25 | BR7: =BQ7+4 -> 29 | BS7: =BR7+4 -> 33 | ... BV7: =BU7+4 -> 45
B8: ="MARCH - "&Dashboard!$B$7 -> MARCH - 2021 | C8: 3 | D8: =INDEX($B$20:$G$31,C8,6) -> 31 | E8: =Dashboard!$B$7 -> 2021 | I8: 3 | J8: =IF(LEN($D37)>0,$D37,"") -> Kelly Hoeyco | K8: =IFERROR(INDEX(January!$AJ$9:$AM$108,Calc!$I8,Calc!K$3),0) -> 13 | L8: =IFERROR(INDEX(January!$AJ$9:$AM$108,Calc!$I8,Calc!L$3),0) -> 4 | M8: =IFERROR(INDEX(January!$AJ$9:$AM$108,Calc!$I8,Calc!M$3),0) -> 4 | N8: =IFERROR(INDEX(January!$AJ$9:$AM$108,Calc!$I8,Calc!N$3),0) | O8: =IFERROR(INDEX(February!$AJ$9:$AM$108,Calc!$I8,Calc!O$3),"") -> 14 | P8: =IFERROR(INDEX(February!$AJ$9:$AM$108,Calc!$I8,Calc!P$3),"") -> 2 | Q8: =IFERROR(INDEX(February!$AJ$9:$AM$108,Calc!$I8,Calc!Q$3),"") -> 4 | R8: =IFERROR(INDEX(February!$AJ$9:$AM$108,Calc!$I8,Calc!R$3),"") | S8: =IFERROR(INDEX(March!$AJ$9:$AM$108,Calc!$I8,Calc!S$3),"") -> 23 | T8: =IFERROR(INDEX(March!$AJ$9:$AM$108,Calc!$I8,Calc!T$3),"") -> 0 | U8: =IFERROR(INDEX(March!$AJ$9:$AM$108,Calc!$I8,Calc!U$3),"") -> 0 | V8: =IFERROR(INDEX(March!$AJ$9:$AM$108,Calc!$I8,Calc!V$3),"") | W8: =IFERROR(INDEX(April!$AJ$9:$AM$108,Calc!$I8,Calc!W$3),"") -> 21 | X8: =IFERROR(INDEX(April!$AJ$9:$AM$108,Calc!$I8,Calc!X$3),"") -> 0 | Y8: =IFERROR(INDEX(April!$AJ$9:$AM$108,Calc!$I8,Calc!Y$3),"") -> 1 | Z8: =IFERROR(INDEX(April!$AJ$9:$AM$108,Calc!$I8,Calc!Z$3),"") | AA8: =IFERROR(INDEX(May!$AJ$9:$AM$108,Calc!$I8,Calc!AA$3),"") -> 16 | AB8: =IFERROR(INDEX(May!$AJ$9:$AM$108,Calc!$I8,Calc!AB$3),"") -> 3 | AC8: =IFERROR(INDEX(May!$AJ$9:$AM$108,Calc!$I8,Calc!AC$3),"") -> 2 | AD8: =IFERROR(INDEX(May!$AJ$9:$AM$108,Calc!$I8,Calc!AD$3),"") | AE8: =IFERROR(INDEX(June!$AJ$9:$AM$108,Calc!$I8,Calc!AE$3),"") -> 17 | AF8: =IFERROR(INDEX(June!$AJ$9:$AM$108,Calc!$I8,Calc!AF$3),"") -> 2 | AG8: =IFERROR(INDEX(June!$AJ$9:$AM$108,Calc!$I8,Calc!AG$3),"") -> 3 | AH8: =IFERROR(INDEX(June!$AJ$9:$AM$108,Calc!$I8,Calc!AH$3),"") | AI8: =IFERROR(INDEX(July!$AJ$9:$AM$108,Calc!$I8,Calc!AI$3),"") -> 18 | AJ8: =IFERROR(INDEX(July!$AJ$9:$AM$108,Calc!$I8,Calc!AJ$3),"") -> 2 | AK8: =IFERROR(INDEX(July!$AJ$9:$AM$108,Calc!$I8,Calc!AK$3),"") -> 2 | AL8: =IFERROR(INDEX(July!$AJ$9:$AM$108,Calc!$I8,Calc!AL$3),"") | AM8: =IFERROR(INDEX(August!$AJ$9:$AM$108,Calc!$I8,Calc!AM$3),"") -> 20 | AN8: =IFERROR(INDEX(August!$AJ$9:$AM$108,Calc!$I8,Calc!AN$3),"") -> 2 | AO8: =IFERROR(INDEX(August!$AJ$9:$AM$108,Calc!$I8,Calc!AO$3),"") -> 0 | AP8: =IFERROR(INDEX(August!$AJ$9:$AM$108,Calc!$I8,Calc!AP$3),"") | AQ8: =IFERROR(INDEX(September!$AJ$9:$AM$108,Calc!$I8,Calc!AQ$3),"") -> 20 | AR8: =IFERROR(INDEX(September!$AJ$9:$AM$108,Calc!$I8,Calc!AR$3),"") -> 1 | AS8: =IFERROR(INDEX(September!$AJ$9:$AM$108,Calc!$I8,Calc!AS$3),"") -> 1 | AT8: =IFERROR(INDEX(September!$AJ$9:$AM$108,Calc!$I8,Calc!AT$3),"") | AU8: =IFERROR(INDEX(October!$AJ$9:$AM$108,Calc!$I8,Calc!AU$3),"") -> 20 | AV8: =IFERROR(INDEX(October!$AJ$9:$AM$108,Calc!$I8,Calc!AV$3),"") -> 1 | AW8: =IFERROR(INDEX(October!$AJ$9:$AM$108,Calc!$I8,Calc!AW$3),"") -> 0 | AX8: =IFERROR(INDEX(October!$AJ$9:$AM$108,Calc!$I8,Calc!AX$3),"") | AY8: =IFERROR(INDEX(November!$AJ$9:$AM$108,Calc!$I8,Calc!AY$3),"") -> 20 | AZ8: =IFERROR(INDEX(November!$AJ$9:$AM$108,Calc!$I8,Calc!AZ$3),"") -> 2 | BA8: =IFERROR(INDEX(November!$AJ$9:$AM$108,Calc!$I8,Calc!BA$3),"") -> 0 | BB8: =IFERROR(INDEX(November!$AJ$9:$AM$108,Calc!$I8,Calc!BB$3),"") | BC8: =IFERROR(INDEX(December!$AJ$9:$AM$108,Calc!$I8,Calc!BC$3),"") -> 17 | BD8: =IFERROR(INDEX(December!$AJ$9:$AM$108,Calc!$I8,Calc!BD$3),"") -> 4 | BE8: =IFERROR(INDEX(December!$AJ$9:$AM$108,Calc!$I8,Calc!BE$3),"") -> 2 | BF8: =IFERROR(INDEX(December!$AJ$9:$AM$108,Calc!$I8,Calc!BF$3),"") | BK8: =BK7+1 -> 2 | BL8: =BK8+4 -> 6 | BM8: =BL8+4 -> 10 | BN8: =BM8+4 -> 14 | BO8: =BN8+4 -> 18 | BP8: =BO8+4 -> 22 | BQ8: =BP8+4 -> 26 | BR8: =BQ8+4 -> 30 | BS8: =BR8+4 -> 34 | ... BV8: =BU8+4 -> 46
B9: ="APRIL - "&Dashboard!$B$7 -> APRIL - 2021 | C9: 4 | D9: =INDEX($B$20:$G$31,C9,6) -> 30 | E9: =Dashboard!$B$7 -> 2021 | I9: 4 | J9: =IF(LEN($D38)>0,$D38,"") -> Julia Meighan | K9: =IFERROR(INDEX(January!$AJ$9:$AM$108,Calc!$I9,Calc!K$3),0) -> 13 | L9: =IFERROR(INDEX(January!$AJ$9:$AM$108,Calc!$I9,Calc!L$3),0) -> 5 | M9: =IFERROR(INDEX(January!$AJ$9:$AM$108,Calc!$I9,Calc!M$3),0) -> 3 | N9: =IFERROR(INDEX(January!$AJ$9:$AM$108,Calc!$I9,Calc!N$3),0) | O9: =IFERROR(INDEX(February!$AJ$9:$AM$108,Calc!$I9,Calc!O$3),"") -> 16 | P9: =IFERROR(INDEX(February!$AJ$9:$AM$108,Calc!$I9,Calc!P$3),"") -> 3 | Q9: =IFERROR(INDEX(February!$AJ$9:$AM$108,Calc!$I9,Calc!Q$3),"") -> 1 | R9: =IFERROR(INDEX(February!$AJ$9:$AM$108,Calc!$I9,Calc!R$3),"") | S9: =IFERROR(INDEX(March!$AJ$9:$AM$108,Calc!$I9,Calc!S$3),"") -> 16 | T9: =IFERROR(INDEX(March!$AJ$9:$AM$108,Calc!$I9,Calc!T$3),"") -> 3 | U9: =IFERROR(INDEX(March!$AJ$9:$AM$108,Calc!$I9,Calc!U$3),"") -> 4 | V9: =IFERROR(INDEX(March!$AJ$9:$AM$108,Calc!$I9,Calc!V$3),"") | W9: =IFERROR(INDEX(April!$AJ$9:$AM$108,Calc!$I9,Calc!W$3),"") -> 20 | X9: =IFERROR(INDEX(April!$AJ$9:$AM$108,Calc!$I9,Calc!X$3),"") -> 1 | Y9: =IFERROR(INDEX(April!$AJ$9:$AM$108,Calc!$I9,Calc!Y$3),"") -> 1 | Z9: =IFERROR(INDEX(April!$AJ$9:$AM$108,Calc!$I9,Calc!Z$3),"") | AA9: =IFERROR(INDEX(May!$AJ$9:$AM$108,Calc!$I9,Calc!AA$3),"") -> 16 | AB9: =IFERROR(INDEX(May!$AJ$9:$AM$108,Calc!$I9,Calc!AB$3),"") -> 2 | AC9: =IFERROR(INDEX(May!$AJ$9:$AM$108,Calc!$I9,Calc!AC$3),"") -> 3 | AD9: =IFERROR(INDEX(May!$AJ$9:$AM$108,Calc!$I9,Calc!AD$3),"") | AE9: =IFERROR(INDEX(June!$AJ$9:$AM$108,Calc!$I9,Calc!AE$3),"") -> 20 | AF9: =IFERROR(INDEX(June!$AJ$9:$AM$108,Calc!$I9,Calc!AF$3),"") -> 1 | AG9: =IFERROR(INDEX(June!$AJ$9:$AM$108,Calc!$I9,Calc!AG$3),"") -> 1 | AH9: =IFERROR(INDEX(June!$AJ$9:$AM$108,Calc!$I9,Calc!AH$3),"") | AI9: =IFERROR(INDEX(July!$AJ$9:$AM$108,Calc!$I9,Calc!AI$3),"") -> 21 | AJ9: =IFERROR(INDEX(July!$AJ$9:$AM$108,Calc!$I9,Calc!AJ$3),"") -> 1 | AK9: =IFERROR(INDEX(July!$AJ$9:$AM$108,Calc!$I9,Calc!AK$3),"") -> 0 | AL9: =IFERROR(INDEX(July!$AJ$9:$AM$108,Calc!$I9,Calc!AL$3),"") | AM9: =IFERROR(INDEX(August!$AJ$9:$AM$108,Calc!$I9,Calc!AM$3),"") -> 19 | AN9: =IFERROR(INDEX(August!$AJ$9:$AM$108,Calc!$I9,Calc!AN$3),"") -> 2 | AO9: =IFERROR(INDEX(August!$AJ$9:$AM$108,Calc!$I9,Calc!AO$3),"") -> 1 | AP9: =IFERROR(INDEX(August!$AJ$9:$AM$108,Calc!$I9,Calc!AP$3),"") | AQ9: =IFERROR(INDEX(September!$AJ$9:$AM$108,Calc!$I9,Calc!AQ$3),"") -> 19 | AR9: =IFERROR(INDEX(September!$AJ$9:$AM$108,Calc!$I9,Calc!AR$3),"") -> 2 | AS9: =IFERROR(INDEX(September!$AJ$9:$AM$108,Calc!$I9,Calc!AS$3),"") -> 1 | AT9: =IFERROR(INDEX(September!$AJ$9:$AM$108,Calc!$I9,Calc!AT$3),"") | AU9: =IFERROR(INDEX(October!$AJ$9:$AM$108,Calc!$I9,Calc!AU$3),"") -> 18 | AV9: =IFERROR(INDEX(October!$AJ$9:$AM$108,Calc!$I9,Calc!AV$3),"") -> 2 | AW9: =IFERROR(INDEX(October!$AJ$9:$AM$108,Calc!$I9,Calc!AW$3),"") -> 1 | AX9: =IFERROR(INDEX(October!$AJ$9:$AM$108,Calc!$I9,Calc!AX$3),"") | AY9: =IFERROR(INDEX(November!$AJ$9:$AM$108,Calc!$I9,Calc!AY$3),"") -> 20 | AZ9: =IFERROR(INDEX(November!$AJ$9:$AM$108,Calc!$I9,Calc!AZ$3),"") -> 2 | BA9: =IFERROR(INDEX(November!$AJ$9:$AM$108,Calc!$I9,Calc!BA$3),"") -> 0 | BB9: =IFERROR(INDEX(November!$AJ$9:$AM$108,Calc!$I9,Calc!BB$3),"") | BC9: =IFERROR(INDEX(December!$AJ$9:$AM$108,Calc!$I9,Calc!BC$3),"") -> 21 | BD9: =IFERROR(INDEX(December!$AJ$9:$AM$108,Calc!$I9,Calc!BD$3),"") -> 1 | BE9: =IFERROR(INDEX(December!$AJ$9:$AM$108,Calc!$I9,Calc!BE$3),"") -> 1 | BF9: =IFERROR(INDEX(December!$AJ$9:$AM$108,Calc!$I9,Calc!BF$3),"") | BK9: =BK8+1 -> 3 | BL9: =BK9+4 -> 7 | BM9: =BL9+4 -> 11 | BN9: =BM9+4 -> 15 | BO9: =BN9+4 -> 19 | BP9: =BO9+4 -> 23 | BQ9: =BP9+4 -> 27 | BR9: =BQ9+4 -> 31 | BS9: =BR9+4 -> 35 | ... BV9: =BU9+4 -> 47
B10: ="MAY - "&Dashboard!$B$7 -> MAY - 2021 | C10: 5 | D10: =INDEX($B$20:$G$31,C10,6) -> 31 | E10: =Dashboard!$B$7 -> 2021 | I10: 5 | J10: =IF(LEN($D39)>0,$D39,"") -> Kristin Zaslavsky | K10: =IFERROR(INDEX(January!$AJ$9:$AM$108,Calc!$I10,Calc!K$3),0) -> 15 | L10: =IFERROR(INDEX(January!$AJ$9:$AM$108,Calc!$I10,Calc!L$3),0) -> 3 | M10: =IFERROR(INDEX(January!$AJ$9:$AM$108,Calc!$I10,Calc!M$3),0) -> 3 | N10: =IFERROR(INDEX(January!$AJ$9:$AM$108,Calc!$I10,Calc!N$3),0) | O10: =IFERROR(INDEX(February!$AJ$9:$AM$108,Calc!$I10,Calc!O$3),"") -> 14 | P10: =IFERROR(INDEX(February!$AJ$9:$AM$108,Calc!$I10,Calc!P$3),"") -> 3 | Q10: =IFERROR(INDEX(February!$AJ$9:$AM$108,Calc!$I10,Calc!Q$3),"") -> 3 | R10: =IFERROR(INDEX(February!$AJ$9:$AM$108,Calc!$I10,Calc!R$3),"") | S10: =IFERROR(INDEX(March!$AJ$9:$AM$108,Calc!$I10,Calc!S$3),"") -> 23 | T10: =IFERROR(INDEX(March!$AJ$9:$AM$108,Calc!$I10,Calc!T$3),"") -> 0 | U10: =IFERROR(INDEX(March!$AJ$9:$AM$108,Calc!$I10,Calc!U$3),"") -> 0 | V10: =IFERROR(INDEX(March!$AJ$9:$AM$108,Calc!$I10,Calc!V$3),"") | W10: =IFERROR(INDEX(April!$AJ$9:$AM$108,Calc!$I10,Calc!W$3),"") -> 19 | X10: =IFERROR(INDEX(April!$AJ$9:$AM$108,Calc!$I10,Calc!X$3),"") -> 1 | Y10: =IFERROR(INDEX(April!$AJ$9:$AM$108,Calc!$I10,Calc!Y$3),"") -> 2 | Z10: =IFERROR(INDEX(April!$AJ$9:$AM$108,Calc!$I10,Calc!Z$3),"") | AA10: =IFERROR(INDEX(May!$AJ$9:$AM$108,Calc!$I10,Calc!AA$3),"") -> 16 | AB10: =IFERROR(INDEX(May!$AJ$9:$AM$108,Calc!$I10,Calc!AB$3),"") -> 2 | AC10: =IFERROR(INDEX(May!$AJ$9:$AM$108,Calc!$I10,Calc!AC$3),"") -> 3 | AD10: =IFERROR(INDEX(May!$AJ$9:$AM$108,Calc!$I10,Calc!AD$3),"") | AE10: =IFERROR(INDEX(June!$AJ$9:$AM$108,Calc!$I10,Calc!AE$3),"") -> 18 | AF10: =IFERROR(INDEX(June!$AJ$9:$AM$108,Calc!$I10,Calc!AF$3),"") -> 2 | AG10: =IFERROR(INDEX(June!$AJ$9:$AM$108,Calc!$I10,Calc!AG$3),"") -> 2 | AH10: =IFERROR(INDEX(June!$AJ$9:$AM$108,Calc!$I10,Calc!AH$3),"") | AI10: =IFERROR(INDEX(July!$AJ$9:$AM$108,Calc!$I10,Calc!AI$3),"") -> 18 | AJ10: =IFERROR(INDEX(July!$AJ$9:$AM$108,Calc!$I10,Calc!AJ$3),"") -> 1 | AK10: =IFERROR(INDEX(July!$AJ$9:$AM$108,Calc!$I10,Calc!AK$3),"") -> 3 | AL10: =IFERROR(INDEX(July!$AJ$9:$AM$108,Calc!$I10,Calc!AL$3),"") | AM10: =IFERROR(INDEX(August!$AJ$9:$AM$108,Calc!$I10,Calc!AM$3),"") -> 20 | AN10: =IFERROR(INDEX(August!$AJ$9:$AM$108,Calc!$I10,Calc!AN$3),"") -> 2 | AO10: =IFERROR(INDEX(August!$AJ$9:$AM$108,Calc!$I10,Calc!AO$3),"") -> 0 | AP10: =IFERROR(INDEX(August!$AJ$9:$AM$108,Calc!$I10,Calc!AP$3),"") | AQ10: =IFERROR(INDEX(September!$AJ$9:$AM$108,Calc!$I10,Calc!AQ$3),"") -> 20 | AR10: =IFERROR(INDEX(September!$AJ$9:$AM$108,Calc!$I10,Calc!AR$3),"") -> 1 | AS10: =IFERROR(INDEX(September!$AJ$9:$AM$108,Calc!$I10,Calc!AS$3),"") -> 1 | AT10: =IFERROR(INDEX(September!$AJ$9:$AM$108,Calc!$I10,Calc!AT$3),"") | AU10: =IFERROR(INDEX(October!$AJ$9:$AM$108,Calc!$I10,Calc!AU$3),"") -> 20 | AV10: =IFERROR(INDEX(October!$AJ$9:$AM$108,Calc!$I10,Calc!AV$3),"") -> 1 | AW10: =IFERROR(INDEX(October!$AJ$9:$AM$108,Calc!$I10,Calc!AW$3),"") -> 0 | AX10: =IFERROR(INDEX(October!$AJ$9:$AM$108,Calc!$I10,Calc!AX$3),"") | AY10: =IFERROR(INDEX(November!$AJ$9:$AM$108,Calc!$I10,Calc!AY$3),"") -> 20 | AZ10: =IFERROR(INDEX(November!$AJ$9:$AM$108,Calc!$I10,Calc!AZ$3),"") -> 2 | BA10: =IFERROR(INDEX(November!$AJ$9:$AM$108,Calc!$I10,Calc!BA$3),"") -> 0 | BB10: =IFERROR(INDEX(November!$AJ$9:$AM$108,Calc!$I10,Calc!BB$3),"") | BC10: =IFERROR(INDEX(December!$AJ$9:$AM$108,Calc!$I10,Calc!BC$3),"") -> 18 | BD10: =IFERROR(INDEX(December!$AJ$9:$AM$108,Calc!$I10,Calc!BD$3),"") -> 3 | BE10: =IFERROR(INDEX(December!$AJ$9:$AM$108,Calc!$I10,Calc!BE$3),"") -> 2 | BF10: =IFERROR(INDEX(December!$AJ$9:$AM$108,Calc!$I10,Calc!BF$3),"") | BK10: =BK9+1 -> 4 | BL10: =BK10+4 -> 8 | BM10: =BL10+4 -> 12 | BN10: =BM10+4 -> 16 | BO10: =BN10+4 -> 20 | BP10: =BO10+4 -> 24 | BQ10: =BP10+4 -> 28 | BR10: =BQ10+4 -> 32 | BS10: =BR10+4 -> 36 | ... BV10: =BU10+4 -> 48
B11: ="JUNE - "&Dashboard!$B$7 -> JUNE - 2021 | C11: 6 | D11: =INDEX($B$20:$G$31,C11,6) -> 30 | E11: =Dashboard!$B$7 -> 2021 | I11: 6 | J11: =IF(LEN($D40)>0,$D40,"") -> Laurinda Seabra | K11: =IFERROR(INDEX(January!$AJ$9:$AM$108,Calc!$I11,Calc!K$3),0) -> 15 | L11: =IFERROR(INDEX(January!$AJ$9:$AM$108,Calc!$I11,Calc!L$3),0) -> 4 | M11: =IFERROR(INDEX(January!$AJ$9:$AM$108,Calc!$I11,Calc!M$3),0) -> 2 | N11: =IFERROR(INDEX(January!$AJ$9:$AM$108,Calc!$I11,Calc!N$3),0) | O11: =IFERROR(INDEX(February!$AJ$9:$AM$108,Calc!$I11,Calc!O$3),"") -> 11 | P11: =IFERROR(INDEX(February!$AJ$9:$AM$108,Calc!$I11,Calc!P$3),"") -> 5 | Q11: =IFERROR(INDEX(February!$AJ$9:$AM$108,Calc!$I11,Calc!Q$3),"") -> 4 | R11: =IFERROR(INDEX(February!$AJ$9:$AM$108,Calc!$I11,Calc!R$3),"") | S11: =IFERROR(INDEX(March!$AJ$9:$AM$108,Calc!$I11,Calc!S$3),"") -> 17 | T11: =IFERROR(INDEX(March!$AJ$9:$AM$108,Calc!$I11,Calc!T$3),"") -> 3 | U11: =IFERROR(INDEX(March!$AJ$9:$AM$108,Calc!$I11,Calc!U$3),"") -> 3 | V11: =IFERROR(INDEX(March!$AJ$9:$AM$108,Calc!$I11,Calc!V$3),"") | W11: =IFERROR(INDEX(April!$AJ$9:$AM$108,Calc!$I11,Calc!W$3),"") -> 19 | X11: =IFERROR(INDEX(April!$AJ$9:$AM$108,Calc!$I11,Calc!X$3),"") -> 2 | Y11: =IFERROR(INDEX(April!$AJ$9:$AM$108,Calc!$I11,Calc!Y$3),"") -> 1 | Z11: =IFERROR(INDEX(April!$AJ$9:$AM$108,Calc!$I11,Calc!Z$3),"") | AA11: =IFERROR(INDEX(May!$AJ$9:$AM$108,Calc!$I11,Calc!AA$3),"") -> 16 | AB11: =IFERROR(INDEX(May!$AJ$9:$AM$108,Calc!$I11,Calc!AB$3),"") -> 3 | AC11: =IFERROR(INDEX(May!$AJ$9:$AM$108,Calc!$I11,Calc!AC$3),"") -> 2 | AD11: =IFERROR(INDEX(May!$AJ$9:$AM$108,Calc!$I11,Calc!AD$3),"") | AE11: =IFERROR(INDEX(June!$AJ$9:$AM$108,Calc!$I11,Calc!AE$3),"") -> 19 | AF11: =IFERROR(INDEX(June!$AJ$9:$AM$108,Calc!$I11,Calc!AF$3),"") -> 2 | AG11: =IFERROR(INDEX(June!$AJ$9:$AM$108,Calc!$I11,Calc!AG$3),"") -> 1 | AH11: =IFERROR(INDEX(June!$AJ$9:$AM$108,Calc!$I11,Calc!AH$3),"") | AI11: =IFERROR(INDEX(July!$AJ$9:$AM$108,Calc!$I11,Calc!AI$3),"") -> 21 | AJ11: =IFERROR(INDEX(July!$AJ$9:$AM$108,Calc!$I11,Calc!AJ$3),"") -> 0 | AK11: =IFERROR(INDEX(July!$AJ$9:$AM$108,Calc!$I11,Calc!AK$3),"") -> 1 | AL11: =IFERROR(INDEX(July!$AJ$9:$AM$108,Calc!$I11,Calc!AL$3),"") | AM11: =IFERROR(INDEX(August!$AJ$9:$AM$108,Calc!$I11,Calc!AM$3),"") -> 20 | AN11: =IFERROR(INDEX(August!$AJ$9:$AM$108,Calc!$I11,Calc!AN$3),"") -> 0 | AO11: =IFERROR(INDEX(August!$AJ$9:$AM$108,Calc!$I11,Calc!AO$3),"") -> 2 | AP11: =IFERROR(INDEX(August!$AJ$9:$AM$108,Calc!$I11,Calc!AP$3),"") | AQ11: =IFERROR(INDEX(September!$AJ$9:$AM$108,Calc!$I11,Calc!AQ$3),"") -> 20 | AR11: =IFERROR(INDEX(September!$AJ$9:$AM$108,Calc!$I11,Calc!AR$3),"") -> 2 | AS11: =IFERROR(INDEX(September!$AJ$9:$AM$108,Calc!$I11,Calc!AS$3),"") -> 0 | AT11: =IFERROR(INDEX(September!$AJ$9:$AM$108,Calc!$I11,Calc!AT$3),"") | AU11: =IFERROR(INDEX(October!$AJ$9:$AM$108,Calc!$I11,Calc!AU$3),"") -> 18 | AV11: =IFERROR(INDEX(October!$AJ$9:$AM$108,Calc!$I11,Calc!AV$3),"") -> 1 | AW11: =IFERROR(INDEX(October!$AJ$9:$AM$108,Calc!$I11,Calc!AW$3),"") -> 2 | AX11: =IFERROR(INDEX(October!$AJ$9:$AM$108,Calc!$I11,Calc!AX$3),"") | AY11: =IFERROR(INDEX(November!$AJ$9:$AM$108,Calc!$I11,Calc!AY$3),"") -> 20 | AZ11: =IFERROR(INDEX(November!$AJ$9:$AM$108,Calc!$I11,Calc!AZ$3),"") -> 2 | BA11: =IFERROR(INDEX(November!$AJ$9:$AM$108,Calc!$I11,Calc!BA$3),"") -> 0 | BB11: =IFERROR(INDEX(November!$AJ$9:$AM$108,Calc!$I11,Calc!BB$3),"") | BC11: =IFERROR(INDEX(December!$AJ$9:$AM$108,Calc!$I11,Calc!BC$3),"") -> 20 | BD11: =IFERROR(INDEX(December!$AJ$9:$AM$108,Calc!$I11,Calc!BD$3),"") -> 3 | BE11: =IFERROR(INDEX(December!$AJ$9:$AM$108,Calc!$I11,Calc!BE$3),"") -> 0 | BF11: =IFERROR(INDEX(December!$AJ$9:$AM$108,Calc!$I11,Calc!BF$3),"") | BH11: Count of Status
B12: ="JULY - "&Dashboard!$B$7 -> JULY - 2021 | C12: 7 | D12: =INDEX($B$20:$G$31,C12,6) -> 31 | E12: =Dashboard!$B$7 -> 2021 | I12: 7 | J12: =IF(LEN($D41)>0,$D41,"") -> James Maltese | K12: =IFERROR(INDEX(January!$AJ$9:$AM$108,Calc!$I12,Calc!K$3),0) -> 16 | L12: =IFERROR(INDEX(January!$AJ$9:$AM$108,Calc!$I12,Calc!L$3),0) -> 3 | M12: =IFERROR(INDEX(January!$AJ$9:$AM$108,Calc!$I12,Calc!M$3),0) -> 2 | N12: =IFERROR(INDEX(January!$AJ$9:$AM$108,Calc!$I12,Calc!N$3),0) | O12: =IFERROR(INDEX(February!$AJ$9:$AM$108,Calc!$I12,Calc!O$3),"") -> 15 | P12: =IFERROR(INDEX(February!$AJ$9:$AM$108,Calc!$I12,Calc!P$3),"") -> 3 | Q12: =IFERROR(INDEX(February!$AJ$9:$AM$108,Calc!$I12,Calc!Q$3),"") -> 2 | R12: =IFERROR(INDEX(February!$AJ$9:$AM$108,Calc!$I12,Calc!R$3),"") | S12: =IFERROR(INDEX(March!$AJ$9:$AM$108,Calc!$I12,Calc!S$3),"") -> 16 | T12: =IFERROR(INDEX(March!$AJ$9:$AM$108,Calc!$I12,Calc!T$3),"") -> 4 | U12: =IFERROR(INDEX(March!$AJ$9:$AM$108,Calc!$I12,Calc!U$3),"") -> 3 | V12: =IFERROR(INDEX(March!$AJ$9:$AM$108,Calc!$I12,Calc!V$3),"") | W12: =IFERROR(INDEX(April!$AJ$9:$AM$108,Calc!$I12,Calc!W$3),"") -> 16 | X12: =IFERROR(INDEX(April!$AJ$9:$AM$108,Calc!$I12,Calc!X$3),"") -> 3 | Y12: =IFERROR(INDEX(April!$AJ$9:$AM$108,Calc!$I12,Calc!Y$3),"") -> 3 | Z12: =IFERROR(INDEX(April!$AJ$9:$AM$108,Calc!$I12,Calc!Z$3),"") | AA12: =IFERROR(INDEX(May!$AJ$9:$AM$108,Calc!$I12,Calc!AA$3),"") -> 18 | AB12: =IFERROR(INDEX(May!$AJ$9:$AM$108,Calc!$I12,Calc!AB$3),"") -> 1 | AC12: =IFERROR(INDEX(May!$AJ$9:$AM$108,Calc!$I12,Calc!AC$3),"") -> 2 | AD12: =IFERROR(INDEX(May!$AJ$9:$AM$108,Calc!$I12,Calc!AD$3),"") | AE12: =IFERROR(INDEX(June!$AJ$9:$AM$108,Calc!$I12,Calc!AE$3),"") -> 19 | AF12: =IFERROR(INDEX(June!$AJ$9:$AM$108,Calc!$I12,Calc!AF$3),"") -> 0 | AG12: =IFERROR(INDEX(June!$AJ$9:$AM$108,Calc!$I12,Calc!AG$3),"") -> 3 | AH12: =IFERROR(INDEX(June!$AJ$9:$AM$108,Calc!$I12,Calc!AH$3),"") | AI12: =IFERROR(INDEX(July!$AJ$9:$AM$108,Calc!$I12,Calc!AI$3),"") -> 19 | AJ12: =IFERROR(INDEX(July!$AJ$9:$AM$108,Calc!$I12,Calc!AJ$3),"") -> 3 | AK12: =IFERROR(INDEX(July!$AJ$9:$AM$108,Calc!$I12,Calc!AK$3),"") -> 0 | AL12: =IFERROR(INDEX(July!$AJ$9:$AM$108,Calc!$I12,Calc!AL$3),"") | AM12: =IFERROR(INDEX(August!$AJ$9:$AM$108,Calc!$I12,Calc!AM$3),"") -> 18 | AN12: =IFERROR(INDEX(August!$AJ$9:$AM$108,Calc!$I12,Calc!AN$3),"") -> 1 | AO12: =IFERROR(INDEX(August!$AJ$9:$AM$108,Calc!$I12,Calc!AO$3),"") -> 3 | AP12: =IFERROR(INDEX(August!$AJ$9:$AM$108,Calc!$I12,Calc!AP$3),"") | AQ12: =IFERROR(INDEX(September!$AJ$9:$AM$108,Calc!$I12,Calc!AQ$3),"") -> 19 | AR12: =IFERROR(INDEX(September!$AJ$9:$AM$108,Calc!$I12,Calc!AR$3),"") -> 3 | AS12: =IFERROR(INDEX(September!$AJ$9:$AM$108,Calc!$I12,Calc!AS$3),"") -> 0 | AT12: =IFERROR(INDEX(September!$AJ$9:$AM$108,Calc!$I12,Calc!AT$3),"") | AU12: =IFERROR(INDEX(October!$AJ$9:$AM$108,Calc!$I12,Calc!AU$3),"") -> 19 | AV12: =IFERROR(INDEX(October!$AJ$9:$AM$108,Calc!$I12,Calc!AV$3),"") -> 2 | AW12: =IFERROR(INDEX(October!$AJ$9:$AM$108,Calc!$I12,Calc!AW$3),"") -> 0 | AX12: =IFERROR(INDEX(October!$AJ$9:$AM$108,Calc!$I12,Calc!AX$3),"") | AY12: =IFERROR(INDEX(November!$AJ$9:$AM$108,Calc!$I12,Calc!AY$3),"") -> 17 | AZ12: =IFERROR(INDEX(November!$AJ$9:$AM$108,Calc!$I12,Calc!AZ$3),"") -> 1 | BA12: =IFERROR(INDEX(November!$AJ$9:$AM$108,Calc!$I12,Calc!BA$3),"") -> 4 | BB12: =IFERROR(INDEX(November!$AJ$9:$AM$108,Calc!$I12,Calc!BB$3),"") | BC12: =IFERROR(INDEX(December!$AJ$9:$AM$108,Calc!$I12,Calc!BC$3),"") -> 20 | BD12: =IFERROR(INDEX(December!$AJ$9:$AM$108,Calc!$I12,Calc!BD$3),"") -> 0 | BE12: =IFERROR(INDEX(December!$AJ$9:$AM$108,Calc!$I12,Calc!BE$3),"") -> 3 | BF12: =IFERROR(INDEX(December!$AJ$9:$AM$108,Calc!$I12,Calc!BF$3),"") | BH12: 4 | BJ12: Dashboard Participant Filter
B13: ="AUGUST - "&Dashboard!$B$7 -> AUGUST - 2021 | C13: 8 | D13: =INDEX($B$20:$G$31,C13,6) -> 31 | E13: =Dashboard!$B$7 -> 2021 | I13: 8 | J13: =IF(LEN($D42)>0,$D42,"") -> Robert Balentine | K13: =IFERROR(INDEX(January!$AJ$9:$AM$108,Calc!$I13,Calc!K$3),0) -> 16 | L13: =IFERROR(INDEX(January!$AJ$9:$AM$108,Calc!$I13,Calc!L$3),0) -> 0 | M13: =IFERROR(INDEX(January!$AJ$9:$AM$108,Calc!$I13,Calc!M$3),0) -> 5 | N13: =IFERROR(INDEX(January!$AJ$9:$AM$108,Calc!$I13,Calc!N$3),0) | O13: =IFERROR(INDEX(February!$AJ$9:$AM$108,Calc!$I13,Calc!O$3),"") -> 18 | P13: =IFERROR(INDEX(February!$AJ$9:$AM$108,Calc!$I13,Calc!P$3),"") -> 2 | Q13: =IFERROR(INDEX(February!$AJ$9:$AM$108,Calc!$I13,Calc!Q$3),"") -> 0 | R13: =IFERROR(INDEX(February!$AJ$9:$AM$108,Calc!$I13,Calc!R$3),"") | S13: =IFERROR(INDEX(March!$AJ$9:$AM$108,Calc!$I13,Calc!S$3),"") -> 16 | T13: =IFERROR(INDEX(March!$AJ$9:$AM$108,Calc!$I13,Calc!T$3),"") -> 3 | U13: =IFERROR(INDEX(March!$AJ$9:$AM$108,Calc!$I13,Calc!U$3),"") -> 4 | V13: =IFERROR(INDEX(March!$AJ$9:$AM$108,Calc!$I13,Calc!V$3),"") | W13: =IFERROR(INDEX(April!$AJ$9:$AM$108,Calc!$I13,Calc!W$3),"") -> 20 | X13: =IFERROR(INDEX(April!$AJ$9:$AM$108,Calc!$I13,Calc!X$3),"") -> 1 | Y13: =IFERROR(INDEX(April!$AJ$9:$AM$108,Calc!$I13,Calc!Y$3),"") -> 1 | Z13: =IFERROR(INDEX(April!$AJ$9:$AM$108,Calc!$I13,Calc!Z$3),"") | AA13: =IFERROR(INDEX(May!$AJ$9:$AM$108,Calc!$I13,Calc!AA$3),"") -> 16 | AB13: =IFERROR(INDEX(May!$AJ$9:$AM$108,Calc!$I13,Calc!AB$3),"") -> 3 | AC13: =IFERROR(INDEX(May!$AJ$9:$AM$108,Calc!$I13,Calc!AC$3),"") -> 2 | AD13: =IFERROR(INDEX(May!$AJ$9:$AM$108,Calc!$I13,Calc!AD$3),"") | AE13: =IFERROR(INDEX(June!$AJ$9:$AM$108,Calc!$I13,Calc!AE$3),"") -> 19 | AF13: =IFERROR(INDEX(June!$AJ$9:$AM$108,Calc!$I13,Calc!AF$3),"") -> 3 | AG13: =IFERROR(INDEX(June!$AJ$9:$AM$108,Calc!$I13,Calc!AG$3),"") -> 0 | AH13: =IFERROR(INDEX(June!$AJ$9:$AM$108,Calc!$I13,Calc!AH$3),"") | AI13: =IFERROR(INDEX(July!$AJ$9:$AM$108,Calc!$I13,Calc!AI$3),"") -> 20 | AJ13: =IFERROR(INDEX(July!$AJ$9:$AM$108,Calc!$I13,Calc!AJ$3),"") -> 1 | AK13: =IFERROR(INDEX(July!$AJ$9:$AM$108,Calc!$I13,Calc!AK$3),"") -> 1 | AL13: =IFERROR(INDEX(July!$AJ$9:$AM$108,Calc!$I13,Calc!AL$3),"") | AM13: =IFERROR(INDEX(August!$AJ$9:$AM$108,Calc!$I13,Calc!AM$3),"") -> 20 | AN13: =IFERROR(INDEX(August!$AJ$9:$AM$108,Calc!$I13,Calc!AN$3),"") -> 2 | AO13: =IFERROR(INDEX(August!$AJ$9:$AM$108,Calc!$I13,Calc!AO$3),"") -> 0 | AP13: =IFERROR(INDEX(August!$AJ$9:$AM$108,Calc!$I13,Calc!AP$3),"") | AQ13: =IFERROR(INDEX(September!$AJ$9:$AM$108,Calc!$I13,Calc!AQ$3),"") -> 19 | AR13: =IFERROR(INDEX(September!$AJ$9:$AM$108,Calc!$I13,Calc!AR$3),"") -> 0 | AS13: =IFERROR(INDEX(September!$AJ$9:$AM$108,Calc!$I13,Calc!AS$3),"") -> 3 | AT13: =IFERROR(INDEX(September!$AJ$9:$AM$108,Calc!$I13,Calc!AT$3),"") | AU13: =IFERROR(INDEX(October!$AJ$9:$AM$108,Calc!$I13,Calc!AU$3),"") -> 18 | AV13: =IFERROR(INDEX(October!$AJ$9:$AM$108,Calc!$I13,Calc!AV$3),"") -> 1 | AW13: =IFERROR(INDEX(October!$AJ$9:$AM$108,Calc!$I13,Calc!AW$3),"") -> 2 | AX13: =IFERROR(INDEX(October!$AJ$9:$AM$108,Calc!$I13,Calc!AX$3),"") | AY13: =IFERROR(INDEX(November!$AJ$9:$AM$108,Calc!$I13,Calc!AY$3),"") -> 18 | AZ13: =IFERROR(INDEX(November!$AJ$9:$AM$108,Calc!$I13,Calc!AZ$3),"") -> 3 | BA13: =IFERROR(INDEX(November!$AJ$9:$AM$108,Calc!$I13,Calc!BA$3),"") -> 1 | BB13: =IFERROR(INDEX(November!$AJ$9:$AM$108,Calc!$I13,Calc!BB$3),"") | BC13: =IFERROR(INDEX(December!$AJ$9:$AM$108,Calc!$I13,Calc!BC$3),"") -> 17 | BD13: =IFERROR(INDEX(December!$AJ$9:$AM$108,Calc!$I13,Calc!BD$3),"") -> 4 | BE13: =IFERROR(INDEX(December!$AJ$9:$AM$108,Calc!$I13,Calc!BE$3),"") -> 2 | BF13: =IFERROR(INDEX(December!$AJ$9:$AM$108,Calc!$I13,Calc!BF$3),"") | BH13: Status | BI13: TOTAL | BJ13: =IF(LEN(Dashboard!$B$16)>0,Dashboard!$B$16,"") -> Michael Hall | BK13: January | BL13: February | BM13: March | BN13: April | BO13: May | BP13: June | BQ13: July | BR13: August | BS13: September | BT13: October | BU13: November | BV13: December
B14: ="SEPTEMBER - "&Dashboard!$B$7 -> SEPTEMBER - 2021 | C14: 9 | D14: =INDEX($B$20:$G$31,C14,6) -> 30 | E14: =Dashboard!$B$7 -> 2021 | I14: 9 | J14: =IF(LEN($D43)>0,$D43,"") | K14: =IFERROR(INDEX(January!$AJ$9:$AM$108,Calc!$I14,Calc!K$3),0) | L14: =IFERROR(INDEX(January!$AJ$9:$AM$108,Calc!$I14,Calc!L$3),0) | M14: =IFERROR(INDEX(January!$AJ$9:$AM$108,Calc!$I14,Calc!M$3),0) | N14: =IFERROR(INDEX(January!$AJ$9:$AM$108,Calc!$I14,Calc!N$3),0) | O14: =IFERROR(INDEX(February!$AJ$9:$AM$108,Calc!$I14,Calc!O$3),"") | P14: =IFERROR(INDEX(February!$AJ$9:$AM$108,Calc!$I14,Calc!P$3),"") | Q14: =IFERROR(INDEX(February!$AJ$9:$AM$108,Calc!$I14,Calc!Q$3),"") | R14: =IFERROR(INDEX(February!$AJ$9:$AM$108,Calc!$I14,Calc!R$3),"") | S14: =IFERROR(INDEX(March!$AJ$9:$AM$108,Calc!$I14,Calc!S$3),"") | T14: =IFERROR(INDEX(March!$AJ$9:$AM$108,Calc!$I14,Calc!T$3),"") | U14: =IFERROR(INDEX(March!$AJ$9:$AM$108,Calc!$I14,Calc!U$3),"") | V14: =IFERROR(INDEX(March!$AJ$9:$AM$108,Calc!$I14,Calc!V$3),"") | W14: =IFERROR(INDEX(April!$AJ$9:$AM$108,Calc!$I14,Calc!W$3),"") | X14: =IFERROR(INDEX(April!$AJ$9:$AM$108,Calc!$I14,Calc!X$3),"") | Y14: =IFERROR(INDEX(April!$AJ$9:$AM$108,Calc!$I14,Calc!Y$3),"") | Z14: =IFERROR(INDEX(April!$AJ$9:$AM$108,Calc!$I14,Calc!Z$3),"") | AA14: =IFERROR(INDEX(May!$AJ$9:$AM$108,Calc!$I14,Calc!AA$3),"") | AB14: =IFERROR(INDEX(May!$AJ$9:$AM$108,Calc!$I14,Calc!AB$3),"") | AC14: =IFERROR(INDEX(May!$AJ$9:$AM$108,Calc!$I14,Calc!AC$3),"") | AD14: =IFERROR(INDEX(May!$AJ$9:$AM$108,Calc!$I14,Calc!AD$3),"") | AE14: =IFERROR(INDEX(June!$AJ$9:$AM$108,Calc!$I14,Calc!AE$3),"") | AF14: =IFERROR(INDEX(June!$AJ$9:$AM$108,Calc!$I14,Calc!AF$3),"") | AG14: =IFERROR(INDEX(June!$AJ$9:$AM$108,Calc!$I14,Calc!AG$3),"") | AH14: =IFERROR(INDEX(June!$AJ$9:$AM$108,Calc!$I14,Calc!AH$3),"") | AI14: =IFERROR(INDEX(July!$AJ$9:$AM$108,Calc!$I14,Calc!AI$3),"") | AJ14: =IFERROR(INDEX(July!$AJ$9:$AM$108,Calc!$I14,Calc!AJ$3),"") | AK14: =IFERROR(INDEX(July!$AJ$9:$AM$108,Calc!$I14,Calc!AK$3),"") | AL14: =IFERROR(INDEX(July!$AJ$9:$AM$108,Calc!$I14,Calc!AL$3),"") | AM14: =IFERROR(INDEX(August!$AJ$9:$AM$108,Calc!$I14,Calc!AM$3),"") | AN14: =IFERROR(INDEX(August!$AJ$9:$AM$108,Calc!$I14,Calc!AN$3),"") | AO14: =IFERROR(INDEX(August!$AJ$9:$AM$108,Calc!$I14,Calc!AO$3),"") | AP14: =IFERROR(INDEX(August!$AJ$9:$AM$108,Calc!$I14,Calc!AP$3),"") | AQ14: =IFERROR(INDEX(September!$AJ$9:$AM$108,Calc!$I14,Calc!AQ$3),"") | AR14: =IFERROR(INDEX(September!$AJ$9:$AM$108,Calc!$I14,Calc!AR$3),"") | AS14: =IFERROR(INDEX(September!$AJ$9:$AM$108,Calc!$I14,Calc!AS$3),"") | AT14: =IFERROR(INDEX(September!$AJ$9:$AM$108,Calc!$I14,Calc!AT$3),"") | AU14: =IFERROR(INDEX(October!$AJ$9:$AM$108,Calc!$I14,Calc!AU$3),"") | AV14: =IFERROR(INDEX(October!$AJ$9:$AM$108,Calc!$I14,Calc!AV$3),"") | AW14: =IFERROR(INDEX(October!$AJ$9:$AM$108,Calc!$I14,Calc!AW$3),"") | AX14: =IFERROR(INDEX(October!$AJ$9:$AM$108,Calc!$I14,Calc!AX$3),"") | AY14: =IFERROR(INDEX(November!$AJ$9:$AM$108,Calc!$I14,Calc!AY$3),"") | AZ14: =IFERROR(INDEX(November!$AJ$9:$AM$108,Calc!$I14,Calc!AZ$3),"") | BA14: =IFERROR(INDEX(November!$AJ$9:$AM$108,Calc!$I14,Calc!BA$3),"") | BB14: =IFERROR(INDEX(November!$AJ$9:$AM$108,Calc!$I14,Calc!BB$3),"") | BC14: =IFERROR(INDEX(December!$AJ$9:$AM$108,Calc!$I14,Calc!BC$3),"") | BD14: =IFERROR(INDEX(December!$AJ$9:$AM$108,Calc!$I14,Calc!BD$3),"") | BE14: =IFERROR(INDEX(December!$AJ$9:$AM$108,Calc!$I14,Calc!BE$3),"") | BF14: =IFERROR(INDEX(December!$AJ$9:$AM$108,Calc!$I14,Calc!BF$3),"") | BH14: =IF(LEN($BJ14)>0,"Active","Passive") -> Active | BI14: =SUM($BK14:$BV14) -> 199 | BJ14: =$BJ$20 -> Attended | BK14: =IFERROR(IF(LEN($BJ14)>0,IF($BJ$13="All",INDEX($K$106:$BF$106,1,BK7),INDEX($K$6:$BF$105,MATCH($BJ$13,$J$6:$J$105,0),BK7)),""),"") -> 12 | BL14: =IFERROR(IF(LEN($BJ14)>0,IF($BJ$13="All",INDEX($K$106:$BF$106,1,BL7),INDEX($K$6:$BF$105,MATCH($BJ$13,$J$6:$J$105,0),BL7)),""),"") -> 13 | BM14: =IFERROR(IF(LEN($BJ14)>0,IF($BJ$13="All",INDEX($K$106:$BF$106,1,BM7),INDEX($K$6:$BF$105,MATCH($BJ$13,$J$6:$J$105,0),BM7)),""),"") -> 17 | BN14: =IFERROR(IF(LEN($BJ14)>0,IF($BJ$13="All",INDEX($K$106:$BF$106,1,BN7),INDEX($K$6:$BF$105,MATCH($BJ$13,$J$6:$J$105,0),BN7)),""),"") -> 16 | BO14: =IFERROR(IF(LEN($BJ14)>0,IF($BJ$13="All",INDEX($K$106:$BF$106,1,BO7),INDEX($K$6:$BF$105,MATCH($BJ$13,$J$6:$J$105,0),BO7)),""),"") -> 16 | BP14: =IFERROR(IF(LEN($BJ14)>0,IF($BJ$13="All",INDEX($K$106:$BF$106,1,BP7),INDEX($K$6:$BF$105,MATCH($BJ$13,$J$6:$J$105,0),BP7)),""),"") -> 16 | BQ14: =IFERROR(IF(LEN($BJ14)>0,IF($BJ$13="All",INDEX($K$106:$BF$106,1,BQ7),INDEX($K$6:$BF$105,MATCH($BJ$13,$J$6:$J$105,0),BQ7)),""),"") -> 19 | BR14: =IFERROR(IF(LEN($BJ14)>0,IF($BJ$13="All",INDEX($K$106:$BF$106,1,BR7),INDEX($K$6:$BF$105,MATCH($BJ$13,$J$6:$J$105,0),BR7)),""),"") -> 17 | ... BV14: =IFERROR(IF(LEN($BJ14)>0,IF($BJ$13="All",INDEX($K$106:$BF$106,1,BV7),INDEX($K$6:$BF$105,MATCH($BJ$13,$J$6:$J$105,0),BV7)),""),"") -> 18
B15: ="OCTOBER - "&Dashboard!$B$7 -> OCTOBER - 2021 | C15: 10 | D15: =INDEX($B$20:$G$31,C15,6) -> 31 | E15: =Dashboard!$B$7 -> 2021 | I15: 10 | J15: =IF(LEN($D44)>0,$D44,"") | K15: =IFERROR(INDEX(January!$AJ$9:$AM$108,Calc!$I15,Calc!K$3),0) | L15: =IFERROR(INDEX(January!$AJ$9:$AM$108,Calc!$I15,Calc!L$3),0) | M15: =IFERROR(INDEX(January!$AJ$9:$AM$108,Calc!$I15,Calc!M$3),0) | N15: =IFERROR(INDEX(January!$AJ$9:$AM$108,Calc!$I15,Calc!N$3),0) | O15: =IFERROR(INDEX(February!$AJ$9:$AM$108,Calc!$I15,Calc!O$3),"") | P15: =IFERROR(INDEX(February!$AJ$9:$AM$108,Calc!$I15,Calc!P$3),"") | Q15: =IFERROR(INDEX(February!$AJ$9:$AM$108,Calc!$I15,Calc!Q$3),"") | R15: =IFERROR(INDEX(February!$AJ$9:$AM$108,Calc!$I15,Calc!R$3),"") | S15: =IFERROR(INDEX(March!$AJ$9:$AM$108,Calc!$I15,Calc!S$3),"") | T15: =IFERROR(INDEX(March!$AJ$9:$AM$108,Calc!$I15,Calc!T$3),"") | U15: =IFERROR(INDEX(March!$AJ$9:$AM$108,Calc!$I15,Calc!U$3),"") | V15: =IFERROR(INDEX(March!$AJ$9:$AM$108,Calc!$I15,Calc!V$3),"") | W15: =IFERROR(INDEX(April!$AJ$9:$AM$108,Calc!$I15,Calc!W$3),"") | X15: =IFERROR(INDEX(April!$AJ$9:$AM$108,Calc!$I15,Calc!X$3),"") | Y15: =IFERROR(INDEX(April!$AJ$9:$AM$108,Calc!$I15,Calc!Y$3),"") | Z15: =IFERROR(INDEX(April!$AJ$9:$AM$108,Calc!$I15,Calc!Z$3),"") | AA15: =IFERROR(INDEX(May!$AJ$9:$AM$108,Calc!$I15,Calc!AA$3),"") | AB15: =IFERROR(INDEX(May!$AJ$9:$AM$108,Calc!$I15,Calc!AB$3),"") | AC15: =IFERROR(INDEX(May!$AJ$9:$AM$108,Calc!$I15,Calc!AC$3),"") | AD15: =IFERROR(INDEX(May!$AJ$9:$AM$108,Calc!$I15,Calc!AD$3),"") | AE15: =IFERROR(INDEX(June!$AJ$9:$AM$108,Calc!$I15,Calc!AE$3),"") | AF15: =IFERROR(INDEX(June!$AJ$9:$AM$108,Calc!$I15,Calc!AF$3),"") | AG15: =IFERROR(INDEX(June!$AJ$9:$AM$108,Calc!$I15,Calc!AG$3),"") | AH15: =IFERROR(INDEX(June!$AJ$9:$AM$108,Calc!$I15,Calc!AH$3),"") | AI15: =IFERROR(INDEX(July!$AJ$9:$AM$108,Calc!$I15,Calc!AI$3),"") | AJ15: =IFERROR(INDEX(July!$AJ$9:$AM$108,Calc!$I15,Calc!AJ$3),"") | AK15: =IFERROR(INDEX(July!$AJ$9:$AM$108,Calc!$I15,Calc!AK$3),"") | AL15: =IFERROR(INDEX(July!$AJ$9:$AM$108,Calc!$I15,Calc!AL$3),"") | AM15: =IFERROR(INDEX(August!$AJ$9:$AM$108,Calc!$I15,Calc!AM$3),"") | AN15: =IFERROR(INDEX(August!$AJ$9:$AM$108,Calc!$I15,Calc!AN$3),"") | AO15: =IFERROR(INDEX(August!$AJ$9:$AM$108,Calc!$I15,Calc!AO$3),"") | AP15: =IFERROR(INDEX(August!$AJ$9:$AM$108,Calc!$I15,Calc!AP$3),"") | AQ15: =IFERROR(INDEX(September!$AJ$9:$AM$108,Calc!$I15,Calc!AQ$3),"") | AR15: =IFERROR(INDEX(September!$AJ$9:$AM$108,Calc!$I15,Calc!AR$3),"") | AS15: =IFERROR(INDEX(September!$AJ$9:$AM$108,Calc!$I15,Calc!AS$3),"") | AT15: =IFERROR(INDEX(September!$AJ$9:$AM$108,Calc!$I15,Calc!AT$3),"") | AU15: =IFERROR(INDEX(October!$AJ$9:$AM$108,Calc!$I15,Calc!AU$3),"") | AV15: =IFERROR(INDEX(October!$AJ$9:$AM$108,Calc!$I15,Calc!AV$3),"") | AW15: =IFERROR(INDEX(October!$AJ$9:$AM$108,Calc!$I15,Calc!AW$3),"") | AX15: =IFERROR(INDEX(October!$AJ$9:$AM$108,Calc!$I15,Calc!AX$3),"") | AY15: =IFERROR(INDEX(November!$AJ$9:$AM$108,Calc!$I15,Calc!AY$3),"") | AZ15: =IFERROR(INDEX(November!$AJ$9:$AM$108,Calc!$I15,Calc!AZ$3),"") | BA15: =IFERROR(INDEX(November!$AJ$9:$AM$108,Calc!$I15,Calc!BA$3),"") | BB15: =IFERROR(INDEX(November!$AJ$9:$AM$108,Calc!$I15,Calc!BB$3),"") | BC15: =IFERROR(INDEX(December!$AJ$9:$AM$108,Calc!$I15,Calc!BC$3),"") | BD15: =IFERROR(INDEX(December!$AJ$9:$AM$108,Calc!$I15,Calc!BD$3),"") | BE15: =IFERROR(INDEX(December!$AJ$9:$AM$108,Calc!$I15,Calc!BE$3),"") | BF15: =IFERROR(INDEX(December!$AJ$9:$AM$108,Calc!$I15,Calc!BF$3),"") | BH15: =IF(LEN($BJ15)>0,"Active","Passive") -> Active | BI15: =SUM($BK15:$BV15) -> 23 | BJ15: =$BJ$21 -> Not Attended | BK15: =IFERROR(IF(LEN($BJ15)>0,IF($BJ$13="All",INDEX($K$106:$BF$106,1,BK8),INDEX($K$6:$BF$105,MATCH($BJ$13,$J$6:$J$105,0),BK8)),""),"") -> 5 | BL15: =IFERROR(IF(LEN($BJ15)>0,IF($BJ$13="All",INDEX($K$106:$BF$106,1,BL8),INDEX($K$6:$BF$105,MATCH($BJ$13,$J$6:$J$105,0),BL8)),""),"") -> 3 | BM15: =IFERROR(IF(LEN($BJ15)>0,IF($BJ$13="All",INDEX($K$106:$BF$106,1,BM8),INDEX($K$6:$BF$105,MATCH($BJ$13,$J$6:$J$105,0),BM8)),""),"") -> 3 | BN15: =IFERROR(IF(LEN($BJ15)>0,IF($BJ$13="All",INDEX($K$106:$BF$106,1,BN8),INDEX($K$6:$BF$105,MATCH($BJ$13,$J$6:$J$105,0),BN8)),""),"") -> 3 | BO15: =IFERROR(IF(LEN($BJ15)>0,IF($BJ$13="All",INDEX($K$106:$BF$106,1,BO8),INDEX($K$6:$BF$105,MATCH($BJ$13,$J$6:$J$105,0),BO8)),""),"") -> 2 | BP15: =IFERROR(IF(LEN($BJ15)>0,IF($BJ$13="All",INDEX($K$106:$BF$106,1,BP8),INDEX($K$6:$BF$105,MATCH($BJ$13,$J$6:$J$105,0),BP8)),""),"") -> 1 | BQ15: =IFERROR(IF(LEN($BJ15)>0,IF($BJ$13="All",INDEX($K$106:$BF$106,1,BQ8),INDEX($K$6:$BF$105,MATCH($BJ$13,$J$6:$J$105,0),BQ8)),""),"") -> 1 | BR15: =IFERROR(IF(LEN($BJ15)>0,IF($BJ$13="All",INDEX($K$106:$BF$106,1,BR8),INDEX($K$6:$BF$105,MATCH($BJ$13,$J$6:$J$105,0),BR8)),""),"") -> 1 | ... BV15: =IFERROR(IF(LEN($BJ15)>0,IF($BJ$13="All",INDEX($K$106:$BF$106,1,BV8),INDEX($K$6:$BF$105,MATCH($BJ$13,$J$6:$J$105,0),BV8)),""),"") -> 1
B16: ="NOVEMBER - "&Dashboard!$B$7 -> NOVEMBER - 2021 | C16: 11 | D16: =INDEX($B$20:$G$31,C16,6) -> 30 | E16: =Dashboard!$B$7 -> 2021 | I16: 11 | J16: =IF(LEN($D45)>0,$D45,"") | K16: =IFERROR(INDEX(January!$AJ$9:$AM$108,Calc!$I16,Calc!K$3),0) | L16: =IFERROR(INDEX(January!$AJ$9:$AM$108,Calc!$I16,Calc!L$3),0) | M16: =IFERROR(INDEX(January!$AJ$9:$AM$108,Calc!$I16,Calc!M$3),0) | N16: =IFERROR(INDEX(January!$AJ$9:$AM$108,Calc!$I16,Calc!N$3),0) | O16: =IFERROR(INDEX(February!$AJ$9:$AM$108,Calc!$I16,Calc!O$3),"") | P16: =IFERROR(INDEX(February!$AJ$9:$AM$108,Calc!$I16,Calc!P$3),"") | Q16: =IFERROR(INDEX(February!$AJ$9:$AM$108,Calc!$I16,Calc!Q$3),"") | R16: =IFERROR(INDEX(February!$AJ$9:$AM$108,Calc!$I16,Calc!R$3),"") | S16: =IFERROR(INDEX(March!$AJ$9:$AM$108,Calc!$I16,Calc!S$3),"") | T16: =IFERROR(INDEX(March!$AJ$9:$AM$108,Calc!$I16,Calc!T$3),"") | U16: =IFERROR(INDEX(March!$AJ$9:$AM$108,Calc!$I16,Calc!U$3),"") | V16: =IFERROR(INDEX(March!$AJ$9:$AM$108,Calc!$I16,Calc!V$3),"") | W16: =IFERROR(INDEX(April!$AJ$9:$AM$108,Calc!$I16,Calc!W$3),"") | X16: =IFERROR(INDEX(April!$AJ$9:$AM$108,Calc!$I16,Calc!X$3),"") | Y16: =IFERROR(INDEX(April!$AJ$9:$AM$108,Calc!$I16,Calc!Y$3),"") | Z16: =IFERROR(INDEX(April!$AJ$9:$AM$108,Calc!$I16,Calc!Z$3),"") | AA16: =IFERROR(INDEX(May!$AJ$9:$AM$108,Calc!$I16,Calc!AA$3),"") | AB16: =IFERROR(INDEX(May!$AJ$9:$AM$108,Calc!$I16,Calc!AB$3),"") | AC16: =IFERROR(INDEX(May!$AJ$9:$AM$108,Calc!$I16,Calc!AC$3),"") | AD16: =IFERROR(INDEX(May!$AJ$9:$AM$108,Calc!$I16,Calc!AD$3),"") | AE16: =IFERROR(INDEX(June!$AJ$9:$AM$108,Calc!$I16,Calc!AE$3),"") | AF16: =IFERROR(INDEX(June!$AJ$9:$AM$108,Calc!$I16,Calc!AF$3),"") | AG16: =IFERROR(INDEX(June!$AJ$9:$AM$108,Calc!$I16,Calc!AG$3),"") | AH16: =IFERROR(INDEX(June!$AJ$9:$AM$108,Calc!$I16,Calc!AH$3),"") | AI16: =IFERROR(INDEX(July!$AJ$9:$AM$108,Calc!$I16,Calc!AI$3),"") | AJ16: =IFERROR(INDEX(July!$AJ$9:$AM$108,Calc!$I16,Calc!AJ$3),"") | AK16: =IFERROR(INDEX(July!$AJ$9:$AM$108,Calc!$I16,Calc!AK$3),"") | AL16: =IFERROR(INDEX(July!$AJ$9:$AM$108,Calc!$I16,Calc!AL$3),"") | AM16: =IFERROR(INDEX(August!$AJ$9:$AM$108,Calc!$I16,Calc!AM$3),"") | AN16: =IFERROR(INDEX(August!$AJ$9:$AM$108,Calc!$I16,Calc!AN$3),"") | AO16: =IFERROR(INDEX(August!$AJ$9:$AM$108,Calc!$I16,Calc!AO$3),"") | AP16: =IFERROR(INDEX(August!$AJ$9:$AM$108,Calc!$I16,Calc!AP$3),"") | AQ16: =IFERROR(INDEX(September!$AJ$9:$AM$108,Calc!$I16,Calc!AQ$3),"") | AR16: =IFERROR(INDEX(September!$AJ$9:$AM$108,Calc!$I16,Calc!AR$3),"") | AS16: =IFERROR(INDEX(September!$AJ$9:$AM$108,Calc!$I16,Calc!AS$3),"") | AT16: =IFERROR(INDEX(September!$AJ$9:$AM$108,Calc!$I16,Calc!AT$3),"") | AU16: =IFERROR(INDEX(October!$AJ$9:$AM$108,Calc!$I16,Calc!AU$3),"") | AV16: =IFERROR(INDEX(October!$AJ$9:$AM$108,Calc!$I16,Calc!AV$3),"") | AW16: =IFERROR(INDEX(October!$AJ$9:$AM$108,Calc!$I16,Calc!AW$3),"") | AX16: =IFERROR(INDEX(October!$AJ$9:$AM$108,Calc!$I16,Calc!AX$3),"") | AY16: =IFERROR(INDEX(November!$AJ$9:$AM$108,Calc!$I16,Calc!AY$3),"") | AZ16: =IFERROR(INDEX(November!$AJ$9:$AM$108,Calc!$I16,Calc!AZ$3),"") | BA16: =IFERROR(INDEX(November!$AJ$9:$AM$108,Calc!$I16,Calc!BA$3),"") | BB16: =IFERROR(INDEX(November!$AJ$9:$AM$108,Calc!$I16,Calc!BB$3),"") | BC16: =IFERROR(INDEX(December!$AJ$9:$AM$108,Calc!$I16,Calc!BC$3),"") | BD16: =IFERROR(INDEX(December!$AJ$9:$AM$108,Calc!$I16,Calc!BD$3),"") | BE16: =IFERROR(INDEX(December!$AJ$9:$AM$108,Calc!$I16,Calc!BE$3),"") | BF16: =IFERROR(INDEX(December!$AJ$9:$AM$108,Calc!$I16,Calc!BF$3),"") | BH16: =IF(LEN($BJ16)>0,"Active","Passive") -> Active | BI16: =SUM($BK16:$BV16) -> 39 | BJ16: =$BJ$22 -> Tardy | BK16: =IFERROR(IF(LEN($BJ16)>0,IF($BJ$13="All",INDEX($K$106:$BF$106,1,BK9),INDEX($K$6:$BF$105,MATCH($BJ$13,$J$6:$J$105,0),BK9)),""),"") -> 4 | BL16: =IFERROR(IF(LEN($BJ16)>0,IF($BJ$13="All",INDEX($K$106:$BF$106,1,BL9),INDEX($K$6:$BF$105,MATCH($BJ$13,$J$6:$J$105,0),BL9)),""),"") -> 4 | BM16: =IFERROR(IF(LEN($BJ16)>0,IF($BJ$13="All",INDEX($K$106:$BF$106,1,BM9),INDEX($K$6:$BF$105,MATCH($BJ$13,$J$6:$J$105,0),BM9)),""),"") -> 3 | BN16: =IFERROR(IF(LEN($BJ16)>0,IF($BJ$13="All",INDEX($K$106:$BF$106,1,BN9),INDEX($K$6:$BF$105,MATCH($BJ$13,$J$6:$J$105,0),BN9)),""),"") -> 3 | BO16: =IFERROR(IF(LEN($BJ16)>0,IF($BJ$13="All",INDEX($K$106:$BF$106,1,BO9),INDEX($K$6:$BF$105,MATCH($BJ$13,$J$6:$J$105,0),BO9)),""),"") -> 3 | BP16: =IFERROR(IF(LEN($BJ16)>0,IF($BJ$13="All",INDEX($K$106:$BF$106,1,BP9),INDEX($K$6:$BF$105,MATCH($BJ$13,$J$6:$J$105,0),BP9)),""),"") -> 5 | BQ16: =IFERROR(IF(LEN($BJ16)>0,IF($BJ$13="All",INDEX($K$106:$BF$106,1,BQ9),INDEX($K$6:$BF$105,MATCH($BJ$13,$J$6:$J$105,0),BQ9)),""),"") -> 2 | BR16: =IFERROR(IF(LEN($BJ16)>0,IF($BJ$13="All",INDEX($K$106:$BF$106,1,BR9),INDEX($K$6:$BF$105,MATCH($BJ$13,$J$6:$J$105,0),BR9)),""),"") -> 4 | ... BV16: =IFERROR(IF(LEN($BJ16)>0,IF($BJ$13="All",INDEX($K$106:$BF$106,1,BV9),INDEX($K$6:$BF$105,MATCH($BJ$13,$J$6:$J$105,0),BV9)),""),"") -> 4
B17: ="DECEMBER - "&Dashboard!$B$7 -> DECEMBER - 2021 | C17: 12 | D17: =INDEX($B$20:$G$31,C17,6) -> 31 | E17: =Dashboard!$B$7 -> 2021 | I17: 12 | J17: =IF(LEN($D46)>0,$D46,"") | K17: =IFERROR(INDEX(January!$AJ$9:$AM$108,Calc!$I17,Calc!K$3),0) | L17: =IFERROR(INDEX(January!$AJ$9:$AM$108,Calc!$I17,Calc!L$3),0) | M17: =IFERROR(INDEX(January!$AJ$9:$AM$108,Calc!$I17,Calc!M$3),0) | N17: =IFERROR(INDEX(January!$AJ$9:$AM$108,Calc!$I17,Calc!N$3),0) | O17: =IFERROR(INDEX(February!$AJ$9:$AM$108,Calc!$I17,Calc!O$3),"") | P17: =IFERROR(INDEX(February!$AJ$9:$AM$108,Calc!$I17,Calc!P$3),"") | Q17: =IFERROR(INDEX(February!$AJ$9:$AM$108,Calc!$I17,Calc!Q$3),"") | R17: =IFERROR(INDEX(February!$AJ$9:$AM$108,Calc!$I17,Calc!R$3),"") | S17: =IFERROR(INDEX(March!$AJ$9:$AM$108,Calc!$I17,Calc!S$3),"") | T17: =IFERROR(INDEX(March!$AJ$9:$AM$108,Calc!$I17,Calc!T$3),"") | U17: =IFERROR(INDEX(March!$AJ$9:$AM$108,Calc!$I17,Calc!U$3),"") | V17: =IFERROR(INDEX(March!$AJ$9:$AM$108,Calc!$I17,Calc!V$3),"") | W17: =IFERROR(INDEX(April!$AJ$9:$AM$108,Calc!$I17,Calc!W$3),"") | X17: =IFERROR(INDEX(April!$AJ$9:$AM$108,Calc!$I17,Calc!X$3),"") | Y17: =IFERROR(INDEX(April!$AJ$9:$AM$108,Calc!$I17,Calc!Y$3),"") | Z17: =IFERROR(INDEX(April!$AJ$9:$AM$108,Calc!$I17,Calc!Z$3),"") | AA17: =IFERROR(INDEX(May!$AJ$9:$AM$108,Calc!$I17,Calc!AA$3),"") | AB17: =IFERROR(INDEX(May!$AJ$9:$AM$108,Calc!$I17,Calc!AB$3),"") | AC17: =IFERROR(INDEX(May!$AJ$9:$AM$108,Calc!$I17,Calc!AC$3),"") | AD17: =IFERROR(INDEX(May!$AJ$9:$AM$108,Calc!$I17,Calc!AD$3),"") | AE17: =IFERROR(INDEX(June!$AJ$9:$AM$108,Calc!$I17,Calc!AE$3),"") | AF17: =IFERROR(INDEX(June!$AJ$9:$AM$108,Calc!$I17,Calc!AF$3),"") | AG17: =IFERROR(INDEX(June!$AJ$9:$AM$108,Calc!$I17,Calc!AG$3),"") | AH17: =IFERROR(INDEX(June!$AJ$9:$AM$108,Calc!$I17,Calc!AH$3),"") | AI17: =IFERROR(INDEX(July!$AJ$9:$AM$108,Calc!$I17,Calc!AI$3),"") | AJ17: =IFERROR(INDEX(July!$AJ$9:$AM$108,Calc!$I17,Calc!AJ$3),"") | AK17: =IFERROR(INDEX(July!$AJ$9:$AM$108,Calc!$I17,Calc!AK$3),"") | AL17: =IFERROR(INDEX(July!$AJ$9:$AM$108,Calc!$I17,Calc!AL$3),"") | AM17: =IFERROR(INDEX(August!$AJ$9:$AM$108,Calc!$I17,Calc!AM$3),"") | AN17: =IFERROR(INDEX(August!$AJ$9:$AM$108,Calc!$I17,Calc!AN$3),"") | AO17: =IFERROR(INDEX(August!$AJ$9:$AM$108,Calc!$I17,Calc!AO$3),"") | AP17: =IFERROR(INDEX(August!$AJ$9:$AM$108,Calc!$I17,Calc!AP$3),"") | AQ17: =IFERROR(INDEX(September!$AJ$9:$AM$108,Calc!$I17,Calc!AQ$3),"") | AR17: =IFERROR(INDEX(September!$AJ$9:$AM$108,Calc!$I17,Calc!AR$3),"") | AS17: =IFERROR(INDEX(September!$AJ$9:$AM$108,Calc!$I17,Calc!AS$3),"") | AT17: =IFERROR(INDEX(September!$AJ$9:$AM$108,Calc!$I17,Calc!AT$3),"") | AU17: =IFERROR(INDEX(October!$AJ$9:$AM$108,Calc!$I17,Calc!AU$3),"") | AV17: =IFERROR(INDEX(October!$AJ$9:$AM$108,Calc!$I17,Calc!AV$3),"") | AW17: =IFERROR(INDEX(October!$AJ$9:$AM$108,Calc!$I17,Calc!AW$3),"") | AX17: =IFERROR(INDEX(October!$AJ$9:$AM$108,Calc!$I17,Calc!AX$3),"") | AY17: =IFERROR(INDEX(November!$AJ$9:$AM$108,Calc!$I17,Calc!AY$3),"") | AZ17: =IFERROR(INDEX(November!$AJ$9:$AM$108,Calc!$I17,Calc!AZ$3),"") | BA17: =IFERROR(INDEX(November!$AJ$9:$AM$108,Calc!$I17,Calc!BA$3),"") | BB17: =IFERROR(INDEX(November!$AJ$9:$AM$108,Calc!$I17,Calc!BB$3),"") | BC17: =IFERROR(INDEX(December!$AJ$9:$AM$108,Calc!$I17,Calc!BC$3),"") | BD17: =IFERROR(INDEX(December!$AJ$9:$AM$108,Calc!$I17,Calc!BD$3),"") | BE17: =IFERROR(INDEX(December!$AJ$9:$AM$108,Calc!$I17,Calc!BE$3),"") | BF17: =IFERROR(INDEX(December!$AJ$9:$AM$108,Calc!$I17,Calc!BF$3),"") | BH17: =IF(LEN($BJ17)>0,"Active","Passive") -> Passive | BI17: =SUM($BK17:$BV17) -> 0 | BJ17: =$BJ$23 | BK17: =IFERROR(IF(LEN($BJ17)>0,IF($BJ$13="All",INDEX($K$106:$BF$106,1,BK10),INDEX($K$6:$BF$105,MATCH($BJ$13,$J$6:$J$105,0),BK10)),""),"") | BL17: =IFERROR(IF(LEN($BJ17)>0,IF($BJ$13="All",INDEX($K$106:$BF$106,1,BL10),INDEX($K$6:$BF$105,MATCH($BJ$13,$J$6:$J$105,0),BL10)),""),"") | BM17: =IFERROR(IF(LEN($BJ17)>0,IF($BJ$13="All",INDEX($K$106:$BF$106,1,BM10),INDEX($K$6:$BF$105,MATCH($BJ$13,$J$6:$J$105,0),BM10)),""),"") | BN17: =IFERROR(IF(LEN($BJ17)>0,IF($BJ$13="All",INDEX($K$106:$BF$106,1,BN10),INDEX($K$6:$BF$105,MATCH($BJ$13,$J$6:$J$105,0),BN10)),""),"") | BO17: =IFERROR(IF(LEN($BJ17)>0,IF($BJ$13="All",INDEX($K$106:$BF$106,1,BO10),INDEX($K$6:$BF$105,MATCH($BJ$13,$J$6:$J$105,0),BO10)),""),"") | BP17: =IFERROR(IF(LEN($BJ17)>0,IF($BJ$13="All",INDEX($K$106:$BF$106,1,BP10),INDEX($K$6:$BF$105,MATCH($BJ$13,$J$6:$J$105,0),BP10)),""),"") | BQ17: =IFERROR(IF(LEN($BJ17)>0,IF($BJ$13="All",INDEX($K$106:$BF$106,1,BQ10),INDEX($K$6:$BF$105,MATCH($BJ$13,$J$6:$J$105,0),BQ10)),""),"") | BR17: =IFERROR(IF(LEN($BJ17)>0,IF($BJ$13="All",INDEX($K$106:$BF$106,1,BR10),INDEX($K$6:$BF$105,MATCH($BJ$13,$J$6:$J$105,0),BR10)),""),"") | ... BV17: =IFERROR(IF(LEN($BJ17)>0,IF($BJ$13="All",INDEX($K$106:$BF$106,1,BV10),INDEX($K$6:$BF$105,MATCH($BJ$13,$J$6:$J$105,0),BV10)),""),"")
I18: 13 | J18: =IF(LEN($D47)>0,$D47,"") | K18: =IFERROR(INDEX(January!$AJ$9:$AM$108,Calc!$I18,Calc!K$3),0) | L18: =IFERROR(INDEX(January!$AJ$9:$AM$108,Calc!$I18,Calc!L$3),0) | M18: =IFERROR(INDEX(January!$AJ$9:$AM$108,Calc!$I18,Calc!M$3),0) | N18: =IFERROR(INDEX(January!$AJ$9:$AM$108,Calc!$I18,Calc!N$3),0) | O18: =IFERROR(INDEX(February!$AJ$9:$AM$108,Calc!$I18,Calc!O$3),"") | P18: =IFERROR(INDEX(February!$AJ$9:$AM$108,Calc!$I18,Calc!P$3),"") | Q18: =IFERROR(INDEX(February!$AJ$9:$AM$108,Calc!$I18,Calc!Q$3),"") | R18: =IFERROR(INDEX(February!$AJ$9:$AM$108,Calc!$I18,Calc!R$3),"") | S18: =IFERROR(INDEX(March!$AJ$9:$AM$108,Calc!$I18,Calc!S$3),"") | T18: =IFERROR(INDEX(March!$AJ$9:$AM$108,Calc!$I18,Calc!T$3),"") | U18: =IFERROR(INDEX(March!$AJ$9:$AM$108,Calc!$I18,Calc!U$3),"") | V18: =IFERROR(INDEX(March!$AJ$9:$AM$108,Calc!$I18,Calc!V$3),"") | W18: =IFERROR(INDEX(April!$AJ$9:$AM$108,Calc!$I18,Calc!W$3),"") | X18: =IFERROR(INDEX(April!$AJ$9:$AM$108,Calc!$I18,Calc!X$3),"") | Y18: =IFERROR(INDEX(April!$AJ$9:$AM$108,Calc!$I18,Calc!Y$3),"") | Z18: =IFERROR(INDEX(April!$AJ$9:$AM$108,Calc!$I18,Calc!Z$3),"") | AA18: =IFERROR(INDEX(May!$AJ$9:$AM$108,Calc!$I18,Calc!AA$3),"") | AB18: =IFERROR(INDEX(May!$AJ$9:$AM$108,Calc!$I18,Calc!AB$3),"") | AC18: =IFERROR(INDEX(May!$AJ$9:$AM$108,Calc!$I18,Calc!AC$3),"") | AD18: =IFERROR(INDEX(May!$AJ$9:$AM$108,Calc!$I18,Calc!AD$3),"") | AE18: =IFERROR(INDEX(June!$AJ$9:$AM$108,Calc!$I18,Calc!AE$3),"") | AF18: =IFERROR(INDEX(June!$AJ$9:$AM$108,Calc!$I18,Calc!AF$3),"") | AG18: =IFERROR(INDEX(June!$AJ$9:$AM$108,Calc!$I18,Calc!AG$3),"") | AH18: =IFERROR(INDEX(June!$AJ$9:$AM$108,Calc!$I18,Calc!AH$3),"") | AI18: =IFERROR(INDEX(July!$AJ$9:$AM$108,Calc!$I18,Calc!AI$3),"") | AJ18: =IFERROR(INDEX(July!$AJ$9:$AM$108,Calc!$I18,Calc!AJ$3),"") | AK18: =IFERROR(INDEX(July!$AJ$9:$AM$108,Calc!$I18,Calc!AK$3),"") | AL18: =IFERROR(INDEX(July!$AJ$9:$AM$108,Calc!$I18,Calc!AL$3),"") | AM18: =IFERROR(INDEX(August!$AJ$9:$AM$108,Calc!$I18,Calc!AM$3),"") | AN18: =IFERROR(INDEX(August!$AJ$9:$AM$108,Calc!$I18,Calc!AN$3),"") | AO18: =IFERROR(INDEX(August!$AJ$9:$AM$108,Calc!$I18,Calc!AO$3),"") | AP18: =IFERROR(INDEX(August!$AJ$9:$AM$108,Calc!$I18,Calc!AP$3),"") | AQ18: =IFERROR(INDEX(September!$AJ$9:$AM$108,Calc!$I18,Calc!AQ$3),"") | AR18: =IFERROR(INDEX(September!$AJ$9:$AM$108,Calc!$I18,Calc!AR$3),"") | AS18: =IFERROR(INDEX(September!$AJ$9:$AM$108,Calc!$I18,Calc!AS$3),"") | AT18: =IFERROR(INDEX(September!$AJ$9:$AM$108,Calc!$I18,Calc!AT$3),"") | AU18: =IFERROR(INDEX(October!$AJ$9:$AM$108,Calc!$I18,Calc!AU$3),"") | AV18: =IFERROR(INDEX(October!$AJ$9:$AM$108,Calc!$I18,Calc!AV$3),"") | AW18: =IFERROR(INDEX(October!$AJ$9:$AM$108,Calc!$I18,Calc!AW$3),"") | AX18: =IFERROR(INDEX(October!$AJ$9:$AM$108,Calc!$I18,Calc!AX$3),"") | AY18: =IFERROR(INDEX(November!$AJ$9:$AM$108,Calc!$I18,Calc!AY$3),"") | AZ18: =IFERROR(INDEX(November!$AJ$9:$AM$108,Calc!$I18,Calc!AZ$3),"") | BA18: =IFERROR(INDEX(November!$AJ$9:$AM$108,Calc!$I18,Calc!BA$3),"") | BB18: =IFERROR(INDEX(November!$AJ$9:$AM$108,Calc!$I18,Calc!BB$3),"") | BC18: =IFERROR(INDEX(December!$AJ$9:$AM$108,Calc!$I18,Calc!BC$3),"") | BD18: =IFERROR(INDEX(December!$AJ$9:$AM$108,Calc!$I18,Calc!BD$3),"") | BE18: =IFERROR(INDEX(December!$AJ$9:$AM$108,Calc!$I18,Calc!BE$3),"") | BF18: =IFERROR(INDEX(December!$AJ$9:$AM$108,Calc!$I18,Calc!BF$3),"")
B19: Year List | C19: Month Code | D19: Month Name | E19: Start Date | F19: End Date | G19: Number of Days | I19: 14 | J19: =IF(LEN($D48)>0,$D48,"") | K19: =IFERROR(INDEX(January!$AJ$9:$AM$108,Calc!$I19,Calc!K$3),0) | L19: =IFERROR(INDEX(January!$AJ$9:$AM$108,Calc!$I19,Calc!L$3),0) | M19: =IFERROR(INDEX(January!$AJ$9:$AM$108,Calc!$I19,Calc!M$3),0) | N19: =IFERROR(INDEX(January!$AJ$9:$AM$108,Calc!$I19,Calc!N$3),0) | O19: =IFERROR(INDEX(February!$AJ$9:$AM$108,Calc!$I19,Calc!O$3),"") | P19: =IFERROR(INDEX(February!$AJ$9:$AM$108,Calc!$I19,Calc!P$3),"") | Q19: =IFERROR(INDEX(February!$AJ$9:$AM$108,Calc!$I19,Calc!Q$3),"") | R19: =IFERROR(INDEX(February!$AJ$9:$AM$108,Calc!$I19,Calc!R$3),"") | S19: =IFERROR(INDEX(March!$AJ$9:$AM$108,Calc!$I19,Calc!S$3),"") | T19: =IFERROR(INDEX(March!$AJ$9:$AM$108,Calc!$I19,Calc!T$3),"") | U19: =IFERROR(INDEX(March!$AJ$9:$AM$108,Calc!$I19,Calc!U$3),"") | V19: =IFERROR(INDEX(March!$AJ$9:$AM$108,Calc!$I19,Calc!V$3),"") | W19: =IFERROR(INDEX(April!$AJ$9:$AM$108,Calc!$I19,Calc!W$3),"") | X19: =IFERROR(INDEX(April!$AJ$9:$AM$108,Calc!$I19,Calc!X$3),"") | Y19: =IFERROR(INDEX(April!$AJ$9:$AM$108,Calc!$I19,Calc!Y$3),"") | Z19: =IFERROR(INDEX(April!$AJ$9:$AM$108,Calc!$I19,Calc!Z$3),"") | AA19: =IFERROR(INDEX(May!$AJ$9:$AM$108,Calc!$I19,Calc!AA$3),"") | AB19: =IFERROR(INDEX(May!$AJ$9:$AM$108,Calc!$I19,Calc!AB$3),"") | AC19: =IFERROR(INDEX(May!$AJ$9:$AM$108,Calc!$I19,Calc!AC$3),"") | AD19: =IFERROR(INDEX(May!$AJ$9:$AM$108,Calc!$I19,Calc!AD$3),"") | AE19: =IFERROR(INDEX(June!$AJ$9:$AM$108,Calc!$I19,Calc!AE$3),"") | AF19: =IFERROR(INDEX(June!$AJ$9:$AM$108,Calc!$I19,Calc!AF$3),"") | AG19: =IFERROR(INDEX(June!$AJ$9:$AM$108,Calc!$I19,Calc!AG$3),"") | AH19: =IFERROR(INDEX(June!$AJ$9:$AM$108,Calc!$I19,Calc!AH$3),"") | AI19: =IFERROR(INDEX(July!$AJ$9:$AM$108,Calc!$I19,Calc!AI$3),"") | AJ19: =IFERROR(INDEX(July!$AJ$9:$AM$108,Calc!$I19,Calc!AJ$3),"") | AK19: =IFERROR(INDEX(July!$AJ$9:$AM$108,Calc!$I19,Calc!AK$3),"") | AL19: =IFERROR(INDEX(July!$AJ$9:$AM$108,Calc!$I19,Calc!AL$3),"") | AM19: =IFERROR(INDEX(August!$AJ$9:$AM$108,Calc!$I19,Calc!AM$3),"") | AN19: =IFERROR(INDEX(August!$AJ$9:$AM$108,Calc!$I19,Calc!AN$3),"") | AO19: =IFERROR(INDEX(August!$AJ$9:$AM$108,Calc!$I19,Calc!AO$3),"") | AP19: =IFERROR(INDEX(August!$AJ$9:$AM$108,Calc!$I19,Calc!AP$3),"") | AQ19: =IFERROR(INDEX(September!$AJ$9:$AM$108,Calc!$I19,Calc!AQ$3),"") | AR19: =IFERROR(INDEX(September!$AJ$9:$AM$108,Calc!$I19,Calc!AR$3),"") | AS19: =IFERROR(INDEX(September!$AJ$9:$AM$108,Calc!$I19,Calc!AS$3),"") | AT19: =IFERROR(INDEX(September!$AJ$9:$AM$108,Calc!$I19,Calc!AT$3),"") | AU19: =IFERROR(INDEX(October!$AJ$9:$AM$108,Calc!$I19,Calc!AU$3),"") | AV19: =IFERROR(INDEX(October!$AJ$9:$AM$108,Calc!$I19,Calc!AV$3),"") | AW19: =IFERROR(INDEX(October!$AJ$9:$AM$108,Calc!$I19,Calc!AW$3),"") | AX19: =IFERROR(INDEX(October!$AJ$9:$AM$108,Calc!$I19,Calc!AX$3),"") | AY19: =IFERROR(INDEX(November!$AJ$9:$AM$108,Calc!$I19,Calc!AY$3),"") | AZ19: =IFERROR(INDEX(November!$AJ$9:$AM$108,Calc!$I19,Calc!AZ$3),"") | BA19: =IFERROR(INDEX(November!$AJ$9:$AM$108,Calc!$I19,Calc!BA$3),"") | BB19: =IFERROR(INDEX(November!$AJ$9:$AM$108,Calc!$I19,Calc!BB$3),"") | BC19: =IFERROR(INDEX(December!$AJ$9:$AM$108,Calc!$I19,Calc!BC$3),"") | BD19: =IFERROR(INDEX(December!$AJ$9:$AM$108,Calc!$I19,Calc!BD$3),"") | BE19: =IFERROR(INDEX(December!$AJ$9:$AM$108,Calc!$I19,Calc!BE$3),"") | BF19: =IFERROR(INDEX(December!$AJ$9:$AM$108,Calc!$I19,Calc!BF$3),"") | BJ19: Status | BK19: Sign
B20: 2020 | C20: 1 | D20: January | E20: =DATE($E$6,C20,1) -> 44197 | F20: =EOMONTH(E20,0) -> 44227 | G20: =DAY(F20) -> 31 | I20: 15 | J20: =IF(LEN($D49)>0,$D49,"") | K20: =IFERROR(INDEX(January!$AJ$9:$AM$108,Calc!$I20,Calc!K$3),0) | L20: =IFERROR(INDEX(January!$AJ$9:$AM$108,Calc!$I20,Calc!L$3),0) | M20: =IFERROR(INDEX(January!$AJ$9:$AM$108,Calc!$I20,Calc!M$3),0) | N20: =IFERROR(INDEX(January!$AJ$9:$AM$108,Calc!$I20,Calc!N$3),0) | O20: =IFERROR(INDEX(February!$AJ$9:$AM$108,Calc!$I20,Calc!O$3),"") | P20: =IFERROR(INDEX(February!$AJ$9:$AM$108,Calc!$I20,Calc!P$3),"") | Q20: =IFERROR(INDEX(February!$AJ$9:$AM$108,Calc!$I20,Calc!Q$3),"") | R20: =IFERROR(INDEX(February!$AJ$9:$AM$108,Calc!$I20,Calc!R$3),"") | S20: =IFERROR(INDEX(March!$AJ$9:$AM$108,Calc!$I20,Calc!S$3),"") | T20: =IFERROR(INDEX(March!$AJ$9:$AM$108,Calc!$I20,Calc!T$3),"") | U20: =IFERROR(INDEX(March!$AJ$9:$AM$108,Calc!$I20,Calc!U$3),"") | V20: =IFERROR(INDEX(March!$AJ$9:$AM$108,Calc!$I20,Calc!V$3),"") | W20: =IFERROR(INDEX(April!$AJ$9:$AM$108,Calc!$I20,Calc!W$3),"") | X20: =IFERROR(INDEX(April!$AJ$9:$AM$108,Calc!$I20,Calc!X$3),"") | Y20: =IFERROR(INDEX(April!$AJ$9:$AM$108,Calc!$I20,Calc!Y$3),"") | Z20: =IFERROR(INDEX(April!$AJ$9:$AM$108,Calc!$I20,Calc!Z$3),"") | AA20: =IFERROR(INDEX(May!$AJ$9:$AM$108,Calc!$I20,Calc!AA$3),"") | AB20: =IFERROR(INDEX(May!$AJ$9:$AM$108,Calc!$I20,Calc!AB$3),"") | AC20: =IFERROR(INDEX(May!$AJ$9:$AM$108,Calc!$I20,Calc!AC$3),"") | AD20: =IFERROR(INDEX(May!$AJ$9:$AM$108,Calc!$I20,Calc!AD$3),"") | AE20: =IFERROR(INDEX(June!$AJ$9:$AM$108,Calc!$I20,Calc!AE$3),"") | AF20: =IFERROR(INDEX(June!$AJ$9:$AM$108,Calc!$I20,Calc!AF$3),"") | AG20: =IFERROR(INDEX(June!$AJ$9:$AM$108,Calc!$I20,Calc!AG$3),"") | AH20: =IFERROR(INDEX(June!$AJ$9:$AM$108,Calc!$I20,Calc!AH$3),"") | AI20: =IFERROR(INDEX(July!$AJ$9:$AM$108,Calc!$I20,Calc!AI$3),"") | AJ20: =IFERROR(INDEX(July!$AJ$9:$AM$108,Calc!$I20,Calc!AJ$3),"") | AK20: =IFERROR(INDEX(July!$AJ$9:$AM$108,Calc!$I20,Calc!AK$3),"") | AL20: =IFERROR(INDEX(July!$AJ$9:$AM$108,Calc!$I20,Calc!AL$3),"") | AM20: =IFERROR(INDEX(August!$AJ$9:$AM$108,Calc!$I20,Calc!AM$3),"") | AN20: =IFERROR(INDEX(August!$AJ$9:$AM$108,Calc!$I20,Calc!AN$3),"") | AO20: =IFERROR(INDEX(August!$AJ$9:$AM$108,Calc!$I20,Calc!AO$3),"") | AP20: =IFERROR(INDEX(August!$AJ$9:$AM$108,Calc!$I20,Calc!AP$3),"") | AQ20: =IFERROR(INDEX(September!$AJ$9:$AM$108,Calc!$I20,Calc!AQ$3),"") | AR20: =IFERROR(INDEX(September!$AJ$9:$AM$108,Calc!$I20,Calc!AR$3),"") | AS20: =IFERROR(INDEX(September!$AJ$9:$AM$108,Calc!$I20,Calc!AS$3),"") | AT20: =IFERROR(INDEX(September!$AJ$9:$AM$108,Calc!$I20,Calc!AT$3),"") | AU20: =IFERROR(INDEX(October!$AJ$9:$AM$108,Calc!$I20,Calc!AU$3),"") | AV20: =IFERROR(INDEX(October!$AJ$9:$AM$108,Calc!$I20,Calc!AV$3),"") | AW20: =IFERROR(INDEX(October!$AJ$9:$AM$108,Calc!$I20,Calc!AW$3),"") | AX20: =IFERROR(INDEX(October!$AJ$9:$AM$108,Calc!$I20,Calc!AX$3),"") | AY20: =IFERROR(INDEX(November!$AJ$9:$AM$108,Calc!$I20,Calc!AY$3),"") | AZ20: =IFERROR(INDEX(November!$AJ$9:$AM$108,Calc!$I20,Calc!AZ$3),"") | BA20: =IFERROR(INDEX(November!$AJ$9:$AM$108,Calc!$I20,Calc!BA$3),"") | BB20: =IFERROR(INDEX(November!$AJ$9:$AM$108,Calc!$I20,Calc!BB$3),"") | BC20: =IFERROR(INDEX(December!$AJ$9:$AM$108,Calc!$I20,Calc!BC$3),"") | BD20: =IFERROR(INDEX(December!$AJ$9:$AM$108,Calc!$I20,Calc!BD$3),"") | BE20: =IFERROR(INDEX(December!$AJ$9:$AM$108,Calc!$I20,Calc!BE$3),"") | BF20: =IFERROR(INDEX(December!$AJ$9:$AM$108,Calc!$I20,Calc!BF$3),"") | BJ20: =IFERROR(IF(LEN(Dashboard!$B10)>0,Dashboard!$B10,""),"") -> Attended | BK20: =IFERROR(IF(LEN(Dashboard!$C10)>0,Dashboard!$C10,""),"") -> A
B21: 2021 | C21: 2 | D21: February | E21: =DATE($E$6,C21,1) -> 44228 | F21: =EOMONTH(E21,0) -> 44255 | G21: =DAY(F21) -> 28 | I21: 16 | J21: =IF(LEN($D50)>0,$D50,"") | K21: =IFERROR(INDEX(January!$AJ$9:$AM$108,Calc!$I21,Calc!K$3),0) -> 0 | L21: =IFERROR(INDEX(January!$AJ$9:$AM$108,Calc!$I21,Calc!L$3),0) -> 0 | M21: =IFERROR(INDEX(January!$AJ$9:$AM$108,Calc!$I21,Calc!M$3),0) -> 0 | N21: =IFERROR(INDEX(January!$AJ$9:$AM$108,Calc!$I21,Calc!N$3),0) -> 0 | O21: =IFERROR(INDEX(February!$AJ$9:$AM$108,Calc!$I21,Calc!O$3),"") -> 0 | P21: =IFERROR(INDEX(February!$AJ$9:$AM$108,Calc!$I21,Calc!P$3),"") -> 0 | Q21: =IFERROR(INDEX(February!$AJ$9:$AM$108,Calc!$I21,Calc!Q$3),"") -> 0 | R21: =IFERROR(INDEX(February!$AJ$9:$AM$108,Calc!$I21,Calc!R$3),"") -> 0 | S21: =IFERROR(INDEX(March!$AJ$9:$AM$108,Calc!$I21,Calc!S$3),"") -> 0 | T21: =IFERROR(INDEX(March!$AJ$9:$AM$108,Calc!$I21,Calc!T$3),"") -> 0 | U21: =IFERROR(INDEX(March!$AJ$9:$AM$108,Calc!$I21,Calc!U$3),"") -> 0 | V21: =IFERROR(INDEX(March!$AJ$9:$AM$108,Calc!$I21,Calc!V$3),"") -> 0 | W21: =IFERROR(INDEX(April!$AJ$9:$AM$108,Calc!$I21,Calc!W$3),"") -> 0 | X21: =IFERROR(INDEX(April!$AJ$9:$AM$108,Calc!$I21,Calc!X$3),"") -> 0 | Y21: =IFERROR(INDEX(April!$AJ$9:$AM$108,Calc!$I21,Calc!Y$3),"") -> 0 | Z21: =IFERROR(INDEX(April!$AJ$9:$AM$108,Calc!$I21,Calc!Z$3),"") -> 0 | AA21: =IFERROR(INDEX(May!$AJ$9:$AM$108,Calc!$I21,Calc!AA$3),"") -> 0 | AB21: =IFERROR(INDEX(May!$AJ$9:$AM$108,Calc!$I21,Calc!AB$3),"") -> 0 | AC21: =IFERROR(INDEX(May!$AJ$9:$AM$108,Calc!$I21,Calc!AC$3),"") -> 0 | AD21: =IFERROR(INDEX(May!$AJ$9:$AM$108,Calc!$I21,Calc!AD$3),"") -> 0 | AE21: =IFERROR(INDEX(June!$AJ$9:$AM$108,Calc!$I21,Calc!AE$3),"") -> 0 | AF21: =IFERROR(INDEX(June!$AJ$9:$AM$108,Calc!$I21,Calc!AF$3),"") -> 0 | AG21: =IFERROR(INDEX(June!$AJ$9:$AM$108,Calc!$I21,Calc!AG$3),"") -> 0 | AH21: =IFERROR(INDEX(June!$AJ$9:$AM$108,Calc!$I21,Calc!AH$3),"") -> 0 | AI21: =IFERROR(INDEX(July!$AJ$9:$AM$108,Calc!$I21,Calc!AI$3),"") -> 0 | AJ21: =IFERROR(INDEX(July!$AJ$9:$AM$108,Calc!$I21,Calc!AJ$3),"") -> 0 | AK21: =IFERROR(INDEX(July!$AJ$9:$AM$108,Calc!$I21,Calc!AK$3),"") -> 0 | AL21: =IFERROR(INDEX(July!$AJ$9:$AM$108,Calc!$I21,Calc!AL$3),"") -> 0 | AM21: =IFERROR(INDEX(August!$AJ$9:$AM$108,Calc!$I21,Calc!AM$3),"") -> 0 | AN21: =IFERROR(INDEX(August!$AJ$9:$AM$108,Calc!$I21,Calc!AN$3),"") -> 0 | AO21: =IFERROR(INDEX(August!$AJ$9:$AM$108,Calc!$I21,Calc!AO$3),"") -> 0 | AP21: =IFERROR(INDEX(August!$AJ$9:$AM$108,Calc!$I21,Calc!AP$3),"") -> 0 | AQ21: =IFERROR(INDEX(September!$AJ$9:$AM$108,Calc!$I21,Calc!AQ$3),"") -> 0 | AR21: =IFERROR(INDEX(September!$AJ$9:$AM$108,Calc!$I21,Calc!AR$3),"") -> 0 | AS21: =IFERROR(INDEX(September!$AJ$9:$AM$108,Calc!$I21,Calc!AS$3),"") -> 0 | AT21: =IFERROR(INDEX(September!$AJ$9:$AM$108,Calc!$I21,Calc!AT$3),"") -> 0 | AU21: =IFERROR(INDEX(October!$AJ$9:$AM$108,Calc!$I21,Calc!AU$3),"") -> 0 | AV21: =IFERROR(INDEX(October!$AJ$9:$AM$108,Calc!$I21,Calc!AV$3),"") -> 0 | AW21: =IFERROR(INDEX(October!$AJ$9:$AM$108,Calc!$I21,Calc!AW$3),"") -> 0 | AX21: =IFERROR(INDEX(October!$AJ$9:$AM$108,Calc!$I21,Calc!AX$3),"") -> 0 | AY21: =IFERROR(INDEX(November!$AJ$9:$AM$108,Calc!$I21,Calc!AY$3),"") -> 0 | AZ21: =IFERROR(INDEX(November!$AJ$9:$AM$108,Calc!$I21,Calc!AZ$3),"") -> 0 | BA21: =IFERROR(INDEX(November!$AJ$9:$AM$108,Calc!$I21,Calc!BA$3),"") -> 0 | BB21: =IFERROR(INDEX(November!$AJ$9:$AM$108,Calc!$I21,Calc!BB$3),"") -> 0 | BC21: =IFERROR(INDEX(December!$AJ$9:$AM$108,Calc!$I21,Calc!BC$3),"") -> 0 | BD21: =IFERROR(INDEX(December!$AJ$9:$AM$108,Calc!$I21,Calc!BD$3),"") -> 0 | BE21: =IFERROR(INDEX(December!$AJ$9:$AM$108,Calc!$I21,Calc!BE$3),"") -> 0 | BF21: =IFERROR(INDEX(December!$AJ$9:$AM$108,Calc!$I21,Calc!BF$3),"") -> 0 | BJ21: =IFERROR(IF(LEN(Dashboard!$B11)>0,Dashboard!$B11,""),"") -> Not Attended | BK21: =IFERROR(IF(LEN(Dashboard!$C11)>0,Dashboard!$C11,""),"") -> N
B22: 2022 | C22: 3 | D22: March | E22: =DATE($E$6,C22,1) -> 44256 | F22: =EOMONTH(E22,0) -> 44286 | G22: =DAY(F22) -> 31 | I22: 17 | J22: =IF(LEN($D51)>0,$D51,"") | K22: =IFERROR(INDEX(January!$AJ$9:$AM$108,Calc!$I22,Calc!K$3),0) -> 0 | L22: =IFERROR(INDEX(January!$AJ$9:$AM$108,Calc!$I22,Calc!L$3),0) -> 0 | M22: =IFERROR(INDEX(January!$AJ$9:$AM$108,Calc!$I22,Calc!M$3),0) -> 0 | N22: =IFERROR(INDEX(January!$AJ$9:$AM$108,Calc!$I22,Calc!N$3),0) -> 0 | O22: =IFERROR(INDEX(February!$AJ$9:$AM$108,Calc!$I22,Calc!O$3),"") -> 0 | P22: =IFERROR(INDEX(February!$AJ$9:$AM$108,Calc!$I22,Calc!P$3),"") -> 0 | Q22: =IFERROR(INDEX(February!$AJ$9:$AM$108,Calc!$I22,Calc!Q$3),"") -> 0 | R22: =IFERROR(INDEX(February!$AJ$9:$AM$108,Calc!$I22,Calc!R$3),"") -> 0 | S22: =IFERROR(INDEX(March!$AJ$9:$AM$108,Calc!$I22,Calc!S$3),"") -> 0 | T22: =IFERROR(INDEX(March!$AJ$9:$AM$108,Calc!$I22,Calc!T$3),"") -> 0 | U22: =IFERROR(INDEX(March!$AJ$9:$AM$108,Calc!$I22,Calc!U$3),"") -> 0 | V22: =IFERROR(INDEX(March!$AJ$9:$AM$108,Calc!$I22,Calc!V$3),"") -> 0 | W22: =IFERROR(INDEX(April!$AJ$9:$AM$108,Calc!$I22,Calc!W$3),"") -> 0 | X22: =IFERROR(INDEX(April!$AJ$9:$AM$108,Calc!$I22,Calc!X$3),"") -> 0 | Y22: =IFERROR(INDEX(April!$AJ$9:$AM$108,Calc!$I22,Calc!Y$3),"") -> 0 | Z22: =IFERROR(INDEX(April!$AJ$9:$AM$108,Calc!$I22,Calc!Z$3),"") -> 0 | AA22: =IFERROR(INDEX(May!$AJ$9:$AM$108,Calc!$I22,Calc!AA$3),"") -> 0 | AB22: =IFERROR(INDEX(May!$AJ$9:$AM$108,Calc!$I22,Calc!AB$3),"") -> 0 | AC22: =IFERROR(INDEX(May!$AJ$9:$AM$108,Calc!$I22,Calc!AC$3),"") -> 0 | AD22: =IFERROR(INDEX(May!$AJ$9:$AM$108,Calc!$I22,Calc!AD$3),"") -> 0 | AE22: =IFERROR(INDEX(June!$AJ$9:$AM$108,Calc!$I22,Calc!AE$3),"") -> 0 | AF22: =IFERROR(INDEX(June!$AJ$9:$AM$108,Calc!$I22,Calc!AF$3),"") -> 0 | AG22: =IFERROR(INDEX(June!$AJ$9:$AM$108,Calc!$I22,Calc!AG$3),"") -> 0 | AH22: =IFERROR(INDEX(June!$AJ$9:$AM$108,Calc!$I22,Calc!AH$3),"") -> 0 | AI22: =IFERROR(INDEX(July!$AJ$9:$AM$108,Calc!$I22,Calc!AI$3),"") -> 0 | AJ22: =IFERROR(INDEX(July!$AJ$9:$AM$108,Calc!$I22,Calc!AJ$3),"") -> 0 | AK22: =IFERROR(INDEX(July!$AJ$9:$AM$108,Calc!$I22,Calc!AK$3),"") -> 0 | AL22: =IFERROR(INDEX(July!$AJ$9:$AM$108,Calc!$I22,Calc!AL$3),"") -> 0 | AM22: =IFERROR(INDEX(August!$AJ$9:$AM$108,Calc!$I22,Calc!AM$3),"") -> 0 | AN22: =IFERROR(INDEX(August!$AJ$9:$AM$108,Calc!$I22,Calc!AN$3),"") -> 0 | AO22: =IFERROR(INDEX(August!$AJ$9:$AM$108,Calc!$I22,Calc!AO$3),"") -> 0 | AP22: =IFERROR(INDEX(August!$AJ$9:$AM$108,Calc!$I22,Calc!AP$3),"") -> 0 | AQ22: =IFERROR(INDEX(September!$AJ$9:$AM$108,Calc!$I22,Calc!AQ$3),"") -> 0 | AR22: =IFERROR(INDEX(September!$AJ$9:$AM$108,Calc!$I22,Calc!AR$3),"") -> 0 | AS22: =IFERROR(INDEX(September!$AJ$9:$AM$108,Calc!$I22,Calc!AS$3),"") -> 0 | AT22: =IFERROR(INDEX(September!$AJ$9:$AM$108,Calc!$I22,Calc!AT$3),"") -> 0 | AU22: =IFERROR(INDEX(October!$AJ$9:$AM$108,Calc!$I22,Calc!AU$3),"") -> 0 | AV22: =IFERROR(INDEX(October!$AJ$9:$AM$108,Calc!$I22,Calc!AV$3),"") -> 0 | AW22: =IFERROR(INDEX(October!$AJ$9:$AM$108,Calc!$I22,Calc!AW$3),"") -> 0 | AX22: =IFERROR(INDEX(October!$AJ$9:$AM$108,Calc!$I22,Calc!AX$3),"") -> 0 | AY22: =IFERROR(INDEX(November!$AJ$9:$AM$108,Calc!$I22,Calc!AY$3),"") -> 0 | AZ22: =IFERROR(INDEX(November!$AJ$9:$AM$108,Calc!$I22,Calc!AZ$3),"") -> 0 | BA22: =IFERROR(INDEX(November!$AJ$9:$AM$108,Calc!$I22,Calc!BA$3),"") -> 0 | BB22: =IFERROR(INDEX(November!$AJ$9:$AM$108,Calc!$I22,Calc!BB$3),"") -> 0 | BC22: =IFERROR(INDEX(December!$AJ$9:$AM$108,Calc!$I22,Calc!BC$3),"") -> 0 | BD22: =IFERROR(INDEX(December!$AJ$9:$AM$108,Calc!$I22,Calc!BD$3),"") -> 0 | BE22: =IFERROR(INDEX(December!$AJ$9:$AM$108,Calc!$I22,Calc!BE$3),"") -> 0 | BF22: =IFERROR(INDEX(December!$AJ$9:$AM$108,Calc!$I22,Calc!BF$3),"") -> 0 | BJ22: =IFERROR(IF(LEN(Dashboard!$B12)>0,Dashboard!$B12,""),"") -> Tardy | BK22: =IFERROR(IF(LEN(Dashboard!$C12)>0,Dashboard!$C12,""),"") -> T
B23: 2023 | C23: 4 | D23: April | E23: =DATE($E$6,C23,1) -> 44287 | F23: =EOMONTH(E23,0) -> 44316 | G23: =DAY(F23) -> 30 | I23: 18 | J23: =IF(LEN($D52)>0,$D52,"") | K23: =IFERROR(INDEX(January!$AJ$9:$AM$108,Calc!$I23,Calc!K$3),0) -> 0 | L23: =IFERROR(INDEX(January!$AJ$9:$AM$108,Calc!$I23,Calc!L$3),0) -> 0 | M23: =IFERROR(INDEX(January!$AJ$9:$AM$108,Calc!$I23,Calc!M$3),0) -> 0 | N23: =IFERROR(INDEX(January!$AJ$9:$AM$108,Calc!$I23,Calc!N$3),0) -> 0 | O23: =IFERROR(INDEX(February!$AJ$9:$AM$108,Calc!$I23,Calc!O$3),"") -> 0 | P23: =IFERROR(INDEX(February!$AJ$9:$AM$108,Calc!$I23,Calc!P$3),"") -> 0 | Q23: =IFERROR(INDEX(February!$AJ$9:$AM$108,Calc!$I23,Calc!Q$3),"") -> 0 | R23: =IFERROR(INDEX(February!$AJ$9:$AM$108,Calc!$I23,Calc!R$3),"") -> 0 | S23: =IFERROR(INDEX(March!$AJ$9:$AM$108,Calc!$I23,Calc!S$3),"") -> 0 | T23: =IFERROR(INDEX(March!$AJ$9:$AM$108,Calc!$I23,Calc!T$3),"") -> 0 | U23: =IFERROR(INDEX(March!$AJ$9:$AM$108,Calc!$I23,Calc!U$3),"") -> 0 | V23: =IFERROR(INDEX(March!$AJ$9:$AM$108,Calc!$I23,Calc!V$3),"") -> 0 | W23: =IFERROR(INDEX(April!$AJ$9:$AM$108,Calc!$I23,Calc!W$3),"") -> 0 | X23: =IFERROR(INDEX(April!$AJ$9:$AM$108,Calc!$I23,Calc!X$3),"") -> 0 | Y23: =IFERROR(INDEX(April!$AJ$9:$AM$108,Calc!$I23,Calc!Y$3),"") -> 0 | Z23: =IFERROR(INDEX(April!$AJ$9:$AM$108,Calc!$I23,Calc!Z$3),"") -> 0 | AA23: =IFERROR(INDEX(May!$AJ$9:$AM$108,Calc!$I23,Calc!AA$3),"") -> 0 | AB23: =IFERROR(INDEX(May!$AJ$9:$AM$108,Calc!$I23,Calc!AB$3),"") -> 0 | AC23: =IFERROR(INDEX(May!$AJ$9:$AM$108,Calc!$I23,Calc!AC$3),"") -> 0 | AD23: =IFERROR(INDEX(May!$AJ$9:$AM$108,Calc!$I23,Calc!AD$3),"") -> 0 | AE23: =IFERROR(INDEX(June!$AJ$9:$AM$108,Calc!$I23,Calc!AE$3),"") -> 0 | AF23: =IFERROR(INDEX(June!$AJ$9:$AM$108,Calc!$I23,Calc!AF$3),"") -> 0 | AG23: =IFERROR(INDEX(June!$AJ$9:$AM$108,Calc!$I23,Calc!AG$3),"") -> 0 | AH23: =IFERROR(INDEX(June!$AJ$9:$AM$108,Calc!$I23,Calc!AH$3),"") -> 0 | AI23: =IFERROR(INDEX(July!$AJ$9:$AM$108,Calc!$I23,Calc!AI$3),"") -> 0 | AJ23: =IFERROR(INDEX(July!$AJ$9:$AM$108,Calc!$I23,Calc!AJ$3),"") -> 0 | AK23: =IFERROR(INDEX(July!$AJ$9:$AM$108,Calc!$I23,Calc!AK$3),"") -> 0 | AL23: =IFERROR(INDEX(July!$AJ$9:$AM$108,Calc!$I23,Calc!AL$3),"") -> 0 | AM23: =IFERROR(INDEX(August!$AJ$9:$AM$108,Calc!$I23,Calc!AM$3),"") -> 0 | AN23: =IFERROR(INDEX(August!$AJ$9:$AM$108,Calc!$I23,Calc!AN$3),"") -> 0 | AO23: =IFERROR(INDEX(August!$AJ$9:$AM$108,Calc!$I23,Calc!AO$3),"") -> 0 | AP23: =IFERROR(INDEX(August!$AJ$9:$AM$108,Calc!$I23,Calc!AP$3),"") -> 0 | AQ23: =IFERROR(INDEX(September!$AJ$9:$AM$108,Calc!$I23,Calc!AQ$3),"") -> 0 | AR23: =IFERROR(INDEX(September!$AJ$9:$AM$108,Calc!$I23,Calc!AR$3),"") -> 0 | AS23: =IFERROR(INDEX(September!$AJ$9:$AM$108,Calc!$I23,Calc!AS$3),"") -> 0 | AT23: =IFERROR(INDEX(September!$AJ$9:$AM$108,Calc!$I23,Calc!AT$3),"") -> 0 | AU23: =IFERROR(INDEX(October!$AJ$9:$AM$108,Calc!$I23,Calc!AU$3),"") -> 0 | AV23: =IFERROR(INDEX(October!$AJ$9:$AM$108,Calc!$I23,Calc!AV$3),"") -> 0 | AW23: =IFERROR(INDEX(October!$AJ$9:$AM$108,Calc!$I23,Calc!AW$3),"") -> 0 | AX23: =IFERROR(INDEX(October!$AJ$9:$AM$108,Calc!$I23,Calc!AX$3),"") -> 0 | AY23: =IFERROR(INDEX(November!$AJ$9:$AM$108,Calc!$I23,Calc!AY$3),"") -> 0 | AZ23: =IFERROR(INDEX(November!$AJ$9:$AM$108,Calc!$I23,Calc!AZ$3),"") -> 0 | BA23: =IFERROR(INDEX(November!$AJ$9:$AM$108,Calc!$I23,Calc!BA$3),"") -> 0 | BB23: =IFERROR(INDEX(November!$AJ$9:$AM$108,Calc!$I23,Calc!BB$3),"") -> 0 | BC23: =IFERROR(INDEX(December!$AJ$9:$AM$108,Calc!$I23,Calc!BC$3),"") -> 0 | BD23: =IFERROR(INDEX(December!$AJ$9:$AM$108,Calc!$I23,Calc!BD$3),"") -> 0 | BE23: =IFERROR(INDEX(December!$AJ$9:$AM$108,Calc!$I23,Calc!BE$3),"") -> 0 | BF23: =IFERROR(INDEX(December!$AJ$9:$AM$108,Calc!$I23,Calc!BF$3),"") -> 0 | BJ23: =IFERROR(IF(LEN(Dashboard!$B13)>0,Dashboard!$B13,""),"") | BK23: =IFERROR(IF(LEN(Dashboard!$C13)>0,Dashboard!$C13,""),"")
B24: 2024 | C24: 5 | D24: May | E24: =DATE($E$6,C24,1) -> 44317 | F24: =EOMONTH(E24,0) -> 44347 | G24: =DAY(F24) -> 31 | I24: 19 | J24: =IF(LEN($D53)>0,$D53,"") | K24: =IFERROR(INDEX(January!$AJ$9:$AM$108,Calc!$I24,Calc!K$3),0) -> 0 | L24: =IFERROR(INDEX(January!$AJ$9:$AM$108,Calc!$I24,Calc!L$3),0) -> 0 | M24: =IFERROR(INDEX(January!$AJ$9:$AM$108,Calc!$I24,Calc!M$3),0) -> 0 | N24: =IFERROR(INDEX(January!$AJ$9:$AM$108,Calc!$I24,Calc!N$3),0) -> 0 | O24: =IFERROR(INDEX(February!$AJ$9:$AM$108,Calc!$I24,Calc!O$3),"") -> 0 | P24: =IFERROR(INDEX(February!$AJ$9:$AM$108,Calc!$I24,Calc!P$3),"") -> 0 | Q24: =IFERROR(INDEX(February!$AJ$9:$AM$108,Calc!$I24,Calc!Q$3),"") -> 0 | R24: =IFERROR(INDEX(February!$AJ$9:$AM$108,Calc!$I24,Calc!R$3),"") -> 0 | S24: =IFERROR(INDEX(March!$AJ$9:$AM$108,Calc!$I24,Calc!S$3),"") -> 0 | T24: =IFERROR(INDEX(March!$AJ$9:$AM$108,Calc!$I24,Calc!T$3),"") -> 0 | U24: =IFERROR(INDEX(March!$AJ$9:$AM$108,Calc!$I24,Calc!U$3),"") -> 0 | V24: =IFERROR(INDEX(March!$AJ$9:$AM$108,Calc!$I24,Calc!V$3),"") -> 0 | W24: =IFERROR(INDEX(April!$AJ$9:$AM$108,Calc!$I24,Calc!W$3),"") -> 0 | X24: =IFERROR(INDEX(April!$AJ$9:$AM$108,Calc!$I24,Calc!X$3),"") -> 0 | Y24: =IFERROR(INDEX(April!$AJ$9:$AM$108,Calc!$I24,Calc!Y$3),"") -> 0 | Z24: =IFERROR(INDEX(April!$AJ$9:$AM$108,Calc!$I24,Calc!Z$3),"") -> 0 | AA24: =IFERROR(INDEX(May!$AJ$9:$AM$108,Calc!$I24,Calc!AA$3),"") -> 0 | AB24: =IFERROR(INDEX(May!$AJ$9:$AM$108,Calc!$I24,Calc!AB$3),"") -> 0 | AC24: =IFERROR(INDEX(May!$AJ$9:$AM$108,Calc!$I24,Calc!AC$3),"") -> 0 | AD24: =IFERROR(INDEX(May!$AJ$9:$AM$108,Calc!$I24,Calc!AD$3),"") -> 0 | AE24: =IFERROR(INDEX(June!$AJ$9:$AM$108,Calc!$I24,Calc!AE$3),"") -> 0 | AF24: =IFERROR(INDEX(June!$AJ$9:$AM$108,Calc!$I24,Calc!AF$3),"") -> 0 | AG24: =IFERROR(INDEX(June!$AJ$9:$AM$108,Calc!$I24,Calc!AG$3),"") -> 0 | AH24: =IFERROR(INDEX(June!$AJ$9:$AM$108,Calc!$I24,Calc!AH$3),"") -> 0 | AI24: =IFERROR(INDEX(July!$AJ$9:$AM$108,Calc!$I24,Calc!AI$3),"") -> 0 | AJ24: =IFERROR(INDEX(July!$AJ$9:$AM$108,Calc!$I24,Calc!AJ$3),"") -> 0 | AK24: =IFERROR(INDEX(July!$AJ$9:$AM$108,Calc!$I24,Calc!AK$3),"") -> 0 | AL24: =IFERROR(INDEX(July!$AJ$9:$AM$108,Calc!$I24,Calc!AL$3),"") -> 0 | AM24: =IFERROR(INDEX(August!$AJ$9:$AM$108,Calc!$I24,Calc!AM$3),"") -> 0 | AN24: =IFERROR(INDEX(August!$AJ$9:$AM$108,Calc!$I24,Calc!AN$3),"") -> 0 | AO24: =IFERROR(INDEX(August!$AJ$9:$AM$108,Calc!$I24,Calc!AO$3),"") -> 0 | AP24: =IFERROR(INDEX(August!$AJ$9:$AM$108,Calc!$I24,Calc!AP$3),"") -> 0 | AQ24: =IFERROR(INDEX(September!$AJ$9:$AM$108,Calc!$I24,Calc!AQ$3),"") -> 0 | AR24: =IFERROR(INDEX(September!$AJ$9:$AM$108,Calc!$I24,Calc!AR$3),"") -> 0 | AS24: =IFERROR(INDEX(September!$AJ$9:$AM$108,Calc!$I24,Calc!AS$3),"") -> 0 | AT24: =IFERROR(INDEX(September!$AJ$9:$AM$108,Calc!$I24,Calc!AT$3),"") -> 0 | AU24: =IFERROR(INDEX(October!$AJ$9:$AM$108,Calc!$I24,Calc!AU$3),"") -> 0 | AV24: =IFERROR(INDEX(October!$AJ$9:$AM$108,Calc!$I24,Calc!AV$3),"") -> 0 | AW24: =IFERROR(INDEX(October!$AJ$9:$AM$108,Calc!$I24,Calc!AW$3),"") -> 0 | AX24: =IFERROR(INDEX(October!$AJ$9:$AM$108,Calc!$I24,Calc!AX$3),"") -> 0 | AY24: =IFERROR(INDEX(November!$AJ$9:$AM$108,Calc!$I24,Calc!AY$3),"") -> 0 | AZ24: =IFERROR(INDEX(November!$AJ$9:$AM$108,Calc!$I24,Calc!AZ$3),"") -> 0 | BA24: =IFERROR(INDEX(November!$AJ$9:$AM$108,Calc!$I24,Calc!BA$3),"") -> 0 | BB24: =IFERROR(INDEX(November!$AJ$9:$AM$108,Calc!$I24,Calc!BB$3),"") -> 0 | BC24: =IFERROR(INDEX(December!$AJ$9:$AM$108,Calc!$I24,Calc!BC$3),"") -> 0 | BD24: =IFERROR(INDEX(December!$AJ$9:$AM$108,Calc!$I24,Calc!BD$3),"") -> 0 | BE24: =IFERROR(INDEX(December!$AJ$9:$AM$108,Calc!$I24,Calc!BE$3),"") -> 0 | BF24: =IFERROR(INDEX(December!$AJ$9:$AM$108,Calc!$I24,Calc!BF$3),"") -> 0
B25: 2025 | C25: 6 | D25: June | E25: =DATE($E$6,C25,1) -> 44348 | F25: =EOMONTH(E25,0) -> 44377 | G25: =DAY(F25) -> 30 | I25: 20 | J25: =IF(LEN($D54)>0,$D54,"") | K25: =IFERROR(INDEX(January!$AJ$9:$AM$108,Calc!$I25,Calc!K$3),0) -> 0 | L25: =IFERROR(INDEX(January!$AJ$9:$AM$108,Calc!$I25,Calc!L$3),0) -> 0 | M25: =IFERROR(INDEX(January!$AJ$9:$AM$108,Calc!$I25,Calc!M$3),0) -> 0 | N25: =IFERROR(INDEX(January!$AJ$9:$AM$108,Calc!$I25,Calc!N$3),0) -> 0 | O25: =IFERROR(INDEX(February!$AJ$9:$AM$108,Calc!$I25,Calc!O$3),"") -> 0 | P25: =IFERROR(INDEX(February!$AJ$9:$AM$108,Calc!$I25,Calc!P$3),"") -> 0 | Q25: =IFERROR(INDEX(February!$AJ$9:$AM$108,Calc!$I25,Calc!Q$3),"") -> 0 | R25: =IFERROR(INDEX(February!$AJ$9:$AM$108,Calc!$I25,Calc!R$3),"") -> 0 | S25: =IFERROR(INDEX(March!$AJ$9:$AM$108,Calc!$I25,Calc!S$3),"") -> 0 | T25: =IFERROR(INDEX(March!$AJ$9:$AM$108,Calc!$I25,Calc!T$3),"") -> 0 | U25: =IFERROR(INDEX(March!$AJ$9:$AM$108,Calc!$I25,Calc!U$3),"") -> 0 | V25: =IFERROR(INDEX(March!$AJ$9:$AM$108,Calc!$I25,Calc!V$3),"") -> 0 | W25: =IFERROR(INDEX(April!$AJ$9:$AM$108,Calc!$I25,Calc!W$3),"") -> 0 | X25: =IFERROR(INDEX(April!$AJ$9:$AM$108,Calc!$I25,Calc!X$3),"") -> 0 | Y25: =IFERROR(INDEX(April!$AJ$9:$AM$108,Calc!$I25,Calc!Y$3),"") -> 0 | Z25: =IFERROR(INDEX(April!$AJ$9:$AM$108,Calc!$I25,Calc!Z$3),"") -> 0 | AA25: =IFERROR(INDEX(May!$AJ$9:$AM$108,Calc!$I25,Calc!AA$3),"") -> 0 | AB25: =IFERROR(INDEX(May!$AJ$9:$AM$108,Calc!$I25,Calc!AB$3),"") -> 0 | AC25: =IFERROR(INDEX(May!$AJ$9:$AM$108,Calc!$I25,Calc!AC$3),"") -> 0 | AD25: =IFERROR(INDEX(May!$AJ$9:$AM$108,Calc!$I25,Calc!AD$3),"") -> 0 | AE25: =IFERROR(INDEX(June!$AJ$9:$AM$108,Calc!$I25,Calc!AE$3),"") -> 0 | AF25: =IFERROR(INDEX(June!$AJ$9:$AM$108,Calc!$I25,Calc!AF$3),"") -> 0 | AG25: =IFERROR(INDEX(June!$AJ$9:$AM$108,Calc!$I25,Calc!AG$3),"") -> 0 | AH25: =IFERROR(INDEX(June!$AJ$9:$AM$108,Calc!$I25,Calc!AH$3),"") -> 0 | AI25: =IFERROR(INDEX(July!$AJ$9:$AM$108,Calc!$I25,Calc!AI$3),"") -> 0 | AJ25: =IFERROR(INDEX(July!$AJ$9:$AM$108,Calc!$I25,Calc!AJ$3),"") -> 0 | AK25: =IFERROR(INDEX(July!$AJ$9:$AM$108,Calc!$I25,Calc!AK$3),"") -> 0 | AL25: =IFERROR(INDEX(July!$AJ$9:$AM$108,Calc!$I25,Calc!AL$3),"") -> 0 | AM25: =IFERROR(INDEX(August!$AJ$9:$AM$108,Calc!$I25,Calc!AM$3),"") -> 0 | AN25: =IFERROR(INDEX(August!$AJ$9:$AM$108,Calc!$I25,Calc!AN$3),"") -> 0 | AO25: =IFERROR(INDEX(August!$AJ$9:$AM$108,Calc!$I25,Calc!AO$3),"") -> 0 | AP25: =IFERROR(INDEX(August!$AJ$9:$AM$108,Calc!$I25,Calc!AP$3),"") -> 0 | AQ25: =IFERROR(INDEX(September!$AJ$9:$AM$108,Calc!$I25,Calc!AQ$3),"") -> 0 | AR25: =IFERROR(INDEX(September!$AJ$9:$AM$108,Calc!$I25,Calc!AR$3),"") -> 0 | AS25: =IFERROR(INDEX(September!$AJ$9:$AM$108,Calc!$I25,Calc!AS$3),"") -> 0 | AT25: =IFERROR(INDEX(September!$AJ$9:$AM$108,Calc!$I25,Calc!AT$3),"") -> 0 | AU25: =IFERROR(INDEX(October!$AJ$9:$AM$108,Calc!$I25,Calc!AU$3),"") -> 0 | AV25: =IFERROR(INDEX(October!$AJ$9:$AM$108,Calc!$I25,Calc!AV$3),"") -> 0 | AW25: =IFERROR(INDEX(October!$AJ$9:$AM$108,Calc!$I25,Calc!AW$3),"") -> 0 | AX25: =IFERROR(INDEX(October!$AJ$9:$AM$108,Calc!$I25,Calc!AX$3),"") -> 0 | AY25: =IFERROR(INDEX(November!$AJ$9:$AM$108,Calc!$I25,Calc!AY$3),"") -> 0 | AZ25: =IFERROR(INDEX(November!$AJ$9:$AM$108,Calc!$I25,Calc!AZ$3),"") -> 0 | BA25: =IFERROR(INDEX(November!$AJ$9:$AM$108,Calc!$I25,Calc!BA$3),"") -> 0 | BB25: =IFERROR(INDEX(November!$AJ$9:$AM$108,Calc!$I25,Calc!BB$3),"") -> 0 | BC25: =IFERROR(INDEX(December!$AJ$9:$AM$108,Calc!$I25,Calc!BC$3),"") -> 0 | BD25: =IFERROR(INDEX(December!$AJ$9:$AM$108,Calc!$I25,Calc!BD$3),"") -> 0 | BE25: =IFERROR(INDEX(December!$AJ$9:$AM$108,Calc!$I25,Calc!BE$3),"") -> 0 | BF25: =IFERROR(INDEX(December!$AJ$9:$AM$108,Calc!$I25,Calc!BF$3),"") -> 0 | BJ25: Day List | BK25: Day Name
