Workbook
Name week_start_day: Dashboard!$O$5

Sheet Dashboard
D2: EXCEL CALENDAR TEMPLATE
D3: CALENDAR
B5: YEAR | F5: 2022 | K5: Week Starting Day : | O5: Monday
C9: January | H9: =IFERROR(IF(LEN($F$5)>0,$F$5,""),"") -> 2022 | K9: February | P9: =IFERROR(IF(LEN($F$5)>0,$F$5,""),"") -> 2022 | S9: March | X9: =IFERROR(IF(LEN($F$5)>0,$F$5,""),"") -> 2022 | AA9: April | AF9: =IFERROR(IF(LEN($F$5)>0,$F$5,""),"") -> 2022
C10: =IFERROR(INDEX(Calc!$J$5:$K$11,MATCH(week_start_day,Calc!$J$5:$J$11,0),2),"") -> Mon | D10: {=IFERROR(INDEX(Calc!$K$5:$K$18,MATCH(C$10,Calc!$K$5:$K$18,0)+1,1),"")} -> Tue | E10: {=IFERROR(INDEX(Calc!$K$5:$K$18,MATCH(D$10,Calc!$K$5:$K$18,0)+1,1),"")} -> Wed | F10: {=IFERROR(INDEX(Calc!$K$5:$K$18,MATCH(E$10,Calc!$K$5:$K$18,0)+1,1),"")} -> Thu | G10: {=IFERROR(INDEX(Calc!$K$5:$K$18,MATCH(F$10,Calc!$K$5:$K$18,0)+1,1),"")} -> Fri | H10: {=IFERROR(INDEX(Calc!$K$5:$K$18,MATCH(G$10,Calc!$K$5:$K$18,0)+1,1),"")} -> Sat | I10: {=IFERROR(INDEX(Calc!$K$5:$K$18,MATCH(H$10,Calc!$K$5:$K$18,0)+1,1),"")} -> Sun | K10: =IFERROR(INDEX(Calc!$J$5:$K$11,MATCH(week_start_day,Calc!$J$5:$J$11,0),2),"") -> Mon | L10: {=IFERROR(INDEX(Calc!$K$5:$K$18,MATCH(K$10,Calc!$K$5:$K$18,0)+1,1),"")} -> Tue | M10: {=IFERROR(INDEX(Calc!$K$5:$K$18,MATCH(L$10,Calc!$K$5:$K$18,0)+1,1),"")} -> Wed | N10: {=IFERROR(INDEX(Calc!$K$5:$K$18,MATCH(M$10,Calc!$K$5:$K$18,0)+1,1),"")} -> Thu | O10: {=IFERROR(INDEX(Calc!$K$5:$K$18,MATCH(N$10,Calc!$K$5:$K$18,0)+1,1),"")} -> Fri | P10: {=IFERROR(INDEX(Calc!$K$5:$K$18,MATCH(O$10,Calc!$K$5:$K$18,0)+1,1),"")} -> Sat | Q10: {=IFERROR(INDEX(Calc!$K$5:$K$18,MATCH(P$10,Calc!$K$5:$K$18,0)+1,1),"")} -> Sun | S10: =IFERROR(INDEX(Calc!$J$5:$K$11,MATCH(week_start_day,Calc!$J$5:$J$11,0),2),"") -> Mon | T10: {=IFERROR(INDEX(Calc!$K$5:$K$18,MATCH(S$10,Calc!$K$5:$K$18,0)+1,1),"")} -> Tue | U10: {=IFERROR(INDEX(Calc!$K$5:$K$18,MATCH(T$10,Calc!$K$5:$K$18,0)+1,1),"")} -> Wed | V10: {=IFERROR(INDEX(Calc!$K$5:$K$18,MATCH(U$10,Calc!$K$5:$K$18,0)+1,1),"")} -> Thu | W10: {=IFERROR(INDEX(Calc!$K$5:$K$18,MATCH(V$10,Calc!$K$5:$K$18,0)+1,1),"")} -> Fri | X10: {=IFERROR(INDEX(Calc!$K$5:$K$18,MATCH(W$10,Calc!$K$5:$K$18,0)+1,1),"")} -> Sat | Y10: {=IFERROR(INDEX(Calc!$K$5:$K$18,MATCH(X$10,Calc!$K$5:$K$18,0)+1,1),"")} -> Sun | AA10: =IFERROR(INDEX(Calc!$J$5:$K$11,MATCH(week_start_day,Calc!$J$5:$J$11,0),2),"") -> Mon | AB10: {=IFERROR(INDEX(Calc!$K$5:$K$18,MATCH(AA$10,Calc!$K$5:$K$18,0)+1,1),"")} -> Tue | AC10: {=IFERROR(INDEX(Calc!$K$5:$K$18,MATCH(AB$10,Calc!$K$5:$K$18,0)+1,1),"")} -> Wed | AD10: {=IFERROR(INDEX(Calc!$K$5:$K$18,MATCH(AC$10,Calc!$K$5:$K$18,0)+1,1),"")} -> Thu | AE10: {=IFERROR(INDEX(Calc!$K$5:$K$18,MATCH(AD$10,Calc!$K$5:$K$18,0)+1,1),"")} -> Fri | AF10: {=IFERROR(INDEX(Calc!$K$5:$K$18,MATCH(AE$10,Calc!$K$5:$K$18,0)+1,1),"")} -> Sat | AG10: {=IFERROR(INDEX(Calc!$K$5:$K$18,MATCH(AF$10,Calc!$K$5:$K$18,0)+1,1),"")} -> Sun
C11: =IFERROR(IF(WEEKDAY(Calc!$B$5,11)=MATCH(C10,Calc!$K$5:$K$11,0),Calc!$B$5,""),"") | D11: =IFERROR(IF(LEN(C11)>0,C11+1,IF(WEEKDAY(Calc!$B$5,11)=MATCH(D10,Calc!$K$5:$K$11,0),Calc!$B$5,"")),"") | E11: =IFERROR(IF(LEN(D11)>0,D11+1,IF(WEEKDAY(Calc!$B$5,11)=MATCH(E10,Calc!$K$5:$K$11,0),Calc!$B$5,"")),"") | F11: =IFERROR(IF(LEN(E11)>0,E11+1,IF(WEEKDAY(Calc!$B$5,11)=MATCH(F10,Calc!$K$5:$K$11,0),Calc!$B$5,"")),"") | G11: =IFERROR(IF(LEN(F11)>0,F11+1,IF(WEEKDAY(Calc!$B$5,11)=MATCH(G10,Calc!$K$5:$K$11,0),Calc!$B$5,"")),"") | H11: =IFERROR(IF(LEN(G11)>0,G11+1,IF(WEEKDAY(Calc!$B$5,11)=MATCH(H10,Calc!$K$5:$K$11,0),Calc!$B$5,"")),"") -> 44562 | I11: =IFERROR(IF(LEN(H11)>0,H11+1,IF(WEEKDAY(Calc!$B$5,11)=MATCH(I10,Calc!$K$5:$K$11,0),Calc!$B$5,"")),"") -> 44563 | K11: =IFERROR(IF(WEEKDAY(Calc!$B$6,11)=MATCH(K10,Calc!$K$5:$K$11,0),Calc!$B$6,""),"") | L11: =IFERROR(IF(LEN(K11)>0,K11+1,IF(WEEKDAY(Calc!$B$6,11)=MATCH(L10,Calc!$K$5:$K$11,0),Calc!$B$6,"")),"") -> 44593 | M11: =IFERROR(IF(LEN(L11)>0,L11+1,IF(WEEKDAY(Calc!$B$6,11)=MATCH(M10,Calc!$K$5:$K$11,0),Calc!$B$6,"")),"") -> 44594 | N11: =IFERROR(IF(LEN(M11)>0,M11+1,IF(WEEKDAY(Calc!$B$6,11)=MATCH(N10,Calc!$K$5:$K$11,0),Calc!$B$6,"")),"") -> 44595 | O11: =IFERROR(IF(LEN(N11)>0,N11+1,IF(WEEKDAY(Calc!$B$6,11)=MATCH(O10,Calc!$K$5:$K$11,0),Calc!$B$6,"")),"") -> 44596 | P11: =IFERROR(IF(LEN(O11)>0,O11+1,IF(WEEKDAY(Calc!$B$6,11)=MATCH(P10,Calc!$K$5:$K$11,0),Calc!$B$6,"")),"") -> 44597 | Q11: =IFERROR(IF(LEN(P11)>0,P11+1,IF(WEEKDAY(Calc!$B$6,11)=MATCH(Q10,Calc!$K$5:$K$11,0),Calc!$B$6,"")),"") -> 44598 | S11: =IFERROR(IF(WEEKDAY(Calc!$B$7,11)=MATCH(S10,Calc!$K$5:$K$11,0),Calc!$B$7,""),"") | T11: =IFERROR(IF(LEN(S11)>0,S11+1,IF(WEEKDAY(Calc!$B$7,11)=MATCH(T10,Calc!$K$5:$K$11,0),Calc!$B$7,"")),"") -> 44621 | U11: =IFERROR(IF(LEN(T11)>0,T11+1,IF(WEEKDAY(Calc!$B$7,11)=MATCH(U10,Calc!$K$5:$K$11,0),Calc!$B$7,"")),"") -> 44622 | V11: =IFERROR(IF(LEN(U11)>0,U11+1,IF(WEEKDAY(Calc!$B$7,11)=MATCH(V10,Calc!$K$5:$K$11,0),Calc!$B$7,"")),"") -> 44623 | W11: =IFERROR(IF(LEN(V11)>0,V11+1,IF(WEEKDAY(Calc!$B$7,11)=MATCH(W10,Calc!$K$5:$K$11,0),Calc!$B$7,"")),"") -> 44624 | X11: =IFERROR(IF(LEN(W11)>0,W11+1,IF(WEEKDAY(Calc!$B$7,11)=MATCH(X10,Calc!$K$5:$K$11,0),Calc!$B$7,"")),"") -> 44625 | Y11: =IFERROR(IF(LEN(X11)>0,X11+1,IF(WEEKDAY(Calc!$B$7,11)=MATCH(Y10,Calc!$K$5:$K$11,0),Calc!$B$7,"")),"") -> 44626 | AA11: =IFERROR(IF(WEEKDAY(Calc!$B$8,11)=MATCH(AA10,Calc!$K$5:$K$11,0),Calc!$B$8,""),"") | AB11: =IFERROR(IF(LEN(AA11)>0,AA11+1,IF(WEEKDAY(Calc!$B$8,11)=MATCH(AB10,Calc!$K$5:$K$11,0),Calc!$B$8,"")),"") | AC11: =IFERROR(IF(LEN(AB11)>0,AB11+1,IF(WEEKDAY(Calc!$B$8,11)=MATCH(AC10,Calc!$K$5:$K$11,0),Calc!$B$8,"")),"") | AD11: =IFERROR(IF(LEN(AC11)>0,AC11+1,IF(WEEKDAY(Calc!$B$8,11)=MATCH(AD10,Calc!$K$5:$K$11,0),Calc!$B$8,"")),"") | AE11: =IFERROR(IF(LEN(AD11)>0,AD11+1,IF(WEEKDAY(Calc!$B$8,11)=MATCH(AE10,Calc!$K$5:$K$11,0),Calc!$B$8,"")),"") -> 44652 | AF11: =IFERROR(IF(LEN(AE11)>0,AE11+1,IF(WEEKDAY(Calc!$B$8,11)=MATCH(AF10,Calc!$K$5:$K$11,0),Calc!$B$8,"")),"") -> 44653 | AG11: =IFERROR(IF(LEN(AF11)>0,AF11+1,IF(WEEKDAY(Calc!$B$8,11)=MATCH(AG10,Calc!$K$5:$K$11,0),Calc!$B$8,"")),"") -> 44654
C12: =IF(LEN(I11)<1,"",IF(MONTH(I11+1)=MONTH(I11),I11+1,"")) -> 44564 | D12: =IF(LEN(C12)<1,"",IF(MONTH(C12+1)=MONTH(C12),C12+1,"")) -> 44565 | E12: =IF(LEN(D12)<1,"",IF(MONTH(D12+1)=MONTH(D12),D12+1,"")) -> 44566 | F12: =IF(LEN(E12)<1,"",IF(MONTH(E12+1)=MONTH(E12),E12+1,"")) -> 44567 | G12: =IF(LEN(F12)<1,"",IF(MONTH(F12+1)=MONTH(F12),F12+1,"")) -> 44568 | H12: =IF(LEN(G12)<1,"",IF(MONTH(G12+1)=MONTH(G12),G12+1,"")) -> 44569 | I12: =IF(LEN(H12)<1,"",IF(MONTH(H12+1)=MONTH(H12),H12+1,"")) -> 44570 | K12: =IF(LEN(Q11)<1,"",IF(MONTH(Q11+1)=MONTH(Q11),Q11+1,"")) -> 44599 | L12: =IF(LEN(K12)<1,"",IF(MONTH(K12+1)=MONTH(K12),K12+1,"")) -> 44600 | M12: =IF(LEN(L12)<1,"",IF(MONTH(L12+1)=MONTH(L12),L12+1,"")) -> 44601 | N12: =IF(LEN(M12)<1,"",IF(MONTH(M12+1)=MONTH(M12),M12+1,"")) -> 44602 | O12: =IF(LEN(N12)<1,"",IF(MONTH(N12+1)=MONTH(N12),N12+1,"")) -> 44603 | P12: =IF(LEN(O12)<1,"",IF(MONTH(O12+1)=MONTH(O12),O12+1,"")) -> 44604 | Q12: =IF(LEN(P12)<1,"",IF(MONTH(P12+1)=MONTH(P12),P12+1,"")) -> 44605 | S12: =IF(LEN(Y11)<1,"",IF(MONTH(Y11+1)=MONTH(Y11),Y11+1,"")) -> 44627 | T12: =IF(LEN(S12)<1,"",IF(MONTH(S12+1)=MONTH(S12),S12+1,"")) -> 44628 | U12: =IF(LEN(T12)<1,"",IF(MONTH(T12+1)=MONTH(T12),T12+1,"")) -> 44629 | V12: =IF(LEN(U12)<1,"",IF(MONTH(U12+1)=MONTH(U12),U12+1,"")) -> 44630 | W12: =IF(LEN(V12)<1,"",IF(MONTH(V12+1)=MONTH(V12),V12+1,"")) -> 44631 | X12: =IF(LEN(W12)<1,"",IF(MONTH(W12+1)=MONTH(W12),W12+1,"")) -> 44632 | Y12: =IF(LEN(X12)<1,"",IF(MONTH(X12+1)=MONTH(X12),X12+1,"")) -> 44633 | AA12: =IF(LEN(AG11)<1,"",IF(MONTH(AG11+1)=MONTH(AG11),AG11+1,"")) -> 44655 | AB12: =IF(LEN(AA12)<1,"",IF(MONTH(AA12+1)=MONTH(AA12),AA12+1,"")) -> 44656 | AC12: =IF(LEN(AB12)<1,"",IF(MONTH(AB12+1)=MONTH(AB12),AB12+1,"")) -> 44657 | AD12: =IF(LEN(AC12)<1,"",IF(MONTH(AC12+1)=MONTH(AC12),AC12+1,"")) -> 44658 | AE12: =IF(LEN(AD12)<1,"",IF(MONTH(AD12+1)=MONTH(AD12),AD12+1,"")) -> 44659 | AF12: =IF(LEN(AE12)<1,"",IF(MONTH(AE12+1)=MONTH(AE12),AE12+1,"")) -> 44660 | AG12: =IF(LEN(AF12)<1,"",IF(MONTH(AF12+1)=MONTH(AF12),AF12+1,"")) -> 44661
C13: =IF(LEN(I12)<1,"",IF(MONTH(I12+1)=MONTH(I12),I12+1,"")) -> 44571 | D13: =IF(LEN(C13)<1,"",IF(MONTH(C13+1)=MONTH(C13),C13+1,"")) -> 44572 | E13: =IF(LEN(D13)<1,"",IF(MONTH(D13+1)=MONTH(D13),D13+1,"")) -> 44573 | F13: =IF(LEN(E13)<1,"",IF(MONTH(E13+1)=MONTH(E13),E13+1,"")) -> 44574 | G13: =IF(LEN(F13)<1,"",IF(MONTH(F13+1)=MONTH(F13),F13+1,"")) -> 44575 | H13: =IF(LEN(G13)<1,"",IF(MONTH(G13+1)=MONTH(G13),G13+1,"")) -> 44576 | I13: =IF(LEN(H13)<1,"",IF(MONTH(H13+1)=MONTH(H13),H13+1,"")) -> 44577 | K13: =IF(LEN(Q12)<1,"",IF(MONTH(Q12+1)=MONTH(Q12),Q12+1,"")) -> 44606 | L13: =IF(LEN(K13)<1,"",IF(MONTH(K13+1)=MONTH(K13),K13+1,"")) -> 44607 | M13: =IF(LEN(L13)<1,"",IF(MONTH(L13+1)=MONTH(L13),L13+1,"")) -> 44608 | N13: =IF(LEN(M13)<1,"",IF(MONTH(M13+1)=MONTH(M13),M13+1,"")) -> 44609 | O13: =IF(LEN(N13)<1,"",IF(MONTH(N13+1)=MONTH(N13),N13+1,"")) -> 44610 | P13: =IF(LEN(O13)<1,"",IF(MONTH(O13+1)=MONTH(O13),O13+1,"")) -> 44611 | Q13: =IF(LEN(P13)<1,"",IF(MONTH(P13+1)=MONTH(P13),P13+1,"")) -> 44612 | S13: =IF(LEN(Y12)<1,"",IF(MONTH(Y12+1)=MONTH(Y12),Y12+1,"")) -> 44634 | T13: =IF(LEN(S13)<1,"",IF(MONTH(S13+1)=MONTH(S13),S13+1,"")) -> 44635 | U13: =IF(LEN(T13)<1,"",IF(MONTH(T13+1)=MONTH(T13),T13+1,"")) -> 44636 | V13: =IF(LEN(U13)<1,"",IF(MONTH(U13+1)=MONTH(U13),U13+1,"")) -> 44637 | W13: =IF(LEN(V13)<1,"",IF(MONTH(V13+1)=MONTH(V13),V13+1,"")) -> 44638 | X13: =IF(LEN(W13)<1,"",IF(MONTH(W13+1)=MONTH(W13),W13+1,"")) -> 44639 | Y13: =IF(LEN(X13)<1,"",IF(MONTH(X13+1)=MONTH(X13),X13+1,"")) -> 44640 | AA13: =IF(LEN(AG12)<1,"",IF(MONTH(AG12+1)=MONTH(AG12),AG12+1,"")) -> 44662 | AB13: =IF(LEN(AA13)<1,"",IF(MONTH(AA13+1)=MONTH(AA13),AA13+1,"")) -> 44663 | AC13: =IF(LEN(AB13)<1,"",IF(MONTH(AB13+1)=MONTH(AB13),AB13+1,"")) -> 44664 | AD13: =IF(LEN(AC13)<1,"",IF(MONTH(AC13+1)=MONTH(AC13),AC13+1,"")) -> 44665 | AE13: =IF(LEN(AD13)<1,"",IF(MONTH(AD13+1)=MONTH(AD13),AD13+1,"")) -> 44666 | AF13: =IF(LEN(AE13)<1,"",IF(MONTH(AE13+1)=MONTH(AE13),AE13+1,"")) -> 44667 | AG13: =IF(LEN(AF13)<1,"",IF(MONTH(AF13+1)=MONTH(AF13),AF13+1,"")) -> 44668
C14: =IF(LEN(I13)<1,"",IF(MONTH(I13+1)=MONTH(I13),I13+1,"")) -> 44578 | D14: =IF(LEN(C14)<1,"",IF(MONTH(C14+1)=MONTH(C14),C14+1,"")) -> 44579 | E14: =IF(LEN(D14)<1,"",IF(MONTH(D14+1)=MONTH(D14),D14+1,"")) -> 44580 | F14: =IF(LEN(E14)<1,"",IF(MONTH(E14+1)=MONTH(E14),E14+1,"")) -> 44581 | G14: =IF(LEN(F14)<1,"",IF(MONTH(F14+1)=MONTH(F14),F14+1,"")) -> 44582 | H14: =IF(LEN(G14)<1,"",IF(MONTH(G14+1)=MONTH(G14),G14+1,"")) -> 44583 | I14: =IF(LEN(H14)<1,"",IF(MONTH(H14+1)=MONTH(H14),H14+1,"")) -> 44584 | K14: =IF(LEN(Q13)<1,"",IF(MONTH(Q13+1)=MONTH(Q13),Q13+1,"")) -> 44613 | L14: =IF(LEN(K14)<1,"",IF(MONTH(K14+1)=MONTH(K14),K14+1,"")) -> 44614 | M14: =IF(LEN(L14)<1,"",IF(MONTH(L14+1)=MONTH(L14),L14+1,"")) -> 44615 | N14: =IF(LEN(M14)<1,"",IF(MONTH(M14+1)=MONTH(M14),M14+1,"")) -> 44616 | O14: =IF(LEN(N14)<1,"",IF(MONTH(N14+1)=MONTH(N14),N14+1,"")) -> 44617 | P14: =IF(LEN(O14)<1,"",IF(MONTH(O14+1)=MONTH(O14),O14+1,"")) -> 44618 | Q14: =IF(LEN(P14)<1,"",IF(MONTH(P14+1)=MONTH(P14),P14+1,"")) -> 44619 | S14: =IF(LEN(Y13)<1,"",IF(MONTH(Y13+1)=MONTH(Y13),Y13+1,"")) -> 44641 | T14: =IF(LEN(S14)<1,"",IF(MONTH(S14+1)=MONTH(S14),S14+1,"")) -> 44642 | U14: =IF(LEN(T14)<1,"",IF(MONTH(T14+1)=MONTH(T14),T14+1,"")) -> 44643 | V14: =IF(LEN(U14)<1,"",IF(MONTH(U14+1)=MONTH(U14),U14+1,"")) -> 44644 | W14: =IF(LEN(V14)<1,"",IF(MONTH(V14+1)=MONTH(V14),V14+1,"")) -> 44645 | X14: =IF(LEN(W14)<1,"",IF(MONTH(W14+1)=MONTH(W14),W14+1,"")) -> 44646 | Y14: =IF(LEN(X14)<1,"",IF(MONTH(X14+1)=MONTH(X14),X14+1,"")) -> 44647 | AA14: =IF(LEN(AG13)<1,"",IF(MONTH(AG13+1)=MONTH(AG13),AG13+1,"")) -> 44669 | AB14: =IF(LEN(AA14)<1,"",IF(MONTH(AA14+1)=MONTH(AA14),AA14+1,"")) -> 44670 | AC14: =IF(LEN(AB14)<1,"",IF(MONTH(AB14+1)=MONTH(AB14),AB14+1,"")) -> 44671 | AD14: =IF(LEN(AC14)<1,"",IF(MONTH(AC14+1)=MONTH(AC14),AC14+1,"")) -> 44672 | AE14: =IF(LEN(AD14)<1,"",IF(MONTH(AD14+1)=MONTH(AD14),AD14+1,"")) -> 44673 | AF14: =IF(LEN(AE14)<1,"",IF(MONTH(AE14+1)=MONTH(AE14),AE14+1,"")) -> 44674 | AG14: =IF(LEN(AF14)<1,"",IF(MONTH(AF14+1)=MONTH(AF14),AF14+1,"")) -> 44675
C15: =IF(LEN(I14)<1,"",IF(MONTH(I14+1)=MONTH(I14),I14+1,"")) -> 44585 | D15: =IF(LEN(C15)<1,"",IF(MONTH(C15+1)=MONTH(C15),C15+1,"")) -> 44586 | E15: =IF(LEN(D15)<1,"",IF(MONTH(D15+1)=MONTH(D15),D15+1,"")) -> 44587 | F15: =IF(LEN(E15)<1,"",IF(MONTH(E15+1)=MONTH(E15),E15+1,"")) -> 44588 | G15: =IF(LEN(F15)<1,"",IF(MONTH(F15+1)=MONTH(F15),F15+1,"")) -> 44589 | H15: =IF(LEN(G15)<1,"",IF(MONTH(G15+1)=MONTH(G15),G15+1,"")) -> 44590 | I15: =IF(LEN(H15)<1,"",IF(MONTH(H15+1)=MONTH(H15),H15+1,"")) -> 44591 | K15: =IF(LEN(Q14)<1,"",IF(MONTH(Q14+1)=MONTH(Q14),Q14+1,"")) -> 44620 | L15: =IF(LEN(K15)<1,"",IF(MONTH(K15+1)=MONTH(K15),K15+1,"")) | M15: =IF(LEN(L15)<1,"",IF(MONTH(L15+1)=MONTH(L15),L15+1,"")) | N15: =IF(LEN(M15)<1,"",IF(MONTH(M15+1)=MONTH(M15),M15+1,"")) | O15: =IF(LEN(N15)<1,"",IF(MONTH(N15+1)=MONTH(N15),N15+1,"")) | P15: =IF(LEN(O15)<1,"",IF(MONTH(O15+1)=MONTH(O15),O15+1,"")) | Q15: =IF(LEN(P15)<1,"",IF(MONTH(P15+1)=MONTH(P15),P15+1,"")) | S15: =IF(LEN(Y14)<1,"",IF(MONTH(Y14+1)=MONTH(Y14),Y14+1,"")) -> 44648 | T15: =IF(LEN(S15)<1,"",IF(MONTH(S15+1)=MONTH(S15),S15+1,"")) -> 44649 | U15: =IF(LEN(T15)<1,"",IF(MONTH(T15+1)=MONTH(T15),T15+1,"")) -> 44650 | V15: =IF(LEN(U15)<1,"",IF(MONTH(U15+1)=MONTH(U15),U15+1,"")) -> 44651 | W15: =IF(LEN(V15)<1,"",IF(MONTH(V15+1)=MONTH(V15),V15+1,"")) | X15: =IF(LEN(W15)<1,"",IF(MONTH(W15+1)=MONTH(W15),W15+1,"")) | Y15: =IF(LEN(X15)<1,"",IF(MONTH(X15+1)=MONTH(X15),X15+1,"")) | AA15: =IF(LEN(AG14)<1,"",IF(MONTH(AG14+1)=MONTH(AG14),AG14+1,"")) -> 44676 | AB15: =IF(LEN(AA15)<1,"",IF(MONTH(AA15+1)=MONTH(AA15),AA15+1,"")) -> 44677 | AC15: =IF(LEN(AB15)<1,"",IF(MONTH(AB15+1)=MONTH(AB15),AB15+1,"")) -> 44678 | AD15: =IF(LEN(AC15)<1,"",IF(MONTH(AC15+1)=MONTH(AC15),AC15+1,"")) -> 44679 | AE15: =IF(LEN(AD15)<1,"",IF(MONTH(AD15+1)=MONTH(AD15),AD15+1,"")) -> 44680 | AF15: =IF(LEN(AE15)<1,"",IF(MONTH(AE15+1)=MONTH(AE15),AE15+1,"")) -> 44681 | AG15: =IF(LEN(AF15)<1,"",IF(MONTH(AF15+1)=MONTH(AF15),AF15+1,""))
C16: =IF(LEN(I15)<1,"",IF(MONTH(I15+1)=MONTH(I15),I15+1,"")) -> 44592 | D16: =IF(LEN(C16)<1,"",IF(MONTH(C16+1)=MONTH(C16),C16+1,"")) | E16: =IF(LEN(D16)<1,"",IF(MONTH(D16+1)=MONTH(D16),D16+1,"")) | F16: =IF(LEN(E16)<1,"",IF(MONTH(E16+1)=MONTH(E16),E16+1,"")) | G16: =IF(LEN(F16)<1,"",IF(MONTH(F16+1)=MONTH(F16),F16+1,"")) | H16: =IF(LEN(G16)<1,"",IF(MONTH(G16+1)=MONTH(G16),G16+1,"")) | I16: =IF(LEN(H16)<1,"",IF(MONTH(H16+1)=MONTH(H16),H16+1,"")) | K16: =IF(LEN(Q15)<1,"",IF(MONTH(Q15+1)=MONTH(Q15),Q15+1,"")) | L16: =IF(LEN(K16)<1,"",IF(MONTH(K16+1)=MONTH(K16),K16+1,"")) | M16: =IF(LEN(L16)<1,"",IF(MONTH(L16+1)=MONTH(L16),L16+1,"")) | N16: =IF(LEN(M16)<1,"",IF(MONTH(M16+1)=MONTH(M16),M16+1,"")) | O16: =IF(LEN(N16)<1,"",IF(MONTH(N16+1)=MONTH(N16),N16+1,"")) | P16: =IF(LEN(O16)<1,"",IF(MONTH(O16+1)=MONTH(O16),O16+1,"")) | Q16: =IF(LEN(P16)<1,"",IF(MONTH(P16+1)=MONTH(P16),P16+1,"")) | S16: =IF(LEN(Y15)<1,"",IF(MONTH(Y15+1)=MONTH(Y15),Y15+1,"")) | T16: =IF(LEN(S16)<1,"",IF(MONTH(S16+1)=MONTH(S16),S16+1,"")) | U16: =IF(LEN(T16)<1,"",IF(MONTH(T16+1)=MONTH(T16),T16+1,"")) | V16: =IF(LEN(U16)<1,"",IF(MONTH(U16+1)=MONTH(U16),U16+1,"")) | W16: =IF(LEN(V16)<1,"",IF(MONTH(V16+1)=MONTH(V16),V16+1,"")) | X16: =IF(LEN(W16)<1,"",IF(MONTH(W16+1)=MONTH(W16),W16+1,"")) | Y16: =IF(LEN(X16)<1,"",IF(MONTH(X16+1)=MONTH(X16),X16+1,"")) | AA16: =IF(LEN(AG15)<1,"",IF(MONTH(AG15+1)=MONTH(AG15),AG15+1,"")) | AB16: =IF(LEN(AA16)<1,"",IF(MONTH(AA16+1)=MONTH(AA16),AA16+1,"")) | AC16: =IF(LEN(AB16)<1,"",IF(MONTH(AB16+1)=MONTH(AB16),AB16+1,"")) | AD16: =IF(LEN(AC16)<1,"",IF(MONTH(AC16+1)=MONTH(AC16),AC16+1,"")) | AE16: =IF(LEN(AD16)<1,"",IF(MONTH(AD16+1)=MONTH(AD16),AD16+1,"")) | AF16: =IF(LEN(AE16)<1,"",IF(MONTH(AE16+1)=MONTH(AE16),AE16+1,"")) | AG16: =IF(LEN(AF16)<1,"",IF(MONTH(AF16+1)=MONTH(AF16),AF16+1,""))
C18: May | H18: =IFERROR(IF(LEN($F$5)>0,$F$5,""),"") -> 2022 | K18: June | P18: =IFERROR(IF(LEN($F$5)>0,$F$5,""),"") -> 2022 | S18: July | X18: =IFERROR(IF(LEN($F$5)>0,$F$5,""),"") -> 2022 | AA18: August | AF18: =IFERROR(IF(LEN($F$5)>0,$F$5,""),"") -> 2022
C19: =IFERROR(INDEX(Calc!$J$5:$K$11,MATCH(week_start_day,Calc!$J$5:$J$11,0),2),"") -> Mon | D19: {=IFERROR(INDEX(Calc!$K$5:$K$18,MATCH(C$10,Calc!$K$5:$K$18,0)+1,1),"")} -> Tue | E19: {=IFERROR(INDEX(Calc!$K$5:$K$18,MATCH(D$10,Calc!$K$5:$K$18,0)+1,1),"")} -> Wed | F19: {=IFERROR(INDEX(Calc!$K$5:$K$18,MATCH(E$10,Calc!$K$5:$K$18,0)+1,1),"")} -> Thu | G19: {=IFERROR(INDEX(Calc!$K$5:$K$18,MATCH(F$10,Calc!$K$5:$K$18,0)+1,1),"")} -> Fri | H19: {=IFERROR(INDEX(Calc!$K$5:$K$18,MATCH(G$10,Calc!$K$5:$K$18,0)+1,1),"")} -> Sat | I19: {=IFERROR(INDEX(Calc!$K$5:$K$18,MATCH(H$10,Calc!$K$5:$K$18,0)+1,1),"")} -> Sun | K19: =IFERROR(INDEX(Calc!$J$5:$K$11,MATCH(week_start_day,Calc!$J$5:$J$11,0),2),"") -> Mon | L19: {=IFERROR(INDEX(Calc!$K$5:$K$18,MATCH(K$10,Calc!$K$5:$K$18,0)+1,1),"")} -> Tue | M19: {=IFERROR(INDEX(Calc!$K$5:$K$18,MATCH(L$10,Calc!$K$5:$K$18,0)+1,1),"")} -> Wed | N19: {=IFERROR(INDEX(Calc!$K$5:$K$18,MATCH(M$10,Calc!$K$5:$K$18,0)+1,1),"")} -> Thu | O19: {=IFERROR(INDEX(Calc!$K$5:$K$18,MATCH(N$10,Calc!$K$5:$K$18,0)+1,1),"")} -> Fri | P19: {=IFERROR(INDEX(Calc!$K$5:$K$18,MATCH(O$10,Calc!$K$5:$K$18,0)+1,1),"")} -> Sat | Q19: {=IFERROR(INDEX(Calc!$K$5:$K$18,MATCH(P$10,Calc!$K$5:$K$18,0)+1,1),"")} -> Sun | S19: =IFERROR(INDEX(Calc!$J$5:$K$11,MATCH(week_start_day,Calc!$J$5:$J$11,0),2),"") -> Mon | T19: {=IFERROR(INDEX(Calc!$K$5:$K$18,MATCH(S$10,Calc!$K$5:$K$18,0)+1,1),"")} -> Tue | U19: {=IFERROR(INDEX(Calc!$K$5:$K$18,MATCH(T$10,Calc!$K$5:$K$18,0)+1,1),"")} -> Wed | V19: {=IFERROR(INDEX(Calc!$K$5:$K$18,MATCH(U$10,Calc!$K$5:$K$18,0)+1,1),"")} -> Thu | W19: {=IFERROR(INDEX(Calc!$K$5:$K$18,MATCH(V$10,Calc!$K$5:$K$18,0)+1,1),"")} -> Fri | X19: {=IFERROR(INDEX(Calc!$K$5:$K$18,MATCH(W$10,Calc!$K$5:$K$18,0)+1,1),"")} -> Sat | Y19: {=IFERROR(INDEX(Calc!$K$5:$K$18,MATCH(X$10,Calc!$K$5:$K$18,0)+1,1),"")} -> Sun | AA19: =IFERROR(INDEX(Calc!$J$5:$K$11,MATCH(week_start_day,Calc!$J$5:$J$11,0),2),"") -> Mon | AB19: {=IFERROR(INDEX(Calc!$K$5:$K$18,MATCH(AA$10,Calc!$K$5:$K$18,0)+1,1),"")} -> Tue | AC19: {=IFERROR(INDEX(Calc!$K$5:$K$18,MATCH(AB$10,Calc!$K$5:$K$18,0)+1,1),"")} -> Wed | AD19: {=IFERROR(INDEX(Calc!$K$5:$K$18,MATCH(AC$10,Calc!$K$5:$K$18,0)+1,1),"")} -> Thu | AE19: {=IFERROR(INDEX(Calc!$K$5:$K$18,MATCH(AD$10,Calc!$K$5:$K$18,0)+1,1),"")} -> Fri | AF19: {=IFERROR(INDEX(Calc!$K$5:$K$18,MATCH(AE$10,Calc!$K$5:$K$18,0)+1,1),"")} -> Sat | AG19: {=IFERROR(INDEX(Calc!$K$5:$K$18,MATCH(AF$10,Calc!$K$5:$K$18,0)+1,1),"")} -> Sun
C20: =IFERROR(IF(WEEKDAY(Calc!$B$9,11)=MATCH(C19,Calc!$K$5:$K$11,0),Calc!$B$9,""),"") | D20: =IFERROR(IF(LEN(C20)>0,C20+1,IF(WEEKDAY(Calc!$B$9,11)=MATCH(D19,Calc!$K$5:$K$11,0),Calc!$B$9,"")),"") | E20: =IFERROR(IF(LEN(D20)>0,D20+1,IF(WEEKDAY(Calc!$B$9,11)=MATCH(E19,Calc!$K$5:$K$11,0),Calc!$B$9,"")),"") | F20: =IFERROR(IF(LEN(E20)>0,E20+1,IF(WEEKDAY(Calc!$B$9,11)=MATCH(F19,Calc!$K$5:$K$11,0),Calc!$B$9,"")),"") | G20: =IFERROR(IF(LEN(F20)>0,F20+1,IF(WEEKDAY(Calc!$B$9,11)=MATCH(G19,Calc!$K$5:$K$11,0),Calc!$B$9,"")),"") | H20: =IFERROR(IF(LEN(G20)>0,G20+1,IF(WEEKDAY(Calc!$B$9,11)=MATCH(H19,Calc!$K$5:$K$11,0),Calc!$B$9,"")),"") | I20: =IFERROR(IF(LEN(H20)>0,H20+1,IF(WEEKDAY(Calc!$B$9,11)=MATCH(I19,Calc!$K$5:$K$11,0),Calc!$B$9,"")),"") -> 44682 | K20: =IFERROR(IF(WEEKDAY(Calc!$B$10,11)=MATCH(K19,Calc!$K$5:$K$11,0),Calc!$B$10,""),"") | L20: =IFERROR(IF(LEN(K20)>0,K20+1,IF(WEEKDAY(Calc!$B$10,11)=MATCH(L19,Calc!$K$5:$K$11,0),Calc!$B$10,"")),"") | M20: =IFERROR(IF(LEN(L20)>0,L20+1,IF(WEEKDAY(Calc!$B$10,11)=MATCH(M19,Calc!$K$5:$K$11,0),Calc!$B$10,"")),"") -> 44713 | N20: =IFERROR(IF(LEN(M20)>0,M20+1,IF(WEEKDAY(Calc!$B$10,11)=MATCH(N19,Calc!$K$5:$K$11,0),Calc!$B$10,"")),"") -> 44714 | O20: =IFERROR(IF(LEN(N20)>0,N20+1,IF(WEEKDAY(Calc!$B$10,11)=MATCH(O19,Calc!$K$5:$K$11,0),Calc!$B$10,"")),"") -> 44715 | P20: =IFERROR(IF(LEN(O20)>0,O20+1,IF(WEEKDAY(Calc!$B$10,11)=MATCH(P19,Calc!$K$5:$K$11,0),Calc!$B$10,"")),"") -> 44716 | Q20: =IFERROR(IF(LEN(P20)>0,P20+1,IF(WEEKDAY(Calc!$B$10,11)=MATCH(Q19,Calc!$K$5:$K$11,0),Calc!$B$10,"")),"") -> 44717 | S20: =IFERROR(IF(WEEKDAY(Calc!$B$11,11)=MATCH(S19,Calc!$K$5:$K$11,0),Calc!$B$11,""),"") | T20: =IFERROR(IF(LEN(S20)>0,S20+1,IF(WEEKDAY(Calc!$B$11,11)=MATCH(T19,Calc!$K$5:$K$11,0),Calc!$B$11,"")),"") | U20: =IFERROR(IF(LEN(T20)>0,T20+1,IF(WEEKDAY(Calc!$B$11,11)=MATCH(U19,Calc!$K$5:$K$11,0),Calc!$B$11,"")),"") | V20: =IFERROR(IF(LEN(U20)>0,U20+1,IF(WEEKDAY(Calc!$B$11,11)=MATCH(V19,Calc!$K$5:$K$11,0),Calc!$B$11,"")),"") | W20: =IFERROR(IF(LEN(V20)>0,V20+1,IF(WEEKDAY(Calc!$B$11,11)=MATCH(W19,Calc!$K$5:$K$11,0),Calc!$B$11,"")),"") -> 44743 | X20: =IFERROR(IF(LEN(W20)>0,W20+1,IF(WEEKDAY(Calc!$B$11,11)=MATCH(X19,Calc!$K$5:$K$11,0),Calc!$B$11,"")),"") -> 44744 | Y20: =IFERROR(IF(LEN(X20)>0,X20+1,IF(WEEKDAY(Calc!$B$11,11)=MATCH(Y19,Calc!$K$5:$K$11,0),Calc!$B$11,"")),"") -> 44745 | AA20: =IFERROR(IF(WEEKDAY(Calc!$B$12,11)=MATCH(AA19,Calc!$K$5:$K$11,0),Calc!$B$12,""),"") -> 44774 | AB20: =IFERROR(IF(LEN(AA20)>0,AA20+1,IF(WEEKDAY(Calc!$B$12,11)=MATCH(AB19,Calc!$K$5:$K$11,0),Calc!$B$12,"")),"") -> 44775 | AC20: =IFERROR(IF(LEN(AB20)>0,AB20+1,IF(WEEKDAY(Calc!$B$12,11)=MATCH(AC19,Calc!$K$5:$K$11,0),Calc!$B$12,"")),"") -> 44776 | AD20: =IFERROR(IF(LEN(AC20)>0,AC20+1,IF(WEEKDAY(Calc!$B$12,11)=MATCH(AD19,Calc!$K$5:$K$11,0),Calc!$B$12,"")),"") -> 44777 | AE20: =IFERROR(IF(LEN(AD20)>0,AD20+1,IF(WEEKDAY(Calc!$B$12,11)=MATCH(AE19,Calc!$K$5:$K$11,0),Calc!$B$12,"")),"") -> 44778 | AF20: =IFERROR(IF(LEN(AE20)>0,AE20+1,IF(WEEKDAY(Calc!$B$12,11)=MATCH(AF19,Calc!$K$5:$K$11,0),Calc!$B$12,"")),"") -> 44779 | AG20: =IFERROR(IF(LEN(AF20)>0,AF20+1,IF(WEEKDAY(Calc!$B$12,11)=MATCH(AG19,Calc!$K$5:$K$11,0),Calc!$B$12,"")),"") -> 44780
C21: =IF(LEN(I20)<1,"",IF(MONTH(I20+1)=MONTH(I20),I20+1,"")) -> 44683 | D21: =IF(LEN(C21)<1,"",IF(MONTH(C21+1)=MONTH(C21),C21+1,"")) -> 44684 | E21: =IF(LEN(D21)<1,"",IF(MONTH(D21+1)=MONTH(D21),D21+1,"")) -> 44685 | F21: =IF(LEN(E21)<1,"",IF(MONTH(E21+1)=MONTH(E21),E21+1,"")) -> 44686 | G21: =IF(LEN(F21)<1,"",IF(MONTH(F21+1)=MONTH(F21),F21+1,"")) -> 44687 | H21: =IF(LEN(G21)<1,"",IF(MONTH(G21+1)=MONTH(G21),G21+1,"")) -> 44688 | I21: =IF(LEN(H21)<1,"",IF(MONTH(H21+1)=MONTH(H21),H21+1,"")) -> 44689 | K21: =IF(LEN(Q20)<1,"",IF(MONTH(Q20+1)=MONTH(Q20),Q20+1,"")) -> 44718 | L21: =IF(LEN(K21)<1,"",IF(MONTH(K21+1)=MONTH(K21),K21+1,"")) -> 44719 | M21: =IF(LEN(L21)<1,"",IF(MONTH(L21+1)=MONTH(L21),L21+1,"")) -> 44720 | N21: =IF(LEN(M21)<1,"",IF(MONTH(M21+1)=MONTH(M21),M21+1,"")) -> 44721 | O21: =IF(LEN(N21)<1,"",IF(MONTH(N21+1)=MONTH(N21),N21+1,"")) -> 44722 | P21: =IF(LEN(O21)<1,"",IF(MONTH(O21+1)=MONTH(O21),O21+1,"")) -> 44723 | Q21: =IF(LEN(P21)<1,"",IF(MONTH(P21+1)=MONTH(P21),P21+1,"")) -> 44724 | S21: =IF(LEN(Y20)<1,"",IF(MONTH(Y20+1)=MONTH(Y20),Y20+1,"")) -> 44746 | T21: =IF(LEN(S21)<1,"",IF(MONTH(S21+1)=MONTH(S21),S21+1,"")) -> 44747 | U21: =IF(LEN(T21)<1,"",IF(MONTH(T21+1)=MONTH(T21),T21+1,"")) -> 44748 | V21: =IF(LEN(U21)<1,"",IF(MONTH(U21+1)=MONTH(U21),U21+1,"")) -> 44749 | W21: =IF(LEN(V21)<1,"",IF(MONTH(V21+1)=MONTH(V21),V21+1,"")) -> 44750 | X21: =IF(LEN(W21)<1,"",IF(MONTH(W21+1)=MONTH(W21),W21+1,"")) -> 44751 | Y21: =IF(LEN(X21)<1,"",IF(MONTH(X21+1)=MONTH(X21),X21+1,"")) -> 44752 | AA21: =IF(LEN(AG20)<1,"",IF(MONTH(AG20+1)=MONTH(AG20),AG20+1,"")) -> 44781 | AB21: =IF(LEN(AA21)<1,"",IF(MONTH(AA21+1)=MONTH(AA21),AA21+1,"")) -> 44782 | AC21: =IF(LEN(AB21)<1,"",IF(MONTH(AB21+1)=MONTH(AB21),AB21+1,"")) -> 44783 | AD21: =IF(LEN(AC21)<1,"",IF(MONTH(AC21+1)=MONTH(AC21),AC21+1,"")) -> 44784 | AE21: =IF(LEN(AD21)<1,"",IF(MONTH(AD21+1)=MONTH(AD21),AD21+1,"")) -> 44785 | AF21: =IF(LEN(AE21)<1,"",IF(MONTH(AE21+1)=MONTH(AE21),AE21+1,"")) -> 44786 | AG21: =IF(LEN(AF21)<1,"",IF(MONTH(AF21+1)=MONTH(AF21),AF21+1,"")) -> 44787
C22: =IF(LEN(I21)<1,"",IF(MONTH(I21+1)=MONTH(I21),I21+1,"")) -> 44690 | D22: =IF(LEN(C22)<1,"",IF(MONTH(C22+1)=MONTH(C22),C22+1,"")) -> 44691 | E22: =IF(LEN(D22)<1,"",IF(MONTH(D22+1)=MONTH(D22),D22+1,"")) -> 44692 | F22: =IF(LEN(E22)<1,"",IF(MONTH(E22+1)=MONTH(E22),E22+1,"")) -> 44693 | G22: =IF(LEN(F22)<1,"",IF(MONTH(F22+1)=MONTH(F22),F22+1,"")) -> 44694 | H22: =IF(LEN(G22)<1,"",IF(MONTH(G22+1)=MONTH(G22),G22+1,"")) -> 44695 | I22: =IF(LEN(H22)<1,"",IF(MONTH(H22+1)=MONTH(H22),H22+1,"")) -> 44696 | K22: =IF(LEN(Q21)<1,"",IF(MONTH(Q21+1)=MONTH(Q21),Q21+1,"")) -> 44725 | L22: =IF(LEN(K22)<1,"",IF(MONTH(K22+1)=MONTH(K22),K22+1,"")) -> 44726 | M22: =IF(LEN(L22)<1,"",IF(MONTH(L22+1)=MONTH(L22),L22+1,"")) -> 44727 | N22: =IF(LEN(M22)<1,"",IF(MONTH(M22+1)=MONTH(M22),M22+1,"")) -> 44728 | O22: =IF(LEN(N22)<1,"",IF(MONTH(N22+1)=MONTH(N22),N22+1,"")) -> 44729 | P22: =IF(LEN(O22)<1,"",IF(MONTH(O22+1)=MONTH(O22),O22+1,"")) -> 44730 | Q22: =IF(LEN(P22)<1,"",IF(MONTH(P22+1)=MONTH(P22),P22+1,"")) -> 44731 | S22: =IF(LEN(Y21)<1,"",IF(MONTH(Y21+1)=MONTH(Y21),Y21+1,"")) -> 44753 | T22: =IF(LEN(S22)<1,"",IF(MONTH(S22+1)=MONTH(S22),S22+1,"")) -> 44754 | U22: =IF(LEN(T22)<1,"",IF(MONTH(T22+1)=MONTH(T22),T22+1,"")) -> 44755 | V22: =IF(LEN(U22)<1,"",IF(MONTH(U22+1)=MONTH(U22),U22+1,"")) -> 44756 | W22: =IF(LEN(V22)<1,"",IF(MONTH(V22+1)=MONTH(V22),V22+1,"")) -> 44757 | X22: =IF(LEN(W22)<1,"",IF(MONTH(W22+1)=MONTH(W22),W22+1,"")) -> 44758 | Y22: =IF(LEN(X22)<1,"",IF(MONTH(X22+1)=MONTH(X22),X22+1,"")) -> 44759 | AA22: =IF(LEN(AG21)<1,"",IF(MONTH(AG21+1)=MONTH(AG21),AG21+1,"")) -> 44788 | AB22: =IF(LEN(AA22)<1,"",IF(MONTH(AA22+1)=MONTH(AA22),AA22+1,"")) -> 44789 | AC22: =IF(LEN(AB22)<1,"",IF(MONTH(AB22+1)=MONTH(AB22),AB22+1,"")) -> 44790 | AD22: =IF(LEN(AC22)<1,"",IF(MONTH(AC22+1)=MONTH(AC22),AC22+1,"")) -> 44791 | AE22: =IF(LEN(AD22)<1,"",IF(MONTH(AD22+1)=MONTH(AD22),AD22+1,"")) -> 44792 | AF22: =IF(LEN(AE22)<1,"",IF(MONTH(AE22+1)=MONTH(AE22),AE22+1,"")) -> 44793 | AG22: =IF(LEN(AF22)<1,"",IF(MONTH(AF22+1)=MONTH(AF22),AF22+1,"")) -> 44794
C23: =IF(LEN(I22)<1,"",IF(MONTH(I22+1)=MONTH(I22),I22+1,"")) -> 44697 | D23: =IF(LEN(C23)<1,"",IF(MONTH(C23+1)=MONTH(C23),C23+1,"")) -> 44698 | E23: =IF(LEN(D23)<1,"",IF(MONTH(D23+1)=MONTH(D23),D23+1,"")) -> 44699 | F23: =IF(LEN(E23)<1,"",IF(MONTH(E23+1)=MONTH(E23),E23+1,"")) -> 44700 | G23: =IF(LEN(F23)<1,"",IF(MONTH(F23+1)=MONTH(F23),F23+1,"")) -> 44701 | H23: =IF(LEN(G23)<1,"",IF(MONTH(G23+1)=MONTH(G23),G23+1,"")) -> 44702 | I23: =IF(LEN(H23)<1,"",IF(MONTH(H23+1)=MONTH(H23),H23+1,"")) -> 44703 | K23: =IF(LEN(Q22)<1,"",IF(MONTH(Q22+1)=MONTH(Q22),Q22+1,"")) -> 44732 | L23: =IF(LEN(K23)<1,"",IF(MONTH(K23+1)=MONTH(K23),K23+1,"")) -> 44733 | M23: =IF(LEN(L23)<1,"",IF(MONTH(L23+1)=MONTH(L23),L23+1,"")) -> 44734 | N23: =IF(LEN(M23)<1,"",IF(MONTH(M23+1)=MONTH(M23),M23+1,"")) -> 44735 | O23: =IF(LEN(N23)<1,"",IF(MONTH(N23+1)=MONTH(N23),N23+1,"")) -> 44736 | P23: =IF(LEN(O23)<1,"",IF(MONTH(O23+1)=MONTH(O23),O23+1,"")) -> 44737 | Q23: =IF(LEN(P23)<1,"",IF(MONTH(P23+1)=MONTH(P23),P23+1,"")) -> 44738 | S23: =IF(LEN(Y22)<1,"",IF(MONTH(Y22+1)=MONTH(Y22),Y22+1,"")) -> 44760 | T23: =IF(LEN(S23)<1,"",IF(MONTH(S23+1)=MONTH(S23),S23+1,"")) -> 44761 | U23: =IF(LEN(T23)<1,"",IF(MONTH(T23+1)=MONTH(T23),T23+1,"")) -> 44762 | V23: =IF(LEN(U23)<1,"",IF(MONTH(U23+1)=MONTH(U23),U23+1,"")) -> 44763 | W23: =IF(LEN(V23)<1,"",IF(MONTH(V23+1)=MONTH(V23),V23+1,"")) -> 44764 | X23: =IF(LEN(W23)<1,"",IF(MONTH(W23+1)=MONTH(W23),W23+1,"")) -> 44765 | Y23: =IF(LEN(X23)<1,"",IF(MONTH(X23+1)=MONTH(X23),X23+1,"")) -> 44766 | AA23: =IF(LEN(AG22)<1,"",IF(MONTH(AG22+1)=MONTH(AG22),AG22+1,"")) -> 44795 | AB23: =IF(LEN(AA23)<1,"",IF(MONTH(AA23+1)=MONTH(AA23),AA23+1,"")) -> 44796 | AC23: =IF(LEN(AB23)<1,"",IF(MONTH(AB23+1)=MONTH(AB23),AB23+1,"")) -> 44797 | AD23: =IF(LEN(AC23)<1,"",IF(MONTH(AC23+1)=MONTH(AC23),AC23+1,"")) -> 44798 | AE23: =IF(LEN(AD23)<1,"",IF(MONTH(AD23+1)=MONTH(AD23),AD23+1,"")) -> 44799 | AF23: =IF(LEN(AE23)<1,"",IF(MONTH(AE23+1)=MONTH(AE23),AE23+1,"")) -> 44800 | AG23: =IF(LEN(AF23)<1,"",IF(MONTH(AF23+1)=MONTH(AF23),AF23+1,"")) -> 44801
C24: =IF(LEN(I23)<1,"",IF(MONTH(I23+1)=MONTH(I23),I23+1,"")) -> 44704 | D24: =IF(LEN(C24)<1,"",IF(MONTH(C24+1)=MONTH(C24),C24+1,"")) -> 44705 | E24: =IF(LEN(D24)<1,"",IF(MONTH(D24+1)=MONTH(D24),D24+1,"")) -> 44706 | F24: =IF(LEN(E24)<1,"",IF(MONTH(E24+1)=MONTH(E24),E24+1,"")) -> 44707 | G24: =IF(LEN(F24)<1,"",IF(MONTH(F24+1)=MONTH(F24),F24+1,"")) -> 44708 | H24: =IF(LEN(G24)<1,"",IF(MONTH(G24+1)=MONTH(G24),G24+1,"")) -> 44709 | I24: =IF(LEN(H24)<1,"",IF(MONTH(H24+1)=MONTH(H24),H24+1,"")) -> 44710 | K24: =IF(LEN(Q23)<1,"",IF(MONTH(Q23+1)=MONTH(Q23),Q23+1,"")) -> 44739 | L24: =IF(LEN(K24)<1,"",IF(MONTH(K24+1)=MONTH(K24),K24+1,"")) -> 44740 | M24: =IF(LEN(L24)<1,"",IF(MONTH(L24+1)=MONTH(L24),L24+1,"")) -> 44741 | N24: =IF(LEN(M24)<1,"",IF(MONTH(M24+1)=MONTH(M24),M24+1,"")) -> 44742 | O24: =IF(LEN(N24)<1,"",IF(MONTH(N24+1)=MONTH(N24),N24+1,"")) | P24: =IF(LEN(O24)<1,"",IF(MONTH(O24+1)=MONTH(O24),O24+1,"")) | Q24: =IF(LEN(P24)<1,"",IF(MONTH(P24+1)=MONTH(P24),P24+1,"")) | S24: =IF(LEN(Y23)<1,"",IF(MONTH(Y23+1)=MONTH(Y23),Y23+1,"")) -> 44767 | T24: =IF(LEN(S24)<1,"",IF(MONTH(S24+1)=MONTH(S24),S24+1,"")) -> 44768 | U24: =IF(LEN(T24)<1,"",IF(MONTH(T24+1)=MONTH(T24),T24+1,"")) -> 44769 | V24: =IF(LEN(U24)<1,"",IF(MONTH(U24+1)=MONTH(U24),U24+1,"")) -> 44770 | W24: =IF(LEN(V24)<1,"",IF(MONTH(V24+1)=MONTH(V24),V24+1,"")) -> 44771 | X24: =IF(LEN(W24)<1,"",IF(MONTH(W24+1)=MONTH(W24),W24+1,"")) -> 44772 | Y24: =IF(LEN(X24)<1,"",IF(MONTH(X24+1)=MONTH(X24),X24+1,"")) -> 44773 | AA24: =IF(LEN(AG23)<1,"",IF(MONTH(AG23+1)=MONTH(AG23),AG23+1,"")) -> 44802 | AB24: =IF(LEN(AA24)<1,"",IF(MONTH(AA24+1)=MONTH(AA24),AA24+1,"")) -> 44803 | AC24: =IF(LEN(AB24)<1,"",IF(MONTH(AB24+1)=MONTH(AB24),AB24+1,"")) -> 44804 | AD24: =IF(LEN(AC24)<1,"",IF(MONTH(AC24+1)=MONTH(AC24),AC24+1,"")) | AE24: =IF(LEN(AD24)<1,"",IF(MONTH(AD24+1)=MONTH(AD24),AD24+1,"")) | AF24: =IF(LEN(AE24)<1,"",IF(MONTH(AE24+1)=MONTH(AE24),AE24+1,"")) | AG24: =IF(LEN(AF24)<1,"",IF(MONTH(AF24+1)=MONTH(AF24),AF24+1,""))
C25: =IF(LEN(I24)<1,"",IF(MONTH(I24+1)=MONTH(I24),I24+1,"")) -> 44711 | D25: =IF(LEN(C25)<1,"",IF(MONTH(C25+1)=MONTH(C25),C25+1,"")) -> 44712 | E25: =IF(LEN(D25)<1,"",IF(MONTH(D25+1)=MONTH(D25),D25+1,"")) | F25: =IF(LEN(E25)<1,"",IF(MONTH(E25+1)=MONTH(E25),E25+1,"")) | G25: =IF(LEN(F25)<1,"",IF(MONTH(F25+1)=MONTH(F25),F25+1,"")) | H25: =IF(LEN(G25)<1,"",IF(MONTH(G25+1)=MONTH(G25),G25+1,"")) | I25: =IF(LEN(H25)<1,"",IF(MONTH(H25+1)=MONTH(H25),H25+1,"")) | K25: =IF(LEN(Q24)<1,"",IF(MONTH(Q24+1)=MONTH(Q24),Q24+1,"")) | L25: =IF(LEN(K25)<1,"",IF(MONTH(K25+1)=MONTH(K25),K25+1,"")) | M25: =IF(LEN(L25)<1,"",IF(MONTH(L25+1)=MONTH(L25),L25+1,"")) | N25: =IF(LEN(M25)<1,"",IF(MONTH(M25+1)=MONTH(M25),M25+1,"")) | O25: =IF(LEN(N25)<1,"",IF(MONTH(N25+1)=MONTH(N25),N25+1,"")) | P25: =IF(LEN(O25)<1,"",IF(MONTH(O25+1)=MONTH(O25),O25+1,"")) | Q25: =IF(LEN(P25)<1,"",IF(MONTH(P25+1)=MONTH(P25),P25+1,"")) | S25: =IF(LEN(Y24)<1,"",IF(MONTH(Y24+1)=MONTH(Y24),Y24+1,"")) | T25: =IF(LEN(S25)<1,"",IF(MONTH(S25+1)=MONTH(S25),S25+1,"")) | U25: =IF(LEN(T25)<1,"",IF(MONTH(T25+1)=MONTH(T25),T25+1,"")) | V25: =IF(LEN(U25)<1,"",IF(MONTH(U25+1)=MONTH(U25),U25+1,"")) | W25: =IF(LEN(V25)<1,"",IF(MONTH(V25+1)=MONTH(V25),V25+1,"")) | X25: =IF(LEN(W25)<1,"",IF(MONTH(W25+1)=MONTH(W25),W25+1,"")) | Y25: =IF(LEN(X25)<1,"",IF(MONTH(X25+1)=MONTH(X25),X25+1,"")) | AA25: =IF(LEN(AG24)<1,"",IF(MONTH(AG24+1)=MONTH(AG24),AG24+1,"")) | AB25: =IF(LEN(AA25)<1,"",IF(MONTH(AA25+1)=MONTH(AA25),AA25+1,"")) | AC25: =IF(LEN(AB25)<1,"",IF(MONTH(AB25+1)=MONTH(AB25),AB25+1,"")) | AD25: =IF(LEN(AC25)<1,"",IF(MONTH(AC25+1)=MONTH(AC25),AC25+1,"")) | AE25: =IF(LEN(AD25)<1,"",IF(MONTH(AD25+1)=MONTH(AD25),AD25+1,"")) | AF25: =IF(LEN(AE25)<1,"",IF(MONTH(AE25+1)=MONTH(AE25),AE25+1,"")) | AG25: =IF(LEN(AF25)<1,"",IF(MONTH(AF25+1)=MONTH(AF25),AF25+1,""))
C27: September | H27: =IFERROR(IF(LEN($F$5)>0,$F$5,""),"") -> 2022 | K27: October | P27: =IFERROR(IF(LEN($F$5)>0,$F$5,""),"") -> 2022 | S27: November | X27: =IFERROR(IF(LEN($F$5)>0,$F$5,""),"") -> 2022 | AA27: December | AF27: =IFERROR(IF(LEN($F$5)>0,$F$5,""),"") -> 2022
C28: =IFERROR(INDEX(Calc!$J$5:$K$11,MATCH(week_start_day,Calc!$J$5:$J$11,0),2),"") -> Mon | D28: {=IFERROR(INDEX(Calc!$K$5:$K$18,MATCH(C$10,Calc!$K$5:$K$18,0)+1,1),"")} -> Tue | E28: {=IFERROR(INDEX(Calc!$K$5:$K$18,MATCH(D$10,Calc!$K$5:$K$18,0)+1,1),"")} -> Wed | F28: {=IFERROR(INDEX(Calc!$K$5:$K$18,MATCH(E$10,Calc!$K$5:$K$18,0)+1,1),"")} -> Thu | G28: {=IFERROR(INDEX(Calc!$K$5:$K$18,MATCH(F$10,Calc!$K$5:$K$18,0)+1,1),"")} -> Fri | H28: {=IFERROR(INDEX(Calc!$K$5:$K$18,MATCH(G$10,Calc!$K$5:$K$18,0)+1,1),"")} -> Sat | I28: {=IFERROR(INDEX(Calc!$K$5:$K$18,MATCH(H$10,Calc!$K$5:$K$18,0)+1,1),"")} -> Sun | K28: =IFERROR(INDEX(Calc!$J$5:$K$11,MATCH(week_start_day,Calc!$J$5:$J$11,0),2),"") -> Mon | L28: {=IFERROR(INDEX(Calc!$K$5:$K$18,MATCH(K$10,Calc!$K$5:$K$18,0)+1,1),"")} -> Tue | M28: {=IFERROR(INDEX(Calc!$K$5:$K$18,MATCH(L$10,Calc!$K$5:$K$18,0)+1,1),"")} -> Wed | N28: {=IFERROR(INDEX(Calc!$K$5:$K$18,MATCH(M$10,Calc!$K$5:$K$18,0)+1,1),"")} -> Thu | O28: {=IFERROR(INDEX(Calc!$K$5:$K$18,MATCH(N$10,Calc!$K$5:$K$18,0)+1,1),"")} -> Fri | P28: {=IFERROR(INDEX(Calc!$K$5:$K$18,MATCH(O$10,Calc!$K$5:$K$18,0)+1,1),"")} -> Sat | Q28: {=IFERROR(INDEX(Calc!$K$5:$K$18,MATCH(P$10,Calc!$K$5:$K$18,0)+1,1),"")} -> Sun | S28: =IFERROR(INDEX(Calc!$J$5:$K$11,MATCH(week_start_day,Calc!$J$5:$J$11,0),2),"") -> Mon | T28: {=IFERROR(INDEX(Calc!$K$5:$K$18,MATCH(S$10,Calc!$K$5:$K$18,0)+1,1),"")} -> Tue | U28: {=IFERROR(INDEX(Calc!$K$5:$K$18,MATCH(T$10,Calc!$K$5:$K$18,0)+1,1),"")} -> Wed | V28: {=IFERROR(INDEX(Calc!$K$5:$K$18,MATCH(U$10,Calc!$K$5:$K$18,0)+1,1),"")} -> Thu | W28: {=IFERROR(INDEX(Calc!$K$5:$K$18,MATCH(V$10,Calc!$K$5:$K$18,0)+1,1),"")} -> Fri | X28: {=IFERROR(INDEX(Calc!$K$5:$K$18,MATCH(W$10,Calc!$K$5:$K$18,0)+1,1),"")} -> Sat | Y28: {=IFERROR(INDEX(Calc!$K$5:$K$18,MATCH(X$10,Calc!$K$5:$K$18,0)+1,1),"")} -> Sun | AA28: =IFERROR(INDEX(Calc!$J$5:$K$11,MATCH(week_start_day,Calc!$J$5:$J$11,0),2),"") -> Mon | AB28: {=IFERROR(INDEX(Calc!$K$5:$K$18,MATCH(AA$10,Calc!$K$5:$K$18,0)+1,1),"")} -> Tue | AC28: {=IFERROR(INDEX(Calc!$K$5:$K$18,MATCH(AB$10,Calc!$K$5:$K$18,0)+1,1),"")} -> Wed | AD28: {=IFERROR(INDEX(Calc!$K$5:$K$18,MATCH(AC$10,Calc!$K$5:$K$18,0)+1,1),"")} -> Thu | AE28: {=IFERROR(INDEX(Calc!$K$5:$K$18,MATCH(AD$10,Calc!$K$5:$K$18,0)+1,1),"")} -> Fri | AF28: {=IFERROR(INDEX(Calc!$K$5:$K$18,MATCH(AE$10,Calc!$K$5:$K$18,0)+1,1),"")} -> Sat | AG28: {=IFERROR(INDEX(Calc!$K$5:$K$18,MATCH(AF$10,Calc!$K$5:$K$18,0)+1,1),"")} -> Sun
C29: =IFERROR(IF(WEEKDAY(Calc!$B$13,11)=MATCH(C28,Calc!$K$5:$K$11,0),Calc!$B$13,""),"") | D29: =IFERROR(IF(LEN(C29)>0,C29+1,IF(WEEKDAY(Calc!$B$13,11)=MATCH(D28,Calc!$K$5:$K$11,0),Calc!$B$13,"")),"") | E29: =IFERROR(IF(LEN(D29)>0,D29+1,IF(WEEKDAY(Calc!$B$13,11)=MATCH(E28,Calc!$K$5:$K$11,0),Calc!$B$13,"")),"") | F29: =IFERROR(IF(LEN(E29)>0,E29+1,IF(WEEKDAY(Calc!$B$13,11)=MATCH(F28,Calc!$K$5:$K$11,0),Calc!$B$13,"")),"") -> 44805 | G29: =IFERROR(IF(LEN(F29)>0,F29+1,IF(WEEKDAY(Calc!$B$13,11)=MATCH(G28,Calc!$K$5:$K$11,0),Calc!$B$13,"")),"") -> 44806 | H29: =IFERROR(IF(LEN(G29)>0,G29+1,IF(WEEKDAY(Calc!$B$13,11)=MATCH(H28,Calc!$K$5:$K$11,0),Calc!$B$13,"")),"") -> 44807 | I29: =IFERROR(IF(LEN(H29)>0,H29+1,IF(WEEKDAY(Calc!$B$13,11)=MATCH(I28,Calc!$K$5:$K$11,0),Calc!$B$13,"")),"") -> 44808 | K29: =IFERROR(IF(WEEKDAY(Calc!$B$14,11)=MATCH(K28,Calc!$K$5:$K$11,0),Calc!$B$14,""),"") | L29: =IFERROR(IF(LEN(K29)>0,K29+1,IF(WEEKDAY(Calc!$B$14,11)=MATCH(L28,Calc!$K$5:$K$11,0),Calc!$B$14,"")),"") | M29: =IFERROR(IF(LEN(L29)>0,L29+1,IF(WEEKDAY(Calc!$B$14,11)=MATCH(M28,Calc!$K$5:$K$11,0),Calc!$B$14,"")),"") | N29: =IFERROR(IF(LEN(M29)>0,M29+1,IF(WEEKDAY(Calc!$B$14,11)=MATCH(N28,Calc!$K$5:$K$11,0),Calc!$B$14,"")),"") | O29: =IFERROR(IF(LEN(N29)>0,N29+1,IF(WEEKDAY(Calc!$B$14,11)=MATCH(O28,Calc!$K$5:$K$11,0),Calc!$B$14,"")),"") | P29: =IFERROR(IF(LEN(O29)>0,O29+1,IF(WEEKDAY(Calc!$B$14,11)=MATCH(P28,Calc!$K$5:$K$11,0),Calc!$B$14,"")),"") -> 44835 | Q29: =IFERROR(IF(LEN(P29)>0,P29+1,IF(WEEKDAY(Calc!$B$14,11)=MATCH(Q28,Calc!$K$5:$K$11,0),Calc!$B$14,"")),"") -> 44836 | S29: =IFERROR(IF(WEEKDAY(Calc!$B$15,11)=MATCH(S28,Calc!$K$5:$K$11,0),Calc!$B$15,""),"") | T29: =IFERROR(IF(LEN(S29)>0,S29+1,IF(WEEKDAY(Calc!$B$15,11)=MATCH(T28,Calc!$K$5:$K$11,0),Calc!$B$15,"")),"") -> 44866 | U29: =IFERROR(IF(LEN(T29)>0,T29+1,IF(WEEKDAY(Calc!$B$15,11)=MATCH(U28,Calc!$K$5:$K$11,0),Calc!$B$15,"")),"") -> 44867 | V29: =IFERROR(IF(LEN(U29)>0,U29+1,IF(WEEKDAY(Calc!$B$15,11)=MATCH(V28,Calc!$K$5:$K$11,0),Calc!$B$15,"")),"") -> 44868 | W29: =IFERROR(IF(LEN(V29)>0,V29+1,IF(WEEKDAY(Calc!$B$15,11)=MATCH(W28,Calc!$K$5:$K$11,0),Calc!$B$15,"")),"") -> 44869 | X29: =IFERROR(IF(LEN(W29)>0,W29+1,IF(WEEKDAY(Calc!$B$15,11)=MATCH(X28,Calc!$K$5:$K$11,0),Calc!$B$15,"")),"") -> 44870 | Y29: =IFERROR(IF(LEN(X29)>0,X29+1,IF(WEEKDAY(Calc!$B$15,11)=MATCH(Y28,Calc!$K$5:$K$11,0),Calc!$B$15,"")),"") -> 44871 | AA29: =IFERROR(IF(WEEKDAY(Calc!$B$16,11)=MATCH(AA28,Calc!$K$5:$K$11,0),Calc!$B$16,""),"") | AB29: =IFERROR(IF(LEN(AA29)>0,AA29+1,IF(WEEKDAY(Calc!$B$16,11)=MATCH(AB28,Calc!$K$5:$K$11,0),Calc!$B$16,"")),"") | AC29: =IFERROR(IF(LEN(AB29)>0,AB29+1,IF(WEEKDAY(Calc!$B$16,11)=MATCH(AC28,Calc!$K$5:$K$11,0),Calc!$B$16,"")),"") | AD29: =IFERROR(IF(LEN(AC29)>0,AC29+1,IF(WEEKDAY(Calc!$B$16,11)=MATCH(AD28,Calc!$K$5:$K$11,0),Calc!$B$16,"")),"") -> 44896 | AE29: =IFERROR(IF(LEN(AD29)>0,AD29+1,IF(WEEKDAY(Calc!$B$16,11)=MATCH(AE28,Calc!$K$5:$K$11,0),Calc!$B$16,"")),"") -> 44897 | AF29: =IFERROR(IF(LEN(AE29)>0,AE29+1,IF(WEEKDAY(Calc!$B$16,11)=MATCH(AF28,Calc!$K$5:$K$11,0),Calc!$B$16,"")),"") -> 44898 | AG29: =IFERROR(IF(LEN(AF29)>0,AF29+1,IF(WEEKDAY(Calc!$B$16,11)=MATCH(AG28,Calc!$K$5:$K$11,0),Calc!$B$16,"")),"") -> 44899
C30: =IF(LEN(I29)<1,"",IF(MONTH(I29+1)=MONTH(I29),I29+1,"")) -> 44809 | D30: =IF(LEN(C30)<1,"",IF(MONTH(C30+1)=MONTH(C30),C30+1,"")) -> 44810 | E30: =IF(LEN(D30)<1,"",IF(MONTH(D30+1)=MONTH(D30),D30+1,"")) -> 44811 | F30: =IF(LEN(E30)<1,"",IF(MONTH(E30+1)=MONTH(E30),E30+1,"")) -> 44812 | G30: =IF(LEN(F30)<1,"",IF(MONTH(F30+1)=MONTH(F30),F30+1,"")) -> 44813 | H30: =IF(LEN(G30)<1,"",IF(MONTH(G30+1)=MONTH(G30),G30+1,"")) -> 44814 | I30: =IF(LEN(H30)<1,"",IF(MONTH(H30+1)=MONTH(H30),H30+1,"")) -> 44815 | K30: =IF(LEN(Q29)<1,"",IF(MONTH(Q29+1)=MONTH(Q29),Q29+1,"")) -> 44837 | L30: =IF(LEN(K30)<1,"",IF(MONTH(K30+1)=MONTH(K30),K30+1,"")) -> 44838 | M30: =IF(LEN(L30)<1,"",IF(MONTH(L30+1)=MONTH(L30),L30+1,"")) -> 44839 | N30: =IF(LEN(M30)<1,"",IF(MONTH(M30+1)=MONTH(M30),M30+1,"")) -> 44840 | O30: =IF(LEN(N30)<1,"",IF(MONTH(N30+1)=MONTH(N30),N30+1,"")) -> 44841 | P30: =IF(LEN(O30)<1,"",IF(MONTH(O30+1)=MONTH(O30),O30+1,"")) -> 44842 | Q30: =IF(LEN(P30)<1,"",IF(MONTH(P30+1)=MONTH(P30),P30+1,"")) -> 44843 | S30: =IF(LEN(Y29)<1,"",IF(MONTH(Y29+1)=MONTH(Y29),Y29+1,"")) -> 44872 | T30: =IF(LEN(S30)<1,"",IF(MONTH(S30+1)=MONTH(S30),S30+1,"")) -> 44873 | U30: =IF(LEN(T30)<1,"",IF(MONTH(T30+1)=MONTH(T30),T30+1,"")) -> 44874 | V30: =IF(LEN(U30)<1,"",IF(MONTH(U30+1)=MONTH(U30),U30+1,"")) -> 44875 | W30: =IF(LEN(V30)<1,"",IF(MONTH(V30+1)=MONTH(V30),V30+1,"")) -> 44876 | X30: =IF(LEN(W30)<1,"",IF(MONTH(W30+1)=MONTH(W30),W30+1,"")) -> 44877 | Y30: =IF(LEN(X30)<1,"",IF(MONTH(X30+1)=MONTH(X30),X30+1,"")) -> 44878 | AA30: =IF(LEN(AG29)<1,"",IF(MONTH(AG29+1)=MONTH(AG29),AG29+1,"")) -> 44900 | AB30: =IF(LEN(AA30)<1,"",IF(MONTH(AA30+1)=MONTH(AA30),AA30+1,"")) -> 44901 | AC30: =IF(LEN(AB30)<1,"",IF(MONTH(AB30+1)=MONTH(AB30),AB30+1,"")) -> 44902 | AD30: =IF(LEN(AC30)<1,"",IF(MONTH(AC30+1)=MONTH(AC30),AC30+1,"")) -> 44903 | AE30: =IF(LEN(AD30)<1,"",IF(MONTH(AD30+1)=MONTH(AD30),AD30+1,"")) -> 44904 | AF30: =IF(LEN(AE30)<1,"",IF(MONTH(AE30+1)=MONTH(AE30),AE30+1,"")) -> 44905 | AG30: =IF(LEN(AF30)<1,"",IF(MONTH(AF30+1)=MONTH(AF30),AF30+1,"")) -> 44906
C31: =IF(LEN(I30)<1,"",IF(MONTH(I30+1)=MONTH(I30),I30+1,"")) -> 44816 | D31: =IF(LEN(C31)<1,"",IF(MONTH(C31+1)=MONTH(C31),C31+1,"")) -> 44817 | E31: =IF(LEN(D31)<1,"",IF(MONTH(D31+1)=MONTH(D31),D31+1,"")) -> 44818 | F31: =IF(LEN(E31)<1,"",IF(MONTH(E31+1)=MONTH(E31),E31+1,"")) -> 44819 | G31: =IF(LEN(F31)<1,"",IF(MONTH(F31+1)=MONTH(F31),F31+1,"")) -> 44820 | H31: =IF(LEN(G31)<1,"",IF(MONTH(G31+1)=MONTH(G31),G31+1,"")) -> 44821 | I31: =IF(LEN(H31)<1,"",IF(MONTH(H31+1)=MONTH(H31),H31+1,"")) -> 44822 | K31: =IF(LEN(Q30)<1,"",IF(MONTH(Q30+1)=MONTH(Q30),Q30+1,"")) -> 44844 | L31: =IF(LEN(K31)<1,"",IF(MONTH(K31+1)=MONTH(K31),K31+1,"")) -> 44845 | M31: =IF(LEN(L31)<1,"",IF(MONTH(L31+1)=MONTH(L31),L31+1,"")) -> 44846 | N31: =IF(LEN(M31)<1,"",IF(MONTH(M31+1)=MONTH(M31),M31+1,"")) -> 44847 | O31: =IF(LEN(N31)<1,"",IF(MONTH(N31+1)=MONTH(N31),N31+1,"")) -> 44848 | P31: =IF(LEN(O31)<1,"",IF(MONTH(O31+1)=MONTH(O31),O31+1,"")) -> 44849 | Q31: =IF(LEN(P31)<1,"",IF(MONTH(P31+1)=MONTH(P31),P31+1,"")) -> 44850 | S31: =IF(LEN(Y30)<1,"",IF(MONTH(Y30+1)=MONTH(Y30),Y30+1,"")) -> 44879 | T31: =IF(LEN(S31)<1,"",IF(MONTH(S31+1)=MONTH(S31),S31+1,"")) -> 44880 | U31: =IF(LEN(T31)<1,"",IF(MONTH(T31+1)=MONTH(T31),T31+1,"")) -> 44881 | V31: =IF(LEN(U31)<1,"",IF(MONTH(U31+1)=MONTH(U31),U31+1,"")) -> 44882 | W31: =IF(LEN(V31)<1,"",IF(MONTH(V31+1)=MONTH(V31),V31+1,"")) -> 44883 | X31: =IF(LEN(W31)<1,"",IF(MONTH(W31+1)=MONTH(W31),W31+1,"")) -> 44884 | Y31: =IF(LEN(X31)<1,"",IF(MONTH(X31+1)=MONTH(X31),X31+1,"")) -> 44885 | AA31: =IF(LEN(AG30)<1,"",IF(MONTH(AG30+1)=MONTH(AG30),AG30+1,"")) -> 44907 | AB31: =IF(LEN(AA31)<1,"",IF(MONTH(AA31+1)=MONTH(AA31),AA31+1,"")) -> 44908 | AC31: =IF(LEN(AB31)<1,"",IF(MONTH(AB31+1)=MONTH(AB31),AB31+1,"")) -> 44909 | AD31: =IF(LEN(AC31)<1,"",IF(MONTH(AC31+1)=MONTH(AC31),AC31+1,"")) -> 44910 | AE31: =IF(LEN(AD31)<1,"",IF(MONTH(AD31+1)=MONTH(AD31),AD31+1,"")) -> 44911 | AF31: =IF(LEN(AE31)<1,"",IF(MONTH(AE31+1)=MONTH(AE31),AE31+1,"")) -> 44912 | AG31: =IF(LEN(AF31)<1,"",IF(MONTH(AF31+1)=MONTH(AF31),AF31+1,"")) -> 44913
C32: =IF(LEN(I31)<1,"",IF(MONTH(I31+1)=MONTH(I31),I31+1,"")) -> 44823 | D32: =IF(LEN(C32)<1,"",IF(MONTH(C32+1)=MONTH(C32),C32+1,"")) -> 44824 | E32: =IF(LEN(D32)<1,"",IF(MONTH(D32+1)=MONTH(D32),D32+1,"")) -> 44825 | F32: =IF(LEN(E32)<1,"",IF(MONTH(E32+1)=MONTH(E32),E32+1,"")) -> 44826 | G32: =IF(LEN(F32)<1,"",IF(MONTH(F32+1)=MONTH(F32),F32+1,"")) -> 44827 | H32: =IF(LEN(G32)<1,"",IF(MONTH(G32+1)=MONTH(G32),G32+1,"")) -> 44828 | I32: =IF(LEN(H32)<1,"",IF(MONTH(H32+1)=MONTH(H32),H32+1,"")) -> 44829 | K32: =IF(LEN(Q31)<1,"",IF(MONTH(Q31+1)=MONTH(Q31),Q31+1,"")) -> 44851 | L32: =IF(LEN(K32)<1,"",IF(MONTH(K32+1)=MONTH(K32),K32+1,"")) -> 44852 | M32: =IF(LEN(L32)<1,"",IF(MONTH(L32+1)=MONTH(L32),L32+1,"")) -> 44853 | N32: =IF(LEN(M32)<1,"",IF(MONTH(M32+1)=MONTH(M32),M32+1,"")) -> 44854 | O32: =IF(LEN(N32)<1,"",IF(MONTH(N32+1)=MONTH(N32),N32+1,"")) -> 44855 | P32: =IF(LEN(O32)<1,"",IF(MONTH(O32+1)=MONTH(O32),O32+1,"")) -> 44856 | Q32: =IF(LEN(P32)<1,"",IF(MONTH(P32+1)=MONTH(P32),P32+1,"")) -> 44857 | S32: =IF(LEN(Y31)<1,"",IF(MONTH(Y31+1)=MONTH(Y31),Y31+1,"")) -> 44886 | T32: =IF(LEN(S32)<1,"",IF(MONTH(S32+1)=MONTH(S32),S32+1,"")) -> 44887 | U32: =IF(LEN(T32)<1,"",IF(MONTH(T32+1)=MONTH(T32),T32+1,"")) -> 44888 | V32: =IF(LEN(U32)<1,"",IF(MONTH(U32+1)=MONTH(U32),U32+1,"")) -> 44889 | W32: =IF(LEN(V32)<1,"",IF(MONTH(V32+1)=MONTH(V32),V32+1,"")) -> 44890 | X32: =IF(LEN(W32)<1,"",IF(MONTH(W32+1)=MONTH(W32),W32+1,"")) -> 44891 | Y32: =IF(LEN(X32)<1,"",IF(MONTH(X32+1)=MONTH(X32),X32+1,"")) -> 44892 | AA32: =IF(LEN(AG31)<1,"",IF(MONTH(AG31+1)=MONTH(AG31),AG31+1,"")) -> 44914 | AB32: =IF(LEN(AA32)<1,"",IF(MONTH(AA32+1)=MONTH(AA32),AA32+1,"")) -> 44915 | AC32: =IF(LEN(AB32)<1,"",IF(MONTH(AB32+1)=MONTH(AB32),AB32+1,"")) -> 44916 | AD32: =IF(LEN(AC32)<1,"",IF(MONTH(AC32+1)=MONTH(AC32),AC32+1,"")) -> 44917 | AE32: =IF(LEN(AD32)<1,"",IF(MONTH(AD32+1)=MONTH(AD32),AD32+1,"")) -> 44918 | AF32: =IF(LEN(AE32)<1,"",IF(MONTH(AE32+1)=MONTH(AE32),AE32+1,"")) -> 44919 | AG32: =IF(LEN(AF32)<1,"",IF(MONTH(AF32+1)=MONTH(AF32),AF32+1,"")) -> 44920
C33: =IF(LEN(I32)<1,"",IF(MONTH(I32+1)=MONTH(I32),I32+1,"")) -> 44830 | D33: =IF(LEN(C33)<1,"",IF(MONTH(C33+1)=MONTH(C33),C33+1,"")) -> 44831 | E33: =IF(LEN(D33)<1,"",IF(MONTH(D33+1)=MONTH(D33),D33+1,"")) -> 44832 | F33: =IF(LEN(E33)<1,"",IF(MONTH(E33+1)=MONTH(E33),E33+1,"")) -> 44833 | G33: =IF(LEN(F33)<1,"",IF(MONTH(F33+1)=MONTH(F33),F33+1,"")) -> 44834 | H33: =IF(LEN(G33)<1,"",IF(MONTH(G33+1)=MONTH(G33),G33+1,"")) | I33: =IF(LEN(H33)<1,"",IF(MONTH(H33+1)=MONTH(H33),H33+1,"")) | K33: =IF(LEN(Q32)<1,"",IF(MONTH(Q32+1)=MONTH(Q32),Q32+1,"")) -> 44858 | L33: =IF(LEN(K33)<1,"",IF(MONTH(K33+1)=MONTH(K33),K33+1,"")) -> 44859 | M33: =IF(LEN(L33)<1,"",IF(MONTH(L33+1)=MONTH(L33),L33+1,"")) -> 44860 | N33: =IF(LEN(M33)<1,"",IF(MONTH(M33+1)=MONTH(M33),M33+1,"")) -> 44861 | O33: =IF(LEN(N33)<1,"",IF(MONTH(N33+1)=MONTH(N33),N33+1,"")) -> 44862 | P33: =IF(LEN(O33)<1,"",IF(MONTH(O33+1)=MONTH(O33),O33+1,"")) -> 44863 | Q33: =IF(LEN(P33)<1,"",IF(MONTH(P33+1)=MONTH(P33),P33+1,"")) -> 44864 | S33: =IF(LEN(Y32)<1,"",IF(MONTH(Y32+1)=MONTH(Y32),Y32+1,"")) -> 44893 | T33: =IF(LEN(S33)<1,"",IF(MONTH(S33+1)=MONTH(S33),S33+1,"")) -> 44894 | U33: =IF(LEN(T33)<1,"",IF(MONTH(T33+1)=MONTH(T33),T33+1,"")) -> 44895 | V33: =IF(LEN(U33)<1,"",IF(MONTH(U33+1)=MONTH(U33),U33+1,"")) | W33: =IF(LEN(V33)<1,"",IF(MONTH(V33+1)=MONTH(V33),V33+1,"")) | X33: =IF(LEN(W33)<1,"",IF(MONTH(W33+1)=MONTH(W33),W33+1,"")) | Y33: =IF(LEN(X33)<1,"",IF(MONTH(X33+1)=MONTH(X33),X33+1,"")) | AA33: =IF(LEN(AG32)<1,"",IF(MONTH(AG32+1)=MONTH(AG32),AG32+1,"")) -> 44921 | AB33: =IF(LEN(AA33)<1,"",IF(MONTH(AA33+1)=MONTH(AA33),AA33+1,"")) -> 44922 | AC33: =IF(LEN(AB33)<1,"",IF(MONTH(AB33+1)=MONTH(AB33),AB33+1,"")) -> 44923 | AD33: =IF(LEN(AC33)<1,"",IF(MONTH(AC33+1)=MONTH(AC33),AC33+1,"")) -> 44924 | AE33: =IF(LEN(AD33)<1,"",IF(MONTH(AD33+1)=MONTH(AD33),AD33+1,"")) -> 44925 | AF33: =IF(LEN(AE33)<1,"",IF(MONTH(AE33+1)=MONTH(AE33),AE33+1,"")) -> 44926 | AG33: =IF(LEN(AF33)<1,"",IF(MONTH(AF33+1)=MONTH(AF33),AF33+1,""))
C34: =IF(LEN(I33)<1,"",IF(MONTH(I33+1)=MONTH(I33),I33+1,"")) | D34: =IF(LEN(C34)<1,"",IF(MONTH(C34+1)=MONTH(C34),C34+1,"")) | E34: =IF(LEN(D34)<1,"",IF(MONTH(D34+1)=MONTH(D34),D34+1,"")) | F34: =IF(LEN(E34)<1,"",IF(MONTH(E34+1)=MONTH(E34),E34+1,"")) | G34: =IF(LEN(F34)<1,"",IF(MONTH(F34+1)=MONTH(F34),F34+1,"")) | H34: =IF(LEN(G34)<1,"",IF(MONTH(G34+1)=MONTH(G34),G34+1,"")) | I34: =IF(LEN(H34)<1,"",IF(MONTH(H34+1)=MONTH(H34),H34+1,"")) | K34: =IF(LEN(Q33)<1,"",IF(MONTH(Q33+1)=MONTH(Q33),Q33+1,"")) -> 44865 | L34: =IF(LEN(K34)<1,"",IF(MONTH(K34+1)=MONTH(K34),K34+1,"")) | M34: =IF(LEN(L34)<1,"",IF(MONTH(L34+1)=MONTH(L34),L34+1,"")) | N34: =IF(LEN(M34)<1,"",IF(MONTH(M34+1)=MONTH(M34),M34+1,"")) | O34: =IF(LEN(N34)<1,"",IF(MONTH(N34+1)=MONTH(N34),N34+1,"")) | P34: =IF(LEN(O34)<1,"",IF(MONTH(O34+1)=MONTH(O34),O34+1,"")) | Q34: =IF(LEN(P34)<1,"",IF(MONTH(P34+1)=MONTH(P34),P34+1,"")) | S34: =IF(LEN(Y33)<1,"",IF(MONTH(Y33+1)=MONTH(Y33),Y33+1,"")) | T34: =IF(LEN(S34)<1,"",IF(MONTH(S34+1)=MONTH(S34),S34+1,"")) | U34: =IF(LEN(T34)<1,"",IF(MONTH(T34+1)=MONTH(T34),T34+1,"")) | V34: =IF(LEN(U34)<1,"",IF(MONTH(U34+1)=MONTH(U34),U34+1,"")) | W34: =IF(LEN(V34)<1,"",IF(MONTH(V34+1)=MONTH(V34),V34+1,"")) | X34: =IF(LEN(W34)<1,"",IF(MONTH(W34+1)=MONTH(W34),W34+1,"")) | Y34: =IF(LEN(X34)<1,"",IF(MONTH(X34+1)=MONTH(X34),X34+1,"")) | AA34: =IF(LEN(AG33)<1,"",IF(MONTH(AG33+1)=MONTH(AG33),AG33+1,"")) | AB34: =IF(LEN(AA34)<1,"",IF(MONTH(AA34+1)=MONTH(AA34),AA34+1,"")) | AC34: =IF(LEN(AB34)<1,"",IF(MONTH(AB34+1)=MONTH(AB34),AB34+1,"")) | AD34: =IF(LEN(AC34)<1,"",IF(MONTH(AC34+1)=MONTH(AC34),AC34+1,"")) | AE34: =IF(LEN(AD34)<1,"",IF(MONTH(AD34+1)=MONTH(AD34),AD34+1,"")) | AF34: =IF(LEN(AE34)<1,"",IF(MONTH(AE34+1)=MONTH(AE34),AE34+1,"")) | AG34: =IF(LEN(AF34)<1,"",IF(MONTH(AF34+1)=MONTH(AF34),AF34+1,""))

Sheet January
B2: CALENDAR TEMPLATE | C2: EXCEL CALENDAR TEMPLATE
B3: JANUARY | C3: ="JANUARY "&Dashboard!F5 -> JANUARY 2022
C6: {=INDEX(Calc!$J$5:$K$11,MATCH(week_start_day,Calc!$J$5:$J$11,0),1)} -> Monday | E6: {=INDEX(Calc!$J$5:$J$18,MATCH(C6,Calc!$J$5:$J$18,0)+1,1)} -> Tuesday | G6: {=INDEX(Calc!$J$5:$J$18,MATCH(E6,Calc!$J$5:$J$18,0)+1,1)} -> Wednesday | I6: {=INDEX(Calc!$J$5:$J$18,MATCH(G6,Calc!$J$5:$J$18,0)+1,1)} -> Thursday | K6: {=INDEX(Calc!$J$5:$J$18,MATCH(I6,Calc!$J$5:$J$18,0)+1,1)} -> Friday | M6: {=INDEX(Calc!$J$5:$J$18,MATCH(K6,Calc!$J$5:$J$18,0)+1,1)} -> Saturday | O6: {=INDEX(Calc!$J$5:$J$18,MATCH(M6,Calc!$J$5:$J$18,0)+1,1)} -> Sunday
C8: =IF(WEEKDAY(Calc!$T$18,11)=MATCH(C6,Calc!$J$5:$J$11,0),Calc!$T$18,"") | E8: =IF(LEN(C8)>0,C8+1,IF(WEEKDAY(Calc!$T$18,11)=MATCH(E6,Calc!$J$5:$J$11,0),Calc!$T$18,"")) | G8: =IF(LEN(E8)>0,E8+1,IF(WEEKDAY(Calc!$T$18,11)=MATCH(G6,Calc!$J$5:$J$11,0),Calc!$T$18,"")) | I8: =IF(LEN(G8)>0,G8+1,IF(WEEKDAY(Calc!$T$18,11)=MATCH(I6,Calc!$J$5:$J$11,0),Calc!$T$18,"")) | K8: =IF(LEN(I8)>0,I8+1,IF(WEEKDAY(Calc!$T$18,11)=MATCH(K6,Calc!$J$5:$J$11,0),Calc!$T$18,"")) | M8: =IF(LEN(K8)>0,K8+1,IF(WEEKDAY(Calc!$T$18,11)=MATCH(M6,Calc!$J$5:$J$11,0),Calc!$T$18,"")) -> 44562 | O8: =IF(LEN(M8)>0,M8+1,IF(WEEKDAY(Calc!$T$18,11)=MATCH(O6,Calc!$J$5:$J$11,0),Calc!$T$18,"")) -> 44563
C14: =IF(LEN(O8)<1,"",IF(MONTH(O8+1)=MONTH(O8),O8+1,"")) -> 44564 | E14: =IF(LEN(C14)<1,"",IF(MONTH(C14+1)=MONTH(C14),C14+1,"")) -> 44565 | G14: =IF(LEN(E14)<1,"",IF(MONTH(E14+1)=MONTH(E14),E14+1,"")) -> 44566 | I14: =IF(LEN(G14)<1,"",IF(MONTH(G14+1)=MONTH(G14),G14+1,"")) -> 44567 | K14: =IF(LEN(I14)<1,"",IF(MONTH(I14+1)=MONTH(I14),I14+1,"")) -> 44568 | M14: =IF(LEN(K14)<1,"",IF(MONTH(K14+1)=MONTH(K14),K14+1,"")) -> 44569 | O14: =IF(LEN(M14)<1,"",IF(MONTH(M14+1)=MONTH(M14),M14+1,"")) -> 44570
C20: =IF(LEN(O14)<1,"",IF(MONTH(O14+1)=MONTH(O14),O14+1,"")) -> 44571 | E20: =IF(LEN(C20)<1,"",IF(MONTH(C20+1)=MONTH(C20),C20+1,"")) -> 44572 | G20: =IF(LEN(E20)<1,"",IF(MONTH(E20+1)=MONTH(E20),E20+1,"")) -> 44573 | I20: =IF(LEN(G20)<1,"",IF(MONTH(G20+1)=MONTH(G20),G20+1,"")) -> 44574 | K20: =IF(LEN(I20)<1,"",IF(MONTH(I20+1)=MONTH(I20),I20+1,"")) -> 44575 | M20: =IF(LEN(K20)<1,"",IF(MONTH(K20+1)=MONTH(K20),K20+1,"")) -> 44576 | O20: =IF(LEN(M20)<1,"",IF(MONTH(M20+1)=MONTH(M20),M20+1,"")) -> 44577
C26: =IF(LEN(O20)<1,"",IF(MONTH(O20+1)=MONTH(O20),O20+1,"")) -> 44578 | E26: =IF(LEN(C26)<1,"",IF(MONTH(C26+1)=MONTH(C26),C26+1,"")) -> 44579 | G26: =IF(LEN(E26)<1,"",IF(MONTH(E26+1)=MONTH(E26),E26+1,"")) -> 44580 | I26: =IF(LEN(G26)<1,"",IF(MONTH(G26+1)=MONTH(G26),G26+1,"")) -> 44581 | K26: =IF(LEN(I26)<1,"",IF(MONTH(I26+1)=MONTH(I26),I26+1,"")) -> 44582 | M26: =IF(LEN(K26)<1,"",IF(MONTH(K26+1)=MONTH(K26),K26+1,"")) -> 44583 | O26: =IF(LEN(M26)<1,"",IF(MONTH(M26+1)=MONTH(M26),M26+1,"")) -> 44584
C32: =IF(LEN(O26)<1,"",IF(MONTH(O26+1)=MONTH(O26),O26+1,"")) -> 44585 | E32: =IF(LEN(C32)<1,"",IF(MONTH(C32+1)=MONTH(C32),C32+1,"")) -> 44586 | G32: =IF(LEN(E32)<1,"",IF(MONTH(E32+1)=MONTH(E32),E32+1,"")) -> 44587 | I32: =IF(LEN(G32)<1,"",IF(MONTH(G32+1)=MONTH(G32),G32+1,"")) -> 44588 | K32: =IF(LEN(I32)<1,"",IF(MONTH(I32+1)=MONTH(I32),I32+1,"")) -> 44589 | M32: =IF(LEN(K32)<1,"",IF(MONTH(K32+1)=MONTH(K32),K32+1,"")) -> 44590 | O32: =IF(LEN(M32)<1,"",IF(MONTH(M32+1)=MONTH(M32),M32+1,"")) -> 44591
C38: =IF(LEN(O32)<1,"",IF(MONTH(O32+1)=MONTH(O32),O32+1,"")) -> 44592 | E38: =IF(LEN(C38)<1,"",IF(MONTH(C38+1)=MONTH(C38),C38+1,"")) | G38: =IF(LEN(E38)<1,"",IF(MONTH(E38+1)=MONTH(E38),E38+1,"")) | I38: =IF(LEN(G38)<1,"",IF(MONTH(G38+1)=MONTH(G38),G38+1,"")) | K38: =IF(LEN(I38)<1,"",IF(MONTH(I38+1)=MONTH(I38),I38+1,"")) | M38: =IF(LEN(K38)<1,"",IF(MONTH(K38+1)=MONTH(K38),K38+1,"")) | O38: =IF(LEN(M38)<1,"",IF(MONTH(M38+1)=MONTH(M38),M38+1,""))

Sheet February
B2: CALENDAR TEMPLATE | C2: EXCEL CALENDAR TEMPLATE
B3: JANUARY | C3: ="FEBRUARY "&Dashboard!F5 -> FEBRUARY 2022
C6: {=INDEX(Calc!$J$5:$K$11,MATCH(week_start_day,Calc!$J$5:$J$11,0),1)} -> Monday | E6: {=INDEX(Calc!$J$5:$J$18,MATCH(C6,Calc!$J$5:$J$18,0)+1,1)} -> Tuesday | G6: {=INDEX(Calc!$J$5:$J$18,MATCH(E6,Calc!$J$5:$J$18,0)+1,1)} -> Wednesday | I6: {=INDEX(Calc!$J$5:$J$18,MATCH(G6,Calc!$J$5:$J$18,0)+1,1)} -> Thursday | K6: {=INDEX(Calc!$J$5:$J$18,MATCH(I6,Calc!$J$5:$J$18,0)+1,1)} -> Friday | M6: {=INDEX(Calc!$J$5:$J$18,MATCH(K6,Calc!$J$5:$J$18,0)+1,1)} -> Saturday | O6: {=INDEX(Calc!$J$5:$J$18,MATCH(M6,Calc!$J$5:$J$18,0)+1,1)} -> Sunday
C8: =IF(WEEKDAY(Calc!$AH$18,11)=MATCH(C6,Calc!$J$5:$J$11,0),Calc!$AH$18,"") | E8: =IF(LEN(C8)>0,C8+1,IF(WEEKDAY(Calc!$AH$18,11)=MATCH(E6,Calc!$J$5:$J$11,0),Calc!$AH$18,"")) -> 44593 | G8: =IF(LEN(E8)>0,E8+1,IF(WEEKDAY(Calc!$AH$18,11)=MATCH(G6,Calc!$J$5:$J$11,0),Calc!$AH$18,"")) -> 44594 | I8: =IF(LEN(G8)>0,G8+1,IF(WEEKDAY(Calc!$AH$18,11)=MATCH(I6,Calc!$J$5:$J$11,0),Calc!$AH$18,"")) -> 44595 | K8: =IF(LEN(I8)>0,I8+1,IF(WEEKDAY(Calc!$AH$18,11)=MATCH(K6,Calc!$J$5:$J$11,0),Calc!$AH$18,"")) -> 44596 | M8: =IF(LEN(K8)>0,K8+1,IF(WEEKDAY(Calc!$AH$18,11)=MATCH(M6,Calc!$J$5:$J$11,0),Calc!$AH$18,"")) -> 44597 | O8: =IF(LEN(M8)>0,M8+1,IF(WEEKDAY(Calc!$AH$18,11)=MATCH(O6,Calc!$J$5:$J$11,0),Calc!$AH$18,"")) -> 44598
C14: =IF(LEN(O8)<1,"",IF(MONTH(O8+1)=MONTH(O8),O8+1,"")) -> 44599 | E14: =IF(LEN(C14)<1,"",IF(MONTH(C14+1)=MONTH(C14),C14+1,"")) -> 44600 | G14: =IF(LEN(E14)<1,"",IF(MONTH(E14+1)=MONTH(E14),E14+1,"")) -> 44601 | I14: =IF(LEN(G14)<1,"",IF(MONTH(G14+1)=MONTH(G14),G14+1,"")) -> 44602 | K14: =IF(LEN(I14)<1,"",IF(MONTH(I14+1)=MONTH(I14),I14+1,"")) -> 44603 | M14: =IF(LEN(K14)<1,"",IF(MONTH(K14+1)=MONTH(K14),K14+1,"")) -> 44604 | O14: =IF(LEN(M14)<1,"",IF(MONTH(M14+1)=MONTH(M14),M14+1,"")) -> 44605
C20: =IF(LEN(O14)<1,"",IF(MONTH(O14+1)=MONTH(O14),O14+1,"")) -> 44606 | E20: =IF(LEN(C20)<1,"",IF(MONTH(C20+1)=MONTH(C20),C20+1,"")) -> 44607 | G20: =IF(LEN(E20)<1,"",IF(MONTH(E20+1)=MONTH(E20),E20+1,"")) -> 44608 | I20: =IF(LEN(G20)<1,"",IF(MONTH(G20+1)=MONTH(G20),G20+1,"")) -> 44609 | K20: =IF(LEN(I20)<1,"",IF(MONTH(I20+1)=MONTH(I20),I20+1,"")) -> 44610 | M20: =IF(LEN(K20)<1,"",IF(MONTH(K20+1)=MONTH(K20),K20+1,"")) -> 44611 | O20: =IF(LEN(M20)<1,"",IF(MONTH(M20+1)=MONTH(M20),M20+1,"")) -> 44612
C26: =IF(LEN(O20)<1,"",IF(MONTH(O20+1)=MONTH(O20),O20+1,"")) -> 44613 | E26: =IF(LEN(C26)<1,"",IF(MONTH(C26+1)=MONTH(C26),C26+1,"")) -> 44614 | G26: =IF(LEN(E26)<1,"",IF(MONTH(E26+1)=MONTH(E26),E26+1,"")) -> 44615 | I26: =IF(LEN(G26)<1,"",IF(MONTH(G26+1)=MONTH(G26),G26+1,"")) -> 44616 | K26: =IF(LEN(I26)<1,"",IF(MONTH(I26+1)=MONTH(I26),I26+1,"")) -> 44617 | M26: =IF(LEN(K26)<1,"",IF(MONTH(K26+1)=MONTH(K26),K26+1,"")) -> 44618 | O26: =IF(LEN(M26)<1,"",IF(MONTH(M26+1)=MONTH(M26),M26+1,"")) -> 44619
C32: =IF(LEN(O26)<1,"",IF(MONTH(O26+1)=MONTH(O26),O26+1,"")) -> 44620 | E32: =IF(LEN(C32)<1,"",IF(MONTH(C32+1)=MONTH(C32),C32+1,"")) | G32: =IF(LEN(E32)<1,"",IF(MONTH(E32+1)=MONTH(E32),E32+1,"")) | I32: =IF(LEN(G32)<1,"",IF(MONTH(G32+1)=MONTH(G32),G32+1,"")) | K32: =IF(LEN(I32)<1,"",IF(MONTH(I32+1)=MONTH(I32),I32+1,"")) | M32: =IF(LEN(K32)<1,"",IF(MONTH(K32+1)=MONTH(K32),K32+1,"")) | O32: =IF(LEN(M32)<1,"",IF(MONTH(M32+1)=MONTH(M32),M32+1,""))
C38: =IF(LEN(O32)<1,"",IF(MONTH(O32+1)=MONTH(O32),O32+1,"")) | E38: =IF(LEN(C38)<1,"",IF(MONTH(C38+1)=MONTH(C38),C38+1,"")) | G38: =IF(LEN(E38)<1,"",IF(MONTH(E38+1)=MONTH(E38),E38+1,"")) | I38: =IF(LEN(G38)<1,"",IF(MONTH(G38+1)=MONTH(G38),G38+1,"")) | K38: =IF(LEN(I38)<1,"",IF(MONTH(I38+1)=MONTH(I38),I38+1,"")) | M38: =IF(LEN(K38)<1,"",IF(MONTH(K38+1)=MONTH(K38),K38+1,"")) | O38: =IF(LEN(M38)<1,"",IF(MONTH(M38+1)=MONTH(M38),M38+1,""))

Sheet March
B2: CALENDAR TEMPLATE | C2: EXCEL CALENDAR TEMPLATE
B3: JANUARY | C3: ="MARCH "&Dashboard!F5 -> MARCH 2022
C6: {=INDEX(Calc!$J$5:$K$11,MATCH(week_start_day,Calc!$J$5:$J$11,0),1)} -> Monday | E6: {=INDEX(Calc!$J$5:$J$18,MATCH(C6,Calc!$J$5:$J$18,0)+1,1)} -> Tuesday | G6: {=INDEX(Calc!$J$5:$J$18,MATCH(E6,Calc!$J$5:$J$18,0)+1,1)} -> Wednesday | I6: {=INDEX(Calc!$J$5:$J$18,MATCH(G6,Calc!$J$5:$J$18,0)+1,1)} -> Thursday | K6: {=INDEX(Calc!$J$5:$J$18,MATCH(I6,Calc!$J$5:$J$18,0)+1,1)} -> Friday | M6: {=INDEX(Calc!$J$5:$J$18,MATCH(K6,Calc!$J$5:$J$18,0)+1,1)} -> Saturday | O6: {=INDEX(Calc!$J$5:$J$18,MATCH(M6,Calc!$J$5:$J$18,0)+1,1)} -> Sunday
C8: =IF(WEEKDAY(Calc!$AV$18,11)=MATCH(C6,Calc!$J$5:$J$11,0),Calc!$AV$18,"") | E8: =IF(LEN(C8)>0,C8+1,IF(WEEKDAY(Calc!$AV$18,11)=MATCH(E6,Calc!$J$5:$J$11,0),Calc!$AV$18,"")) -> 44621 | G8: =IF(LEN(E8)>0,E8+1,IF(WEEKDAY(Calc!$AV$18,11)=MATCH(G6,Calc!$J$5:$J$11,0),Calc!$AV$18,"")) -> 44622 | I8: =IF(LEN(G8)>0,G8+1,IF(WEEKDAY(Calc!$AV$18,11)=MATCH(I6,Calc!$J$5:$J$11,0),Calc!$AV$18,"")) -> 44623 | K8: =IF(LEN(I8)>0,I8+1,IF(WEEKDAY(Calc!$AV$18,11)=MATCH(K6,Calc!$J$5:$J$11,0),Calc!$AV$18,"")) -> 44624 | M8: =IF(LEN(K8)>0,K8+1,IF(WEEKDAY(Calc!$AV$18,11)=MATCH(M6,Calc!$J$5:$J$11,0),Calc!$AV$18,"")) -> 44625 | O8: =IF(LEN(M8)>0,M8+1,IF(WEEKDAY(Calc!$AV$18,11)=MATCH(O6,Calc!$J$5:$J$11,0),Calc!$AV$18,"")) -> 44626
C14: =IF(LEN(O8)<1,"",IF(MONTH(O8+1)=MONTH(O8),O8+1,"")) -> 44627 | E14: =IF(LEN(C14)<1,"",IF(MONTH(C14+1)=MONTH(C14),C14+1,"")) -> 44628 | G14: =IF(LEN(E14)<1,"",IF(MONTH(E14+1)=MONTH(E14),E14+1,"")) -> 44629 | I14: =IF(LEN(G14)<1,"",IF(MONTH(G14+1)=MONTH(G14),G14+1,"")) -> 44630 | K14: =IF(LEN(I14)<1,"",IF(MONTH(I14+1)=MONTH(I14),I14+1,"")) -> 44631 | M14: =IF(LEN(K14)<1,"",IF(MONTH(K14+1)=MONTH(K14),K14+1,"")) -> 44632 | O14: =IF(LEN(M14)<1,"",IF(MONTH(M14+1)=MONTH(M14),M14+1,"")) -> 44633
C20: =IF(LEN(O14)<1,"",IF(MONTH(O14+1)=MONTH(O14),O14+1,"")) -> 44634 | E20: =IF(LEN(C20)<1,"",IF(MONTH(C20+1)=MONTH(C20),C20+1,"")) -> 44635 | G20: =IF(LEN(E20)<1,"",IF(MONTH(E20+1)=MONTH(E20),E20+1,"")) -> 44636 | I20: =IF(LEN(G20)<1,"",IF(MONTH(G20+1)=MONTH(G20),G20+1,"")) -> 44637 | K20: =IF(LEN(I20)<1,"",IF(MONTH(I20+1)=MONTH(I20),I20+1,"")) -> 44638 | M20: =IF(LEN(K20)<1,"",IF(MONTH(K20+1)=MONTH(K20),K20+1,"")) -> 44639 | O20: =IF(LEN(M20)<1,"",IF(MONTH(M20+1)=MONTH(M20),M20+1,"")) -> 44640
C26: =IF(LEN(O20)<1,"",IF(MONTH(O20+1)=MONTH(O20),O20+1,"")) -> 44641 | E26: =IF(LEN(C26)<1,"",IF(MONTH(C26+1)=MONTH(C26),C26+1,"")) -> 44642 | G26: =IF(LEN(E26)<1,"",IF(MONTH(E26+1)=MONTH(E26),E26+1,"")) -> 44643 | I26: =IF(LEN(G26)<1,"",IF(MONTH(G26+1)=MONTH(G26),G26+1,"")) -> 44644 | K26: =IF(LEN(I26)<1,"",IF(MONTH(I26+1)=MONTH(I26),I26+1,"")) -> 44645 | M26: =IF(LEN(K26)<1,"",IF(MONTH(K26+1)=MONTH(K26),K26+1,"")) -> 44646 | O26: =IF(LEN(M26)<1,"",IF(MONTH(M26+1)=MONTH(M26),M26+1,"")) -> 44647
C32: =IF(LEN(O26)<1,"",IF(MONTH(O26+1)=MONTH(O26),O26+1,"")) -> 44648 | E32: =IF(LEN(C32)<1,"",IF(MONTH(C32+1)=MONTH(C32),C32+1,"")) -> 44649 | G32: =IF(LEN(E32)<1,"",IF(MONTH(E32+1)=MONTH(E32),E32+1,"")) -> 44650 | I32: =IF(LEN(G32)<1,"",IF(MONTH(G32+1)=MONTH(G32),G32+1,"")) -> 44651 | K32: =IF(LEN(I32)<1,"",IF(MONTH(I32+1)=MONTH(I32),I32+1,"")) | M32: =IF(LEN(K32)<1,"",IF(MONTH(K32+1)=MONTH(K32),K32+1,"")) | O32: =IF(LEN(M32)<1,"",IF(MONTH(M32+1)=MONTH(M32),M32+1,""))
C38: =IF(LEN(O32)<1,"",IF(MONTH(O32+1)=MONTH(O32),O32+1,"")) | E38: =IF(LEN(C38)<1,"",IF(MONTH(C38+1)=MONTH(C38),C38+1,"")) | G38: =IF(LEN(E38)<1,"",IF(MONTH(E38+1)=MONTH(E38),E38+1,"")) | I38: =IF(LEN(G38)<1,"",IF(MONTH(G38+1)=MONTH(G38),G38+1,"")) | K38: =IF(LEN(I38)<1,"",IF(MONTH(I38+1)=MONTH(I38),I38+1,"")) | M38: =IF(LEN(K38)<1,"",IF(MONTH(K38+1)=MONTH(K38),K38+1,"")) | O38: =IF(LEN(M38)<1,"",IF(MONTH(M38+1)=MONTH(M38),M38+1,""))

Sheet April
B2: CALENDAR TEMPLATE | C2: EXCEL CALENDAR TEMPLATE
B3: JANUARY | C3: ="APRIL "&Dashboard!F5 -> APRIL 2022
C6: {=INDEX(Calc!$J$5:$K$11,MATCH(week_start_day,Calc!$J$5:$J$11,0),1)} -> Monday | E6: {=INDEX(Calc!$J$5:$J$18,MATCH(C6,Calc!$J$5:$J$18,0)+1,1)} -> Tuesday | G6: {=INDEX(Calc!$J$5:$J$18,MATCH(E6,Calc!$J$5:$J$18,0)+1,1)} -> Wednesday | I6: {=INDEX(Calc!$J$5:$J$18,MATCH(G6,Calc!$J$5:$J$18,0)+1,1)} -> Thursday | K6: {=INDEX(Calc!$J$5:$J$18,MATCH(I6,Calc!$J$5:$J$18,0)+1,1)} -> Friday | M6: {=INDEX(Calc!$J$5:$J$18,MATCH(K6,Calc!$J$5:$J$18,0)+1,1)} -> Saturday | O6: {=INDEX(Calc!$J$5:$J$18,MATCH(M6,Calc!$J$5:$J$18,0)+1,1)} -> Sunday
